BOTTLE,20230713CCHSIOVAJ
# Various flags were updated, see README for more information
# Added data citation information
# DATA CITATION
#| CCHDO Citation Information
#|
#| Please cite data downloaded from CCHDO as: 
#| [Data providers of the parameter(s) used]. [Year of file access]. [CTD/Bottle] data from cruise [expocode], 
#| [format version used]. Accessed from CCHDO [url of cruise data page]. Access date [date of download].
#| [Applicable CCHDO cruise DOI if provided].
#|
#| For example: 
#| Swift, J. and Becker, S. 2019. CTD data from Cruise 33RR20160321, exchange version. Accessed from CCHDO 
#| https://cchdo.ucsd.edu/cruise/33RR20160321. Access date 2019-08-21. CCHDO cruise DOI: 10.7942/C2008W
#|
#| Information on the scientists who provided the different parameters can be found in the cruise report. 
#| Additionally, for US GO-SHIP cruises, this information is usually in the comments section in the text headers 
#| of the Exchange bottle files.
#|
#| Users are also encouraged to acknowledge the funding program that supported the data collection in their publication. 
#| For US GO-SHIP data this is the NSF/NOAA funded U.S Repeat Hydrography Program.
#|
#| For data citation, please use the data providers listed below. 
#
#BOTTLE,20170112PRINUNIVRMK
# 12/20/2016 Initialized README file 
# Data source: Jeff Jackson 20161128 
# SHIP: CCGS Hudson 
# Cruise: 201500? 
# Region: AR07W; Extended Halifix Line; Dartmouth NS to Dartmouth NS, Canada 
# EXPOCODE: 18HU20150504 
# DATES: 20150504 - 20150524 
# Chief Scientist: Igor Yashayaev, Bedford Inst. 
# 41 stations with 24 place Rosette 
# CTD: Who - Igor Yashayaev; Status - not calibrated 
# 	Includes: CTDSAL, CTDOXY 
# Salinty: Who - Igor Yashayaev; Status - final 
# 	Notes: 	 
# Nutrients: Who - Kumiko Azetsu-Scott; Status - final 
# 	Includes: nitrate, nitrite, silicate, phopshpate, ammonium 
# 	Analysis was checked by analyzing an Intercalibration Reference Material MOOS-3  
# 		for nutrients produced by NRC. See report. 
# O2: Who - Igor Yashayaev; Status - final 
# 	Notes: some unexpected scatter, but may be real 
# TCO2: Who - Kumiko Azetsu-Scott; Status - final 
# 	Notes: Batch 134 Certified Reference Material 
# ALKALI: Who - Kumiko Azetsu-Scott; Status - final 
# 	Notes: Batch 134 Certified Reference Material 
# PH_TOT: Who - Kumiko Azetsu-Scott; Status - final 
# 	Notes: analyzed ashore 
# 	Not referenced to a Certified Reference Material due to current  
# 		unavailability of these CRMs 
# PCO2: Who - Kumiko Azetsu-Scott; Status - final 
# 	Notes: both underway and discrete collected. 
# 	Neither included in this file 
# CFC: Who - Kumiko Azetsu-Scott; Status -final 
# 	Notes: includes SF6 
# DELO18: Who - Kumiko Azetsu-Scott; Status - unknown 
# 	Notes: no data in file 
# Other: Who - John Smith; Status - unknown 
# 	Notes: I-129 stored for analysis ashore 
# These data should be cited as: 
# References that have used data from this cruise: 
EXPOCODE,SECT_ID,STNNBR,CASTNO,SAMPNO,BTLNBR,BTLNBR_FLAG_W,DATE,TIME,LATITUDE,LONGITUDE,DEPTH,CTDPRS,CTDTMP,CTDSAL,CTDSAL_FLAG_W,SALNTY,SALNTY_FLAG_W,CTDOXY,CTDOXY_FLAG_W,OXYGEN,OXYGEN_FLAG_W,SILCAT,SILCAT_FLAG_W,NITRAT,NITRAT_FLAG_W,NITRIT,NITRIT_FLAG_W,PHSPHT,PHSPHT_FLAG_W,NH4,NH4_FLAG_W,CFC-12,CFC-12_FLAG_W,SF6,SF6_FLAG_W,TCARBN,TCARBN_FLAG_W,ALKALI,ALKALI_FLAG_W,PH_TOT,PH_TOT_FLAG_W,PH_TMP
,,,,,,,,,,,METERS,DBAR,ITS-90,PSS-78,,PSS-78,,UMOL/KG,,UMOL/KG,,UMOL/KG,,UMOL/KG,,UMOL/KG,,UMOL/KG,,UMOL/KG,,PMOL/KG,,FMOL/KG,,UMOL/KG,,UMOL/KG,,,,DEG C
  18HU20150504, AR07W,     6,  1, 407751,      1,2,20150505,0010, 44.2677, -63.3158,-999,    146.7,   9.8766,  34.8687,2,     -999,9,    156.0,2,    149.0,3,     -999,9,     -999,9,     -999,9,     -999,9,     -999,9,     -999,9,     -999,9,     -999,9,     -999,9,     -999,9,     9.00
  18HU20150504, AR07W,     6,  1, 407752,      2,2,20150505,0010, 44.2677, -63.3158,-999,    146.5,   9.8695,  34.8666,2,     -999,9,    155.0,2,    148.8,3,     -999,9,     -999,9,     -999,9,     -999,9,     -999,9,     -999,9,     -999,9,     -999,9,     -999,9,     -999,9,     9.00
  18HU20150504, AR07W,     6,  1, 407753,      3,2,20150505,0010, 44.2677, -63.3158,-999,    146.6,   9.8648,  34.8648,2,     -999,9,    154.6,2,    150.0,3,     -999,9,     -999,9,     -999,9,     -999,9,     -999,9,     -999,9,     -999,9,     -999,9,     -999,9,     -999,9,     9.00
  18HU20150504, AR07W,     6,  1, 407754,      4,2,20150505,0010, 44.2677, -63.3158,-999,    146.5,   9.8673,  34.8648,2,     -999,9,    156.9,2,    150.0,3,     -999,9,     -999,9,     -999,9,     -999,9,     -999,9,     -999,9,     -999,9,     -999,9,     -999,9,     -999,9,     9.00
  18HU20150504, AR07W,     6,  1, 407755,      5,2,20150505,0010, 44.2677, -63.3158,-999,    146.4,   9.8714,  34.8677,2,  34.8660,2,    160.1,2,    149.2,3,    14.59,3,    17.59,6,     0.05,6,     1.31,3,     0.48,6,     -999,9,     -999,9,     -999,9,     -999,9,     -999,9,     9.00
  18HU20150504, AR07W,     6,  1, 407756,      6,2,20150505,0010, 44.2677, -63.3158,-999,    102.1,   2.8203,  32.6237,2,     -999,9,    290.6,2,     -999,9,     8.71,6,     9.06,6,     0.07,6,     1.01,6,     0.61,6,     -999,9,     -999,9,     -999,9,     -999,9,     -999,9,     9.00
  18HU20150504, AR07W,     6,  1, 407757,      7,2,20150505,0010, 44.2677, -63.3158,-999,     80.3,   1.0447,  32.1067,2,     -999,9,    299.5,2,     -999,9,     6.59,6,     6.56,6,     0.07,6,     0.92,6,     0.59,6,     -999,9,     -999,9,     -999,9,     -999,9,     -999,9,     9.00
  18HU20150504, AR07W,     6,  1, 407758,      8,2,20150505,0010, 44.2677, -63.3158,-999,     61.1,  -0.0297,  31.7552,2,     -999,9,    330.8,2,     -999,9,     4.97,6,     4.52,6,     0.07,6,     0.73,6,     1.03,6,     -999,9,     -999,9,     -999,9,     -999,9,     -999,9,     9.00
  18HU20150504, AR07W,     6,  1, 407759,      9,2,20150505,0010, 44.2677, -63.3158,-999,     50.9,   0.4627,  31.6440,2,     -999,9,    362.9,2,     -999,9,     3.10,6,     3.39,6,     0.07,6,     0.67,6,     1.10,6,     -999,9,     -999,9,     -999,9,     -999,9,     -999,9,     9.00
  18HU20150504, AR07W,     6,  1, 407760,     10,2,20150505,0010, 44.2677, -63.3158,-999,     40.2,  -0.7395,  31.3944,2,  31.3913,2,    360.6,2,    352.7,6,     4.50,6,     5.12,6,     0.10,6,     0.75,6,     0.83,6,     -999,9,     -999,9,     -999,9,     -999,9,     -999,9,     9.00
  18HU20150504, AR07W,     6,  1, 407761,     11,2,20150505,0010, 44.2677, -63.3158,-999,     40.3,  -0.7378,  31.3952,2,     -999,9,    349.4,2,    352.3,6,     -999,9,     -999,9,     -999,9,     -999,9,     -999,9,     -999,9,     -999,9,     -999,9,     -999,9,     -999,9,     9.00
  18HU20150504, AR07W,     6,  1, 407762,     12,2,20150505,0010, 44.2677, -63.3158,-999,     39.7,  -0.7456,  31.3860,2,     -999,9,    316.5,2,    352.4,6,     -999,9,     -999,9,     -999,9,     -999,9,     -999,9,     -999,9,     -999,9,     -999,9,     -999,9,     -999,9,     9.00
  18HU20150504, AR07W,     6,  1, 407763,     13,2,20150505,0010, 44.2677, -63.3158,-999,     40.2,  -0.7372,  31.3927,2,     -999,9,    347.5,2,     -999,9,     -999,9,     -999,9,     -999,9,     -999,9,     -999,9,     -999,9,     -999,9,     -999,9,     -999,9,     -999,9,     9.00
  18HU20150504, AR07W,     6,  1, 407764,     14,2,20150505,0010, 44.2677, -63.3158,-999,     40.1,  -0.7354,  31.3952,2,     -999,9,    343.1,2,    352.8,6,     -999,9,     -999,9,     -999,9,     -999,9,     -999,9,     -999,9,     -999,9,     -999,9,     -999,9,     -999,9,     9.00
  18HU20150504, AR07W,     6,  1, 407765,     15,2,20150505,0010, 44.2677, -63.3158,-999,     40.1,  -0.7390,  31.3913,2,     -999,9,    327.7,2,     -999,9,     -999,9,     -999,9,     -999,9,     -999,9,     -999,9,     -999,9,     -999,9,     -999,9,     -999,9,     -999,9,     9.00
  18HU20150504, AR07W,     6,  1, 407766,     16,2,20150505,0010, 44.2677, -63.3158,-999,     30.8,   0.1809,  31.3500,2,     -999,9,    359.6,2,     -999,9,     2.22,6,     3.67,6,     0.08,6,     0.67,6,     0.69,6,     -999,9,     -999,9,     -999,9,     -999,9,     -999,9,     9.00
  18HU20150504, AR07W,     6,  1, 407767,     17,2,20150505,0010, 44.2677, -63.3158,-999,     20.8,   0.2027,  31.1338,2,     -999,9,    374.5,2,     -999,9,     1.74,6,     0.49,6,     0.02,6,     0.39,6,     0.67,6,     -999,9,     -999,9,     -999,9,     -999,9,     -999,9,     9.00
  18HU20150504, AR07W,     6,  1, 407768,     18,2,20150505,0010, 44.2677, -63.3158,-999,     10.3,   2.2692,  30.8166,2,     -999,9,    347.1,2,     -999,9,     0.06,6,     -999,5,     0.01,6,     0.26,6,     0.60,6,     -999,9,     -999,9,     -999,9,     -999,9,     -999,9,     9.00
  18HU20150504, AR07W,     6,  1, 407769,     19,2,20150505,0010, 44.2677, -63.3158,-999,      2.6,   2.6228,  30.7836,2,  30.8049,2,    338.6,2,     -999,9,     0.05,6,     -999,5,     0.02,6,     0.25,6,     0.50,6,     -999,9,     -999,9,     -999,9,     -999,9,     -999,9,     9.00
  18HU20150504, AR07W,     6,  1, 407770,     20,2,20150505,0010, 44.2677, -63.3158,-999,      3.0,   2.6238,  30.7837,2,     -999,9,    361.3,2,    390.7,6,     -999,9,     -999,9,     -999,9,     -999,9,     -999,9,     -999,9,     -999,9,     -999,9,     -999,9,     -999,9,     9.00
  18HU20150504, AR07W,     6,  1, 407771,     21,2,20150505,0010, 44.2677, -63.3158,-999,      2.8,   2.6215,  30.7843,2,     -999,9,    351.9,2,     -999,9,     -999,9,     -999,9,     -999,9,     -999,9,     -999,9,     -999,9,     -999,9,     -999,9,     -999,9,     -999,9,     9.00
  18HU20150504, AR07W,     6,  1, 407772,     22,2,20150505,0010, 44.2677, -63.3158,-999,      2.5,   2.6254,  30.7837,2,     -999,9,    356.1,2,    390.0,6,     -999,9,     -999,9,     -999,9,     -999,9,     -999,9,     -999,9,     -999,9,     -999,9,     -999,9,     -999,9,     9.00
  18HU20150504, AR07W,     6,  1, 407773,     23,2,20150505,0010, 44.2677, -63.3158,-999,      2.8,   2.6711,  30.7766,2,     -999,9,    369.6,2,    389.7,6,     -999,9,     -999,9,     -999,9,     -999,9,     -999,9,     -999,9,     -999,9,     -999,9,     -999,9,     -999,9,     9.00
  18HU20150504, AR07W,     6,  1, 407774,     24,2,20150505,0010, 44.2677, -63.3158,-999,      2.5,   2.6636,  30.7786,2,     -999,9,    326.8,2,     -999,9,     -999,9,     -999,9,     -999,9,     -999,9,     -999,9,     -999,9,     -999,9,     -999,9,     -999,9,     -999,9,     9.00
  18HU20150504, AR07W,     9,  1, 407775,      1,2,20150506,1148, 46.5700, -53.0622,-999,     62.8,  -0.2335,  32.3711,2,     -999,9,    364.1,2,    371.3,6,     -999,9,     -999,9,     -999,9,     -999,9,     -999,9,     -999,9,     -999,9,     -999,9,     -999,9,   7.7070,2,    25.00
  18HU20150504, AR07W,     9,  1, 407776,      2,2,20150506,1148, 46.5700, -53.0622,-999,     62.6,  -0.2321,  32.3710,2,     -999,9,    364.7,2,    371.2,6,     -999,9,     -999,9,     -999,9,     -999,9,     -999,9,     -999,9,     -999,9,     -999,9,     -999,9,   7.7080,2,    25.00
  18HU20150504, AR07W,     9,  1, 407777,      3,2,20150506,1148, 46.5700, -53.0622,-999,     62.3,  -0.2302,  32.3710,2,     -999,9,    364.2,2,    369.1,6,     -999,9,     -999,9,     -999,9,     -999,9,     -999,9,     -999,9,     -999,9,     -999,9,     -999,9,   7.7060,2,    25.00
  18HU20150504, AR07W,     9,  1, 407778,      4,2,20150506,1148, 46.5700, -53.0622,-999,     61.9,  -0.2283,  32.3707,2,  32.3878,2,    363.9,2,    371.1,2,     -999,9,     -999,9,     -999,9,     -999,9,     -999,9,     -999,9,     -999,9,     -999,9,     -999,9,     -999,9,     9.00
  18HU20150504, AR07W,     9,  1, 407779,      5,2,20150506,1148, 46.5700, -53.0622,-999,     59.8,  -0.2279,  32.3708,2,     -999,9,    365.1,2,    373.0,2,     2.65,6,     2.16,6,     0.05,6,     0.87,6,     1.08,6,     -999,9,     -999,9,     -999,9,     -999,9,     -999,9,     9.00
  18HU20150504, AR07W,     9,  1, 407780,      6,2,20150506,1148, 46.5700, -53.0622,-999,     50.9,  -0.1998,  32.3704,2,     -999,9,    365.2,2,    373.0,2,     2.66,6,     1.79,6,     0.06,6,     0.56,6,     0.96,6,     -999,9,     -999,9,     -999,9,     -999,9,     -999,9,     9.00
  18HU20150504, AR07W,     9,  1, 407781,      7,2,20150506,1148, 46.5700, -53.0622,-999,     40.5,   0.0375,  32.3678,2,  32.3821,2,    372.0,2,    377.4,2,     2.10,6,     1.07,6,     0.05,6,     0.53,6,     0.83,6,     -999,9,     -999,9,     -999,9,     -999,9,     -999,9,     9.00
  18HU20150504, AR07W,     9,  1, 407782,      8,2,20150506,1148, 46.5700, -53.0622,-999,     40.5,   0.0337,  32.3685,2,     -999,9,    372.5,2,    377.0,6,     -999,9,     -999,9,     -999,9,     -999,9,     -999,9,     -999,9,     -999,9,     -999,9,     -999,9,   7.7160,2,    25.00
  18HU20150504, AR07W,     9,  1, 407783,      9,2,20150506,1148, 46.5700, -53.0622,-999,     40.4,   0.0277,  32.3685,2,     -999,9,    372.7,2,    376.7,6,     -999,9,     -999,9,     -999,9,     -999,9,     -999,9,     -999,9,     -999,9,     -999,9,     -999,9,   7.7260,2,    25.00
  18HU20150504, AR07W,     9,  1, 407784,     10,2,20150506,1148, 46.5700, -53.0622,-999,     40.3,   0.0415,  32.3667,2,     -999,9,    371.7,2,    376.8,6,     -999,9,     -999,9,     -999,9,     -999,9,     -999,9,     -999,9,     -999,9,     -999,9,     -999,9,   7.7250,2,    25.00
  18HU20150504, AR07W,     9,  1, 407785,     11,2,20150506,1148, 46.5700, -53.0622,-999,     30.3,   0.0806,  32.3517,2,     -999,9,    377.2,2,    384.3,2,     1.76,6,     0.43,6,     0.03,6,     0.46,6,     0.63,6,     -999,9,     -999,9,     -999,9,     -999,9,     -999,9,     9.00
  18HU20150504, AR07W,     9,  1, 407786,     12,2,20150506,1148, 46.5700, -53.0622,-999,     20.5,   0.3411,  32.3072,2,     -999,9,    378.1,2,    384.3,2,     1.85,6,     0.89,6,     0.04,6,     0.43,6,     0.56,6,     -999,9,     -999,9,     -999,9,     -999,9,     -999,9,     9.00
  18HU20150504, AR07W,     9,  1, 407787,     13,2,20150506,1148, 46.5700, -53.0622,-999,     20.3,   0.3406,  32.3073,2,     -999,9,    378.1,2,    383.7,6,     -999,9,     -999,9,     -999,9,     -999,9,     -999,9,     -999,9,     -999,9,     -999,9,     -999,9,   7.7380,2,    25.00
  18HU20150504, AR07W,     9,  1, 407788,     14,2,20150506,1148, 46.5700, -53.0622,-999,     20.6,   0.3309,  32.3105,2,     -999,9,    376.8,2,    398.9,6,     -999,9,     -999,9,     -999,9,     -999,9,     -999,9,     -999,9,     -999,9,     -999,9,     -999,9,   7.7480,2,    25.00
  18HU20150504, AR07W,     9,  1, 407789,     15,2,20150506,1148, 46.5700, -53.0622,-999,     20.6,   0.3314,  32.3102,2,     -999,9,    377.1,2,    385.4,6,     -999,9,     -999,9,     -999,9,     -999,9,     -999,9,     -999,9,     -999,9,     -999,9,     -999,9,   7.7420,2,    25.00
  18HU20150504, AR07W,     9,  1, 407790,     16,2,20150506,1148, 46.5700, -53.0622,-999,     10.8,   0.5870,  32.1809,2,     -999,9,    369.4,2,    377.3,2,     2.12,6,     1.15,6,     0.06,6,     0.47,6,     0.48,6,     -999,9,     -999,9,     -999,9,     -999,9,     -999,9,     9.00
  18HU20150504, AR07W,     9,  1, 407791,     17,2,20150506,1148, 46.5700, -53.0622,-999,      3.3,   0.5887,  32.1833,2,     -999,9,    368.8,2,    376.6,2,     2.29,6,     1.33,6,     0.06,6,     0.48,6,     0.53,6,     -999,9,     -999,9,     -999,9,     -999,9,     -999,9,     9.00
  18HU20150504, AR07W,     9,  1, 407792,     18,2,20150506,1148, 46.5700, -53.0622,-999,      3.8,   0.5895,  32.1829,2,  32.1915,2,    369.7,2,     -999,9,     2.70,6,     2.00,6,     0.06,6,     0.57,6,     1.03,6,     -999,9,     -999,9,     -999,9,     -999,9,     -999,9,     9.00
  18HU20150504, AR07W,     9,  1, 407793,     19,2,20150506,1148, 46.5700, -53.0622,-999,      3.1,   0.5887,  32.1819,2,     -999,9,    369.1,2,     -999,9,     -999,9,     -999,9,     -999,9,     -999,9,     -999,9,     -999,9,     -999,9,     -999,9,     -999,9,     -999,9,     9.00
  18HU20150504, AR07W,     9,  1, 407794,     20,2,20150506,1148, 46.5700, -53.0622,-999,      3.1,   0.5888,  32.1834,2,     -999,9,    369.0,2,     -999,9,     -999,9,     -999,9,     -999,9,     -999,9,     -999,9,     -999,9,     -999,9,     -999,9,     -999,9,     -999,9,     9.00
  18HU20150504, AR07W,     9,  1, 407795,     21,2,20150506,1148, 46.5700, -53.0622,-999,      3.9,   0.5889,  32.1835,2,     -999,9,    368.1,2,     -999,9,     -999,9,     -999,9,     -999,9,     -999,9,     -999,9,     -999,9,     -999,9,     -999,9,     -999,9,     -999,9,     9.00
  18HU20150504, AR07W,     9,  1, 407796,     22,2,20150506,1148, 46.5700, -53.0622,-999,      3.4,   0.5891,  32.1834,2,     -999,9,    369.4,2,     -999,9,     -999,9,     -999,9,     -999,9,     -999,9,     -999,9,     -999,9,     -999,9,     -999,9,     -999,9,     -999,9,     9.00
  18HU20150504, AR07W,     9,  1, 407797,     23,2,20150506,1148, 46.5700, -53.0622,-999,      3.1,   0.5897,  32.1837,2,     -999,9,    368.5,2,     -999,9,     -999,9,     -999,9,     -999,9,     -999,9,     -999,9,     -999,9,     -999,9,     -999,9,     -999,9,     -999,9,     9.00
  18HU20150504, AR07W,     9,  1, 407798,     24,2,20150506,1148, 46.5700, -53.0622,-999,      3.5,   0.5894,  32.1834,2,     -999,9,    369.7,2,     -999,9,     -999,9,     -999,9,     -999,9,     -999,9,     -999,9,     -999,9,     -999,9,     -999,9,     -999,9,     -999,9,     9.00