BOTTLE,20230713CCHSIOVAJ
EXPOCODE,SECT_ID,STNNBR,CASTNO,SAMPNO,BTLNBR,BTLNBR_FLAG_W,DATE,TIME,LATITUDE,LONGITUDE,DEPTH,CTDPRS,CTDTMP,CTDSAL,CTDSAL_FLAG_W,SALNTY,SALNTY_FLAG_W,CTDOXY,CTDOXY_FLAG_W,OXYGEN,OXYGEN_FLAG_W,SILCAT,SILCAT_FLAG_W,NITRAT,NITRAT_FLAG_W,NITRIT,NITRIT_FLAG_W,PHSPHT,PHSPHT_FLAG_W,NH4,NH4_FLAG_W,CFC-12,CFC-12_FLAG_W,SF6,SF6_FLAG_W,TCARBN,TCARBN_FLAG_W,ALKALI,ALKALI_FLAG_W,PH_TOT,PH_TOT_FLAG_W,PH_TMP
,,,,,,,,,,,METERS,DBAR,ITS-90,PSS-78,,PSS-78,,UMOL/KG,,UMOL/KG,,UMOL/KG,,UMOL/KG,,UMOL/KG,,UMOL/KG,,UMOL/KG,,PMOL/KG,,FMOL/KG,,UMOL/KG,,UMOL/KG,,,,DEG C
  18HU20150504, AR07W,   207,  1, 408560,      1,2,20150518,0918, 52.6708, -52.0913,-999,    291.7,   2.1274,  34.4788,2,     -999,9,    290.6,2,    301.2,6,     8.71,6,    14.07,6,     0.09,6,     0.98,6,     0.53,6,    2.550,2,    2.612,2,   2147.0,2,   2284.2,2,     -999,9,     9.00
  18HU20150504, AR07W,   207,  1, 408561,      2,2,20150518,0918, 52.6708, -52.0913,-999,    291.7,   2.1275,  34.4789,2,     -999,9,    290.2,2,    301.2,2,     8.75,6,    12.19,6,     0.08,6,     1.00,6,     0.54,6,    2.569,2,    2.632,2,   2147.0,2,   2285.4,2,     -999,9,     9.00
  18HU20150504, AR07W,   207,  1, 408562,      3,2,20150518,0918, 52.6708, -52.0913,-999,    200.1,   0.8691,  34.1153,2,     -999,9,    298.8,2,    309.0,2,     8.42,6,    13.10,6,     0.07,6,     1.05,6,     0.44,6,    2.729,2,    2.794,2,   2135.7,2,   2267.2,2,     -999,9,     9.00
  18HU20150504, AR07W,   207,  1, 408563,      4,2,20150518,0918, 52.6708, -52.0913,-999,    150.9,  -0.0385,  33.8422,2,     -999,9,    305.1,2,    316.2,2,     8.04,6,    12.00,6,     0.06,6,     0.94,6,     0.48,6,    2.812,2,    2.879,2,   2127.2,2,   2252.4,2,     -999,9,     9.00
  18HU20150504, AR07W,   207,  1, 408564,      5,2,20150518,0918, 52.6708, -52.0913,-999,    100.5,  -0.9256,  33.4824,2,     -999,9,    317.5,2,    327.6,2,     8.08,6,    10.58,6,     0.07,6,     0.89,6,     0.50,6,    3.001,2,    3.071,2,   2122.3,2,   2244.1,2,     -999,9,     9.00
  18HU20150504, AR07W,   207,  1, 408565,      6,2,20150518,0918, 52.6708, -52.0913,-999,     80.9,  -1.3415,  33.2833,2,     -999,9,    326.0,2,     -999,9,     8.17,6,     9.87,6,     0.10,6,     0.89,6,     0.55,6,     -999,9,     -999,9,     -999,9,     -999,9,     -999,9,     9.00
  18HU20150504, AR07W,   207,  1, 408566,      7,2,20150518,0918, 52.6708, -52.0913,-999,     60.3,  -1.2860,  33.1564,2,     -999,9,    331.9,2,     -999,9,     8.28,6,     8.83,6,     0.12,6,     0.85,6,     0.50,6,     -999,9,     -999,9,     -999,9,     -999,9,     -999,9,     9.00
  18HU20150504, AR07W,   207,  1, 408567,      8,2,20150518,0918, 52.6708, -52.0913,-999,     49.7,  -0.9459,  33.0429,2,     -999,9,    341.8,2,    352.6,2,     8.33,6,     6.39,6,     0.11,6,     0.85,6,     0.58,6,    3.239,2,    3.314,2,   2116.3,2,   2232.4,2,     -999,9,     9.00
  18HU20150504, AR07W,   207,  1, 408568,      9,2,20150518,0918, 52.6708, -52.0913,-999,     39.2,  -0.3166,  32.9406,2,     -999,9,    351.8,2,     -999,9,     8.27,6,     6.22,6,     0.09,6,     0.79,6,     0.71,6,     -999,9,     -999,9,     -999,9,     -999,9,     -999,9,     9.00
  18HU20150504, AR07W,   207,  1, 408569,     10,2,20150518,0918, 52.6708, -52.0913,-999,     30.0,   0.0475,  32.9005,2,     -999,9,    360.2,2,    371.2,2,     8.19,6,     5.31,6,     0.10,6,     0.67,6,     0.48,6,     -999,9,     -999,9,     -999,9,     -999,9,     -999,9,     9.00
  18HU20150504, AR07W,   207,  1, 408570,     11,2,20150518,0918, 52.6708, -52.0913,-999,     20.3,   0.3066,  32.8146,2,     -999,9,    356.5,2,     -999,9,     8.42,6,     5.37,6,     0.11,6,     0.70,6,     0.62,6,    3.283,2,    3.359,2,   2103.7,2,   2227.5,2,     -999,9,     9.00
  18HU20150504, AR07W,   207,  1, 408571,     12,2,20150518,0918, 52.6708, -52.0913,-999,     10.3,   0.3291,  32.8097,2,     -999,9,    356.1,2,    367.9,2,     8.56,6,     5.67,6,     0.10,6,     0.71,6,     0.64,6,     -999,9,     -999,9,     -999,9,     -999,9,     -999,9,     9.00
  18HU20150504, AR07W,   207,  1, 408572,     13,2,20150518,0918, 52.6708, -52.0913,-999,      2.4,   0.3400,  32.8063,2,     -999,9,    355.9,2,    343.2,2,     8.51,6,     5.70,6,     0.11,6,     0.71,6,     0.47,6,    3.305,2,    3.382,2,   2106.6,2,   2228.9,2,     -999,9,     9.00
  18HU20150504, AR07W,   207,  1, 408573,     14,2,20150518,0918, 52.6708, -52.0913,-999,      2.5,   0.3458,  32.8008,2,     -999,9,    356.6,2,     -999,9,     -999,9,     -999,9,     -999,9,     -999,9,     -999,9,     -999,9,     -999,9,     -999,9,     -999,9,     -999,9,     9.00
  18HU20150504, AR07W,   207,  1, 408574,     15,2,20150518,0918, 52.6708, -52.0913,-999,      2.4,   0.3430,  32.8035,2,     -999,9,    355.0,2,     -999,9,     -999,9,     -999,9,     -999,9,     -999,9,     -999,9,     -999,9,     -999,9,     -999,9,     -999,9,     -999,9,     9.00
  18HU20150504, AR07W,   207,  1, 408575,     16,2,20150518,0918, 52.6708, -52.0913,-999,     60.9,  -1.3074,  33.1669,2,     -999,9,    332.0,2,     -999,9,     -999,9,     -999,9,     -999,9,     -999,9,     -999,9,     -999,9,     -999,9,     -999,9,     -999,9,     -999,9,     9.00
  18HU20150504, AR07W,   207,  1, 408576,     17,2,20150518,0918, 52.6708, -52.0913,-999,     40.9,  -0.4305,  32.9621,2,     -999,9,    353.1,2,     -999,9,     -999,9,     -999,9,     -999,9,     -999,9,     -999,9,     -999,9,     -999,9,     -999,9,     -999,9,     -999,9,     9.00
  18HU20150504, AR07W,   207,  1, 408577,     18,2,20150518,0918, 52.6708, -52.0913,-999,     29.8,   0.0182,  32.8997,2,     -999,9,    359.2,2,     -999,9,     -999,9,     -999,9,     -999,9,     -999,9,     -999,9,     -999,9,     -999,9,     -999,9,     -999,9,     -999,9,     9.00
  18HU20150504, AR07W,   207,  1, 408578,     19,2,20150518,0918, 52.6708, -52.0913,-999,     29.6,  -0.0236,  32.9082,2,     -999,9,    358.3,2,     -999,9,     -999,9,     -999,9,     -999,9,     -999,9,     -999,9,     -999,9,     -999,9,     -999,9,     -999,9,     -999,9,     9.00
  18HU20150504, AR07W,   207,  1, 408579,     20,2,20150518,0918, 52.6708, -52.0913,-999,     20.2,   0.2312,  32.8340,2,     -999,9,    355.3,2,     -999,9,     -999,9,     -999,9,     -999,9,     -999,9,     -999,9,     -999,9,     -999,9,     -999,9,     -999,9,     -999,9,     9.00
  18HU20150504, AR07W,   207,  1, 408580,     21,2,20150518,0918, 52.6708, -52.0913,-999,     10.2,   0.2964,  32.8125,2,     -999,9,    355.8,2,     -999,9,     -999,9,     -999,9,     -999,9,     -999,9,     -999,9,     -999,9,     -999,9,     -999,9,     -999,9,     -999,9,     9.00
  18HU20150504, AR07W,   211,  1, 408586,      1,2,20150522,0433, 39.9037, -59.3668,-999,   5215.5,   2.2648,  34.8728,2,  34.8770,2,    243.0,2,    261.4,2,    38.23,6,    19.81,2,     0.05,6,     1.37,2,     0.32,6,    0.333,2,    0.267,2,   2189.2,2,   2339.2,2,     -999,9,     9.00
  18HU20150504, AR07W,   211,  1, 408587,      2,2,20150522,0433, 39.9037, -59.3668,-999,   5051.7,   2.2791,  34.8768,2,  34.8811,2,    244.8,2,    263.2,2,    35.84,6,    19.48,2,     0.05,6,     1.35,2,     0.39,6,    0.385,2,    0.340,2,   2180.4,2,   2336.8,2,     -999,9,     9.00
  18HU20150504, AR07W,   211,  1, 408588,      3,2,20150522,0433, 39.9037, -59.3668,-999,   4901.5,   2.2749,  34.8783,2,  34.8822,2,    245.9,2,    263.6,2,    34.56,6,    19.18,2,     0.05,6,     1.32,2,     0.32,6,    0.403,2,    0.308,2,   2185.2,2,   2334.6,2,     -999,9,     9.00
  18HU20150504, AR07W,   211,  1, 408589,      4,2,20150522,0433, 39.9037, -59.3668,-999,   4703.0,   2.2772,  34.8810,2,  34.8855,2,    247.7,2,    264.5,2,    32.75,6,    18.89,2,     0.05,6,     1.31,2,     0.40,6,    0.431,2,    0.357,2,   2181.9,2,   2329.0,2,     -999,9,     9.00
  18HU20150504, AR07W,   211,  1, 408590,      5,2,20150522,0433, 39.9037, -59.3668,-999,   4398.8,   2.2974,  34.8858,2,  34.8897,2,    249.1,2,    266.6,2,    30.44,6,    18.49,2,     0.04,6,     1.27,2,     0.29,6,    0.480,2,    0.403,2,   2178.8,2,   2329.2,2,     -999,9,     9.00
  18HU20150504, AR07W,   211,  1, 408591,      6,2,20150522,0433, 39.9037, -59.3668,-999,   4104.1,   2.3529,  34.8923,2,  34.8961,2,    251.1,2,    267.9,2,    27.44,6,    18.09,2,     0.05,6,     1.24,2,     0.28,6,    0.504,2,    0.436,2,   2174.8,2,   2328.4,2,     -999,9,     9.00
  18HU20150504, AR07W,   211,  1, 408592,      7,2,20150522,0433, 39.9037, -59.3668,-999,   3802.3,   2.4808,  34.9021,2,  34.9063,2,    252.2,2,    269.8,2,    24.20,6,    17.78,2,     0.05,6,     1.20,2,     0.29,6,    0.545,2,    0.461,2,   2171.2,2,   2321.1,2,     -999,9,     9.00
  18HU20150504, AR07W,   211,  1, 408593,      8,2,20150522,0433, 39.9037, -59.3668,-999,   3513.1,   2.6563,  34.9133,2,  34.9181,2,    252.0,2,    269.3,6,    21.81,6,    17.70,2,     0.05,6,     1.18,2,     0.22,6,    0.529,2,    0.486,2,   2168.8,2,   2320.0,2,     -999,9,     9.00
  18HU20150504, AR07W,   211,  1, 408594,      9,2,20150522,0433, 39.9037, -59.3668,-999,   3203.8,   2.8893,  34.9259,2,  34.9307,6,    250.4,2,    267.2,2,    20.20,6,    17.60,2,     0.06,6,     1.17,2,     0.35,6,    0.527,2,    0.392,2,   2169.2,2,   2315.7,2,     -999,9,     9.00
  18HU20150504, AR07W,   211,  1, 408595,     10,2,20150522,0433, 39.9037, -59.3668,-999,   2901.1,   3.1508,  34.9373,2,  34.9420,2,    247.5,2,    265.9,2,    18.40,6,    17.68,2,     0.05,6,     1.17,2,     0.28,6,    0.562,2,    0.419,2,   2161.3,2,   2315.1,2,     -999,9,     9.00
  18HU20150504, AR07W,   211,  1, 408596,     11,2,20150522,0433, 39.9037, -59.3668,-999,   2601.8,   3.3625,  34.9422,2,  34.9472,2,    248.5,2,    266.7,2,    16.08,6,    17.58,2,     0.07,6,     1.16,2,     0.33,6,    0.698,2,    0.496,2,   2171.2,2,   2304.5,2,     -999,9,     9.00
  18HU20150504, AR07W,   211,  1, 408597,     12,2,20150522,0433, 39.9037, -59.3668,-999,   2300.8,   3.5683,  34.9449,2,  34.9504,2,    249.7,2,    266.1,2,    14.56,6,    17.49,2,     0.05,6,     1.15,2,     0.29,6,    0.885,2,    0.447,2,   2164.3,2,   2309.4,2,     -999,9,     9.00
  18HU20150504, AR07W,   211,  1, 408598,     13,2,20150522,0433, 39.9037, -59.3668,-999,   2000.2,   3.8337,  34.9538,2,  34.9602,2,    248.3,2,    264.6,2,    12.96,6,    17.63,2,     0.06,6,     1.15,2,     0.29,6,    1.096,2,    0.611,2,   2166.1,2,   2307.5,2,     -999,9,     9.00
  18HU20150504, AR07W,   211,  1, 408599,     14,2,20150522,0433, 39.9037, -59.3668,-999,   1720.3,   4.1701,  34.9777,2,  34.9843,2,    244.9,2,    259.3,2,    12.25,6,    17.78,2,     0.08,6,     1.16,2,     0.36,6,    1.211,2,    0.757,2,   2167.7,2,   2315.1,2,     -999,9,     9.00
  18HU20150504, AR07W,   211,  1, 408600,     15,2,20150522,0433, 39.9037, -59.3668,-999,   1449.3,   4.4519,  34.9832,2,  34.9887,2,    242.7,2,    255.9,2,    11.55,6,    17.80,2,     0.07,6,     1.16,2,     0.31,6,    1.436,2,    0.869,2,   2170.7,2,   2307.6,2,     -999,9,     9.00
  18HU20150504, AR07W,   211,  1, 408601,     16,2,20150522,0433, 39.9037, -59.3668,-999,   1200.9,   5.0017,  35.0112,2,  33.0754,4,    230.0,2,    227.6,2,    12.27,6,    19.16,2,     0.07,6,     1.27,2,     0.41,6,    1.244,2,    0.978,2,   2180.1,2,   2310.4,2,     -999,9,     9.00
  18HU20150504, AR07W,   211,  1, 408602,     17,2,20150522,0433, 39.9037, -59.3668,-999,    960.4,   6.3958,  35.0633,2,  33.1106,4,    190.5,2,    199.8,2,    13.31,6,    20.89,2,     0.05,6,     1.36,2,     0.26,6,    0.978,2,    0.783,2,   2186.6,2,   2313.7,2,     -999,9,     9.00
  18HU20150504, AR07W,   211,  1, 408603,     18,2,20150522,0433, 39.9037, -59.3668,-999,    728.0,   9.7400,  35.2412,2,  33.2862,4,    133.5,2,    139.6,3,    13.72,6,    23.78,2,     0.07,6,     1.52,2,     0.30,6,    0.681,2,    0.683,2,   2195.7,2,   2327.3,2,     -999,9,     9.00
  18HU20150504, AR07W,   211,  1, 408604,     19,2,20150522,0433, 39.9037, -59.3668,-999,    515.6,  12.8381,  35.6443,2,  33.6894,4,    158.2,2,    162.3,3,     7.62,6,    16.88,2,     0.06,6,     1.03,2,     0.15,6,    1.126,2,    1.040,2,   2169.8,2,   2343.4,2,     -999,9,     9.00
  18HU20150504, AR07W,   211,  1, 408605,     20,2,20150522,0433, 39.9037, -59.3668,-999,    330.6,  16.2970,  36.2224,2,  34.2617,4,    166.8,2,    173.6,2,     3.40,6,     9.74,2,     0.06,6,     0.52,2,     0.14,6,    1.308,2,    1.147,2,   2144.8,2,   2368.7,2,     -999,9,     9.00
  18HU20150504, AR07W,   211,  1, 408606,     21,2,20150522,0433, 39.9037, -59.3668,-999,    197.3,  19.4069,  36.5826,2,  34.6205,4,    139.5,2,    145.8,3,     2.76,6,     7.96,2,     0.07,6,     0.38,2,     0.23,6,    1.239,2,    1.319,2,   2153.8,2,   2390.5,2,     -999,9,     9.00
  18HU20150504, AR07W,   211,  1, 408607,     22,2,20150522,0433, 39.9037, -59.3668,-999,    101.3,  21.7869,  36.4982,2,     -999,9,    183.6,2,    192.0,2,     1.30,6,     1.77,2,     0.21,6,     0.06,6,     0.27,6,    1.159,2,    1.546,2,   2098.7,2,   2396.8,2,     -999,9,     9.00
  18HU20150504, AR07W,   211,  1, 408608,     23,2,20150522,0433, 39.9037, -59.3668,-999,     51.1,  23.8815,  36.4503,2,     -999,9,    201.0,2,    209.1,2,     1.06,6,     -999,9,     0.05,6,     -999,9,     -999,9,    1.047,2,    1.538,2,   2053.4,2,   2384.9,2,     -999,9,     9.00