BOTTLE,20230713CCHSIOVAJ
EXPOCODE,SECT_ID,STNNBR,CASTNO,SAMPNO,BTLNBR,BTLNBR_FLAG_W,DATE,TIME,LATITUDE,LONGITUDE,DEPTH,CTDPRS,CTDTMP,CTDSAL,CTDSAL_FLAG_W,SALNTY,SALNTY_FLAG_W,CTDOXY,CTDOXY_FLAG_W,OXYGEN,OXYGEN_FLAG_W,SILCAT,SILCAT_FLAG_W,NITRAT,NITRAT_FLAG_W,NITRIT,NITRIT_FLAG_W,PHSPHT,PHSPHT_FLAG_W,NH4,NH4_FLAG_W,CFC-12,CFC-12_FLAG_W,SF6,SF6_FLAG_W,TCARBN,TCARBN_FLAG_W,ALKALI,ALKALI_FLAG_W,PH_TOT,PH_TOT_FLAG_W,PH_TMP
,,,,,,,,,,,METERS,DBAR,ITS-90,PSS-78,,PSS-78,,UMOL/KG,,UMOL/KG,,UMOL/KG,,UMOL/KG,,UMOL/KG,,UMOL/KG,,UMOL/KG,,PMOL/KG,,FMOL/KG,,UMOL/KG,,UMOL/KG,,,,DEG C
  18HU20150504, AR07W,   199,  1, 408512,      1,2,20150518,0043, 52.8483, -51.4845,-999,    201.2,   3.1090,  34.7887,2,     -999,9,    291.2,2,    300.3,6,     8.35,6,    14.27,6,     0.11,6,     1.02,6,     0.46,6,     -999,9,     -999,9,     -999,9,     -999,9,     -999,9,     9.00
  18HU20150504, AR07W,   199,  1, 408513,      2,2,20150518,0043, 52.8483, -51.4845,-999,    150.1,   3.0101,  34.7611,2,     -999,9,    293.9,2,    303.8,2,     8.18,6,    14.13,6,     0.15,6,     1.02,6,     2.19,6,     -999,9,     -999,9,     -999,9,     -999,9,     -999,9,     9.00
  18HU20150504, AR07W,   199,  1, 408514,      3,2,20150518,0043, 52.8483, -51.4845,-999,    100.6,   3.1307,  34.6986,2,     -999,9,    306.8,2,    294.8,2,     8.01,6,    12.71,6,     0.14,6,     0.94,6,     0.54,6,     -999,9,     -999,9,     -999,9,     -999,9,     -999,9,     9.00
  18HU20150504, AR07W,   199,  1, 408515,      4,2,20150518,0043, 52.8483, -51.4845,-999,     80.5,   3.2809,  34.6806,2,     -999,9,    315.4,2,     -999,9,     7.66,6,    11.35,6,     0.12,6,     0.88,6,     0.65,6,     -999,9,     -999,9,     -999,9,     -999,9,     -999,9,     9.00
  18HU20150504, AR07W,   199,  1, 408516,      5,2,20150518,0043, 52.8483, -51.4845,-999,     61.0,   3.2682,  34.6775,2,     -999,9,    315.0,2,     -999,9,     7.71,6,    11.61,6,     0.13,6,     0.89,6,     0.60,6,     -999,9,     -999,9,     -999,9,     -999,9,     -999,9,     9.00
  18HU20150504, AR07W,   199,  1, 408517,      6,2,20150518,0043, 52.8483, -51.4845,-999,     50.8,   3.2629,  34.6733,2,     -999,9,    317.9,2,    325.8,2,     7.54,6,    12.54,6,     0.13,6,     0.89,6,     0.60,6,     -999,9,     -999,9,     -999,9,     -999,9,     -999,9,     9.00
  18HU20150504, AR07W,   199,  1, 408518,      7,2,20150518,0043, 52.8483, -51.4845,-999,     40.8,   3.2460,  34.6619,2,     -999,9,    318.9,2,     -999,9,     7.56,6,    11.34,6,     0.12,6,     0.89,6,     0.65,6,     -999,9,     -999,9,     -999,9,     -999,9,     -999,9,     9.00
  18HU20150504, AR07W,   199,  1, 408519,      8,2,20150518,0043, 52.8483, -51.4845,-999,     31.3,   3.2595,  34.6546,2,     -999,9,    320.6,2,    329.9,2,     7.39,6,    11.34,6,     0.12,6,     0.88,6,     0.62,6,     -999,9,     -999,9,     -999,9,     -999,9,     -999,9,     9.00
  18HU20150504, AR07W,   199,  1, 408520,      9,2,20150518,0043, 52.8483, -51.4845,-999,     21.1,   2.9721,  34.3166,2,     -999,9,    325.1,2,     -999,9,     7.70,6,    10.71,6,     0.14,6,     0.86,6,     0.58,6,     -999,9,     -999,9,     -999,9,     -999,9,     -999,9,     9.00
  18HU20150504, AR07W,   199,  1, 408521,     10,2,20150518,0043, 52.8483, -51.4845,-999,     10.4,   1.7011,  33.5932,2,     -999,9,    329.1,2,    337.9,2,     8.03,6,     9.57,6,     0.11,6,     0.87,6,     0.58,6,     -999,9,     -999,9,     -999,9,     -999,9,     -999,9,     9.00
  18HU20150504, AR07W,   199,  1, 408522,     11,2,20150518,0043, 52.8483, -51.4845,-999,      2.6,   1.6089,  33.5374,2,     -999,9,    331.1,2,    339.1,2,     9.82,6,    12.11,6,     0.09,6,     1.02,6,     0.50,6,     -999,9,     -999,9,     -999,9,     -999,9,     -999,9,     9.00
  18HU20150504, AR07W,   200,  1, 408523,      1,2,20150518,0232, 52.8772, -51.2663,-999,   2125.2,   2.8839,  34.9140,2,  34.9180,2,    264.8,2,    263.8,3,    11.47,6,    14.68,6,     0.04,6,     1.12,6,     0.48,6,    1.634,2,    1.674,2,   2165.4,2,   2304.1,2,   7.8020,2,    25.00
  18HU20150504, AR07W,   200,  1, 408524,      2,2,20150518,0232, 52.8772, -51.2663,-999,   1950.0,   2.9677,  34.9145,2,  34.9201,2,    264.4,2,    277.6,2,    11.04,6,    14.88,6,     0.02,6,     1.13,6,     0.35,6,    1.609,2,    1.647,2,   2165.9,2,   2305.5,2,   7.8030,2,    25.00
  18HU20150504, AR07W,   200,  1, 408525,      3,2,20150518,0232, 52.8772, -51.2663,-999,   1799.6,   3.1284,  34.9152,2,  34.9191,2,    264.1,2,    277.3,2,    10.78,6,    15.29,6,     0.02,6,     1.14,6,     0.38,6,    1.655,2,    1.696,2,   2161.4,2,   2308.5,2,   7.8000,2,    25.00
  18HU20150504, AR07W,   200,  1, 408526,      4,2,20150518,0232, 52.8772, -51.2663,-999,   1649.6,   3.3195,  34.9169,2,  34.9200,2,    262.9,2,    275.2,6,     -999,9,     -999,9,     -999,9,     -999,9,     -999,9,    1.705,2,    1.746,2,   2162.7,2,   2304.9,2,   7.7970,2,    25.00
  18HU20150504, AR07W,   200,  1, 408527,      5,2,20150518,0232, 52.8772, -51.2663,-999,   1450.5,   3.5213,  34.9130,2,  34.9176,2,    263.6,2,    275.8,2,    10.40,6,    15.79,6,     0.07,6,     1.13,6,     0.78,6,    1.839,2,    1.884,2,   2162.9,2,   2305.1,2,   7.7980,2,    25.00
  18HU20150504, AR07W,   200,  1, 408528,      6,2,20150518,0232, 52.8772, -51.2663,-999,   1299.8,   3.5051,  34.8833,2,  34.8848,2,    272.9,2,    283.9,2,     9.67,6,    15.40,6,     0.10,6,     1.16,6,     0.93,6,    2.121,2,    2.172,2,   2164.4,2,   2302.3,2,   7.7970,2,    25.00
  18HU20150504, AR07W,   200,  1, 408529,      7,2,20150518,0232, 52.8772, -51.2663,-999,   1152.1,   3.3968,  34.8617,2,  34.8663,2,    279.3,2,    290.6,2,     8.37,6,    15.45,6,     0.08,6,     1.09,6,     0.84,6,    2.287,2,    2.343,2,   2165.1,2,   2301.9,2,   7.7950,2,    25.00
  18HU20150504, AR07W,   200,  1, 408530,      8,2,20150518,0232, 52.8772, -51.2663,-999,    999.7,   3.3402,  34.8487,2,  34.8517,6,    284.0,2,    295.3,2,     8.13,6,    13.29,3,     0.08,6,     1.10,6,     0.74,6,    2.361,2,    2.418,2,   2162.0,2,   2300.8,2,   7.7930,2,    25.00
  18HU20150504, AR07W,   200,  1, 408531,      9,2,20150518,0232, 52.8772, -51.2663,-999,    999.8,   3.3401,  34.8488,2,     -999,9,    283.7,2,     -999,9,     -999,9,     -999,9,     -999,9,     -999,9,     -999,9,     -999,9,     -999,9,     -999,9,     -999,9,     -999,9,     9.00
  18HU20150504, AR07W,   200,  1, 408532,     10,2,20150518,0232, 52.8772, -51.2663,-999,   1000.2,   3.3400,  34.8486,2,     -999,9,    283.9,2,     -999,9,     -999,9,     -999,9,     -999,9,     -999,9,     -999,9,     -999,9,     -999,9,     -999,9,     -999,9,     -999,9,     9.00
  18HU20150504, AR07W,   200,  1, 408533,     11,2,20150518,0232, 52.8772, -51.2663,-999,    849.7,   3.3371,  34.8455,2,  34.8510,2,    283.8,2,    295.5,2,     8.20,6,    15.26,6,     0.09,6,     1.12,6,     0.93,6,    2.369,2,    2.426,2,   2164.8,2,   2296.1,2,   7.7900,2,    25.00
  18HU20150504, AR07W,   200,  1, 408534,     12,2,20150518,0232, 52.8772, -51.2663,-999,    701.1,   3.3483,  34.8457,2,  34.8489,2,    284.5,2,    294.4,2,     8.22,6,    15.25,6,     0.07,6,     1.10,6,     0.75,6,    2.372,2,    2.430,2,   2164.0,2,   2296.9,2,   7.7900,2,    25.00
  18HU20150504, AR07W,   200,  1, 408535,     13,2,20150518,0232, 52.8772, -51.2663,-999,    550.6,   3.3292,  34.8413,2,  34.8447,2,    285.8,2,    295.1,2,     8.26,6,    15.07,6,     0.07,6,     1.12,6,     0.62,6,    2.395,2,    2.453,2,   2162.6,2,   2297.3,2,   7.7840,2,    25.00
  18HU20150504, AR07W,   200,  1, 408536,     14,2,20150518,0232, 52.8772, -51.2663,-999,    400.3,   3.2827,  34.8305,2,  34.8332,2,    287.5,2,    297.6,2,     8.22,6,    14.74,6,     0.09,6,     1.10,6,     0.71,6,    2.424,2,    2.483,2,   2160.3,2,   2296.1,2,   7.7920,2,    25.00
  18HU20150504, AR07W,   200,  1, 408537,     15,2,20150518,0232, 52.8772, -51.2663,-999,    252.9,   3.1925,  34.8117,2,     -999,9,    290.6,2,    299.3,2,     8.18,6,    14.90,6,     0.11,6,     1.07,6,     0.91,6,    2.458,2,    2.517,2,   2159.2,2,   2297.5,2,   7.7920,2,    25.00
  18HU20150504, AR07W,   200,  1, 408538,     16,2,20150518,0232, 52.8772, -51.2663,-999,    102.1,   3.0679,  34.7058,2,     -999,9,    306.4,2,     -999,9,     -999,9,     -999,9,     -999,9,     -999,9,     -999,9,     -999,9,     -999,9,     -999,9,     -999,9,     -999,9,     9.00
  18HU20150504, AR07W,   200,  1, 408539,     17,2,20150518,0232, 52.8772, -51.2663,-999,     81.4,   3.1225,  34.6730,2,     -999,9,    312.8,2,     -999,9,     7.89,6,    11.19,6,     0.16,6,     0.94,6,     0.87,6,     -999,9,     -999,9,     -999,9,     -999,9,     -999,9,     9.00
  18HU20150504, AR07W,   200,  1, 408540,     18,2,20150518,0232, 52.8772, -51.2663,-999,     60.9,   3.1550,  34.6662,2,     -999,9,    314.5,2,     -999,9,     7.85,6,    12.64,6,     0.16,6,     0.93,6,     0.88,6,     -999,9,     -999,9,     -999,9,     -999,9,     -999,9,     9.00
  18HU20150504, AR07W,   200,  1, 408541,     19,2,20150518,0232, 52.8772, -51.2663,-999,     51.1,   3.1992,  34.6600,2,     -999,9,    318.2,2,    327.0,2,     7.77,6,    12.27,6,     0.16,6,     0.91,6,     0.92,6,    2.662,2,    2.727,2,   2148.1,2,   2278.9,2,   7.8270,2,    25.00
  18HU20150504, AR07W,   200,  1, 408542,     20,2,20150518,0232, 52.8772, -51.2663,-999,     41.6,   3.2192,  34.6542,2,     -999,9,    320.2,2,     -999,9,     7.72,6,    12.09,6,     0.16,6,     0.92,6,     0.78,6,     -999,9,     -999,9,     -999,9,     -999,9,     -999,9,     9.00
  18HU20150504, AR07W,   200,  1, 408543,     21,2,20150518,0232, 52.8772, -51.2663,-999,     30.5,   3.3050,  34.6277,2,     -999,9,    325.2,2,     -999,9,     7.68,6,    11.66,6,     0.17,6,     0.88,6,     0.82,6,     -999,9,     -999,9,     -999,9,     -999,9,     -999,9,     9.00
  18HU20150504, AR07W,   200,  1, 408544,     22,2,20150518,0232, 52.8772, -51.2663,-999,     21.0,   3.4087,  34.6135,2,     -999,9,    324.1,2,     -999,9,     7.69,6,    11.62,6,     0.18,6,     0.89,6,     0.83,6,    2.655,2,    2.719,2,   2138.2,2,   2284.4,2,   7.8390,2,    25.00
  18HU20150504, AR07W,   200,  1, 408545,     23,2,20150518,0232, 52.8772, -51.2663,-999,     10.0,   3.4315,  34.6133,2,     -999,9,    324.1,2,    333.6,2,     7.68,6,    11.48,6,     0.16,6,     0.89,6,     0.88,6,     -999,9,     -999,9,     -999,9,     -999,9,     -999,9,     9.00
  18HU20150504, AR07W,   200,  1, 408546,     24,2,20150518,0232, 52.8772, -51.2663,-999,      2.8,   3.4303,  34.6131,2,     -999,9,    324.7,2,     -999,9,     7.58,6,    11.84,6,     0.16,6,     0.86,6,     0.80,6,    2.684,2,    2.749,2,   2140.2,2,   2282.8,2,   7.8360,2,    25.00
  18HU20150504, AR07W,   203,  1, 408547,      1,2,20150518,0606, 52.7708, -51.8045,-999,    400.7,   3.2978,  34.7933,2,     -999,9,    282.8,2,    260.8,2,     8.77,6,    14.06,6,     0.05,6,     1.13,6,     0.71,6,    2.394,2,    2.454,2,   2162.9,2,   2301.1,2,   7.7910,2,    25.00
  18HU20150504, AR07W,   203,  1, 408548,      2,2,20150518,0606, 52.7708, -51.8045,-999,    302.8,   3.2527,  34.7793,2,     -999,9,    283.5,2,    295.7,2,     8.48,6,    13.78,6,     0.05,6,     1.15,6,     0.63,6,     -999,9,     -999,9,     -999,9,     -999,9,     -999,9,     9.00
  18HU20150504, AR07W,   203,  1, 408549,      3,2,20150518,0606, 52.7708, -51.8045,-999,    202.1,   2.5734,  34.6117,2,     -999,9,    289.6,2,    300.3,6,     8.63,6,    13.69,6,     0.06,6,     1.10,6,     0.76,6,    2.526,2,    2.587,2,   2153.6,2,   2288.2,2,   7.7910,2,    25.00
  18HU20150504, AR07W,   203,  1, 408550,      4,2,20150518,0606, 52.7708, -51.8045,-999,    151.9,   2.0299,  34.4575,2,     -999,9,    294.8,2,    306.4,2,     8.21,6,    13.26,6,     0.06,6,     1.33,3,     0.61,6,     -999,9,     -999,9,     -999,9,     -999,9,     -999,9,     9.00
  18HU20150504, AR07W,   203,  1, 408551,      5,2,20150518,0606, 52.7708, -51.8045,-999,    100.8,   1.2154,  34.2347,2,     -999,9,    302.0,2,    311.6,2,     8.08,6,    13.00,6,     0.09,6,     1.05,6,     0.59,6,    2.632,2,    2.695,2,   2136.3,2,   2270.2,2,   7.7900,2,    25.00
  18HU20150504, AR07W,   203,  1, 408552,      6,2,20150518,0606, 52.7708, -51.8045,-999,     81.2,   0.8076,  34.1074,2,     -999,9,    304.0,2,     -999,9,     8.08,6,    12.34,6,     0.11,6,     1.02,6,     1.00,6,     -999,9,     -999,9,     -999,9,     -999,9,     -999,9,     9.00
  18HU20150504, AR07W,   203,  1, 408553,      7,2,20150518,0606, 52.7708, -51.8045,-999,     61.2,   0.1647,  33.8953,2,     -999,9,    305.8,2,     -999,9,     8.12,6,    11.39,6,     0.09,6,     0.98,6,     0.73,6,     -999,9,     -999,9,     -999,9,     -999,9,     -999,9,     9.00
  18HU20150504, AR07W,   203,  1, 408554,      8,2,20150518,0606, 52.7708, -51.8045,-999,     50.5,  -0.2220,  33.7484,2,     -999,9,    307.4,2,    318.4,2,     8.03,6,    11.11,6,     0.11,6,     0.90,6,     0.58,6,    2.809,2,    2.876,2,   2126.3,2,   2251.3,2,   7.7750,2,    25.00
  18HU20150504, AR07W,   203,  1, 408555,      9,2,20150518,0606, 52.7708, -51.8045,-999,     40.4,  -0.6184,  33.5563,2,     -999,9,    316.3,2,     -999,9,     8.20,6,    10.03,6,     0.11,6,     0.88,6,     0.49,6,     -999,9,     -999,9,     -999,9,     -999,9,     -999,9,     9.00
  18HU20150504, AR07W,   203,  1, 408556,     10,2,20150518,0606, 52.7708, -51.8045,-999,     30.9,  -0.3487,  33.3051,2,     -999,9,    328.6,2,    337.7,2,     8.41,6,     8.90,6,     0.11,6,     0.86,6,     0.57,6,     -999,9,     -999,9,     -999,9,     -999,9,     -999,9,     9.00
  18HU20150504, AR07W,   203,  1, 408557,     11,2,20150518,0606, 52.7708, -51.8045,-999,     20.9,   0.4473,  33.0872,2,     -999,9,    336.3,2,     -999,9,     8.47,6,     8.83,6,     0.11,6,     0.85,6,     0.56,6,    3.113,2,    3.185,2,   2105.1,2,   2226.0,2,   7.7740,2,    25.00
  18HU20150504, AR07W,   203,  1, 408558,     12,2,20150518,0606, 52.7708, -51.8045,-999,     10.5,   1.0294,  32.9942,2,     -999,9,    350.0,2,    359.7,2,     8.53,6,     6.65,6,     0.11,6,     0.76,6,     0.58,6,     -999,9,     -999,9,     -999,9,     -999,9,     -999,9,     9.00
  18HU20150504, AR07W,   203,  1, 408559,     13,2,20150518,0606, 52.7708, -51.8045,-999,      2.7,   1.0372,  32.9940,2,     -999,9,    349.8,2,    360.9,2,     8.58,6,     6.48,6,     0.11,6,     0.75,6,     0.59,6,    3.184,2,    3.258,2,   2106.6,2,   2193.0,2,   7.7930,2,    25.00