BOTTLE,20230713CCHSIOVAJ
EXPOCODE,SECT_ID,STNNBR,CASTNO,SAMPNO,BTLNBR,BTLNBR_FLAG_W,DATE,TIME,LATITUDE,LONGITUDE,DEPTH,CTDPRS,CTDTMP,CTDSAL,CTDSAL_FLAG_W,SALNTY,SALNTY_FLAG_W,CTDOXY,CTDOXY_FLAG_W,OXYGEN,OXYGEN_FLAG_W,SILCAT,SILCAT_FLAG_W,NITRAT,NITRAT_FLAG_W,NITRIT,NITRIT_FLAG_W,PHSPHT,PHSPHT_FLAG_W,NH4,NH4_FLAG_W,CFC-12,CFC-12_FLAG_W,SF6,SF6_FLAG_W,TCARBN,TCARBN_FLAG_W,ALKALI,ALKALI_FLAG_W,PH_TOT,PH_TOT_FLAG_W,PH_TMP
,,,,,,,,,,,METERS,DBAR,ITS-90,PSS-78,,PSS-78,,UMOL/KG,,UMOL/KG,,UMOL/KG,,UMOL/KG,,UMOL/KG,,UMOL/KG,,UMOL/KG,,PMOL/KG,,FMOL/KG,,UMOL/KG,,UMOL/KG,,,,DEG C
  18HU20150504, AR07W,   122,  1, 408093,      1,2,20150512,0727, 60.2897, -48.5415,-999,   2772.9,   2.0239,  34.9003,2,  34.9086,2,    276.8,2,    291.5,2,    11.11,6,    14.35,6,     -999,9,     0.95,6,     0.49,6,    1.983,2,    1.655,2,   2164.7,2,   2304.7,2,   7.7210,2,    25.00
  18HU20150504, AR07W,   122,  1, 408094,      2,2,20150512,0727, 60.2897, -48.5415,-999,   2680.7,   2.1884,  34.9032,2,  34.9072,2,    274.1,2,    287.8,2,    12.90,6,    14.68,6,     -999,9,     0.97,6,     0.62,6,    1.837,2,    1.359,2,   2164.6,2,   2303.6,2,   7.7190,2,    25.00
  18HU20150504, AR07W,   122,  1, 408095,      3,2,20150512,0727, 60.2897, -48.5415,-999,   2550.0,   2.4623,  34.9105,2,  34.9143,2,    269.6,2,    282.9,2,    13.52,6,    15.04,6,     -999,9,     1.01,6,     0.49,6,    1.699,2,    1.330,2,   2164.7,2,   2304.2,2,   7.7290,2,    25.00
  18HU20150504, AR07W,   122,  1, 408096,      4,2,20150512,0727, 60.2897, -48.5415,-999,   2390.9,   2.8943,  34.9170,2,  34.9286,2,    266.7,2,    280.5,2,    12.85,6,    15.38,6,     0.02,2,     1.02,6,     0.62,6,    1.700,2,    1.396,2,   2163.9,2,   2308.9,2,   7.7260,2,    25.00
  18HU20150504, AR07W,   122,  1, 408097,      5,2,20150512,0727, 60.2897, -48.5415,-999,   2269.2,   3.1630,  34.9203,2,  34.9256,2,    265.1,2,    278.1,2,    12.51,6,    15.56,6,     0.02,6,     1.03,6,     0.69,6,    1.701,2,    1.316,2,   2163.5,2,   2305.4,2,   7.7280,2,    25.00
  18HU20150504, AR07W,   122,  1, 408098,      6,2,20150512,0727, 60.2897, -48.5415,-999,   2129.0,   3.2238,  34.9213,2,  34.9362,6,    265.2,2,    277.6,2,    12.30,6,    15.54,6,     -999,9,     1.03,6,     0.47,6,    1.732,2,    1.316,2,   2164.3,2,   2305.8,2,   7.7460,2,    25.00
  18HU20150504, AR07W,   122,  1, 408099,      7,2,20150512,0727, 60.2897, -48.5415,-999,   1971.4,   3.3143,  34.9226,2,  34.9294,2,    265.3,2,    276.7,2,    12.15,6,    15.68,6,     0.03,6,     1.03,6,     0.63,6,    1.757,2,    1.251,2,   2163.6,2,   2303.2,2,   7.7280,2,    25.00
  18HU20150504, AR07W,   122,  1, 408100,      8,2,20150512,0727, 60.2897, -48.5415,-999,   1791.2,   3.3544,  34.9231,2,  34.9267,2,    265.3,2,    276.9,6,    11.52,6,    15.64,6,     0.02,2,     1.05,6,     1.03,6,    1.762,2,    1.410,2,   2166.7,2,   2299.1,2,   7.7260,2,    25.00
  18HU20150504, AR07W,   122,  1, 408101,      9,2,20150512,0727, 60.2897, -48.5415,-999,   1610.0,   3.4445,  34.9235,2,  34.9284,2,    264.7,2,    276.3,2,    10.35,6,    15.68,6,     0.02,6,     1.04,6,     0.56,6,    1.788,2,    1.294,2,   2165.0,2,   2299.3,2,   7.7200,2,    25.00
  18HU20150504, AR07W,   122,  1, 408102,     10,2,20150512,0727, 60.2897, -48.5415,-999,   1412.3,   3.4811,  34.9238,2,  34.9279,2,    264.5,2,    276.6,2,    10.89,6,    15.73,6,     0.03,6,     1.05,6,     3.78,6,    1.814,2,    1.363,2,   2166.5,2,   2300.4,2,   7.7350,2,    25.00
  18HU20150504, AR07W,   122,  1, 408103,     11,2,20150512,0727, 60.2897, -48.5415,-999,   1210.5,   3.5606,  34.9239,2,  34.9285,2,    266.3,2,    276.8,2,    10.69,6,    15.82,6,     0.03,6,     1.04,6,     0.59,6,    1.877,2,    1.591,2,   2165.3,2,   2302.4,2,   7.7270,2,    25.00
  18HU20150504, AR07W,   122,  1, 408104,     12,2,20150512,0727, 60.2897, -48.5415,-999,   1012.1,   3.7530,  34.9169,2,  34.9255,2,    270.9,2,    281.0,2,     9.88,6,    15.76,6,     0.03,6,     1.04,6,     0.73,6,    2.043,2,    1.877,2,   2164.5,2,   2296.5,2,   7.6560,4,    25.00
  18HU20150504, AR07W,   122,  1, 408105,     13,2,20150512,0727, 60.2897, -48.5415,-999,    830.2,   3.8146,  34.9115,2,  34.9196,2,    278.1,2,    288.5,2,     9.39,6,    15.62,6,     0.04,6,     1.04,6,     0.67,6,    2.092,2,    2.159,2,   2164.8,2,   2301.6,2,   7.7290,2,    25.00
  18HU20150504, AR07W,   122,  1, 408106,     14,2,20150512,0727, 60.2897, -48.5415,-999,    659.1,   3.9498,  34.9176,2,     -999,9,    281.7,2,    292.9,2,     8.99,6,    15.48,6,     0.04,6,     1.02,6,     0.60,6,    2.243,2,    2.384,2,   2163.6,2,   2300.8,2,   7.7250,2,    25.00
  18HU20150504, AR07W,   122,  1, 408107,     15,2,20150512,0727, 60.2897, -48.5415,-999,    510.7,   4.0802,  34.9244,2,     -999,9,    284.4,2,     -999,9,     8.79,6,    15.24,6,     0.09,6,     1.01,6,     0.64,6,    2.272,2,    2.505,2,   2163.7,2,   2300.3,2,   7.7310,2,    25.00
  18HU20150504, AR07W,   122,  1, 408108,     16,2,20150512,0727, 60.2897, -48.5415,-999,    388.3,   4.4202,  34.9439,2,     -999,9,    283.3,2,     -999,9,     8.23,6,    15.02,6,     0.07,6,     0.99,6,     1.00,6,    2.260,2,    2.497,2,     -999,9,     -999,9,     -999,9,     9.00
  18HU20150504, AR07W,   122,  1, 408109,     17,2,20150512,0727, 60.2897, -48.5415,-999,    389.5,   4.4150,  34.9441,2,     -999,9,    283.1,2,    292.8,2,     8.07,6,    14.92,6,     0.07,6,     0.98,6,     0.55,6,     -999,9,     -999,9,   2161.2,2,   2296.8,2,   7.7350,2,    25.00
  18HU20150504, AR07W,   122,  1, 408110,     18,2,20150512,0727, 60.2897, -48.5415,-999,    250.0,   4.3496,  34.9110,2,     -999,9,    286.6,2,    295.7,2,     7.90,6,    14.47,6,     0.11,6,     0.95,6,     0.57,6,    2.275,2,    2.618,2,   2157.4,2,   2301.4,2,   7.7570,2,    25.00
  18HU20150504, AR07W,   122,  1, 408111,     19,2,20150512,0727, 60.2897, -48.5415,-999,    151.3,   3.8900,  34.7771,2,     -999,9,    306.2,2,    315.0,2,     7.57,6,    11.85,6,     0.16,6,     0.83,6,     1.05,6,     -999,9,     -999,9,   2141.0,2,   2296.0,2,   7.7790,2,    25.00
  18HU20150504, AR07W,   122,  1, 408112,     20,2,20150512,0727, 60.2897, -48.5415,-999,     99.9,   3.7257,  34.6841,2,     -999,9,    323.5,2,    332.7,2,     7.36,6,     8.89,6,     0.14,6,     0.68,6,     1.13,6,    2.510,2,    2.643,2,   2122.9,2,   2282.6,2,   7.8230,2,    25.00
  18HU20150504, AR07W,   122,  1, 408113,     21,2,20150512,0727, 60.2897, -48.5415,-999,     49.5,   3.5860,  34.6125,2,     -999,9,    335.2,2,    344.9,2,     7.48,6,     6.94,6,     0.14,6,     0.57,6,     0.99,6,    2.552,2,    2.781,2,   2117.5,2,   2268.0,2,   7.8540,2,    25.00
  18HU20150504, AR07W,   122,  1, 408114,     22,2,20150512,0727, 60.2897, -48.5415,-999,     29.4,   3.0035,  34.4396,2,     -999,9,    335.8,2,    346.3,2,     6.73,6,     6.85,6,     0.12,6,     0.56,6,     0.81,6,    2.623,2,    2.961,2,     -999,9,     -999,9,     -999,9,     9.00
  18HU20150504, AR07W,   122,  1, 408115,     23,2,20150512,0727, 60.2897, -48.5415,-999,     19.5,   2.5737,  34.3048,2,     -999,9,    335.9,2,    346.3,2,     6.45,6,     6.93,6,     0.12,6,     0.57,6,     0.86,6,    2.642,2,    3.126,2,   2097.8,2,   2260.8,2,   7.8440,2,    25.00
  18HU20150504, AR07W,   122,  1, 408116,     24,2,20150512,0727, 60.2897, -48.5415,-999,      2.5,   2.0381,  34.1437,2,     -999,9,    338.3,2,    346.5,2,     6.31,6,     6.96,6,     0.11,6,     0.58,6,     0.71,6,    2.708,2,    3.080,2,   2096.7,2,   2267.4,2,   7.8270,2,    25.00
  18HU20150504, AR07W,   125,  1, 408117,      1,2,20150512,1139, 60.1802, -48.6703,-999,   2887.7,   1.8569,  34.8995,2,     -999,9,    278.5,2,    294.1,2,     9.21,6,    13.76,6,     0.03,6,     0.93,6,     0.64,6,    2.082,2,    1.760,2,   2165.1,2,   2304.1,2,   7.7200,2,    25.00
  18HU20150504, AR07W,   125,  1, 408118,      2,2,20150512,1139, 60.1802, -48.6703,-999,   2840.9,   1.8997,  34.8995,2,  34.9065,2,    278.2,2,    293.3,2,     9.49,6,    13.93,6,     0.02,6,     0.93,6,     0.58,6,    2.032,2,    1.889,2,   2164.6,2,   2304.2,2,   7.7150,2,    25.00
  18HU20150504, AR07W,   125,  1, 408119,      3,2,20150512,1139, 60.1802, -48.6703,-999,   2759.4,   2.0301,  34.9004,2,  34.9046,2,    276.6,2,    291.6,2,     9.96,6,    14.05,6,     0.03,6,     0.95,6,     0.65,6,    1.992,2,    1.600,2,   2167.1,2,   2304.0,2,   7.7200,2,    25.00
  18HU20150504, AR07W,   125,  1, 408120,      4,2,20150512,1139, 60.1802, -48.6703,-999,   2659.7,   2.1091,  34.9019,2,  34.9084,6,    275.2,2,    290.8,2,    10.47,6,    14.32,6,     0.03,6,     0.97,6,     0.51,6,    1.919,2,    1.575,2,   2163.4,2,   2306.3,2,   7.7230,2,    25.00
  18HU20150504, AR07W,   125,  1, 408121,      5,2,20150512,1139, 60.1802, -48.6703,-999,   2542.6,   2.2381,  34.9047,2,  34.9069,2,    271.8,2,    286.0,2,    11.77,6,    14.70,6,     0.02,6,     0.98,6,     0.61,6,    1.779,2,    1.356,2,   2165.6,2,   2301.5,2,   7.7180,2,    25.00
  18HU20150504, AR07W,   125,  1, 408122,      6,2,20150512,1139, 60.1802, -48.6703,-999,   2401.8,   2.5066,  34.9123,2,  34.9159,2,    267.7,2,    282.3,2,    12.22,6,    15.01,6,     0.03,6,     1.00,6,     0.97,6,    1.652,2,    1.169,2,   2164.3,2,   2307.2,2,   7.7290,2,    25.00
  18HU20150504, AR07W,   125,  1, 408123,      7,2,20150512,1139, 60.1802, -48.6703,-999,   2240.1,   2.7465,  34.9216,2,  34.9246,2,    265.4,2,    278.2,2,    12.58,6,    15.70,6,     0.03,6,     1.06,6,     0.47,6,    1.539,2,    1.039,2,   2163.8,2,   2308.8,2,   7.7290,2,    25.00
  18HU20150504, AR07W,   125,  1, 408124,      8,2,20150512,1139, 60.1802, -48.6703,-999,   2061.0,   2.9191,  34.9212,2,  34.9257,2,    265.8,2,    278.6,2,    11.63,6,    15.42,6,     0.03,6,     1.03,6,     0.54,6,    1.598,2,    1.222,2,   2164.1,2,   2306.0,2,   7.7290,2,    25.00
  18HU20150504, AR07W,   125,  1, 408125,      9,2,20150512,1139, 60.1802, -48.6703,-999,   1861.6,   3.1246,  34.9217,2,  34.9262,2,    265.5,2,    277.8,2,    10.83,6,    15.36,6,     0.03,6,     1.03,6,     0.65,6,    1.678,2,    1.161,2,   2162.0,2,   2304.5,2,   7.7260,2,    25.00
  18HU20150504, AR07W,   125,  1, 408126,     10,2,20150512,1139, 60.1802, -48.6703,-999,   1660.0,   3.3249,  34.9203,2,  34.9247,2,    262.9,2,    274.8,2,    10.83,6,    15.87,6,     0.03,6,     1.06,6,     0.59,6,    1.660,2,    1.134,2,   2162.0,2,   2306.0,2,   7.7280,2,    25.00
  18HU20150504, AR07W,   125,  1, 408127,     11,2,20150512,1139, 60.1802, -48.6703,-999,   1458.9,   3.5114,  34.9242,2,  34.9286,2,    262.7,2,    273.9,2,    10.32,6,    15.83,6,     0.02,6,     1.06,6,     0.53,6,    1.736,2,    1.146,2,   2162.8,2,   2307.0,2,   7.7250,2,    25.00
  18HU20150504, AR07W,   125,  1, 408128,     12,2,20150512,1139, 60.1802, -48.6703,-999,   1262.2,   3.6636,  34.9250,2,  34.9314,2,    262.3,2,    273.6,2,    10.04,6,    15.86,6,     0.02,6,     1.07,6,     0.47,6,    1.849,2,    1.161,2,   2165.2,2,   2303.9,2,   7.7200,2,    25.00
  18HU20150504, AR07W,   125,  1, 408129,     13,2,20150512,1139, 60.1802, -48.6703,-999,   1063.5,   3.6194,  34.8928,2,  34.9027,6,    273.8,2,    284.7,2,     9.05,6,    15.58,6,     0.03,6,     1.06,6,     0.72,6,    2.140,2,    2.125,2,   2163.7,2,   2305.5,2,   7.7200,2,    25.00
  18HU20150504, AR07W,   125,  1, 408130,     14,2,20150512,1139, 60.1802, -48.6703,-999,    880.7,   3.7231,  34.8963,2,  34.9005,2,    278.2,2,    290.5,2,     8.54,6,    15.37,6,     0.02,6,     1.03,6,     0.65,6,    2.264,2,    2.328,2,   2161.6,2,   2305.3,2,   7.7250,2,    25.00
  18HU20150504, AR07W,   125,  1, 408131,     15,2,20150512,1139, 60.1802, -48.6703,-999,    710.5,   3.7897,  34.8997,2,  34.9042,2,    283.1,2,    294.7,6,     8.35,6,    15.33,6,     0.03,6,     1.02,6,     0.68,6,    2.311,2,    2.335,2,   2161.8,2,   2304.3,2,   7.7280,2,    25.00
  18HU20150504, AR07W,   125,  1, 408132,     16,2,20150512,1139, 60.1802, -48.6703,-999,    560.1,   3.8960,  34.9083,2,  34.9128,2,    281.4,2,    290.7,2,     8.34,6,    15.35,6,     0.02,6,     1.02,6,     0.93,6,    2.282,2,    2.246,2,   2162.6,2,   2308.7,2,   7.7280,2,    25.00
  18HU20150504, AR07W,   125,  1, 408133,     17,2,20150512,1139, 60.1802, -48.6703,-999,    433.5,   4.0529,  34.9195,2,  34.9249,2,    281.5,2,    290.8,2,     8.13,6,    15.14,6,     0.02,6,     1.00,6,     0.63,6,    2.257,2,    2.262,2,   2160.3,2,   2305.4,2,   7.7320,2,    25.00
  18HU20150504, AR07W,   125,  1, 408134,     18,2,20150512,1139, 60.1802, -48.6703,-999,    308.8,   4.2047,  34.9256,2,  34.9297,2,    284.8,2,    294.5,2,     8.18,6,    14.92,6,     0.05,6,     0.98,6,     0.53,6,    2.297,2,    2.716,2,   2160.3,2,   2303.5,2,   7.7360,2,    25.00
  18HU20150504, AR07W,   125,  1, 408135,     19,2,20150512,1139, 60.1802, -48.6703,-999,    197.3,   4.2168,  34.9082,2,  34.9102,2,    287.5,2,    295.7,2,     7.65,6,    14.61,6,     0.11,6,     0.96,6,     0.54,6,    2.309,2,    2.665,2,   2157.0,2,   2303.3,2,   7.7430,2,    25.00
  18HU20150504, AR07W,   125,  1, 408136,     20,2,20150512,1139, 60.1802, -48.6703,-999,    100.3,   3.5122,  34.7156,2,  34.7393,2,    308.6,2,    312.3,2,     7.27,6,    12.07,6,     0.17,6,     0.86,6,     1.27,6,    2.482,2,    2.912,2,   2144.9,2,   2298.9,2,   7.7610,2,    25.00
  18HU20150504, AR07W,   125,  1, 408137,     21,2,20150512,1139, 60.1802, -48.6703,-999,     48.8,   3.2059,  34.5428,2,     -999,9,    328.1,2,    337.6,2,     6.85,6,     7.83,6,     0.14,6,     0.62,6,     1.68,6,    2.585,2,    3.357,2,   2110.3,2,   2288.4,2,   7.8230,2,    25.00
  18HU20150504, AR07W,   125,  1, 408138,     22,2,20150512,1139, 60.1802, -48.6703,-999,     28.1,   2.7052,  34.2853,2,  34.3044,2,    347.0,2,    360.6,2,     6.46,6,     4.50,6,     0.13,6,     0.43,6,     0.94,6,    2.661,2,    3.211,2,     -999,9,     -999,9,     -999,9,     9.00
  18HU20150504, AR07W,   125,  1, 408139,     23,2,20150512,1139, 60.1802, -48.6703,-999,     19.4,   2.6357,  34.2415,2,  34.2494,2,    356.3,2,    339.7,2,     6.36,6,     3.45,6,     0.13,6,     0.37,6,     0.95,6,    2.660,2,    3.089,2,   2070.2,2,   2275.9,2,   7.8960,2,    25.00
  18HU20150504, AR07W,   125,  1, 408140,     24,2,20150512,1139, 60.1802, -48.6703,-999,      1.9,   2.6526,  34.2397,2,     -999,9,    356.5,2,    367.7,2,     6.38,6,     3.02,6,     0.12,6,     0.35,6,     0.63,6,    2.685,2,    3.228,2,   2064.4,2,   2279.1,2,   7.9000,2,    25.00
  18HU20150504, AR07W,   127,  1, 408146,      1,2,20150512,1633, 60.0797, -48.7880,-999,    201.7,   4.1657,  34.8860,2,     -999,9,    277.9,2,    295.2,6,     7.50,6,    14.93,6,     0.10,6,     0.96,6,     0.74,6,     -999,9,     -999,9,     -999,9,     -999,9,   7.7450,2,    25.00
  18HU20150504, AR07W,   127,  1, 408147,      2,2,20150512,1633, 60.0797, -48.7880,-999,    149.8,   3.9061,  34.8138,2,     -999,9,    292.0,2,     -999,9,     7.31,6,    14.09,6,     0.16,6,     0.92,6,     0.59,6,     -999,9,     -999,9,     -999,9,     -999,9,   7.7440,2,    25.00
  18HU20150504, AR07W,   127,  1, 408148,      3,2,20150512,1633, 60.0797, -48.7880,-999,    100.7,   3.0390,  34.6286,2,     -999,9,    312.9,2,     -999,9,     6.77,6,    11.10,6,     0.15,6,     0.78,6,     1.13,6,     -999,9,     -999,9,     -999,9,     -999,9,   7.7660,2,    25.00
  18HU20150504, AR07W,   127,  1, 408149,      4,2,20150512,1633, 60.0797, -48.7880,-999,     80.7,   2.5165,  34.4227,2,     -999,9,    336.2,2,     -999,9,     6.39,6,     7.75,6,     0.13,6,     0.62,6,     1.28,6,     -999,9,     -999,9,     -999,9,     -999,9,   7.8060,2,    25.00
  18HU20150504, AR07W,   127,  1, 408150,      5,2,20150512,1633, 60.0797, -48.7880,-999,     59.4,   2.4859,  34.3911,2,     -999,9,    341.4,2,     -999,9,     6.18,6,     5.77,6,     0.11,6,     0.50,6,     0.94,6,     -999,9,     -999,9,     -999,9,     -999,9,   7.8420,2,    25.00
  18HU20150504, AR07W,   127,  1, 408151,      6,2,20150512,1633, 60.0797, -48.7880,-999,     50.4,   2.5403,  34.3553,2,     -999,9,    353.3,2,     -999,9,     5.81,6,     3.66,6,     0.11,6,     0.40,6,     0.92,6,     -999,9,     -999,9,     -999,9,     -999,9,   7.8800,2,    25.00
  18HU20150504, AR07W,   127,  1, 408152,      7,2,20150512,1633, 60.0797, -48.7880,-999,     41.2,   2.5151,  34.3115,2,     -999,9,    360.4,2,     -999,9,     5.79,6,     2.98,6,     0.11,6,     0.37,6,     0.85,6,     -999,9,     -999,9,     -999,9,     -999,9,   7.8880,2,    25.00
  18HU20150504, AR07W,   127,  1, 408153,      8,2,20150512,1633, 60.0797, -48.7880,-999,     30.6,   2.5001,  34.3059,2,     -999,9,    360.2,2,    367.1,6,     5.89,6,     2.92,6,     0.12,6,     0.36,6,     1.02,6,     -999,9,     -999,9,     -999,9,     -999,9,   7.8950,2,    25.00
  18HU20150504, AR07W,   127,  1, 408154,      9,2,20150512,1633, 60.0797, -48.7880,-999,     30.3,   2.4983,  34.3051,2,     -999,9,    360.2,2,     -999,9,     -999,9,     -999,9,     -999,9,     -999,9,     -999,9,     -999,9,     -999,9,     -999,9,     -999,9,     -999,9,     9.00
  18HU20150504, AR07W,   127,  1, 408155,     10,2,20150512,1633, 60.0797, -48.7880,-999,     20.9,   2.4883,  34.3020,2,     -999,9,    360.4,2,     -999,9,     5.94,6,     3.09,6,     0.12,6,     0.37,6,     0.76,6,     -999,9,     -999,9,     -999,9,     -999,9,   7.8960,2,    25.00
  18HU20150504, AR07W,   127,  1, 408156,     11,2,20150512,1633, 60.0797, -48.7880,-999,     12.2,   2.4749,  34.2898,2,     -999,9,    361.7,2,     -999,9,     6.05,6,     3.12,6,     0.12,6,     0.37,6,     0.85,6,     -999,9,     -999,9,     -999,9,     -999,9,   7.9020,2,    25.00
  18HU20150504, AR07W,   127,  1, 408157,     12,2,20150512,1633, 60.0797, -48.7880,-999,      2.5,   2.5580,  34.2384,2,     -999,9,    364.8,2,    371.3,6,     6.22,6,     3.00,6,     0.13,6,     0.37,6,     0.98,6,     -999,9,     -999,9,     -999,9,     -999,9,   7.9020,2,    25.00
  18HU20150504, AR07W,   127,  1, 408158,     13,2,20150512,1633, 60.0797, -48.7880,-999,      2.4,   2.5640,  34.2373,2,     -999,9,    363.9,2,     -999,9,     -999,9,     -999,9,     -999,9,     -999,9,     -999,9,     -999,9,     -999,9,     -999,9,     -999,9,     -999,9,     9.00