BOTTLE,20230713CCHSIOVAJ
EXPOCODE,SECT_ID,STNNBR,CASTNO,SAMPNO,BTLNBR,BTLNBR_FLAG_W,DATE,TIME,LATITUDE,LONGITUDE,DEPTH,CTDPRS,CTDTMP,CTDSAL,CTDSAL_FLAG_W,SALNTY,SALNTY_FLAG_W,CTDOXY,CTDOXY_FLAG_W,OXYGEN,OXYGEN_FLAG_W,SILCAT,SILCAT_FLAG_W,NITRAT,NITRAT_FLAG_W,NITRIT,NITRIT_FLAG_W,PHSPHT,PHSPHT_FLAG_W,NH4,NH4_FLAG_W,CFC-12,CFC-12_FLAG_W,SF6,SF6_FLAG_W,TCARBN,TCARBN_FLAG_W,ALKALI,ALKALI_FLAG_W,PH_TOT,PH_TOT_FLAG_W,PH_TMP
,,,,,,,,,,,METERS,DBAR,ITS-90,PSS-78,,PSS-78,,UMOL/KG,,UMOL/KG,,UMOL/KG,,UMOL/KG,,UMOL/KG,,UMOL/KG,,UMOL/KG,,PMOL/KG,,FMOL/KG,,UMOL/KG,,UMOL/KG,,,,DEG C
  18HU20150504, AR07W,    76,  1, 407948,      1,2,20150510,1612, 58.8497, -50.1850,-999,    202.8,   3.2542,  34.8261,2,     -999,9,    291.6,2,    299.2,6,     7.99,6,    14.55,6,     0.07,6,     1.01,6,     0.93,6,     -999,9,     -999,9,     -999,9,     -999,9,   7.7230,2,    25.00
  18HU20150504, AR07W,    76,  1, 407949,      2,2,20150510,1612, 58.8497, -50.1850,-999,    151.2,   3.1313,  34.8021,2,     -999,9,    297.0,2,     -999,9,     7.70,6,    14.12,6,     0.11,6,     1.01,6,     0.59,6,     -999,9,     -999,9,     -999,9,     -999,9,   7.7180,2,    25.00
  18HU20150504, AR07W,    76,  1, 407950,      3,2,20150510,1612, 58.8497, -50.1850,-999,     99.7,   3.1972,  34.7440,2,     -999,9,    324.4,2,     -999,9,     7.13,6,     9.58,6,     0.12,6,     0.78,6,     0.81,6,     -999,9,     -999,9,     -999,9,     -999,9,   7.8000,2,    25.00
  18HU20150504, AR07W,    76,  1, 407951,      4,2,20150510,1612, 58.8497, -50.1850,-999,     79.7,   3.2825,  34.7447,2,     -999,9,    332.2,2,     -999,9,     7.05,6,     8.69,6,     0.12,6,     0.73,6,     0.78,6,     -999,9,     -999,9,     -999,9,     -999,9,   7.8220,2,    25.00
  18HU20150504, AR07W,    76,  1, 407952,      5,2,20150510,1612, 58.8497, -50.1850,-999,     60.8,   3.3157,  34.7448,2,     -999,9,    335.1,2,     -999,9,     7.01,6,     8.40,6,     0.12,6,     0.71,6,     1.22,6,     -999,9,     -999,9,     -999,9,     -999,9,   7.8120,2,    25.00
  18HU20150504, AR07W,    76,  1, 407953,      6,2,20150510,1612, 58.8497, -50.1850,-999,     61.9,   3.3162,  34.7445,2,     -999,9,    335.4,2,     -999,9,     -999,9,     -999,9,     -999,9,     -999,9,     -999,9,     -999,9,     -999,9,     -999,9,     -999,9,     -999,9,     9.00
  18HU20150504, AR07W,    76,  1, 407954,      7,2,20150510,1612, 58.8497, -50.1850,-999,     49.4,   3.3186,  34.7448,2,     -999,9,    335.4,2,     -999,9,     7.01,6,     8.35,6,     0.12,6,     0.70,6,     0.86,6,     -999,9,     -999,9,     -999,9,     -999,9,   7.8140,2,    25.00
  18HU20150504, AR07W,    76,  1, 407955,      8,2,20150510,1612, 58.8497, -50.1850,-999,     40.5,   3.3167,  34.7445,2,     -999,9,    334.4,2,     -999,9,     6.99,6,     8.34,6,     0.13,6,     0.71,6,     0.81,6,     -999,9,     -999,9,     -999,9,     -999,9,   7.8250,2,    25.00
  18HU20150504, AR07W,    76,  1, 407956,      9,2,20150510,1612, 58.8497, -50.1850,-999,     39.6,   3.3171,  34.7446,2,     -999,9,    335.1,2,     -999,9,     -999,9,     -999,9,     -999,9,     -999,9,     -999,9,     -999,9,     -999,9,     -999,9,     -999,9,     -999,9,     9.00
  18HU20150504, AR07W,    76,  1, 407957,     10,2,20150510,1612, 58.8497, -50.1850,-999,     30.8,   3.3148,  34.7438,2,     -999,9,    336.5,2,    344.7,6,     6.97,6,     8.34,6,     0.12,6,     0.71,6,     0.78,6,     -999,9,     -999,9,     -999,9,     -999,9,   7.8250,2,    25.00
  18HU20150504, AR07W,    76,  1, 407958,     11,2,20150510,1612, 58.8497, -50.1850,-999,     30.9,   3.3155,  34.7442,2,     -999,9,    335.3,2,     -999,9,     -999,9,     -999,9,     -999,9,     -999,9,     -999,9,     -999,9,     -999,9,     -999,9,     -999,9,     -999,9,     9.00
  18HU20150504, AR07W,    76,  1, 407959,     12,2,20150510,1612, 58.8497, -50.1850,-999,     30.0,   3.3147,  34.7439,2,     -999,9,    335.3,2,     -999,9,     -999,9,     -999,9,     -999,9,     -999,9,     -999,9,     -999,9,     -999,9,     -999,9,     -999,9,     -999,9,     9.00
  18HU20150504, AR07W,    76,  1, 407960,     13,2,20150510,1612, 58.8497, -50.1850,-999,     29.8,   3.3146,  34.7442,2,     -999,9,    335.8,2,     -999,9,     -999,9,     -999,9,     -999,9,     -999,9,     -999,9,     -999,9,     -999,9,     -999,9,     -999,9,     -999,9,     9.00
  18HU20150504, AR07W,    76,  1, 407961,     14,2,20150510,1612, 58.8497, -50.1850,-999,     31.1,   3.3149,  34.7439,2,     -999,9,    335.2,2,     -999,9,     -999,9,     -999,9,     -999,9,     -999,9,     -999,9,     -999,9,     -999,9,     -999,9,     -999,9,     -999,9,     9.00
  18HU20150504, AR07W,    76,  1, 407962,     15,2,20150510,1612, 58.8497, -50.1850,-999,     21.3,   3.3105,  34.7430,2,     -999,9,    334.6,2,     -999,9,     7.01,6,     8.50,6,     0.13,6,     0.70,6,     0.86,6,     -999,9,     -999,9,     -999,9,     -999,9,   7.8210,2,    25.00
  18HU20150504, AR07W,    76,  1, 407963,     16,2,20150510,1612, 58.8497, -50.1850,-999,     20.3,   3.3111,  34.7437,2,     -999,9,    336.5,2,     -999,9,     -999,9,     -999,9,     -999,9,     -999,9,     -999,9,     -999,9,     -999,9,     -999,9,     -999,9,     -999,9,     9.00
  18HU20150504, AR07W,    76,  1, 407964,     17,2,20150510,1612, 58.8497, -50.1850,-999,      9.8,   3.3060,  34.7426,2,     -999,9,    335.0,2,     -999,9,     7.01,6,     8.53,6,     0.12,6,     0.72,6,     0.68,6,     -999,9,     -999,9,     -999,9,     -999,9,   7.8330,2,    25.00
  18HU20150504, AR07W,    76,  1, 407965,     18,2,20150510,1612, 58.8497, -50.1850,-999,     10.6,   3.3064,  34.7425,2,     -999,9,    335.8,2,     -999,9,     -999,9,     -999,9,     -999,9,     -999,9,     -999,9,     -999,9,     -999,9,     -999,9,     -999,9,     -999,9,     9.00
  18HU20150504, AR07W,    76,  1, 407966,     19,2,20150510,1612, 58.8497, -50.1850,-999,      1.8,   3.3045,  34.7423,2,     -999,9,    336.5,2,    344.0,6,     7.01,6,     8.48,6,     0.12,6,     0.71,6,     0.81,6,     -999,9,     -999,9,     -999,9,     -999,9,   7.8140,2,    25.00
  18HU20150504, AR07W,    76,  1, 407967,     20,2,20150510,1612, 58.8497, -50.1850,-999,      1.4,   3.3047,  34.7428,2,     -999,9,    335.0,2,     -999,9,     -999,9,     -999,9,     -999,9,     -999,9,     -999,9,     -999,9,     -999,9,     -999,9,     -999,9,     -999,9,     9.00
  18HU20150504, AR07W,    76,  1, 407968,     21,2,20150510,1612, 58.8497, -50.1850,-999,      1.9,   3.3044,  34.7427,2,     -999,9,    334.8,2,     -999,9,     -999,9,     -999,9,     -999,9,     -999,9,     -999,9,     -999,9,     -999,9,     -999,9,     -999,9,     -999,9,     9.00
  18HU20150504, AR07W,    76,  1, 407969,     22,2,20150510,1612, 58.8497, -50.1850,-999,      1.7,   3.3048,  34.7426,2,     -999,9,    335.4,2,     -999,9,     -999,9,     -999,9,     -999,9,     -999,9,     -999,9,     -999,9,     -999,9,     -999,9,     -999,9,     -999,9,     9.00
  18HU20150504, AR07W,    76,  1, 407970,     23,2,20150510,1612, 58.8497, -50.1850,-999,      1.9,   3.3046,  34.7425,2,     -999,9,    335.7,2,     -999,9,     -999,9,     -999,9,     -999,9,     -999,9,     -999,9,     -999,9,     -999,9,     -999,9,     -999,9,     -999,9,     9.00
  18HU20150504, AR07W,    76,  1, 407971,     24,2,20150510,1612, 58.8497, -50.1850,-999,      1.6,   3.3050,  34.7424,2,     -999,9,    334.2,2,     -999,9,     -999,9,     -999,9,     -999,9,     -999,9,     -999,9,     -999,9,     -999,9,     -999,9,     -999,9,     -999,9,     9.00
  18HU20150504, AR07W,    82,  1, 407972,      1,2,20150510,1956, 59.0702, -49.9495,-999,   3512.2,   1.6981,  34.8970,2,  34.8999,2,    279.8,2,    295.9,2,     9.79,6,    13.42,6,     0.04,6,     1.02,6,     0.74,6,    2.175,2,    1.854,2,   2166.5,2,   2304.4,2,   7.7170,2,    25.00
  18HU20150504, AR07W,    82,  1, 407973,      2,2,20150510,1956, 59.0702, -49.9495,-999,   3452.1,   1.7201,  34.8959,2,  34.8986,2,    280.5,2,    295.2,2,     9.98,6,    13.38,6,     0.05,6,     0.96,6,     0.69,6,    2.195,2,    1.584,2,   2167.1,2,   2303.6,2,   7.7200,2,    25.00
  18HU20150504, AR07W,    82,  1, 407974,      3,2,20150510,1956, 59.0702, -49.9495,-999,   3370.1,   1.9802,  34.8980,2,  34.9030,2,    277.1,2,    292.4,2,    10.35,6,    13.73,6,     0.04,6,     0.98,6,     0.55,6,    2.026,2,    1.600,2,   2165.5,2,   2304.3,2,   7.7190,2,    25.00
  18HU20150504, AR07W,    82,  1, 407975,      4,2,20150510,1956, 59.0702, -49.9495,-999,   3267.5,   2.1997,  34.9021,2,  34.9060,2,    272.5,2,    287.9,2,    10.93,6,    14.08,6,     0.03,6,     1.01,6,     0.60,6,    1.904,2,    1.432,2,   2164.7,2,   2301.1,2,   7.7200,2,    25.00
  18HU20150504, AR07W,    82,  1, 407976,      5,2,20150510,1956, 59.0702, -49.9495,-999,   3149.4,   2.3986,  34.9064,2,  34.9113,2,    270.0,2,    284.4,2,    11.94,6,    14.42,6,     0.03,6,     1.03,6,     0.50,6,    1.766,2,    1.459,2,   2164.6,2,   2307.7,2,   7.7280,2,    25.00
  18HU20150504, AR07W,    82,  1, 407977,      6,2,20150510,1956, 59.0702, -49.9495,-999,   3020.3,   2.5916,  34.9125,2,  34.9156,2,    269.3,2,    282.8,2,    11.65,6,    14.70,6,     0.03,6,     1.03,6,     0.60,6,    1.714,2,    1.240,2,   2166.7,2,   2310.9,2,   7.7220,2,    25.00
  18HU20150504, AR07W,    82,  1, 407978,      7,2,20150510,1956, 59.0702, -49.9495,-999,   2860.6,   2.7547,  34.9170,2,  34.9202,6,    266.2,2,    279.4,2,    11.88,6,    14.83,6,     0.02,6,     1.04,6,     0.72,6,    1.635,2,    1.079,2,   2163.9,2,   2307.8,2,   7.7250,2,    25.00
  18HU20150504, AR07W,    82,  1, 407979,      8,2,20150510,1956, 59.0702, -49.9495,-999,   2661.6,   2.9762,  34.9197,2,  34.9236,2,    265.4,2,    278.2,2,    11.25,6,    14.86,6,     0.03,6,     1.06,6,     0.78,6,    1.672,2,    1.203,2,   2163.5,2,   2305.6,2,   7.7270,2,    25.00
  18HU20150504, AR07W,    82,  1, 407980,      9,2,20150510,1956, 59.0702, -49.9495,-999,   2438.6,   3.1337,  34.9187,2,  34.9218,2,    264.7,2,    276.8,2,    10.97,6,    14.49,6,     0.03,6,     1.06,6,     0.70,6,    1.671,2,    1.106,2,   2162.2,2,   2312.7,2,   7.7210,2,    25.00
  18HU20150504, AR07W,    82,  1, 407981,     10,2,20150510,1956, 59.0702, -49.9495,-999,   2208.4,   3.3075,  34.9175,2,  34.9215,2,    263.1,2,    275.3,2,    10.94,6,    15.03,6,     0.03,6,     1.08,6,     0.77,6,    1.663,2,    1.016,2,   2162.6,2,   2306.4,2,   7.7260,2,    25.00
  18HU20150504, AR07W,    82,  1, 407982,     11,2,20150510,1956, 59.0702, -49.9495,-999,   1971.6,   3.5273,  34.9206,2,  34.9240,2,    261.6,2,    273.8,2,    10.48,6,    14.72,6,     0.02,6,     1.09,6,     0.54,6,    1.747,2,    1.166,2,   2163.6,2,   2306.5,2,   7.7330,2,    25.00
  18HU20150504, AR07W,    82,  1, 407983,     12,2,20150510,1956, 59.0702, -49.9495,-999,   1701.0,   3.4158,  34.8644,2,  34.8680,2,    280.5,2,    292.6,2,     8.53,6,    14.64,6,     0.02,6,     1.04,6,     0.57,6,    2.316,2,    2.057,2,   2164.3,2,   2298.1,2,   7.7180,2,    25.00
  18HU20150504, AR07W,    82,  1, 407984,     13,2,20150510,1956, 59.0702, -49.9495,-999,   1500.9,   3.3655,  34.8536,2,  34.8613,2,    284.1,2,    295.8,2,     8.33,6,    14.60,6,     0.02,6,     1.04,6,     0.74,6,    2.396,2,    2.270,2,   2161.3,2,   2301.1,2,   7.7190,2,    25.00
  18HU20150504, AR07W,    82,  1, 407985,     14,2,20150510,1956, 59.0702, -49.9495,-999,   1280.0,   3.3521,  34.8503,2,  34.8561,6,    283.4,2,    296.0,2,     8.35,6,    14.79,6,     0.03,6,     1.02,6,     0.67,6,    2.396,2,    2.378,2,   2163.0,2,   2297.0,2,   7.7170,2,    25.00
  18HU20150504, AR07W,    82,  1, 407986,     15,2,20150510,1956, 59.0702, -49.9495,-999,   1070.1,   3.3183,  34.8446,2,  34.8506,2,    287.6,2,    297.9,2,     8.21,6,    14.75,6,     0.02,6,     1.03,6,     0.81,6,    2.425,2,    2.406,2,   2162.0,2,   2298.0,2,   7.7180,2,    25.00
  18HU20150504, AR07W,    82,  1, 407987,     16,2,20150510,1956, 59.0702, -49.9495,-999,    872.2,   3.3483,  34.8473,2,  34.8550,2,    285.5,2,    296.1,2,     8.22,6,    14.69,6,     0.03,6,     1.03,6,     0.67,6,    2.416,2,    2.194,2,   2164.5,2,   2298.5,2,   7.7170,2,    25.00
  18HU20150504, AR07W,    82,  1, 407988,     17,2,20150510,1956, 59.0702, -49.9495,-999,    679.9,   3.3779,  34.8467,2,  34.8501,2,    285.5,2,    295.4,2,     8.14,6,    14.59,6,     0.03,6,     1.03,6,     0.77,6,    2.401,2,    2.328,2,   2159.3,2,   2302.0,2,   7.7190,2,    25.00
  18HU20150504, AR07W,    82,  1, 407989,     18,2,20150510,1956, 59.0702, -49.9495,-999,    509.8,   3.5900,  34.8663,2,  34.8720,2,    282.6,2,    291.9,6,     8.19,6,    14.57,6,     0.02,6,     1.03,6,     0.68,6,    2.349,2,    2.248,2,   2163.4,2,   2300.2,2,   7.7190,2,    25.00
  18HU20150504, AR07W,    82,  1, 407990,     19,2,20150510,1956, 59.0702, -49.9495,-999,    360.5,   3.7006,  34.8675,2,  34.8743,2,    283.3,2,    292.2,2,     7.92,6,    14.54,6,     0.04,6,     1.04,6,     0.72,6,    2.362,2,    2.331,2,   2161.0,2,   2300.9,2,   7.7250,2,    25.00
  18HU20150504, AR07W,    82,  1, 407991,     20,2,20150510,1956, 59.0702, -49.9495,-999,    222.6,   3.8864,  34.8707,2,  34.8751,2,    286.5,2,    295.1,2,     7.53,6,    14.17,6,     0.04,6,     1.01,6,     0.63,6,    2.391,2,    2.625,2,   2161.6,2,   2302.8,2,   7.7250,2,    25.00
  18HU20150504, AR07W,    82,  1, 407992,     21,2,20150510,1956, 59.0702, -49.9495,-999,    102.9,   3.9163,  34.8280,2,  34.8313,2,    289.3,2,    298.4,2,     7.13,6,    13.52,6,     0.05,6,     0.98,6,     0.72,6,    2.429,2,    2.807,2,   2155.2,2,   2298.2,2,   7.7400,2,    25.00
  18HU20150504, AR07W,    82,  1, 407993,     22,2,20150510,1956, 59.0702, -49.9495,-999,     51.2,   3.4923,  34.7194,2,  34.7251,2,    295.8,2,    303.3,2,     6.88,6,    13.14,6,     0.08,6,     1.07,2,     0.64,6,    2.482,2,    2.832,2,   2150.1,2,   2293.5,2,   7.7340,2,    25.00
  18HU20150504, AR07W,    82,  1, 407994,     23,2,20150510,1956, 59.0702, -49.9495,-999,     23.8,   2.7289,  34.4537,2,  34.4539,2,    349.5,2,    358.5,2,     5.57,6,     4.87,6,     0.12,6,     0.49,6,     1.05,6,    2.741,2,    3.263,2,   2095.5,2,   2283.3,2,   7.8530,2,    25.00
  18HU20150504, AR07W,    82,  1, 407995,     24,2,20150510,1956, 59.0702, -49.9495,-999,      2.8,   2.6854,  34.4384,2,  34.4459,2,    350.6,2,    359.9,2,     5.53,6,     4.74,6,     0.12,6,     0.49,6,     0.73,6,    2.759,2,    2.988,2,   2094.1,2,   2282.6,2,   7.8560,2,    25.00