BOTTLE,20230713CCHSIOVAJ
EXPOCODE,SECT_ID,STNNBR,CASTNO,SAMPNO,BTLNBR,BTLNBR_FLAG_W,DATE,TIME,LATITUDE,LONGITUDE,DEPTH,CTDPRS,CTDTMP,CTDSAL,CTDSAL_FLAG_W,SALNTY,SALNTY_FLAG_W,CTDOXY,CTDOXY_FLAG_W,OXYGEN,OXYGEN_FLAG_W,SILCAT,SILCAT_FLAG_W,NITRAT,NITRAT_FLAG_W,NITRIT,NITRIT_FLAG_W,PHSPHT,PHSPHT_FLAG_W,NH4,NH4_FLAG_W,CFC-12,CFC-12_FLAG_W,SF6,SF6_FLAG_W,TCARBN,TCARBN_FLAG_W,ALKALI,ALKALI_FLAG_W,PH_TOT,PH_TOT_FLAG_W,PH_TMP
,,,,,,,,,,,METERS,DBAR,ITS-90,PSS-78,,PSS-78,,UMOL/KG,,UMOL/KG,,UMOL/KG,,UMOL/KG,,UMOL/KG,,UMOL/KG,,UMOL/KG,,PMOL/KG,,FMOL/KG,,UMOL/KG,,UMOL/KG,,,,DEG C
  18HU20150504, AR07W,    16,  1, 407799,      1,2,20150509,0109, 56.1098, -53.1173,-999,   3369.9,   1.6891,  34.8947,2,  34.9044,2,    441.3,2,    296.1,2,    10.10,6,    14.40,6,     0.03,6,     0.95,6,     0.58,6,    2.087,2,    1.881,2,   2167.6,2,   2306.8,2,   7.7170,2,    25.00
  18HU20150504, AR07W,    16,  1, 407800,      2,2,20150509,0109, 56.1098, -53.1173,-999,   3292.1,   1.8238,  34.8970,2,  34.9017,2,    239.5,2,    294.4,2,    10.43,6,    14.03,6,     0.02,6,     0.95,6,     0.54,6,    2.074,2,    1.747,2,   2170.3,2,   2310.1,2,   7.7090,2,    25.00
  18HU20150504, AR07W,    16,  1, 407801,      3,2,20150509,0109, 56.1098, -53.1173,-999,   3218.8,   1.9889,  34.8981,2,  34.9028,2,    409.5,2,    291.3,2,    11.19,6,    14.24,6,     0.01,6,     0.97,6,     0.43,6,    1.925,2,    1.603,2,   2164.8,2,   2306.6,2,   7.7200,2,    25.00
  18HU20150504, AR07W,    16,  1, 407802,      4,2,20150509,0109, 56.1098, -53.1173,-999,   3119.2,   2.1291,  34.8987,2,  34.9032,2,    397.6,2,    287.9,2,    12.35,6,    14.46,6,     0.03,6,     0.99,6,     0.49,6,    1.763,2,    1.406,2,   2165.1,2,   2305.2,2,   7.7220,2,    25.00
  18HU20150504, AR07W,    16,  1, 407803,      5,2,20150509,0109, 56.1098, -53.1173,-999,   3000.1,   2.3502,  34.9038,2,  34.9085,2,    278.5,2,    284.9,2,    13.38,6,    15.13,6,     0.02,6,     1.02,6,     0.66,6,    1.591,2,    1.215,2,   2164.5,2,   2309.0,2,   7.7210,2,    25.00
  18HU20150504, AR07W,    16,  1, 407804,      6,2,20150509,0109, 56.1098, -53.1173,-999,   2859.4,   2.5661,  34.9115,2,  34.9356,6,    326.1,2,    282.3,2,    12.83,6,    15.18,6,     0.02,2,     1.03,6,     0.47,6,    1.551,2,    1.126,2,   2164.1,2,   2310.9,2,   7.7300,2,    25.00
  18HU20150504, AR07W,    16,  1, 407805,      7,2,20150509,0109, 56.1098, -53.1173,-999,   2700.8,   2.7597,  34.9192,2,  34.9245,2,    218.2,2,    278.1,2,    13.03,6,    15.48,6,     0.02,6,     1.05,6,     0.76,6,    1.429,2,    0.885,2,   2164.1,2,   2309.7,2,   7.7200,2,    25.00
  18HU20150504, AR07W,    16,  1, 407806,      8,2,20150509,0109, 56.1098, -53.1173,-999,   2518.8,   2.9021,  34.9186,2,  34.9235,2,    342.5,2,    278.3,2,    12.28,6,    15.54,6,     0.02,6,     1.05,6,     0.50,6,    1.492,2,    1.061,2,   2161.9,2,   2305.3,2,   7.7210,2,    25.00
  18HU20150504, AR07W,    16,  1, 407807,      9,2,20150509,0109, 56.1098, -53.1173,-999,   2318.8,   3.0418,  34.9157,2,  34.9220,2,    278.6,2,    278.4,6,    11.28,6,    15.58,6,     0.03,6,     1.01,6,     0.49,6,    1.571,2,    1.147,2,   2162.5,2,   2303.7,2,   7.7280,2,    25.00
  18HU20150504, AR07W,    16,  1, 407808,     10,2,20150509,0109, 56.1098, -53.1173,-999,   2102.0,   3.2716,  34.9172,2,  34.9218,2,    222.0,2,    276.2,2,    10.73,6,    15.64,6,     0.02,6,     1.02,6,     1.07,6,    1.696,2,    1.229,2,   2162.9,2,   2305.3,2,   7.7240,2,    25.00
  18HU20150504, AR07W,    16,  1, 407809,     11,2,20150509,0109, 56.1098, -53.1173,-999,   1879.7,   3.5035,  34.9189,2,  34.9250,2,    254.2,2,    271.7,2,    10.67,6,    15.97,6,     0.02,6,     1.05,6,     0.57,6,    1.709,2,    1.240,2,   2162.3,2,   2305.0,2,   7.7320,2,    25.00
  18HU20150504, AR07W,    16,  1, 407810,     12,2,20150509,0109, 56.1098, -53.1173,-999,   1620.4,   3.4247,  34.8678,2,  34.8725,2,    248.9,2,    289.3,2,     8.76,6,    15.30,6,     0.01,6,     1.01,6,     0.51,6,    2.215,2,    2.130,2,   2161.6,2,   2301.3,2,   7.7200,2,    25.00
  18HU20150504, AR07W,    16,  1, 407811,     13,2,20150509,0109, 56.1098, -53.1173,-999,   1399.3,   3.3795,  34.8583,2,  34.8682,2,    287.9,2,    293.7,2,     8.50,6,    15.31,6,     0.03,6,     1.02,6,     0.53,6,    2.296,2,    2.213,2,   2161.5,2,   2298.7,2,   7.7210,2,    25.00
  18HU20150504, AR07W,    16,  1, 407812,     14,2,20150509,0109, 56.1098, -53.1173,-999,   1180.6,   3.3429,  34.8520,2,  34.8576,2,    233.9,2,    294.3,2,     8.39,6,    15.15,6,     0.02,6,     1.00,6,     0.55,6,    2.318,2,    2.474,2,   2160.5,2,   2298.1,2,   7.7240,2,    25.00
  18HU20150504, AR07W,    16,  1, 407813,     15,2,20150509,0109, 56.1098, -53.1173,-999,    961.8,   3.2895,  34.8433,2,  34.8575,6,    286.5,2,    298.8,2,     8.30,6,    15.08,6,     0.03,6,     1.00,6,     0.60,6,    2.378,2,    2.587,2,   2160.4,2,   2297.6,2,   7.7210,2,    25.00
  18HU20150504, AR07W,    16,  1, 407814,     16,2,20150509,0109, 56.1098, -53.1173,-999,    762.3,   3.2690,  34.8409,2,  34.8496,2,    321.3,2,    298.1,2,     8.28,6,    15.06,6,     0.04,2,     1.01,6,     0.60,6,    2.393,2,    2.422,2,   2160.4,2,   2303.2,2,   7.7060,2,    25.00
  18HU20150504, AR07W,    16,  1, 407815,     17,2,20150509,0109, 56.1098, -53.1173,-999,    581.1,   3.2755,  34.8418,2,  34.9268,2,    307.3,2,    297.9,2,     8.30,6,    15.13,6,     0.03,6,     0.98,6,     0.62,6,    2.378,2,    2.375,2,   2164.0,2,   2299.9,2,   7.7220,2,    25.00
  18HU20150504, AR07W,    16,  1, 407816,     18,2,20150509,0109, 56.1098, -53.1173,-999,    430.4,   3.2353,  34.8357,2,  33.4945,4,    269.8,2,    301.0,2,     8.24,6,    15.04,6,     0.05,2,     0.99,6,     0.61,6,    2.379,2,    2.459,2,   2162.5,2,   2300.2,2,   7.7120,2,    25.00
  18HU20150504, AR07W,    16,  1, 407817,     19,2,20150509,0109, 56.1098, -53.1173,-999,    311.2,   3.2234,  34.8335,2,  34.8423,2,    295.1,2,    299.8,2,     8.23,6,    15.02,6,     0.04,6,     0.99,6,     0.73,6,    2.407,2,    2.423,2,   2162.6,2,   2304.5,2,   7.7240,2,    25.00
  18HU20150504, AR07W,    16,  1, 407818,     20,2,20150509,0109, 56.1098, -53.1173,-999,    201.3,   3.1988,  34.8259,2,  34.8320,2,    297.1,2,    300.4,2,     8.16,6,    14.87,6,     0.04,6,     0.99,6,     0.71,6,    2.404,2,    2.512,2,   2161.6,2,   2299.4,2,   7.7160,2,    25.00
  18HU20150504, AR07W,    16,  1, 407819,     21,2,20150509,0109, 56.1098, -53.1173,-999,    100.3,   3.2002,  34.8126,2,  34.8221,2,    274.4,2,    298.3,2,     8.09,6,    14.87,6,     0.05,6,     1.10,6,     0.61,6,    2.390,2,    2.425,2,   2157.7,2,   2303.1,2,   7.7280,2,    25.00
  18HU20150504, AR07W,    16,  1, 407820,     22,2,20150509,0109, 56.1098, -53.1173,-999,     51.3,   3.2215,  34.7651,2,  34.7722,2,    270.7,2,    312.6,2,     8.11,6,    13.43,6,     0.04,6,     0.94,6,     0.69,6,    2.467,2,    2.733,2,   2148.0,2,   2299.4,2,   7.7450,2,    25.00
  18HU20150504, AR07W,    16,  1, 407821,     23,2,20150509,0109, 56.1098, -53.1173,-999,     24.4,   3.2239,  34.6079,2,  34.6138,2,    283.8,2,    326.4,2,     7.89,6,    12.15,6,     0.10,6,     0.87,6,     0.82,6,    2.578,2,    2.897,2,   2136.6,2,   2289.6,2,   7.7580,2,    25.00
  18HU20150504, AR07W,    16,  1, 407822,     24,2,20150509,0109, 56.1098, -53.1173,-999,      2.3,   3.2830,  34.5931,2,  34.5640,2,    314.6,2,    336.5,2,     7.75,6,    10.71,6,     0.06,6,     0.79,6,     0.69,6,    2.611,2,    2.844,2,   2127.3,2,   2291.5,2,   7.7820,2,    25.00
  18HU20150504, AR07W,    23,  1, 407823,      1,2,20150509,0631, 56.5398, -52.6788,-999,   3542.5,   1.6131,  34.8987,2,  34.9060,2,    288.1,2,    297.3,2,     9.31,6,    13.56,6,     0.02,6,     0.94,6,     0.54,6,    2.144,2,    1.831,2,   2165.3,2,   2308.6,2,   7.6970,2,    25.00
  18HU20150504, AR07W,    23,  1, 407824,      2,2,20150509,0631, 56.5398, -52.6788,-999,   3432.2,   1.8601,  34.8978,2,  34.9038,2,    284.8,2,    293.6,2,     9.99,6,    13.72,6,     0.02,6,     0.97,6,     1.85,6,    2.079,2,    1.714,2,   2164.6,2,   2306.8,2,   7.7110,2,    25.00
  18HU20150504, AR07W,    23,  1, 407825,      3,2,20150509,0631, 56.5398, -52.6788,-999,   3380.1,   1.9657,  34.8988,2,     -999,9,    282.8,2,    291.9,6,    10.53,6,    14.02,6,     0.02,6,     0.98,6,     0.70,6,    2.006,2,    1.676,2,   2165.1,2,   2306.9,2,   7.7150,2,    25.00
  18HU20150504, AR07W,    23,  1, 407826,      4,2,20150509,0631, 56.5398, -52.6788,-999,   3278.8,   2.2152,  34.9012,2,  34.9056,2,    276.8,2,    283.1,2,    12.53,6,    14.70,6,     0.02,6,     1.02,6,     1.11,6,    1.760,2,    1.212,2,   2163.2,2,   2308.7,2,   7.7090,2,    25.00
  18HU20150504, AR07W,    23,  1, 407827,      5,2,20150509,0631, 56.5398, -52.6788,-999,   3159.1,   2.4132,  34.9053,2,     -999,9,    274.6,2,    282.6,2,    12.63,6,    14.74,6,     0.02,6,     1.04,6,     0.74,6,    1.656,2,    1.182,2,   2164.1,2,   2308.6,2,   7.7160,2,    25.00
  18HU20150504, AR07W,    23,  1, 407828,      6,2,20150509,0631, 56.5398, -52.6788,-999,   3028.4,   2.5958,  34.9126,2,  34.9165,2,    271.9,2,    277.9,2,    13.12,6,    15.10,6,     0.02,6,     1.06,6,     0.71,6,    1.488,2,    1.087,2,   2163.5,2,   2311.9,2,   7.7420,2,    25.00
  18HU20150504, AR07W,    23,  1, 407829,      7,2,20150509,0631, 56.5398, -52.6788,-999,   2858.5,   2.7848,  34.9179,2,  34.9271,6,    269.1,2,    277.1,2,    12.67,6,    15.16,6,     0.02,6,     1.07,6,     0.63,6,    1.500,2,    1.181,2,   2164.0,2,   2313.4,2,   7.7290,2,    25.00
  18HU20150504, AR07W,    23,  1, 407830,      8,2,20150509,0631, 56.5398, -52.6788,-999,   2660.0,   2.9369,  34.9175,2,  34.9230,2,    269.4,2,    277.9,2,    11.99,6,    15.09,6,     0.01,6,     1.08,6,     0.65,6,    1.526,2,    0.991,2,   2163.6,2,   2314.8,2,   7.7200,2,    25.00
  18HU20150504, AR07W,    23,  1, 407831,      9,2,20150509,0631, 56.5398, -52.6788,-999,   2439.4,   3.1062,  34.9165,2,  34.9240,2,    268.5,2,    276.8,2,    11.78,6,    15.56,6,     0.02,6,     1.07,6,     0.71,6,    1.538,2,    1.036,2,   2162.9,2,   2313.2,2,   7.7230,2,    25.00
  18HU20150504, AR07W,    23,  1, 407832,     10,2,20150509,0631, 56.5398, -52.6788,-999,   2208.9,   3.3184,  34.9168,2,     -999,9,    267.3,2,    275.2,2,    11.33,6,    16.09,6,     0.02,6,     1.09,6,     0.74,6,    1.578,2,    0.939,2,   2160.4,2,   2303.3,2,   7.7030,2,    25.00
  18HU20150504, AR07W,    23,  1, 407833,     11,2,20150509,0631, 56.5398, -52.6788,-999,   1969.8,   3.5328,  34.9192,2,  34.9256,2,    266.0,2,    273.4,2,    10.85,6,    16.14,6,     0.02,6,     1.10,6,     0.63,6,    1.686,2,    1.015,2,   2163.7,2,   2305.1,2,   7.7250,2,    25.00
  18HU20150504, AR07W,    23,  1, 407834,     12,2,20150509,0631, 56.5398, -52.6788,-999,   1720.8,   3.4167,  34.8632,2,     -999,9,    285.6,2,    292.8,2,     8.72,6,    15.38,6,     0.03,6,     1.05,6,     0.60,6,    2.272,2,    2.103,2,   2161.1,2,   2300.7,2,   7.7170,2,    25.00
  18HU20150504, AR07W,    23,  1, 407835,     13,2,20150509,0631, 56.5398, -52.6788,-999,   1500.7,   3.3685,  34.8518,2,  34.8572,2,    289.5,2,    296.0,2,     8.64,6,    15.39,6,     0.03,6,     1.05,6,     0.59,6,    2.322,2,    2.286,2,   2161.9,2,   2301.1,2,   7.7070,2,    25.00
  18HU20150504, AR07W,    23,  1, 407836,     14,2,20150509,0631, 56.5398, -52.6788,-999,   1277.6,   3.3630,  34.8513,2,     -999,9,    290.3,2,    295.6,2,     8.63,6,    15.47,6,     0.04,6,     1.05,6,     0.56,6,    2.320,2,    2.202,2,   2162.7,2,   2300.1,2,   7.7250,2,    25.00
  18HU20150504, AR07W,    23,  1, 407837,     15,2,20150509,0631, 56.5398, -52.6788,-999,   1070.6,   3.3404,  34.8481,2,  34.8602,2,    291.9,2,    296.7,2,     8.59,6,    15.45,6,     0.04,6,     1.05,6,     0.75,6,    2.341,2,    2.309,2,   2161.4,2,   2300.3,2,   7.7140,2,    25.00
  18HU20150504, AR07W,    23,  1, 407838,     16,2,20150509,0631, 56.5398, -52.6788,-999,    870.1,   3.3119,  34.8450,2,  34.8514,6,    293.5,2,    298.1,2,     8.49,6,    15.45,6,     0.04,6,     1.04,6,     0.71,6,    2.374,2,    2.504,2,   2159.4,2,   2301.0,2,   7.7120,2,    25.00
  18HU20150504, AR07W,    23,  1, 407839,     17,2,20150509,0631, 56.5398, -52.6788,-999,    680.0,   3.2862,  34.8418,2,     -999,9,    294.7,2,    299.6,2,     8.31,6,    14.94,6,     0.02,6,     1.04,6,     0.56,6,    2.379,2,    2.500,2,   2161.3,2,   2296.5,2,   7.6990,2,    25.00
  18HU20150504, AR07W,    23,  1, 407840,     18,2,20150509,0631, 56.5398, -52.6788,-999,    505.7,   3.2642,  34.8389,2,     -999,9,    295.7,2,    299.1,2,     8.30,6,    14.87,6,     0.02,6,     1.04,6,     1.05,6,    2.386,2,    2.528,2,   2161.1,2,   2295.0,2,   7.7130,2,    25.00
  18HU20150504, AR07W,    23,  1, 407841,     19,2,20150509,0631, 56.5398, -52.6788,-999,    359.6,   3.2450,  34.8357,2,     -999,9,    297.6,2,    300.6,2,     8.29,6,    15.01,6,     0.04,6,     1.06,6,     0.51,6,    2.381,2,    2.624,2,   2159.9,2,   2296.9,2,   7.7150,2,    25.00
  18HU20150504, AR07W,    23,  1, 407842,     20,2,20150509,0631, 56.5398, -52.6788,-999,    219.9,   3.2950,  34.8400,2,     -999,9,    296.7,2,    298.4,2,     8.40,6,    14.76,6,     0.04,6,     1.06,6,     0.53,6,    2.376,2,    2.506,2,   2159.9,2,   2300.4,2,   7.7150,2,    25.00
  18HU20150504, AR07W,    23,  1, 407843,     21,2,20150509,0631, 56.5398, -52.6788,-999,    101.4,   3.4943,  34.8222,2,     -999,9,    311.7,2,    313.9,2,     8.17,6,    13.62,6,     0.07,6,     0.99,6,     0.80,6,    2.479,2,    2.916,2,   2159.4,2,   2300.6,2,   7.7340,2,    25.00
  18HU20150504, AR07W,    23,  1, 407844,     22,2,20150509,0631, 56.5398, -52.6788,-999,     49.5,   3.5286,  34.8228,2,     -999,9,    314.7,2,    316.8,2,     8.05,6,    13.25,6,     0.06,6,     0.97,6,     0.69,6,    2.495,2,    3.036,2,   2153.4,2,   2300.5,2,   7.7340,2,    25.00
  18HU20150504, AR07W,    23,  1, 407845,     23,2,20150509,0631, 56.5398, -52.6788,-999,     25.7,   3.5946,  34.8228,2,     -999,9,    316.7,2,    319.3,2,     8.08,6,    13.04,6,     0.06,6,     0.96,6,     0.64,6,    2.504,2,    2.829,2,   2151.0,2,   2304.1,2,   7.7360,2,    25.00
  18HU20150504, AR07W,    23,  1, 407846,     24,2,20150509,0631, 56.5398, -52.6788,-999,      2.3,   3.6371,  34.8218,2,     -999,9,    319.2,2,    319.8,2,     8.06,6,    13.04,6,     0.07,6,     0.96,6,     0.66,6,     -999,9,     -999,9,   2152.6,2,   2304.4,2,   7.7450,2,    25.00