BOTTLE,20230713CCHSIOVAJ
EXPOCODE,SECT_ID,STNNBR,CASTNO,SAMPNO,BTLNBR,BTLNBR_FLAG_W,DATE,TIME,LATITUDE,LONGITUDE,DEPTH,CTDPRS,CTDTMP,CTDSAL,CTDSAL_FLAG_W,SALNTY,SALNTY_FLAG_W,CTDOXY,CTDOXY_FLAG_W,OXYGEN,OXYGEN_FLAG_W,SILCAT,SILCAT_FLAG_W,NITRAT,NITRAT_FLAG_W,NITRIT,NITRIT_FLAG_W,PHSPHT,PHSPHT_FLAG_W,NH4,NH4_FLAG_W,CFC-12,CFC-12_FLAG_W,SF6,SF6_FLAG_W,TCARBN,TCARBN_FLAG_W,ALKALI,ALKALI_FLAG_W,PH_TOT,PH_TOT_FLAG_W,PH_TMP
,,,,,,,,,,,METERS,DBAR,ITS-90,PSS-78,,PSS-78,,UMOL/KG,,UMOL/KG,,UMOL/KG,,UMOL/KG,,UMOL/KG,,UMOL/KG,,UMOL/KG,,PMOL/KG,,FMOL/KG,,UMOL/KG,,UMOL/KG,,,,DEG C
  18HU20150504, AR07W,   155,  1, 408304,      1,2,20150514,2205, 56.3330, -52.8950,-999,   2000.7,   3.5150,  34.9190,2,  34.9209,2,    262.1,2,    272.1,2,    10.78,6,    16.02,6,     0.03,6,     1.08,6,     0.48,6,    1.686,2,    1.312,2,     -999,9,     -999,9,     -999,9,     9.00
  18HU20150504, AR07W,   155,  1, 408305,      2,2,20150514,2205, 56.3330, -52.8950,-999,   1800.1,   3.6781,  34.9162,2,  34.9173,2,    261.5,2,    271.9,2,    10.52,6,    16.18,6,     0.03,6,     1.09,6,     0.32,6,    1.797,2,    1.273,2,     -999,9,     -999,9,     -999,9,     9.00
  18HU20150504, AR07W,   155,  1, 408306,      3,2,20150514,2205, 56.3330, -52.8950,-999,   1648.6,   3.4394,  34.8648,2,  34.8676,2,    278.6,2,    289.8,2,     9.39,6,    15.34,6,     0.02,6,     1.04,6,     0.35,6,    2.243,2,    2.215,2,     -999,9,     -999,9,     -999,9,     9.00
  18HU20150504, AR07W,   155,  1, 408307,      4,2,20150514,2205, 56.3330, -52.8950,-999,   1501.8,   3.4095,  34.8566,2,  34.8579,2,    281.5,2,    292.2,2,     8.61,6,    15.30,6,     0.03,6,     1.04,6,     0.40,6,    2.295,2,    2.392,2,     -999,9,     -999,9,     -999,9,     9.00
  18HU20150504, AR07W,   155,  1, 408308,      5,2,20150514,2205, 56.3330, -52.8950,-999,   1348.3,   3.3767,  34.8507,2,  34.8530,2,    284.0,2,    294.8,2,     8.52,6,    15.32,6,     0.03,6,     1.04,6,     0.31,6,    2.353,2,    2.650,2,     -999,9,     -999,9,     -999,9,     9.00
  18HU20150504, AR07W,   155,  1, 408309,      6,2,20150514,2205, 56.3330, -52.8950,-999,   1200.6,   3.3523,  34.8479,2,  34.8491,2,    285.4,2,    296.4,2,     8.42,6,    15.33,6,     0.02,6,     1.04,6,     0.39,6,    2.359,2,    2.482,2,     -999,9,     -999,9,     -999,9,     9.00
  18HU20150504, AR07W,   155,  1, 408310,      7,2,20150514,2205, 56.3330, -52.8950,-999,   1051.2,   3.3413,  34.8468,2,  34.8509,2,    285.8,2,    297.4,2,     8.44,6,    15.24,6,     0.03,6,     1.04,6,     0.57,6,    2.374,2,    2.570,2,     -999,9,     -999,9,     -999,9,     9.00
  18HU20150504, AR07W,   155,  1, 408311,      8,2,20150514,2205, 56.3330, -52.8950,-999,    902.2,   3.3172,  34.8431,2,  34.8519,6,    287.2,2,    298.4,2,     8.31,6,    15.21,6,     0.03,6,     1.04,6,     0.38,6,    2.396,2,    2.613,2,     -999,9,     -999,9,     -999,9,     9.00
  18HU20150504, AR07W,   155,  1, 408312,      9,2,20150514,2205, 56.3330, -52.8950,-999,    750.1,   3.3074,  34.8415,2,  34.8438,2,    287.2,2,    297.1,2,     8.35,6,    15.21,6,     0.03,6,     1.03,6,     0.42,6,    2.388,2,    2.606,2,     -999,9,     -999,9,     -999,9,     9.00
  18HU20150504, AR07W,   155,  1, 408313,     10,2,20150514,2205, 56.3330, -52.8950,-999,    603.1,   3.3713,  34.8494,2,  34.8501,2,    285.3,2,    295.9,6,     8.51,6,    15.26,6,     0.03,6,     1.04,6,     0.47,6,    2.341,2,    2.453,2,     -999,9,     -999,9,     -999,9,     9.00
  18HU20150504, AR07W,   155,  1, 408314,     11,2,20150514,2205, 56.3330, -52.8950,-999,    451.0,   3.3361,  34.8392,2,  34.8406,2,    288.2,2,    298.8,2,     8.40,6,    15.22,6,     0.04,6,     1.04,6,     0.60,6,    2.375,2,    2.603,2,     -999,9,     -999,9,     -999,9,     9.00
  18HU20150504, AR07W,   155,  1, 408315,     12,2,20150514,2205, 56.3330, -52.8950,-999,    298.8,   3.3640,  34.8366,2,  34.8371,2,    289.7,2,    299.0,2,     8.27,6,    15.12,6,     0.05,6,     1.03,6,     0.49,6,    2.412,2,    2.732,2,     -999,9,     -999,9,     -999,9,     9.00
  18HU20150504, AR07W,   155,  1, 408316,     13,2,20150514,2205, 56.3330, -52.8950,-999,    200.3,   3.4446,  34.8362,2,  34.8392,2,    287.2,2,    295.8,2,     8.36,6,    15.25,6,     0.05,6,     1.04,6,     0.45,6,     -999,9,     -999,9,     -999,9,     -999,9,     -999,9,     9.00
  18HU20150504, AR07W,   155,  1, 408317,     14,2,20150514,2205, 56.3330, -52.8950,-999,    149.7,   3.4165,  34.8258,2,  34.8266,2,    288.4,2,    298.2,2,     8.32,6,    15.40,6,     0.06,6,     1.03,6,     0.42,6,     -999,9,     -999,9,     -999,9,     -999,9,     -999,9,     9.00
  18HU20150504, AR07W,   155,  1, 408318,     15,2,20150514,2205, 56.3330, -52.8950,-999,     98.9,   3.4423,  34.8172,2,  34.8192,2,    288.8,2,    298.5,2,     8.19,6,    15.14,6,     0.09,6,     1.03,6,     0.46,6,     -999,9,     -999,9,     -999,9,     -999,9,     -999,9,     9.00
  18HU20150504, AR07W,   155,  1, 408319,     16,2,20150514,2205, 56.3330, -52.8950,-999,     80.7,   3.3929,  34.8011,2,     -999,9,    293.0,2,     -999,9,     8.33,6,    14.77,6,     0.11,6,     1.01,6,     0.60,6,     -999,9,     -999,9,     -999,9,     -999,9,     -999,9,     9.00
  18HU20150504, AR07W,   155,  1, 408320,     17,2,20150514,2205, 56.3330, -52.8950,-999,     60.4,   3.4745,  34.7695,2,     -999,9,    310.2,2,     -999,9,     7.67,6,    12.91,6,     0.11,6,     0.90,6,     0.58,6,     -999,9,     -999,9,     -999,9,     -999,9,     -999,9,     9.00
  18HU20150504, AR07W,   155,  1, 408321,     18,2,20150514,2205, 56.3330, -52.8950,-999,     50.0,   3.4847,  34.7683,2,  34.7707,2,    311.3,2,    322.2,2,     7.73,6,    12.83,6,     0.10,6,     0.90,6,     0.66,6,     -999,9,     -999,9,     -999,9,     -999,9,     -999,9,     9.00
  18HU20150504, AR07W,   155,  1, 408322,     19,2,20150514,2205, 56.3330, -52.8950,-999,     39.9,   3.4889,  34.7680,2,     -999,9,    311.4,2,     -999,9,     7.81,6,    12.77,6,     0.11,6,     0.90,6,     0.62,6,     -999,9,     -999,9,     -999,9,     -999,9,     -999,9,     9.00
  18HU20150504, AR07W,   155,  1, 408323,     20,2,20150514,2205, 56.3330, -52.8950,-999,     29.8,   3.4738,  34.7506,2,     -999,9,    320.5,2,     -999,9,     7.67,6,    11.22,6,     0.11,6,     0.83,6,     0.58,6,     -999,9,     -999,9,     -999,9,     -999,9,     -999,9,     9.00
  18HU20150504, AR07W,   155,  1, 408324,     21,2,20150514,2205, 56.3330, -52.8950,-999,     20.0,   3.3536,  34.6908,2,     -999,9,    342.2,2,     -999,9,     7.56,6,     7.95,6,     0.12,6,     0.67,6,     0.78,6,     -999,9,     -999,9,     -999,9,     -999,9,     -999,9,     9.00
  18HU20150504, AR07W,   155,  1, 408325,     22,2,20150514,2205, 56.3330, -52.8950,-999,     10.1,   3.3471,  34.6883,2,     -999,9,    344.8,2,    353.2,2,     7.62,6,     7.71,6,     0.11,6,     0.66,6,     0.63,6,     -999,9,     -999,9,     -999,9,     -999,9,     -999,9,     9.00
  18HU20150504, AR07W,   155,  1, 408326,     23,2,20150514,2205, 56.3330, -52.8950,-999,      3.9,   3.3433,  34.6882,2,     -999,9,    345.2,2,     -999,9,     7.59,6,     7.61,6,     0.11,6,     0.65,6,     0.64,6,     -999,9,     -999,9,     -999,9,     -999,9,     -999,9,     9.00
  18HU20150504, AR07W,   159,  1, 408327,      1,2,20150515,0328, 55.8502, -53.3923,-999,   3158.3,   1.6962,  34.8941,2,  34.8980,2,    280.3,2,    221.8,4,    10.17,6,    13.68,6,     0.04,6,     0.96,6,     0.55,6,    2.125,2,    2.118,2,   2172.3,2,   2306.1,2,   7.7180,2,    25.00
  18HU20150504, AR07W,   159,  1, 408328,      2,2,20150515,0328, 55.8502, -53.3923,-999,   3101.5,   1.7083,  34.8940,2,  34.8968,2,    280.5,2,    296.3,2,    10.07,6,    13.65,6,     0.03,6,     0.95,6,     0.54,6,    2.136,2,    2.079,2,   2172.7,2,   2302.8,2,   7.7180,2,    25.00
  18HU20150504, AR07W,   159,  1, 408329,      3,2,20150515,0328, 55.8502, -53.3923,-999,   3019.5,   1.8146,  34.8947,2,  34.9013,2,    279.6,2,    295.4,2,    10.01,6,    13.66,6,     0.03,6,     0.95,6,     0.40,6,    2.095,2,    1.887,2,   2171.0,2,   2306.0,2,   7.7170,2,    25.00
  18HU20150504, AR07W,   159,  1, 408330,      4,2,20150515,0328, 55.8502, -53.3923,-999,   2919.4,   2.1124,  34.8985,2,  34.9033,2,    274.6,2,    290.1,2,    10.95,6,    14.23,6,     0.02,6,     0.98,6,     0.45,6,    1.885,2,    1.539,2,   2171.3,2,   2300.1,2,   7.7250,2,    25.00
  18HU20150504, AR07W,   159,  1, 408331,      5,2,20150515,0328, 55.8502, -53.3923,-999,   2808.6,   2.3025,  34.9029,2,  34.9078,2,    268.8,2,    284.6,2,    13.35,6,    14.85,6,     0.03,6,     1.03,6,     0.54,6,    1.601,2,    1.407,2,   2170.9,2,   2303.4,2,   7.7320,2,    25.00
  18HU20150504, AR07W,   159,  1, 408332,      6,2,20150515,0328, 55.8502, -53.3923,-999,   2686.0,   2.4900,  34.9089,2,  34.9133,2,    268.1,2,    283.0,2,    12.64,6,    15.29,6,     0.02,6,     1.04,6,     0.44,6,    1.592,2,    1.209,2,   2169.0,2,   2302.7,2,   7.7310,2,    25.00
  18HU20150504, AR07W,   159,  1, 408333,      7,2,20150515,0328, 55.8502, -53.3923,-999,   2560.2,   2.6883,  34.9141,2,  34.9186,2,    266.0,2,    281.3,2,    12.16,6,    15.12,6,     0.02,6,     1.03,6,     0.45,6,    1.578,2,    1.247,2,   2168.6,2,   2302.3,2,   7.7300,2,    25.00
  18HU20150504, AR07W,   159,  1, 408334,      8,2,20150515,0328, 55.8502, -53.3923,-999,   2411.9,   2.8503,  34.9156,2,  34.9216,6,    265.3,2,    281.3,2,    11.64,6,    15.24,6,     0.02,6,     1.04,6,     0.51,6,    1.610,2,    1.306,2,   2168.0,2,   2302.9,2,   7.7290,2,    25.00
  18HU20150504, AR07W,   159,  1, 408335,      9,2,20150515,0328, 55.8502, -53.3923,-999,   2232.3,   3.0439,  34.9164,2,  34.9210,2,    265.4,2,    278.8,2,    11.31,6,    15.44,6,     0.01,6,     1.06,6,     0.65,6,    1.618,2,    1.208,2,   2164.7,2,   2307.4,2,   7.7310,2,    25.00
  18HU20150504, AR07W,   159,  1, 408336,     10,2,20150515,0328, 55.8502, -53.3923,-999,   2010.8,   3.2662,  34.9177,2,  34.9252,2,    263.9,2,    276.4,2,    10.92,6,    15.56,6,     0.02,6,     1.07,6,     0.59,6,    1.673,2,    1.384,2,   2163.4,2,   2305.0,2,   7.7300,2,    25.00
  18HU20150504, AR07W,   159,  1, 408337,     11,2,20150515,0328, 55.8502, -53.3923,-999,   1789.6,   3.4505,  34.9182,2,  34.9234,2,    262.4,2,    275.9,6,    10.61,6,    15.74,6,     0.02,6,     1.09,6,     0.55,6,    1.745,2,    1.447,2,   2163.4,2,   2305.9,2,   7.7270,2,    25.00
  18HU20150504, AR07W,   159,  1, 408338,     12,2,20150515,0328, 55.8502, -53.3923,-999,   1552.0,   3.5950,  34.9074,2,  34.9115,2,    266.1,2,    278.1,2,    10.15,6,    15.90,6,     0.02,6,     1.08,6,     0.44,6,    1.916,2,    1.779,2,   2166.0,2,   2304.2,2,   7.7240,2,    25.00
  18HU20150504, AR07W,   159,  1, 408339,     13,2,20150515,0328, 55.8502, -53.3923,-999,   1311.1,   3.3492,  34.8567,2,  34.8622,2,    283.3,2,    295.4,2,     8.58,6,    15.12,6,     0.02,6,     1.04,6,     0.52,6,    2.337,2,    2.587,2,   2160.3,2,   2302.1,2,   7.7210,2,    25.00
  18HU20150504, AR07W,   159,  1, 408340,     14,2,20150515,0328, 55.8502, -53.3923,-999,   1090.3,   3.3549,  34.8568,2,  34.8621,2,    283.5,2,    295.0,2,     8.57,6,    15.11,6,     0.03,6,     1.04,6,     0.47,6,    2.309,2,    2.603,2,   2163.9,2,   2302.2,2,   7.7230,2,    25.00
  18HU20150504, AR07W,   159,  1, 408341,     15,2,20150515,0328, 55.8502, -53.3923,-999,    891.1,   3.3358,  34.8511,2,  34.8596,2,    284.2,2,    295.0,2,     8.35,6,    15.11,6,     0.02,6,     1.02,6,     0.60,6,    2.317,2,    2.592,2,   2164.1,2,   2306.4,2,   7.7220,2,    25.00
  18HU20150504, AR07W,   159,  1, 408342,     16,2,20150515,0328, 55.8502, -53.3923,-999,    710.7,   3.3084,  34.8462,2,  34.8514,2,    285.2,2,    296.2,2,     8.30,6,    15.12,6,     0.03,6,     1.04,6,     0.41,6,    2.364,2,    2.588,2,   2162.9,2,   2300.4,2,   7.7190,2,    25.00
  18HU20150504, AR07W,   159,  1, 408343,     17,2,20150515,0328, 55.8502, -53.3923,-999,    550.1,   3.2910,  34.8426,2,  34.8490,2,    286.6,2,    296.4,2,     8.24,6,    15.08,6,     0.03,6,     1.02,6,     0.49,6,    2.326,2,    2.504,2,   2161.4,2,   2301.6,2,   7.7220,2,    25.00
  18HU20150504, AR07W,   159,  1, 408344,     18,2,20150515,0328, 55.8502, -53.3923,-999,    399.4,   3.2649,  34.8368,2,  34.8421,2,    287.2,2,    298.0,2,     8.16,6,    14.94,6,     0.04,6,     1.05,6,     0.48,6,    2.363,2,    2.617,2,   2162.3,2,   2302.3,2,   7.7230,2,    25.00
  18HU20150504, AR07W,   159,  1, 408345,     19,2,20150515,0328, 55.8502, -53.3923,-999,    290.1,   3.2496,  34.8322,2,  34.8371,2,    288.7,2,    297.1,2,     8.19,6,    14.84,6,     0.04,6,     1.06,6,     0.44,6,    2.371,2,    2.721,2,   2160.5,2,   2298.6,2,   7.7260,2,    25.00
  18HU20150504, AR07W,   159,  1, 408346,     20,2,20150515,0328, 55.8502, -53.3923,-999,    179.3,   3.2313,  34.8206,2,  34.8257,2,    288.6,2,    298.3,2,     8.11,6,    14.68,6,     0.07,6,     1.05,6,     0.41,6,    2.340,2,    2.682,2,     -999,9,     -999,9,   7.7310,2,    25.00
  18HU20150504, AR07W,   159,  1, 408347,     21,2,20150515,0328, 55.8502, -53.3923,-999,     99.4,   3.1607,  34.7884,2,  34.7927,2,    290.0,2,    298.3,2,     8.21,6,    14.64,6,     0.07,6,     1.06,6,     0.47,6,    2.421,2,    2.920,2,   2158.6,2,   2300.2,2,   7.7140,2,    25.00
  18HU20150504, AR07W,   159,  1, 408348,     22,2,20150515,0328, 55.8502, -53.3923,-999,     50.9,   2.9890,  34.6891,2,     -999,9,    306.0,2,    313.8,2,     7.88,6,    13.27,6,     0.09,6,     0.99,6,     0.78,6,    2.541,2,    2.946,2,   2149.2,2,   2296.0,2,   7.7410,2,    25.00
  18HU20150504, AR07W,   159,  1, 408349,     23,2,20150515,0328, 55.8502, -53.3923,-999,     24.2,   3.0771,  34.5344,2,  34.5398,2,    322.0,2,    330.1,2,     7.94,6,    11.29,6,     0.09,6,     0.82,6,     0.71,6,    2.638,2,    3.162,2,   2132.4,2,   2286.2,2,   7.7660,2,    25.00
  18HU20150504, AR07W,   159,  1, 408350,     24,2,20150515,0328, 55.8502, -53.3923,-999,      2.1,   3.0580,  34.5273,2,     -999,9,    324.1,2,    331.7,2,     7.55,6,    10.95,6,     0.10,6,     0.81,6,     0.67,6,    2.652,2,    3.307,2,   2129.9,2,   2287.5,2,   7.7880,2,    25.00