BOTTLE,20230713CCHSIOVAJ
EXPOCODE,SECT_ID,STNNBR,CASTNO,SAMPNO,BTLNBR,BTLNBR_FLAG_W,DATE,TIME,LATITUDE,LONGITUDE,DEPTH,CTDPRS,CTDTMP,CTDSAL,CTDSAL_FLAG_W,SALNTY,SALNTY_FLAG_W,CTDOXY,CTDOXY_FLAG_W,OXYGEN,OXYGEN_FLAG_W,SILCAT,SILCAT_FLAG_W,NITRAT,NITRAT_FLAG_W,NITRIT,NITRIT_FLAG_W,PHSPHT,PHSPHT_FLAG_W,NH4,NH4_FLAG_W,CFC-12,CFC-12_FLAG_W,SF6,SF6_FLAG_W,TCARBN,TCARBN_FLAG_W,ALKALI,ALKALI_FLAG_W,PH_TOT,PH_TOT_FLAG_W,PH_TMP
,,,,,,,,,,,METERS,DBAR,ITS-90,PSS-78,,PSS-78,,UMOL/KG,,UMOL/KG,,UMOL/KG,,UMOL/KG,,UMOL/KG,,UMOL/KG,,UMOL/KG,,PMOL/KG,,FMOL/KG,,UMOL/KG,,UMOL/KG,,,,DEG C
  18HU20150504, AR07W,   141,  1, 408207,      1,2,20150513,1418, 58.2165, -50.8797,-999,   3601.1,   1.6364,  34.8964,2,  34.8964,2,    280.9,2,    292.9,2,     9.65,6,    14.06,6,     0.03,6,     0.93,6,     0.62,6,    2.238,2,    2.057,2,   2169.2,2,   2303.6,2,   7.7150,2,    25.00
  18HU20150504, AR07W,   141,  1, 408208,      2,2,20150513,1418, 58.2165, -50.8797,-999,   3519.0,   1.7089,  34.8950,2,  34.8948,2,    281.0,2,    296.3,2,     9.96,6,    14.13,6,     0.03,6,     0.94,6,     0.47,6,    2.203,2,    1.924,2,   2170.3,2,   2304.9,2,   7.7200,2,    25.00
  18HU20150504, AR07W,   141,  1, 408209,      3,2,20150513,1418, 58.2165, -50.8797,-999,   3321.3,   2.1430,  34.8999,2,  34.9012,2,    273.5,2,    289.1,2,    11.26,6,    14.74,6,     -999,9,     0.99,6,     0.49,6,    1.899,2,    1.542,2,   2168.1,2,   2301.0,2,   7.7290,2,    25.00
  18HU20150504, AR07W,   141,  1, 408210,      4,2,20150513,1418, 58.2165, -50.8797,-999,   3073.6,   2.5717,  34.9104,2,  34.9143,2,    267.4,2,    281.5,2,    12.61,6,    15.47,6,     0.02,6,     1.03,6,     0.65,6,    1.625,2,    1.206,2,   2166.7,2,   2301.3,2,   7.7340,2,    25.00
  18HU20150504, AR07W,   141,  1, 408211,      5,2,20150513,1418, 58.2165, -50.8797,-999,   2799.1,   2.8744,  34.9176,2,  34.9182,2,    264.9,2,    278.5,2,    12.08,6,    15.77,6,     -999,9,     1.04,6,     0.52,6,    1.587,2,    1.188,2,   2165.2,2,   2298.6,2,   7.7350,2,    25.00
  18HU20150504, AR07W,   141,  1, 408212,      6,2,20150513,1418, 58.2165, -50.8797,-999,   2530.4,   3.0840,  34.9168,2,  34.9178,2,    264.7,2,    276.9,2,    11.39,6,    15.93,6,     -999,9,     1.04,6,     0.56,6,    1.615,2,    1.030,2,   2165.8,2,   2301.0,2,   7.7330,2,    25.00
  18HU20150504, AR07W,   141,  1, 408213,      7,2,20150513,1418, 58.2165, -50.8797,-999,   2249.4,   3.2986,  34.9174,2,  34.9295,2,    263.1,2,     -999,9,    11.00,6,    16.17,6,     -999,9,     1.07,6,     0.62,6,    1.682,2,    1.165,2,   2164.9,2,   2299.5,2,   7.7200,2,    25.00
  18HU20150504, AR07W,   141,  1, 408214,      8,2,20150513,1418, 58.2165, -50.8797,-999,   1900.6,   3.6063,  34.9215,2,  34.9239,6,    262.0,2,    272.5,2,    10.65,6,    16.36,6,     -999,9,     1.08,6,     0.72,6,    1.815,2,    1.262,2,   2165.8,2,   2297.2,2,   7.7180,2,    25.00
  18HU20150504, AR07W,   141,  1, 408215,      9,2,20150513,1418, 58.2165, -50.8797,-999,   1670.0,   3.3967,  34.8597,2,  34.8673,2,    281.0,2,    293.5,2,     8.57,6,    15.70,6,     -999,9,     1.00,6,     0.54,6,    2.329,2,    2.303,2,   2162.9,2,   2297.5,2,   7.7310,2,    25.00
  18HU20150504, AR07W,   141,  1, 408216,     10,2,20150513,1418, 58.2165, -50.8797,-999,   1463.0,   3.3499,  34.8502,2,  34.8542,2,    285.1,2,    296.8,2,     8.41,6,    15.64,6,     0.03,2,     1.01,6,     0.63,6,    2.391,2,    2.564,2,   2163.5,2,   2295.8,2,   7.7240,2,    25.00
  18HU20150504, AR07W,   141,  1, 408217,     11,2,20150513,1418, 58.2165, -50.8797,-999,   1225.8,   3.3610,  34.8522,2,  34.8533,2,    283.6,2,    275.0,3,     8.41,6,    15.63,6,     0.02,2,     1.02,6,     0.77,6,    2.357,2,    2.433,2,   2162.8,2,   2291.9,2,   7.7270,2,    25.00
  18HU20150504, AR07W,   141,  1, 408218,     12,2,20150513,1418, 58.2165, -50.8797,-999,   1031.0,   3.3340,  34.8477,2,  34.8490,2,    286.1,2,    296.4,2,     8.36,6,    15.60,6,     -999,9,     1.02,6,     0.63,6,    2.394,2,    2.415,2,   2163.5,2,   2297.6,2,   7.7220,2,    25.00
  18HU20150504, AR07W,   141,  1, 408219,     13,2,20150513,1418, 58.2165, -50.8797,-999,    826.8,   3.3090,  34.8441,2,  34.8468,2,    286.8,2,    295.5,2,     8.35,6,    15.57,6,     0.02,6,     1.02,6,     0.61,6,    2.418,2,    2.488,2,   2163.2,2,   2303.0,2,   7.7270,2,    25.00
  18HU20150504, AR07W,   141,  1, 408220,     14,2,20150513,1418, 58.2165, -50.8797,-999,    629.9,   3.3426,  34.8445,2,  34.8550,6,    302.1,2,    293.2,6,     8.32,6,    15.56,6,     0.02,6,     1.03,6,     0.58,6,    2.409,2,    2.395,2,   2163.1,2,   2301.0,2,   7.7200,2,    25.00
  18HU20150504, AR07W,   141,  1, 408221,     15,2,20150513,1418, 58.2165, -50.8797,-999,    431.4,   3.4118,  34.8477,2,     -999,9,    268.0,2,     -999,9,     -999,9,     -999,9,     -999,9,     -999,9,     -999,9,     -999,9,     -999,9,     -999,9,     -999,9,     -999,9,     9.00
  18HU20150504, AR07W,   141,  1, 408222,     16,2,20150513,1418, 58.2165, -50.8797,-999,    251.0,   3.4238,  34.8269,2,  34.8305,2,    290.9,2,    294.6,6,     7.83,6,    15.13,6,     0.06,6,     1.00,6,     0.62,6,    2.436,2,    2.488,2,   2162.0,2,   2298.6,2,   7.7350,2,    25.00
  18HU20150504, AR07W,   141,  1, 408223,     17,2,20150513,1418, 58.2165, -50.8797,-999,    100.3,   3.7177,  34.8153,2,  34.8184,2,    286.8,2,    293.2,2,     7.32,6,    14.67,6,     0.10,6,     0.97,6,     0.56,6,    2.398,2,    2.632,2,   2158.9,2,   2298.2,2,   7.7440,2,    25.00
  18HU20150504, AR07W,   141,  1, 408224,     18,2,20150513,1418, 58.2165, -50.8797,-999,     57.9,   2.9901,  34.6189,2,     -999,9,    324.8,2,     -999,9,     6.27,6,     7.83,6,     0.11,6,     0.61,6,     2.72,6,     -999,9,     -999,9,     -999,9,     -999,9,   7.8160,2,    25.00
  18HU20150504, AR07W,   141,  1, 408225,     19,2,20150513,1418, 58.2165, -50.8797,-999,     51.8,   3.0041,  34.5914,2,     -999,9,    333.6,2,    342.7,2,     6.17,6,     5.34,6,     0.10,6,     0.50,6,     3.04,6,    2.701,2,    3.080,2,   2101.6,2,   2290.8,2,   7.8520,2,    25.00
  18HU20150504, AR07W,   141,  1, 408226,     20,2,20150513,1418, 58.2165, -50.8797,-999,     39.8,   2.9450,  34.5479,2,     -999,9,    341.5,2,     -999,9,     6.03,6,     4.17,6,     0.11,6,     0.48,6,     2.57,6,     -999,9,     -999,9,     -999,9,     -999,9,   7.9170,2,    25.00
  18HU20150504, AR07W,   141,  1, 408227,     21,2,20150513,1418, 58.2165, -50.8797,-999,     28.8,   2.8420,  34.5134,2,     -999,9,    344.4,2,     -999,9,     -999,9,     -999,9,     -999,9,     -999,9,     -999,9,     -999,9,     -999,9,     -999,9,     -999,9,     -999,9,     9.00
  18HU20150504, AR07W,   141,  1, 408228,     22,2,20150513,1418, 58.2165, -50.8797,-999,     30.5,   2.8365,  34.5116,2,     -999,9,    344.5,2,    353.8,2,     6.23,6,     5.49,6,     0.11,6,     0.50,6,     1.55,6,    2.724,2,    3.178,2,   2108.1,2,   2281.2,2,   7.9290,2,    25.00
  18HU20150504, AR07W,   141,  1, 408229,     23,2,20150513,1418, 58.2165, -50.8797,-999,     18.9,   2.8231,  34.5002,2,     -999,9,    346.9,2,     -999,9,     6.06,6,     5.25,6,     0.12,6,     0.49,6,     1.23,6,     -999,9,     -999,9,     -999,9,     -999,9,   7.8670,2,    25.00
  18HU20150504, AR07W,   141,  1, 408230,     24,2,20150513,1418, 58.2165, -50.8797,-999,      7.6,   2.8060,  34.4910,2,     -999,9,    352.8,2,    364.5,2,     5.98,6,     4.30,6,     0.11,6,     0.45,6,     0.77,6,    2.727,2,    3.072,2,   2091.9,2,   2287.4,2,   7.8740,2,    25.00
  18HU20150504, AR07W,   145,  1, 408232,      1,2,20150514,0356, 57.5897, -51.5650,-999,   3591.5,   1.7296,  34.8976,2,  34.8985,2,    279.5,2,    282.2,2,     9.46,6,    13.59,6,     0.03,6,     0.94,6,     0.61,6,    2.154,2,    1.910,2,     -999,9,     -999,9,     -999,9,     9.00
  18HU20150504, AR07W,   145,  1, 408233,      2,2,20150514,0356, 57.5897, -51.5650,-999,   2901.9,   2.8265,  34.9196,2,  34.9240,2,    263.8,2,    277.4,2,    12.88,6,    15.46,6,     -999,9,     1.07,6,     0.51,6,    1.495,2,    0.979,2,     -999,9,     -999,9,     -999,9,     9.00
  18HU20150504, AR07W,   145,  1, 408234,      3,2,20150514,0356, 57.5897, -51.5650,-999,   2560.7,   3.1114,  34.9160,2,  34.9175,2,    263.5,2,    276.3,2,    11.73,6,    15.61,6,     -999,9,     1.08,6,     0.63,6,    1.576,2,    1.012,2,     -999,9,     -999,9,     -999,9,     9.00
  18HU20150504, AR07W,   145,  1, 408235,      4,2,20150514,0356, 57.5897, -51.5650,-999,   2102.5,   3.5600,  34.9201,2,  34.9223,2,    261.6,2,    272.9,2,    10.73,6,    15.97,6,     0.02,2,     1.10,6,     0.61,6,    1.734,2,    0.955,2,     -999,9,     -999,9,     -999,9,     9.00
  18HU20150504, AR07W,   145,  1, 408236,      5,2,20150514,0356, 57.5897, -51.5650,-999,   1808.5,   3.4375,  34.8647,2,     -999,9,    279.5,2,     -999,9,     -999,9,     -999,9,     -999,9,     -999,9,     -999,9,     -999,9,     -999,9,     -999,9,     -999,9,     -999,9,     9.00
  18HU20150504, AR07W,   145,  1, 408237,      6,2,20150514,0356, 57.5897, -51.5650,-999,   1809.7,   3.4374,  34.8647,2,     -999,9,    280.0,2,     -999,9,     -999,9,     -999,9,     -999,9,     -999,9,     -999,9,     -999,9,     -999,9,     -999,9,     -999,9,     -999,9,     9.00
  18HU20150504, AR07W,   145,  1, 408238,      7,2,20150514,0356, 57.5897, -51.5650,-999,   1809.1,   3.4376,  34.8648,2,  34.8665,2,    280.2,2,    291.5,2,     8.91,6,    15.31,6,     0.02,2,     1.05,6,     0.74,6,    2.294,2,    2.112,2,     -999,9,     -999,9,     -999,9,     9.00
  18HU20150504, AR07W,   145,  1, 408239,      8,2,20150514,0356, 57.5897, -51.5650,-999,   1672.1,   3.3986,  34.8576,2,  34.8591,2,    282.4,2,    294.1,2,     8.68,6,    15.22,6,     -999,9,     1.05,6,     0.53,6,    2.346,2,    2.190,2,     -999,9,     -999,9,     -999,9,     9.00
  18HU20150504, AR07W,   145,  1, 408240,      9,2,20150514,0356, 57.5897, -51.5650,-999,   1531.4,   3.3823,  34.8545,2,  34.8556,2,    282.8,2,    294.7,2,     8.80,6,    15.24,6,     -999,9,     1.05,6,     0.48,6,    2.338,2,    2.217,2,     -999,9,     -999,9,     -999,9,     9.00
  18HU20150504, AR07W,   145,  1, 408241,     10,2,20150514,0356, 57.5897, -51.5650,-999,   1390.3,   3.3765,  34.8533,2,  34.8526,2,    283.7,2,    294.2,2,     9.06,6,    15.19,6,     0.04,2,     1.05,6,     0.58,6,    2.351,2,    2.242,2,     -999,9,     -999,9,     -999,9,     9.00
  18HU20150504, AR07W,   145,  1, 408242,     11,2,20150514,0356, 57.5897, -51.5650,-999,   1248.6,   3.3358,  34.8471,2,  34.8493,2,    285.6,2,    296.3,2,     8.62,6,    15.09,6,     0.03,6,     1.02,6,     0.60,6,    2.413,2,    2.380,2,     -999,9,     -999,9,     -999,9,     9.00
  18HU20150504, AR07W,   145,  1, 408243,     12,2,20150514,0356, 57.5897, -51.5650,-999,   1119.6,   3.3545,  34.8507,2,  34.8601,6,    283.3,2,    295.1,2,     8.80,6,    15.15,6,     0.02,6,     1.02,6,     0.61,6,     -999,9,     -999,9,     -999,9,     -999,9,     -999,9,     9.00
  18HU20150504, AR07W,   145,  1, 408244,     13,2,20150514,0356, 57.5897, -51.5650,-999,    991.3,   3.3386,  34.8482,2,  34.8497,2,    285.0,2,    295.0,2,     8.86,6,    15.00,6,     0.03,6,     1.03,6,     0.61,6,    2.464,2,    2.291,2,     -999,9,     -999,9,     -999,9,     9.00
  18HU20150504, AR07W,   145,  1, 408245,     14,2,20150514,0356, 57.5897, -51.5650,-999,    861.2,   3.3243,  34.8461,2,  34.8473,2,    285.6,2,    296.1,2,     8.91,6,    14.98,6,     0.03,6,     1.02,6,     0.62,6,    2.413,2,    2.310,2,     -999,9,     -999,9,     -999,9,     9.00
  18HU20150504, AR07W,   145,  1, 408246,     15,2,20150514,0356, 57.5897, -51.5650,-999,    730.7,   3.3104,  34.8434,2,  34.8446,2,    287.4,2,    296.5,2,     8.65,6,    14.92,6,     0.02,2,     1.04,6,     0.53,6,    2.419,2,    2.581,2,     -999,9,     -999,9,     -999,9,     9.00
  18HU20150504, AR07W,   145,  1, 408247,     16,2,20150514,0356, 57.5897, -51.5650,-999,    599.7,   3.3205,  34.8429,2,  34.8441,2,    287.0,2,    295.8,2,     8.63,6,    14.97,6,     0.02,6,     1.03,6,     0.67,6,    2.399,2,    2.412,2,     -999,9,     -999,9,     -999,9,     9.00
  18HU20150504, AR07W,   145,  1, 408248,     17,2,20150514,0356, 57.5897, -51.5650,-999,    450.0,   3.3356,  34.8432,2,  34.8477,2,    286.6,2,    296.4,2,     8.76,6,    14.98,6,     0.02,6,     1.02,6,     0.70,2,    2.412,2,    2.427,2,     -999,9,     -999,9,     -999,9,     9.00
  18HU20150504, AR07W,   145,  1, 408249,     18,2,20150514,0356, 57.5897, -51.5650,-999,    299.9,   3.3630,  34.8400,2,  34.8413,2,    289.1,2,    297.9,2,     8.81,6,    14.90,6,     0.05,6,     1.03,6,     0.69,6,    2.449,2,    2.379,2,     -999,9,     -999,9,     -999,9,     9.00
  18HU20150504, AR07W,   145,  1, 408250,     19,2,20150514,0356, 57.5897, -51.5650,-999,    151.6,   3.3285,  34.8221,2,  34.8257,2,    291.6,2,    300.1,2,     8.39,6,    14.66,6,     0.07,6,     1.00,6,     0.48,6,    2.447,2,    2.550,2,     -999,9,     -999,9,     -999,9,     9.00
  18HU20150504, AR07W,   145,  1, 408251,     20,2,20150514,0356, 57.5897, -51.5650,-999,      2.7,   3.5327,  34.7357,2,     -999,9,    344.7,2,     -999,9,     -999,9,     -999,9,     -999,9,     -999,9,     -999,9,     -999,9,     -999,9,     -999,9,     -999,9,     -999,9,     9.00
  18HU20150504, AR07W,   145,  1, 408252,     21,2,20150514,0356, 57.5897, -51.5650,-999,      2.4,   3.5325,  34.7359,2,     -999,9,    347.9,2,     -999,9,     -999,9,     -999,9,     -999,9,     -999,9,     -999,9,     -999,9,     -999,9,     -999,9,     -999,9,     -999,9,     9.00
  18HU20150504, AR07W,   145,  1, 408253,     22,2,20150514,0356, 57.5897, -51.5650,-999,      2.4,   3.5315,  34.7359,2,     -999,9,    343.7,2,     -999,9,     -999,9,     -999,9,     -999,9,     -999,9,     -999,9,     -999,9,     -999,9,     -999,9,     -999,9,     -999,9,     9.00
  18HU20150504, AR07W,   145,  1, 408254,     23,2,20150514,0356, 57.5897, -51.5650,-999,      2.4,   3.5309,  34.7361,2,     -999,9,    345.8,2,     -999,9,     -999,9,     -999,9,     -999,9,     -999,9,     -999,9,     -999,9,     -999,9,     -999,9,     -999,9,     -999,9,     9.00
  18HU20150504, AR07W,   145,  1, 408255,     24,2,20150514,0356, 57.5897, -51.5650,-999,      2.5,   3.5301,  34.7361,2,     -999,9,    346.6,2,    355.2,2,     -999,9,     -999,9,     -999,9,     -999,9,     -999,9,    2.580,2,    2.836,2,     -999,9,     -999,9,     -999,9,     9.00