BOTTLE,20230713CCHSIOVAJ
EXPOCODE,SECT_ID,STNNBR,CASTNO,SAMPNO,BTLNBR,BTLNBR_FLAG_W,DATE,TIME,LATITUDE,LONGITUDE,DEPTH,CTDPRS,CTDTMP,CTDSAL,CTDSAL_FLAG_W,SALNTY,SALNTY_FLAG_W,CTDOXY,CTDOXY_FLAG_W,OXYGEN,OXYGEN_FLAG_W,SILCAT,SILCAT_FLAG_W,NITRAT,NITRAT_FLAG_W,NITRIT,NITRIT_FLAG_W,PHSPHT,PHSPHT_FLAG_W,NH4,NH4_FLAG_W,CFC-12,CFC-12_FLAG_W,SF6,SF6_FLAG_W,TCARBN,TCARBN_FLAG_W,ALKALI,ALKALI_FLAG_W,PH_TOT,PH_TOT_FLAG_W,PH_TMP
,,,,,,,,,,,METERS,DBAR,ITS-90,PSS-78,,PSS-78,,UMOL/KG,,UMOL/KG,,UMOL/KG,,UMOL/KG,,UMOL/KG,,UMOL/KG,,UMOL/KG,,PMOL/KG,,FMOL/KG,,UMOL/KG,,UMOL/KG,,,,DEG C
  18HU20150504, AR07W,    91,  1, 407996,      1,2,20150511,0138, 59.4803, -49.4743,-999,   3444.9,   1.6302,  34.9000,2,  34.9030,2,    281.3,2,    297.3,2,     8.70,6,    13.63,6,     0.03,6,     0.93,6,     0.77,6,    2.200,2,    1.887,2,   2166.3,2,   2300.7,2,   7.7140,2,    25.00
  18HU20150504, AR07W,    91,  1, 407997,      2,2,20150511,0138, 59.4803, -49.4743,-999,   3380.5,   1.6673,  34.8999,2,  34.9045,2,    281.1,2,    296.4,2,     8.53,6,    13.28,6,     0.02,6,     0.94,6,     0.89,6,    2.185,2,    2.016,2,   2166.5,2,   2300.5,2,   7.7180,2,    25.00
  18HU20150504, AR07W,    91,  1, 407998,      3,2,20150511,0138, 59.4803, -49.4743,-999,   3300.3,   1.7750,  34.8997,2,  34.9020,2,    280.0,2,    294.9,2,     9.01,6,    13.49,6,     0.02,6,     0.96,6,     0.66,6,    2.123,2,    1.855,2,   2168.5,2,   2301.9,2,   7.7180,2,    25.00
  18HU20150504, AR07W,    91,  1, 407999,      4,2,20150511,0138, 59.4803, -49.4743,-999,   3200.5,   1.9827,  34.9003,2,  34.9009,2,    277.4,2,    291.8,2,     9.69,6,    13.78,6,     0.02,6,     0.97,6,     0.59,6,    2.053,2,    1.644,2,   2160.6,2,   2302.2,2,   7.7290,2,    25.00
  18HU20150504, AR07W,    91,  1, 408000,      5,2,20150511,0138, 59.4803, -49.4743,-999,   3081.2,   2.1212,  34.9018,2,  34.9048,2,    275.4,2,    289.3,2,    10.29,6,    14.09,6,     0.00,6,     0.99,6,     0.62,6,    1.961,2,    1.540,2,   2166.6,2,   2302.4,2,   7.7220,2,    25.00
  18HU20150504, AR07W,    91,  1, 408001,      6,2,20150511,0138, 59.4803, -49.4743,-999,   2946.1,   2.2993,  34.9041,2,  34.9071,2,    271.2,2,    285.2,2,    11.78,6,    14.42,6,     0.01,6,     1.02,6,     0.81,6,    1.771,2,    1.253,2,   2163.7,2,   2308.6,2,   7.7280,2,    25.00
  18HU20150504, AR07W,    91,  1, 408002,      7,2,20150511,0138, 59.4803, -49.4743,-999,   2789.5,   2.5110,  34.9124,2,  34.9153,2,    267.5,2,    280.8,2,    12.78,6,    14.92,6,     0.01,6,     1.04,6,     0.79,6,    1.592,2,    1.291,2,   2165.4,2,   2307.5,2,   7.7320,2,    25.00
  18HU20150504, AR07W,    91,  1, 408003,      8,2,20150511,0138, 59.4803, -49.4743,-999,   2610.6,   2.7370,  34.9227,2,  34.9266,6,    264.1,2,    277.4,2,    13.10,6,    15.23,6,     0.01,6,     1.07,6,     0.71,6,    1.477,2,    0.956,2,   2166.5,2,   2306.6,2,   7.7300,2,    25.00
  18HU20150504, AR07W,    91,  1, 408004,      9,2,20150511,0138, 59.4803, -49.4743,-999,   2410.2,   2.8815,  34.9193,2,  34.9228,2,    266.0,2,    278.5,2,    11.60,6,    15.00,6,     0.01,6,     1.06,6,     0.63,6,    1.623,2,    1.137,2,   2163.2,2,   2306.8,2,   7.7320,2,    25.00
  18HU20150504, AR07W,    91,  1, 408005,     10,2,20150511,0138, 59.4803, -49.4743,-999,   2189.3,   3.0573,  34.9191,2,  34.9222,2,    264.4,2,    277.3,2,    11.28,6,    14.90,6,     0.02,6,     1.06,6,     1.11,6,    1.650,2,    1.052,2,   2166.7,2,   2306.3,2,   7.7240,2,    25.00
  18HU20150504, AR07W,    91,  1, 408006,     11,2,20150511,0138, 59.4803, -49.4743,-999,   1960.5,   3.1792,  34.9163,2,  34.9202,2,    264.7,2,    276.1,2,    11.26,6,    15.30,6,     0.04,6,     1.09,6,     0.94,6,    1.593,2,    0.918,2,   2162.2,2,   2301.6,2,   7.7420,2,    25.00
  18HU20150504, AR07W,    91,  1, 408007,     12,2,20150511,0138, 59.4803, -49.4743,-999,   1728.8,   3.3615,  34.9194,2,  34.9226,2,    262.8,2,     -999,9,    10.74,6,    15.60,6,     0.03,6,     1.10,6,     1.30,6,    1.711,2,    1.105,2,   2163.9,2,   2308.3,2,   7.7290,2,    25.00
  18HU20150504, AR07W,    91,  1, 408008,     13,2,20150511,0138, 59.4803, -49.4743,-999,   1501.7,   3.5363,  34.9235,2,  34.9296,2,    262.5,2,     -999,9,    10.37,6,    15.54,6,     0.03,6,     1.09,6,     0.79,6,    1.788,2,    1.325,2,   2165.9,2,   2308.5,2,   7.7280,2,    25.00
  18HU20150504, AR07W,    91,  1, 408009,     14,2,20150511,0138, 59.4803, -49.4743,-999,   1281.3,   3.6670,  34.9214,2,  34.9256,2,    262.6,2,    275.7,2,     9.85,6,    15.77,6,     0.03,6,     1.06,6,     0.95,6,    1.926,2,    1.404,2,   2164.4,2,   2305.7,2,   7.7190,2,    25.00
  18HU20150504, AR07W,    91,  1, 408010,     15,2,20150511,0138, 59.4803, -49.4743,-999,   1071.4,   3.5618,  34.8908,2,  34.8949,6,    272.9,2,    284.7,2,     9.07,6,    15.85,6,     0.03,6,     1.06,6,     0.57,6,    2.141,2,    2.134,2,   2165.4,2,   2298.8,2,   7.7290,2,    25.00
  18HU20150504, AR07W,    91,  1, 408011,     16,2,20150511,0138, 59.4803, -49.4743,-999,    868.2,   3.5392,  34.8796,2,  34.8846,2,    277.8,2,    288.6,2,     8.73,6,    14.74,6,     0.03,6,     1.05,6,     0.70,6,    2.271,2,    1.867,2,   2164.9,2,   2303.1,2,   7.7210,2,    25.00
  18HU20150504, AR07W,    91,  1, 408012,     17,2,20150511,0138, 59.4803, -49.4743,-999,    680.9,   3.6976,  34.8921,2,  34.8957,2,    278.5,2,    289.3,2,     8.53,6,    15.09,6,     0.03,6,     1.04,2,     0.57,6,    2.266,2,    2.004,2,   2162.3,2,   2306.8,2,   7.7180,2,    25.00
  18HU20150504, AR07W,    91,  1, 408013,     18,2,20150511,0138, 59.4803, -49.4743,-999,    510.0,   3.7554,  34.8920,2,  34.8961,2,    281.3,2,    291.5,2,     8.26,6,    15.15,6,     0.02,6,     1.04,6,     0.56,6,    2.327,2,    2.478,2,   2162.6,2,   2303.1,2,   7.7200,2,    25.00
  18HU20150504, AR07W,    91,  1, 408014,     19,2,20150511,0138, 59.4803, -49.4743,-999,    361.0,   3.8146,  34.8907,2,  34.8948,2,    283.7,2,    294.8,2,     7.96,6,    14.93,6,     0.04,6,     1.03,6,     0.68,6,    2.359,2,    2.543,2,   2160.7,2,   2298.9,2,   7.7270,2,    25.00
  18HU20150504, AR07W,    91,  1, 408015,     20,2,20150511,0138, 59.4803, -49.4743,-999,    225.3,   3.7282,  34.8617,2,  34.8646,2,    288.6,2,    297.7,2,     7.64,6,    14.42,6,     0.07,6,     1.01,6,     0.73,6,    2.405,2,    2.607,2,   2158.4,2,   2303.2,2,   7.7300,2,    25.00
  18HU20150504, AR07W,    91,  1, 408016,     21,2,20150511,0138, 59.4803, -49.4743,-999,    101.5,   3.0588,  34.6730,2,  34.6776,2,    315.8,2,    324.4,2,     6.70,6,    10.52,6,     0.11,6,     0.80,6,     1.09,6,    2.600,2,    2.618,2,   2137.0,2,   2297.3,2,   7.7720,2,    25.00
  18HU20150504, AR07W,    91,  1, 408017,     22,2,20150511,0138, 59.4803, -49.4743,-999,     50.6,   2.5514,  34.4092,2,  34.4104,2,    351.0,2,    361.9,2,     5.38,6,     4.70,6,     0.12,6,     0.48,2,     1.21,6,    2.760,2,    3.135,2,   2097.7,2,   2287.1,2,   7.8400,2,    25.00
  18HU20150504, AR07W,    91,  1, 408018,     23,2,20150511,0138, 59.4803, -49.4743,-999,     26.4,   2.3612,  34.2919,2,  34.2954,2,    362.7,2,    371.4,2,     4.80,6,     2.89,6,     0.10,6,     0.37,6,     0.91,6,    2.823,2,    3.111,2,   2095.8,2,   2259.7,2,   7.8900,2,    25.00
  18HU20150504, AR07W,    91,  1, 408019,     24,2,20150511,0138, 59.4803, -49.4743,-999,      3.1,   2.3649,  34.2899,2,  34.2945,2,    362.1,2,    371.0,2,     4.83,6,     2.80,6,     0.10,6,     0.59,6,     0.85,6,    2.840,2,    3.113,2,   2085.6,2,   2265.1,2,   7.8870,2,    25.00
  18HU20150504, AR07W,   104,  1, 408020,      1,2,20150511,1318, 59.9777, -48.9013,-999,    200.4,   3.7837,  34.8367,2,     -999,9,    288.2,2,    297.9,6,     7.51,6,    14.63,6,     0.09,6,     0.99,6,     0.97,6,     -999,9,     -999,9,     -999,9,     -999,9,   7.7360,2,    25.00
  18HU20150504, AR07W,   104,  1, 408021,      2,2,20150511,1318, 59.9777, -48.9013,-999,    150.5,   3.7953,  34.8150,2,     -999,9,    288.6,2,     -999,9,     7.36,6,    14.45,6,     0.08,6,     0.98,6,     0.70,6,     -999,9,     -999,9,     -999,9,     -999,9,   7.7340,2,    25.00
  18HU20150504, AR07W,   104,  1, 408022,      3,2,20150511,1318, 59.9777, -48.9013,-999,    101.5,   3.5239,  34.7473,2,     -999,9,    294.8,2,     -999,9,     7.13,6,    13.88,6,     0.12,6,     0.97,6,     0.66,6,     -999,9,     -999,9,     -999,9,     -999,9,   7.7390,2,    25.00
  18HU20150504, AR07W,   104,  1, 408023,      4,2,20150511,1318, 59.9777, -48.9013,-999,     81.7,   2.7613,  34.5176,2,     -999,9,    325.5,2,     -999,9,     6.59,6,     8.11,6,     0.12,6,     0.69,6,     0.90,6,     -999,9,     -999,9,     -999,9,     -999,9,   7.8090,2,    25.00
  18HU20150504, AR07W,   104,  1, 408024,      5,2,20150511,1318, 59.9777, -48.9013,-999,     61.4,   2.6864,  34.4792,2,     -999,9,    332.3,2,     -999,9,     6.18,6,     6.74,6,     0.12,6,     0.61,2,     1.13,6,     -999,9,     -999,9,     -999,9,     -999,9,   7.8290,2,    25.00
  18HU20150504, AR07W,   104,  1, 408025,      6,2,20150511,1318, 59.9777, -48.9013,-999,     60.6,   2.6882,  34.4789,2,     -999,9,    332.0,2,     -999,9,     -999,9,     -999,9,     -999,9,     -999,9,     -999,9,     -999,9,     -999,9,     -999,9,     -999,9,     -999,9,     9.00
  18HU20150504, AR07W,   104,  1, 408026,      7,2,20150511,1318, 59.9777, -48.9013,-999,     49.4,   2.6739,  34.4740,2,     -999,9,    333.1,2,     -999,9,     6.10,6,     6.65,6,     0.13,6,     0.62,6,     1.10,6,     -999,9,     -999,9,     -999,9,     -999,9,   7.8310,2,    25.00
  18HU20150504, AR07W,   104,  1, 408027,      8,2,20150511,1318, 59.9777, -48.9013,-999,     41.4,   2.7119,  34.4662,2,     -999,9,    342.5,2,     -999,9,     6.06,6,     6.36,6,     0.11,6,     0.59,6,     1.15,6,     -999,9,     -999,9,     -999,9,     -999,9,   7.8370,2,    25.00
  18HU20150504, AR07W,   104,  1, 408028,      9,2,20150511,1318, 59.9777, -48.9013,-999,     41.2,   2.6984,  34.4659,2,     -999,9,    337.7,2,     -999,9,     -999,9,     -999,9,     -999,9,     -999,9,     -999,9,     -999,9,     -999,9,     -999,9,     -999,9,     -999,9,     9.00
  18HU20150504, AR07W,   104,  1, 408029,     10,2,20150511,1318, 59.9777, -48.9013,-999,     31.5,   2.7468,  34.4449,2,     -999,9,    351.6,2,    364.1,6,     5.78,6,     3.73,6,     0.10,6,     0.46,6,     1.24,6,     -999,9,     -999,9,     -999,9,     -999,9,   7.8740,2,    25.00
  18HU20150504, AR07W,   104,  1, 408030,     11,2,20150511,1318, 59.9777, -48.9013,-999,     31.2,   2.7458,  34.4457,2,     -999,9,    353.5,2,     -999,9,     -999,9,     -999,9,     -999,9,     -999,9,     -999,9,     -999,9,     -999,9,     -999,9,     -999,9,     -999,9,     9.00
  18HU20150504, AR07W,   104,  1, 408031,     12,2,20150511,1318, 59.9777, -48.9013,-999,     30.6,   2.7287,  34.4433,2,     -999,9,    355.6,2,     -999,9,     -999,9,     -999,9,     -999,9,     -999,9,     -999,9,     -999,9,     -999,9,     -999,9,     -999,9,     -999,9,     9.00
  18HU20150504, AR07W,   104,  1, 408032,     13,2,20150511,1318, 59.9777, -48.9013,-999,     30.7,   2.7292,  34.4384,2,     -999,9,    351.9,2,     -999,9,     -999,9,     -999,9,     -999,9,     -999,9,     -999,9,     -999,9,     -999,9,     -999,9,     -999,9,     -999,9,     9.00
  18HU20150504, AR07W,   104,  1, 408033,     14,2,20150511,1318, 59.9777, -48.9013,-999,     31.5,   2.7488,  34.4462,2,     -999,9,    353.9,2,     -999,9,     -999,9,     -999,9,     -999,9,     -999,9,     -999,9,     -999,9,     -999,9,     -999,9,     -999,9,     -999,9,     9.00
  18HU20150504, AR07W,   104,  1, 408034,     15,2,20150511,1318, 59.9777, -48.9013,-999,     20.8,   2.2141,  34.2054,2,     -999,9,    367.3,2,     -999,9,     4.25,6,     1.13,6,     0.06,6,     0.28,6,     0.83,6,     -999,9,     -999,9,     -999,9,     -999,9,   7.9180,2,    25.00
  18HU20150504, AR07W,   104,  1, 408035,     16,2,20150511,1318, 59.9777, -48.9013,-999,     21.1,   2.2137,  34.2047,2,     -999,9,    367.4,2,     -999,9,     -999,9,     -999,9,     -999,9,     -999,9,     -999,9,     -999,9,     -999,9,     -999,9,     -999,9,     -999,9,     9.00
  18HU20150504, AR07W,   104,  1, 408036,     17,2,20150511,1318, 59.9777, -48.9013,-999,     12.6,   2.1786,  34.1861,2,     -999,9,    370.0,2,     -999,9,     3.98,6,     0.28,6,     0.05,6,     0.25,6,     0.69,6,     -999,9,     -999,9,     -999,9,     -999,9,   7.9220,2,    25.00
  18HU20150504, AR07W,   104,  1, 408037,     18,2,20150511,1318, 59.9777, -48.9013,-999,     11.7,   2.1805,  34.1877,2,     -999,9,    369.9,2,     -999,9,     -999,9,     -999,9,     -999,9,     -999,9,     -999,9,     -999,9,     -999,9,     -999,9,     -999,9,     -999,9,     9.00
  18HU20150504, AR07W,   104,  1, 408038,     19,2,20150511,1318, 59.9777, -48.9013,-999,      2.7,   2.1877,  34.1868,2,     -999,9,    369.1,2,    381.2,6,     3.96,6,     0.20,6,     0.06,6,     0.24,6,     0.70,6,     -999,9,     -999,9,     -999,9,     -999,9,   7.9180,2,    25.00
  18HU20150504, AR07W,   104,  1, 408039,     20,2,20150511,1318, 59.9777, -48.9013,-999,      2.4,   2.1875,  34.1868,2,     -999,9,    370.4,2,     -999,9,     -999,9,     -999,9,     -999,9,     -999,9,     -999,9,     -999,9,     -999,9,     -999,9,     -999,9,     -999,9,     9.00
  18HU20150504, AR07W,   104,  1, 408040,     21,2,20150511,1318, 59.9777, -48.9013,-999,      2.7,   2.1874,  34.1867,2,     -999,9,    370.0,2,     -999,9,     -999,9,     -999,9,     -999,9,     -999,9,     -999,9,     -999,9,     -999,9,     -999,9,     -999,9,     -999,9,     9.00
  18HU20150504, AR07W,   104,  1, 408041,     22,2,20150511,1318, 59.9777, -48.9013,-999,      2.8,   2.1875,  34.1866,2,     -999,9,    370.3,2,     -999,9,     -999,9,     -999,9,     -999,9,     -999,9,     -999,9,     -999,9,     -999,9,     -999,9,     -999,9,     -999,9,     9.00
  18HU20150504, AR07W,   104,  1, 408042,     23,2,20150511,1318, 59.9777, -48.9013,-999,      2.9,   2.1876,  34.1866,2,     -999,9,    368.8,2,     -999,9,     -999,9,     -999,9,     -999,9,     -999,9,     -999,9,     -999,9,     -999,9,     -999,9,     -999,9,     -999,9,     9.00
  18HU20150504, AR07W,   104,  1, 408043,     24,2,20150511,1318, 59.9777, -48.9013,-999,      2.8,   2.1877,  34.1865,2,     -999,9,    369.9,2,     -999,9,     -999,9,     -999,9,     -999,9,     -999,9,     -999,9,     -999,9,     -999,9,     -999,9,     -999,9,     -999,9,     9.00
  18HU20150504, AR07W,   108,  1, 408044,      1,2,20150511,1725, 60.2307, -48.6013,-999,    401.5,   4.0739,  34.9183,2,     -999,9,    286.3,2,     -999,9,     -999,9,     -999,9,     -999,9,     -999,9,     -999,9,     -999,9,     -999,9,     -999,9,     -999,9,     -999,9,     9.00
  18HU20150504, AR07W,   108,  1, 408045,      2,2,20150511,1725, 60.2307, -48.6013,-999,      5.8,   3.3441,  34.4915,2,     -999,9,    438.8,2,     -999,9,     -999,9,     -999,9,     -999,9,     -999,9,     -999,9,     -999,9,     -999,9,     -999,9,     -999,9,     -999,9,     9.00