BOTTLE,20230713CCHSIOVAJ
EXPOCODE,SECT_ID,STNNBR,CASTNO,SAMPNO,BTLNBR,BTLNBR_FLAG_W,DATE,TIME,LATITUDE,LONGITUDE,DEPTH,CTDPRS,CTDTMP,CTDSAL,CTDSAL_FLAG_W,SALNTY,SALNTY_FLAG_W,CTDOXY,CTDOXY_FLAG_W,OXYGEN,OXYGEN_FLAG_W,SILCAT,SILCAT_FLAG_W,NITRAT,NITRAT_FLAG_W,NITRIT,NITRIT_FLAG_W,PHSPHT,PHSPHT_FLAG_W,NH4,NH4_FLAG_W,CFC-12,CFC-12_FLAG_W,SF6,SF6_FLAG_W,TCARBN,TCARBN_FLAG_W,ALKALI,ALKALI_FLAG_W,PH_TOT,PH_TOT_FLAG_W,PH_TMP
,,,,,,,,,,,METERS,DBAR,ITS-90,PSS-78,,PSS-78,,UMOL/KG,,UMOL/KG,,UMOL/KG,,UMOL/KG,,UMOL/KG,,UMOL/KG,,UMOL/KG,,PMOL/KG,,FMOL/KG,,UMOL/KG,,UMOL/KG,,,,DEG C
  18HU20150504, AR07W,    55,  1, 407900,      1,2,20150510,0148, 57.8008, -51.3437,-999,   3679.8,   1.6995,  34.8958,2,  34.8991,2,    281.0,2,    296.3,2,     9.69,6,    13.27,6,     -999,9,     0.95,6,     0.56,6,    2.174,2,    1.999,2,   2168.4,2,   2302.7,2,   7.7190,2,    25.00
  18HU20150504, AR07W,    55,  1, 407901,      2,2,20150510,0148, 57.8008, -51.3437,-999,   3589.0,   1.7234,  34.8960,2,  34.8997,2,    280.5,2,    295.2,2,     9.78,6,    13.33,6,     0.02,6,     0.96,6,     0.55,6,    2.168,2,    2.012,2,   2166.8,2,   2301.5,2,   7.7160,2,    25.00
  18HU20150504, AR07W,    55,  1, 407902,      3,2,20150510,0148, 57.8008, -51.3437,-999,   3488.1,   1.9467,  34.8982,2,  34.9010,2,    278.0,2,    292.7,2,     9.92,6,    13.68,6,     -999,9,     0.96,6,     1.88,6,    2.043,2,    1.706,2,   2165.5,2,   2307.2,2,   7.7190,2,    25.00
  18HU20150504, AR07W,    55,  1, 407903,      4,2,20150510,0148, 57.8008, -51.3437,-999,   3379.6,   2.1946,  34.9012,2,  34.8882,6,    272.3,2,    286.9,2,    11.74,6,    14.14,6,     -999,9,     1.00,6,     0.65,6,    1.827,2,    1.563,2,   2174.3,4,   2269.2,4,   7.7250,2,    25.00
  18HU20150504, AR07W,    55,  1, 407904,      5,2,20150510,0148, 57.8008, -51.3437,-999,   3250.9,   2.4177,  34.9067,2,  34.9117,2,    268.3,2,    282.2,2,    13.15,6,    14.65,6,     -999,9,     1.04,6,     0.51,6,    1.610,2,    1.208,2,   2165.7,2,   2304.2,2,   7.7310,2,    25.00
  18HU20150504, AR07W,    55,  1, 407905,      6,2,20150510,0148, 57.8008, -51.3437,-999,   3116.5,   2.6286,  34.9134,2,  34.9202,2,    266.2,2,    279.7,2,    13.18,6,    14.95,6,     0.02,2,     1.04,6,     0.54,6,    1.525,2,    1.133,2,   2164.6,2,   2312.0,2,   7.7320,2,    25.00
  18HU20150504, AR07W,    55,  1, 407906,      7,2,20150510,0148, 57.8008, -51.3437,-999,   2940.5,   2.8201,  34.9183,2,  34.9197,2,    265.1,2,    278.1,2,    12.39,6,    14.94,6,     0.05,6,     1.08,6,     0.50,6,    1.533,2,    1.099,2,   2162.4,2,   2308.0,2,   7.7320,2,    25.00
  18HU20150504, AR07W,    55,  1, 407907,      8,2,20150510,0148, 57.8008, -51.3437,-999,   2741.1,   2.9701,  34.9178,2,  34.9217,2,    264.2,2,    277.2,2,    12.08,6,    15.18,6,     0.02,6,     1.08,6,     0.62,6,    1.500,2,    0.992,2,   2162.6,2,   2304.3,2,   7.7240,2,    25.00
  18HU20150504, AR07W,    55,  1, 407908,      9,2,20150510,0148, 57.8008, -51.3437,-999,   2519.0,   3.1112,  34.9163,2,  34.9204,2,    264.0,2,    276.4,2,    11.51,6,    15.19,6,     0.02,6,     1.08,6,     0.63,6,    1.549,2,    1.048,2,   2163.7,2,   2306.4,2,   7.7320,2,    25.00
  18HU20150504, AR07W,    55,  1, 407909,     10,2,20150510,0148, 57.8008, -51.3437,-999,   2286.8,   3.2979,  34.9177,2,  34.9224,2,    263.8,2,    275.5,2,    10.91,6,    15.47,6,     0.02,6,     1.07,6,     0.60,6,    1.657,2,    1.232,2,   2165.7,2,   2302.3,2,   7.7290,2,    25.00
  18HU20150504, AR07W,    55,  1, 407910,     11,2,20150510,0148, 57.8008, -51.3437,-999,   2004.1,   3.5522,  34.9198,2,  34.9244,2,    261.6,2,    273.4,2,    10.55,6,    15.66,6,     0.02,6,     1.09,6,     0.59,6,    1.722,2,    1.202,2,   2168.5,2,   2299.7,2,   7.7380,2,    25.00
  18HU20150504, AR07W,    55,  1, 407911,     12,2,20150510,0148, 57.8008, -51.3437,-999,   1720.8,   3.4984,  34.8741,2,  34.8794,2,    276.4,2,    287.9,2,     9.06,6,    15.19,6,     0.02,6,     1.07,6,     0.63,6,    2.217,2,    2.017,2,   2164.7,2,   2299.6,2,   7.7180,2,    25.00
  18HU20150504, AR07W,    55,  1, 407912,     13,2,20150510,0148, 57.8008, -51.3437,-999,   1500.9,   3.3841,  34.8519,2,  34.8569,2,    284.6,2,    296.3,2,     8.36,6,    15.08,6,     0.02,6,     1.05,6,     0.61,6,    2.360,2,    2.305,2,   2161.4,2,   2296.5,2,   7.7260,2,    25.00
  18HU20150504, AR07W,    55,  1, 407913,     14,2,20150510,0148, 57.8008, -51.3437,-999,   1301.0,   3.3634,  34.8495,2,  34.8554,2,    286.0,2,    297.3,2,     8.43,6,    15.14,6,     0.03,6,     1.03,6,     0.58,6,    2.383,2,    2.460,2,   2164.2,2,   2300.2,2,   7.7220,2,    25.00
  18HU20150504, AR07W,    55,  1, 407914,     15,2,20150510,0148, 57.8008, -51.3437,-999,   1072.3,   3.3087,  34.8427,2,  34.8477,2,    287.9,2,    298.4,2,     8.34,6,    15.04,6,     0.03,6,     1.03,6,     0.61,6,    2.411,2,    2.714,2,   2164.5,2,   2296.4,2,   7.7230,2,    25.00
  18HU20150504, AR07W,    55,  1, 407915,     16,2,20150510,0148, 57.8008, -51.3437,-999,    867.9,   3.3418,  34.8479,2,  34.8537,6,    286.5,2,    296.9,2,     8.49,6,    15.01,6,     0.03,6,     1.03,6,     0.71,6,    2.390,2,    2.365,2,   2161.5,2,   2294.4,2,   7.7230,2,    25.00
  18HU20150504, AR07W,    55,  1, 407916,     17,2,20150510,0148, 57.8008, -51.3437,-999,    682.2,   3.3767,  34.8507,2,  34.8561,2,    287.0,2,    295.9,2,     8.30,6,    15.06,6,     0.03,6,     1.04,6,     0.66,6,    2.388,2,    2.345,2,   2163.4,2,   2295.9,2,   7.7190,2,    25.00
  18HU20150504, AR07W,    55,  1, 407917,     18,2,20150510,0148, 57.8008, -51.3437,-999,    510.8,   3.4014,  34.8494,2,  34.8531,2,    288.4,2,    297.1,2,     8.03,6,    14.82,6,     0.03,6,     1.03,6,     0.48,6,    2.410,2,    2.572,2,   2163.9,2,   2298.1,2,   7.7220,2,    25.00
  18HU20150504, AR07W,    55,  1, 407918,     19,2,20150510,0148, 57.8008, -51.3437,-999,    362.3,   3.4138,  34.8475,2,  34.8562,2,    290.6,2,    298.8,6,     7.97,6,    14.71,6,     0.04,6,     1.02,6,     0.60,6,    2.428,2,    2.683,2,   2161.4,2,   2299.7,2,   7.7250,2,    25.00
  18HU20150504, AR07W,    55,  1, 407919,     20,2,20150510,0148, 57.8008, -51.3437,-999,    220.1,   3.4530,  34.8464,2,  34.8511,2,    289.0,2,    298.3,2,     7.96,6,    14.67,6,     0.05,6,     1.03,6,     0.73,6,    2.425,2,    2.838,2,   2162.7,2,   2296.7,2,   7.7250,2,    25.00
  18HU20150504, AR07W,    55,  1, 407920,     21,2,20150510,0148, 57.8008, -51.3437,-999,    100.7,   3.4125,  34.8276,2,  34.8315,2,    295.6,2,    302.7,2,     7.54,6,    14.34,6,     0.10,6,     1.00,6,     0.66,6,    2.454,2,    2.823,2,   2159.4,2,   2296.5,2,   7.7300,2,    25.00
  18HU20150504, AR07W,    55,  1, 407921,     22,2,20150510,0148, 57.8008, -51.3437,-999,     50.5,   3.4896,  34.7803,2,     -999,9,    308.8,2,    316.8,2,     6.90,6,     8.12,6,     0.14,6,     0.66,6,     0.95,6,    2.534,2,    2.950,2,   2147.9,2,   2297.5,2,   7.7650,2,    25.00
  18HU20150504, AR07W,    55,  1, 407922,     23,2,20150510,0148, 57.8008, -51.3437,-999,     26.8,   3.5926,  34.7488,2,     -999,9,    332.3,2,    340.0,2,     6.91,6,     8.43,6,     0.13,6,     0.69,6,     0.88,6,    2.571,2,    3.001,2,   2125.3,2,   2295.7,2,   7.8210,2,    25.00
  18HU20150504, AR07W,    55,  1, 407923,     24,2,20150510,0148, 57.8008, -51.3437,-999,      2.6,   3.6210,  34.7464,2,     -999,9,    336.7,2,    343.6,2,     7.18,6,    11.69,6,     0.11,6,     0.85,6,     0.80,6,    2.605,2,    2.873,2,   2122.7,2,   2297.5,2,   7.7920,2,    25.00
  18HU20150504, AR07W,    69,  1, 407924,      1,2,20150510,0951, 58.6388, -50.4173,-999,   3565.6,   1.6374,  34.8954,2,  34.8978,2,    282.1,2,    296.7,2,     9.90,6,    13.26,6,     0.02,6,     0.96,6,     0.51,6,    2.198,2,    2.052,2,   2166.3,2,   2305.9,2,   7.7110,2,    25.00
  18HU20150504, AR07W,    69,  1, 407925,      2,2,20150510,0951, 58.6388, -50.4173,-999,   3521.2,   1.6316,  34.8954,2,  34.8992,2,    281.5,2,    296.8,2,     9.99,6,    13.29,6,     0.02,6,     0.96,6,     0.67,6,    2.199,2,    2.054,2,   2167.9,2,   2301.1,2,   7.7440,2,    25.00
  18HU20150504, AR07W,    69,  1, 407926,      3,2,20150510,0951, 58.6388, -50.4173,-999,   3429.3,   1.6940,  34.8948,2,  34.8976,2,    280.9,2,    295.8,2,    10.24,6,    13.16,6,     0.01,6,     0.99,6,     0.56,6,    2.156,2,    2.028,2,   2168.2,2,   2304.6,2,   7.7080,2,    25.00
  18HU20150504, AR07W,    69,  1, 407927,      4,2,20150510,0951, 58.6388, -50.4173,-999,   3319.7,   1.8861,  34.8971,2,  34.9002,2,    279.1,2,    293.4,2,     9.99,6,    13.38,6,     0.01,6,     0.98,6,     0.65,6,    2.093,2,    1.664,2,   2165.0,2,   2307.3,2,   7.7180,2,    25.00
  18HU20150504, AR07W,    69,  1, 407928,      5,2,20150510,0951, 58.6388, -50.4173,-999,   3200.9,   2.1478,  34.8996,2,  34.9021,2,    274.4,2,    288.4,2,    11.36,6,    13.77,6,     0.02,6,     1.02,6,     0.60,6,    1.885,2,    1.504,2,   2166.8,2,   2305.6,2,   7.7320,2,    25.00
  18HU20150504, AR07W,    69,  1, 407929,      6,2,20150510,0951, 58.6388, -50.4173,-999,   3059.8,   2.3533,  34.9038,2,  34.9107,6,    270.8,2,    284.3,2,    12.35,6,    14.27,6,     0.00,6,     1.04,6,     0.50,6,    1.712,2,    1.210,2,   2166.5,2,   2298.5,2,   7.7260,2,    25.00
  18HU20150504, AR07W,    69,  1, 407930,      7,2,20150510,0951, 58.6388, -50.4173,-999,   2900.6,   2.5319,  34.9102,2,  34.9133,2,    267.9,2,    281.8,6,    12.85,6,    14.58,6,     0.01,6,     1.06,6,     0.75,6,    1.592,2,    1.160,2,   2167.2,2,   2302.7,2,   7.7440,2,    25.00
  18HU20150504, AR07W,    69,  1, 407931,      8,2,20150510,0951, 58.6388, -50.4173,-999,   2711.0,   2.7305,  34.9164,2,  34.9200,2,    266.5,2,    279.2,2,    12.35,6,    14.65,6,     0.01,6,     1.07,6,     0.88,6,    1.576,2,    0.978,2,   2167.5,2,   2301.6,2,   7.7350,2,    25.00
  18HU20150504, AR07W,    69,  1, 407932,      9,2,20150510,0951, 58.6388, -50.4173,-999,   2500.6,   2.9066,  34.9166,2,  34.9231,2,    265.9,2,    278.8,2,    11.75,6,    14.47,6,     0.01,6,     1.05,6,     0.66,6,    1.576,2,    1.086,2,   2164.6,2,   2302.7,2,   7.7360,2,    25.00
  18HU20150504, AR07W,    69,  1, 407933,     10,2,20150510,0951, 58.6388, -50.4173,-999,   2270.5,   3.0551,  34.9164,2,  34.9205,2,    265.5,2,    276.9,2,    11.37,6,    14.87,6,     0.01,6,     1.07,6,     0.77,6,    1.576,2,    0.897,2,   2165.5,2,   2297.1,2,   7.7260,2,    25.00
  18HU20150504, AR07W,    69,  1, 407934,     11,2,20150510,0951, 58.6388, -50.4173,-999,   2020.1,   3.1947,  34.9167,2,  34.9317,6,    264.2,2,    276.5,2,    11.16,6,    15.16,6,     0.02,6,     1.08,6,     0.64,6,    1.619,2,    0.986,2,   2167.1,2,   2304.8,2,   7.7240,2,    25.00
  18HU20150504, AR07W,    69,  1, 407935,     12,2,20150510,0951, 58.6388, -50.4173,-999,   1768.2,   3.3469,  34.9179,2,  34.9245,2,    263.1,2,    274.1,2,    10.95,6,    15.43,6,     0.01,6,     1.11,2,     0.53,6,    1.638,2,    0.897,2,   2167.6,2,   2303.4,2,   7.7300,2,    25.00
  18HU20150504, AR07W,    69,  1, 407936,     13,2,20150510,0951, 58.6388, -50.4173,-999,   1530.9,   3.5133,  34.9205,2,  34.9241,2,    262.8,2,    273.7,2,    10.55,6,    15.56,6,     0.02,6,     1.09,6,     0.59,6,    1.743,2,    1.026,2,   2167.6,2,   2299.5,2,   7.7150,2,    25.00
  18HU20150504, AR07W,    69,  1, 407937,     14,2,20150510,0951, 58.6388, -50.4173,-999,   1291.5,   3.6126,  34.9152,2,  34.9192,2,    264.5,2,    274.5,2,    10.19,6,    15.42,6,     0.02,6,     1.09,6,     1.06,6,    1.841,2,    1.241,2,   2167.1,2,   2308.4,2,   7.7260,2,    25.00
  18HU20150504, AR07W,    69,  1, 407938,     15,2,20150510,0951, 58.6388, -50.4173,-999,   1072.1,   3.3792,  34.8660,2,  34.8732,2,    282.3,2,    291.8,2,     8.74,6,    15.03,6,     0.03,6,     1.05,6,     0.58,6,    2.268,2,    2.077,2,   2167.1,2,   2297.4,2,   7.7260,2,    25.00
  18HU20150504, AR07W,    69,  1, 407939,     16,2,20150510,0951, 58.6388, -50.4173,-999,    873.5,   3.3369,  34.8583,2,  34.8629,2,    284.3,2,    294.6,2,     8.67,6,    15.10,6,     0.02,6,     1.06,6,     0.70,6,    2.332,2,    2.276,2,   2165.7,2,   2300.6,2,   7.7180,2,    25.00
  18HU20150504, AR07W,    69,  1, 407940,     17,2,20150510,0951, 58.6388, -50.4173,-999,    683.3,   3.3252,  34.8555,2,  34.8597,2,    285.1,2,    294.4,2,     8.56,6,    15.13,6,     0.03,6,     1.03,6,     0.65,6,    2.320,2,    2.182,2,   2163.9,2,   2299.5,2,   7.7250,2,    25.00
  18HU20150504, AR07W,    69,  1, 407941,     18,2,20150510,0951, 58.6388, -50.4173,-999,    511.6,   3.3347,  34.8542,2,  34.8559,2,    285.3,2,    293.8,2,     8.47,6,    15.04,6,     0.03,6,     1.05,2,     0.76,6,    2.362,2,    2.142,2,   2163.2,2,   2303.5,2,   7.7190,2,    25.00
  18HU20150504, AR07W,    69,  1, 407942,     19,2,20150510,0951, 58.6388, -50.4173,-999,    360.3,   3.3182,  34.8498,2,  34.8537,2,    286.3,2,     -999,5,     8.39,6,    14.93,6,     0.04,6,     1.04,6,     0.66,6,    2.378,2,    2.040,2,   2165.2,2,   2295.4,2,   7.7150,2,    25.00
  18HU20150504, AR07W,    69,  1, 407943,     20,2,20150510,0951, 58.6388, -50.4173,-999,    222.3,   3.2751,  34.8383,2,  34.8422,2,    287.8,2,    296.1,2,     8.23,6,    14.94,6,     0.06,6,     1.05,6,     0.96,6,    2.428,2,    2.583,2,   2165.8,2,   2294.1,2,   7.7120,2,    25.00
  18HU20150504, AR07W,    69,  1, 407944,     21,2,20150510,0951, 58.6388, -50.4173,-999,    101.6,   3.1714,  34.7619,2,  34.7721,2,    317.2,2,    325.3,2,     7.30,6,    11.12,6,     0.11,6,     0.85,6,     0.87,6,    2.601,2,    2.874,2,   2143.5,2,   2300.1,2,   7.7590,2,    25.00
  18HU20150504, AR07W,    69,  1, 407945,     22,2,20150510,0951, 58.6388, -50.4173,-999,     49.7,   3.2211,  34.7531,2,     -999,9,    324.9,2,    332.2,2,     7.16,6,    10.06,6,     0.11,6,     0.80,6,     0.97,6,    2.609,2,    2.823,2,   2137.4,2,   2298.6,2,   7.7810,2,    25.00
  18HU20150504, AR07W,    69,  1, 407946,     23,2,20150510,0951, 58.6388, -50.4173,-999,     26.1,   3.2233,  34.7233,2,     -999,9,    334.7,2,    342.8,2,     6.90,6,     8.15,6,     0.11,6,     0.69,2,     0.89,6,    2.645,2,    2.926,2,   2122.7,2,   2302.6,2,   7.8230,2,    25.00
  18HU20150504, AR07W,    69,  1, 407947,     24,2,20150510,0951, 58.6388, -50.4173,-999,      3.2,   3.2888,  34.6784,2,     -999,9,    353.0,2,    360.6,2,     6.53,6,     5.10,6,     0.11,6,     0.53,6,     0.86,6,    2.655,2,    2.883,2,   2100.3,2,   2302.4,2,   7.8570,2,    25.00