BOTTLE,20230713CCHSIOVAJ
EXPOCODE,SECT_ID,STNNBR,CASTNO,SAMPNO,BTLNBR,BTLNBR_FLAG_W,DATE,TIME,LATITUDE,LONGITUDE,DEPTH,CTDPRS,CTDTMP,CTDSAL,CTDSAL_FLAG_W,SALNTY,SALNTY_FLAG_W,CTDOXY,CTDOXY_FLAG_W,OXYGEN,OXYGEN_FLAG_W,SILCAT,SILCAT_FLAG_W,NITRAT,NITRAT_FLAG_W,NITRIT,NITRIT_FLAG_W,PHSPHT,PHSPHT_FLAG_W,NH4,NH4_FLAG_W,CFC-12,CFC-12_FLAG_W,SF6,SF6_FLAG_W,TCARBN,TCARBN_FLAG_W,ALKALI,ALKALI_FLAG_W,PH_TOT,PH_TOT_FLAG_W,PH_TMP
,,,,,,,,,,,METERS,DBAR,ITS-90,PSS-78,,PSS-78,,UMOL/KG,,UMOL/KG,,UMOL/KG,,UMOL/KG,,UMOL/KG,,UMOL/KG,,UMOL/KG,,PMOL/KG,,FMOL/KG,,UMOL/KG,,UMOL/KG,,,,DEG C
  18HU20150504, AR07W,   184,  1, 408447,      1,2,20150516,1042, 55.6082, -53.6223,-999,   2933.7,   1.8790,  34.8954,2,  34.8978,2,    278.4,2,    294.1,2,    10.71,2,    12.92,2,     0.07,2,     0.99,2,     0.70,2,    2.048,2,    1.883,2,   2168.2,2,   2303.8,2,   7.7200,2,    25.00
  18HU20150504, AR07W,   184,  1, 408448,      2,2,20150516,1042, 55.6082, -53.6223,-999,   2877.3,   1.8757,  34.8955,2,  34.8984,2,    278.0,2,    294.6,2,    11.36,6,    13.62,6,     0.07,6,     0.99,6,     0.64,6,    2.043,2,    1.843,2,   2169.8,2,   2300.8,2,   7.7210,2,    25.00
  18HU20150504, AR07W,   184,  1, 408449,      3,2,20150516,1042, 55.6082, -53.6223,-999,   2799.3,   2.1236,  34.8988,2,  34.9006,2,    274.8,2,    291.8,2,    11.99,6,    14.24,6,     0.11,6,     1.00,6,     1.08,6,    1.901,2,    1.523,2,   2167.7,2,   2300.7,2,   7.7240,2,    25.00
  18HU20150504, AR07W,   184,  1, 408450,      4,2,20150516,1042, 55.6082, -53.6223,-999,   2690.1,   2.3391,  34.9037,2,  34.9056,2,    271.3,2,    287.1,2,    12.84,6,    14.65,6,     0.10,6,     1.08,6,     1.09,6,    1.749,2,    1.491,2,   2167.5,2,   2307.0,2,   7.7350,2,    25.00
  18HU20150504, AR07W,   184,  1, 408451,      5,2,20150516,1042, 55.6082, -53.6223,-999,   2560.5,   2.5642,  34.9099,2,  34.9155,2,    268.1,2,    283.9,2,    13.12,6,    14.98,6,     0.10,6,     1.06,6,     1.07,6,    1.602,2,    1.318,2,   2167.4,2,   2304.0,2,   7.7270,2,    25.00
  18HU20150504, AR07W,   184,  1, 408452,      6,2,20150516,1042, 55.6082, -53.6223,-999,   2421.1,   2.7775,  34.9146,2,  34.9174,2,    266.1,2,    281.0,6,    12.72,6,    14.92,6,     0.10,6,     1.07,6,     1.02,6,    1.601,2,    1.261,2,   2166.7,2,   2304.7,2,   7.7300,2,    25.00
  18HU20150504, AR07W,   184,  1, 408453,      7,2,20150516,1042, 55.6082, -53.6223,-999,   2265.8,   2.9794,  34.9157,2,  34.9238,6,    265.2,2,    279.5,2,    12.37,6,    15.14,6,     0.10,6,     1.07,6,     1.03,6,    1.605,2,    1.178,2,   2163.8,2,   2305.5,2,   7.7290,2,    25.00
  18HU20150504, AR07W,   184,  1, 408454,      8,2,20150516,1042, 55.6082, -53.6223,-999,   2105.7,   3.1114,  34.9158,2,  34.9246,2,    264.3,2,    279.0,2,    12.03,6,    15.19,6,     0.09,6,     1.09,6,     0.95,6,    1.625,2,    1.157,2,   2164.3,2,   2299.1,2,   7.7330,2,    25.00
  18HU20150504, AR07W,   184,  1, 408455,      9,2,20150516,1042, 55.6082, -53.6223,-999,   1938.4,   3.2886,  34.9168,2,  34.9188,2,    262.9,2,    277.3,2,    11.20,6,    15.48,6,     0.09,6,     1.08,6,     0.84,6,    1.637,2,    1.159,2,   2165.2,2,   2301.8,2,   7.7280,2,    25.00
  18HU20150504, AR07W,   184,  1, 408456,     10,2,20150516,1042, 55.6082, -53.6223,-999,   1761.2,   3.4954,  34.9196,2,  34.9218,2,    262.5,2,    276.6,2,    10.92,6,    15.53,6,     0.11,6,     1.08,6,     1.07,6,    1.742,2,    1.284,2,   2167.5,2,   2303.0,2,   7.7120,2,    25.00
  18HU20150504, AR07W,   184,  1, 408457,     11,2,20150516,1042, 55.6082, -53.6223,-999,   1566.6,   3.5247,  34.8916,2,  34.8894,2,    272.8,2,    287.2,2,     9.60,6,    15.46,6,     0.09,6,     1.07,6,     0.89,6,    2.117,2,    1.855,2,   2165.5,2,   2301.5,2,   7.7350,2,    25.00
  18HU20150504, AR07W,   184,  1, 408458,     12,2,20150516,1042, 55.6082, -53.6223,-999,   1379.3,   3.3524,  34.8563,2,  34.8623,2,    283.2,2,    297.1,2,     8.79,6,    14.94,6,     0.11,6,     1.05,6,     0.91,6,    2.314,2,    2.343,2,   2163.6,2,   2301.8,2,   7.7200,2,    25.00
  18HU20150504, AR07W,   184,  1, 408459,     13,2,20150516,1042, 55.6082, -53.6223,-999,   1178.8,   3.3370,  34.8538,2,  34.8583,2,    283.8,2,    297.4,2,     8.83,6,    15.00,6,     0.09,6,     1.05,6,     0.78,6,    2.326,2,    2.423,2,   2163.7,2,   2299.7,2,   7.7170,2,    25.00
  18HU20150504, AR07W,   184,  1, 408460,     14,2,20150516,1042, 55.6082, -53.6223,-999,    991.2,   3.3171,  34.8492,2,  34.8570,6,    285.1,2,    297.6,2,     9.46,6,    14.89,6,     0.12,6,     1.05,6,     0.96,6,    2.323,2,    2.381,2,   2164.2,2,   2303.2,2,   7.7210,2,    25.00
  18HU20150504, AR07W,   184,  1, 408461,     15,2,20150516,1042, 55.6082, -53.6223,-999,    809.6,   3.2945,  34.8438,2,  34.8497,2,    286.5,2,    298.5,2,     8.63,6,    14.92,6,     0.11,6,     1.05,6,     0.70,6,    2.349,2,    2.515,2,   2162.5,2,   2299.1,2,   7.7230,2,    25.00
  18HU20150504, AR07W,   184,  1, 408462,     16,2,20150516,1042, 55.6082, -53.6223,-999,    638.9,   3.2803,  34.8415,2,  34.8448,2,    287.0,2,    299.4,2,     8.97,6,    14.87,6,     0.13,6,     1.05,6,     1.05,6,    2.352,2,    2.505,2,   2164.0,2,   2299.2,2,   7.7260,2,    25.00
  18HU20150504, AR07W,   184,  1, 408463,     17,2,20150516,1042, 55.6082, -53.6223,-999,    489.7,   3.2827,  34.8402,2,  34.8443,2,    286.8,2,    298.6,2,     8.38,6,    15.05,6,     0.13,6,     1.03,6,     1.10,6,    2.351,2,    2.416,2,   2163.0,2,   2297.4,2,   7.7250,2,    25.00
  18HU20150504, AR07W,   184,  1, 408464,     18,2,20150516,1042, 55.6082, -53.6223,-999,    350.4,   3.3105,  34.8382,2,  34.8414,2,    287.1,2,    297.6,2,     8.60,6,    14.73,6,     0.12,6,     1.03,6,     0.88,6,    2.371,2,    2.400,2,   2161.7,2,   2302.6,2,   7.7240,2,    25.00
  18HU20150504, AR07W,   184,  1, 408465,     19,2,20150516,1042, 55.6082, -53.6223,-999,    218.4,   3.3174,  34.8319,2,  34.8361,2,    287.0,2,    297.1,2,     8.39,6,    14.72,6,     0.12,6,     1.04,6,     0.92,6,    2.363,2,    2.441,2,   2159.9,2,   2299.9,2,   7.7180,2,    25.00
  18HU20150504, AR07W,   184,  1, 408466,     20,2,20150516,1042, 55.6082, -53.6223,-999,     99.9,   3.2676,  34.7681,2,     -999,9,    302.5,2,    315.2,2,     7.85,6,    12.85,6,     0.19,6,     0.94,6,     1.25,6,    2.469,2,    2.844,2,   2150.3,2,   2298.4,2,   7.7560,2,    25.00
  18HU20150504, AR07W,   184,  1, 408467,     21,2,20150516,1042, 55.6082, -53.6223,-999,     49.2,   3.2788,  34.7520,2,  34.7549,2,    319.3,2,    330.2,2,     9.12,6,    11.04,6,     0.19,6,     0.85,6,     1.18,6,    2.544,2,    2.979,2,   2139.4,2,   2298.2,2,   7.7760,2,    25.00
  18HU20150504, AR07W,   184,  1, 408468,     22,2,20150516,1042, 55.6082, -53.6223,-999,     30.1,   3.3090,  34.7396,2,  34.7456,2,    324.6,2,    334.0,2,     7.54,6,    10.68,6,     0.18,6,     0.83,6,     1.33,6,    2.569,2,    2.938,2,     -999,9,     -999,9,     -999,9,     9.00
  18HU20150504, AR07W,   184,  1, 408469,     23,2,20150516,1042, 55.6082, -53.6223,-999,     19.5,   3.3036,  34.7337,2,     -999,9,    326.9,2,    338.1,2,     7.41,6,     9.87,6,     0.18,6,     0.79,6,     1.25,6,    2.565,2,    2.804,2,   2136.6,2,   2291.1,2,   7.7940,2,    25.00
  18HU20150504, AR07W,   184,  1, 408470,     24,2,20150516,1042, 55.6082, -53.6223,-999,      2.5,   3.3175,  34.7337,2,     -999,9,    328.4,2,    339.4,2,     7.63,6,     9.98,6,     0.19,6,     0.80,6,     1.26,6,    2.583,2,    2.841,2,   2130.4,2,   2301.2,2,   7.7940,2,    25.00
  18HU20150504, AR07W,   190,  1, 408471,      1,2,20150516,1608, 55.7328, -53.4948,-999,    198.5,   3.2916,  34.8195,2,     -999,9,    286.2,2,    214.1,4,     7.95,6,    15.35,6,     0.16,6,     1.02,6,     1.40,6,     -999,9,     -999,9,     -999,9,     -999,9,   7.7230,2,    25.00
  18HU20150504, AR07W,   190,  1, 408472,      2,2,20150516,1608, 55.7328, -53.4948,-999,    149.5,   3.2950,  34.8133,2,     -999,9,    286.8,2,     -999,9,     7.95,6,    14.90,6,     0.20,6,     1.02,6,     1.26,6,     -999,9,     -999,9,     -999,9,     -999,9,   7.7260,2,    25.00
  18HU20150504, AR07W,   190,  1, 408473,      3,2,20150516,1608, 55.7328, -53.4948,-999,     99.9,   3.2902,  34.7977,2,     -999,9,    289.3,2,     -999,9,     7.90,6,    14.49,6,     0.21,6,     1.01,6,     1.08,6,     -999,9,     -999,9,     -999,9,     -999,9,   7.7270,2,    25.00
  18HU20150504, AR07W,   190,  1, 408474,      4,2,20150516,1608, 55.7328, -53.4948,-999,     79.7,   3.2834,  34.7880,2,     -999,9,    289.1,2,     -999,9,     8.38,6,    14.60,6,     0.23,6,     1.01,6,     0.96,6,     -999,9,     -999,9,     -999,9,     -999,9,   7.7310,2,    25.00
  18HU20150504, AR07W,   190,  1, 408475,      5,2,20150516,1608, 55.7328, -53.4948,-999,     59.7,   3.2849,  34.7624,2,     -999,9,    296.9,2,     -999,9,     9.63,6,    13.01,6,     0.22,6,     0.97,6,     1.07,6,     -999,9,     -999,9,     -999,9,     -999,9,   7.7350,2,    25.00
  18HU20150504, AR07W,   190,  1, 408476,      6,2,20150516,1608, 55.7328, -53.4948,-999,     59.9,   3.2861,  34.7613,2,     -999,9,    294.1,2,     -999,9,     -999,9,     -999,9,     -999,9,     -999,9,     -999,9,     -999,9,     -999,9,     -999,9,     -999,9,     -999,9,     9.00
  18HU20150504, AR07W,   190,  1, 408477,      7,2,20150516,1608, 55.7328, -53.4948,-999,     49.6,   3.3083,  34.7457,2,     -999,9,    300.4,2,     -999,9,     7.49,6,    12.41,6,     0.22,6,     0.93,6,     1.30,6,     -999,9,     -999,9,     -999,9,     -999,9,   7.7450,2,    25.00
  18HU20150504, AR07W,   190,  1, 408478,      8,2,20150516,1608, 55.7328, -53.4948,-999,     39.8,   3.2955,  34.7285,2,     -999,9,    306.8,2,     -999,9,     7.27,6,    11.13,6,     0.09,6,     0.89,6,     0.43,6,     -999,9,     -999,9,     -999,9,     -999,9,   7.7490,2,    25.00
  18HU20150504, AR07W,   190,  1, 408479,      9,2,20150516,1608, 55.7328, -53.4948,-999,     39.6,   3.2945,  34.7265,2,     -999,9,    305.0,2,     -999,9,     -999,9,     -999,9,     -999,9,     -999,9,     -999,9,     -999,9,     -999,9,     -999,9,     -999,9,     -999,9,     9.00
  18HU20150504, AR07W,   190,  1, 408480,     10,2,20150516,1608, 55.7328, -53.4948,-999,     30.0,   3.2987,  34.7174,2,     -999,9,    310.3,2,    326.2,6,     7.22,6,    10.86,6,     0.10,6,     0.86,6,     0.49,6,     -999,9,     -999,9,     -999,9,     -999,9,   7.7630,2,    25.00
  18HU20150504, AR07W,   190,  1, 408481,     11,2,20150516,1608, 55.7328, -53.4948,-999,     29.6,   3.2996,  34.7167,2,     -999,9,    310.6,2,     -999,9,     -999,9,     -999,9,     -999,9,     -999,9,     -999,9,     -999,9,     -999,9,     -999,9,     -999,9,     -999,9,     9.00
  18HU20150504, AR07W,   190,  1, 408482,     12,2,20150516,1608, 55.7328, -53.4948,-999,     29.7,   3.3002,  34.7163,2,     -999,9,    311.9,2,     -999,9,     -999,9,     -999,9,     -999,9,     -999,9,     -999,9,     -999,9,     -999,9,     -999,9,     -999,9,     -999,9,     9.00
  18HU20150504, AR07W,   190,  1, 408483,     13,2,20150516,1608, 55.7328, -53.4948,-999,     30.1,   3.3031,  34.7147,2,     -999,9,    311.1,2,     -999,9,     -999,9,     -999,9,     -999,9,     -999,9,     -999,9,     -999,9,     -999,9,     -999,9,     -999,9,     -999,9,     9.00
  18HU20150504, AR07W,   190,  1, 408484,     14,2,20150516,1608, 55.7328, -53.4948,-999,     30.1,   3.3041,  34.7142,2,     -999,9,    312.6,2,     -999,9,     -999,9,     -999,9,     -999,9,     -999,9,     -999,9,     -999,9,     -999,9,     -999,9,     -999,9,     -999,9,     9.00
  18HU20150504, AR07W,   190,  1, 408485,     15,2,20150516,1608, 55.7328, -53.4948,-999,     20.0,   3.3180,  34.7061,2,     -999,9,    316.0,2,     -999,9,     7.17,6,    10.67,6,     0.10,6,     0.83,6,     0.51,6,     -999,9,     -999,9,     -999,9,     -999,9,   7.7690,2,    25.00
  18HU20150504, AR07W,   190,  1, 408486,     16,2,20150516,1608, 55.7328, -53.4948,-999,     20.1,   3.3222,  34.7037,2,     -999,9,    316.8,2,     -999,9,     -999,9,     -999,9,     -999,9,     -999,9,     -999,9,     -999,9,     -999,9,     -999,9,     -999,9,     -999,9,     9.00
  18HU20150504, AR07W,   190,  1, 408487,     17,2,20150516,1608, 55.7328, -53.4948,-999,     10.3,   3.3994,  34.6767,2,     -999,9,    334.3,2,     -999,9,     7.37,6,     8.96,6,     0.11,6,     0.76,6,     0.56,6,     -999,9,     -999,9,     -999,9,     -999,9,   7.8020,2,    25.00
  18HU20150504, AR07W,   190,  1, 408488,     18,2,20150516,1608, 55.7328, -53.4948,-999,      9.8,   3.4112,  34.6751,2,     -999,9,    335.5,2,     -999,9,     -999,9,     -999,9,     -999,9,     -999,9,     -999,9,     -999,9,     -999,9,     -999,9,     -999,9,     -999,9,     9.00
  18HU20150504, AR07W,   190,  1, 408489,     19,2,20150516,1608, 55.7328, -53.4948,-999,      2.2,   3.4588,  34.6721,2,     -999,9,    339.5,2,    352.9,6,     7.41,6,     7.77,6,     0.12,6,     0.68,6,     0.65,6,     -999,9,     -999,9,     -999,9,     -999,9,   7.8270,2,    25.00
  18HU20150504, AR07W,   190,  1, 408490,     20,2,20150516,1608, 55.7328, -53.4948,-999,      2.1,   3.4569,  34.6725,2,     -999,9,    339.5,2,     -999,9,     -999,9,     -999,9,     -999,9,     -999,9,     -999,9,     -999,9,     -999,9,     -999,9,     -999,9,     -999,9,     9.00
  18HU20150504, AR07W,   190,  1, 408491,     21,2,20150516,1608, 55.7328, -53.4948,-999,      2.0,   3.4559,  34.6726,2,     -999,9,    339.3,2,     -999,9,     -999,9,     -999,9,     -999,9,     -999,9,     -999,9,     -999,9,     -999,9,     -999,9,     -999,9,     -999,9,     9.00
  18HU20150504, AR07W,   190,  1, 408492,     22,2,20150516,1608, 55.7328, -53.4948,-999,      2.0,   3.4553,  34.6727,2,     -999,9,    338.0,2,     -999,9,     -999,9,     -999,9,     -999,9,     -999,9,     -999,9,     -999,9,     -999,9,     -999,9,     -999,9,     -999,9,     9.00
  18HU20150504, AR07W,   190,  1, 408493,     23,2,20150516,1608, 55.7328, -53.4948,-999,      2.1,   3.4557,  34.6727,2,     -999,9,    338.2,2,     -999,9,     -999,9,     -999,9,     -999,9,     -999,9,     -999,9,     -999,9,     -999,9,     -999,9,     -999,9,     -999,9,     9.00
  18HU20150504, AR07W,   190,  1, 408494,     24,2,20150516,1608, 55.7328, -53.4948,-999,      2.2,   3.4561,  34.6726,2,     -999,9,    339.6,2,     -999,9,     -999,9,     -999,9,     -999,9,     -999,9,     -999,9,     -999,9,     -999,9,     -999,9,     -999,9,     -999,9,     9.00
  18HU20150504, AR07W,   196,  1, 408495,      1,2,20150517,2137, 52.8083, -51.6450,-999,    955.9,   3.4267,  34.8666,2,  34.8703,6,    275.5,2,    289.5,6,     9.28,6,    14.82,6,     0.08,6,     1.06,6,     0.45,6,    2.211,2,    2.265,2,   2164.2,2,   2310.7,2,   7.7960,2,    25.00
  18HU20150504, AR07W,   196,  1, 408496,      2,2,20150517,2137, 52.8083, -51.6450,-999,    849.9,   3.4148,  34.8615,2,  34.8662,2,    276.5,2,    289.8,2,     9.20,6,    14.54,6,     0.07,6,     1.07,6,     0.69,6,    2.257,2,    2.312,2,   2164.1,2,   2301.2,2,   7.7920,2,    25.00
  18HU20150504, AR07W,   196,  1, 408497,      3,2,20150517,2137, 52.8083, -51.6450,-999,    730.1,   3.3965,  34.8505,2,  34.8545,2,    280.0,2,    293.1,2,     8.94,6,    14.50,6,     0.05,6,     1.07,6,     0.46,6,    2.328,2,    2.384,2,   2162.0,2,   2302.2,2,   7.7930,2,    25.00
  18HU20150504, AR07W,   196,  1, 408498,      4,2,20150517,2137, 52.8083, -51.6450,-999,    601.1,   3.3506,  34.8364,2,  34.8404,2,    282.4,2,    295.0,2,     8.94,6,    14.29,6,     0.07,6,     1.06,6,     0.38,6,    2.364,2,    2.421,2,   2163.2,2,   2298.9,2,   7.7940,2,    25.00
  18HU20150504, AR07W,   196,  1, 408499,      5,2,20150517,2137, 52.8083, -51.6450,-999,    470.9,   3.3156,  34.8192,2,  34.8239,2,    282.1,2,    294.6,2,     8.65,6,    14.20,6,     0.06,6,     1.04,6,     0.46,6,    2.375,2,    2.432,2,   2156.5,2,   2298.2,2,   7.7950,2,    25.00
  18HU20150504, AR07W,   196,  1, 408500,      6,2,20150517,2137, 52.8083, -51.6450,-999,    351.2,   3.1211,  34.7814,2,  34.7861,2,    286.8,2,    298.8,2,     8.49,6,    13.90,6,     0.05,6,     1.04,6,     0.45,6,    2.422,2,    2.481,2,   2158.5,2,   2299.9,2,   7.7940,2,    25.00
  18HU20150504, AR07W,   196,  1, 408501,      7,2,20150517,2137, 52.8083, -51.6450,-999,    251.3,   2.8002,  34.7005,2,  34.7051,2,    296.4,2,    306.8,2,     8.38,6,    13.96,6,     0.12,6,     1.03,6,     0.40,6,    2.539,2,    2.600,2,   2153.2,2,   2294.1,2,   7.7960,2,    25.00
  18HU20150504, AR07W,   196,  1, 408502,      8,2,20150517,2137, 52.8083, -51.6450,-999,    150.7,   2.2285,  34.5112,2,     -999,9,    290.8,2,    302.0,2,     8.65,6,    13.11,6,     0.07,6,     1.01,6,     0.50,6,    2.542,2,    2.603,2,   2147.3,2,   2285.0,2,   7.7900,2,    25.00
  18HU20150504, AR07W,   196,  1, 408503,      9,2,20150517,2137, 52.8083, -51.6450,-999,    100.5,   1.6445,  34.3441,2,  34.3510,2,    295.0,2,    304.0,2,     8.30,6,    13.17,6,     0.06,6,     0.97,6,     0.43,6,    2.590,2,    2.652,2,   2140.0,2,   2273.1,2,   7.7870,2,    25.00
  18HU20150504, AR07W,   196,  1, 408504,     10,2,20150517,2137, 52.8083, -51.6450,-999,     80.3,   1.2834,  34.2306,2,     -999,9,    295.1,2,    304.5,2,     8.19,6,    12.84,6,     0.08,6,     0.98,6,     0.54,6,     -999,9,     -999,9,     -999,9,     -999,9,     -999,9,     9.00
  18HU20150504, AR07W,   196,  1, 408505,     11,2,20150517,2137, 52.8083, -51.6450,-999,     60.5,   0.6914,  34.0351,2,     -999,9,    300.5,2,     -999,9,     7.94,6,    11.95,6,     0.10,6,     0.92,6,     0.39,6,     -999,9,     -999,9,     -999,9,     -999,9,     -999,9,     9.00
  18HU20150504, AR07W,   196,  1, 408506,     12,2,20150517,2137, 52.8083, -51.6450,-999,     50.4,   0.6404,  34.0075,2,     -999,9,    301.6,2,    312.3,2,     8.02,6,    11.54,6,     0.10,6,     0.97,6,     0.65,6,    2.698,2,    2.762,2,   2126.8,2,   2256.5,2,   7.7850,2,    25.00
  18HU20150504, AR07W,   196,  1, 408507,     13,2,20150517,2137, 52.8083, -51.6450,-999,     40.8,   0.3705,  33.7942,2,     -999,9,    314.2,2,     -999,9,     8.06,6,    10.58,6,     0.11,6,     0.93,6,     0.47,6,     -999,9,     -999,9,     -999,9,     -999,9,     -999,9,     9.00
  18HU20150504, AR07W,   196,  1, 408508,     14,2,20150517,2137, 52.8083, -51.6450,-999,     30.4,   1.2225,  33.6982,2,     -999,9,    324.5,2,    335.5,2,     8.07,6,     9.90,6,     0.10,6,     0.88,6,     0.63,6,     -999,9,     -999,9,     -999,9,     -999,9,     -999,9,     9.00
  18HU20150504, AR07W,   196,  1, 408509,     15,2,20150517,2137, 52.8083, -51.6450,-999,     20.7,  -0.1677,  33.3973,2,     -999,9,    325.3,2,     -999,9,     8.15,6,     8.85,6,     0.11,6,     0.85,6,     0.64,6,    3.007,2,    3.077,2,   2114.0,2,   2248.0,2,   7.7780,2,    25.00
  18HU20150504, AR07W,   196,  1, 408510,     16,2,20150517,2137, 52.8083, -51.6450,-999,     10.7,   0.8237,  33.0137,2,     -999,9,    338.9,2,    351.1,2,     8.38,6,     7.61,6,     0.10,6,     0.83,6,     0.56,6,     -999,9,     -999,9,     -999,9,     -999,9,     -999,9,     9.00
  18HU20150504, AR07W,   196,  1, 408511,     17,2,20150517,2137, 52.8083, -51.6450,-999,      2.4,   0.8370,  33.0113,2,     -999,9,    341.4,2,    350.3,2,     8.28,6,     7.53,6,     0.09,6,     0.79,6,     0.63,6,    3.163,2,    3.235,2,   2114.0,2,   2202.8,2,   7.7690,2,    25.00