BOTTLE,20230713CCHSIOVAJ
EXPOCODE,SECT_ID,STNNBR,CASTNO,SAMPNO,BTLNBR,BTLNBR_FLAG_W,DATE,TIME,LATITUDE,LONGITUDE,DEPTH,CTDPRS,CTDTMP,CTDSAL,CTDSAL_FLAG_W,SALNTY,SALNTY_FLAG_W,CTDOXY,CTDOXY_FLAG_W,OXYGEN,OXYGEN_FLAG_W,SILCAT,SILCAT_FLAG_W,NITRAT,NITRAT_FLAG_W,NITRIT,NITRIT_FLAG_W,PHSPHT,PHSPHT_FLAG_W,NH4,NH4_FLAG_W,CFC-12,CFC-12_FLAG_W,SF6,SF6_FLAG_W,TCARBN,TCARBN_FLAG_W,ALKALI,ALKALI_FLAG_W,PH_TOT,PH_TOT_FLAG_W,PH_TMP
,,,,,,,,,,,METERS,DBAR,ITS-90,PSS-78,,PSS-78,,UMOL/KG,,UMOL/KG,,UMOL/KG,,UMOL/KG,,UMOL/KG,,UMOL/KG,,UMOL/KG,,PMOL/KG,,FMOL/KG,,UMOL/KG,,UMOL/KG,,,,DEG C
  18HU20150504, AR07W,   163,  1, 408351,      1,2,20150515,1016, 55.4212, -53.8265,-999,   2720.4,   2.4370,  34.9067,2,  34.9105,2,    269.1,2,    285.5,2,    11.88,6,    15.25,6,     0.06,6,     0.97,6,     0.46,6,    1.760,2,    1.384,2,   2163.5,2,   2305.7,2,   7.7220,2,    25.00
  18HU20150504, AR07W,   163,  1, 408352,      2,2,20150515,1016, 55.4212, -53.8265,-999,   2589.9,   2.5035,  34.9081,2,  34.9134,2,    268.0,2,    284.6,2,    11.92,6,    15.64,6,     0.05,6,     0.98,6,     0.46,6,    1.739,2,    1.391,2,   2167.5,2,   2306.4,2,   7.7250,2,    25.00
  18HU20150504, AR07W,   163,  1, 408353,      3,2,20150515,1016, 55.4212, -53.8265,-999,   2508.9,   2.6050,  34.9102,2,  34.9168,2,    267.6,2,    283.6,2,    11.98,6,    15.39,6,     0.05,6,     1.00,6,     0.37,6,    1.669,2,    1.493,2,   2165.7,2,   2306.0,2,   7.7340,2,    25.00
  18HU20150504, AR07W,   163,  1, 408354,      4,2,20150515,1016, 55.4212, -53.8265,-999,   2410.7,   2.7196,  34.9146,2,  34.9195,2,    265.9,2,    281.3,2,    12.17,6,    15.33,6,     0.05,6,     1.00,6,     0.41,6,    1.601,2,    1.242,2,   2163.3,2,   2310.1,2,   7.7310,2,    25.00
  18HU20150504, AR07W,   163,  1, 408355,      5,2,20150515,1016, 55.4212, -53.8265,-999,   2290.3,   2.8266,  34.9158,2,  34.9242,2,    265.3,2,    280.6,2,    11.86,6,    15.36,6,     0.04,6,     1.01,6,     0.61,6,    1.583,2,    1.219,2,   2162.5,2,   2307.9,2,   7.7300,2,    25.00
  18HU20150504, AR07W,   163,  1, 408356,      6,2,20150515,1016, 55.4212, -53.8265,-999,   2149.9,   2.9914,  34.9160,2,  34.9262,2,    264.2,2,    279.3,2,    11.53,6,    15.58,6,     0.04,6,     1.02,6,     0.39,6,    1.597,2,    1.141,2,   2163.2,2,   2303.1,2,   7.7270,2,    25.00
  18HU20150504, AR07W,   163,  1, 408357,      7,2,20150515,1016, 55.4212, -53.8265,-999,   1989.9,   3.1004,  34.9170,2,  34.9279,2,    264.4,2,    278.8,2,    11.28,6,    15.93,6,     0.04,6,     1.03,6,     0.42,6,    1.648,2,    1.153,2,   2163.3,2,   2302.4,2,   7.7250,2,    25.00
  18HU20150504, AR07W,   163,  1, 408358,      8,2,20150515,1016, 55.4212, -53.8265,-999,   1810.3,   3.3019,  34.9187,2,  34.9280,6,    263.5,2,    278.5,2,    10.88,6,    15.98,6,     0.05,6,     1.04,6,     0.54,6,    1.685,2,    1.358,2,   2164.6,2,   2303.1,2,   7.7340,2,    25.00
  18HU20150504, AR07W,   163,  1, 408359,      9,2,20150515,1016, 55.4212, -53.8265,-999,   1611.0,   3.5179,  34.9208,2,  34.9251,2,    261.5,2,    275.8,2,    10.58,6,    16.32,6,     0.05,6,     1.07,6,     0.49,6,    1.778,2,    1.306,2,   2165.9,2,   2304.5,2,   7.7320,2,    25.00
  18HU20150504, AR07W,   163,  1, 408360,     10,2,20150515,1016, 55.4212, -53.8265,-999,   1410.7,   3.5390,  34.8963,2,  34.9009,2,    269.3,2,    283.8,2,     9.69,6,    16.08,6,     0.05,6,     1.02,6,     0.39,6,    2.042,2,    1.889,2,   2165.6,2,   2298.9,2,   7.9750,4,    25.00
  18HU20150504, AR07W,   163,  1, 408361,     11,2,20150515,1016, 55.4212, -53.8265,-999,   1210.0,   3.3357,  34.8570,2,  34.8654,2,    283.5,2,    296.7,2,     8.73,6,    15.56,6,     0.05,6,     1.00,6,     0.50,6,    2.334,2,    2.314,2,   2165.1,2,   2297.7,2,   7.7300,2,    25.00
  18HU20150504, AR07W,   163,  1, 408362,     12,2,20150515,1016, 55.4212, -53.8265,-999,   1030.3,   3.3218,  34.8538,2,  34.8598,6,    283.9,2,    297.6,2,     8.72,6,    15.55,6,     0.05,6,     1.00,6,     0.89,6,    2.338,2,    2.301,2,   2163.9,2,   2302.7,2,   7.7430,2,    25.00
  18HU20150504, AR07W,   163,  1, 408363,     13,2,20150515,1016, 55.4212, -53.8265,-999,    850.8,   3.3181,  34.8509,2,  34.8560,2,    284.7,2,    297.7,2,     8.53,6,    15.47,6,     0.06,6,     0.99,6,     0.49,6,    2.340,2,    2.342,2,   2163.7,2,   2299.9,2,   7.7210,2,    25.00
  18HU20150504, AR07W,   163,  1, 408364,     14,2,20150515,1016, 55.4212, -53.8265,-999,    670.4,   3.3005,  34.8457,2,  34.8532,2,    286.2,2,    297.6,2,     8.45,6,    15.34,6,     0.06,6,     0.99,6,     1.15,6,    2.361,2,    2.503,2,   2163.0,2,   2301.8,2,   7.7250,2,    25.00
  18HU20150504, AR07W,   163,  1, 408365,     15,2,20150515,1016, 55.4212, -53.8265,-999,    509.4,   3.2892,  34.8425,2,  34.8475,2,    286.9,2,    298.3,2,     8.32,6,    15.25,6,     0.06,6,     0.99,6,     0.43,6,    2.376,2,    2.597,2,   2162.1,2,   2296.3,2,   7.7290,2,    25.00
  18HU20150504, AR07W,   163,  1, 408366,     16,2,20150515,1016, 55.4212, -53.8265,-999,    370.8,   3.2624,  34.8355,2,  34.8401,2,    288.0,2,    300.8,2,     8.29,6,    15.19,6,     0.07,6,     0.98,6,     0.47,6,    2.386,2,    2.617,2,   2160.1,2,   2299.0,2,   7.7240,2,    25.00
  18HU20150504, AR07W,   163,  1, 408367,     17,2,20150515,1016, 55.4212, -53.8265,-999,    250.9,   3.2398,  34.8285,2,  34.8343,2,    288.9,2,    299.3,2,     8.02,6,    15.43,6,     0.08,6,     0.98,6,     0.51,6,    2.430,2,    2.488,2,   2159.2,2,   2303.1,2,   7.7270,2,    25.00
  18HU20150504, AR07W,   163,  1, 408368,     18,2,20150515,1016, 55.4212, -53.8265,-999,    149.7,   3.2250,  34.8234,2,  34.8280,2,    289.7,2,    300.4,2,     8.08,6,    15.42,6,     0.10,6,     0.98,6,     0.90,6,    2.429,2,    2.620,2,   2159.1,2,   2303.8,2,   7.7290,2,    25.00
  18HU20150504, AR07W,   163,  1, 408369,     19,2,20150515,1016, 55.4212, -53.8265,-999,    100.5,   3.2295,  34.8160,2,  34.8210,2,    290.8,2,    301.8,2,     8.07,6,    15.37,6,     0.13,6,     0.98,6,     0.60,6,    2.437,2,    2.677,2,   2160.3,2,   2301.4,2,   7.7290,2,    25.00
  18HU20150504, AR07W,   163,  1, 408370,     20,2,20150515,1016, 55.4212, -53.8265,-999,     50.0,   3.2587,  34.7739,2,     -999,9,    299.2,2,    310.4,2,     7.92,6,    14.55,6,     0.12,6,     0.94,6,     0.65,6,    2.497,2,    2.814,2,     -999,9,     -999,9,     -999,9,     9.00
  18HU20150504, AR07W,   163,  1, 408371,     21,2,20150515,1016, 55.4212, -53.8265,-999,     31.0,   3.2565,  34.6917,2,     -999,9,    309.7,2,     -999,9,     7.87,6,    13.57,6,     0.11,6,     0.89,6,     0.80,6,     -999,9,     -999,9,     -999,9,     -999,9,     -999,9,     9.00
  18HU20150504, AR07W,   163,  1, 408372,     22,2,20150515,1016, 55.4212, -53.8265,-999,     19.1,   3.2111,  34.6407,2,  34.6439,2,    314.0,2,    324.9,2,     7.84,6,    13.38,6,     0.12,6,     0.86,6,     0.79,6,    2.638,2,    3.068,2,   2144.2,2,   2290.3,2,   7.7580,2,    25.00
  18HU20150504, AR07W,   163,  1, 408373,     23,2,20150515,1016, 55.4212, -53.8265,-999,     10.0,   3.1580,  34.6293,2,     -999,9,    311.7,2,     -999,9,     8.01,6,    13.62,6,     0.11,6,     0.88,6,     0.88,6,     -999,9,     -999,9,     -999,9,     -999,9,     -999,9,     9.00
  18HU20150504, AR07W,   163,  1, 408374,     24,2,20150515,1016, 55.4212, -53.8265,-999,      1.5,   3.1486,  34.6277,2,     -999,9,    313.0,2,    323.7,2,     7.84,6,    13.26,6,     0.11,6,     0.88,6,     0.70,6,    2.613,2,    2.956,2,   2143.6,2,   2285.5,2,   7.7480,2,    25.00
  18HU20150504, AR07W,   168,  1, 408375,      1,2,20150515,1505, 55.1903, -54.0470,-999,    200.2,   3.1630,  34.8132,2,     -999,9,    289.5,2,    301.0,6,     8.19,6,    15.52,6,     0.10,6,     0.97,6,     0.48,6,     -999,9,     -999,9,     -999,9,     -999,9,   7.7280,2,    25.00
  18HU20150504, AR07W,   168,  1, 408376,      2,2,20150515,1505, 55.1903, -54.0470,-999,    150.4,   3.0916,  34.7864,2,     -999,9,    293.3,2,     -999,9,     8.45,6,    15.31,6,     0.14,6,     0.97,6,     0.54,6,     -999,9,     -999,9,     -999,9,     -999,9,   7.7350,2,    25.00
  18HU20150504, AR07W,   168,  1, 408377,      3,2,20150515,1505, 55.1903, -54.0470,-999,    100.2,   3.2384,  34.7691,2,     -999,9,    296.8,2,     -999,9,     7.89,6,    14.39,6,     0.11,6,     0.92,6,     0.62,6,     -999,9,     -999,9,     -999,9,     -999,9,   7.7340,2,    25.00
  18HU20150504, AR07W,   168,  1, 408378,      4,2,20150515,1505, 55.1903, -54.0470,-999,     80.4,   3.3164,  34.7576,2,     -999,9,    303.9,2,     -999,9,     7.86,6,    13.67,6,     0.11,6,     0.90,6,     0.73,6,     -999,9,     -999,9,     -999,9,     -999,9,   7.7470,2,    25.00
  18HU20150504, AR07W,   168,  1, 408379,      5,2,20150515,1505, 55.1903, -54.0470,-999,     60.0,   3.1962,  34.6968,2,     -999,9,    308.2,2,     -999,9,     7.87,6,    13.15,6,     0.12,6,     0.87,6,     0.69,6,     -999,9,     -999,9,     -999,9,     -999,9,   7.7540,2,    25.00
  18HU20150504, AR07W,   168,  1, 408380,      6,2,20150515,1505, 55.1903, -54.0470,-999,     60.6,   3.1979,  34.6972,2,     -999,9,    309.5,2,     -999,9,     -999,9,     -999,9,     -999,9,     -999,9,     -999,9,     -999,9,     -999,9,     -999,9,     -999,9,     -999,9,     9.00
  18HU20150504, AR07W,   168,  1, 408381,      7,2,20150515,1505, 55.1903, -54.0470,-999,     49.6,   3.1861,  34.6921,2,     -999,9,    308.3,2,     -999,9,     7.83,6,    13.10,6,     0.10,6,     0.87,6,     0.66,6,     -999,9,     -999,9,     -999,9,     -999,9,   7.7530,2,    25.00
  18HU20150504, AR07W,   168,  1, 408382,      8,2,20150515,1505, 55.1903, -54.0470,-999,     38.6,   3.1757,  34.6881,2,     -999,9,    309.7,2,     -999,9,     7.90,6,    13.08,6,     0.13,6,     0.88,6,     0.87,6,     -999,9,     -999,9,     -999,9,     -999,9,   7.7510,2,    25.00
  18HU20150504, AR07W,   168,  1, 408383,      9,2,20150515,1505, 55.1903, -54.0470,-999,     39.0,   3.1730,  34.6870,2,     -999,9,    310.0,2,     -999,9,     -999,9,     -999,9,     -999,9,     -999,9,     -999,9,     -999,9,     -999,9,     -999,9,     -999,9,     -999,9,     9.00
  18HU20150504, AR07W,   168,  1, 408384,     10,2,20150515,1505, 55.1903, -54.0470,-999,     30.3,   3.1697,  34.6856,2,     -999,9,    310.5,2,    321.2,6,     7.99,6,    13.08,6,     0.12,6,     0.87,6,     0.77,6,     -999,9,     -999,9,     -999,9,     -999,9,   7.7480,2,    25.00
  18HU20150504, AR07W,   168,  1, 408385,     11,2,20150515,1505, 55.1903, -54.0470,-999,     29.9,   3.1698,  34.6858,2,     -999,9,    310.2,2,     -999,9,     -999,9,     -999,9,     -999,9,     -999,9,     -999,9,     -999,9,     -999,9,     -999,9,     -999,9,     -999,9,     9.00
  18HU20150504, AR07W,   168,  1, 408386,     12,2,20150515,1505, 55.1903, -54.0470,-999,     30.1,   3.1700,  34.6857,2,     -999,9,    309.7,2,     -999,9,     -999,9,     -999,9,     -999,9,     -999,9,     -999,9,     -999,9,     -999,9,     -999,9,     -999,9,     -999,9,     9.00
  18HU20150504, AR07W,   168,  1, 408387,     13,2,20150515,1505, 55.1903, -54.0470,-999,     30.1,   3.1701,  34.6858,2,     -999,9,    309.3,2,     -999,9,     -999,9,     -999,9,     -999,9,     -999,9,     -999,9,     -999,9,     -999,9,     -999,9,     -999,9,     -999,9,     9.00
  18HU20150504, AR07W,   168,  1, 408388,     14,2,20150515,1505, 55.1903, -54.0470,-999,     30.3,   3.1712,  34.6862,2,     -999,9,    309.2,2,     -999,9,     -999,9,     -999,9,     -999,9,     -999,9,     -999,9,     -999,9,     -999,9,     -999,9,     -999,9,     -999,9,     9.00
  18HU20150504, AR07W,   168,  1, 408389,     15,2,20150515,1505, 55.1903, -54.0470,-999,     19.2,   3.1493,  34.6760,2,     -999,9,    311.1,2,     -999,9,     7.77,6,    13.06,6,     0.10,6,     0.86,6,     0.61,6,     -999,9,     -999,9,     -999,9,     -999,9,   7.7390,2,    25.00
  18HU20150504, AR07W,   168,  1, 408390,     16,2,20150515,1505, 55.1903, -54.0470,-999,     19.6,   3.1509,  34.6764,2,     -999,9,    310.4,2,     -999,9,     -999,9,     -999,9,     -999,9,     -999,9,     -999,9,     -999,9,     -999,9,     -999,9,     -999,9,     -999,9,     9.00
  18HU20150504, AR07W,   168,  1, 408391,     17,2,20150515,1505, 55.1903, -54.0470,-999,     10.5,   3.1640,  34.6708,2,     -999,9,    310.3,2,     -999,9,     7.78,6,    12.90,6,     0.11,6,     0.86,6,     0.65,6,     -999,9,     -999,9,     -999,9,     -999,9,   7.7510,2,    25.00
  18HU20150504, AR07W,   168,  1, 408392,     18,2,20150515,1505, 55.1903, -54.0470,-999,     10.3,   3.1618,  34.6713,2,     -999,9,    311.6,2,     -999,9,     -999,9,     -999,9,     -999,9,     -999,9,     -999,9,     -999,9,     -999,9,     -999,9,     -999,9,     -999,9,     9.00
  18HU20150504, AR07W,   168,  1, 408393,     19,2,20150515,1505, 55.1903, -54.0470,-999,      2.9,   3.1703,  34.6703,2,     -999,9,    308.9,2,    322.1,6,     7.78,6,    12.79,6,     0.11,6,     0.86,6,     0.72,6,     -999,9,     -999,9,     -999,9,     -999,9,   7.7450,2,    25.00
  18HU20150504, AR07W,   168,  1, 408394,     20,2,20150515,1505, 55.1903, -54.0470,-999,      2.4,   3.1716,  34.6701,2,     -999,9,    311.6,2,     -999,9,     -999,9,     -999,9,     -999,9,     -999,9,     -999,9,     -999,9,     -999,9,     -999,9,     -999,9,     -999,9,     9.00
  18HU20150504, AR07W,   168,  1, 408395,     21,2,20150515,1505, 55.1903, -54.0470,-999,      2.6,   3.1751,  34.6698,2,     -999,9,    309.2,2,     -999,9,     -999,9,     -999,9,     -999,9,     -999,9,     -999,9,     -999,9,     -999,9,     -999,9,     -999,9,     -999,9,     9.00
  18HU20150504, AR07W,   168,  1, 408396,     22,2,20150515,1505, 55.1903, -54.0470,-999,      2.9,   3.1752,  34.6698,2,     -999,9,    310.1,2,     -999,9,     -999,9,     -999,9,     -999,9,     -999,9,     -999,9,     -999,9,     -999,9,     -999,9,     -999,9,     -999,9,     9.00
  18HU20150504, AR07W,   168,  1, 408397,     23,2,20150515,1505, 55.1903, -54.0470,-999,      2.4,   3.1742,  34.6701,2,     -999,9,    310.5,2,     -999,9,     -999,9,     -999,9,     -999,9,     -999,9,     -999,9,     -999,9,     -999,9,     -999,9,     -999,9,     -999,9,     9.00
  18HU20150504, AR07W,   168,  1, 408398,     24,2,20150515,1505, 55.1903, -54.0470,-999,      2.6,   3.1754,  34.6698,2,     -999,9,    310.4,2,     -999,9,     -999,9,     -999,9,     -999,9,     -999,9,     -999,9,     -999,9,     -999,9,     -999,9,     -999,9,     -999,9,     9.00
  18HU20150504, AR07W,   172,  1, 408400,      1,2,20150515,2119, 55.0350, -54.1315,-999,      3.0,  -0.8873,  32.2931,2,     -999,9,    347.7,2,     -999,9,     -999,9,     -999,9,     -999,9,     -999,9,     -999,9,     -999,9,     -999,9,     -999,9,     -999,9,     -999,9,     9.00
  18HU20150504, AR07W,   172,  1, 408399,      2,2,20150515,2119, 55.0350, -54.1315,-999,      3.2,  -0.9134,  32.2938,2,     -999,9,    348.4,2,     -999,9,     -999,9,     -999,9,     -999,9,     -999,9,     -999,9,     -999,9,     -999,9,     -999,9,     -999,9,     -999,9,     9.00