BOTTLE,20230713CCHSIOVAJ
EXPOCODE,SECT_ID,STNNBR,CASTNO,SAMPNO,BTLNBR,BTLNBR_FLAG_W,DATE,TIME,LATITUDE,LONGITUDE,DEPTH,CTDPRS,CTDTMP,CTDSAL,CTDSAL_FLAG_W,SALNTY,SALNTY_FLAG_W,CTDOXY,CTDOXY_FLAG_W,OXYGEN,OXYGEN_FLAG_W,SILCAT,SILCAT_FLAG_W,NITRAT,NITRAT_FLAG_W,NITRIT,NITRIT_FLAG_W,PHSPHT,PHSPHT_FLAG_W,NH4,NH4_FLAG_W,CFC-12,CFC-12_FLAG_W,SF6,SF6_FLAG_W,TCARBN,TCARBN_FLAG_W,ALKALI,ALKALI_FLAG_W,PH_TOT,PH_TOT_FLAG_W,PH_TMP
,,,,,,,,,,,METERS,DBAR,ITS-90,PSS-78,,PSS-78,,UMOL/KG,,UMOL/KG,,UMOL/KG,,UMOL/KG,,UMOL/KG,,UMOL/KG,,UMOL/KG,,PMOL/KG,,FMOL/KG,,UMOL/KG,,UMOL/KG,,,,DEG C
  18HU20150504, AR07W,   113,  1, 408046,      1,2,20150511,2235, 60.5700, -48.2295,-999,    124.2,   2.4719,  34.3577,2,  34.3706,6,    319.3,2,    329.4,2,     6.31,6,     9.74,6,     0.10,6,     0.74,6,     0.91,6,    2.615,2,    2.929,2,   2122.6,2,   2281.2,2,   7.7790,2,    25.00
  18HU20150504, AR07W,   113,  1, 408047,      2,2,20150511,2235, 60.5700, -48.2295,-999,    100.4,   1.7313,  34.1206,2,  34.1263,2,    330.5,2,    340.1,2,     6.05,6,     8.74,6,     0.11,6,     0.68,6,     0.98,6,    2.730,2,    3.164,2,   2114.3,2,   2269.0,2,   7.7830,2,    25.00
  18HU20150504, AR07W,   113,  1, 408048,      3,2,20150511,2235, 60.5700, -48.2295,-999,     81.4,   0.7970,  33.8293,2,     -999,9,    330.7,2,     -999,9,     5.77,6,     8.63,6,     0.10,6,     0.70,6,     1.21,6,     -999,9,     -999,9,     -999,9,     -999,9,   7.7580,2,    25.00
  18HU20150504, AR07W,   113,  1, 408049,      4,2,20150511,2235, 60.5700, -48.2295,-999,     60.9,  -0.1052,  33.5340,2,     -999,9,    339.9,2,     -999,9,     -999,9,     -999,9,     -999,9,     -999,9,     -999,9,     -999,9,     -999,9,     -999,9,     -999,9,     -999,9,     9.00
  18HU20150504, AR07W,   113,  1, 408050,      5,2,20150511,2235, 60.5700, -48.2295,-999,     60.2,  -0.1038,  33.5341,2,     -999,9,    339.5,2,    346.8,2,     5.26,6,     7.84,6,     0.11,6,     0.67,6,     1.27,6,     -999,9,     -999,9,   2101.3,2,   2239.7,2,   7.7460,2,    25.00
  18HU20150504, AR07W,   113,  1, 408051,      6,2,20150511,2235, 60.5700, -48.2295,-999,     51.0,  -0.0918,  33.5397,2,     -999,9,    338.6,2,     -999,9,     5.39,6,     7.91,6,     0.09,6,     0.68,6,     1.09,6,    2.982,2,    3.448,2,   2101.6,2,   2229.3,2,   7.7450,2,    25.00
  18HU20150504, AR07W,   113,  1, 408052,      7,2,20150511,2235, 60.5700, -48.2295,-999,     40.4,  -0.1221,  33.5245,2,     -999,9,    340.7,2,     -999,9,     -999,9,     -999,9,     -999,9,     -999,9,     -999,9,     -999,9,     -999,9,     -999,9,     -999,9,     -999,9,     9.00
  18HU20150504, AR07W,   113,  1, 408053,      8,2,20150511,2235, 60.5700, -48.2295,-999,     40.7,  -0.1125,  33.5292,2,     -999,9,    339.5,2,    349.0,6,     5.33,6,     7.78,6,     0.08,6,     0.66,6,     1.08,6,     -999,9,     -999,9,   2101.2,2,   2235.7,2,   7.7430,2,    25.00
  18HU20150504, AR07W,   113,  1, 408054,      9,2,20150511,2235, 60.5700, -48.2295,-999,     31.3,  -0.2187,  33.4619,2,     -999,9,    347.5,2,     -999,9,     -999,9,     -999,9,     -999,9,     -999,9,     -999,9,     -999,9,     -999,9,     -999,9,     -999,9,     -999,9,     9.00
  18HU20150504, AR07W,   113,  1, 408055,     10,2,20150511,2235, 60.5700, -48.2295,-999,     31.3,  -0.2160,  33.4639,2,     -999,9,    346.5,2,     -999,9,     -999,9,     -999,9,     -999,9,     -999,9,     -999,9,     -999,9,     -999,9,     -999,9,     -999,9,     -999,9,     9.00
  18HU20150504, AR07W,   113,  1, 408056,     11,2,20150511,2235, 60.5700, -48.2295,-999,     31.2,  -0.2181,  33.4620,2,     -999,9,    347.4,2,     -999,9,     -999,9,     -999,9,     -999,9,     -999,9,     -999,9,     -999,9,     -999,9,     -999,9,     -999,9,     -999,9,     9.00
  18HU20150504, AR07W,   113,  1, 408057,     12,2,20150511,2235, 60.5700, -48.2295,-999,     31.4,  -0.2156,  33.4645,2,     -999,9,    346.9,2,     -999,9,     4.98,6,     6.76,6,     0.08,6,     0.61,6,     0.95,6,     -999,9,     -999,9,     -999,9,     -999,9,   7.7590,2,    25.00
  18HU20150504, AR07W,   113,  1, 408058,     13,2,20150511,2235, 60.5700, -48.2295,-999,     19.9,  -0.3120,  33.3958,2,     -999,9,    354.2,2,     -999,9,     -999,9,     -999,9,     -999,9,     -999,9,     -999,9,     -999,9,     -999,9,     -999,9,     -999,9,     -999,9,     9.00
  18HU20150504, AR07W,   113,  1, 408059,     14,2,20150511,2235, 60.5700, -48.2295,-999,     20.4,  -0.3131,  33.3948,2,     -999,9,    356.2,2,    365.2,2,     4.82,6,     5.62,6,     0.06,6,     0.55,6,     0.95,6,    3.043,2,    3.795,2,   2088.5,2,   2225.5,2,   7.7800,2,    25.00
  18HU20150504, AR07W,   113,  1, 408060,     15,2,20150511,2235, 60.5700, -48.2295,-999,     11.0,  -0.4184,  33.3310,2,     -999,9,    361.6,2,     -999,9,     -999,9,     -999,9,     -999,9,     -999,9,     -999,9,     -999,9,     -999,9,     -999,9,     -999,9,     -999,9,     9.00
  18HU20150504, AR07W,   113,  1, 408061,     16,2,20150511,2235, 60.5700, -48.2295,-999,     11.1,  -0.4177,  33.3311,2,     -999,9,    361.5,2,    370.7,2,     4.64,6,     4.68,6,     0.07,6,     0.50,6,     0.92,6,     -999,9,     -999,9,   2075.6,2,   2224.7,2,   7.7950,2,    25.00
  18HU20150504, AR07W,   113,  1, 408062,     17,2,20150511,2235, 60.5700, -48.2295,-999,      3.2,  -0.4861,  33.2906,2,     -999,9,    363.6,2,     -999,9,     -999,9,     -999,9,     -999,9,     -999,9,     -999,9,     -999,9,     -999,9,     -999,9,     -999,9,     -999,9,     9.00
  18HU20150504, AR07W,   113,  1, 408063,     18,2,20150511,2235, 60.5700, -48.2295,-999,      3.4,  -0.4947,  33.2902,2,     -999,9,    362.9,2,     -999,9,     -999,9,     -999,9,     -999,9,     -999,9,     -999,9,     -999,9,     -999,9,     -999,9,     -999,9,     -999,9,     9.00
  18HU20150504, AR07W,   113,  1, 408064,     19,2,20150511,2235, 60.5700, -48.2295,-999,      2.9,  -0.4859,  33.2906,2,     -999,9,    363.5,2,     -999,9,     -999,9,     -999,9,     -999,9,     -999,9,     -999,9,     -999,9,     -999,9,     -999,9,     -999,9,     -999,9,     9.00
  18HU20150504, AR07W,   113,  1, 408065,     20,2,20150511,2235, 60.5700, -48.2295,-999,      3.0,  -0.4857,  33.2914,2,     -999,9,    363.0,2,     -999,9,     4.66,6,     4.41,6,     0.07,6,     0.49,6,     1.09,6,    3.081,2,    3.599,2,   2071.7,2,   2222.2,2,   7.8190,2,    25.00
  18HU20150504, AR07W,   116,  1, 408066,      1,2,20150512,0101, 60.4497, -48.3620,-999,    145.2,   2.1919,  34.3115,2,  34.3286,6,    312.6,2,    321.8,6,     6.22,6,    10.83,6,     0.11,6,     0.80,6,     0.87,6,    2.642,2,    2.806,2,   2129.7,2,   2277.3,2,   7.7540,2,    25.00
  18HU20150504, AR07W,   116,  1, 408067,      2,2,20150512,0101, 60.4497, -48.3620,-999,    101.8,   2.1683,  34.3062,2,  34.3160,2,    312.6,2,    322.1,2,     6.21,6,    10.85,6,     0.11,6,     0.80,6,     1.02,6,    2.651,2,    3.297,2,   2131.1,2,   2271.9,2,   7.7520,2,    25.00
  18HU20150504, AR07W,   116,  1, 408068,      3,2,20150512,0101, 60.4497, -48.3620,-999,     81.3,   2.0930,  34.2884,2,     -999,9,    312.9,2,     -999,9,     6.29,6,    10.91,6,     0.11,6,     0.81,6,     0.75,6,     -999,9,     -999,9,     -999,9,     -999,9,   7.7510,2,    25.00
  18HU20150504, AR07W,   116,  1, 408069,      4,2,20150512,0101, 60.4497, -48.3620,-999,     60.2,   1.9198,  34.2481,2,     -999,9,    312.5,2,    321.2,2,     6.20,6,    11.12,6,     0.11,6,     0.81,6,     0.76,6,     -999,9,     -999,9,   2129.3,2,   2269.9,2,   7.7420,2,    25.00
  18HU20150504, AR07W,   116,  1, 408070,      5,2,20150512,0101, 60.4497, -48.3620,-999,     50.1,   1.8662,  34.2381,2,  34.2423,2,    311.4,2,     -999,9,     6.19,6,    11.18,6,     0.12,6,     0.81,6,     0.77,6,    2.694,2,    3.292,2,   2131.1,2,   2266.0,2,   7.7410,2,    25.00
  18HU20150504, AR07W,   116,  1, 408071,      6,2,20150512,0101, 60.4497, -48.3620,-999,     40.4,   1.8144,  34.2285,2,     -999,9,    310.5,2,    319.9,2,     6.21,6,    11.28,6,     0.12,6,     0.85,6,     0.97,6,     -999,9,     -999,9,   2130.6,2,   2268.1,2,   7.7410,2,    25.00
  18HU20150504, AR07W,   116,  1, 408072,      7,2,20150512,0101, 60.4497, -48.3620,-999,     29.9,   1.5340,  34.1105,2,     -999,9,    319.6,2,     -999,9,     6.22,6,     9.97,6,     0.11,6,     0.75,6,     0.76,6,     -999,9,     -999,9,     -999,9,     -999,9,   7.7550,2,    25.00
  18HU20150504, AR07W,   116,  1, 408073,      8,2,20150512,0101, 60.4497, -48.3620,-999,     20.8,   1.5445,  34.0769,2,     -999,9,    325.2,2,    336.6,2,     6.11,6,     9.12,6,     0.10,6,     0.71,6,     0.87,6,    2.776,2,    3.304,2,   2114.0,2,   2263.6,2,   7.7720,2,    25.00
  18HU20150504, AR07W,   116,  1, 408074,      9,2,20150512,0101, 60.4497, -48.3620,-999,      9.6,   1.4734,  34.0434,2,     -999,9,    330.1,2,    339.3,2,     6.11,6,     8.71,6,     0.12,6,     0.69,6,     0.79,6,     -999,9,     -999,9,   2111.7,2,   2261.7,2,   7.7800,2,    25.00
  18HU20150504, AR07W,   116,  1, 408075,     10,2,20150512,0101, 60.4497, -48.3620,-999,      3.5,   1.4588,  34.0378,2,     -999,9,    327.1,2,    339.7,2,     6.10,6,     8.71,6,     0.11,6,     0.70,6,     0.89,6,    2.769,2,    3.295,2,   2108.5,2,   2261.3,2,   7.7800,2,    25.00
  18HU20150504, AR07W,   119,  1, 408076,      1,2,20150512,0356, 60.3592, -48.4665,-999,   1035.9,   3.9129,  34.9099,2,  34.9164,2,    277.3,2,    292.0,6,     8.54,6,    15.55,6,     0.04,6,     1.04,6,     0.84,6,    2.201,2,    2.302,2,   2162.9,2,   2301.4,2,   7.7320,2,    25.00
  18HU20150504, AR07W,   119,  1, 408077,      2,2,20150512,0356, 60.3592, -48.4665,-999,    900.1,   3.9054,  34.9102,2,  34.9148,2,    279.5,2,    291.5,2,     8.48,6,    15.53,6,     0.07,6,     1.04,6,     0.65,6,    2.249,2,    2.291,2,   2162.9,2,   2301.9,2,   7.7300,2,    25.00
  18HU20150504, AR07W,   119,  1, 408078,      3,2,20150512,0356, 60.3592, -48.4665,-999,    751.4,   4.0356,  34.9137,2,  34.9180,2,    280.2,2,    292.2,2,     8.44,6,    15.34,6,     0.06,6,     1.03,6,     0.64,6,    2.261,2,    2.489,2,   2160.6,2,   2303.0,2,   7.7310,2,    25.00
  18HU20150504, AR07W,   119,  1, 408079,      4,2,20150512,0356, 60.3592, -48.4665,-999,    599.0,   4.1092,  34.9207,2,  34.9251,2,    280.4,2,    292.0,2,     8.36,6,    15.24,6,     0.06,6,     1.02,6,     0.80,6,    2.266,2,    2.478,2,   2161.0,2,   2302.0,2,   7.7370,2,    25.00
  18HU20150504, AR07W,   119,  1, 408080,      5,2,20150512,0356, 60.3592, -48.4665,-999,    469.0,   4.1523,  34.9227,2,  34.9271,2,    281.5,2,    292.0,2,     8.27,6,    15.21,6,     0.07,6,     1.01,6,     0.71,6,    2.261,2,    2.494,2,   2161.2,2,   2299.9,2,   7.7370,2,    25.00
  18HU20150504, AR07W,   119,  1, 408081,      6,2,20150512,0356, 60.3592, -48.4665,-999,    350.4,   4.4015,  34.9265,2,  34.9355,2,    283.2,2,    293.6,2,     7.89,6,    14.76,6,     0.09,6,     0.99,6,     0.79,6,    2.279,2,    2.650,2,   2158.8,2,   2301.8,2,   7.7430,2,    25.00
  18HU20150504, AR07W,   119,  1, 408082,      7,2,20150512,0356, 60.3592, -48.4665,-999,    250.3,   4.0796,  34.8264,2,  34.8275,2,    289.0,2,    300.1,2,     7.47,6,    13.85,6,     0.17,6,     0.94,6,     0.92,6,    2.364,2,    2.736,2,   2151.8,2,   2298.6,2,   7.7480,2,    25.00
  18HU20150504, AR07W,   119,  1, 408083,      8,2,20150512,0356, 60.3592, -48.4665,-999,    152.3,   3.0684,  34.5382,2,  34.5421,2,    309.0,2,    319.3,2,     6.99,6,    11.08,6,     0.14,6,     0.81,6,     1.27,6,    2.521,2,    2.947,2,   2133.3,2,   2286.7,2,   7.7720,2,    25.00
  18HU20150504, AR07W,   119,  1, 408084,      9,2,20150512,0356, 60.3592, -48.4665,-999,    100.3,   2.4039,  34.3718,2,  34.3750,2,    311.1,2,    320.5,2,     6.74,6,    11.16,6,     0.12,6,     0.81,6,     0.94,6,    2.619,2,    3.087,2,   2130.0,2,   2276.8,2,   7.7560,2,    25.00
  18HU20150504, AR07W,   119,  1, 408085,     10,2,20150512,0356, 60.3592, -48.4665,-999,     79.4,   2.4473,  34.3374,2,     -999,9,    321.9,2,    332.1,2,     6.38,6,     9.37,6,     0.12,6,     0.72,6,     0.79,6,     -999,9,     -999,9,     -999,9,     -999,9,     -999,9,     9.00
  18HU20150504, AR07W,   119,  1, 408086,     11,2,20150512,0356, 60.3592, -48.4665,-999,     59.6,   2.4910,  34.2921,2,     -999,9,    334.7,2,     -999,9,     6.27,6,     7.63,6,     0.11,6,     0.63,6,     0.73,6,     -999,9,     -999,9,     -999,9,     -999,9,     -999,9,     9.00
  18HU20150504, AR07W,   119,  1, 408087,     12,2,20150512,0356, 60.3592, -48.4665,-999,     51.4,   2.0031,  34.1954,2,     -999,9,    328.5,2,    336.5,2,     6.27,6,     8.94,6,     0.11,6,     0.70,6,     0.84,6,    2.714,2,    3.077,2,   2114.3,2,   2273.4,2,   7.7850,2,    25.00
  18HU20150504, AR07W,   119,  1, 408088,     13,2,20150512,0356, 60.3592, -48.4665,-999,     40.7,   1.7541,  34.1309,2,     -999,9,    327.5,2,    351.3,2,     6.15,6,     8.97,6,     0.11,6,     0.70,6,     0.82,6,     -999,9,     -999,9,     -999,9,     -999,9,     -999,9,     9.00
  18HU20150504, AR07W,   119,  1, 408089,     14,2,20150512,0356, 60.3592, -48.4665,-999,     29.6,   1.0373,  33.8994,2,     -999,9,    339.6,2,     -999,9,     5.82,6,     7.38,6,     0.10,6,     0.62,6,     0.65,6,     -999,9,     -999,9,     -999,9,     -999,9,     -999,9,     9.00
  18HU20150504, AR07W,   119,  1, 408090,     15,2,20150512,0356, 60.3592, -48.4665,-999,     20.4,   0.6683,  33.8038,2,     -999,9,    342.4,2,    352.5,2,     5.95,6,     7.20,6,     0.10,6,     0.61,6,     0.68,6,    2.884,2,    3.314,2,   2098.2,2,   2250.5,2,   7.7860,2,    25.00
  18HU20150504, AR07W,   119,  1, 408091,     16,2,20150512,0356, 60.3592, -48.4665,-999,     11.8,   0.4491,  33.7505,2,     -999,9,    342.0,2,    335.9,2,     5.73,6,     7.21,6,     0.10,6,     0.62,6,     0.63,6,     -999,9,     -999,9,     -999,9,     -999,9,     -999,9,     9.00
  18HU20150504, AR07W,   119,  1, 408092,     17,2,20150512,0356, 60.3592, -48.4665,-999,      2.8,   0.3532,  33.7185,2,     -999,9,    341.8,2,    331.9,2,     5.73,6,     7.19,6,     0.09,6,     0.61,6,     0.73,6,    2.924,2,    3.288,2,   2094.3,2,   2250.1,2,   7.7770,2,    25.00