BOTTLE,20230713CCHSIOVAJ
EXPOCODE,SECT_ID,STNNBR,CASTNO,SAMPNO,BTLNBR,BTLNBR_FLAG_W,DATE,TIME,LATITUDE,LONGITUDE,DEPTH,CTDPRS,CTDTMP,CTDSAL,CTDSAL_FLAG_W,SALNTY,SALNTY_FLAG_W,CTDOXY,CTDOXY_FLAG_W,OXYGEN,OXYGEN_FLAG_W,SILCAT,SILCAT_FLAG_W,NITRAT,NITRAT_FLAG_W,NITRIT,NITRIT_FLAG_W,PHSPHT,PHSPHT_FLAG_W,NH4,NH4_FLAG_W,CFC-12,CFC-12_FLAG_W,SF6,SF6_FLAG_W,TCARBN,TCARBN_FLAG_W,ALKALI,ALKALI_FLAG_W,PH_TOT,PH_TOT_FLAG_W,PH_TMP
,,,,,,,,,,,METERS,DBAR,ITS-90,PSS-78,,PSS-78,,UMOL/KG,,UMOL/KG,,UMOL/KG,,UMOL/KG,,UMOL/KG,,UMOL/KG,,UMOL/KG,,PMOL/KG,,FMOL/KG,,UMOL/KG,,UMOL/KG,,,,DEG C
  18HU20150504, AR07W,   131,  1, 408159,      1,2,20150512,1924, 59.9783, -48.8997,-999,   3055.8,   1.7574,  34.8992,2,  34.9027,2,    279.5,2,    292.1,2,     9.06,6,    13.58,6,     0.02,6,     0.90,6,     0.66,6,    2.133,2,    1.998,2,   2166.3,2,   2300.7,2,   7.7180,2,    25.00
  18HU20150504, AR07W,   131,  1, 408160,      2,2,20150512,1924, 59.9783, -48.8997,-999,   2936.9,   1.8010,  34.8989,2,  34.9023,2,    279.3,2,    293.5,2,     9.80,6,    13.70,6,     0.02,6,     0.92,6,     0.82,6,    2.114,2,    1.815,2,   2165.3,2,   2298.8,2,   7.7190,2,    25.00
  18HU20150504, AR07W,   131,  1, 408161,      3,2,20150512,1924, 59.9783, -48.8997,-999,   2861.9,   1.9240,  34.8986,2,  34.9027,2,    278.3,2,    291.4,2,     9.59,6,    13.82,6,     -999,9,     0.93,6,     0.47,6,    2.055,2,    1.813,2,   2166.1,2,   2305.3,2,   7.7200,2,    25.00
  18HU20150504, AR07W,   131,  1, 408162,      4,2,20150512,1924, 59.9783, -48.8997,-999,   2762.5,   2.1781,  34.9020,2,  34.9056,2,    273.6,2,    286.1,2,    11.06,6,    14.36,6,     -999,9,     0.95,6,     0.43,6,    1.872,2,    1.407,2,   2165.0,2,   2310.6,2,   7.7270,2,    25.00
  18HU20150504, AR07W,   131,  1, 408163,      5,2,20150512,1924, 59.9783, -48.8997,-999,   2638.6,   2.3259,  34.9051,2,  34.9086,2,    268.5,2,    280.7,6,    13.53,6,    15.04,6,     0.02,2,     1.01,6,     0.47,6,    1.590,2,    1.071,2,   2166.1,2,   2306.7,2,   7.7390,2,    25.00
  18HU20150504, AR07W,   131,  1, 408164,      6,2,20150512,1924, 59.9783, -48.8997,-999,   2502.2,   2.5701,  34.9137,2,  34.9184,2,    266.4,2,    278.3,2,    12.69,6,    15.13,6,     -999,9,     1.02,6,     0.55,6,    1.586,2,    1.139,2,   2164.5,2,   2309.4,2,   7.7320,2,    25.00
  18HU20150504, AR07W,   131,  1, 408165,      7,2,20150512,1924, 59.9783, -48.8997,-999,   2341.5,   2.7822,  34.9190,2,  34.9236,2,    265.6,2,    276.6,2,    12.26,6,    15.33,6,     0.02,2,     1.03,6,     0.66,6,    1.559,2,    1.291,2,   2165.6,2,   2309.4,2,   7.7340,2,    25.00
  18HU20150504, AR07W,   131,  1, 408166,      8,2,20150512,1924, 59.9783, -48.8997,-999,   2159.9,   2.9520,  34.9185,2,  34.9313,6,    265.5,2,    275.8,2,    11.62,6,    15.47,6,     0.02,6,     1.03,6,     1.40,6,    1.611,2,    1.087,2,   2162.3,2,   2301.5,2,   7.7410,2,    25.00
  18HU20150504, AR07W,   131,  1, 408167,      9,2,20150512,1924, 59.9783, -48.8997,-999,   1982.1,   3.1678,  34.9203,2,  34.9248,2,    263.9,2,    275.1,2,    11.06,6,    15.49,6,     0.02,6,     1.03,6,     0.72,6,    1.685,2,    0.990,2,   2165.1,2,   2305.7,2,   7.7270,2,    25.00
  18HU20150504, AR07W,   131,  1, 408168,     10,2,20150512,1924, 59.9783, -48.8997,-999,   1779.1,   3.3691,  34.9202,2,  34.9249,2,    263.3,2,    274.3,2,    10.95,6,    15.75,6,     0.02,6,     1.04,6,     0.69,6,    1.702,2,    1.116,2,   2162.7,2,   2303.5,2,   7.7330,2,    25.00
  18HU20150504, AR07W,   131,  1, 408169,     11,2,20150512,1924, 59.9783, -48.8997,-999,   1579.0,   3.5272,  34.9229,2,  34.9294,2,    262.8,2,    273.1,2,    10.57,6,    15.83,6,     0.02,6,     1.06,6,     0.62,6,    1.779,2,    1.302,2,   2164.0,2,   2299.7,2,   7.7240,2,    25.00
  18HU20150504, AR07W,   131,  1, 408170,     12,2,20150512,1924, 59.9783, -48.8997,-999,   1381.7,   3.6751,  34.9189,2,  34.9252,2,    264.6,2,    273.8,2,    10.00,6,    15.81,6,     0.02,6,     1.05,6,     0.56,6,    1.921,2,    1.482,2,   2162.9,2,   2304.0,2,   7.7230,2,    25.00
  18HU20150504, AR07W,   131,  1, 408171,     13,2,20150512,1924, 59.9783, -48.8997,-999,   1180.1,   3.4996,  34.8756,2,  34.8805,2,    277.1,2,    287.7,2,     8.87,6,    15.38,6,     0.02,6,     1.01,6,     0.63,6,    2.230,2,    2.030,2,   2163.2,2,   2301.4,2,   7.7210,2,    25.00
  18HU20150504, AR07W,   131,  1, 408172,     14,2,20150512,1924, 59.9783, -48.8997,-999,    982.2,   3.5379,  34.8716,2,  34.8753,2,    279.2,2,    290.6,2,     8.67,6,    15.31,6,     0.03,6,     1.01,6,     0.62,6,    2.264,2,    2.160,2,   2165.2,2,   2301.8,2,   7.7210,2,    25.00
  18HU20150504, AR07W,   131,  1, 408173,     15,2,20150512,1924, 59.9783, -48.8997,-999,    802.0,   3.5635,  34.8681,2,  34.8712,2,    280.6,2,    289.6,2,     8.49,6,    15.26,6,     0.04,6,     1.01,6,     0.64,6,    2.296,2,    2.284,2,   2164.2,2,   2298.5,2,   7.7220,2,    25.00
  18HU20150504, AR07W,   131,  1, 408174,     16,2,20150512,1924, 59.9783, -48.8997,-999,    640.7,   3.8048,  34.8961,2,  34.8997,6,    279.8,2,    288.4,2,     8.54,6,    15.36,6,     0.03,6,     1.01,6,     0.65,6,    2.277,2,    2.325,2,   2165.4,2,   2299.6,2,   7.7240,2,    25.00
  18HU20150504, AR07W,   131,  1, 408175,     17,2,20150512,1924, 59.9783, -48.8997,-999,    502.1,   3.9134,  34.8998,2,  34.9030,2,    283.0,2,    291.0,2,     8.28,6,    15.13,6,     0.03,6,     0.99,6,     0.95,6,    2.311,2,    2.462,2,   2164.1,2,   2302.4,2,   7.7290,2,    25.00
  18HU20150504, AR07W,   131,  1, 408176,     18,2,20150512,1924, 59.9783, -48.8997,-999,    379.5,   3.8857,  34.8840,2,  34.8864,2,    284.7,2,    293.0,2,     8.10,6,    14.92,6,     0.04,6,     0.98,6,     0.65,6,    2.348,2,    2.546,2,   2162.3,2,   2300.5,2,   7.7290,2,    25.00
  18HU20150504, AR07W,   131,  1, 408177,     19,2,20150512,1924, 59.9783, -48.8997,-999,    260.8,   3.8015,  34.8515,2,  34.8552,2,    287.1,2,    291.4,2,     7.70,6,    14.58,6,     0.04,6,     0.95,6,     0.63,6,    2.360,2,    2.376,2,   2158.9,2,   2302.8,2,   7.7330,2,    25.00
  18HU20150504, AR07W,   131,  1, 408178,     20,2,20150512,1924, 59.9783, -48.8997,-999,    171.8,   3.8481,  34.8289,2,  34.8367,2,    288.7,2,    294.9,2,     7.38,6,    14.28,6,     0.06,6,     0.94,6,     0.77,6,    2.386,2,    2.492,2,   2159.1,2,   2300.0,2,   7.7350,2,    25.00
  18HU20150504, AR07W,   131,  1, 408179,     21,2,20150512,1924, 59.9783, -48.8997,-999,    100.0,   3.2637,  34.6827,2,     -999,9,    303.8,2,    309.7,2,     6.89,6,    12.62,6,     0.17,6,     0.85,6,     0.88,6,    2.548,2,    2.942,2,   2145.4,2,   2292.9,2,   7.7490,2,    25.00
  18HU20150504, AR07W,   131,  1, 408180,     22,2,20150512,1924, 59.9783, -48.8997,-999,     49.5,   2.6749,  34.4576,2,     -999,9,    339.4,2,    347.9,2,     6.07,6,     5.68,6,     0.12,6,     0.49,6,     1.09,6,    2.713,2,    3.250,2,   2102.2,2,   2287.1,2,   7.8470,2,    25.00
  18HU20150504, AR07W,   131,  1, 408181,     23,2,20150512,1924, 59.9783, -48.8997,-999,     26.1,   2.5399,  34.3770,2,     -999,9,    352.4,2,    359.3,2,     5.58,6,     3.37,6,     0.10,6,     0.36,6,     1.05,6,    2.757,2,    3.053,2,   2086.2,2,   2286.3,2,   7.8770,2,    25.00
  18HU20150504, AR07W,   131,  1, 408182,     24,2,20150512,1924, 59.9783, -48.8997,-999,      2.1,   2.3226,  34.2251,2,     -999,9,    378.4,2,    385.1,2,     4.70,6,     0.27,6,     0.05,6,     0.20,6,     0.80,6,    2.800,2,    3.094,2,   2051.8,2,   2279.1,2,   7.9380,2,    25.00
  18HU20150504, AR07W,   134,  1, 408183,      1,2,20150512,2328, 59.7495, -49.1673,-999,   3261.5,   1.5591,  34.8992,2,  34.9031,2,    282.0,2,    295.9,2,     9.02,6,    13.46,6,     0.02,6,     0.89,6,     0.61,6,    2.191,2,    1.823,2,   2166.6,2,   2294.9,2,   7.7140,2,    25.00
  18HU20150504, AR07W,   134,  1, 408184,      2,2,20150512,2328, 59.7495, -49.1673,-999,   3201.5,   1.6646,  34.8961,2,  34.8993,2,    281.8,2,    295.2,2,     9.65,6,    13.65,6,     0.02,6,     0.90,6,     0.72,6,    2.162,2,    1.739,2,   2169.3,2,   2302.6,2,   7.7160,2,    25.00
  18HU20150504, AR07W,   134,  1, 408185,      3,2,20150512,2328, 59.7495, -49.1673,-999,   3120.9,   1.8757,  34.8970,2,  34.9011,2,    278.8,2,    292.5,2,    10.08,6,    13.89,6,     0.02,6,     0.93,6,     0.68,6,    2.063,2,    1.557,2,   2168.4,2,   2305.5,2,   7.7200,2,    25.00
  18HU20150504, AR07W,   134,  1, 408186,      4,2,20150512,2328, 59.7495, -49.1673,-999,   3020.5,   2.1171,  34.9004,2,  34.9048,2,    274.4,2,    288.8,6,    11.08,6,    14.23,6,     0.03,2,     0.95,6,     1.03,6,    1.904,2,    1.517,2,   2166.9,2,   2306.6,2,   7.7240,2,    25.00
  18HU20150504, AR07W,   134,  1, 408187,      5,2,20150512,2328, 59.7495, -49.1673,-999,   2898.3,   2.3701,  34.9059,2,  34.9101,2,    270.7,2,     -999,9,    11.84,6,    14.80,6,     0.03,6,     0.98,6,     0.63,6,    1.756,2,    1.459,2,   2163.9,2,   2307.9,2,   7.7270,2,    25.00
  18HU20150504, AR07W,   134,  1, 408188,      6,2,20150512,2328, 59.7495, -49.1673,-999,   2771.0,   2.5559,  34.9118,2,  34.9161,2,    268.8,2,    280.8,2,    11.81,6,    15.02,6,     0.03,6,     1.00,6,     0.67,6,    1.692,2,    1.170,2,   2166.1,2,   2309.1,2,   7.7260,2,    25.00
  18HU20150504, AR07W,   134,  1, 408189,      7,2,20150512,2328, 59.7495, -49.1673,-999,   2618.0,   2.6628,  34.9159,2,  34.9184,2,    267.4,2,    279.2,2,    11.62,6,    15.17,6,     0.03,6,     1.02,6,     0.75,6,    1.693,2,    1.075,2,   2164.1,2,   2306.8,2,   7.7270,2,    25.00
  18HU20150504, AR07W,   134,  1, 408190,      8,2,20150512,2328, 59.7495, -49.1673,-999,   2459.2,   2.7454,  34.9176,2,  34.9225,6,    266.9,2,    278.1,2,    11.75,6,    15.38,6,     0.02,6,     1.02,6,     0.70,6,    1.645,2,    1.155,2,   2165.4,2,   2304.1,2,   7.7300,2,    25.00
  18HU20150504, AR07W,   134,  1, 408191,      9,2,20150512,2328, 59.7495, -49.1673,-999,   2261.8,   2.9398,  34.9180,2,  34.9232,2,    265.2,2,     -999,9,    11.63,6,    15.59,6,     0.02,6,     1.04,6,     0.55,6,    1.613,2,    1.081,2,   2163.7,2,   2305.1,2,   7.7290,2,    25.00
  18HU20150504, AR07W,   134,  1, 408192,     10,2,20150512,2328, 59.7495, -49.1673,-999,   2060.1,   3.1247,  34.9178,2,  34.9236,2,    265.2,2,    275.3,2,    11.33,6,    15.66,6,     0.02,6,     1.05,6,     0.58,6,    1.647,2,    1.116,2,   2162.1,2,   2303.3,2,   7.7420,2,    25.00
  18HU20150504, AR07W,   134,  1, 408193,     11,2,20150512,2328, 59.7495, -49.1673,-999,   1845.6,   3.3777,  34.9209,2,  34.9246,2,    263.2,2,    273.5,2,    10.79,6,    15.95,6,     0.02,6,     1.05,6,     0.47,6,    1.717,2,    1.148,2,   2167.1,2,   2303.6,2,   7.7350,2,    25.00
  18HU20150504, AR07W,   134,  1, 408194,     12,2,20150512,2328, 59.7495, -49.1673,-999,   1640.8,   3.5852,  34.9207,2,  34.9255,2,    261.7,2,    271.8,2,    10.60,6,    16.23,6,     0.02,2,     1.07,6,     0.62,6,    1.780,2,    1.188,2,   2165.6,2,   2307.1,2,   7.7260,2,    25.00
  18HU20150504, AR07W,   134,  1, 408195,     13,2,20150512,2328, 59.7495, -49.1673,-999,   1430.4,   3.4427,  34.8711,2,  34.8753,2,    278.9,2,    289.1,6,     8.79,6,    15.36,6,     0.03,6,     1.02,6,     0.66,6,    2.262,2,    2.112,2,   2165.0,2,   2295.7,2,   7.7230,2,    25.00
  18HU20150504, AR07W,   134,  1, 408196,     14,2,20150512,2328, 59.7495, -49.1673,-999,   1228.0,   3.4219,  34.8632,2,  34.8662,2,    267.1,2,    290.6,2,     8.67,6,    15.25,6,     0.03,6,     1.01,6,     0.64,6,    2.295,2,    2.277,2,   2165.1,2,   2299.3,2,   7.7230,2,    25.00
  18HU20150504, AR07W,   134,  1, 408197,     15,2,20150512,2328, 59.7495, -49.1673,-999,   1030.4,   3.3921,  34.8538,2,  34.8599,2,    282.6,2,    291.8,2,     8.42,6,    15.17,6,     0.04,6,     0.99,6,     1.60,6,    2.335,2,    2.332,2,   2162.8,2,   2298.1,2,   7.7240,2,    25.00
  18HU20150504, AR07W,   134,  1, 408198,     16,2,20150512,2328, 59.7495, -49.1673,-999,    840.5,   3.5011,  34.8641,2,  34.8690,6,    272.2,2,    290.2,2,     8.45,6,    15.06,6,     0.04,6,     1.00,6,     0.68,6,    2.314,2,    2.150,2,   2163.1,2,   2302.4,2,   7.7230,2,    25.00
  18HU20150504, AR07W,   134,  1, 408199,     17,2,20150512,2328, 59.7495, -49.1673,-999,    660.8,   3.5673,  34.8609,2,  34.8693,2,    300.3,2,    299.3,2,     8.47,6,    15.25,6,     0.03,6,     0.99,6,     0.76,6,    2.341,2,    2.161,2,   2161.8,2,   2303.1,2,   7.7240,2,    25.00
  18HU20150504, AR07W,   134,  1, 408200,     18,2,20150512,2328, 59.7495, -49.1673,-999,    482.8,   3.9385,  34.8958,2,  34.8970,2,    290.2,2,     -999,9,     7.94,6,    14.82,6,     0.04,6,     0.94,6,     0.64,6,    2.337,2,    2.468,2,   2162.2,2,   2297.7,2,   7.7430,2,    25.00
  18HU20150504, AR07W,   134,  1, 408201,     19,2,20150512,2328, 59.7495, -49.1673,-999,    319.3,   3.9214,  34.8676,2,  34.8712,2,    284.5,2,    299.0,2,     7.49,6,    14.27,6,     0.03,6,     0.95,6,     0.58,6,    2.343,2,    2.355,2,   2160.3,2,   2300.2,2,   7.7310,2,    25.00
  18HU20150504, AR07W,   134,  1, 408202,     20,2,20150512,2328, 59.7495, -49.1673,-999,    211.3,   4.0031,  34.8576,2,  34.8610,2,    286.4,2,    291.3,2,     7.24,6,    13.99,6,     0.03,6,     0.45,3,     0.53,6,    2.360,2,    2.455,2,   2158.1,2,   2299.6,2,   7.7360,2,    25.00
  18HU20150504, AR07W,   134,  1, 408203,     21,2,20150512,2328, 59.7495, -49.1673,-999,     99.3,   3.6368,  34.7479,2,  34.7503,2,    293.5,2,    302.5,2,     7.08,6,    13.41,6,     0.05,6,     -999,9,     0.50,2,    2.451,2,    2.755,2,   2152.7,2,   2288.6,2,   7.7380,2,    25.00
  18HU20150504, AR07W,   134,  1, 408204,     22,2,20150512,2328, 59.7495, -49.1673,-999,     51.8,   2.5985,  34.4103,2,     -999,9,    339.3,2,    350.0,2,     6.09,6,     5.00,6,     0.13,6,     0.47,2,     -999,9,    2.750,2,    3.119,2,   2101.4,2,   2287.5,2,   7.8410,2,    25.00
  18HU20150504, AR07W,   134,  1, 408205,     23,2,20150512,2328, 59.7495, -49.1673,-999,     26.1,   2.2676,  34.2081,2,  34.2018,2,    362.0,2,    371.0,2,     -999,9,     -999,9,     -999,9,     -999,9,     -999,9,    2.825,2,    3.162,2,   2071.7,2,   2268.7,2,   7.9010,2,    25.00
  18HU20150504, AR07W,   134,  1, 408206,     24,2,20150512,2328, 59.7495, -49.1673,-999,      3.1,   1.9268,  34.0813,2,  34.0838,2,    372.5,2,    385.2,2,     -999,9,     -999,9,     -999,9,     -999,9,     -999,9,    2.886,2,    3.130,2,   2082.3,2,   2232.7,2,   7.9310,2,    25.00