BOTTLE,20230713CCHSIOVAJ
EXPOCODE,SECT_ID,STNNBR,CASTNO,SAMPNO,BTLNBR,BTLNBR_FLAG_W,DATE,TIME,LATITUDE,LONGITUDE,DEPTH,CTDPRS,CTDTMP,CTDSAL,CTDSAL_FLAG_W,SALNTY,SALNTY_FLAG_W,CTDOXY,CTDOXY_FLAG_W,OXYGEN,OXYGEN_FLAG_W,SILCAT,SILCAT_FLAG_W,NITRAT,NITRAT_FLAG_W,NITRIT,NITRIT_FLAG_W,PHSPHT,PHSPHT_FLAG_W,NH4,NH4_FLAG_W,CFC-12,CFC-12_FLAG_W,SF6,SF6_FLAG_W,TCARBN,TCARBN_FLAG_W,ALKALI,ALKALI_FLAG_W,PH_TOT,PH_TOT_FLAG_W,PH_TMP
,,,,,,,,,,,METERS,DBAR,ITS-90,PSS-78,,PSS-78,,UMOL/KG,,UMOL/KG,,UMOL/KG,,UMOL/KG,,UMOL/KG,,UMOL/KG,,UMOL/KG,,PMOL/KG,,FMOL/KG,,UMOL/KG,,UMOL/KG,,,,DEG C
  18HU20150504, AR07W,   177,  1, 408401,      1,2,20150516,0001, 55.1110, -54.1367,-999,    914.0,   3.3763,  34.8525,2,  34.8581,2,    281.4,2,    293.6,2,     8.48,6,    15.26,6,     0.06,6,     1.00,6,     0.44,6,    2.222,2,    1.917,3,   2163.4,2,   2303.3,2,   7.7290,2,    25.00
  18HU20150504, AR07W,   177,  1, 408402,      2,2,20150516,0001, 55.1110, -54.1367,-999,    805.5,   3.3670,  34.8527,2,  34.8607,6,    281.3,2,    293.6,2,     8.52,6,    15.38,6,     0.05,6,     1.00,6,     0.65,6,     -999,9,     -999,9,   2160.7,2,   2300.9,2,   7.7280,2,    25.00
  18HU20150504, AR07W,   177,  1, 408403,      3,2,20150516,0001, 55.1110, -54.1367,-999,    741.7,   3.3617,  34.8523,2,  34.8572,2,    282.0,2,    293.8,2,     9.19,6,    15.30,6,     0.05,6,     1.00,6,     0.50,6,    2.338,2,    2.331,2,   2162.3,2,   2300.0,2,   7.7240,2,    25.00
  18HU20150504, AR07W,   177,  1, 408404,      4,2,20150516,0001, 55.1110, -54.1367,-999,    679.5,   3.3457,  34.8485,2,  34.8538,2,    282.8,2,    294.0,2,     8.43,6,    15.40,6,     0.05,6,     1.00,6,     0.46,6,    2.333,2,    2.410,2,   2160.9,2,   2299.7,2,   7.7250,2,    25.00
  18HU20150504, AR07W,   177,  1, 408405,      5,2,20150516,0001, 55.1110, -54.1367,-999,    597.8,   3.3069,  34.8399,2,  34.8456,2,    284.3,2,    296.2,6,     8.37,6,    15.22,6,     0.06,6,     0.99,6,     0.40,6,    2.356,2,    2.574,2,   2159.1,2,   2302.2,2,   7.7290,2,    25.00
  18HU20150504, AR07W,   177,  1, 408406,      6,2,20150516,0001, 55.1110, -54.1367,-999,    470.4,   3.2666,  34.8289,2,  34.8337,2,    285.6,2,    297.7,2,     8.23,6,    15.31,6,     0.08,6,     0.98,6,     0.39,6,    2.353,2,    2.428,2,   2159.8,2,   2298.7,2,   7.7300,2,    25.00
  18HU20150504, AR07W,   177,  1, 408407,      7,2,20150516,0001, 55.1110, -54.1367,-999,    364.6,   3.2395,  34.8193,2,  34.8259,2,    287.9,2,    298.5,2,     8.29,6,    15.20,6,     0.08,6,     0.97,6,     0.46,6,    2.402,2,    2.644,2,   2158.8,2,   2302.6,2,   7.7260,2,    25.00
  18HU20150504, AR07W,   177,  1, 408408,      8,2,20150516,0001, 55.1110, -54.1367,-999,    262.9,   3.2139,  34.8069,2,  34.8120,2,    288.2,2,    299.1,2,     8.07,6,    15.10,6,     0.10,6,     0.97,6,     0.66,6,    2.429,2,    2.531,2,   2157.1,2,   2300.8,2,   7.7250,2,    25.00
  18HU20150504, AR07W,   177,  1, 408409,      9,2,20150516,0001, 55.1110, -54.1367,-999,    170.5,   3.2919,  34.7538,2,  34.7603,2,    284.7,2,     -999,9,     8.09,6,    14.90,6,     0.09,6,     0.97,6,     0.38,6,    2.400,2,    2.615,2,   2153.1,2,   2295.0,2,   7.7260,2,    25.00
  18HU20150504, AR07W,   177,  1, 408410,     10,2,20150516,0001, 55.1110, -54.1367,-999,    104.8,   2.4475,  34.4507,2,  34.4322,2,    301.1,2,    314.4,2,     7.82,6,    13.26,6,     0.11,6,     0.88,6,     0.61,6,    2.618,2,    2.960,2,   2136.4,2,   2278.6,2,   7.7300,2,    25.00
  18HU20150504, AR07W,   177,  1, 408411,     11,2,20150516,0001, 55.1110, -54.1367,-999,     81.1,   2.0471,  34.2683,2,     -999,9,    316.8,2,     -999,9,     7.49,6,    12.17,6,     0.10,6,     0.84,6,     0.65,6,     -999,9,     -999,9,     -999,9,     -999,9,     -999,9,     9.00
  18HU20150504, AR07W,   177,  1, 408412,     12,2,20150516,0001, 55.1110, -54.1367,-999,     62.1,   1.0584,  34.0682,2,     -999,9,    315.6,2,     -999,9,     7.36,6,    10.98,6,     0.10,6,     0.80,6,     0.97,6,     -999,9,     -999,9,     -999,9,     -999,9,     -999,9,     9.00
  18HU20150504, AR07W,   177,  1, 408413,     13,2,20150516,0001, 55.1110, -54.1367,-999,     50.3,   1.2274,  33.9750,2,  33.9881,2,    323.4,2,    332.6,2,     7.35,6,    10.43,6,     0.09,6,     0.78,6,     0.80,6,    2.829,2,    3.345,2,   2115.4,2,   2259.2,2,   7.7390,2,    25.00
  18HU20150504, AR07W,   177,  1, 408414,     14,2,20150516,0001, 55.1110, -54.1367,-999,     40.7,   0.7796,  33.6602,2,     -999,9,    334.8,2,     -999,9,     7.59,6,     9.22,6,     0.09,6,     0.75,6,     0.94,6,     -999,9,     -999,9,     -999,9,     -999,9,     -999,9,     9.00
  18HU20150504, AR07W,   177,  1, 408415,     15,2,20150516,0001, 55.1110, -54.1367,-999,     31.6,   0.2793,  33.4449,2,  33.4677,2,    337.0,2,    347.1,2,     7.91,6,     8.27,6,     0.09,6,     0.73,6,     0.80,6,    3.003,2,    3.339,2,   2102.6,2,   2241.3,2,   7.7370,2,    25.00
  18HU20150504, AR07W,   177,  1, 408416,     16,2,20150516,0001, 55.1110, -54.1367,-999,     21.1,  -0.4301,  33.1365,2,     -999,9,    335.9,2,     -999,9,     8.42,6,     7.82,6,     0.09,6,     0.76,6,     0.76,6,     -999,9,     -999,9,     -999,9,     -999,9,     -999,9,     9.00
  18HU20150504, AR07W,   177,  1, 408417,     17,2,20150516,0001, 55.1110, -54.1367,-999,     10.9,  -1.1951,  32.7984,2,     -999,9,    336.6,2,    343.9,2,     9.01,6,     7.49,6,     0.08,6,     0.78,6,     0.61,6,    3.119,2,    3.303,2,   2107.4,2,   2227.5,2,   7.6910,2,    25.00
  18HU20150504, AR07W,   177,  1, 408418,     18,2,20150516,0001, 55.1110, -54.1367,-999,      2.2,  -1.0483,  32.6714,2,     -999,9,    343.3,2,     -999,9,     -999,9,     -999,9,     -999,9,     -999,9,     -999,9,     -999,9,     -999,9,     -999,9,     -999,9,     -999,9,     9.00
  18HU20150504, AR07W,   177,  1, 408419,     19,2,20150516,0001, 55.1110, -54.1367,-999,      2.7,  -1.0611,  32.6595,2,     -999,9,    342.0,2,    352.2,2,     9.08,6,     6.43,6,     0.09,6,     0.75,6,     0.74,6,    3.185,2,    3.543,2,   2102.7,2,   2220.9,2,   7.6910,2,    25.00
  18HU20150504, AR07W,   180,  1, 408420,      1,2,20150516,0331, 55.2608, -53.9970,-999,   2062.5,   3.1650,  34.9166,2,  34.9186,2,    263.1,2,    278.1,2,    11.31,6,    15.45,6,     -999,9,     1.05,6,     0.45,6,    1.678,2,    1.123,2,   2163.1,2,   2306.6,2,   7.7220,2,    25.00
  18HU20150504, AR07W,   180,  1, 408421,      2,2,20150516,0331, 55.2608, -53.9970,-999,   1969.3,   3.1722,  34.9165,2,  34.9189,2,    263.3,2,    277.5,2,    11.40,6,    15.60,6,     0.05,2,     1.06,6,     0.56,6,    1.687,2,    1.196,2,   2160.8,2,   2305.7,2,   7.7250,2,    25.00
  18HU20150504, AR07W,   180,  1, 408422,      3,2,20150516,0331, 55.2608, -53.9970,-999,   1901.0,   3.1709,  34.9163,2,  34.9216,2,    263.6,2,    288.3,3,    11.25,6,    15.62,6,     -999,9,     1.04,6,     0.42,6,    1.663,2,    1.167,2,   2160.8,2,   2308.4,2,   7.7260,2,    25.00
  18HU20150504, AR07W,   180,  1, 408423,      4,2,20150516,0331, 55.2608, -53.9970,-999,   1811.2,   3.2224,  34.9174,2,  34.9189,2,    262.9,2,    277.2,2,    11.05,6,    15.75,6,     -999,9,     1.03,6,     0.55,6,    1.685,2,    1.099,2,   2159.6,2,   2308.3,2,   7.7270,2,    25.00
  18HU20150504, AR07W,   180,  1, 408424,      5,2,20150516,0331, 55.2608, -53.9970,-999,   1691.7,   3.3637,  34.9186,2,  34.9235,2,    261.6,2,    275.9,6,    11.17,6,    16.08,6,     -999,9,     1.05,6,     0.68,2,    1.717,2,    1.176,2,   2161.7,2,   2306.1,2,   7.7290,2,    25.00
  18HU20150504, AR07W,   180,  1, 408425,      6,2,20150516,0331, 55.2608, -53.9970,-999,   1550.5,   3.5098,  34.9195,2,  34.9215,6,    262.0,2,    274.9,2,    10.79,6,    16.14,6,     0.04,2,     1.05,6,     0.45,6,    1.784,2,    1.325,2,   2162.4,2,   2310.9,2,   7.7250,2,    25.00
  18HU20150504, AR07W,   180,  1, 408426,      7,2,20150516,0331, 55.2608, -53.9970,-999,   1389.8,   3.5578,  34.9115,2,  34.9208,6,    265.2,2,    277.9,2,    10.46,6,    16.02,6,     0.04,2,     1.05,6,     0.44,6,    1.894,2,    1.455,2,   2164.7,2,   2303.1,2,   7.7240,2,    25.00
  18HU20150504, AR07W,   180,  1, 408427,      8,2,20150516,0331, 55.2608, -53.9970,-999,   1210.6,   3.4558,  34.8807,2,  34.8887,2,    275.4,2,    287.7,2,     9.54,6,    15.76,6,     0.04,6,     1.04,6,     0.56,6,    2.144,2,    2.000,2,     -999,9,   2303.3,2,   7.7240,2,    25.00
  18HU20150504, AR07W,   180,  1, 408428,      9,2,20150516,0331, 55.2608, -53.9970,-999,   1030.8,   3.3994,  34.8678,2,  34.8694,2,    279.4,2,    291.4,2,     8.19,6,    15.57,6,     0.03,6,     1.05,6,     0.41,6,    2.246,2,    2.136,2,   2163.1,2,   2298.3,2,   7.7070,2,    25.00
  18HU20150504, AR07W,   180,  1, 408429,     10,2,20150516,0331, 55.2608, -53.9970,-999,    850.7,   3.3791,  34.8619,2,  34.8686,2,    281.1,2,    293.1,2,     8.18,6,    15.44,6,     0.04,2,     1.02,6,     0.42,6,    2.299,2,    2.339,2,   2161.7,2,   2296.4,2,   7.7220,2,    25.00
  18HU20150504, AR07W,   180,  1, 408430,     11,2,20150516,0331, 55.2608, -53.9970,-999,    669.9,   3.3514,  34.8557,2,  34.8588,2,    283.1,2,    294.3,2,     8.18,6,    15.41,6,     0.04,6,     1.01,6,     0.43,6,    2.310,2,    2.291,2,   2165.7,2,   2298.5,2,   7.7200,2,    25.00
  18HU20150504, AR07W,   180,  1, 408431,     12,2,20150516,0331, 55.2608, -53.9970,-999,    509.8,   3.3238,  34.8501,2,  34.8523,2,    283.3,2,    295.4,2,     8.55,6,    15.47,6,     0.05,6,     0.99,6,     0.54,6,    2.333,2,    2.406,2,   2162.2,2,   2302.8,2,   7.7280,2,    25.00
  18HU20150504, AR07W,   180,  1, 408432,     13,2,20150516,0331, 55.2608, -53.9970,-999,    369.6,   3.2854,  34.8414,2,  34.8438,2,    286.8,2,    297.1,2,     8.37,6,    15.45,6,     0.05,6,     0.98,6,     0.58,6,    2.348,2,    2.459,2,   2163.9,2,   2298.0,2,   7.7200,2,    25.00
  18HU20150504, AR07W,   180,  1, 408433,     14,2,20150516,0331, 55.2608, -53.9970,-999,    251.2,   3.2503,  34.8327,2,  34.8462,2,    288.6,2,    298.8,2,     8.29,6,    15.36,6,     0.07,6,     0.97,6,     0.55,6,    2.390,2,    2.581,2,   2162.5,2,   2297.4,2,   7.7240,2,    25.00
  18HU20150504, AR07W,   180,  1, 408434,     15,2,20150516,0331, 55.2608, -53.9970,-999,    160.6,   3.2442,  34.8130,2,  34.8143,2,    292.8,2,    301.7,2,     8.19,6,    15.12,6,     0.10,6,     0.94,6,     0.68,6,    2.419,2,    2.698,2,   2158.6,2,   2294.3,2,   7.7250,2,    25.00
  18HU20150504, AR07W,   180,  1, 408435,     16,2,20150516,0331, 55.2608, -53.9970,-999,    100.8,   3.2964,  34.7641,2,     -999,9,    304.2,2,     -999,9,     -999,9,     -999,9,     -999,9,     -999,9,     -999,9,     -999,9,     -999,9,     -999,9,     -999,9,     -999,9,     9.00
  18HU20150504, AR07W,   180,  1, 408436,     17,2,20150516,0331, 55.2608, -53.9970,-999,     80.3,   3.3055,  34.7542,2,  34.7481,2,    309.3,2,    317.9,2,     7.98,6,    13.28,6,     0.09,6,     0.85,6,     0.70,6,     -999,9,     -999,9,     -999,9,     -999,9,     -999,9,     9.00
  18HU20150504, AR07W,   180,  1, 408437,     18,2,20150516,0331, 55.2608, -53.9970,-999,     61.4,   3.3121,  34.7424,2,     -999,9,    310.9,2,    319.8,2,     8.10,6,    12.55,6,     0.09,6,     0.87,6,     0.75,6,     -999,9,     -999,9,     -999,9,     -999,9,     -999,9,     9.00
  18HU20150504, AR07W,   180,  1, 408438,     19,2,20150516,0331, 55.2608, -53.9970,-999,     50.4,   3.3107,  34.7426,2,  34.7459,2,    309.8,2,    319.6,2,     7.60,6,    12.60,6,     0.09,6,     0.89,6,     0.89,6,    2.548,2,    2.844,2,   2149.0,2,   2296.0,2,   7.7470,2,    25.00
  18HU20150504, AR07W,   180,  1, 408439,     20,2,20150516,0331, 55.2608, -53.9970,-999,     40.8,   3.3155,  34.7434,2,     -999,9,    309.6,2,     -999,9,     7.71,6,    12.57,6,     0.09,6,     0.88,6,     0.75,6,     -999,9,     -999,9,     -999,9,     -999,9,     -999,9,     9.00
  18HU20150504, AR07W,   180,  1, 408440,     21,2,20150516,0331, 55.2608, -53.9970,-999,     31.4,   3.3257,  34.7437,2,  34.7507,2,    310.4,2,    319.8,2,     7.79,6,    13.06,6,     0.09,6,     0.88,6,     0.73,6,     -999,9,     -999,9,     -999,9,     -999,9,     -999,9,     9.00
  18HU20150504, AR07W,   180,  1, 408441,     22,2,20150516,0331, 55.2608, -53.9970,-999,     21.1,   3.3923,  34.7408,2,     -999,9,    311.3,2,     -999,9,     7.79,6,    12.93,6,     0.09,6,     0.87,6,     0.62,6,    2.559,2,    2.851,2,   2146.3,2,   2298.2,2,   7.7550,2,    25.00
  18HU20150504, AR07W,   180,  1, 408442,     23,2,20150516,0331, 55.2608, -53.9970,-999,     10.8,   3.3928,  34.7407,2,  34.7428,2,    312.6,2,    322.2,2,     7.86,6,    12.64,6,     0.10,6,     0.87,6,     0.66,6,     -999,9,     -999,9,     -999,9,     -999,9,     -999,9,     9.00
  18HU20150504, AR07W,   180,  1, 408443,     24,2,20150516,0331, 55.2608, -53.9970,-999,      3.1,   3.3915,  34.7408,2,     -999,9,    312.5,2,    322.0,2,     7.99,6,    12.64,6,     0.10,6,     0.88,6,     0.76,6,    2.581,2,    2.933,2,   2147.1,2,   2293.5,2,   7.7520,2,    25.00
  18HU20150504, AR07W,   181,  1, 408444,      1,2,20150516,0638, 55.3388, -53.9048,-999,   1002.0,   3.3395,  34.8553,2,     -999,9,    282.9,2,     -999,9,     -999,9,     -999,9,     -999,9,     -999,9,     -999,9,     -999,9,     -999,9,     -999,9,     -999,9,     -999,9,     9.00
  18HU20150504, AR07W,   181,  1, 408445,      2,2,20150516,0638, 55.3388, -53.9048,-999,   1002.1,   3.3416,  34.8558,2,     -999,9,    282.9,2,     -999,9,     -999,9,     -999,9,     -999,9,     -999,9,     -999,9,     -999,9,     -999,9,     -999,9,     -999,9,     -999,9,     9.00
  18HU20150504, AR07W,   181,  1, 408446,      3,2,20150516,0638, 55.3388, -53.9048,-999,   1001.9,   3.3417,  34.8559,2,     -999,9,    282.5,2,     -999,9,     -999,9,     -999,9,     -999,9,     -999,9,     -999,9,     -999,9,     -999,9,     -999,9,     -999,9,     -999,9,     9.00