BOTTLE,20230713CCHSIOVAJ
EXPOCODE,SECT_ID,STNNBR,CASTNO,SAMPNO,BTLNBR,BTLNBR_FLAG_W,DATE,TIME,LATITUDE,LONGITUDE,DEPTH,CTDPRS,CTDTMP,CTDSAL,CTDSAL_FLAG_W,SALNTY,SALNTY_FLAG_W,CTDOXY,CTDOXY_FLAG_W,OXYGEN,OXYGEN_FLAG_W,SILCAT,SILCAT_FLAG_W,NITRAT,NITRAT_FLAG_W,NITRIT,NITRIT_FLAG_W,PHSPHT,PHSPHT_FLAG_W,NH4,NH4_FLAG_W,CFC-12,CFC-12_FLAG_W,SF6,SF6_FLAG_W,TCARBN,TCARBN_FLAG_W,ALKALI,ALKALI_FLAG_W,PH_TOT,PH_TOT_FLAG_W,PH_TMP
,,,,,,,,,,,METERS,DBAR,ITS-90,PSS-78,,PSS-78,,UMOL/KG,,UMOL/KG,,UMOL/KG,,UMOL/KG,,UMOL/KG,,UMOL/KG,,UMOL/KG,,PMOL/KG,,FMOL/KG,,UMOL/KG,,UMOL/KG,,,,DEG C
  18HU20150504, AR07W,    29,  1, 407852,      1,2,20150509,1153, 56.5400, -52.6788,-999,    206.2,   3.1960,  34.8273,2,     -999,9,    293.4,2,    301.3,6,     8.33,6,    15.97,6,     0.06,6,     1.03,6,     0.56,6,     -999,9,     -999,9,     -999,9,     -999,9,   7.7220,2,    25.00
  18HU20150504, AR07W,    29,  1, 407853,      2,2,20150509,1153, 56.5400, -52.6788,-999,    154.7,   3.2610,  34.8320,2,     -999,9,    292.9,2,     -999,9,     8.26,6,    14.80,6,     0.05,6,     1.02,6,     0.65,6,     -999,9,     -999,9,     -999,9,     -999,9,   7.7140,2,    25.00
  18HU20150504, AR07W,    29,  1, 407854,      3,2,20150509,1153, 56.5400, -52.6788,-999,    105.2,   3.4109,  34.8211,2,     -999,9,    301.4,2,    310.2,2,     8.07,6,    13.93,6,     0.06,6,     0.98,6,     0.58,6,     -999,9,     -999,9,     -999,9,     -999,9,   7.7240,2,    25.00
  18HU20150504, AR07W,    29,  1, 407855,      4,2,20150509,1153, 56.5400, -52.6788,-999,     85.0,   3.4729,  34.8169,2,     -999,9,    307.6,2,     -999,9,     8.06,6,    13.18,6,     0.07,6,     0.94,6,     0.68,6,     -999,9,     -999,9,     -999,9,     -999,9,   7.7370,2,    25.00
  18HU20150504, AR07W,    29,  1, 407856,      5,2,20150509,1153, 56.5400, -52.6788,-999,     63.9,   3.4984,  34.8180,2,     -999,9,    310.1,2,     -999,9,     8.13,6,    13.11,6,     0.06,6,     0.96,6,     0.76,6,     -999,9,     -999,9,     -999,9,     -999,9,   7.7550,2,    25.00
  18HU20150504, AR07W,    29,  1, 407857,      6,2,20150509,1153, 56.5400, -52.6788,-999,     64.6,   3.4990,  34.8181,2,     -999,9,    308.3,2,     -999,9,     -999,9,     -999,9,     -999,9,     -999,9,     -999,9,     -999,9,     -999,9,     -999,9,     -999,9,     -999,9,     9.00
  18HU20150504, AR07W,    29,  1, 407858,      7,2,20150509,1153, 56.5400, -52.6788,-999,     54.5,   3.5057,  34.8184,2,     -999,9,    309.2,2,    317.3,2,     8.13,6,    13.10,6,     0.06,6,     0.95,6,     0.74,6,     -999,9,     -999,9,     -999,9,     -999,9,   7.7420,2,    25.00
  18HU20150504, AR07W,    29,  1, 407859,      8,2,20150509,1153, 56.5400, -52.6788,-999,     54.5,   3.5057,  34.8184,2,     -999,9,    310.0,2,     -999,9,     -999,9,     -999,9,     -999,9,     -999,9,     -999,9,     -999,9,     -999,9,     -999,9,     -999,9,     -999,9,     9.00
  18HU20150504, AR07W,    29,  1, 407860,      9,2,20150509,1153, 56.5400, -52.6788,-999,     43.9,   3.5161,  34.8188,2,     -999,9,    310.1,2,     -999,9,     8.11,6,    13.01,6,     0.07,6,     1.42,3,     0.70,6,     -999,9,     -999,9,     -999,9,     -999,9,   7.7380,2,    25.00
  18HU20150504, AR07W,    29,  1, 407861,     10,2,20150509,1153, 56.5400, -52.6788,-999,     33.8,   3.5375,  34.8190,2,     -999,9,    311.2,2,    319.5,6,     8.08,6,    13.00,6,     0.06,6,     0.97,6,     0.61,6,     -999,9,     -999,9,     -999,9,     -999,9,   7.7120,2,    25.00
  18HU20150504, AR07W,    29,  1, 407862,     11,2,20150509,1153, 56.5400, -52.6788,-999,     34.0,   3.5371,  34.8191,2,     -999,9,    311.7,2,     -999,9,     -999,9,     -999,9,     -999,9,     -999,9,     -999,9,     -999,9,     -999,9,     -999,9,     -999,9,     -999,9,     9.00
  18HU20150504, AR07W,    29,  1, 407863,     12,2,20150509,1153, 56.5400, -52.6788,-999,     34.2,   3.5363,  34.8191,2,     -999,9,    311.0,2,     -999,9,     -999,9,     -999,9,     -999,9,     -999,9,     -999,9,     -999,9,     -999,9,     -999,9,     -999,9,     -999,9,     9.00
  18HU20150504, AR07W,    29,  1, 407864,     13,2,20150509,1153, 56.5400, -52.6788,-999,     34.9,   3.5355,  34.8191,2,     -999,9,    311.6,2,     -999,9,     -999,9,     -999,9,     -999,9,     -999,9,     -999,9,     -999,9,     -999,9,     -999,9,     -999,9,     -999,9,     9.00
  18HU20150504, AR07W,    29,  1, 407865,     14,2,20150509,1153, 56.5400, -52.6788,-999,     32.7,   3.5351,  34.8194,2,     -999,9,    311.6,2,     -999,9,     -999,9,     -999,9,     -999,9,     -999,9,     -999,9,     -999,9,     -999,9,     -999,9,     -999,9,     -999,9,     9.00
  18HU20150504, AR07W,    29,  1, 407866,     15,2,20150509,1153, 56.5400, -52.6788,-999,     24.2,   3.6173,  34.8188,2,     -999,9,    314.0,2,    321.3,2,     8.15,6,    12.99,6,     0.06,6,     0.91,6,     0.57,6,     -999,9,     -999,9,     -999,9,     -999,9,   7.7490,2,    25.00
  18HU20150504, AR07W,    29,  1, 407867,     16,2,20150509,1153, 56.5400, -52.6788,-999,     23.1,   3.6292,  34.8191,2,     -999,9,    312.9,2,     -999,9,     -999,9,     -999,9,     -999,9,     -999,9,     -999,9,     -999,9,     -999,9,     -999,9,     -999,9,     -999,9,     9.00
  18HU20150504, AR07W,    29,  1, 407868,     17,2,20150509,1153, 56.5400, -52.6788,-999,     12.7,   3.6499,  34.8202,2,     -999,9,    312.2,2,     -999,9,     8.13,6,    13.28,6,     0.06,6,     0.93,6,     0.73,6,     -999,9,     -999,9,     -999,9,     -999,9,     -999,9,     9.00
  18HU20150504, AR07W,    29,  1, 407869,     18,2,20150509,1153, 56.5400, -52.6788,-999,     14.0,   3.6502,  34.8200,2,     -999,9,    313.3,2,     -999,9,     -999,9,     -999,9,     -999,9,     -999,9,     -999,9,     -999,9,     -999,9,     -999,9,     -999,9,     -999,9,     9.00
  18HU20150504, AR07W,    29,  1, 407870,     19,2,20150509,1153, 56.5400, -52.6788,-999,      3.4,   3.6708,  34.8199,2,     -999,9,    312.3,2,    322.4,6,     8.12,6,    13.15,6,     0.07,6,     1.00,6,     0.66,6,     -999,9,     -999,9,     -999,9,     -999,9,   7.7490,2,    25.00
  18HU20150504, AR07W,    29,  1, 407871,     20,2,20150509,1153, 56.5400, -52.6788,-999,      3.3,   3.6690,  34.8200,2,     -999,9,    312.8,2,     -999,9,     -999,9,     -999,9,     -999,9,     -999,9,     -999,9,     -999,9,     -999,9,     -999,9,     -999,9,     -999,9,     9.00
  18HU20150504, AR07W,    29,  1, 407872,     21,2,20150509,1153, 56.5400, -52.6788,-999,      3.2,   3.6699,  34.8199,2,     -999,9,    312.0,2,     -999,9,     -999,9,     -999,9,     -999,9,     -999,9,     -999,9,     -999,9,     -999,9,     -999,9,     -999,9,     -999,9,     9.00
  18HU20150504, AR07W,    29,  1, 407873,     22,2,20150509,1153, 56.5400, -52.6788,-999,      3.3,   3.6696,  34.8204,2,     -999,9,    313.1,2,     -999,9,     -999,9,     -999,9,     -999,9,     -999,9,     -999,9,     -999,9,     -999,9,     -999,9,     -999,9,     -999,9,     9.00
  18HU20150504, AR07W,    29,  1, 407874,     23,2,20150509,1153, 56.5400, -52.6788,-999,      3.4,   3.6696,  34.8200,2,     -999,9,    313.3,2,     -999,9,     -999,9,     -999,9,     -999,9,     -999,9,     -999,9,     -999,9,     -999,9,     -999,9,     -999,9,     -999,9,     9.00
  18HU20150504, AR07W,    29,  1, 407875,     24,2,20150509,1153, 56.5400, -52.6788,-999,      2.8,   3.6720,  34.8201,2,     -999,9,    313.2,2,     -999,9,     -999,9,     -999,9,     -999,9,     -999,9,     -999,9,     -999,9,     -999,9,     -999,9,     -999,9,     -999,9,     9.00
  18HU20150504, AR07W,    44,  1, 407876,      1,2,20150509,1938, 57.3803, -51.7913,-999,   3581.0,   1.5964,  34.8992,2,  34.9060,2,    282.0,2,    296.6,2,     9.05,6,    13.42,6,     0.02,6,     0.96,6,     0.70,6,    2.166,2,    1.817,2,   2167.1,2,   2310.3,2,   7.7120,2,    25.00
  18HU20150504, AR07W,    44,  1, 407877,      2,2,20150509,1938, 57.3803, -51.7913,-999,   3498.9,   1.7628,  34.8960,2,  34.9009,2,    280.7,2,    295.0,2,     9.99,6,    13.51,6,     -999,9,     0.96,6,     0.96,6,    2.136,2,    1.870,2,   2167.4,2,   2311.5,2,   7.7120,2,    25.00
  18HU20150504, AR07W,    44,  1, 407878,      3,2,20150509,1938, 57.3803, -51.7913,-999,   3409.8,   2.0320,  34.8985,2,  34.9039,2,    276.7,2,    290.9,6,    10.55,6,    13.92,6,     -999,9,     0.98,6,     0.64,6,    1.982,2,    1.797,2,   2165.7,2,   2310.1,2,   7.7260,2,    25.00
  18HU20150504, AR07W,    44,  1, 407879,      4,2,20150509,1938, 57.3803, -51.7913,-999,   3300.2,   2.2587,  34.9015,2,  34.9067,2,    271.9,2,    286.0,2,    12.04,6,    14.34,6,     -999,9,     1.01,6,     0.51,6,    1.773,2,    1.258,2,   2165.4,2,   2312.1,2,   7.7400,2,    25.00
  18HU20150504, AR07W,    44,  1, 407880,      5,2,20150509,1938, 57.3803, -51.7913,-999,   3180.4,   2.4843,  34.9079,2,  34.9171,2,    267.8,2,    281.2,2,    13.04,6,    14.79,6,     -999,9,     1.06,6,     0.68,6,    1.599,2,    1.202,2,   2164.6,2,   2315.5,2,   7.7240,2,    25.00
  18HU20150504, AR07W,    44,  1, 407881,      6,2,20150509,1938, 57.3803, -51.7913,-999,   3039.7,   2.6562,  34.9149,2,  34.9250,2,    266.6,2,    278.9,2,    13.04,6,    15.32,6,     -999,9,     1.04,6,     0.72,6,    1.533,2,    1.025,2,   2164.4,2,   2315.3,2,   7.7240,2,    25.00
  18HU20150504, AR07W,    44,  1, 407882,      7,2,20150509,1938, 57.3803, -51.7913,-999,   2879.9,   2.8213,  34.9187,2,  34.9291,2,    264.9,2,    277.3,2,    12.60,6,    15.34,6,     -999,9,     1.09,6,     0.73,6,    1.500,2,    1.034,2,   2166.3,2,   2317.7,2,   7.7240,2,    25.00
  18HU20150504, AR07W,    44,  1, 407883,      8,2,20150509,1938, 57.3803, -51.7913,-999,   2692.1,   3.0055,  34.9174,2,  34.9240,6,    264.8,2,    278.3,2,    11.65,6,    15.44,6,     -999,9,     1.06,6,     0.64,6,    1.574,2,    1.130,2,   2162.8,2,   2313.0,2,   7.7300,2,    25.00
  18HU20150504, AR07W,    44,  1, 407884,      9,2,20150509,1938, 57.3803, -51.7913,-999,   2479.9,   3.1662,  34.9163,2,  34.9227,2,    263.8,2,    275.8,2,    11.54,6,    15.65,6,     0.02,2,     1.08,6,     0.92,6,    1.581,2,    1.077,2,   2161.6,2,   2310.8,2,   7.7430,2,    25.00
  18HU20150504, AR07W,    44,  1, 407885,     10,2,20150509,1938, 57.3803, -51.7913,-999,   2250.8,   3.3872,  34.9174,2,  34.9226,2,    263.1,2,    274.5,2,    10.99,6,    15.77,6,     0.02,6,     1.08,6,     0.79,6,    1.650,2,    1.064,2,   2164.0,2,   2314.8,2,   7.7410,2,    25.00
  18HU20150504, AR07W,    44,  1, 407886,     11,2,20150509,1938, 57.3803, -51.7913,-999,   2009.8,   3.6027,  34.9212,2,  34.9258,2,    261.6,2,    273.1,2,    10.54,6,    15.77,6,     0.01,2,     1.09,6,     0.49,6,    1.767,2,    1.349,2,   2164.0,2,   2311.2,2,   7.7280,2,    25.00
  18HU20150504, AR07W,    44,  1, 407887,     12,2,20150509,1938, 57.3803, -51.7913,-999,   1770.6,   3.5676,  34.8871,2,  34.8917,2,    273.1,2,    283.8,2,     9.30,6,    15.31,6,     0.01,6,     1.07,6,     1.23,6,    2.133,2,    1.823,2,   2163.0,2,   2311.5,2,   7.7240,2,    25.00
  18HU20150504, AR07W,    44,  1, 407888,     13,2,20150509,1938, 57.3803, -51.7913,-999,   1530.7,   3.3903,  34.8530,2,  34.8592,2,    283.2,2,    295.8,2,     8.42,6,    15.14,6,     0.01,6,     1.05,6,     0.65,6,    2.360,2,    2.458,2,   2161.1,2,   2297.3,2,   7.7140,2,    25.00
  18HU20150504, AR07W,    44,  1, 407889,     14,2,20150509,1938, 57.3803, -51.7913,-999,   1290.0,   3.3583,  34.8486,2,  34.8832,3,    286.4,2,    297.7,2,     8.39,6,    15.28,6,     0.02,6,     1.03,6,     0.98,6,    2.370,2,    2.698,2,   2160.7,2,   2298.4,2,   7.7260,2,    25.00
  18HU20150504, AR07W,    44,  1, 407890,     15,2,20150509,1938, 57.3803, -51.7913,-999,   1071.3,   3.3225,  34.8444,2,  34.8479,2,    288.0,2,    297.9,2,     8.35,6,    15.34,6,     0.02,6,     1.04,6,     0.65,6,    2.410,2,    2.539,2,   2161.0,2,   2296.4,2,   7.7150,2,    25.00
  18HU20150504, AR07W,    44,  1, 407891,     16,2,20150509,1938, 57.3803, -51.7913,-999,    870.8,   3.3447,  34.8487,2,  34.8527,2,    287.0,2,    298.4,6,     8.38,6,    15.40,6,     0.03,2,     1.04,6,     0.58,6,    2.393,2,    2.558,2,   2163.1,2,   2303.9,2,   7.7430,2,    25.00
  18HU20150504, AR07W,    44,  1, 407892,     17,2,20150509,1938, 57.3803, -51.7913,-999,    679.7,   3.3724,  34.8513,2,  34.8563,6,    285.7,2,    296.0,2,     8.22,6,    15.29,6,     0.02,6,     1.05,6,     0.64,6,    2.382,2,    2.499,2,   2162.4,2,   2300.1,2,   7.7220,2,    25.00
  18HU20150504, AR07W,    44,  1, 407893,     18,2,20150509,1938, 57.3803, -51.7913,-999,    511.8,   3.3491,  34.8443,2,  34.8491,2,    289.1,2,    297.9,2,     8.18,6,    15.08,6,     0.03,6,     1.04,6,     0.70,6,    2.430,2,    2.583,2,   2161.0,2,   2297.0,2,   7.7210,2,    25.00
  18HU20150504, AR07W,    44,  1, 407894,     19,2,20150509,1938, 57.3803, -51.7913,-999,    362.5,   3.3519,  34.8403,2,  34.8453,2,    289.5,2,    297.5,2,     8.08,6,    15.02,6,     0.04,6,     1.03,6,     0.64,6,    2.431,2,    2.487,2,   2161.5,2,   2298.3,2,   7.7170,2,    25.00
  18HU20150504, AR07W,    44,  1, 407895,     20,2,20150509,1938, 57.3803, -51.7913,-999,    222.1,   3.4518,  34.8449,2,  34.8502,2,    292.6,2,    300.2,2,     7.79,6,    14.89,6,     0.04,6,     1.03,6,     0.63,6,    2.432,2,    2.685,2,   2159.1,2,   2299.0,2,   7.7330,2,    25.00
  18HU20150504, AR07W,    44,  1, 407896,     21,2,20150509,1938, 57.3803, -51.7913,-999,    101.0,   3.4258,  34.8245,2,     -999,9,    292.9,2,    299.6,2,     7.61,6,    14.51,6,     0.07,6,     1.00,6,     0.56,6,    2.451,2,    2.665,2,   2157.4,2,   2301.6,2,   7.7190,2,    25.00
  18HU20150504, AR07W,    44,  1, 407897,     22,2,20150509,1938, 57.3803, -51.7913,-999,     51.4,   3.5521,  34.7846,2,     -999,9,    312.3,2,     -999,9,     7.18,6,    12.33,6,     0.10,6,     0.86,6,     0.78,6,    2.505,2,    3.118,2,   2144.6,2,   2296.3,2,   7.7590,2,    25.00
  18HU20150504, AR07W,    44,  1, 407898,     23,2,20150509,1938, 57.3803, -51.7913,-999,     26.2,   3.6927,  34.7210,2,     -999,9,    339.7,2,    334.7,2,     6.92,6,     8.47,6,     0.12,6,     0.69,6,     0.98,6,    2.567,2,    3.059,2,   2131.0,2,   2273.8,2,   7.8300,2,    25.00
  18HU20150504, AR07W,    44,  1, 407899,     24,2,20150509,1938, 57.3803, -51.7913,-999,      2.4,   3.7111,  34.7223,2,     -999,9,    342.7,2,    350.5,2,     6.93,6,     8.16,6,     0.13,6,     0.66,6,     0.94,6,    2.603,2,    3.034,2,   2127.3,2,   2274.4,2,   7.8510,2,    25.00