BOTTLE,20230713CCHSIOVAJ
EXPOCODE,SECT_ID,STNNBR,CASTNO,SAMPNO,BTLNBR,BTLNBR_FLAG_W,DATE,TIME,LATITUDE,LONGITUDE,DEPTH,CTDPRS,CTDTMP,CTDSAL,CTDSAL_FLAG_W,SALNTY,SALNTY_FLAG_W,CTDOXY,CTDOXY_FLAG_W,OXYGEN,OXYGEN_FLAG_W,SILCAT,SILCAT_FLAG_W,NITRAT,NITRAT_FLAG_W,NITRIT,NITRIT_FLAG_W,PHSPHT,PHSPHT_FLAG_W,NH4,NH4_FLAG_W,CFC-12,CFC-12_FLAG_W,SF6,SF6_FLAG_W,TCARBN,TCARBN_FLAG_W,ALKALI,ALKALI_FLAG_W,PH_TOT,PH_TOT_FLAG_W,PH_TMP
,,,,,,,,,,,METERS,DBAR,ITS-90,PSS-78,,PSS-78,,UMOL/KG,,UMOL/KG,,UMOL/KG,,UMOL/KG,,UMOL/KG,,UMOL/KG,,UMOL/KG,,PMOL/KG,,FMOL/KG,,UMOL/KG,,UMOL/KG,,,,DEG C
  18HU20150504, AR07W,   147,  1, 408256,      1,2,20150514,0935, 57.1750, -52.0053,-999,    202.2,   3.4129,  34.8386,2,     -999,9,    287.2,2,    293.1,6,     8.42,6,    15.54,6,     0.04,6,     1.04,6,     0.66,6,     -999,9,     -999,9,     -999,9,     -999,9,   7.7350,2,    25.00
  18HU20150504, AR07W,   147,  1, 408257,      2,2,20150514,0935, 57.1750, -52.0053,-999,    152.5,   3.3620,  34.8224,2,     -999,9,    292.9,2,     -999,9,     8.23,6,    15.25,6,     0.10,6,     1.03,6,     0.68,6,     -999,9,     -999,9,     -999,9,     -999,9,   7.7260,2,    25.00
  18HU20150504, AR07W,   147,  1, 408258,      3,2,20150514,0935, 57.1750, -52.0053,-999,    100.9,   3.4126,  34.7957,2,     -999,9,    300.3,2,     -999,9,     7.94,6,    14.30,6,     0.12,6,     0.98,6,     0.65,6,     -999,9,     -999,9,     -999,9,     -999,9,   7.7390,2,    25.00
  18HU20150504, AR07W,   147,  1, 408259,      4,2,20150514,0935, 57.1750, -52.0053,-999,     81.0,   3.4516,  34.7825,2,     -999,9,    308.4,2,     -999,9,     7.80,6,    13.38,6,     0.10,6,     0.94,6,     0.53,6,     -999,9,     -999,9,     -999,9,     -999,9,   7.7510,2,    25.00
  18HU20150504, AR07W,   147,  1, 408260,      5,2,20150514,0935, 57.1750, -52.0053,-999,     60.5,   3.4632,  34.7755,2,     -999,9,    318.8,2,     -999,9,     7.85,6,    11.83,6,     0.11,6,     0.85,6,     0.61,2,     -999,9,     -999,9,     -999,9,     -999,9,   7.7750,2,    25.00
  18HU20150504, AR07W,   147,  1, 408261,      6,2,20150514,0935, 57.1750, -52.0053,-999,     60.0,   3.4621,  34.7751,2,     -999,9,    318.4,2,     -999,9,     -999,9,     -999,9,     -999,9,     -999,9,     -999,9,     -999,9,     -999,9,     -999,9,     -999,9,     -999,9,     9.00
  18HU20150504, AR07W,   147,  1, 408262,      7,2,20150514,0935, 57.1750, -52.0053,-999,     51.3,   3.4453,  34.7689,2,     -999,9,    314.5,2,     -999,9,     7.61,6,    12.28,6,     0.12,6,     0.88,6,     0.71,6,     -999,9,     -999,9,     -999,9,     -999,9,   7.7680,2,    25.00
  18HU20150504, AR07W,   147,  1, 408263,      8,2,20150514,0935, 57.1750, -52.0053,-999,     40.7,   3.4520,  34.7629,2,     -999,9,    311.8,2,     -999,9,     7.63,6,    12.81,6,     0.12,6,     0.97,6,     0.76,6,     -999,9,     -999,9,     -999,9,     -999,9,   7.7620,2,    25.00
  18HU20150504, AR07W,   147,  1, 408264,      9,2,20150514,0935, 57.1750, -52.0053,-999,     40.8,   3.4521,  34.7630,2,     -999,9,    311.5,2,     -999,9,     -999,9,     -999,9,     -999,9,     -999,9,     -999,9,     -999,9,     -999,9,     -999,9,     -999,9,     -999,9,     9.00
  18HU20150504, AR07W,   147,  1, 408265,     10,2,20150514,0935, 57.1750, -52.0053,-999,     30.8,   3.4655,  34.7589,2,     -999,9,    321.1,2,    325.7,6,     7.50,6,    11.82,6,     0.13,6,     0.87,6,     0.73,6,     -999,9,     -999,9,     -999,9,     -999,9,   7.7700,2,    25.00
  18HU20150504, AR07W,   147,  1, 408266,     11,2,20150514,0935, 57.1750, -52.0053,-999,     31.0,   3.4652,  34.7592,2,     -999,9,    319.5,2,     -999,9,     -999,9,     -999,9,     -999,9,     -999,9,     -999,9,     -999,9,     -999,9,     -999,9,     -999,9,     -999,9,     9.00
  18HU20150504, AR07W,   147,  1, 408267,     12,2,20150514,0935, 57.1750, -52.0053,-999,     30.8,   3.4651,  34.7592,2,     -999,9,    316.8,2,     -999,9,     -999,9,     -999,9,     -999,9,     -999,9,     -999,9,     -999,9,     -999,9,     -999,9,     -999,9,     -999,9,     9.00
  18HU20150504, AR07W,   147,  1, 408268,     13,2,20150514,0935, 57.1750, -52.0053,-999,     30.5,   3.4652,  34.7588,2,     -999,9,    315.4,2,     -999,9,     -999,9,     -999,9,     -999,9,     -999,9,     -999,9,     -999,9,     -999,9,     -999,9,     -999,9,     -999,9,     9.00
  18HU20150504, AR07W,   147,  1, 408269,     14,2,20150514,0935, 57.1750, -52.0053,-999,     30.8,   3.4635,  34.7599,2,     -999,9,    320.2,2,     -999,9,     -999,9,     -999,9,     -999,9,     -999,9,     -999,9,     -999,9,     -999,9,     -999,9,     -999,9,     -999,9,     9.00
  18HU20150504, AR07W,   147,  1, 408270,     15,2,20150514,0935, 57.1750, -52.0053,-999,     21.0,   3.4628,  34.7433,2,     -999,9,    323.5,2,     -999,9,     7.44,6,    11.09,6,     0.13,6,     0.83,6,     0.75,6,     -999,9,     -999,9,     -999,9,     -999,9,   7.7640,2,    25.00
  18HU20150504, AR07W,   147,  1, 408271,     16,2,20150514,0935, 57.1750, -52.0053,-999,     21.2,   3.4649,  34.7461,2,     -999,9,    323.3,2,     -999,9,     -999,9,     -999,9,     -999,9,     -999,9,     -999,9,     -999,9,     -999,9,     -999,9,     -999,9,     -999,9,     9.00
  18HU20150504, AR07W,   147,  1, 408272,     17,2,20150514,0935, 57.1750, -52.0053,-999,      9.9,   3.4322,  34.7109,2,     -999,9,    347.9,2,     -999,9,     6.58,6,     5.32,6,     0.15,6,     0.55,6,     0.85,6,     -999,9,     -999,9,     -999,9,     -999,9,   7.8930,2,    25.00
  18HU20150504, AR07W,   147,  1, 408273,     18,2,20150514,0935, 57.1750, -52.0053,-999,     10.1,   3.4245,  34.7111,2,     -999,9,    350.6,2,     -999,9,     -999,9,     -999,9,     -999,9,     -999,9,     -999,9,     -999,9,     -999,9,     -999,9,     -999,9,     -999,9,     9.00
  18HU20150504, AR07W,   147,  1, 408274,     19,2,20150514,0935, 57.1750, -52.0053,-999,      2.2,   3.4735,  34.7112,2,     -999,9,    359.1,2,    366.5,6,     6.45,6,     4.47,6,     0.14,6,     0.55,6,     0.90,6,     -999,9,     -999,9,     -999,9,     -999,9,   7.9010,2,    25.00
  18HU20150504, AR07W,   147,  1, 408275,     20,2,20150514,0935, 57.1750, -52.0053,-999,      2.9,   3.4774,  34.7111,2,     -999,9,    354.4,2,     -999,9,     -999,9,     -999,9,     -999,9,     -999,9,     -999,9,     -999,9,     -999,9,     -999,9,     -999,9,     -999,9,     9.00
  18HU20150504, AR07W,   147,  1, 408276,     21,2,20150514,0935, 57.1750, -52.0053,-999,      2.3,   3.4760,  34.7113,2,     -999,9,    359.6,2,     -999,9,     -999,9,     -999,9,     -999,9,     -999,9,     -999,9,     -999,9,     -999,9,     -999,9,     -999,9,     -999,9,     9.00
  18HU20150504, AR07W,   147,  1, 408277,     22,2,20150514,0935, 57.1750, -52.0053,-999,      2.8,   3.4766,  34.7112,2,     -999,9,    354.9,2,     -999,9,     -999,9,     -999,9,     -999,9,     -999,9,     -999,9,     -999,9,     -999,9,     -999,9,     -999,9,     -999,9,     9.00
  18HU20150504, AR07W,   147,  1, 408278,     23,2,20150514,0935, 57.1750, -52.0053,-999,      2.4,   3.4761,  34.7112,2,     -999,9,    357.9,2,     -999,9,     -999,9,     -999,9,     -999,9,     -999,9,     -999,9,     -999,9,     -999,9,     -999,9,     -999,9,     -999,9,     9.00
  18HU20150504, AR07W,   147,  1, 408279,     24,2,20150514,0935, 57.1750, -52.0053,-999,      2.5,   3.4767,  34.7112,2,     -999,9,    358.7,2,     -999,9,     -999,9,     -999,9,     -999,9,     -999,9,     -999,9,     -999,9,     -999,9,     -999,9,     -999,9,     -999,9,     9.00
  18HU20150504, AR07W,   152,  1, 408280,      1,2,20150514,1409, 56.9600, -52.2273,-999,   3560.6,   1.5950,  34.8990,2,  34.9004,2,    281.9,2,    298.3,2,     8.94,6,    13.64,6,     0.02,6,     0.94,6,     0.62,6,    2.134,2,    2.073,2,   2171.0,2,   2297.5,2,   7.7260,2,    25.00
  18HU20150504, AR07W,   152,  1, 408281,      2,2,20150514,1409, 56.9600, -52.2273,-999,   3491.1,   1.6899,  34.8959,2,  34.8991,2,    280.1,2,    296.4,2,     9.74,6,    13.72,6,     0.03,6,     0.96,6,     0.52,6,    2.193,2,    1.931,2,   2172.3,2,   2297.9,2,   7.7120,2,    25.00
  18HU20150504, AR07W,   152,  1, 408282,      3,2,20150514,1409, 56.9600, -52.2273,-999,   3399.6,   1.9252,  34.8970,2,  34.8976,6,    277.6,2,    273.8,3,    10.21,6,    14.06,6,     0.03,6,     1.07,3,     0.62,6,    2.039,2,    1.901,2,   2170.5,2,   2300.4,2,   7.7300,2,    25.00
  18HU20150504, AR07W,   152,  1, 408283,      4,2,20150514,1409, 56.9600, -52.2273,-999,   3290.4,   2.2076,  34.9012,2,  34.9017,2,    272.0,2,    287.2,6,    11.69,6,    14.60,6,     0.03,6,     1.02,6,     0.76,6,    1.784,2,    1.601,2,   2169.8,2,   2297.4,2,   7.6730,3,    25.00
  18HU20150504, AR07W,   152,  1, 408284,      5,2,20150514,1409, 56.9600, -52.2273,-999,   3169.7,   2.3808,  34.9041,2,  34.9050,2,    269.1,2,    284.1,2,    11.76,6,    14.66,6,     0.03,6,     1.02,6,     0.36,6,    1.633,2,    1.372,2,   2168.7,2,   2304.2,2,   7.7340,2,    25.00
  18HU20150504, AR07W,   152,  1, 408285,      6,2,20150514,1409, 56.9600, -52.2273,-999,   3028.5,   2.5722,  34.9110,2,  34.9124,2,    266.5,2,    281.0,2,    12.81,6,    15.54,6,     0.03,6,     1.05,6,     0.34,6,    1.530,2,    1.015,2,   2168.1,2,   2300.8,2,   7.7510,2,    25.00
  18HU20150504, AR07W,   152,  1, 408286,      7,2,20150514,1409, 56.9600, -52.2273,-999,   2870.3,   2.7738,  34.9200,2,  34.9209,2,    263.3,2,    277.8,2,    13.14,6,    15.96,6,     0.04,6,     1.06,6,     0.42,6,    1.410,2,    1.045,2,   2166.9,2,   2302.0,2,   7.7290,2,    25.00
  18HU20150504, AR07W,   152,  1, 408287,      8,2,20150514,1409, 56.9600, -52.2273,-999,   2680.0,   2.9178,  34.9181,2,  34.9184,2,    264.8,2,    278.4,2,    12.20,6,    16.03,6,     0.04,6,     1.06,6,     0.31,6,    1.498,2,    1.217,2,   2168.2,2,   2302.3,2,   7.7300,2,    25.00
  18HU20150504, AR07W,   152,  1, 408288,      9,2,20150514,1409, 56.9600, -52.2273,-999,   2468.6,   3.0625,  34.9162,2,  34.9181,2,    264.5,2,    277.7,2,    11.66,6,    16.16,6,     0.04,6,     1.07,6,     0.36,6,    1.515,2,    0.907,2,   2165.2,2,   2299.6,2,   7.7290,2,    25.00
  18HU20150504, AR07W,   152,  1, 408289,     10,2,20150514,1409, 56.9600, -52.2273,-999,   2249.7,   3.2430,  34.9167,2,  34.9173,2,    263.3,2,    276.3,2,    11.36,6,    16.13,6,     0.04,6,     1.08,6,     0.37,6,    1.582,2,    1.076,2,   2164.5,2,   2308.3,2,   7.7280,2,    25.00
  18HU20150504, AR07W,   152,  1, 408290,     11,2,20150514,1409, 56.9600, -52.2273,-999,   2010.8,   3.4307,  34.9187,2,  34.9194,2,    261.8,2,    275.7,2,    10.94,6,    15.81,6,     0.04,6,     1.09,6,     0.35,6,    1.643,2,    1.079,2,   2164.6,2,   2302.2,2,   7.7270,2,    25.00
  18HU20150504, AR07W,   152,  1, 408291,     12,2,20150514,1409, 56.9600, -52.2273,-999,   1770.9,   3.6032,  34.9188,2,  34.9275,2,    261.2,2,    272.8,2,    10.69,6,    16.17,6,     0.05,6,     1.10,6,     0.46,6,    1.702,2,    1.192,2,   2168.5,2,   2302.2,2,   7.7300,2,    25.00
  18HU20150504, AR07W,   152,  1, 408292,     13,2,20150514,1409, 56.9600, -52.2273,-999,   1532.5,   3.4802,  34.8734,2,  34.8772,2,    277.1,2,    287.8,2,     9.05,6,    15.73,6,     0.05,6,     1.06,6,     0.42,6,    2.162,2,    2.124,2,   2166.8,2,   2297.9,2,   7.7230,2,    25.00
  18HU20150504, AR07W,   152,  1, 408293,     14,2,20150514,1409, 56.9600, -52.2273,-999,   1290.2,   3.3780,  34.8540,2,  34.8739,2,    283.4,2,    293.2,2,     8.57,6,    15.61,6,     0.02,6,     1.04,6,     0.26,6,    2.295,2,    2.582,2,   2164.8,2,   2298.5,2,   7.7150,2,    25.00
  18HU20150504, AR07W,   152,  1, 408294,     15,2,20150514,1409, 56.9600, -52.2273,-999,   1071.3,   3.3415,  34.8482,2,  34.8566,6,    285.9,2,    295.8,2,     8.44,6,    15.52,6,     0.05,6,     1.03,6,     0.31,6,     -999,9,     -999,9,   2166.4,2,   2297.2,2,   7.7220,2,    25.00
  18HU20150504, AR07W,   152,  1, 408295,     16,2,20150514,1409, 56.9600, -52.2273,-999,    867.9,   3.3383,  34.8480,2,  34.8497,2,    285.0,2,    293.6,2,     8.42,6,    15.32,6,     0.03,6,     1.03,6,     0.44,6,    2.363,2,    2.410,2,   2167.6,2,   2295.7,2,   7.7090,2,    25.00
  18HU20150504, AR07W,   152,  1, 408296,     17,2,20150514,1409, 56.9600, -52.2273,-999,    679.5,   3.3255,  34.8454,2,  34.8466,2,    286.5,2,    294.6,6,     8.22,6,    15.16,6,     0.03,6,     1.03,6,     0.32,6,    2.349,2,    2.522,2,   2167.7,2,   2295.5,2,   7.7160,2,    25.00
  18HU20150504, AR07W,   152,  1, 408297,     18,2,20150514,1409, 56.9600, -52.2273,-999,    508.0,   3.3300,  34.8436,2,  34.8494,2,    286.5,2,    294.1,2,     8.26,6,    15.18,6,     0.04,6,     1.03,6,     0.31,6,    2.369,2,    2.727,2,   2167.9,2,   2298.1,2,   7.7260,2,    25.00
  18HU20150504, AR07W,   152,  1, 408298,     19,2,20150514,1409, 56.9600, -52.2273,-999,    359.2,   3.3547,  34.8434,2,  34.8444,2,    287.4,2,    295.0,2,     8.29,6,    15.22,6,     0.05,6,     1.04,6,     0.50,6,    2.387,2,    2.666,2,   2164.8,2,   2298.7,2,   7.7110,2,    25.00
  18HU20150504, AR07W,   152,  1, 408299,     20,2,20150514,1409, 56.9600, -52.2273,-999,    218.4,   3.3572,  34.8367,2,  34.8377,2,    290.7,2,    297.8,2,     8.19,6,    15.14,6,     0.07,6,     1.03,6,     0.69,6,    2.399,2,    2.748,2,   2164.4,2,   2298.0,2,   7.7250,2,    25.00
  18HU20150504, AR07W,   152,  1, 408300,     21,2,20150514,1409, 56.9600, -52.2273,-999,     99.1,   3.4035,  34.8068,2,  34.8127,2,    298.6,2,    300.8,2,     7.86,6,    14.23,6,     0.11,6,     1.11,3,     0.63,6,    2.418,2,    2.915,2,   2162.7,2,   2296.7,2,   7.8390,3,    25.00
  18HU20150504, AR07W,   152,  1, 408301,     22,2,20150514,1409, 56.9600, -52.2273,-999,     47.2,   3.4814,  34.7202,2,     -999,9,    332.9,2,    341.5,2,     6.54,6,     6.31,6,     0.14,6,     0.59,6,     1.05,6,    2.586,2,    3.050,2,   2119.0,2,   2295.7,2,   7.7380,2,    25.00
  18HU20150504, AR07W,   152,  1, 408302,     23,2,20150514,1409, 56.9600, -52.2273,-999,     23.3,   3.4572,  34.7131,2,     -999,9,    337.9,2,    344.3,2,     6.43,6,     5.78,6,     0.14,6,     0.56,6,     0.89,6,    2.618,2,    3.091,2,   2120.0,2,   2284.5,2,   7.8430,2,    25.00
  18HU20150504, AR07W,   152,  1, 408303,     24,2,20150514,1409, 56.9600, -52.2273,-999,      2.7,   3.6821,  34.7201,2,     -999,9,    369.3,2,    374.2,2,     6.78,6,     2.98,6,     0.16,6,     0.41,6,     0.70,6,    2.611,2,    2.984,2,   2100.0,2,   2275.1,2,   7.9240,2,    25.00