BOTTLE,20230712CCHSIOENA
EXPOCODE,SECT_ID,STNNBR,CASTNO,SAMPNO,BTLNBR,BTLNBR_FLAG_W,DATE,TIME,LATITUDE,LONGITUDE,DEPTH,CTDPRS,CTDTMP,CTDSAL,CTDSAL_FLAG_W,SALNTY,SALNTY_FLAG_W,CTDOXY,CTDOXY_FLAG_W,OXYGEN,OXYGEN_FLAG_W,SILCAT,SILCAT_FLAG_W,NITRIT,NITRIT_FLAG_W,PHSPHT,PHSPHT_FLAG_W,CFC-11,CFC-11_FLAG_W,CFC-12,CFC-12_FLAG_W,CFC113,CFC113_FLAG_W,TCARBN,TCARBN_FLAG_W,ALKALI,ALKALI_FLAG_W,PH_TOT,PH_TOT_FLAG_W,PH_TMP,CHLORA,CHLORA_FLAG_W,PPHYTN,PPHYTN_FLAG_W,BTL_TIME,NO2+NO3,NO2+NO3_FLAG_W,SBE35,SBE35_FLAG_W,CTDDEPTH
,,,,,,,,,,,METERS,DBAR,ITS-90,PSS-78,,PSS-78,,UMOL/KG,,UMOL/KG,,UMOL/KG,,UMOL/KG,,UMOL/KG,,PMOL/KG,,PMOL/KG,,PMOL/KG,,UMOL/KG,,UMOL/KG,,,,DEG C,UG/KG,,UG/KG,,,UMOL/KG,,ITS-90,,METERS
49UP20160703,         P9,      22,          1,          0,        BUC,2,20160710,       1604,    26.0197,   137.0115,       5556,     0.0,  29.6343,  35.0061,2,  35.0128,2,    195.9,2,  195.58,2,    1.24,2,    0.00,2,   0.010,2,-999.000,9,-999.000,9,-999.000,9,  1974.2,2,  2297.0,2,    8.089,2,    25.00,    0.03,2,    0.02,2,     1750,    0.02,2,-999.0000,9,          0
49UP20160703,         P9,      22,          1,         36,        109,2,20160710,       1604,    26.0197,   137.0115,       5556,    10.1,  29.6433,  35.0059,2,  35.0049,2,    195.6,2,  195.40,2,    1.24,2,    0.00,2,   0.010,2,   1.549,2,   0.969,2,   0.130,2,  1978.4,2,  2297.1,2,   8.0895,2,    25.00,    0.04,2,    0.02,2,     1820,    0.02,2,  29.6435,2,         10
49UP20160703,         P9,      22,          1,         35,        112,2,20160710,       1604,    26.0197,   137.0115,       5556,    49.6,  24.2351,  34.9532,2,  34.9675,4,    224.0,2,  225.58,2,    1.46,2,    0.00,2,   0.010,2,   1.998,2,   1.205,2,   0.157,2,  1987.0,2,  2294.7,2,   8.0686,6,    25.00,    0.07,2,    0.03,2,     1815,    0.00,2,  24.0776,2,         49
49UP20160703,         P9,      22,          1,         34,        094,2,20160710,       1604,    26.0197,   137.0115,       5556,   100.4,  20.9070,  34.9078,2,  34.9069,2,    221.8,2,  221.23,2,    1.75,2,    0.00,2,   0.030,2,   2.137,2,   1.336,2,   0.146,2,  2001.0,2,  2291.5,2,    8.034,2,    25.00,    0.18,2,    0.19,2,     1813,    0.01,2,  20.8988,2,        100
49UP20160703,         P9,      22,          1,         33,        469,2,20160710,       1604,    26.0197,   137.0115,       5556,   125.4,  20.1731,  34.8975,2,  34.8963,2,    216.5,2,  216.13,2,    1.96,2,    0.06,2,   0.060,2,   2.178,2,   1.359,2,   0.144,2,  2007.9,2,  2290.6,2,   8.0137,2,    25.00,    0.23,2,    0.43,2,     1812,    0.48,2,  20.1339,2,        125
49UP20160703,         P9,      22,          1,         32,        089,2,20160710,       1604,    26.0197,   137.0115,       5556,   151.3,  19.5303,  34.8763,2,  34.8766,2,    209.9,2,  209.86,2,    2.28,2,    0.03,2,   0.120,2,   2.208,2,   1.380,2,   0.126,2,  2020.0,2,  2288.4,6,   8.0014,2,    25.00,    0.08,2,    0.21,2,     1810,    1.73,2,  19.5285,2,        150
49UP20160703,         P9,      22,          1,         31,        515,2,20160710,       1604,    26.0197,   137.0115,       5556,   201.1,  18.2392,  34.8021,2,  34.7998,2,    203.8,2,  204.20,2,    3.33,2,    0.01,2,   0.250,2,   2.357,2,   1.468,2,   0.069,2,  2034.6,2,  2282.8,2,   7.9637,2,    25.00,    0.00,2,    0.02,2,     1809,    3.64,2,  18.2381,2,        200
49UP20160703,         P9,      22,          1,         30,        097,2,20160710,       1604,    26.0197,   137.0115,       5556,   251.9,  17.3802,  34.7473,2,  34.7425,2,    204.7,2,  204.64,2,    4.28,2,    0.00,2,   0.320,2,   2.425,2,   1.498,2,   0.053,2,  2040.1,2,  2279.9,2,   7.9467,2,    25.00,    0.00,2,    0.02,2,     1807,    4.78,2,  17.3806,2,        250
49UP20160703,         P9,      22,          1,         29,        102,2,20160710,       1604,    26.0197,   137.0115,       5556,   302.2,  16.4529,  34.6807,2,  34.6797,2,    203.7,2,  203.51,2,    5.87,2,    0.01,2,   0.420,2,   2.520,6,   1.555,6,   0.062,6,  2051.9,2,  2278.2,2,   7.9221,2,    25.00, -999.00,9, -999.00,9,     1806,    6.19,2,  16.4528,2,        300
49UP20160703,         P9,      22,          1,         28,        472,2,20160710,       1604,    26.0197,   137.0115,       5556,   403.2,  14.6945,  34.5363,2,  34.5315,2,    191.4,2,  190.86,2,   11.43,2,    0.00,2,   0.700,2,   2.665,2,   1.598,2,   0.049,2,  2079.9,2,  2273.8,2,   7.8578,2,    25.00, -999.00,9, -999.00,9,     1803,   10.25,2,  14.6917,2,        400
49UP20160703,         P9,      22,          1,         27,        998,2,20160710,       1604,    26.0197,   137.0115,       5556,   504.8,  11.6535,  34.3174,2,  34.3138,2,    177.6,2,  177.64,2,   22.44,2,    0.00,2,   1.160,2,   2.820,2,   1.620,2,   0.070,2,  2126.1,2,  2273.3,2,   7.7567,2,    25.00, -999.00,9, -999.00,9,     1800,   16.46,2,  11.6579,2,        501
49UP20160703,         P9,      22,          1,         26,        084,2,20160710,       1604,    26.0197,   137.0115,       5556,   605.4,   8.3588,  34.1576,2,  34.1586,2,    145.8,2,  145.70,2,   44.33,2,    0.00,2,   1.790,2,   2.473,2,   1.348,2,   0.071,2,  2186.5,2,  2284.2,2,   7.6233,2,    25.00, -999.00,9, -999.00,9,     1758,   24.92,2,   8.4050,2,        601
49UP20160703,         P9,      22,          1,         25,        098,2,20160710,       1604,    26.0197,   137.0115,       5556,   706.5,   6.3216,  34.1311,2,  34.1332,2,    110.5,2,  109.83,2,   68.45,2,    0.00,2,   2.300,2,   1.880,2,   0.953,2,   0.073,2,  2245.8,6,  2303.8,6,    7.509,2,    25.00, -999.00,9, -999.00,9,     1755,   31.76,2,   6.3296,2,        701
49UP20160703,         P9,      22,          1,         24,        110,2,20160710,       1604,    26.0197,   137.0115,       5556,   808.3,   5.1100,  34.1905,2,  34.1905,2,     81.0,2,   81.06,2,   88.52,2,    0.00,2,   2.620,2,   1.244,2,   0.615,2,   0.063,2,  2281.0,2,  2322.9,2,     7.44,6,    25.00, -999.00,9, -999.00,9,     1753,   36.32,2,   5.1113,2,        801
49UP20160703,         P9,      22,          1,         23,        679,2,20160710,       1604,    26.0197,   137.0115,       5556,   907.7,   4.4151,  34.2534,2,  34.2552,2,     64.9,2,   65.17,2,  103.49,2,    0.00,2,   2.790,2,   0.820,2,   0.406,2,   0.057,2,  2310.5,2,  2338.0,2,   7.4083,2,    25.00, -999.00,9, -999.00,9,     1750,   38.77,2,   4.4158,2,        900
49UP20160703,         P9,      22,          1,         22,        111,2,20160710,       1604,    26.0197,   137.0115,       5556,  1009.9,   3.7635,  34.3296,2,  34.3333,4,     54.3,2,   54.41,2,  119.07,2,    0.00,2,   2.900,2,   0.435,2,   0.229,2,   0.037,2,  2338.4,2,  2357.4,2,   7.3883,2,    25.00, -999.00,9, -999.00,9,     1748,   40.48,2,   3.7628,2,       1001
49UP20160703,         P9,      22,          1,         21,        078,2,20160710,       1604,    26.0197,   137.0115,       5556,  1213.4,   3.0243,  34.4483,2,  34.4478,6,     60.1,2,   60.25,2,  134.26,2,    0.00,2,   2.930,2,   0.156,2,   0.088,2,   0.003,2,  2348.6,2,  2378.8,2,   7.4053,2,    25.00, -999.00,9, -999.00,9,     1742,   40.97,2,   3.0248,2,       1202
49UP20160703,         P9,      22,          1,         20,        093,2,20160710,       1604,    26.0197,   137.0115,       5556,  1415.7,   2.6182,  34.5062,2,  34.5062,2,     70.0,2,   70.27,6,  141.80,6,    0.00,6,   2.900,6,   0.082,2,   0.039,2,   0.011,2,  2354.2,2,  2390.7,2,   7.4279,2,    25.00, -999.00,9, -999.00,9,     1738,   40.72,6,   2.6179,2,       1402
49UP20160703,         P9,      22,          1,         19,        269,2,20160710,       1604,    26.0197,   137.0115,       5556,  1618.3,   2.2642,  34.5601,2,  34.5595,2,     86.2,2,   86.46,2,  145.79,2,    0.00,2,   2.830,2,   0.041,2,   0.017,2,   0.023,2,  2350.6,2,  2399.0,2,   7.4594,2,    25.00, -999.00,9, -999.00,9,     1732,   39.88,2,   2.2639,2,       1602
49UP20160703,         P9,      22,          1,         18,        088,2,20160710,       1604,    26.0197,   137.0115,       5556,  1821.2,   2.0839,  34.5927,2,  34.5932,2,    103.6,2,  103.77,2,  143.99,2,    0.00,2,   2.740,2,   0.029,2,   0.013,2,   0.021,2,  2344.0,2,  2402.0,2,   7.4926,2,    25.00, -999.00,9, -999.00,9,     1727,   38.79,2,   2.0840,2,       1802
49UP20160703,         P9,      22,          1,         17,        090,2,20160710,       1604,    26.0197,   137.0115,       5556,  2023.7,   1.9567,  34.6116,2,  34.6111,2,    112.5,2,  113.10,2,  143.95,2,    0.00,2,   2.700,2,   0.021,2,   0.010,2,   0.027,2,  2340.9,2,  2404.1,2,    7.509,2,    25.00, -999.00,9, -999.00,9,     1723,   38.21,2,   1.9566,2,       2001
49UP20160703,         P9,      22,          1,         16,        474,2,20160710,       1604,    26.0197,   137.0115,       5556,  2228.0,   1.8473,  34.6275,2,  34.6273,2,    120.9,2,  120.99,2,  143.74,2,    0.00,2,   2.660,2,   0.013,2,   0.008,2,   0.012,2,  2337.5,2,  2407.4,2,   7.5235,2,    25.00, -999.00,9, -999.00,9,     1719,   37.79,2,   1.8472,2,       2202
49UP20160703,         P9,      22,          1,         15,        665,2,20160710,       1604,    26.0197,   137.0115,       5556,  2429.9,   1.7607,  34.6403,2,  34.6402,2,    128.0,2,  128.12,2,  143.50,2,    0.00,2,   2.630,2,   0.001,2,   0.006,2,   0.002,2,  2335.0,2,  2409.8,2,   7.5392,6,    25.00, -999.00,9, -999.00,9,     1714,   37.39,2,   1.7607,2,       2400
49UP20160703,         P9,      22,          1,         14,        999,2,20160710,       1604,    26.0197,   137.0115,       5556,  2635.2,   1.7119,  34.6497,2,  34.6495,6,    132.8,2,  132.72,2,  143.26,2,    0.00,2,   2.600,2,   0.000,6,   0.000,6,   0.004,6,  2335.4,2,  2410.7,2,   7.5471,2,    25.00, -999.00,9, -999.00,9,     1710,   37.11,2,   1.7122,2,       2602
49UP20160703,         P9,      22,          1,         13,        667,2,20160710,       1604,    26.0197,   137.0115,       5556,  2837.4,   1.6544,  34.6570,2,  34.6557,2,    137.4,2,  136.85,6,  143.29,6,    0.00,6,   2.580,6,-999.000,9,-999.000,9,-999.000,9,  2335.9,2,  2411.1,2,   7.5515,2,    25.00, -999.00,9, -999.00,9,     1705,   36.86,6,   1.6545,2,       2800
49UP20160703,         P9,      22,          1,         12,        074,2,20160710,       1604,    26.0197,   137.0115,       5556,  3041.5,   1.6055,  34.6640,2,  34.6641,2,    141.9,2,  142.24,2,  142.84,2,    0.00,2,   2.550,2,   0.000,2,   0.002,2,   0.004,2,  2331.0,2,  2411.1,2,   7.5626,2,    25.00, -999.00,9, -999.00,9,     1701,   36.57,2,   1.6056,2,       3000
49UP20160703,         P9,      22,          1,         11,        268,2,20160710,       1604,    26.0197,   137.0115,       5556,  3297.8,   1.5783,  34.6698,2,  34.6692,2,    145.6,2,  145.45,2,  142.61,2,    0.00,2,   2.540,2,-999.000,9,-999.000,9,-999.000,9,  2327.5,6,  2411.4,6,   7.5664,2,    25.00, -999.00,9, -999.00,9,     1655,   36.33,2,   1.5784,2,       3251
49UP20160703,         P9,      22,          1,         10,        267,2,20160710,       1604,    26.0197,   137.0115,       5556,  3554.1,   1.5490,  34.6753,2,  34.6749,2,    149.7,2,  149.78,2,  141.99,2,    0.00,2,   2.520,2,   0.000,2,   0.000,2,   0.005,2,  2331.6,2,  2410.2,2,   7.5748,2,    25.00, -999.00,9, -999.00,9,     1650,   36.09,2,   1.5493,2,       3502
49UP20160703,         P9,      22,          1,          9,        518,2,20160710,       1604,    26.0197,   137.0115,       5556,  3809.7,   1.5389,  34.6788,2,  34.6793,2,    152.7,2,  152.54,2,  141.36,2,    0.00,2,   2.500,2,-999.000,9,-999.000,9,-999.000,9,  2321.9,2,  2409.7,2,   7.5748,2,    25.00, -999.00,9, -999.00,9,     1644,   35.93,2,   1.5389,2,       3751
49UP20160703,         P9,      22,          1,          8,        470,2,20160710,       1604,    26.0197,   137.0115,       5556,  4066.7,   1.5407,  34.6814,2,  34.6814,6,    154.8,2,  155.10,2,  140.82,2,    0.00,2,   2.490,2,   0.002,2,   0.003,2,   0.018,2,  2319.1,2,  2410.5,2,   7.5824,2,    25.00, -999.00,9, -999.00,9,     1639,   35.73,2,   1.5409,2,       4002
49UP20160703,         P9,      22,          1,          7,        516,2,20160710,       1604,    26.0197,   137.0115,       5556,  4321.7,   1.5552,  34.6827,2,  34.6820,2,    156.0,2,  155.68,6,  140.72,6,    0.00,6,   2.490,6,-999.000,9,-999.000,9,-999.000,9,  2321.7,2,  2410.0,2,   7.5805,2,    25.00, -999.00,9, -999.00,9,     1633,   35.73,6,   1.5555,2,       4250
49UP20160703,         P9,      22,          1,          6,        113,2,20160710,       1604,    26.0197,   137.0115,       5556,  4579.3,   1.5793,  34.6832,2,  34.6831,2,    156.5,2,  156.33,2,  140.56,2,    0.00,2,   2.480,2,   0.000,2,   0.000,2,   0.004,2,  2319.2,2,  2410.0,2,   7.5847,2,    25.00, -999.00,9, -999.00,9,     1628,   35.69,2,   1.5794,2,       4501
49UP20160703,         P9,      22,          1,          5,        658,2,20160710,       1604,    26.0197,   137.0115,       5556,  4835.8,   1.6043,  34.6836,2,  34.6834,2,    157.1,2,  156.61,2,  140.53,2,    0.00,2,   2.480,2,-999.000,9,-999.000,9,-999.000,9,  2317.5,2,  2410.5,2,   7.5829,2,    25.00, -999.00,9, -999.00,9,     1622,   35.61,2,   1.6043,2,       4751
49UP20160703,         P9,      22,          1,          4,        471,2,20160710,       1604,    26.0197,   137.0115,       5556,  5092.1,   1.6348,  34.6836,2,  34.6836,2,    157.3,2,  157.22,2,  140.46,2,    0.00,2,   2.480,2,   0.000,2,   0.000,2,   0.000,2,  2324.0,2,  2410.7,2,   7.5837,2,    25.00, -999.00,9, -999.00,9,     1617,   35.62,2,   1.6348,2,       4999
49UP20160703,         P9,      22,          1,          3,        104,2,20160710,       1604,    26.0197,   137.0115,       5556,  5348.5,   1.6663,  34.6838,2,  34.6833,6,    157.5,2,  157.60,2,  140.52,2,    0.00,2,   2.480,2,-999.000,9,-999.000,9,-999.000,9,  2316.0,2,  2411.4,2,   7.5856,2,    25.00, -999.00,9, -999.00,9,     1612,   35.63,2,   1.6663,2,       5248
49UP20160703,         P9,      22,          1,          2,        075,3,20160710,       1604,    26.0197,   137.0115,       5556,  5609.0,   1.7009,  34.6838,2,  34.6838,2,    157.5,2,  157.46,6,  140.40,6,    0.00,6,   2.480,6,   0.000,2,   0.000,2,   0.003,2,  2318.8,2,  2409.5,2,    7.584,2,    25.00, -999.00,9, -999.00,9,     1607,   35.58,6,   1.7009,2,       5501
49UP20160703,         P9,      22,          1,          1,        997,2,20160710,       1604,    26.0197,   137.0115,       5556,  5686.8,   1.7117,  34.6836,2,  34.6838,2,    157.5,2,  157.33,2,  140.48,2,    0.00,2,   2.480,2,   0.000,2,   0.000,2,   0.005,2,  2317.7,2,  2408.9,2,    7.584,2,    25.00, -999.00,9, -999.00,9,     1604,   35.64,2,   1.7117,2,       5576