BOTTLE,20230712CCHSIOENA
EXPOCODE,SECT_ID,STNNBR,CASTNO,SAMPNO,BTLNBR,BTLNBR_FLAG_W,DATE,TIME,LATITUDE,LONGITUDE,DEPTH,CTDPRS,CTDTMP,CTDSAL,CTDSAL_FLAG_W,SALNTY,SALNTY_FLAG_W,CTDOXY,CTDOXY_FLAG_W,OXYGEN,OXYGEN_FLAG_W,SILCAT,SILCAT_FLAG_W,NITRIT,NITRIT_FLAG_W,PHSPHT,PHSPHT_FLAG_W,CFC-11,CFC-11_FLAG_W,CFC-12,CFC-12_FLAG_W,CFC113,CFC113_FLAG_W,TCARBN,TCARBN_FLAG_W,ALKALI,ALKALI_FLAG_W,PH_TOT,PH_TOT_FLAG_W,PH_TMP,CHLORA,CHLORA_FLAG_W,PPHYTN,PPHYTN_FLAG_W,BTL_TIME,NO2+NO3,NO2+NO3_FLAG_W,SBE35,SBE35_FLAG_W,CTDDEPTH
,,,,,,,,,,,METERS,DBAR,ITS-90,PSS-78,,PSS-78,,UMOL/KG,,UMOL/KG,,UMOL/KG,,UMOL/KG,,UMOL/KG,,PMOL/KG,,PMOL/KG,,PMOL/KG,,UMOL/KG,,UMOL/KG,,,,DEG C,UG/KG,,UG/KG,,,UMOL/KG,,ITS-90,,METERS
49UP20160703,         P9,      43,          1,          0,        BUC,2,20160717,       1523,    15.5015,   136.9833,       4936,     0.0,  29.9738,  34.7934,2,-999.0000,9,    194.4,2,  194.35,2,    1.05,2,    0.00,2,   0.020,2,-999.000,9,-999.000,9,-999.000,9,  -999.0,9,  -999.0,9,-999.0000,9,  -999.00, -999.00,9, -999.00,9,     1700,    0.03,2,-999.0000,9,          0
49UP20160703,         P9,      43,          1,         36,        109,2,20160717,       1523,    15.5015,   136.9833,       4936,    10.6,  29.9850,  34.8005,2,  34.8015,2,    194.5,2,  194.53,2,    1.06,2,    0.00,2,   0.020,2,-999.000,9,-999.000,9,-999.000,9,  -999.0,9,  -999.0,9,-999.0000,9,  -999.00, -999.00,9, -999.00,9,     1724,    0.04,2,  29.9849,2,         11
49UP20160703,         P9,      43,          1,         35,        112,2,20160717,       1523,    15.5015,   136.9833,       4936,    51.1,  29.4926,  34.8356,2,  34.8363,2,    200.8,2,  200.90,2,    1.01,2,    0.00,2,   0.020,2,-999.000,9,-999.000,9,-999.000,9,  -999.0,9,  -999.0,9,-999.0000,9,  -999.00, -999.00,9, -999.00,9,     1721,    0.02,2,  29.4893,2,         51
49UP20160703,         P9,      43,          1,         34,        094,2,20160717,       1523,    15.5015,   136.9833,       4936,    75.7,  27.5022,  34.8120,2,  34.8247,4,    207.3,2,  207.20,6,    1.07,6,    0.00,6,   0.040,6,-999.000,9,-999.000,9,-999.000,9,  -999.0,9,  -999.0,9,-999.0000,9,  -999.00, -999.00,9, -999.00,9,     1720,    0.02,6,  27.4961,2,         75
49UP20160703,         P9,      43,          1,         33,        469,2,20160717,       1523,    15.5015,   136.9833,       4936,   101.7,  26.7500,  34.9836,2,  34.9833,6,    205.2,2,  204.94,2,    1.04,2,    0.00,2,   0.040,2,-999.000,9,-999.000,9,-999.000,9,  -999.0,9,  -999.0,9,-999.0000,9,  -999.00, -999.00,9, -999.00,9,     1718,    0.01,2,  26.7471,2,        101
49UP20160703,         P9,      43,          1,         32,        089,2,20160717,       1523,    15.5015,   136.9833,       4936,   126.4,  25.8467,  35.0220,2,  35.0255,2,    199.8,2,  200.42,2,    1.22,2,    0.00,2,   0.070,2,-999.000,9,-999.000,9,-999.000,9,  -999.0,9,  -999.0,9,-999.0000,9,  -999.00, -999.00,9, -999.00,9,     1717,    0.03,2,  25.8423,2,        126
49UP20160703,         P9,      43,          1,         31,        515,2,20160717,       1523,    15.5015,   136.9833,       4936,   151.3,  23.9155,  35.1091,2,  35.1067,2,    190.6,2,  190.64,2,    1.78,2,    0.20,2,   0.160,2,-999.000,9,-999.000,9,-999.000,9,  -999.0,9,  -999.0,9,-999.0000,9,  -999.00, -999.00,9, -999.00,9,     1716,    0.52,2,  23.9034,2,        150
49UP20160703,         P9,      43,          1,         30,        097,2,20160717,       1523,    15.5015,   136.9833,       4936,   201.1,  19.5816,  34.9518,2,  34.9523,2,    174.7,2,  175.32,2,    3.98,2,    0.01,2,   0.410,2,-999.000,9,-999.000,9,-999.000,9,  -999.0,9,  -999.0,9,-999.0000,9,  -999.00, -999.00,9, -999.00,9,     1715,    4.32,2,  19.5746,2,        200
49UP20160703,         P9,      43,          1,         29,        102,2,20160717,       1523,    15.5015,   136.9833,       4936,   251.4,  15.9544,  34.6212,2,  34.6228,2,    168.7,2,  169.09,2,    8.40,2,    0.00,2,   0.720,2,-999.000,9,-999.000,9,-999.000,9,  -999.0,9,  -999.0,9,-999.0000,9,  -999.00, -999.00,9, -999.00,9,     1713,    9.51,2,  15.9564,2,        250
49UP20160703,         P9,      43,          1,         28,        472,2,20160717,       1523,    15.5015,   136.9833,       4936,   303.0,  13.9690,  34.4518,2,  34.4547,2,    180.2,2,  179.58,2,   11.46,2,    0.00,2,   0.830,2,-999.000,9,-999.000,9,-999.000,9,  -999.0,9,  -999.0,9,-999.0000,9,  -999.00, -999.00,9, -999.00,9,     1712,   11.72,2,  13.9685,2,        301
49UP20160703,         P9,      43,          1,         27,        998,2,20160717,       1523,    15.5015,   136.9833,       4936,   353.0,  11.1675,  34.2929,2,  34.2903,2,    148.2,2,  148.74,2,   22.91,2,    0.00,2,   1.410,2,-999.000,9,-999.000,9,-999.000,9,  -999.0,9,  -999.0,9,-999.0000,9,  -999.00, -999.00,9, -999.00,9,     1710,   19.52,2,  11.1775,2,        351
49UP20160703,         P9,      43,          1,         26,        084,2,20160717,       1523,    15.5015,   136.9833,       4936,   402.7,   9.8652,  34.2952,2,  34.2968,2,    114.5,2,  113.45,2,   32.38,2,    0.00,2,   1.830,2,-999.000,9,-999.000,9,-999.000,9,  -999.0,9,  -999.0,9,-999.0000,9,  -999.00, -999.00,9, -999.00,9,     1709,   25.25,2,   9.8633,2,        400
49UP20160703,         P9,      43,          1,         25,        098,2,20160717,       1523,    15.5015,   136.9833,       4936,   453.9,   8.7290,  34.3253,2,  34.3260,2,     88.8,2,   88.45,2,   41.93,2,    0.00,2,   2.160,2,-999.000,9,-999.000,9,-999.000,9,  -999.0,9,  -999.0,9,-999.0000,9,  -999.00, -999.00,9, -999.00,9,     1707,   29.83,2,   8.7350,2,        451
49UP20160703,         P9,      43,          1,         24,        110,2,20160717,       1523,    15.5015,   136.9833,       4936,   504.9,   7.7207,  34.3181,2,  34.3189,2,     78.4,2,   78.18,2,   51.30,2,    0.00,2,   2.360,2,-999.000,9,-999.000,9,-999.000,9,  -999.0,9,  -999.0,9,-999.0000,9,  -999.00, -999.00,9, -999.00,9,     1705,   32.60,2,   7.7199,2,        501
49UP20160703,         P9,      43,          1,         23,        679,2,20160717,       1523,    15.5015,   136.9833,       4936,   606.1,   6.3204,  34.3591,2,  34.3613,2,     68.5,2,   68.70,2,   68.98,2,    0.00,2,   2.600,2,-999.000,9,-999.000,9,-999.000,9,  -999.0,9,  -999.0,9,-999.0000,9,  -999.00, -999.00,9, -999.00,9,     1703,   36.16,2,   6.3202,2,        602
49UP20160703,         P9,      43,          1,         22,        111,2,20160717,       1523,    15.5015,   136.9833,       4936,   706.2,   5.5799,  34.4308,2,  34.4301,2,     69.3,2,   69.58,2,   79.12,2,    0.00,2,   2.700,2,-999.000,9,-999.000,9,-999.000,9,  -999.0,9,  -999.0,9,-999.0000,9,  -999.00, -999.00,9, -999.00,9,     1700,   37.59,2,   5.5827,2,        701
49UP20160703,         P9,      43,          1,         21,        078,2,20160717,       1523,    15.5015,   136.9833,       4936,   807.9,   5.0548,  34.4882,2,  34.4895,2,     76.0,2,   76.50,2,   85.99,2,    0.00,2,   2.720,2,-999.000,9,-999.000,9,-999.000,9,  -999.0,9,  -999.0,9,-999.0000,9,  -999.00, -999.00,9, -999.00,9,     1657,   38.06,2,   5.0546,2,        802
49UP20160703,         P9,      43,          1,         20,        093,2,20160717,       1523,    15.5015,   136.9833,       4936,   907.8,   4.6188,  34.5176,2,  34.5175,2,     80.9,2,   80.80,2,   93.05,2,    0.00,2,   2.740,2,-999.000,9,-999.000,9,-999.000,9,  -999.0,9,  -999.0,9,-999.0000,9,  -999.00, -999.00,9, -999.00,9,     1655,   38.44,2,   4.6184,2,        901
49UP20160703,         P9,      43,          1,         19,        269,2,20160717,       1523,    15.5015,   136.9833,       4936,  1010.9,   4.2994,  34.5303,2,  34.5301,6,     83.0,2,   83.07,2,   99.14,2,    0.00,2,   2.740,2,-999.000,9,-999.000,9,-999.000,9,  -999.0,9,  -999.0,9,-999.0000,9,  -999.00, -999.00,9, -999.00,9,     1652,   38.60,2,   4.3000,2,       1003
49UP20160703,         P9,      43,          1,         18,        088,2,20160717,       1523,    15.5015,   136.9833,       4936,  1213.0,   3.6246,  34.5487,2,  34.5500,2,     89.5,2,   89.45,6,  113.71,6,    0.00,6,   2.750,6,-999.000,9,-999.000,9,-999.000,9,  -999.0,9,  -999.0,9,-999.0000,9,  -999.00, -999.00,9, -999.00,9,     1647,   38.65,6,   3.6252,2,       1202
49UP20160703,         P9,      43,          1,         17,        090,2,20160717,       1523,    15.5015,   136.9833,       4936,  1414.1,   3.0954,  34.5675,2,  34.5673,2,     95.2,2,   94.84,2,  125.01,2,    0.00,2,   2.740,2,-999.000,9,-999.000,9,-999.000,9,  -999.0,9,  -999.0,9,-999.0000,9,  -999.00, -999.00,9, -999.00,9,     1642,   38.66,2,   3.0968,2,       1401
49UP20160703,         P9,      43,          1,         16,        474,2,20160717,       1523,    15.5015,   136.9833,       4936,  1618.1,   2.6658,  34.5896,2,  34.5898,2,    101.0,2,  100.95,2,  132.13,2,    0.00,2,   2.730,2,-999.000,9,-999.000,9,-999.000,9,  -999.0,9,  -999.0,9,-999.0000,9,  -999.00, -999.00,9, -999.00,9,     1637,   38.68,2,   2.6659,2,       1602
49UP20160703,         P9,      43,          1,         15,        665,2,20160717,       1523,    15.5015,   136.9833,       4936,  1820.1,   2.3617,  34.6073,2,  34.6075,2,    106.2,2,  105.85,2,  137.41,2,    0.00,2,   2.720,2,-999.000,9,-999.000,9,-999.000,9,  -999.0,9,  -999.0,9,-999.0000,9,  -999.00, -999.00,9, -999.00,9,     1632,   38.67,2,   2.3620,2,       1802
49UP20160703,         P9,      43,          1,         14,        999,2,20160717,       1523,    15.5015,   136.9833,       4936,  2021.9,   2.1435,  34.6237,2,  34.6237,2,    112.8,2,  112.69,2,  140.48,2,    0.00,2,   2.690,2,-999.000,9,-999.000,9,-999.000,9,  -999.0,9,  -999.0,9,-999.0000,9,  -999.00, -999.00,9, -999.00,9,     1627,   38.46,2,   2.1434,2,       2000
49UP20160703,         P9,      43,          1,         13,        667,2,20160717,       1523,    15.5015,   136.9833,       4936,  2226.4,   1.9515,  34.6379,2,  34.6372,2,    119.9,2,  119.65,2,  142.54,2,    0.00,2,   2.660,2,-999.000,9,-999.000,9,-999.000,9,  -999.0,9,  -999.0,9,-999.0000,9,  -999.00, -999.00,9, -999.00,9,     1621,   38.01,2,   1.9517,2,       2202
49UP20160703,         P9,      43,          1,         12,        074,2,20160717,       1523,    15.5015,   136.9833,       4936,  2428.0,   1.8335,  34.6475,2,  34.6477,2,    125.5,2,  125.31,2,  144.32,2,    0.00,2,   2.630,2,-999.000,9,-999.000,9,-999.000,9,  -999.0,9,  -999.0,9,-999.0000,9,  -999.00, -999.00,9, -999.00,9,     1617,   37.80,2,   1.8335,2,       2400
49UP20160703,         P9,      43,          1,         11,        268,2,20160717,       1523,    15.5015,   136.9833,       4936,  2631.2,   1.7399,  34.6560,2,  34.6565,2,    130.8,2,  130.74,2,  144.51,2,    0.00,2,   2.600,2,-999.000,9,-999.000,9,-999.000,9,  -999.0,9,  -999.0,9,-999.0000,9,  -999.00, -999.00,9, -999.00,9,     1613,   37.36,2,   1.7397,2,       2599
49UP20160703,         P9,      43,          1,         10,        267,2,20160717,       1523,    15.5015,   136.9833,       4936,  2834.3,   1.6804,  34.6624,2,  34.6610,2,    134.9,2,  135.08,2,  145.01,2,    0.00,2,   2.580,2,-999.000,9,-999.000,9,-999.000,9,  -999.0,9,  -999.0,9,-999.0000,9,  -999.00, -999.00,9, -999.00,9,     1609,   37.16,2,   1.6804,2,       2799
49UP20160703,         P9,      43,          1,          9,        518,2,20160717,       1523,    15.5015,   136.9833,       4936,  3036.7,   1.6407,  34.6665,2,  34.6671,6,    138.6,2,  138.39,2,  144.85,2,    0.00,2,   2.570,2,-999.000,9,-999.000,9,-999.000,9,  -999.0,9,  -999.0,9,-999.0000,9,  -999.00, -999.00,9, -999.00,9,     1605,   36.94,2,   1.6408,2,       2997
49UP20160703,         P9,      43,          1,          8,        470,2,20160717,       1523,    15.5015,   136.9833,       4936,  3294.3,   1.6022,  34.6711,2,  34.6712,2,    143.3,2,  142.94,2,  143.93,6,    0.00,6,   2.550,6,-999.000,9,-999.000,9,-999.000,9,  -999.0,9,  -999.0,9,-999.0000,9,  -999.00, -999.00,9, -999.00,9,     1600,   36.69,6,   1.6023,2,       3250
49UP20160703,         P9,      43,          1,          7,        516,2,20160717,       1523,    15.5015,   136.9833,       4936,  3548.1,   1.5742,  34.6749,2,  34.6753,2,    147.2,2,  147.27,2,  143.02,2,    0.00,2,   2.520,2,-999.000,9,-999.000,9,-999.000,9,  -999.0,9,  -999.0,9,-999.0000,9,  -999.00, -999.00,9, -999.00,9,     1555,   36.46,2,   1.5742,2,       3498
49UP20160703,         P9,      43,          1,          6,        113,2,20160717,       1523,    15.5015,   136.9833,       4936,  3804.9,   1.5481,  34.6787,2,  34.6784,2,    151.5,2,  151.26,2,  142.01,2,    0.00,2,   2.510,2,-999.000,9,-999.000,9,-999.000,9,  -999.0,9,  -999.0,9,-999.0000,9,  -999.00, -999.00,9, -999.00,9,     1550,   36.10,2,   1.5481,2,       3749
49UP20160703,         P9,      43,          1,          5,        658,2,20160717,       1523,    15.5015,   136.9833,       4936,  4061.0,   1.5169,  34.6829,2,  34.6826,2,    156.4,2,  156.55,2,  140.61,2,    0.00,2,   2.470,2,-999.000,9,-999.000,9,-999.000,9,  -999.0,9,  -999.0,9,-999.0000,9,  -999.00, -999.00,9, -999.00,9,     1545,   35.79,2,   1.5169,2,       3999
49UP20160703,         P9,      43,          1,          4,        471,2,20160717,       1523,    15.5015,   136.9833,       4936,  4318.6,   1.5038,  34.6861,2,  34.6860,2,    160.2,2,  160.33,2,  139.56,2,    0.00,2,   2.460,2,-999.000,9,-999.000,9,-999.000,9,  -999.0,9,  -999.0,9,-999.0000,9,  -999.00, -999.00,9, -999.00,9,     1540,   35.57,2,   1.5039,2,       4250
49UP20160703,         P9,      43,          1,          3,        104,2,20160717,       1523,    15.5015,   136.9833,       4936,  4573.1,   1.5237,  34.6867,2,  34.6869,2,    161.0,2,  161.09,2,  139.27,2,    0.00,2,   2.450,2,-999.000,9,-999.000,9,-999.000,9,  -999.0,9,  -999.0,9,-999.0000,9,  -999.00, -999.00,9, -999.00,9,     1534,   35.51,2,   1.5236,2,       4498
49UP20160703,         P9,      43,          1,          2,        075,2,20160717,       1523,    15.5015,   136.9833,       4936,  4831.7,   1.5518,  34.6870,2,  34.6876,6,    161.4,2,  161.37,2,  138.99,2,    0.00,2,   2.450,2,-999.000,9,-999.000,9,-999.000,9,  -999.0,9,  -999.0,9,-999.0000,9,  -999.00, -999.00,9, -999.00,9,     1528,   35.45,2,   1.5519,2,       4750
49UP20160703,         P9,      43,          1,          1,        997,2,20160717,       1523,    15.5015,   136.9833,       4936,  5082.0,   1.5831,  34.6870,2,  34.6872,2,    161.5,2,  161.19,6,  139.10,6,    0.00,6,   2.450,6,-999.000,9,-999.000,9,-999.000,9,  -999.0,9,  -999.0,9,-999.0000,9,  -999.00, -999.00,9, -999.00,9,     1523,   35.47,6,   1.5830,2,       4993