BOTTLE,20230712CCHSIOENA
EXPOCODE,SECT_ID,STNNBR,CASTNO,SAMPNO,BTLNBR,BTLNBR_FLAG_W,DATE,TIME,LATITUDE,LONGITUDE,DEPTH,CTDPRS,CTDTMP,CTDSAL,CTDSAL_FLAG_W,SALNTY,SALNTY_FLAG_W,CTDOXY,CTDOXY_FLAG_W,OXYGEN,OXYGEN_FLAG_W,SILCAT,SILCAT_FLAG_W,NITRIT,NITRIT_FLAG_W,PHSPHT,PHSPHT_FLAG_W,CFC-11,CFC-11_FLAG_W,CFC-12,CFC-12_FLAG_W,CFC113,CFC113_FLAG_W,TCARBN,TCARBN_FLAG_W,ALKALI,ALKALI_FLAG_W,PH_TOT,PH_TOT_FLAG_W,PH_TMP,CHLORA,CHLORA_FLAG_W,PPHYTN,PPHYTN_FLAG_W,BTL_TIME,NO2+NO3,NO2+NO3_FLAG_W,SBE35,SBE35_FLAG_W,CTDDEPTH
,,,,,,,,,,,METERS,DBAR,ITS-90,PSS-78,,PSS-78,,UMOL/KG,,UMOL/KG,,UMOL/KG,,UMOL/KG,,UMOL/KG,,PMOL/KG,,PMOL/KG,,PMOL/KG,,UMOL/KG,,UMOL/KG,,,,DEG C,UG/KG,,UG/KG,,,UMOL/KG,,ITS-90,,METERS
49UP20160703,         P9,      50,          1,          0,        BUC,2,20160719,       1825,    11.9853,   136.9935,       5279,     0.0,  30.2818,  34.6897,2,  34.6658,2,    192.3,2,  193.30,2,    0.98,2,    0.00,2,   0.070,2,-999.000,9,-999.000,9,-999.000,9,  1947.1,2,  2275.6,2,   8.1064,2,    25.00,    0.05,2,    0.02,2,     2020,    0.04,2,-999.0000,9,          0
49UP20160703,         P9,      50,          1,         36,        109,2,20160719,       1825,    11.9853,   136.9935,       5279,    10.5,  30.2915,  34.6896,2,  34.6889,2,    192.3,2,  192.58,2,    0.99,2,    0.00,2,   0.050,2,   1.444,2,   0.927,2,   0.107,2,  1956.8,2,  2282.2,2,    8.108,2,    25.00,    0.05,2,    0.02,2,     2047,    0.04,2,  30.2894,2,         10
49UP20160703,         P9,      50,          1,         35,        112,2,20160719,       1825,    11.9853,   136.9935,       5279,    50.5,  28.9616,  34.7220,2,  34.7214,2,    203.2,2,  203.07,6,    1.06,6,    0.00,6,   0.050,6,   1.602,2,   0.995,2,   0.122,2,  1956.6,2,  2281.5,2,   8.1056,2,    25.00,    0.06,2,    0.03,2,     2042,    0.03,6,  28.9767,2,         50
49UP20160703,         P9,      50,          1,         28,        472,2,20160719,       1825,    11.9853,   136.9935,       5279,    75.8,  28.2003,  34.7923,2,  34.7929,2,    206.9,2,  206.35,2,    0.99,2,    0.00,2,   0.040,2,   1.636,2,   1.016,2,   0.126,2,  1957.7,2,  2288.6,2,   8.1024,2,    25.00,    0.08,2,    0.04,2,     2041,    0.03,2,  28.2018,2,         75
49UP20160703,         P9,      50,          1,         34,        094,2,20160719,       1825,    11.9853,   136.9935,       5279,   102.2,  26.9919,  34.9303,2,  34.9041,4,    206.1,2,  206.43,2,    0.92,2,    0.00,2,   0.060,2,   1.674,6,   1.048,6,   0.127,6,  1967.5,2,  2293.9,2,    8.097,6,    25.00,    0.12,2,    0.07,2,     2039,    0.04,2,  26.9840,2,        102
49UP20160703,         P9,      50,          1,         33,        469,4,20160719,       1825,    11.9853,   136.9935,       5279,   126.9,  24.8918,  35.1555,2,  34.4409,4,    196.5,2,  111.34,4,   27.48,4,    0.00,4,   1.670,4,   1.901,4,   1.043,4,   0.032,4,  2176.3,4,  2283.7,4,   7.6394,4,    25.00,    0.00,4,    0.02,4,     2038,   23.41,4,  24.8870,2,        126
49UP20160703,         P9,      50,          1,         32,        089,2,20160719,       1825,    11.9853,   136.9935,       5279,   151.0,  22.6932,  35.1759,2,  35.1699,2,    185.8,2,  185.61,2,    1.92,2,    0.06,2,   0.190,2,   2.022,2,   1.285,2,   0.093,2,  2044.7,2,  2308.9,2,   7.9921,2,    25.00,    0.12,2,    0.36,2,     2036,    1.14,2,  22.6821,2,        150
49UP20160703,         P9,      50,          1,         31,        515,2,20160719,       1825,    11.9853,   136.9935,       5279,   201.8,  17.7401,  34.7971,2,  34.7731,4,    174.2,2,  173.64,2,    6.05,2,    0.01,2,   0.550,2,   2.366,2,   1.438,2,   0.043,2,  2078.6,2,  2286.3,2,   7.8828,2,    25.00,    0.02,2,    0.06,2,     2034,    7.12,2,  17.7307,2,        201
49UP20160703,         P9,      50,          1,         30,        097,2,20160719,       1825,    11.9853,   136.9935,       5279,   252.0,  13.7824,  34.5215,2,  34.5125,4,    126.4,2,  126.13,2,   18.41,2,    0.00,2,   1.340,2,   2.177,2,   1.221,2,   0.039,2,  2145.0,2,  2280.8,2,   7.7146,2,    25.00, -999.00,9, -999.00,9,     2032,   18.18,2,  13.7802,2,        250
49UP20160703,         P9,      50,          1,         29,        102,2,20160719,       1825,    11.9853,   136.9935,       5279,   332.7,  10.2616,  34.3999,2,  34.3979,2,     94.8,2,   94.10,2,   31.63,2,    0.00,2,   1.940,2,   1.685,2,   0.882,2,   0.015,2,  2203.3,2,  2284.0,2,   7.5801,6,    25.00, -999.00,9, -999.00,9,     2030,   26.67,2,  10.2576,2,        331
49UP20160703,         P9,      50,          1,         27,        998,2,20160719,       1825,    11.9853,   136.9935,       5279,   383.5,   9.3540,  34.3997,2,  34.3999,2,     80.5,2,   80.55,2,   37.24,2,    0.00,2,   2.160,2,-999.000,9,-999.000,9,-999.000,9,  2225.1,6,  2290.9,6,   7.5338,2,    25.00, -999.00,9, -999.00,9,     2027,   29.64,2,   9.3540,2,        381
49UP20160703,         P9,      50,          1,         26,        084,3,20160719,       1825,    11.9853,   136.9935,       5279,   433.5,   8.4409,  34.4353,2,  34.4358,2,     73.5,2,   73.67,2,   43.94,2,    0.00,2,   2.320,2,   0.931,2,   0.463,2,   0.022,2,  2242.1,2,  2300.9,2,   7.5124,2,    25.00, -999.00,9, -999.00,9,     2025,   32.26,2,   8.4410,2,        431
49UP20160703,         P9,      50,          1,         25,        098,2,20160719,       1825,    11.9853,   136.9935,       5279,   483.7,   7.8119,  34.4657,2,  34.4643,2,     74.1,2,   74.62,2,   48.65,2,    0.00,2,   2.400,2,-999.000,9,-999.000,9,-999.000,9,  2248.1,2,  2308.6,2,   7.5031,2,    25.00, -999.00,9, -999.00,9,     2023,   33.64,2,   7.8131,2,        480
49UP20160703,         P9,      50,          1,         24,        110,2,20160719,       1825,    11.9853,   136.9935,       5279,   533.9,   6.9972,  34.4263,2,  34.4272,6,     76.9,2,   76.80,2,   57.81,2,    0.00,2,   2.480,2,   0.567,2,   0.290,2,   0.015,2,  2260.9,2,  2316.4,2,   7.4944,2,    25.00, -999.00,9, -999.00,9,     2021,   34.68,2,   6.9974,2,        530
49UP20160703,         P9,      50,          1,         23,        679,2,20160719,       1825,    11.9853,   136.9935,       5279,   634.3,   6.4207,  34.4777,2,  34.4810,2,     84.0,2,   84.08,6,   61.45,6,    0.00,6,   2.530,6,   0.356,2,   0.189,2,   0.012,2,  2265.9,2,  2324.4,2,   7.5022,2,    25.00, -999.00,9, -999.00,9,     2019,   35.47,6,   6.4201,2,        630
49UP20160703,         P9,      50,          1,         22,        111,2,20160719,       1825,    11.9853,   136.9935,       5279,   735.6,   5.9239,  34.5025,2,  34.5032,2,     88.4,2,   88.44,2,   66.86,2,    0.00,2,   2.570,2,   0.256,2,   0.143,2,   0.011,2,  2279.8,2,  2331.4,2,   7.5058,2,    25.00, -999.00,9, -999.00,9,     2016,   36.19,2,   5.9237,2,        730
49UP20160703,         P9,      50,          1,         21,        078,2,20160719,       1825,    11.9853,   136.9935,       5279,   836.9,   5.4799,  34.5217,2,  34.5227,2,     85.4,2,   85.49,2,   74.15,2,    0.00,2,   2.640,2,   0.152,2,   0.091,2,   0.008,2,  2280.1,2,  2340.2,2,   7.4993,2,    25.00, -999.00,9, -999.00,9,     2013,   37.16,2,   5.4796,2,        830
49UP20160703,         P9,      50,          1,         20,        093,2,20160719,       1825,    11.9853,   136.9935,       5279,   937.6,   5.0441,  34.5312,2,  34.5319,2,     84.4,2,   84.26,2,   82.48,2,    0.00,2,   2.700,2,   0.103,2,   0.058,2,   0.009,2,  2293.8,2,  2349.0,2,   7.4911,2,    25.00, -999.00,9, -999.00,9,     2010,   37.92,2,   5.0437,2,        930
49UP20160703,         P9,      50,          1,         19,        269,2,20160719,       1825,    11.9853,   136.9935,       5279,  1080.0,   4.5026,  34.5442,2,  34.5451,2,     83.7,2,   83.72,2,   93.35,2,    0.00,2,   2.750,2,   0.662,4,   1.243,4,   0.021,3,  2307.4,2,  2360.7,2,   7.4861,2,    25.00, -999.00,9, -999.00,9,     2005,   38.59,2,   4.5023,2,       1071
49UP20160703,         P9,      50,          1,         18,        088,2,20160719,       1825,    11.9853,   136.9935,       5279,  1282.4,   3.7720,  34.5602,2,  34.5603,2,     85.3,2,   85.18,2,  108.90,2,    0.00,2,   2.790,2,   0.020,6,   0.017,6,   0.007,6,  2323.6,2,  2374.9,2,   7.4822,2,    25.00, -999.00,9, -999.00,9,     1959,   39.14,2,   3.7749,2,       1271
49UP20160703,         P9,      50,          1,         17,        090,2,20160719,       1825,    11.9853,   136.9935,       5279,  1483.5,   3.1270,  34.5828,2,  34.5831,2,     93.1,2,   93.03,2,  122.05,2,    0.00,2,   2.770,2,   0.004,2,   0.014,2,   0.007,2,  2334.1,2,  2389.8,2,   7.4922,2,    25.00, -999.00,9, -999.00,9,     1955,   39.14,2,   3.1269,2,       1470
49UP20160703,         P9,      50,          1,         16,        474,2,20160719,       1825,    11.9853,   136.9935,       5279,  1687.0,   2.6792,  34.6014,2,  34.6015,2,    101.2,2,  101.16,2,  130.63,2,    0.00,2,   2.740,2,-999.000,9,-999.000,9,-999.000,9,  2340.6,2,  2398.3,2,   7.5022,2,    25.00, -999.00,9, -999.00,9,     1948,   38.87,2,   2.6792,2,       1671
49UP20160703,         P9,      50,          1,         15,        665,2,20160719,       1825,    11.9853,   136.9935,       5279,  1889.7,   2.4063,  34.6167,2,  34.6172,2,    107.5,2,  107.34,2,  135.18,2,    0.00,2,   2.720,2,-999.000,9,-999.000,9,-999.000,9,  2339.3,6,  2403.3,6,   7.5113,2,    25.00, -999.00,9, -999.00,9,     1943,   38.63,2,   2.4064,2,       1870
49UP20160703,         P9,      50,          1,         14,        999,2,20160719,       1825,    11.9853,   136.9935,       5279,  2092.4,   2.1499,  34.6316,2,  34.6316,2,    114.7,2,  114.51,2,  139.68,2,    0.00,2,   2.690,2,   0.000,2,   0.007,2,   0.003,2,  2347.4,2,  2407.9,2,   7.5251,2,    25.00, -999.00,9, -999.00,9,     1938,   38.36,2,   2.1501,2,       2070
49UP20160703,         P9,      50,          1,         13,        667,2,20160719,       1825,    11.9853,   136.9935,       5279,  2295.8,   1.9985,  34.6419,2,  34.6422,2,    120.2,2,  120.21,2,  141.55,2,    0.00,2,   2.660,2,-999.000,9,-999.000,9,-999.000,9,  2337.5,2,  2411.2,2,   7.5286,2,    25.00, -999.00,9, -999.00,9,     1932,   38.05,2,   1.9984,2,       2270
49UP20160703,         P9,      50,          1,         12,        074,2,20160719,       1825,    11.9853,   136.9935,       5279,  2499.5,   1.8769,  34.6496,2,  34.6499,2,    124.7,2,  124.59,2,  143.64,2,    0.00,2,   2.640,2,   0.000,2,   0.005,2,   0.007,2,  2335.0,2,  2411.8,2,    7.538,2,    25.00, -999.00,9, -999.00,9,     1927,   37.85,2,   1.8770,2,       2470
49UP20160703,         P9,      50,          1,         11,        268,2,20160719,       1825,    11.9853,   136.9935,       5279,  2702.8,   1.7706,  34.6564,2,  34.6565,2,    130.3,2,  130.12,2,  144.19,2,    0.00,2,   2.610,2,-999.000,9,-999.000,9,-999.000,9,  2341.0,2,  2413.6,2,   7.5471,2,    25.00, -999.00,9, -999.00,9,     1921,   37.48,2,   1.7704,2,       2670
49UP20160703,         P9,      50,          1,         10,        267,2,20160719,       1825,    11.9853,   136.9935,       5279,  2906.4,   1.6861,  34.6629,2,  34.6631,2,    135.6,2,  135.45,2,  144.41,2,    0.00,2,   2.580,2,-999.000,9,-999.000,9,-999.000,9,  2332.9,2,  2414.3,2,   7.5554,2,    25.00, -999.00,9, -999.00,9,     1916,   37.12,2,   1.6859,2,       2870
49UP20160703,         P9,      50,          1,          9,        518,2,20160719,       1825,    11.9853,   136.9935,       5279,  3120.6,   1.6323,  34.6677,2,  34.6678,6,    140.2,2,  139.91,2,  143.95,2,    0.00,2,   2.550,2,   0.003,2,   0.012,2,   0.006,2,  2329.6,2,  2415.0,2,   7.5604,6,    25.00, -999.00,9, -999.00,9,     1911,   36.83,2,   1.6321,2,       3080
49UP20160703,         P9,      50,          1,          8,        470,2,20160719,       1825,    11.9853,   136.9935,       5279,  3374.6,   1.5865,  34.6728,2,  34.6725,2,    145.0,2,  145.47,2,  143.25,2,    0.00,2,   2.530,2,-999.000,9,-999.000,9,-999.000,9,  2324.0,2,  2415.0,2,   7.5685,2,    25.00, -999.00,9, -999.00,9,     1905,   36.48,2,   1.5867,2,       3329
49UP20160703,         P9,      50,          1,          7,        516,2,20160719,       1825,    11.9853,   136.9935,       5279,  3632.2,   1.5628,  34.6762,2,  34.6762,2,    149.2,2,  149.06,2,  142.25,2,    0.00,2,   2.510,2,   0.000,2,   0.008,2,   0.004,2,  2327.3,2,  2415.2,2,   7.5752,2,    25.00, -999.00,9, -999.00,9,     1859,   36.23,2,   1.5627,2,       3581
49UP20160703,         P9,      50,          1,          6,        113,2,20160719,       1825,    11.9853,   136.9935,       5279,  3888.2,   1.5380,  34.6802,2,  34.6798,2,    153.4,2,  153.54,6,  141.03,6,    0.00,6,   2.490,6,-999.000,9,-999.000,9,-999.000,9,  2323.6,2,  2415.4,2,   7.5795,2,    25.00, -999.00,9, -999.00,9,     1853,   35.92,6,   1.5382,2,       3831
49UP20160703,         P9,      50,          1,          5,        658,2,20160719,       1825,    11.9853,   136.9935,       5279,  4144.0,   1.5172,  34.6837,2,  34.6837,2,    157.4,2,  157.55,2,  139.92,2,    0.00,2,   2.470,2,   0.000,2,   0.009,2,   0.006,2,  2320.8,2,  2409.9,2,   7.5853,2,    25.00, -999.00,9, -999.00,9,     1848,   35.67,2,   1.5172,2,       4080
49UP20160703,         P9,      50,          1,          4,        471,2,20160719,       1825,    11.9853,   136.9935,       5279,  4400.6,   1.5151,  34.6860,2,  34.6859,2,    160.1,2,  160.23,2,  139.03,2,    0.00,2,   2.450,2,-999.000,9,-999.000,9,-999.000,9,  2311.2,2,  2408.0,2,    7.589,2,    25.00, -999.00,9, -999.00,9,     1842,   35.49,2,   1.5151,2,       4331
49UP20160703,         P9,      50,          1,          3,        104,2,20160719,       1825,    11.9853,   136.9935,       5279,  4656.4,   1.5280,  34.6872,2,  34.6873,6,    161.8,2,  161.68,2,  138.57,2,    0.00,2,   2.440,2,   0.000,2,   0.007,2,   0.016,2,  2315.4,6,  2407.1,6,   7.5915,2,    25.00, -999.00,9, -999.00,9,     1837,   35.39,2,   1.5279,2,       4580
49UP20160703,         P9,      50,          1,          2,        075,2,20160719,       1825,    11.9853,   136.9935,       5279,  4914.1,   1.5516,  34.6877,2,  34.6881,2,    162.6,2,  162.77,2,  137.85,2,    0.00,2,   2.430,2,-999.000,9,-999.000,9,-999.000,9,  2310.5,2,  2406.9,2,   7.5928,2,    25.00, -999.00,9, -999.00,9,     1832,   35.27,2,   1.5516,2,       4830
49UP20160703,         P9,      50,          1,          1,        997,4,20160719,       1825,    11.9853,   136.9935,       5279,  5223.1,   1.5871,  34.6878,2,  34.6147,4,    163.1,2,  106.72,4,  134.87,4,    0.00,4,   2.720,4,   0.000,4,   0.004,4,   0.007,4,  2338.7,4,  2401.9,4,   7.5143,4,    25.00, -999.00,9, -999.00,9,     1826,   38.69,4,   1.5871,2,       5131