BOTTLE,20230712CCHSIOENA
EXPOCODE,SECT_ID,STNNBR,CASTNO,SAMPNO,BTLNBR,BTLNBR_FLAG_W,DATE,TIME,LATITUDE,LONGITUDE,DEPTH,CTDPRS,CTDTMP,CTDSAL,CTDSAL_FLAG_W,SALNTY,SALNTY_FLAG_W,CTDOXY,CTDOXY_FLAG_W,OXYGEN,OXYGEN_FLAG_W,SILCAT,SILCAT_FLAG_W,NITRIT,NITRIT_FLAG_W,PHSPHT,PHSPHT_FLAG_W,CFC-11,CFC-11_FLAG_W,CFC-12,CFC-12_FLAG_W,CFC113,CFC113_FLAG_W,TCARBN,TCARBN_FLAG_W,ALKALI,ALKALI_FLAG_W,PH_TOT,PH_TOT_FLAG_W,PH_TMP,CHLORA,CHLORA_FLAG_W,PPHYTN,PPHYTN_FLAG_W,BTL_TIME,NO2+NO3,NO2+NO3_FLAG_W,SBE35,SBE35_FLAG_W,CTDDEPTH
,,,,,,,,,,,METERS,DBAR,ITS-90,PSS-78,,PSS-78,,UMOL/KG,,UMOL/KG,,UMOL/KG,,UMOL/KG,,UMOL/KG,,PMOL/KG,,PMOL/KG,,PMOL/KG,,UMOL/KG,,UMOL/KG,,,,DEG C,UG/KG,,UG/KG,,,UMOL/KG,,ITS-90,,METERS
49UP20160703,         P9,      70,          1,          0,        BUC,2,20160803,       1830,      4.015,   137.0072,       4660,     0.0,  30.1282,  34.0045,2,  34.0101,2,    194.4,2,  194.23,2,    1.20,2,    0.00,2,   0.050,2,-999.000,9,-999.000,9,-999.000,9,  1909.9,2,  2237.6,2,   8.1208,2,    25.00,    0.08,2,    0.04,2,     2005,    0.10,2,-999.0000,9,          0
49UP20160703,         P9,      70,          1,         36,        109,2,20160803,       1830,      4.015,   137.0072,       4660,    10.4,  30.1350,  34.0041,2,  34.0036,2,    194.5,2,  194.22,2,    1.20,2,    0.00,2,   0.040,2,   1.496,2,   0.941,2,   0.116,2,  1906.9,2,  2237.2,2,   8.1169,2,    25.00,    0.08,2,    0.04,2,     2030,    0.08,2,  30.1358,2,         10
49UP20160703,         P9,      70,          1,         35,        112,2,20160803,       1830,      4.015,   137.0072,       4660,    25.5,  30.1366,  34.0040,2,  34.0048,2,    194.4,2,  194.38,2,    1.21,2,    0.00,2,   0.040,2,   1.483,2,   0.933,2,   0.110,2,  1908.7,6,  2236.6,6,   8.1202,2,    25.00,    0.07,2,    0.04,2,     2029,    0.10,2,  30.1368,2,         25
49UP20160703,         P9,      70,          1,         34,        094,2,20160803,       1830,      4.015,   137.0072,       4660,    51.2,  30.0936,  34.0886,2,  34.0931,2,    195.1,2,  194.87,2,    1.25,2,    0.00,2,   0.050,2,   1.487,2,   0.936,2,   0.104,2,  1915.3,2,  2242.2,2,   8.1183,2,    25.00,    0.09,2,    0.05,2,     2026,    0.07,2,  30.0900,2,         51
49UP20160703,         P9,      70,          1,         33,        469,2,20160803,       1830,      4.015,   137.0072,       4660,    76.7,  28.9959,  34.6069,2,  34.6007,2,    196.1,2,  196.24,2,    1.37,2,    0.00,2,   0.090,2,   1.612,2,   1.002,2,   0.101,2,  1959.5,2,  2274.7,2,   8.0868,2,    25.00,    0.19,2,    0.22,2,     2024,    0.07,2,  29.0170,2,         76
49UP20160703,         P9,      70,          1,         32,        089,2,20160803,       1830,      4.015,   137.0072,       4660,   100.9,  27.9905,  34.7586,2,  34.7575,2,    186.2,2,  186.36,6,    1.52,6,    0.14,6,   0.150,6,   1.630,2,   1.021,2,   0.086,2,  1982.4,2,  2285.7,2,   8.0639,2,    25.00,    0.23,2,    0.43,2,     2023,    0.40,6,  27.9936,2,        100
49UP20160703,         P9,      70,          1,         31,        515,2,20160803,       1830,      4.015,   137.0072,       4660,   126.8,  25.9506,  34.9512,2,  34.9394,4,    183.4,2,  182.02,2,    2.29,2,    0.06,2,   0.190,2,   1.776,2,   1.114,2,   0.086,2,  2010.7,2,  2298.1,2,   8.0303,2,    25.00,    0.07,2,    0.17,2,     2022,    1.87,2,  25.9820,2,        126
49UP20160703,         P9,      70,          1,         30,        097,2,20160803,       1830,      4.015,   137.0072,       4660,   154.1,  19.3753,  34.8159,2,  34.8268,4,    156.7,2,  168.59,2,    6.66,2,    0.02,2,   0.590,3,   2.146,6,   1.322,6,   0.055,6,  2078.7,2,  2291.1,2,   7.8896,2,    25.00,    0.01,2,    0.05,2,     2020,    7.20,2,  19.4489,2,        153
49UP20160703,         P9,      70,          1,         29,        102,2,20160803,       1830,      4.015,   137.0072,       4660,   203.4,  11.9419,  34.4619,2,  34.4641,2,    120.7,2,  120.62,2,   24.54,2,    0.00,2,   1.530,2,   2.074,2,   1.116,2,   0.023,2,  2165.2,2,  2283.6,2,   7.6749,2,    25.00,    0.00,2,    0.02,2,     2018,   21.21,2,  11.9538,2,        202
49UP20160703,         P9,      70,          1,         28,        472,3,20160803,       1830,      4.015,   137.0072,       4660,   253.3,   9.7811,  34.5000,2,  34.5339,4,    100.5,2,   95.05,2,   34.61,2,    0.00,2,   1.990,2,   1.382,2,   0.706,2,   0.023,2,  2210.0,2,  2297.6,2,    7.588,6,    25.00, -999.00,9, -999.00,9,     2017,   27.89,2,   9.7906,2,        252
49UP20160703,         P9,      70,          1,         27,        998,2,20160803,       1830,      4.015,   137.0072,       4660,   335.5,   8.5111,  34.5405,2,  34.5485,4,    105.3,2,  105.99,2,   38.78,2,    0.00,2,   2.090,2,   1.077,2,   0.543,2,   0.010,2,  2223.3,2,  2306.9,2,   7.5827,2,    25.00, -999.00,9, -999.00,9,     2014,   29.66,2,   8.5209,2,        333
49UP20160703,         P9,      70,          1,         26,        084,2,20160803,       1830,      4.015,   137.0072,       4660,   387.2,   8.0515,  34.5490,2,  34.5490,2,    112.9,2,  112.52,2,   38.17,2,    0.00,2,   2.120,2,-999.000,9,-999.000,9,-999.000,9,  2222.9,6,  2307.8,6,   7.5834,2,    25.00, -999.00,9, -999.00,9,     2012,   30.14,2,   8.0520,2,        385
49UP20160703,         P9,      70,          1,         25,        098,2,20160803,       1830,      4.015,   137.0072,       4660,   436.9,   7.6614,  34.5454,2,  34.5442,2,    111.9,2,  112.08,2,   39.66,2,    0.00,2,   2.180,2,   0.829,2,   0.409,2,   0.015,2,  2228.1,2,  2309.8,2,   7.5745,2,    25.00, -999.00,9, -999.00,9,     2010,   31.02,2,   7.6619,2,        434
49UP20160703,         P9,      70,          1,         24,        110,2,20160803,       1830,      4.015,   137.0072,       4660,   485.3,   7.3534,  34.5415,2,  34.5416,2,    115.5,2,  115.55,6,   40.73,6,    0.00,6,   2.210,6,-999.000,9,-999.000,9,-999.000,9,  2229.2,2,  2311.7,2,   7.5734,2,    25.00, -999.00,9, -999.00,9,     2008,   31.46,6,   7.3542,2,        482
49UP20160703,         P9,      70,          1,         23,        679,2,20160803,       1830,      4.015,   137.0072,       4660,   537.5,   6.9846,  34.5374,2,  34.5375,2,    114.7,2,  115.04,2,   43.53,2,    0.00,2,   2.270,2,   0.593,2,   0.303,2,   0.016,2,  2235.3,2,  2313.9,2,   7.5683,2,    25.00, -999.00,9, -999.00,9,     2006,   32.31,2,   6.9863,2,        534
49UP20160703,         P9,      70,          1,         22,        111,3,20160803,       1830,      4.015,   137.0072,       4660,   636.9,   6.3846,  34.5309,2,  34.5314,6,    104.7,2,  105.16,2,   51.58,2,    0.00,2,   2.410,2,   0.377,2,   0.183,2,   0.010,2,  2251.6,2,  2320.7,2,   7.5413,2,    25.00, -999.00,9, -999.00,9,     2003,   34.22,2,   6.3883,2,        632
49UP20160703,         P9,      70,          1,         21,        078,2,20160803,       1830,      4.015,   137.0072,       4660,   737.3,   5.7829,  34.5362,2,  34.5359,2,     88.7,2,   88.56,2,   62.39,2,    0.00,2,   2.620,2,   0.141,2,   0.064,2,   0.013,2,  2273.3,2,  2331.0,2,   7.5024,2,    25.00, -999.00,9, -999.00,9,     2001,   36.96,2,   5.7830,2,        732
49UP20160703,         P9,      70,          1,         20,        093,2,20160803,       1830,      4.015,   137.0072,       4660,   836.7,   5.3999,  34.5369,2,  34.5363,2,     91.1,2,   91.20,2,   69.89,2,    0.00,2,   2.630,2,   0.115,2,   0.050,2,   0.015,2,  2278.9,2,  2340.4,2,   7.5058,2,    25.00, -999.00,9, -999.00,9,     1957,   37.12,2,   5.4001,2,        830
49UP20160703,         P9,      70,          1,         19,        269,2,20160803,       1830,      4.015,   137.0072,       4660,   939.2,   4.9690,  34.5432,2,  34.5430,2,     92.6,2,   92.83,2,   78.05,2,    0.00,2,   2.660,2,   0.093,2,   0.041,2,   0.013,2,  2289.0,2,  2347.4,2,   7.5068,2,    25.00, -999.00,9, -999.00,9,     1953,   37.40,2,   4.9695,2,        932
49UP20160703,         P9,      70,          1,         18,        088,2,20160803,       1830,      4.015,   137.0072,       4660,  1080.0,   4.3588,  34.5573,2,  34.5579,2,     94.4,2,   94.97,2,   90.95,2,    0.00,2,   2.690,2,   0.066,2,   0.025,2,   0.009,2,  2303.1,2,  2362.8,2,   7.5089,2,    25.00, -999.00,9, -999.00,9,     1950,   37.82,2,   4.3600,2,       1071
49UP20160703,         P9,      70,          1,         17,        090,2,20160803,       1830,      4.015,   137.0072,       4660,  1283.1,   3.6263,  34.5785,2,  34.5787,2,     94.3,2,   94.41,2,  106.65,2,    0.00,2,   2.750,2,   0.026,2,   0.005,2,   0.011,2,  2319.6,2,  2378.6,2,   7.4978,2,    25.00, -999.00,9, -999.00,9,     1946,   38.66,2,   3.6266,2,       1272
49UP20160703,         P9,      70,          1,         16,        474,2,20160803,       1830,      4.015,   137.0072,       4660,  1485.2,   3.0012,  34.6002,2,  34.6004,2,     98.4,2,   98.74,2,  120.88,2,    0.00,2,   2.750,2,   0.017,6,   0.000,6,   0.011,6,  2332.4,2,  2392.3,2,   7.5042,2,    25.00, -999.00,9, -999.00,9,     1940,   38.78,2,   3.0017,2,       1472
49UP20160703,         P9,      70,          1,         15,        665,2,20160803,       1830,      4.015,   137.0072,       4660,  1688.4,   2.6515,  34.6150,2,  34.6153,6,    104.3,2,  104.43,2,  128.17,2,    0.00,2,   2.730,2,-999.000,9,-999.000,9,-999.000,9,  2339.7,2,  2399.0,2,    7.511,6,    25.00, -999.00,9, -999.00,9,     1936,   38.64,2,   2.6517,2,       1672
49UP20160703,         P9,      70,          1,         14,        999,3,20160803,       1830,      4.015,   137.0072,       4660,  1889.7,   2.3027,  34.6310,2,  34.6310,2,    111.9,2,  112.17,2,  135.12,2,    0.00,2,   2.690,2,-999.000,9,-999.000,9,-999.000,9,  2340.0,2,  2408.5,2,   7.5234,2,    25.00, -999.00,9, -999.00,9,     1931,   38.22,2,   2.3031,2,       1871
49UP20160703,         P9,      70,          1,         13,        667,2,20160803,       1830,      4.015,   137.0072,       4660,  2091.6,   2.0950,  34.6427,2,  34.6422,2,    116.5,2,  116.99,2,  139.51,2,    0.00,2,   2.670,2,   0.004,2,   0.000,2,   0.011,2,  2342.8,2,  2413.4,2,   7.5314,2,    25.00, -999.00,9, -999.00,9,     1926,   38.10,2,   2.0951,2,       2070
49UP20160703,         P9,      70,          1,         12,        074,2,20160803,       1830,      4.015,   137.0072,       4660,  2295.1,   1.9020,  34.6528,2,  34.6527,2,    124.7,2,  124.89,2,  141.64,2,    0.00,2,   2.630,2,-999.000,9,-999.000,9,-999.000,9,  2342.4,2,  2415.4,2,   7.5418,2,    25.00, -999.00,9, -999.00,9,     1922,   37.59,2,   1.9019,2,       2270
49UP20160703,         P9,      70,          1,         11,        268,2,20160803,       1830,      4.015,   137.0072,       4660,  2498.0,   1.7564,  34.6604,2,  34.6610,2,    132.6,2,  132.56,6,  142.25,6,    0.00,6,   2.590,6,   0.006,2,   0.000,2,   0.013,2,  2336.5,2,  2415.1,2,   7.5527,2,    25.00, -999.00,9, -999.00,9,     1918,   37.05,6,   1.7565,2,       2470
49UP20160703,         P9,      70,          1,         10,        267,2,20160803,       1830,      4.015,   137.0072,       4660,  2701.0,   1.6604,  34.6660,2,  34.6662,2,    138.0,2,  138.54,2,  142.66,2,    0.00,2,   2.560,2,-999.000,9,-999.000,9,-999.000,9,  2333.2,2,  2416.0,2,   7.5597,2,    25.00, -999.00,9, -999.00,9,     1914,   36.64,2,   1.6603,2,       2669
49UP20160703,         P9,      70,          1,          9,        518,2,20160803,       1830,      4.015,   137.0072,       4660,  2904.2,   1.5933,  34.6709,2,  34.6695,4,    142.8,2,  142.36,2,  141.90,2,    0.00,2,   2.530,2,-999.000,9,-999.000,9,-999.000,9,  2330.7,2,  2418.2,2,   7.5671,2,    25.00, -999.00,9, -999.00,9,     1910,   36.32,2,   1.5933,2,       2868
49UP20160703,         P9,      70,          1,          8,        470,2,20160803,       1830,      4.015,   137.0072,       4660,  3118.6,   1.5660,  34.6739,2,  34.6732,2,    145.4,2,  145.47,2,  142.58,2,    0.00,2,   2.520,2,   0.011,2,   0.000,2,   0.014,2,  2328.6,2,  2418.3,2,    7.574,2,    25.00, -999.00,9, -999.00,9,     1905,   36.15,2,   1.5660,2,       3079
49UP20160703,         P9,      70,          1,          7,        516,2,20160803,       1830,      4.015,   137.0072,       4660,  3373.4,   1.5526,  34.6764,2,  34.6763,2,    147.7,2,  147.68,2,  142.45,2,    0.00,2,   2.510,2,-999.000,9,-999.000,9,-999.000,9,  2331.6,2,  2418.9,2,   7.5791,2,    25.00, -999.00,9, -999.00,9,     1900,   36.02,2,   1.5526,2,       3328
49UP20160703,         P9,      70,          1,          6,        113,2,20160803,       1830,      4.015,   137.0072,       4660,  3629.3,   1.5444,  34.6791,2,  34.6790,2,    149.7,2,  150.08,2,  142.46,2,    0.00,2,   2.490,2,   0.006,2,   0.000,2,   0.012,2,  2328.7,6,  2419.6,6,     7.58,2,    25.00, -999.00,9, -999.00,9,     1855,   35.85,2,   1.5444,2,       3579
49UP20160703,         P9,      70,          1,          5,        658,2,20160803,       1830,      4.015,   137.0072,       4660,  3884.8,   1.5229,  34.6827,2,  34.6827,2,    152.9,2,  153.31,2,  141.75,2,    0.00,2,   2.480,2,-999.000,9,-999.000,9,-999.000,9,  2327.2,2,  2420.0,2,   7.5842,2,    25.00, -999.00,9, -999.00,9,     1850,   35.66,2,   1.5229,2,       3828
49UP20160703,         P9,      70,          1,          4,        471,2,20160803,       1830,      4.015,   137.0072,       4660,  4140.3,   1.5099,  34.6860,2,  34.6861,2,    155.8,2,  156.34,2,  141.28,2,    0.00,2,   2.460,2,   0.009,2,   0.000,2,   0.010,2,  2326.1,2,  2420.1,2,   7.5885,2,    25.00, -999.00,9, -999.00,9,     1844,   35.51,2,   1.5099,2,       4078
49UP20160703,         P9,      70,          1,          3,        104,2,20160803,       1830,      4.015,   137.0072,       4660,  4398.9,   1.5125,  34.6874,2,  34.6859,4,    158.6,2,  158.84,6,  140.54,6,    0.00,6,   2.440,6,-999.000,9,-999.000,9,-999.000,9,  2324.0,2,  2417.4,2,    7.594,2,    25.00, -999.00,9, -999.00,9,     1839,   35.28,6,   1.5126,2,       4330
49UP20160703,         P9,      70,          1,          2,        075,2,20160803,       1830,      4.015,   137.0072,       4660,  4655.1,   1.5398,  34.6876,2,  34.6876,6,    159.1,2,  159.67,2,  140.40,2,    0.00,2,   2.440,2,   0.004,2,   0.000,2,   0.017,2,  2321.6,2,  2416.2,2,   7.5929,2,    25.00, -999.00,9, -999.00,9,     1833,   35.19,2,   1.5401,2,       4579
49UP20160703,         P9,      70,          1,          1,        997,2,20160803,       1830,      4.015,   137.0072,       4660,  4724.5,   1.5469,  34.6875,2,  34.6879,2,    159.4,2,  159.42,2,  140.38,2,    0.00,2,   2.440,2,   0.011,2,   0.000,2,   0.008,2,  2323.1,2,  2417.4,2,   7.5953,2,    25.00, -999.00,9, -999.00,9,     1831,   35.21,2,   1.5470,2,       4647