BOTTLE,20230712CCHSIOENA
EXPOCODE,SECT_ID,STNNBR,CASTNO,SAMPNO,BTLNBR,BTLNBR_FLAG_W,DATE,TIME,LATITUDE,LONGITUDE,DEPTH,CTDPRS,CTDTMP,CTDSAL,CTDSAL_FLAG_W,SALNTY,SALNTY_FLAG_W,CTDOXY,CTDOXY_FLAG_W,OXYGEN,OXYGEN_FLAG_W,SILCAT,SILCAT_FLAG_W,NITRIT,NITRIT_FLAG_W,PHSPHT,PHSPHT_FLAG_W,CFC-11,CFC-11_FLAG_W,CFC-12,CFC-12_FLAG_W,CFC113,CFC113_FLAG_W,TCARBN,TCARBN_FLAG_W,ALKALI,ALKALI_FLAG_W,PH_TOT,PH_TOT_FLAG_W,PH_TMP,CHLORA,CHLORA_FLAG_W,PPHYTN,PPHYTN_FLAG_W,BTL_TIME,NO2+NO3,NO2+NO3_FLAG_W,SBE35,SBE35_FLAG_W,CTDDEPTH
,,,,,,,,,,,METERS,DBAR,ITS-90,PSS-78,,PSS-78,,UMOL/KG,,UMOL/KG,,UMOL/KG,,UMOL/KG,,UMOL/KG,,PMOL/KG,,PMOL/KG,,PMOL/KG,,UMOL/KG,,UMOL/KG,,,,DEG C,UG/KG,,UG/KG,,,UMOL/KG,,ITS-90,,METERS
49UP20160703,         P9,       7,          1,          0,        BUC,2,20160705,       1959,    32.3407,   137.0272,       4051,     0.0,  27.8385,  34.5327,2,-999.0000,9,    202.3,2,  201.49,2,    1.36,2,    0.00,2,   0.030,2,-999.000,9,-999.000,9,-999.000,9,  -999.0,9,  -999.0,9,-999.0000,9,  -999.00, -999.00,9, -999.00,9,     2128,    0.01,2,-999.0000,9,          0
49UP20160703,         P9,       7,          1,         35,        112,3,20160705,       1959,    32.3407,   137.0272,       4051,    10.4,  27.7376,  34.5247,2,  34.5237,2,    202.6,2,  202.42,2,    1.38,2,    0.00,2,   0.010,2,-999.000,9,-999.000,9,-999.000,9,  -999.0,9,  -999.0,9,-999.0000,9,  -999.00, -999.00,9, -999.00,9,     2156,    0.00,2,  27.7500,2,         10
49UP20160703,         P9,       7,          1,         34,        094,2,20160705,       1959,    32.3407,   137.0272,       4051,    10.6,  27.7458,  34.5241,2,  34.5242,2,    202.5,2,  202.55,2,    1.36,2,    0.00,2,   0.010,2,-999.000,9,-999.000,9,-999.000,9,  -999.0,9,  -999.0,9,-999.0000,9,  -999.00, -999.00,9, -999.00,9,     2156,    0.00,2,  27.7371,2,         11
49UP20160703,         P9,       7,          1,         33,        469,2,20160705,       1959,    32.3407,   137.0272,       4051,    25.9,  27.6050,  34.5107,2,  34.5117,2,    202.8,2,  202.98,2,    1.39,2,    0.00,2,   0.010,2,-999.000,9,-999.000,9,-999.000,9,  -999.0,9,  -999.0,9,-999.0000,9,  -999.00, -999.00,9, -999.00,9,     2154,    0.00,2,  27.6034,2,         26
49UP20160703,         P9,       7,          1,         32,        089,2,20160705,       1959,    32.3407,   137.0272,       4051,    50.5,  24.4807,  34.8584,2,  34.8543,2,    213.0,2,  212.16,2,    1.46,2,    0.00,2,   0.030,2,-999.000,9,-999.000,9,-999.000,9,  -999.0,9,  -999.0,9,-999.0000,9,  -999.00, -999.00,9, -999.00,9,     2149,    0.00,2,  24.4930,2,         50
49UP20160703,         P9,       7,          1,         31,        515,2,20160705,       1959,    32.3407,   137.0272,       4051,    75.7,  23.0152,  34.8305,2,  34.8617,4,    217.2,2,  218.82,2,    1.46,2,    0.00,2,   0.020,2,-999.000,9,-999.000,9,-999.000,9,  -999.0,9,  -999.0,9,-999.0000,9,  -999.00, -999.00,9, -999.00,9,     2148,    0.00,2,  23.0179,2,         75
49UP20160703,         P9,       7,          1,         30,        097,2,20160705,       1959,    32.3407,   137.0272,       4051,   100.2,  20.9446,  34.8500,2,  34.8535,2,    234.8,2,  232.74,2,    1.65,2,    0.00,2,   0.010,2,-999.000,9,-999.000,9,-999.000,9,  -999.0,9,  -999.0,9,-999.0000,9,  -999.00, -999.00,9, -999.00,9,     2147,    0.00,2,  20.9469,2,         99
49UP20160703,         P9,       7,          1,         29,        102,2,20160705,       1959,    32.3407,   137.0272,       4051,   126.2,  19.8735,  34.8891,2,  34.8894,2,    227.6,2,  226.97,2,    1.65,2,    0.00,2,   0.030,2,-999.000,9,-999.000,9,-999.000,9,  -999.0,9,  -999.0,9,-999.0000,9,  -999.00, -999.00,9, -999.00,9,     2145,    0.00,2,  19.8724,2,        125
49UP20160703,         P9,       7,          1,         28,        472,2,20160705,       1959,    32.3407,   137.0272,       4051,   151.3,  19.5730,  34.8891,2,  34.8890,2,    218.7,2,  217.88,2,    1.79,2,    0.14,2,   0.070,2,-999.000,9,-999.000,9,-999.000,9,  -999.0,9,  -999.0,9,-999.0000,9,  -999.00, -999.00,9, -999.00,9,     2144,    0.88,2,  19.5725,2,        150
49UP20160703,         P9,       7,          1,         27,        998,2,20160705,       1959,    32.3407,   137.0272,       4051,   201.8,  19.0137,  34.8641,2,  34.8643,2,    214.1,2,  214.01,2,    2.39,2,    0.01,2,   0.140,2,-999.000,9,-999.000,9,-999.000,9,  -999.0,9,  -999.0,9,-999.0000,9,  -999.00, -999.00,9, -999.00,9,     2142,    1.96,2,  19.0143,2,        200
49UP20160703,         P9,       7,          1,         26,        084,2,20160705,       1959,    32.3407,   137.0272,       4051,   252.0,  18.5228,  34.8368,2,  34.8366,2,    213.9,2,  213.98,2,    2.71,2,    0.01,2,   0.170,2,-999.000,9,-999.000,9,-999.000,9,  -999.0,9,  -999.0,9,-999.0000,9,  -999.00, -999.00,9, -999.00,9,     2140,    2.46,2,  18.5223,2,        250
49UP20160703,         P9,       7,          1,         25,        098,2,20160705,       1959,    32.3407,   137.0272,       4051,   302.4,  17.7017,  34.7712,2,  34.7701,2,    204.5,2,  204.68,2,    3.76,2,    0.00,2,   0.280,2,-999.000,9,-999.000,9,-999.000,9,  -999.0,9,  -999.0,9,-999.0000,9,  -999.00, -999.00,9, -999.00,9,     2138,    4.22,2,  17.7010,2,        300
49UP20160703,         P9,       7,          1,         24,        110,2,20160705,       1959,    32.3407,   137.0272,       4051,   402.1,  16.1194,  34.6422,2,  34.6411,6,    193.8,2,  193.88,2,    7.33,2,    0.00,2,   0.510,2,-999.000,9,-999.000,9,-999.000,9,  -999.0,9,  -999.0,9,-999.0000,9,  -999.00, -999.00,9, -999.00,9,     2135,    7.60,2,  16.1181,2,        399
49UP20160703,         P9,       7,          1,         23,        679,2,20160705,       1959,    32.3407,   137.0272,       4051,   504.7,  13.5548,  34.4617,2,  34.4617,2,    173.9,2,  174.44,6,   16.45,6,    0.00,6,   0.930,6,-999.000,9,-999.000,9,-999.000,9,  -999.0,9,  -999.0,9,-999.0000,9,  -999.00, -999.00,9, -999.00,9,     2132,   13.36,6,  13.5575,2,        501
49UP20160703,         P9,       7,          1,         22,        111,2,20160705,       1959,    32.3407,   137.0272,       4051,   607.2,  10.4226,  34.2629,2,  34.2649,2,    163.0,2,  163.15,2,   30.50,2,    0.00,2,   1.390,2,-999.000,9,-999.000,9,-999.000,9,  -999.0,9,  -999.0,9,-999.0000,9,  -999.00, -999.00,9, -999.00,9,     2127,   19.73,2,  10.4254,2,        602
49UP20160703,         P9,       7,          1,         21,        078,2,20160705,       1959,    32.3407,   137.0272,       4051,   706.4,   8.0402,  34.1779,2,  34.1788,2,    135.0,2,  134.38,2,   50.31,2,    0.00,2,   1.900,2,-999.000,9,-999.000,9,-999.000,9,  -999.0,9,  -999.0,9,-999.0000,9,  -999.00, -999.00,9, -999.00,9,     2125,   26.43,2,   8.0422,2,        700
49UP20160703,         P9,       7,          1,         20,        093,2,20160705,       1959,    32.3407,   137.0272,       4051,   807.7,   6.1757,  34.1570,2,  34.1582,2,    105.4,2,  105.32,2,   71.65,2,    0.00,2,   2.330,2,-999.000,9,-999.000,9,-999.000,9,  -999.0,9,  -999.0,9,-999.0000,9,  -999.00, -999.00,9, -999.00,9,     2121,   32.23,2,   6.1787,2,        800
49UP20160703,         P9,       7,          1,         19,        269,2,20160705,       1959,    32.3407,   137.0272,       4051,   909.4,   5.2507,  34.2440,2,  34.2433,2,     80.5,2,   80.63,2,   89.71,2,    0.00,2,   2.590,2,-999.000,9,-999.000,9,-999.000,9,  -999.0,9,  -999.0,9,-999.0000,9,  -999.00, -999.00,9, -999.00,9,     2118,   35.85,2,   5.2529,2,        901
49UP20160703,         P9,       7,          1,         18,        088,2,20160705,       1959,    32.3407,   137.0272,       4051,  1008.7,   4.2607,  34.3154,2,  34.3141,2,     64.0,2,   63.99,2,  109.11,2,    0.00,2,   2.780,2,-999.000,9,-999.000,9,-999.000,9,  -999.0,9,  -999.0,9,-999.0000,9,  -999.00, -999.00,9, -999.00,9,     2114,   38.73,2,   4.2637,2,        999
49UP20160703,         P9,       7,          1,         17,        090,2,20160705,       1959,    32.3407,   137.0272,       4051,  1212.2,   3.3539,  34.4188,2,  34.4183,2,     60.6,2,   60.34,2,  127.81,2,    0.00,2,   2.890,2,-999.000,9,-999.000,9,-999.000,9,  -999.0,9,  -999.0,9,-999.0000,9,  -999.00, -999.00,9, -999.00,9,     2109,   40.28,2,   3.3542,2,       1200
49UP20160703,         P9,       7,          1,         16,        474,2,20160705,       1959,    32.3407,   137.0272,       4051,  1415.0,   2.8624,  34.4798,2,  34.4789,6,     66.8,2,   66.67,2,  137.14,2,    0.00,2,   2.890,2,-999.000,9,-999.000,9,-999.000,9,  -999.0,9,  -999.0,9,-999.0000,9,  -999.00, -999.00,9, -999.00,9,     2104,   40.41,2,   2.8630,2,       1400
49UP20160703,         P9,       7,          1,         15,        665,2,20160705,       1959,    32.3407,   137.0272,       4051,  1617.6,   2.5060,  34.5270,2,  34.5269,2,     77.2,2,   76.90,6,  142.94,6,    0.00,6,   2.860,6,-999.000,9,-999.000,9,-999.000,9,  -999.0,9,  -999.0,9,-999.0000,9,  -999.00, -999.00,9, -999.00,9,     2058,   40.08,6,   2.5060,2,       1600
49UP20160703,         P9,       7,          1,         13,        667,2,20160705,       1959,    32.3407,   137.0272,       4051,  1820.1,   2.2382,  34.5654,2,  34.5653,2,     89.6,2,   89.53,2,  145.56,2,    0.00,2,   2.800,2,-999.000,9,-999.000,9,-999.000,9,  -999.0,9,  -999.0,9,-999.0000,9,  -999.00, -999.00,9, -999.00,9,     2053,   39.45,2,   2.2383,2,       1800
49UP20160703,         P9,       7,          1,         14,        999,2,20160705,       1959,    32.3407,   137.0272,       4051,  1820.7,   2.2375,  34.5655,2,  34.5651,2,     89.6,2,   89.48,2,  145.68,2,    0.00,2,   2.800,2,-999.000,9,-999.000,9,-999.000,9,  -999.0,9,  -999.0,9,-999.0000,9,  -999.00, -999.00,9, -999.00,9,     2053,   39.45,2,   2.2381,2,       1800
49UP20160703,         P9,       7,          1,         12,        074,2,20160705,       1959,    32.3407,   137.0272,       4051,  2024.4,   2.0403,  34.5948,2,  34.5948,2,    102.1,2,  102.09,2,  146.41,2,    0.00,2,   2.740,2,-999.000,9,-999.000,9,-999.000,9,  -999.0,9,  -999.0,9,-999.0000,9,  -999.00, -999.00,9, -999.00,9,     2048,   38.74,2,   2.0403,2,       2001
49UP20160703,         P9,       7,          1,         11,        268,2,20160705,       1959,    32.3407,   137.0272,       4051,  2228.4,   1.8938,  34.6177,2,  34.6177,2,    114.0,2,  113.91,2,  145.61,2,    0.00,2,   2.690,2,-999.000,9,-999.000,9,-999.000,9,  -999.0,9,  -999.0,9,-999.0000,9,  -999.00, -999.00,9, -999.00,9,     2043,   38.06,2,   1.8940,2,       2201
49UP20160703,         P9,       7,          1,         10,        267,2,20160705,       1959,    32.3407,   137.0272,       4051,  2431.7,   1.7905,  34.6336,2,  34.6336,2,    123.0,2,  123.20,2,  144.68,2,    0.00,2,   2.640,2,-999.000,9,-999.000,9,-999.000,9,  -999.0,9,  -999.0,9,-999.0000,9,  -999.00, -999.00,9, -999.00,9,     2038,   37.53,2,   1.7905,2,       2401
49UP20160703,         P9,       7,          1,          9,        518,2,20160705,       1959,    32.3407,   137.0272,       4051,  2635.2,   1.7048,  34.6465,2,  34.6460,2,    130.5,2,  130.17,2,  144.40,2,    0.00,2,   2.610,2,-999.000,9,-999.000,9,-999.000,9,  -999.0,9,  -999.0,9,-999.0000,9,  -999.00, -999.00,9, -999.00,9,     2033,   37.03,2,   1.7048,2,       2600
49UP20160703,         P9,       7,          1,          8,        470,2,20160705,       1959,    32.3407,   137.0272,       4051,  2836.9,   1.6389,  34.6567,2,  34.6558,6,    137.1,2,  136.71,2,  143.31,2,    0.00,2,   2.580,2,-999.000,9,-999.000,9,-999.000,9,  -999.0,9,  -999.0,9,-999.0000,9,  -999.00, -999.00,9, -999.00,9,     2028,   36.62,2,   1.6390,2,       2798
49UP20160703,         P9,       7,          1,          7,        516,2,20160705,       1959,    32.3407,   137.0272,       4051,  3042.2,   1.5718,  34.6665,2,  34.6659,2,    143.5,2,  143.44,2,  142.85,6,    0.00,6,   2.550,6,-999.000,9,-999.000,9,-999.000,9,  -999.0,9,  -999.0,9,-999.0000,9,  -999.00, -999.00,9, -999.00,9,     2023,   36.28,6,   1.5718,2,       2999
49UP20160703,         P9,       7,          1,          6,        113,2,20160705,       1959,    32.3407,   137.0272,       4051,  3299.1,   1.5200,  34.6749,2,  34.6753,2,    149.3,2,  149.24,2,  142.20,2,    0.00,2,   2.510,2,-999.000,9,-999.000,9,-999.000,9,  -999.0,9,  -999.0,9,-999.0000,9,  -999.00, -999.00,9, -999.00,9,     2017,   35.93,2,   1.5201,2,       3251
49UP20160703,         P9,       7,          1,          5,        658,2,20160705,       1959,    32.3407,   137.0272,       4051,  3554.6,   1.5106,  34.6787,2,  34.6788,2,    151.9,2,  151.85,2,  141.70,2,    0.00,2,   2.510,2,-999.000,9,-999.000,9,-999.000,9,  -999.0,9,  -999.0,9,-999.0000,9,  -999.00, -999.00,9, -999.00,9,     2012,   35.82,2,   1.5105,2,       3500
49UP20160703,         P9,       7,          1,          4,        471,2,20160705,       1959,    32.3407,   137.0272,       4051,  3810.8,   1.5228,  34.6804,2,  34.6808,6,    153.2,2,  153.22,6,  141.47,6,    0.00,6,   2.500,6,-999.000,9,-999.000,9,-999.000,9,  -999.0,9,  -999.0,9,-999.0000,9,  -999.00, -999.00,9, -999.00,9,     2006,   35.72,6,   1.5228,2,       3750
49UP20160703,         P9,       7,          1,          2,        075,2,20160705,       1959,    32.3407,   137.0272,       4051,  4108.6,   1.5493,  34.6812,2,  34.6811,2,    153.9,2,  153.87,2,  141.35,2,    0.00,2,   2.500,2,-999.000,9,-999.000,9,-999.000,9,  -999.0,9,  -999.0,9,-999.0000,9,  -999.00, -999.00,9, -999.00,9,     1959,   35.70,2,   1.5494,2,       4041
49UP20160703,         P9,       7,          1,          3,        104,2,20160705,       1959,    32.3407,   137.0272,       4051,  4108.9,   1.5492,  34.6812,2,  34.6810,2,    153.9,2,  153.93,2,  141.42,2,    0.00,2,   2.500,2,-999.000,9,-999.000,9,-999.000,9,  -999.0,9,  -999.0,9,-999.0000,9,  -999.00, -999.00,9, -999.00,9,     2000,   35.69,2,   1.5493,2,       4041