BOTTLE,20230712CCHSIOENA
EXPOCODE,SECT_ID,STNNBR,CASTNO,SAMPNO,BTLNBR,BTLNBR_FLAG_W,DATE,TIME,LATITUDE,LONGITUDE,DEPTH,CTDPRS,CTDTMP,CTDSAL,CTDSAL_FLAG_W,SALNTY,SALNTY_FLAG_W,CTDOXY,CTDOXY_FLAG_W,OXYGEN,OXYGEN_FLAG_W,SILCAT,SILCAT_FLAG_W,NITRIT,NITRIT_FLAG_W,PHSPHT,PHSPHT_FLAG_W,CFC-11,CFC-11_FLAG_W,CFC-12,CFC-12_FLAG_W,CFC113,CFC113_FLAG_W,TCARBN,TCARBN_FLAG_W,ALKALI,ALKALI_FLAG_W,PH_TOT,PH_TOT_FLAG_W,PH_TMP,CHLORA,CHLORA_FLAG_W,PPHYTN,PPHYTN_FLAG_W,BTL_TIME,NO2+NO3,NO2+NO3_FLAG_W,SBE35,SBE35_FLAG_W,CTDDEPTH
,,,,,,,,,,,METERS,DBAR,ITS-90,PSS-78,,PSS-78,,UMOL/KG,,UMOL/KG,,UMOL/KG,,UMOL/KG,,UMOL/KG,,PMOL/KG,,PMOL/KG,,PMOL/KG,,UMOL/KG,,UMOL/KG,,,,DEG C,UG/KG,,UG/KG,,,UMOL/KG,,ITS-90,,METERS
49UP20160703,         P9,      71,          1,          0,        BUC,2,20160804,       0217,     3.5213,   136.9992,       4484,     0.0,  30.2188,  33.9908,2,-999.0000,9,    195.3,2,  195.11,2,    1.12,2,    0.00,2,   0.040,2,-999.000,9,-999.000,9,-999.000,9,  -999.0,9,  -999.0,9,-999.0000,9,  -999.00, -999.00,9, -999.00,9,      352,    0.03,2,-999.0000,9,          0
49UP20160703,         P9,      71,          1,         36,        109,2,20160804,       0217,     3.5213,   136.9992,       4484,    10.5,  30.1957,  33.9911,2,  33.9906,2,    195.5,2,  195.31,2,    1.10,2,    0.00,2,   0.040,2,-999.000,9,-999.000,9,-999.000,9,  -999.0,9,  -999.0,9,-999.0000,9,  -999.00, -999.00,9, -999.00,9,      429,    0.01,2,  30.1995,2,         10
49UP20160703,         P9,      71,          1,         35,        112,2,20160804,       0217,     3.5213,   136.9992,       4484,    25.0,  30.1461,  33.9905,2,  33.9897,2,    195.8,2,  195.80,2,    1.14,2,    0.00,2,   0.040,2,-999.000,9,-999.000,9,-999.000,9,  -999.0,9,  -999.0,9,-999.0000,9,  -999.00, -999.00,9, -999.00,9,      428,    0.04,2,  30.1443,2,         25
49UP20160703,         P9,      71,          1,         34,        094,2,20160804,       0217,     3.5213,   136.9992,       4484,    49.5,  30.2478,  34.1742,2,  34.1536,4,    197.6,2,  197.44,2,    1.15,2,    0.00,2,   0.030,2,-999.000,9,-999.000,9,-999.000,9,  -999.0,9,  -999.0,9,-999.0000,9,  -999.00, -999.00,9, -999.00,9,      426,    0.03,2,  30.2563,2,         49
49UP20160703,         P9,      71,          1,         33,        469,2,20160804,       0217,     3.5213,   136.9992,       4484,    77.0,  29.8626,  34.4603,2,  34.4548,2,    199.7,2,  199.64,2,    1.30,2,    0.00,2,   0.040,2,-999.000,9,-999.000,9,-999.000,9,  -999.0,9,  -999.0,9,-999.0000,9,  -999.00, -999.00,9, -999.00,9,      424,    0.00,2,  29.8635,2,         77
49UP20160703,         P9,      71,          1,         32,        089,2,20160804,       0217,     3.5213,   136.9992,       4484,    99.6,  28.3117,  34.6292,2,  34.6245,2,    190.7,2,  191.09,2,    1.57,2,    0.03,2,   0.080,2,-999.000,9,-999.000,9,-999.000,9,  -999.0,9,  -999.0,9,-999.0000,9,  -999.00, -999.00,9, -999.00,9,      420,    0.05,2,  28.3241,2,         99
49UP20160703,         P9,      71,          1,         31,        515,2,20160804,       0217,     3.5213,   136.9992,       4484,   125.0,  25.6256,  34.7925,2,  34.7933,2,    167.2,2,  167.29,2,    3.14,2,    0.05,2,   0.300,2,-999.000,9,-999.000,9,-999.000,9,  -999.0,9,  -999.0,9,-999.0000,9,  -999.00, -999.00,9, -999.00,9,      419,    3.39,2,  25.6160,2,        124
49UP20160703,         P9,      71,          1,         30,        097,2,20160804,       0217,     3.5213,   136.9992,       4484,   153.5,  21.5789,  34.8525,2,  34.8440,2,    166.6,2,  169.03,2,    4.20,2,    0.03,2,   0.390,2,-999.000,9,-999.000,9,-999.000,9,  -999.0,9,  -999.0,9,-999.0000,9,  -999.00, -999.00,9, -999.00,9,      417,    4.18,2,  21.7207,2,        153
49UP20160703,         P9,      71,          1,         29,        102,2,20160804,       0217,     3.5213,   136.9992,       4484,   203.7,  13.6554,  34.5380,2,  34.5471,2,    128.6,2,  128.90,2,   18.15,2,    0.01,2,   1.250,2,-999.000,9,-999.000,9,-999.000,9,  -999.0,9,  -999.0,9,-999.0000,9,  -999.00, -999.00,9, -999.00,9,      414,   17.46,2,  13.6783,2,        202
49UP20160703,         P9,      71,          1,         28,        472,2,20160804,       0217,     3.5213,   136.9992,       4484,   253.9,   9.7841,  34.4294,2,  34.4320,2,    100.1,2,  101.27,2,   34.77,2,    0.00,2,   1.910,2,-999.000,9,-999.000,9,-999.000,9,  -999.0,9,  -999.0,9,-999.0000,9,  -999.00, -999.00,9, -999.00,9,      412,   26.77,2,   9.7944,2,        252
49UP20160703,         P9,      71,          1,         27,        998,2,20160804,       0217,     3.5213,   136.9992,       4484,   282.7,   8.7870,  34.4783,2,  34.4751,2,     97.9,2,   97.59,6,   40.38,6,    0.00,6,   2.080,6,-999.000,9,-999.000,9,-999.000,9,  -999.0,9,  -999.0,9,-999.0000,9,  -999.00, -999.00,9, -999.00,9,      410,   29.46,6,   8.7893,2,        281
49UP20160703,         P9,      71,          1,         26,        084,2,20160804,       0217,     3.5213,   136.9992,       4484,   325.4,   8.3453,  34.5363,2,  34.5331,6,    105.4,2,  105.20,2,   40.06,2,    0.00,2,   2.100,2,-999.000,9,-999.000,9,-999.000,9,  -999.0,9,  -999.0,9,-999.0000,9,  -999.00, -999.00,9, -999.00,9,      408,   29.87,2,   8.3520,2,        323
49UP20160703,         P9,      71,          1,         25,        098,2,20160804,       0217,     3.5213,   136.9992,       4484,   373.1,   7.9051,  34.5389,2,  34.5394,2,    110.0,2,  109.28,2,   39.80,2,    0.00,2,   2.130,2,-999.000,9,-999.000,9,-999.000,9,  -999.0,9,  -999.0,9,-999.0000,9,  -999.00, -999.00,9, -999.00,9,      405,   30.55,2,   7.9090,2,        371
49UP20160703,         P9,      71,          1,         24,        110,2,20160804,       0217,     3.5213,   136.9992,       4484,   424.5,   7.5782,  34.5405,2,  34.5401,2,    112.3,2,  111.92,2,   40.66,2,    0.00,2,   2.170,2,-999.000,9,-999.000,9,-999.000,9,  -999.0,9,  -999.0,9,-999.0000,9,  -999.00, -999.00,9, -999.00,9,      402,   31.14,2,   7.5783,2,        422
49UP20160703,         P9,      71,          1,         23,        679,2,20160804,       0217,     3.5213,   136.9992,       4484,   475.8,   7.2002,  34.5376,2,  34.5378,2,    115.6,2,  115.42,2,   41.98,2,    0.00,2,   2.210,2,-999.000,9,-999.000,9,-999.000,9,  -999.0,9,  -999.0,9,-999.0000,9,  -999.00, -999.00,9, -999.00,9,      359,   31.67,2,   7.2010,2,        473
49UP20160703,         P9,      71,          1,         22,        111,2,20160804,       0217,     3.5213,   136.9992,       4484,   576.5,   6.7854,  34.5342,2,  34.5342,2,    111.6,2,  111.33,2,   46.07,2,    0.00,2,   2.310,2,-999.000,9,-999.000,9,-999.000,9,  -999.0,9,  -999.0,9,-999.0000,9,  -999.00, -999.00,9, -999.00,9,      355,   32.92,2,   6.7855,2,        573
49UP20160703,         P9,      71,          1,         21,        078,2,20160804,       0217,     3.5213,   136.9992,       4484,   673.8,   6.1132,  34.5288,2,  34.5290,2,    105.1,2,  104.72,2,   55.01,2,    0.00,2,   2.430,3,-999.000,9,-999.000,9,-999.000,9,  -999.0,9,  -999.0,9,-999.0000,9,  -999.00, -999.00,9, -999.00,9,      351,   34.72,2,   6.1117,2,        669
49UP20160703,         P9,      71,          1,         20,        093,2,20160804,       0217,     3.5213,   136.9992,       4484,   774.0,   5.5861,  34.5358,2,  34.5357,2,     91.2,2,   91.94,2,   64.66,2,    0.00,2,   2.600,2,-999.000,9,-999.000,9,-999.000,9,  -999.0,9,  -999.0,9,-999.0000,9,  -999.00, -999.00,9, -999.00,9,      348,   36.89,2,   5.5857,2,        768
49UP20160703,         P9,      71,          1,         19,        269,2,20160804,       0217,     3.5213,   136.9992,       4484,   876.9,   5.0440,  34.5418,2,  34.5421,2,     92.9,2,   93.68,2,   75.18,2,    0.00,2,   2.630,2,-999.000,9,-999.000,9,-999.000,9,  -999.0,9,  -999.0,9,-999.0000,9,  -999.00, -999.00,9, -999.00,9,      344,   37.26,2,   5.0429,2,        870
49UP20160703,         P9,      71,          1,         18,        088,2,20160804,       0217,     3.5213,   136.9992,       4484,   976.2,   4.6633,  34.5499,2,  34.5502,2,     93.5,2,   94.26,6,   83.30,6,    0.00,6,   2.660,6,-999.000,9,-999.000,9,-999.000,9,  -999.0,9,  -999.0,9,-999.0000,9,  -999.00, -999.00,9, -999.00,9,      341,   37.64,6,   4.6630,2,        969
49UP20160703,         P9,      71,          1,         17,        090,2,20160804,       0217,     3.5213,   136.9992,       4484,  1137.8,   4.1017,  34.5646,2,  34.5647,6,     93.7,2,   94.04,2,   96.13,2,    0.00,2,   2.700,2,-999.000,9,-999.000,9,-999.000,9,  -999.0,9,  -999.0,9,-999.0000,9,  -999.00, -999.00,9, -999.00,9,      337,   38.27,2,   4.1015,2,       1128
49UP20160703,         P9,      71,          1,         16,        474,2,20160804,       0217,     3.5213,   136.9992,       4484,  1340.7,   3.4082,  34.5852,2,  34.5854,2,     96.2,2,   96.56,2,  111.59,2,    0.00,2,   2.730,2,-999.000,9,-999.000,9,-999.000,9,  -999.0,9,  -999.0,9,-999.0000,9,  -999.00, -999.00,9, -999.00,9,      331,   38.58,2,   3.4083,2,       1329
49UP20160703,         P9,      71,          1,         15,        665,2,20160804,       0217,     3.5213,   136.9992,       4484,  1545.0,   2.8644,  34.6063,2,  34.6060,2,    100.6,2,  100.70,6,  123.06,6,    0.00,6,   2.730,6,-999.000,9,-999.000,9,-999.000,9,  -999.0,9,  -999.0,9,-999.0000,9,  -999.00, -999.00,9, -999.00,9,      327,   38.78,6,   2.8643,2,       1531
49UP20160703,         P9,      71,          1,         14,        999,2,20160804,       0217,     3.5213,   136.9992,       4484,  1744.4,   2.4861,  34.6227,2,  34.6233,2,    108.0,2,  108.07,2,  130.78,2,    0.00,2,   2.700,2,-999.000,9,-999.000,9,-999.000,9,  -999.0,9,  -999.0,9,-999.0000,9,  -999.00, -999.00,9, -999.00,9,      322,   38.41,2,   2.4859,2,       1728
49UP20160703,         P9,      71,          1,         13,        667,2,20160804,       0217,     3.5213,   136.9992,       4484,  1947.5,   2.2037,  34.6368,2,  34.6370,6,    113.2,2,  113.45,2,  136.62,2,    0.00,2,   2.670,2,-999.000,9,-999.000,9,-999.000,9,  -999.0,9,  -999.0,9,-999.0000,9,  -999.00, -999.00,9, -999.00,9,      317,   38.20,2,   2.2034,2,       1928
49UP20160703,         P9,      71,          1,         12,        074,2,20160804,       0217,     3.5213,   136.9992,       4484,  2150.0,   1.9689,  34.6488,2,  34.6488,2,    121.7,2,  121.76,2,  140.45,2,    0.00,2,   2.630,2,-999.000,9,-999.000,9,-999.000,9,  -999.0,9,  -999.0,9,-999.0000,9,  -999.00, -999.00,9, -999.00,9,      313,   37.80,2,   1.9690,2,       2127
49UP20160703,         P9,      71,          1,         11,        268,2,20160804,       0217,     3.5213,   136.9992,       4484,  2353.9,   1.8242,  34.6568,2,  34.6567,2,    128.3,2,  128.13,2,  141.76,2,    0.00,2,   2.590,2,-999.000,9,-999.000,9,-999.000,9,  -999.0,9,  -999.0,9,-999.0000,9,  -999.00, -999.00,9, -999.00,9,      308,   37.34,2,   1.8240,2,       2328
49UP20160703,         P9,      71,          1,         10,        267,2,20160804,       0217,     3.5213,   136.9992,       4484,  2557.4,   1.7190,  34.6623,2,  34.6621,2,    134.9,2,  135.18,2,  141.98,2,    0.00,2,   2.560,2,-999.000,9,-999.000,9,-999.000,9,  -999.0,9,  -999.0,9,-999.0000,9,  -999.00, -999.00,9, -999.00,9,      303,   36.90,2,   1.7189,2,       2528
49UP20160703,         P9,      71,          1,          9,        518,2,20160804,       0217,     3.5213,   136.9992,       4484,  2765.0,   1.6179,  34.6689,2,  34.6692,2,    140.7,2,  140.56,2,  142.43,2,    0.00,2,   2.530,2,-999.000,9,-999.000,9,-999.000,9,  -999.0,9,  -999.0,9,-999.0000,9,  -999.00, -999.00,9, -999.00,9,      258,   36.54,2,   1.6178,2,       2732
49UP20160703,         P9,      71,          1,          8,        470,2,20160804,       0217,     3.5213,   136.9992,       4484,  2967.8,   1.5820,  34.6721,2,  34.6723,2,    143.6,2,  143.78,2,  142.17,2,    0.00,2,   2.510,2,-999.000,9,-999.000,9,-999.000,9,  -999.0,9,  -999.0,9,-999.0000,9,  -999.00, -999.00,9, -999.00,9,      252,   36.29,2,   1.5821,2,       2931
49UP20160703,         P9,      71,          1,          7,        516,2,20160804,       0217,     3.5213,   136.9992,       4484,  3213.5,   1.5515,  34.6755,2,  34.6763,2,    146.8,2,  146.96,6,  142.30,6,    0.00,6,   2.500,6,-999.000,9,-999.000,9,-999.000,9,  -999.0,9,  -999.0,9,-999.0000,9,  -999.00, -999.00,9, -999.00,9,      245,   36.09,6,   1.5516,2,       3172
49UP20160703,         P9,      71,          1,          6,        113,2,20160804,       0217,     3.5213,   136.9992,       4484,  3468.2,   1.5578,  34.6768,2,  34.6768,6,    147.8,2,  147.79,2,  142.30,2,    0.00,2,   2.490,2,-999.000,9,-999.000,9,-999.000,9,  -999.0,9,  -999.0,9,-999.0000,9,  -999.00, -999.00,9, -999.00,9,      240,   35.97,2,   1.5578,2,       3421
49UP20160703,         P9,      71,          1,          5,        658,2,20160804,       0217,     3.5213,   136.9992,       4484,  3723.0,   1.5432,  34.6800,2,  34.6795,2,    150.2,2,  149.93,2,  142.06,2,    0.00,2,   2.480,2,-999.000,9,-999.000,9,-999.000,9,  -999.0,9,  -999.0,9,-999.0000,9,  -999.00, -999.00,9, -999.00,9,      235,   35.82,2,   1.5432,2,       3670
49UP20160703,         P9,      71,          1,          4,        471,2,20160804,       0217,     3.5213,   136.9992,       4484,  3980.0,   1.5293,  34.6834,2,  34.6837,2,    152.6,2,  152.62,2,  142.13,2,    0.00,2,   2.460,2,-999.000,9,-999.000,9,-999.000,9,  -999.0,9,  -999.0,9,-999.0000,9,  -999.00, -999.00,9, -999.00,9,      229,   35.67,2,   1.5292,2,       3921
49UP20160703,         P9,      71,          1,          3,        104,2,20160804,       0217,     3.5213,   136.9992,       4484,  4236.9,   1.5129,  34.6864,2,  34.6851,4,    156.7,2,  158.48,3,  141.23,2,    0.00,2,   2.440,2,-999.000,9,-999.000,9,-999.000,9,  -999.0,9,  -999.0,9,-999.0000,9,  -999.00, -999.00,9, -999.00,9,      224,   35.45,2,   1.5131,2,       4172
49UP20160703,         P9,      71,          1,          1,        997,2,20160804,       0217,     3.5213,   136.9992,       4484,  4522.7,   1.5242,  34.6875,2,  34.6887,2,    159.1,2,  158.81,2,  140.45,2,    0.00,2,   2.430,2,-999.000,9,-999.000,9,-999.000,9,  -999.0,9,  -999.0,9,-999.0000,9,  -999.00, -999.00,9, -999.00,9,      218,   35.27,2,   1.5240,2,       4451
49UP20160703,         P9,      71,          1,          2,        075,2,20160804,       0217,     3.5213,   136.9992,       4484,  4523.2,   1.5239,  34.6876,2,  34.6881,2,    159.0,2,  158.89,2,  140.38,2,    0.00,2,   2.430,2,-999.000,9,-999.000,9,-999.000,9,  -999.0,9,  -999.0,9,-999.0000,9,  -999.00, -999.00,9, -999.00,9,      218,   35.21,2,   1.5241,2,       4451