BOTTLE,20230712CCHSIOENA
EXPOCODE,SECT_ID,STNNBR,CASTNO,SAMPNO,BTLNBR,BTLNBR_FLAG_W,DATE,TIME,LATITUDE,LONGITUDE,DEPTH,CTDPRS,CTDTMP,CTDSAL,CTDSAL_FLAG_W,SALNTY,SALNTY_FLAG_W,CTDOXY,CTDOXY_FLAG_W,OXYGEN,OXYGEN_FLAG_W,SILCAT,SILCAT_FLAG_W,NITRIT,NITRIT_FLAG_W,PHSPHT,PHSPHT_FLAG_W,CFC-11,CFC-11_FLAG_W,CFC-12,CFC-12_FLAG_W,CFC113,CFC113_FLAG_W,TCARBN,TCARBN_FLAG_W,ALKALI,ALKALI_FLAG_W,PH_TOT,PH_TOT_FLAG_W,PH_TMP,CHLORA,CHLORA_FLAG_W,PPHYTN,PPHYTN_FLAG_W,BTL_TIME,NO2+NO3,NO2+NO3_FLAG_W,SBE35,SBE35_FLAG_W,CTDDEPTH
,,,,,,,,,,,METERS,DBAR,ITS-90,PSS-78,,PSS-78,,UMOL/KG,,UMOL/KG,,UMOL/KG,,UMOL/KG,,UMOL/KG,,PMOL/KG,,PMOL/KG,,PMOL/KG,,UMOL/KG,,UMOL/KG,,,,DEG C,UG/KG,,UG/KG,,,UMOL/KG,,ITS-90,,METERS
49UP20160703,         P9,      89,          1,          0,        BUC,2,20160810,       0832,    -1.5077,   142.0043,       3498,     0.0,  30.1449,  34.0608,2,-999.0000,9,    195.8,2,  195.97,2,    0.96,2,    0.00,2,   0.100,2,-999.000,9,-999.000,9,-999.000,9,  -999.0,9,  -999.0,9,-999.0000,9,  -999.00, -999.00,9, -999.00,9,      945,    0.05,2,-999.0000,9,          0
49UP20160703,         P9,      89,          1,         36,        109,2,20160810,       0832,    -1.5077,   142.0043,       3498,    10.3,  29.9648,  34.0541,2,  34.0517,2,    196.3,2,  196.19,2,    0.96,2,    0.00,2,   0.090,2,-999.000,9,-999.000,9,-999.000,9,  -999.0,9,  -999.0,9,-999.0000,9,  -999.00, -999.00,9, -999.00,9,     1004,    0.04,2,  29.9568,2,         10
49UP20160703,         P9,      89,          1,         35,        112,2,20160810,       0832,    -1.5077,   142.0043,       3498,    25.0,  29.8513,  34.0546,2,  34.0534,2,    196.4,2,  196.48,2,    0.92,2,    0.00,2,   0.090,2,-999.000,9,-999.000,9,-999.000,9,  -999.0,9,  -999.0,9,-999.0000,9,  -999.00, -999.00,9, -999.00,9,     1003,    0.04,2,  29.8509,2,         25
49UP20160703,         P9,      89,          1,         34,        094,2,20160810,       0832,    -1.5077,   142.0043,       3498,    50.2,  29.8952,  34.1153,2,  34.1232,2,    197.4,2,  197.70,2,    1.08,2,    0.00,2,   0.100,2,-999.000,9,-999.000,9,-999.000,9,  -999.0,9,  -999.0,9,-999.0000,9,  -999.00, -999.00,9, -999.00,9,      959,    0.05,2,  29.8945,2,         50
49UP20160703,         P9,      89,          1,         33,        469,2,20160810,       0832,    -1.5077,   142.0043,       3498,    75.1,  28.9342,  34.3819,2,  34.3825,2,    196.9,2,  197.05,2,    1.10,2,    0.00,2,   0.080,2,-999.000,9,-999.000,9,-999.000,9,  -999.0,9,  -999.0,9,-999.0000,9,  -999.00, -999.00,9, -999.00,9,      958,    0.06,2,  28.9321,2,         75
49UP20160703,         P9,      89,          1,         32,        089,2,20160810,       0832,    -1.5077,   142.0043,       3498,   101.5,  25.2767,  35.2868,2,  35.3026,4,    150.3,2,  148.76,2,    2.09,2,    0.11,2,   0.540,2,-999.000,9,-999.000,9,-999.000,9,  -999.0,9,  -999.0,9,-999.0000,9,  -999.00, -999.00,9, -999.00,9,      956,    6.12,2,  25.2687,2,        101
49UP20160703,         P9,      89,          1,         31,        515,2,20160810,       0832,    -1.5077,   142.0043,       3498,   125.9,  22.7169,  35.5192,2,  35.5185,2,    137.8,2,  138.29,2,    2.81,2,    0.03,2,   0.710,2,-999.000,9,-999.000,9,-999.000,9,  -999.0,9,  -999.0,9,-999.0000,9,  -999.00, -999.00,9, -999.00,9,      955,    8.53,2,  22.7172,2,        125
49UP20160703,         P9,      89,          1,         30,        097,2,20160810,       0832,    -1.5077,   142.0043,       3498,   150.4,  20.2126,  35.5142,2,  35.5108,2,    138.8,2,  139.09,2,    3.74,2,    0.01,2,   0.830,2,-999.000,9,-999.000,9,-999.000,9,  -999.0,9,  -999.0,9,-999.0000,9,  -999.00, -999.00,9, -999.00,9,      954,   10.21,2,  20.2111,2,        150
49UP20160703,         P9,      89,          1,         29,        102,2,20160810,       0832,    -1.5077,   142.0043,       3498,   150.8,  20.2106,  35.5144,2,  35.5085,2,    138.8,2,  139.07,2,    3.81,2,    0.01,2,   0.840,2,-999.000,9,-999.000,9,-999.000,9,  -999.0,9,  -999.0,9,-999.0000,9,  -999.00, -999.00,9, -999.00,9,      954,   10.27,2,  20.2174,2,        150
49UP20160703,         P9,      89,          1,         28,        472,2,20160810,       0832,    -1.5077,   142.0043,       3498,   200.8,  17.7448,  35.3572,2,  35.3554,6,    139.7,2,  139.77,6,    5.47,6,    0.01,6,   0.980,6,-999.000,9,-999.000,9,-999.000,9,  -999.0,9,  -999.0,9,-999.0000,9,  -999.00, -999.00,9, -999.00,9,      953,   12.61,6,  17.7429,2,        200
49UP20160703,         P9,      89,          1,         27,        998,2,20160810,       0832,    -1.5077,   142.0043,       3498,   252.0,  14.0276,  35.0677,2,  35.0595,2,    145.1,2,  144.76,2,    9.63,2,    0.00,2,   1.270,2,-999.000,9,-999.000,9,-999.000,9,  -999.0,9,  -999.0,9,-999.0000,9,  -999.00, -999.00,9, -999.00,9,      951,   17.12,2,  14.0018,2,        250
49UP20160703,         P9,      89,          1,         26,        084,2,20160810,       0832,    -1.5077,   142.0043,       3498,   282.5,  11.4203,  34.8297,2,  34.8184,4,    128.4,2,  127.37,2,   17.82,2,    0.00,2,   1.640,2,-999.000,9,-999.000,9,-999.000,9,  -999.0,9,  -999.0,9,-999.0000,9,  -999.00, -999.00,9, -999.00,9,      949,   23.16,2,  11.4296,2,        281
49UP20160703,         P9,      89,          1,         25,        098,2,20160810,       0832,    -1.5077,   142.0043,       3498,   323.2,  10.7901,  34.7733,2,  34.7630,4,    123.0,2,  120.51,2,   20.85,2,    0.00,2,   1.760,2,-999.000,9,-999.000,9,-999.000,9,  -999.0,9,  -999.0,9,-999.0000,9,  -999.00, -999.00,9, -999.00,9,      948,   24.97,2,  10.7856,2,        321
49UP20160703,         P9,      89,          1,         24,        110,2,20160810,       0832,    -1.5077,   142.0043,       3498,   372.5,  10.2055,  34.7326,2,  34.7312,2,    105.4,2,  107.10,2,   23.31,2,    0.00,2,   1.910,2,-999.000,9,-999.000,9,-999.000,9,  -999.0,9,  -999.0,9,-999.0000,9,  -999.00, -999.00,9, -999.00,9,      946,   27.43,2,  10.2057,2,        370
49UP20160703,         P9,      89,          1,         23,        679,2,20160810,       0832,    -1.5077,   142.0043,       3498,   423.1,   9.4563,  34.6845,2,  34.6822,2,    157.2,2,  157.13,2,   17.63,2,    0.00,2,   1.680,2,-999.000,9,-999.000,9,-999.000,9,  -999.0,9,  -999.0,9,-999.0000,9,  -999.00, -999.00,9, -999.00,9,      945,   23.99,2,   9.4541,2,        420
49UP20160703,         P9,      89,          1,         22,        111,2,20160810,       0832,    -1.5077,   142.0043,       3498,   473.8,   8.6914,  34.6263,2,  34.6269,2,    163.3,2,  164.32,2,   19.41,2,    0.00,2,   1.730,2,-999.000,9,-999.000,9,-999.000,9,  -999.0,9,  -999.0,9,-999.0000,9,  -999.00, -999.00,9, -999.00,9,      943,   24.80,2,   8.6904,2,        471
49UP20160703,         P9,      89,          1,         21,        078,2,20160810,       0832,    -1.5077,   142.0043,       3498,   473.9,   8.6907,  34.6259,2,  34.6255,2,    163.3,2,  164.90,2,   19.36,2,    0.00,2,   1.730,2,-999.000,9,-999.000,9,-999.000,9,  -999.0,9,  -999.0,9,-999.0000,9,  -999.00, -999.00,9, -999.00,9,      943,   24.77,2,   8.6896,2,        471
49UP20160703,         P9,      89,          1,         20,        093,2,20160810,       0832,    -1.5077,   142.0043,       3498,   574.4,   7.0395,  34.5377,2,  34.5389,2,    143.2,2,  142.70,6,   32.67,6,    0.00,6,   2.110,6,-999.000,9,-999.000,9,-999.000,9,  -999.0,9,  -999.0,9,-999.0000,9,  -999.00, -999.00,9, -999.00,9,      941,   30.35,6,   7.0385,2,        570
49UP20160703,         P9,      89,          1,         19,        269,2,20160810,       0832,    -1.5077,   142.0043,       3498,   674.6,   5.8717,  34.5156,2,  34.5168,6,    128.4,2,  128.39,2,   48.22,2,    0.00,2,   2.370,2,-999.000,9,-999.000,9,-999.000,9,  -999.0,9,  -999.0,9,-999.0000,9,  -999.00, -999.00,9, -999.00,9,      938,   33.82,2,   5.8707,2,        670
49UP20160703,         P9,      89,          1,         18,        088,2,20160810,       0832,    -1.5077,   142.0043,       3498,   776.2,   5.5258,  34.5257,2,  34.5262,2,    115.9,2,  116.13,2,   57.01,2,    0.00,2,   2.490,2,-999.000,9,-999.000,9,-999.000,9,  -999.0,9,  -999.0,9,-999.0000,9,  -999.00, -999.00,9, -999.00,9,      936,   35.40,2,   5.5242,2,        770
49UP20160703,         P9,      89,          1,         17,        090,2,20160810,       0832,    -1.5077,   142.0043,       3498,   877.4,   5.2261,  34.5248,2,  34.5263,2,    115.9,2,  115.67,2,   62.71,2,    0.00,2,   2.530,2,-999.000,9,-999.000,9,-999.000,9,  -999.0,9,  -999.0,9,-999.0000,9,  -999.00, -999.00,9, -999.00,9,      933,   35.85,2,   5.2215,2,        871
49UP20160703,         P9,      89,          1,         16,        474,2,20160810,       0832,    -1.5077,   142.0043,       3498,   978.1,   4.5783,  34.5331,2,  34.5339,2,    119.7,2,  120.00,2,   73.49,2,    0.00,2,   2.550,2,-999.000,9,-999.000,9,-999.000,9,  -999.0,9,  -999.0,9,-999.0000,9,  -999.00, -999.00,9, -999.00,9,      931,   36.10,2,   4.5781,2,        970
49UP20160703,         P9,      89,          1,         15,        665,2,20160810,       0832,    -1.5077,   142.0043,       3498,   978.2,   4.5783,  34.5330,2,  34.5343,2,    119.7,2,  119.41,2,   73.53,2,    0.00,2,   2.550,2,-999.000,9,-999.000,9,-999.000,9,  -999.0,9,  -999.0,9,-999.0000,9,  -999.00, -999.00,9, -999.00,9,      931,   36.11,2,   4.5781,2,        971
49UP20160703,         P9,      89,          1,         14,        999,3,20160810,       0832,    -1.5077,   142.0043,       3498,  1140.6,   3.8765,  34.5655,2,  34.5663,2,    105.5,2,  105.98,2,   94.65,2,    0.00,2,   2.690,2,-999.000,9,-999.000,9,-999.000,9,  -999.0,9,  -999.0,9,-999.0000,9,  -999.00, -999.00,9, -999.00,9,      925,   37.93,2,   3.8764,2,       1131
49UP20160703,         P9,      89,          1,         13,        667,2,20160810,       0832,    -1.5077,   142.0043,       3498,  1343.0,   3.3521,  34.5859,2,  34.5871,2,    106.5,2,  106.70,6,  107.34,6,    0.00,6,   2.720,6,-999.000,9,-999.000,9,-999.000,9,  -999.0,9,  -999.0,9,-999.0000,9,  -999.00, -999.00,9, -999.00,9,      921,   38.17,6,   3.3517,2,       1331
49UP20160703,         P9,      89,          1,         12,        074,2,20160810,       0832,    -1.5077,   142.0043,       3498,  1545.1,   2.7888,  34.6093,2,  34.6094,6,    110.9,2,  111.01,2,  120.60,2,    0.00,2,   2.710,2,-999.000,9,-999.000,9,-999.000,9,  -999.0,9,  -999.0,9,-999.0000,9,  -999.00, -999.00,9, -999.00,9,      917,   38.37,2,   2.7880,2,       1531
49UP20160703,         P9,      89,          1,         11,        268,2,20160810,       0832,    -1.5077,   142.0043,       3498,  1747.8,   2.5462,  34.6207,2,  34.6214,2,    113.9,2,  113.95,2,  125.82,2,    0.00,2,   2.700,2,-999.000,9,-999.000,9,-999.000,9,  -999.0,9,  -999.0,9,-999.0000,9,  -999.00, -999.00,9, -999.00,9,      912,   38.19,2,   2.5462,2,       1731
49UP20160703,         P9,      89,          1,         10,        267,2,20160810,       0832,    -1.5077,   142.0043,       3498,  1950.0,   2.2930,  34.6331,2,  34.6336,2,    117.9,2,  118.01,2,  131.90,2,    0.00,2,   2.680,2,-999.000,9,-999.000,9,-999.000,9,  -999.0,9,  -999.0,9,-999.0000,9,  -999.00, -999.00,9, -999.00,9,      907,   38.05,2,   2.2928,2,       1930
49UP20160703,         P9,      89,          1,          9,        518,2,20160810,       0832,    -1.5077,   142.0043,       3498,  2154.6,   2.0366,  34.6450,2,  34.6455,2,    123.6,2,  123.44,2,  137.48,2,    0.00,2,   2.640,2,-999.000,9,-999.000,9,-999.000,9,  -999.0,9,  -999.0,9,-999.0000,9,  -999.00, -999.00,9, -999.00,9,      903,   37.79,2,   2.0353,2,       2132
49UP20160703,         P9,      89,          1,          8,        470,2,20160810,       0832,    -1.5077,   142.0043,       3498,  2357.2,   1.8225,  34.6566,2,  34.6567,6,    131.2,2,  131.49,2,  140.54,2,    0.00,2,   2.610,2,-999.000,9,-999.000,9,-999.000,9,  -999.0,9,  -999.0,9,-999.0000,9,  -999.00, -999.00,9, -999.00,9,      858,   37.34,2,   1.8223,2,       2331
49UP20160703,         P9,      89,          1,          7,        516,2,20160810,       0832,    -1.5077,   142.0043,       3498,  2560.3,   1.7303,  34.6623,2,  34.6628,2,    135.4,2,  135.31,2,  141.53,2,    0.00,2,   2.590,2,-999.000,9,-999.000,9,-999.000,9,  -999.0,9,  -999.0,9,-999.0000,9,  -999.00, -999.00,9, -999.00,9,      853,   37.06,2,   1.7302,2,       2531
49UP20160703,         P9,      89,          1,          6,        113,2,20160810,       0832,    -1.5077,   142.0043,       3498,  2763.3,   1.6419,  34.6680,2,  34.6680,2,    139.8,2,  139.82,6,  142.15,6,    0.00,6,   2.560,6,-999.000,9,-999.000,9,-999.000,9,  -999.0,9,  -999.0,9,-999.0000,9,  -999.00, -999.00,9, -999.00,9,      849,   36.77,6,   1.6420,2,       2730
49UP20160703,         P9,      89,          1,          5,        658,2,20160810,       0832,    -1.5077,   142.0043,       3498,  2968.1,   1.5927,  34.6713,2,  34.6720,2,    143.3,2,  143.40,2,  142.44,2,    0.00,2,   2.540,2,-999.000,9,-999.000,9,-999.000,9,  -999.0,9,  -999.0,9,-999.0000,9,  -999.00, -999.00,9, -999.00,9,      845,   36.58,2,   1.5927,2,       2931
49UP20160703,         P9,      89,          1,          4,        471,2,20160810,       0832,    -1.5077,   142.0043,       3498,  2969.1,   1.5926,  34.6714,2,  34.6714,2,    143.3,2,  143.23,2,  142.50,2,    0.00,2,   2.540,2,-999.000,9,-999.000,9,-999.000,9,  -999.0,9,  -999.0,9,-999.0000,9,  -999.00, -999.00,9, -999.00,9,      844,   36.60,2,   1.5928,2,       2932
49UP20160703,         P9,      89,          1,          3,        104,2,20160810,       0832,    -1.5077,   142.0043,       3498,  3212.4,   1.5881,  34.6733,2,  34.6731,2,    144.6,2,  144.54,2,  142.64,2,    0.00,2,   2.540,2,-999.000,9,-999.000,9,-999.000,9,  -999.0,9,  -999.0,9,-999.0000,9,  -999.00, -999.00,9, -999.00,9,      839,   36.48,2,   1.5881,2,       3171
49UP20160703,         P9,      89,          1,          2,        075,2,20160810,       0832,    -1.5077,   142.0043,       3498,  3467.7,   1.5717,  34.6762,2,  34.6767,2,    146.6,2,  146.49,2,  142.48,2,    0.00,2,   2.520,2,-999.000,9,-999.000,9,-999.000,9,  -999.0,9,  -999.0,9,-999.0000,9,  -999.00, -999.00,9, -999.00,9,      834,   36.32,2,   1.5716,2,       3421
49UP20160703,         P9,      89,          1,          1,        997,2,20160810,       0832,    -1.5077,   142.0043,       3498,  3522.9,   1.5756,  34.6764,2,  34.6763,2,    146.7,2,  146.63,2,  142.85,2,    0.00,2,   2.530,2,-999.000,9,-999.000,9,-999.000,9,  -999.0,9,  -999.0,9,-999.0000,9,  -999.00, -999.00,9, -999.00,9,      832,   36.38,2,   1.5755,2,       3475