BOTTLE,20230712CCHSIOENA
EXPOCODE,SECT_ID,STNNBR,CASTNO,SAMPNO,BTLNBR,BTLNBR_FLAG_W,DATE,TIME,LATITUDE,LONGITUDE,DEPTH,CTDPRS,CTDTMP,CTDSAL,CTDSAL_FLAG_W,SALNTY,SALNTY_FLAG_W,CTDOXY,CTDOXY_FLAG_W,OXYGEN,OXYGEN_FLAG_W,SILCAT,SILCAT_FLAG_W,NITRIT,NITRIT_FLAG_W,PHSPHT,PHSPHT_FLAG_W,CFC-11,CFC-11_FLAG_W,CFC-12,CFC-12_FLAG_W,CFC113,CFC113_FLAG_W,TCARBN,TCARBN_FLAG_W,ALKALI,ALKALI_FLAG_W,PH_TOT,PH_TOT_FLAG_W,PH_TMP,CHLORA,CHLORA_FLAG_W,PPHYTN,PPHYTN_FLAG_W,BTL_TIME,NO2+NO3,NO2+NO3_FLAG_W,SBE35,SBE35_FLAG_W,CTDDEPTH
,,,,,,,,,,,METERS,DBAR,ITS-90,PSS-78,,PSS-78,,UMOL/KG,,UMOL/KG,,UMOL/KG,,UMOL/KG,,UMOL/KG,,PMOL/KG,,PMOL/KG,,PMOL/KG,,UMOL/KG,,UMOL/KG,,,,DEG C,UG/KG,,UG/KG,,,UMOL/KG,,ITS-90,,METERS
49UP20160703,         P9,      59,          1,          0,        BUC,2,20160722,       2246,     7.9958,    137.002,       2883,     0.0,  30.1832,  34.2986,2,  34.3070,2,    192.7,2,  193.75,2,    1.17,2,    0.00,2,   0.040,2,-999.000,9,-999.000,9,-999.000,9,  1925.7,2,  2251.3,2,   8.1101,2,    25.00,    0.05,2,    0.02,2,     2338,    0.08,2,-999.0000,9,          0
49UP20160703,         P9,      59,          1,         36,        109,2,20160722,       2246,     7.9958,    137.002,       2883,     9.2,  30.1588,  34.2959,2,  34.2952,2,    192.6,2,  193.72,6,    1.13,6,    0.00,6,   0.040,6,   1.467,2,   0.935,2,   0.116,2,  1928.0,2,  2253.8,2,   8.1122,2,    25.00,    0.05,2,    0.02,2,       13,    0.06,6,  30.1757,2,          9
49UP20160703,         P9,      59,          1,         35,        112,2,20160722,       2246,     7.9958,    137.002,       2883,    24.8,  30.1040,  34.3437,2,  34.3752,4,    194.7,2,  195.29,2,    1.06,2,    0.00,2,   0.050,2,   1.489,2,   0.945,2,   0.118,2,  1932.3,2,  2258.9,2,   8.1111,6,    25.00,    0.05,2,    0.02,2,       11,    0.04,2,  30.1065,2,         25
49UP20160703,         P9,      59,          1,         33,        469,2,20160722,       2246,     7.9958,    137.002,       2883,    50.1,  29.2614,  34.7670,2,  34.7643,2,    200.3,2,  201.21,2,    1.26,2,    0.00,2,   0.060,2,   1.585,2,   0.987,2,   0.117,2,  1957.4,2,  2282.6,2,    8.097,2,    25.00,    0.06,2,    0.03,2,        8,    0.04,2,  29.2618,2,         50
49UP20160703,         P9,      59,          1,         32,        089,2,20160722,       2246,     7.9958,    137.002,       2883,    75.0,  27.3880,  34.7789,2,  34.7767,2,    193.7,2,  195.71,2,    1.48,2,    0.00,2,   0.080,2,   1.685,6,   1.041,6,   0.114,6,  1977.5,2,  2284.7,2,   8.0723,2,    25.00,    0.10,2,    0.08,2,        7,    0.05,2,  27.3779,2,         75
49UP20160703,         P9,      59,          1,         31,        515,2,20160722,       2246,     7.9958,    137.002,       2883,    99.4,  21.9902,  34.8546,2,  34.8567,2,    167.4,2,  170.99,2,    4.30,2,    0.07,2,   0.410,2,   2.055,2,   1.273,2,   0.078,2,  2054.9,2,  2292.8,2,   7.9465,2,    25.00,    0.17,2,    0.41,2,        6,    4.15,2,  21.9998,2,         99
49UP20160703,         P9,      59,          1,         30,        097,2,20160722,       2246,     7.9958,    137.002,       2883,   124.7,  18.9256,  34.8394,2,  34.8428,2,    163.5,2,  164.86,2,    6.25,2,    0.03,2,   0.560,2,   2.239,2,   1.371,2,   0.052,2,  2084.7,2,  2292.2,2,   7.8911,6,    25.00,    0.10,2,    0.27,2,        4,    6.86,2,  18.9209,2,        124
49UP20160703,         P9,      59,          1,         29,        102,2,20160722,       2246,     7.9958,    137.002,       2883,   151.1,  15.4900,  34.6276,2,  34.6232,2,    134.9,2,  134.34,2,   14.41,2,    0.01,2,   1.090,2,   2.236,2,   1.300,2,   0.034,2,  2127.1,6,  2282.7,6,   7.7729,2,    25.00,    0.05,2,    0.16,2,        3,   14.89,2,  15.4895,2,        150
49UP20160703,         P9,      59,          1,         28,        472,2,20160722,       2246,     7.9958,    137.002,       2883,   200.2,  11.3652,  34.4793,2,  34.4814,2,    104.4,2,  104.24,2,   27.61,2,    0.00,2,   1.750,2,-999.000,9,-999.000,9,-999.000,9,  2185.5,2,  2285.3,2,   7.6303,3,    25.00, -999.00,9, -999.00,9,        1,   24.33,2,  11.3620,2,        199
49UP20160703,         P9,      59,          1,         27,        998,2,20160722,       2246,     7.9958,    137.002,       2883,   200.9,  11.3492,  34.4790,2,  34.4818,2,    103.9,2,  102.91,2,   28.28,2,    0.00,2,   1.780,2,   1.756,2,   0.932,2,   0.018,2,  2188.7,2,  2286.7,2,   7.6215,2,    25.00,    0.00,2,    0.04,2,        1,   24.77,2,  11.3384,2,        200
49UP20160703,         P9,      59,          1,         26,        084,2,20160722,       2246,     7.9958,    137.002,       2883,   250.5,   9.8432,  34.4912,2,  34.4941,2,     92.4,2,   92.09,2,   34.29,2,    0.00,2,   2.020,2,   1.356,2,   0.700,2,   0.024,2,  2214.7,2,  2293.1,2,   7.5794,2,    25.00, -999.00,9, -999.00,9,     2359,   28.27,2,   9.8438,2,        249
49UP20160703,         P9,      59,          1,         25,        098,2,20160722,       2246,     7.9958,    137.002,       2883,   331.9,   8.4729,  34.5071,2,  34.5071,2,     89.5,2,   89.45,2,   40.98,2,    0.00,2,   2.210,2,   0.938,2,   0.480,2,   0.014,2,  2233.3,2,  2303.0,2,   7.5465,2,    25.00, -999.00,9, -999.00,9,     2357,   31.28,2,   8.4725,2,        330
49UP20160703,         P9,      59,          1,         24,        110,2,20160722,       2246,     7.9958,    137.002,       2883,   383.4,   8.2013,  34.5279,2,  34.5268,2,     98.9,2,   98.45,2,   40.55,2,    0.00,2,   2.200,2,-999.000,9,-999.000,9,-999.000,9,  2233.9,2,  2305.3,2,   7.5562,2,    25.00, -999.00,9, -999.00,9,     2355,   31.22,2,   8.2002,2,        381
49UP20160703,         P9,      59,          1,         23,        679,2,20160722,       2246,     7.9958,    137.002,       2883,   436.2,   7.7509,  34.5195,2,  34.5195,2,    103.6,2,  103.39,2,   42.62,2,    0.00,2,   2.220,2,   0.852,2,   0.429,2,   0.018,2,  2222.7,2,  2306.0,2,   7.5582,2,    25.00, -999.00,9, -999.00,9,     2351,   31.63,2,   7.7509,2,        433
49UP20160703,         P9,      59,          1,         22,        111,2,20160722,       2246,     7.9958,    137.002,       2883,   485.0,   7.5463,  34.5289,2,  34.5287,2,    105.9,2,  105.75,2,   42.77,2,    0.00,2,   2.240,2,-999.000,9,-999.000,9,-999.000,9,  2236.0,2,  2307.7,2,   7.5611,2,    25.00, -999.00,9, -999.00,9,     2350,   31.94,2,   7.5463,2,        482
49UP20160703,         P9,      59,          1,         21,        078,2,20160722,       2246,     7.9958,    137.002,       2883,   533.4,   7.4184,  34.5226,2,  34.5228,6,    104.8,2,  104.77,2,   44.45,2,    0.00,2,   2.270,2,   0.712,2,   0.367,2,   0.019,2,  2236.0,2,  2309.6,2,   7.5521,2,    25.00, -999.00,9, -999.00,9,     2348,   32.25,2,   7.4184,2,        530
49UP20160703,         P9,      59,          1,         20,        093,2,20160722,       2246,     7.9958,    137.002,       2883,   633.9,   6.7797,  34.5128,2,  34.5139,2,    102.8,2,  102.71,6,   51.42,6,    0.00,6,   2.370,6,   0.506,2,   0.261,2,   0.019,2,  2246.2,2,  2315.9,2,   7.5405,2,    25.00, -999.00,9, -999.00,9,     2345,   33.65,6,   6.7802,2,        629
49UP20160703,         P9,      59,          1,         19,        269,2,20160722,       2246,     7.9958,    137.002,       2883,   734.0,   6.2677,  34.5232,2,  34.5238,2,    101.7,2,  101.56,2,   56.26,2,    0.00,2,   2.450,2,-999.000,9,-999.000,9,-999.000,9,  2257.2,2,  2322.9,2,   7.5313,2,    25.00, -999.00,9, -999.00,9,     2342,   34.77,2,   6.2669,2,        729
49UP20160703,         P9,      59,          1,         18,        088,2,20160722,       2246,     7.9958,    137.002,       2883,   734.2,   6.2678,  34.5232,2,  34.5231,2,    101.7,2,  101.51,2,   56.45,2,    0.00,2,   2.460,2,   3.003,4,   5.362,4,   0.600,4,  2255.5,2,  2324.1,2,    7.531,2,    25.00, -999.00,9, -999.00,9,     2342,   34.79,2,   6.2676,2,        729
49UP20160703,         P9,      59,          1,         17,        090,2,20160722,       2246,     7.9958,    137.002,       2883,   835.1,   5.6218,  34.5275,2,  34.5272,2,     99.1,2,   99.15,2,   67.51,2,    0.00,2,   2.550,2,   3.213,4,   5.817,4,   0.686,4,  2272.3,2,  2334.0,2,   7.5217,2,    25.00, -999.00,9, -999.00,9,     2339,   36.00,2,   5.6219,2,        829
49UP20160703,         P9,      59,          1,         16,        474,2,20160722,       2246,     7.9958,    137.002,       2883,   938.5,   5.2170,  34.5374,2,  34.5375,2,     89.9,2,   89.93,2,   76.40,2,    0.00,2,   2.650,2,   0.115,2,   0.065,2,   0.013,2,  2285.2,2,  2342.9,2,   7.5025,2,    25.00, -999.00,9, -999.00,9,     2337,   37.34,2,   5.2171,2,        931
49UP20160703,         P9,      59,          1,         15,        665,2,20160722,       2246,     7.9958,    137.002,       2883,  1078.2,   4.6305,  34.5487,2,  34.5494,2,     89.3,2,   89.66,2,   88.77,2,    0.00,2,   2.700,2,   0.072,2,   0.041,2,   0.011,2,  2299.0,6,  2355.9,6,   7.4962,2,    25.00, -999.00,9, -999.00,9,     2332,   38.06,2,   4.6311,2,       1069
49UP20160703,         P9,      59,          1,         14,        999,2,20160722,       2246,     7.9958,    137.002,       2883,  1281.9,   3.7610,  34.5699,2,  34.5693,6,     93.0,2,   92.63,2,  106.23,2,    0.00,2,   2.740,2,   0.033,6,   0.023,6,   0.005,6,  2312.1,2,  2373.4,2,   7.4976,6,    25.00, -999.00,9, -999.00,9,     2327,   38.65,2,   3.7619,2,       1271
49UP20160703,         P9,      59,          1,         13,        667,2,20160722,       2246,     7.9958,    137.002,       2883,  1483.2,   3.2810,  34.5872,2,  34.5874,2,     96.7,2,   96.92,2,  116.15,2,    0.00,2,   2.750,2,-999.000,9,-999.000,9,-999.000,9,  2322.2,2,  2383.0,2,   7.5031,2,    25.00, -999.00,9, -999.00,9,     2323,   38.93,2,   3.2811,2,       1470
49UP20160703,         P9,      59,          1,         12,        074,2,20160722,       2246,     7.9958,    137.002,       2883,  1483.5,   3.2809,  34.5872,2,  34.5872,2,     96.7,2,   97.04,2,  116.16,2,    0.00,2,   2.750,2,   0.008,2,   0.011,2,   0.006,2,  2327.5,2,  2384.4,2,   7.4997,2,    25.00, -999.00,9, -999.00,9,     2322,   38.90,2,   3.2809,2,       1470
49UP20160703,         P9,      59,          1,         11,        268,2,20160722,       2246,     7.9958,    137.002,       2883,  1685.3,   2.8879,  34.6024,2,  34.6027,2,    101.9,2,  102.04,6,  124.19,6,    0.00,6,   2.740,6,-999.000,9,-999.000,9,-999.000,9,  2333.8,2,  2392.1,2,   7.5059,2,    25.00, -999.00,9, -999.00,9,     2316,   38.82,6,   2.8877,2,       1669
49UP20160703,         P9,      59,          1,         10,        267,2,20160722,       2246,     7.9958,    137.002,       2883,  1889.3,   2.5342,  34.6179,2,  34.6178,2,    108.0,2,  108.46,2,  131.09,2,    0.00,2,   2.710,2,-999.000,9,-999.000,9,-999.000,9,  2331.8,2,  2400.4,2,   7.5134,2,    25.00, -999.00,9, -999.00,9,     2311,   38.64,2,   2.5339,2,       1870
49UP20160703,         P9,      59,          1,          8,        470,2,20160722,       2246,     7.9958,    137.002,       2883,  2091.7,   2.2457,  34.6326,2,  34.6332,2,    115.3,2,  115.35,2,  136.26,2,    0.00,2,   2.680,2,   0.000,2,   0.005,2,   0.003,2,  2340.7,2,  2405.8,2,   7.5256,2,    25.00, -999.00,9, -999.00,9,     2307,   38.34,2,   2.2456,2,       2070
49UP20160703,         P9,      59,          1,          7,        516,2,20160722,       2246,     7.9958,    137.002,       2883,  2295.1,   2.0024,  34.6460,2,  34.6461,6,    123.4,2,  123.23,2,  139.40,2,    0.00,2,   2.640,2,-999.000,9,-999.000,9,-999.000,9,  2339.0,2,  2408.9,2,   7.5377,2,    25.00, -999.00,9, -999.00,9,     2302,   37.84,2,   2.0027,2,       2270
49UP20160703,         P9,      59,          1,          6,        113,2,20160722,       2246,     7.9958,    137.002,       2883,  2499.1,   1.8458,  34.6546,2,  34.6553,2,    130.2,2,  129.99,2,  141.03,2,    0.00,2,   2.610,2,   0.001,2,   0.010,2,   0.004,2,  2334.8,2,  2411.9,6,   7.5478,2,    25.00, -999.00,9, -999.00,9,     2257,   37.44,2,   1.8460,2,       2470
49UP20160703,         P9,      59,          1,          5,        658,2,20160722,       2246,     7.9958,    137.002,       2883,  2702.8,   1.7426,  34.6611,2,  34.6613,2,    135.2,2,  134.77,6,  142.05,6,    0.00,6,   2.590,6,-999.000,9,-999.000,9,-999.000,9,  2335.8,2,  2411.6,2,   7.5542,2,    25.00, -999.00,9, -999.00,9,     2252,   37.16,6,   1.7426,2,       2671
49UP20160703,         P9,      59,          1,          2,        075,2,20160722,       2246,     7.9958,    137.002,       2883,  2894.8,   1.6671,  34.6661,2,  34.6662,2,    139.1,2,  138.88,2,  143.03,2,    0.00,2,   2.560,2,-999.000,9,-999.000,9,-999.000,9,  2335.2,2,  2413.9,2,   7.5562,2,    25.00, -999.00,9, -999.00,9,     2246,   36.94,2,   1.6671,2,       2859
49UP20160703,         P9,      59,          1,          1,        997,2,20160722,       2246,     7.9958,    137.002,       2883,  2895.0,   1.6670,  34.6662,2,  34.6664,2,    139.0,2,  139.25,2,  142.99,2,    0.00,2,   2.560,2,   0.000,2,   0.009,2,   0.007,2,  2332.1,2,  2413.8,2,   7.5611,2,    25.00, -999.00,9, -999.00,9,     2246,   36.95,2,   1.6670,2,       2859