BOTTLE,20230712CCHSIOENA
EXPOCODE,SECT_ID,STNNBR,CASTNO,SAMPNO,BTLNBR,BTLNBR_FLAG_W,DATE,TIME,LATITUDE,LONGITUDE,DEPTH,CTDPRS,CTDTMP,CTDSAL,CTDSAL_FLAG_W,SALNTY,SALNTY_FLAG_W,CTDOXY,CTDOXY_FLAG_W,OXYGEN,OXYGEN_FLAG_W,SILCAT,SILCAT_FLAG_W,NITRIT,NITRIT_FLAG_W,PHSPHT,PHSPHT_FLAG_W,CFC-11,CFC-11_FLAG_W,CFC-12,CFC-12_FLAG_W,CFC113,CFC113_FLAG_W,TCARBN,TCARBN_FLAG_W,ALKALI,ALKALI_FLAG_W,PH_TOT,PH_TOT_FLAG_W,PH_TMP,CHLORA,CHLORA_FLAG_W,PPHYTN,PPHYTN_FLAG_W,BTL_TIME,NO2+NO3,NO2+NO3_FLAG_W,SBE35,SBE35_FLAG_W,CTDDEPTH
,,,,,,,,,,,METERS,DBAR,ITS-90,PSS-78,,PSS-78,,UMOL/KG,,UMOL/KG,,UMOL/KG,,UMOL/KG,,UMOL/KG,,PMOL/KG,,PMOL/KG,,PMOL/KG,,UMOL/KG,,UMOL/KG,,,,DEG C,UG/KG,,UG/KG,,,UMOL/KG,,ITS-90,,METERS
49UP20160703,         P9,      34,          1,          0,        BUC,2,20160714,       0954,    19.9722,   136.9957,       4594,     0.0,  30.4820,  35.0420,2,  35.0510,2,    193.5,2,  193.41,2,    1.02,2,    0.00,2,   0.050,2,-999.000,9,-999.000,9,-999.000,9,  1967.8,2,  2302.7,2,   8.1097,2,    25.00,    0.03,2,    0.01,2,     1135,    0.01,2,-999.0000,9,          0
49UP20160703,         P9,      34,          1,         36,        109,2,20160714,       0954,    19.9722,   136.9957,       4594,    10.0,  30.2143,  35.0276,2,  35.0265,2,    194.0,2,  194.31,2,    0.99,2,    0.00,2,   0.040,2,   1.501,2,   0.944,2,   0.115,2,  1972.6,2,  2301.0,2,   8.1128,2,    25.00,    0.03,2,    0.02,2,     1210,    0.02,2,  30.2179,2,         10
49UP20160703,         P9,      34,          1,         35,        112,2,20160714,       0954,    19.9722,   136.9957,       4594,    49.8,  26.9618,  35.1546,2,  35.1413,4,    217.1,2,  216.67,2,    1.03,2,    0.00,2,   0.040,2,   1.782,2,   1.077,2,   0.136,2,  1971.3,2,  2307.6,2,   8.1128,2,    25.00,    0.05,2,    0.02,2,     1206,    0.03,2,  26.9654,2,         49
49UP20160703,         P9,      34,          1,         34,        094,2,20160714,       0954,    19.9722,   136.9957,       4594,    74.2,  25.4986,  35.1499,2,  35.1489,2,    215.8,2,  215.56,2,    1.08,2,    0.00,2,   0.030,2,   1.836,2,   1.112,2,   0.140,2,  1979.9,6,  2307.9,6,   8.0973,2,    25.00,    0.08,2,    0.04,2,     1205,    0.01,2,  25.4984,2,         74
49UP20160703,         P9,      34,          1,         33,        469,2,20160714,       0954,    19.9722,   136.9957,       4594,    99.6,  24.0050,  35.1192,2,  35.1178,2,    209.0,2,  209.06,2,    1.30,2,    0.00,2,   0.030,2,   1.901,2,   1.170,2,   0.137,2,  1995.6,2,  2305.3,2,   8.0653,2,    25.00,    0.15,2,    0.11,2,     1203,    0.01,2,  23.9942,2,         99
49UP20160703,         P9,      34,          1,         32,        089,2,20160714,       0954,    19.9722,   136.9957,       4594,   124.9,  22.3374,  35.1467,2,  35.1482,2,    191.3,2,  191.36,2,    1.67,2,    0.03,2,   0.100,2,   2.031,2,   1.293,2,   0.100,2,  2027.4,2,  2308.0,2,   8.0122,2,    25.00,    0.21,2,    0.52,2,     1202,    0.56,2,  22.3310,2,        124
49UP20160703,         P9,      34,          1,         31,        515,2,20160714,       0954,    19.9722,   136.9957,       4594,   150.3,  20.3463,  34.9944,2,  34.9884,2,    193.9,2,  194.89,2,    2.16,2,    0.02,2,   0.170,2,   2.179,2,   1.382,2,   0.077,2,  2036.7,2,  2297.4,2,   7.9852,2,    25.00,    0.07,2,    0.19,2,     1200,    1.80,2,  20.3476,2,        149
49UP20160703,         P9,      34,          1,         30,        097,2,20160714,       0954,    19.9722,   136.9957,       4594,   200.8,  17.8879,  34.7837,2,  34.7821,2,    202.2,2,  202.59,2,    3.52,2,    0.00,2,   0.280,2,   2.388,2,   1.484,2,   0.048,2,  2035.3,2,  2283.9,2,   7.9548,2,    25.00,    0.01,2,    0.02,2,     1158,    4.07,2,  17.8873,2,        199
49UP20160703,         P9,      34,          1,         29,        102,2,20160714,       0954,    19.9722,   136.9957,       4594,   252.1,  16.8571,  34.7066,2,  34.7077,2,    203.9,2,  203.92,2,    4.69,2,    0.00,2,   0.370,2,   2.480,2,   1.530,2,   0.039,2,  2046.0,2,  2279.4,2,   7.9395,6,    25.00, -999.00,9, -999.00,9,     1156,    5.39,2,  16.8654,2,        250
49UP20160703,         P9,      34,          1,         28,        472,2,20160714,       0954,    19.9722,   136.9957,       4594,   302.6,  15.8015,  34.6260,2,  34.6263,2,    200.5,2,  200.83,2,    7.24,2,    0.00,2,   0.510,2,   2.571,6,   1.565,6,   0.041,6,  2059.0,2,  2276.9,2,    7.907,2,    25.00, -999.00,9, -999.00,9,     1154,    7.42,2,  15.8020,2,        301
49UP20160703,         P9,      34,          1,         27,        998,2,20160714,       0954,    19.9722,   136.9957,       4594,   353.5,  14.7411,  34.5361,2,  34.5338,2,    193.9,2,  193.98,2,   10.27,2,    0.00,2,   0.680,2,   2.669,2,   1.595,2,   0.038,2,  2076.5,2,  2275.2,2,   7.8664,2,    25.00, -999.00,9, -999.00,9,     1151,    9.74,2,  14.7421,2,        351
49UP20160703,         P9,      34,          1,         26,        084,2,20160714,       0954,    19.9722,   136.9957,       4594,   404.2,  12.7528,  34.3881,2,  34.3869,2,    182.7,2,  182.60,2,   16.72,2,    0.00,2,   0.980,2,   2.813,2,   1.604,2,   0.046,2,  2103.5,2,  2272.2,2,    7.799,2,    25.00, -999.00,9, -999.00,9,     1149,   13.94,2,  12.7653,2,        401
49UP20160703,         P9,      34,          1,         25,        098,2,20160714,       0954,    19.9722,   136.9957,       4594,   454.2,  11.1984,  34.2720,2,  34.2690,2,    171.8,2,  170.66,2,   22.00,2,    0.00,2,   1.260,2,   2.870,2,   1.594,2,   0.041,2,  2132.3,2,  2271.0,2,   7.7332,2,    25.00, -999.00,9, -999.00,9,     1147,   17.53,2,  11.1991,2,        451
49UP20160703,         P9,      34,          1,         24,        110,2,20160714,       0954,    19.9722,   136.9957,       4594,   505.1,   9.5864,  34.1907,2,  34.1916,6,    143.3,2,  143.17,2,   30.74,2,    0.00,2,   1.660,2,   2.609,2,   1.397,2,   0.051,2,  2171.5,2,  2273.3,2,   7.6438,2,    25.00, -999.00,9, -999.00,9,     1145,   22.71,2,   9.5901,2,        501
49UP20160703,         P9,      34,          1,         23,        679,3,20160714,       0954,    19.9722,   136.9957,       4594,   606.5,   6.8900,  34.1433,2,  34.1425,2,    103.5,2,  104.17,6,   57.73,6,    0.00,6,   2.270,6,   1.756,2,   0.860,2,   0.034,2,  2236.8,2,  2295.2,2,   7.5127,2,    25.00, -999.00,9, -999.00,9,     1142,   31.41,6,   6.8950,2,        602
49UP20160703,         P9,      34,          1,         22,        111,2,20160714,       0954,    19.9722,   136.9957,       4594,   706.6,   5.7360,  34.2343,2,  34.2342,2,     69.2,2,   69.57,2,   76.25,2,    0.00,2,   2.660,2,   0.846,2,   0.391,2,   0.015,2,  2283.2,6,  2317.8,6,    7.442,2,    25.00, -999.00,9, -999.00,9,     1138,   36.73,2,   5.7357,2,        701
49UP20160703,         P9,      34,          1,         21,        078,2,20160714,       0954,    19.9722,   136.9957,       4594,   808.0,   4.8597,  34.3176,2,  34.3178,2,     61.4,2,   61.41,2,   93.26,2,    0.00,2,   2.800,2,   0.434,2,   0.219,2,   0.018,2,  2306.8,2,  2338.6,2,   7.4211,2,    25.00, -999.00,9, -999.00,9,     1135,   38.80,2,   4.8606,2,        802
49UP20160703,         P9,      34,          1,         20,        093,2,20160714,       0954,    19.9722,   136.9957,       4594,   910.7,   4.3269,  34.3915,2,  34.3905,2,     62.1,2,   62.62,2,  104.22,2,    0.00,2,   2.850,2,   0.246,2,   0.125,2,   0.016,2,  2321.1,2,  2354.1,2,   7.4255,2,    25.00, -999.00,9, -999.00,9,     1132,   39.63,2,   4.3274,2,        903
49UP20160703,         P9,      34,          1,         19,        269,2,20160714,       0954,    19.9722,   136.9957,       4594,  1011.5,   3.8093,  34.4296,2,  34.4296,2,     62.8,2,   62.80,2,  114.86,2,    0.00,2,   2.880,2,   0.163,2,   0.083,2,   0.004,2,  2330.2,2,  2366.7,2,   7.4231,2,    25.00, -999.00,9, -999.00,9,     1128,   40.17,2,   3.8095,2,       1003
49UP20160703,         P9,      34,          1,         18,        088,2,20160714,       0954,    19.9722,   136.9957,       4594,  1213.3,   3.1109,  34.5098,2,  34.5102,2,     75.5,2,   75.51,2,  128.85,2,    0.00,2,   2.850,2,   0.049,2,   0.019,2,   0.013,2,  2339.6,2,  2385.1,2,   7.4504,2,    25.00, -999.00,9, -999.00,9,     1123,   39.97,2,   3.1108,2,       1202
49UP20160703,         P9,      34,          1,         17,        090,2,20160714,       0954,    19.9722,   136.9957,       4594,  1414.8,   2.7360,  34.5533,2,  34.5523,2,     89.6,2,   89.41,2,  134.05,2,    0.00,2,   2.790,2,   0.023,2,   0.010,2,   0.000,2,  2341.1,2,  2392.7,2,   7.4791,6,    25.00, -999.00,9, -999.00,9,     1118,   39.29,2,   2.7363,2,       1401
49UP20160703,         P9,      34,          1,         16,        474,2,20160714,       0954,    19.9722,   136.9957,       4594,  1617.6,   2.4903,  34.5828,2,  34.5831,2,    100.1,2,  100.16,2,  136.67,2,    0.00,2,   2.750,2,   0.019,2,   0.008,2,   0.009,2,  2338.1,2,  2399.1,2,   7.4966,2,    25.00, -999.00,9, -999.00,9,     1113,   38.79,2,   2.4903,2,       1602
49UP20160703,         P9,      34,          1,         15,        665,2,20160714,       0954,    19.9722,   136.9957,       4594,  1820.4,   2.2530,  34.6079,2,  34.6077,6,    108.5,2,  108.73,2,  139.24,2,    0.00,2,   2.720,2,   0.003,6,   0.002,6,   0.000,6,  2337.2,2,  2405.6,2,   7.5149,2,    25.00, -999.00,9, -999.00,9,     1108,   38.50,2,   2.2529,2,       1801
49UP20160703,         P9,      34,          1,         14,        999,2,20160714,       0954,    19.9722,   136.9957,       4594,  2022.2,   2.0787,  34.6221,2,  34.6226,2,    113.9,2,  114.13,6,  141.55,6,    0.00,6,   2.700,6,   0.000,2,   0.000,2,   0.000,2,  2341.4,2,  2408.7,2,   7.5189,2,    25.00, -999.00,9, -999.00,9,     1103,   38.32,6,   2.0785,2,       2000
49UP20160703,         P9,      34,          1,         13,        667,2,20160714,       0954,    19.9722,   136.9957,       4594,  2226.7,   1.9271,  34.6345,2,  34.6345,2,    120.5,2,  120.65,2,  142.91,2,    0.00,2,   2.670,2,-999.000,9,-999.000,9,-999.000,9,  2336.8,2,  2410.3,2,   7.5281,2,    25.00, -999.00,9, -999.00,9,     1058,   37.94,2,   1.9269,2,       2201
49UP20160703,         P9,      34,          1,         12,        074,2,20160714,       0954,    19.9722,   136.9957,       4594,  2430.7,   1.8369,  34.6429,2,  34.6424,2,    125.3,2,  125.46,2,  143.55,2,    0.00,2,   2.650,2,   0.169,4,   0.364,3,   0.001,3,  2340.1,2,  2411.7,2,    7.536,2,    25.00, -999.00,9, -999.00,9,     1053,   37.69,2,   1.8369,2,       2402
49UP20160703,         P9,      34,          1,         11,        268,2,20160714,       0954,    19.9722,   136.9957,       4594,  2632.2,   1.7588,  34.6511,2,  34.6507,2,    130.2,2,  130.41,2,  143.89,2,    0.00,2,   2.620,2,-999.000,9,-999.000,9,-999.000,9,  2335.6,6,  2412.7,6,   7.5426,2,    25.00, -999.00,9, -999.00,9,     1047,   37.40,2,   1.7586,2,       2600
49UP20160703,         P9,      34,          1,         10,        267,2,20160714,       0954,    19.9722,   136.9957,       4594,  2836.5,   1.6912,  34.6579,2,  34.6571,2,    135.5,2,  135.75,2,  143.54,2,    0.00,2,   2.600,2,-999.000,9,-999.000,9,-999.000,9,  2330.2,2,  2414.0,2,   7.5545,2,    25.00, -999.00,9, -999.00,9,     1042,   37.09,2,   1.6912,2,       2800
49UP20160703,         P9,      34,          1,          9,        518,2,20160714,       0954,    19.9722,   136.9957,       4594,  3039.5,   1.6388,  34.6637,2,  34.6630,2,    140.0,2,  140.01,2,  143.06,2,    0.00,2,   2.570,2,   0.000,2,   0.003,2,   0.000,2,  2333.0,2,  2413.6,2,   7.5581,2,    25.00, -999.00,9, -999.00,9,     1038,   36.78,2,   1.6387,2,       2999
49UP20160703,         P9,      34,          1,          8,        470,2,20160714,       0954,    19.9722,   136.9957,       4594,  3294.4,   1.5935,  34.6701,2,  34.6696,6,    144.5,2,  145.13,2,  142.93,2,    0.00,2,   2.550,2,-999.000,9,-999.000,9,-999.000,9,  2327.7,2,  2414.4,2,   7.5712,2,    25.00, -999.00,9, -999.00,9,     1032,   36.49,2,   1.5934,2,       3249
49UP20160703,         P9,      34,          1,          7,        516,2,20160714,       0954,    19.9722,   136.9957,       4594,  3548.9,   1.5803,  34.6735,2,  34.6727,2,    147.2,2,  147.43,6,  142.62,6,    0.00,6,   2.540,6,   1.683,4,   3.500,4,   0.175,4,  2329.0,2,  2414.3,2,   7.5736,2,    25.00, -999.00,9, -999.00,9,     1027,   36.36,6,   1.5802,2,       3498
49UP20160703,         P9,      34,          1,          6,        113,2,20160714,       0954,    19.9722,   136.9957,       4594,  3806.1,   1.5378,  34.6790,2,  34.6777,4,    152.5,2,  152.76,2,  141.45,2,    0.00,2,   2.510,2,-999.000,9,-999.000,9,-999.000,9,  2322.4,2,  2412.7,2,   7.5789,2,    25.00, -999.00,9, -999.00,9,     1022,   35.97,2,   1.5377,2,       3749
49UP20160703,         P9,      34,          1,          5,        658,2,20160714,       0954,    19.9722,   136.9957,       4594,  4064.4,   1.5016,  34.6840,2,  34.6825,4,    157.8,2,  157.76,2,  140.14,2,    0.00,2,   2.490,2,   0.002,2,   0.000,2,   0.006,2,  2319.6,2,  2410.2,2,   7.5886,6,    25.00, -999.00,9, -999.00,9,     1016,   35.66,2,   1.5014,2,       4001
49UP20160703,         P9,      34,          1,          4,        471,2,20160714,       0954,    19.9722,   136.9957,       4594,  4321.4,   1.5184,  34.6849,2,  34.6845,2,    158.8,2,  158.91,2,  139.84,2,    0.00,2,   2.480,2,-999.000,9,-999.000,9,-999.000,9,  2315.3,2,  2410.1,2,    7.591,2,    25.00, -999.00,9, -999.00,9,     1009,   35.57,2,   1.5184,2,       4252
49UP20160703,         P9,      34,          1,          3,        104,2,20160714,       0954,    19.9722,   136.9957,       4594,  4577.1,   1.5416,  34.6853,2,  34.6848,6,    159.6,2,  160.10,2,  139.60,2,    0.00,2,   2.470,2,   0.000,2,   0.000,2,   0.003,2,  2316.9,2,  2410.9,2,   7.5887,2,    25.00, -999.00,9, -999.00,9,     1003,   35.50,2,   1.5415,2,       4501
49UP20160703,         P9,      34,          1,          2,        075,2,20160714,       0954,    19.9722,   136.9957,       4594,  4832.9,   1.5651,  34.6860,2,  34.6851,2,    160.3,2,  160.49,6,  139.31,6,    0.00,6,   2.470,6,-999.000,9,-999.000,9,-999.000,9,  2320.0,2,  2410.4,2,     7.59,2,    25.00, -999.00,9, -999.00,9,      957,   35.44,6,   1.5651,2,       4750
49UP20160703,         P9,      34,          1,          1,        997,2,20160714,       0954,    19.9722,   136.9957,       4594,  4897.8,   1.5730,  34.6860,2,  34.6848,4,    160.3,2,  160.43,2,  139.21,2,    0.00,2,   2.470,2,   0.000,2,   0.001,2,   0.000,2,  2316.9,2,  2411.1,2,   7.5884,2,    25.00, -999.00,9, -999.00,9,      955,   35.43,2,   1.5730,2,       4813