BOTTLE,20230712CCHSIOENA
EXPOCODE,SECT_ID,STNNBR,CASTNO,SAMPNO,BTLNBR,BTLNBR_FLAG_W,DATE,TIME,LATITUDE,LONGITUDE,DEPTH,CTDPRS,CTDTMP,CTDSAL,CTDSAL_FLAG_W,SALNTY,SALNTY_FLAG_W,CTDOXY,CTDOXY_FLAG_W,OXYGEN,OXYGEN_FLAG_W,SILCAT,SILCAT_FLAG_W,NITRIT,NITRIT_FLAG_W,PHSPHT,PHSPHT_FLAG_W,CFC-11,CFC-11_FLAG_W,CFC-12,CFC-12_FLAG_W,CFC113,CFC113_FLAG_W,TCARBN,TCARBN_FLAG_W,ALKALI,ALKALI_FLAG_W,PH_TOT,PH_TOT_FLAG_W,PH_TMP,CHLORA,CHLORA_FLAG_W,PPHYTN,PPHYTN_FLAG_W,BTL_TIME,NO2+NO3,NO2+NO3_FLAG_W,SBE35,SBE35_FLAG_W,CTDDEPTH
,,,,,,,,,,,METERS,DBAR,ITS-90,PSS-78,,PSS-78,,UMOL/KG,,UMOL/KG,,UMOL/KG,,UMOL/KG,,UMOL/KG,,PMOL/KG,,PMOL/KG,,PMOL/KG,,UMOL/KG,,UMOL/KG,,,,DEG C,UG/KG,,UG/KG,,,UMOL/KG,,ITS-90,,METERS
49UP20160703,         P9,      29,          1,          0,        BUC,2,20160712,       2213,    22.4895,   137.3273,       4341,     0.0,  30.5022,  35.0146,2,-999.0000,9,    193.1,2,  192.90,2,    1.01,2,    0.00,2,   0.010,2,-999.000,9,-999.000,9,-999.000,9,  -999.0,9,  -999.0,9,-999.0000,9,  -999.00, -999.00,9, -999.00,9,     2347,    0.00,2,-999.0000,9,          0
49UP20160703,         P9,      29,          1,         36,        109,2,20160712,       2213,    22.4895,   137.3273,       4341,     9.1,  30.4366,  35.0176,2,  35.0143,2,    193.2,2,  193.24,2,    0.99,2,    0.00,2,   0.010,2,-999.000,9,-999.000,9,-999.000,9,  -999.0,9,  -999.0,9,-999.0000,9,  -999.00, -999.00,9, -999.00,9,       13,    0.00,2,  30.4488,2,          9
49UP20160703,         P9,      29,          1,         35,        112,2,20160712,       2213,    22.4895,   137.3273,       4341,    25.2,  30.2694,  35.0074,2,  35.0072,2,    194.0,2,  194.09,2,    0.99,2,    0.00,2,   0.000,2,-999.000,9,-999.000,9,-999.000,9,  -999.0,9,  -999.0,9,-999.0000,9,  -999.00, -999.00,9, -999.00,9,       12,    0.00,2,  30.2706,2,         25
49UP20160703,         P9,      29,          1,         34,        094,2,20160712,       2213,    22.4895,   137.3273,       4341,    51.1,  28.5153,  34.9532,2,  34.9616,4,    202.9,2,  203.59,2,    1.04,2,    0.00,2,   0.010,2,-999.000,9,-999.000,9,-999.000,9,  -999.0,9,  -999.0,9,-999.0000,9,  -999.00, -999.00,9, -999.00,9,        8,    0.02,2,  28.4221,2,         51
49UP20160703,         P9,      29,          1,         33,        469,2,20160712,       2213,    22.4895,   137.3273,       4341,    74.5,  25.7058,  35.0094,2,  34.9966,4,    220.2,2,  219.01,2,    1.13,2,    0.00,2,   0.010,2,-999.000,9,-999.000,9,-999.000,9,  -999.0,9,  -999.0,9,-999.0000,9,  -999.00, -999.00,9, -999.00,9,        7,    0.02,2,  25.7441,2,         74
49UP20160703,         P9,      29,          1,         32,        089,2,20160712,       2213,    22.4895,   137.3273,       4341,   100.1,  23.9023,  34.9833,2,  34.9833,2,    222.7,2,  222.21,2,    1.25,2,    0.00,2,   0.000,2,-999.000,9,-999.000,9,-999.000,9,  -999.0,9,  -999.0,9,-999.0000,9,  -999.00, -999.00,9, -999.00,9,        6,    0.00,2,  23.9010,2,         99
49UP20160703,         P9,      29,          1,         31,        515,2,20160712,       2213,    22.4895,   137.3273,       4341,   125.9,  22.6572,  34.9671,2,  34.9622,2,    218.1,2,  217.45,2,    1.36,2,    0.00,2,   0.010,2,-999.000,9,-999.000,9,-999.000,9,  -999.0,9,  -999.0,9,-999.0000,9,  -999.00, -999.00,9, -999.00,9,        5,    0.00,2,  22.6596,2,        125
49UP20160703,         P9,      29,          1,         30,        097,2,20160712,       2213,    22.4895,   137.3273,       4341,   150.7,  21.5465,  34.9462,2,  34.9418,2,    210.0,2,  209.71,2,    1.61,2,    0.06,2,   0.040,2,-999.000,9,-999.000,9,-999.000,9,  -999.0,9,  -999.0,9,-999.0000,9,  -999.00, -999.00,9, -999.00,9,        3,    0.15,2,  21.5483,2,        150
49UP20160703,         P9,      29,          1,         29,        102,2,20160712,       2213,    22.4895,   137.3273,       4341,   202.4,  19.8160,  34.8838,2,  34.8803,2,    207.2,2,  206.58,2,    2.13,2,    0.02,2,   0.130,2,-999.000,9,-999.000,9,-999.000,9,  -999.0,9,  -999.0,9,-999.0000,9,  -999.00, -999.00,9, -999.00,9,        2,    1.78,2,  19.8168,2,        201
49UP20160703,         P9,      29,          1,         28,        472,2,20160712,       2213,    22.4895,   137.3273,       4341,   253.0,  18.2436,  34.7954,2,  34.7955,6,    198.9,2,  199.07,2,    3.44,2,    0.00,2,   0.270,2,-999.000,9,-999.000,9,-999.000,9,  -999.0,9,  -999.0,9,-999.0000,9,  -999.00, -999.00,9, -999.00,9,        0,    4.04,2,  18.2420,2,        251
49UP20160703,         P9,      29,          1,         27,        998,2,20160712,       2213,    22.4895,   137.3273,       4341,   332.7,  16.4465,  34.6712,2,  34.6708,2,    201.6,2,  201.65,6,    5.49,6,    0.00,6,   0.410,6,-999.000,9,-999.000,9,-999.000,9,  -999.0,9,  -999.0,9,-999.0000,9,  -999.00, -999.00,9, -999.00,9,     2357,    6.23,6,  16.4466,2,        330
49UP20160703,         P9,      29,          1,         25,        098,2,20160712,       2213,    22.4895,   137.3273,       4341,   433.4,  13.9345,  34.4596,2,  34.4587,2,    188.0,2,  188.05,2,   11.81,2,    0.00,2,   0.780,2,-999.000,9,-999.000,9,-999.000,9,  -999.0,9,  -999.0,9,-999.0000,9,  -999.00, -999.00,9, -999.00,9,     2354,   11.24,2,  13.9358,2,        430
49UP20160703,         P9,      29,          1,         26,        084,2,20160712,       2213,    22.4895,   137.3273,       4341,   433.7,  13.9287,  34.4595,2,  34.4602,2,    188.1,2,  188.20,2,   11.72,2,    0.00,2,   0.770,2,-999.000,9,-999.000,9,-999.000,9,  -999.0,9,  -999.0,9,-999.0000,9,  -999.00, -999.00,9, -999.00,9,     2355,   11.18,2,  13.9304,2,        431
49UP20160703,         P9,      29,          1,         24,        110,2,20160712,       2213,    22.4895,   137.3273,       4341,   534.5,  10.3160,  34.2359,2,  34.2369,2,    165.8,2,  165.92,2,   28.30,2,    0.00,2,   1.390,2,-999.000,9,-999.000,9,-999.000,9,  -999.0,9,  -999.0,9,-999.0000,9,  -999.00, -999.00,9, -999.00,9,     2351,   19.56,2,  10.3182,2,        530
49UP20160703,         P9,      29,          1,         23,        679,2,20160712,       2213,    22.4895,   137.3273,       4341,   635.6,   7.3117,  34.1187,2,  34.1192,2,    128.4,2,  128.10,2,   53.03,2,    0.00,2,   2.030,2,-999.000,9,-999.000,9,-999.000,9,  -999.0,9,  -999.0,9,-999.0000,9,  -999.00, -999.00,9, -999.00,9,     2348,   28.30,2,   7.3157,2,        631
49UP20160703,         P9,      29,          1,         22,        111,2,20160712,       2213,    22.4895,   137.3273,       4341,   735.8,   5.7473,  34.1379,2,  34.1376,2,     94.2,2,   93.90,2,   74.86,2,    0.00,2,   2.460,2,-999.000,9,-999.000,9,-999.000,9,  -999.0,9,  -999.0,9,-999.0000,9,  -999.00, -999.00,9, -999.00,9,     2345,   34.13,2,   5.7524,2,        730
49UP20160703,         P9,      29,          1,         21,        078,2,20160712,       2213,    22.4895,   137.3273,       4341,   836.7,   4.9405,  34.2115,2,  34.2124,2,     73.7,2,   73.27,2,   91.35,2,    0.00,2,   2.680,2,-999.000,9,-999.000,9,-999.000,9,  -999.0,9,  -999.0,9,-999.0000,9,  -999.00, -999.00,9, -999.00,9,     2343,   37.20,2,   4.9399,2,        830
49UP20160703,         P9,      29,          1,         20,        093,2,20160712,       2213,    22.4895,   137.3273,       4341,   938.4,   4.3058,  34.3155,2,  34.3163,6,     59.5,2,   59.08,2,  104.89,2,    0.00,2,   2.840,2,-999.000,9,-999.000,9,-999.000,9,  -999.0,9,  -999.0,9,-999.0000,9,  -999.00, -999.00,9, -999.00,9,     2340,   39.49,2,   4.3057,2,        930
49UP20160703,         P9,      29,          1,         19,        269,2,20160712,       2213,    22.4895,   137.3273,       4341,  1081.9,   3.6690,  34.4068,2,  34.4068,2,     59.2,2,   59.12,6,  118.40,6,    0.00,6,   2.890,6,-999.000,9,-999.000,9,-999.000,9,  -999.0,9,  -999.0,9,-999.0000,9,  -999.00, -999.00,9, -999.00,9,     2335,   40.40,6,   3.6730,2,       1072
49UP20160703,         P9,      29,          1,         17,        090,2,20160712,       2213,    22.4895,   137.3273,       4341,  1282.0,   3.0212,  34.4808,2,  34.4796,2,     67.5,2,   66.89,2,  132.34,2,    0.00,2,   2.890,2,-999.000,9,-999.000,9,-999.000,9,  -999.0,9,  -999.0,9,-999.0000,9,  -999.00, -999.00,9, -999.00,9,     2330,   40.48,2,   3.0212,2,       1270
49UP20160703,         P9,      29,          1,         18,        088,2,20160712,       2213,    22.4895,   137.3273,       4341,  1282.2,   3.0202,  34.4809,2,  34.4809,2,     67.6,2,   67.39,2,  132.12,2,    0.00,2,   2.880,2,-999.000,9,-999.000,9,-999.000,9,  -999.0,9,  -999.0,9,-999.0000,9,  -999.00, -999.00,9, -999.00,9,     2330,   40.45,2,   3.0200,2,       1270
49UP20160703,         P9,      29,          1,         16,        474,2,20160712,       2213,    22.4895,   137.3273,       4341,  1484.2,   2.6287,  34.5405,2,  34.5393,2,     85.1,2,   84.76,2,  137.27,2,    0.00,2,   2.810,2,-999.000,9,-999.000,9,-999.000,9,  -999.0,9,  -999.0,9,-999.0000,9,  -999.00, -999.00,9, -999.00,9,     2325,   39.54,2,   2.6289,2,       1470
49UP20160703,         P9,      29,          1,         15,        665,2,20160712,       2213,    22.4895,   137.3273,       4341,  1686.8,   2.3017,  34.5839,2,  34.5827,4,    101.1,2,  100.59,2,  139.97,2,    0.00,2,   2.740,2,-999.000,9,-999.000,9,-999.000,9,  -999.0,9,  -999.0,9,-999.0000,9,  -999.00, -999.00,9, -999.00,9,     2319,   38.72,2,   2.3018,2,       1669
49UP20160703,         P9,      29,          1,         14,        999,2,20160712,       2213,    22.4895,   137.3273,       4341,  1889.9,   2.1417,  34.6090,2,  34.6083,2,    110.9,2,  110.54,2,  140.70,2,    0.00,2,   2.700,2,-999.000,9,-999.000,9,-999.000,9,  -999.0,9,  -999.0,9,-999.0000,9,  -999.00, -999.00,9, -999.00,9,     2314,   38.24,2,   2.1416,2,       1870
49UP20160703,         P9,      29,          1,         13,        667,4,20160712,       2213,    22.4895,   137.3273,       4341,  2094.2,   1.9671,  34.6243,2,  34.5659,4,    118.1,2,   94.25,4,  138.43,4,    0.00,4,   2.770,4,-999.000,9,-999.000,9,-999.000,9,  -999.0,9,  -999.0,9,-999.0000,9,  -999.00, -999.00,9, -999.00,9,     2310,   38.99,4,   1.9671,2,       2071
49UP20160703,         P9,      29,          1,         11,        268,2,20160712,       2213,    22.4895,   137.3273,       4341,  2297.0,   1.8264,  34.6381,2,  34.6382,2,    125.6,2,  125.55,2,  142.83,2,    0.00,2,   2.630,2,-999.000,9,-999.000,9,-999.000,9,  -999.0,9,  -999.0,9,-999.0000,9,  -999.00, -999.00,9, -999.00,9,     2304,   37.53,2,   1.8267,2,       2270
49UP20160703,         P9,      29,          1,         12,        074,2,20160712,       2213,    22.4895,   137.3273,       4341,  2297.1,   1.8265,  34.6380,2,  34.6385,2,    125.5,2,  125.35,2,  142.80,2,    0.00,2,   2.630,2,-999.000,9,-999.000,9,-999.000,9,  -999.0,9,  -999.0,9,-999.0000,9,  -999.00, -999.00,9, -999.00,9,     2304,   37.51,2,   1.8265,2,       2270
49UP20160703,         P9,      29,          1,         10,        267,2,20160712,       2213,    22.4895,   137.3273,       4341,  2501.3,   1.7718,  34.6445,2,  34.6446,6,    129.5,2,  129.52,2,  142.77,2,    0.00,2,   2.610,2,-999.000,9,-999.000,9,-999.000,9,  -999.0,9,  -999.0,9,-999.0000,9,  -999.00, -999.00,9, -999.00,9,     2259,   37.22,2,   1.7718,2,       2471
49UP20160703,         P9,      29,          1,          9,        518,2,20160712,       2213,    22.4895,   137.3273,       4341,  2705.4,   1.7083,  34.6520,2,  34.6522,2,    134.1,2,  133.97,6,  142.94,6,    0.00,6,   2.590,6,-999.000,9,-999.000,9,-999.000,9,  -999.0,9,  -999.0,9,-999.0000,9,  -999.00, -999.00,9, -999.00,9,     2255,   36.99,6,   1.7082,2,       2671
49UP20160703,         P9,      29,          1,          8,        470,2,20160712,       2213,    22.4895,   137.3273,       4341,  2909.5,   1.6525,  34.6589,2,  34.6597,2,    138.7,2,  138.91,2,  142.70,2,    0.00,2,   2.570,2,-999.000,9,-999.000,9,-999.000,9,  -999.0,9,  -999.0,9,-999.0000,9,  -999.00, -999.00,9, -999.00,9,     2250,   36.70,2,   1.6529,2,       2871
49UP20160703,         P9,      29,          1,          7,        516,3,20160712,       2213,    22.4895,   137.3273,       4341,  3122.5,   1.5968,  34.6663,2,  34.6665,2,    143.6,2,  144.46,2,  142.40,2,    0.00,2,   2.540,2,-999.000,9,-999.000,9,-999.000,9,  -999.0,9,  -999.0,9,-999.0000,9,  -999.00, -999.00,9, -999.00,9,     2245,   36.38,2,   1.5968,2,       3080
49UP20160703,         P9,      29,          1,          6,        113,3,20160712,       2213,    22.4895,   137.3273,       4341,  3376.7,   1.5818,  34.6711,2,  34.6715,2,    146.1,2,  145.75,2,  142.48,2,    0.00,2,   2.530,2,-999.000,9,-999.000,9,-999.000,9,  -999.0,9,  -999.0,9,-999.0000,9,  -999.00, -999.00,9, -999.00,9,     2239,   36.23,2,   1.5818,2,       3329
49UP20160703,         P9,      29,          1,          5,        658,2,20160712,       2213,    22.4895,   137.3273,       4341,  3634.2,   1.5436,  34.6762,2,  34.6759,6,    151.0,2,  150.63,2,  141.40,2,    0.00,2,   2.500,2,-999.000,9,-999.000,9,-999.000,9,  -999.0,9,  -999.0,9,-999.0000,9,  -999.00, -999.00,9, -999.00,9,     2233,   35.88,2,   1.5436,2,       3581
49UP20160703,         P9,      29,          1,          4,        471,2,20160712,       2213,    22.4895,   137.3273,       4341,  3890.6,   1.5253,  34.6806,2,  34.6804,2,    154.5,2,  154.51,6,  140.95,6,    0.00,6,   2.490,6,-999.000,9,-999.000,9,-999.000,9,  -999.0,9,  -999.0,9,-999.0000,9,  -999.00, -999.00,9, -999.00,9,     2227,   35.67,6,   1.5255,2,       3831
49UP20160703,         P9,      29,          1,          3,        104,2,20160712,       2213,    22.4895,   137.3273,       4341,  4144.7,   1.5406,  34.6816,2,  34.6816,2,    155.5,2,  155.17,2,  140.77,2,    0.00,2,   2.480,2,-999.000,9,-999.000,9,-999.000,9,  -999.0,9,  -999.0,9,-999.0000,9,  -999.00, -999.00,9, -999.00,9,     2222,   35.65,2,   1.5406,2,       4079
49UP20160703,         P9,      29,          1,          2,        075,2,20160712,       2213,    22.4895,   137.3273,       4341,  4402.2,   1.5594,  34.6826,2,  34.6823,2,    156.5,2,  156.15,2,  140.58,2,    0.00,2,   2.480,2,-999.000,9,-999.000,9,-999.000,9,  -999.0,9,  -999.0,9,-999.0000,9,  -999.00, -999.00,9, -999.00,9,     2216,   35.53,2,   1.5594,2,       4330
49UP20160703,         P9,      29,          1,          1,        997,4,20160712,       2213,    22.4895,   137.3273,       4341,  4523.9,   1.5713,  34.6827,2,  34.1271,4,    156.7,2,   99.30,4,   71.68,4,    0.00,4,   2.400,4,-999.000,9,-999.000,9,-999.000,9,  -999.0,9,  -999.0,9,-999.0000,9,  -999.00, -999.00,9, -999.00,9,     2213,   33.28,4,   1.5713,2,       4448