BOTTLE,20230712CCHSIOENA
EXPOCODE,SECT_ID,STNNBR,CASTNO,SAMPNO,BTLNBR,BTLNBR_FLAG_W,DATE,TIME,LATITUDE,LONGITUDE,DEPTH,CTDPRS,CTDTMP,CTDSAL,CTDSAL_FLAG_W,SALNTY,SALNTY_FLAG_W,CTDOXY,CTDOXY_FLAG_W,OXYGEN,OXYGEN_FLAG_W,SILCAT,SILCAT_FLAG_W,NITRIT,NITRIT_FLAG_W,PHSPHT,PHSPHT_FLAG_W,CFC-11,CFC-11_FLAG_W,CFC-12,CFC-12_FLAG_W,CFC113,CFC113_FLAG_W,TCARBN,TCARBN_FLAG_W,ALKALI,ALKALI_FLAG_W,PH_TOT,PH_TOT_FLAG_W,PH_TMP,CHLORA,CHLORA_FLAG_W,PPHYTN,PPHYTN_FLAG_W,BTL_TIME,NO2+NO3,NO2+NO3_FLAG_W,SBE35,SBE35_FLAG_W,CTDDEPTH
,,,,,,,,,,,METERS,DBAR,ITS-90,PSS-78,,PSS-78,,UMOL/KG,,UMOL/KG,,UMOL/KG,,UMOL/KG,,UMOL/KG,,PMOL/KG,,PMOL/KG,,PMOL/KG,,UMOL/KG,,UMOL/KG,,,,DEG C,UG/KG,,UG/KG,,,UMOL/KG,,ITS-90,,METERS
49UP20160703,         P9,      55,          1,          0,        BUC,2,20160721,       1205,     9.5007,   136.9855,       4752,     0.0,  30.1668,  34.3116,2,-999.0000,9,    193.4,2,  193.66,2,    1.07,2,    0.00,2,   0.070,2,-999.000,9,-999.000,9,-999.000,9,  -999.0,9,  -999.0,9,-999.0000,9,  -999.00, -999.00,9, -999.00,9,     1343,    0.00,2,-999.0000,9,          0
49UP20160703,         P9,      55,          1,         36,        109,2,20160721,       1205,     9.5007,   136.9855,       4752,    10.3,  30.0871,  34.3265,2,  34.3296,2,    193.5,2,  193.74,2,    1.02,2,    0.00,2,   0.070,2,-999.000,9,-999.000,9,-999.000,9,  -999.0,9,  -999.0,9,-999.0000,9,  -999.00, -999.00,9, -999.00,9,     1412,    0.01,2,  30.0859,2,         10
49UP20160703,         P9,      55,          1,         28,        472,2,20160721,       1205,     9.5007,   136.9855,       4752,    24.9,  29.9591,  34.3831,2,  34.3853,2,    193.8,2,  194.32,2,    1.07,2,    0.00,2,   0.050,2,-999.000,9,-999.000,9,-999.000,9,  -999.0,9,  -999.0,9,-999.0000,9,  -999.00, -999.00,9, -999.00,9,     1410,    0.00,2,  29.9608,2,         25
49UP20160703,         P9,      55,          1,         35,        112,2,20160721,       1205,     9.5007,   136.9855,       4752,    50.6,  29.5889,  34.6006,2,  34.5992,2,    197.7,2,  198.11,2,    1.11,2,    0.00,2,   0.060,2,-999.000,9,-999.000,9,-999.000,9,  -999.0,9,  -999.0,9,-999.0000,9,  -999.00, -999.00,9, -999.00,9,     1407,    0.00,2,  29.5865,2,         50
49UP20160703,         P9,      55,          1,         34,        094,2,20160721,       1205,     9.5007,   136.9855,       4752,    75.6,  28.7796,  34.7564,2,  34.7620,2,    200.4,2,  200.97,2,    1.20,2,    0.00,2,   0.080,2,-999.000,9,-999.000,9,-999.000,9,  -999.0,9,  -999.0,9,-999.0000,9,  -999.00, -999.00,9, -999.00,9,     1405,    0.00,2,  28.7757,2,         75
49UP20160703,         P9,      55,          1,         33,        469,2,20160721,       1205,     9.5007,   136.9855,       4752,   100.5,  24.4723,  34.9338,2,  34.9374,2,    193.4,2,  193.51,2,    2.12,2,    0.04,2,   0.170,2,-999.000,9,-999.000,9,-999.000,9,  -999.0,9,  -999.0,9,-999.0000,9,  -999.00, -999.00,9, -999.00,9,     1404,    0.35,2,  24.4847,2,        100
49UP20160703,         P9,      55,          1,         32,        089,2,20160721,       1205,     9.5007,   136.9855,       4752,   125.4,  20.1553,  34.9576,2,  34.9587,6,    177.9,2,  178.73,2,    3.78,2,    0.10,2,   0.360,2,-999.000,9,-999.000,9,-999.000,9,  -999.0,9,  -999.0,9,-999.0000,9,  -999.00, -999.00,9, -999.00,9,     1403,    3.80,2,  20.1477,2,        125
49UP20160703,         P9,      55,          1,         31,        515,2,20160721,       1205,     9.5007,   136.9855,       4752,   150.1,  17.9899,  34.8108,2,  34.8144,2,    171.5,2,  172.17,2,    5.97,2,    0.03,2,   0.540,2,-999.000,9,-999.000,9,-999.000,9,  -999.0,9,  -999.0,9,-999.0000,9,  -999.00, -999.00,9, -999.00,9,     1401,    6.74,2,  17.9753,2,        149
49UP20160703,         P9,      55,          1,         30,        097,2,20160721,       1205,     9.5007,   136.9855,       4752,   204.0,  11.7084,  34.4697,2,  34.4707,2,    108.4,2,  107.95,6,   25.61,6,    0.00,6,   1.670,6,-999.000,9,-999.000,9,-999.000,9,  -999.0,9,  -999.0,9,-999.0000,9,  -999.00, -999.00,9, -999.00,9,     1400,   23.09,6,  11.7112,2,        203
49UP20160703,         P9,      55,          1,         29,        102,2,20160721,       1205,     9.5007,   136.9855,       4752,   251.1,  10.7976,  34.4785,2,  34.4773,2,    100.2,2,   99.84,2,   30.10,2,    0.00,2,   1.850,2,-999.000,9,-999.000,9,-999.000,9,  -999.0,9,  -999.0,9,-999.0000,9,  -999.00, -999.00,9, -999.00,9,     1358,   25.74,2,  10.7948,2,        250
49UP20160703,         P9,      55,          1,         27,        998,2,20160721,       1205,     9.5007,   136.9855,       4752,   302.2,   9.3815,  34.5069,2,  34.5056,2,     92.2,2,   92.47,2,   36.49,2,    0.00,2,   2.080,2,-999.000,9,-999.000,9,-999.000,9,  -999.0,9,  -999.0,9,-999.0000,9,  -999.00, -999.00,9, -999.00,9,     1356,   29.21,2,   9.3813,2,        300
49UP20160703,         P9,      55,          1,         26,        084,2,20160721,       1205,     9.5007,   136.9855,       4752,   351.8,   8.7236,  34.5234,2,  34.5234,2,    100.3,2,  100.66,2,   38.39,2,    0.00,2,   2.110,2,-999.000,9,-999.000,9,-999.000,9,  -999.0,9,  -999.0,9,-999.0000,9,  -999.00, -999.00,9, -999.00,9,     1354,   29.84,2,   8.7235,2,        350
49UP20160703,         P9,      55,          1,         25,        098,2,20160721,       1205,     9.5007,   136.9855,       4752,   405.2,   8.2451,  34.5434,2,  34.5421,2,     94.4,2,   94.27,2,   39.66,2,    0.00,2,   2.220,2,-999.000,9,-999.000,9,-999.000,9,  -999.0,9,  -999.0,9,-999.0000,9,  -999.00, -999.00,9, -999.00,9,     1352,   31.50,2,   8.2458,2,        403
49UP20160703,         P9,      55,          1,         24,        110,2,20160721,       1205,     9.5007,   136.9855,       4752,   453.4,   7.8543,  34.5437,2,  34.5439,2,    106.8,2,  107.22,2,   39.22,2,    0.00,2,   2.190,2,-999.000,9,-999.000,9,-999.000,9,  -999.0,9,  -999.0,9,-999.0000,9,  -999.00, -999.00,9, -999.00,9,     1350,   31.27,2,   7.8541,2,        450
49UP20160703,         P9,      55,          1,         23,        679,2,20160721,       1205,     9.5007,   136.9855,       4752,   503.4,   7.6162,  34.5488,2,  34.5480,2,    114.6,2,  113.89,2,   38.79,2,    0.00,2,   2.190,2,-999.000,9,-999.000,9,-999.000,9,  -999.0,9,  -999.0,9,-999.0000,9,  -999.00, -999.00,9, -999.00,9,     1349,   31.29,2,   7.6164,2,        500
49UP20160703,         P9,      55,          1,         22,        111,2,20160721,       1205,     9.5007,   136.9855,       4752,   604.6,   7.1821,  34.5436,2,  34.5434,2,    110.7,2,  111.11,2,   42.20,2,    0.00,2,   2.280,2,-999.000,9,-999.000,9,-999.000,9,  -999.0,9,  -999.0,9,-999.0000,9,  -999.00, -999.00,9, -999.00,9,     1346,   32.48,2,   7.1823,2,        600
49UP20160703,         P9,      55,          1,         21,        078,2,20160721,       1205,     9.5007,   136.9855,       4752,   707.9,   6.4070,  34.5025,2,  34.5043,2,    101.9,2,  102.06,2,   55.75,2,    0.00,2,   2.410,2,-999.000,9,-999.000,9,-999.000,9,  -999.0,9,  -999.0,9,-999.0000,9,  -999.00, -999.00,9, -999.00,9,     1343,   34.17,2,   6.4131,2,        703
49UP20160703,         P9,      55,          1,         20,        093,2,20160721,       1205,     9.5007,   136.9855,       4752,   805.9,   5.9799,  34.5149,2,  34.5150,2,     97.8,2,   97.40,2,   63.15,2,    0.00,2,   2.500,2,-999.000,9,-999.000,9,-999.000,9,  -999.0,9,  -999.0,9,-999.0000,9,  -999.00, -999.00,9, -999.00,9,     1340,   35.37,2,   5.9792,2,        800
49UP20160703,         P9,      55,          1,         19,        269,2,20160721,       1205,     9.5007,   136.9855,       4752,   908.9,   5.3412,  34.5264,2,  34.5264,2,     95.8,2,   95.77,2,   73.83,2,    0.00,2,   2.590,2,-999.000,9,-999.000,9,-999.000,9,  -999.0,9,  -999.0,9,-999.0000,9,  -999.00, -999.00,9, -999.00,9,     1337,   36.55,2,   5.3411,2,        902
49UP20160703,         P9,      55,          1,         18,        088,2,20160721,       1205,     9.5007,   136.9855,       4752,  1008.6,   4.8097,  34.5399,2,  34.5406,6,     91.3,2,   91.08,2,   85.39,2,    0.00,2,   2.660,2,-999.000,9,-999.000,9,-999.000,9,  -999.0,9,  -999.0,9,-999.0000,9,  -999.00, -999.00,9, -999.00,9,     1334,   37.57,2,   4.8101,2,       1000
49UP20160703,         P9,      55,          1,         17,        090,2,20160721,       1205,     9.5007,   136.9855,       4752,  1210.3,   3.9877,  34.5635,2,  34.5632,2,     91.8,2,   91.68,6,  101.94,6,    0.00,6,   2.730,6,-999.000,9,-999.000,9,-999.000,9,  -999.0,9,  -999.0,9,-999.0000,9,  -999.00, -999.00,9, -999.00,9,     1330,   38.51,6,   3.9886,2,       1200
49UP20160703,         P9,      55,          1,         16,        474,2,20160721,       1205,     9.5007,   136.9855,       4752,  1414.1,   3.3229,  34.5833,2,  34.5836,2,     96.5,2,   96.53,2,  115.11,2,    0.00,2,   2.740,2,-999.000,9,-999.000,9,-999.000,9,  -999.0,9,  -999.0,9,-999.0000,9,  -999.00, -999.00,9, -999.00,9,     1325,   38.69,2,   3.3250,2,       1401
49UP20160703,         P9,      55,          1,         15,        665,2,20160721,       1205,     9.5007,   136.9855,       4752,  1615.5,   2.8883,  34.6000,2,  34.5999,2,    101.9,2,  101.83,2,  123.97,2,    0.00,2,   2.730,2,-999.000,9,-999.000,9,-999.000,9,  -999.0,9,  -999.0,9,-999.0000,9,  -999.00, -999.00,9, -999.00,9,     1320,   38.73,2,   2.8882,2,       1600
49UP20160703,         P9,      55,          1,         14,        999,2,20160721,       1205,     9.5007,   136.9855,       4752,  1818.5,   2.5179,  34.6175,2,  34.6174,2,    108.3,2,  108.79,2,  131.25,2,    0.00,2,   2.710,2,-999.000,9,-999.000,9,-999.000,9,  -999.0,9,  -999.0,9,-999.0000,9,  -999.00, -999.00,9, -999.00,9,     1315,   38.56,2,   2.5178,2,       1800
49UP20160703,         P9,      55,          1,         13,        667,2,20160721,       1205,     9.5007,   136.9855,       4752,  2021.4,   2.2336,  34.6298,2,  34.6298,6,    113.7,2,  114.05,2,  137.22,2,    0.00,2,   2.680,2,-999.000,9,-999.000,9,-999.000,9,  -999.0,9,  -999.0,9,-999.0000,9,  -999.00, -999.00,9, -999.00,9,     1310,   38.37,2,   2.2336,2,       2000
49UP20160703,         P9,      55,          1,         12,        074,2,20160721,       1205,     9.5007,   136.9855,       4752,  2223.9,   2.0238,  34.6415,2,  34.6416,2,    120.3,2,  120.51,6,  140.55,6,    0.00,6,   2.650,6,-999.000,9,-999.000,9,-999.000,9,  -999.0,9,  -999.0,9,-999.0000,9,  -999.00, -999.00,9, -999.00,9,     1305,   38.03,6,   2.0236,2,       2200
49UP20160703,         P9,      55,          1,         11,        268,2,20160721,       1205,     9.5007,   136.9855,       4752,  2428.2,   1.8785,  34.6499,2,  34.6498,2,    125.3,2,  125.18,2,  142.92,2,    0.00,2,   2.630,2,-999.000,9,-999.000,9,-999.000,9,  -999.0,9,  -999.0,9,-999.0000,9,  -999.00, -999.00,9, -999.00,9,     1300,   37.77,2,   1.8784,2,       2401
49UP20160703,         P9,      55,          1,         10,        267,2,20160721,       1205,     9.5007,   136.9855,       4752,  2630.7,   1.7261,  34.6598,2,  34.6600,2,    133.2,2,  133.74,2,  143.66,2,    0.00,2,   2.590,2,-999.000,9,-999.000,9,-999.000,9,  -999.0,9,  -999.0,9,-999.0000,9,  -999.00, -999.00,9, -999.00,9,     1256,   37.26,2,   1.7262,2,       2600
49UP20160703,         P9,      55,          1,          9,        518,2,20160721,       1205,     9.5007,   136.9855,       4752,  2834.6,   1.6600,  34.6648,2,  34.6650,2,    137.0,2,  137.27,2,  144.09,2,    0.00,2,   2.570,2,-999.000,9,-999.000,9,-999.000,9,  -999.0,9,  -999.0,9,-999.0000,9,  -999.00, -999.00,9, -999.00,9,     1251,   37.00,2,   1.6599,2,       2800
49UP20160703,         P9,      55,          1,          8,        470,2,20160721,       1205,     9.5007,   136.9855,       4752,  3039.1,   1.6177,  34.6688,2,  34.6691,6,    140.7,2,  140.94,2,  143.75,2,    0.00,2,   2.540,2,-999.000,9,-999.000,9,-999.000,9,  -999.0,9,  -999.0,9,-999.0000,9,  -999.00, -999.00,9, -999.00,9,     1247,   36.74,2,   1.6178,2,       3000
49UP20160703,         P9,      55,          1,          7,        516,2,20160721,       1205,     9.5007,   136.9855,       4752,  3294.5,   1.5693,  34.6736,2,  34.6734,2,    146.1,2,  146.22,6,  142.73,6,    0.00,6,   2.520,6,-999.000,9,-999.000,9,-999.000,9,  -999.0,9,  -999.0,9,-999.0000,9,  -999.00, -999.00,9, -999.00,9,     1241,   36.45,6,   1.5691,2,       3251
49UP20160703,         P9,      55,          1,          6,        113,2,20160721,       1205,     9.5007,   136.9855,       4752,  3549.7,   1.5516,  34.6768,2,  34.6762,2,    149.7,2,  149.81,2,  141.82,2,    0.00,2,   2.500,2,-999.000,9,-999.000,9,-999.000,9,  -999.0,9,  -999.0,9,-999.0000,9,  -999.00, -999.00,9, -999.00,9,     1235,   36.19,2,   1.5517,2,       3500
49UP20160703,         P9,      55,          1,          5,        658,3,20160721,       1205,     9.5007,   136.9855,       4752,  3805.5,   1.5408,  34.6796,2,  34.6798,2,    152.8,2,  152.62,2,  141.05,2,    0.00,2,   2.490,2,-999.000,9,-999.000,9,-999.000,9,  -999.0,9,  -999.0,9,-999.0000,9,  -999.00, -999.00,9, -999.00,9,     1229,   35.99,2,   1.5409,2,       3750
49UP20160703,         P9,      55,          1,          4,        471,2,20160721,       1205,     9.5007,   136.9855,       4752,  4061.9,   1.5285,  34.6826,2,  34.6829,2,    156.2,2,  156.29,2,  140.23,2,    0.00,2,   2.470,2,-999.000,9,-999.000,9,-999.000,9,  -999.0,9,  -999.0,9,-999.0000,9,  -999.00, -999.00,9, -999.00,9,     1224,   35.75,2,   1.5285,2,       4001
49UP20160703,         P9,      55,          1,          3,        104,2,20160721,       1205,     9.5007,   136.9855,       4752,  4318.1,   1.5423,  34.6836,2,  34.6830,2,    157.5,2,  157.73,2,  139.62,2,    0.00,2,   2.460,2,-999.000,9,-999.000,9,-999.000,9,  -999.0,9,  -999.0,9,-999.0000,9,  -999.00, -999.00,9, -999.00,9,     1218,   35.64,2,   1.5423,2,       4251
49UP20160703,         P9,      55,          1,          2,        075,2,20160721,       1205,     9.5007,   136.9855,       4752,  4574.6,   1.5679,  34.6840,2,  34.6829,2,    157.9,2,  158.13,2,  139.47,2,    0.00,2,   2.460,2,-999.000,9,-999.000,9,-999.000,9,  -999.0,9,  -999.0,9,-999.0000,9,  -999.00, -999.00,9, -999.00,9,     1212,   35.60,2,   1.5678,2,       4501
49UP20160703,         P9,      55,          1,          1,        997,2,20160721,       1205,     9.5007,   136.9855,       4752,  4827.5,   1.5947,  34.6843,2,  34.6843,2,    158.4,2,  158.10,2,  139.40,2,    0.00,2,   2.450,2,-999.000,9,-999.000,9,-999.000,9,  -999.0,9,  -999.0,9,-999.0000,9,  -999.00, -999.00,9, -999.00,9,     1206,   35.58,2,   1.5948,2,       4747