BOTTLE,20230712CCHSIOENA
EXPOCODE,SECT_ID,STNNBR,CASTNO,SAMPNO,BTLNBR,BTLNBR_FLAG_W,DATE,TIME,LATITUDE,LONGITUDE,DEPTH,CTDPRS,CTDTMP,CTDSAL,CTDSAL_FLAG_W,SALNTY,SALNTY_FLAG_W,CTDOXY,CTDOXY_FLAG_W,OXYGEN,OXYGEN_FLAG_W,SILCAT,SILCAT_FLAG_W,NITRIT,NITRIT_FLAG_W,PHSPHT,PHSPHT_FLAG_W,CFC-11,CFC-11_FLAG_W,CFC-12,CFC-12_FLAG_W,CFC113,CFC113_FLAG_W,TCARBN,TCARBN_FLAG_W,ALKALI,ALKALI_FLAG_W,PH_TOT,PH_TOT_FLAG_W,PH_TMP,CHLORA,CHLORA_FLAG_W,PPHYTN,PPHYTN_FLAG_W,BTL_TIME,NO2+NO3,NO2+NO3_FLAG_W,SBE35,SBE35_FLAG_W,CTDDEPTH
,,,,,,,,,,,METERS,DBAR,ITS-90,PSS-78,,PSS-78,,UMOL/KG,,UMOL/KG,,UMOL/KG,,UMOL/KG,,UMOL/KG,,PMOL/KG,,PMOL/KG,,PMOL/KG,,UMOL/KG,,UMOL/KG,,,,DEG C,UG/KG,,UG/KG,,,UMOL/KG,,ITS-90,,METERS
49UP20160703,         P9,      38,          1,          0,        BUC,2,20160715,       1420,    17.9865,   136.9768,       5003,     0.0,  29.9881,  34.8585,2,  34.8561,2,    194.4,2,  194.27,2,    1.26,2,    0.00,2,   0.050,2,-999.000,9,-999.000,9,-999.000,9,  1957.9,2,  2290.6,2,   8.1079,2,    25.00,    0.05,2,    0.02,2,     1600,    0.03,2,-999.0000,9,          0
49UP20160703,         P9,      38,          1,         36,        109,2,20160715,       1420,    17.9865,   136.9768,       5003,    10.6,  30.0012,  34.8579,2,  34.8569,2,    194.4,2,  194.40,2,    1.21,2,    0.00,2,   0.050,2,   1.517,2,   0.931,2,   0.122,2,  1957.7,2,  2291.8,2,   8.1058,2,    25.00,    0.05,2,    0.02,2,     1625,    0.02,2,  29.9966,2,         11
49UP20160703,         P9,      38,          1,         35,        112,2,20160715,       1420,    17.9865,   136.9768,       5003,    51.3,  29.7225,  34.8685,2,  34.8676,2,    196.5,2,  196.42,6,    1.17,6,    0.00,6,   0.050,6,   1.541,2,   0.946,2,   0.117,2,  1958.4,2,  2291.7,2,   8.1158,2,    25.00,    0.06,2,    0.03,2,     1622,    0.01,6,  29.7225,2,         51
49UP20160703,         P9,      38,          1,         34,        094,2,20160715,       1420,    17.9865,   136.9768,       5003,    75.4,  28.1918,  34.7771,2,  34.7784,2,    205.8,2,  205.32,2,    1.27,2,    0.00,2,   0.060,2,   1.692,2,   1.013,2,   0.125,2,  1961.7,2,  2286.6,2,   8.1044,2,    25.00,    0.10,2,    0.05,2,     1621,    0.03,2,  28.1839,2,         75
49UP20160703,         P9,      38,          1,         33,        469,2,20160715,       1420,    17.9865,   136.9768,       5003,   101.3,  27.4020,  34.9224,2,  34.9298,2,    207.5,2,  207.12,2,    1.00,2,    0.00,2,   0.040,2,   1.739,2,   1.041,2,   0.123,2,  1965.6,6,  2295.9,6,   8.1078,2,    25.00,    0.20,2,    0.15,2,     1620,    0.03,2,  27.3983,2,        101
49UP20160703,         P9,      38,          1,         32,        089,2,20160715,       1420,    17.9865,   136.9768,       5003,   126.3,  26.6584,  35.0377,2,-999.0000,5,    203.0,2,  202.50,2,    1.07,2,    0.00,2,   0.050,2,   1.766,2,   1.073,2,   0.132,2,  1982.5,2,  2305.4,2,    8.091,2,    25.00,    0.23,2,    0.28,2,     1619,    0.03,2,  26.6524,2,        126
49UP20160703,         P9,      38,          1,         31,        515,2,20160715,       1420,    17.9865,   136.9768,       5003,   152.9,  24.7730,  35.2471,2,  35.2505,2,    194.4,2,  194.48,2,    1.23,2,    0.17,2,   0.080,2,   1.896,2,   1.157,2,   0.121,2,  2016.3,2,  2317.3,2,   8.0501,2,    25.00,    0.09,2,    0.18,2,     1617,    0.21,2,  24.7551,2,        152
49UP20160703,         P9,      38,          1,         30,        097,2,20160715,       1420,    17.9865,   136.9768,       5003,   200.5,  21.7962,  35.1586,2,  35.1604,2,    182.0,2,  182.20,2,    2.22,2,    0.02,2,   0.220,2,   2.142,2,   1.316,2,   0.086,2,  2049.6,2,  2312.0,2,   7.9815,2,    25.00,    0.04,2,    0.08,2,     1616,    1.60,2,  21.7962,2,        199
49UP20160703,         P9,      38,          1,         29,        102,2,20160715,       1420,    17.9865,   136.9768,       5003,   251.4,  18.4183,  34.8445,2,  34.8347,4,    169.7,2,  170.41,2,    5.62,2,    0.01,2,   0.550,2,   2.371,2,   1.432,2,   0.048,2,  2084.6,2,  2293.1,2,   7.8906,2,    25.00, -999.00,9, -999.00,9,     1614,    6.36,2,  18.4190,2,        250
49UP20160703,         P9,      38,          1,         28,        472,2,20160715,       1420,    17.9865,   136.9768,       5003,   332.8,  14.0926,  34.4655,2,  34.4634,2,    162.6,2,  163.40,2,   12.43,2,    0.00,2,   0.970,2,   2.692,6,   1.560,6,   0.041,6,  2113.2,2,  2272.6,2,   7.7852,2,    25.00, -999.00,9, -999.00,9,     1612,   12.89,2,  14.1101,2,        331
49UP20160703,         P9,      38,          1,         27,        998,2,20160715,       1420,    17.9865,   136.9768,       5003,   382.7,  11.2257,  34.2708,2,  34.2691,2,    157.6,2,  156.86,2,   21.80,2,    0.00,2,   1.350,2,-999.000,9,-999.000,9,-999.000,9,  2143.8,2,  2270.3,2,   7.7037,6,    25.00, -999.00,9, -999.00,9,     1611,   18.45,2,  11.2288,2,        380
49UP20160703,         P9,      38,          1,         26,        084,2,20160715,       1420,    17.9865,   136.9768,       5003,   432.7,   9.9931,  34.2831,2,  34.2842,2,    119.0,2,  118.88,2,   30.88,2,    0.00,2,   1.790,2,   2.221,2,   1.150,2,   0.039,2,  2186.6,2,  2279.6,2,   7.6137,2,    25.00, -999.00,9, -999.00,9,     1609,   24.31,2,   9.9902,2,        430
49UP20160703,         P9,      38,          1,         25,        098,2,20160715,       1420,    17.9865,   136.9768,       5003,   484.6,   8.3443,  34.2467,2,  34.2468,2,     95.1,2,   95.57,2,   43.82,2,    0.00,2,   2.160,2,-999.000,9,-999.000,9,-999.000,9,  2219.4,2,  2287.3,2,   7.5327,2,    25.00, -999.00,9, -999.00,9,     1608,   29.46,2,   8.3525,2,        481
49UP20160703,         P9,      38,          1,         24,        110,2,20160715,       1420,    17.9865,   136.9768,       5003,   535.1,   7.5965,  34.2654,2,  34.2671,2,     85.3,2,   85.01,2,   52.33,2,    0.00,2,   2.330,2,   1.353,2,   0.642,2,   0.015,2,  2240.9,2,  2297.0,2,   7.4985,2,    25.00, -999.00,9, -999.00,9,     1606,   31.94,2,   7.5959,2,        531
49UP20160703,         P9,      38,          1,         23,        679,2,20160715,       1420,    17.9865,   136.9768,       5003,   635.7,   6.2587,  34.3361,2,  34.3422,4,     70.1,2,   70.48,2,   70.25,2,    0.00,2,   2.600,2,   0.625,2,   0.296,2,   0.011,2,  2273.9,2,  2319.3,2,   7.4651,2,    25.00, -999.00,9, -999.00,9,     1604,   35.82,2,   6.2581,2,        631
49UP20160703,         P9,      38,          1,         22,        111,3,20160715,       1420,    17.9865,   136.9768,       5003,   736.7,   5.3886,  34.4036,2,  34.4058,2,     71.6,2,   74.28,2,   84.22,2,    0.00,2,   2.690,2,   0.342,2,   0.173,2,   0.003,2,  2290.9,2,  2336.6,2,   7.4647,2,    25.00, -999.00,9, -999.00,9,     1601,   37.27,2,   5.3887,2,        731
49UP20160703,         P9,      38,          1,         21,        078,2,20160715,       1420,    17.9865,   136.9768,       5003,   837.7,   4.9369,  34.4750,2,  34.4756,2,     76.5,2,   76.68,2,   89.81,2,    0.00,2,   2.730,2,   0.171,6,   0.081,6,   0.001,6,  2297.4,6,  2349.5,6,   7.4784,2,    25.00, -999.00,9, -999.00,9,     1559,   37.86,2,   4.9375,2,        831
49UP20160703,         P9,      38,          1,         20,        093,2,20160715,       1420,    17.9865,   136.9768,       5003,   938.1,   4.4899,  34.4952,2,  34.4925,2,     80.2,2,   80.66,2,   98.38,2,    0.00,2,   2.740,2,   0.150,2,   0.073,2,   0.006,2,  2310.0,2,  2359.6,2,   7.4828,2,    25.00, -999.00,9, -999.00,9,     1556,   38.09,2,   4.4893,2,        930
49UP20160703,         P9,      38,          1,         19,        269,2,20160715,       1420,    17.9865,   136.9768,       5003,  1080.4,   3.9348,  34.5161,2,  34.5165,2,     84.3,2,   84.45,2,  109.94,2,    0.00,2,   2.750,2,   0.120,2,   0.061,2,   0.005,2,  2319.0,2,  2372.0,2,   7.4849,2,    25.00, -999.00,9, -999.00,9,     1552,   38.36,2,   3.9365,2,       1071
49UP20160703,         P9,      38,          1,         18,        088,2,20160715,       1420,    17.9865,   136.9768,       5003,  1284.5,   3.3010,  34.5478,2,  34.5478,6,     91.6,2,   91.54,2,  122.25,2,    0.00,2,   2.750,2,   0.086,2,   0.027,2,   0.007,2,  2331.3,2,  2384.9,2,   7.4915,2,    25.00, -999.00,9, -999.00,9,     1546,   38.37,2,   3.3020,2,       1273
49UP20160703,         P9,      38,          1,         17,        090,2,20160715,       1420,    17.9865,   136.9768,       5003,  1489.5,   2.8427,  34.5779,2,  34.5783,2,     98.4,2,   98.76,6,  129.78,6,    0.00,6,   2.740,6,   0.037,2,   0.011,2,   0.006,2,  2337.4,2,  2395.2,2,   7.5005,2,    25.00, -999.00,9, -999.00,9,     1538,   38.44,6,   2.8429,2,       1475
49UP20160703,         P9,      38,          1,         16,        474,2,20160715,       1420,    17.9865,   136.9768,       5003,  1685.2,   2.5521,  34.5945,2,  34.5951,2,    102.8,2,  102.77,2,  134.48,2,    0.00,2,   2.730,2,-999.000,9,-999.000,9,-999.000,9,  2338.1,2,  2400.4,2,   7.5052,2,    25.00, -999.00,9, -999.00,9,     1533,   38.45,2,   2.5521,2,       1668
49UP20160703,         P9,      38,          1,         15,        665,2,20160715,       1420,    17.9865,   136.9768,       5003,  1889.8,   2.2748,  34.6106,2,  34.6104,2,    108.0,2,  108.38,2,  138.98,2,    0.00,2,   2.720,2,-999.000,9,-999.000,9,-999.000,9,  2341.5,2,  2405.9,2,   7.5129,6,    25.00, -999.00,9, -999.00,9,     1529,   38.37,2,   2.2748,2,       1870
49UP20160703,         P9,      38,          1,         14,        999,2,20160715,       1420,    17.9865,   136.9768,       5003,  2088.1,   2.0755,  34.6241,2,  34.6233,6,    113.6,2,  113.52,2,  142.22,2,    0.00,2,   2.700,2,   0.005,2,   0.000,2,   0.000,2,  2339.5,2,  2407.4,2,   7.5196,2,    25.00, -999.00,9, -999.00,9,     1525,   38.18,2,   2.0753,2,       2065
49UP20160703,         P9,      38,          1,         13,        667,2,20160715,       1420,    17.9865,   136.9768,       5003,  2294.7,   1.9026,  34.6385,2,  34.6383,2,    120.8,2,  120.93,2,  144.21,2,    0.00,2,   2.660,2,-999.000,9,-999.000,9,-999.000,9,  2334.8,2,  2410.9,2,   7.5315,2,    25.00, -999.00,9, -999.00,9,     1521,   37.80,2,   1.9025,2,       2269
49UP20160703,         P9,      38,          1,         12,        074,2,20160715,       1420,    17.9865,   136.9768,       5003,  2496.8,   1.8155,  34.6468,2,  34.6453,4,    125.7,2,  125.80,2,  144.92,2,    0.00,2,   2.640,2,   0.000,2,   0.000,2,   0.001,2,  2334.7,2,  2413.2,2,   7.5393,2,    25.00, -999.00,9, -999.00,9,     1516,   37.55,2,   1.8153,2,       2467
49UP20160703,         P9,      38,          1,         11,        268,2,20160715,       1420,    17.9865,   136.9768,       5003,  2699.9,   1.7506,  34.6533,2,  34.6530,6,    130.0,2,  130.22,2,  144.97,2,    0.00,2,   2.620,2,-999.000,9,-999.000,9,-999.000,9,  2330.7,2,  2411.5,2,   7.5451,2,    25.00, -999.00,9, -999.00,9,     1512,   37.28,2,   1.7506,2,       2667
49UP20160703,         P9,      38,          1,         10,        267,2,20160715,       1420,    17.9865,   136.9768,       5003,  2905.3,   1.6960,  34.6597,2,  34.6596,2,    134.4,2,  134.48,6,  144.74,6,    0.00,6,   2.590,6,-999.000,9,-999.000,9,-999.000,9,  2329.5,2,  2413.1,2,   7.5543,2,    25.00, -999.00,9, -999.00,9,     1508,   37.00,6,   1.6960,2,       2868
49UP20160703,         P9,      38,          1,          9,        518,2,20160715,       1420,    17.9865,   136.9768,       5003,  3119.7,   1.6373,  34.6658,2,  34.6657,2,    139.7,2,  139.61,2,  143.97,2,    0.00,2,   2.560,2,   0.000,2,   0.000,2,   0.000,2,  2333.4,6,  2413.9,6,   7.5623,2,    25.00, -999.00,9, -999.00,9,     1503,   36.64,2,   1.6373,2,       3078
49UP20160703,         P9,      38,          1,          8,        470,2,20160715,       1420,    17.9865,   136.9768,       5003,  3377.5,   1.5814,  34.6724,2,  34.6727,2,    145.4,2,  145.54,2,  143.03,2,    0.00,2,   2.530,2,-999.000,9,-999.000,9,-999.000,9,  2329.4,2,  2412.0,2,   7.5706,2,    25.00, -999.00,9, -999.00,9,     1458,   36.26,2,   1.5818,2,       3331
49UP20160703,         P9,      38,          1,          7,        516,2,20160715,       1420,    17.9865,   136.9768,       5003,  3633.9,   1.5524,  34.6767,2,  34.6771,2,    149.6,2,  149.43,2,  142.41,2,    0.00,2,   2.510,2,   0.003,2,   0.000,2,   0.000,2,  2323.6,2,  2411.3,2,   7.5753,2,    25.00, -999.00,9, -999.00,9,     1452,   36.00,2,   1.5524,2,       3581
49UP20160703,         P9,      38,          1,          6,        113,2,20160715,       1420,    17.9865,   136.9768,       5003,  3890.9,   1.5277,  34.6807,2,  34.6810,2,    153.8,2,  153.77,2,  141.39,2,    0.00,2,   2.490,2,-999.000,9,-999.000,9,-999.000,9,  2331.6,2,  2411.3,2,   7.5825,2,    25.00, -999.00,9, -999.00,9,     1446,   35.77,2,   1.5278,2,       3832
49UP20160703,         P9,      38,          1,          5,        658,2,20160715,       1420,    17.9865,   136.9768,       5003,  4145.4,   1.5138,  34.6837,2,  34.6835,6,    157.3,2,  157.22,2,  140.39,2,    0.00,2,   2.470,2,   0.001,2,   0.000,2,   0.001,2,  2315.4,2,  2409.8,2,   7.5876,2,    25.00, -999.00,9, -999.00,9,     1440,   35.50,2,   1.5138,2,       4081
49UP20160703,         P9,      38,          1,          4,        471,2,20160715,       1420,    17.9865,   136.9768,       5003,  4403.1,   1.5156,  34.6858,2,  34.6860,2,    160.0,2,  159.94,6,  139.51,6,    0.00,6,   2.460,6,-999.000,9,-999.000,9,-999.000,9,  2318.2,2,  2409.8,2,   7.5917,2,    25.00, -999.00,9, -999.00,9,     1435,   35.34,6,   1.5157,2,       4332
49UP20160703,         P9,      38,          1,          3,        104,2,20160715,       1420,    17.9865,   136.9768,       5003,  4657.2,   1.5368,  34.6864,2,  34.6869,2,    160.8,2,  160.72,2,  139.25,2,    0.00,2,   2.460,2,   0.000,2,   0.000,2,   0.000,2,  2320.6,2,  2408.8,2,   7.5889,2,    25.00, -999.00,9, -999.00,9,     1429,   35.31,2,   1.5369,2,       4579
49UP20160703,         P9,      38,          1,          2,        075,2,20160715,       1420,    17.9865,   136.9768,       5003,  4914.3,   1.5658,  34.6867,2,  34.6871,2,    161.1,2,  161.41,2,  139.20,2,    0.00,2,   2.450,2,-999.000,9,-999.000,9,-999.000,9,  2316.4,2,  2409.4,2,   7.5923,2,    25.00, -999.00,9, -999.00,9,     1423,   35.28,2,   1.5658,2,       4829
49UP20160703,         P9,      38,          1,          1,        997,2,20160715,       1420,    17.9865,   136.9768,       5003,  4992.8,   1.5758,  34.6865,2,  34.6865,2,    161.1,2,  161.15,2,  139.07,2,    0.00,2,   2.460,2,   0.000,2,   0.000,2,   0.000,2,  2315.0,2,  2407.1,2,   7.5917,6,    25.00, -999.00,9, -999.00,9,     1421,   35.27,2,   1.5758,2,       4906