BOTTLE,20230712CCHSIOENA
EXPOCODE,SECT_ID,STNNBR,CASTNO,SAMPNO,BTLNBR,BTLNBR_FLAG_W,DATE,TIME,LATITUDE,LONGITUDE,DEPTH,CTDPRS,CTDTMP,CTDSAL,CTDSAL_FLAG_W,SALNTY,SALNTY_FLAG_W,CTDOXY,CTDOXY_FLAG_W,OXYGEN,OXYGEN_FLAG_W,SILCAT,SILCAT_FLAG_W,NITRIT,NITRIT_FLAG_W,PHSPHT,PHSPHT_FLAG_W,CFC-11,CFC-11_FLAG_W,CFC-12,CFC-12_FLAG_W,CFC113,CFC113_FLAG_W,TCARBN,TCARBN_FLAG_W,ALKALI,ALKALI_FLAG_W,PH_TOT,PH_TOT_FLAG_W,PH_TMP,CHLORA,CHLORA_FLAG_W,PPHYTN,PPHYTN_FLAG_W,BTL_TIME,NO2+NO3,NO2+NO3_FLAG_W,SBE35,SBE35_FLAG_W,CTDDEPTH
,,,,,,,,,,,METERS,DBAR,ITS-90,PSS-78,,PSS-78,,UMOL/KG,,UMOL/KG,,UMOL/KG,,UMOL/KG,,UMOL/KG,,PMOL/KG,,PMOL/KG,,PMOL/KG,,UMOL/KG,,UMOL/KG,,,,DEG C,UG/KG,,UG/KG,,,UMOL/KG,,ITS-90,,METERS
49UP20160703,         P9,      52,          1,          0,        BUC,2,20160720,       0941,    10.9793,   136.9897,       4930,     0.0,  30.1340,  34.3646,2,  34.3715,2,    193.1,2,  193.68,2,    0.86,2,    0.00,2,   0.100,2,-999.000,9,-999.000,9,-999.000,9,  1927.7,2,  2258.2,2,    8.112,2,    25.00,    0.03,2,    0.01,2,     1121,    0.02,2,-999.0000,9,          0
49UP20160703,         P9,      52,          1,         36,        109,2,20160720,       0941,    10.9793,   136.9897,       4930,    10.1,  29.9570,  34.3658,2,  34.3662,2,    193.4,2,  193.71,2,    0.84,2,    0.00,2,   0.090,2,-999.000,5,-999.000,5,-999.000,5,  1927.8,2,  2256.3,2,   8.1129,2,    25.00,    0.03,2,    0.02,2,     1156,    0.03,2,  29.9529,2,         10
49UP20160703,         P9,      52,          1,         35,        112,2,20160720,       0941,    10.9793,   136.9897,       4930,    50.1,  28.6120,  34.8688,2,  34.8683,2,    201.7,2,  202.15,2,    1.15,2,    0.00,2,   0.100,2,   1.606,2,   0.994,2,   0.118,2,  1962.5,6,  2292.0,6,   8.1007,2,    25.00,    0.05,2,    0.03,2,     1152,    0.01,2,  28.5903,2,         50
49UP20160703,         P9,      52,          1,         28,        472,2,20160720,       0941,    10.9793,   136.9897,       4930,    74.4,  28.0120,  34.8450,2,  34.8404,2,    200.7,2,  202.13,2,    1.10,2,    0.00,2,   0.100,2,   1.640,2,   1.008,2,   0.117,2,  1962.0,2,  2290.0,2,   8.0973,2,    25.00,    0.09,2,    0.06,2,     1151,    0.02,2,  27.9943,2,         74
49UP20160703,         P9,      52,          1,         34,        094,2,20160720,       0941,    10.9793,   136.9897,       4930,   100.6,  24.8751,  34.8885,2,  34.8814,2,    188.0,2,  187.57,2,    2.49,2,    0.18,2,   0.240,2,   1.873,2,   1.140,2,   0.104,2,  2018.2,2,  2295.3,2,   8.0212,2,    25.00,    0.20,2,    0.38,2,     1149,    0.99,2,  24.8651,2,        100
49UP20160703,         P9,      52,          1,         33,        469,2,20160720,       0941,    10.9793,   136.9897,       4930,   125.1,  21.6888,  34.9007,2,  34.9059,2,    176.2,2,  177.94,6,    3.54,6,    0.26,6,   0.390,6,   2.119,2,   1.312,2,   0.089,2,  2055.0,2,  2300.3,2,   7.9527,6,    25.00,    0.12,2,    0.31,2,     1148,    2.83,6,  21.6488,2,        124
49UP20160703,         P9,      52,          1,         32,        089,2,20160720,       0941,    10.9793,   136.9897,       4930,   149.7,  19.1070,  34.8459,2,  34.8447,2,    168.9,2,  169.61,2,    5.09,2,    0.02,2,   0.530,2,   2.299,2,   1.403,2,   0.036,2,  2079.4,2,  2295.1,2,   7.8981,2,    25.00,    0.05,2,    0.20,2,     1147,    5.68,2,  19.1032,2,        149
49UP20160703,         P9,      52,          1,         31,        515,2,20160720,       0941,    10.9793,   136.9897,       4930,   204.0,  13.6576,  34.4590,2,  34.4594,2,    149.7,2,  150.22,2,   14.39,2,    0.00,2,   1.110,2,   2.559,2,   1.470,2,   0.005,2,  2122.3,2,  2275.6,2,   7.7548,2,    25.00,    0.01,2,    0.03,2,     1144,   14.82,2,  13.6660,2,        203
49UP20160703,         P9,      52,          1,         30,        097,2,20160720,       0941,    10.9793,   136.9897,       4930,   251.5,  10.8935,  34.4393,2,  34.4405,2,    102.0,2,  101.67,2,   28.83,2,    0.00,2,   1.810,2,   1.775,6,   0.948,6,   0.005,6,  2190.4,6,  2286.1,6,   7.6149,2,    25.00, -999.00,9, -999.00,9,     1142,   25.01,2,  10.8925,2,        250
49UP20160703,         P9,      52,          1,         29,        102,2,20160720,       0941,    10.9793,   136.9897,       4930,   302.3,  10.1249,  34.4770,2,  34.4761,2,     92.6,2,   91.97,2,   33.61,2,    0.00,2,   1.990,2,   1.428,2,   0.744,2,   0.008,2,  2208.5,2,  2294.4,2,   7.5818,2,    25.00, -999.00,9, -999.00,9,     1140,   27.80,2,  10.1182,2,        300
49UP20160703,         P9,      52,          1,         27,        998,2,20160720,       0941,    10.9793,   136.9897,       4930,   352.5,   8.9067,  34.4736,2,  34.4726,2,     87.7,2,   87.37,2,   40.50,2,    0.00,2,   2.180,2,-999.000,9,-999.000,9,-999.000,9,  2227.3,2,  2302.7,2,   7.5477,2,    25.00, -999.00,9, -999.00,9,     1138,   30.56,2,   8.9073,2,        350
49UP20160703,         P9,      52,          1,         26,        084,2,20160720,       0941,    10.9793,   136.9897,       4930,   401.6,   8.0784,  34.4706,2,  34.4704,2,     87.7,2,   87.49,2,   45.27,2,    0.00,2,   2.270,2,   0.892,2,   0.446,2,   0.000,2,  2238.2,2,  2306.8,2,   7.5364,2,    25.00, -999.00,9, -999.00,9,     1136,   32.00,2,   8.0769,2,        399
49UP20160703,         P9,      52,          1,         25,        098,2,20160720,       0941,    10.9793,   136.9897,       4930,   455.8,   7.5980,  34.4739,2,  34.4744,6,     91.5,2,   91.53,2,   48.27,2,    0.00,2,   2.310,2,-999.000,9,-999.000,9,-999.000,9,  2239.9,2,  2307.6,2,   7.5355,2,    25.00, -999.00,9, -999.00,9,     1134,   32.57,2,   7.5990,2,        453
49UP20160703,         P9,      52,          1,         24,        110,2,20160720,       0941,    10.9793,   136.9897,       4930,   505.7,   7.1385,  34.4755,2,  34.4751,2,     95.8,2,   95.34,2,   51.88,2,    0.00,2,   2.350,2,   0.698,2,   0.346,2,   0.000,2,  2246.3,2,  2313.6,2,   7.5345,2,    25.00, -999.00,9, -999.00,9,     1132,   33.11,2,   7.1393,2,        502
49UP20160703,         P9,      52,          1,         23,        679,2,20160720,       0941,    10.9793,   136.9897,       4930,   604.1,   6.4766,  34.4942,2,  34.4945,2,     96.1,2,   95.95,2,   58.02,2,    0.00,2,   2.450,2,   0.448,6,   0.225,6,   0.002,6,  2256.1,2,  2323.9,2,   7.5267,2,    25.00, -999.00,9, -999.00,9,     1129,   34.49,2,   6.4748,2,        600
49UP20160703,         P9,      52,          1,         22,        111,2,20160720,       0941,    10.9793,   136.9897,       4930,   705.4,   5.9831,  34.5121,2,  34.5119,2,     99.6,2,   99.34,2,   62.85,2,    0.00,2,   2.490,2,   0.340,2,   0.171,2,   0.000,2,  2262.3,2,  2330.3,2,   7.5262,2,    25.00, -999.00,9, -999.00,9,     1126,   35.15,2,   5.9830,2,        700
49UP20160703,         P9,      52,          1,         21,        078,2,20160720,       0941,    10.9793,   136.9897,       4930,   806.0,   5.6108,  34.5175,2,  34.5184,2,     93.5,2,   93.48,2,   70.29,2,    0.00,2,   2.570,2,   1.281,4,   2.179,4,   0.180,4,  2275.0,2,  2339.3,2,   7.5169,2,    25.00, -999.00,9, -999.00,9,     1123,   36.26,2,   5.6106,2,        800
49UP20160703,         P9,      52,          1,         20,        093,2,20160720,       0941,    10.9793,   136.9897,       4930,   907.4,   5.0854,  34.5305,2,  34.5311,2,     90.8,2,   90.73,6,   80.18,6,    0.00,6,   2.650,6,   0.138,2,   0.069,2,   0.000,2,  2289.2,2,  2349.0,2,   7.5051,6,    25.00, -999.00,9, -999.00,9,     1120,   37.26,6,   5.0841,2,        900
49UP20160703,         P9,      52,          1,         19,        269,2,20160720,       0941,    10.9793,   136.9897,       4930,  1008.5,   4.5595,  34.5438,2,  34.5438,2,     86.3,2,   86.35,2,   91.39,2,    0.00,2,   2.720,2,   0.070,2,   0.042,2,   0.000,2,  2305.0,2,  2359.3,2,   7.4932,2,    25.00, -999.00,9, -999.00,9,     1117,   38.29,2,   4.5595,2,       1000
49UP20160703,         P9,      52,          1,         18,        088,2,20160720,       0941,    10.9793,   136.9897,       4930,  1213.9,   3.7237,  34.5628,2,  34.5625,2,     86.1,2,   86.09,2,  109.33,2,    0.00,2,   2.790,2,   0.020,2,   0.017,2,   0.000,2,  2322.9,2,  2376.9,2,   7.4863,2,    25.00, -999.00,9, -999.00,9,     1112,   39.15,2,   3.7239,2,       1203
49UP20160703,         P9,      52,          1,         17,        090,2,20160720,       0941,    10.9793,   136.9897,       4930,  1415.3,   3.2304,  34.5789,2,  34.5794,2,     92.2,2,   92.06,2,  119.70,2,    0.00,2,   2.780,2,   0.008,2,   0.010,2,   0.000,2,  2330.5,2,  2387.9,2,   7.4923,2,    25.00, -999.00,9, -999.00,9,     1107,   39.12,2,   3.2303,2,       1402
49UP20160703,         P9,      52,          1,         16,        474,2,20160720,       0941,    10.9793,   136.9897,       4930,  1618.4,   2.7794,  34.5987,2,  34.5985,2,     99.6,2,   99.63,2,  128.17,2,    0.00,2,   2.750,2,-999.000,9,-999.000,9,-999.000,9,  2334.5,2,  2396.1,2,   7.5025,2,    25.00, -999.00,9, -999.00,9,     1101,   38.96,2,   2.7804,2,       1603
49UP20160703,         P9,      52,          1,         15,        665,2,20160720,       0941,    10.9793,   136.9897,       4930,  1819.0,   2.4432,  34.6170,2,  34.6172,6,    107.7,2,  107.94,2,  133.72,2,    0.00,2,   2.710,2,-999.000,9,-999.000,9,-999.000,9,  2341.2,2,  2405.6,2,   7.5141,2,    25.00, -999.00,9, -999.00,9,     1055,   38.61,2,   2.4431,2,       1801
49UP20160703,         P9,      52,          1,         14,        999,2,20160720,       0941,    10.9793,   136.9897,       4930,  2022.4,   2.1945,  34.6307,2,  34.6308,2,    114.4,2,  114.41,2,  137.97,2,    0.00,2,   2.690,2,   0.000,2,   0.002,2,   0.000,2,  2337.4,2,  2407.9,2,    7.521,2,    25.00, -999.00,9, -999.00,9,     1050,   38.35,2,   2.1948,2,       2001
49UP20160703,         P9,      52,          1,         13,        667,2,20160720,       0941,    10.9793,   136.9897,       4930,  2225.0,   1.9887,  34.6427,2,  34.6434,2,    120.9,2,  121.45,2,  141.04,2,    0.00,2,   2.660,2,-999.000,9,-999.000,9,-999.000,9,  2337.7,2,  2411.7,2,   7.5317,2,    25.00, -999.00,9, -999.00,9,     1044,   37.95,2,   1.9887,2,       2201
49UP20160703,         P9,      52,          1,         12,        074,2,20160720,       0941,    10.9793,   136.9897,       4930,  2428.0,   1.8516,  34.6506,2,  34.6507,2,    125.8,2,  126.11,2,  143.36,2,    0.00,2,   2.630,2,   0.000,2,   0.003,2,   0.000,2,  2339.4,2,  2413.8,2,   7.5387,2,    25.00, -999.00,9, -999.00,9,     1040,   37.72,2,   1.8516,2,       2400
49UP20160703,         P9,      52,          1,         11,        268,2,20160720,       0941,    10.9793,   136.9897,       4930,  2631.7,   1.7554,  34.6576,2,  34.6568,2,    131.0,2,  131.03,2,  143.78,2,    0.00,2,   2.610,2,-999.000,9,-999.000,9,-999.000,9,  2338.1,2,  2415.8,2,   7.5467,2,    25.00, -999.00,9, -999.00,9,     1035,   37.40,2,   1.7552,2,       2600
49UP20160703,         P9,      52,          1,         10,        267,2,20160720,       0941,    10.9793,   136.9897,       4930,  2834.1,   1.6610,  34.6645,2,  34.6635,2,    137.0,2,  137.26,6,  143.91,6,    0.00,6,   2.580,6,-999.000,9,-999.000,9,-999.000,9,  2333.5,2,  2415.9,2,   7.5568,2,    25.00, -999.00,9, -999.00,9,     1030,   36.98,6,   1.6610,2,       2799
49UP20160703,         P9,      52,          1,          9,        518,2,20160720,       0941,    10.9793,   136.9897,       4930,  3039.0,   1.6150,  34.6689,2,  34.6682,2,    141.5,2,  141.60,2,  143.34,2,    0.00,2,   2.550,2,   0.000,2,   0.005,2,   0.000,2,  2333.7,2,  2414.9,2,   7.5643,2,    25.00, -999.00,9, -999.00,9,     1025,   36.73,2,   1.6149,2,       3000
49UP20160703,         P9,      52,          1,          8,        470,2,20160720,       0941,    10.9793,   136.9897,       4930,  3295.4,   1.5691,  34.6737,2,  34.6736,6,    146.4,2,  146.91,2,  142.23,2,    0.00,2,   2.520,2,-999.000,9,-999.000,9,-999.000,9,  2328.5,2,  2414.2,2,    7.573,6,    25.00, -999.00,9, -999.00,9,     1019,   36.37,2,   1.5689,2,       3251
49UP20160703,         P9,      52,          1,          7,        516,2,20160720,       0941,    10.9793,   136.9897,       4930,  3549.1,   1.5508,  34.6768,2,  34.6766,2,    149.7,2,  149.97,2,  141.86,2,    0.00,2,   2.510,2,   0.000,2,   0.006,2,   0.000,2,  2327.3,2,  2414.8,2,   7.5724,2,    25.00, -999.00,9, -999.00,9,     1014,   36.23,2,   1.5507,2,       3500
49UP20160703,         P9,      52,          1,          6,        113,2,20160720,       0941,    10.9793,   136.9897,       4930,  3805.3,   1.5430,  34.6793,2,  34.6793,2,    152.5,2,  152.52,6,  140.97,6,    0.00,6,   2.500,6,-999.000,9,-999.000,9,-999.000,9,  2323.6,2,  2413.7,2,   7.5811,2,    25.00, -999.00,9, -999.00,9,     1008,   36.01,6,   1.5431,2,       3750
49UP20160703,         P9,      52,          1,          5,        658,2,20160720,       0941,    10.9793,   136.9897,       4930,  4062.7,   1.5355,  34.6817,2,  34.6815,2,    155.4,2,  155.46,2,  140.12,2,    0.00,2,   2.480,2,   0.000,2,   0.011,2,   0.002,2,  2323.0,2,  2410.1,2,   7.5832,2,    25.00, -999.00,9, -999.00,9,     1002,   35.81,2,   1.5353,2,       4001
49UP20160703,         P9,      52,          1,          4,        471,2,20160720,       0941,    10.9793,   136.9897,       4930,  4316.8,   1.5277,  34.6845,2,  34.6843,2,    158.5,2,  158.72,2,  139.11,2,    0.00,2,   2.460,2,-999.000,9,-999.000,9,-999.000,9,  2319.4,2,  2411.2,2,   7.5884,2,    25.00, -999.00,9, -999.00,9,      956,   35.56,2,   1.5277,2,       4249
49UP20160703,         P9,      52,          1,          3,        104,2,20160720,       0941,    10.9793,   136.9897,       4930,  4573.2,   1.5305,  34.6864,2,  34.6858,2,    160.9,2,  160.99,2,  138.45,2,    0.00,2,   2.450,2,   0.000,2,   0.011,2,   0.000,2,  2316.5,2,  2409.5,2,    7.589,2,    25.00, -999.00,9, -999.00,9,      951,   35.44,2,   1.5305,2,       4499
49UP20160703,         P9,      52,          1,          1,        997,2,20160720,       0941,    10.9793,   136.9897,       4930,  4831.0,   1.5520,  34.6871,2,  34.6869,2,    161.8,2,  161.73,2,  138.31,2,    0.00,2,   2.440,2,-999.000,9,-999.000,9,-999.000,9,  2316.2,2,  2409.0,2,   7.5907,2,    25.00, -999.00,9, -999.00,9,      946,   35.39,2,   1.5521,2,       4750
49UP20160703,         P9,      52,          1,          2,        075,2,20160720,       0941,    10.9793,   136.9897,       4930,  5021.5,   1.5727,  34.6873,2,  34.6871,6,    162.2,2,  162.04,2,  138.03,2,    0.00,2,   2.440,2,   0.000,2,   0.012,2,   0.000,2,  2315.6,6,  2410.0,6,   7.5911,2,    25.00, -999.00,9, -999.00,9,      941,   35.35,2,   1.5726,2,       4935