BOTTLE,20230712CCHSIOENA
EXPOCODE,SECT_ID,STNNBR,CASTNO,SAMPNO,BTLNBR,BTLNBR_FLAG_W,DATE,TIME,LATITUDE,LONGITUDE,DEPTH,CTDPRS,CTDTMP,CTDSAL,CTDSAL_FLAG_W,SALNTY,SALNTY_FLAG_W,CTDOXY,CTDOXY_FLAG_W,OXYGEN,OXYGEN_FLAG_W,SILCAT,SILCAT_FLAG_W,NITRIT,NITRIT_FLAG_W,PHSPHT,PHSPHT_FLAG_W,CFC-11,CFC-11_FLAG_W,CFC-12,CFC-12_FLAG_W,CFC113,CFC113_FLAG_W,TCARBN,TCARBN_FLAG_W,ALKALI,ALKALI_FLAG_W,PH_TOT,PH_TOT_FLAG_W,PH_TMP,CHLORA,CHLORA_FLAG_W,PPHYTN,PPHYTN_FLAG_W,BTL_TIME,NO2+NO3,NO2+NO3_FLAG_W,SBE35,SBE35_FLAG_W,CTDDEPTH
,,,,,,,,,,,METERS,DBAR,ITS-90,PSS-78,,PSS-78,,UMOL/KG,,UMOL/KG,,UMOL/KG,,UMOL/KG,,UMOL/KG,,PMOL/KG,,PMOL/KG,,PMOL/KG,,UMOL/KG,,UMOL/KG,,,,DEG C,UG/KG,,UG/KG,,,UMOL/KG,,ITS-90,,METERS
49UP20160703,         P9,      21,          1,          0,        BUC,2,20160710,       0828,     26.531,    136.992,       5144,     0.0,  29.6526,  34.7694,2,-999.0000,9,    196.2,2,  195.94,2,    1.22,2,    0.00,2,   0.020,2,-999.000,9,-999.000,9,-999.000,9,  -999.0,9,  -999.0,9,-999.0000,9,  -999.00, -999.00,9, -999.00,9,     1022,    0.00,2,-999.0000,9,          0
49UP20160703,         P9,      21,          1,         36,        109,2,20160710,       0828,     26.531,    136.992,       5144,     9.6,  29.5272,  34.7964,2,  34.8018,2,    196.7,2,  196.68,2,    1.20,2,    0.00,2,   0.010,2,-999.000,9,-999.000,9,-999.000,9,  -999.0,9,  -999.0,9,-999.0000,9,  -999.00, -999.00,9, -999.00,9,     1056,    0.00,2,  29.5072,2,         10
49UP20160703,         P9,      21,          1,         35,        112,2,20160710,       0828,     26.531,    136.992,       5144,    25.5,  27.7210,  34.7910,2,  34.7915,2,    206.7,2,  206.72,2,    1.14,2,    0.00,2,   0.010,2,-999.000,9,-999.000,9,-999.000,9,  -999.0,9,  -999.0,9,-999.0000,9,  -999.00, -999.00,9, -999.00,9,     1054,    0.01,2,  27.7164,2,         25
49UP20160703,         P9,      21,          1,         34,        094,2,20160710,       0828,     26.531,    136.992,       5144,    48.3,  24.0081,  34.9680,2,  34.9677,2,    224.4,2,  223.45,2,    1.32,2,    0.00,2,   0.010,2,-999.000,9,-999.000,9,-999.000,9,  -999.0,9,  -999.0,9,-999.0000,9,  -999.00, -999.00,9, -999.00,9,     1051,    0.02,2,  23.9943,2,         48
49UP20160703,         P9,      21,          1,         33,        469,2,20160710,       0828,     26.531,    136.992,       5144,    76.6,  22.4404,  34.9785,2,  34.9770,2,    220.9,2,  221.50,2,    1.44,2,    0.00,2,   0.010,2,-999.000,9,-999.000,9,-999.000,9,  -999.0,9,  -999.0,9,-999.0000,9,  -999.00, -999.00,9, -999.00,9,     1050,    0.00,2,  22.4570,2,         76
49UP20160703,         P9,      21,          1,         32,        089,3,20160710,       0828,     26.531,    136.992,       5144,   101.1,  21.4528,  34.9430,2,  34.9455,2,    215.9,2,  215.41,2,    1.62,2,    0.00,2,   0.020,2,-999.000,9,-999.000,9,-999.000,9,  -999.0,9,  -999.0,9,-999.0000,9,  -999.00, -999.00,9, -999.00,9,     1048,    0.01,2,  21.4585,2,        100
49UP20160703,         P9,      21,          1,         31,        515,2,20160710,       0828,     26.531,    136.992,       5144,   125.0,  20.4422,  34.9020,2,  34.9024,6,    209.3,2,  208.95,2,    1.92,2,    0.09,2,   0.070,2,-999.000,9,-999.000,9,-999.000,9,  -999.0,9,  -999.0,9,-999.0000,9,  -999.00, -999.00,9, -999.00,9,     1047,    0.64,2,  20.4404,2,        124
49UP20160703,         P9,      21,          1,         30,        097,2,20160710,       0828,     26.531,    136.992,       5144,   151.6,  19.5240,  34.8669,2,  34.8672,2,    200.6,2,  200.41,6,    2.47,6,    0.03,6,   0.180,6,-999.000,9,-999.000,9,-999.000,9,  -999.0,9,  -999.0,9,-999.0000,9,  -999.00, -999.00,9, -999.00,9,     1046,    2.48,6,  19.5208,2,        151
49UP20160703,         P9,      21,          1,         29,        102,2,20160710,       0828,     26.531,    136.992,       5144,   202.0,  18.5122,  34.8138,2,  34.8136,2,    200.1,2,  200.00,2,    3.13,2,    0.00,2,   0.250,2,-999.000,9,-999.000,9,-999.000,9,  -999.0,9,  -999.0,9,-999.0000,9,  -999.00, -999.00,9, -999.00,9,     1044,    3.60,2,  18.5123,2,        201
49UP20160703,         P9,      21,          1,         28,        472,2,20160710,       0828,     26.531,    136.992,       5144,   251.7,  17.3822,  34.7384,2,  34.7382,2,    200.1,2,  200.04,2,    4.29,2,    0.00,2,   0.330,2,-999.000,9,-999.000,9,-999.000,9,  -999.0,9,  -999.0,9,-999.0000,9,  -999.00, -999.00,9, -999.00,9,     1042,    5.07,2,  17.3843,2,        250
49UP20160703,         P9,      21,          1,         27,        998,2,20160710,       0828,     26.531,    136.992,       5144,   283.1,  16.9744,  34.7090,2,  34.7074,2,    199.9,2,  199.73,2,    5.11,2,    0.00,2,   0.390,2,-999.000,9,-999.000,9,-999.000,9,  -999.0,9,  -999.0,9,-999.0000,9,  -999.00, -999.00,9, -999.00,9,     1040,    5.77,2,  16.9723,2,        281
49UP20160703,         P9,      21,          1,         26,        084,2,20160710,       0828,     26.531,    136.992,       5144,   372.1,  15.3085,  34.5798,2,  34.5769,2,    188.4,2,  188.50,2,    9.85,2,    0.00,2,   0.640,2,-999.000,9,-999.000,9,-999.000,9,  -999.0,9,  -999.0,9,-999.0000,9,  -999.00, -999.00,9, -999.00,9,     1037,    9.50,2,  15.2947,2,        369
49UP20160703,         P9,      21,          1,         25,        098,2,20160710,       0828,     26.531,    136.992,       5144,   473.7,  12.3921,  34.3800,2,  34.3815,2,    174.4,2,  174.63,2,   20.34,2,    0.00,2,   1.080,2,-999.000,9,-999.000,9,-999.000,9,  -999.0,9,  -999.0,9,-999.0000,9,  -999.00, -999.00,9, -999.00,9,     1034,   15.38,2,  12.3958,2,        470
49UP20160703,         P9,      21,          1,         24,        110,2,20160710,       0828,     26.531,    136.992,       5144,   576.0,  10.0143,  34.2359,2,  34.2409,4,    159.8,2,  160.93,2,   31.72,2,    0.00,2,   1.460,2,-999.000,9,-999.000,9,-999.000,9,  -999.0,9,  -999.0,9,-999.0000,9,  -999.00, -999.00,9, -999.00,9,     1031,   20.57,2,  10.0261,2,        571
49UP20160703,         P9,      21,          1,         23,        679,2,20160710,       0828,     26.531,    136.992,       5144,   676.5,   7.2454,  34.1325,2,  34.1335,2,    129.1,2,  128.44,2,   56.38,2,    0.00,2,   2.050,2,-999.000,9,-999.000,9,-999.000,9,  -999.0,9,  -999.0,9,-999.0000,9,  -999.00, -999.00,9, -999.00,9,     1028,   28.51,2,   7.2538,2,        671
49UP20160703,         P9,      21,          1,         22,        111,2,20160710,       0828,     26.531,    136.992,       5144,   777.3,   5.7584,  34.1493,2,  34.1499,2,     97.3,2,   97.55,2,   76.48,2,    0.00,2,   2.440,2,-999.000,9,-999.000,9,-999.000,9,  -999.0,9,  -999.0,9,-999.0000,9,  -999.00, -999.00,9, -999.00,9,     1025,   33.80,2,   5.7585,2,        771
49UP20160703,         P9,      21,          1,         21,        078,2,20160710,       0828,     26.531,    136.992,       5144,   879.4,   4.8161,  34.2084,2,  34.2069,2,     74.1,2,   74.63,2,   94.03,2,    0.00,2,   2.680,2,-999.000,9,-999.000,9,-999.000,9,  -999.0,9,  -999.0,9,-999.0000,9,  -999.00, -999.00,9, -999.00,9,     1022,   37.27,2,   4.8187,2,        872
49UP20160703,         P9,      21,          1,         20,        093,2,20160710,       0828,     26.531,    136.992,       5144,   981.2,   4.1523,  34.2842,2,  34.2832,2,     59.7,2,   60.01,2,  109.14,2,    0.00,2,   2.840,2,-999.000,9,-999.000,9,-999.000,9,  -999.0,9,  -999.0,9,-999.0000,9,  -999.00, -999.00,9, -999.00,9,     1018,   39.51,2,   4.1558,2,        972
49UP20160703,         P9,      21,          1,         19,        269,2,20160710,       0828,     26.531,    136.992,       5144,  1143.5,   3.4185,  34.3804,2,  34.3794,2,     51.7,2,   46.27,4,  126.67,2,    0.00,2,   2.950,2,-999.000,9,-999.000,9,-999.000,9,  -999.0,9,  -999.0,9,-999.0000,9,  -999.00, -999.00,9, -999.00,9,     1012,   41.10,2,   3.4201,2,       1133
49UP20160703,         P9,      21,          1,         18,        088,2,20160710,       0828,     26.531,    136.992,       5144,  1345.4,   2.7531,  34.4772,2,  34.4760,2,     58.8,2,   58.21,2,  141.35,2,    0.00,2,   2.950,2,-999.000,9,-999.000,9,-999.000,9,  -999.0,9,  -999.0,9,-999.0000,9,  -999.00, -999.00,9, -999.00,9,     1007,   41.41,2,   2.7535,2,       1332
49UP20160703,         P9,      21,          1,         17,        090,2,20160710,       0828,     26.531,    136.992,       5144,  1548.1,   2.3862,  34.5391,2,  34.5382,2,     77.9,2,   77.68,2,  144.97,2,    0.00,2,   2.870,2,-999.000,9,-999.000,9,-999.000,9,  -999.0,9,  -999.0,9,-999.0000,9,  -999.00, -999.00,9, -999.00,9,     1000,   40.43,2,   2.3862,2,       1532
49UP20160703,         P9,      21,          1,         16,        474,2,20160710,       0828,     26.531,    136.992,       5144,  1750.7,   2.1570,  34.5767,2,  34.5761,2,     93.7,2,   93.31,2,  145.64,2,    0.00,2,   2.790,2,-999.000,9,-999.000,9,-999.000,9,  -999.0,9,  -999.0,9,-999.0000,9,  -999.00, -999.00,9, -999.00,9,      953,   39.49,2,   2.1577,2,       1732
49UP20160703,         P9,      21,          1,         15,        665,2,20160710,       0828,     26.531,    136.992,       5144,  1953.1,   1.9945,  34.6038,2,  34.6041,6,    107.4,2,  107.35,2,  144.97,2,    0.00,2,   2.730,2,-999.000,9,-999.000,9,-999.000,9,  -999.0,9,  -999.0,9,-999.0000,9,  -999.00, -999.00,9, -999.00,9,      947,   38.68,2,   1.9949,2,       1931
49UP20160703,         P9,      21,          1,         14,        999,2,20160710,       0828,     26.531,    136.992,       5144,  2155.5,   1.8601,  34.6248,2,  34.6247,2,    118.7,2,  118.84,6,  144.37,6,    0.00,6,   2.670,6,-999.000,9,-999.000,9,-999.000,9,  -999.0,9,  -999.0,9,-999.0000,9,  -999.00, -999.00,9, -999.00,9,      940,   38.00,6,   1.8609,2,       2130
49UP20160703,         P9,      21,          1,         13,        667,2,20160710,       0828,     26.531,    136.992,       5144,  2359.0,   1.7817,  34.6384,2,  34.6380,2,    126.1,2,  125.96,2,  143.73,2,    0.00,2,   2.640,2,-999.000,9,-999.000,9,-999.000,9,  -999.0,9,  -999.0,9,-999.0000,9,  -999.00, -999.00,9, -999.00,9,      934,   37.55,2,   1.7820,2,       2330
49UP20160703,         P9,      21,          1,         12,        074,2,20160710,       0828,     26.531,    136.992,       5144,  2563.5,   1.7129,  34.6493,2,  34.6492,2,    132.2,2,  132.11,2,  143.28,2,    0.00,2,   2.610,2,-999.000,9,-999.000,9,-999.000,9,  -999.0,9,  -999.0,9,-999.0000,9,  -999.00, -999.00,9, -999.00,9,      929,   37.18,2,   1.7129,2,       2531
49UP20160703,         P9,      21,          1,         11,        268,2,20160710,       0828,     26.531,    136.992,       5144,  2765.6,   1.6667,  34.6559,2,  34.6560,6,    136.3,2,  136.13,2,  143.19,2,    0.00,2,   2.590,2,-999.000,9,-999.000,9,-999.000,9,  -999.0,9,  -999.0,9,-999.0000,9,  -999.00, -999.00,9, -999.00,9,      924,   36.95,2,   1.6666,2,       2730
49UP20160703,         P9,      21,          1,         10,        267,2,20160710,       0828,     26.531,    136.992,       5144,  2972.8,   1.6395,  34.6608,2,  34.6603,2,    139.3,2,  139.20,6,  142.92,6,    0.00,6,   2.570,6,-999.000,9,-999.000,9,-999.000,9,  -999.0,9,  -999.0,9,-999.0000,9,  -999.00, -999.00,9, -999.00,9,      919,   36.73,6,   1.6395,2,       2933
49UP20160703,         P9,      21,          1,          9,        518,2,20160710,       0828,     26.531,    136.992,       5144,  3213.0,   1.6102,  34.6653,2,  34.6652,2,    142.5,2,  142.27,2,  142.96,2,    0.00,2,   2.560,2,-999.000,9,-999.000,9,-999.000,9,  -999.0,9,  -999.0,9,-999.0000,9,  -999.00, -999.00,9, -999.00,9,      913,   36.62,2,   1.6100,2,       3168
49UP20160703,         P9,      21,          1,          8,        470,2,20160710,       0828,     26.531,    136.992,       5144,  3468.3,   1.5699,  34.6722,2,  34.6720,2,    147.4,2,  147.55,2,  142.33,2,    0.00,2,   2.540,2,-999.000,9,-999.000,9,-999.000,9,  -999.0,9,  -999.0,9,-999.0000,9,  -999.00, -999.00,9, -999.00,9,      908,   36.26,2,   1.5698,2,       3418
49UP20160703,         P9,      21,          1,          7,        516,2,20160710,       0828,     26.531,    136.992,       5144,  3724.7,   1.5355,  34.6781,2,  34.6776,2,    152.2,2,  152.17,2,  141.41,2,    0.00,2,   2.510,2,-999.000,9,-999.000,9,-999.000,9,  -999.0,9,  -999.0,9,-999.0000,9,  -999.00, -999.00,9, -999.00,9,      903,   36.01,2,   1.5355,2,       3668
49UP20160703,         P9,      21,          1,          6,        113,2,20160710,       0828,     26.531,    136.992,       5144,  3983.8,   1.5323,  34.6811,2,  34.6813,6,    154.6,2,  154.56,2,  140.99,2,    0.00,2,   2.490,2,-999.000,9,-999.000,9,-999.000,9,  -999.0,9,  -999.0,9,-999.0000,9,  -999.00, -999.00,9, -999.00,9,      857,   35.83,2,   1.5324,2,       3921
49UP20160703,         P9,      21,          1,          5,        658,2,20160710,       0828,     26.531,    136.992,       5144,  4238.8,   1.5420,  34.6827,2,  34.6825,2,    156.2,2,  156.09,6,  140.54,6,    0.00,6,   2.490,6,-999.000,9,-999.000,9,-999.000,9,  -999.0,9,  -999.0,9,-999.0000,9,  -999.00, -999.00,9, -999.00,9,      851,   35.66,6,   1.5419,2,       4170
49UP20160703,         P9,      21,          1,          4,        471,2,20160710,       0828,     26.531,    136.992,       5144,  4497.6,   1.5656,  34.6834,2,  34.6831,2,    156.8,2,  156.58,2,  140.51,2,    0.00,2,   2.480,2,-999.000,9,-999.000,9,-999.000,9,  -999.0,9,  -999.0,9,-999.0000,9,  -999.00, -999.00,9, -999.00,9,      845,   35.67,2,   1.5657,2,       4421
49UP20160703,         P9,      21,          1,          3,        104,2,20160710,       0828,     26.531,    136.992,       5144,  4753.8,   1.5921,  34.6835,2,  34.6832,2,    157.2,2,  157.05,2,  140.55,2,    0.00,2,   2.480,2,-999.000,9,-999.000,9,-999.000,9,  -999.0,9,  -999.0,9,-999.0000,9,  -999.00, -999.00,9, -999.00,9,      839,   35.68,2,   1.5921,2,       4671
49UP20160703,         P9,      21,          1,          2,        075,2,20160710,       0828,     26.531,    136.992,       5144,  5008.9,   1.6227,  34.6837,2,  34.6831,2,    157.4,2,  157.16,2,  140.44,2,    0.00,2,   2.480,2,-999.000,9,-999.000,9,-999.000,9,  -999.0,9,  -999.0,9,-999.0000,9,  -999.00, -999.00,9, -999.00,9,      834,   35.65,2,   1.6228,2,       4919
49UP20160703,         P9,      21,          1,          1,        997,2,20160710,       0828,     26.531,    136.992,       5144,  5238.2,   1.6520,  34.6836,2,  34.6836,2,    157.4,2,  157.13,2,  140.57,2,    0.00,2,   2.480,2,-999.000,9,-999.000,9,-999.000,9,  -999.0,9,  -999.0,9,-999.0000,9,  -999.00, -999.00,9, -999.00,9,      828,   35.66,2,   1.6519,2,       5141