BOTTLE,20230712CCHSIOENA
EXPOCODE,SECT_ID,STNNBR,CASTNO,SAMPNO,BTLNBR,BTLNBR_FLAG_W,DATE,TIME,LATITUDE,LONGITUDE,DEPTH,CTDPRS,CTDTMP,CTDSAL,CTDSAL_FLAG_W,SALNTY,SALNTY_FLAG_W,CTDOXY,CTDOXY_FLAG_W,OXYGEN,OXYGEN_FLAG_W,SILCAT,SILCAT_FLAG_W,NITRIT,NITRIT_FLAG_W,PHSPHT,PHSPHT_FLAG_W,CFC-11,CFC-11_FLAG_W,CFC-12,CFC-12_FLAG_W,CFC113,CFC113_FLAG_W,TCARBN,TCARBN_FLAG_W,ALKALI,ALKALI_FLAG_W,PH_TOT,PH_TOT_FLAG_W,PH_TMP,CHLORA,CHLORA_FLAG_W,PPHYTN,PPHYTN_FLAG_W,BTL_TIME,NO2+NO3,NO2+NO3_FLAG_W,SBE35,SBE35_FLAG_W,CTDDEPTH
,,,,,,,,,,,METERS,DBAR,ITS-90,PSS-78,,PSS-78,,UMOL/KG,,UMOL/KG,,UMOL/KG,,UMOL/KG,,UMOL/KG,,PMOL/KG,,PMOL/KG,,PMOL/KG,,UMOL/KG,,UMOL/KG,,,,DEG C,UG/KG,,UG/KG,,,UMOL/KG,,ITS-90,,METERS
49UP20160703,         P9,      39,          1,          0,        BUC,2,20160716,       0922,    17.5045,   136.9442,       4625,     0.0,  30.0561,  34.8812,2,-999.0000,9,    194.2,2,  193.82,2,    1.12,2,    0.00,2,   0.040,2,-999.000,9,-999.000,9,-999.000,9,  -999.0,9,  -999.0,9,-999.0000,9,  -999.00, -999.00,9, -999.00,9,     1058,    0.05,2,-999.0000,9,          0
49UP20160703,         P9,      39,          1,         36,        109,2,20160716,       0922,    17.5045,   136.9442,       4625,     9.7,  30.0626,  34.8809,2,  34.8793,2,    194.1,2,  193.75,2,    1.10,2,    0.00,2,   0.040,2,-999.000,9,-999.000,9,-999.000,9,  -999.0,9,  -999.0,9,-999.0000,9,  -999.00, -999.00,9, -999.00,9,     1134,    0.03,2,  30.0641,2,         10
49UP20160703,         P9,      39,          1,         35,        112,2,20160716,       0922,    17.5045,   136.9442,       4625,    25.3,  29.9878,  34.8809,2,  34.8794,2,    194.4,2,  194.16,2,    1.10,2,    0.00,2,   0.040,2,-999.000,9,-999.000,9,-999.000,9,  -999.0,9,  -999.0,9,-999.0000,9,  -999.00, -999.00,9, -999.00,9,     1132,    0.03,2,  29.9878,2,         25
49UP20160703,         P9,      39,          1,         34,        094,2,20160716,       0922,    17.5045,   136.9442,       4625,    50.9,  29.7456,  34.8515,2,  34.8516,6,    196.9,2,  196.36,2,    1.15,2,    0.00,2,   0.030,2,-999.000,9,-999.000,9,-999.000,9,  -999.0,9,  -999.0,9,-999.0000,9,  -999.00, -999.00,9, -999.00,9,     1131,    0.02,2,  29.7460,2,         51
49UP20160703,         P9,      39,          1,         33,        469,2,20160716,       0922,    17.5045,   136.9442,       4625,    75.9,  28.6516,  34.7856,2,  34.7908,2,    205.2,2,  204.52,6,    1.17,6,    0.00,6,   0.040,6,-999.000,9,-999.000,9,-999.000,9,  -999.0,9,  -999.0,9,-999.0000,9,  -999.00, -999.00,9, -999.00,9,     1129,    0.04,6,  28.6545,2,         75
49UP20160703,         P9,      39,          1,         32,        089,2,20160716,       0922,    17.5045,   136.9442,       4625,   100.6,  27.8180,  34.8684,2,  34.8733,2,    209.8,2,  208.94,2,    0.98,2,    0.00,2,   0.020,2,-999.000,9,-999.000,9,-999.000,9,  -999.0,9,  -999.0,9,-999.0000,9,  -999.00, -999.00,9, -999.00,9,     1126,    0.03,2,  27.8213,2,        100
49UP20160703,         P9,      39,          1,         31,        515,2,20160716,       0922,    17.5045,   136.9442,       4625,   124.9,  27.0673,  35.0323,2,  35.0466,4,    206.1,2,  205.01,2,    0.95,2,    0.00,2,   0.030,2,-999.000,9,-999.000,9,-999.000,9,  -999.0,9,  -999.0,9,-999.0000,9,  -999.00, -999.00,9, -999.00,9,     1124,    0.04,2,  27.0660,2,        124
49UP20160703,         P9,      39,          1,         30,        097,2,20160716,       0922,    17.5045,   136.9442,       4625,   150.4,  25.7887,  35.0652,2,  35.0736,4,    198.2,2,  197.83,2,    1.21,2,    0.04,2,   0.080,2,-999.000,9,-999.000,9,-999.000,9,  -999.0,9,  -999.0,9,-999.0000,9,  -999.00, -999.00,9, -999.00,9,     1123,    0.07,2,  25.7873,2,        149
49UP20160703,         P9,      39,          1,         29,        102,2,20160716,       0922,    17.5045,   136.9442,       4625,   200.1,  22.0580,  35.1948,2,  35.1942,2,    183.6,2,  183.44,2,    1.91,2,    0.01,2,   0.180,2,-999.000,9,-999.000,9,-999.000,9,  -999.0,9,  -999.0,9,-999.0000,9,  -999.00, -999.00,9, -999.00,9,     1121,    1.25,2,  22.0628,2,        199
49UP20160703,         P9,      39,          1,         28,        472,2,20160716,       0922,    17.5045,   136.9442,       4625,   251.0,  18.8017,  34.9152,2,  34.9091,2,    188.0,2,  187.67,2,    3.43,2,    0.01,2,   0.310,2,-999.000,9,-999.000,9,-999.000,9,  -999.0,9,  -999.0,9,-999.0000,9,  -999.00, -999.00,9, -999.00,9,     1119,    4.05,2,  18.7899,2,        249
49UP20160703,         P9,      39,          1,         27,        998,2,20160716,       0922,    17.5045,   136.9442,       4625,   282.0,  16.9811,  34.7187,2,  34.7078,4,    172.3,2,  170.11,2,    7.11,2,    0.00,2,   0.630,2,-999.000,9,-999.000,9,-999.000,9,  -999.0,9,  -999.0,9,-999.0000,9,  -999.00, -999.00,9, -999.00,9,     1118,    8.30,2,  16.9796,2,        280
49UP20160703,         P9,      39,          1,         26,        084,2,20160716,       0922,    17.5045,   136.9442,       4625,   321.6,  14.9564,  34.5372,2,  34.5375,2,    179.7,2,  179.75,2,    9.29,2,    0.00,2,   0.720,2,-999.000,9,-999.000,9,-999.000,9,  -999.0,9,  -999.0,9,-999.0000,9,  -999.00, -999.00,9, -999.00,9,     1116,   10.02,2,  14.9659,2,        319
49UP20160703,         P9,      39,          1,         25,        098,2,20160716,       0922,    17.5045,   136.9442,       4625,   372.1,  12.0593,  34.3252,2,  34.3240,2,    160.9,2,  160.26,2,   18.32,2,    0.00,2,   1.210,2,-999.000,9,-999.000,9,-999.000,9,  -999.0,9,  -999.0,9,-999.0000,9,  -999.00, -999.00,9, -999.00,9,     1114,   16.58,2,  12.0537,2,        370
49UP20160703,         P9,      39,          1,         24,        110,2,20160716,       0922,    17.5045,   136.9442,       4625,   422.8,  10.3722,  34.2425,2,  34.2429,2,    142.6,2,  142.52,2,   26.55,2,    0.00,2,   1.550,2,-999.000,9,-999.000,9,-999.000,9,  -999.0,9,  -999.0,9,-999.0000,9,  -999.00, -999.00,9, -999.00,9,     1112,   21.13,2,  10.3720,2,        420
49UP20160703,         P9,      39,          1,         23,        679,2,20160716,       0922,    17.5045,   136.9442,       4625,   473.0,   8.6072,  34.2099,2,  34.2098,2,    109.6,2,  108.81,2,   39.98,2,    0.00,2,   2.010,2,-999.000,9,-999.000,9,-999.000,9,  -999.0,9,  -999.0,9,-999.0000,9,  -999.00, -999.00,9, -999.00,9,     1110,   27.52,2,   8.6171,2,        470
49UP20160703,         P9,      39,          1,         22,        111,2,20160716,       0922,    17.5045,   136.9442,       4625,   574.0,   6.9362,  34.2860,2,  34.2864,2,     71.5,2,   71.26,2,   59.54,2,    0.00,2,   2.500,2,-999.000,9,-999.000,9,-999.000,9,  -999.0,9,  -999.0,9,-999.0000,9,  -999.00, -999.00,9, -999.00,9,     1107,   34.32,2,   6.9360,2,        570
49UP20160703,         P9,      39,          1,         21,        078,2,20160716,       0922,    17.5045,   136.9442,       4625,   675.2,   5.9954,  34.3882,2,  34.3888,2,     67.9,2,   67.94,2,   73.15,2,    0.00,2,   2.640,2,-999.000,9,-999.000,9,-999.000,9,  -999.0,9,  -999.0,9,-999.0000,9,  -999.00, -999.00,9, -999.00,9,     1104,   36.61,2,   5.9963,2,        670
49UP20160703,         P9,      39,          1,         20,        093,2,20160716,       0922,    17.5045,   136.9442,       4625,   776.7,   5.3862,  34.4398,2,  34.4396,2,     70.7,2,   71.03,2,   82.70,2,    0.00,2,   2.700,2,-999.000,9,-999.000,9,-999.000,9,  -999.0,9,  -999.0,9,-999.0000,9,  -999.00, -999.00,9, -999.00,9,     1102,   37.53,2,   5.3858,2,        771
49UP20160703,         P9,      39,          1,         19,        269,2,20160716,       0922,    17.5045,   136.9442,       4625,   877.3,   4.9214,  34.4813,2,  34.4818,2,     75.6,2,   75.74,2,   89.65,2,    0.00,2,   2.730,2,-999.000,9,-999.000,9,-999.000,9,  -999.0,9,  -999.0,9,-999.0000,9,  -999.00, -999.00,9, -999.00,9,     1058,   37.94,2,   4.9209,2,        870
49UP20160703,         P9,      39,          1,         18,        088,2,20160716,       0922,    17.5045,   136.9442,       4625,   978.2,   4.5009,  34.5068,2,  34.5068,2,     79.6,2,   79.34,2,   97.27,2,    0.00,2,   2.740,2,-999.000,9,-999.000,9,-999.000,9,  -999.0,9,  -999.0,9,-999.0000,9,  -999.00, -999.00,9, -999.00,9,     1056,   38.31,2,   4.5006,2,        970
49UP20160703,         P9,      39,          1,         17,        090,2,20160716,       0922,    17.5045,   136.9442,       4625,  1140.4,   3.9157,  34.5336,2,  34.5332,2,     85.1,2,   85.10,2,  108.50,2,    0.00,2,   2.750,2,-999.000,9,-999.000,9,-999.000,9,  -999.0,9,  -999.0,9,-999.0000,9,  -999.00, -999.00,9, -999.00,9,     1050,   38.53,2,   3.9164,2,       1130
49UP20160703,         P9,      39,          1,         16,        474,2,20160716,       0922,    17.5045,   136.9442,       4625,  1342.4,   3.3109,  34.5562,2,  34.5562,6,     91.7,2,   91.44,2,  121.10,2,    0.00,2,   2.750,2,-999.000,9,-999.000,9,-999.000,9,  -999.0,9,  -999.0,9,-999.0000,9,  -999.00, -999.00,9, -999.00,9,     1045,   38.55,2,   3.3109,2,       1330
49UP20160703,         P9,      39,          1,         15,        665,2,20160716,       0922,    17.5045,   136.9442,       4625,  1545.5,   2.8786,  34.5771,2,  34.5775,2,     97.3,2,   96.81,6,  129.06,6,    0.00,6,   2.740,6,-999.000,9,-999.000,9,-999.000,9,  -999.0,9,  -999.0,9,-999.0000,9,  -999.00, -999.00,9, -999.00,9,     1041,   38.56,6,   2.8793,2,       1531
49UP20160703,         P9,      39,          1,         14,        999,2,20160716,       0922,    17.5045,   136.9442,       4625,  1748.3,   2.5432,  34.5952,2,  34.5949,2,    102.4,2,  102.00,2,  134.79,2,    0.00,2,   2.730,2,-999.000,9,-999.000,9,-999.000,9,  -999.0,9,  -999.0,9,-999.0000,9,  -999.00, -999.00,9, -999.00,9,     1034,   38.59,2,   2.5434,2,       1731
49UP20160703,         P9,      39,          1,         13,        667,2,20160716,       0922,    17.5045,   136.9442,       4625,  1949.5,   2.2573,  34.6119,2,  34.6116,6,    108.0,2,  107.60,2,  139.27,2,    0.00,2,   2.710,2,-999.000,9,-999.000,9,-999.000,9,  -999.0,9,  -999.0,9,-999.0000,9,  -999.00, -999.00,9, -999.00,9,     1029,   38.45,2,   2.2571,2,       1929
49UP20160703,         P9,      39,          1,         12,        074,2,20160716,       0922,    17.5045,   136.9442,       4625,  2154.7,   2.0419,  34.6276,2,  34.6277,2,    115.1,2,  114.87,6,  142.51,6,    0.00,6,   2.680,6,-999.000,9,-999.000,9,-999.000,9,  -999.0,9,  -999.0,9,-999.0000,9,  -999.00, -999.00,9, -999.00,9,     1024,   38.14,6,   2.0419,2,       2131
49UP20160703,         P9,      39,          1,         11,        268,2,20160716,       0922,    17.5045,   136.9442,       4625,  2358.7,   1.9129,  34.6383,2,  34.6386,2,    120.8,2,  120.53,2,  143.87,2,    0.00,2,   2.650,2,-999.000,9,-999.000,9,-999.000,9,  -999.0,9,  -999.0,9,-999.0000,9,  -999.00, -999.00,9, -999.00,9,     1019,   37.79,2,   1.9129,2,       2332
49UP20160703,         P9,      39,          1,         10,        267,2,20160716,       0922,    17.5045,   136.9442,       4625,  2561.9,   1.8147,  34.6478,2,  34.6484,2,    126.1,2,  126.11,2,  144.72,2,    0.00,2,   2.630,2,-999.000,9,-999.000,9,-999.000,9,  -999.0,9,  -999.0,9,-999.0000,9,  -999.00, -999.00,9, -999.00,9,     1013,   37.50,2,   1.8147,2,       2531
49UP20160703,         P9,      39,          1,          9,        518,2,20160716,       0922,    17.5045,   136.9442,       4625,  2765.4,   1.7500,  34.6547,2,  34.6540,2,    130.6,2,  130.40,2,  144.95,2,    0.00,2,   2.600,2,-999.000,9,-999.000,9,-999.000,9,  -999.0,9,  -999.0,9,-999.0000,9,  -999.00, -999.00,9, -999.00,9,     1008,   37.27,2,   1.7501,2,       2731
49UP20160703,         P9,      39,          1,          8,        470,2,20160716,       0922,    17.5045,   136.9442,       4625,  2968.9,   1.6889,  34.6610,2,  34.6612,2,    135.3,2,  135.53,2,  144.71,2,    0.00,2,   2.580,2,-999.000,9,-999.000,9,-999.000,9,  -999.0,9,  -999.0,9,-999.0000,9,  -999.00, -999.00,9, -999.00,9,     1003,   36.98,2,   1.6888,2,       2931
49UP20160703,         P9,      39,          1,          7,        516,2,20160716,       0922,    17.5045,   136.9442,       4625,  3214.2,   1.6350,  34.6671,2,  34.6670,6,    140.5,2,  140.22,2,  144.22,2,    0.00,2,   2.550,2,-999.000,9,-999.000,9,-999.000,9,  -999.0,9,  -999.0,9,-999.0000,9,  -999.00, -999.00,9, -999.00,9,      957,   36.69,2,   1.6351,2,       3171
49UP20160703,         P9,      39,          1,          6,        113,2,20160716,       0922,    17.5045,   136.9442,       4625,  3469.6,   1.5786,  34.6736,2,  34.6737,2,    146.4,2,  146.10,6,  143.22,6,    0.00,6,   2.520,6,-999.000,9,-999.000,9,-999.000,9,  -999.0,9,  -999.0,9,-999.0000,9,  -999.00, -999.00,9, -999.00,9,      952,   36.29,6,   1.5785,2,       3421
49UP20160703,         P9,      39,          1,          5,        658,2,20160716,       0922,    17.5045,   136.9442,       4625,  3724.5,   1.5561,  34.6773,2,  34.6768,2,    150.1,2,  149.69,2,  142.49,2,    0.00,2,   2.510,2,-999.000,9,-999.000,9,-999.000,9,  -999.0,9,  -999.0,9,-999.0000,9,  -999.00, -999.00,9, -999.00,9,      946,   36.12,2,   1.5559,2,       3670
49UP20160703,         P9,      39,          1,          4,        471,2,20160716,       0922,    17.5045,   136.9442,       4625,  3979.9,   1.5227,  34.6818,2,  34.6819,2,    155.1,2,  154.88,2,  141.09,2,    0.00,2,   2.480,2,-999.000,9,-999.000,9,-999.000,9,  -999.0,9,  -999.0,9,-999.0000,9,  -999.00, -999.00,9, -999.00,9,      940,   35.70,2,   1.5229,2,       3919
49UP20160703,         P9,      39,          1,          3,        104,2,20160716,       0922,    17.5045,   136.9442,       4625,  4237.1,   1.5066,  34.6849,2,  34.6853,2,    159.1,2,  158.82,2,  139.75,2,    0.00,2,   2.460,2,-999.000,9,-999.000,9,-999.000,9,  -999.0,9,  -999.0,9,-999.0000,9,  -999.00, -999.00,9, -999.00,9,      934,   35.44,2,   1.5065,2,       4170
49UP20160703,         P9,      39,          1,          2,        075,2,20160716,       0922,    17.5045,   136.9442,       4625,  4493.3,   1.5189,  34.6863,2,  34.6858,2,    160.6,2,  160.54,2,  139.38,2,    0.00,2,   2.450,2,-999.000,9,-999.000,9,-999.000,9,  -999.0,9,  -999.0,9,-999.0000,9,  -999.00, -999.00,9, -999.00,9,      929,   35.34,2,   1.5189,2,       4420
49UP20160703,         P9,      39,          1,          1,        997,2,20160716,       0922,    17.5045,   136.9442,       4625,  4771.5,   1.5487,  34.6865,2,  34.6860,2,    161.2,2,  160.79,2,  139.19,2,    0.00,2,   2.450,2,-999.000,9,-999.000,9,-999.000,9,  -999.0,9,  -999.0,9,-999.0000,9,  -999.00, -999.00,9, -999.00,9,      923,   35.32,2,   1.5486,2,       4691