BOTTLE,20230712CCHSIOENA
EXPOCODE,SECT_ID,STNNBR,CASTNO,SAMPNO,BTLNBR,BTLNBR_FLAG_W,DATE,TIME,LATITUDE,LONGITUDE,DEPTH,CTDPRS,CTDTMP,CTDSAL,CTDSAL_FLAG_W,SALNTY,SALNTY_FLAG_W,CTDOXY,CTDOXY_FLAG_W,OXYGEN,OXYGEN_FLAG_W,SILCAT,SILCAT_FLAG_W,NITRIT,NITRIT_FLAG_W,PHSPHT,PHSPHT_FLAG_W,CFC-11,CFC-11_FLAG_W,CFC-12,CFC-12_FLAG_W,CFC113,CFC113_FLAG_W,TCARBN,TCARBN_FLAG_W,ALKALI,ALKALI_FLAG_W,PH_TOT,PH_TOT_FLAG_W,PH_TMP,CHLORA,CHLORA_FLAG_W,PPHYTN,PPHYTN_FLAG_W,BTL_TIME,NO2+NO3,NO2+NO3_FLAG_W,SBE35,SBE35_FLAG_W,CTDDEPTH
,,,,,,,,,,,METERS,DBAR,ITS-90,PSS-78,,PSS-78,,UMOL/KG,,UMOL/KG,,UMOL/KG,,UMOL/KG,,UMOL/KG,,PMOL/KG,,PMOL/KG,,PMOL/KG,,UMOL/KG,,UMOL/KG,,,,DEG C,UG/KG,,UG/KG,,,UMOL/KG,,ITS-90,,METERS
49UP20160703,         P9,      37,          1,          0,        BUC,2,20160715,       0713,    18.4983,   136.9918,       4976,     0.0,  30.1747,  34.7800,2,-999.0000,9,    193.9,2,  193.90,2,    1.24,2,    0.00,2,   0.030,2,-999.000,9,-999.000,9,-999.000,9,  -999.0,9,  -999.0,9,-999.0000,9,  -999.00, -999.00,9, -999.00,9,      905,    0.00,2,-999.0000,9,          0
49UP20160703,         P9,      37,          1,         36,        109,2,20160715,       0713,    18.4983,   136.9918,       4976,    11.4,  30.1801,  34.7800,2,  34.7792,2,    193.8,2,  193.93,2,    1.22,2,    0.00,2,   0.030,2,-999.000,9,-999.000,9,-999.000,9,  -999.0,9,  -999.0,9,-999.0000,9,  -999.00, -999.00,9, -999.00,9,      928,    0.00,2,  30.1800,2,         11
49UP20160703,         P9,      37,          1,         35,        112,2,20160715,       0713,    18.4983,   136.9918,       4976,    50.6,  29.4816,  34.7574,2,  34.7562,2,    200.0,2,  199.54,2,    1.22,2,    0.00,2,   0.030,2,-999.000,9,-999.000,9,-999.000,9,  -999.0,9,  -999.0,9,-999.0000,9,  -999.00, -999.00,9, -999.00,9,      924,    0.02,2,  29.4802,2,         50
49UP20160703,         P9,      37,          1,         34,        094,2,20160715,       0713,    18.4983,   136.9918,       4976,   101.2,  27.3329,  34.8607,2,  34.8760,4,    206.6,2,  205.83,2,    1.15,2,    0.00,2,   0.050,2,-999.000,9,-999.000,9,-999.000,9,  -999.0,9,  -999.0,9,-999.0000,9,  -999.00, -999.00,9, -999.00,9,      922,    0.01,2,  27.3412,2,        101
49UP20160703,         P9,      37,          1,         33,        469,2,20160715,       0713,    18.4983,   136.9918,       4976,   125.4,  26.3640,  35.0626,2,  35.0620,2,    204.5,2,  204.20,2,    1.07,2,    0.00,2,   0.050,2,-999.000,9,-999.000,9,-999.000,9,  -999.0,9,  -999.0,9,-999.0000,9,  -999.00, -999.00,9, -999.00,9,      920,    0.00,2,  26.3630,2,        125
49UP20160703,         P9,      37,          1,         32,        089,2,20160715,       0713,    18.4983,   136.9918,       4976,   152.0,  25.9587,  35.1716,2,  35.1699,2,    200.0,2,  200.14,2,    1.07,2,    0.02,2,   0.040,2,-999.000,9,-999.000,9,-999.000,9,  -999.0,9,  -999.0,9,-999.0000,9,  -999.00, -999.00,9, -999.00,9,      919,    0.02,2,  25.9574,2,        151
49UP20160703,         P9,      37,          1,         31,        515,2,20160715,       0713,    18.4983,   136.9918,       4976,   201.7,  22.4344,  35.1185,2,  35.1128,2,    193.8,2,  194.19,2,    1.61,2,    0.02,2,   0.080,2,-999.000,9,-999.000,9,-999.000,9,  -999.0,9,  -999.0,9,-999.0000,9,  -999.00, -999.00,9, -999.00,9,      917,    0.65,2,  22.4326,2,        200
49UP20160703,         P9,      37,          1,         30,        097,2,20160715,       0713,    18.4983,   136.9918,       4976,   251.7,  19.0610,  34.9847,2,  34.9848,2,    188.9,2,  189.09,2,    3.27,2,    0.01,2,   0.290,2,-999.000,9,-999.000,9,-999.000,9,  -999.0,9,  -999.0,9,-999.0000,9,  -999.00, -999.00,9, -999.00,9,      915,    3.55,2,  19.0606,2,        250
49UP20160703,         P9,      37,          1,         29,        102,2,20160715,       0713,    18.4983,   136.9918,       4976,   301.8,  16.6560,  34.7038,2,  34.7033,2,    177.1,2,  177.48,2,    6.81,2,    0.00,2,   0.590,2,-999.000,9,-999.000,9,-999.000,9,  -999.0,9,  -999.0,9,-999.0000,9,  -999.00, -999.00,9, -999.00,9,      913,    7.69,2,  16.6559,2,        300
49UP20160703,         P9,      37,          1,         28,        472,2,20160715,       0713,    18.4983,   136.9918,       4976,   352.5,  13.9506,  34.4523,2,  34.4438,4,    166.0,2,  165.37,2,   12.90,2,    0.00,2,   0.970,2,-999.000,9,-999.000,9,-999.000,9,  -999.0,9,  -999.0,9,-999.0000,9,  -999.00, -999.00,9, -999.00,9,      910,   12.96,2,  13.9542,2,        350
49UP20160703,         P9,      37,          1,         27,        998,2,20160715,       0713,    18.4983,   136.9918,       4976,   402.8,  11.8765,  34.3199,2,  34.3178,6,    155.7,2,  156.23,2,   19.49,2,    0.00,2,   1.270,2,-999.000,9,-999.000,9,-999.000,9,  -999.0,9,  -999.0,9,-999.0000,9,  -999.00, -999.00,9, -999.00,9,      909,   17.24,2,  11.8772,2,        400
49UP20160703,         P9,      37,          1,         26,        084,2,20160715,       0713,    18.4983,   136.9918,       4976,   453.7,  10.2166,  34.2499,2,  34.2493,2,    138.7,2,  137.60,6,   28.56,6,    0.00,6,   1.610,6,-999.000,9,-999.000,9,-999.000,9,  -999.0,9,  -999.0,9,-999.0000,9,  -999.00, -999.00,9, -999.00,9,      907,   22.06,6,  10.2211,2,        450
49UP20160703,         P9,      37,          1,         25,        098,2,20160715,       0713,    18.4983,   136.9918,       4976,   504.2,   8.9416,  34.2281,2,  34.2281,2,    115.1,2,  115.16,2,   38.09,2,    0.00,2,   1.940,2,-999.000,9,-999.000,9,-999.000,9,  -999.0,9,  -999.0,9,-999.0000,9,  -999.00, -999.00,9, -999.00,9,      905,   26.50,2,   8.9447,2,        501
49UP20160703,         P9,      37,          1,         24,        110,2,20160715,       0713,    18.4983,   136.9918,       4976,   604.8,   6.7432,  34.1816,2,  34.1830,2,     87.7,2,   87.20,2,   60.70,2,    0.00,2,   2.400,2,-999.000,9,-999.000,9,-999.000,9,  -999.0,9,  -999.0,9,-999.0000,9,  -999.00, -999.00,9, -999.00,9,      902,   33.09,2,   6.7427,2,        600
49UP20160703,         P9,      37,          1,         23,        679,2,20160715,       0713,    18.4983,   136.9918,       4976,   705.7,   5.7067,  34.3184,2,  34.3159,2,     64.5,2,   64.46,2,   78.65,2,    0.00,2,   2.700,2,-999.000,9,-999.000,9,-999.000,9,  -999.0,9,  -999.0,9,-999.0000,9,  -999.00, -999.00,9, -999.00,9,      859,   37.31,2,   5.7030,2,        700
49UP20160703,         P9,      37,          1,         22,        111,2,20160715,       0713,    18.4983,   136.9918,       4976,   806.6,   4.9902,  34.3886,2,  34.3895,2,     62.8,2,   63.05,2,   90.79,2,    0.00,2,   2.790,2,-999.000,9,-999.000,9,-999.000,9,  -999.0,9,  -999.0,9,-999.0000,9,  -999.00, -999.00,9, -999.00,9,      856,   38.60,2,   4.9893,2,        800
49UP20160703,         P9,      37,          1,         21,        078,2,20160715,       0713,    18.4983,   136.9918,       4976,   909.0,   4.4563,  34.4557,2,  34.4555,6,     71.3,2,   71.42,2,  100.88,2,    0.00,2,   2.780,2,-999.000,9,-999.000,9,-999.000,9,  -999.0,9,  -999.0,9,-999.0000,9,  -999.00, -999.00,9, -999.00,9,      853,   38.69,2,   4.4563,2,        902
49UP20160703,         P9,      37,          1,         20,        093,2,20160715,       0713,    18.4983,   136.9918,       4976,  1008.9,   4.0504,  34.4867,2,  34.4871,2,     75.9,2,   75.72,6,  108.77,6,    0.00,6,   2.790,6,-999.000,9,-999.000,9,-999.000,9,  -999.0,9,  -999.0,9,-999.0000,9,  -999.00, -999.00,9, -999.00,9,      850,   38.80,6,   4.0498,2,       1000
49UP20160703,         P9,      37,          1,         19,        269,2,20160715,       0713,    18.4983,   136.9918,       4976,  1212.4,   3.2702,  34.5383,2,  34.5395,2,     86.3,2,   86.25,2,  123.30,2,    0.00,2,   2.780,2,-999.000,9,-999.000,9,-999.000,9,  -999.0,9,  -999.0,9,-999.0000,9,  -999.00, -999.00,9, -999.00,9,      843,   38.84,2,   3.2706,2,       1202
49UP20160703,         P9,      37,          1,         18,        088,4,20160715,       0713,    18.4983,   136.9918,       4976,  1413.7,   2.8557,  34.5717,2,  34.6357,4,     95.5,2,  119.12,4,  143.53,4,    0.00,4,   2.660,4,-999.000,9,-999.000,9,-999.000,9,  -999.0,9,  -999.0,9,-999.0000,9,  -999.00, -999.00,9, -999.00,9,      838,   37.86,4,   2.8558,2,       1400
49UP20160703,         P9,      37,          1,         17,        090,2,20160715,       0713,    18.4983,   136.9918,       4976,  1616.5,   2.5204,  34.5885,2,  34.5882,2,     99.4,2,   99.37,2,  136.09,2,    0.00,2,   2.750,2,-999.000,9,-999.000,9,-999.000,9,  -999.0,9,  -999.0,9,-999.0000,9,  -999.00, -999.00,9, -999.00,9,      833,   38.71,2,   2.5206,2,       1601
49UP20160703,         P9,      37,          1,         16,        474,2,20160715,       0713,    18.4983,   136.9918,       4976,  1818.9,   2.2914,  34.6065,2,  34.6063,2,    106.2,2,  105.97,2,  139.00,2,    0.00,2,   2.720,2,-999.000,9,-999.000,9,-999.000,9,  -999.0,9,  -999.0,9,-999.0000,9,  -999.00, -999.00,9, -999.00,9,      828,   38.43,2,   2.2914,2,       1800
49UP20160703,         P9,      37,          1,         15,        665,2,20160715,       0713,    18.4983,   136.9918,       4976,  2023.0,   2.0938,  34.6219,2,  34.6222,2,    112.7,2,  112.32,2,  141.93,2,    0.00,2,   2.690,2,-999.000,9,-999.000,9,-999.000,9,  -999.0,9,  -999.0,9,-999.0000,9,  -999.00, -999.00,9, -999.00,9,      823,   38.20,2,   2.0938,2,       2001
49UP20160703,         P9,      37,          1,         14,        999,2,20160715,       0713,    18.4983,   136.9918,       4976,  2224.7,   1.9350,  34.6355,2,  34.6357,6,    119.4,2,  119.02,2,  143.81,2,    0.00,2,   2.670,2,-999.000,9,-999.000,9,-999.000,9,  -999.0,9,  -999.0,9,-999.0000,9,  -999.00, -999.00,9, -999.00,9,      818,   37.87,2,   1.9349,2,       2200
49UP20160703,         P9,      37,          1,         13,        667,2,20160715,       0713,    18.4983,   136.9918,       4976,  2429.2,   1.8286,  34.6445,2,  34.6436,2,    124.8,2,  124.49,6,  144.56,6,    0.00,6,   2.640,6,-999.000,9,-999.000,9,-999.000,9,  -999.0,9,  -999.0,9,-999.0000,9,  -999.00, -999.00,9, -999.00,9,      813,   37.51,6,   1.8285,2,       2401
49UP20160703,         P9,      37,          1,         12,        074,2,20160715,       0713,    18.4983,   136.9918,       4976,  2632.2,   1.7554,  34.6522,2,  34.6526,2,    129.4,2,  129.44,2,  145.11,2,    0.00,2,   2.620,2,-999.000,9,-999.000,9,-999.000,9,  -999.0,9,  -999.0,9,-999.0000,9,  -999.00, -999.00,9, -999.00,9,      807,   37.28,2,   1.7553,2,       2600
49UP20160703,         P9,      37,          1,         11,        268,2,20160715,       0713,    18.4983,   136.9918,       4976,  2836.6,   1.7081,  34.6577,2,  34.6560,2,    133.4,2,  132.08,3,  144.60,2,    0.00,2,   2.600,2,-999.000,9,-999.000,9,-999.000,9,  -999.0,9,  -999.0,9,-999.0000,9,  -999.00, -999.00,9, -999.00,9,      803,   37.05,2,   1.7081,2,       2801
49UP20160703,         P9,      37,          1,         10,        267,2,20160715,       0713,    18.4983,   136.9918,       4976,  3039.5,   1.6559,  34.6629,2,  34.6629,2,    138.6,2,  138.62,2,  143.82,2,    0.00,2,   2.570,2,-999.000,9,-999.000,9,-999.000,9,  -999.0,9,  -999.0,9,-999.0000,9,  -999.00, -999.00,9, -999.00,9,      758,   36.70,2,   1.6560,2,       3000
49UP20160703,         P9,      37,          1,          9,        518,2,20160715,       0713,    18.4983,   136.9918,       4976,  3295.0,   1.6054,  34.6701,2,  34.6697,2,    143.1,2,  143.04,2,  143.86,2,    0.00,2,   2.550,2,-999.000,9,-999.000,9,-999.000,9,  -999.0,9,  -999.0,9,-999.0000,9,  -999.00, -999.00,9, -999.00,9,      752,   36.43,2,   1.6054,2,       3250
49UP20160703,         P9,      37,          1,          8,        470,2,20160715,       0713,    18.4983,   136.9918,       4976,  3551.8,   1.5637,  34.6753,2,  34.6757,2,    148.0,2,  148.06,2,  142.85,2,    0.00,2,   2.520,2,-999.000,9,-999.000,9,-999.000,9,  -999.0,9,  -999.0,9,-999.0000,9,  -999.00, -999.00,9, -999.00,9,      746,   36.08,2,   1.5637,2,       3501
49UP20160703,         P9,      37,          1,          7,        516,2,20160715,       0713,    18.4983,   136.9918,       4976,  3807.5,   1.5376,  34.6793,2,  34.6795,2,    152.2,2,  152.10,2,  142.02,2,    0.00,2,   2.500,2,-999.000,9,-999.000,9,-999.000,9,  -999.0,9,  -999.0,9,-999.0000,9,  -999.00, -999.00,9, -999.00,9,      740,   35.79,2,   1.5377,2,       3751
49UP20160703,         P9,      37,          1,          6,        113,2,20160715,       0713,    18.4983,   136.9918,       4976,  4063.9,   1.5207,  34.6826,2,  34.6829,2,    156.0,2,  156.02,2,  140.93,2,    0.00,2,   2.480,2,-999.000,9,-999.000,9,-999.000,9,  -999.0,9,  -999.0,9,-999.0000,9,  -999.00, -999.00,9, -999.00,9,      734,   35.57,2,   1.5208,2,       4001
49UP20160703,         P9,      37,          1,          5,        658,2,20160715,       0713,    18.4983,   136.9918,       4976,  4064.1,   1.5206,  34.6827,2,  34.6828,2,    156.0,2,  155.98,2,  140.95,2,    0.00,2,   2.480,2,-999.000,9,-999.000,9,-999.000,9,  -999.0,9,  -999.0,9,-999.0000,9,  -999.00, -999.00,9, -999.00,9,      734,   35.58,2,   1.5207,2,       4001
49UP20160703,         P9,      37,          1,          4,        471,2,20160715,       0713,    18.4983,   136.9918,       4976,  4318.3,   1.5161,  34.6851,2,  34.6850,2,    159.0,2,  159.09,2,  139.98,2,    0.00,2,   2.470,2,-999.000,9,-999.000,9,-999.000,9,  -999.0,9,  -999.0,9,-999.0000,9,  -999.00, -999.00,9, -999.00,9,      728,   35.38,2,   1.5161,2,       4249
49UP20160703,         P9,      37,          1,          3,        104,2,20160715,       0713,    18.4983,   136.9918,       4976,  4575.3,   1.5312,  34.6862,2,  34.6866,2,    160.4,2,  160.22,2,  139.62,2,    0.00,2,   2.450,2,-999.000,9,-999.000,9,-999.000,9,  -999.0,9,  -999.0,9,-999.0000,9,  -999.00, -999.00,9, -999.00,9,      723,   35.29,2,   1.5312,2,       4499
49UP20160703,         P9,      37,          1,          2,        075,2,20160715,       0713,    18.4983,   136.9918,       4976,  4831.4,   1.5573,  34.6865,2,  34.6869,6,    160.8,2,  160.92,2,  139.18,2,    0.00,2,   2.450,2,-999.000,9,-999.000,9,-999.000,9,  -999.0,9,  -999.0,9,-999.0000,9,  -999.00, -999.00,9, -999.00,9,      718,   35.24,2,   1.5573,2,       4749
49UP20160703,         P9,      37,          1,          1,        997,2,20160715,       0713,    18.4983,   136.9918,       4976,  5072.1,   1.5872,  34.6865,2,  34.6864,2,    161.1,2,  161.05,6,  139.27,6,    0.00,6,   2.450,6,-999.000,9,-999.000,9,-999.000,9,  -999.0,9,  -999.0,9,-999.0000,9,  -999.00, -999.00,9, -999.00,9,      713,   35.27,6,   1.5871,2,       4982