BOTTLE,20230712CCHSIOENA
EXPOCODE,SECT_ID,STNNBR,CASTNO,SAMPNO,BTLNBR,BTLNBR_FLAG_W,DATE,TIME,LATITUDE,LONGITUDE,DEPTH,CTDPRS,CTDTMP,CTDSAL,CTDSAL_FLAG_W,SALNTY,SALNTY_FLAG_W,CTDOXY,CTDOXY_FLAG_W,OXYGEN,OXYGEN_FLAG_W,SILCAT,SILCAT_FLAG_W,NITRIT,NITRIT_FLAG_W,PHSPHT,PHSPHT_FLAG_W,CFC-11,CFC-11_FLAG_W,CFC-12,CFC-12_FLAG_W,CFC113,CFC113_FLAG_W,TCARBN,TCARBN_FLAG_W,ALKALI,ALKALI_FLAG_W,PH_TOT,PH_TOT_FLAG_W,PH_TMP,CHLORA,CHLORA_FLAG_W,PPHYTN,PPHYTN_FLAG_W,BTL_TIME,NO2+NO3,NO2+NO3_FLAG_W,SBE35,SBE35_FLAG_W,CTDDEPTH
,,,,,,,,,,,METERS,DBAR,ITS-90,PSS-78,,PSS-78,,UMOL/KG,,UMOL/KG,,UMOL/KG,,UMOL/KG,,UMOL/KG,,PMOL/KG,,PMOL/KG,,PMOL/KG,,UMOL/KG,,UMOL/KG,,,,DEG C,UG/KG,,UG/KG,,,UMOL/KG,,ITS-90,,METERS
49UP20160703,         P9,      18,          1,          0,        BUC,2,20160709,       0257,     28.044,   136.9897,       4332,     0.0,  29.1254,  34.7228,2,  34.6814,2,    198.0,2,  200.21,2,    1.46,2,    0.00,2,   0.010,2,-999.000,9,-999.000,9,-999.000,9,  1975.9,2,  2271.9,2,   8.0645,2,    25.00,    0.04,2,    0.01,2,      415,    0.00,2,-999.0000,9,          0
49UP20160703,         P9,      18,          1,         36,        109,2,20160709,       0257,     28.044,   136.9897,       4332,     9.8,  28.8473,  34.6870,2,  34.6910,2,    199.1,2,  199.15,2,    1.49,2,    0.00,2,   0.010,2,-999.000,9,-999.000,9,-999.000,9,  1974.2,2,  2282.0,2,    8.071,2,    25.00, -999.00,9, -999.00,9,      457,    0.00,2,  28.8679,2,         10
49UP20160703,         P9,      18,          1,         35,        112,2,20160709,       0257,     28.044,   136.9897,       4332,    10.3,  28.8948,  34.6834,2,  34.6914,4,    198.8,2,  198.95,2,    1.42,2,    0.00,2,   0.010,2,   1.596,2,   1.003,2,   0.135,2,  1973.9,2,  2277.6,2,   8.0715,2,    25.00,    0.04,2,    0.01,2,      457,    0.00,2,  28.8952,2,         10
49UP20160703,         P9,      18,          1,         34,        094,2,20160709,       0257,     28.044,   136.9897,       4332,    25.5,  25.6142,  34.6489,2,  34.6579,4,    216.4,2,  216.90,2,    1.50,2,    0.00,2,   0.010,2,   1.870,2,   1.143,2,   0.159,2,  1974.6,6,  2275.1,6,   8.0634,2,    25.00,    0.06,2,    0.02,2,      456,    0.00,2,  25.5954,2,         25
49UP20160703,         P9,      18,          1,         33,        469,2,20160709,       0257,     28.044,   136.9897,       4332,    50.7,  22.0467,  34.9163,2,  34.9189,2,    232.7,2,  232.21,2,    1.65,2,    0.00,2,   0.010,2,   2.120,2,   1.313,2,   0.162,2,  1995.8,2,  2291.4,2,   8.0565,2,    25.00,    0.10,2,    0.04,2,      454,    0.01,2,  22.0444,2,         50
49UP20160703,         P9,      18,          1,         32,        089,2,20160709,       0257,     28.044,   136.9897,       4332,    75.8,  20.9424,  34.9084,2,  34.9100,2,    224.5,2,  225.66,2,    1.72,2,    0.00,2,   0.020,2,   2.139,2,   1.334,2,   0.143,2,  2000.5,2,  2291.9,2,   8.0417,2,    25.00,    0.17,2,    0.10,2,      453,    0.00,2,  20.9329,2,         75
49UP20160703,         P9,      18,          1,         31,        515,2,20160709,       0257,     28.044,   136.9897,       4332,   101.5,  19.9403,  34.8857,2,  34.8838,2,    214.9,2,  214.81,2,    2.04,2,    0.08,2,   0.080,2,   2.182,2,   1.367,2,   0.124,2,  2012.2,2,  2289.8,2,   8.0158,2,    25.00,    0.45,2,    0.59,2,      449,    0.70,2,  19.9393,2,        101
49UP20160703,         P9,      18,          1,         30,        097,2,20160709,       0257,     28.044,   136.9897,       4332,   126.0,  19.3818,  34.8658,2,  34.8650,2,    210.5,2,  210.72,2,    2.40,2,    0.04,2,   0.140,2,   2.237,2,   1.405,2,   0.120,2,  2018.1,2,  2287.9,2,   8.0001,2,    25.00,    0.17,2,    0.29,2,      448,    1.77,2,  19.3837,2,        125
49UP20160703,         P9,      18,          1,         29,        102,2,20160709,       0257,     28.044,   136.9897,       4332,   151.3,  18.8219,  34.8347,2,  34.8341,2,    202.4,2,  202.17,2,    2.96,2,    0.02,2,   0.220,2,   2.264,2,   1.431,2,   0.081,2,  2028.6,2,  2284.3,2,   7.9787,2,    25.00,    0.06,2,    0.12,2,      446,    3.16,2,  18.8230,2,        150
49UP20160703,         P9,      18,          1,         28,        472,2,20160709,       0257,     28.044,   136.9897,       4332,   200.3,  17.9406,  34.7791,2,  34.7788,6,    200.9,2,  201.07,2,    3.76,2,    0.01,2,   0.280,2,   2.361,2,   1.476,2,   0.053,2,  2040.8,2,  2281.9,2,   7.9576,2,    25.00,    0.00,2,    0.02,2,      445,    4.26,2,  17.9398,2,        199
49UP20160703,         P9,      18,          1,         27,        998,2,20160709,       0257,     28.044,   136.9897,       4332,   252.2,  16.9746,  34.7142,2,  34.7152,2,    202.5,2,  202.59,6,    4.85,6,    0.00,6,   0.360,6,   2.445,2,   1.518,2,   0.046,2,  2043.2,2,  2278.2,2,   7.9376,2,    25.00, -999.00,9, -999.00,9,      443,    5.44,6,  16.9707,2,        250
49UP20160703,         P9,      18,          1,         26,        084,2,20160709,       0257,     28.044,   136.9897,       4332,   282.1,  16.6753,  34.6914,2,  34.6914,2,    200.2,2,  200.56,2,    5.64,2,    0.00,2,   0.410,2,   2.478,2,   1.531,2,   0.054,2,  2050.9,2,  2278.2,2,   7.9272,6,    25.00, -999.00,9, -999.00,9,      441,    6.11,2,  16.6741,2,        280
49UP20160703,         P9,      18,          1,         25,        098,2,20160709,       0257,     28.044,   136.9897,       4332,   371.7,  15.1885,  34.5728,2,  34.5704,2,    190.2,2,  190.51,2,    9.91,2,    0.00,2,   0.640,2,   2.606,6,   1.579,6,   0.049,6,  2075.0,2,  2275.8,2,   7.8742,2,    25.00, -999.00,9, -999.00,9,      439,    9.41,2,  15.1882,2,        369
49UP20160703,         P9,      18,          1,         23,        679,2,20160709,       0257,     28.044,   136.9897,       4332,   474.6,  12.8323,  34.4063,2,  34.4072,2,    179.5,2,  180.15,2,   18.22,2,    0.00,2,   0.990,2,   2.713,2,   1.589,2,   0.049,2,  2107.0,2,  2273.3,2,   7.7969,2,    25.00, -999.00,9, -999.00,9,      436,   14.14,2,  12.8223,2,        471
49UP20160703,         P9,      18,          1,         24,        110,2,20160709,       0257,     28.044,   136.9897,       4332,   474.7,  12.7467,  34.4011,2,  34.4010,2,    179.9,2,  179.90,2,   18.52,2,    0.00,2,   0.990,2,-999.000,9,-999.000,9,-999.000,9,  2108.5,2,  2274.2,2,   7.7954,2,    25.00, -999.00,9, -999.00,9,      437,   14.28,2,  12.7500,2,        471
49UP20160703,         P9,      18,          1,         22,        111,3,20160709,       0257,     28.044,   136.9897,       4332,   575.9,  10.0641,  34.2415,2,  34.2431,2,    162.0,2,  162.61,2,   32.61,2,    0.00,2,   1.450,2,   2.635,2,   1.486,2,   0.080,2,  2152.3,2,  2277.2,2,    7.697,2,    25.00, -999.00,9, -999.00,9,      430,   20.42,2,  10.0667,2,        571
49UP20160703,         P9,      18,          1,         21,        078,2,20160709,       0257,     28.044,   136.9897,       4332,   677.3,   7.4626,  34.1444,2,  34.1510,4,    131.0,2,  133.04,2,   52.90,2,    0.00,2,   1.970,2,   2.237,2,   1.169,2,   0.064,2,  2205.4,2,  2292.0,2,   7.5844,2,    25.00, -999.00,9, -999.00,9,      427,   27.27,2,   7.4993,2,        672
49UP20160703,         P9,      18,          1,         20,        093,2,20160709,       0257,     28.044,   136.9897,       4332,   777.9,   5.7739,  34.1543,2,  34.1552,2,     97.8,2,   97.73,2,   76.94,2,    0.00,2,   2.430,2,   1.615,2,   0.821,2,   0.062,2,  2261.7,2,  2311.0,2,   7.4821,2,    25.00, -999.00,9, -999.00,9,      423,   33.62,2,   5.7725,2,        771
49UP20160703,         P9,      18,          1,         19,        269,2,20160709,       0257,     28.044,   136.9897,       4332,   878.9,   5.0401,  34.2147,2,  34.2143,6,     78.1,2,   78.95,2,   91.13,2,    0.00,2,   2.630,2,   1.143,6,   0.570,6,   0.054,6,  2293.7,2,  2326.7,2,    7.441,2,    25.00, -999.00,9, -999.00,9,      419,   36.50,2,   5.0395,2,        871
49UP20160703,         P9,      18,          1,         18,        088,2,20160709,       0257,     28.044,   136.9897,       4332,   979.7,   4.2526,  34.2830,2,  34.2822,2,     62.0,2,   62.16,6,  107.59,6,    0.00,6,   2.810,6,   0.694,2,   0.345,2,   0.015,2,  2320.7,2,  2345.0,2,   7.4082,2,    25.00, -999.00,9, -999.00,9,      416,   39.10,6,   4.2527,2,        971
49UP20160703,         P9,      18,          1,         17,        090,2,20160709,       0257,     28.044,   136.9897,       4332,  1140.7,   3.4196,  34.3891,2,  34.3887,2,     54.6,2,   54.51,2,  126.53,2,    0.00,2,   2.930,2,   0.285,2,   0.145,2,   0.021,2,  2342.2,2,  2367.9,2,   7.3946,6,    25.00, -999.00,9, -999.00,9,      412,   40.79,2,   3.4201,2,       1130
49UP20160703,         P9,      18,          1,         16,        474,2,20160709,       0257,     28.044,   136.9897,       4332,  1345.2,   2.8340,  34.4770,2,  34.4752,2,     63.8,2,   63.86,2,  138.46,2,    0.00,2,   2.910,2,   0.126,2,   0.060,2,   0.011,2,  2353.0,2,  2385.0,2,   7.4181,2,    25.00, -999.00,9, -999.00,9,      406,   40.74,2,   2.8360,2,       1332
49UP20160703,         P9,      18,          1,         15,        665,2,20160709,       0257,     28.044,   136.9897,       4332,  1547.6,   2.4590,  34.5290,2,  34.5282,2,     75.0,2,   75.07,2,  144.86,2,    0.00,2,   2.880,2,   0.052,2,   0.016,2,   0.001,2,  2356.7,2,  2393.8,2,   7.4366,2,    25.00, -999.00,9, -999.00,9,      401,   40.38,2,   2.4593,2,       1532
49UP20160703,         P9,      18,          1,         14,        999,3,20160709,       0257,     28.044,   136.9897,       4332,  1748.9,   2.1862,  34.5686,2,  34.5670,4,     87.5,2,   89.36,3,  147.43,2,    0.00,2,   2.830,2,   0.037,2,   0.010,2,   0.008,2,  2350.2,2,  2401.8,2,   7.4629,2,    25.00, -999.00,9, -999.00,9,      356,   39.74,2,   2.1865,2,       1730
49UP20160703,         P9,      18,          1,         13,        667,2,20160709,       0257,     28.044,   136.9897,       4332,  1952.7,   2.0084,  34.5980,2,  34.5970,2,    102.0,2,  102.28,2,  147.20,2,    0.00,2,   2.760,2,   0.003,2,   0.000,2,   0.005,2,  2346.7,2,  2405.1,2,   7.4879,2,    25.00, -999.00,9, -999.00,9,      352,   38.93,2,   2.0086,2,       1931
49UP20160703,         P9,      18,          1,         12,        074,2,20160709,       0257,     28.044,   136.9897,       4332,  2154.8,   1.8752,  34.6207,2,  34.6207,2,    115.3,2,  115.25,2,  145.57,2,    0.00,2,   2.690,2,   0.000,2,   0.000,2,   0.009,2,  2343.6,6,  2407.7,6,   7.5161,2,    25.00, -999.00,9, -999.00,9,      347,   38.09,2,   1.8753,2,       2130
49UP20160703,         P9,      18,          1,         11,        268,2,20160709,       0257,     28.044,   136.9897,       4332,  2360.0,   1.7954,  34.6343,2,  34.6337,2,    123.4,2,  123.02,2,  144.64,2,    0.00,2,   2.650,2,   0.000,2,   0.000,2,   0.002,2,  2337.9,2,  2409.4,2,   7.5281,2,    25.00, -999.00,9, -999.00,9,      342,   37.60,2,   1.7955,2,       2331
49UP20160703,         P9,      18,          1,         10,        267,3,20160709,       0257,     28.044,   136.9897,       4332,  2564.9,   1.7068,  34.6471,2,  34.6447,4,    131.1,2,  130.54,2,  143.33,2,    0.00,2,   2.600,2,   0.005,2,   0.000,2,   0.012,2,  2337.7,2,  2410.4,2,   7.5441,2,    25.00, -999.00,9, -999.00,9,      337,   37.10,2,   1.7069,2,       2532
49UP20160703,         P9,      18,          1,          9,        518,2,20160709,       0257,     28.044,   136.9897,       4332,  2766.8,   1.6387,  34.6568,2,  34.6559,2,    137.3,2,  136.85,2,  143.48,2,    0.00,2,   2.580,2,-999.000,9,-999.000,9,-999.000,9,  2330.9,2,  2411.8,2,   7.5562,2,    25.00, -999.00,9, -999.00,9,      333,   36.78,2,   1.6390,2,       2730
49UP20160703,         P9,      18,          1,          8,        470,2,20160709,       0257,     28.044,   136.9897,       4332,  2971.0,   1.6074,  34.6629,2,  34.6621,2,    140.9,2,  141.15,6,  143.05,6,    0.00,6,   2.560,6,   0.003,2,   0.000,2,   0.000,2,  2330.5,2,  2411.8,2,   7.5607,2,    25.00, -999.00,9, -999.00,9,      328,   36.51,6,   1.6075,2,       2931
49UP20160703,         P9,      18,          1,          7,        516,2,20160709,       0257,     28.044,   136.9897,       4332,  3215.1,   1.5600,  34.6702,2,  34.6679,4,    146.0,2,  145.45,2,  142.40,2,    0.00,2,   2.540,2,-999.000,9,-999.000,9,-999.000,9,  2323.0,2,  2411.7,2,   7.5678,2,    25.00, -999.00,9, -999.00,9,      322,   36.29,2,   1.5599,2,       3170
49UP20160703,         P9,      18,          1,          6,        113,2,20160709,       0257,     28.044,   136.9897,       4332,  3473.0,   1.5217,  34.6767,2,  34.6770,2,    151.0,2,  151.10,2,  141.64,2,    0.00,2,   2.510,2,   0.000,2,   0.000,2,   0.004,2,  2327.6,6,  2412.1,6,   7.5774,2,    25.00, -999.00,9, -999.00,9,      316,   35.90,2,   1.5217,2,       3422
49UP20160703,         P9,      18,          1,          5,        658,2,20160709,       0257,     28.044,   136.9897,       4332,  3727.7,   1.5110,  34.6805,2,  34.6790,4,    153.9,2,  153.32,2,  141.27,2,    0.00,2,   2.500,2,-999.000,9,-999.000,9,-999.000,9,  2321.9,2,  2412.0,2,   7.5787,2,    25.00, -999.00,9, -999.00,9,      310,   35.75,2,   1.5111,2,       3671
49UP20160703,         P9,      18,          1,          4,        471,2,20160709,       0257,     28.044,   136.9897,       4332,  3982.6,   1.5267,  34.6818,2,  34.6822,2,    155.1,2,  155.21,2,  140.99,2,    0.00,2,   2.490,2,   0.000,2,   0.000,2,   0.002,2,  2323.0,2,  2410.6,2,   7.5828,6,    25.00, -999.00,9, -999.00,9,      305,   35.71,2,   1.5268,2,       3919
49UP20160703,         P9,      18,          1,          3,        104,2,20160709,       0257,     28.044,   136.9897,       4332,  4238.7,   1.5506,  34.6821,2,  34.6825,6,    155.4,2,  155.66,6,  140.90,6,    0.00,6,   2.490,6,-999.000,9,-999.000,9,-999.000,9,  2317.5,2,  2410.6,2,   7.5843,2,    25.00, -999.00,9, -999.00,9,      300,   35.69,6,   1.5506,2,       4169
49UP20160703,         P9,      18,          1,          2,        075,2,20160709,       0257,     28.044,   136.9897,       4332,  4324.2,   1.5595,  34.6822,2,  34.6822,2,    155.6,2,  155.77,2,  140.79,2,    0.00,2,   2.480,2,   0.000,2,   0.000,2,   0.000,2,  2320.4,2,  2411.6,2,   7.5824,2,    25.00, -999.00,9, -999.00,9,      258,   35.65,2,   1.5595,2,       4252
49UP20160703,         P9,      18,          1,          1,        997,2,20160709,       0257,     28.044,   136.9897,       4332,  4325.3,   1.5596,  34.6821,2,  34.6827,2,    155.6,2,  155.56,2,  140.99,2,    0.00,2,   2.490,2,-999.000,9,-999.000,9,-999.000,9,  2320.3,2,  2411.2,2,   7.5841,2,    25.00, -999.00,9, -999.00,9,      258,   35.65,2,   1.5597,2,       4253