BOTTLE,20230712CCHSIOENA
EXPOCODE,SECT_ID,STNNBR,CASTNO,SAMPNO,BTLNBR,BTLNBR_FLAG_W,DATE,TIME,LATITUDE,LONGITUDE,DEPTH,CTDPRS,CTDTMP,CTDSAL,CTDSAL_FLAG_W,SALNTY,SALNTY_FLAG_W,CTDOXY,CTDOXY_FLAG_W,OXYGEN,OXYGEN_FLAG_W,SILCAT,SILCAT_FLAG_W,NITRIT,NITRIT_FLAG_W,PHSPHT,PHSPHT_FLAG_W,CFC-11,CFC-11_FLAG_W,CFC-12,CFC-12_FLAG_W,CFC113,CFC113_FLAG_W,TCARBN,TCARBN_FLAG_W,ALKALI,ALKALI_FLAG_W,PH_TOT,PH_TOT_FLAG_W,PH_TMP,CHLORA,CHLORA_FLAG_W,PPHYTN,PPHYTN_FLAG_W,BTL_TIME,NO2+NO3,NO2+NO3_FLAG_W,SBE35,SBE35_FLAG_W,CTDDEPTH
,,,,,,,,,,,METERS,DBAR,ITS-90,PSS-78,,PSS-78,,UMOL/KG,,UMOL/KG,,UMOL/KG,,UMOL/KG,,UMOL/KG,,PMOL/KG,,PMOL/KG,,PMOL/KG,,UMOL/KG,,UMOL/KG,,,,DEG C,UG/KG,,UG/KG,,,UMOL/KG,,ITS-90,,METERS
49UP20160703,         P9,      41,          1,          0,        BUC,2,20160717,       0001,    16.5035,    136.965,       5508,     0.0,  30.0949,  34.8906,2,-999.0000,9,    194.5,2,  194.27,2,    1.00,2,    0.00,2,   0.010,2,-999.000,9,-999.000,9,-999.000,9,  -999.0,9,  -999.0,9,-999.0000,9,  -999.00, -999.00,9, -999.00,9,      223,    0.09,3,-999.0000,9,          0
49UP20160703,         P9,      41,          1,         36,        109,2,20160717,       0001,    16.5035,    136.965,       5508,     9.8,  29.9825,  34.8915,2,  34.8905,2,    194.6,2,  194.73,2,    0.97,2,    0.00,2,   0.010,2,-999.000,9,-999.000,9,-999.000,9,  -999.0,9,  -999.0,9,-999.0000,9,  -999.00, -999.00,9, -999.00,9,      249,    0.11,3,  29.9903,2,         10
49UP20160703,         P9,      41,          1,         35,        112,2,20160717,       0001,    16.5035,    136.965,       5508,    50.2,  28.9111,  34.8596,2,  34.8589,2,    204.5,2,  204.09,2,    1.11,2,    0.00,2,   0.030,2,-999.000,9,-999.000,9,-999.000,9,  -999.0,9,  -999.0,9,-999.0000,9,  -999.00, -999.00,9, -999.00,9,      247,    0.09,3,  28.9121,2,         50
49UP20160703,         P9,      41,          1,         34,        094,2,20160717,       0001,    16.5035,    136.965,       5508,   100.8,  27.1306,  35.1286,2,  35.1295,2,    209.1,2,  209.24,2,    0.90,2,    0.00,2,   0.020,2,-999.000,9,-999.000,9,-999.000,9,  -999.0,9,  -999.0,9,-999.0000,9,  -999.00, -999.00,9, -999.00,9,      243,    0.02,3,  27.1354,2,        100
49UP20160703,         P9,      41,          1,         33,        469,2,20160717,       0001,    16.5035,    136.965,       5508,   150.3,  23.6771,  35.2423,2,  35.2432,6,    191.9,2,  192.52,2,    1.27,2,    0.11,2,   0.080,2,-999.000,9,-999.000,9,-999.000,9,  -999.0,9,  -999.0,9,-999.0000,9,  -999.00, -999.00,9, -999.00,9,      241,    0.45,3,  23.6933,2,        149
49UP20160703,         P9,      41,          1,         32,        089,2,20160717,       0001,    16.5035,    136.965,       5508,   200.5,  19.6107,  34.9934,2,  34.9936,2,    180.4,2,  180.88,6,    3.28,6,    0.01,6,   0.320,6,-999.000,9,-999.000,9,-999.000,9,  -999.0,9,  -999.0,9,-999.0000,9,  -999.00, -999.00,9, -999.00,9,      239,    3.65,3,  19.6062,2,        199
49UP20160703,         P9,      41,          1,         31,        515,2,20160717,       0001,    16.5035,    136.965,       5508,   251.0,  17.2570,  34.7549,2,  34.7495,2,    181.9,2,  182.74,2,    5.51,2,    0.00,2,   0.490,2,-999.000,9,-999.000,9,-999.000,9,  -999.0,9,  -999.0,9,-999.0000,9,  -999.00, -999.00,9, -999.00,9,      238,    6.40,3,  17.2537,2,        249
49UP20160703,         P9,      41,          1,         30,        097,2,20160717,       0001,    16.5035,    136.965,       5508,   332.0,  13.7345,  34.4622,2,  34.4639,2,    150.7,2,  151.06,2,   14.46,2,    0.00,2,   1.090,2,-999.000,9,-999.000,9,-999.000,9,  -999.0,9,  -999.0,9,-999.0000,9,  -999.00, -999.00,9, -999.00,9,      235,   14.63,3,  13.7333,2,        330
49UP20160703,         P9,      41,          1,         29,        102,2,20160717,       0001,    16.5035,    136.965,       5508,   382.9,  10.9240,  34.2627,2,  34.2679,4,    150.6,2,  149.99,2,   23.04,2,    0.00,2,   1.410,2,-999.000,9,-999.000,9,-999.000,9,  -999.0,9,  -999.0,9,-999.0000,9,  -999.00, -999.00,9, -999.00,9,      233,   19.14,3,  10.9349,2,        380
49UP20160703,         P9,      41,          1,         28,        472,2,20160717,       0001,    16.5035,    136.965,       5508,   432.0,   9.2928,  34.2109,2,  34.2119,2,    124.8,2,  124.81,2,   33.95,2,    0.00,2,   1.810,2,-999.000,9,-999.000,9,-999.000,9,  -999.0,9,  -999.0,9,-999.0000,9,  -999.00, -999.00,9, -999.00,9,      231,   24.62,3,   9.2972,2,        429
49UP20160703,         P9,      41,          1,         27,        998,2,20160717,       0001,    16.5035,    136.965,       5508,   483.6,   8.2611,  34.2710,2,  34.2692,2,     92.3,2,   91.71,2,   45.40,2,    0.00,2,   2.190,2,-999.000,9,-999.000,9,-999.000,9,  -999.0,9,  -999.0,9,-999.0000,9,  -999.00, -999.00,9, -999.00,9,      230,   29.91,3,   8.2592,2,        480
49UP20160703,         P9,      41,          1,         26,        084,2,20160717,       0001,    16.5035,    136.965,       5508,   535.4,   7.3668,  34.2954,2,  34.2953,2,     78.2,2,   78.13,2,   55.06,2,    0.00,2,   2.400,2,-999.000,9,-999.000,9,-999.000,9,  -999.0,9,  -999.0,9,-999.0000,9,  -999.00, -999.00,9, -999.00,9,      228,   32.89,3,   7.3704,2,        532
49UP20160703,         P9,      41,          1,         25,        098,2,20160717,       0001,    16.5035,    136.965,       5508,   634.9,   6.1394,  34.3839,2,  34.3835,2,     67.3,2,   67.34,2,   71.10,2,    0.00,2,   2.640,2,-999.000,9,-999.000,9,-999.000,9,  -999.0,9,  -999.0,9,-999.0000,9,  -999.00, -999.00,9, -999.00,9,      225,   36.28,3,   6.1419,2,        630
49UP20160703,         P9,      41,          1,         24,        110,2,20160717,       0001,    16.5035,    136.965,       5508,   736.5,   5.6063,  34.4370,2,  34.4351,2,     69.0,2,   69.43,2,   78.37,2,    0.00,2,   2.690,2,-999.000,9,-999.000,9,-999.000,9,  -999.0,9,  -999.0,9,-999.0000,9,  -999.00, -999.00,9, -999.00,9,      222,   37.07,3,   5.6162,2,        731
49UP20160703,         P9,      41,          1,         23,        679,2,20160717,       0001,    16.5035,    136.965,       5508,   837.8,   4.9535,  34.4856,2,  34.4859,2,     74.5,2,   74.50,2,   88.52,2,    0.00,2,   2.730,2,-999.000,9,-999.000,9,-999.000,9,  -999.0,9,  -999.0,9,-999.0000,9,  -999.00, -999.00,9, -999.00,9,      204,   37.80,3,   4.9540,2,        831
49UP20160703,         P9,      41,          1,         22,        111,2,20160717,       0001,    16.5035,    136.965,       5508,   938.1,   4.4347,  34.5152,2,  34.5140,2,     80.2,2,   80.33,2,   97.25,2,    0.00,2,   2.750,2,-999.000,9,-999.000,9,-999.000,9,  -999.0,9,  -999.0,9,-999.0000,9,  -999.00, -999.00,9, -999.00,9,      201,   38.09,3,   4.4359,2,        930
49UP20160703,         P9,      41,          1,         21,        078,2,20160717,       0001,    16.5035,    136.965,       5508,  1078.8,   3.9433,  34.5349,2,  34.5336,2,     85.1,2,   85.69,2,  107.21,2,    0.00,2,   2.750,2,-999.000,9,-999.000,9,-999.000,9,  -999.0,9,  -999.0,9,-999.0000,9,  -999.00, -999.00,9, -999.00,9,      156,   38.21,3,   3.9434,2,       1070
49UP20160703,         P9,      41,          1,         20,        093,2,20160717,       0001,    16.5035,    136.965,       5508,  1282.3,   3.3550,  34.5564,2,  34.5563,2,     91.4,2,   92.01,2,  119.64,2,    0.00,2,   2.740,2,-999.000,9,-999.000,9,-999.000,9,  -999.0,9,  -999.0,9,-999.0000,9,  -999.00, -999.00,9, -999.00,9,      151,   38.26,3,   3.3546,2,       1271
49UP20160703,         P9,      41,          1,         19,        269,2,20160717,       0001,    16.5035,    136.965,       5508,  1486.1,   2.8307,  34.5782,2,  34.5771,2,     97.8,2,   98.47,2,  129.56,2,    0.00,2,   2.730,2,-999.000,9,-999.000,9,-999.000,9,  -999.0,9,  -999.0,9,-999.0000,9,  -999.00, -999.00,9, -999.00,9,      146,   38.04,3,   2.8310,2,       1472
49UP20160703,         P9,      41,          1,         18,        088,2,20160717,       0001,    16.5035,    136.965,       5508,  1690.0,   2.4818,  34.5990,2,-999.0000,5,    103.2,2,  103.64,2,  135.16,2,    0.00,2,   2.730,2,-999.000,9,-999.000,9,-999.000,9,  -999.0,9,  -999.0,9,-999.0000,9,  -999.00, -999.00,9, -999.00,9,      140,   38.14,3,   2.4821,2,       1673
49UP20160703,         P9,      41,          1,         17,        090,2,20160717,       0001,    16.5035,    136.965,       5508,  1892.0,   2.2229,  34.6149,2,  34.6154,2,    108.8,2,  108.88,2,  139.73,2,    0.00,2,   2.710,2,-999.000,9,-999.000,9,-999.000,9,  -999.0,9,  -999.0,9,-999.0000,9,  -999.00, -999.00,9, -999.00,9,      133,   38.05,3,   2.2232,2,       1872
49UP20160703,         P9,      41,          1,         16,        474,2,20160717,       0001,    16.5035,    136.965,       5508,  2094.9,   2.0296,  34.6289,2,  34.6290,2,    115.3,2,  115.47,2,  142.36,2,    0.00,2,   2.680,2,-999.000,9,-999.000,9,-999.000,9,  -999.0,9,  -999.0,9,-999.0000,9,  -999.00, -999.00,9, -999.00,9,      128,   37.73,3,   2.0295,2,       2072
49UP20160703,         P9,      41,          1,         15,        665,2,20160717,       0001,    16.5035,    136.965,       5508,  2298.2,   1.9014,  34.6400,2,  34.6400,6,    120.9,2,  121.29,2,  143.78,2,    0.00,2,   2.650,2,-999.000,9,-999.000,9,-999.000,9,  -999.0,9,  -999.0,9,-999.0000,9,  -999.00, -999.00,9, -999.00,9,      122,   37.47,3,   1.9015,2,       2272
49UP20160703,         P9,      41,          1,         14,        999,2,20160717,       0001,    16.5035,    136.965,       5508,  2499.9,   1.7997,  34.6489,2,  34.6491,2,    126.2,2,  126.52,6,  145.13,6,    0.00,6,   2.630,6,-999.000,9,-999.000,9,-999.000,9,  -999.0,9,  -999.0,9,-999.0000,9,  -999.00, -999.00,9, -999.00,9,      116,   37.24,3,   1.7997,2,       2470
49UP20160703,         P9,      41,          1,         13,        667,2,20160717,       0001,    16.5035,    136.965,       5508,  2704.5,   1.7346,  34.6561,2,  34.6564,2,    130.7,2,  131.04,2,  145.11,2,    0.00,2,   2.600,2,-999.000,9,-999.000,9,-999.000,9,  -999.0,9,  -999.0,9,-999.0000,9,  -999.00, -999.00,9, -999.00,9,      111,   36.96,3,   1.7347,2,       2671
49UP20160703,         P9,      41,          1,         12,        074,2,20160717,       0001,    16.5035,    136.965,       5508,  2906.8,   1.6869,  34.6617,2,  34.6615,2,    134.5,2,  134.78,2,  145.16,2,    0.00,2,   2.580,2,-999.000,9,-999.000,9,-999.000,9,  -999.0,9,  -999.0,9,-999.0000,9,  -999.00, -999.00,9, -999.00,9,      106,   36.81,3,   1.6869,2,       2870
49UP20160703,         P9,      41,          1,         11,        268,2,20160717,       0001,    16.5035,    136.965,       5508,  3121.9,   1.6472,  34.6663,2,  34.6655,2,    138.5,2,  138.60,2,  144.50,2,    0.00,2,   2.560,2,-999.000,9,-999.000,9,-999.000,9,  -999.0,9,  -999.0,9,-999.0000,9,  -999.00, -999.00,9, -999.00,9,      101,   36.52,3,   1.6472,2,       3081
49UP20160703,         P9,      41,          1,         10,        267,2,20160717,       0001,    16.5035,    136.965,       5508,  3376.2,   1.6097,  34.6711,2,  34.6709,6,    142.9,2,  143.04,2,  143.84,2,    0.00,2,   2.540,2,-999.000,9,-999.000,9,-999.000,9,  -999.0,9,  -999.0,9,-999.0000,9,  -999.00, -999.00,9, -999.00,9,       55,   36.12,3,   1.6100,2,       3330
49UP20160703,         P9,      41,          1,          9,        518,2,20160717,       0001,    16.5035,    136.965,       5508,  3630.5,   1.5812,  34.6750,2,  34.6750,2,    147.0,2,  147.34,6,  142.81,6,    0.00,6,   2.520,6,-999.000,9,-999.000,9,-999.000,9,  -999.0,9,  -999.0,9,-999.0000,9,  -999.00, -999.00,9, -999.00,9,       50,   35.89,3,   1.5812,2,       3578
49UP20160703,         P9,      41,          1,          8,        470,2,20160717,       0001,    16.5035,    136.965,       5508,  3890.3,   1.5545,  34.6790,2,  34.6791,2,    151.4,2,  151.72,2,  141.93,2,    0.00,2,   2.500,2,-999.000,9,-999.000,9,-999.000,9,  -999.0,9,  -999.0,9,-999.0000,9,  -999.00, -999.00,9, -999.00,9,       44,   35.67,3,   1.5545,2,       3832
49UP20160703,         P9,      41,          1,          7,        516,2,20160717,       0001,    16.5035,    136.965,       5508,  4142.0,   1.5335,  34.6824,2,  34.6818,2,    155.4,2,  155.51,2,  140.95,2,    0.00,2,   2.480,2,-999.000,9,-999.000,9,-999.000,9,  -999.0,9,  -999.0,9,-999.0000,9,  -999.00, -999.00,9, -999.00,9,       39,   35.45,3,   1.5335,2,       4078
49UP20160703,         P9,      41,          1,          6,        113,2,20160717,       0001,    16.5035,    136.965,       5508,  4399.1,   1.5183,  34.6858,2,  34.6859,2,    159.4,2,  159.66,2,  139.52,2,    0.00,2,   2.450,2,-999.000,9,-999.000,9,-999.000,9,  -999.0,9,  -999.0,9,-999.0000,9,  -999.00, -999.00,9, -999.00,9,       30,   35.17,3,   1.5184,2,       4328
49UP20160703,         P9,      41,          1,          5,        658,2,20160717,       0001,    16.5035,    136.965,       5508,  4655.9,   1.5376,  34.6866,2,  34.6858,2,    160.6,2,  160.47,2,  139.23,2,    0.00,2,   2.450,2,-999.000,9,-999.000,9,-999.000,9,  -999.0,9,  -999.0,9,-999.0000,9,  -999.00, -999.00,9, -999.00,9,       24,   34.93,3,   1.5376,2,       4578
49UP20160703,         P9,      41,          1,          4,        471,2,20160717,       0001,    16.5035,    136.965,       5508,  4913.3,   1.5631,  34.6872,2,  34.6868,2,    161.1,2,  161.03,2,  139.14,2,    0.00,2,   2.450,2,-999.000,9,-999.000,9,-999.000,9,  -999.0,9,  -999.0,9,-999.0000,9,  -999.00, -999.00,9, -999.00,9,       19,   34.95,3,   1.5632,2,       4829
49UP20160703,         P9,      41,          1,          3,        104,2,20160717,       0001,    16.5035,    136.965,       5508,  5173.2,   1.5947,  34.6871,2,  34.6864,6,    161.2,2,  161.42,2,  138.99,2,    0.00,2,   2.450,2,-999.000,9,-999.000,9,-999.000,9,  -999.0,9,  -999.0,9,-999.0000,9,  -999.00, -999.00,9, -999.00,9,       14,   34.95,3,   1.5947,2,       5081
49UP20160703,         P9,      41,          1,          2,        075,2,20160717,       0001,    16.5035,    136.965,       5508,  5430.1,   1.6266,  34.6872,2,  34.6867,2,    161.3,2,  161.39,6,  139.03,6,    0.00,6,   2.450,6,-999.000,9,-999.000,9,-999.000,9,  -999.0,9,  -999.0,9,-999.0000,9,  -999.00, -999.00,9, -999.00,9,        8,   34.95,3,   1.6265,2,       5330
49UP20160703,         P9,      41,          1,          1,        997,2,20160717,       0001,    16.5035,    136.965,       5508,  5648.2,   1.6547,  34.6872,2,  34.6871,2,    161.6,2,  161.55,2,  138.95,2,    0.00,2,   2.450,2,-999.000,9,-999.000,9,-999.000,9,  -999.0,9,  -999.0,9,-999.0000,9,  -999.00, -999.00,9, -999.00,9,        2,   35.22,3,   1.6548,2,       5542