BOTTLE,20230712CCHSIOENA
EXPOCODE,SECT_ID,STNNBR,CASTNO,SAMPNO,BTLNBR,BTLNBR_FLAG_W,DATE,TIME,LATITUDE,LONGITUDE,DEPTH,CTDPRS,CTDTMP,CTDSAL,CTDSAL_FLAG_W,SALNTY,SALNTY_FLAG_W,CTDOXY,CTDOXY_FLAG_W,OXYGEN,OXYGEN_FLAG_W,SILCAT,SILCAT_FLAG_W,NITRIT,NITRIT_FLAG_W,PHSPHT,PHSPHT_FLAG_W,CFC-11,CFC-11_FLAG_W,CFC-12,CFC-12_FLAG_W,CFC113,CFC113_FLAG_W,TCARBN,TCARBN_FLAG_W,ALKALI,ALKALI_FLAG_W,PH_TOT,PH_TOT_FLAG_W,PH_TMP,CHLORA,CHLORA_FLAG_W,PPHYTN,PPHYTN_FLAG_W,BTL_TIME,NO2+NO3,NO2+NO3_FLAG_W,SBE35,SBE35_FLAG_W,CTDDEPTH
,,,,,,,,,,,METERS,DBAR,ITS-90,PSS-78,,PSS-78,,UMOL/KG,,UMOL/KG,,UMOL/KG,,UMOL/KG,,UMOL/KG,,PMOL/KG,,PMOL/KG,,PMOL/KG,,UMOL/KG,,UMOL/KG,,,,DEG C,UG/KG,,UG/KG,,,UMOL/KG,,ITS-90,,METERS
49UP20160703,         P9,      33,          1,          0,        BUC,2,20160714,       0313,    20.4875,   136.9897,       4387,     0.0,  30.3149,  35.0488,2,-999.0000,9,    194.6,2,  191.01,2,    0.97,2,    0.00,2,   0.020,2,-999.000,9,-999.000,9,-999.000,9,  -999.0,9,  -999.0,9,-999.0000,9,  -999.00, -999.00,9, -999.00,9,      445,    0.02,2,-999.0000,9,          0
49UP20160703,         P9,      33,          1,         36,        109,2,20160714,       0313,    20.4875,   136.9897,       4387,    10.5,  30.0038,  35.0892,2,  35.0983,4,    195.3,2,  194.78,2,    0.97,2,    0.00,2,   0.010,2,-999.000,9,-999.000,9,-999.000,9,  -999.0,9,  -999.0,9,-999.0000,9,  -999.00, -999.00,9, -999.00,9,      504,    0.04,2,  30.0105,2,         10
49UP20160703,         P9,      33,          1,         35,        112,2,20160714,       0313,    20.4875,   136.9897,       4387,    25.8,  29.6483,  35.1070,2,  35.1128,2,    197.5,2,  197.62,2,    0.97,2,    0.00,2,   0.010,2,-999.000,9,-999.000,9,-999.000,9,  -999.0,9,  -999.0,9,-999.0000,9,  -999.00, -999.00,9, -999.00,9,      504,    0.02,2,  29.6497,2,         26
49UP20160703,         P9,      33,          1,         34,        094,2,20160714,       0313,    20.4875,   136.9897,       4387,    50.5,  28.3156,  35.1287,2,  35.1332,2,    212.7,2,  212.85,2,    0.93,2,    0.00,2,   0.010,2,-999.000,9,-999.000,9,-999.000,9,  -999.0,9,  -999.0,9,-999.0000,9,  -999.00, -999.00,9, -999.00,9,      501,    0.01,2,  28.3124,2,         50
49UP20160703,         P9,      33,          1,         33,        469,2,20160714,       0313,    20.4875,   136.9897,       4387,    75.9,  26.6194,  35.1529,2,  35.1603,2,    216.0,2,  215.82,2,    0.95,2,    0.00,2,   0.010,2,-999.000,9,-999.000,9,-999.000,9,  -999.0,9,  -999.0,9,-999.0000,9,  -999.00, -999.00,9, -999.00,9,      500,    0.02,2,  26.6311,2,         75
49UP20160703,         P9,      33,          1,         32,        089,2,20160714,       0313,    20.4875,   136.9897,       4387,   101.1,  24.8049,  35.1281,2,  35.1349,2,    213.7,2,  211.98,2,    1.06,2,    0.00,2,   0.000,2,-999.000,9,-999.000,9,-999.000,9,  -999.0,9,  -999.0,9,-999.0000,9,  -999.00, -999.00,9, -999.00,9,      458,    0.01,2,  24.7635,2,        100
49UP20160703,         P9,      33,          1,         31,        515,2,20160714,       0313,    20.4875,   136.9897,       4387,   126.2,  23.6887,  35.1436,2,  35.1202,4,    201.4,2,  202.34,2,    1.31,2,    0.05,2,   0.030,2,-999.000,9,-999.000,9,-999.000,9,  -999.0,9,  -999.0,9,-999.0000,9,  -999.00, -999.00,9, -999.00,9,      457,    0.08,2,  23.6467,2,        125
49UP20160703,         P9,      33,          1,         30,        097,2,20160714,       0313,    20.4875,   136.9897,       4387,   151.1,  22.2855,  35.0914,2,  35.0739,4,    196.3,2,  197.90,2,    1.56,2,    0.05,2,   0.060,2,-999.000,9,-999.000,9,-999.000,9,  -999.0,9,  -999.0,9,-999.0000,9,  -999.00, -999.00,9, -999.00,9,      456,    0.53,2,  22.3101,2,        150
49UP20160703,         P9,      33,          1,         29,        102,2,20160714,       0313,    20.4875,   136.9897,       4387,   201.5,  19.9150,  34.9768,2,  34.9630,4,    192.3,2,  192.67,6,    2.39,6,    0.01,6,   0.200,6,-999.000,9,-999.000,9,-999.000,9,  -999.0,9,  -999.0,9,-999.0000,9,  -999.00, -999.00,9, -999.00,9,      455,    2.47,6,  19.9162,2,        200
49UP20160703,         P9,      33,          1,         28,        472,2,20160714,       0313,    20.4875,   136.9897,       4387,   252.4,  17.9466,  34.7937,2,  34.7883,2,    200.2,2,  200.76,2,    3.42,2,    0.00,2,   0.270,2,-999.000,9,-999.000,9,-999.000,9,  -999.0,9,  -999.0,9,-999.0000,9,  -999.00, -999.00,9, -999.00,9,      453,    4.13,2,  17.9458,2,        251
49UP20160703,         P9,      33,          1,         27,        998,2,20160714,       0313,    20.4875,   136.9897,       4387,   252.7,  17.9417,  34.7929,2,  34.7827,4,    200.1,2,  201.21,2,    3.46,2,    0.00,2,   0.280,2,-999.000,9,-999.000,9,-999.000,9,  -999.0,9,  -999.0,9,-999.0000,9,  -999.00, -999.00,9, -999.00,9,      453,    4.17,2,  17.9421,2,        251
49UP20160703,         P9,      33,          1,         26,        084,2,20160714,       0313,    20.4875,   136.9897,       4387,   282.4,  17.1626,  34.7320,2,  34.7221,4,    205.3,2,  205.39,2,    4.28,2,    0.00,2,   0.330,2,-999.000,9,-999.000,9,-999.000,9,  -999.0,9,  -999.0,9,-999.0000,9,  -999.00, -999.00,9, -999.00,9,      452,    5.05,2,  17.1615,2,        280
49UP20160703,         P9,      33,          1,         25,        098,2,20160714,       0313,    20.4875,   136.9897,       4387,   373.1,  14.4714,  34.5138,2,  34.5111,2,    191.5,2,  191.50,2,   11.21,2,    0.00,2,   0.710,2,-999.000,9,-999.000,9,-999.000,9,  -999.0,9,  -999.0,9,-999.0000,9,  -999.00, -999.00,9, -999.00,9,      449,   10.46,2,  14.4704,2,        370
49UP20160703,         P9,      33,          1,         24,        110,2,20160714,       0313,    20.4875,   136.9897,       4387,   473.6,  11.0476,  34.2761,2,  34.2774,2,    174.8,2,  175.11,2,   24.12,2,    0.00,2,   1.230,2,-999.000,9,-999.000,9,-999.000,9,  -999.0,9,  -999.0,9,-999.0000,9,  -999.00, -999.00,9, -999.00,9,      447,   17.56,2,  11.0462,2,        470
49UP20160703,         P9,      33,          1,         23,        679,2,20160714,       0313,    20.4875,   136.9897,       4387,   573.8,   8.0811,  34.1493,2,  34.1497,2,    124.6,2,  123.79,2,   44.90,2,    0.00,2,   1.980,2,-999.000,9,-999.000,9,-999.000,9,  -999.0,9,  -999.0,9,-999.0000,9,  -999.00, -999.00,9, -999.00,9,      444,   27.51,2,   8.0658,2,        569
49UP20160703,         P9,      33,          1,         22,        111,2,20160714,       0313,    20.4875,   136.9897,       4387,   676.2,   6.4050,  34.1886,2,  34.1889,2,     83.7,2,   83.21,2,   65.48,2,    0.00,2,   2.470,2,-999.000,9,-999.000,9,-999.000,9,  -999.0,9,  -999.0,9,-999.0000,9,  -999.00, -999.00,9, -999.00,9,      442,   34.28,2,   6.4042,2,        671
49UP20160703,         P9,      33,          1,         21,        078,2,20160714,       0313,    20.4875,   136.9897,       4387,   777.4,   5.1581,  34.2689,2,  34.2706,6,     63.7,2,   63.89,2,   86.93,2,    0.00,2,   2.740,2,-999.000,9,-999.000,9,-999.000,9,  -999.0,9,  -999.0,9,-999.0000,9,  -999.00, -999.00,9, -999.00,9,      439,   38.10,2,   5.1576,2,        771
49UP20160703,         P9,      33,          1,         20,        093,2,20160714,       0313,    20.4875,   136.9897,       4387,   877.1,   4.5740,  34.3530,2,  34.3525,2,     60.6,2,   60.61,6,   99.12,6,    0.00,6,   2.830,6,-999.000,9,-999.000,9,-999.000,9,  -999.0,9,  -999.0,9,-999.0000,9,  -999.00, -999.00,9, -999.00,9,      437,   39.35,6,   4.5734,2,        870
49UP20160703,         P9,      33,          1,         19,        269,2,20160714,       0313,    20.4875,   136.9897,       4387,   978.8,   4.0653,  34.4095,2,  34.4108,2,     62.2,2,   62.28,2,  109.16,2,    0.00,2,   2.860,2,-999.000,9,-999.000,9,-999.000,9,  -999.0,9,  -999.0,9,-999.0000,9,  -999.00, -999.00,9, -999.00,9,      434,   39.90,2,   4.0664,2,        971
49UP20160703,         P9,      33,          1,         18,        088,2,20160714,       0313,    20.4875,   136.9897,       4387,  1140.5,   3.4891,  34.4737,2,  34.4745,2,     68.7,2,   69.23,2,  121.12,2,    0.00,2,   2.860,2,-999.000,9,-999.000,9,-999.000,9,  -999.0,9,  -999.0,9,-999.0000,9,  -999.00, -999.00,9, -999.00,9,      429,   40.10,2,   3.4890,2,       1130
49UP20160703,         P9,      33,          1,         17,        090,2,20160714,       0313,    20.4875,   136.9897,       4387,  1343.6,   2.8605,  34.5371,2,  34.5366,2,     83.5,2,   83.56,2,  132.41,2,    0.00,2,   2.810,2,-999.000,9,-999.000,9,-999.000,9,  -999.0,9,  -999.0,9,-999.0000,9,  -999.00, -999.00,9, -999.00,9,      424,   39.64,2,   2.8605,2,       1331
49UP20160703,         P9,      33,          1,         16,        474,2,20160714,       0313,    20.4875,   136.9897,       4387,  1546.1,   2.5540,  34.5778,2,  34.5776,2,     98.3,2,   98.42,2,  135.63,2,    0.00,2,   2.750,2,-999.000,9,-999.000,9,-999.000,9,  -999.0,9,  -999.0,9,-999.0000,9,  -999.00, -999.00,9, -999.00,9,      419,   38.83,2,   2.5545,2,       1531
49UP20160703,         P9,      33,          1,         15,        665,2,20160714,       0313,    20.4875,   136.9897,       4387,  1748.4,   2.3450,  34.6011,2,  34.6014,2,    105.7,2,  105.60,2,  137.94,2,    0.00,2,   2.720,2,-999.000,9,-999.000,9,-999.000,9,  -999.0,9,  -999.0,9,-999.0000,9,  -999.00, -999.00,9, -999.00,9,      413,   38.62,2,   2.3447,2,       1730
49UP20160703,         P9,      33,          1,         14,        999,2,20160714,       0313,    20.4875,   136.9897,       4387,  1951.3,   2.1687,  34.6151,2,  34.6149,6,    111.8,2,  112.20,2,  140.06,2,    0.00,2,   2.700,2,-999.000,9,-999.000,9,-999.000,9,  -999.0,9,  -999.0,9,-999.0000,9,  -999.00, -999.00,9, -999.00,9,      408,   38.38,2,   2.1685,2,       1930
49UP20160703,         P9,      33,          1,         13,        667,2,20160714,       0313,    20.4875,   136.9897,       4387,  2154.1,   1.9872,  34.6294,2,  34.6300,2,    118.3,2,  118.27,2,  142.20,2,    0.00,2,   2.670,2,-999.000,9,-999.000,9,-999.000,9,  -999.0,9,  -999.0,9,-999.0000,9,  -999.00, -999.00,9, -999.00,9,      403,   38.07,2,   1.9870,2,       2130
49UP20160703,         P9,      33,          1,         12,        074,2,20160714,       0313,    20.4875,   136.9897,       4387,  2154.1,   1.9865,  34.6295,2,  34.6298,2,    118.3,2,  118.03,2,  142.54,2,    0.00,2,   2.670,2,-999.000,9,-999.000,9,-999.000,9,  -999.0,9,  -999.0,9,-999.0000,9,  -999.00, -999.00,9, -999.00,9,      403,   38.11,2,   1.9863,2,       2130
49UP20160703,         P9,      33,          1,         11,        268,2,20160714,       0313,    20.4875,   136.9897,       4387,  2356.1,   1.8607,  34.6402,2,  34.6401,2,    124.3,2,  123.99,6,  143.28,6,    0.00,6,   2.640,6,-999.000,9,-999.000,9,-999.000,9,  -999.0,9,  -999.0,9,-999.0000,9,  -999.00, -999.00,9, -999.00,9,      359,   37.76,6,   1.8607,2,       2329
49UP20160703,         P9,      33,          1,         10,        267,2,20160714,       0313,    20.4875,   136.9897,       4387,  2561.2,   1.7744,  34.6486,2,  34.6492,2,    129.2,2,  129.47,2,  143.64,2,    0.00,2,   2.620,2,-999.000,9,-999.000,9,-999.000,9,  -999.0,9,  -999.0,9,-999.0000,9,  -999.00, -999.00,9, -999.00,9,      355,   37.47,2,   1.7742,2,       2530
49UP20160703,         P9,      33,          1,          9,        518,2,20160714,       0313,    20.4875,   136.9897,       4387,  2765.7,   1.7135,  34.6554,2,  34.6557,6,    133.7,2,  133.56,2,  143.84,2,    0.00,2,   2.590,2,-999.000,9,-999.000,9,-999.000,9,  -999.0,9,  -999.0,9,-999.0000,9,  -999.00, -999.00,9, -999.00,9,      351,   37.22,2,   1.7134,2,       2731
49UP20160703,         P9,      33,          1,          8,        470,2,20160714,       0313,    20.4875,   136.9897,       4387,  2969.1,   1.6640,  34.6610,2,  34.6617,2,    138.0,2,  138.03,2,  143.31,2,    0.00,2,   2.570,2,-999.000,9,-999.000,9,-999.000,9,  -999.0,9,  -999.0,9,-999.0000,9,  -999.00, -999.00,9, -999.00,9,      346,   36.91,2,   1.6640,2,       2930
49UP20160703,         P9,      33,          1,          7,        516,2,20160714,       0313,    20.4875,   136.9897,       4387,  3216.3,   1.6088,  34.6672,2,  34.6673,2,    143.4,2,  142.99,2,  142.82,2,    0.00,2,   2.550,2,-999.000,9,-999.000,9,-999.000,9,  -999.0,9,  -999.0,9,-999.0000,9,  -999.00, -999.00,9, -999.00,9,      341,   36.60,2,   1.6087,2,       3172
49UP20160703,         P9,      33,          1,          6,        113,2,20160714,       0313,    20.4875,   136.9897,       4387,  3469.9,   1.5726,  34.6727,2,  34.6734,2,    147.6,2,  147.48,6,  142.20,6,    0.00,6,   2.520,6,-999.000,9,-999.000,9,-999.000,9,  -999.0,9,  -999.0,9,-999.0000,9,  -999.00, -999.00,9, -999.00,9,      335,   36.32,6,   1.5726,2,       3421
49UP20160703,         P9,      33,          1,          5,        658,2,20160714,       0313,    20.4875,   136.9897,       4387,  3726.5,   1.5442,  34.6773,2,  34.6774,2,    151.7,2,  151.35,2,  141.35,2,    0.00,2,   2.510,2,-999.000,9,-999.000,9,-999.000,9,  -999.0,9,  -999.0,9,-999.0000,9,  -999.00, -999.00,9, -999.00,9,      330,   36.07,2,   1.5443,2,       3671
49UP20160703,         P9,      33,          1,          4,        471,2,20160714,       0313,    20.4875,   136.9897,       4387,  3982.0,   1.5254,  34.6813,2,  34.6817,2,    155.4,2,  155.29,2,  140.66,2,    0.00,2,   2.490,2,-999.000,9,-999.000,9,-999.000,9,  -999.0,9,  -999.0,9,-999.0000,9,  -999.00, -999.00,9, -999.00,9,      325,   35.83,2,   1.5253,2,       3921
49UP20160703,         P9,      33,          1,          3,        104,2,20160714,       0313,    20.4875,   136.9897,       4387,  4237.1,   1.5108,  34.6847,2,  34.6847,2,    158.9,2,  158.56,2,  139.82,2,    0.00,2,   2.470,2,-999.000,9,-999.000,9,-999.000,9,  -999.0,9,  -999.0,9,-999.0000,9,  -999.00, -999.00,9, -999.00,9,      319,   35.61,2,   1.5109,2,       4170
49UP20160703,         P9,      33,          1,          1,        997,2,20160714,       0313,    20.4875,   136.9897,       4387,  4518.7,   1.5338,  34.6853,2,  34.6858,2,    159.8,2,  159.57,2,  139.66,2,    0.00,2,   2.470,2,-999.000,9,-999.000,9,-999.000,9,  -999.0,9,  -999.0,9,-999.0000,9,  -999.00, -999.00,9, -999.00,9,      313,   35.54,2,   1.5337,2,       4444
49UP20160703,         P9,      33,          1,          2,        075,2,20160714,       0313,    20.4875,   136.9897,       4387,  4518.8,   1.5338,  34.6854,2,  34.6855,2,    159.8,2,  159.77,2,  139.66,2,    0.00,2,   2.460,2,-999.000,9,-999.000,9,-999.000,9,  -999.0,9,  -999.0,9,-999.0000,9,  -999.00, -999.00,9, -999.00,9,      313,   35.55,2,   1.5338,2,       4444