BOTTLE,20230712CCHSIOENA
EXPOCODE,SECT_ID,STNNBR,CASTNO,SAMPNO,BTLNBR,BTLNBR_FLAG_W,DATE,TIME,LATITUDE,LONGITUDE,DEPTH,CTDPRS,CTDTMP,CTDSAL,CTDSAL_FLAG_W,SALNTY,SALNTY_FLAG_W,CTDOXY,CTDOXY_FLAG_W,OXYGEN,OXYGEN_FLAG_W,SILCAT,SILCAT_FLAG_W,NITRIT,NITRIT_FLAG_W,PHSPHT,PHSPHT_FLAG_W,CFC-11,CFC-11_FLAG_W,CFC-12,CFC-12_FLAG_W,CFC113,CFC113_FLAG_W,TCARBN,TCARBN_FLAG_W,ALKALI,ALKALI_FLAG_W,PH_TOT,PH_TOT_FLAG_W,PH_TMP,CHLORA,CHLORA_FLAG_W,PPHYTN,PPHYTN_FLAG_W,BTL_TIME,NO2+NO3,NO2+NO3_FLAG_W,SBE35,SBE35_FLAG_W,CTDDEPTH
,,,,,,,,,,,METERS,DBAR,ITS-90,PSS-78,,PSS-78,,UMOL/KG,,UMOL/KG,,UMOL/KG,,UMOL/KG,,UMOL/KG,,PMOL/KG,,PMOL/KG,,PMOL/KG,,UMOL/KG,,UMOL/KG,,,,DEG C,UG/KG,,UG/KG,,,UMOL/KG,,ITS-90,,METERS
49UP20160703,         P9,      19,          1,          0,        BUC,2,20160709,       1055,     27.522,   136.9972,       4347,     0.0,  29.2324,  34.5821,2,-999.0000,9,    197.7,2,  197.59,2,    1.33,2,    0.00,2,   0.010,2,-999.000,9,-999.000,9,-999.000,9,  -999.0,9,  -999.0,9,-999.0000,9,  -999.00, -999.00,9, -999.00,9,     1220,    0.00,2,-999.0000,9,          0
49UP20160703,         P9,      19,          1,         36,        109,2,20160709,       1055,     27.522,   136.9972,       4347,    10.2,  29.2407,  34.5824,2,  34.5816,2,    197.5,2,  197.70,2,    1.33,2,    0.00,2,   0.010,2,-999.000,9,-999.000,9,-999.000,9,  -999.0,9,  -999.0,9,-999.0000,9,  -999.00, -999.00,9, -999.00,9,     1300,    0.01,2,  29.2386,2,         10
49UP20160703,         P9,      19,          1,         35,        112,2,20160709,       1055,     27.522,   136.9972,       4347,    24.3,  27.9602,  34.5639,2,  34.6167,4,    206.8,2,  211.94,2,    1.33,2,    0.00,2,   0.000,2,-999.000,9,-999.000,9,-999.000,9,  -999.0,9,  -999.0,9,-999.0000,9,  -999.00, -999.00,9, -999.00,9,     1258,    0.01,2,  28.2112,2,         24
49UP20160703,         P9,      19,          1,         34,        094,2,20160709,       1055,     27.522,   136.9972,       4347,    50.8,  21.8770,  34.8794,2,  34.8807,2,    233.6,2,  232.99,2,    1.61,2,    0.00,2,   0.010,2,-999.000,9,-999.000,9,-999.000,9,  -999.0,9,  -999.0,9,-999.0000,9,  -999.00, -999.00,9, -999.00,9,     1257,    0.00,2,  21.9067,2,         50
49UP20160703,         P9,      19,          1,         33,        469,2,20160709,       1055,     27.522,   136.9972,       4347,    76.2,  20.5273,  34.8906,2,  34.8906,2,    225.6,2,  225.19,2,    1.77,2,    0.00,2,   0.020,2,-999.000,9,-999.000,9,-999.000,9,  -999.0,9,  -999.0,9,-999.0000,9,  -999.00, -999.00,9, -999.00,9,     1254,    0.00,2,  20.5242,2,         76
49UP20160703,         P9,      19,          1,         32,        089,3,20160709,       1055,     27.522,   136.9972,       4347,   100.8,  19.7909,  34.8782,2,  34.8785,2,    220.0,2,  219.44,2,    1.86,2,    0.01,2,   0.040,2,-999.000,9,-999.000,9,-999.000,9,  -999.0,9,  -999.0,9,-999.0000,9,  -999.00, -999.00,9, -999.00,9,     1251,    0.01,2,  19.7967,2,        100
49UP20160703,         P9,      19,          1,         31,        515,2,20160709,       1055,     27.522,   136.9972,       4347,   126.3,  19.2960,  34.8648,2,  34.8638,2,    208.1,2,  208.05,2,    2.36,2,    0.12,2,   0.140,2,-999.000,9,-999.000,9,-999.000,9,  -999.0,9,  -999.0,9,-999.0000,9,  -999.00, -999.00,9, -999.00,9,     1250,    2.00,2,  19.2962,2,        125
49UP20160703,         P9,      19,          1,         30,        097,2,20160709,       1055,     27.522,   136.9972,       4347,   150.2,  18.9465,  34.8422,2,  34.8419,2,    202.3,2,  202.06,2,    2.75,2,    0.05,2,   0.200,2,-999.000,9,-999.000,9,-999.000,9,  -999.0,9,  -999.0,9,-999.0000,9,  -999.00, -999.00,9, -999.00,9,     1248,    2.99,2,  18.9452,2,        149
49UP20160703,         P9,      19,          1,         29,        102,2,20160709,       1055,     27.522,   136.9972,       4347,   200.0,  17.8888,  34.7754,2,  34.7732,2,    200.7,2,  200.39,2,    3.73,2,    0.01,2,   0.290,2,-999.000,9,-999.000,9,-999.000,9,  -999.0,9,  -999.0,9,-999.0000,9,  -999.00, -999.00,9, -999.00,9,     1246,    4.38,2,  17.8902,2,        199
49UP20160703,         P9,      19,          1,         28,        472,2,20160709,       1055,     27.522,   136.9972,       4347,   249.9,  17.1560,  34.7241,2,  34.7226,2,    200.7,2,  200.59,2,    4.61,2,    0.01,2,   0.350,2,-999.000,9,-999.000,9,-999.000,9,  -999.0,9,  -999.0,9,-999.0000,9,  -999.00, -999.00,9, -999.00,9,     1244,    5.39,2,  17.1521,2,        248
49UP20160703,         P9,      19,          1,         27,        998,3,20160709,       1055,     27.522,   136.9972,       4347,   300.8,  16.3629,  34.6652,2,  34.6655,2,    198.4,2,  198.72,2,    6.25,2,    0.00,2,   0.450,2,-999.000,9,-999.000,9,-999.000,9,  -999.0,9,  -999.0,9,-999.0000,9,  -999.00, -999.00,9, -999.00,9,     1242,    6.77,2,  16.3626,2,        299
49UP20160703,         P9,      19,          1,         26,        084,2,20160709,       1055,     27.522,   136.9972,       4347,   404.0,  14.1943,  34.4978,2,  34.4937,6,    184.0,2,  183.94,2,   13.05,2,    0.00,2,   0.800,2,-999.000,9,-999.000,9,-999.000,9,  -999.0,9,  -999.0,9,-999.0000,9,  -999.00, -999.00,9, -999.00,9,     1239,   11.60,2,  14.1973,2,        401
49UP20160703,         P9,      19,          1,         25,        098,2,20160709,       1055,     27.522,   136.9972,       4347,   503.3,  11.8910,  34.3452,2,  34.3421,2,    172.6,2,  172.48,6,   22.59,6,    0.00,6,   1.160,6,-999.000,9,-999.000,9,-999.000,9,  -999.0,9,  -999.0,9,-999.0000,9,  -999.00, -999.00,9, -999.00,9,     1236,   16.55,6,  11.8845,2,        499
49UP20160703,         P9,      19,          1,         24,        110,2,20160709,       1055,     27.522,   136.9972,       4347,   606.9,   8.3963,  34.1694,2,  34.1699,2,    144.4,2,  143.99,2,   44.97,2,    0.00,2,   1.790,2,-999.000,9,-999.000,9,-999.000,9,  -999.0,9,  -999.0,9,-999.0000,9,  -999.00, -999.00,9, -999.00,9,     1233,   25.00,2,   8.3896,2,        602
49UP20160703,         P9,      19,          1,         23,        679,2,20160709,       1055,     27.522,   136.9972,       4347,   706.9,   6.8519,  34.1355,2,  34.1366,2,    121.0,2,  120.86,2,   60.91,2,    0.00,2,   2.150,2,-999.000,9,-999.000,9,-999.000,9,  -999.0,9,  -999.0,9,-999.0000,9,  -999.00, -999.00,9, -999.00,9,     1230,   29.84,2,   6.8611,2,        701
49UP20160703,         P9,      19,          1,         21,        078,2,20160709,       1055,     27.522,   136.9972,       4347,   806.6,   5.2454,  34.1800,2,  34.1784,2,     84.9,2,   85.04,2,   85.53,2,    0.00,2,   2.570,2,-999.000,9,-999.000,9,-999.000,9,  -999.0,9,  -999.0,9,-999.0000,9,  -999.00, -999.00,9, -999.00,9,     1226,   35.68,2,   5.2470,2,        800
49UP20160703,         P9,      19,          1,         22,        111,2,20160709,       1055,     27.522,   136.9972,       4347,   807.2,   5.2414,  34.1803,2,  34.1783,2,     84.8,2,   85.22,2,   85.71,2,    0.00,2,   2.570,2,-999.000,9,-999.000,9,-999.000,9,  -999.0,9,  -999.0,9,-999.0000,9,  -999.00, -999.00,9, -999.00,9,     1227,   35.75,2,   5.2425,2,        800
49UP20160703,         P9,      19,          1,         20,        093,2,20160709,       1055,     27.522,   136.9972,       4347,   908.6,   4.3606,  34.2618,2,  34.2612,2,     63.9,2,   63.43,2,  104.48,2,    0.00,2,   2.790,2,-999.000,9,-999.000,9,-999.000,9,  -999.0,9,  -999.0,9,-999.0000,9,  -999.00, -999.00,9, -999.00,9,     1223,   38.91,2,   4.3617,2,        901
49UP20160703,         P9,      19,          1,         19,        269,2,20160709,       1055,     27.522,   136.9972,       4347,  1007.8,   3.8534,  34.3221,2,  34.3207,2,     55.3,2,   55.25,2,  116.16,2,    0.00,2,   2.890,2,-999.000,9,-999.000,9,-999.000,9,  -999.0,9,  -999.0,9,-999.0000,9,  -999.00, -999.00,9, -999.00,9,     1220,   40.28,2,   3.8534,2,        999
49UP20160703,         P9,      19,          1,         18,        088,2,20160709,       1055,     27.522,   136.9972,       4347,  1212.9,   3.1363,  34.4331,2,  34.4325,2,     57.7,2,   57.44,2,  132.46,2,    0.00,2,   2.930,2,-999.000,9,-999.000,9,-999.000,9,  -999.0,9,  -999.0,9,-999.0000,9,  -999.00, -999.00,9, -999.00,9,     1214,   41.00,2,   3.1366,2,       1201
49UP20160703,         P9,      19,          1,         17,        090,2,20160709,       1055,     27.522,   136.9972,       4347,  1415.8,   2.6533,  34.4942,2,  34.4940,2,     62.8,2,   62.25,2,  143.06,2,    0.00,2,   2.930,2,-999.000,9,-999.000,9,-999.000,9,  -999.0,9,  -999.0,9,-999.0000,9,  -999.00, -999.00,9, -999.00,9,     1208,   41.22,2,   2.6533,2,       1402
49UP20160703,         P9,      19,          1,         15,        665,2,20160709,       1055,     27.522,   136.9972,       4347,  1617.0,   2.3091,  34.5482,2,  34.5475,2,     78.6,2,   78.34,2,  147.15,2,    0.00,2,   2.870,2,-999.000,9,-999.000,9,-999.000,9,  -999.0,9,  -999.0,9,-999.0000,9,  -999.00, -999.00,9, -999.00,9,     1201,   40.32,2,   2.3104,2,       1600
49UP20160703,         P9,      19,          1,         16,        474,2,20160709,       1055,     27.522,   136.9972,       4347,  1617.7,   2.3076,  34.5485,2,  34.5468,4,     78.7,2,   78.37,2,  146.93,2,    0.00,2,   2.860,2,-999.000,9,-999.000,9,-999.000,9,  -999.0,9,  -999.0,9,-999.0000,9,  -999.00, -999.00,9, -999.00,9,     1202,   40.38,2,   2.3085,2,       1601
49UP20160703,         P9,      19,          1,         14,        999,2,20160709,       1055,     27.522,   136.9972,       4347,  1822.8,   2.1008,  34.5828,2,  34.5825,6,     94.3,2,   94.51,2,  147.38,2,    0.00,2,   2.800,2,-999.000,9,-999.000,9,-999.000,9,  -999.0,9,  -999.0,9,-999.0000,9,  -999.00, -999.00,9, -999.00,9,     1156,   39.44,2,   2.1010,2,       1803
49UP20160703,         P9,      19,          1,         13,        667,3,20160709,       1055,     27.522,   136.9972,       4347,  2025.2,   1.9378,  34.6090,2,  34.6087,2,    107.9,2,  107.73,6,  146.47,6,    0.00,6,   2.730,6,-999.000,9,-999.000,9,-999.000,9,  -999.0,9,  -999.0,9,-999.0000,9,  -999.00, -999.00,9, -999.00,9,     1151,   38.65,6,   1.9381,2,       2002
49UP20160703,         P9,      19,          1,         12,        074,2,20160709,       1055,     27.522,   136.9972,       4347,  2228.3,   1.8138,  34.6296,2,  34.6292,2,    120.3,2,  120.29,2,  145.08,2,    0.00,2,   2.670,2,-999.000,9,-999.000,9,-999.000,9,  -999.0,9,  -999.0,9,-999.0000,9,  -999.00, -999.00,9, -999.00,9,     1145,   37.84,2,   1.8143,2,       2202
49UP20160703,         P9,      19,          1,         11,        268,2,20160709,       1055,     27.522,   136.9972,       4347,  2427.9,   1.7230,  34.6432,2,  34.6433,2,    128.5,2,  128.47,2,  144.28,2,    0.00,2,   2.630,2,-999.000,9,-999.000,9,-999.000,9,  -999.0,9,  -999.0,9,-999.0000,9,  -999.00, -999.00,9, -999.00,9,     1140,   37.31,2,   1.7230,2,       2398
49UP20160703,         P9,      19,          1,         10,        267,2,20160709,       1055,     27.522,   136.9972,       4347,  2635.1,   1.6682,  34.6532,2,  34.6538,2,    134.9,2,  134.76,2,  143.38,2,    0.00,2,   2.600,2,-999.000,9,-999.000,9,-999.000,9,  -999.0,9,  -999.0,9,-999.0000,9,  -999.00, -999.00,9, -999.00,9,     1135,   36.95,2,   1.6684,2,       2601
49UP20160703,         P9,      19,          1,          9,        518,2,20160709,       1055,     27.522,   136.9972,       4347,  2836.3,   1.6238,  34.6601,2,  34.6603,2,    139.0,2,  138.79,2,  143.19,2,    0.00,2,   2.580,2,-999.000,9,-999.000,9,-999.000,9,  -999.0,9,  -999.0,9,-999.0000,9,  -999.00, -999.00,9, -999.00,9,     1131,   36.69,2,   1.6238,2,       2799
49UP20160703,         P9,      19,          1,          8,        470,2,20160709,       1055,     27.522,   136.9972,       4347,  3042.5,   1.5940,  34.6650,2,  34.6656,6,    142.5,2,  142.53,2,  142.94,2,    0.00,2,   2.560,2,-999.000,9,-999.000,9,-999.000,9,  -999.0,9,  -999.0,9,-999.0000,9,  -999.00, -999.00,9, -999.00,9,     1126,   36.45,2,   1.5940,2,       3001
49UP20160703,         P9,      19,          1,          7,        516,2,20160709,       1055,     27.522,   136.9972,       4347,  3296.4,   1.5404,  34.6730,2,  34.6729,2,    148.1,2,  148.34,6,  142.12,6,    0.00,6,   2.530,6,-999.000,9,-999.000,9,-999.000,9,  -999.0,9,  -999.0,9,-999.0000,9,  -999.00, -999.00,9, -999.00,9,     1120,   36.13,6,   1.5405,2,       3249
49UP20160703,         P9,      19,          1,          6,        113,2,20160709,       1055,     27.522,   136.9972,       4347,  3551.7,   1.5150,  34.6782,2,  34.6783,2,    152.1,2,  152.13,2,  141.50,2,    0.00,2,   2.500,2,-999.000,9,-999.000,9,-999.000,9,  -999.0,9,  -999.0,9,-999.0000,9,  -999.00, -999.00,9, -999.00,9,     1115,   35.84,2,   1.5149,2,       3499
49UP20160703,         P9,      19,          1,          5,        658,2,20160709,       1055,     27.522,   136.9972,       4347,  3808.4,   1.5210,  34.6803,2,  34.6806,2,    153.8,2,  153.68,2,  141.15,2,    0.00,2,   2.500,2,-999.000,9,-999.000,9,-999.000,9,  -999.0,9,  -999.0,9,-999.0000,9,  -999.00, -999.00,9, -999.00,9,     1109,   35.74,2,   1.5210,2,       3750
49UP20160703,         P9,      19,          1,          4,        471,2,20160709,       1055,     27.522,   136.9972,       4347,  4066.1,   1.5362,  34.6816,2,  34.6801,4,    154.9,2,  154.97,2,  140.97,2,    0.00,2,   2.490,2,-999.000,9,-999.000,9,-999.000,9,  -999.0,9,  -999.0,9,-999.0000,9,  -999.00, -999.00,9, -999.00,9,     1103,   35.70,2,   1.5362,2,       4001
49UP20160703,         P9,      19,          1,          3,        104,2,20160709,       1055,     27.522,   136.9972,       4347,  4322.6,   1.5582,  34.6822,2,  34.6824,2,    155.6,2,  155.33,2,  140.82,2,    0.00,2,   2.490,2,-999.000,9,-999.000,9,-999.000,9,  -999.0,9,  -999.0,9,-999.0000,9,  -999.00, -999.00,9, -999.00,9,     1058,   35.68,2,   1.5583,2,       4251
49UP20160703,         P9,      19,          1,          2,        075,2,20160709,       1055,     27.522,   136.9972,       4347,  4417.4,   1.5663,  34.6825,2,  34.6825,6,    156.0,2,  155.60,6,  140.74,6,    0.00,6,   2.490,6,-999.000,9,-999.000,9,-999.000,9,  -999.0,9,  -999.0,9,-999.0000,9,  -999.00, -999.00,9, -999.00,9,     1055,   35.65,6,   1.5662,2,       4343