BOTTLE,20230712CCHSIOENA
EXPOCODE,SECT_ID,STNNBR,CASTNO,SAMPNO,BTLNBR,BTLNBR_FLAG_W,DATE,TIME,LATITUDE,LONGITUDE,DEPTH,CTDPRS,CTDTMP,CTDSAL,CTDSAL_FLAG_W,SALNTY,SALNTY_FLAG_W,CTDOXY,CTDOXY_FLAG_W,OXYGEN,OXYGEN_FLAG_W,SILCAT,SILCAT_FLAG_W,NITRIT,NITRIT_FLAG_W,PHSPHT,PHSPHT_FLAG_W,CFC-11,CFC-11_FLAG_W,CFC-12,CFC-12_FLAG_W,CFC113,CFC113_FLAG_W,TCARBN,TCARBN_FLAG_W,ALKALI,ALKALI_FLAG_W,PH_TOT,PH_TOT_FLAG_W,PH_TMP,CHLORA,CHLORA_FLAG_W,PPHYTN,PPHYTN_FLAG_W,BTL_TIME,NO2+NO3,NO2+NO3_FLAG_W,SBE35,SBE35_FLAG_W,CTDDEPTH
,,,,,,,,,,,METERS,DBAR,ITS-90,PSS-78,,PSS-78,,UMOL/KG,,UMOL/KG,,UMOL/KG,,UMOL/KG,,UMOL/KG,,PMOL/KG,,PMOL/KG,,PMOL/KG,,UMOL/KG,,UMOL/KG,,,,DEG C,UG/KG,,UG/KG,,,UMOL/KG,,ITS-90,,METERS
49UP20160703,         P9,      46,          1,          0,        BUC,2,20160718,       1227,    13.9965,   136.9733,       4940,     0.0,  30.2662,  34.6664,2,  34.6677,2,    192.6,2,  192.68,2,    1.01,2,    0.00,2,   0.070,2,-999.000,9,-999.000,9,-999.000,9,  1950.9,2,  2277.6,2,   8.1096,2,    25.00,    0.04,2,    0.02,2,     1413,    0.03,2,-999.0000,9,          0
49UP20160703,         P9,      46,          1,         36,        109,2,20160718,       1227,    13.9965,   136.9733,       4940,     9.7,  30.2695,  34.6664,2,  34.6664,2,    192.6,2,  192.67,2,    0.97,2,    0.00,2,   0.070,2,   1.436,2,   0.907,2,   0.121,2,  1946.4,2,  2277.9,2,   8.1077,2,    25.00,    0.04,2,    0.01,2,     1440,    0.03,2,  30.2663,2,         10
49UP20160703,         P9,      46,          1,         28,        472,2,20160718,       1227,    13.9965,   136.9733,       4940,    50.0,  29.8470,  34.7992,2,  34.7994,2,    199.2,2,  199.81,2,    1.06,2,    0.00,2,   0.030,2,   1.547,2,   0.935,2,   0.132,2,  1956.6,2,  2286.7,2,   8.1113,2,    25.00,    0.06,2,    0.03,2,     1436,    0.05,2,  29.8466,2,         50
49UP20160703,         P9,      46,          1,         35,        112,2,20160718,       1227,    13.9965,   136.9733,       4940,    74.5,  28.2728,  34.7857,2,  34.7871,2,    207.2,2,  206.75,2,    1.06,2,    0.00,2,   0.040,2,   1.645,2,   0.991,2,   0.119,2,  1954.8,2,  2287.1,2,   8.1063,2,    25.00,    0.08,2,    0.05,2,     1435,    0.03,2,  28.2722,2,         74
49UP20160703,         P9,      46,          1,         34,        094,2,20160718,       1227,    13.9965,   136.9733,       4940,    99.8,  27.0525,  34.9177,2,  34.9489,4,    205.5,2,  204.82,6,    1.06,6,    0.00,6,   0.060,6,   1.691,2,   1.033,2,   0.122,2,  1980.8,2,  2298.0,2,   8.0949,2,    25.00,    0.18,2,    0.15,2,     1434,    0.03,6,  27.0497,2,         99
49UP20160703,         P9,      46,          1,         33,        469,2,20160718,       1227,    13.9965,   136.9733,       4940,   125.0,  25.3257,  35.1399,2,  35.1456,2,    197.8,2,  196.85,2,    1.29,2,    0.04,2,   0.080,2,   1.807,2,   1.112,2,   0.129,2,  2006.6,2,  2309.9,2,   8.0568,2,    25.00,    0.16,2,    0.41,2,     1432,    0.14,2,  25.3041,2,        124
49UP20160703,         P9,      46,          1,         32,        089,2,20160718,       1227,    13.9965,   136.9733,       4940,   151.1,  22.6689,  35.1586,2,  35.1603,2,    184.7,2,  185.10,2,    2.05,2,    0.09,2,   0.180,2,   1.981,2,   1.208,2,   0.101,2,  2042.0,6,  2311.2,6,   7.9939,2,    25.00,    0.07,2,    0.24,2,     1431,    1.22,2,  22.6648,2,        150
49UP20160703,         P9,      46,          1,         31,        515,2,20160718,       1227,    13.9965,   136.9733,       4940,   200.7,  18.2576,  34.8120,2,  34.7885,4,    162.2,2,  162.94,2,    6.71,2,    0.01,2,   0.620,2,   2.266,2,   1.370,2,   0.042,2,  2085.4,2,  2290.5,2,   7.8689,2,    25.00,    0.02,2,    0.06,2,     1429,    7.80,2,  18.2523,2,        199
49UP20160703,         P9,      46,          1,         30,        097,2,20160718,       1227,    13.9965,   136.9733,       4940,   249.9,  14.8059,  34.5724,2,  34.5677,2,    132.4,2,  132.95,2,   15.23,2,    0.00,2,   1.170,2,   2.229,2,   1.280,2,   0.028,2,  2132.1,2,  2283.5,2,   7.7464,2,    25.00, -999.00,9, -999.00,9,     1428,   15.77,2,  14.8024,2,        248
49UP20160703,         P9,      46,          1,         29,        102,2,20160718,       1227,    13.9965,   136.9733,       4940,   301.2,  12.0136,  34.3803,2,  34.4032,4,    139.0,2,  130.71,2,   21.64,2,    0.00,2,   1.450,2,   2.270,6,   1.268,6,   0.008,6,  2156.4,2,  2277.8,2,   7.6877,2,    25.00, -999.00,9, -999.00,9,     1426,   19.85,2,  12.0156,2,        299
49UP20160703,         P9,      46,          1,         27,        998,2,20160718,       1227,    13.9965,   136.9733,       4940,   352.2,  10.4332,  34.2964,2,  34.2954,2,    127.4,2,  127.63,2,   28.13,2,    0.00,2,   1.660,2,-999.000,9,-999.000,9,-999.000,9,  2175.5,2,  2276.5,2,     7.64,2,    25.00, -999.00,9, -999.00,9,     1424,   22.71,2,  10.4337,2,        350
49UP20160703,         P9,      46,          1,         26,        084,2,20160718,       1227,    13.9965,   136.9733,       4940,   402.6,   8.7420,  34.2586,2,  34.2580,2,    104.7,2,  104.31,2,   40.25,2,    0.00,2,   2.030,2,   1.799,2,   0.913,2,   0.031,2,  2210.9,2,  2286.8,2,   7.5605,2,    25.00, -999.00,9, -999.00,9,     1422,   27.98,2,   8.7432,2,        400
49UP20160703,         P9,      46,          1,         25,        098,2,20160718,       1227,    13.9965,   136.9733,       4940,   454.1,   8.2382,  34.3647,2,  34.3652,2,     78.9,2,   78.46,2,   46.05,2,    0.00,2,   2.300,2,-999.000,9,-999.000,9,-999.000,9,  2238.8,2,  2299.3,2,   7.5124,2,    25.00, -999.00,9, -999.00,9,     1420,   31.72,2,   8.2369,2,        451
49UP20160703,         P9,      46,          1,         24,        110,2,20160718,       1227,    13.9965,   136.9733,       4940,   504.6,   7.5426,  34.3931,2,  34.3919,2,     72.4,2,   72.17,2,   53.02,2,    0.00,2,   2.430,2,   0.776,2,   0.377,2,   0.000,2,  2253.5,2,  2307.9,2,   7.4903,2,    25.00, -999.00,9, -999.00,9,     1419,   33.80,2,   7.5414,2,        501
49UP20160703,         P9,      46,          1,         23,        679,2,20160718,       1227,    13.9965,   136.9733,       4940,   605.6,   6.4009,  34.4134,2,  34.4157,2,     79.8,2,   79.83,2,   66.24,2,    0.00,2,   2.520,2,   0.514,2,   0.255,2,   0.000,2,  2268.5,2,  2324.2,2,   7.4934,2,    25.00, -999.00,9, -999.00,9,     1416,   35.22,2,   6.4006,2,        601
49UP20160703,         P9,      46,          1,         22,        111,2,20160718,       1227,    13.9965,   136.9733,       4940,   705.1,   5.7876,  34.4560,2,  34.4571,2,     81.0,2,   81.17,2,   73.34,2,    0.00,2,   2.610,2,   0.318,6,   0.159,6,   0.000,6,  2282.3,2,  2334.5,2,   7.4913,2,    25.00, -999.00,9, -999.00,9,     1413,   36.37,2,   5.7874,2,        700
49UP20160703,         P9,      46,          1,         21,        078,2,20160718,       1227,    13.9965,   136.9733,       4940,   807.5,   5.2247,  34.4870,2,  34.4872,2,     81.7,2,   81.59,2,   82.09,2,    0.00,2,   2.670,2,   0.190,2,   0.093,2,   0.000,2,  2292.8,2,  2345.1,2,   7.4884,6,    25.00, -999.00,9, -999.00,9,     1410,   37.33,2,   5.2245,2,        801
49UP20160703,         P9,      46,          1,         20,        093,2,20160718,       1227,    13.9965,   136.9733,       4940,   908.2,   4.7528,  34.5198,2,  34.5198,6,     85.6,2,   85.56,2,   89.24,2,    0.00,2,   2.700,2,   0.123,2,   0.061,2,   0.000,2,  2296.0,2,  2355.9,2,    7.491,2,    25.00, -999.00,9, -999.00,9,     1407,   37.76,2,   4.7534,2,        901
49UP20160703,         P9,      46,          1,         19,        269,2,20160718,       1227,    13.9965,   136.9733,       4940,  1009.6,   4.3433,  34.5393,2,  34.5394,2,     87.1,2,   87.26,6,   96.67,6,    0.00,6,   2.730,6,   0.080,2,   0.038,2,   0.000,2,  2308.0,2,  2363.6,2,   7.4931,2,    25.00, -999.00,9, -999.00,9,     1403,   38.26,6,   4.3432,2,       1001
49UP20160703,         P9,      46,          1,         18,        088,2,20160718,       1227,    13.9965,   136.9733,       4940,  1211.6,   3.6163,  34.5582,2,  34.5578,2,     89.8,2,   89.95,2,  112.19,2,    0.00,2,   2.760,2,   0.032,2,   0.018,2,   0.000,2,  2323.6,2,  2378.8,2,    7.491,2,    25.00, -999.00,9, -999.00,9,     1358,   38.69,2,   3.6163,2,       1201
49UP20160703,         P9,      46,          1,         17,        090,2,20160718,       1227,    13.9965,   136.9733,       4940,  1413.8,   3.1324,  34.5776,2,  34.5772,2,     95.6,2,   95.58,2,  122.03,2,    0.00,2,   2.750,2,   0.020,2,   0.008,2,   0.000,2,  2326.1,6,  2389.6,6,   7.4988,2,    25.00, -999.00,9, -999.00,9,     1353,   38.76,2,   3.1329,2,       1401
49UP20160703,         P9,      46,          1,         16,        474,2,20160718,       1227,    13.9965,   136.9733,       4940,  1617.8,   2.7071,  34.5967,2,  34.5961,6,    102.1,2,  101.83,2,  129.79,2,    0.00,2,   2.730,2,-999.000,9,-999.000,9,-999.000,9,  2336.1,2,  2398.6,2,   7.5076,2,    25.00, -999.00,9, -999.00,9,     1348,   38.62,2,   2.7071,2,       1602
49UP20160703,         P9,      46,          1,         15,        665,2,20160718,       1227,    13.9965,   136.9733,       4940,  1817.9,   2.3638,  34.6128,2,  34.6127,2,    108.0,2,  108.03,6,  136.04,6,    0.00,6,   2.710,6,-999.000,9,-999.000,9,-999.000,9,  2335.7,2,  2403.8,2,   7.5116,2,    25.00, -999.00,9, -999.00,9,     1344,   38.47,6,   2.3638,2,       1800
49UP20160703,         P9,      46,          1,         14,        999,2,20160718,       1227,    13.9965,   136.9733,       4940,  2023.7,   2.1220,  34.6290,2,  34.6288,2,    114.4,2,  114.36,2,  140.02,2,    0.00,2,   2.690,2,   0.000,3,   0.000,3,   0.000,3,  2336.7,2,  2408.2,2,   7.5221,2,    25.00, -999.00,9, -999.00,9,     1339,   38.32,2,   2.1220,2,       2002
49UP20160703,         P9,      46,          1,         13,        667,3,20160718,       1227,    13.9965,   136.9733,       4940,  2224.8,   1.9532,  34.6399,2,  34.6384,4,    119.9,2,  120.30,2,  141.54,2,    0.00,2,   2.650,2,-999.000,9,-999.000,9,-999.000,9,  2333.8,2,  2411.2,2,   7.5345,2,    25.00, -999.00,9, -999.00,9,     1334,   37.82,2,   1.9529,2,       2200
49UP20160703,         P9,      46,          1,         12,        074,2,20160718,       1227,    13.9965,   136.9733,       4940,  2428.7,   1.8308,  34.6497,2,  34.6494,2,    125.4,2,  125.49,2,  144.22,2,    0.00,2,   2.630,2,   0.000,3,   0.000,3,   0.000,3,  2334.7,2,  2412.6,2,   7.5414,2,    25.00, -999.00,9, -999.00,9,     1329,   37.73,2,   1.8307,2,       2401
49UP20160703,         P9,      46,          1,         11,        268,2,20160718,       1227,    13.9965,   136.9733,       4940,  2632.9,   1.7541,  34.6565,2,  34.6565,2,    129.8,2,  129.57,2,  144.86,2,    0.00,2,   2.610,2,-999.000,9,-999.000,9,-999.000,9,  2336.4,2,  2414.2,2,   7.5459,6,    25.00, -999.00,9, -999.00,9,     1325,   37.48,2,   1.7540,2,       2601
49UP20160703,         P9,      46,          1,         10,        267,2,20160718,       1227,    13.9965,   136.9733,       4940,  2837.3,   1.7025,  34.6611,2,  34.6599,6,    133.3,2,  133.33,2,  145.11,2,    0.00,2,   2.600,2,-999.000,9,-999.000,9,-999.000,9,  2331.9,2,  2415.4,2,   7.5512,2,    25.00, -999.00,9, -999.00,9,     1320,   37.25,2,   1.7026,2,       2802
49UP20160703,         P9,      46,          1,          9,        518,2,20160718,       1227,    13.9965,   136.9733,       4940,  3041.2,   1.6418,  34.6665,2,  34.6661,2,    138.4,2,  138.06,2,  144.58,2,    0.00,2,   2.570,2,   0.000,3,   0.000,3,   0.000,3,  2332.0,2,  2416.0,2,   7.5567,2,    25.00, -999.00,9, -999.00,9,     1315,   36.94,2,   1.6417,2,       3002
49UP20160703,         P9,      46,          1,          8,        470,2,20160718,       1227,    13.9965,   136.9733,       4940,  3296.1,   1.6151,  34.6704,2,  34.6705,2,    142.2,2,  142.15,2,  143.86,2,    0.00,2,   2.550,2,-999.000,9,-999.000,9,-999.000,9,  2336.2,2,  2415.6,2,   7.5644,2,    25.00, -999.00,9, -999.00,9,     1309,   36.65,2,   1.6152,2,       3252
49UP20160703,         P9,      46,          1,          7,        516,2,20160718,       1227,    13.9965,   136.9733,       4940,  3551.6,   1.5801,  34.6745,2,  34.6750,2,    146.9,2,  147.12,2,  142.69,2,    0.00,2,   2.530,2,   0.000,3,   0.000,3,   0.000,3,  2322.1,2,  2414.1,2,   7.5721,2,    25.00, -999.00,9, -999.00,9,     1303,   36.38,2,   1.5801,2,       3502
49UP20160703,         P9,      46,          1,          6,        113,2,20160718,       1227,    13.9965,   136.9733,       4940,  3807.7,   1.5586,  34.6780,2,  34.6784,2,    150.7,2,  150.60,2,  141.75,2,    0.00,2,   2.500,2,-999.000,9,-999.000,9,-999.000,9,  2325.8,2,  2412.5,2,   7.5761,2,    25.00, -999.00,9, -999.00,9,     1257,   36.09,2,   1.5587,2,       3752
49UP20160703,         P9,      46,          1,          5,        658,2,20160718,       1227,    13.9965,   136.9733,       4940,  4062.9,   1.5298,  34.6820,2,  34.6823,2,    155.5,2,  155.04,6,  140.33,6,    0.00,6,   2.480,6,   0.000,3,   0.000,3,   0.000,3,  2318.9,6,  2411.2,6,   7.5833,2,    25.00, -999.00,9, -999.00,9,     1251,   35.78,6,   1.5298,2,       4001
49UP20160703,         P9,      46,          1,          4,        471,2,20160718,       1227,    13.9965,   136.9733,       4940,  4319.1,   1.5152,  34.6854,2,  34.6852,2,    159.2,2,  159.58,2,  139.31,2,    0.00,2,   2.460,2,-999.000,9,-999.000,9,-999.000,9,  2313.4,2,  2410.1,2,   7.5897,2,    25.00, -999.00,9, -999.00,9,     1246,   35.51,2,   1.5153,2,       4251
49UP20160703,         P9,      46,          1,          3,        104,2,20160718,       1227,    13.9965,   136.9733,       4940,  4575.7,   1.5272,  34.6866,2,  34.6866,6,    160.8,2,  160.53,2,  138.92,2,    0.00,2,   2.450,2,   0.000,3,   0.000,3,   0.000,3,  2316.0,2,  2408.4,2,   7.5832,3,    25.00, -999.00,9, -999.00,9,     1239,   35.44,2,   1.5273,2,       4501
49UP20160703,         P9,      46,          1,          2,        075,2,20160718,       1227,    13.9965,   136.9733,       4940,  4832.9,   1.5526,  34.6870,2,  34.6873,2,    161.4,2,  161.43,2,  138.71,2,    0.00,2,   2.450,2,-999.000,9,-999.000,9,-999.000,9,  2314.8,2,  2408.6,2,   7.5903,6,    25.00, -999.00,9, -999.00,9,     1233,   35.38,2,   1.5526,2,       4751
49UP20160703,         P9,      46,          1,          1,        997,2,20160718,       1227,    13.9965,   136.9733,       4940,  5068.8,   1.5811,  34.6869,2,  34.6874,2,    161.5,2,  161.57,2,  138.61,2,    0.00,2,   2.450,2,   0.000,3,   0.000,3,   0.000,3,  2313.4,2,  2408.7,2,   7.5919,2,    25.00, -999.00,9, -999.00,9,     1228,   35.40,2,   1.5809,2,       4980