BOTTLE,20230712CCHSIOENA
EXPOCODE,SECT_ID,STNNBR,CASTNO,SAMPNO,BTLNBR,BTLNBR_FLAG_W,DATE,TIME,LATITUDE,LONGITUDE,DEPTH,CTDPRS,CTDTMP,CTDSAL,CTDSAL_FLAG_W,SALNTY,SALNTY_FLAG_W,CTDOXY,CTDOXY_FLAG_W,OXYGEN,OXYGEN_FLAG_W,SILCAT,SILCAT_FLAG_W,NITRIT,NITRIT_FLAG_W,PHSPHT,PHSPHT_FLAG_W,CFC-11,CFC-11_FLAG_W,CFC-12,CFC-12_FLAG_W,CFC113,CFC113_FLAG_W,TCARBN,TCARBN_FLAG_W,ALKALI,ALKALI_FLAG_W,PH_TOT,PH_TOT_FLAG_W,PH_TMP,CHLORA,CHLORA_FLAG_W,PPHYTN,PPHYTN_FLAG_W,BTL_TIME,NO2+NO3,NO2+NO3_FLAG_W,SBE35,SBE35_FLAG_W,CTDDEPTH
,,,,,,,,,,,METERS,DBAR,ITS-90,PSS-78,,PSS-78,,UMOL/KG,,UMOL/KG,,UMOL/KG,,UMOL/KG,,UMOL/KG,,PMOL/KG,,PMOL/KG,,PMOL/KG,,UMOL/KG,,UMOL/KG,,,,DEG C,UG/KG,,UG/KG,,,UMOL/KG,,ITS-90,,METERS
49UP20160703,         P9,      47,          1,          0,        BUC,2,20160718,       2043,    13.5055,   136.9875,       5048,     0.0,  30.2645,  34.5917,2,-999.0000,9,    192.5,2,  192.86,2,    0.94,2,    0.00,2,   0.090,2,-999.000,9,-999.000,9,-999.000,9,  -999.0,9,  -999.0,9,-999.0000,9,  -999.00, -999.00,9, -999.00,9,     2235,    0.05,2,-999.0000,9,          0
49UP20160703,         P9,      47,          1,         36,        109,2,20160718,       2043,    13.5055,   136.9875,       5048,    10.5,  30.2575,  34.5910,2,  34.5910,2,    192.3,2,  192.45,2,    0.94,2,    0.00,2,   0.060,2,-999.000,9,-999.000,9,-999.000,9,  -999.0,9,  -999.0,9,-999.0000,9,  -999.00, -999.00,9, -999.00,9,     2257,    0.03,2,  30.2587,2,         10
49UP20160703,         P9,      47,          1,         35,        112,2,20160718,       2043,    13.5055,   136.9875,       5048,    50.9,  28.9587,  34.7650,2,  34.7629,2,    203.0,2,  203.01,2,    1.08,2,    0.00,2,   0.040,2,-999.000,9,-999.000,9,-999.000,9,  -999.0,9,  -999.0,9,-999.0000,9,  -999.00, -999.00,9, -999.00,9,     2253,    0.03,2,  28.9753,2,         51
49UP20160703,         P9,      47,          1,         28,        472,2,20160718,       2043,    13.5055,   136.9875,       5048,    74.7,  28.1956,  34.8061,2,  34.8034,2,    207.7,2,  207.34,2,    0.94,2,    0.00,2,   0.020,2,-999.000,9,-999.000,9,-999.000,9,  -999.0,9,  -999.0,9,-999.0000,9,  -999.00, -999.00,9, -999.00,9,     2252,    0.04,2,  28.2200,2,         74
49UP20160703,         P9,      47,          1,         34,        094,2,20160718,       2043,    13.5055,   136.9875,       5048,   101.5,  26.8648,  35.0126,2,  35.0214,4,    204.0,2,  203.06,6,    1.03,6,    0.00,6,   0.040,6,-999.000,9,-999.000,9,-999.000,9,  -999.0,9,  -999.0,9,-999.0000,9,  -999.00, -999.00,9, -999.00,9,     2251,    0.03,6,  26.8712,2,        101
49UP20160703,         P9,      47,          1,         33,        469,2,20160718,       2043,    13.5055,   136.9875,       5048,   125.8,  25.4813,  35.0978,2,  35.1019,2,    198.3,2,  197.23,2,    1.31,2,    0.03,2,   0.080,2,-999.000,9,-999.000,9,-999.000,9,  -999.0,9,  -999.0,9,-999.0000,9,  -999.00, -999.00,9, -999.00,9,     2250,    0.10,2,  25.4821,2,        125
49UP20160703,         P9,      47,          1,         32,        089,2,20160718,       2043,    13.5055,   136.9875,       5048,   151.6,  23.4785,  35.0494,2,  35.0553,2,    184.4,2,  184.97,2,    2.25,2,    0.27,2,   0.190,2,-999.000,9,-999.000,9,-999.000,9,  -999.0,9,  -999.0,9,-999.0000,9,  -999.00, -999.00,9, -999.00,9,     2248,    1.15,2,  23.4751,2,        151
49UP20160703,         P9,      47,          1,         31,        515,2,20160718,       2043,    13.5055,   136.9875,       5048,   201.7,  18.8686,  34.8642,2,  34.8676,2,    166.3,2,  166.96,2,    5.53,2,    0.01,2,   0.520,2,-999.000,9,-999.000,9,-999.000,9,  -999.0,9,  -999.0,9,-999.0000,9,  -999.00, -999.00,9, -999.00,9,     2247,    6.33,2,  18.8440,2,        200
49UP20160703,         P9,      47,          1,         30,        097,2,20160718,       2043,    13.5055,   136.9875,       5048,   251.8,  15.0563,  34.5745,2,  34.5764,2,    143.3,2,  143.40,2,   12.97,2,    0.00,2,   1.030,2,-999.000,9,-999.000,9,-999.000,9,  -999.0,9,  -999.0,9,-999.0000,9,  -999.00, -999.00,9, -999.00,9,     2245,   13.88,2,  15.0517,2,        250
49UP20160703,         P9,      47,          1,         29,        102,2,20160718,       2043,    13.5055,   136.9875,       5048,   331.9,  11.3252,  34.4450,2,  34.4438,2,    107.5,2,  107.01,2,   27.46,2,    0.00,2,   1.720,2,-999.000,9,-999.000,9,-999.000,9,  -999.0,9,  -999.0,9,-999.0000,9,  -999.00, -999.00,9, -999.00,9,     2242,   23.86,2,  11.3249,2,        330
49UP20160703,         P9,      47,          1,         27,        998,2,20160718,       2043,    13.5055,   136.9875,       5048,   383.1,   9.6268,  34.4132,2,  34.4165,2,     88.2,2,   86.74,2,   36.18,2,    0.00,2,   2.070,2,-999.000,9,-999.000,9,-999.000,9,  -999.0,9,  -999.0,9,-999.0000,9,  -999.00, -999.00,9, -999.00,9,     2240,   28.75,2,   9.6282,2,        381
49UP20160703,         P9,      47,          1,         26,        084,2,20160718,       2043,    13.5055,   136.9875,       5048,   433.1,   8.6115,  34.4505,2,  34.4492,2,     73.1,2,   74.27,2,   42.92,2,    0.00,2,   2.290,2,-999.000,9,-999.000,9,-999.000,9,  -999.0,9,  -999.0,9,-999.0000,9,  -999.00, -999.00,9, -999.00,9,     2239,   31.95,2,   8.6127,2,        430
49UP20160703,         P9,      47,          1,         25,        098,2,20160718,       2043,    13.5055,   136.9875,       5048,   484.3,   7.9058,  34.4654,2,  34.4688,2,     72.7,2,   72.66,2,   47.96,2,    0.00,2,   2.400,2,-999.000,9,-999.000,9,-999.000,9,  -999.0,9,  -999.0,9,-999.0000,9,  -999.00, -999.00,9, -999.00,9,     2237,   33.57,2,   7.9038,2,        481
49UP20160703,         P9,      47,          1,         24,        110,2,20160718,       2043,    13.5055,   136.9875,       5048,   534.5,   7.1743,  34.4587,2,  34.4626,6,     77.6,2,   77.70,2,   54.38,2,    0.00,2,   2.450,2,-999.000,9,-999.000,9,-999.000,9,  -999.0,9,  -999.0,9,-999.0000,9,  -999.00, -999.00,9, -999.00,9,     2235,   34.47,2,   7.1747,2,        531
49UP20160703,         P9,      47,          1,         23,        679,2,20160718,       2043,    13.5055,   136.9875,       5048,   635.4,   6.2605,  34.4622,2,  34.4623,2,     77.7,2,   77.38,2,   65.76,2,    0.00,2,   2.570,2,-999.000,9,-999.000,9,-999.000,9,  -999.0,9,  -999.0,9,-999.0000,9,  -999.00, -999.00,9, -999.00,9,     2232,   36.04,2,   6.2598,2,        631
49UP20160703,         P9,      47,          1,         22,        111,3,20160718,       2043,    13.5055,   136.9875,       5048,   736.1,   5.6870,  34.4949,2,  34.4956,2,     84.1,2,   83.66,2,   72.38,2,    0.00,2,   2.610,2,-999.000,9,-999.000,9,-999.000,9,  -999.0,9,  -999.0,9,-999.0000,9,  -999.00, -999.00,9, -999.00,9,     2230,   36.66,2,   5.6867,2,        731
49UP20160703,         P9,      47,          1,         21,        078,2,20160718,       2043,    13.5055,   136.9875,       5048,   837.2,   5.2330,  34.5106,2,  34.5112,2,     86.6,2,   86.70,6,   79.46,6,    0.00,6,   2.640,6,-999.000,9,-999.000,9,-999.000,9,  -999.0,9,  -999.0,9,-999.0000,9,  -999.00, -999.00,9, -999.00,9,     2227,   37.09,6,   5.2328,2,        831
49UP20160703,         P9,      47,          1,         20,        093,2,20160718,       2043,    13.5055,   136.9875,       5048,   937.9,   4.7314,  34.5246,2,  34.5267,2,     86.5,2,   86.95,2,   89.15,2,    0.00,2,   2.690,2,-999.000,9,-999.000,9,-999.000,9,  -999.0,9,  -999.0,9,-999.0000,9,  -999.00, -999.00,9, -999.00,9,     2224,   37.78,2,   4.7330,2,        930
49UP20160703,         P9,      47,          1,         19,        269,2,20160718,       2043,    13.5055,   136.9875,       5048,  1079.4,   4.1486,  34.5473,2,  34.5478,2,     87.9,2,   88.10,2,  100.70,2,    0.00,2,   2.730,2,-999.000,9,-999.000,9,-999.000,9,  -999.0,9,  -999.0,9,-999.0000,9,  -999.00, -999.00,9, -999.00,9,     2219,   38.38,2,   4.1487,2,       1070
49UP20160703,         P9,      47,          1,         18,        088,2,20160718,       2043,    13.5055,   136.9875,       5048,  1281.5,   3.4999,  34.5672,2,  34.5682,2,     90.0,2,   90.12,2,  114.16,2,    0.00,2,   2.760,2,-999.000,9,-999.000,9,-999.000,9,  -999.0,9,  -999.0,9,-999.0000,9,  -999.00, -999.00,9, -999.00,9,     2215,   38.91,2,   3.4998,2,       1270
49UP20160703,         P9,      47,          1,         17,        090,2,20160718,       2043,    13.5055,   136.9875,       5048,  1484.6,   2.9981,  34.5853,2,  34.5851,6,     96.6,2,   96.86,2,  124.41,2,    0.00,2,   2.740,2,-999.000,9,-999.000,9,-999.000,9,  -999.0,9,  -999.0,9,-999.0000,9,  -999.00, -999.00,9, -999.00,9,     2210,   38.82,2,   2.9981,2,       1471
49UP20160703,         P9,      47,          1,         16,        474,2,20160718,       2043,    13.5055,   136.9875,       5048,  1686.6,   2.6166,  34.6038,2,  34.6046,2,    103.3,2,  104.32,2,  131.08,2,    0.00,2,   2.720,2,-999.000,9,-999.000,9,-999.000,9,  -999.0,9,  -999.0,9,-999.0000,9,  -999.00, -999.00,9, -999.00,9,     2205,   38.57,2,   2.6166,2,       1670
49UP20160703,         P9,      47,          1,         15,        665,2,20160718,       2043,    13.5055,   136.9875,       5048,  1890.4,   2.3354,  34.6210,2,  34.6211,2,    109.3,2,  110.05,2,  135.97,2,    0.00,2,   2.700,2,-999.000,9,-999.000,9,-999.000,9,  -999.0,9,  -999.0,9,-999.0000,9,  -999.00, -999.00,9, -999.00,9,     2200,   38.45,2,   2.3354,2,       1871
49UP20160703,         P9,      47,          1,         14,        999,2,20160718,       2043,    13.5055,   136.9875,       5048,  2092.6,   2.1202,  34.6316,2,  34.6323,2,    115.1,2,  115.19,2,  139.82,2,    0.00,2,   2.670,2,-999.000,9,-999.000,9,-999.000,9,  -999.0,9,  -999.0,9,-999.0000,9,  -999.00, -999.00,9, -999.00,9,     2156,   38.18,2,   2.1200,2,       2070
49UP20160703,         P9,      47,          1,         13,        667,2,20160718,       2043,    13.5055,   136.9875,       5048,  2296.9,   1.9592,  34.6418,2,  34.6419,2,    120.7,2,  120.95,2,  142.16,2,    0.00,2,   2.640,2,-999.000,9,-999.000,9,-999.000,9,  -999.0,9,  -999.0,9,-999.0000,9,  -999.00, -999.00,9, -999.00,9,     2150,   37.89,2,   1.9593,2,       2271
49UP20160703,         P9,      47,          1,         12,        074,2,20160718,       2043,    13.5055,   136.9875,       5048,  2499.7,   1.8273,  34.6509,2,  34.6505,2,    125.9,2,  125.89,2,  144.34,2,    0.00,2,   2.620,2,-999.000,9,-999.000,9,-999.000,9,  -999.0,9,  -999.0,9,-999.0000,9,  -999.00, -999.00,9, -999.00,9,     2145,   37.71,2,   1.8275,2,       2471
49UP20160703,         P9,      47,          1,         11,        268,2,20160718,       2043,    13.5055,   136.9875,       5048,  2703.0,   1.7524,  34.6570,2,  34.6571,2,    130.1,2,  130.12,2,  145.11,2,    0.00,2,   2.610,2,-999.000,9,-999.000,9,-999.000,9,  -999.0,9,  -999.0,9,-999.0000,9,  -999.00, -999.00,9, -999.00,9,     2141,   37.44,2,   1.7524,2,       2670
49UP20160703,         P9,      47,          1,         10,        267,2,20160718,       2043,    13.5055,   136.9875,       5048,  2907.0,   1.6775,  34.6633,2,  34.6635,6,    134.9,2,  135.13,2,  145.11,2,    0.00,2,   2.580,2,-999.000,9,-999.000,9,-999.000,9,  -999.0,9,  -999.0,9,-999.0000,9,  -999.00, -999.00,9, -999.00,9,     2136,   37.09,2,   1.6776,2,       2870
49UP20160703,         P9,      47,          1,          9,        518,2,20160718,       2043,    13.5055,   136.9875,       5048,  3121.1,   1.6259,  34.6683,2,  34.6688,2,    139.8,2,  139.60,6,  144.48,6,    0.00,6,   2.550,6,-999.000,9,-999.000,9,-999.000,9,  -999.0,9,  -999.0,9,-999.0000,9,  -999.00, -999.00,9, -999.00,9,     2132,   36.78,6,   1.6258,2,       3080
49UP20160703,         P9,      47,          1,          8,        470,3,20160718,       2043,    13.5055,   136.9875,       5048,  3376.5,   1.5900,  34.6725,2,  34.6733,2,    144.5,2,  145.42,2,  143.11,2,    0.00,2,   2.530,2,-999.000,9,-999.000,9,-999.000,9,  -999.0,9,  -999.0,9,-999.0000,9,  -999.00, -999.00,9, -999.00,9,     2126,   36.41,2,   1.5900,2,       3330
49UP20160703,         P9,      47,          1,          7,        516,2,20160718,       2043,    13.5055,   136.9875,       5048,  3632.0,   1.5695,  34.6758,2,  34.6763,2,    148.2,2,  148.26,2,  142.23,2,    0.00,2,   2.500,2,-999.000,9,-999.000,9,-999.000,9,  -999.0,9,  -999.0,9,-999.0000,9,  -999.00, -999.00,9, -999.00,9,     2120,   36.19,2,   1.5694,2,       3580
49UP20160703,         P9,      47,          1,          6,        113,2,20160718,       2043,    13.5055,   136.9875,       5048,  3888.2,   1.5445,  34.6796,2,  34.6796,2,    152.6,2,  152.52,2,  141.26,2,    0.00,2,   2.480,2,-999.000,9,-999.000,9,-999.000,9,  -999.0,9,  -999.0,9,-999.0000,9,  -999.00, -999.00,9, -999.00,9,     2114,   35.95,2,   1.5446,2,       3831
49UP20160703,         P9,      47,          1,          5,        658,2,20160718,       2043,    13.5055,   136.9875,       5048,  4144.9,   1.5164,  34.6837,2,  34.6840,6,    157.5,2,  157.29,2,  139.61,2,    0.00,2,   2.460,2,-999.000,9,-999.000,9,-999.000,9,  -999.0,9,  -999.0,9,-999.0000,9,  -999.00, -999.00,9, -999.00,9,     2108,   35.59,2,   1.5163,2,       4081
49UP20160703,         P9,      47,          1,          4,        471,2,20160718,       2043,    13.5055,   136.9875,       5048,  4400.8,   1.5223,  34.6855,2,  34.6853,2,    159.6,2,  159.44,6,  139.19,6,    0.00,6,   2.450,6,-999.000,9,-999.000,9,-999.000,9,  -999.0,9,  -999.0,9,-999.0000,9,  -999.00, -999.00,9, -999.00,9,     2102,   35.45,6,   1.5222,2,       4331
49UP20160703,         P9,      47,          1,          3,        104,3,20160718,       2043,    13.5055,   136.9875,       5048,  4657.8,   1.5408,  34.6863,2,  34.6856,2,    160.5,2,  160.51,2,  138.87,2,    0.00,2,   2.440,2,-999.000,9,-999.000,9,-999.000,9,  -999.0,9,  -999.0,9,-999.0000,9,  -999.00, -999.00,9, -999.00,9,     2056,   35.39,2,   1.5408,2,       4581
49UP20160703,         P9,      47,          1,          2,        075,2,20160718,       2043,    13.5055,   136.9875,       5048,  4914.1,   1.5636,  34.6868,2,  34.6865,2,    161.3,2,  161.20,2,  138.57,2,    0.00,2,   2.440,2,-999.000,9,-999.000,9,-999.000,9,  -999.0,9,  -999.0,9,-999.0000,9,  -999.00, -999.00,9, -999.00,9,     2050,   35.31,2,   1.5634,2,       4830
49UP20160703,         P9,      47,          1,          1,        997,2,20160718,       2043,    13.5055,   136.9875,       5048,  5200.8,   1.5963,  34.6872,2,  34.6868,2,    161.7,2,  161.72,2,  138.56,2,    0.00,2,   2.440,2,-999.000,9,-999.000,9,-999.000,9,  -999.0,9,  -999.0,9,-999.0000,9,  -999.00, -999.00,9, -999.00,9,     2043,   35.32,2,   1.5963,2,       5109