BOTTLE,20230712CCHSIOENA
EXPOCODE,SECT_ID,STNNBR,CASTNO,SAMPNO,BTLNBR,BTLNBR_FLAG_W,DATE,TIME,LATITUDE,LONGITUDE,DEPTH,CTDPRS,CTDTMP,CTDSAL,CTDSAL_FLAG_W,SALNTY,SALNTY_FLAG_W,CTDOXY,CTDOXY_FLAG_W,OXYGEN,OXYGEN_FLAG_W,SILCAT,SILCAT_FLAG_W,NITRIT,NITRIT_FLAG_W,PHSPHT,PHSPHT_FLAG_W,CFC-11,CFC-11_FLAG_W,CFC-12,CFC-12_FLAG_W,CFC113,CFC113_FLAG_W,TCARBN,TCARBN_FLAG_W,ALKALI,ALKALI_FLAG_W,PH_TOT,PH_TOT_FLAG_W,PH_TMP,CHLORA,CHLORA_FLAG_W,PPHYTN,PPHYTN_FLAG_W,BTL_TIME,NO2+NO3,NO2+NO3_FLAG_W,SBE35,SBE35_FLAG_W,CTDDEPTH
,,,,,,,,,,,METERS,DBAR,ITS-90,PSS-78,,PSS-78,,UMOL/KG,,UMOL/KG,,UMOL/KG,,UMOL/KG,,UMOL/KG,,PMOL/KG,,PMOL/KG,,PMOL/KG,,UMOL/KG,,UMOL/KG,,,,DEG C,UG/KG,,UG/KG,,,UMOL/KG,,ITS-90,,METERS
49UP20160703,         P9,      69,          1,          0,        BUC,2,20160803,       1138,     4.5205,   137.0102,       4963,     0.0,  30.2572,  34.0001,2,-999.0000,9,    194.3,2,  194.01,2,    0.95,2,    0.00,2,   0.060,2,-999.000,9,-999.000,9,-999.000,9,  -999.0,9,  -999.0,9,-999.0000,9,  -999.00, -999.00,9, -999.00,9,     1315,    0.01,2,-999.0000,9,          0
49UP20160703,         P9,      69,          1,         36,        109,2,20160803,       1138,     4.5205,   137.0102,       4963,    11.0,  30.2814,  33.9987,2,  33.9985,2,    194.2,2,  194.57,2,    1.07,2,    0.00,2,   0.050,2,-999.000,9,-999.000,9,-999.000,9,  -999.0,9,  -999.0,9,-999.0000,9,  -999.00, -999.00,9, -999.00,9,     1350,    0.03,2,  30.2812,2,         11
49UP20160703,         P9,      69,          1,         35,        112,2,20160803,       1138,     4.5205,   137.0102,       4963,    50.8,  30.1133,  34.0543,2,  34.0541,2,    195.5,2,  195.67,2,    1.16,2,    0.00,2,   0.030,2,-999.000,9,-999.000,9,-999.000,9,  -999.0,9,  -999.0,9,-999.0000,9,  -999.00, -999.00,9, -999.00,9,     1345,    0.02,2,  30.1130,2,         51
49UP20160703,         P9,      69,          1,         34,        094,2,20160803,       1138,     4.5205,   137.0102,       4963,    76.3,  29.9321,  34.3847,2,  34.3857,2,    198.5,2,  198.44,2,    1.10,2,    0.00,2,   0.050,2,-999.000,9,-999.000,9,-999.000,9,  -999.0,9,  -999.0,9,-999.0000,9,  -999.00, -999.00,9, -999.00,9,     1343,    0.00,2,  29.9365,2,         76
49UP20160703,         P9,      69,          1,         33,        469,2,20160803,       1138,     4.5205,   137.0102,       4963,   104.7,  28.6055,  34.6096,2,  34.5954,4,    195.0,2,  196.04,6,    1.54,6,    0.01,6,   0.070,6,-999.000,9,-999.000,9,-999.000,9,  -999.0,9,  -999.0,9,-999.0000,9,  -999.00, -999.00,9, -999.00,9,     1342,    0.04,6,  28.6529,2,        104
49UP20160703,         P9,      69,          1,         32,        089,2,20160803,       1138,     4.5205,   137.0102,       4963,   126.6,  26.7471,  34.7772,2,  34.7879,4,    175.1,2,  175.84,2,    2.54,2,    0.28,2,   0.240,2,-999.000,9,-999.000,9,-999.000,9,  -999.0,9,  -999.0,9,-999.0000,9,  -999.00, -999.00,9, -999.00,9,     1340,    2.08,2,  26.7368,2,        126
49UP20160703,         P9,      69,          1,         31,        515,2,20160803,       1138,     4.5205,   137.0102,       4963,   155.6,  17.7610,  34.7732,2,  34.8092,4,    147.1,2,  154.76,2,    7.33,2,    0.02,2,   0.620,2,-999.000,9,-999.000,9,-999.000,9,  -999.0,9,  -999.0,9,-999.0000,9,  -999.00, -999.00,9, -999.00,9,     1339,    7.99,2,  18.1812,2,        155
49UP20160703,         P9,      69,          1,         30,        097,2,20160803,       1138,     4.5205,   137.0102,       4963,   202.4,  12.0328,  34.4777,2,  34.4803,2,    123.8,2,  123.88,2,   24.91,2,    0.00,2,   1.510,2,-999.000,9,-999.000,9,-999.000,9,  -999.0,9,  -999.0,9,-999.0000,9,  -999.00, -999.00,9, -999.00,9,     1336,   21.14,2,  12.0378,2,        201
49UP20160703,         P9,      69,          1,         29,        102,2,20160803,       1138,     4.5205,   137.0102,       4963,   255.0,  10.0371,  34.5706,2,  34.5659,2,    101.6,2,   97.98,2,   31.59,2,    0.00,2,   1.930,2,-999.000,9,-999.000,9,-999.000,9,  -999.0,9,  -999.0,9,-999.0000,9,  -999.00, -999.00,9, -999.00,9,     1334,   27.30,2,  10.0723,2,        253
49UP20160703,         P9,      69,          1,         28,        472,2,20160803,       1138,     4.5205,   137.0102,       4963,   304.9,   9.1146,  34.5667,2,  34.5737,4,     96.3,2,   91.33,2,   35.16,2,    0.00,2,   2.100,2,-999.000,9,-999.000,9,-999.000,9,  -999.0,9,  -999.0,9,-999.0000,9,  -999.00, -999.00,9, -999.00,9,     1331,   29.92,2,   9.1206,2,        303
49UP20160703,         P9,      69,          1,         27,        998,2,20160803,       1138,     4.5205,   137.0102,       4963,   354.6,   8.5766,  34.5641,2,  34.5610,2,     90.6,2,   91.73,2,   37.69,2,    0.00,2,   2.170,2,-999.000,9,-999.000,9,-999.000,9,  -999.0,9,  -999.0,9,-999.0000,9,  -999.00, -999.00,9, -999.00,9,     1328,   31.13,2,   8.5767,2,        352
49UP20160703,         P9,      69,          1,         26,        084,2,20160803,       1138,     4.5205,   137.0102,       4963,   405.4,   8.2483,  34.5670,2,  34.5692,2,     97.6,2,   97.41,2,   37.03,2,    0.00,2,   2.180,2,-999.000,9,-999.000,9,-999.000,9,  -999.0,9,  -999.0,9,-999.0000,9,  -999.00, -999.00,9, -999.00,9,     1326,   31.37,2,   8.2561,2,        403
49UP20160703,         P9,      69,          1,         25,        098,2,20160803,       1138,     4.5205,   137.0102,       4963,   456.1,   7.8803,  34.5691,2,  34.5707,2,    118.5,2,  115.71,2,   35.07,2,    0.00,2,   2.120,2,-999.000,9,-999.000,9,-999.000,9,  -999.0,9,  -999.0,9,-999.0000,9,  -999.00, -999.00,9, -999.00,9,     1323,   30.54,2,   7.8798,2,        453
49UP20160703,         P9,      69,          1,         24,        110,2,20160803,       1138,     4.5205,   137.0102,       4963,   508.1,   7.4786,  34.5568,2,  34.5565,2,    108.7,2,  108.00,6,   39.43,6,    0.00,6,   2.230,6,-999.000,9,-999.000,9,-999.000,9,  -999.0,9,  -999.0,9,-999.0000,9,  -999.00, -999.00,9, -999.00,9,     1321,   32.13,6,   7.4794,2,        505
49UP20160703,         P9,      69,          1,         23,        679,2,20160803,       1138,     4.5205,   137.0102,       4963,   607.6,   6.8061,  34.5395,2,  34.5405,6,    113.4,2,  113.22,2,   43.27,2,    0.00,2,   2.300,2,-999.000,9,-999.000,9,-999.000,9,  -999.0,9,  -999.0,9,-999.0000,9,  -999.00, -999.00,9, -999.00,9,     1318,   33.04,2,   6.8074,2,        603
49UP20160703,         P9,      69,          1,         22,        111,2,20160803,       1138,     4.5205,   137.0102,       4963,   708.1,   6.2389,  34.5296,2,  34.5297,2,    107.6,2,  107.53,2,   52.10,2,    0.00,2,   2.410,2,-999.000,9,-999.000,9,-999.000,9,  -999.0,9,  -999.0,9,-999.0000,9,  -999.00, -999.00,9, -999.00,9,     1314,   34.57,2,   6.2392,2,        703
49UP20160703,         P9,      69,          1,         21,        078,2,20160803,       1138,     4.5205,   137.0102,       4963,   809.0,   5.6631,  34.5342,2,  34.5340,2,     92.2,2,   92.38,2,   64.40,2,    0.00,2,   2.580,2,-999.000,9,-999.000,9,-999.000,9,  -999.0,9,  -999.0,9,-999.0000,9,  -999.00, -999.00,9, -999.00,9,     1310,   36.84,2,   5.6635,2,        803
49UP20160703,         P9,      69,          1,         20,        093,2,20160803,       1138,     4.5205,   137.0102,       4963,   909.9,   5.1638,  34.5402,2,  34.5399,2,     92.0,2,   91.89,2,   73.10,2,    0.00,2,   2.640,2,-999.000,9,-999.000,9,-999.000,9,  -999.0,9,  -999.0,9,-999.0000,9,  -999.00, -999.00,9, -999.00,9,     1307,   37.56,2,   5.1648,2,        903
49UP20160703,         P9,      69,          1,         19,        269,2,20160803,       1138,     4.5205,   137.0102,       4963,  1010.3,   4.6061,  34.5503,2,  34.5501,2,     88.8,2,   89.05,2,   88.47,2,    0.00,2,   2.690,2,-999.000,9,-999.000,9,-999.000,9,  -999.0,9,  -999.0,9,-999.0000,9,  -999.00, -999.00,9, -999.00,9,     1304,   38.05,2,   4.6066,2,       1002
49UP20160703,         P9,      69,          1,         18,        088,2,20160803,       1138,     4.5205,   137.0102,       4963,  1212.1,   3.7228,  34.5746,2,  34.5740,2,     94.6,2,   95.08,2,  105.27,2,    0.00,2,   2.710,2,-999.000,9,-999.000,9,-999.000,9,  -999.0,9,  -999.0,9,-999.0000,9,  -999.00, -999.00,9, -999.00,9,     1259,   38.56,2,   3.7235,2,       1202
49UP20160703,         P9,      69,          1,         17,        090,2,20160803,       1138,     4.5205,   137.0102,       4963,  1416.1,   3.1805,  34.5933,2,  34.5927,2,     97.0,2,   97.47,2,  117.14,2,    0.00,2,   2.730,2,-999.000,9,-999.000,9,-999.000,9,  -999.0,9,  -999.0,9,-999.0000,9,  -999.00, -999.00,9, -999.00,9,     1254,   39.00,2,   3.1808,2,       1404
49UP20160703,         P9,      69,          1,         16,        474,2,20160803,       1138,     4.5205,   137.0102,       4963,  1617.2,   2.6912,  34.6132,2,  34.6127,2,    102.9,2,  102.72,2,  127.48,2,    0.00,2,   2.720,2,-999.000,9,-999.000,9,-999.000,9,  -999.0,9,  -999.0,9,-999.0000,9,  -999.00, -999.00,9, -999.00,9,     1249,   38.80,2,   2.6919,2,       1602
49UP20160703,         P9,      69,          1,         15,        665,2,20160803,       1138,     4.5205,   137.0102,       4963,  1819.8,   2.4655,  34.6239,2,  34.6235,2,    107.2,2,  107.11,2,  132.12,2,    0.00,2,   2.710,2,-999.000,9,-999.000,9,-999.000,9,  -999.0,9,  -999.0,9,-999.0000,9,  -999.00, -999.00,9, -999.00,9,     1244,   38.72,2,   2.4655,2,       1802
49UP20160703,         P9,      69,          1,         14,        999,2,20160803,       1138,     4.5205,   137.0102,       4963,  2022.8,   2.2138,  34.6369,2,  34.6364,2,    112.8,2,  112.64,6,  137.25,6,    0.00,6,   2.680,6,-999.000,9,-999.000,9,-999.000,9,  -999.0,9,  -999.0,9,-999.0000,9,  -999.00, -999.00,9, -999.00,9,     1239,   38.51,6,   2.2138,2,       2002
49UP20160703,         P9,      69,          1,         13,        667,2,20160803,       1138,     4.5205,   137.0102,       4963,  2224.7,   1.9820,  34.6485,2,  34.6438,4,    121.7,2,  121.57,2,  139.62,2,    0.00,2,   2.630,2,-999.000,9,-999.000,9,-999.000,9,  -999.0,9,  -999.0,9,-999.0000,9,  -999.00, -999.00,9, -999.00,9,     1235,   37.89,2,   1.9824,2,       2201
49UP20160703,         P9,      69,          1,         12,        074,2,20160803,       1138,     4.5205,   137.0102,       4963,  2428.2,   1.8162,  34.6575,2,  34.6574,2,    129.5,2,  129.57,2,  141.84,2,    0.00,2,   2.590,2,-999.000,9,-999.000,9,-999.000,9,  -999.0,9,  -999.0,9,-999.0000,9,  -999.00, -999.00,9, -999.00,9,     1231,   37.44,2,   1.8161,2,       2401
49UP20160703,         P9,      69,          1,         11,        268,2,20160803,       1138,     4.5205,   137.0102,       4963,  2632.0,   1.6703,  34.6655,2,  34.6655,2,    137.3,2,  137.46,2,  142.48,2,    0.00,2,   2.550,2,-999.000,9,-999.000,9,-999.000,9,  -999.0,9,  -999.0,9,-999.0000,9,  -999.00, -999.00,9, -999.00,9,     1226,   36.89,2,   1.6703,2,       2601
49UP20160703,         P9,      69,          1,         10,        267,2,20160803,       1138,     4.5205,   137.0102,       4963,  2834.1,   1.6128,  34.6697,2,  34.6694,2,    141.1,2,  141.62,2,  142.65,2,    0.00,2,   2.530,2,-999.000,9,-999.000,9,-999.000,9,  -999.0,9,  -999.0,9,-999.0000,9,  -999.00, -999.00,9, -999.00,9,     1222,   36.64,2,   1.6127,2,       2800
49UP20160703,         P9,      69,          1,          9,        518,2,20160803,       1138,     4.5205,   137.0102,       4963,  3038.9,   1.5754,  34.6729,2,  34.6732,2,    144.3,2,  144.34,2,  142.49,2,    0.00,2,   2.510,2,-999.000,9,-999.000,9,-999.000,9,  -999.0,9,  -999.0,9,-999.0000,9,  -999.00, -999.00,9, -999.00,9,     1218,   36.40,2,   1.5753,2,       3000
49UP20160703,         P9,      69,          1,          8,        470,2,20160803,       1138,     4.5205,   137.0102,       4963,  3293.1,   1.5533,  34.6760,2,  34.6714,4,    146.9,2,  146.87,2,  142.13,2,    0.00,2,   2.490,2,-999.000,9,-999.000,9,-999.000,9,  -999.0,9,  -999.0,9,-999.0000,9,  -999.00, -999.00,9, -999.00,9,     1213,   36.17,2,   1.5532,2,       3250
49UP20160703,         P9,      69,          1,          7,        516,2,20160803,       1138,     4.5205,   137.0102,       4963,  3547.9,   1.5403,  34.6788,2,  34.6782,2,    149.7,2,  149.82,2,  141.75,2,    0.00,2,   2.480,2,-999.000,9,-999.000,9,-999.000,9,  -999.0,9,  -999.0,9,-999.0000,9,  -999.00, -999.00,9, -999.00,9,     1208,   35.98,2,   1.5403,2,       3499
49UP20160703,         P9,      69,          1,          6,        113,2,20160803,       1138,     4.5205,   137.0102,       4963,  3803.7,   1.5222,  34.6822,2,  34.6821,2,    152.4,2,  152.47,2,  142.01,2,    0.00,2,   2.460,2,-999.000,9,-999.000,9,-999.000,9,  -999.0,9,  -999.0,9,-999.0000,9,  -999.00, -999.00,9, -999.00,9,     1203,   35.93,2,   1.5222,2,       3749
49UP20160703,         P9,      69,          1,          5,        658,2,20160803,       1138,     4.5205,   137.0102,       4963,  4060.3,   1.5084,  34.6856,2,  34.6848,2,    155.1,2,  155.05,6,  141.26,6,    0.00,6,   2.460,6,-999.000,9,-999.000,9,-999.000,9,  -999.0,9,  -999.0,9,-999.0000,9,  -999.00, -999.00,9, -999.00,9,     1158,   35.72,6,   1.5084,2,       4000
49UP20160703,         P9,      69,          1,          4,        471,2,20160803,       1138,     4.5205,   137.0102,       4963,  4316.5,   1.5149,  34.6868,2,  34.6868,6,    157.5,2,  157.61,2,  140.46,2,    0.00,2,   2.440,2,-999.000,9,-999.000,9,-999.000,9,  -999.0,9,  -999.0,9,-999.0000,9,  -999.00, -999.00,9, -999.00,9,     1153,   35.52,2,   1.5149,2,       4250
49UP20160703,         P9,      69,          1,          3,        104,2,20160803,       1138,     4.5205,   137.0102,       4963,  4573.8,   1.5278,  34.6876,2,  34.6873,2,    159.5,2,  159.56,2,  139.84,2,    0.00,2,   2.430,2,-999.000,9,-999.000,9,-999.000,9,  -999.0,9,  -999.0,9,-999.0000,9,  -999.00, -999.00,9, -999.00,9,     1147,   35.42,2,   1.5277,2,       4500
49UP20160703,         P9,      69,          1,          2,        075,2,20160803,       1138,     4.5205,   137.0102,       4963,  4830.6,   1.5481,  34.6881,2,  34.6878,2,    160.9,2,  160.84,2,  139.12,2,    0.00,2,   2.420,2,-999.000,9,-999.000,9,-999.000,9,  -999.0,9,  -999.0,9,-999.0000,9,  -999.00, -999.00,9, -999.00,9,     1142,   35.32,2,   1.5481,2,       4750
49UP20160703,         P9,      69,          1,          1,        997,2,20160803,       1138,     4.5205,   137.0102,       4963,  5016.8,   1.5697,  34.6882,2,  34.6880,2,    161.0,2,  160.92,2,  139.27,2,    0.00,2,   2.420,2,-999.000,9,-999.000,9,-999.000,9,  -999.0,9,  -999.0,9,-999.0000,9,  -999.00, -999.00,9, -999.00,9,     1138,   35.30,2,   1.5696,2,       4931