BOTTLE,20230712CCHSIOENA
EXPOCODE,SECT_ID,STNNBR,CASTNO,SAMPNO,BTLNBR,BTLNBR_FLAG_W,DATE,TIME,LATITUDE,LONGITUDE,DEPTH,CTDPRS,CTDTMP,CTDSAL,CTDSAL_FLAG_W,SALNTY,SALNTY_FLAG_W,CTDOXY,CTDOXY_FLAG_W,OXYGEN,OXYGEN_FLAG_W,SILCAT,SILCAT_FLAG_W,NITRIT,NITRIT_FLAG_W,PHSPHT,PHSPHT_FLAG_W,CFC-11,CFC-11_FLAG_W,CFC-12,CFC-12_FLAG_W,CFC113,CFC113_FLAG_W,TCARBN,TCARBN_FLAG_W,ALKALI,ALKALI_FLAG_W,PH_TOT,PH_TOT_FLAG_W,PH_TMP,CHLORA,CHLORA_FLAG_W,PPHYTN,PPHYTN_FLAG_W,BTL_TIME,NO2+NO3,NO2+NO3_FLAG_W,SBE35,SBE35_FLAG_W,CTDDEPTH
,,,,,,,,,,,METERS,DBAR,ITS-90,PSS-78,,PSS-78,,UMOL/KG,,UMOL/KG,,UMOL/KG,,UMOL/KG,,UMOL/KG,,PMOL/KG,,PMOL/KG,,PMOL/KG,,UMOL/KG,,UMOL/KG,,,,DEG C,UG/KG,,UG/KG,,,UMOL/KG,,ITS-90,,METERS
49UP20160703,         P9,      25,          1,          0,        BUC,2,20160711,       1453,     24.524,   136.9897,       5414,     0.0,  30.3502,  34.8888,2,-999.0000,9,    194.6,2,  194.20,2,    1.19,2,    0.00,2,   0.010,2,-999.000,9,-999.000,9,-999.000,9,  -999.0,9,  -999.0,9,-999.0000,9,  -999.00, -999.00,9, -999.00,9,     1645,    0.00,2,-999.0000,9,          0
49UP20160703,         P9,      25,          1,         36,        109,2,20160711,       1453,     24.524,   136.9897,       5414,    10.3,  29.6787,  34.8768,2,  34.8691,2,    195.7,2,  195.06,2,    1.14,2,    0.00,2,   0.010,2,-999.000,9,-999.000,9,-999.000,9,  -999.0,9,  -999.0,9,-999.0000,9,  -999.00, -999.00,9, -999.00,9,     1701,    0.00,2,  29.6774,2,         10
49UP20160703,         P9,      25,          1,         35,        112,2,20160711,       1453,     24.524,   136.9897,       5414,    51.0,  25.7097,  34.9520,2,  34.9681,4,    218.5,2,  219.14,2,    1.23,2,    0.00,2,   0.010,2,-999.000,9,-999.000,9,-999.000,9,  -999.0,9,  -999.0,9,-999.0000,9,  -999.00, -999.00,9, -999.00,9,     1658,    0.00,2,  25.6827,2,         51
49UP20160703,         P9,      25,          1,         34,        094,2,20160711,       1453,     24.524,   136.9897,       5414,    76.6,  23.8671,  34.9932,2,  34.9928,2,    223.6,2,  222.58,2,    1.33,2,    0.00,2,   0.010,2,-999.000,9,-999.000,9,-999.000,9,  -999.0,9,  -999.0,9,-999.0000,9,  -999.00, -999.00,9, -999.00,9,     1657,    0.00,2,  23.8737,2,         76
49UP20160703,         P9,      25,          1,         33,        469,2,20160711,       1453,     24.524,   136.9897,       5414,   101.1,  21.9374,  34.9497,2,  34.9504,2,    217.0,2,  216.14,2,    1.60,2,    0.00,2,   0.020,2,-999.000,9,-999.000,9,-999.000,9,  -999.0,9,  -999.0,9,-999.0000,9,  -999.00, -999.00,9, -999.00,9,     1655,    0.00,2,  21.9369,2,        100
49UP20160703,         P9,      25,          1,         32,        089,2,20160711,       1453,     24.524,   136.9897,       5414,   125.9,  20.9986,  34.9238,2,  34.9233,2,    206.8,2,  206.01,2,    1.87,2,    0.04,2,   0.040,2,-999.000,9,-999.000,9,-999.000,9,  -999.0,9,  -999.0,9,-999.0000,9,  -999.00, -999.00,9, -999.00,9,     1654,    0.21,2,  20.9968,2,        125
49UP20160703,         P9,      25,          1,         31,        515,2,20160711,       1453,     24.524,   136.9897,       5414,   152.1,  19.7672,  34.8777,2,  34.8769,2,    199.6,2,  199.33,2,    2.41,2,    0.02,2,   0.160,2,-999.000,9,-999.000,9,-999.000,9,  -999.0,9,  -999.0,9,-999.0000,9,  -999.00, -999.00,9, -999.00,9,     1653,    2.15,2,  19.7671,2,        151
49UP20160703,         P9,      25,          1,         30,        097,2,20160711,       1453,     24.524,   136.9897,       5414,   202.5,  18.5350,  34.8132,2,  34.8094,2,    200.5,2,  199.80,2,    3.19,2,    0.01,2,   0.240,2,-999.000,9,-999.000,9,-999.000,9,  -999.0,9,  -999.0,9,-999.0000,9,  -999.00, -999.00,9, -999.00,9,     1652,    3.64,2,  18.5359,2,        201
49UP20160703,         P9,      25,          1,         29,        102,2,20160711,       1453,     24.524,   136.9897,       5414,   252.6,  17.3917,  34.7345,2,  34.7318,6,    198.0,2,  198.64,2,    4.50,2,    0.00,2,   0.350,2,-999.000,9,-999.000,9,-999.000,9,  -999.0,9,  -999.0,9,-999.0000,9,  -999.00, -999.00,9, -999.00,9,     1650,    5.25,2,  17.3921,2,        251
49UP20160703,         P9,      25,          1,         28,        472,2,20160711,       1453,     24.524,   136.9897,       5414,   303.3,  16.3891,  34.6604,2,  34.6582,2,    196.1,2,  196.14,6,    6.31,6,    0.00,6,   0.460,6,-999.000,9,-999.000,9,-999.000,9,  -999.0,9,  -999.0,9,-999.0000,9,  -999.00, -999.00,9, -999.00,9,     1649,    6.90,6,  16.3868,2,        301
49UP20160703,         P9,      25,          1,         27,        998,2,20160711,       1453,     24.524,   136.9897,       5414,   403.1,  14.2887,  34.4958,2,  34.4925,2,    187.9,2,  188.22,2,   11.85,2,    0.00,2,   0.750,2,-999.000,9,-999.000,9,-999.000,9,  -999.0,9,  -999.0,9,-999.0000,9,  -999.00, -999.00,9, -999.00,9,     1646,   10.91,2,  14.2893,2,        400
49UP20160703,         P9,      25,          1,         26,        084,2,20160711,       1453,     24.524,   136.9897,       5414,   503.9,  11.6921,  34.3171,2,  34.3137,2,    175.9,2,  175.17,2,   21.89,2,    0.00,2,   1.160,2,-999.000,9,-999.000,9,-999.000,9,  -999.0,9,  -999.0,9,-999.0000,9,  -999.00, -999.00,9, -999.00,9,     1644,   16.46,2,  11.7007,2,        500
49UP20160703,         P9,      25,          1,         25,        098,2,20160711,       1453,     24.524,   136.9897,       5414,   604.6,   8.5716,  34.1571,2,  34.1573,2,    150.3,2,  150.06,2,   42.53,2,    0.00,2,   1.730,2,-999.000,9,-999.000,9,-999.000,9,  -999.0,9,  -999.0,9,-999.0000,9,  -999.00, -999.00,9, -999.00,9,     1641,   24.17,2,   8.5710,2,        600
49UP20160703,         P9,      25,          1,         24,        110,2,20160711,       1453,     24.524,   136.9897,       5414,   706.1,   6.7956,  34.1197,2,  34.1212,2,    120.7,2,  120.28,2,   61.39,2,    0.00,2,   2.160,2,-999.000,9,-999.000,9,-999.000,9,  -999.0,9,  -999.0,9,-999.0000,9,  -999.00, -999.00,9, -999.00,9,     1639,   30.00,2,   6.7935,2,        700
49UP20160703,         P9,      25,          1,         23,        679,2,20160711,       1453,     24.524,   136.9897,       5414,   807.4,   5.3186,  34.1629,2,  34.1654,2,     86.2,2,   86.04,2,   84.00,2,    0.00,2,   2.560,2,-999.000,9,-999.000,9,-999.000,9,  -999.0,9,  -999.0,9,-999.0000,9,  -999.00, -999.00,9, -999.00,9,     1636,   35.50,2,   5.3178,2,        801
49UP20160703,         P9,      25,          1,         22,        111,2,20160711,       1453,     24.524,   136.9897,       5414,   909.4,   4.5441,  34.2427,2,  34.2434,2,     66.0,2,   66.17,2,  100.19,2,    0.00,2,   2.770,2,-999.000,9,-999.000,9,-999.000,9,  -999.0,9,  -999.0,9,-999.0000,9,  -999.00, -999.00,9, -999.00,9,     1634,   38.41,2,   4.5487,2,        902
49UP20160703,         P9,      25,          1,         21,        078,2,20160711,       1453,     24.524,   136.9897,       5414,  1008.7,   3.7691,  34.3327,2,  34.3339,2,     54.3,2,   53.95,2,  118.12,2,    0.00,2,   2.900,2,-999.000,9,-999.000,9,-999.000,9,  -999.0,9,  -999.0,9,-999.0000,9,  -999.00, -999.00,9, -999.00,9,     1631,   40.38,2,   3.7669,2,       1000
49UP20160703,         P9,      25,          1,         20,        093,2,20160711,       1453,     24.524,   136.9897,       5414,  1212.0,   3.0748,  34.4341,2,  34.4339,2,     55.0,2,   55.17,2,  134.25,2,    0.00,2,   2.950,2,-999.000,9,-999.000,9,-999.000,9,  -999.0,9,  -999.0,9,-999.0000,9,  -999.00, -999.00,9, -999.00,9,     1626,   41.20,2,   3.0750,2,       1201
49UP20160703,         P9,      25,          1,         19,        269,2,20160711,       1453,     24.524,   136.9897,       5414,  1415.0,   2.6602,  34.5032,2,  34.5032,2,     68.9,2,   69.18,2,  140.96,2,    0.00,2,   2.900,2,-999.000,9,-999.000,9,-999.000,9,  -999.0,9,  -999.0,9,-999.0000,9,  -999.00, -999.00,9, -999.00,9,     1622,   40.64,2,   2.6602,2,       1401
49UP20160703,         P9,      25,          1,         18,        088,2,20160711,       1453,     24.524,   136.9897,       5414,  1617.7,   2.3768,  34.5548,2,  34.5548,2,     87.4,2,   87.24,2,  142.51,2,    0.00,2,   2.810,2,-999.000,9,-999.000,9,-999.000,9,  -999.0,9,  -999.0,9,-999.0000,9,  -999.00, -999.00,9, -999.00,9,     1617,   39.61,2,   2.3767,2,       1601
49UP20160703,         P9,      25,          1,         17,        090,2,20160711,       1453,     24.524,   136.9897,       5414,  1818.9,   2.1481,  34.5932,2,  34.5930,6,    104.4,2,  104.69,2,  142.41,2,    0.00,2,   2.730,2,-999.000,9,-999.000,9,-999.000,9,  -999.0,9,  -999.0,9,-999.0000,9,  -999.00, -999.00,9, -999.00,9,     1612,   38.64,2,   2.1480,2,       1799
49UP20160703,         P9,      25,          1,         16,        474,2,20160711,       1453,     24.524,   136.9897,       5414,  2023.3,   2.0046,  34.6150,2,  34.6152,2,    114.2,2,  114.27,6,  142.56,6,    0.00,6,   2.690,6,-999.000,9,-999.000,9,-999.000,9,  -999.0,9,  -999.0,9,-999.0000,9,  -999.00, -999.00,9, -999.00,9,     1608,   38.10,6,   2.0045,2,       2001
49UP20160703,         P9,      25,          1,         15,        665,2,20160711,       1453,     24.524,   136.9897,       5414,  2227.6,   1.8997,  34.6298,2,  34.6304,2,    121.3,2,  121.20,2,  143.00,2,    0.00,2,   2.650,2,-999.000,9,-999.000,9,-999.000,9,  -999.0,9,  -999.0,9,-999.0000,9,  -999.00, -999.00,9, -999.00,9,     1603,   37.72,2,   1.8998,2,       2202
49UP20160703,         P9,      25,          1,         14,        999,2,20160711,       1453,     24.524,   136.9897,       5414,  2430.5,   1.8087,  34.6409,2,  34.6411,2,    126.9,2,  126.98,2,  143.16,2,    0.00,2,   2.630,2,-999.000,9,-999.000,9,-999.000,9,  -999.0,9,  -999.0,9,-999.0000,9,  -999.00, -999.00,9, -999.00,9,     1559,   37.43,2,   1.8087,2,       2401
49UP20160703,         P9,      25,          1,         13,        667,2,20160711,       1453,     24.524,   136.9897,       5414,  2634.2,   1.7381,  34.6491,2,  34.6489,2,    131.9,2,  131.77,2,  143.28,2,    0.00,2,   2.600,2,-999.000,9,-999.000,9,-999.000,9,  -999.0,9,  -999.0,9,-999.0000,9,  -999.00, -999.00,9, -999.00,9,     1553,   37.18,2,   1.7381,2,       2601
49UP20160703,         P9,      25,          1,         12,        074,2,20160711,       1453,     24.524,   136.9897,       5414,  2837.1,   1.7006,  34.6544,2,  34.6545,2,    135.1,2,  135.83,2,  143.32,2,    0.00,2,   2.580,2,-999.000,9,-999.000,9,-999.000,9,  -999.0,9,  -999.0,9,-999.0000,9,  -999.00, -999.00,9, -999.00,9,     1547,   36.93,2,   1.7006,2,       2800
49UP20160703,         P9,      25,          1,         11,        268,2,20160711,       1453,     24.524,   136.9897,       5414,  3040.8,   1.6429,  34.6615,2,  34.6611,2,    140.0,2,  140.48,2,  142.79,2,    0.00,2,   2.560,2,-999.000,9,-999.000,9,-999.000,9,  -999.0,9,  -999.0,9,-999.0000,9,  -999.00, -999.00,9, -999.00,9,     1543,   36.65,2,   1.6429,2,       3000
49UP20160703,         P9,      25,          1,         10,        267,2,20160711,       1453,     24.524,   136.9897,       5414,  3296.9,   1.6022,  34.6675,2,  34.6676,2,    144.2,2,  144.82,2,  142.70,2,    0.00,2,   2.540,2,-999.000,9,-999.000,9,-999.000,9,  -999.0,9,  -999.0,9,-999.0000,9,  -999.00, -999.00,9, -999.00,9,     1538,   36.30,2,   1.6025,2,       3250
49UP20160703,         P9,      25,          1,          9,        518,3,20160711,       1453,     24.524,   136.9897,       5414,  3551.5,   1.5641,  34.6734,2,  34.6737,2,    148.5,2,  148.76,2,  142.12,2,    0.00,2,   2.520,2,-999.000,9,-999.000,9,-999.000,9,  -999.0,9,  -999.0,9,-999.0000,9,  -999.00, -999.00,9, -999.00,9,     1533,   36.13,2,   1.5640,2,       3499
49UP20160703,         P9,      25,          1,          8,        470,2,20160711,       1453,     24.524,   136.9897,       5414,  3808.9,   1.5370,  34.6787,2,  34.6788,6,    152.8,2,  153.35,2,  141.32,2,    0.00,2,   2.500,2,-999.000,9,-999.000,9,-999.000,9,  -999.0,9,  -999.0,9,-999.0000,9,  -999.00, -999.00,9, -999.00,9,     1528,   35.83,2,   1.5370,2,       3751
49UP20160703,         P9,      25,          1,          7,        516,3,20160711,       1453,     24.524,   136.9897,       5414,  4064.7,   1.5366,  34.6814,2,  34.6811,2,    155.0,2,  155.45,6,  140.94,6,    0.00,6,   2.480,6,-999.000,9,-999.000,9,-999.000,9,  -999.0,9,  -999.0,9,-999.0000,9,  -999.00, -999.00,9, -999.00,9,     1523,   35.72,6,   1.5367,2,       4000
49UP20160703,         P9,      25,          1,          6,        113,2,20160711,       1453,     24.524,   136.9897,       5414,  4321.0,   1.5519,  34.6826,2,  34.6827,2,    156.2,2,  156.22,2,  140.80,2,    0.00,2,   2.480,2,-999.000,9,-999.000,9,-999.000,9,  -999.0,9,  -999.0,9,-999.0000,9,  -999.00, -999.00,9, -999.00,9,     1518,   35.65,2,   1.5521,2,       4250
49UP20160703,         P9,      25,          1,          5,        658,2,20160711,       1453,     24.524,   136.9897,       5414,  4576.9,   1.5752,  34.6831,2,  34.6830,2,    156.8,2,  156.71,2,  140.72,2,    0.00,2,   2.480,2,-999.000,9,-999.000,9,-999.000,9,  -999.0,9,  -999.0,9,-999.0000,9,  -999.00, -999.00,9, -999.00,9,     1513,   35.63,2,   1.5752,2,       4499
49UP20160703,         P9,      25,          1,          4,        471,2,20160711,       1453,     24.524,   136.9897,       5414,  4835.0,   1.6027,  34.6836,2,  34.6836,2,    157.2,2,  157.23,2,  140.70,2,    0.00,2,   2.480,2,-999.000,9,-999.000,9,-999.000,9,  -999.0,9,  -999.0,9,-999.0000,9,  -999.00, -999.00,9, -999.00,9,     1508,   35.58,2,   1.6027,2,       4750
49UP20160703,         P9,      25,          1,          3,        104,2,20160711,       1453,     24.524,   136.9897,       5414,  5092.5,   1.6332,  34.6837,2,  34.6828,2,    157.3,2,  157.64,2,  140.64,2,    0.00,2,   2.470,2,-999.000,9,-999.000,9,-999.000,9,  -999.0,9,  -999.0,9,-999.0000,9,  -999.00, -999.00,9, -999.00,9,     1503,   35.61,2,   1.6330,2,       5000
49UP20160703,         P9,      25,          1,          2,        075,2,20160711,       1453,     24.524,   136.9897,       5414,  5350.1,   1.6663,  34.6837,2,  34.6832,6,    157.3,2,  157.05,2,  140.69,2,    0.00,2,   2.480,2,-999.000,9,-999.000,9,-999.000,9,  -999.0,9,  -999.0,9,-999.0000,9,  -999.00, -999.00,9, -999.00,9,     1458,   35.58,2,   1.6664,2,       5250
49UP20160703,         P9,      25,          1,          1,        997,2,20160711,       1453,     24.524,   136.9897,       5414,  5540.5,   1.6912,  34.6836,2,  34.6838,2,    157.5,2,  157.45,6,  140.62,6,    0.00,6,   2.480,6,-999.000,9,-999.000,9,-999.000,9,  -999.0,9,  -999.0,9,-999.0000,9,  -999.00, -999.00,9, -999.00,9,     1453,   35.55,6,   1.6912,2,       5435