BOTTLE,20230712CCHSIOENA
EXPOCODE,SECT_ID,STNNBR,CASTNO,SAMPNO,BTLNBR,BTLNBR_FLAG_W,DATE,TIME,LATITUDE,LONGITUDE,DEPTH,CTDPRS,CTDTMP,CTDSAL,CTDSAL_FLAG_W,SALNTY,SALNTY_FLAG_W,CTDOXY,CTDOXY_FLAG_W,OXYGEN,OXYGEN_FLAG_W,SILCAT,SILCAT_FLAG_W,NITRIT,NITRIT_FLAG_W,PHSPHT,PHSPHT_FLAG_W,CFC-11,CFC-11_FLAG_W,CFC-12,CFC-12_FLAG_W,CFC113,CFC113_FLAG_W,TCARBN,TCARBN_FLAG_W,ALKALI,ALKALI_FLAG_W,PH_TOT,PH_TOT_FLAG_W,PH_TMP,CHLORA,CHLORA_FLAG_W,PPHYTN,PPHYTN_FLAG_W,BTL_TIME,NO2+NO3,NO2+NO3_FLAG_W,SBE35,SBE35_FLAG_W,CTDDEPTH
,,,,,,,,,,,METERS,DBAR,ITS-90,PSS-78,,PSS-78,,UMOL/KG,,UMOL/KG,,UMOL/KG,,UMOL/KG,,UMOL/KG,,PMOL/KG,,PMOL/KG,,PMOL/KG,,UMOL/KG,,UMOL/KG,,,,DEG C,UG/KG,,UG/KG,,,UMOL/KG,,ITS-90,,METERS
49UP20160703,         P9,      24,          1,          0,        BUC,2,20160711,       0651,    25.0055,   136.9758,       5322,     0.0,  30.4293,  34.8829,2,  34.8865,2,    194.8,2,  194.02,2,    1.18,2,    0.00,2,   0.020,2,-999.000,9,-999.000,9,-999.000,9,  1964.8,2,  2294.0,2,    8.096,2,    25.00,    0.04,2,    0.01,2,      850,    0.01,2,-999.0000,9,          0
49UP20160703,         P9,      24,          1,         36,        109,2,20160711,       0651,    25.0055,   136.9758,       5322,    10.3,  29.5900,  34.8528,2,  34.8505,2,    196.0,2,  195.74,2,    1.13,2,    0.00,2,   0.010,2,   1.509,2,   0.949,2,   0.136,2,  1963.0,2,  2291.7,2,   8.0978,2,    25.00,    0.03,2,    0.01,2,      919,    0.00,2,  29.6142,2,         10
49UP20160703,         P9,      24,          1,         35,        112,2,20160711,       0651,    25.0055,   136.9758,       5322,    49.9,  25.1997,  34.9308,2,  34.9335,2,    221.6,2,  220.73,2,    1.22,2,    0.00,2,   0.010,2,   1.870,2,   1.146,2,   0.159,2,  1971.8,2,  2296.3,2,   8.0822,2,    25.00,    0.05,2,    0.02,2,      914,    0.00,2,  25.1904,2,         50
49UP20160703,         P9,      24,          1,         34,        094,2,20160711,       0651,    25.0055,   136.9758,       5322,    76.1,  22.9698,  34.9741,2,  34.9742,2,    221.8,2,  220.64,2,    1.40,2,    0.00,2,   0.010,2,   1.979,2,   1.220,2,   0.144,2,  1987.7,2,  2299.0,2,   8.0659,2,    25.00,    0.12,2,    0.06,2,      913,    0.01,2,  22.9896,2,         76
49UP20160703,         P9,      24,          1,         33,        469,2,20160711,       0651,    25.0055,   136.9758,       5322,   100.2,  20.8463,  34.9062,2,  34.9045,2,    216.7,2,  216.40,2,    1.76,2,    0.00,2,   0.030,2,   2.109,2,   1.326,2,   0.140,2,  2003.6,2,  2295.5,2,   8.0314,2,    25.00,    0.27,2,    0.34,2,      912,    0.02,2,  20.8545,2,        100
49UP20160703,         P9,      24,          1,         32,        089,2,20160711,       0651,    25.0055,   136.9758,       5322,   125.9,  19.7476,  34.8791,2,  34.8792,2,    207.9,2,  208.13,2,    2.20,2,    0.07,2,   0.110,2,   2.180,2,   1.372,2,   0.110,2,  2018.0,2,  2293.8,2,   8.0064,2,    25.00,    0.15,2,    0.29,2,      911,    1.50,2,  19.7552,2,        125
49UP20160703,         P9,      24,          1,         31,        515,2,20160711,       0651,    25.0055,   136.9758,       5322,   152.8,  18.8608,  34.8353,2,  34.8355,2,    201.4,2,  201.12,2,    2.90,2,    0.01,2,   0.220,2,   3.717,4,   5.343,4,   0.633,4,  2027.6,6,  2288.9,6,   7.9783,2,    25.00,    0.04,2,    0.09,2,      909,    3.21,2,  18.8638,2,        152
49UP20160703,         P9,      24,          1,         30,        097,2,20160711,       0651,    25.0055,   136.9758,       5322,   201.5,  17.6867,  34.7647,2,  34.7647,2,    200.8,2,  200.57,2,    3.69,2,    0.00,2,   0.290,2,-999.000,5,-999.000,5,-999.000,5,  2040.7,2,  2286.3,2,   7.9503,2,    25.00,    0.00,2,    0.02,2,      907,    4.41,2,  17.6871,2,        200
49UP20160703,         P9,      24,          1,         29,        102,2,20160711,       0651,    25.0055,   136.9758,       5322,   250.1,  16.9895,  34.7147,2,  34.7133,2,    203.4,2,  203.58,2,    4.55,2,    0.00,2,   0.350,2,   2.438,2,   1.520,2,   0.043,2,  2043.6,2,  2282.7,2,   7.9388,2,    25.00,    0.00,2,    0.01,2,      905,    5.30,2,  16.9876,2,        248
49UP20160703,         P9,      24,          1,         28,        472,2,20160711,       0651,    25.0055,   136.9758,       5322,   282.5,  16.5267,  34.6792,2,  34.6798,2,    202.2,2,  202.10,2,    5.45,2,    0.00,2,   0.400,2,   2.497,2,   1.539,2,   0.034,2,  2048.0,2,  2280.7,2,   7.9248,2,    25.00, -999.00,9, -999.00,9,      904,    6.08,2,  16.5317,2,        280
49UP20160703,         P9,      24,          1,         27,        998,2,20160711,       0651,    25.0055,   136.9758,       5322,   372.8,  14.6782,  34.5269,2,  34.5253,6,    189.6,2,  189.86,2,   10.78,2,    0.00,2,   0.700,2,   2.684,2,   1.604,2,   0.039,2,  2079.4,6,  2276.6,6,   7.8583,2,    25.00, -999.00,9, -999.00,9,      901,   10.23,2,  14.6746,2,        370
49UP20160703,         P9,      24,          1,         26,        084,2,20160711,       0651,    25.0055,   136.9758,       5322,   472.8,  12.0130,  34.3412,2,  34.3415,2,    179.2,2,  179.62,6,   20.26,6,    0.00,6,   1.080,6,   2.837,2,   1.632,2,   0.063,2,  2113.4,2,  2275.1,2,   7.7759,2,    25.00, -999.00,9, -999.00,9,      858,   15.50,6,  12.0118,2,        469
49UP20160703,         P9,      24,          1,         25,        098,2,20160711,       0651,    25.0055,   136.9758,       5322,   574.4,   8.9040,  34.1699,2,  34.1686,2,    154.5,2,  153.94,2,   39.95,2,    0.00,2,   1.670,2,   2.633,2,   1.443,2,   0.092,2,  2174.1,2,  2286.6,2,   7.6488,2,    25.00, -999.00,9, -999.00,9,      855,   23.37,2,   8.9047,2,        570
49UP20160703,         P9,      24,          1,         24,        110,2,20160711,       0651,    25.0055,   136.9758,       5322,   676.2,   6.9399,  34.1200,2,  34.1216,2,    124.4,2,  123.88,2,   58.83,2,    0.00,2,   2.110,2,   2.123,2,   1.109,2,   0.077,2,  2221.7,2,  2298.1,2,   7.5479,2,    25.00, -999.00,9, -999.00,9,      853,   29.35,2,   6.9364,2,        671
49UP20160703,         P9,      24,          1,         23,        679,2,20160711,       0651,    25.0055,   136.9758,       5322,   776.9,   5.4134,  34.1603,2,  34.1623,2,     89.2,2,   88.52,2,   82.37,2,    0.00,2,   2.530,2,   1.419,6,   0.719,6,   0.066,6,  2275.0,2,  2320.7,2,   7.4569,2,    25.00, -999.00,9, -999.00,9,      850,   35.15,2,   5.4195,2,        770
49UP20160703,         P9,      24,          1,         22,        111,2,20160711,       0651,    25.0055,   136.9758,       5322,   878.3,   4.6196,  34.2322,2,  34.2307,2,     69.4,2,   69.39,2,   98.46,2,    0.00,2,   2.730,2,   0.944,2,   0.464,2,   0.043,2,  2304.8,2,  2336.9,2,    7.419,2,    25.00, -999.00,9, -999.00,9,      847,   38.01,2,   4.6209,2,        871
49UP20160703,         P9,      24,          1,         21,        078,2,20160711,       0651,    25.0055,   136.9758,       5322,   978.9,   4.0008,  34.3020,2,  34.3017,2,     57.6,2,   57.18,2,  112.68,2,    0.00,2,   2.860,2,   0.557,2,   0.279,2,   0.025,2,  2327.8,2,  2353.9,2,   7.3964,2,    25.00, -999.00,9, -999.00,9,      844,   39.92,2,   3.9996,2,        970
49UP20160703,         P9,      24,          1,         20,        093,2,20160711,       0651,    25.0055,   136.9758,       5322,  1140.7,   3.3491,  34.3973,2,  34.3978,2,     54.7,2,   54.22,2,  127.78,2,    0.00,2,   2.930,2,   0.245,2,   0.133,2,   0.016,2,  2348.6,2,  2372.0,2,   7.3959,2,    25.00, -999.00,9, -999.00,9,      837,   40.99,2,   3.3490,2,       1130
49UP20160703,         P9,      24,          1,         19,        269,2,20160711,       0651,    25.0055,   136.9758,       5322,  1343.2,   2.7692,  34.4829,2,  34.4823,2,     63.7,2,   63.87,2,  139.32,2,    0.00,2,   2.920,2,   0.095,2,   0.059,2,   0.021,2,  2356.0,2,  2390.9,2,   7.4167,2,    25.00, -999.00,9, -999.00,9,      832,   40.94,2,   2.7697,2,       1330
49UP20160703,         P9,      24,          1,         18,        088,2,20160711,       0651,    25.0055,   136.9758,       5322,  1547.0,   2.4291,  34.5348,2,  34.5348,6,     76.9,2,   76.72,2,  144.20,2,    0.00,2,   2.870,2,   0.038,2,   0.015,2,   0.001,2,  2355.9,2,  2398.9,2,   7.4422,2,    25.00, -999.00,9, -999.00,9,      827,   40.40,2,   2.4291,2,       1531
49UP20160703,         P9,      24,          1,         17,        090,2,20160711,       0651,    25.0055,   136.9758,       5322,  1750.3,   2.1945,  34.5776,2,  34.5771,2,     96.8,2,   97.39,6,  143.51,6,    0.00,6,   2.770,6,   0.015,2,   0.009,2,   0.011,2,  2350.3,2,  2404.7,2,   7.4848,2,    25.00, -999.00,9, -999.00,9,      821,   39.19,6,   2.1944,2,       1732
49UP20160703,         P9,      24,          1,         16,        474,3,20160711,       0651,    25.0055,   136.9758,       5322,  1952.0,   2.0202,  34.6081,2,  34.6073,2,    110.8,2,  111.10,2,  142.66,2,    0.00,2,   2.700,2,   5.377,4,   5.315,4,   2.160,4,  2342.3,2,  2410.7,2,   7.5089,2,    25.00, -999.00,9, -999.00,9,      816,   38.35,2,   2.0203,2,       1930
49UP20160703,         P9,      24,          1,         15,        665,2,20160711,       0651,    25.0055,   136.9758,       5322,  2155.4,   1.9132,  34.6235,2,  34.6233,2,    118.3,2,  118.18,2,  143.05,2,    0.00,2,   2.670,2,   0.012,2,   0.002,2,   0.012,2,  2340.6,2,  2410.6,2,   7.5224,2,    25.00, -999.00,9, -999.00,9,      810,   37.94,2,   1.9132,2,       2131
49UP20160703,         P9,      24,          1,         14,        999,2,20160711,       0651,    25.0055,   136.9758,       5322,  2359.3,   1.8109,  34.6372,2,  34.6369,2,    125.4,2,  125.43,2,  143.20,2,    0.00,2,   2.630,2,   0.001,6,   0.001,6,   0.008,6,  2336.3,2,  2412.6,2,    7.535,6,    25.00, -999.00,9, -999.00,9,      805,   37.56,2,   1.8113,2,       2331
49UP20160703,         P9,      24,          1,         13,        667,4,20160711,       0651,    25.0055,   136.9758,       5322,  2562.7,   1.7479,  34.6461,2,  34.6901,4,    130.4,2,  202.65,4,    5.16,4,    0.00,4,   0.390,4,   2.479,4,   1.543,4,   0.046,4,  2046.2,4,  2280.4,4,   7.9268,4,    25.00, -999.00,9, -999.00,9,      759,    5.84,4,   1.7482,2,       2531
49UP20160703,         P9,      24,          1,         12,        074,2,20160711,       0651,    25.0055,   136.9758,       5322,  2766.4,   1.6794,  34.6546,2,  34.6549,2,    135.6,2,  135.56,2,  143.13,2,    0.00,2,   2.580,2,-999.000,9,-999.000,9,-999.000,9,  2332.7,2,  2414.0,2,   7.5556,2,    25.00, -999.00,9, -999.00,9,      754,   36.98,2,   1.6794,2,       2731
49UP20160703,         P9,      24,          1,         11,        268,2,20160711,       0651,    25.0055,   136.9758,       5322,  2971.3,   1.6453,  34.6600,2,  34.6593,2,    139.1,2,  138.99,2,  142.79,2,    0.00,2,   2.570,2,   0.000,2,   0.000,2,   0.000,2,  2330.4,2,  2416.1,2,   7.5567,2,    25.00, -999.00,9, -999.00,9,      749,   36.73,2,   1.6454,2,       2932
49UP20160703,         P9,      24,          1,         10,        267,2,20160711,       0651,    25.0055,   136.9758,       5322,  3215.4,   1.5893,  34.6673,2,  34.6670,6,    144.2,2,  144.38,2,  142.32,2,    0.00,2,   2.540,2,-999.000,9,-999.000,9,-999.000,9,  2328.8,2,  2412.7,2,   7.5643,2,    25.00, -999.00,9, -999.00,9,      743,   36.39,2,   1.5894,2,       3171
49UP20160703,         P9,      24,          1,          9,        518,2,20160711,       0651,    25.0055,   136.9758,       5322,  3471.4,   1.5556,  34.6736,2,  34.6737,2,    148.5,2,  148.38,6,  142.05,6,    0.00,6,   2.520,6,   0.003,2,   0.003,2,   0.011,2,  2325.7,2,  2416.7,2,   7.5711,2,    25.00, -999.00,9, -999.00,9,      737,   36.20,6,   1.5561,2,       3421
49UP20160703,         P9,      24,          1,          8,        470,2,20160711,       0651,    25.0055,   136.9758,       5322,  3726.8,   1.5369,  34.6779,2,  34.6785,2,    151.9,2,  151.97,2,  141.33,2,    0.00,2,   2.500,2,-999.000,9,-999.000,9,-999.000,9,  2321.1,2,  2415.4,2,   7.5775,2,    25.00, -999.00,9, -999.00,9,      731,   35.91,2,   1.5369,2,       3671
49UP20160703,         P9,      24,          1,          7,        516,2,20160711,       0651,    25.0055,   136.9758,       5322,  3982.6,   1.5352,  34.6808,2,  34.6806,2,    154.4,2,  154.10,2,  141.04,2,    0.00,2,   2.500,2,   0.000,2,   0.000,2,   0.000,2,  2320.6,2,  2414.8,2,   7.5801,2,    25.00, -999.00,9, -999.00,9,      725,   35.81,2,   1.5352,2,       3920
49UP20160703,         P9,      24,          1,          6,        113,2,20160711,       0651,    25.0055,   136.9758,       5322,  4238.1,   1.5493,  34.6821,2,  34.6823,2,    155.6,2,  155.51,2,  140.83,2,    0.00,2,   2.490,2,-999.000,9,-999.000,9,-999.000,9,  2321.9,2,  2414.4,2,   7.5837,2,    25.00, -999.00,9, -999.00,9,      719,   35.71,2,   1.5494,2,       4169
49UP20160703,         P9,      24,          1,          5,        658,2,20160711,       0651,    25.0055,   136.9758,       5322,  4494.5,   1.5705,  34.6829,2,  34.6826,2,    156.3,2,  155.85,2,  140.46,2,    0.00,2,   2.480,2,   0.000,2,   0.000,2,   0.000,2,  2318.2,2,  2414.4,2,   7.5839,6,    25.00, -999.00,9, -999.00,9,      713,   35.67,2,   1.5705,2,       4419
49UP20160703,         P9,      24,          1,          4,        471,2,20160711,       0651,    25.0055,   136.9758,       5322,  4750.7,   1.5973,  34.6833,2,  34.6836,6,    156.8,2,  156.70,2,  140.48,2,    0.00,2,   2.480,2,-999.000,9,-999.000,9,-999.000,9,  2320.5,2,  2413.9,2,   7.5815,2,    25.00, -999.00,9, -999.00,9,      708,   35.64,2,   1.5973,2,       4668
49UP20160703,         P9,      24,          1,          3,        104,2,20160711,       0651,    25.0055,   136.9758,       5322,  5009.8,   1.6272,  34.6834,2,  34.6833,2,    157.0,2,  156.87,6,  140.48,6,    0.00,6,   2.480,6,   0.000,2,   0.000,2,   0.010,2,  2322.2,2,  2415.0,2,   7.5853,2,    25.00, -999.00,9, -999.00,9,      702,   35.67,6,   1.6273,2,       4920
49UP20160703,         P9,      24,          1,          2,        075,2,20160711,       0651,    25.0055,   136.9758,       5322,  5267.3,   1.6598,  34.6835,2,  34.6836,2,    157.0,2,  157.09,2,  140.39,2,    0.00,2,   2.480,2,-999.000,9,-999.000,9,-999.000,9,  2319.4,6,  2413.0,6,   7.5853,2,    25.00, -999.00,9, -999.00,9,      656,   35.63,2,   1.6599,2,       5170
49UP20160703,         P9,      24,          1,          1,        997,2,20160711,       0651,    25.0055,   136.9758,       5322,  5477.8,   1.6873,  34.6836,2,  34.6831,2,    157.1,2,  156.95,2,  140.49,2,    0.00,2,   2.480,2,   0.000,2,   0.000,2,   0.011,2,  2319.7,2,  2414.0,2,   7.5814,2,    25.00, -999.00,9, -999.00,9,      651,   35.66,2,   1.6873,2,       5374