BOTTLE,20230712CCHSIOENA
EXPOCODE,SECT_ID,STNNBR,CASTNO,SAMPNO,BTLNBR,BTLNBR_FLAG_W,DATE,TIME,LATITUDE,LONGITUDE,DEPTH,CTDPRS,CTDTMP,CTDSAL,CTDSAL_FLAG_W,SALNTY,SALNTY_FLAG_W,CTDOXY,CTDOXY_FLAG_W,OXYGEN,OXYGEN_FLAG_W,SILCAT,SILCAT_FLAG_W,NITRIT,NITRIT_FLAG_W,PHSPHT,PHSPHT_FLAG_W,CFC-11,CFC-11_FLAG_W,CFC-12,CFC-12_FLAG_W,CFC113,CFC113_FLAG_W,TCARBN,TCARBN_FLAG_W,ALKALI,ALKALI_FLAG_W,PH_TOT,PH_TOT_FLAG_W,PH_TMP,CHLORA,CHLORA_FLAG_W,PPHYTN,PPHYTN_FLAG_W,BTL_TIME,NO2+NO3,NO2+NO3_FLAG_W,SBE35,SBE35_FLAG_W,CTDDEPTH
,,,,,,,,,,,METERS,DBAR,ITS-90,PSS-78,,PSS-78,,UMOL/KG,,UMOL/KG,,UMOL/KG,,UMOL/KG,,UMOL/KG,,PMOL/KG,,PMOL/KG,,PMOL/KG,,UMOL/KG,,UMOL/KG,,,,DEG C,UG/KG,,UG/KG,,,UMOL/KG,,ITS-90,,METERS
49UP20160703,         P9,      28,          1,          0,        BUC,2,20160712,       1441,    22.9963,   137.3398,       4655,     0.0,  30.7279,  35.0075,2,  35.0128,2,    193.2,2,  192.68,2,    1.07,2,    0.00,2,   0.010,2,-999.000,9,-999.000,9,-999.000,9,  1958.1,2,  2299.8,2,   8.1228,2,    25.00,    0.04,2,    0.02,2,     1618,    0.00,2,-999.0000,9,          0
49UP20160703,         P9,      28,          1,         36,        109,2,20160712,       1441,    22.9963,   137.3398,       4655,    10.1,  30.4616,  34.9935,2,  34.9928,2,    193.6,2,  193.00,2,    1.05,2,    0.00,2,   0.010,2,   1.462,2,   0.923,2,   0.127,2,  1956.1,2,  2299.8,2,   8.1201,6,    25.00,    0.05,2,    0.02,2,     1638,    0.00,2,  30.4658,2,         10
49UP20160703,         P9,      28,          1,         35,        112,2,20160712,       1441,    22.9963,   137.3398,       4655,    25.3,  30.3634,  34.9907,2,  34.9883,2,    193.9,2,  193.46,2,    1.05,2,    0.00,2,   0.010,2,   1.467,6,   0.924,6,   0.132,6,  1958.5,2,  2300.5,2,   8.1184,2,    25.00,    0.05,2,    0.02,2,     1637,    0.00,2,  30.3645,2,         25
49UP20160703,         P9,      28,          1,         34,        094,2,20160712,       1441,    22.9963,   137.3398,       4655,    51.2,  28.3532,  35.1340,2,  35.1426,4,    212.3,2,  211.78,2,    0.98,2,    0.00,2,   0.010,2,   1.706,2,   1.038,2,   0.138,2,  1969.3,2,  2310.0,2,   8.1133,2,    25.00,    0.05,2,    0.02,2,     1633,    0.00,2,  28.2871,2,         51
49UP20160703,         P9,      28,          1,         33,        469,2,20160712,       1441,    22.9963,   137.3398,       4655,    75.9,  25.8544,  35.1144,2,  35.1080,2,    216.9,2,  216.65,2,    1.05,2,    0.00,2,   0.000,2,   1.822,2,   1.109,2,   0.143,2,  1976.3,2,  2307.1,2,   8.0974,2,    25.00,    0.09,2,    0.05,2,     1632,    0.00,2,  25.8602,2,         75
49UP20160703,         P9,      28,          1,         32,        089,2,20160712,       1441,    22.9963,   137.3398,       4655,   100.8,  24.3506,  35.1116,2,  35.1120,2,    208.5,2,  208.72,2,    1.19,2,    0.00,2,   0.010,2,   1.864,2,   1.161,2,   0.140,2,  1993.2,2,  2307.7,2,   8.0729,2,    25.00,    0.16,2,    0.13,2,     1631,    0.00,2,  24.3502,2,        100
49UP20160703,         P9,      28,          1,         31,        515,2,20160712,       1441,    22.9963,   137.3398,       4655,   126.6,  22.8422,  35.1364,2,  35.1329,2,    194.5,2,  194.46,2,    1.51,2,    0.04,2,   0.070,2,   1.979,2,   1.268,2,   0.118,2,  2019.7,2,  2307.9,2,    8.028,2,    25.00,    0.13,2,    0.33,2,     1630,    0.54,2,  22.8312,2,        126
49UP20160703,         P9,      28,          1,         30,        097,2,20160712,       1441,    22.9963,   137.3398,       4655,   151.1,  21.7371,  35.0580,2,  35.0154,4,    198.8,2,  196.90,2,    1.78,2,    0.05,2,   0.090,2,   2.077,2,   1.313,2,   0.111,2,  2029.1,6,  2300.5,6,   8.0091,2,    25.00,    0.07,2,    0.18,2,     1628,    0.88,2,  21.7298,2,        150
49UP20160703,         P9,      28,          1,         29,        102,2,20160712,       1441,    22.9963,   137.3398,       4655,   201.4,  19.5308,  34.8721,2,  34.8690,2,    207.5,2,  207.22,2,    2.28,2,    0.01,2,   0.140,2,   2.210,2,   1.385,2,   0.099,2,  2024.3,2,  2288.9,2,   7.9985,2,    25.00,    0.02,2,    0.06,2,     1627,    1.99,2,  19.5319,2,        200
49UP20160703,         P9,      28,          1,         28,        472,2,20160712,       1441,    22.9963,   137.3398,       4655,   252.1,  18.1432,  34.7897,2,  34.7871,2,    200.9,2,  200.99,2,    3.61,2,    0.00,2,   0.270,2,   2.345,2,   1.462,2,   0.049,2,  2037.1,2,  2283.7,2,   7.9615,2,    25.00, -999.00,9, -999.00,9,     1625,    4.13,2,  18.1436,2,        250
49UP20160703,         P9,      28,          1,         27,        998,2,20160712,       1441,    22.9963,   137.3398,       4655,   302.0,  17.1888,  34.7242,2,  34.7239,2,    200.2,2,  200.29,2,    4.68,2,    0.00,2,   0.350,2,   2.440,2,   1.504,2,   0.046,2,  2046.0,2,  2279.6,2,   7.9413,2,    25.00, -999.00,9, -999.00,9,     1624,    5.43,2,  17.1966,2,        300
49UP20160703,         P9,      28,          1,         26,        084,2,20160712,       1441,    22.9963,   137.3398,       4655,   403.6,  15.3740,  34.5821,2,  34.5833,2,    190.8,2,  191.09,2,    9.04,2,    0.00,2,   0.610,2,   2.579,2,   1.587,2,   0.039,2,  2068.5,2,  2276.7,2,   7.8845,6,    25.00, -999.00,9, -999.00,9,     1621,    8.96,2,  15.3727,2,        401
49UP20160703,         P9,      28,          1,         25,        098,2,20160712,       1441,    22.9963,   137.3398,       4655,   504.1,  12.1933,  34.3509,2,  34.3502,2,    179.1,2,  179.11,2,   19.67,2,    0.00,2,   1.060,2,   2.769,2,   1.621,2,   0.058,2,  2114.6,2,  2273.9,2,   7.7797,2,    25.00, -999.00,9, -999.00,9,     1619,   15.29,2,  12.1795,2,        500
49UP20160703,         P9,      28,          1,         24,        110,2,20160712,       1441,    22.9963,   137.3398,       4655,   605.4,   9.0409,  34.1745,2,  34.1751,2,    154.1,2,  153.09,2,   37.71,2,    0.00,2,   1.640,2,   2.580,2,   1.441,2,   0.075,2,  2172.6,2,  2280.3,2,   7.6535,2,    25.00, -999.00,9, -999.00,9,     1616,   23.08,2,   9.0578,2,        601
49UP20160703,         P9,      28,          1,         23,        679,2,20160712,       1441,    22.9963,   137.3398,       4655,   705.7,   6.4175,  34.1434,2,  34.1452,6,    109.0,2,  108.65,2,   67.17,2,    0.00,2,   2.280,2,   1.790,2,   0.939,2,   0.069,2,  2240.8,2,  2304.8,2,   7.5122,2,    25.00, -999.00,9, -999.00,9,     1614,   31.68,2,   6.4162,2,        700
49UP20160703,         P9,      28,          1,         22,        111,2,20160712,       1441,    22.9963,   137.3398,       4655,   806.3,   5.4908,  34.1757,2,  34.1772,2,     88.5,2,   88.42,6,   81.89,6,    0.00,6,   2.520,6,   1.374,2,   0.703,2,   0.058,2,  2274.7,2,  2317.4,2,   7.4583,2,    25.00, -999.00,9, -999.00,9,     1611,   35.02,6,   5.4883,2,        800
49UP20160703,         P9,      28,          1,         21,        078,2,20160712,       1441,    22.9963,   137.3398,       4655,   908.9,   4.6441,  34.2755,2,  34.2750,2,     62.9,2,   63.58,2,   97.68,2,    0.00,2,   2.780,2,   0.631,2,   0.319,2,   0.020,2,  2313.3,2,  2337.7,2,   7.4142,2,    25.00, -999.00,9, -999.00,9,     1609,   38.74,2,   4.6441,2,        901
49UP20160703,         P9,      28,          1,         20,        093,3,20160712,       1441,    22.9963,   137.3398,       4655,  1009.8,   4.0442,  34.3318,2,  34.3327,2,     57.1,2,   56.92,2,  111.25,2,    0.00,2,   2.870,2,   0.403,2,   0.211,2,   0.024,2,  2329.6,6,  2352.4,6,   7.4042,2,    25.00, -999.00,9, -999.00,9,     1607,   40.05,2,   4.0443,2,       1001
49UP20160703,         P9,      28,          1,         19,        269,2,20160712,       1441,    22.9963,   137.3398,       4655,  1212.4,   3.2251,  34.4417,2,  34.4418,2,     60.7,2,   62.61,3,  128.84,2,    0.00,2,   2.910,2,   0.139,6,   0.076,6,   0.008,6,  2349.0,2,  2376.7,2,   7.4138,2,    25.00, -999.00,9, -999.00,9,     1559,   40.77,2,   3.2249,2,       1201
49UP20160703,         P9,      28,          1,         18,        088,2,20160712,       1441,    22.9963,   137.3398,       4655,  1413.8,   2.7857,  34.5151,2,  34.5154,2,     77.0,2,   77.22,2,  135.74,2,    0.00,2,   2.840,2,   0.059,2,   0.042,2,   0.004,2,  2348.8,2,  2390.4,2,   7.4513,2,    25.00, -999.00,9, -999.00,9,     1554,   40.04,2,   2.7865,2,       1400
49UP20160703,         P9,      28,          1,         17,        090,2,20160712,       1441,    22.9963,   137.3398,       4655,  1615.9,   2.4602,  34.5589,2,  34.5585,2,     91.7,2,   92.02,2,  139.30,2,    0.00,2,   2.780,2,   0.022,2,   0.012,2,   0.000,2,  2346.5,2,  2395.2,2,   7.4748,2,    25.00, -999.00,9, -999.00,9,     1550,   39.29,2,   2.4603,2,       1600
49UP20160703,         P9,      28,          1,         16,        474,2,20160712,       1441,    22.9963,   137.3398,       4655,  1819.3,   2.2086,  34.5919,2,  34.5916,2,    104.3,2,  104.48,2,  140.88,2,    0.00,2,   2.730,2,   0.007,2,   0.006,2,   0.000,2,  2342.1,2,  2404.4,2,   7.4984,2,    25.00, -999.00,9, -999.00,9,     1545,   38.63,2,   2.2090,2,       1800
49UP20160703,         P9,      28,          1,         15,        665,2,20160712,       1441,    22.9963,   137.3398,       4655,  2021.8,   2.0256,  34.6154,2,  34.6152,6,    114.5,2,  114.25,2,  141.75,2,    0.00,2,   2.680,2,   0.000,2,   0.004,2,   0.003,2,  2340.8,2,  2405.6,2,   7.5173,2,    25.00, -999.00,9, -999.00,9,     1540,   38.13,2,   2.0256,2,       1999
49UP20160703,         P9,      28,          1,         14,        999,2,20160712,       1441,    22.9963,   137.3398,       4655,  2226.3,   1.9047,  34.6283,2,  34.6280,2,    120.7,2,  120.58,6,  142.63,6,    0.00,6,   2.650,6,-999.000,9,-999.000,9,-999.000,9,  2338.7,2,  2408.2,2,   7.5287,2,    25.00, -999.00,9, -999.00,9,     1536,   37.81,6,   1.9046,2,       2201
49UP20160703,         P9,      28,          1,         13,        667,4,20160712,       1441,    22.9963,   137.3398,       4655,  2430.1,   1.8035,  34.6408,2,  34.6311,4,    127.0,2,  123.80,4,  141.49,4,    0.00,4,   2.630,4,   0.000,4,   0.002,4,   0.006,4,  2336.5,4,  2407.1,4,   7.5349,4,    25.00, -999.00,9, -999.00,9,     1531,   37.53,4,   1.8035,2,       2401
49UP20160703,         P9,      28,          1,         12,        074,2,20160712,       1441,    22.9963,   137.3398,       4655,  2632.4,   1.7339,  34.6499,2,  34.6489,2,    132.0,2,  132.16,2,  143.14,2,    0.00,2,   2.600,2,-999.000,9,-999.000,9,-999.000,9,  2335.4,2,  2409.4,2,    7.548,6,    25.00, -999.00,9, -999.00,9,     1527,   37.23,2,   1.7339,2,       2600
49UP20160703,         P9,      28,          1,         11,        268,2,20160712,       1441,    22.9963,   137.3398,       4655,  2837.4,   1.6905,  34.6558,2,  34.6552,2,    135.7,2,  135.16,2,  143.09,2,    0.00,2,   2.590,2,-999.000,9,-999.000,9,-999.000,9,  2332.9,2,  2412.1,2,   7.5544,2,    25.00, -999.00,9, -999.00,9,     1523,   37.00,2,   1.6907,2,       2801
49UP20160703,         P9,      28,          1,         10,        267,2,20160712,       1441,    22.9963,   137.3398,       4655,  2837.6,   1.6905,  34.6558,2,  34.6557,2,    135.7,2,  135.69,2,  143.06,2,    0.00,2,   2.580,2,-999.000,9,-999.000,9,-999.000,9,  2332.5,2,  2412.1,2,   7.5525,2,    25.00, -999.00,9, -999.00,9,     1522,   37.01,2,   1.6906,2,       2801
49UP20160703,         P9,      28,          1,          9,        518,2,20160712,       1441,    22.9963,   137.3398,       4655,  3040.6,   1.6491,  34.6617,2,  34.6618,6,    139.4,2,  139.44,2,  142.86,2,    0.00,2,   2.560,2,   0.000,2,   0.001,2,   0.000,2,  2330.0,2,  2411.3,2,   7.5575,2,    25.00, -999.00,9, -999.00,9,     1518,   36.76,2,   1.6490,2,       3000
49UP20160703,         P9,      28,          1,          8,        470,2,20160712,       1441,    22.9963,   137.3398,       4655,  3298.3,   1.5987,  34.6685,2,  34.6689,2,    144.5,2,  144.90,6,  142.21,6,    0.00,6,   2.540,6,-999.000,9,-999.000,9,-999.000,9,  2329.7,2,  2409.1,2,   7.5701,2,    25.00, -999.00,9, -999.00,9,     1513,   36.41,6,   1.5988,2,       3252
49UP20160703,         P9,      28,          1,          7,        516,2,20160712,       1441,    22.9963,   137.3398,       4655,  3553.1,   1.5658,  34.6739,2,  34.6736,2,    148.6,2,  148.64,2,  141.87,2,    0.00,2,   2.520,2,   0.003,2,   0.002,2,   0.009,2,  2325.8,6,  2412.4,6,   7.5713,2,    25.00, -999.00,9, -999.00,9,     1508,   36.22,2,   1.5659,2,       3501
49UP20160703,         P9,      28,          1,          6,        113,2,20160712,       1441,    22.9963,   137.3398,       4655,  3808.7,   1.5362,  34.6788,2,  34.6793,2,    152.9,2,  153.09,2,  141.01,2,    0.00,2,   2.490,2,-999.000,9,-999.000,9,-999.000,9,  2324.1,2,  2411.4,2,   7.5795,2,    25.00, -999.00,9, -999.00,9,     1502,   35.90,2,   1.5363,2,       3751
49UP20160703,         P9,      28,          1,          5,        658,2,20160712,       1441,    22.9963,   137.3398,       4655,  4064.0,   1.5351,  34.6814,2,  34.6812,2,    155.3,2,  155.08,2,  140.53,2,    0.00,2,   2.480,2,   0.000,2,   0.000,2,   0.004,2,  2322.2,2,  2411.8,2,    7.582,2,    25.00, -999.00,9, -999.00,9,     1457,   35.78,2,   1.5351,2,       4000
49UP20160703,         P9,      28,          1,          4,        471,2,20160712,       1441,    22.9963,   137.3398,       4655,  4320.1,   1.5570,  34.6821,2,  34.6820,2,    155.8,2,  155.83,2,  140.54,2,    0.00,2,   2.480,2,-999.000,9,-999.000,9,-999.000,9,  2320.9,2,  2410.5,2,   7.5838,2,    25.00, -999.00,9, -999.00,9,     1452,   35.73,2,   1.5571,2,       4250
49UP20160703,         P9,      28,          1,          3,        104,2,20160712,       1441,    22.9963,   137.3398,       4655,  4577.1,   1.5834,  34.6824,2,  34.6824,6,    156.2,2,  156.13,6,  140.41,6,    0.00,6,   2.480,6,   0.000,2,   0.001,2,   0.000,2,  2319.9,2,  2412.1,2,   7.5841,2,    25.00, -999.00,9, -999.00,9,     1446,   35.70,6,   1.5836,2,       4500
49UP20160703,         P9,      28,          1,          2,        075,2,20160712,       1441,    22.9963,   137.3398,       4655,  4802.6,   1.6013,  34.6831,2,  34.6834,2,    157.0,2,  156.86,2,  140.24,2,    0.00,2,   2.470,2,-999.000,9,-999.000,9,-999.000,9,  2320.1,2,  2406.7,2,   7.5858,2,    25.00, -999.00,9, -999.00,9,     1441,   35.62,2,   1.6013,2,       4719
49UP20160703,         P9,      28,          1,          1,        997,2,20160712,       1441,    22.9963,   137.3398,       4655,  4802.7,   1.6013,  34.6831,2,  34.6824,2,    157.0,2,  156.75,2,  140.19,2,    0.00,2,   2.470,2,   0.000,2,   0.002,2,   0.000,2,  2321.5,2,  2407.0,2,   7.5869,2,    25.00, -999.00,9, -999.00,9,     1441,   35.64,2,   1.6014,2,       4719