BOTTLE,20230712CCHSIOENA
EXPOCODE,SECT_ID,STNNBR,CASTNO,SAMPNO,BTLNBR,BTLNBR_FLAG_W,DATE,TIME,LATITUDE,LONGITUDE,DEPTH,CTDPRS,CTDTMP,CTDSAL,CTDSAL_FLAG_W,SALNTY,SALNTY_FLAG_W,CTDOXY,CTDOXY_FLAG_W,OXYGEN,OXYGEN_FLAG_W,SILCAT,SILCAT_FLAG_W,NITRIT,NITRIT_FLAG_W,PHSPHT,PHSPHT_FLAG_W,CFC-11,CFC-11_FLAG_W,CFC-12,CFC-12_FLAG_W,CFC113,CFC113_FLAG_W,TCARBN,TCARBN_FLAG_W,ALKALI,ALKALI_FLAG_W,PH_TOT,PH_TOT_FLAG_W,PH_TMP,CHLORA,CHLORA_FLAG_W,PPHYTN,PPHYTN_FLAG_W,BTL_TIME,NO2+NO3,NO2+NO3_FLAG_W,SBE35,SBE35_FLAG_W,CTDDEPTH
,,,,,,,,,,,METERS,DBAR,ITS-90,PSS-78,,PSS-78,,UMOL/KG,,UMOL/KG,,UMOL/KG,,UMOL/KG,,UMOL/KG,,PMOL/KG,,PMOL/KG,,PMOL/KG,,UMOL/KG,,UMOL/KG,,,,DEG C,UG/KG,,UG/KG,,,UMOL/KG,,ITS-90,,METERS
49UP20160703,         P9,      27,          1,          0,        BUC,2,20160712,       0744,    23.5027,   137.0057,       4532,     0.0,  30.3197,  34.7405,2,-999.0000,9,    194.9,2,  195.08,2,    1.19,2,    0.00,2,   0.010,2,-999.000,9,-999.000,9,-999.000,9,  -999.0,9,  -999.0,9,-999.0000,9,  -999.00, -999.00,9, -999.00,9,      925,    0.00,2,-999.0000,9,          0
49UP20160703,         P9,      27,          1,         36,        109,2,20160712,       0744,    23.5027,   137.0057,       4532,    10.4,  29.5776,  34.7169,2,  34.7156,2,    196.6,2,  196.28,2,    1.22,2,    0.00,2,   0.010,2,-999.000,9,-999.000,9,-999.000,9,  -999.0,9,  -999.0,9,-999.0000,9,  -999.00, -999.00,9, -999.00,9,      947,    0.02,2,  29.6073,2,         10
49UP20160703,         P9,      27,          1,         35,        112,2,20160712,       0744,    23.5027,   137.0057,       4532,    25.5,  29.4255,  34.7070,2,  34.7071,2,    196.6,2,  197.11,2,    1.19,2,    0.00,2,   0.010,2,-999.000,9,-999.000,9,-999.000,9,  -999.0,9,  -999.0,9,-999.0000,9,  -999.00, -999.00,9, -999.00,9,      946,    0.01,2,  29.4136,2,         25
49UP20160703,         P9,      27,          1,         34,        094,2,20160712,       0744,    23.5027,   137.0057,       4532,    49.6,  25.9062,  34.9382,2,  34.9480,4,    218.3,2,  218.60,2,    1.23,2,    0.00,2,   0.010,2,-999.000,9,-999.000,9,-999.000,9,  -999.0,9,  -999.0,9,-999.0000,9,  -999.00, -999.00,9, -999.00,9,      942,    0.00,2,  25.9108,2,         49
49UP20160703,         P9,      27,          1,         33,        469,2,20160712,       0744,    23.5027,   137.0057,       4532,    76.3,  23.7078,  34.9577,2,  34.9570,2,    224.1,2,  223.26,2,    1.24,2,    0.00,2,   0.010,2,-999.000,9,-999.000,9,-999.000,9,  -999.0,9,  -999.0,9,-999.0000,9,  -999.00, -999.00,9, -999.00,9,      941,    0.00,2,  23.7148,2,         76
49UP20160703,         P9,      27,          1,         32,        089,2,20160712,       0744,    23.5027,   137.0057,       4532,   101.0,  22.2045,  34.9365,2,  34.9370,2,    219.4,2,  218.81,2,    1.43,2,    0.00,2,   0.010,2,-999.000,9,-999.000,9,-999.000,9,  -999.0,9,  -999.0,9,-999.0000,9,  -999.00, -999.00,9, -999.00,9,      939,    0.00,2,  22.1990,2,        100
49UP20160703,         P9,      27,          1,         31,        515,2,20160712,       0744,    23.5027,   137.0057,       4532,   125.9,  21.2271,  34.9250,2,  34.9250,2,    211.4,2,  211.00,2,    1.61,2,    0.06,2,   0.040,2,-999.000,9,-999.000,9,-999.000,9,  -999.0,9,  -999.0,9,-999.0000,9,  -999.00, -999.00,9, -999.00,9,      938,    0.23,2,  21.2266,2,        125
49UP20160703,         P9,      27,          1,         30,        097,2,20160712,       0744,    23.5027,   137.0057,       4532,   150.7,  20.0509,  34.8962,2,  34.8943,2,    204.7,2,  205.77,2,    2.09,2,    0.02,2,   0.120,2,-999.000,9,-999.000,9,-999.000,9,  -999.0,9,  -999.0,9,-999.0000,9,  -999.00, -999.00,9, -999.00,9,      936,    1.54,2,  20.0498,2,        150
49UP20160703,         P9,      27,          1,         29,        102,2,20160712,       0744,    23.5027,   137.0057,       4532,   200.1,  19.0199,  34.8536,2,  34.8513,2,    204.9,2,  204.04,2,    2.60,2,    0.01,2,   0.190,2,-999.000,9,-999.000,9,-999.000,9,  -999.0,9,  -999.0,9,-999.0000,9,  -999.00, -999.00,9, -999.00,9,      935,    2.74,2,  19.0205,2,        199
49UP20160703,         P9,      27,          1,         28,        472,2,20160712,       0744,    23.5027,   137.0057,       4532,   251.6,  17.7450,  34.7624,2,  34.7620,2,    199.4,2,  199.17,2,    3.92,2,    0.00,2,   0.310,2,-999.000,9,-999.000,9,-999.000,9,  -999.0,9,  -999.0,9,-999.0000,9,  -999.00, -999.00,9, -999.00,9,      933,    4.66,2,  17.7438,2,        250
49UP20160703,         P9,      27,          1,         27,        998,2,20160712,       0744,    23.5027,   137.0057,       4532,   284.7,  17.1526,  34.7223,2,  34.7247,2,    200.3,2,  200.12,2,    4.64,2,    0.00,2,   0.360,2,-999.000,9,-999.000,9,-999.000,9,  -999.0,9,  -999.0,9,-999.0000,9,  -999.00, -999.00,9, -999.00,9,      931,    5.44,2,  17.1526,2,        283
49UP20160703,         P9,      27,          1,         26,        084,2,20160712,       0744,    23.5027,   137.0057,       4532,   373.4,  15.4701,  34.5863,2,  34.5870,2,    190.3,2,  190.34,2,    8.46,2,    0.00,2,   0.590,2,-999.000,9,-999.000,9,-999.000,9,  -999.0,9,  -999.0,9,-999.0000,9,  -999.00, -999.00,9, -999.00,9,      929,    8.80,2,  15.4697,2,        371
49UP20160703,         P9,      27,          1,         25,        098,2,20160712,       0744,    23.5027,   137.0057,       4532,   474.0,  12.4536,  34.3748,2,  34.3735,6,    177.7,2,  177.57,2,   19.26,2,    0.00,2,   1.040,2,-999.000,9,-999.000,9,-999.000,9,  -999.0,9,  -999.0,9,-999.0000,9,  -999.00, -999.00,9, -999.00,9,      926,   15.06,2,  12.4550,2,        470
49UP20160703,         P9,      27,          1,         24,        110,2,20160712,       0744,    23.5027,   137.0057,       4532,   574.8,   9.4937,  34.1953,2,  34.1969,2,    159.9,2,  160.09,6,   34.37,6,    0.00,6,   1.530,6,-999.000,9,-999.000,9,-999.000,9,  -999.0,9,  -999.0,9,-999.0000,9,  -999.00, -999.00,9, -999.00,9,      923,   21.63,6,   9.4915,2,        570
49UP20160703,         P9,      27,          1,         23,        679,2,20160712,       0744,    23.5027,   137.0057,       4532,   678.1,   6.6708,  34.1208,2,  34.1208,2,    116.4,2,  116.60,2,   61.36,2,    0.00,2,   2.190,2,-999.000,9,-999.000,9,-999.000,9,  -999.0,9,  -999.0,9,-999.0000,9,  -999.00, -999.00,9, -999.00,9,      920,   30.52,2,   6.6729,2,        673
49UP20160703,         P9,      27,          1,         22,        111,2,20160712,       0744,    23.5027,   137.0057,       4532,   777.2,   5.5250,  34.1696,2,  34.1705,2,     85.1,2,   85.25,2,   79.91,2,    0.00,2,   2.540,2,-999.000,9,-999.000,9,-999.000,9,  -999.0,9,  -999.0,9,-999.0000,9,  -999.00, -999.00,9, -999.00,9,      918,   35.37,2,   5.5248,2,        771
49UP20160703,         P9,      27,          1,         21,        078,2,20160712,       0744,    23.5027,   137.0057,       4532,   878.0,   4.5978,  34.2726,2,  34.2721,2,     62.7,2,   62.54,2,   98.64,2,    0.00,2,   2.780,2,-999.000,9,-999.000,9,-999.000,9,  -999.0,9,  -999.0,9,-999.0000,9,  -999.00, -999.00,9, -999.00,9,      915,   38.81,2,   4.5981,2,        871
49UP20160703,         P9,      27,          1,         20,        093,2,20160712,       0744,    23.5027,   137.0057,       4532,   979.1,   4.1627,  34.3373,2,  34.3373,2,     58.0,2,   57.43,2,  108.28,2,    0.00,2,   2.860,2,-999.000,9,-999.000,9,-999.000,9,  -999.0,9,  -999.0,9,-999.0000,9,  -999.00, -999.00,9, -999.00,9,      912,   39.89,2,   4.1630,2,        971
49UP20160703,         P9,      27,          1,         19,        269,2,20160712,       0744,    23.5027,   137.0057,       4532,  1140.7,   3.3285,  34.4205,2,  34.4206,2,     57.4,2,   57.24,2,  127.10,2,    0.00,2,   2.920,2,-999.000,9,-999.000,9,-999.000,9,  -999.0,9,  -999.0,9,-999.0000,9,  -999.00, -999.00,9, -999.00,9,      907,   40.87,2,   3.3285,2,       1130
49UP20160703,         P9,      27,          1,         18,        088,2,20160712,       0744,    23.5027,   137.0057,       4532,  1342.9,   2.8589,  34.5008,2,  34.5009,2,     72.5,2,   72.17,2,  135.17,2,    0.00,2,   2.870,2,-999.000,9,-999.000,9,-999.000,9,  -999.0,9,  -999.0,9,-999.0000,9,  -999.00, -999.00,9, -999.00,9,      903,   40.36,2,   2.8589,2,       1330
49UP20160703,         P9,      27,          1,         17,        090,2,20160712,       0744,    23.5027,   137.0057,       4532,  1545.1,   2.5508,  34.5492,2,  34.5486,2,     88.3,2,   88.00,2,  138.51,2,    0.00,2,   2.800,2,-999.000,9,-999.000,9,-999.000,9,  -999.0,9,  -999.0,9,-999.0000,9,  -999.00, -999.00,9, -999.00,9,      858,   39.45,2,   2.5507,2,       1530
49UP20160703,         P9,      27,          1,         16,        474,2,20160712,       0744,    23.5027,   137.0057,       4532,  1748.2,   2.2893,  34.5804,2,  34.5798,2,    100.0,2,   99.74,2,  140.65,2,    0.00,2,   2.750,2,-999.000,9,-999.000,9,-999.000,9,  -999.0,9,  -999.0,9,-999.0000,9,  -999.00, -999.00,9, -999.00,9,      853,   38.90,2,   2.2892,2,       1730
49UP20160703,         P9,      27,          1,         15,        665,2,20160712,       0744,    23.5027,   137.0057,       4532,  1951.4,   2.0483,  34.6098,2,  34.6098,2,    112.3,2,  112.01,2,  142.06,2,    0.00,2,   2.690,2,-999.000,9,-999.000,9,-999.000,9,  -999.0,9,  -999.0,9,-999.0000,9,  -999.00, -999.00,9, -999.00,9,      848,   38.30,2,   2.0485,2,       1930
49UP20160703,         P9,      27,          1,         14,        999,2,20160712,       0744,    23.5027,   137.0057,       4532,  2154.7,   1.9175,  34.6257,2,  34.6257,6,    119.9,2,  119.38,2,  142.38,2,    0.00,2,   2.660,2,-999.000,9,-999.000,9,-999.000,9,  -999.0,9,  -999.0,9,-999.0000,9,  -999.00, -999.00,9, -999.00,9,      843,   37.86,2,   1.9175,2,       2130
49UP20160703,         P9,      27,          1,         13,        667,2,20160712,       0744,    23.5027,   137.0057,       4532,  2358.5,   1.8268,  34.6385,2,  34.6376,2,    125.8,2,  125.35,6,  142.97,6,    0.00,6,   2.630,6,-999.000,9,-999.000,9,-999.000,9,  -999.0,9,  -999.0,9,-999.0000,9,  -999.00, -999.00,9, -999.00,9,      838,   37.51,6,   1.8267,2,       2330
49UP20160703,         P9,      27,          1,         12,        074,2,20160712,       0744,    23.5027,   137.0057,       4532,  2561.9,   1.7568,  34.6470,2,  34.6470,2,    130.3,2,  130.02,2,  143.42,2,    0.00,2,   2.610,2,-999.000,9,-999.000,9,-999.000,9,  -999.0,9,  -999.0,9,-999.0000,9,  -999.00, -999.00,9, -999.00,9,      833,   37.28,2,   1.7570,2,       2530
49UP20160703,         P9,      27,          1,         11,        268,2,20160712,       0744,    23.5027,   137.0057,       4532,  2766.2,   1.7111,  34.6538,2,  34.6534,2,    134.0,2,  133.82,2,  143.36,2,    0.00,2,   2.590,2,-999.000,9,-999.000,9,-999.000,9,  -999.0,9,  -999.0,9,-999.0000,9,  -999.00, -999.00,9, -999.00,9,      828,   37.07,2,   1.7112,2,       2731
49UP20160703,         P9,      27,          1,          9,        518,2,20160712,       0744,    23.5027,   137.0057,       4532,  2969.2,   1.6573,  34.6611,2,  34.6610,2,    138.4,2,  138.02,2,  143.27,2,    0.00,2,   2.570,2,-999.000,9,-999.000,9,-999.000,9,  -999.0,9,  -999.0,9,-999.0000,9,  -999.00, -999.00,9, -999.00,9,      823,   36.76,2,   1.6574,2,       2930
49UP20160703,         P9,      27,          1,         10,        267,2,20160712,       0744,    23.5027,   137.0057,       4532,  2969.5,   1.6574,  34.6612,2,  34.6608,2,    138.4,2,  138.40,2,  143.35,2,    0.00,2,   2.570,2,-999.000,9,-999.000,9,-999.000,9,  -999.0,9,  -999.0,9,-999.0000,9,  -999.00, -999.00,9, -999.00,9,      823,   36.79,2,   1.6575,2,       2930
49UP20160703,         P9,      27,          1,          8,        470,2,20160712,       0744,    23.5027,   137.0057,       4532,  3214.9,   1.5940,  34.6685,2,  34.6686,6,    144.1,2,  144.10,2,  142.77,2,    0.00,2,   2.540,2,-999.000,9,-999.000,9,-999.000,9,  -999.0,9,  -999.0,9,-999.0000,9,  -999.00, -999.00,9, -999.00,9,      817,   36.41,2,   1.5940,2,       3170
49UP20160703,         P9,      27,          1,          7,        516,2,20160712,       0744,    23.5027,   137.0057,       4532,  3470.2,   1.5826,  34.6714,2,  34.6698,4,    146.9,2,  146.08,6,  142.01,6,    0.00,6,   2.530,6,-999.000,9,-999.000,9,-999.000,9,  -999.0,9,  -999.0,9,-999.0000,9,  -999.00, -999.00,9, -999.00,9,      812,   36.25,6,   1.5828,2,       3420
49UP20160703,         P9,      27,          1,          6,        113,2,20160712,       0744,    23.5027,   137.0057,       4532,  3726.4,   1.5412,  34.6775,2,  34.6774,2,    151.9,2,  151.70,2,  141.55,2,    0.00,2,   2.510,2,-999.000,9,-999.000,9,-999.000,9,  -999.0,9,  -999.0,9,-999.0000,9,  -999.00, -999.00,9, -999.00,9,      806,   35.97,2,   1.5412,2,       3671
49UP20160703,         P9,      27,          1,          5,        658,2,20160712,       0744,    23.5027,   137.0057,       4532,  3981.6,   1.5313,  34.6810,2,  34.6804,2,    154.8,2,  154.67,2,  140.89,2,    0.00,2,   2.490,2,-999.000,9,-999.000,9,-999.000,9,  -999.0,9,  -999.0,9,-999.0000,9,  -999.00, -999.00,9, -999.00,9,      800,   35.79,2,   1.5314,2,       3920
49UP20160703,         P9,      27,          1,          4,        471,2,20160712,       0744,    23.5027,   137.0057,       4532,  4239.0,   1.5559,  34.6814,2,  34.6814,6,    155.1,2,  155.03,2,  140.94,2,    0.00,2,   2.490,2,-999.000,9,-999.000,9,-999.000,9,  -999.0,9,  -999.0,9,-999.0000,9,  -999.00, -999.00,9, -999.00,9,      754,   35.76,2,   1.5559,2,       4171
49UP20160703,         P9,      27,          1,          3,        104,2,20160712,       0744,    23.5027,   137.0057,       4532,  4496.1,   1.5728,  34.6824,2,  34.6820,2,    156.3,2,  155.96,6,  140.70,6,    0.00,6,   2.490,6,-999.000,9,-999.000,9,-999.000,9,  -999.0,9,  -999.0,9,-999.0000,9,  -999.00, -999.00,9, -999.00,9,      749,   35.73,6,   1.5728,2,       4421
49UP20160703,         P9,      27,          1,          2,        075,2,20160712,       0744,    23.5027,   137.0057,       4532,  4663.8,   1.5898,  34.6827,2,  34.6823,2,    156.6,2,  156.54,2,  140.55,2,    0.00,2,   2.480,2,-999.000,9,-999.000,9,-999.000,9,  -999.0,9,  -999.0,9,-999.0000,9,  -999.00, -999.00,9, -999.00,9,      745,   35.67,2,   1.5897,2,       4584
49UP20160703,         P9,      27,          1,          1,        997,2,20160712,       0744,    23.5027,   137.0057,       4532,  4663.8,   1.5897,  34.6827,2,-999.0000,5,    156.6,2,  156.43,2,  140.56,2,    0.00,2,   2.480,2,-999.000,9,-999.000,9,-999.000,9,  -999.0,9,  -999.0,9,-999.0000,9,  -999.00, -999.00,9, -999.00,9,      744,   35.67,2,   1.5899,2,       4584