BOTTLE,20230712CCHSIOENA
EXPOCODE,SECT_ID,STNNBR,CASTNO,SAMPNO,BTLNBR,BTLNBR_FLAG_W,DATE,TIME,LATITUDE,LONGITUDE,DEPTH,CTDPRS,CTDTMP,CTDSAL,CTDSAL_FLAG_W,SALNTY,SALNTY_FLAG_W,CTDOXY,CTDOXY_FLAG_W,OXYGEN,OXYGEN_FLAG_W,SILCAT,SILCAT_FLAG_W,NITRIT,NITRIT_FLAG_W,PHSPHT,PHSPHT_FLAG_W,CFC-11,CFC-11_FLAG_W,CFC-12,CFC-12_FLAG_W,CFC113,CFC113_FLAG_W,TCARBN,TCARBN_FLAG_W,ALKALI,ALKALI_FLAG_W,PH_TOT,PH_TOT_FLAG_W,PH_TMP,CHLORA,CHLORA_FLAG_W,PPHYTN,PPHYTN_FLAG_W,BTL_TIME,NO2+NO3,NO2+NO3_FLAG_W,SBE35,SBE35_FLAG_W,CTDDEPTH
,,,,,,,,,,,METERS,DBAR,ITS-90,PSS-78,,PSS-78,,UMOL/KG,,UMOL/KG,,UMOL/KG,,UMOL/KG,,UMOL/KG,,PMOL/KG,,PMOL/KG,,PMOL/KG,,UMOL/KG,,UMOL/KG,,,,DEG C,UG/KG,,UG/KG,,,UMOL/KG,,ITS-90,,METERS
49UP20160703,         P9,      36,          1,          0,        BUC,2,20160715,       0007,    18.9978,   136.9885,       4696,     0.0,  30.1728,  34.7644,2,  34.7685,2,    194.5,2,  194.55,2,    1.15,2,    0.00,2,   0.040,2,-999.000,9,-999.000,9,-999.000,9,  1952.0,2,  2284.4,2,   8.1057,2,    25.00,    0.05,2,    0.02,2,      149,    0.03,2,-999.0000,9,          0
49UP20160703,         P9,      36,          1,         36,        109,2,20160715,       0007,    18.9978,   136.9885,       4696,     9.9,  30.1033,  34.7609,2,  34.7603,6,    194.5,2,  194.71,2,    1.22,2,    0.00,2,   0.040,2,   1.492,2,   0.949,2,   0.118,2,  1950.6,2,  2284.7,2,   8.1097,2,    25.00,    0.04,2,    0.02,2,      217,    0.04,2,  30.0990,2,         10
49UP20160703,         P9,      36,          1,         35,        112,2,20160715,       0007,    18.9978,   136.9885,       4696,    50.4,  29.3065,  34.7821,2,  34.7818,2,    200.5,2,  200.96,6,    1.16,6,    0.00,6,   0.040,6,   1.567,6,   0.980,6,   0.137,6,  1954.1,2,  2285.6,2,   8.1128,2,    25.00,    0.07,2,    0.03,2,      213,    0.00,6,  29.3066,2,         50
49UP20160703,         P9,      36,          1,         34,        094,2,20160715,       0007,    18.9978,   136.9885,       4696,    75.0,  27.6524,  34.8571,2,  34.8622,2,    209.4,2,  209.12,2,    1.07,2,    0.00,2,   0.050,2,   1.697,2,   1.050,2,   0.132,2,  1959.4,6,  2290.7,6,   8.1052,2,    25.00,    0.11,2,    0.05,2,      212,    0.02,2,  27.6446,2,         75
49UP20160703,         P9,      36,          1,         33,        469,2,20160715,       0007,    18.9978,   136.9885,       4696,   101.1,  26.6130,  35.1326,2,  35.1331,2,    210.9,2,  210.41,2,    1.03,2,    0.00,2,   0.020,2,   1.746,2,   1.085,2,   0.145,2,  1973.5,2,  2308.1,2,   8.1056,2,    25.00,    0.22,2,    0.14,2,      210,    0.00,2,  26.6111,2,        100
49UP20160703,         P9,      36,          1,         32,        089,2,20160715,       0007,    18.9978,   136.9885,       4696,   124.7,  25.4169,  35.1670,2,  35.1671,2,    204.0,2,  204.09,2,    1.08,2,    0.00,2,   0.020,2,   1.770,2,   1.121,2,   0.153,2,  1989.0,2,  2312.4,2,    8.082,2,    25.00,    0.25,2,    0.38,2,      209,    0.01,2,  25.4101,2,        124
49UP20160703,         P9,      36,          1,         31,        515,2,20160715,       0007,    18.9978,   136.9885,       4696,   151.2,  23.8345,  35.1560,2,  35.1528,2,    196.4,2,  196.52,2,    1.28,2,    0.07,2,   0.060,2,   1.874,2,   1.179,2,   0.131,2,  2007.9,2,  2309.9,2,   8.0464,2,    25.00,    0.10,2,    0.20,2,      208,    0.34,2,  23.8467,2,        150
49UP20160703,         P9,      36,          1,         30,        097,2,20160715,       0007,    18.9978,   136.9885,       4696,   201.3,  21.1141,  35.0981,2,  35.0880,4,    187.5,2,  188.02,2,    2.07,2,    0.01,2,   0.180,3,   2.114,2,   1.350,2,   0.058,2,  2040.1,2,  2304.1,2,   7.9812,2,    25.00,    0.02,2,    0.04,2,      206,    1.78,2,  21.1126,2,        200
49UP20160703,         P9,      36,          1,         29,        102,2,20160715,       0007,    18.9978,   136.9885,       4696,   251.7,  18.3596,  34.8393,2,  34.8377,2,    195.4,2,  195.89,2,    3.32,2,    0.00,2,   0.290,2,   2.376,2,   1.474,2,   0.034,2,  2044.6,2,  2287.2,2,   7.9503,2,    25.00, -999.00,9, -999.00,9,      204,    3.88,2,  18.3676,2,        250
49UP20160703,         P9,      36,          1,         28,        472,2,20160715,       0007,    18.9978,   136.9885,       4696,   282.1,  17.1643,  34.7395,2,  34.7314,4,    189.3,2,  188.84,2,    5.17,2,    0.00,2,   0.440,2,   2.525,2,   1.535,2,   0.023,2,  2063.2,2,  2284.0,2,   7.9047,2,    25.00, -999.00,9, -999.00,9,      203,    6.13,2,  17.1657,2,        280
49UP20160703,         P9,      36,          1,         27,        998,2,20160715,       0007,    18.9978,   136.9885,       4696,   321.9,  15.5198,  34.5849,2,  34.5804,2,    190.3,2,  191.23,2,    7.74,2,    0.00,2,   0.590,2,-999.000,9,-999.000,9,-999.000,9,  2073.2,2,  2275.3,2,   7.8741,2,    25.00, -999.00,9, -999.00,9,      201,    8.41,2,  15.5254,2,        320
49UP20160703,         P9,      36,          1,         26,        084,2,20160715,       0007,    18.9978,   136.9885,       4696,   372.4,  14.0260,  34.4692,2,  34.4654,2,    187.2,2,  187.44,2,   11.93,2,    0.00,2,   0.790,2,   2.827,2,   1.636,2,   0.031,2,  2087.6,2,  2269.9,2,   7.8335,2,    25.00, -999.00,9, -999.00,9,      159,   11.31,2,  14.0245,2,        370
49UP20160703,         P9,      36,          1,         25,        098,2,20160715,       0007,    18.9978,   136.9885,       4696,   423.5,  12.1493,  34.3418,2,  34.3433,2,    179.7,2,  179.91,2,   18.20,2,    0.00,2,   1.060,2,-999.000,9,-999.000,9,-999.000,9,  2112.4,2,  2270.2,2,   7.7736,6,    25.00, -999.00,9, -999.00,9,      157,   15.06,2,  12.1548,2,        421
49UP20160703,         P9,      36,          1,         24,        110,2,20160715,       0007,    18.9978,   136.9885,       4696,   474.4,  10.3760,  34.2344,2,  34.2365,2,    163.7,2,  163.76,2,   26.26,2,    0.00,2,   1.390,2,   2.816,6,   1.550,6,   0.045,6,  2141.1,2,  2271.5,2,   7.6993,2,    25.00, -999.00,9, -999.00,9,      156,   19.49,2,  10.3905,2,        471
49UP20160703,         P9,      36,          1,         23,        679,2,20160715,       0007,    18.9978,   136.9885,       4696,   573.5,   7.3543,  34.1574,2,  34.1576,2,    107.8,2,  107.76,2,   52.49,2,    0.00,2,   2.180,2,   1.839,2,   0.930,2,   0.044,2,  2225.9,2,  2289.9,2,   7.5283,2,    25.00, -999.00,9, -999.00,9,      153,   30.22,2,   7.3537,2,        569
49UP20160703,         P9,      36,          1,         22,        111,2,20160715,       0007,    18.9978,   136.9885,       4696,   676.4,   5.7500,  34.1872,2,  34.1867,6,     78.1,2,   78.28,2,   75.48,2,    0.00,2,   2.570,2,   1.112,2,   0.545,2,   0.013,2,  2272.6,2,  2312.3,2,   7.4498,2,    25.00, -999.00,9, -999.00,9,      150,   35.68,2,   5.7505,2,        671
49UP20160703,         P9,      36,          1,         21,        078,2,20160715,       0007,    18.9978,   136.9885,       4696,   776.2,   4.9194,  34.2965,2,  34.2970,2,     60.5,2,   60.75,6,   91.56,6,    0.00,6,   2.790,6,   0.467,2,   0.239,2,   0.000,2,  2305.3,2,  2333.0,2,    7.419,2,    25.00, -999.00,9, -999.00,9,      147,   38.69,6,   4.9192,2,        770
49UP20160703,         P9,      36,          1,         20,        093,2,20160715,       0007,    18.9978,   136.9885,       4696,   878.6,   4.2454,  34.3951,2,  34.3943,2,     61.6,2,   61.55,2,  105.49,2,    0.00,2,   2.840,2,   0.226,2,   0.116,2,   0.000,2,  2322.7,2,  2355.2,2,   7.4248,2,    25.00, -999.00,9, -999.00,9,      144,   39.65,2,   4.2457,2,        871
49UP20160703,         P9,      36,          1,         19,        269,2,20160715,       0007,    18.9978,   136.9885,       4696,   979.0,   3.8677,  34.4581,2,  34.4572,2,     68.4,2,   68.68,2,  112.90,2,    0.00,2,   2.840,2,   0.128,2,   0.068,2,   0.000,2,  2328.4,6,  2366.8,6,   7.4413,2,    25.00, -999.00,9, -999.00,9,      141,   39.66,2,   3.8686,2,        971
49UP20160703,         P9,      36,          1,         18,        088,2,20160715,       0007,    18.9978,   136.9885,       4696,  1140.3,   3.3996,  34.5155,2,  34.5148,6,     79.5,2,   79.75,2,  121.22,2,    0.00,2,   2.810,2,   0.068,2,   0.041,2,   0.000,2,  2331.0,2,  2379.2,2,   7.4623,2,    25.00, -999.00,9, -999.00,9,      135,   39.30,2,   3.4001,2,       1130
49UP20160703,         P9,      36,          1,         17,        090,2,20160715,       0007,    18.9978,   136.9885,       4696,  1344.0,   2.9000,  34.5568,2,  34.5558,2,     90.1,2,   90.11,6,  130.05,6,    0.00,6,   2.780,6,   0.028,2,   0.015,2,   0.000,2,  2337.1,2,  2389.7,2,   7.4842,2,    25.00, -999.00,9, -999.00,9,      130,   39.06,6,   2.9007,2,       1332
49UP20160703,         P9,      36,          1,         16,        474,2,20160715,       0007,    18.9978,   136.9885,       4696,  1545.1,   2.5856,  34.5841,2,  34.5848,2,     99.1,2,   99.23,2,  134.47,2,    0.00,2,   2.750,2,   0.011,2,   0.009,2,   0.000,2,  2339.5,2,  2398.1,2,   7.4975,6,    25.00, -999.00,9, -999.00,9,      125,   38.74,2,   2.5857,2,       1530
49UP20160703,         P9,      36,          1,         15,        665,2,20160715,       0007,    18.9978,   136.9885,       4696,  1747.5,   2.3336,  34.6027,2,  34.6029,2,    104.9,2,  104.91,2,  138.15,2,    0.00,2,   2.720,2,-999.000,9,-999.000,9,-999.000,9,  2338.9,2,  2401.5,2,   7.5066,2,    25.00, -999.00,9, -999.00,9,      119,   38.55,2,   2.3335,2,       1730
49UP20160703,         P9,      36,          1,         14,        999,2,20160715,       0007,    18.9978,   136.9885,       4696,  1950.7,   2.1235,  34.6175,2,  34.6174,2,    111.2,2,  111.51,2,  141.34,2,    0.00,2,   2.700,2,   0.001,2,   0.003,2,   0.000,2,  2339.5,2,  2406.5,2,   7.5129,2,    25.00, -999.00,9, -999.00,9,      114,   38.32,2,   2.1234,2,       1930
49UP20160703,         P9,      36,          1,         13,        667,2,20160715,       0007,    18.9978,   136.9885,       4696,  2153.9,   1.9498,  34.6331,2,  34.6328,2,    118.5,2,  118.60,2,  143.17,2,    0.00,2,   2.670,2,-999.000,9,-999.000,9,-999.000,9,  2341.2,2,  2410.2,2,    7.526,2,    25.00, -999.00,9, -999.00,9,      110,   37.96,2,   1.9497,2,       2130
49UP20160703,         P9,      36,          1,         12,        074,2,20160715,       0007,    18.9978,   136.9885,       4696,  2358.1,   1.8411,  34.6430,2,  34.6433,2,    124.0,2,  124.15,2,  144.31,2,    0.00,2,   2.640,2,   0.000,2,   0.001,2,   0.000,2,  2338.5,2,  2411.1,2,    7.533,2,    25.00, -999.00,9, -999.00,9,      103,   37.72,2,   1.8409,2,       2331
49UP20160703,         P9,      36,          1,         11,        268,2,20160715,       0007,    18.9978,   136.9885,       4696,  2561.6,   1.7635,  34.6513,2,  34.6512,2,    128.8,2,  128.87,2,  144.53,2,    0.00,2,   2.620,2,-999.000,9,-999.000,9,-999.000,9,  2336.1,2,  2411.4,2,   7.5447,2,    25.00, -999.00,9, -999.00,9,       59,   37.36,2,   1.7634,2,       2531
49UP20160703,         P9,      36,          1,         10,        267,2,20160715,       0007,    18.9978,   136.9885,       4696,  2764.8,   1.7022,  34.6576,2,  34.6581,2,    133.4,2,  134.32,2,  144.57,2,    0.00,2,   2.600,2,-999.000,9,-999.000,9,-999.000,9,  2334.2,6,  2413.2,6,   7.5503,2,    25.00, -999.00,9, -999.00,9,       54,   37.13,2,   1.7020,2,       2730
49UP20160703,         P9,      36,          1,          9,        518,2,20160715,       0007,    18.9978,   136.9885,       4696,  2967.7,   1.6459,  34.6637,2,  34.6645,2,    138.4,2,  138.50,2,  143.84,2,    0.00,2,   2.570,2,   0.000,2,   0.002,2,   0.000,2,  2330.3,2,  2411.4,2,   7.5589,2,    25.00, -999.00,9, -999.00,9,       49,   36.83,2,   1.6459,2,       2929
49UP20160703,         P9,      36,          1,          8,        470,2,20160715,       0007,    18.9978,   136.9885,       4696,  3213.4,   1.6047,  34.6691,2,  34.6692,2,    142.6,2,  142.74,2,  143.53,2,    0.00,2,   2.550,2,-999.000,9,-999.000,9,-999.000,9,  2328.6,2,  2411.4,2,   7.5644,2,    25.00, -999.00,9, -999.00,9,       44,   36.61,2,   1.6048,2,       3170
49UP20160703,         P9,      36,          1,          7,        516,2,20160715,       0007,    18.9978,   136.9885,       4696,  3469.0,   1.5672,  34.6741,2,  34.6742,6,    147.3,2,  147.36,2,  142.70,2,    0.00,2,   2.520,2,   0.000,2,   0.004,2,   0.000,2,  2326.7,2,  2412.6,2,   7.5723,2,    25.00, -999.00,9, -999.00,9,       38,   36.25,2,   1.5673,2,       3420
49UP20160703,         P9,      36,          1,          6,        113,2,20160715,       0007,    18.9978,   136.9885,       4696,  3724.8,   1.5391,  34.6783,2,  34.6791,2,    151.6,2,  151.59,6,  141.62,6,    0.00,6,   2.500,6,-999.000,9,-999.000,9,-999.000,9,  2324.6,2,  2410.7,2,   7.5778,2,    25.00, -999.00,9, -999.00,9,       33,   35.97,6,   1.5389,2,       3670
49UP20160703,         P9,      36,          1,          5,        658,2,20160715,       0007,    18.9978,   136.9885,       4696,  3981.0,   1.5177,  34.6821,2,  34.6822,2,    155.6,2,  155.08,2,  141.16,2,    0.00,2,   2.480,2,   0.000,2,   0.000,2,   0.000,2,  2321.8,2,  2408.2,2,   7.5794,2,    25.00, -999.00,9, -999.00,9,       27,   35.72,2,   1.5177,2,       3920
49UP20160703,         P9,      36,          1,          4,        471,2,20160715,       0007,    18.9978,   136.9885,       4696,  4236.6,   1.5133,  34.6844,2,  34.6847,2,    158.4,2,  158.83,2,  139.94,2,    0.00,2,   2.470,2,-999.000,9,-999.000,9,-999.000,9,  2318.3,2,  2406.8,2,   7.5857,6,    25.00, -999.00,9, -999.00,9,       21,   35.55,2,   1.5132,2,       4169
49UP20160703,         P9,      36,          1,          3,        104,2,20160715,       0007,    18.9978,   136.9885,       4696,  4493.0,   1.5307,  34.6854,2,  34.6857,2,    159.6,2,  159.59,2,  139.46,2,    0.00,2,   2.460,2,   0.003,2,   0.005,2,   0.000,2,  2318.3,2,  2409.0,2,   7.5865,2,    25.00, -999.00,9, -999.00,9,       16,   35.49,2,   1.5306,2,       4419
49UP20160703,         P9,      36,          1,          2,        075,2,20160715,       0007,    18.9978,   136.9885,       4696,  4750.9,   1.5542,  34.6859,2,  34.6862,2,    160.3,2,  160.43,2,  139.22,2,    0.00,2,   2.460,2,-999.000,9,-999.000,9,-999.000,9,  2314.7,2,  2406.7,2,   7.5886,2,    25.00, -999.00,9, -999.00,9,       10,   35.41,2,   1.5541,2,       4670
49UP20160703,         P9,      36,          1,          1,        997,2,20160715,       0007,    18.9978,   136.9885,       4696,  4847.4,   1.5645,  34.6861,2,  34.6854,2,    160.5,2,  160.42,2,  139.15,2,    0.00,2,   2.460,2,   0.000,2,   0.000,2,   0.000,2,  2315.3,2,  2406.8,2,   7.5839,2,    25.00, -999.00,9, -999.00,9,        7,   35.39,2,   1.5644,2,       4764