BOTTLE,20230712CCHSIOENA
EXPOCODE,SECT_ID,STNNBR,CASTNO,SAMPNO,BTLNBR,BTLNBR_FLAG_W,DATE,TIME,LATITUDE,LONGITUDE,DEPTH,CTDPRS,CTDTMP,CTDSAL,CTDSAL_FLAG_W,SALNTY,SALNTY_FLAG_W,CTDOXY,CTDOXY_FLAG_W,OXYGEN,OXYGEN_FLAG_W,SILCAT,SILCAT_FLAG_W,NITRIT,NITRIT_FLAG_W,PHSPHT,PHSPHT_FLAG_W,CFC-11,CFC-11_FLAG_W,CFC-12,CFC-12_FLAG_W,CFC113,CFC113_FLAG_W,TCARBN,TCARBN_FLAG_W,ALKALI,ALKALI_FLAG_W,PH_TOT,PH_TOT_FLAG_W,PH_TMP,CHLORA,CHLORA_FLAG_W,PPHYTN,PPHYTN_FLAG_W,BTL_TIME,NO2+NO3,NO2+NO3_FLAG_W,SBE35,SBE35_FLAG_W,CTDDEPTH
,,,,,,,,,,,METERS,DBAR,ITS-90,PSS-78,,PSS-78,,UMOL/KG,,UMOL/KG,,UMOL/KG,,UMOL/KG,,UMOL/KG,,PMOL/KG,,PMOL/KG,,PMOL/KG,,UMOL/KG,,UMOL/KG,,,,DEG C,UG/KG,,UG/KG,,,UMOL/KG,,ITS-90,,METERS
49UP20160703,         P9,      45,          1,          0,        BUC,2,20160718,       0553,    14.5013,   136.9813,       4675,     0.0,  30.2061,  34.7344,2,-999.0000,9,    193.5,2,  193.33,2,    1.02,2,    0.00,2,   0.040,2,-999.000,9,-999.000,9,-999.000,9,  -999.0,9,  -999.0,9,-999.0000,9,  -999.00, -999.00,9, -999.00,9,      725,    0.03,2,-999.0000,9,          0
49UP20160703,         P9,      45,          1,         36,        109,2,20160718,       0553,    14.5013,   136.9813,       4675,    10.5,  30.1844,  34.7404,2,  34.7418,2,    193.4,2,  193.91,2,    1.03,2,    0.00,2,   0.030,2,-999.000,9,-999.000,9,-999.000,9,  -999.0,9,  -999.0,9,-999.0000,9,  -999.00, -999.00,9, -999.00,9,      758,    0.01,2,  30.1875,2,         10
49UP20160703,         P9,      45,          1,         35,        112,2,20160718,       0553,    14.5013,   136.9813,       4675,    25.6,  29.9815,  34.7866,2,  34.7871,2,    195.7,2,  196.16,2,    0.98,2,    0.00,2,   0.020,2,-999.000,9,-999.000,9,-999.000,9,  -999.0,9,  -999.0,9,-999.0000,9,  -999.00, -999.00,9, -999.00,9,      756,    0.01,2,  29.9839,2,         25
49UP20160703,         P9,      45,          1,         34,        094,2,20160718,       0553,    14.5013,   136.9813,       4675,    49.5,  28.6493,  34.7859,2,  34.7826,2,    206.8,2,  206.31,2,    0.99,2,    0.00,2,   0.040,2,-999.000,9,-999.000,9,-999.000,9,  -999.0,9,  -999.0,9,-999.0000,9,  -999.00, -999.00,9, -999.00,9,      752,    0.01,2,  28.6501,2,         49
49UP20160703,         P9,      45,          1,         33,        469,2,20160718,       0553,    14.5013,   136.9813,       4675,    75.9,  27.5950,  34.9816,2,  34.9910,4,    210.6,2,  210.66,2,    0.81,2,    0.00,2,   0.020,2,-999.000,9,-999.000,9,-999.000,9,  -999.0,9,  -999.0,9,-999.0000,9,  -999.00, -999.00,9, -999.00,9,      751,    0.02,2,  27.5950,2,         75
49UP20160703,         P9,      45,          1,         32,        089,2,20160718,       0553,    14.5013,   136.9813,       4675,   100.9,  26.6101,  35.1327,2,  35.1365,2,    206.7,2,  206.82,2,    0.86,2,    0.00,2,   0.020,2,-999.000,9,-999.000,9,-999.000,9,  -999.0,9,  -999.0,9,-999.0000,9,  -999.00, -999.00,9, -999.00,9,      749,    0.03,2,  26.5948,2,        100
49UP20160703,         P9,      45,          1,         31,        515,2,20160718,       0553,    14.5013,   136.9813,       4675,   125.9,  25.2127,  35.1990,2,  35.2032,2,    201.6,2,  200.67,2,    0.93,2,    0.04,2,   0.040,2,-999.000,9,-999.000,9,-999.000,9,  -999.0,9,  -999.0,9,-999.0000,9,  -999.00, -999.00,9, -999.00,9,      748,    0.07,2,  25.2088,2,        125
49UP20160703,         P9,      45,          1,         30,        097,2,20160718,       0553,    14.5013,   136.9813,       4675,   150.4,  23.1844,  35.2107,2,  35.2070,6,    188.4,2,  188.60,2,    1.48,2,    0.04,2,   0.140,2,-999.000,9,-999.000,9,-999.000,9,  -999.0,9,  -999.0,9,-999.0000,9,  -999.00, -999.00,9, -999.00,9,      747,    0.73,2,  23.1908,2,        149
49UP20160703,         P9,      45,          1,         29,        102,2,20160718,       0553,    14.5013,   136.9813,       4675,   201.9,  18.6149,  34.8735,2,  34.8649,4,    172.7,2,  172.26,6,    4.92,6,    0.01,6,   0.500,6,-999.000,9,-999.000,9,-999.000,9,  -999.0,9,  -999.0,9,-999.0000,9,  -999.00, -999.00,9, -999.00,9,      745,    5.88,6,  18.6197,2,        201
49UP20160703,         P9,      45,          1,         28,        472,4,20160718,       0553,    14.5013,   136.9813,       4675,   252.4,  15.3174,  34.5687,2,-999.0000,9,    173.6,2, -999.00,9, -999.00,9, -999.00,9,-999.000,9,-999.000,9,-999.000,9,-999.000,9,  -999.0,9,  -999.0,9,-999.0000,9,  -999.00, -999.00,9, -999.00,9,      743, -999.00,9,  15.3323,2,        251
49UP20160703,         P9,      45,          1,         27,        998,2,20160718,       0553,    14.5013,   136.9813,       4675,   282.2,  13.4431,  34.4155,2,  34.4115,2,    173.5,2,  172.32,2,   13.32,2,    0.00,2,   0.960,2,-999.000,9,-999.000,9,-999.000,9,  -999.0,9,  -999.0,9,-999.0000,9,  -999.00, -999.00,9, -999.00,9,      742,   13.29,2,  13.4461,2,        280
49UP20160703,         P9,      45,          1,         26,        084,2,20160718,       0553,    14.5013,   136.9813,       4675,   323.0,  11.6912,  34.3538,2,  34.3496,2,    138.5,2,  138.97,2,   21.93,2,    0.00,2,   1.430,2,-999.000,9,-999.000,9,-999.000,9,  -999.0,9,  -999.0,9,-999.0000,9,  -999.00, -999.00,9, -999.00,9,      740,   19.71,2,  11.6823,2,        321
49UP20160703,         P9,      45,          1,         25,        098,2,20160718,       0553,    14.5013,   136.9813,       4675,   372.2,  10.1233,  34.3070,2,  34.3127,4,    116.2,2,  113.77,2,   30.63,2,    0.00,2,   1.810,2,-999.000,9,-999.000,9,-999.000,9,  -999.0,9,  -999.0,9,-999.0000,9,  -999.00, -999.00,9, -999.00,9,      738,   24.81,2,  10.1247,2,        370
49UP20160703,         P9,      45,          1,         24,        110,2,20160718,       0553,    14.5013,   136.9813,       4675,   423.3,   8.9153,  34.3206,2,  34.3221,2,     91.6,2,   91.21,2,   40.28,2,    0.00,2,   2.120,2,-999.000,9,-999.000,9,-999.000,9,  -999.0,9,  -999.0,9,-999.0000,9,  -999.00, -999.00,9, -999.00,9,      736,   29.22,2,   8.9208,2,        420
49UP20160703,         P9,      45,          1,         23,        679,2,20160718,       0553,    14.5013,   136.9813,       4675,   474.4,   7.7526,  34.3489,2,  34.3490,2,     75.7,2,   75.75,2,   51.06,2,    0.00,2,   2.380,2,-999.000,9,-999.000,9,-999.000,9,  -999.0,9,  -999.0,9,-999.0000,9,  -999.00, -999.00,9, -999.00,9,      734,   32.96,2,   7.7523,2,        471
49UP20160703,         P9,      45,          1,         22,        111,2,20160718,       0553,    14.5013,   136.9813,       4675,   575.5,   6.7709,  34.4027,2,  34.4029,6,     69.1,2,   69.20,2,   61.89,2,    0.00,2,   2.560,2,-999.000,9,-999.000,9,-999.000,9,  -999.0,9,  -999.0,9,-999.0000,9,  -999.00, -999.00,9, -999.00,9,      731,   35.56,2,   6.7715,2,        571
49UP20160703,         P9,      45,          1,         21,        078,2,20160718,       0553,    14.5013,   136.9813,       4675,   675.0,   5.9616,  34.4482,2,  34.4482,2,     72.0,2,   72.18,2,   71.80,2,    0.00,2,   2.650,2,-999.000,9,-999.000,9,-999.000,9,  -999.0,9,  -999.0,9,-999.0000,9,  -999.00, -999.00,9, -999.00,9,      728,   36.93,2,   5.9613,2,        670
49UP20160703,         P9,      45,          1,         20,        093,2,20160718,       0553,    14.5013,   136.9813,       4675,   776.5,   5.3712,  34.4841,2,  34.4846,2,     76.8,2,   76.80,2,   79.99,2,    0.00,2,   2.690,2,-999.000,9,-999.000,9,-999.000,9,  -999.0,9,  -999.0,9,-999.0000,9,  -999.00, -999.00,9, -999.00,9,      724,   37.63,2,   5.3709,2,        771
49UP20160703,         P9,      45,          1,         19,        269,2,20160718,       0553,    14.5013,   136.9813,       4675,   877.0,   4.8958,  34.5099,2,  34.5100,2,     79.9,2,   79.96,2,   87.67,2,    0.00,2,   2.720,2,-999.000,9,-999.000,9,-999.000,9,  -999.0,9,  -999.0,9,-999.0000,9,  -999.00, -999.00,9, -999.00,9,      721,   38.12,2,   4.8956,2,        870
49UP20160703,         P9,      45,          1,         18,        088,2,20160718,       0553,    14.5013,   136.9813,       4675,   979.1,   4.4131,  34.5321,2,  34.5329,2,     82.8,2,   82.39,2,   96.42,2,    0.00,2,   2.750,2,-999.000,9,-999.000,9,-999.000,9,  -999.0,9,  -999.0,9,-999.0000,9,  -999.00, -999.00,9, -999.00,9,      718,   38.56,2,   4.4130,2,        971
49UP20160703,         P9,      45,          1,         17,        090,2,20160718,       0553,    14.5013,   136.9813,       4675,  1140.2,   3.8009,  34.5511,2,  34.5518,2,     87.4,2,   87.08,2,  108.95,2,    0.00,2,   2.760,2,-999.000,9,-999.000,9,-999.000,9,  -999.0,9,  -999.0,9,-999.0000,9,  -999.00, -999.00,9, -999.00,9,      712,   38.80,2,   3.8009,2,       1130
49UP20160703,         P9,      45,          1,         16,        474,2,20160718,       0553,    14.5013,   136.9813,       4675,  1342.6,   3.2532,  34.5685,2,  34.5694,2,     93.6,2,   93.48,6,  120.47,6,    0.00,6,   2.750,6,-999.000,9,-999.000,9,-999.000,9,  -999.0,9,  -999.0,9,-999.0000,9,  -999.00, -999.00,9, -999.00,9,      707,   38.73,6,   3.2533,2,       1330
49UP20160703,         P9,      45,          1,         15,        665,2,20160718,       0553,    14.5013,   136.9813,       4675,  1545.1,   2.7803,  34.5891,2,  34.5903,2,    100.2,2,  100.04,2,  129.43,2,    0.00,2,   2.730,2,-999.000,9,-999.000,9,-999.000,9,  -999.0,9,  -999.0,9,-999.0000,9,  -999.00, -999.00,9, -999.00,9,      702,   38.66,2,   2.7801,2,       1530
49UP20160703,         P9,      45,          1,         14,        999,2,20160718,       0553,    14.5013,   136.9813,       4675,  1747.7,   2.4605,  34.6085,2,  34.6088,2,    106.8,2,  106.32,2,  134.51,2,    0.00,2,   2.720,2,-999.000,9,-999.000,9,-999.000,9,  -999.0,9,  -999.0,9,-999.0000,9,  -999.00, -999.00,9, -999.00,9,      657,   38.55,2,   2.4604,2,       1730
49UP20160703,         P9,      45,          1,         13,        667,2,20160718,       0553,    14.5013,   136.9813,       4675,  1951.3,   2.1476,  34.6286,2,  34.6289,6,    114.5,2,  114.22,2,  138.97,2,    0.00,2,   2.680,2,-999.000,9,-999.000,9,-999.000,9,  -999.0,9,  -999.0,9,-999.0000,9,  -999.00, -999.00,9, -999.00,9,      653,   38.27,2,   2.1473,2,       1931
49UP20160703,         P9,      45,          1,         12,        074,2,20160718,       0553,    14.5013,   136.9813,       4675,  2154.0,   2.0088,  34.6369,2,  34.6372,2,    118.7,2,  118.19,2,  142.04,2,    0.00,2,   2.670,2,-999.000,9,-999.000,9,-999.000,9,  -999.0,9,  -999.0,9,-999.0000,9,  -999.00, -999.00,9, -999.00,9,      648,   38.12,2,   2.0087,2,       2130
49UP20160703,         P9,      45,          1,         11,        268,2,20160718,       0553,    14.5013,   136.9813,       4675,  2357.3,   1.8569,  34.6472,2,  34.6470,2,    124.5,2,  124.12,6,  143.98,6,    0.00,6,   2.640,6,-999.000,9,-999.000,9,-999.000,9,  -999.0,9,  -999.0,9,-999.0000,9,  -999.00, -999.00,9, -999.00,9,      644,   37.81,6,   1.8570,2,       2330
49UP20160703,         P9,      45,          1,         10,        267,2,20160718,       0553,    14.5013,   136.9813,       4675,  2561.9,   1.7492,  34.6532,2,  34.6532,2,    128.7,2,  128.58,2,  145.57,2,    0.00,2,   2.620,2,-999.000,9,-999.000,9,-999.000,9,  -999.0,9,  -999.0,9,-999.0000,9,  -999.00, -999.00,9, -999.00,9,      640,   37.51,2,   1.7493,2,       2532
49UP20160703,         P9,      45,          1,          9,        518,2,20160718,       0553,    14.5013,   136.9813,       4675,  2764.3,   1.7083,  34.6580,2,  34.6583,2,    132.1,2,  131.69,2,  145.87,2,    0.00,2,   2.600,2,-999.000,9,-999.000,9,-999.000,9,  -999.0,9,  -999.0,9,-999.0000,9,  -999.00, -999.00,9, -999.00,9,      635,   37.34,2,   1.7081,2,       2730
49UP20160703,         P9,      45,          1,          8,        470,2,20160718,       0553,    14.5013,   136.9813,       4675,  2969.3,   1.6769,  34.6626,2,  34.6631,2,    135.4,2,  135.23,2,  145.24,2,    0.00,2,   2.580,2,-999.000,9,-999.000,9,-999.000,9,  -999.0,9,  -999.0,9,-999.0000,9,  -999.00, -999.00,9, -999.00,9,      631,   37.11,2,   1.6771,2,       2931
49UP20160703,         P9,      45,          1,          7,        516,2,20160718,       0553,    14.5013,   136.9813,       4675,  3214.7,   1.6397,  34.6676,2,  34.6677,2,    139.9,2,  139.60,2,  144.69,2,    0.00,2,   2.560,2,-999.000,9,-999.000,9,-999.000,9,  -999.0,9,  -999.0,9,-999.0000,9,  -999.00, -999.00,9, -999.00,9,      625,   36.87,2,   1.6397,2,       3172
49UP20160703,         P9,      45,          1,          6,        113,2,20160718,       0553,    14.5013,   136.9813,       4675,  3469.5,   1.6058,  34.6721,2,  34.6720,2,    144.3,2,  144.05,2,  143.71,2,    0.00,2,   2.530,2,-999.000,9,-999.000,9,-999.000,9,  -999.0,9,  -999.0,9,-999.0000,9,  -999.00, -999.00,9, -999.00,9,      620,   36.57,2,   1.6058,2,       3421
49UP20160703,         P9,      45,          1,          5,        658,2,20160718,       0553,    14.5013,   136.9813,       4675,  3724.8,   1.5784,  34.6758,2,  34.6761,2,    147.8,2,  147.43,2,  143.23,2,    0.00,2,   2.520,2,-999.000,9,-999.000,9,-999.000,9,  -999.0,9,  -999.0,9,-999.0000,9,  -999.00, -999.00,9, -999.00,9,      614,   36.33,2,   1.5783,2,       3671
49UP20160703,         P9,      45,          1,          4,        471,2,20160718,       0553,    14.5013,   136.9813,       4675,  3981.1,   1.5407,  34.6805,2,  34.6805,2,    153.2,2,  153.22,2,  141.62,2,    0.00,2,   2.490,2,-999.000,9,-999.000,9,-999.000,9,  -999.0,9,  -999.0,9,-999.0000,9,  -999.00, -999.00,9, -999.00,9,      609,   35.98,2,   1.5407,2,       3921
49UP20160703,         P9,      45,          1,          3,        104,2,20160718,       0553,    14.5013,   136.9813,       4675,  4236.8,   1.5193,  34.6841,2,  34.6845,6,    157.9,2,  157.67,6,  140.14,6,    0.00,6,   2.470,6,-999.000,9,-999.000,9,-999.000,9,  -999.0,9,  -999.0,9,-999.0000,9,  -999.00, -999.00,9, -999.00,9,      604,   35.68,6,   1.5193,2,       4171
49UP20160703,         P9,      45,          1,          2,        075,2,20160718,       0553,    14.5013,   136.9813,       4675,  4493.2,   1.5220,  34.6860,2,  34.6866,2,    160.4,2,  160.44,2,  139.08,2,    0.00,2,   2.450,2,-999.000,9,-999.000,9,-999.000,9,  -999.0,9,  -999.0,9,-999.0000,9,  -999.00, -999.00,9, -999.00,9,      558,   35.45,2,   1.5220,2,       4420
49UP20160703,         P9,      45,          1,          1,        997,2,20160718,       0553,    14.5013,   136.9813,       4675,  4727.1,   1.5385,  34.6869,2,  34.6872,2,    161.5,2,  161.47,2,  138.82,2,    0.00,2,   2.450,2,-999.000,9,-999.000,9,-999.000,9,  -999.0,9,  -999.0,9,-999.0000,9,  -999.00, -999.00,9, -999.00,9,      553,   35.44,2,   1.5386,2,       4648