BOTTLE,20230712CCHSIOENA
EXPOCODE,SECT_ID,STNNBR,CASTNO,SAMPNO,BTLNBR,BTLNBR_FLAG_W,DATE,TIME,LATITUDE,LONGITUDE,DEPTH,CTDPRS,CTDTMP,CTDSAL,CTDSAL_FLAG_W,SALNTY,SALNTY_FLAG_W,CTDOXY,CTDOXY_FLAG_W,OXYGEN,OXYGEN_FLAG_W,SILCAT,SILCAT_FLAG_W,NITRIT,NITRIT_FLAG_W,PHSPHT,PHSPHT_FLAG_W,CFC-11,CFC-11_FLAG_W,CFC-12,CFC-12_FLAG_W,CFC113,CFC113_FLAG_W,TCARBN,TCARBN_FLAG_W,ALKALI,ALKALI_FLAG_W,PH_TOT,PH_TOT_FLAG_W,PH_TMP,CHLORA,CHLORA_FLAG_W,PPHYTN,PPHYTN_FLAG_W,BTL_TIME,NO2+NO3,NO2+NO3_FLAG_W,SBE35,SBE35_FLAG_W,CTDDEPTH
,,,,,,,,,,,METERS,DBAR,ITS-90,PSS-78,,PSS-78,,UMOL/KG,,UMOL/KG,,UMOL/KG,,UMOL/KG,,UMOL/KG,,PMOL/KG,,PMOL/KG,,PMOL/KG,,UMOL/KG,,UMOL/KG,,,,DEG C,UG/KG,,UG/KG,,,UMOL/KG,,ITS-90,,METERS
49UP20160703,         P9,      61,          1,          0,        BUC,2,20160801,       0308,     7.6503,   136.8418,       2872,     0.0,  30.0434,  34.3219,2,-999.0000,9,    193.9,2,  193.84,2,    1.09,2,    0.00,2,   0.040,2,-999.000,9,-999.000,9,-999.000,9,  -999.0,9,  -999.0,9,-999.0000,9,  -999.00, -999.00,9, -999.00,9,      419,    0.08,2,-999.0000,9,          0
49UP20160703,         P9,      61,          1,         36,        109,2,20160801,       0308,     7.6503,   136.8418,       2872,    10.3,  29.8274,  34.3000,2,  34.3023,2,    194.0,2,  193.99,2,    1.07,2,    0.00,2,   0.040,2,-999.000,9,-999.000,9,-999.000,9,  -999.0,9,  -999.0,9,-999.0000,9,  -999.00, -999.00,9, -999.00,9,      447,    0.04,2,  29.8393,2,         10
49UP20160703,         P9,      61,          1,         35,        112,2,20160801,       0308,     7.6503,   136.8418,       2872,    24.8,  29.8631,  34.3949,2,  34.4198,4,    194.8,2,  195.58,2,    1.11,2,    0.00,2,   0.040,2,-999.000,9,-999.000,9,-999.000,9,  -999.0,9,  -999.0,9,-999.0000,9,  -999.00, -999.00,9, -999.00,9,      446,    0.04,2,  29.8646,2,         25
49UP20160703,         P9,      61,          1,         34,        094,2,20160801,       0308,     7.6503,   136.8418,       2872,    49.9,  28.9244,  34.7649,2,  34.7638,2,    202.1,2,  202.05,2,    1.20,2,    0.00,2,   0.050,2,-999.000,9,-999.000,9,-999.000,9,  -999.0,9,  -999.0,9,-999.0000,9,  -999.00, -999.00,9, -999.00,9,      442,    0.03,2,  28.9304,2,         50
49UP20160703,         P9,      61,          1,         33,        469,2,20160801,       0308,     7.6503,   136.8418,       2872,    50.1,  28.9259,  34.7649,2,  34.7638,2,    202.0,2,  202.10,2,    1.18,2,    0.00,2,   0.050,2,-999.000,9,-999.000,9,-999.000,9,  -999.0,9,  -999.0,9,-999.0000,9,  -999.00, -999.00,9, -999.00,9,      442,    0.03,2,  28.9220,2,         50
49UP20160703,         P9,      61,          1,         32,        089,2,20160801,       0308,     7.6503,   136.8418,       2872,    75.2,  27.7357,  34.8163,2,  34.8275,4,    202.1,2,  201.58,6,    1.38,6,    0.00,6,   0.060,6,-999.000,9,-999.000,9,-999.000,9,  -999.0,9,  -999.0,9,-999.0000,9,  -999.00, -999.00,9, -999.00,9,      441,    0.05,6,  27.7692,2,         75
49UP20160703,         P9,      61,          1,         29,        102,2,20160801,       0308,     7.6503,   136.8418,       2872,   100.5,  21.8875,  34.8856,2,  34.8905,6,    175.6,2,  173.79,2,    4.14,2,    0.13,2,   0.370,2,-999.000,9,-999.000,9,-999.000,9,  -999.0,9,  -999.0,9,-999.0000,9,  -999.00, -999.00,9, -999.00,9,      439,    3.80,2,  21.8714,2,        100
49UP20160703,         P9,      61,          1,         27,        998,2,20160801,       0308,     7.6503,   136.8418,       2872,   125.0,  18.6033,  34.8651,2,  34.8566,2,    172.3,2,  172.51,2,    5.32,2,    0.05,2,   0.480,2,-999.000,9,-999.000,9,-999.000,9,  -999.0,9,  -999.0,9,-999.0000,9,  -999.00, -999.00,9, -999.00,9,      438,    6.13,2,  18.5931,2,        124
49UP20160703,         P9,      61,          1,         28,        472,2,20160801,       0308,     7.6503,   136.8418,       2872,   125.2,  18.5762,  34.8638,2,  34.8605,2,    172.4,2,  172.63,2,    5.25,2,    0.05,2,   0.450,2,-999.000,9,-999.000,9,-999.000,9,  -999.0,9,  -999.0,9,-999.0000,9,  -999.00, -999.00,9, -999.00,9,      438,    6.05,2,  18.5751,2,        124
49UP20160703,         P9,      61,          1,         26,        084,2,20160801,       0308,     7.6503,   136.8418,       2872,   151.2,  15.6021,  34.6350,2,  34.6755,4,    146.0,2,  142.43,2,   13.20,2,    0.02,2,   1.000,2,-999.000,9,-999.000,9,-999.000,9,  -999.0,9,  -999.0,9,-999.0000,9,  -999.00, -999.00,9, -999.00,9,      437,   13.75,2,  15.6365,2,        150
49UP20160703,         P9,      61,          1,         25,        098,2,20160801,       0308,     7.6503,   136.8418,       2872,   200.8,  11.6507,  34.4843,2,  34.4846,2,    105.8,2,  104.85,2,   26.35,2,    0.00,2,   1.690,2,-999.000,9,-999.000,9,-999.000,9,  -999.0,9,  -999.0,9,-999.0000,9,  -999.00, -999.00,9, -999.00,9,      435,   23.69,2,  11.6507,2,        200
49UP20160703,         P9,      61,          1,         24,        110,2,20160801,       0308,     7.6503,   136.8418,       2872,   248.8,   9.8683,  34.5009,2,  34.5008,2,     91.6,2,   91.42,2,   34.02,2,    0.00,2,   2.010,2,-999.000,9,-999.000,9,-999.000,9,  -999.0,9,  -999.0,9,-999.0000,9,  -999.00, -999.00,9, -999.00,9,      433,   28.34,2,   9.8667,2,        247
49UP20160703,         P9,      61,          1,         23,        679,2,20160801,       0308,     7.6503,   136.8418,       2872,   281.9,   9.3101,  34.5206,2,  34.5207,2,     88.9,2,   88.80,2,   36.33,2,    0.00,2,   2.100,2,-999.000,9,-999.000,9,-999.000,9,  -999.0,9,  -999.0,9,-999.0000,9,  -999.00, -999.00,9, -999.00,9,      431,   29.77,2,   9.3100,2,        280
49UP20160703,         P9,      61,          1,         22,        111,2,20160801,       0308,     7.6503,   136.8418,       2872,   321.3,   8.9282,  34.5420,2,  34.5419,2,     85.3,2,   84.88,2,   37.67,2,    0.00,2,   2.170,2,-999.000,9,-999.000,9,-999.000,9,  -999.0,9,  -999.0,9,-999.0000,9,  -999.00, -999.00,9, -999.00,9,      429,   31.01,2,   8.9279,2,        319
49UP20160703,         P9,      61,          1,         21,        078,2,20160801,       0308,     7.6503,   136.8418,       2872,   372.2,   8.1863,  34.5348,2,  34.5351,2,     95.7,2,   95.24,2,   40.28,2,    0.00,2,   2.200,2,-999.000,9,-999.000,9,-999.000,9,  -999.0,9,  -999.0,9,-999.0000,9,  -999.00, -999.00,9, -999.00,9,      427,   31.47,2,   8.1862,2,        370
49UP20160703,         P9,      61,          1,         20,        093,2,20160801,       0308,     7.6503,   136.8418,       2872,   423.0,   7.6937,  34.5224,2,  34.5226,2,    101.0,2,  100.39,6,   43.15,6,    0.00,6,   2.230,6,-999.000,9,-999.000,9,-999.000,9,  -999.0,9,  -999.0,9,-999.0000,9,  -999.00, -999.00,9, -999.00,9,      425,   31.98,6,   7.6935,2,        420
49UP20160703,         P9,      61,          1,         19,        269,2,20160801,       0308,     7.6503,   136.8418,       2872,   472.5,   7.4498,  34.5284,2,  34.5287,6,    106.5,2,  106.17,2,   43.38,2,    0.00,2,   2.230,2,-999.000,9,-999.000,9,-999.000,9,  -999.0,9,  -999.0,9,-999.0000,9,  -999.00, -999.00,9, -999.00,9,      423,   32.05,2,   7.4494,2,        469
49UP20160703,         P9,      61,          1,         18,        088,2,20160801,       0308,     7.6503,   136.8418,       2872,   574.4,   6.8515,  34.5272,2,  34.5239,4,    105.4,2,  104.59,2,   48.82,2,    0.00,2,   2.340,2,-999.000,9,-999.000,9,-999.000,9,  -999.0,9,  -999.0,9,-999.0000,9,  -999.00, -999.00,9, -999.00,9,      420,   33.43,2,   6.8488,2,        570
49UP20160703,         P9,      61,          1,         17,        090,2,20160801,       0308,     7.6503,   136.8418,       2872,   675.3,   6.3134,  34.5273,2,  34.5268,2,     95.7,2,   95.54,2,   56.46,2,    0.00,2,   2.480,2,-999.000,9,-999.000,9,-999.000,9,  -999.0,9,  -999.0,9,-999.0000,9,  -999.00, -999.00,9, -999.00,9,      416,   35.32,2,   6.3128,2,        670
49UP20160703,         P9,      61,          1,         16,        474,2,20160801,       0308,     7.6503,   136.8418,       2872,   776.7,   5.6122,  34.5273,2,  34.5278,2,     96.2,2,   95.93,2,   68.50,2,    0.00,2,   2.550,2,-999.000,9,-999.000,9,-999.000,9,  -999.0,9,  -999.0,9,-999.0000,9,  -999.00, -999.00,9, -999.00,9,      413,   36.15,2,   5.6125,2,        771
49UP20160703,         P9,      61,          1,         15,        665,2,20160801,       0308,     7.6503,   136.8418,       2872,   877.9,   5.2150,  34.5360,2,  34.5360,2,     90.8,2,   90.35,6,   76.47,6,    0.00,6,   2.630,6,-999.000,9,-999.000,9,-999.000,9,  -999.0,9,  -999.0,9,-999.0000,9,  -999.00, -999.00,9, -999.00,9,      410,   37.24,6,   5.2151,2,        871
49UP20160703,         P9,      61,          1,         14,        999,2,20160801,       0308,     7.6503,   136.8418,       2872,   978.5,   4.8675,  34.5428,2,  34.5428,6,     89.2,2,   88.86,2,   84.02,2,    0.00,2,   2.660,2,-999.000,9,-999.000,9,-999.000,9,  -999.0,9,  -999.0,9,-999.0000,9,  -999.00, -999.00,9, -999.00,9,      403,   37.75,2,   4.8674,2,        971
49UP20160703,         P9,      61,          1,         13,        667,2,20160801,       0308,     7.6503,   136.8418,       2872,  1138.8,   4.1528,  34.5609,2,  34.5624,4,     89.8,2,   89.79,2,   98.30,2,    0.00,2,   2.720,2,-999.000,9,-999.000,9,-999.000,9,  -999.0,9,  -999.0,9,-999.0000,9,  -999.00, -999.00,9, -999.00,9,      359,   38.45,2,   4.1527,2,       1129
49UP20160703,         P9,      61,          1,         12,        074,2,20160801,       0308,     7.6503,   136.8418,       2872,  1139.1,   4.1530,  34.5609,2,  34.5607,2,     89.8,2,   89.42,2,   98.51,2,    0.00,2,   2.720,2,-999.000,9,-999.000,9,-999.000,9,  -999.0,9,  -999.0,9,-999.0000,9,  -999.00, -999.00,9, -999.00,9,      359,   38.51,2,   4.1529,2,       1130
49UP20160703,         P9,      61,          1,         11,        268,2,20160801,       0308,     7.6503,   136.8418,       2872,  1342.5,   3.5083,  34.5793,2,  34.5788,2,     94.7,2,   94.36,2,  111.61,2,    0.00,2,   2.730,2,-999.000,9,-999.000,9,-999.000,9,  -999.0,9,  -999.0,9,-999.0000,9,  -999.00, -999.00,9, -999.00,9,      353,   38.80,2,   3.5083,2,       1331
49UP20160703,         P9,      61,          1,         10,        267,2,20160801,       0308,     7.6503,   136.8418,       2872,  1543.5,   3.0542,  34.5957,2,  34.5948,2,     99.0,2,   98.71,2,  120.97,2,    0.00,2,   2.730,2,-999.000,9,-999.000,9,-999.000,9,  -999.0,9,  -999.0,9,-999.0000,9,  -999.00, -999.00,9, -999.00,9,      348,   38.89,2,   3.0543,2,       1529
49UP20160703,         P9,      61,          1,          9,        518,2,20160801,       0308,     7.6503,   136.8418,       2872,  1747.1,   2.7510,  34.6089,2,  34.6088,2,    103.7,2,  103.28,2,  126.86,2,    0.00,2,   2.720,2,-999.000,9,-999.000,9,-999.000,9,  -999.0,9,  -999.0,9,-999.0000,9,  -999.00, -999.00,9, -999.00,9,      342,   38.73,2,   2.7513,2,       1730
49UP20160703,         P9,      61,          1,          7,        516,2,20160801,       0308,     7.6503,   136.8418,       2872,  1949.5,   2.4547,  34.6216,2,  34.6218,2,    109.8,2,  109.22,2,  132.48,2,    0.00,2,   2.690,2,-999.000,9,-999.000,9,-999.000,9,  -999.0,9,  -999.0,9,-999.0000,9,  -999.00, -999.00,9, -999.00,9,      337,   38.51,2,   2.4550,2,       1930
49UP20160703,         P9,      61,          1,          8,        470,2,20160801,       0308,     7.6503,   136.8418,       2872,  1949.8,   2.4549,  34.6216,2,  34.6220,2,    109.8,2,  109.59,2,  132.40,2,    0.00,2,   2.690,2,-999.000,9,-999.000,9,-999.000,9,  -999.0,9,  -999.0,9,-999.0000,9,  -999.00, -999.00,9, -999.00,9,      337,   38.46,2,   2.4551,2,       1930
49UP20160703,         P9,      61,          1,          6,        113,2,20160801,       0308,     7.6503,   136.8418,       2872,  2154.0,   2.1675,  34.6361,2,  34.6368,2,    117.0,2,  116.74,6,  137.64,6,    0.00,6,   2.660,6,-999.000,9,-999.000,9,-999.000,9,  -999.0,9,  -999.0,9,-999.0000,9,  -999.00, -999.00,9, -999.00,9,      331,   38.14,6,   2.1676,2,       2131
49UP20160703,         P9,      61,          1,          5,        658,2,20160801,       0308,     7.6503,   136.8418,       2872,  2357.9,   1.9820,  34.6458,2,  34.6458,6,    123.0,2,  122.39,2,  140.60,2,    0.00,2,   2.630,2,-999.000,9,-999.000,9,-999.000,9,  -999.0,9,  -999.0,9,-999.0000,9,  -999.00, -999.00,9, -999.00,9,      325,   37.87,2,   1.9819,2,       2332
49UP20160703,         P9,      61,          1,          4,        471,3,20160801,       0308,     7.6503,   136.8418,       2872,  2560.5,   1.8233,  34.6554,2,  34.6553,2,    129.7,2,  129.44,2,  142.53,2,    0.00,2,   2.600,2,   0.000,2,   0.008,2,   0.006,2,  -999.0,9,  -999.0,9,-999.0000,9,  -999.00, -999.00,9, -999.00,9,      319,   37.49,2,   1.8235,2,       2531
49UP20160703,         P9,      61,          1,          3,        104,3,20160801,       0308,     7.6503,   136.8418,       2872,  2763.4,   1.7265,  34.6623,2,  34.6627,2,    135.5,2,  135.18,2,  142.71,2,    0.00,2,   2.570,2,   0.007,2,   0.011,2,   0.003,2,  -999.0,9,  -999.0,9,-999.0000,9,  -999.00, -999.00,9, -999.00,9,      314,   37.14,2,   1.7268,2,       2730
49UP20160703,         P9,      61,          1,          1,        997,2,20160801,       0308,     7.6503,   136.8418,       2872,  2980.0,   1.6615,  34.6671,2,  34.6679,2,    139.5,2,  139.19,2,  143.23,2,    0.00,2,   2.550,2,   0.008,2,   0.011,2,   0.003,2,  -999.0,9,  -999.0,9,-999.0000,9,  -999.00, -999.00,9, -999.00,9,      308,   36.86,2,   1.6616,2,       2943
49UP20160703,         P9,      61,          1,          2,        075,2,20160801,       0308,     7.6503,   136.8418,       2872,  2980.1,   1.6615,  34.6671,2,  34.6675,2,    139.5,2,  139.58,2,  143.03,2,    0.00,2,   2.540,2,-999.000,9,-999.000,9,-999.000,9,  -999.0,9,  -999.0,9,-999.0000,9,  -999.00, -999.00,9, -999.00,9,      308,   36.85,2,   1.6616,2,       2943