BOTTLE,20230712CCHSIOENA
# removed SIGTHT, SIGTHT_FLAG_W, THETA, and THETA_FLAG_W
# changed PH_TS and PH_TS_FLAG_W to PH_TOT and PH_TOT_FLAG_W
# changed PH_TS_TMP to PH_TMP
# changed unit for PH_TMP from ITS-90 to DEG C
# changed BTLNBR from 0 to BUC for bucket samples
# BOTTLE,20171120JMAGEMD
# SHIP: Ryofu Maru 
# Cruise: RF16-06 
# Region: P09 
# EXPOCODE: 49UP20160703 
# DATES: 20160703 - 20160824 
# Chief Scientist: Naoki Nagai 
# 91 stations with 36 place Rosette 
# CTD: Who - T.Nakano; Status - final 
# 	Includes: CTDSAL, CTDOXY 
# Salinty: Who - T.Nakano; Status - final 
# 	Notes: 	 
# Nutrients: Who - T.Nakano; Status - final 
# 	Includes: nitrate, nitrite, silicate, phopshpate 
# 	NO3+NO2 converted to nitrate by subtraction 
# O2: Who - T.Nakano; Status - final 
# 	Notes: 
# TCO2: Who - T.Nakano; Status - final 
# 	Notes:  
# ALKALI: Who - T.Nakano; Status - final 
# 	Notes:  
# pH: Who - T.Nakano; Status - final 
# 	Notes: total scale at 25C 
# CFC: Who - T.Nakano; Status - final 
# 	Notes: includes 11,12 and 113 
# Other: Who - T.Nakano; Status - final 
# 	Notes: chloroA and phaeophytn 
#
# Please cite data as: 
# [Data providers of the parameter(s) used]. [Year of file access]. Bottle data from cruise [expocode], [format version used]. 
# Accessed from CCHDO [url of cruise data page]. Access date [date of download]. [Applicable CCHDO cruise DOI if provided].
# 
# For example: Swift, J. and Becker, S. 2019. CTD data from Cruise I09N, exchange version. 
# Accessed from CCHDO https://cchdo.ucsd.edu/cruise/33RR20160321. Access date 2019-08-21. CCHDO cruise DOI: 10.7942/C2008W
# 
# Information on the scientists who provided the different parameters can be found in the cruise report.
# Users are also encouraged to acknowledge the funding program that supported the data collection in their publication.
EXPOCODE,SECT_ID,STNNBR,CASTNO,SAMPNO,BTLNBR,BTLNBR_FLAG_W,DATE,TIME,LATITUDE,LONGITUDE,DEPTH,CTDPRS,CTDTMP,CTDSAL,CTDSAL_FLAG_W,SALNTY,SALNTY_FLAG_W,CTDOXY,CTDOXY_FLAG_W,OXYGEN,OXYGEN_FLAG_W,SILCAT,SILCAT_FLAG_W,NITRIT,NITRIT_FLAG_W,PHSPHT,PHSPHT_FLAG_W,CFC-11,CFC-11_FLAG_W,CFC-12,CFC-12_FLAG_W,CFC113,CFC113_FLAG_W,TCARBN,TCARBN_FLAG_W,ALKALI,ALKALI_FLAG_W,PH_TOT,PH_TOT_FLAG_W,PH_TMP,CHLORA,CHLORA_FLAG_W,PPHYTN,PPHYTN_FLAG_W,BTL_TIME,NO2+NO3,NO2+NO3_FLAG_W,SBE35,SBE35_FLAG_W,CTDDEPTH
,,,,,,,,,,,METERS,DBAR,ITS-90,PSS-78,,PSS-78,,UMOL/KG,,UMOL/KG,,UMOL/KG,,UMOL/KG,,UMOL/KG,,PMOL/KG,,PMOL/KG,,PMOL/KG,,UMOL/KG,,UMOL/KG,,,,DEG C,UG/KG,,UG/KG,,,UMOL/KG,,ITS-90,,METERS
49UP20160703,         P9,       1,          1,          0,        BUC,2,20160704,       0346,    34.1748,   137.0003,        819,     0.0,  24.5066,  34.0947,2,-999.0000,9,    217.4,2,  216.46,2,    2.08,2,    0.00,2,   0.020,2,-999.000,9,-999.000,9,-999.000,9,  -999.0,9,  -999.0,9,-999.0000,9,  -999.00, -999.00,9, -999.00,9,      350,    0.01,2,-999.0000,9,          0
49UP20160703,         P9,       1,          1,         36,        109,2,20160704,       0346,    34.1748,   137.0003,        819,    11.0,  24.0417,  34.2350,2,  34.2450,4,    217.5,2,  218.30,2,    1.97,2,    0.00,2,   0.020,2,-999.000,9,-999.000,9,-999.000,9,  -999.0,9,  -999.0,9,-999.0000,9,  -999.00, -999.00,9, -999.00,9,      415,    0.00,2,  24.0375,2,         11
49UP20160703,         P9,       1,          1,         35,        112,2,20160704,       0346,    34.1748,   137.0003,        819,    11.3,  24.0438,  34.2379,2,  34.2544,4,    217.4,2,  218.53,2,    1.99,2,    0.00,2,   0.020,2,-999.000,9,-999.000,9,-999.000,9,  -999.0,9,  -999.0,9,-999.0000,9,  -999.00, -999.00,9, -999.00,9,      415,    0.00,2,  24.0373,2,         11
49UP20160703,         P9,       1,          1,         34,        094,2,20160704,       0346,    34.1748,   137.0003,        819,    26.7,  20.6496,  34.5076,2,  34.5119,2,    232.3,2,  231.26,2,    3.41,2,    0.01,2,   0.070,2,-999.000,9,-999.000,9,-999.000,9,  -999.0,9,  -999.0,9,-999.0000,9,  -999.00, -999.00,9, -999.00,9,      414,    0.17,2,  20.6540,2,         27
49UP20160703,         P9,       1,          1,         27,        998,2,20160704,       0346,    34.1748,   137.0003,        819,    51.0,  17.3943,  34.5912,2,  34.5918,2,    193.7,2,  194.16,2,    9.95,2,    0.34,2,   0.490,2,-999.000,9,-999.000,9,-999.000,9,  -999.0,9,  -999.0,9,-999.0000,9,  -999.00, -999.00,9, -999.00,9,      410,    6.76,2,  17.3945,2,         51
49UP20160703,         P9,       1,          1,         26,        084,2,20160704,       0346,    34.1748,   137.0003,        819,    76.3,  16.7069,  34.5888,2,  34.5886,2,    189.1,2,  189.44,2,   12.02,2,    0.08,2,   0.580,2,-999.000,9,-999.000,9,-999.000,9,  -999.0,9,  -999.0,9,-999.0000,9,  -999.00, -999.00,9, -999.00,9,      408,    8.17,2,  16.7080,2,         76
49UP20160703,         P9,       1,          1,         25,        098,2,20160704,       0346,    34.1748,   137.0003,        819,   102.2,  15.7393,  34.5586,2,  34.5598,2,    184.1,2,  184.79,2,   14.99,2,    0.04,2,   0.700,2,-999.000,9,-999.000,9,-999.000,9,  -999.0,9,  -999.0,9,-999.0000,9,  -999.00, -999.00,9, -999.00,9,      407,    9.86,2,  15.7394,2,        101
49UP20160703,         P9,       1,          1,         21,        078,2,20160704,       0346,    34.1748,   137.0003,        819,   127.4,  14.1925,  34.5099,2,  34.5107,2,    174.1,2,  174.46,2,   20.63,2,    0.02,2,   0.920,2,-999.000,9,-999.000,9,-999.000,9,  -999.0,9,  -999.0,9,-999.0000,9,  -999.00, -999.00,9, -999.00,9,      406,   12.99,2,  14.1939,2,        126
49UP20160703,         P9,       1,          1,         20,        093,2,20160704,       0346,    34.1748,   137.0003,        819,   152.2,  13.3084,  34.4700,2,  34.4716,2,    170.3,2,  170.57,2,   21.61,2,    0.01,2,   1.010,2,-999.000,9,-999.000,9,-999.000,9,  -999.0,9,  -999.0,9,-999.0000,9,  -999.00, -999.00,9, -999.00,9,      405,   14.40,2,  13.3095,2,        151
49UP20160703,         P9,       1,          1,         19,        269,2,20160704,       0346,    34.1748,   137.0003,        819,   204.1,  11.5688,  34.3817,2,  34.3835,2,    155.3,2,  155.34,2,   31.55,2,    0.01,2,   1.320,2,-999.000,9,-999.000,9,-999.000,9,  -999.0,9,  -999.0,9,-999.0000,9,  -999.00, -999.00,9, -999.00,9,      403,   18.59,2,  11.5725,2,        203
49UP20160703,         P9,       1,          1,         18,        088,2,20160704,       0346,    34.1748,   137.0003,        819,   253.9,  10.3390,  34.3291,2,  34.3311,2,    144.4,2,  144.52,2,   39.66,2,    0.01,2,   1.540,2,-999.000,9,-999.000,9,-999.000,9,  -999.0,9,  -999.0,9,-999.0000,9,  -999.00, -999.00,9, -999.00,9,      401,   21.58,2,  10.3409,2,        252
49UP20160703,         P9,       1,          1,         17,        090,3,20160704,       0346,    34.1748,   137.0003,        819,   304.3,   9.0673,  34.2867,2,  34.2881,2,    132.2,2,  131.87,2,   49.76,2,    0.01,2,   1.790,2,-999.000,9,-999.000,9,-999.000,9,  -999.0,9,  -999.0,9,-999.0000,9,  -999.00, -999.00,9, -999.00,9,      400,   24.91,2,   9.0683,2,        302
49UP20160703,         P9,       1,          1,         16,        474,2,20160704,       0346,    34.1748,   137.0003,        819,   405.1,   7.2897,  34.2418,2,  34.2429,6,    112.1,2,  111.87,2,   65.11,2,    0.01,2,   2.140,2,-999.000,9,-999.000,9,-999.000,9,  -999.0,9,  -999.0,9,-999.0000,9,  -999.00, -999.00,9, -999.00,9,      357,   29.67,2,   7.2951,2,        402
49UP20160703,         P9,       1,          1,         11,        268,2,20160704,       0346,    34.1748,   137.0003,        819,   507.1,   5.8412,  34.2358,2,  34.2349,2,     91.6,2,   92.21,2,   81.19,2,    0.00,2,   2.440,2,-999.000,9,-999.000,9,-999.000,9,  -999.0,9,  -999.0,9,-999.0000,9,  -999.00, -999.00,9, -999.00,9,      354,   33.78,2,   5.8523,2,        503
49UP20160703,         P9,       1,          1,         12,        074,2,20160704,       0346,    34.1748,   137.0003,        819,   507.3,   5.8359,  34.2356,2,  34.2347,2,     91.6,2,   91.64,2,   81.51,2,    0.00,2,   2.450,2,-999.000,9,-999.000,9,-999.000,9,  -999.0,9,  -999.0,9,-999.0000,9,  -999.00, -999.00,9, -999.00,9,      354,   33.88,2,   5.8452,2,        503
49UP20160703,         P9,       1,          1,         10,        267,2,20160704,       0346,    34.1748,   137.0003,        819,   606.3,   4.8604,  34.2895,2,  34.2899,2,     74.2,2,   74.20,6,   98.51,6,    0.00,6,   2.670,6,-999.000,9,-999.000,9,-999.000,9,  -999.0,9,  -999.0,9,-999.0000,9,  -999.00, -999.00,9, -999.00,9,      351,   36.96,6,   4.8593,2,        601
49UP20160703,         P9,       1,          1,          9,        518,2,20160704,       0346,    34.1748,   137.0003,        819,   706.5,   4.3557,  34.3237,2,  34.3237,2,     67.5,2,   67.23,2,  107.68,2,    0.00,2,   2.770,2,-999.000,9,-999.000,9,-999.000,9,  -999.0,9,  -999.0,9,-999.0000,9,  -999.00, -999.00,9, -999.00,9,      349,   38.29,2,   4.3554,2,        700
49UP20160703,         P9,       1,          1,          8,        470,2,20160704,       0346,    34.1748,   137.0003,        819,   785.4,   3.8920,  34.3627,2,  34.3613,2,     63.2,2,   63.08,2,  116.54,2,    0.00,2,   2.850,2,-999.000,9,-999.000,9,-999.000,9,  -999.0,9,  -999.0,9,-999.0000,9,  -999.00, -999.00,9, -999.00,9,      346,   39.28,2,   3.8926,2,        778
49UP20160703,         P9,       1,          1,          7,        516,2,20160704,       0346,    34.1748,   137.0003,        819,   785.9,   3.8901,  34.3628,2,  34.3620,6,     63.2,2,   62.98,2,  116.48,2,    0.00,2,   2.840,2,-999.000,9,-999.000,9,-999.000,9,  -999.0,9,  -999.0,9,-999.0000,9,  -999.00, -999.00,9, -999.00,9,      346,   39.33,2,   3.8884,2,        779
49UP20160703,         P9,       2,          1,          0,        BUC,2,20160704,       0936,    34.0043,   137.0007,       1123,     0.0,  25.1297,  34.0271,2,  33.9535,2,    214.5,2,  213.88,2,    2.08,2,    0.00,2,   0.020,2,-999.000,9,-999.000,9,-999.000,9,  1942.5,2,  2219.5,3,   8.0693,2,    25.00,    0.11,2,    0.03,2,      950,    0.00,2,-999.0000,9,          0
49UP20160703,         P9,       2,          1,         36,        109,2,20160704,       0936,    34.0043,   137.0007,       1123,    10.6,  24.1625,  34.3659,2,  34.3487,4,    216.4,2,  217.10,2,    1.58,2,    0.00,2,   0.010,2,   1.865,4,   1.122,2,   0.135,2,  1965.6,2,  2237.5,3,   8.0566,2,    25.00,    0.09,2,    0.03,2,     1016,    0.00,2,  24.1613,2,         11
49UP20160703,         P9,       2,          1,         35,        112,2,20160704,       0936,    34.0043,   137.0007,       1123,    25.7,  21.6631,  34.6705,2,  34.6857,4,    236.6,2,  227.84,2,    1.95,2,    0.04,2,   0.070,2,   2.365,4,   1.283,2,   0.100,2,  1984.9,2,  2262.6,3,   8.0561,2,    25.00,    2.14,2,    0.85,2,     1014,    0.39,2,  21.7227,2,         26
49UP20160703,         P9,       2,          1,         34,        094,2,20160704,       0936,    34.0043,   137.0007,       1123,    50.2,  19.1588,  34.7006,2,  34.7023,2,    194.2,2,  194.74,2,    5.88,2,    0.05,2,   0.340,2,   2.564,4,   1.365,2,   0.082,2,  2042.3,2,  2279.8,3,    7.966,6,    25.00,    0.20,2,    0.18,2,     1009,    4.61,2,  19.1563,2,         50
49UP20160703,         P9,       2,          1,         27,        998,3,20160704,       0936,    34.0043,   137.0007,       1123,    75.2,  18.2887,  34.6673,2,  34.6690,2,    187.9,2,  188.13,2,    8.15,2,    0.03,2,   0.460,2,-999.000,9,-999.000,9,-999.000,9,  2050.4,2,  2283.5,3,   7.9372,2,    25.00, -999.00,9, -999.00,9,     1008,    6.34,2,  18.2866,2,         75
49UP20160703,         P9,       2,          1,         26,        084,2,20160704,       0936,    34.0043,   137.0007,       1123,    75.4,  18.2885,  34.6666,2,  34.6689,2,    187.7,2,  188.20,2,    8.24,2,    0.02,2,   0.460,2,   2.316,4,   1.384,2,   0.077,2,  2050.5,2,  2282.9,3,    7.938,2,    25.00,    0.11,2,    0.09,2,     1008,    6.34,2,  18.2854,2,         75
49UP20160703,         P9,       2,          1,         25,        098,2,20160704,       0936,    34.0043,   137.0007,       1123,   100.9,  16.5431,  34.6254,2,  34.6245,2,    181.0,2,  181.08,2,   12.64,2,    0.01,2,   0.650,2,   2.730,4,   1.399,6,   0.060,6,  2069.0,2,  2263.2,3,   7.8898,2,    25.00,    0.02,2,    0.05,2,     1006,    9.03,2,  16.5501,2,        100
49UP20160703,         P9,       2,          1,         21,        078,2,20160704,       0936,    34.0043,   137.0007,       1123,   125.0,  15.2360,  34.5644,2,  34.5635,2,    173.8,2,  173.82,2,   16.44,2,    0.01,2,   0.820,2,   2.799,4,   1.433,2,   0.056,2,  2090.7,6,  2262.5,3,   7.8504,2,    25.00,    0.01,2,    0.04,2,     1005,   11.43,2,  15.2339,2,        124
49UP20160703,         P9,       2,          1,         20,        093,2,20160704,       0936,    34.0043,   137.0007,       1123,   151.5,  13.7444,  34.4917,2,  34.4926,2,    168.6,2,  168.55,2,   21.24,2,    0.03,2,   0.990,2,   2.874,4,   1.414,2,   0.052,2,  2107.2,2,  2278.6,3,   7.8101,2,    25.00,    0.02,2,    0.07,2,     1004,   13.99,2,  13.7463,2,        150
49UP20160703,         P9,       2,          1,         19,        269,2,20160704,       0936,    34.0043,   137.0007,       1123,   202.7,  12.1728,  34.4112,2,  34.4118,2,    158.9,2,  158.88,2,   29.01,2,    0.01,2,   1.240,2,   2.503,4,   1.370,2,   0.047,2,  2129.2,2,  2284.0,3,   7.7546,2,    25.00,    0.01,2,    0.08,2,     1002,   17.40,2,  12.1718,2,        201
49UP20160703,         P9,       2,          1,         18,        088,2,20160704,       0936,    34.0043,   137.0007,       1123,   250.6,  10.4023,  34.3305,2,  34.3316,6,    145.0,2,  145.36,2,   38.88,2,    0.01,2,   1.540,2,   2.747,4,   1.257,2,   0.043,2,  2166.4,2,  2284.4,3,   7.6841,2,    25.00, -999.00,9, -999.00,9,     1000,   21.50,2,  10.4011,2,        249
49UP20160703,         P9,       2,          1,         17,        090,3,20160704,       0936,    34.0043,   137.0007,       1123,   332.4,   8.5970,  34.2680,2,  34.2693,2,    127.7,2,  127.75,2,   53.02,2,    0.00,2,   1.880,2,-999.000,9,-999.000,9,-999.000,9,  2207.3,2,  2277.0,3,   7.6107,2,    25.00, -999.00,9, -999.00,9,      958,   26.10,2,   8.5958,2,        330
49UP20160703,         P9,       2,          1,         16,        474,2,20160704,       0936,    34.0043,   137.0007,       1123,   332.4,   8.5897,  34.2681,2,  34.2685,2,    127.5,2,  127.21,2,   53.24,2,    0.00,2,   1.890,2,   2.519,4,   1.043,2,   0.044,2,  2202.8,2,  2345.4,4,   7.6104,2,    25.00, -999.00,9, -999.00,9,      958,   26.15,2,   8.5871,2,        330
49UP20160703,         P9,       2,          1,         12,        074,2,20160704,       0936,    34.0043,   137.0007,       1123,   432.3,   6.2605,  34.2456,2,  34.2462,2,     97.0,2,   96.57,6,   77.66,6,    0.00,6,   2.360,6,   1.877,4,   0.740,2,   0.025,2,  2258.8,2,  2319.1,3,   7.5072,2,    25.00, -999.00,9, -999.00,9,      955,   32.73,6,   6.2584,2,        429
49UP20160703,         P9,       2,          1,         11,        268,2,20160704,       0936,    34.0043,   137.0007,       1123,   533.8,   5.3175,  34.2597,2,  34.2598,2,     81.8,2,   81.54,2,   90.29,2,    0.00,2,   2.570,2,   1.148,4,   0.573,6,   0.016,6,  2283.3,2,  2330.0,3,   7.4578,2,    25.00, -999.00,9, -999.00,9,      952,   35.58,2,   5.3171,2,        529
49UP20160703,         P9,       2,          1,         10,        267,2,20160704,       0936,    34.0043,   137.0007,       1123,   635.4,   4.5609,  34.2981,2,  34.2984,2,     69.2,2,   69.13,2,  103.36,2,    0.00,2,   2.740,2,   1.150,4,   0.411,2,   0.002,2,  2308.6,2,  2341.3,2,   7.4259,6,    25.00, -999.00,9, -999.00,9,      950,   37.86,2,   4.5615,2,        630
49UP20160703,         P9,       2,          1,          9,        518,2,20160704,       0936,    34.0043,   137.0007,       1123,   737.3,   3.9320,  34.3543,2,  34.3541,2,     62.7,2,   62.84,2,  115.53,2,    0.00,2,   2.830,2,   0.852,4,   0.256,2,   0.005,2,  2327.2,6,  2356.1,6,   7.4143,2,    25.00, -999.00,9, -999.00,9,      947,   39.31,2,   3.9318,2,        731
49UP20160703,         P9,       2,          1,          8,        470,2,20160704,       0936,    34.0043,   137.0007,       1123,   837.2,   3.6255,  34.3875,2,  34.3875,2,     61.5,2,   61.37,2,  121.59,2,    0.00,2,   2.870,2,   0.604,4,   0.185,2,   0.000,2,  2336.2,2,  2367.2,2,   7.4115,2,    25.00, -999.00,9, -999.00,9,      944,   39.85,2,   3.6255,2,        830
49UP20160703,         P9,       2,          1,          7,        516,2,20160704,       0936,    34.0043,   137.0007,       1123,   940.0,   3.2294,  34.4309,2,  34.4304,6,     62.3,2,   62.42,2,  129.77,2,    0.00,2,   2.890,2,   0.516,4,   0.125,2,   0.000,2,  2346.3,2,  2374.5,2,   7.4113,2,    25.00, -999.00,9, -999.00,9,      941,   40.33,2,   3.2277,2,        931
49UP20160703,         P9,       2,          1,          4,        471,2,20160704,       0936,    34.0043,   137.0007,       1123,  1106.8,   2.9100,  34.4709,2,  34.4716,2,     67.1,2,   66.75,2,  135.81,2,    0.00,2,   2.890,2,-999.000,9,-999.000,9,-999.000,9,  2350.9,2,  2381.5,2,   7.4215,2,    25.00, -999.00,9, -999.00,9,      937,   40.37,2,   2.9094,2,       1096
49UP20160703,         P9,       2,          1,          3,        104,2,20160704,       0936,    34.0043,   137.0007,       1123,  1106.9,   2.9085,  34.4711,2,  34.4712,2,     67.1,2,   67.32,2,  135.58,2,    0.00,2,   2.890,2,   0.144,4,   0.084,2,   0.010,2,  2349.6,2,  2382.0,2,   7.4208,2,    25.00, -999.00,9, -999.00,9,      936,   40.32,2,   2.9081,2,       1096