BOTTLE,20230712CCHSIOENA
EXPOCODE,SECT_ID,STNNBR,CASTNO,SAMPNO,BTLNBR,BTLNBR_FLAG_W,DATE,TIME,LATITUDE,LONGITUDE,DEPTH,CTDPRS,CTDTMP,CTDSAL,CTDSAL_FLAG_W,SALNTY,SALNTY_FLAG_W,CTDOXY,CTDOXY_FLAG_W,OXYGEN,OXYGEN_FLAG_W,SILCAT,SILCAT_FLAG_W,NITRIT,NITRIT_FLAG_W,PHSPHT,PHSPHT_FLAG_W,CFC-11,CFC-11_FLAG_W,CFC-12,CFC-12_FLAG_W,CFC113,CFC113_FLAG_W,TCARBN,TCARBN_FLAG_W,ALKALI,ALKALI_FLAG_W,PH_TOT,PH_TOT_FLAG_W,PH_TMP,CHLORA,CHLORA_FLAG_W,PPHYTN,PPHYTN_FLAG_W,BTL_TIME,NO2+NO3,NO2+NO3_FLAG_W,SBE35,SBE35_FLAG_W,CTDDEPTH
,,,,,,,,,,,METERS,DBAR,ITS-90,PSS-78,,PSS-78,,UMOL/KG,,UMOL/KG,,UMOL/KG,,UMOL/KG,,UMOL/KG,,PMOL/KG,,PMOL/KG,,PMOL/KG,,UMOL/KG,,UMOL/KG,,,,DEG C,UG/KG,,UG/KG,,,UMOL/KG,,ITS-90,,METERS
49UP20160703,         P9,      83,          1,          0,        BUC,2,20160808,       1246,     1.4822,   142.0257,       2868,     0.0,  29.9371,  33.8941,2,-999.0000,9,    194.3,2,  194.69,2,    0.90,2,    0.00,2,   0.120,2,-999.000,9,-999.000,9,-999.000,9,  -999.0,9,  -999.0,9,-999.0000,9,  -999.00, -999.00,9, -999.00,9,     1345,    0.03,2,-999.0000,9,          0
49UP20160703,         P9,      83,          1,         36,        109,2,20160808,       1246,     1.4822,   142.0257,       2868,    11.2,  29.9622,  33.8936,2,  33.8942,2,    194.2,2,  194.54,2,    0.90,2,    0.00,2,   0.100,2,-999.000,9,-999.000,9,-999.000,9,  -999.0,9,  -999.0,9,-999.0000,9,  -999.00, -999.00,9, -999.00,9,     1420,    0.02,2,  29.9672,2,         11
49UP20160703,         P9,      83,          1,         35,        112,2,20160808,       1246,     1.4822,   142.0257,       2868,    26.0,  29.9490,  33.9031,2,  33.9026,2,    194.3,2,  194.70,2,    0.94,2,    0.00,2,   0.100,2,-999.000,9,-999.000,9,-999.000,9,  -999.0,9,  -999.0,9,-999.0000,9,  -999.00, -999.00,9, -999.00,9,     1419,    0.04,2,  29.9483,2,         26
49UP20160703,         P9,      83,          1,         34,        094,2,20160808,       1246,     1.4822,   142.0257,       2868,    50.6,  29.9372,  33.9488,2,  33.9481,2,    194.4,2,  194.85,2,    0.88,2,    0.00,2,   0.100,2,-999.000,9,-999.000,9,-999.000,9,  -999.0,9,  -999.0,9,-999.0000,9,  -999.00, -999.00,9, -999.00,9,     1416,    0.04,2,  29.9365,2,         50
49UP20160703,         P9,      83,          1,         32,        089,2,20160808,       1246,     1.4822,   142.0257,       2868,    76.2,  29.2027,  34.6267,2,  34.6283,2,    193.7,2,  194.29,2,    1.18,2,    0.00,2,   0.120,4,-999.000,9,-999.000,9,-999.000,9,  -999.0,9,  -999.0,9,-999.0000,9,  -999.00, -999.00,9, -999.00,9,     1414,    0.04,2,  29.2104,2,         76
49UP20160703,         P9,      83,          1,         31,        515,2,20160808,       1246,     1.4822,   142.0257,       2868,   100.8,  27.0419,  34.8921,2,  34.8745,4,    170.8,2,  171.98,6,    2.10,6,    0.38,6,   0.290,6,-999.000,9,-999.000,9,-999.000,9,  -999.0,9,  -999.0,9,-999.0000,9,  -999.00, -999.00,9, -999.00,9,     1412,    2.17,6,  27.0286,2,        100
49UP20160703,         P9,      83,          1,         29,        102,2,20160808,       1246,     1.4822,   142.0257,       2868,   126.8,  23.8362,  35.0560,2,  35.0332,4,    140.7,2,  142.61,2,    4.89,2,    0.05,2,   0.610,2,-999.000,9,-999.000,9,-999.000,9,  -999.0,9,  -999.0,9,-999.0000,9,  -999.00, -999.00,9, -999.00,9,     1410,    7.73,2,  23.8415,2,        126
49UP20160703,         P9,      83,          1,         30,        097,2,20160808,       1246,     1.4822,   142.0257,       2868,   127.2,  23.8243,  35.0610,2,  35.0470,4,    140.6,2,  141.67,2,    4.74,2,    0.04,2,   0.610,2,-999.000,9,-999.000,9,-999.000,9,  -999.0,9,  -999.0,9,-999.0000,9,  -999.00, -999.00,9, -999.00,9,     1411,    7.77,2,  23.8305,2,        126
49UP20160703,         P9,      83,          1,         27,        998,2,20160808,       1246,     1.4822,   142.0257,       2868,   151.8,  19.5643,  34.8288,2,  34.8320,6,    154.9,2,  155.11,2,    8.30,2,    0.01,2,   0.650,2,-999.000,9,-999.000,9,-999.000,9,  -999.0,9,  -999.0,9,-999.0000,9,  -999.00, -999.00,9, -999.00,9,     1409,    8.49,2,  19.5634,2,        151
49UP20160703,         P9,      83,          1,         26,        084,2,20160808,       1246,     1.4822,   142.0257,       2868,   202.0,  14.5531,  34.6851,2,  34.6839,2,    138.2,2,  138.66,2,   16.94,2,    0.00,2,   1.200,2,-999.000,9,-999.000,9,-999.000,9,  -999.0,9,  -999.0,9,-999.0000,9,  -999.00, -999.00,9, -999.00,9,     1407,   16.44,2,  14.5596,2,        201
49UP20160703,         P9,      83,          1,         25,        098,2,20160808,       1246,     1.4822,   142.0257,       2868,   250.8,  12.1506,  34.8375,2,  34.8333,2,    138.6,2,  138.06,2,   17.60,2,    0.00,2,   1.490,2,-999.000,9,-999.000,9,-999.000,9,  -999.0,9,  -999.0,9,-999.0000,9,  -999.00, -999.00,9, -999.00,9,     1405,   20.65,2,  12.1570,2,        249
49UP20160703,         P9,      83,          1,         24,        110,2,20160808,       1246,     1.4822,   142.0257,       2868,   280.4,  11.2106,  34.7168,2,  34.7127,2,    129.3,2,  128.70,2,   23.35,2,    0.00,2,   1.650,2,-999.000,9,-999.000,9,-999.000,9,  -999.0,9,  -999.0,9,-999.0000,9,  -999.00, -999.00,9, -999.00,9,     1403,   23.07,2,  11.2063,2,        279
49UP20160703,         P9,      83,          1,         23,        679,2,20160808,       1246,     1.4822,   142.0257,       2868,   322.7,  10.5823,  34.7556,2,  34.7537,2,    131.5,2,  131.06,2,   20.13,2,    0.00,2,   1.710,2,-999.000,9,-999.000,9,-999.000,9,  -999.0,9,  -999.0,9,-999.0000,9,  -999.00, -999.00,9, -999.00,9,     1401,   24.09,2,  10.5843,2,        321
49UP20160703,         P9,      83,          1,         22,        111,2,20160808,       1246,     1.4822,   142.0257,       2868,   374.0,   9.8855,  34.7074,2,  34.7076,2,    103.0,2,  102.91,6,   25.18,6,    0.00,6,   1.980,6,-999.000,9,-999.000,9,-999.000,9,  -999.0,9,  -999.0,9,-999.0000,9,  -999.00, -999.00,9, -999.00,9,     1359,   28.23,6,   9.8871,2,        372
49UP20160703,         P9,      83,          1,         21,        078,2,20160808,       1246,     1.4822,   142.0257,       2868,   424.4,   9.3780,  34.6719,2,  34.6707,6,     99.8,2,   99.56,2,   27.71,2,    0.00,2,   2.070,2,-999.000,9,-999.000,9,-999.000,9,  -999.0,9,  -999.0,9,-999.0000,9,  -999.00, -999.00,9, -999.00,9,     1357,   29.58,2,   9.3761,2,        422
49UP20160703,         P9,      83,          1,         19,        269,2,20160808,       1246,     1.4822,   142.0257,       2868,   475.1,   9.0211,  34.6470,2,  34.6480,2,    101.9,2,  102.32,2,   29.21,2,    0.00,2,   2.090,2,-999.000,9,-999.000,9,-999.000,9,  -999.0,9,  -999.0,9,-999.0000,9,  -999.00, -999.00,9, -999.00,9,     1354,   30.00,2,   9.0284,2,        472
49UP20160703,         P9,      83,          1,         20,        093,2,20160808,       1246,     1.4822,   142.0257,       2868,   475.5,   9.0133,  34.6469,2,  34.6483,2,    102.6,2,  101.83,2,   29.28,2,    0.00,2,   2.090,2,-999.000,9,-999.000,9,-999.000,9,  -999.0,9,  -999.0,9,-999.0000,9,  -999.00, -999.00,9, -999.00,9,     1354,   30.00,2,   9.0152,2,        472
49UP20160703,         P9,      83,          1,         18,        088,2,20160808,       1246,     1.4822,   142.0257,       2868,   575.0,   7.7812,  34.5563,2,  34.5551,2,    115.0,2,  114.98,2,   37.69,2,    0.00,2,   2.170,2,-999.000,9,-999.000,9,-999.000,9,  -999.0,9,  -999.0,9,-999.0000,9,  -999.00, -999.00,9, -999.00,9,     1351,   30.89,2,   7.7812,2,        571
49UP20160703,         P9,      83,          1,         17,        090,2,20160808,       1246,     1.4822,   142.0257,       2868,   675.0,   6.5027,  34.5428,2,  34.5433,2,     85.0,2,   85.59,2,   52.48,2,    0.00,2,   2.570,2,-999.000,9,-999.000,9,-999.000,9,  -999.0,9,  -999.0,9,-999.0000,9,  -999.00, -999.00,9, -999.00,9,     1348,   36.28,2,   6.5033,2,        670
49UP20160703,         P9,      83,          1,         16,        474,2,20160808,       1246,     1.4822,   142.0257,       2868,   775.8,   5.5331,  34.5336,2,  34.5345,2,     97.9,2,   97.92,2,   64.65,2,    0.00,2,   2.600,2,-999.000,9,-999.000,9,-999.000,9,  -999.0,9,  -999.0,9,-999.0000,9,  -999.00, -999.00,9, -999.00,9,     1345,   36.62,2,   5.5340,2,        770
49UP20160703,         P9,      83,          1,         13,        667,2,20160808,       1246,     1.4822,   142.0257,       2868,   876.8,   4.9380,  34.5435,2,  34.5428,2,     95.5,2,   96.08,2,   76.90,2,    0.00,2,   2.670,2,-999.000,9,-999.000,9,-999.000,9,  -999.0,9,  -999.0,9,-999.0000,9,  -999.00, -999.00,9, -999.00,9,     1342,   37.53,2,   4.9397,2,        870
49UP20160703,         P9,      83,          1,         14,        999,2,20160808,       1246,     1.4822,   142.0257,       2868,   876.9,   4.9363,  34.5436,2,  34.5427,2,     95.5,2,   95.62,2,   76.88,2,    0.00,2,   2.660,2,-999.000,9,-999.000,9,-999.000,9,  -999.0,9,  -999.0,9,-999.0000,9,  -999.00, -999.00,9, -999.00,9,     1343,   37.54,2,   4.9365,2,        870
49UP20160703,         P9,      83,          1,         12,        074,2,20160808,       1246,     1.4822,   142.0257,       2868,   978.3,   4.5337,  34.5515,2,  34.5514,2,    100.6,2,  100.55,2,   83.48,2,    0.00,2,   2.670,2,-999.000,9,-999.000,9,-999.000,9,  -999.0,9,  -999.0,9,-999.0000,9,  -999.00, -999.00,9, -999.00,9,     1337,   37.56,2,   4.5341,2,        971
49UP20160703,         P9,      83,          1,         11,        268,2,20160808,       1246,     1.4822,   142.0257,       2868,  1141.5,   3.9675,  34.5690,2,  34.5685,2,     98.6,2,   98.38,2,   97.79,2,    0.00,2,   2.720,2,-999.000,9,-999.000,9,-999.000,9,  -999.0,9,  -999.0,9,-999.0000,9,  -999.00, -999.00,9, -999.00,9,     1332,   38.21,2,   3.9681,2,       1132
49UP20160703,         P9,      83,          1,         10,        267,2,20160808,       1246,     1.4822,   142.0257,       2868,  1345.6,   3.4753,  34.5833,2,  34.5830,2,    100.7,2,  100.72,6,  107.66,6,    0.00,6,   2.750,6,-999.000,9,-999.000,9,-999.000,9,  -999.0,9,  -999.0,9,-999.0000,9,  -999.00, -999.00,9, -999.00,9,     1326,   38.50,6,   3.4749,2,       1334
49UP20160703,         P9,      83,          1,          9,        518,2,20160808,       1246,     1.4822,   142.0257,       2868,  1545.6,   2.8573,  34.6061,2,  34.6060,2,    106.2,2,  106.10,2,  120.95,2,    0.00,2,   2.730,2,-999.000,9,-999.000,9,-999.000,9,  -999.0,9,  -999.0,9,-999.0000,9,  -999.00, -999.00,9, -999.00,9,     1318,   38.53,2,   2.8580,2,       1531
49UP20160703,         P9,      83,          1,          8,        470,2,20160808,       1246,     1.4822,   142.0257,       2868,  1545.9,   2.8545,  34.6061,2,  34.6063,2,    106.2,2,  106.02,2,  121.17,2,    0.00,2,   2.730,2,-999.000,9,-999.000,9,-999.000,9,  -999.0,9,  -999.0,9,-999.0000,9,  -999.00, -999.00,9, -999.00,9,     1318,   38.55,2,   2.8549,2,       1532
49UP20160703,         P9,      83,          1,          7,        516,2,20160808,       1246,     1.4822,   142.0257,       2868,  1749.4,   2.4666,  34.6239,2,  34.6242,6,    114.4,2,  114.37,2,  127.90,2,    0.00,2,   2.700,2,-999.000,9,-999.000,9,-999.000,9,  -999.0,9,  -999.0,9,-999.0000,9,  -999.00, -999.00,9, -999.00,9,     1313,   38.24,2,   2.4665,2,       1733
49UP20160703,         P9,      83,          1,          6,        113,2,20160808,       1246,     1.4822,   142.0257,       2868,  1949.9,   2.2219,  34.6356,2,  34.6354,2,    118.1,2,  117.92,2,  133.91,2,    0.00,2,   2.680,2,-999.000,9,-999.000,9,-999.000,9,  -999.0,9,  -999.0,9,-999.0000,9,  -999.00, -999.00,9, -999.00,9,     1308,   38.04,2,   2.2217,2,       1930
49UP20160703,         P9,      83,          1,          5,        658,2,20160808,       1246,     1.4822,   142.0257,       2868,  2153.8,   2.0722,  34.6434,2,  34.6426,2,    121.7,2,  121.66,2,  137.33,2,    0.00,2,   2.660,2,-999.000,9,-999.000,9,-999.000,9,  -999.0,9,  -999.0,9,-999.0000,9,  -999.00, -999.00,9, -999.00,9,     1304,   37.87,2,   2.0730,2,       2131
49UP20160703,         P9,      83,          1,          4,        471,2,20160808,       1246,     1.4822,   142.0257,       2868,  2358.5,   1.8200,  34.6561,2,  34.6558,2,    130.5,2,  130.23,2,  140.82,2,    0.00,2,   2.610,2,-999.000,9,-999.000,9,-999.000,9,  -999.0,9,  -999.0,9,-999.0000,9,  -999.00, -999.00,9, -999.00,9,     1258,   37.35,2,   1.8199,2,       2332
49UP20160703,         P9,      83,          1,          3,        104,2,20160808,       1246,     1.4822,   142.0257,       2868,  2556.5,   1.7568,  34.6603,2,  34.6606,2,    133.7,2,  133.35,2,  141.49,2,    0.00,2,   2.590,2,-999.000,9,-999.000,9,-999.000,9,  -999.0,9,  -999.0,9,-999.0000,9,  -999.00, -999.00,9, -999.00,9,     1253,   37.18,2,   1.7567,2,       2527
49UP20160703,         P9,      83,          1,          2,        075,2,20160808,       1246,     1.4822,   142.0257,       2868,  2764.4,   1.6708,  34.6660,2,  34.6659,2,    138.1,2,  137.95,6,  142.45,6,    0.00,6,   2.580,6,-999.000,9,-999.000,9,-999.000,9,  -999.0,9,  -999.0,9,-999.0000,9,  -999.00, -999.00,9, -999.00,9,     1249,   36.92,6,   1.6707,2,       2731
49UP20160703,         P9,      83,          1,          1,        997,2,20160808,       1246,     1.4822,   142.0257,       2868,  2858.3,   1.5792,  34.6716,2,  34.6717,6,    143.1,2,  142.78,2,  142.58,2,    0.00,2,   2.550,2,-999.000,9,-999.000,9,-999.000,9,  -999.0,9,  -999.0,9,-999.0000,9,  -999.00, -999.00,9, -999.00,9,     1246,   36.59,2,   1.5791,2,       2823