BOTTLE,20230712CCHSIOENA
EXPOCODE,SECT_ID,STNNBR,CASTNO,SAMPNO,BTLNBR,BTLNBR_FLAG_W,DATE,TIME,LATITUDE,LONGITUDE,DEPTH,CTDPRS,CTDTMP,CTDSAL,CTDSAL_FLAG_W,SALNTY,SALNTY_FLAG_W,CTDOXY,CTDOXY_FLAG_W,OXYGEN,OXYGEN_FLAG_W,SILCAT,SILCAT_FLAG_W,NITRIT,NITRIT_FLAG_W,PHSPHT,PHSPHT_FLAG_W,CFC-11,CFC-11_FLAG_W,CFC-12,CFC-12_FLAG_W,CFC113,CFC113_FLAG_W,TCARBN,TCARBN_FLAG_W,ALKALI,ALKALI_FLAG_W,PH_TOT,PH_TOT_FLAG_W,PH_TMP,CHLORA,CHLORA_FLAG_W,PPHYTN,PPHYTN_FLAG_W,BTL_TIME,NO2+NO3,NO2+NO3_FLAG_W,SBE35,SBE35_FLAG_W,CTDDEPTH
,,,,,,,,,,,METERS,DBAR,ITS-90,PSS-78,,PSS-78,,UMOL/KG,,UMOL/KG,,UMOL/KG,,UMOL/KG,,UMOL/KG,,PMOL/KG,,PMOL/KG,,PMOL/KG,,UMOL/KG,,UMOL/KG,,,,DEG C,UG/KG,,UG/KG,,,UMOL/KG,,ITS-90,,METERS
49UP20160703,         P9,      85,          1,          0,        BUC,2,20160809,       0242,     0.4887,   142.0117,       3309,     0.0,  29.9292,  33.9071,2,-999.0000,9,    195.0,2,  195.06,2,    1.07,2,    0.00,2,   0.100,2,-999.000,9,-999.000,9,-999.000,9,  -999.0,9,  -999.0,9,-999.0000,9,  -999.00, -999.00,9, -999.00,9,      349,    0.02,2,-999.0000,9,          0
49UP20160703,         P9,      85,          1,         36,        109,2,20160809,       0242,     0.4887,   142.0117,       3309,     9.5,  29.9266,  33.9068,2,  33.9062,2,    195.1,2,  195.08,2,    1.05,2,    0.00,2,   0.090,2,-999.000,9,-999.000,9,-999.000,9,  -999.0,9,  -999.0,9,-999.0000,9,  -999.00, -999.00,9, -999.00,9,      420,    0.05,2,  29.9296,2,          9
49UP20160703,         P9,      85,          1,         35,        112,2,20160809,       0242,     0.4887,   142.0117,       3309,    25.4,  29.9252,  33.9092,2,  33.9083,2,    195.0,2,  195.27,2,    1.07,2,    0.00,2,   0.100,2,-999.000,9,-999.000,9,-999.000,9,  -999.0,9,  -999.0,9,-999.0000,9,  -999.00, -999.00,9, -999.00,9,      419,    0.02,2,  29.9257,2,         25
49UP20160703,         P9,      85,          1,         34,        094,2,20160809,       0242,     0.4887,   142.0117,       3309,    49.6,  30.0075,  34.0963,2,  34.1003,2,    196.8,2,  197.05,6,    1.05,6,    0.00,6,   0.120,6,-999.000,9,-999.000,9,-999.000,9,  -999.0,9,  -999.0,9,-999.0000,9,  -999.00, -999.00,9, -999.00,9,      416,    0.03,6,  30.0014,2,         49
49UP20160703,         P9,      85,          1,         32,        089,2,20160809,       0242,     0.4887,   142.0117,       3309,    75.2,  29.5995,  34.4371,2,  34.4475,4,    195.0,2,  194.99,2,    1.26,2,    0.00,2,   0.090,2,-999.000,9,-999.000,9,-999.000,9,  -999.0,9,  -999.0,9,-999.0000,9,  -999.00, -999.00,9, -999.00,9,      415,    0.03,2,  29.5988,2,         75
49UP20160703,         P9,      85,          1,         31,        515,2,20160809,       0242,     0.4887,   142.0117,       3309,   100.6,  27.7002,  34.8560,2,  34.9347,4,    182.1,2,  178.23,2,    1.40,2,    0.23,2,   0.240,2,-999.000,9,-999.000,9,-999.000,9,  -999.0,9,  -999.0,9,-999.0000,9,  -999.00, -999.00,9, -999.00,9,      414,    1.65,2,  27.7019,2,        100
49UP20160703,         P9,      85,          1,         30,        097,2,20160809,       0242,     0.4887,   142.0117,       3309,   123.9,  25.5847,  35.0728,2,  35.0727,2,    154.8,2,  155.37,2,    2.90,2,    0.08,2,   0.460,2,-999.000,9,-999.000,9,-999.000,9,  -999.0,9,  -999.0,9,-999.0000,9,  -999.00, -999.00,9, -999.00,9,      413,    5.07,2,  25.5773,2,        123
49UP20160703,         P9,      85,          1,         29,        102,2,20160809,       0242,     0.4887,   142.0117,       3309,   149.8,  23.3362,  35.4549,2,  35.4608,2,    147.5,2,  147.03,2,    2.60,2,    0.02,2,   0.630,2,-999.000,9,-999.000,9,-999.000,9,  -999.0,9,  -999.0,9,-999.0000,9,  -999.00, -999.00,9, -999.00,9,      411,    7.27,2,  23.3058,2,        149
49UP20160703,         P9,      85,          1,         27,        998,2,20160809,       0242,     0.4887,   142.0117,       3309,   200.1,  18.0015,  35.3531,2,  35.3512,2,    142.0,2,  141.96,2,    5.72,2,    0.01,2,   0.950,2,-999.000,9,-999.000,9,-999.000,9,  -999.0,9,  -999.0,9,-999.0000,9,  -999.00, -999.00,9, -999.00,9,      409,   12.05,2,  17.9999,2,        199
49UP20160703,         P9,      85,          1,         25,        098,2,20160809,       0242,     0.4887,   142.0117,       3309,   250.8,  13.5865,  34.9798,2,  34.9777,2,    144.9,2,  144.78,2,   12.54,2,    0.00,2,   1.300,2,-999.000,9,-999.000,9,-999.000,9,  -999.0,9,  -999.0,9,-999.0000,9,  -999.00, -999.00,9, -999.00,9,      407,   17.59,2,  13.5827,2,        249
49UP20160703,         P9,      85,          1,         26,        084,2,20160809,       0242,     0.4887,   142.0117,       3309,   251.0,  13.5906,  34.9805,2,  34.9787,2,    144.9,2,  144.74,2,   12.54,2,    0.00,2,   1.300,2,-999.000,9,-999.000,9,-999.000,9,  -999.0,9,  -999.0,9,-999.0000,9,  -999.00, -999.00,9, -999.00,9,      407,   17.60,2,  13.5872,2,        249
49UP20160703,         P9,      85,          1,         24,        110,2,20160809,       0242,     0.4887,   142.0117,       3309,   333.0,  10.8711,  34.7767,2,  34.7771,2,    133.1,2,  133.45,2,   18.92,2,    0.00,2,   1.660,2,-999.000,9,-999.000,9,-999.000,9,  -999.0,9,  -999.0,9,-999.0000,9,  -999.00, -999.00,9, -999.00,9,      405,   23.28,2,  10.8714,2,        331
49UP20160703,         P9,      85,          1,         23,        679,2,20160809,       0242,     0.4887,   142.0117,       3309,   382.6,   9.9799,  34.7153,2,  34.7167,2,     99.7,2,   99.70,2,   24.92,2,    0.00,2,   1.980,2,-999.000,9,-999.000,9,-999.000,9,  -999.0,9,  -999.0,9,-999.0000,9,  -999.00, -999.00,9, -999.00,9,      403,   28.30,2,   9.9837,2,        380
49UP20160703,         P9,      85,          1,         22,        111,2,20160809,       0242,     0.4887,   142.0117,       3309,   433.7,   8.9308,  34.6413,2,  34.6417,2,    106.2,2,  106.34,2,   29.23,2,    0.00,2,   2.080,2,-999.000,9,-999.000,9,-999.000,9,  -999.0,9,  -999.0,9,-999.0000,9,  -999.00, -999.00,9, -999.00,9,      400,   29.75,2,   8.9307,2,        431
49UP20160703,         P9,      85,          1,         21,        078,2,20160809,       0242,     0.4887,   142.0117,       3309,   481.6,   8.3080,  34.6027,2,  34.6034,2,    111.4,2,  111.05,2,   32.21,2,    0.00,2,   2.130,2,-999.000,9,-999.000,9,-999.000,9,  -999.0,9,  -999.0,9,-999.0000,9,  -999.00, -999.00,9, -999.00,9,      359,   30.41,2,   8.3105,2,        478
49UP20160703,         P9,      85,          1,         20,        093,2,20160809,       0242,     0.4887,   142.0117,       3309,   533.8,   7.2950,  34.5612,2,  34.5613,2,    113.3,2,  113.45,2,   38.28,2,    0.00,2,   2.270,2,-999.000,9,-999.000,9,-999.000,9,  -999.0,9,  -999.0,9,-999.0000,9,  -999.00, -999.00,9, -999.00,9,      357,   32.27,2,   7.2944,2,        530
49UP20160703,         P9,      85,          1,         18,        088,2,20160809,       0242,     0.4887,   142.0117,       3309,   636.5,   6.4258,  34.5381,2,  34.5398,2,    108.6,2,  107.87,2,   46.66,2,    0.00,2,   2.430,2,-999.000,9,-999.000,9,-999.000,9,  -999.0,9,  -999.0,9,-999.0000,9,  -999.00, -999.00,9, -999.00,9,      353,   34.48,2,   6.4292,2,        632
49UP20160703,         P9,      85,          1,         19,        269,2,20160809,       0242,     0.4887,   142.0117,       3309,   638.6,   6.4138,  34.5404,2,  34.5391,2,    106.9,2,  108.44,2,   46.78,2,    0.00,2,   2.430,2,-999.000,9,-999.000,9,-999.000,9,  -999.0,9,  -999.0,9,-999.0000,9,  -999.00, -999.00,9, -999.00,9,      353,   34.45,2,   6.4169,2,        634
49UP20160703,         P9,      85,          1,         17,        090,2,20160809,       0242,     0.4887,   142.0117,       3309,   737.4,   5.7068,  34.5270,2,  34.5271,2,    113.4,2,  113.18,6,   54.91,6,    0.00,6,   2.490,6,-999.000,9,-999.000,9,-999.000,9,  -999.0,9,  -999.0,9,-999.0000,9,  -999.00, -999.00,9, -999.00,9,      350,   35.27,6,   5.7106,2,        732
49UP20160703,         P9,      85,          1,         16,        474,2,20160809,       0242,     0.4887,   142.0117,       3309,   837.4,   5.0509,  34.5375,2,  34.5381,6,    100.9,2,  100.83,2,   69.98,2,    0.00,2,   2.640,2,-999.000,9,-999.000,9,-999.000,9,  -999.0,9,  -999.0,9,-999.0000,9,  -999.00, -999.00,9, -999.00,9,      347,   37.20,2,   5.0508,2,        831
49UP20160703,         P9,      85,          1,         15,        665,2,20160809,       0242,     0.4887,   142.0117,       3309,   938.8,   4.7079,  34.5454,2,  34.5449,2,     97.7,2,   97.63,2,   77.78,2,    0.00,2,   2.690,2,-999.000,9,-999.000,9,-999.000,9,  -999.0,9,  -999.0,9,-999.0000,9,  -999.00, -999.00,9, -999.00,9,      342,   37.87,2,   4.7078,2,        932
49UP20160703,         P9,      85,          1,         14,        999,2,20160809,       0242,     0.4887,   142.0117,       3309,  1081.0,   4.2841,  34.5556,2,  34.5551,2,    101.9,2,  101.72,2,   86.85,2,    0.00,2,   2.690,2,-999.000,9,-999.000,9,-999.000,9,  -999.0,9,  -999.0,9,-999.0000,9,  -999.00, -999.00,9, -999.00,9,      338,   37.80,2,   4.2871,2,       1072
49UP20160703,         P9,      85,          1,         13,        667,2,20160809,       0242,     0.4887,   142.0117,       3309,  1282.4,   3.5826,  34.5787,2,  34.5787,2,    101.4,2,  101.40,2,  103.68,2,    0.00,2,   2.730,2,-999.000,9,-999.000,9,-999.000,9,  -999.0,9,  -999.0,9,-999.0000,9,  -999.00, -999.00,9, -999.00,9,      333,   38.38,2,   3.5826,2,       1271
49UP20160703,         P9,      85,          1,         12,        074,2,20160809,       0242,     0.4887,   142.0117,       3309,  1484.3,   2.9845,  34.6007,2,  34.6005,2,    107.7,2,  107.68,2,  116.11,2,    0.00,2,   2.720,2,-999.000,9,-999.000,9,-999.000,9,  -999.0,9,  -999.0,9,-999.0000,9,  -999.00, -999.00,9, -999.00,9,      327,   38.38,2,   2.9848,2,       1471
49UP20160703,         P9,      85,          1,         10,        267,2,20160809,       0242,     0.4887,   142.0117,       3309,  1685.6,   2.6343,  34.6156,2,  34.6154,2,    114.9,2,  115.01,2,  122.04,2,    0.00,2,   2.690,2,-999.000,9,-999.000,9,-999.000,9,  -999.0,9,  -999.0,9,-999.0000,9,  -999.00, -999.00,9, -999.00,9,      322,   38.03,2,   2.6345,2,       1670
49UP20160703,         P9,      85,          1,         11,        268,2,20160809,       0242,     0.4887,   142.0117,       3309,  1686.6,   2.6315,  34.6161,2,  34.6152,2,    114.9,2,  114.51,2,  122.16,2,    0.00,2,   2.690,2,-999.000,9,-999.000,9,-999.000,9,  -999.0,9,  -999.0,9,-999.0000,9,  -999.00, -999.00,9, -999.00,9,      322,   38.09,2,   2.6336,2,       1671
49UP20160703,         P9,      85,          1,          9,        518,2,20160809,       0242,     0.4887,   142.0117,       3309,  1888.8,   2.3262,  34.6310,2,  34.6304,2,    116.4,2,  116.19,2,  131.63,2,    0.00,2,   2.690,2,-999.000,9,-999.000,9,-999.000,9,  -999.0,9,  -999.0,9,-999.0000,9,  -999.00, -999.00,9, -999.00,9,      317,   38.13,2,   2.3264,2,       1870
49UP20160703,         P9,      85,          1,          8,        470,2,20160809,       0242,     0.4887,   142.0117,       3309,  2091.1,   2.1277,  34.6406,2,  34.6403,2,    120.3,2,  120.22,6,  136.11,6,    0.00,6,   2.670,6,-999.000,9,-999.000,9,-999.000,9,  -999.0,9,  -999.0,9,-999.0000,9,  -999.00, -999.00,9, -999.00,9,      312,   37.93,6,   2.1277,2,       2069
49UP20160703,         P9,      85,          1,          7,        516,2,20160809,       0242,     0.4887,   142.0117,       3309,  2295.5,   1.8995,  34.6519,2,  34.6512,6,    127.2,2,  127.30,2,  140.07,2,    0.00,2,   2.640,2,-999.000,9,-999.000,9,-999.000,9,  -999.0,9,  -999.0,9,-999.0000,9,  -999.00, -999.00,9, -999.00,9,      306,   37.55,2,   1.8997,2,       2270
49UP20160703,         P9,      85,          1,          6,        113,2,20160809,       0242,     0.4887,   142.0117,       3309,  2496.1,   1.7583,  34.6599,2,  34.6601,2,    133.6,2,  133.38,2,  141.51,2,    0.00,2,   2.600,2,-999.000,9,-999.000,9,-999.000,9,  -999.0,9,  -999.0,9,-999.0000,9,  -999.00, -999.00,9, -999.00,9,      301,   37.19,2,   1.7582,2,       2468
49UP20160703,         P9,      85,          1,          5,        658,2,20160809,       0242,     0.4887,   142.0117,       3309,  2698.6,   1.6739,  34.6653,2,  34.6653,2,    138.2,2,  138.03,2,  141.90,2,    0.00,2,   2.570,2,-999.000,9,-999.000,9,-999.000,9,  -999.0,9,  -999.0,9,-999.0000,9,  -999.00, -999.00,9, -999.00,9,      257,   36.81,2,   1.6738,2,       2667
49UP20160703,         P9,      85,          1,          4,        471,2,20160809,       0242,     0.4887,   142.0117,       3309,  2699.1,   1.6739,  34.6653,2,  34.6657,2,    138.3,2,  138.06,2,  141.94,2,    0.00,2,   2.570,2,-999.000,9,-999.000,9,-999.000,9,  -999.0,9,  -999.0,9,-999.0000,9,  -999.00, -999.00,9, -999.00,9,      257,   36.80,2,   1.6739,2,       2667
49UP20160703,         P9,      85,          1,          3,        104,2,20160809,       0242,     0.4887,   142.0117,       3309,  2905.8,   1.6069,  34.6700,2,  34.6688,2,    142.4,2,  142.22,2,  142.28,2,    0.00,2,   2.550,2,-999.000,9,-999.000,9,-999.000,9,  -999.0,9,  -999.0,9,-999.0000,9,  -999.00, -999.00,9, -999.00,9,      252,   36.53,2,   1.6070,2,       2870
49UP20160703,         P9,      85,          1,          2,        075,2,20160809,       0242,     0.4887,   142.0117,       3309,  3120.8,   1.5836,  34.6728,2,  34.6732,2,    144.2,2,  144.02,2,  142.44,6,    0.00,6,   2.540,6,-999.000,9,-999.000,9,-999.000,9,  -999.0,9,  -999.0,9,-999.0000,9,  -999.00, -999.00,9, -999.00,9,      247,   36.40,6,   1.5835,2,       3081
49UP20160703,         P9,      85,          1,          1,        997,2,20160809,       0242,     0.4887,   142.0117,       3309,  3321.7,   1.5923,  34.6738,2,  34.6736,6,    144.3,2,  143.95,2,  142.89,2,    0.00,2,   2.550,2,-999.000,9,-999.000,9,-999.000,9,  -999.0,9,  -999.0,9,-999.0000,9,  -999.00, -999.00,9, -999.00,9,      243,   36.43,2,   1.5923,2,       3278