BOTTLE,20230712CCHSIOENA
EXPOCODE,SECT_ID,STNNBR,CASTNO,SAMPNO,BTLNBR,BTLNBR_FLAG_W,DATE,TIME,LATITUDE,LONGITUDE,DEPTH,CTDPRS,CTDTMP,CTDSAL,CTDSAL_FLAG_W,SALNTY,SALNTY_FLAG_W,CTDOXY,CTDOXY_FLAG_W,OXYGEN,OXYGEN_FLAG_W,SILCAT,SILCAT_FLAG_W,NITRIT,NITRIT_FLAG_W,PHSPHT,PHSPHT_FLAG_W,CFC-11,CFC-11_FLAG_W,CFC-12,CFC-12_FLAG_W,CFC113,CFC113_FLAG_W,TCARBN,TCARBN_FLAG_W,ALKALI,ALKALI_FLAG_W,PH_TOT,PH_TOT_FLAG_W,PH_TMP,CHLORA,CHLORA_FLAG_W,PPHYTN,PPHYTN_FLAG_W,BTL_TIME,NO2+NO3,NO2+NO3_FLAG_W,SBE35,SBE35_FLAG_W,CTDDEPTH
,,,,,,,,,,,METERS,DBAR,ITS-90,PSS-78,,PSS-78,,UMOL/KG,,UMOL/KG,,UMOL/KG,,UMOL/KG,,UMOL/KG,,PMOL/KG,,PMOL/KG,,PMOL/KG,,UMOL/KG,,UMOL/KG,,,,DEG C,UG/KG,,UG/KG,,,UMOL/KG,,ITS-90,,METERS
49UP20160703,         P9,      44,          1,          0,        BUC,2,20160717,       2200,    14.9917,   136.9892,       5200,     0.0,  29.7850,  34.7640,2,  34.7749,2,    195.8,2,  195.66,2,    1.17,2,    0.00,2,   0.020,2,-999.000,9,-999.000,9,-999.000,9,  1952.1,2,  2286.7,2,   8.1087,2,    25.00,    0.06,2,    0.02,2,     2354,    0.04,3,-999.0000,9,          0
49UP20160703,         P9,      44,          1,         36,        109,2,20160717,       2200,    14.9917,   136.9892,       5200,    10.5,  29.8081,  34.7654,2,  34.7648,2,    195.9,2,  195.53,2,    1.11,2,    0.00,2,   0.020,2,   1.491,6,   0.927,6,   0.118,6,  1952.3,2,  2283.9,2,   8.1087,6,    25.00,    0.05,2,    0.02,2,       17,    0.02,3,  29.8122,2,         10
49UP20160703,         P9,      44,          1,         35,        112,2,20160717,       2200,    14.9917,   136.9892,       5200,    50.4,  29.4467,  34.7699,2,  34.7689,2,    199.9,2,  199.71,6,    1.07,6,    0.00,6,   0.020,6,   1.550,2,   0.958,2,   0.125,2,  1951.3,2,  2285.7,2,   8.1073,2,    25.00,    0.06,2,    0.02,2,       12,    0.00,3,  29.4487,2,         50
49UP20160703,         P9,      44,          1,         34,        094,2,20160717,       2200,    14.9917,   136.9892,       5200,   101.7,  27.1623,  34.8225,2,  34.8281,6,    205.7,2,  205.23,2,    1.09,2,    0.00,2,   0.050,2,   1.719,2,   1.056,2,   0.147,2,  1965.8,2,  2291.0,2,   8.0911,2,    25.00,    0.12,2,    0.08,2,       10,    0.02,3,  27.1770,2,        101
49UP20160703,         P9,      44,          1,         33,        469,2,20160717,       2200,    14.9917,   136.9892,       5200,   126.1,  24.8366,  35.0633,2,  35.0653,2,    195.6,2,  195.73,2,    1.47,2,    0.06,2,   0.120,2,   1.885,2,   1.163,2,   0.130,2,  2009.6,2,  2308.6,2,   8.0425,2,    25.00,    0.21,2,    0.43,2,        9,    0.10,3,  24.8417,2,        125
49UP20160703,         P9,      44,          1,         32,        089,2,20160717,       2200,    14.9917,   136.9892,       5200,   151.1,  23.2347,  35.1881,2,  35.1901,2,    188.6,2,  188.64,2,    1.74,2,    0.06,2,   0.150,2,   1.394,4,   0.862,4,   0.072,3,  2034.5,2,  2316.0,2,   8.0099,2,    25.00,    0.14,2,    0.33,2,        8,    0.72,3,  23.2328,2,        150
49UP20160703,         P9,      44,          1,         31,        515,2,20160717,       2200,    14.9917,   136.9892,       5200,   201.3,  19.1762,  34.9343,2,  34.9314,2,    189.9,2,  190.82,2,    2.82,2,    0.01,2,   0.240,2,   2.309,2,   1.433,2,   0.043,2,  2047.9,2,  2294.6,2,   7.9534,2,    25.00,    0.01,2,    0.04,2,        6,    3.27,3,  19.1783,2,        200
49UP20160703,         P9,      44,          1,         30,        097,2,20160717,       2200,    14.9917,   136.9892,       5200,   251.3,  15.8852,  34.6174,2,  34.6145,6,    181.4,2,  180.02,2,    7.69,2,    0.00,2,   0.640,2,   2.577,2,   1.531,2,   0.039,2,  2081.6,2,  2279.3,2,   7.8602,2,    25.00, -999.00,9, -999.00,9,        4,    8.68,3,  15.8850,2,        250
49UP20160703,         P9,      44,          1,         29,        102,2,20160717,       2200,    14.9917,   136.9892,       5200,   332.5,  11.5894,  34.3273,2,  34.3225,2,    146.6,2,  146.91,6,   21.69,6,    0.00,6,   1.380,6,   2.614,2,   1.429,2,   0.050,2,  2143.6,2,  2272.9,2,   7.6998,2,    25.00, -999.00,9, -999.00,9,        2,   18.79,3,  11.5892,2,        330
49UP20160703,         P9,      44,          1,         28,        472,2,20160717,       2200,    14.9917,   136.9892,       5200,   382.3,   9.9013,  34.2796,2,  34.2825,2,    121.5,2,  120.07,2,   31.48,2,    0.00,2,   1.770,2,-999.000,9,-999.000,9,-999.000,9,  2182.7,2,  2279.5,2,   7.6136,2,    25.00, -999.00,9, -999.00,9,        0,   24.34,3,   9.9011,2,        380
49UP20160703,         P9,      44,          1,         27,        998,2,20160717,       2200,    14.9917,   136.9892,       5200,   433.0,   8.6393,  34.3353,2,  34.3382,2,     85.8,2,   85.38,2,   42.63,2,    0.00,2,   2.190,2,   1.402,2,   0.687,2,   0.024,2,  2223.6,2,  2292.6,2,   7.5303,6,    25.00, -999.00,9, -999.00,9,     2358,   29.96,3,   8.6472,2,        430
49UP20160703,         P9,      44,          1,         26,        084,2,20160717,       2200,    14.9917,   136.9892,       5200,   483.0,   7.7627,  34.3552,2,  34.3552,2,     74.8,2,   74.61,2,   50.97,2,    0.00,2,   2.380,2,-999.000,9,-999.000,9,-999.000,9,  2245.6,6,  2302.7,6,   7.4956,2,    25.00, -999.00,9, -999.00,9,     2356,   32.76,3,   7.7585,2,        480
49UP20160703,         P9,      44,          1,         25,        098,2,20160717,       2200,    14.9917,   136.9892,       5200,   534.1,   7.2415,  34.3797,2,  34.3797,2,     70.9,2,   70.87,2,   56.51,2,    0.00,2,   2.480,2,   0.732,6,   0.348,6,   0.007,6,  2258.8,2,  2311.2,2,   7.4819,2,    25.00, -999.00,9, -999.00,9,     2354,   34.23,3,   7.2496,2,        530
49UP20160703,         P9,      44,          1,         24,        110,2,20160717,       2200,    14.9917,   136.9892,       5200,   635.5,   6.2902,  34.4261,2,  34.4261,2,     71.7,2,   71.76,2,   67.83,2,    0.00,2,   2.600,2,   0.377,2,   0.193,2,   0.011,2,  2276.2,2,  2325.2,2,    7.478,2,    25.00, -999.00,9, -999.00,9,     2351,   36.10,3,   6.2905,2,        631
49UP20160703,         P9,      44,          1,         23,        679,2,20160717,       2200,    14.9917,   136.9892,       5200,   736.2,   5.5849,  34.4616,2,  34.4618,2,     74.3,2,   74.42,2,   77.71,2,    0.00,2,   2.670,2,   0.227,2,   0.119,2,   0.008,2,  2286.9,2,  2339.3,2,   7.4776,2,    25.00, -999.00,9, -999.00,9,     2348,   37.01,3,   5.5842,2,        731
49UP20160703,         P9,      44,          1,         22,        111,2,20160717,       2200,    14.9917,   136.9892,       5200,   836.0,   4.9816,  34.4993,2,  34.4994,2,     78.7,2,   79.01,2,   86.87,2,    0.00,2,   2.710,2,   0.129,2,   0.071,2,   0.006,2,  2296.9,2,  2351.3,2,   7.4784,2,    25.00, -999.00,9, -999.00,9,     2346,   37.74,3,   4.9814,2,        829
49UP20160703,         P9,      44,          1,         21,        078,2,20160717,       2200,    14.9917,   136.9892,       5200,   938.3,   4.5274,  34.5246,2,  34.5248,2,     82.1,2,   82.24,2,   94.72,2,    0.00,2,   2.740,2,   0.079,2,   0.041,2,   0.000,2,  2307.9,2,  2362.3,2,   7.4865,2,    25.00, -999.00,9, -999.00,9,     2343,   38.19,3,   4.5277,2,        931
49UP20160703,         P9,      44,          1,         20,        093,2,20160717,       2200,    14.9917,   136.9892,       5200,  1079.7,   4.0248,  34.5462,2,  34.5461,2,     87.7,2,   88.02,2,  104.01,2,    0.00,2,   2.740,2,   0.058,2,   0.030,2,   0.004,2,  2315.5,2,  2372.2,2,    7.491,2,    25.00, -999.00,9, -999.00,9,     2339,   38.23,3,   4.0246,2,       1071
49UP20160703,         P9,      44,          1,         19,        269,2,20160717,       2200,    14.9917,   136.9892,       5200,  1281.6,   3.3914,  34.5649,2,  34.5655,2,     92.1,2,   92.33,2,  117.35,2,    0.00,2,   2.750,2,   0.032,2,   0.010,2,   0.005,2,  2324.9,2,  2382.9,2,   7.4953,2,    25.00, -999.00,9, -999.00,9,     2334,   38.45,3,   3.3913,2,       1270
49UP20160703,         P9,      44,          1,         18,        088,2,20160717,       2200,    14.9917,   136.9892,       5200,  1484.6,   2.9466,  34.5821,2,  34.5828,2,     97.9,2,   97.96,2,  126.34,2,    0.00,2,   2.740,2,   0.018,2,   0.006,2,   0.001,2,  2331.9,6,  2394.5,6,   7.5008,2,    25.00, -999.00,9, -999.00,9,     2329,   38.39,3,   2.9464,2,       1471
49UP20160703,         P9,      44,          1,         17,        090,2,20160717,       2200,    14.9917,   136.9892,       5200,  1687.3,   2.6006,  34.5977,2,  34.5983,2,    103.2,2,  103.29,2,  132.77,2,    0.00,2,   2.720,2,-999.000,9,-999.000,9,-999.000,9,  2336.5,2,  2399.9,2,   7.5046,2,    25.00, -999.00,9, -999.00,9,     2324,   38.33,3,   2.6010,2,       1671
49UP20160703,         P9,      44,          1,         16,        474,2,20160717,       2200,    14.9917,   136.9892,       5200,  1889.2,   2.2869,  34.6163,2,  34.6167,2,    109.4,2,  109.64,2,  137.88,2,    0.00,2,   2.700,2,-999.000,9,-999.000,9,-999.000,9,  2339.3,2,  2404.8,2,   7.5159,2,    25.00, -999.00,9, -999.00,9,     2319,   38.22,3,   2.2867,2,       1870
49UP20160703,         P9,      44,          1,         15,        665,2,20160717,       2200,    14.9917,   136.9892,       5200,  2094.4,   2.0786,  34.6307,2,  34.6312,2,    115.6,2,  115.67,2,  141.08,2,    0.00,2,   2.680,2,   0.005,2,   0.000,2,   0.000,2,  2341.8,2,  2408.0,2,   7.5201,2,    25.00, -999.00,9, -999.00,9,     2314,   38.01,3,   2.0791,2,       2072
49UP20160703,         P9,      44,          1,         14,        999,2,20160717,       2200,    14.9917,   136.9892,       5200,  2295.5,   1.9240,  34.6424,2,  34.6430,2,    121.7,2,  121.44,2,  143.24,2,    0.00,2,   2.650,2,-999.000,9,-999.000,9,-999.000,9,  2341.5,2,  2413.3,2,   7.5333,2,    25.00, -999.00,9, -999.00,9,     2309,   37.77,3,   1.9239,2,       2270
49UP20160703,         P9,      44,          1,         13,        667,3,20160717,       2200,    14.9917,   136.9892,       5200,  2499.2,   1.8222,  34.6492,2,  34.6501,6,    126.2,2,  126.22,2,  144.23,2,    0.00,2,   2.620,2,   0.001,2,   0.000,2,   0.000,2,  2338.1,2,  2413.8,2,   7.5378,2,    25.00, -999.00,9, -999.00,9,     2304,   37.50,3,   1.8219,2,       2470
49UP20160703,         P9,      44,          1,         12,        074,2,20160717,       2200,    14.9917,   136.9892,       5200,  2703.3,   1.7418,  34.6565,2,  34.6568,2,    131.2,2,  130.95,6,  144.80,6,    0.00,6,   2.600,6,-999.000,9,-999.000,9,-999.000,9,  2334.8,2,  2414.9,2,   7.5441,2,    25.00, -999.00,9, -999.00,9,     2259,   37.22,3,   1.7418,2,       2670
49UP20160703,         P9,      44,          1,         11,        268,2,20160717,       2200,    14.9917,   136.9892,       5200,  2906.0,   1.6701,  34.6626,2,  34.6630,2,    136.3,2,  136.20,2,  144.55,2,    0.00,2,   2.570,2,-999.000,9,-999.000,9,-999.000,9,  2335.9,2,  2415.0,2,   7.5561,2,    25.00, -999.00,9, -999.00,9,     2254,   36.70,3,   1.6701,2,       2869
49UP20160703,         P9,      44,          1,         10,        267,2,20160717,       2200,    14.9917,   136.9892,       5200,  3121.3,   1.6372,  34.6670,2,  34.6668,2,    139.8,2,  139.73,2,  144.02,2,    0.00,2,   2.560,2,   0.002,2,   0.000,2,   0.000,2,  2331.6,2,  2416.3,2,   7.5613,6,    25.00, -999.00,9, -999.00,9,     2249,   36.52,3,   1.6370,2,       3080
49UP20160703,         P9,      44,          1,          9,        518,2,20160717,       2200,    14.9917,   136.9892,       5200,  3376.0,   1.6043,  34.6713,2,  34.6719,2,    143.9,2,  143.70,2,  143.54,2,    0.00,2,   2.540,2,-999.000,9,-999.000,9,-999.000,9,  2330.3,2,  2414.6,2,   7.5663,2,    25.00, -999.00,9, -999.00,9,     2243,   36.25,3,   1.6043,2,       3330
49UP20160703,         P9,      44,          1,          8,        470,2,20160717,       2200,    14.9917,   136.9892,       5200,  3632.5,   1.5674,  34.6759,2,  34.6761,2,    148.3,2,  148.20,2,  142.67,2,    0.00,2,   2.510,2,   0.000,2,   0.000,2,   0.006,2,  2324.6,2,  2413.5,2,   7.5729,2,    25.00, -999.00,9, -999.00,9,     2238,   35.94,3,   1.5673,2,       3581
49UP20160703,         P9,      44,          1,          7,        516,2,20160717,       2200,    14.9917,   136.9892,       5200,  3888.1,   1.5436,  34.6797,2,  34.6802,2,    152.3,2,  152.45,2,  141.76,2,    0.00,2,   2.490,2,-999.000,9,-999.000,9,-999.000,9,  2324.3,2,  2413.7,2,   7.5805,2,    25.00, -999.00,9, -999.00,9,     2232,   35.75,3,   1.5436,2,       3830
49UP20160703,         P9,      44,          1,          6,        113,2,20160717,       2200,    14.9917,   136.9892,       5200,  4144.4,   1.5173,  34.6835,2,  34.6840,2,    157.1,2,  157.14,2,  140.32,2,    0.00,2,   2.470,2,   0.000,2,   0.000,2,   0.000,2,  2321.7,2,  2411.5,2,   7.5818,2,    25.00, -999.00,9, -999.00,9,     2227,   35.43,3,   1.5171,2,       4080
49UP20160703,         P9,      44,          1,          5,        658,2,20160717,       2200,    14.9917,   136.9892,       5200,  4401.4,   1.5095,  34.6864,2,  34.6862,2,    160.5,2,  160.33,2,  139.11,2,    0.00,2,   2.450,2,-999.000,9,-999.000,9,-999.000,9,  2317.9,2,  2409.6,2,   7.5895,2,    25.00, -999.00,9, -999.00,9,     2221,   35.20,3,   1.5096,2,       4331
49UP20160703,         P9,      44,          1,          4,        471,2,20160717,       2200,    14.9917,   136.9892,       5200,  4658.5,   1.5327,  34.6869,2,  34.6872,2,    161.1,2,  161.16,2,  139.02,2,    0.00,2,   2.450,2,   0.000,2,   0.000,2,   0.002,2,  2319.3,2,  2410.4,2,   7.5873,2,    25.00, -999.00,9, -999.00,9,     2216,   35.21,3,   1.5328,2,       4581
49UP20160703,         P9,      44,          1,          3,        104,2,20160717,       2200,    14.9917,   136.9892,       5200,  4915.1,   1.5621,  34.6871,2,  34.6876,2,    161.3,2,  162.17,2,  139.10,2,    0.00,2,   2.440,2,-999.000,9,-999.000,9,-999.000,9,  2315.5,2,  2410.0,2,   7.5888,2,    25.00, -999.00,9, -999.00,9,     2210,   35.17,3,   1.5620,2,       4831
49UP20160703,         P9,      44,          1,          2,        075,2,20160717,       2200,    14.9917,   136.9892,       5200,  5172.4,   1.5913,  34.6873,2,  34.6883,2,    161.6,2,  162.07,6,  138.87,6,    0.00,6,   2.440,6,   0.005,2,   0.000,2,   0.000,2,  2315.1,2,  2409.5,2,   7.5903,2,    25.00, -999.00,9, -999.00,9,     2205,   35.11,3,   1.5913,2,       5081
49UP20160703,         P9,      44,          1,          1,        997,2,20160717,       2200,    14.9917,   136.9892,       5200,  5358.9,   1.6148,  34.6873,2,  34.6876,2,    161.8,2,  162.08,2,  138.98,2,    0.00,2,   2.450,2,   0.000,2,   0.000,2,   0.000,2,  2317.2,6,  2409.6,6,   7.5898,2,    25.00, -999.00,9, -999.00,9,     2200,   35.10,3,   1.6148,2,       5262