BOTTLE,20230712CCHSIOENA
EXPOCODE,SECT_ID,STNNBR,CASTNO,SAMPNO,BTLNBR,BTLNBR_FLAG_W,DATE,TIME,LATITUDE,LONGITUDE,DEPTH,CTDPRS,CTDTMP,CTDSAL,CTDSAL_FLAG_W,SALNTY,SALNTY_FLAG_W,CTDOXY,CTDOXY_FLAG_W,OXYGEN,OXYGEN_FLAG_W,SILCAT,SILCAT_FLAG_W,NITRIT,NITRIT_FLAG_W,PHSPHT,PHSPHT_FLAG_W,CFC-11,CFC-11_FLAG_W,CFC-12,CFC-12_FLAG_W,CFC113,CFC113_FLAG_W,TCARBN,TCARBN_FLAG_W,ALKALI,ALKALI_FLAG_W,PH_TOT,PH_TOT_FLAG_W,PH_TMP,CHLORA,CHLORA_FLAG_W,PPHYTN,PPHYTN_FLAG_W,BTL_TIME,NO2+NO3,NO2+NO3_FLAG_W,SBE35,SBE35_FLAG_W,CTDDEPTH
,,,,,,,,,,,METERS,DBAR,ITS-90,PSS-78,,PSS-78,,UMOL/KG,,UMOL/KG,,UMOL/KG,,UMOL/KG,,UMOL/KG,,PMOL/KG,,PMOL/KG,,PMOL/KG,,UMOL/KG,,UMOL/KG,,,,DEG C,UG/KG,,UG/KG,,,UMOL/KG,,ITS-90,,METERS
49UP20160703,         P9,      78,          1,          0,        BUC,2,20160806,       2326,     2.3808,   140.0135,       4131,     0.0,  29.7880,  33.8087,2,  33.8095,2,    194.6,2,  194.59,2,    0.85,2,    0.00,2,   0.130,2,-999.000,9,-999.000,9,-999.000,9,  1894.6,2,  2221.6,2,   8.1243,2,    25.00,    0.10,2,    0.04,2,       45,    0.04,2,-999.0000,9,          0
49UP20160703,         P9,      78,          1,         36,        109,2,20160806,       2326,     2.3808,   140.0135,       4131,    10.2,  29.7782,  33.8083,2,  33.8077,2,    194.6,2,  194.23,2,    0.81,2,    0.00,2,   0.100,2,   1.475,2,   0.921,2,   0.115,2,  1894.3,2,  2222.6,2,   8.1288,2,    25.00,    0.09,2,    0.05,2,      120,    0.04,2,  29.7826,2,         10
49UP20160703,         P9,      78,          1,         35,        112,2,20160806,       2326,     2.3808,   140.0135,       4131,    25.9,  29.7801,  33.8063,2,  33.8072,2,    194.6,2,  194.32,2,    0.85,2,    0.00,2,   0.100,2,   1.470,2,   0.918,2,   0.120,2,  1894.3,2,  2221.7,2,   8.1271,2,    25.00,    0.10,2,    0.05,2,      118,    0.05,2,  29.7811,2,         26
49UP20160703,         P9,      78,          1,         34,        094,2,20160806,       2326,     2.3808,   140.0135,       4131,    50.8,  29.8400,  33.8513,2,  33.8631,4,    194.8,2,  194.46,2,    0.86,2,    0.00,2,   0.110,2,   1.478,2,   0.922,2,   0.116,2,  1896.6,2,  2226.1,2,    8.125,2,    25.00,    0.12,2,    0.06,2,      117,    0.05,2,  29.8543,2,         51
49UP20160703,         P9,      78,          1,         33,        469,2,20160806,       2326,     2.3808,   140.0135,       4131,    76.0,  30.0163,  34.4016,2,  34.4076,2,    200.0,2,  199.81,6,    1.06,6,    0.00,6,   0.100,6,   1.555,2,   0.953,2,   0.123,2,  1938.7,2,  2261.7,2,   8.1094,2,    25.00,    0.23,2,    0.14,2,      115,    0.04,6,  30.0161,2,         76
49UP20160703,         P9,      78,          1,         32,        089,2,20160806,       2326,     2.3808,   140.0135,       4131,   101.6,  28.0551,  34.6775,2,  34.6830,6,    187.7,2,  186.31,2,    1.48,2,    0.07,2,   0.160,2,   1.633,6,   1.010,6,   0.108,6,  1978.6,2,  2282.3,2,   8.0611,2,    25.00,    0.24,2,    0.38,2,      114,    0.28,2,  28.0552,2,        101
49UP20160703,         P9,      78,          1,         31,        515,2,20160806,       2326,     2.3808,   140.0135,       4131,   127.3,  25.1681,  34.8422,2,  34.8497,2,    158.6,2,  159.23,2,    3.90,2,    0.04,2,   0.440,2,   1.758,2,   1.079,2,   0.086,2,  2028.1,2,  2290.5,2,   7.9803,2,    25.00,    0.07,2,    0.22,2,      112,    4.90,2,  25.1522,2,        127
49UP20160703,         P9,      78,          1,         30,        097,2,20160806,       2326,     2.3808,   140.0135,       4131,   151.2,  20.2681,  34.8957,2,  34.8907,2,    158.4,2,  158.14,2,    6.18,2,    0.02,2,   0.600,2,   2.111,2,   1.309,2,   0.036,2,  2075.6,2,  2296.3,2,   7.9042,6,    25.00,    0.02,2,    0.05,2,      108,    7.06,2,  20.3106,2,        150
49UP20160703,         P9,      78,          1,         29,        102,2,20160806,       2326,     2.3808,   140.0135,       4131,   201.7,  13.7054,  34.5688,2,  34.5634,2,    127.4,2,  126.82,2,   19.10,2,    0.00,2,   1.350,2,   2.148,2,   1.189,2,   0.010,2,  2145.6,2,  2284.8,2,   7.7201,2,    25.00,    0.00,2,    0.03,2,      106,   18.44,2,  13.7141,2,        200
49UP20160703,         P9,      78,          1,         28,        472,2,20160806,       2326,     2.3808,   140.0135,       4131,   251.4,  11.1732,  34.6183,2,  34.6485,4,    123.1,2,  123.62,2,   28.39,2,    0.00,2,   1.700,2,   1.603,2,   0.863,2,   0.010,2,  2182.4,2,  2304.0,2,   7.6729,2,    25.00, -999.00,9, -999.00,9,      105,   23.69,2,  11.1799,2,        250
49UP20160703,         P9,      78,          1,         27,        998,2,20160806,       2326,     2.3808,   140.0135,       4131,   300.6,  10.2048,  34.7301,2,  34.7302,2,    122.4,2,  122.27,2,   21.99,2,    0.00,2,   1.820,2,   1.424,2,   0.736,2,   0.004,2,  2192.9,2,  2302.8,2,   7.6462,2,    25.00, -999.00,9, -999.00,9,      103,   25.74,2,  10.2051,2,        299
49UP20160703,         P9,      78,          1,         26,        084,2,20160806,       2326,     2.3808,   140.0135,       4131,   356.2,   9.8115,  34.6972,2,  34.6972,2,    116.1,2,  116.10,2,   24.68,2,    0.00,2,   1.910,2,-999.000,9,-999.000,9,-999.000,9,  2198.7,2,  2302.9,2,   7.6279,2,    25.00, -999.00,9, -999.00,9,      100,   27.10,2,   9.8127,2,        354
49UP20160703,         P9,      78,          1,         25,        098,2,20160806,       2326,     2.3808,   140.0135,       4131,   404.4,   9.4037,  34.6667,2,  34.6667,2,    111.2,2,  112.20,2,   26.94,2,    0.00,2,   1.990,2,   1.162,2,   0.591,2,   0.006,2,  2206.2,6,  2304.9,6,   7.6126,2,    25.00, -999.00,9, -999.00,9,       59,   28.28,2,   9.4073,2,        402
49UP20160703,         P9,      78,          1,         24,        110,2,20160806,       2326,     2.3808,   140.0135,       4131,   453.8,   8.9773,  34.6469,2,  34.6469,2,    129.5,2,  129.84,2,   24.63,2,    0.00,2,   1.920,2,-999.000,9,-999.000,9,-999.000,9,  2199.3,2,  2304.2,2,   7.6303,2,    25.00, -999.00,9, -999.00,9,       57,   27.46,2,   8.9775,2,        451
49UP20160703,         P9,      78,          1,         23,        679,2,20160806,       2326,     2.3808,   140.0135,       4131,   500.6,   8.4140,  34.6099,2,  34.6102,2,    139.2,2,  138.78,2,   25.75,2,    0.00,2,   1.950,2,   1.219,2,   0.610,2,   0.001,2,  2200.4,2,  2302.1,2,   7.6314,2,    25.00, -999.00,9, -999.00,9,       55,   27.70,2,   8.4121,2,        497
49UP20160703,         P9,      78,          1,         21,        078,2,20160806,       2326,     2.3808,   140.0135,       4131,   604.8,   7.1782,  34.5499,2,  34.5500,2,    130.2,2,  130.08,2,   35.70,2,    0.00,2,   2.180,2,   0.796,2,   0.397,2,   0.012,2,  2219.9,2,  2309.6,2,   7.5925,2,    25.00, -999.00,9, -999.00,9,       52,   31.04,2,   7.1779,2,        601
49UP20160703,         P9,      78,          1,         22,        111,2,20160806,       2326,     2.3808,   140.0135,       4131,   606.3,   7.1792,  34.5499,2,  34.5497,2,    130.2,2,  129.91,2,   35.80,2,    0.00,2,   2.180,2,-999.000,9,-999.000,9,-999.000,9,  2220.0,2,  2309.3,2,   7.5918,2,    25.00, -999.00,9, -999.00,9,       53,   31.09,2,   7.1790,2,        602
49UP20160703,         P9,      78,          1,         20,        093,2,20160806,       2326,     2.3808,   140.0135,       4131,   705.1,   6.4962,  34.5333,2,  34.5333,2,    110.5,2,  109.58,2,   50.08,2,    0.00,2,   2.400,2,   0.433,2,   0.224,2,   0.008,2,  2245.7,2,  2319.4,2,   7.5476,6,    25.00, -999.00,9, -999.00,9,       50,   33.98,2,   6.4917,2,        700
49UP20160703,         P9,      78,          1,         19,        269,2,20160806,       2326,     2.3808,   140.0135,       4131,   805.3,   5.5875,  34.5280,2,  34.5281,2,    111.1,2,  111.23,2,   59.62,2,    0.00,2,   2.500,2,   0.265,2,   0.138,2,   0.000,2,  2257.7,2,  2331.7,2,   7.5391,2,    25.00, -999.00,9, -999.00,9,       47,   35.42,2,   5.5873,2,        799
49UP20160703,         P9,      78,          1,         18,        088,2,20160806,       2326,     2.3808,   140.0135,       4131,   907.9,   5.2739,  34.5376,2,  34.5374,2,     95.9,2,   96.18,2,   69.39,2,    0.00,2,   2.630,2,   0.126,2,   0.068,2,   0.000,2,  2275.5,2,  2339.4,2,   7.5117,2,    25.00, -999.00,9, -999.00,9,       44,   37.14,2,   5.2787,2,        901
49UP20160703,         P9,      78,          1,         17,        090,2,20160806,       2326,     2.3808,   140.0135,       4131,  1012.8,   4.7664,  34.5476,2,  34.5472,2,     98.9,2,   98.29,2,   80.73,2,    0.00,2,   2.660,2,   0.104,6,   0.053,6,   0.002,6,  2286.5,2,  2351.8,2,   7.5123,2,    25.00, -999.00,9, -999.00,9,       40,   37.42,2,   4.7672,2,       1005
49UP20160703,         P9,      78,          1,         16,        474,2,20160806,       2326,     2.3808,   140.0135,       4131,  1212.2,   3.9241,  34.5695,2,  34.5694,2,     95.0,2,   94.82,6,   99.25,6,    0.00,6,   2.750,6,   0.031,2,   0.017,2,   0.000,2,  2309.9,2,  2367.6,2,   7.5037,2,    25.00, -999.00,9, -999.00,9,       35,   38.58,6,   3.9257,2,       1202
49UP20160703,         P9,      78,          1,         15,        665,2,20160806,       2326,     2.3808,   140.0135,       4131,  1413.5,   3.2273,  34.5920,2,  34.5920,6,     98.8,2,   98.81,2,  114.42,2,    0.00,2,   2.770,2,   0.007,2,   0.000,2,   0.000,2,  2324.0,2,  2386.7,2,   7.5015,2,    25.00, -999.00,9, -999.00,9,       31,   38.93,2,   3.2282,2,       1401
49UP20160703,         P9,      78,          1,         14,        999,2,20160806,       2326,     2.3808,   140.0135,       4131,  1618.2,   2.8229,  34.6079,2,  34.6076,2,    104.7,2,  104.55,2,  122.92,2,    0.00,2,   2.750,2,-999.000,9,-999.000,9,-999.000,9,  2329.6,6,  2393.2,6,   7.5104,2,    25.00, -999.00,9, -999.00,9,       25,   38.79,2,   2.8235,2,       1603
49UP20160703,         P9,      78,          1,         13,        667,2,20160806,       2326,     2.3808,   140.0135,       4131,  1818.5,   2.4678,  34.6239,2,  34.6239,2,    108.4,2,  108.36,2,  131.39,2,    0.00,2,   2.740,2,-999.000,9,-999.000,9,-999.000,9,  2337.5,2,  2403.8,2,   7.5176,2,    25.00, -999.00,9, -999.00,9,       20,   38.76,2,   2.4678,2,       1801
49UP20160703,         P9,      78,          1,         12,        074,2,20160806,       2326,     2.3808,   140.0135,       4131,  2021.4,   2.1613,  34.6384,2,  34.6382,2,    117.6,2,  117.28,6,  136.65,6,    0.00,6,   2.700,6,   0.000,2,   0.000,2,   0.000,2,  2337.1,2,  2410.4,2,   7.5275,2,    25.00, -999.00,9, -999.00,9,       16,   38.24,6,   2.1613,2,       2001
49UP20160703,         P9,      78,          1,         11,        268,2,20160806,       2326,     2.3808,   140.0135,       4131,  2223.6,   1.9426,  34.6511,2,  34.6509,6,    122.1,2,  121.90,2,  141.07,2,    0.00,2,   2.670,2,-999.000,9,-999.000,9,-999.000,9,  2342.6,2,  2415.3,2,   7.5377,2,    25.00, -999.00,9, -999.00,9,       10,   38.03,2,   1.9426,2,       2200
49UP20160703,         P9,      78,          1,         10,        267,2,20160806,       2326,     2.3808,   140.0135,       4131,  2428.2,   1.7977,  34.6590,2,  34.6587,2,    129.3,2,  129.44,2,  142.41,2,    0.00,2,   2.630,2,   0.000,2,   0.000,2,   0.000,2,  2340.0,2,  2415.3,2,   7.5465,2,    25.00, -999.00,9, -999.00,9,        6,   37.60,2,   1.7977,2,       2401
49UP20160703,         P9,      78,          1,          9,        518,2,20160806,       2326,     2.3808,   140.0135,       4131,  2631.9,   1.7124,  34.6636,2,  34.6643,2,    135.1,2,  134.90,2,  142.29,2,    0.00,2,   2.600,2,-999.000,9,-999.000,9,-999.000,9,  2335.7,2,  2416.5,2,   7.5546,2,    25.00, -999.00,9, -999.00,9,        1,   37.23,2,   1.7124,2,       2601
49UP20160703,         P9,      78,          1,          8,        470,2,20160806,       2326,     2.3808,   140.0135,       4131,  2836.3,   1.6311,  34.6687,2,  34.6691,2,    140.1,2,  139.95,2,  142.47,2,    0.00,2,   2.580,2,-999.000,9,-999.000,9,-999.000,9,  2331.9,6,  2418.0,6,    7.565,2,    25.00, -999.00,9, -999.00,9,     2356,   36.82,2,   1.6312,2,       2802
49UP20160703,         P9,      78,          1,          7,        516,2,20160806,       2326,     2.3808,   140.0135,       4131,  3038.9,   1.5828,  34.6725,2,  34.6726,2,    143.6,2,  143.59,2,  142.67,2,    0.00,2,   2.550,2,   0.000,2,   0.002,2,   0.000,2,  2330.6,2,  2418.6,2,   7.5709,2,    25.00, -999.00,9, -999.00,9,     2352,   36.58,2,   1.5829,2,       3001
49UP20160703,         P9,      78,          1,          6,        113,2,20160806,       2326,     2.3808,   140.0135,       4131,  3293.9,   1.5597,  34.6758,2,  34.6762,2,    145.6,2,  145.69,2,  142.95,2,    0.00,2,   2.540,2,-999.000,9,-999.000,9,-999.000,9,  2333.4,2,  2420.8,2,   7.5741,6,    25.00, -999.00,9, -999.00,9,     2346,   36.46,2,   1.5596,2,       3250
49UP20160703,         P9,      78,          1,          5,        658,2,20160806,       2326,     2.3808,   140.0135,       4131,  3550.5,   1.5555,  34.6782,2,  34.6788,2,    147.3,2,  146.89,6,  142.87,6,    0.00,6,   2.550,6,   0.000,2,   0.000,2,   0.000,2,  2332.2,2,  2421.3,2,    7.581,2,    25.00, -999.00,9, -999.00,9,     2340,   36.37,6,   1.5556,2,       3502
49UP20160703,         P9,      78,          1,          4,        471,2,20160806,       2326,     2.3808,   140.0135,       4131,  3802.2,   1.5489,  34.6805,2,  34.6798,2,    149.5,2,  149.30,2,  142.70,2,    0.00,2,   2.520,2,-999.000,9,-999.000,9,-999.000,9,  2331.0,2,  2423.1,2,   7.5821,2,    25.00, -999.00,9, -999.00,9,     2335,   36.28,2,   1.5487,2,       3748
49UP20160703,         P9,      78,          1,          3,        104,2,20160806,       2326,     2.3808,   140.0135,       4131,  3802.9,   1.5491,  34.6804,2,  34.6802,2,    149.5,2,  149.59,2,  142.71,2,    0.00,2,   2.540,2,-999.000,9,-999.000,9,-999.000,9,  2331.0,2,  2422.6,2,   7.5822,2,    25.00, -999.00,9, -999.00,9,     2335,   36.60,2,   1.5490,2,       3748
49UP20160703,         P9,      78,          1,          2,        075,2,20160806,       2326,     2.3808,   140.0135,       4131,  4060.5,   1.5223,  34.6850,2,  34.6853,6,    153.3,2,  153.42,2,  142.27,2,    0.00,2,   2.510,2,   0.001,2,   0.000,2,   0.000,2,  2328.4,2,  2423.6,2,   7.5915,2,    25.00, -999.00,9, -999.00,9,     2329,   35.98,2,   1.5222,2,       4000
49UP20160703,         P9,      78,          1,          1,        997,2,20160806,       2326,     2.3808,   140.0135,       4131,  4182.8,   1.5178,  34.6863,2,  34.6869,2,    154.7,2,  154.66,2,  142.39,2,    0.00,2,   2.500,2,   0.022,4,   0.008,2,   0.000,2,  2328.3,2,  2423.6,2,   7.5941,2,    25.00, -999.00,9, -999.00,9,     2326,   35.96,2,   1.5177,2,       4119