BOTTLE,20230712CCHSIOENA
EXPOCODE,SECT_ID,STNNBR,CASTNO,SAMPNO,BTLNBR,BTLNBR_FLAG_W,DATE,TIME,LATITUDE,LONGITUDE,DEPTH,CTDPRS,CTDTMP,CTDSAL,CTDSAL_FLAG_W,SALNTY,SALNTY_FLAG_W,CTDOXY,CTDOXY_FLAG_W,OXYGEN,OXYGEN_FLAG_W,SILCAT,SILCAT_FLAG_W,NITRIT,NITRIT_FLAG_W,PHSPHT,PHSPHT_FLAG_W,CFC-11,CFC-11_FLAG_W,CFC-12,CFC-12_FLAG_W,CFC113,CFC113_FLAG_W,TCARBN,TCARBN_FLAG_W,ALKALI,ALKALI_FLAG_W,PH_TOT,PH_TOT_FLAG_W,PH_TMP,CHLORA,CHLORA_FLAG_W,PPHYTN,PPHYTN_FLAG_W,BTL_TIME,NO2+NO3,NO2+NO3_FLAG_W,SBE35,SBE35_FLAG_W,CTDDEPTH
,,,,,,,,,,,METERS,DBAR,ITS-90,PSS-78,,PSS-78,,UMOL/KG,,UMOL/KG,,UMOL/KG,,UMOL/KG,,UMOL/KG,,PMOL/KG,,PMOL/KG,,PMOL/KG,,UMOL/KG,,UMOL/KG,,,,DEG C,UG/KG,,UG/KG,,,UMOL/KG,,ITS-90,,METERS
49UP20160703,         P9,       5,          1,          0,        BUC,2,20160705,       0431,     33.007,   137.0548,       4269,     0.0,  28.4094,  34.4548,2,  34.4534,2,    201.6,2,  200.90,2,    1.58,2,    0.00,2,   0.060,2,-999.000,9,-999.000,9,-999.000,9,  1949.9,2,  2265.3,2,   8.0879,2,    25.00,    0.10,2,    0.03,2,      552,    0.05,2,-999.0000,9,          0
49UP20160703,         P9,       5,          1,         35,        112,2,20160705,       0431,     33.007,   137.0548,       4269,    10.0,  28.1468,  34.5438,2,  34.5542,4,    201.1,2,  202.22,2,    1.35,2,    0.00,2,   0.020,2,   1.618,2,   1.011,2,   0.135,2,  1955.0,2,  2270.2,2,   8.0919,2,    25.00,    0.07,2,    0.03,2,      618,    0.00,2,  28.1353,2,         10
49UP20160703,         P9,       5,          1,         34,        094,2,20160705,       0431,     33.007,   137.0548,       4269,    25.7,  26.3693,  34.6996,2,  34.7130,4,    210.7,2,  210.10,2,    1.31,2,    0.00,2,   0.020,2,   1.743,2,   1.061,2,   0.131,2,  1963.6,2,  2280.1,2,    8.092,2,    25.00,    0.10,2,    0.04,2,      617,    0.00,2,  26.3724,2,         26
49UP20160703,         P9,       5,          1,         33,        469,2,20160705,       0431,     33.007,   137.0548,       4269,    50.7,  24.7956,  34.8116,2,  34.8195,4,    211.8,2,  211.94,2,    1.40,2,    0.00,2,   0.030,2,   1.838,2,   1.117,2,   0.138,2,  1983.6,2,  2286.3,2,   8.0761,6,    25.00,    0.18,2,    0.08,2,      615,    0.00,2,  24.8020,2,         50
49UP20160703,         P9,       5,          1,         31,        515,2,20160705,       0431,     33.007,   137.0548,       4269,    75.6,  22.9275,  34.9350,2,  34.9331,2,    225.2,2,  224.30,2,    1.38,2,    0.00,2,   0.020,2,   2.002,2,   1.255,2,   0.136,2,  1988.9,2,  2293.8,2,   8.0638,2,    25.00,    0.30,2,    0.23,2,      613,    0.00,2,  22.9306,2,         75
49UP20160703,         P9,       5,          1,         32,        089,2,20160705,       0431,     33.007,   137.0548,       4269,    75.8,  22.9154,  34.9343,2,  34.9350,2,    225.3,2,  224.64,2,    1.45,2,    0.00,2,   0.010,2,-999.000,9,-999.000,9,-999.000,9,  1988.5,2,  2293.8,2,   8.0644,2,    25.00, -999.00,9, -999.00,9,      613,    0.00,2,  22.9188,2,         75
49UP20160703,         P9,       5,          1,         30,        097,2,20160705,       0431,     33.007,   137.0548,       4269,   101.5,  21.2559,  34.8290,2,  34.8326,6,    194.0,2,  193.69,2,    3.74,2,    0.05,2,   0.220,2,   2.050,2,   1.288,2,   0.097,2,  2023.7,2,  2289.2,2,   7.9989,2,    25.00,    0.18,2,    0.21,2,      612,    2.92,2,  21.2551,2,        101
49UP20160703,         P9,       5,          1,         29,        102,2,20160705,       0431,     33.007,   137.0548,       4269,   126.0,  20.2330,  34.8736,2,  34.8751,2,    194.0,2,  194.15,6,    3.10,6,    0.02,6,   0.220,6,   2.127,2,   1.345,2,   0.075,2,  2030.8,2,  2287.6,2,   7.9869,2,    25.00,    0.06,2,    0.12,2,      611,    2.92,6,  20.2341,2,        125
49UP20160703,         P9,       5,          1,         28,        472,2,20160705,       0431,     33.007,   137.0548,       4269,   152.0,  19.2893,  34.8074,2,  34.8115,2,    189.6,2,  190.26,2,    4.76,2,    0.02,2,   0.310,2,   2.182,2,   1.375,2,   0.054,2,  2041.6,6,  2286.8,6,   7.9574,2,    25.00,    0.03,2,    0.08,2,      610,    4.36,2,  19.2934,2,        151
49UP20160703,         P9,       5,          1,         27,        998,2,20160705,       0431,     33.007,   137.0548,       4269,   202.4,  17.1372,  34.7073,2,  34.7098,2,    188.3,2,  188.69,2,    7.19,2,    0.01,2,   0.480,2,   2.356,6,   1.462,6,   0.053,6,  2059.6,2,  2281.3,2,   7.9165,2,    25.00,    0.01,2,    0.03,2,      608,    6.77,2,  17.1379,2,        201
49UP20160703,         P9,       5,          1,         26,        084,2,20160705,       0431,     33.007,   137.0548,       4269,   254.8,  15.4236,  34.5939,2,  34.5954,2,    181.7,2,  181.91,2,   11.06,2,    0.00,2,   0.680,2,   2.463,2,   1.495,2,   0.050,2,  2082.7,2,  2277.5,2,   7.8664,2,    25.00, -999.00,9, -999.00,9,      607,    9.73,2,  15.4223,2,        253
49UP20160703,         P9,       5,          1,         24,        110,2,20160705,       0431,     33.007,   137.0548,       4269,   335.9,  12.3026,  34.4085,2,  34.4089,2,    160.5,2,  162.14,2,   23.70,2,    0.00,2,   1.170,2,   2.511,2,   1.449,2,   0.057,2,  2127.5,2,  2277.6,2,   7.7603,2,    25.00, -999.00,9, -999.00,9,      603,   16.40,2,  12.3184,2,        333
49UP20160703,         P9,       5,          1,         25,        098,2,20160705,       0431,     33.007,   137.0548,       4269,   336.6,  12.2821,  34.4095,2,  34.4105,2,    159.8,2,  161.68,2,   24.13,2,    0.00,2,   1.180,2,-999.000,9,-999.000,9,-999.000,9,  2128.7,2,  2280.2,2,   7.7623,2,    25.00, -999.00,9, -999.00,9,      603,   16.53,2,  12.2943,2,        334
49UP20160703,         P9,       5,          1,         23,        679,2,20160705,       0431,     33.007,   137.0548,       4269,   434.7,   8.5957,  34.2572,2,  34.2640,4,    129.1,2,  129.05,2,   50.11,2,    0.00,2,   1.850,2,   2.022,2,   1.047,2,   0.061,2,  2202.3,2,  2296.4,2,   7.6143,6,    25.00, -999.00,9, -999.00,9,      600,   25.74,2,   8.6191,2,        431
49UP20160703,         P9,       5,          1,         22,        111,2,20160705,       0431,     33.007,   137.0548,       4269,   530.7,   6.8004,  34.2318,2,  34.2339,6,    105.5,2,  105.41,2,   69.16,2,    0.00,2,   2.260,2,   1.588,2,   0.813,2,   0.045,2,  2245.4,2,  2309.4,2,   7.5287,2,    25.00, -999.00,9, -999.00,9,      558,   31.15,2,   6.7980,2,        526
49UP20160703,         P9,       5,          1,         21,        078,2,20160705,       0431,     33.007,   137.0548,       4269,   637.8,   5.4675,  34.2728,2,  34.2714,2,     82.1,2,   82.60,6,   87.62,6,    0.00,6,   2.550,6,   1.023,2,   0.522,2,   0.038,2,  2284.3,2,  2328.5,2,   7.4671,2,    25.00, -999.00,9, -999.00,9,      556,   35.31,6,   5.4762,2,        632
49UP20160703,         P9,       5,          1,         20,        093,2,20160705,       0431,     33.007,   137.0548,       4269,   739.7,   4.4086,  34.3189,2,  34.3175,2,     67.2,2,   67.63,2,  105.55,2,    0.00,2,   2.760,2,   0.645,2,   0.335,2,   0.033,2,  2316.6,2,  2348.3,2,   7.4277,2,    25.00, -999.00,9, -999.00,9,      553,   38.25,2,   4.4173,2,        733
49UP20160703,         P9,       5,          1,         19,        269,2,20160705,       0431,     33.007,   137.0548,       4269,   838.9,   3.8524,  34.3658,2,  34.3652,2,     62.1,2,   62.36,2,  116.98,2,    0.00,2,   2.840,2,   0.416,2,   0.221,2,   0.011,2,  2330.9,2,  2359.5,2,   7.4149,2,    25.00, -999.00,9, -999.00,9,      550,   39.36,2,   3.8551,2,        831
49UP20160703,         P9,       5,          1,         18,        088,2,20160705,       0431,     33.007,   137.0548,       4269,   937.7,   3.5096,  34.4001,2,  34.4006,2,     60.2,2,   59.93,2,  123.91,2,    0.00,2,   2.890,2,   0.278,2,   0.147,2,   0.005,2,  2343.0,6,  2366.7,6,   7.4081,2,    25.00, -999.00,9, -999.00,9,      548,   40.13,2,   3.5099,2,        929
49UP20160703,         P9,       5,          1,         17,        090,2,20160705,       0431,     33.007,   137.0548,       4269,  1083.0,   3.0108,  34.4584,2,  34.4580,2,     63.9,2,   63.61,2,  134.12,2,    0.00,2,   2.900,2,   0.160,6,   0.079,6,   0.002,6,  2356.3,2,  2383.3,2,   7.4154,2,    25.00, -999.00,9, -999.00,9,      544,   40.48,2,   3.0110,2,       1073
49UP20160703,         P9,       5,          1,         16,        474,2,20160705,       0431,     33.007,   137.0548,       4269,  1284.9,   2.6512,  34.5046,2,  34.5039,2,     71.4,2,   71.39,2,  140.13,2,    0.00,2,   2.880,2,   0.092,2,   0.046,2,   0.021,2,  2358.3,2,  2389.3,2,   7.4291,2,    25.00, -999.00,9, -999.00,9,      539,   40.29,2,   2.6535,2,       1272
49UP20160703,         P9,       5,          1,         15,        665,2,20160705,       0431,     33.007,   137.0548,       4269,  1488.1,   2.3651,  34.5440,2,  34.5441,2,     81.7,2,   81.52,2,  144.26,2,    0.00,2,   2.840,2,   0.032,2,   0.020,2,   0.014,2,  2361.3,2,  2398.2,2,   7.4479,2,    25.00, -999.00,9, -999.00,9,      534,   39.92,2,   2.3659,2,       1472
49UP20160703,         P9,       5,          1,         14,        999,2,20160705,       0431,     33.007,   137.0548,       4269,  1690.6,   2.1767,  34.5728,2,  34.5725,6,     92.5,2,   92.25,2,  145.64,2,    0.00,2,   2.790,2,   0.010,2,   0.010,2,   0.000,3,  2357.5,2,  2402.0,2,   7.4685,2,    25.00, -999.00,9, -999.00,9,      529,   39.38,2,   2.1773,2,       1672
49UP20160703,         P9,       5,          1,         13,        667,2,20160705,       0431,     33.007,   137.0548,       4269,  1893.5,   1.9933,  34.5990,2,  34.5981,2,    103.1,2,  102.81,6,  146.42,6,    0.00,6,   2.740,6,-999.000,9,-999.000,9,-999.000,9,  2351.9,2,  2404.6,2,   7.4913,2,    25.00, -999.00,9, -999.00,9,      524,   38.75,6,   1.9938,2,       1872
49UP20160703,         P9,       5,          1,         12,        074,2,20160705,       0431,     33.007,   137.0548,       4269,  2095.9,   1.8607,  34.6199,2,  34.6206,2,    114.8,2,  114.76,2,  145.64,2,    0.00,2,   2.690,2,   0.000,2,   0.005,2,   0.013,2,  2344.3,2,  2409.7,2,   7.5127,2,    25.00, -999.00,9, -999.00,9,      519,   38.09,2,   1.8609,2,       2071
49UP20160703,         P9,       5,          1,         10,        267,2,20160705,       0431,     33.007,   137.0548,       4269,  2299.1,   1.7797,  34.6332,2,  34.6335,6,    122.6,2,  122.54,2,  144.81,2,    0.00,2,   2.650,2,-999.000,9,-999.000,9,-999.000,9,  2341.9,2,  2413.0,2,   7.5271,2,    25.00, -999.00,9, -999.00,9,      515,   37.65,2,   1.7799,2,       2270
49UP20160703,         P9,       5,          1,          9,        518,2,20160705,       0431,     33.007,   137.0548,       4269,  2503.1,   1.7014,  34.6454,2,  34.6457,2,    130.0,2,  129.68,2,  143.93,2,    0.00,2,   2.610,2,   0.000,2,   0.000,2,   0.002,2,  2338.4,2,  2410.4,2,   7.5402,6,    25.00, -999.00,9, -999.00,9,      510,   37.15,2,   1.7014,2,       2471
49UP20160703,         P9,       5,          1,          8,        470,2,20160705,       0431,     33.007,   137.0548,       4269,  2707.1,   1.6236,  34.6568,2,  34.6573,2,    137.3,2,  137.20,2,  143.07,2,    0.00,2,   2.580,2,-999.000,9,-999.000,9,-999.000,9,  2335.4,6,  2413.4,6,   7.5537,2,    25.00, -999.00,9, -999.00,9,      506,   36.69,2,   1.6237,2,       2671
49UP20160703,         P9,       5,          1,          7,        516,2,20160705,       0431,     33.007,   137.0548,       4269,  2911.0,   1.5681,  34.6654,2,  34.6655,2,    142.9,2,  143.23,2,  142.63,2,    0.00,2,   2.550,2,-999.000,9,-999.000,9,-999.000,9,  2337.9,2,  2413.3,2,   7.5592,2,    25.00, -999.00,9, -999.00,9,      501,   36.38,2,   1.5683,2,       2871
49UP20160703,         P9,       5,          1,          6,        113,2,20160705,       0431,     33.007,   137.0548,       4269,  3126.2,   1.5279,  34.6719,2,  34.6725,2,    147.4,2,  147.22,2,  142.11,2,    0.00,2,   2.530,2,   0.000,2,   0.000,2,   0.002,2,  2331.7,2,  2414.3,2,   7.5718,2,    25.00, -999.00,9, -999.00,9,      457,   36.12,2,   1.5280,2,       3081
49UP20160703,         P9,       5,          1,          5,        658,2,20160705,       0431,     33.007,   137.0548,       4269,  3382.9,   1.5104,  34.6768,2,  34.6767,2,    150.7,2,  150.51,2,  141.42,2,    0.00,2,   2.510,2,-999.000,9,-999.000,9,-999.000,9,  2329.5,2,  2414.0,2,   7.5757,2,    25.00, -999.00,9, -999.00,9,      451,   35.94,2,   1.5109,2,       3332
49UP20160703,         P9,       5,          1,          4,        471,2,20160705,       0431,     33.007,   137.0548,       4269,  3638.6,   1.5163,  34.6789,2,  34.6794,2,    152.3,2,  152.62,2,  141.31,2,    0.00,2,   2.500,2,   0.000,2,   0.002,2,   0.000,2,  2328.4,2,  2415.4,2,   7.5784,2,    25.00, -999.00,9, -999.00,9,      445,   35.81,2,   1.5163,2,       3582
49UP20160703,         P9,       5,          1,          3,        104,2,20160705,       0431,     33.007,   137.0548,       4269,  3891.1,   1.5348,  34.6799,2,  34.6806,6,    153.1,2,  153.19,2,  141.19,2,    0.00,2,   2.500,2,-999.000,9,-999.000,9,-999.000,9,  2326.6,2,  2413.6,2,   7.5795,2,    25.00, -999.00,9, -999.00,9,      440,   35.79,2,   1.5348,2,       3829
49UP20160703,         P9,       5,          1,          2,        075,2,20160705,       0431,     33.007,   137.0548,       4269,  4146.4,   1.5564,  34.6807,2,  34.6816,2,    153.7,2,  153.78,6,  141.06,6,    0.00,6,   2.500,6,   0.000,2,   0.002,2,   0.003,2,  2324.2,2,  2414.5,2,   7.5766,2,    25.00, -999.00,9, -999.00,9,      435,   35.76,6,   1.5565,2,       4077
49UP20160703,         P9,       5,          1,         11,        268,2,20160705,       0431,     33.007,   137.0548,       4269,  4331.3,   1.5747,  34.6811,2,  34.6815,2,    154.0,2,  153.80,2,  141.10,2,    0.00,2,   2.500,2,-999.000,9,-999.000,9,-999.000,9,  2324.7,2,  2414.9,2,   7.5808,2,    25.00, -999.00,9, -999.00,9,      432,   35.71,2,   1.5748,2,       4257
49UP20160703,         P9,       5,          1,          1,        997,2,20160705,       0431,     33.007,   137.0548,       4269,  4334.3,   1.5753,  34.6809,2,  34.6815,2,    154.0,2,  153.86,2,  141.10,2,    0.00,2,   2.490,2,   0.000,2,   0.007,2,   0.001,2,  2326.9,2,  2416.2,2,    7.579,2,    25.00, -999.00,9, -999.00,9,      431,   35.73,2,   1.5753,2,       4260