BOTTLE,20230712CCHSIOENA
EXPOCODE,SECT_ID,STNNBR,CASTNO,SAMPNO,BTLNBR,BTLNBR_FLAG_W,DATE,TIME,LATITUDE,LONGITUDE,DEPTH,CTDPRS,CTDTMP,CTDSAL,CTDSAL_FLAG_W,SALNTY,SALNTY_FLAG_W,CTDOXY,CTDOXY_FLAG_W,OXYGEN,OXYGEN_FLAG_W,SILCAT,SILCAT_FLAG_W,NITRIT,NITRIT_FLAG_W,PHSPHT,PHSPHT_FLAG_W,CFC-11,CFC-11_FLAG_W,CFC-12,CFC-12_FLAG_W,CFC113,CFC113_FLAG_W,TCARBN,TCARBN_FLAG_W,ALKALI,ALKALI_FLAG_W,PH_TOT,PH_TOT_FLAG_W,PH_TMP,CHLORA,CHLORA_FLAG_W,PPHYTN,PPHYTN_FLAG_W,BTL_TIME,NO2+NO3,NO2+NO3_FLAG_W,SBE35,SBE35_FLAG_W,CTDDEPTH
,,,,,,,,,,,METERS,DBAR,ITS-90,PSS-78,,PSS-78,,UMOL/KG,,UMOL/KG,,UMOL/KG,,UMOL/KG,,UMOL/KG,,PMOL/KG,,PMOL/KG,,PMOL/KG,,UMOL/KG,,UMOL/KG,,,,DEG C,UG/KG,,UG/KG,,,UMOL/KG,,ITS-90,,METERS
49UP20160703,         P9,       3,          1,          0,        BUC,2,20160704,       1651,     33.585,   137.0053,       2046,     0.0,  25.5002,  34.0297,2,-999.0000,9,    211.5,2,  212.33,2,    1.99,2,    0.00,2,   0.010,2,-999.000,9,-999.000,9,-999.000,9,  -999.0,9,  -999.0,9,-999.0000,9,  -999.00, -999.00,9, -999.00,9,     1725,    0.01,2,-999.0000,9,          0
49UP20160703,         P9,       3,          1,         36,        109,2,20160704,       1651,     33.585,   137.0053,       2046,    10.5,  23.4809,  34.3569,2,  34.4078,4,    223.8,2,  225.03,2,    1.56,2,    0.00,2,   0.020,2,-999.000,9,-999.000,9,-999.000,9,  -999.0,9,  -999.0,9,-999.0000,9,  -999.00, -999.00,9, -999.00,9,     1750,    0.00,2,  23.5177,2,         10
49UP20160703,         P9,       3,          1,         35,        112,2,20160704,       1651,     33.585,   137.0053,       2046,    25.6,  20.6074,  34.5635,2,  34.5923,4,    222.7,2,  214.55,2,    3.52,2,    0.11,2,   0.240,4,-999.000,9,-999.000,9,-999.000,9,  -999.0,9,  -999.0,9,-999.0000,9,  -999.00, -999.00,9, -999.00,9,     1749,    1.69,2,  20.6073,2,         25
49UP20160703,         P9,       3,          1,         34,        094,2,20160704,       1651,     33.585,   137.0053,       2046,    51.1,  18.9019,  34.6779,2,  34.6696,2,    191.6,2,  191.02,2,    6.86,2,    0.05,2,   0.390,2,-999.000,9,-999.000,9,-999.000,9,  -999.0,9,  -999.0,9,-999.0000,9,  -999.00, -999.00,9, -999.00,9,     1746,    5.44,2,  18.9025,2,         51
49UP20160703,         P9,       3,          1,         33,        469,2,20160704,       1651,     33.585,   137.0053,       2046,    51.1,  18.8977,  34.6764,2,  34.6641,4,    191.6,2,  190.53,2,    7.09,2,    0.04,2,   0.400,2,-999.000,9,-999.000,9,-999.000,9,  -999.0,9,  -999.0,9,-999.0000,9,  -999.00, -999.00,9, -999.00,9,     1746,    5.64,2,  18.8995,2,         51
49UP20160703,         P9,       3,          1,         32,        089,2,20160704,       1651,     33.585,   137.0053,       2046,    76.2,  17.1898,  34.6434,2,  34.6436,2,    183.2,2,  183.68,2,   10.98,2,    0.02,2,   0.570,2,-999.000,9,-999.000,9,-999.000,9,  -999.0,9,  -999.0,9,-999.0000,9,  -999.00, -999.00,9, -999.00,9,     1745,    8.00,2,  17.1937,2,         76
49UP20160703,         P9,       3,          1,         31,        515,2,20160704,       1651,     33.585,   137.0053,       2046,   101.6,  15.0127,  34.5554,2,  34.5456,4,    171.5,2,  171.20,6,   18.13,6,    0.01,6,   0.870,6,-999.000,9,-999.000,9,-999.000,9,  -999.0,9,  -999.0,9,-999.0000,9,  -999.00, -999.00,9, -999.00,9,     1743,   12.33,6,  15.0143,2,        101
49UP20160703,         P9,       3,          1,         28,        472,2,20160704,       1651,     33.585,   137.0053,       2046,   126.2,  13.4381,  34.4845,2,  34.4837,2,    162.0,2,  161.98,2,   24.21,2,    0.00,2,   1.080,2,-999.000,9,-999.000,9,-999.000,9,  -999.0,9,  -999.0,9,-999.0000,9,  -999.00, -999.00,9, -999.00,9,     1742,   15.24,2,  13.4346,2,        125
49UP20160703,         P9,       3,          1,         27,        998,2,20160704,       1651,     33.585,   137.0053,       2046,   150.8,  11.9106,  34.4062,2,  34.4011,2,    153.9,2,  153.22,2,   30.46,2,    0.00,2,   1.310,2,-999.000,9,-999.000,9,-999.000,9,  -999.0,9,  -999.0,9,-999.0000,9,  -999.00, -999.00,9, -999.00,9,     1741,   18.38,2,  11.9102,2,        150
49UP20160703,         P9,       3,          1,         26,        084,2,20160704,       1651,     33.585,   137.0053,       2046,   202.3,   9.8465,  34.3128,2,  34.3127,2,    139.1,2,  139.48,2,   42.61,2,    0.00,2,   1.640,2,-999.000,9,-999.000,9,-999.000,9,  -999.0,9,  -999.0,9,-999.0000,9,  -999.00, -999.00,9, -999.00,9,     1739,   22.92,2,   9.8466,2,        201
49UP20160703,         P9,       3,          1,         25,        098,2,20160704,       1651,     33.585,   137.0053,       2046,   252.5,   8.7469,  34.2762,2,  34.2766,2,    128.7,2,  128.39,2,   52.07,2,    0.00,2,   1.850,2,-999.000,9,-999.000,9,-999.000,9,  -999.0,9,  -999.0,9,-999.0000,9,  -999.00, -999.00,9, -999.00,9,     1737,   25.79,2,   8.7500,2,        251
49UP20160703,         P9,       3,          1,         24,        110,2,20160704,       1651,     33.585,   137.0053,       2046,   283.2,   8.0791,  34.2547,2,  34.2543,2,    121.5,2,  121.54,2,   56.44,2,    0.00,2,   1.970,2,-999.000,9,-999.000,9,-999.000,9,  -999.0,9,  -999.0,9,-999.0000,9,  -999.00, -999.00,9, -999.00,9,     1736,   27.44,2,   8.0780,2,        281
49UP20160703,         P9,       3,          1,         23,        679,2,20160704,       1651,     33.585,   137.0053,       2046,   375.0,   6.4678,  34.2270,2,  34.2271,2,    101.5,2,  102.22,2,   73.31,2,    0.00,2,   2.300,2,-999.000,9,-999.000,9,-999.000,9,  -999.0,9,  -999.0,9,-999.0000,9,  -999.00, -999.00,9, -999.00,9,     1733,   31.84,2,   6.4479,2,        372
49UP20160703,         P9,       3,          1,         22,        111,2,20160704,       1651,     33.585,   137.0053,       2046,   376.5,   6.4076,  34.2284,2,  34.2269,2,    101.2,2,  102.26,2,   73.27,2,    0.00,2,   2.300,2,-999.000,9,-999.000,9,-999.000,9,  -999.0,9,  -999.0,9,-999.0000,9,  -999.00, -999.00,9, -999.00,9,     1733,   32.06,2,   6.4086,2,        373
49UP20160703,         P9,       3,          1,         18,        088,2,20160704,       1651,     33.585,   137.0053,       2046,   474.2,   5.4474,  34.2646,2,  34.2649,2,     83.0,2,   82.82,2,   88.82,2,    0.00,2,   2.550,2,-999.000,9,-999.000,9,-999.000,9,  -999.0,9,  -999.0,9,-999.0000,9,  -999.00, -999.00,9, -999.00,9,     1730,   35.33,2,   5.4464,2,        470
49UP20160703,         P9,       3,          1,         17,        090,2,20160704,       1651,     33.585,   137.0053,       2046,   577.4,   4.6019,  34.3009,2,  34.3013,2,     69.7,2,   70.14,2,  102.19,2,    0.00,2,   2.710,2,-999.000,9,-999.000,9,-999.000,9,  -999.0,9,  -999.0,9,-999.0000,9,  -999.00, -999.00,9, -999.00,9,     1728,   37.78,2,   4.6018,2,        573
49UP20160703,         P9,       3,          1,         16,        474,2,20160704,       1651,     33.585,   137.0053,       2046,   676.4,   3.9376,  34.3471,2,  34.3475,2,     61.2,2,   61.16,2,  115.41,2,    0.00,2,   2.830,2,-999.000,9,-999.000,9,-999.000,9,  -999.0,9,  -999.0,9,-999.0000,9,  -999.00, -999.00,9, -999.00,9,     1725,   39.41,2,   3.9371,2,        671
49UP20160703,         P9,       3,          1,         15,        665,2,20160704,       1651,     33.585,   137.0053,       2046,   780.2,   3.6287,  34.3793,2,  34.3785,2,     59.2,2,   59.40,2,  121.41,2,    0.00,2,   2.860,2,-999.000,9,-999.000,9,-999.000,9,  -999.0,9,  -999.0,9,-999.0000,9,  -999.00, -999.00,9, -999.00,9,     1722,   39.94,2,   3.6294,2,        773
49UP20160703,         P9,       3,          1,         14,        999,2,20160704,       1651,     33.585,   137.0053,       2046,   878.6,   3.3965,  34.4111,2,  34.4115,2,     60.6,2,   60.81,2,  126.06,2,    0.00,2,   2.880,2,-999.000,9,-999.000,9,-999.000,9,  -999.0,9,  -999.0,9,-999.0000,9,  -999.00, -999.00,9, -999.00,9,     1720,   40.16,2,   3.3960,2,        871
49UP20160703,         P9,       3,          1,         13,        667,2,20160704,       1651,     33.585,   137.0053,       2046,   979.7,   3.1832,  34.4319,2,  34.4323,2,     60.4,2,   61.10,2,  130.69,2,    0.00,2,   2.890,2,-999.000,9,-999.000,9,-999.000,9,  -999.0,9,  -999.0,9,-999.0000,9,  -999.00, -999.00,9, -999.00,9,     1717,   40.47,2,   3.1831,2,        970
49UP20160703,         P9,       3,          1,         10,        267,2,20160704,       1651,     33.585,   137.0053,       2046,  1143.5,   2.9074,  34.4707,2,  34.4706,2,     65.9,2,   67.02,3,  135.67,2,    0.00,2,   2.890,2,-999.000,9,-999.000,9,-999.000,9,  -999.0,9,  -999.0,9,-999.0000,9,  -999.00, -999.00,9, -999.00,9,     1712,   40.40,2,   2.9074,2,       1132
49UP20160703,         P9,       3,          1,          9,        518,2,20160704,       1651,     33.585,   137.0053,       2046,  1343.9,   2.6307,  34.5084,2,  34.5077,2,     73.3,2,   72.99,2,  140.09,2,    0.00,2,   2.860,2,-999.000,9,-999.000,9,-999.000,9,  -999.0,9,  -999.0,9,-999.0000,9,  -999.00, -999.00,9, -999.00,9,     1708,   40.18,2,   2.6302,2,       1330
49UP20160703,         P9,       3,          1,          8,        470,2,20160704,       1651,     33.585,   137.0053,       2046,  1547.1,   2.3744,  34.5445,2,  34.5442,2,     83.8,2,   84.01,2,  143.29,2,    0.00,2,   2.820,2,-999.000,9,-999.000,9,-999.000,9,  -999.0,9,  -999.0,9,-999.0000,9,  -999.00, -999.00,9, -999.00,9,     1703,   39.69,2,   2.3746,2,       1530
49UP20160703,         P9,       3,          1,          7,        516,3,20160704,       1651,     33.585,   137.0053,       2046,  1750.1,   2.1634,  34.5751,2,  34.5739,6,     95.4,2,   95.34,2,  144.67,2,    0.00,2,   2.780,2,-999.000,9,-999.000,9,-999.000,9,  -999.0,9,  -999.0,9,-999.0000,9,  -999.00, -999.00,9, -999.00,9,     1659,   39.10,2,   2.1633,2,       1730
49UP20160703,         P9,       3,          1,          5,        658,2,20160704,       1651,     33.585,   137.0053,       2046,  1953.7,   2.0239,  34.5962,2,  34.5961,2,    104.3,2,  104.38,2,  145.50,2,    0.00,2,   2.730,2,-999.000,9,-999.000,9,-999.000,9,  -999.0,9,  -999.0,9,-999.0000,9,  -999.00, -999.00,9, -999.00,9,     1654,   38.58,2,   2.0243,2,       1931
49UP20160703,         P9,       3,          1,          6,        113,2,20160704,       1651,     33.585,   137.0053,       2046,  1953.9,   2.0221,  34.5964,2,  34.5949,4,    104.5,2,  104.66,2,  145.61,2,    0.00,2,   2.730,2,-999.000,9,-999.000,9,-999.000,9,  -999.0,9,  -999.0,9,-999.0000,9,  -999.00, -999.00,9, -999.00,9,     1654,   38.57,2,   2.0226,2,       1931
49UP20160703,         P9,       3,          1,          4,        471,2,20160704,       1651,     33.585,   137.0053,       2046,  2030.6,   1.9505,  34.6072,2,  34.6073,2,    108.9,2,  108.95,6,  146.34,6,    0.00,6,   2.730,6,-999.000,9,-999.000,9,-999.000,9,  -999.0,9,  -999.0,9,-999.0000,9,  -999.00, -999.00,9, -999.00,9,     1652,   38.25,6,   1.9505,2,       2006