BOTTLE,20230712CCHSIOENA
EXPOCODE,SECT_ID,STNNBR,CASTNO,SAMPNO,BTLNBR,BTLNBR_FLAG_W,DATE,TIME,LATITUDE,LONGITUDE,DEPTH,CTDPRS,CTDTMP,CTDSAL,CTDSAL_FLAG_W,SALNTY,SALNTY_FLAG_W,CTDOXY,CTDOXY_FLAG_W,OXYGEN,OXYGEN_FLAG_W,SILCAT,SILCAT_FLAG_W,NITRIT,NITRIT_FLAG_W,PHSPHT,PHSPHT_FLAG_W,CFC-11,CFC-11_FLAG_W,CFC-12,CFC-12_FLAG_W,CFC113,CFC113_FLAG_W,TCARBN,TCARBN_FLAG_W,ALKALI,ALKALI_FLAG_W,PH_TOT,PH_TOT_FLAG_W,PH_TMP,CHLORA,CHLORA_FLAG_W,PPHYTN,PPHYTN_FLAG_W,BTL_TIME,NO2+NO3,NO2+NO3_FLAG_W,SBE35,SBE35_FLAG_W,CTDDEPTH
,,,,,,,,,,,METERS,DBAR,ITS-90,PSS-78,,PSS-78,,UMOL/KG,,UMOL/KG,,UMOL/KG,,UMOL/KG,,UMOL/KG,,PMOL/KG,,PMOL/KG,,PMOL/KG,,UMOL/KG,,UMOL/KG,,,,DEG C,UG/KG,,UG/KG,,,UMOL/KG,,ITS-90,,METERS
49UP20160703,         P9,      11,          1,          0,        BUC,2,20160706,       2316,      30.98,   136.9925,       4283,     0.0,  28.1497,  34.4461,2,  34.4651,2,    202.3,2,  201.56,2,    1.51,2,    0.00,2,   0.030,2,-999.000,9,-999.000,9,-999.000,9,  1965.9,2,  2261.7,2,   8.0605,2,    25.00,    0.06,2,    0.02,2,       47,    0.04,2,-999.0000,9,          0
49UP20160703,         P9,      11,          1,         35,        112,2,20160706,       2316,      30.98,   136.9925,       4283,     9.7,  27.1472,  34.4220,2,  34.4515,4,    206.2,2,  209.43,2,    1.49,2,    0.00,2,   0.010,2,   1.809,6,   1.106,6,   0.164,6,  1969.4,2,  2262.2,2,   8.0522,2,    25.00,    0.05,2,    0.02,2,      117,    0.01,2,  27.1414,2,         10
49UP20160703,         P9,      11,          1,         34,        094,2,20160706,       2316,      30.98,   136.9925,       4283,    24.7,  24.5045,  34.6422,2,  34.6483,2,    216.1,2,  217.42,2,    1.54,2,    0.00,2,   0.010,2,   1.948,2,   1.176,2,   0.179,2,  1983.3,2,  2277.0,2,   8.0535,2,    25.00,    0.06,2,    0.02,2,      116,    0.01,2,  24.5039,2,         25
49UP20160703,         P9,      11,          1,         33,        469,2,20160706,       2316,      30.98,   136.9925,       4283,    50.4,  20.8427,  34.8577,2,  34.8614,2,    237.5,2,  236.73,6,    1.68,6,    0.00,6,   0.010,6,   2.199,2,   1.359,2,   0.168,2,  1996.1,2,  2291.7,2,   8.0542,2,    25.00,    0.12,2,    0.04,2,      112,    0.03,6,  20.8439,2,         50
49UP20160703,         P9,      11,          1,         32,        089,2,20160706,       2316,      30.98,   136.9925,       4283,    74.7,  20.0417,  34.8785,2,  34.8743,2,    230.5,2,  230.31,2,    1.73,2,    0.00,2,   0.010,2,   2.206,2,   1.370,2,   0.187,2,  2001.9,2,  2290.1,2,   8.0399,2,    25.00,    0.18,2,    0.10,2,      111,    0.01,2,  20.0593,2,         74
49UP20160703,         P9,      11,          1,         31,        515,2,20160706,       2316,      30.98,   136.9925,       4283,    99.9,  19.6876,  34.8905,2,  34.8898,2,    224.6,2,  224.30,2,    1.73,2,    0.00,2,   0.030,2,   2.199,2,   1.365,2,   0.168,2,  2009.9,2,  2292.8,2,   8.0335,2,    25.00,    0.27,2,    0.44,2,      110,    0.00,2,  19.6871,2,         99
49UP20160703,         P9,      11,          1,         30,        097,2,20160706,       2316,      30.98,   136.9925,       4283,   128.6,  19.4968,  34.8937,2,  34.8930,2,    216.0,2,  215.87,2,    1.91,2,    0.04,2,   0.100,2,   2.200,2,   1.364,2,   0.183,2,  2013.8,2,  2290.0,2,   8.0193,6,    25.00,    0.16,2,    0.30,2,      108,    1.32,2,  19.4970,2,        128
49UP20160703,         P9,      11,          1,         29,        102,2,20160706,       2316,      30.98,   136.9925,       4283,   151.4,  19.3948,  34.8907,2,  34.8894,2,    215.1,2,  215.07,2,    2.05,2,    0.02,2,   0.110,2,   2.199,2,   1.365,2,   0.172,2,  2016.7,2,  2292.1,2,   8.0153,2,    25.00,    0.05,2,    0.06,2,      107,    1.55,2,  19.3956,2,        150
49UP20160703,         P9,      11,          1,         28,        472,2,20160706,       2316,      30.98,   136.9925,       4283,   204.4,  19.0378,  34.8605,2,  34.8624,2,    213.2,2,  213.16,2,    2.32,2,    0.01,2,   0.140,2,   2.233,2,   1.406,2,   0.147,2,  2020.6,2,  2290.4,2,   8.0014,2,    25.00,    0.01,2,    0.02,2,      105,    1.96,2,  19.0363,2,        203
49UP20160703,         P9,      11,          1,         27,        998,2,20160706,       2316,      30.98,   136.9925,       4283,   252.0,  18.5803,  34.8320,2,  34.8334,2,    209.8,2,  211.39,2,    2.74,2,    0.01,2,   0.180,2,   2.278,2,   1.424,2,   0.099,2,  2027.8,2,  2288.5,2,   7.9908,2,    25.00, -999.00,9, -999.00,9,      103,    2.66,2,  18.5799,2,        250
49UP20160703,         P9,      11,          1,         26,        084,2,20160706,       2316,      30.98,   136.9925,       4283,   332.3,  17.9704,  34.7917,2,  34.7891,2,    208.2,2,  208.16,2,    3.51,2,    0.01,2,   0.250,2,   2.345,2,   1.459,2,   0.068,2,  2034.6,2,  2283.5,2,   7.9687,2,    25.00, -999.00,9, -999.00,9,      100,    3.68,2,  17.9685,2,        330
49UP20160703,         P9,      11,          1,         25,        098,2,20160706,       2316,      30.98,   136.9925,       4283,   436.3,  16.7955,  34.7066,2,  34.7064,2,    204.0,2,  204.37,2,    5.18,2,    0.00,2,   0.370,2,   2.495,2,   1.545,2,   0.040,2,  2047.9,2,  2279.3,2,   7.9352,2,    25.00, -999.00,9, -999.00,9,       57,    5.63,2,  16.7954,2,        433
49UP20160703,         P9,      11,          1,         24,        110,2,20160706,       2316,      30.98,   136.9925,       4283,   534.6,  15.3048,  34.5814,2,  34.5845,2,    189.0,2,  189.94,2,    9.89,2,    0.00,2,   0.630,2,   2.476,2,   1.473,2,   0.037,2,  2074.2,2,  2276.5,2,    7.879,2,    25.00, -999.00,9, -999.00,9,       54,    9.31,2,  15.3053,2,        530
49UP20160703,         P9,      11,          1,         23,        679,2,20160706,       2316,      30.98,   136.9925,       4283,   633.9,  12.6659,  34.4013,2,  34.3986,6,    174.0,2,  174.61,2,   20.14,2,    0.00,2,   1.050,2,   2.516,2,   1.416,2,   0.047,2,  2114.8,6,  2276.0,6,   7.7838,2,    25.00, -999.00,9, -999.00,9,       51,   15.13,2,  12.6487,2,        629
49UP20160703,         P9,      11,          1,         21,        078,2,20160706,       2316,      30.98,   136.9925,       4283,   736.1,   9.8359,  34.2399,2,  34.2390,2,    155.9,2,  156.43,2,   35.18,2,    0.00,2,   1.530,2,   2.426,2,   1.264,2,   0.063,2,  2164.0,2,  2284.7,2,   7.6838,2,    25.00, -999.00,9, -999.00,9,       48,   21.41,2,   9.8362,2,        730
49UP20160703,         P9,      11,          1,         22,        111,2,20160706,       2316,      30.98,   136.9925,       4283,   737.3,   9.7959,  34.2383,2,  34.2393,2,    155.5,2,  156.28,2,   35.12,2,    0.00,2,   1.530,2,-999.000,9,-999.000,9,-999.000,9,  2164.4,2,  2279.6,2,   7.6812,2,    25.00, -999.00,9, -999.00,9,       48,   21.43,2,   9.7964,2,        731
49UP20160703,         P9,      11,          1,         20,        093,2,20160706,       2316,      30.98,   136.9925,       4283,   837.7,   7.6391,  34.1838,2,  34.1842,2,    126.2,2,  126.47,6,   55.58,6,    0.00,6,   2.010,6,   1.945,2,   0.969,2,   0.057,2,  2214.1,2,  2299.8,2,   7.5802,2,    25.00, -999.00,9, -999.00,9,       45,   27.99,6,   7.6391,2,        830
49UP20160703,         P9,      11,          1,         19,        269,2,20160706,       2316,      30.98,   136.9925,       4283,   938.5,   6.2319,  34.1947,2,  34.1950,2,    100.1,2,   99.88,2,   73.83,2,    0.00,2,   2.360,2,   1.458,2,   0.686,2,   0.036,2,  2259.5,2,  2312.8,2,   7.5026,6,    25.00, -999.00,9, -999.00,9,       42,   32.73,2,   6.2311,2,        930
49UP20160703,         P9,      11,          1,         18,        088,2,20160706,       2316,      30.98,   136.9925,       4283,  1081.0,   4.7038,  34.2860,2,  34.2860,6,     70.6,2,   70.47,2,  100.58,2,    0.00,2,   2.710,2,   0.756,2,   0.331,2,   0.020,2,  2306.8,2,  2342.5,2,   7.4346,2,    25.00, -999.00,9, -999.00,9,       37,   37.69,2,   4.7038,2,       1071
49UP20160703,         P9,      11,          1,         17,        090,2,20160706,       2316,      30.98,   136.9925,       4283,  1283.3,   3.5746,  34.3945,2,  34.3932,2,     60.1,2,   59.86,6,  123.14,6,    0.00,6,   2.880,6,   0.276,2,   0.106,2,   0.003,2,  2341.1,2,  2369.1,2,   7.4103,2,    25.00, -999.00,9, -999.00,9,       32,   40.23,6,   3.5748,2,       1271
49UP20160703,         P9,      11,          1,         16,        474,2,20160706,       2316,      30.98,   136.9925,       4283,  1485.8,   2.9699,  34.4667,2,  34.4659,2,     64.8,2,   64.54,2,  135.52,2,    0.00,2,   2.900,2,   0.123,2,   0.036,2,   0.002,2,  2355.0,6,  2384.6,6,   7.4173,2,    25.00, -999.00,9, -999.00,9,       28,   40.62,2,   2.9700,2,       1470
49UP20160703,         P9,      11,          1,         14,        999,2,20160706,       2316,      30.98,   136.9925,       4283,  1688.0,   2.5838,  34.5178,2,  34.5172,2,     74.7,2,   74.45,2,  141.62,2,    0.00,2,   2.870,2,   0.063,2,   0.013,2,   0.000,2,  2362.5,2,  2395.5,2,   7.4374,2,    25.00, -999.00,9, -999.00,9,       21,   40.33,2,   2.5838,2,       1670
49UP20160703,         P9,      11,          1,         15,        665,2,20160706,       2316,      30.98,   136.9925,       4283,  1688.3,   2.5827,  34.5180,2,  34.5164,4,     74.7,2,   74.60,2,  141.79,2,    0.00,2,   2.870,2,-999.000,9,-999.000,9,-999.000,9,  2358.0,2,  2393.7,2,   7.4378,2,    25.00, -999.00,9, -999.00,9,       21,   40.33,2,   2.5831,2,       1670
49UP20160703,         P9,      11,          1,         13,        667,4,20160706,       2316,      30.98,   136.9925,       4283,  1892.1,   2.3169,  34.5560,2,  34.5536,4,     87.4,2,   95.60,4,  143.51,4,    0.00,4,   2.800,4,   0.091,4,   0.029,4,   0.003,4,  2353.7,4,  2401.3,4,    7.465,4,    25.00, -999.00,9, -999.00,9,       15,   39.53,4,   2.3169,2,       1871
49UP20160703,         P9,      11,          1,         12,        074,2,20160706,       2316,      30.98,   136.9925,       4283,  2095.0,   2.1272,  34.5840,2,  34.5831,2,     98.1,2,   98.10,2,  145.56,2,    0.00,2,   2.760,2,   0.026,6,   0.000,6,   0.000,6,  2354.0,2,  2405.5,2,   7.4818,2,    25.00, -999.00,9, -999.00,9,       11,   39.03,2,   2.1271,2,       2070
49UP20160703,         P9,      11,          1,         11,        268,2,20160706,       2316,      30.98,   136.9925,       4283,  2298.1,   1.9218,  34.6143,2,  34.6141,2,    112.5,2,  112.47,2,  145.54,2,    0.00,2,   2.700,2,   0.014,2,   0.000,2,   0.009,2,  2348.2,2,  2409.0,2,   7.5098,2,    25.00, -999.00,9, -999.00,9,        5,   38.33,2,   1.9217,2,       2270
49UP20160703,         P9,      11,          1,         10,        267,2,20160706,       2316,      30.98,   136.9925,       4283,  2501.3,   1.8022,  34.6324,2,  34.6319,2,    122.1,2,  122.19,2,  145.04,2,    0.00,2,   2.650,2,   0.006,2,   0.000,2,   0.000,2,  2340.7,2,  2411.1,2,   7.5259,2,    25.00, -999.00,9, -999.00,9,        0,   37.73,2,   1.8024,2,       2469
49UP20160703,         P9,      11,          1,          8,        470,2,20160706,       2316,      30.98,   136.9925,       4283,  2706.1,   1.6990,  34.6478,2,  34.6478,2,    131.1,2,  131.57,2,  144.17,2,    0.00,2,   2.610,2,   0.000,2,   0.000,2,   0.001,2,  2334.8,2,  2414.7,2,   7.5462,2,    25.00, -999.00,9, -999.00,9,     2354,   37.18,2,   1.6991,2,       2670
49UP20160703,         P9,      11,          1,          9,        518,2,20160706,       2316,      30.98,   136.9925,       4283,  2706.4,   1.6989,  34.6478,2,  34.6467,2,    131.2,2,  131.17,2,  144.21,2,    0.00,2,   2.610,2,-999.000,9,-999.000,9,-999.000,9,  2336.4,2,  2414.2,2,   7.5424,2,    25.00, -999.00,9, -999.00,9,     2355,   37.19,2,   1.6989,2,       2671
49UP20160703,         P9,      11,          1,          7,        516,2,20160706,       2316,      30.98,   136.9925,       4283,  2910.9,   1.6246,  34.6591,2,  34.6587,2,    138.4,2,  138.80,2,  143.43,2,    0.00,2,   2.570,2,-999.000,9,-999.000,9,-999.000,9,  2332.2,2,  2414.7,2,   7.5564,6,    25.00, -999.00,9, -999.00,9,     2348,   36.75,2,   1.6246,2,       2871
49UP20160703,         P9,      11,          1,          6,        113,2,20160706,       2316,      30.98,   136.9925,       4283,  3126.4,   1.5709,  34.6675,2,  34.6678,6,    144.1,2,  144.69,2,  142.51,2,    0.00,2,   2.540,2,   0.003,2,   0.000,2,   0.002,2,  2332.6,2,  2413.6,2,   7.5681,2,    25.00, -999.00,9, -999.00,9,     2343,   36.41,2,   1.5709,2,       3082
49UP20160703,         P9,      11,          1,          5,        658,2,20160706,       2316,      30.98,   136.9925,       4283,  3380.9,   1.5365,  34.6740,2,  34.6728,2,    148.6,2,  148.86,2,  141.92,2,    0.00,2,   2.520,2,-999.000,9,-999.000,9,-999.000,9,  2329.9,2,  2414.7,2,   7.5738,2,    25.00, -999.00,9, -999.00,9,     2338,   36.10,2,   1.5366,2,       3331
49UP20160703,         P9,      11,          1,          4,        471,2,20160706,       2316,      30.98,   136.9925,       4283,  3634.4,   1.5237,  34.6782,2,  34.6779,2,    151.7,2,  151.88,2,  141.53,2,    0.00,2,   2.510,2,   0.000,2,   0.000,2,   0.000,2,  2328.5,6,  2415.4,6,    7.578,2,    25.00, -999.00,9, -999.00,9,     2332,   35.91,2,   1.5236,2,       3579
49UP20160703,         P9,      11,          1,          3,        104,2,20160706,       2316,      30.98,   136.9925,       4283,  3891.8,   1.5350,  34.6801,2,  34.6798,6,    153.0,2,  153.41,2,  141.36,2,    0.00,2,   2.500,2,-999.000,9,-999.000,9,-999.000,9,  2323.6,2,  2415.9,2,   7.5831,2,    25.00, -999.00,9, -999.00,9,     2326,   35.85,2,   1.5352,2,       3830
49UP20160703,         P9,      11,          1,          2,        075,2,20160706,       2316,      30.98,   136.9925,       4283,  4147.4,   1.5534,  34.6809,2,  34.6818,2,    153.9,2,  154.18,6,  141.23,6,    0.00,6,   2.490,6,   0.000,2,   0.000,2,   0.001,2,  2326.2,2,  2414.8,2,   7.5839,2,    25.00, -999.00,9, -999.00,9,     2321,   35.78,6,   1.5532,2,       4079
49UP20160703,         P9,      11,          1,          1,        997,2,20160706,       2316,      30.98,   136.9925,       4283,  4334.0,   1.5665,  34.6819,2,  34.6818,2,    154.7,2,  155.05,2,  141.03,2,    0.00,2,   2.490,2,   0.003,2,   0.000,2,   0.000,2,  2325.9,2,  2414.1,2,   7.5806,2,    25.00, -999.00,9, -999.00,9,     2316,   35.73,2,   1.5665,2,       4261