BOTTLE,20230712CCHSIOENA
EXPOCODE,SECT_ID,STNNBR,CASTNO,SAMPNO,BTLNBR,BTLNBR_FLAG_W,DATE,TIME,LATITUDE,LONGITUDE,DEPTH,CTDPRS,CTDTMP,CTDSAL,CTDSAL_FLAG_W,SALNTY,SALNTY_FLAG_W,CTDOXY,CTDOXY_FLAG_W,OXYGEN,OXYGEN_FLAG_W,SILCAT,SILCAT_FLAG_W,NITRIT,NITRIT_FLAG_W,PHSPHT,PHSPHT_FLAG_W,CFC-11,CFC-11_FLAG_W,CFC-12,CFC-12_FLAG_W,CFC113,CFC113_FLAG_W,TCARBN,TCARBN_FLAG_W,ALKALI,ALKALI_FLAG_W,PH_TOT,PH_TOT_FLAG_W,PH_TMP,CHLORA,CHLORA_FLAG_W,PPHYTN,PPHYTN_FLAG_W,BTL_TIME,NO2+NO3,NO2+NO3_FLAG_W,SBE35,SBE35_FLAG_W,CTDDEPTH
,,,,,,,,,,,METERS,DBAR,ITS-90,PSS-78,,PSS-78,,UMOL/KG,,UMOL/KG,,UMOL/KG,,UMOL/KG,,UMOL/KG,,PMOL/KG,,PMOL/KG,,PMOL/KG,,UMOL/KG,,UMOL/KG,,,,DEG C,UG/KG,,UG/KG,,,UMOL/KG,,ITS-90,,METERS
49UP20160703,         P9,      81,          1,          0,        BUC,2,20160807,       2230,     2.0872,   141.5092,       2650,     0.0,  29.8138,  33.8037,2,-999.0000,9,    194.3,2,  195.31,2,    1.01,2,    0.00,2,   0.120,2,-999.000,9,-999.000,9,-999.000,9,  -999.0,9,  -999.0,9,-999.0000,9,  -999.00, -999.00,9, -999.00,9,     2322,    0.02,2,-999.0000,9,          0
49UP20160703,         P9,      81,          1,         36,        109,2,20160807,       2230,     2.0872,   141.5092,       2650,    10.5,  29.8174,  33.8019,2,  33.8015,2,    194.4,2,  194.81,6,    1.01,6,    0.00,6,   0.100,6,-999.000,9,-999.000,9,-999.000,9,  -999.0,9,  -999.0,9,-999.0000,9,  -999.00, -999.00,9, -999.00,9,     2350,    0.02,6,  29.8175,2,         10
49UP20160703,         P9,      81,          1,         35,        112,2,20160807,       2230,     2.0872,   141.5092,       2650,    25.9,  29.8173,  33.8081,2,  33.8079,6,    194.5,2,  195.00,2,    0.99,2,    0.00,2,   0.100,2,-999.000,9,-999.000,9,-999.000,9,  -999.0,9,  -999.0,9,-999.0000,9,  -999.00, -999.00,9, -999.00,9,     2349,    0.01,2,  29.8186,2,         26
49UP20160703,         P9,      81,          1,         34,        094,2,20160807,       2230,     2.0872,   141.5092,       2650,    51.3,  29.8831,  33.8624,2,  33.8665,2,    194.4,2,  195.17,2,    1.04,2,    0.00,2,   0.110,2,-999.000,9,-999.000,9,-999.000,9,  -999.0,9,  -999.0,9,-999.0000,9,  -999.00, -999.00,9, -999.00,9,     2345,    0.03,2,  29.8817,2,         51
49UP20160703,         P9,      81,          1,         32,        089,2,20160807,       2230,     2.0872,   141.5092,       2650,    75.7,  29.7219,  34.5135,2,  34.5084,2,    199.0,2,  199.18,2,    1.37,2,    0.00,2,   0.090,2,-999.000,9,-999.000,9,-999.000,9,  -999.0,9,  -999.0,9,-999.0000,9,  -999.00, -999.00,9, -999.00,9,     2343,    0.02,2,  29.7248,2,         75
49UP20160703,         P9,      81,          1,         31,        515,2,20160807,       2230,     2.0872,   141.5092,       2650,    76.2,  29.7175,  34.5120,2,  34.5131,2,    198.9,2,  199.56,2,    1.39,2,    0.00,2,   0.110,2,-999.000,9,-999.000,9,-999.000,9,  -999.0,9,  -999.0,9,-999.0000,9,  -999.00, -999.00,9, -999.00,9,     2343,    0.03,2,  29.7138,2,         76
49UP20160703,         P9,      81,          1,         30,        097,2,20160807,       2230,     2.0872,   141.5092,       2650,   101.3,  28.1763,  34.6529,2,  34.6526,2,    193.1,2,  193.67,2,    1.76,2,    0.01,2,   0.130,2,-999.000,9,-999.000,9,-999.000,9,  -999.0,9,  -999.0,9,-999.0000,9,  -999.00, -999.00,9, -999.00,9,     2342,    0.03,2,  28.1668,2,        101
49UP20160703,         P9,      81,          1,         29,        102,2,20160807,       2230,     2.0872,   141.5092,       2650,   126.4,  25.4128,  34.9266,2,  34.9157,2,    151.4,2,  152.87,2,    3.72,2,    0.08,2,   0.490,2,-999.000,9,-999.000,9,-999.000,9,  -999.0,9,  -999.0,9,-999.0000,9,  -999.00, -999.00,9, -999.00,9,     2341,    5.42,2,  25.4091,2,        126
49UP20160703,         P9,      81,          1,         28,        472,2,20160807,       2230,     2.0872,   141.5092,       2650,   151.5,  19.2481,  34.9013,2,  34.9008,2,    154.0,2,  153.71,6,    7.93,6,    0.01,6,   0.710,6,-999.000,9,-999.000,9,-999.000,9,  -999.0,9,  -999.0,9,-999.0000,9,  -999.00, -999.00,9, -999.00,9,     2340,    9.05,6,  19.2773,2,        151
49UP20160703,         P9,      81,          1,         27,        998,2,20160807,       2230,     2.0872,   141.5092,       2650,   201.8,  11.6120,  34.5350,2,  34.5520,4,    131.8,2,  130.76,2,   25.63,2,    0.00,2,   1.560,2,-999.000,9,-999.000,9,-999.000,9,  -999.0,9,  -999.0,9,-999.0000,9,  -999.00, -999.00,9, -999.00,9,     2338,   21.59,2,  11.7046,2,        201
49UP20160703,         P9,      81,          1,         26,        084,2,20160807,       2230,     2.0872,   141.5092,       2650,   252.0,  10.8292,  34.7760,2,  34.7760,2,    135.3,2,  135.60,2,   18.73,2,    0.00,2,   1.660,2,-999.000,9,-999.000,9,-999.000,9,  -999.0,9,  -999.0,9,-999.0000,9,  -999.00, -999.00,9, -999.00,9,     2336,   23.21,2,  10.8291,2,        250
49UP20160703,         P9,      81,          1,         25,        098,2,20160807,       2230,     2.0872,   141.5092,       2650,   301.7,  10.5735,  34.7569,2,  34.7551,2,    131.6,2,  131.21,2,   20.08,2,    0.00,2,   1.730,2,-999.000,9,-999.000,9,-999.000,9,  -999.0,9,  -999.0,9,-999.0000,9,  -999.00, -999.00,9, -999.00,9,     2334,   24.19,2,  10.5722,2,        300
49UP20160703,         P9,      81,          1,         24,        110,2,20160807,       2230,     2.0872,   141.5092,       2650,   353.6,   9.5905,  34.6850,2,  34.6873,2,    100.9,2,  102.57,2,   26.63,2,    0.00,2,   2.030,2,-999.000,9,-999.000,9,-999.000,9,  -999.0,9,  -999.0,9,-999.0000,9,  -999.00, -999.00,9, -999.00,9,     2332,   28.80,2,   9.5922,2,        351
49UP20160703,         P9,      81,          1,         23,        679,2,20160807,       2230,     2.0872,   141.5092,       2650,   403.5,   8.9825,  34.6479,2,  34.6488,2,    108.3,2,  108.22,2,   28.25,2,    0.00,2,   2.080,2,-999.000,9,-999.000,9,-999.000,9,  -999.0,9,  -999.0,9,-999.0000,9,  -999.00, -999.00,9, -999.00,9,     2330,   29.47,2,   8.9830,2,        401
49UP20160703,         P9,      81,          1,         22,        111,2,20160807,       2230,     2.0872,   141.5092,       2650,   453.9,   8.6434,  34.6252,2,  34.6253,2,    110.4,2,  110.42,2,   29.91,2,    0.00,2,   2.100,2,-999.000,9,-999.000,9,-999.000,9,  -999.0,9,  -999.0,9,-999.0000,9,  -999.00, -999.00,9, -999.00,9,     2328,   29.91,2,   8.6438,2,        451
49UP20160703,         P9,      81,          1,         20,        093,2,20160807,       2230,     2.0872,   141.5092,       2650,   506.1,   8.2799,  34.6020,2,  34.6022,2,    109.2,2,  108.85,2,   32.78,2,    0.00,2,   2.160,2,-999.000,9,-999.000,9,-999.000,9,  -999.0,9,  -999.0,9,-999.0000,9,  -999.00, -999.00,9, -999.00,9,     2326,   30.81,2,   8.2802,2,        503
49UP20160703,         P9,      81,          1,         21,        078,2,20160807,       2230,     2.0872,   141.5092,       2650,   506.7,   8.2784,  34.6020,2,  34.6024,2,    109.2,2,  108.86,2,   32.74,2,    0.00,2,   2.160,2,-999.000,9,-999.000,9,-999.000,9,  -999.0,9,  -999.0,9,-999.0000,9,  -999.00, -999.00,9, -999.00,9,     2327,   30.77,2,   8.2785,2,        503
49UP20160703,         P9,      81,          1,         19,        269,2,20160807,       2230,     2.0872,   141.5092,       2650,   604.3,   7.2403,  34.5543,2,  34.5550,2,    102.5,2,  100.51,6,   42.32,6,    0.00,6,   2.370,6,-999.000,9,-999.000,9,-999.000,9,  -999.0,9,  -999.0,9,-999.0000,9,  -999.00, -999.00,9, -999.00,9,     2324,   33.46,6,   7.2458,2,        600
49UP20160703,         P9,      81,          1,         18,        088,2,20160807,       2230,     2.0872,   141.5092,       2650,   705.8,   6.4998,  34.5423,2,  34.5418,6,     82.7,2,   82.89,2,   53.58,2,    0.00,2,   2.600,2,-999.000,9,-999.000,9,-999.000,9,  -999.0,9,  -999.0,9,-999.0000,9,  -999.00, -999.00,9, -999.00,9,     2321,   36.47,2,   6.4998,2,        701
49UP20160703,         P9,      81,          1,         17,        090,2,20160807,       2230,     2.0872,   141.5092,       2650,   807.0,   5.6496,  34.5316,2,  34.5311,2,    101.0,2,  100.28,2,   61.31,2,    0.00,2,   2.580,2,-999.000,9,-999.000,9,-999.000,9,  -999.0,9,  -999.0,9,-999.0000,9,  -999.00, -999.00,9, -999.00,9,     2318,   36.21,2,   5.6629,2,        801
49UP20160703,         P9,      81,          1,         12,        074,2,20160807,       2230,     2.0872,   141.5092,       2650,   908.0,   5.0922,  34.5409,2,  34.5407,2,     91.3,2,   91.04,2,   76.39,2,    0.00,2,   2.690,2,-999.000,9,-999.000,9,-999.000,9,  -999.0,9,  -999.0,9,-999.0000,9,  -999.00, -999.00,9, -999.00,9,     2315,   37.63,2,   5.0924,2,        901
49UP20160703,         P9,      81,          1,         16,        474,3,20160807,       2230,     2.0872,   141.5092,       2650,   908.3,   5.0914,  34.5410,2,  34.5409,2,     91.4,2,   91.31,2,   76.21,2,    0.00,2,   2.680,2,-999.000,9,-999.000,9,-999.000,9,  -999.0,9,  -999.0,9,-999.0000,9,  -999.00, -999.00,9, -999.00,9,     2315,   37.54,2,   5.0915,2,        901
49UP20160703,         P9,      81,          1,         11,        268,2,20160807,       2230,     2.0872,   141.5092,       2650,  1009.1,   4.6160,  34.5504,2,  34.5508,2,     94.4,2,   94.29,2,   84.23,2,    0.00,2,   2.720,2,-999.000,9,-999.000,9,-999.000,9,  -999.0,9,  -999.0,9,-999.0000,9,  -999.00, -999.00,9, -999.00,9,     2311,   37.98,2,   4.6159,2,       1001
49UP20160703,         P9,      81,          1,         10,        267,2,20160807,       2230,     2.0872,   141.5092,       2650,  1212.2,   3.7443,  34.5747,2,  34.5740,2,     95.4,2,   95.38,2,  103.14,2,    0.00,2,   2.770,2,-999.000,9,-999.000,9,-999.000,9,  -999.0,9,  -999.0,9,-999.0000,9,  -999.00, -999.00,9, -999.00,9,     2306,   38.75,2,   3.7453,2,       1202
49UP20160703,         P9,      81,          1,          9,        518,2,20160807,       2230,     2.0872,   141.5092,       2650,  1413.4,   3.1158,  34.5959,2,  34.5954,2,    100.8,2,  100.49,2,  116.55,2,    0.00,2,   2.770,2,-999.000,9,-999.000,9,-999.000,9,  -999.0,9,  -999.0,9,-999.0000,9,  -999.00, -999.00,9, -999.00,9,     2301,   38.84,2,   3.1160,2,       1401
49UP20160703,         P9,      81,          1,          7,        516,2,20160807,       2230,     2.0872,   141.5092,       2650,  1615.2,   2.6442,  34.6151,2,  34.6149,2,    105.7,2,  105.63,2,  127.32,2,    0.00,2,   2.760,2,-999.000,9,-999.000,9,-999.000,9,  -999.0,9,  -999.0,9,-999.0000,9,  -999.00, -999.00,9, -999.00,9,     2255,   38.77,2,   2.6450,2,       1600
49UP20160703,         P9,      81,          1,          8,        470,2,20160807,       2230,     2.0872,   141.5092,       2650,  1617.3,   2.6338,  34.6158,2,  34.6156,2,    105.9,2,  105.67,2,  127.13,2,    0.00,2,   2.750,2,-999.000,9,-999.000,9,-999.000,9,  -999.0,9,  -999.0,9,-999.0000,9,  -999.00, -999.00,9, -999.00,9,     2255,   38.69,2,   2.6354,2,       1602
49UP20160703,         P9,      81,          1,          6,        113,2,20160807,       2230,     2.0872,   141.5092,       2650,  1819.0,   2.3413,  34.6289,2,  34.6288,2,    114.4,2,  114.20,2,  132.49,2,    0.00,2,   2.710,2,-999.000,9,-999.000,9,-999.000,9,  -999.0,9,  -999.0,9,-999.0000,9,  -999.00, -999.00,9, -999.00,9,     2250,   38.29,2,   2.3413,2,       1801
49UP20160703,         P9,      81,          1,          5,        658,2,20160807,       2230,     2.0872,   141.5092,       2650,  2022.5,   2.0901,  34.6418,2,  34.6415,2,    120.8,2,  120.31,2,  137.13,2,    0.00,2,   2.680,2,-999.000,9,-999.000,9,-999.000,9,  -999.0,9,  -999.0,9,-999.0000,9,  -999.00, -999.00,9, -999.00,9,     2246,   37.98,2,   2.0898,2,       2002
49UP20160703,         P9,      81,          1,          4,        471,2,20160807,       2230,     2.0872,   141.5092,       2650,  2225.5,   1.9280,  34.6514,2,  34.6513,2,    123.1,2,  122.69,6,  141.45,6,    0.00,6,   2.680,6,-999.000,9,-999.000,9,-999.000,9,  -999.0,9,  -999.0,9,-999.0000,9,  -999.00, -999.00,9, -999.00,9,     2240,   37.98,6,   1.9281,2,       2202
49UP20160703,         P9,      81,          1,          3,        104,2,20160807,       2230,     2.0872,   141.5092,       2650,  2428.4,   1.7893,  34.6589,2,  34.6593,6,    130.5,2,  130.22,2,  142.30,2,    0.00,2,   2.630,2,-999.000,9,-999.000,9,-999.000,9,  -999.0,9,  -999.0,9,-999.0000,9,  -999.00, -999.00,9, -999.00,9,     2235,   37.49,2,   1.7893,2,       2401
49UP20160703,         P9,      81,          1,          1,        997,2,20160807,       2230,     2.0872,   141.5092,       2650,  2650.3,   1.7334,  34.6626,2,  34.6625,2,    134.2,2,  134.52,2,  142.56,2,    0.00,2,   2.610,2,-999.000,9,-999.000,9,-999.000,9,  -999.0,9,  -999.0,9,-999.0000,9,  -999.00, -999.00,9, -999.00,9,     2230,   37.22,2,   1.7335,2,       2619
49UP20160703,         P9,      81,          1,          2,        075,2,20160807,       2230,     2.0872,   141.5092,       2650,  2650.4,   1.7335,  34.6626,2,-999.0000,5,    134.2,2,  134.13,2,  142.52,2,    0.00,2,   2.610,2,-999.000,9,-999.000,9,-999.000,9,  -999.0,9,  -999.0,9,-999.0000,9,  -999.00, -999.00,9, -999.00,9,     2230,   37.22,2,   1.7335,2,       2619