BOTTLE,20230712CCHSIOENA
EXPOCODE,SECT_ID,STNNBR,CASTNO,SAMPNO,BTLNBR,BTLNBR_FLAG_W,DATE,TIME,LATITUDE,LONGITUDE,DEPTH,CTDPRS,CTDTMP,CTDSAL,CTDSAL_FLAG_W,SALNTY,SALNTY_FLAG_W,CTDOXY,CTDOXY_FLAG_W,OXYGEN,OXYGEN_FLAG_W,SILCAT,SILCAT_FLAG_W,NITRIT,NITRIT_FLAG_W,PHSPHT,PHSPHT_FLAG_W,CFC-11,CFC-11_FLAG_W,CFC-12,CFC-12_FLAG_W,CFC113,CFC113_FLAG_W,TCARBN,TCARBN_FLAG_W,ALKALI,ALKALI_FLAG_W,PH_TOT,PH_TOT_FLAG_W,PH_TMP,CHLORA,CHLORA_FLAG_W,PPHYTN,PPHYTN_FLAG_W,BTL_TIME,NO2+NO3,NO2+NO3_FLAG_W,SBE35,SBE35_FLAG_W,CTDDEPTH
,,,,,,,,,,,METERS,DBAR,ITS-90,PSS-78,,PSS-78,,UMOL/KG,,UMOL/KG,,UMOL/KG,,UMOL/KG,,UMOL/KG,,PMOL/KG,,PMOL/KG,,PMOL/KG,,UMOL/KG,,UMOL/KG,,,,DEG C,UG/KG,,UG/KG,,,UMOL/KG,,ITS-90,,METERS
49UP20160703,         P9,      12,          1,          0,        BUC,2,20160707,       0702,    30.6578,   136.9972,       4211,     0.0,  27.9919,  34.4563,2,-999.0000,9,    203.3,2,  202.31,2,    1.52,2,    0.00,2,   0.020,2,-999.000,9,-999.000,9,-999.000,9,  -999.0,9,  -999.0,9,-999.0000,9,  -999.00, -999.00,9, -999.00,9,      831,    0.02,2,-999.0000,9,          0
49UP20160703,         P9,      12,          1,         36,        109,2,20160707,       0702,    30.6578,   136.9972,       4211,    10.5,  26.1598,  34.4336,2,  34.4342,2,    210.0,2,  210.35,2,    1.51,2,    0.00,2,   0.010,2,-999.000,9,-999.000,9,-999.000,9,  -999.0,9,  -999.0,9,-999.0000,9,  -999.00, -999.00,9, -999.00,9,      907,    0.00,2,  26.1604,2,         10
49UP20160703,         P9,      12,          1,         35,        112,2,20160707,       0702,    30.6578,   136.9972,       4211,    10.7,  26.1247,  34.4341,2,  34.4360,2,    210.2,2,  210.50,2,    1.51,2,    0.00,2,   0.000,2,-999.000,9,-999.000,9,-999.000,9,  -999.0,9,  -999.0,9,-999.0000,9,  -999.00, -999.00,9, -999.00,9,      907,    0.00,2,  26.1378,2,         11
49UP20160703,         P9,      12,          1,         34,        094,2,20160707,       0702,    30.6578,   136.9972,       4211,    25.5,  24.3880,  34.6226,2,  34.6246,2,    217.8,2,  218.30,2,    1.52,2,    0.00,2,   0.010,2,-999.000,9,-999.000,9,-999.000,9,  -999.0,9,  -999.0,9,-999.0000,9,  -999.00, -999.00,9, -999.00,9,      906,    0.00,2,  24.3912,2,         25
49UP20160703,         P9,      12,          1,         33,        469,2,20160707,       0702,    30.6578,   136.9972,       4211,    50.8,  20.6002,  34.8648,2,  34.8655,2,    237.6,2,  237.23,2,    1.66,2,    0.00,2,   0.010,2,-999.000,9,-999.000,9,-999.000,9,  -999.0,9,  -999.0,9,-999.0000,9,  -999.00, -999.00,9, -999.00,9,      902,    0.00,2,  20.5992,2,         50
49UP20160703,         P9,      12,          1,         32,        089,2,20160707,       0702,    30.6578,   136.9972,       4211,    77.1,  19.7949,  34.8866,2,  34.8855,2,    228.0,2,  228.28,2,    1.69,2,    0.00,2,   0.020,2,-999.000,9,-999.000,9,-999.000,9,  -999.0,9,  -999.0,9,-999.0000,9,  -999.00, -999.00,9, -999.00,9,      900,    0.00,2,  19.8007,2,         77
49UP20160703,         P9,      12,          1,         31,        515,2,20160707,       0702,    30.6578,   136.9972,       4211,   101.0,  19.6153,  34.8959,2,  34.8955,6,    222.5,2,  222.32,2,    1.65,2,    0.07,2,   0.050,2,-999.000,9,-999.000,9,-999.000,9,  -999.0,9,  -999.0,9,-999.0000,9,  -999.00, -999.00,9, -999.00,9,      859,    0.16,2,  19.6156,2,        100
49UP20160703,         P9,      12,          1,         30,        097,2,20160707,       0702,    30.6578,   136.9972,       4211,   126.4,  19.4490,  34.8914,2,  34.8909,2,    216.0,2,  216.12,6,    1.95,6,    0.02,6,   0.100,6,-999.000,9,-999.000,9,-999.000,9,  -999.0,9,  -999.0,9,-999.0000,9,  -999.00, -999.00,9, -999.00,9,      857,    1.27,6,  19.4492,2,        125
49UP20160703,         P9,      12,          1,         29,        102,2,20160707,       0702,    30.6578,   136.9972,       4211,   150.6,  19.3563,  34.8856,2,  34.8869,2,    215.0,2,  215.14,2,    2.07,2,    0.01,2,   0.120,2,-999.000,9,-999.000,9,-999.000,9,  -999.0,9,  -999.0,9,-999.0000,9,  -999.00, -999.00,9, -999.00,9,      856,    1.47,2,  19.3557,2,        150
49UP20160703,         P9,      12,          1,         28,        472,4,20160707,       0702,    30.6578,   136.9972,       4211,   200.3,  19.0942,  34.8728,2,-999.0000,9,    213.3,2, -999.00,9, -999.00,9, -999.00,9,-999.000,9,-999.000,9,-999.000,9,-999.000,9,  -999.0,9,  -999.0,9,-999.0000,9,  -999.00, -999.00,9, -999.00,9,      853, -999.00,9,  19.0909,2,        199
49UP20160703,         P9,      12,          1,         27,        998,2,20160707,       0702,    30.6578,   136.9972,       4211,   251.0,  18.5660,  34.8333,2,  34.8337,2,    212.6,2,  213.64,2,    2.70,2,    0.01,2,   0.180,2,-999.000,9,-999.000,9,-999.000,9,  -999.0,9,  -999.0,9,-999.0000,9,  -999.00, -999.00,9, -999.00,9,      852,    2.46,2,  18.5652,2,        249
49UP20160703,         P9,      12,          1,         26,        084,2,20160707,       0702,    30.6578,   136.9972,       4211,   281.6,  18.3699,  34.8263,2,  34.8242,2,    214.5,2,  213.64,2,    2.79,2,    0.01,2,   0.190,2,-999.000,9,-999.000,9,-999.000,9,  -999.0,9,  -999.0,9,-999.0000,9,  -999.00, -999.00,9, -999.00,9,      850,    2.64,2,  18.3677,2,        279
49UP20160703,         P9,      12,          1,         25,        098,2,20160707,       0702,    30.6578,   136.9972,       4211,   370.0,  17.2812,  34.7396,2,  34.7379,2,    204.0,2,  204.23,2,    4.44,2,    0.00,2,   0.330,2,-999.000,9,-999.000,9,-999.000,9,  -999.0,9,  -999.0,9,-999.0000,9,  -999.00, -999.00,9, -999.00,9,      847,    4.94,2,  17.2801,2,        367
49UP20160703,         P9,      12,          1,         24,        110,2,20160707,       0702,    30.6578,   136.9972,       4211,   471.6,  16.5560,  34.6990,2,  34.6986,2,    208.0,2,  207.65,2,    5.37,2,    0.00,2,   0.380,2,-999.000,9,-999.000,9,-999.000,9,  -999.0,9,  -999.0,9,-999.0000,9,  -999.00, -999.00,9, -999.00,9,      843,    5.61,2,  16.5556,2,        468
49UP20160703,         P9,      12,          1,         23,        679,2,20160707,       0702,    30.6578,   136.9972,       4211,   472.0,  16.5502,  34.6971,2,  34.6950,2,    207.6,2,  206.72,2,    5.50,2,    0.00,2,   0.390,2,-999.000,9,-999.000,9,-999.000,9,  -999.0,9,  -999.0,9,-999.0000,9,  -999.00, -999.00,9, -999.00,9,      843,    5.77,2,  16.5478,2,        468
49UP20160703,         P9,      12,          1,         22,        111,2,20160707,       0702,    30.6578,   136.9972,       4211,   575.1,  14.3113,  34.5109,2,  34.5106,2,    184.5,2,  185.04,2,   12.96,2,    0.00,2,   0.780,2,-999.000,9,-999.000,9,-999.000,9,  -999.0,9,  -999.0,9,-999.0000,9,  -999.00, -999.00,9, -999.00,9,      840,   11.33,2,  14.3110,2,        570
49UP20160703,         P9,      12,          1,         21,        078,2,20160707,       0702,    30.6578,   136.9972,       4211,   676.5,  11.4957,  34.3283,2,  34.3278,2,    167.5,2,  167.62,2,   25.30,2,    0.00,2,   1.240,2,-999.000,9,-999.000,9,-999.000,9,  -999.0,9,  -999.0,9,-999.0000,9,  -999.00, -999.00,9, -999.00,9,      837,   17.56,2,  11.4983,2,        671
49UP20160703,         P9,      12,          1,         20,        093,2,20160707,       0702,    30.6578,   136.9972,       4211,   778.1,   8.8301,  34.1999,2,  34.2008,2,    144.2,2,  144.33,2,   42.63,2,    0.00,2,   1.740,2,-999.000,9,-999.000,9,-999.000,9,  -999.0,9,  -999.0,9,-999.0000,9,  -999.00, -999.00,9, -999.00,9,      834,   24.22,2,   8.8301,2,        771
49UP20160703,         P9,      12,          1,         19,        269,2,20160707,       0702,    30.6578,   136.9972,       4211,   880.0,   7.1412,  34.1793,2,  34.1802,6,    116.2,2,  116.49,2,   60.57,2,    0.00,2,   2.140,2,-999.000,9,-999.000,9,-999.000,9,  -999.0,9,  -999.0,9,-999.0000,9,  -999.00, -999.00,9, -999.00,9,      831,   29.68,2,   7.1418,2,        872
49UP20160703,         P9,      12,          1,         18,        088,2,20160707,       0702,    30.6578,   136.9972,       4211,   978.4,   5.5509,  34.2294,2,  34.2296,2,     85.6,2,   85.74,6,   84.99,6,    0.00,6,   2.530,6,-999.000,9,-999.000,9,-999.000,9,  -999.0,9,  -999.0,9,-999.0000,9,  -999.00, -999.00,9, -999.00,9,      828,   35.09,6,   5.5524,2,        969
49UP20160703,         P9,      12,          1,         17,        090,2,20160707,       0702,    30.6578,   136.9972,       4211,  1141.6,   4.1606,  34.3303,2,  34.3304,2,     63.4,2,   63.19,2,  111.53,2,    0.00,2,   2.810,2,-999.000,9,-999.000,9,-999.000,9,  -999.0,9,  -999.0,9,-999.0000,9,  -999.00, -999.00,9, -999.00,9,      820,   39.11,2,   4.1614,2,       1131
49UP20160703,         P9,      12,          1,         16,        474,2,20160707,       0702,    30.6578,   136.9972,       4211,  1343.2,   3.3212,  34.4239,2,  34.4239,2,     60.7,2,   60.59,2,  128.61,2,    0.00,2,   2.900,2,-999.000,9,-999.000,9,-999.000,9,  -999.0,9,  -999.0,9,-999.0000,9,  -999.00, -999.00,9, -999.00,9,      815,   40.49,2,   3.3205,2,       1330
49UP20160703,         P9,      12,          1,         15,        665,2,20160707,       0702,    30.6578,   136.9972,       4211,  1546.5,   2.7937,  34.4890,2,  34.4884,2,     68.1,2,   68.02,2,  138.75,2,    0.00,2,   2.890,2,-999.000,9,-999.000,9,-999.000,9,  -999.0,9,  -999.0,9,-999.0000,9,  -999.00, -999.00,9, -999.00,9,      810,   40.53,2,   2.7937,2,       1530
49UP20160703,         P9,      12,          1,         14,        999,2,20160707,       0702,    30.6578,   136.9972,       4211,  1748.4,   2.4603,  34.5344,2,  34.5342,2,     80.2,2,   79.97,2,  143.37,2,    0.00,2,   2.850,2,-999.000,9,-999.000,9,-999.000,9,  -999.0,9,  -999.0,9,-999.0000,9,  -999.00, -999.00,9, -999.00,9,      804,   40.03,2,   2.4601,2,       1729
49UP20160703,         P9,      12,          1,         13,        667,2,20160707,       0702,    30.6578,   136.9972,       4211,  1953.4,   2.1943,  34.5732,2,  34.5731,6,     93.2,2,   93.17,2,  145.65,2,    0.00,2,   2.790,2,-999.000,9,-999.000,9,-999.000,9,  -999.0,9,  -999.0,9,-999.0000,9,  -999.00, -999.00,9, -999.00,9,      758,   39.39,2,   2.1942,2,       1931
49UP20160703,         P9,      12,          1,         12,        074,2,20160707,       0702,    30.6578,   136.9972,       4211,  2157.1,   2.0001,  34.6019,2,  34.6012,2,    106.2,2,  106.01,6,  146.00,6,    0.00,6,   2.730,6,-999.000,9,-999.000,9,-999.000,9,  -999.0,9,  -999.0,9,-999.0000,9,  -999.00, -999.00,9, -999.00,9,      753,   38.65,6,   2.0000,2,       2131
49UP20160703,         P9,      12,          1,         10,        267,2,20160707,       0702,    30.6578,   136.9972,       4211,  2359.6,   1.8629,  34.6223,2,  34.6223,2,    115.5,2,  115.46,2,  146.28,2,    0.00,2,   2.690,2,-999.000,9,-999.000,9,-999.000,9,  -999.0,9,  -999.0,9,-999.0000,9,  -999.00, -999.00,9, -999.00,9,      748,   38.17,2,   1.8632,2,       2330
49UP20160703,         P9,      12,          1,         11,        268,2,20160707,       0702,    30.6578,   136.9972,       4211,  2360.6,   1.8637,  34.6222,2,  34.6220,2,    115.5,2,  115.32,2,  146.14,2,    0.00,2,   2.690,2,-999.000,9,-999.000,9,-999.000,9,  -999.0,9,  -999.0,9,-999.0000,9,  -999.00, -999.00,9, -999.00,9,      748,   38.17,2,   1.8637,2,       2331
49UP20160703,         P9,      12,          1,          9,        518,2,20160707,       0702,    30.6578,   136.9972,       4211,  2562.2,   1.7531,  34.6393,2,  34.6390,2,    125.7,2,  125.79,2,  145.06,2,    0.00,2,   2.640,2,-999.000,9,-999.000,9,-999.000,9,  -999.0,9,  -999.0,9,-999.0000,9,  -999.00, -999.00,9, -999.00,9,      743,   37.54,2,   1.7530,2,       2529
49UP20160703,         P9,      12,          1,          8,        470,2,20160707,       0702,    30.6578,   136.9972,       4211,  2766.0,   1.6798,  34.6511,2,  34.6514,2,    133.2,2,  133.30,2,  144.08,2,    0.00,2,   2.600,2,-999.000,9,-999.000,9,-999.000,9,  -999.0,9,  -999.0,9,-999.0000,9,  -999.00, -999.00,9, -999.00,9,      738,   37.09,2,   1.6796,2,       2729
49UP20160703,         P9,      12,          1,          7,        516,2,20160707,       0702,    30.6578,   136.9972,       4211,  2971.2,   1.6096,  34.6615,2,  34.6620,2,    140.2,2,  140.08,2,  143.19,2,    0.00,2,   2.570,2,-999.000,9,-999.000,9,-999.000,9,  -999.0,9,  -999.0,9,-999.0000,9,  -999.00, -999.00,9, -999.00,9,      733,   36.68,2,   1.6095,2,       2930
49UP20160703,         P9,      12,          1,          6,        113,2,20160707,       0702,    30.6578,   136.9972,       4211,  3216.2,   1.5446,  34.6714,2,  34.6717,6,    146.8,2,  146.88,2,  142.51,2,    0.00,2,   2.540,2,-999.000,9,-999.000,9,-999.000,9,  -999.0,9,  -999.0,9,-999.0000,9,  -999.00, -999.00,9, -999.00,9,      727,   36.18,2,   1.5446,2,       3170
49UP20160703,         P9,      12,          1,          5,        658,2,20160707,       0702,    30.6578,   136.9972,       4211,  3472.5,   1.5219,  34.6765,2,  34.6769,2,    150.5,2,  150.50,6,  141.95,6,    0.00,6,   2.520,6,-999.000,9,-999.000,9,-999.000,9,  -999.0,9,  -999.0,9,-999.0000,9,  -999.00, -999.00,9, -999.00,9,      721,   36.05,6,   1.5217,2,       3421
49UP20160703,         P9,      12,          1,          4,        471,2,20160707,       0702,    30.6578,   136.9972,       4211,  3727.5,   1.5183,  34.6798,2,  34.6799,2,    153.0,2,  153.07,2,  141.73,2,    0.00,2,   2.510,2,-999.000,9,-999.000,9,-999.000,9,  -999.0,9,  -999.0,9,-999.0000,9,  -999.00, -999.00,9, -999.00,9,      715,   35.88,2,   1.5182,2,       3670
49UP20160703,         P9,      12,          1,          3,        104,2,20160707,       0702,    30.6578,   136.9972,       4211,  3984.6,   1.5337,  34.6811,2,  34.6810,2,    154.0,2,  154.50,2,  141.54,2,    0.00,2,   2.500,2,-999.000,9,-999.000,9,-999.000,9,  -999.0,9,  -999.0,9,-999.0000,9,  -999.00, -999.00,9, -999.00,9,      710,   35.86,2,   1.5337,2,       3920
49UP20160703,         P9,      12,          1,          2,        075,2,20160707,       0702,    30.6578,   136.9972,       4211,  4284.8,   1.5579,  34.6821,2,  34.6816,2,    155.0,2,  155.21,6,  141.08,6,    0.00,6,   2.490,6,-999.000,9,-999.000,9,-999.000,9,  -999.0,9,  -999.0,9,-999.0000,9,  -999.00, -999.00,9, -999.00,9,      703,   35.75,6,   1.5579,2,       4213