BOTTLE,20230712CCHSIOENA
EXPOCODE,SECT_ID,STNNBR,CASTNO,SAMPNO,BTLNBR,BTLNBR_FLAG_W,DATE,TIME,LATITUDE,LONGITUDE,DEPTH,CTDPRS,CTDTMP,CTDSAL,CTDSAL_FLAG_W,SALNTY,SALNTY_FLAG_W,CTDOXY,CTDOXY_FLAG_W,OXYGEN,OXYGEN_FLAG_W,SILCAT,SILCAT_FLAG_W,NITRIT,NITRIT_FLAG_W,PHSPHT,PHSPHT_FLAG_W,CFC-11,CFC-11_FLAG_W,CFC-12,CFC-12_FLAG_W,CFC113,CFC113_FLAG_W,TCARBN,TCARBN_FLAG_W,ALKALI,ALKALI_FLAG_W,PH_TOT,PH_TOT_FLAG_W,PH_TMP,CHLORA,CHLORA_FLAG_W,PPHYTN,PPHYTN_FLAG_W,BTL_TIME,NO2+NO3,NO2+NO3_FLAG_W,SBE35,SBE35_FLAG_W,CTDDEPTH
,,,,,,,,,,,METERS,DBAR,ITS-90,PSS-78,,PSS-78,,UMOL/KG,,UMOL/KG,,UMOL/KG,,UMOL/KG,,UMOL/KG,,PMOL/KG,,PMOL/KG,,PMOL/KG,,UMOL/KG,,UMOL/KG,,,,DEG C,UG/KG,,UG/KG,,,UMOL/KG,,ITS-90,,METERS
49UP20160703,         P9,      90,          1,          0,        BUC,2,20160810,       1526,    -2.0062,   142.0003,       3608,     0.0,  30.0762,  34.1459,2,  34.1479,2,    194.1,2,  194.32,2,    0.93,2,    0.00,2,   0.130,2,-999.000,9,-999.000,9,-999.000,9,  1908.5,2,  2244.2,2,   8.1269,2,    25.00,    0.07,2,    0.04,2,     1636,    0.07,2,-999.0000,9,          0
49UP20160703,         P9,      90,          1,         36,        109,2,20160810,       1526,    -2.0062,   142.0003,       3608,    10.6,  29.9924,  34.1375,2,  34.1369,2,    194.5,2,  194.48,2,    0.93,2,    0.00,2,   0.120,2,   1.477,2,   0.941,2,   0.111,2,  1908.1,2,  2241.1,2,    8.134,2,    25.00,    0.07,2,    0.03,2,     1709,    0.06,2,  29.9955,2,         11
49UP20160703,         P9,      90,          1,         35,        112,2,20160810,       1526,    -2.0062,   142.0003,       3608,    25.7,  29.9369,  34.1417,2,  34.1411,2,    194.6,2,  194.78,2,    0.93,2,    0.00,2,   0.120,4,   1.481,6,   0.944,6,   0.116,6,  1909.3,2,  2245.2,2,   8.1307,2,    25.00,    0.06,2,    0.03,2,     1707,    0.05,2,  29.9363,2,         26
49UP20160703,         P9,      90,          1,         34,        094,2,20160810,       1526,    -2.0062,   142.0003,       3608,    50.2,  29.4458,  34.1303,2,  34.1328,2,    198.2,2,  198.51,2,    1.47,2,    0.00,2,   0.090,2,   1.525,2,   0.958,2,   0.115,2,  1910.3,2,  2244.3,2,    8.132,2,    25.00,    0.16,2,    0.09,2,     1705,    0.07,2,  29.4470,2,         50
49UP20160703,         P9,      90,          1,         33,        469,2,20160810,       1526,    -2.0062,   142.0003,       3608,    75.6,  27.9988,  34.5345,2,  34.5390,2,    191.7,2,  191.64,2,    1.20,2,    0.21,2,   0.130,2,   1.597,2,   1.004,2,   0.117,2,  1946.8,2,  2268.8,2,   8.1036,2,    25.00,    0.32,2,    0.21,2,     1703,    0.47,2,  28.0009,2,         75
49UP20160703,         P9,      90,          1,         32,        089,2,20160810,       1526,    -2.0062,   142.0003,       3608,   100.1,  25.4926,  35.3184,2,  35.3098,2,    156.0,2,  156.26,2,    1.70,2,    0.08,2,   0.460,2,   1.748,2,   1.092,2,   0.094,2,  2039.5,2,  2314.3,2,   8.0046,6,    25.00,    0.07,2,    0.21,2,     1702,    4.91,2,  25.5174,2,        100
49UP20160703,         P9,      90,          1,         31,        515,2,20160810,       1526,    -2.0062,   142.0003,       3608,   125.8,  22.6837,  35.4955,2,  35.4949,2,    154.3,2,  154.42,2,    2.15,2,    0.04,2,   0.570,2,   1.930,2,   1.177,2,   0.054,2,  2072.0,2,  2328.6,2,   7.9647,2,    25.00,    0.03,2,    0.09,2,     1701,    6.46,2,  22.6809,2,        125
49UP20160703,         P9,      90,          1,         30,        097,2,20160810,       1526,    -2.0062,   142.0003,       3608,   149.9,  21.6279,  35.5262,2,  35.5269,6,    152.1,2,  151.88,2,    2.51,2,    0.03,2,   0.640,2,   1.983,2,   1.197,2,   0.053,2,  2087.0,2,  2330.2,2,   7.9415,2,    25.00,    0.02,2,    0.07,2,     1700,    7.41,2,  21.6255,2,        149
49UP20160703,         P9,      90,          1,         29,        102,2,20160810,       1526,    -2.0062,   142.0003,       3608,   199.8,  17.6824,  35.3527,2,  35.3565,2,    139.7,2,  139.70,6,    5.47,6,    0.01,6,   0.990,6,   2.077,2,   1.198,2,   0.018,2,  2130.0,2,  2324.6,2,   7.8486,2,    25.00,    0.00,2,    0.03,2,     1658,   12.57,6,  17.6922,2,        199
49UP20160703,         P9,      90,          1,         27,        998,2,20160810,       1526,    -2.0062,   142.0003,       3608,   250.9,  15.7999,  35.2225,2,  35.2061,4,    148.6,2,  149.06,2,    6.78,2,    0.01,2,   1.090,2,   2.088,2,   1.172,2,   0.026,2,  2134.4,2,  2317.5,2,   7.8162,2,    25.00, -999.00,9, -999.00,9,     1656,   14.22,2,  15.7715,2,        249
49UP20160703,         P9,      90,          1,         28,        472,2,20160810,       1526,    -2.0062,   142.0003,       3608,   251.3,  15.6735,  35.2140,2,  35.2124,2,    148.9,2,  148.85,2,    6.74,2,    0.01,2,   1.090,2,-999.000,9,-999.000,9,-999.000,9,  2136.6,2,  2317.2,2,   7.8165,2,    25.00, -999.00,9, -999.00,9,     1656,   14.15,2,  15.6923,2,        250
49UP20160703,         P9,      90,          1,         26,        084,2,20160810,       1526,    -2.0062,   142.0003,       3608,   302.1,  12.4307,  34.9358,2,  34.9336,2,    155.4,2,  154.78,2,   10.97,2,    0.00,2,   1.360,2,   1.966,2,   1.053,2,   0.014,2,  2154.8,2,  2309.3,2,   7.7539,2,    25.00, -999.00,9, -999.00,9,     1654,   18.56,2,  12.4434,2,        300
49UP20160703,         P9,      90,          1,         25,        098,2,20160810,       1526,    -2.0062,   142.0003,       3608,   352.4,  10.7518,  34.7917,2,  34.7914,2,    156.9,2,  156.58,2,   14.22,2,    0.00,2,   1.530,2,-999.000,9,-999.000,9,-999.000,9,  2163.4,2,  2302.1,2,   7.7189,2,    25.00, -999.00,9, -999.00,9,     1652,   21.32,2,  10.7511,2,        350
49UP20160703,         P9,      90,          1,         24,        110,2,20160810,       1526,    -2.0062,   142.0003,       3608,   402.8,   9.8441,  34.7154,2,  34.7145,2,    155.7,2,  157.08,2,   16.45,2,    0.00,2,   1.640,2,   1.711,2,   0.859,2,   0.023,2,  2172.2,6,  2300.0,6,   7.6962,2,    25.00, -999.00,9, -999.00,9,     1650,   23.14,2,   9.8449,2,        400
49UP20160703,         P9,      90,          1,         23,        679,2,20160810,       1526,    -2.0062,   142.0003,       3608,   454.3,   8.7948,  34.6337,2,  34.6340,2,    163.9,2,  163.87,2,   19.04,2,    0.00,2,   1.730,2,-999.000,9,-999.000,9,-999.000,9,  2174.9,2,  2297.0,2,    7.681,2,    25.00, -999.00,9, -999.00,9,     1648,   24.55,2,   8.7945,2,        451
49UP20160703,         P9,      90,          1,         22,        111,2,20160810,       1526,    -2.0062,   142.0003,       3608,   504.7,   8.0990,  34.5869,2,  34.5858,2,    159.5,2,  161.27,2,   22.46,2,    0.00,2,   1.840,2,   1.389,2,   0.667,2,   0.024,2,  2184.5,2,  2299.1,2,    7.658,2,    25.00, -999.00,9, -999.00,9,     1646,   26.39,2,   8.1006,2,        501
49UP20160703,         P9,      90,          1,         21,        078,2,20160810,       1526,    -2.0062,   142.0003,       3608,   604.4,   6.6179,  34.5304,2,  34.5313,2,    128.8,2,  128.71,2,   39.18,2,    0.00,2,   2.270,2,   0.632,2,   0.289,2,   0.020,2,  2224.3,2,  2308.2,2,   7.5795,2,    25.00, -999.00,9, -999.00,9,     1643,   32.41,2,   6.6180,2,        600
49UP20160703,         P9,      90,          1,         20,        093,2,20160810,       1526,    -2.0062,   142.0003,       3608,   705.0,   5.7705,  34.4911,2,  34.4915,2,    153.2,2,  153.30,2,   42.76,2,    0.00,2,   2.210,2,-999.000,9,-999.000,9,-999.000,9,  2220.5,2,  2311.4,2,   7.6039,2,    25.00, -999.00,9, -999.00,9,     1640,   31.63,2,   5.7704,2,        700
49UP20160703,         P9,      90,          1,         19,        269,2,20160810,       1526,    -2.0062,   142.0003,       3608,   705.0,   5.7705,  34.4912,2,  34.4925,2,    153.1,2,  153.34,2,   42.71,2,    0.00,2,   2.200,2,   0.617,2,   0.281,2,   0.007,2,  2221.2,2,  2312.5,2,   7.6022,2,    25.00, -999.00,9, -999.00,9,     1640,   31.59,2,   5.7702,2,        700
49UP20160703,         P9,      90,          1,         18,        088,2,20160810,       1526,    -2.0062,   142.0003,       3608,   805.2,   5.2165,  34.4935,2,  34.4945,2,    149.0,2,  149.02,2,   51.74,2,    0.00,2,   2.290,2,   0.407,2,   0.191,2,   0.003,2,  2232.3,2,  2319.5,2,   7.5911,2,    25.00, -999.00,9, -999.00,9,     1637,   32.80,2,   5.2159,2,        799
49UP20160703,         P9,      90,          1,         17,        090,2,20160810,       1526,    -2.0062,   142.0003,       3608,   906.9,   4.9277,  34.5304,2,  34.5308,2,    114.0,2,  114.04,2,   68.45,2,    0.00,2,   2.560,2,   0.155,6,   0.070,6,   0.006,6,  2268.0,6,  2337.4,6,   7.5407,2,    25.00, -999.00,9, -999.00,9,     1634,   36.28,2,   4.9279,2,        900
49UP20160703,         P9,      90,          1,         16,        474,2,20160810,       1526,    -2.0062,   142.0003,       3608,  1008.2,   4.4677,  34.5365,2,  34.5376,2,    118.9,2,  118.88,6,   76.13,6,    0.00,6,   2.560,6,   0.125,2,   0.056,2,   0.010,2,  2274.6,2,  2345.9,2,   7.5394,2,    25.00, -999.00,9, -999.00,9,     1630,   36.21,6,   4.4677,2,       1000
49UP20160703,         P9,      90,          1,         15,        665,2,20160810,       1526,    -2.0062,   142.0003,       3608,  1210.5,   3.6686,  34.5717,2,  34.5722,6,    110.3,2,  110.46,2,   98.23,2,    0.00,2,   2.660,2,   0.041,2,   0.015,2,   0.006,2,  2306.3,2,  2370.3,2,    7.531,2,    25.00, -999.00,9, -999.00,9,     1626,   37.44,2,   3.6684,2,       1200
49UP20160703,         P9,      90,          1,         14,        999,3,20160810,       1526,    -2.0062,   142.0003,       3608,  1412.8,   3.1688,  34.5940,2,  34.5942,2,    105.1,2,  105.10,2,  112.79,2,    0.00,2,   2.730,2,   0.011,2,   0.000,2,   0.001,2,  2322.2,2,  2384.1,2,   7.5166,2,    25.00, -999.00,9, -999.00,9,     1621,   38.41,2,   3.1687,2,       1400
49UP20160703,         P9,      90,          1,         13,        667,2,20160810,       1526,    -2.0062,   142.0003,       3608,  1614.8,   2.7331,  34.6119,2,  34.6118,2,    111.1,2,  111.36,2,  121.65,2,    0.00,2,   2.710,2,-999.000,9,-999.000,9,-999.000,9,  2328.3,2,  2393.4,2,   7.5248,6,    25.00, -999.00,9, -999.00,9,     1614,   38.32,2,   2.7331,2,       1600
49UP20160703,         P9,      90,          1,         12,        074,2,20160810,       1526,    -2.0062,   142.0003,       3608,  1817.8,   2.4451,  34.6256,2,  34.6261,2,    115.4,2,  115.22,6,  128.28,6,    0.00,6,   2.690,6,-999.000,9,-999.000,9,-999.000,9,  2329.2,2,  2402.2,2,   7.5254,2,    25.00, -999.00,9, -999.00,9,     1610,   38.17,6,   2.4450,2,       1800
49UP20160703,         P9,      90,          1,         10,        267,2,20160810,       1526,    -2.0062,   142.0003,       3608,  2021.4,   2.1792,  34.6385,2,  34.6388,2,    120.3,2,  120.50,2,  134.36,2,    0.00,2,   2.670,2,   0.003,2,   0.000,2,   0.003,2,  2334.1,2,  2406.6,2,   7.5374,2,    25.00, -999.00,9, -999.00,9,     1605,   37.90,2,   2.1787,2,       2001
49UP20160703,         P9,      90,          1,         11,        268,2,20160810,       1526,    -2.0062,   142.0003,       3608,  2021.7,   2.1797,  34.6385,2,  34.6389,2,    120.2,2,  120.47,2,  134.25,2,    0.00,2,   2.660,2,-999.000,9,-999.000,9,-999.000,9,  2334.6,2,  2408.3,2,   7.5365,2,    25.00, -999.00,9, -999.00,9,     1605,   37.91,2,   2.1794,2,       2001
49UP20160703,         P9,      90,          1,          9,        518,2,20160810,       1526,    -2.0062,   142.0003,       3608,  2225.4,   1.9403,  34.6509,2,  34.6515,6,    127.3,2,  127.33,2,  138.21,2,    0.00,2,   2.630,2,-999.000,9,-999.000,9,-999.000,9,  2334.8,2,  2411.3,2,   7.5462,2,    25.00, -999.00,9, -999.00,9,     1600,   37.47,2,   1.9402,2,       2201
49UP20160703,         P9,      90,          1,          8,        470,2,20160810,       1526,    -2.0062,   142.0003,       3608,  2426.9,   1.8271,  34.6572,2,  34.6575,2,    131.4,2,  131.44,2,  140.03,2,    0.00,2,   2.610,2,   0.003,2,   0.000,2,   0.000,2,  2337.5,2,  2415.1,2,   7.5549,2,    25.00, -999.00,9, -999.00,9,     1555,   37.24,2,   1.8270,2,       2400
49UP20160703,         P9,      90,          1,          7,        516,2,20160810,       1526,    -2.0062,   142.0003,       3608,  2631.0,   1.7422,  34.6625,2,  34.6621,2,    135.2,2,  135.31,2,  141.21,2,    0.00,2,   2.590,2,-999.000,9,-999.000,9,-999.000,9,  2333.2,2,  2417.8,2,   7.5605,2,    25.00, -999.00,9, -999.00,9,     1550,   36.99,2,   1.7421,2,       2600
49UP20160703,         P9,      90,          1,          6,        113,2,20160810,       1526,    -2.0062,   142.0003,       3608,  2834.9,   1.6644,  34.6678,2,  34.6677,2,    138.8,2,  138.83,2,  142.08,2,    0.00,2,   2.570,2,-999.000,9,-999.000,9,-999.000,9,  2334.4,6,  2417.8,6,   7.5642,2,    25.00, -999.00,9, -999.00,9,     1545,   36.77,2,   1.6642,2,       2800
49UP20160703,         P9,      90,          1,          5,        658,2,20160810,       1526,    -2.0062,   142.0003,       3608,  3038.2,   1.6143,  34.6717,2,  34.6726,2,    141.7,2,  142.03,2,  142.59,2,    0.00,2,   2.560,2,   0.002,2,   0.000,2,   0.010,2,  2333.0,2,  2420.8,2,   7.5721,2,    25.00, -999.00,9, -999.00,9,     1541,   36.56,2,   1.6142,2,       3000
49UP20160703,         P9,      90,          1,          4,        471,2,20160810,       1526,    -2.0062,   142.0003,       3608,  3293.9,   1.5886,  34.6745,2,  34.6742,2,    144.3,2,  144.51,6,  142.67,6,    0.00,6,   2.540,6,-999.000,9,-999.000,9,-999.000,9,  2331.3,2,  2418.1,2,   7.5755,2,    25.00, -999.00,9, -999.00,9,     1535,   36.41,6,   1.5886,2,       3250
49UP20160703,         P9,      90,          1,          3,        104,2,20160810,       1526,    -2.0062,   142.0003,       3608,  3549.6,   1.5902,  34.6760,2,  34.6763,6,    145.4,2,  145.38,2,  142.75,2,    0.00,2,   2.530,2,   0.003,2,   0.000,2,   0.005,2,  2331.4,2,  2422.7,2,   7.5767,6,    25.00, -999.00,9, -999.00,9,     1529,   36.37,2,   1.5902,2,       3501
49UP20160703,         P9,      90,          1,          1,        997,2,20160810,       1526,    -2.0062,   142.0003,       3608,  3634.3,   1.5974,  34.6760,2,  34.6765,2,    145.6,2,  145.65,2,  142.72,2,    0.00,2,   2.530,2,   0.005,2,   0.003,2,   0.008,2,  2332.0,2,  2421.2,2,   7.5768,2,    25.00, -999.00,9, -999.00,9,     1526,   36.34,2,   1.5974,2,       3584
49UP20160703,         P9,      90,          1,          2,        075,2,20160810,       1526,    -2.0062,   142.0003,       3608,  3634.4,   1.5976,  34.6760,2,  34.6762,2,    145.7,2,  145.92,2,  142.79,2,    0.00,2,   2.530,2,-999.000,9,-999.000,9,-999.000,9,  2335.3,2,  2420.6,2,   7.5771,2,    25.00, -999.00,9, -999.00,9,     1526,   36.35,2,   1.5976,2,       3584