BOTTLE,20230712CCHSIOENA
EXPOCODE,SECT_ID,STNNBR,CASTNO,SAMPNO,BTLNBR,BTLNBR_FLAG_W,DATE,TIME,LATITUDE,LONGITUDE,DEPTH,CTDPRS,CTDTMP,CTDSAL,CTDSAL_FLAG_W,SALNTY,SALNTY_FLAG_W,CTDOXY,CTDOXY_FLAG_W,OXYGEN,OXYGEN_FLAG_W,SILCAT,SILCAT_FLAG_W,NITRIT,NITRIT_FLAG_W,PHSPHT,PHSPHT_FLAG_W,CFC-11,CFC-11_FLAG_W,CFC-12,CFC-12_FLAG_W,CFC113,CFC113_FLAG_W,TCARBN,TCARBN_FLAG_W,ALKALI,ALKALI_FLAG_W,PH_TOT,PH_TOT_FLAG_W,PH_TMP,CHLORA,CHLORA_FLAG_W,PPHYTN,PPHYTN_FLAG_W,BTL_TIME,NO2+NO3,NO2+NO3_FLAG_W,SBE35,SBE35_FLAG_W,CTDDEPTH
,,,,,,,,,,,METERS,DBAR,ITS-90,PSS-78,,PSS-78,,UMOL/KG,,UMOL/KG,,UMOL/KG,,UMOL/KG,,UMOL/KG,,PMOL/KG,,PMOL/KG,,PMOL/KG,,UMOL/KG,,UMOL/KG,,,,DEG C,UG/KG,,UG/KG,,,UMOL/KG,,ITS-90,,METERS
49UP20160703,         P9,      79,          1,          0,        BUC,2,20160807,       0718,     2.2945,   140.4983,       3862,     0.0,  29.8881,  33.8864,2,-999.0000,9,    195.3,2,  195.21,2,    0.89,2,    0.00,2,   0.100,2,-999.000,9,-999.000,9,-999.000,9,  -999.0,9,  -999.0,9,-999.0000,9,  -999.00, -999.00,9, -999.00,9,      835,    0.02,2,-999.0000,9,          0
49UP20160703,         P9,      79,          1,         36,        109,2,20160807,       0718,     2.2945,   140.4983,       3862,    10.2,  29.9282,  33.8864,2,  33.8861,2,    195.3,2,  195.30,2,    0.90,2,    0.00,2,   0.090,2,-999.000,9,-999.000,9,-999.000,9,  -999.0,9,  -999.0,9,-999.0000,9,  -999.00, -999.00,9, -999.00,9,      858,    0.01,2,  29.9316,2,         10
49UP20160703,         P9,      79,          1,         35,        112,2,20160807,       0718,     2.2945,   140.4983,       3862,    25.1,  29.8727,  33.8891,2,  33.8884,2,    195.5,2,  195.09,2,    0.90,2,    0.00,2,   0.090,2,-999.000,9,-999.000,9,-999.000,9,  -999.0,9,  -999.0,9,-999.0000,9,  -999.00, -999.00,9, -999.00,9,      857,    0.01,2,  29.8720,2,         25
49UP20160703,         P9,      79,          1,         34,        094,2,20160807,       0718,     2.2945,   140.4983,       3862,    50.0,  29.9241,  33.9363,2,  33.9508,4,    195.9,2,  195.91,2,    0.90,2,    0.00,2,   0.100,2,-999.000,9,-999.000,9,-999.000,9,  -999.0,9,  -999.0,9,-999.0000,9,  -999.00, -999.00,9, -999.00,9,      854,    0.03,2,  29.9224,2,         50
49UP20160703,         P9,      79,          1,         33,        469,2,20160807,       0718,     2.2945,   140.4983,       3862,    75.6,  29.2673,  34.5461,2,  34.5623,4,    198.4,2,  196.78,2,    1.36,2,    0.00,2,   0.100,2,-999.000,9,-999.000,9,-999.000,9,  -999.0,9,  -999.0,9,-999.0000,9,  -999.00, -999.00,9, -999.00,9,      852,    0.02,2,  29.2612,2,         75
49UP20160703,         P9,      79,          1,         32,        089,2,20160807,       0718,     2.2945,   140.4983,       3862,   100.9,  27.5762,  34.6911,2,  34.6922,2,    184.5,2,  184.23,6,    1.76,6,    0.14,6,   0.160,6,-999.000,9,-999.000,9,-999.000,9,  -999.0,9,  -999.0,9,-999.0000,9,  -999.00, -999.00,9, -999.00,9,      851,    0.41,6,  27.5712,2,        100
49UP20160703,         P9,      79,          1,         31,        515,2,20160807,       0718,     2.2945,   140.4983,       3862,   126.2,  24.7282,  34.8468,2,  34.8742,4,    157.1,2,  157.32,2,    4.30,2,    0.04,2,   0.460,2,-999.000,9,-999.000,9,-999.000,9,  -999.0,9,  -999.0,9,-999.0000,9,  -999.00, -999.00,9, -999.00,9,      850,    5.27,2,  24.9193,2,        125
49UP20160703,         P9,      79,          1,         30,        097,2,20160807,       0718,     2.2945,   140.4983,       3862,   150.7,  19.3753,  34.8516,2,  34.8129,4,    154.1,2,  153.85,2,    8.56,2,    0.01,2,   0.730,2,-999.000,9,-999.000,9,-999.000,9,  -999.0,9,  -999.0,9,-999.0000,9,  -999.00, -999.00,9, -999.00,9,      849,    9.31,2,  19.3500,2,        150
49UP20160703,         P9,      79,          1,         29,        102,2,20160807,       0718,     2.2945,   140.4983,       3862,   201.4,  11.9742,  34.7014,2,  34.6582,4,    129.3,2,  126.12,2,   26.81,2,    0.00,2,   1.630,2,-999.000,9,-999.000,9,-999.000,9,  -999.0,9,  -999.0,9,-999.0000,9,  -999.00, -999.00,9, -999.00,9,      847,   22.64,2,  11.9745,2,        200
49UP20160703,         P9,      79,          1,         28,        472,2,20160807,       0718,     2.2945,   140.4983,       3862,   251.7,  10.7144,  34.7707,2,  34.7713,2,    134.4,2,  133.70,2,   18.88,2,    0.00,2,   1.680,2,-999.000,9,-999.000,9,-999.000,9,  -999.0,9,  -999.0,9,-999.0000,9,  -999.00, -999.00,9, -999.00,9,      846,   23.57,2,  10.7144,2,        250
49UP20160703,         P9,      79,          1,         27,        998,2,20160807,       0718,     2.2945,   140.4983,       3862,   332.4,  10.1175,  34.7210,2,  34.7187,2,    118.0,2,  116.50,6,   23.43,6,    0.00,6,   1.870,6,-999.000,9,-999.000,9,-999.000,9,  -999.0,9,  -999.0,9,-999.0000,9,  -999.00, -999.00,9, -999.00,9,      844,   26.48,6,  10.1179,2,        330
49UP20160703,         P9,      79,          1,         26,        084,2,20160807,       0718,     2.2945,   140.4983,       3862,   385.4,   9.5206,  34.6813,2,  34.6817,6,    115.9,2,  115.86,2,   25.15,2,    0.00,2,   1.940,2,-999.000,9,-999.000,9,-999.000,9,  -999.0,9,  -999.0,9,-999.0000,9,  -999.00, -999.00,9, -999.00,9,      843,   27.67,2,   9.5204,2,        383
49UP20160703,         P9,      79,          1,         25,        098,2,20160807,       0718,     2.2945,   140.4983,       3862,   433.5,   9.2229,  34.6635,2,  34.6579,4,    129.9,2,  129.41,2,   24.18,2,    0.00,2,   1.910,2,-999.000,9,-999.000,9,-999.000,9,  -999.0,9,  -999.0,9,-999.0000,9,  -999.00, -999.00,9, -999.00,9,      841,   27.17,2,   9.2216,2,        431
49UP20160703,         P9,      79,          1,         24,        110,2,20160807,       0718,     2.2945,   140.4983,       3862,   483.5,   8.4792,  34.6149,2,  34.6155,2,    111.8,2,  112.19,2,   30.85,2,    0.00,2,   2.110,2,-999.000,9,-999.000,9,-999.000,9,  -999.0,9,  -999.0,9,-999.0000,9,  -999.00, -999.00,9, -999.00,9,      840,   30.11,2,   8.4779,2,        480
49UP20160703,         P9,      79,          1,         22,        111,2,20160807,       0718,     2.2945,   140.4983,       3862,   534.3,   8.0162,  34.5882,2,  34.5866,2,    110.2,2,  109.87,2,   34.57,2,    0.00,2,   2.190,2,-999.000,9,-999.000,9,-999.000,9,  -999.0,9,  -999.0,9,-999.0000,9,  -999.00, -999.00,9, -999.00,9,      838,   31.21,2,   8.0159,2,        531
49UP20160703,         P9,      79,          1,         23,        679,2,20160807,       0718,     2.2945,   140.4983,       3862,   535.8,   7.9841,  34.5872,2,  34.5885,2,    110.1,2,  109.90,2,   34.43,2,    0.00,2,   2.190,2,-999.000,9,-999.000,9,-999.000,9,  -999.0,9,  -999.0,9,-999.0000,9,  -999.00, -999.00,9, -999.00,9,      838,   31.24,2,   7.9858,2,        532
49UP20160703,         P9,      79,          1,         21,        078,2,20160807,       0718,     2.2945,   140.4983,       3862,   634.4,   6.9313,  34.5409,2,  34.5404,2,    119.0,2,  119.93,2,   41.53,2,    0.00,2,   2.280,2,-999.000,9,-999.000,9,-999.000,9,  -999.0,9,  -999.0,9,-999.0000,9,  -999.00, -999.00,9, -999.00,9,      836,   32.35,2,   6.9304,2,        630
49UP20160703,         P9,      79,          1,         20,        093,2,20160807,       0718,     2.2945,   140.4983,       3862,   734.9,   6.0044,  34.5242,2,  34.5242,2,    121.4,2,  121.42,2,   50.67,2,    0.00,2,   2.390,2,-999.000,9,-999.000,9,-999.000,9,  -999.0,9,  -999.0,9,-999.0000,9,  -999.00, -999.00,9, -999.00,9,      833,   33.96,2,   6.0042,2,        730
49UP20160703,         P9,      79,          1,         19,        269,2,20160807,       0718,     2.2945,   140.4983,       3862,   836.1,   5.4830,  34.5340,2,  34.5342,2,     97.4,2,   97.25,2,   65.69,2,    0.00,2,   2.610,2,-999.000,9,-999.000,9,-999.000,9,  -999.0,9,  -999.0,9,-999.0000,9,  -999.00, -999.00,9, -999.00,9,      831,   36.75,2,   5.4833,2,        830
49UP20160703,         P9,      79,          1,         18,        088,2,20160807,       0718,     2.2945,   140.4983,       3862,   937.6,   4.8541,  34.5454,2,  34.5456,2,     92.5,2,   92.63,2,   79.99,2,    0.00,2,   2.700,2,-999.000,9,-999.000,9,-999.000,9,  -999.0,9,  -999.0,9,-999.0000,9,  -999.00, -999.00,9, -999.00,9,      828,   37.88,2,   4.8533,2,        930
49UP20160703,         P9,      79,          1,         17,        090,2,20160807,       0718,     2.2945,   140.4983,       3862,  1078.8,   4.1948,  34.5619,2,  34.5625,2,     92.9,2,   93.18,6,   94.31,6,    0.00,6,   2.740,6,-999.000,9,-999.000,9,-999.000,9,  -999.0,9,  -999.0,9,-999.0000,9,  -999.00, -999.00,9, -999.00,9,      822,   38.37,6,   4.1947,2,       1070
49UP20160703,         P9,      79,          1,         16,        474,2,20160807,       0718,     2.2945,   140.4983,       3862,  1281.3,   3.5357,  34.5812,2,  34.5815,6,     95.2,2,   95.33,2,  108.14,2,    0.00,2,   2.770,2,-999.000,9,-999.000,9,-999.000,9,  -999.0,9,  -999.0,9,-999.0000,9,  -999.00, -999.00,9, -999.00,9,      817,   38.84,2,   3.5367,2,       1270
49UP20160703,         P9,      79,          1,         15,        665,2,20160807,       0718,     2.2945,   140.4983,       3862,  1483.4,   3.0334,  34.5993,2,  34.5990,2,    102.1,2,  101.92,2,  118.15,2,    0.00,2,   2.750,2,-999.000,9,-999.000,9,-999.000,9,  -999.0,9,  -999.0,9,-999.0000,9,  -999.00, -999.00,9, -999.00,9,      813,   38.72,2,   3.0332,2,       1470
49UP20160703,         P9,      79,          1,         14,        999,2,20160807,       0718,     2.2945,   140.4983,       3862,  1687.0,   2.6129,  34.6169,2,  34.6163,2,    105.4,2,  105.57,2,  128.24,2,    0.00,2,   2.750,2,-999.000,9,-999.000,9,-999.000,9,  -999.0,9,  -999.0,9,-999.0000,9,  -999.00, -999.00,9, -999.00,9,      806,   38.82,2,   2.6127,2,       1671
49UP20160703,         P9,      79,          1,         13,        667,2,20160807,       0718,     2.2945,   140.4983,       3862,  1687.0,   2.6069,  34.6173,2,  34.6164,2,    105.5,2,  105.26,2,  128.18,2,    0.00,2,   2.750,2,-999.000,9,-999.000,9,-999.000,9,  -999.0,9,  -999.0,9,-999.0000,9,  -999.00, -999.00,9, -999.00,9,      806,   38.80,2,   2.6021,2,       1671
49UP20160703,         P9,      79,          1,         12,        074,2,20160807,       0718,     2.2945,   140.4983,       3862,  1889.7,   2.2114,  34.6357,2,  34.6350,2,    114.8,2,  114.61,2,  136.07,2,    0.00,2,   2.710,2,-999.000,9,-999.000,9,-999.000,9,  -999.0,9,  -999.0,9,-999.0000,9,  -999.00, -999.00,9, -999.00,9,      801,   38.35,2,   2.2129,2,       1871
49UP20160703,         P9,      79,          1,         11,        268,2,20160807,       0718,     2.2945,   140.4983,       3862,  2093.1,   2.0462,  34.6446,2,  34.6441,2,    120.2,2,  120.08,2,  138.44,2,    0.00,2,   2.670,2,-999.000,9,-999.000,9,-999.000,9,  -999.0,9,  -999.0,9,-999.0000,9,  -999.00, -999.00,9, -999.00,9,      757,   37.96,2,   2.0461,2,       2071
49UP20160703,         P9,      79,          1,         10,        267,2,20160807,       0718,     2.2945,   140.4983,       3862,  2295.0,   1.8432,  34.6561,2,  34.6563,2,    126.6,2,  126.52,2,  142.30,2,    0.00,2,   2.640,2,-999.000,9,-999.000,9,-999.000,9,  -999.0,9,  -999.0,9,-999.0000,9,  -999.00, -999.00,9, -999.00,9,      752,   37.72,2,   1.8421,2,       2270
49UP20160703,         P9,      79,          1,          9,        518,2,20160807,       0718,     2.2945,   140.4983,       3862,  2498.7,   1.7267,  34.6625,2,  34.6620,2,    133.9,2,  133.87,2,  142.18,2,    0.00,2,   2.600,2,-999.000,9,-999.000,9,-999.000,9,  -999.0,9,  -999.0,9,-999.0000,9,  -999.00, -999.00,9, -999.00,9,      747,   37.21,2,   1.7267,2,       2470
49UP20160703,         P9,      79,          1,          8,        470,2,20160807,       0718,     2.2945,   140.4983,       3862,  2703.1,   1.6791,  34.6658,2,  34.6656,2,    137.3,2,  137.11,2,  142.35,2,    0.00,2,   2.590,2,-999.000,9,-999.000,9,-999.000,9,  -999.0,9,  -999.0,9,-999.0000,9,  -999.00, -999.00,9, -999.00,9,      743,   36.96,2,   1.6792,2,       2671
49UP20160703,         P9,      79,          1,          7,        516,2,20160807,       0718,     2.2945,   140.4983,       3862,  2905.9,   1.6201,  34.6695,2,  34.6692,2,    141.5,2,  141.47,2,  142.35,2,    0.00,2,   2.560,2,-999.000,9,-999.000,9,-999.000,9,  -999.0,9,  -999.0,9,-999.0000,9,  -999.00, -999.00,9, -999.00,9,      739,   36.66,2,   1.6202,2,       2870
49UP20160703,         P9,      79,          1,          6,        113,2,20160807,       0718,     2.2945,   140.4983,       3862,  3120.9,   1.5692,  34.6738,2,  34.6735,2,    145.0,2,  144.94,6,  142.52,6,    0.00,6,   2.540,6,-999.000,9,-999.000,9,-999.000,9,  -999.0,9,  -999.0,9,-999.0000,9,  -999.00, -999.00,9, -999.00,9,      734,   36.44,6,   1.5692,2,       3081
49UP20160703,         P9,      79,          1,          5,        658,2,20160807,       0718,     2.2945,   140.4983,       3862,  3375.1,   1.5589,  34.6764,2,  34.6764,2,    146.3,2,  146.12,2,  142.80,2,    0.00,2,   2.540,2,-999.000,9,-999.000,9,-999.000,9,  -999.0,9,  -999.0,9,-999.0000,9,  -999.00, -999.00,9, -999.00,9,      729,   36.39,2,   1.5588,2,       3330
49UP20160703,         P9,      79,          1,          4,        471,2,20160807,       0718,     2.2945,   140.4983,       3862,  3375.5,   1.5588,  34.6764,2,  34.6763,2,    146.2,2,  146.38,2,  142.91,2,    0.00,2,   2.540,2,-999.000,9,-999.000,9,-999.000,9,  -999.0,9,  -999.0,9,-999.0000,9,  -999.00, -999.00,9, -999.00,9,      729,   36.37,2,   1.5588,2,       3330
49UP20160703,         P9,      79,          1,          3,        104,2,20160807,       0718,     2.2945,   140.4983,       3862,  3632.4,   1.5572,  34.6787,2,  34.6784,6,    147.5,2,  147.42,2,  142.91,2,    0.00,2,   2.530,2,-999.000,9,-999.000,9,-999.000,9,  -999.0,9,  -999.0,9,-999.0000,9,  -999.00, -999.00,9, -999.00,9,      723,   36.25,2,   1.5573,2,       3582
49UP20160703,         P9,      79,          1,          2,        075,2,20160807,       0718,     2.2945,   140.4983,       3862,  3895.8,   1.5397,  34.6823,2,  34.6827,2,    150.2,2,  149.79,2,  142.85,2,    0.00,2,   2.510,2,-999.000,9,-999.000,9,-999.000,9,  -999.0,9,  -999.0,9,-999.0000,9,  -999.00, -999.00,9, -999.00,9,      718,   36.12,2,   1.5398,2,       3839
49UP20160703,         P9,      79,          1,          1,        997,2,20160807,       0718,     2.2945,   140.4983,       3862,  3895.9,   1.5394,  34.6824,2,  34.6818,2,    150.2,2,  149.25,2,  143.02,2,    0.00,2,   2.520,2,-999.000,9,-999.000,9,-999.000,9,  -999.0,9,  -999.0,9,-999.0000,9,  -999.00, -999.00,9, -999.00,9,      718,   36.14,2,   1.5393,2,       3839