BOTTLE,20230712CCHSIOENA
EXPOCODE,SECT_ID,STNNBR,CASTNO,SAMPNO,BTLNBR,BTLNBR_FLAG_W,DATE,TIME,LATITUDE,LONGITUDE,DEPTH,CTDPRS,CTDTMP,CTDSAL,CTDSAL_FLAG_W,SALNTY,SALNTY_FLAG_W,CTDOXY,CTDOXY_FLAG_W,OXYGEN,OXYGEN_FLAG_W,SILCAT,SILCAT_FLAG_W,NITRIT,NITRIT_FLAG_W,PHSPHT,PHSPHT_FLAG_W,CFC-11,CFC-11_FLAG_W,CFC-12,CFC-12_FLAG_W,CFC113,CFC113_FLAG_W,TCARBN,TCARBN_FLAG_W,ALKALI,ALKALI_FLAG_W,PH_TOT,PH_TOT_FLAG_W,PH_TMP,CHLORA,CHLORA_FLAG_W,PPHYTN,PPHYTN_FLAG_W,BTL_TIME,NO2+NO3,NO2+NO3_FLAG_W,SBE35,SBE35_FLAG_W,CTDDEPTH
,,,,,,,,,,,METERS,DBAR,ITS-90,PSS-78,,PSS-78,,UMOL/KG,,UMOL/KG,,UMOL/KG,,UMOL/KG,,UMOL/KG,,PMOL/KG,,PMOL/KG,,PMOL/KG,,UMOL/KG,,UMOL/KG,,,,DEG C,UG/KG,,UG/KG,,,UMOL/KG,,ITS-90,,METERS
49UP20160703,         P9,      51,          1,          0,        BUC,2,20160720,       0234,    11.4853,   136.9795,       4912,     0.0,  30.2415,  34.4388,2,-999.0000,9,    193.4,2,  192.74,2,    0.79,2,    0.00,2,   0.060,2,-999.000,9,-999.000,9,-999.000,9,  -999.0,9,  -999.0,9,-999.0000,9,  -999.00, -999.00,9, -999.00,9,      425,    0.02,2,-999.0000,9,          0
49UP20160703,         P9,      51,          1,         36,        109,2,20160720,       0234,    11.4853,   136.9795,       4912,    10.4,  30.0288,  34.4401,2,  34.4391,2,    193.9,2,  193.75,2,    0.81,2,    0.00,2,   0.060,2,-999.000,9,-999.000,9,-999.000,9,  -999.0,9,  -999.0,9,-999.0000,9,  -999.00, -999.00,9, -999.00,9,      438,    0.02,2,  30.0476,2,         10
49UP20160703,         P9,      51,          1,         35,        112,3,20160720,       0234,    11.4853,   136.9795,       4912,    50.8,  29.2808,  34.7862,2,  34.7936,2,    202.0,2,  210.96,4,    1.01,2,    0.00,2,   0.060,2,-999.000,9,-999.000,9,-999.000,9,  -999.0,9,  -999.0,9,-999.0000,9,  -999.00, -999.00,9, -999.00,9,      434,    0.02,2,  29.2806,2,         51
49UP20160703,         P9,      51,          1,         28,        472,2,20160720,       0234,    11.4853,   136.9795,       4912,    76.6,  28.5261,  34.8200,2,  34.8251,2,    201.2,2,  201.52,6,    1.10,6,    0.00,6,   0.080,6,-999.000,9,-999.000,9,-999.000,9,  -999.0,9,  -999.0,9,-999.0000,9,  -999.00, -999.00,9, -999.00,9,      432,    0.03,6,  28.5239,2,         76
49UP20160703,         P9,      51,          1,         34,        094,2,20160720,       0234,    11.4853,   136.9795,       4912,   101.5,  27.2963,  34.8315,2,  34.8307,2,    196.6,2,  196.93,2,    1.42,2,    0.00,2,   0.110,2,-999.000,9,-999.000,9,-999.000,9,  -999.0,9,  -999.0,9,-999.0000,9,  -999.00, -999.00,9, -999.00,9,      431,    0.02,2,  27.2762,2,        101
49UP20160703,         P9,      51,          1,         33,        469,2,20160720,       0234,    11.4853,   136.9795,       4912,   126.2,  22.4002,  34.8886,2,  34.8873,2,    181.3,2,  180.84,2,    3.29,2,    0.27,2,   0.340,2,-999.000,9,-999.000,9,-999.000,9,  -999.0,9,  -999.0,9,-999.0000,9,  -999.00, -999.00,9, -999.00,9,      430,    2.24,2,  22.5054,2,        125
49UP20160703,         P9,      51,          1,         32,        089,2,20160720,       0234,    11.4853,   136.9795,       4912,   152.2,  19.6364,  34.9609,2,  34.9532,2,    175.7,2,  176.13,2,    4.07,2,    0.02,2,   0.400,2,-999.000,9,-999.000,9,-999.000,9,  -999.0,9,  -999.0,9,-999.0000,9,  -999.00, -999.00,9, -999.00,9,      429,    4.46,2,  19.6395,2,        151
49UP20160703,         P9,      51,          1,         31,        515,2,20160720,       0234,    11.4853,   136.9795,       4912,   201.9,  15.3681,  34.5807,2,  34.5783,2,    167.8,2,  167.74,2,    9.44,2,    0.00,2,   0.790,2,-999.000,9,-999.000,9,-999.000,9,  -999.0,9,  -999.0,9,-999.0000,9,  -999.00, -999.00,9, -999.00,9,      427,   10.55,2,  15.3719,2,        201
49UP20160703,         P9,      51,          1,         30,        097,2,20160720,       0234,    11.4853,   136.9795,       4912,   252.8,  11.9938,  34.4678,2,  34.4677,2,    112.7,2,  112.33,2,   24.19,2,    0.00,2,   1.610,2,-999.000,9,-999.000,9,-999.000,9,  -999.0,9,  -999.0,9,-999.0000,9,  -999.00, -999.00,9, -999.00,9,      426,   22.18,2,  11.9934,2,        251
49UP20160703,         P9,      51,          1,         29,        102,2,20160720,       0234,    11.4853,   136.9795,       4912,   283.5,  10.9988,  34.4323,2,  34.4323,2,    103.7,2,  103.80,2,   28.11,2,    0.00,2,   1.780,2,-999.000,9,-999.000,9,-999.000,9,  -999.0,9,  -999.0,9,-999.0000,9,  -999.00, -999.00,9, -999.00,9,      425,   24.56,2,  11.0086,2,        282
49UP20160703,         P9,      51,          1,         27,        998,2,20160720,       0234,    11.4853,   136.9795,       4912,   323.1,   9.8004,  34.4074,2,  34.4195,4,     94.3,2,   92.69,2,   35.17,2,    0.00,2,   2.010,2,-999.000,9,-999.000,9,-999.000,9,  -999.0,9,  -999.0,9,-999.0000,9,  -999.00, -999.00,9, -999.00,9,      423,   27.91,2,   9.7992,2,        321
49UP20160703,         P9,      51,          1,         26,        084,2,20160720,       0234,    11.4853,   136.9795,       4912,   374.3,   8.9011,  34.4423,2,  34.4430,2,     84.7,2,   82.11,6,   40.84,6,    0.00,6,   2.210,6,-999.000,9,-999.000,9,-999.000,9,  -999.0,9,  -999.0,9,-999.0000,9,  -999.00, -999.00,9, -999.00,9,      422,   30.80,6,   8.9030,2,        372
49UP20160703,         P9,      51,          1,         25,        098,2,20160720,       0234,    11.4853,   136.9795,       4912,   424.0,   8.1539,  34.4491,2,  34.4478,2,     75.0,2,   76.33,2,   45.97,2,    0.00,2,   2.340,2,-999.000,9,-999.000,9,-999.000,9,  -999.0,9,  -999.0,9,-999.0000,9,  -999.00, -999.00,9, -999.00,9,      420,   32.68,2,   8.1537,2,        421
49UP20160703,         P9,      51,          1,         24,        110,2,20160720,       0234,    11.4853,   136.9795,       4912,   473.5,   7.6809,  34.4650,2,  34.4647,6,     88.5,2,   88.37,2,   48.29,2,    0.00,2,   2.320,2,-999.000,9,-999.000,9,-999.000,9,  -999.0,9,  -999.0,9,-999.0000,9,  -999.00, -999.00,9, -999.00,9,      418,   32.59,2,   7.6802,2,        470
49UP20160703,         P9,      51,          1,         23,        679,2,20160720,       0234,    11.4853,   136.9795,       4912,   575.4,   6.8832,  34.4608,2,  34.4604,2,     89.9,2,   90.18,2,   56.14,2,    0.00,2,   2.420,2,-999.000,9,-999.000,9,-999.000,9,  -999.0,9,  -999.0,9,-999.0000,9,  -999.00, -999.00,9, -999.00,9,      416,   33.88,2,   6.8829,2,        571
49UP20160703,         P9,      51,          1,         22,        111,3,20160720,       0234,    11.4853,   136.9795,       4912,   676.6,   6.3734,  34.4913,2,  34.4908,2,     90.0,2,   90.58,2,   60.54,2,    0.00,2,   2.490,2,-999.000,9,-999.000,9,-999.000,9,  -999.0,9,  -999.0,9,-999.0000,9,  -999.00, -999.00,9, -999.00,9,      413,   35.08,2,   6.3754,2,        672
49UP20160703,         P9,      51,          1,         21,        078,2,20160720,       0234,    11.4853,   136.9795,       4912,   778.0,   5.8280,  34.5100,2,  34.5088,2,     86.3,2,   86.62,2,   68.30,2,    0.00,2,   2.590,2,-999.000,9,-999.000,9,-999.000,9,  -999.0,9,  -999.0,9,-999.0000,9,  -999.00, -999.00,9, -999.00,9,      410,   36.47,2,   5.8290,2,        772
49UP20160703,         P9,      51,          1,         20,        093,2,20160720,       0234,    11.4853,   136.9795,       4912,   878.2,   5.3055,  34.5226,2,  34.5220,2,     80.5,2,   80.73,2,   77.97,2,    0.00,2,   2.690,2,-999.000,9,-999.000,9,-999.000,9,  -999.0,9,  -999.0,9,-999.0000,9,  -999.00, -999.00,9, -999.00,9,      408,   37.74,2,   5.3056,2,        871
49UP20160703,         P9,      51,          1,         19,        269,3,20160720,       0234,    11.4853,   136.9795,       4912,   979.7,   4.8272,  34.5335,2,  34.5329,6,     79.9,2,   80.12,2,   87.00,2,    0.00,2,   2.730,2,-999.000,9,-999.000,9,-999.000,9,  -999.0,9,  -999.0,9,-999.0000,9,  -999.00, -999.00,9, -999.00,9,      404,   38.37,2,   4.8269,2,        972
49UP20160703,         P9,      51,          1,         18,        088,2,20160720,       0234,    11.4853,   136.9795,       4912,  1141.5,   4.1659,  34.5503,2,  34.5500,2,     82.4,2,   83.13,2,  100.31,2,    0.00,2,   2.770,2,-999.000,9,-999.000,9,-999.000,9,  -999.0,9,  -999.0,9,-999.0000,9,  -999.00, -999.00,9, -999.00,9,      359,   38.94,2,   4.1658,2,       1132
49UP20160703,         P9,      51,          1,         17,        090,2,20160720,       0234,    11.4853,   136.9795,       4912,  1343.6,   3.5103,  34.5687,2,  34.5682,2,     88.3,2,   88.80,2,  113.98,2,    0.00,2,   2.770,2,-999.000,9,-999.000,9,-999.000,9,  -999.0,9,  -999.0,9,-999.0000,9,  -999.00, -999.00,9, -999.00,9,      355,   39.11,2,   3.5110,2,       1332
49UP20160703,         P9,      51,          1,         16,        474,2,20160720,       0234,    11.4853,   136.9795,       4912,  1545.8,   2.9749,  34.5877,2,  34.5879,2,     96.1,2,   96.68,2,  124.71,2,    0.00,2,   2.750,2,-999.000,9,-999.000,9,-999.000,9,  -999.0,9,  -999.0,9,-999.0000,9,  -999.00, -999.00,9, -999.00,9,      350,   38.91,2,   2.9752,2,       1531
49UP20160703,         P9,      51,          1,         15,        665,2,20160720,       0234,    11.4853,   136.9795,       4912,  1748.6,   2.5848,  34.6066,2,  34.6066,2,    103.4,2,  103.70,6,  131.92,6,    0.00,6,   2.730,6,-999.000,9,-999.000,9,-999.000,9,  -999.0,9,  -999.0,9,-999.0000,9,  -999.00, -999.00,9, -999.00,9,      345,   38.76,6,   2.5848,2,       1731
49UP20160703,         P9,      51,          1,         14,        999,2,20160720,       0234,    11.4853,   136.9795,       4912,  1951.5,   2.2764,  34.6252,2,  34.6245,2,    111.3,2,  111.44,2,  137.06,2,    0.00,2,   2.700,2,-999.000,9,-999.000,9,-999.000,9,  -999.0,9,  -999.0,9,-999.0000,9,  -999.00, -999.00,9, -999.00,9,      340,   38.44,2,   2.2763,2,       1931
49UP20160703,         P9,      51,          1,         13,        667,2,20160720,       0234,    11.4853,   136.9795,       4912,  2155.2,   2.0489,  34.6380,2,  34.6374,2,    118.1,2,  118.18,2,  140.55,2,    0.00,2,   2.660,2,-999.000,9,-999.000,9,-999.000,9,  -999.0,9,  -999.0,9,-999.0000,9,  -999.00, -999.00,9, -999.00,9,      336,   38.13,2,   2.0493,2,       2132
49UP20160703,         P9,      51,          1,         12,        074,2,20160720,       0234,    11.4853,   136.9795,       4912,  2357.0,   1.9053,  34.6475,2,  34.6473,2,    123.4,2,  123.42,2,  142.55,2,    0.00,2,   2.640,2,-999.000,9,-999.000,9,-999.000,9,  -999.0,9,  -999.0,9,-999.0000,9,  -999.00, -999.00,9, -999.00,9,      331,   37.83,2,   1.9054,2,       2330
49UP20160703,         P9,      51,          1,         11,        268,2,20160720,       0234,    11.4853,   136.9795,       4912,  2561.7,   1.8114,  34.6540,2,  34.6542,2,    128.3,2,  128.47,2,  143.05,2,    0.00,2,   2.610,2,-999.000,9,-999.000,9,-999.000,9,  -999.0,9,  -999.0,9,-999.0000,9,  -999.00, -999.00,9, -999.00,9,      327,   37.45,2,   1.8114,2,       2532
49UP20160703,         P9,      51,          1,         10,        267,2,20160720,       0234,    11.4853,   136.9795,       4912,  2764.0,   1.7125,  34.6614,2,  34.6621,2,    134.7,2,  135.07,6,  142.87,6,    0.00,6,   2.570,6,-999.000,9,-999.000,9,-999.000,9,  -999.0,9,  -999.0,9,-999.0000,9,  -999.00, -999.00,9, -999.00,9,      322,   37.00,6,   1.7124,2,       2730
49UP20160703,         P9,      51,          1,          9,        518,2,20160720,       0234,    11.4853,   136.9795,       4912,  2968.0,   1.6336,  34.6673,2,  34.6676,2,    140.2,2,  140.30,2,  142.91,2,    0.00,2,   2.550,2,-999.000,9,-999.000,9,-999.000,9,  -999.0,9,  -999.0,9,-999.0000,9,  -999.00, -999.00,9, -999.00,9,      318,   36.74,2,   1.6336,2,       2930
49UP20160703,         P9,      51,          1,          8,        470,2,20160720,       0234,    11.4853,   136.9795,       4912,  3213.9,   1.5910,  34.6715,2,  34.6714,2,    144.3,2,  144.49,2,  142.62,2,    0.00,2,   2.530,2,-999.000,9,-999.000,9,-999.000,9,  -999.0,9,  -999.0,9,-999.0000,9,  -999.00, -999.00,9, -999.00,9,      312,   36.48,2,   1.5910,2,       3171
49UP20160703,         P9,      51,          1,          7,        516,2,20160720,       0234,    11.4853,   136.9795,       4912,  3469.2,   1.5635,  34.6752,2,  34.6748,2,    148.0,2,  147.97,2,  141.76,2,    0.00,2,   2.510,2,-999.000,9,-999.000,9,-999.000,9,  -999.0,9,  -999.0,9,-999.0000,9,  -999.00, -999.00,9, -999.00,9,      307,   36.18,2,   1.5634,2,       3421
49UP20160703,         P9,      51,          1,          6,        113,2,20160720,       0234,    11.4853,   136.9795,       4912,  3725.7,   1.5519,  34.6779,2,  34.6778,2,    151.0,2,  151.26,2,  140.90,2,    0.00,2,   2.490,2,-999.000,9,-999.000,9,-999.000,9,  -999.0,9,  -999.0,9,-999.0000,9,  -999.00, -999.00,9, -999.00,9,      301,   35.94,2,   1.5520,2,       3672
49UP20160703,         P9,      51,          1,          5,        658,2,20160720,       0234,    11.4853,   136.9795,       4912,  3979.8,   1.5357,  34.6813,2,  34.6806,6,    154.5,2,  154.63,2,  140.15,2,    0.00,2,   2.480,2,-999.000,9,-999.000,9,-999.000,9,  -999.0,9,  -999.0,9,-999.0000,9,  -999.00, -999.00,9, -999.00,9,      256,   35.79,2,   1.5359,2,       3920
49UP20160703,         P9,      51,          1,          4,        471,2,20160720,       0234,    11.4853,   136.9795,       4912,  4233.8,   1.5247,  34.6840,2,  34.6848,2,    158.0,2,  158.16,2,  139.20,2,    0.00,2,   2.460,2,-999.000,9,-999.000,9,-999.000,9,  -999.0,9,  -999.0,9,-999.0000,9,  -999.00, -999.00,9, -999.00,9,      250,   35.54,2,   1.5246,2,       4168
49UP20160703,         P9,      51,          1,          3,        104,2,20160720,       0234,    11.4853,   136.9795,       4912,  4490.8,   1.5320,  34.6857,2,  34.6855,2,    159.9,2,  159.83,2,  138.79,2,    0.00,2,   2.450,2,-999.000,9,-999.000,9,-999.000,9,  -999.0,9,  -999.0,9,-999.0000,9,  -999.00, -999.00,9, -999.00,9,      245,   35.47,2,   1.5321,2,       4419
49UP20160703,         P9,      51,          1,          2,        075,2,20160720,       0234,    11.4853,   136.9795,       4912,  4748.1,   1.5513,  34.6864,2,  34.6866,6,    160.9,2,  161.01,2,  138.24,2,    0.00,2,   2.440,2,-999.000,9,-999.000,9,-999.000,9,  -999.0,9,  -999.0,9,-999.0000,9,  -999.00, -999.00,9, -999.00,9,      239,   35.29,2,   1.5511,2,       4669
49UP20160703,         P9,      51,          1,          1,        997,2,20160720,       0234,    11.4853,   136.9795,       4912,  4982.1,   1.5667,  34.6873,2,  34.6874,2,    162.2,2,  162.25,2,  138.02,2,    0.00,2,   2.440,2,-999.000,9,-999.000,9,-999.000,9,  -999.0,9,  -999.0,9,-999.0000,9,  -999.00, -999.00,9, -999.00,9,      234,   35.32,2,   1.5668,2,       4897