BOTTLE,20230712CCHSIOENA
EXPOCODE,SECT_ID,STNNBR,CASTNO,SAMPNO,BTLNBR,BTLNBR_FLAG_W,DATE,TIME,LATITUDE,LONGITUDE,DEPTH,CTDPRS,CTDTMP,CTDSAL,CTDSAL_FLAG_W,SALNTY,SALNTY_FLAG_W,CTDOXY,CTDOXY_FLAG_W,OXYGEN,OXYGEN_FLAG_W,SILCAT,SILCAT_FLAG_W,NITRIT,NITRIT_FLAG_W,PHSPHT,PHSPHT_FLAG_W,CFC-11,CFC-11_FLAG_W,CFC-12,CFC-12_FLAG_W,CFC113,CFC113_FLAG_W,TCARBN,TCARBN_FLAG_W,ALKALI,ALKALI_FLAG_W,PH_TOT,PH_TOT_FLAG_W,PH_TMP,CHLORA,CHLORA_FLAG_W,PPHYTN,PPHYTN_FLAG_W,BTL_TIME,NO2+NO3,NO2+NO3_FLAG_W,SBE35,SBE35_FLAG_W,CTDDEPTH
,,,,,,,,,,,METERS,DBAR,ITS-90,PSS-78,,PSS-78,,UMOL/KG,,UMOL/KG,,UMOL/KG,,UMOL/KG,,UMOL/KG,,PMOL/KG,,PMOL/KG,,PMOL/KG,,UMOL/KG,,UMOL/KG,,,,DEG C,UG/KG,,UG/KG,,,UMOL/KG,,ITS-90,,METERS
49UP20160703,         P9,      76,          1,          0,        BUC,2,20160805,       2229,      2.609,   139.0075,       4344,     0.0,  29.8767,  34.0063,2,  34.0096,2,    195.1,2,  195.11,2,    1.10,2,    0.00,2,   0.120,2,-999.000,9,-999.000,9,-999.000,9,  1907.1,2,  2236.9,2,     8.12,2,    25.00,    0.13,2,    0.07,2,     2355,    0.06,2,-999.0000,9,          0
49UP20160703,         P9,      76,          1,         36,        109,2,20160805,       2229,      2.609,   139.0075,       4344,    10.3,  29.8800,  34.0063,2,  34.0053,2,    195.0,2,  195.24,2,    1.06,2,    0.00,2,   0.090,2,-999.000,9,-999.000,9,-999.000,9,  1909.0,2,  2236.7,2,   8.1225,2,    25.00, -999.00,9, -999.00,9,       25,    0.06,2,  29.8806,2,         10
49UP20160703,         P9,      76,          1,         35,        112,2,20160805,       2229,      2.609,   139.0075,       4344,    10.7,  29.8826,  34.0063,2,  33.9842,4,    195.0,2,  195.06,2,    1.06,2,    0.00,2,   0.080,2,   1.545,2,   0.935,2,   0.113,2,  1908.6,2,  2237.3,2,   8.1226,2,    25.00,    0.13,2,    0.07,2,       25,    0.03,2,  29.8810,2,         11
49UP20160703,         P9,      76,          1,         34,        094,2,20160805,       2229,      2.609,   139.0075,       4344,    26.4,  29.8840,  34.0075,2,  34.0076,2,    195.1,2,  195.13,2,    1.10,2,    0.00,2,   0.090,2,   1.549,6,   0.940,6,   0.111,6,  1908.6,2,  2235.9,2,   8.1223,2,    25.00,    0.14,2,    0.08,2,       24,    0.02,2,  29.8837,2,         26
49UP20160703,         P9,      76,          1,         33,        469,2,20160805,       2229,      2.609,   139.0075,       4344,    51.0,  29.9162,  34.0327,2,  34.0351,6,    195.0,2,  195.15,2,    1.11,2,    0.00,2,   0.090,2,   1.536,2,   0.932,2,   0.110,2,  1908.9,2,  2240.2,2,   8.1227,2,    25.00,    0.24,2,    0.09,2,       22,    0.04,2,  29.9152,2,         51
49UP20160703,         P9,      76,          1,         32,        089,2,20160805,       2229,      2.609,   139.0075,       4344,    76.2,  29.6731,  34.6047,2,  34.5995,2,    198.6,2,  199.27,2,    0.93,2,    0.00,2,   0.120,2,   1.659,2,   0.986,2,   0.106,2,  1949.4,2,  2275.6,2,   8.1019,2,    25.00,    0.20,2,    0.14,2,       21,    0.01,2,  29.6721,2,         76
49UP20160703,         P9,      76,          1,         31,        515,2,20160805,       2229,      2.609,   139.0075,       4344,   101.7,  28.1510,  34.7609,2,  34.7606,2,    186.6,2,  186.77,6,    1.19,6,    0.02,6,   0.170,6,   1.688,2,   1.027,2,   0.088,2,  1972.9,2,  2285.5,2,   8.0672,2,    25.00,    0.19,2,    0.34,2,       19,    0.05,6,  28.1470,2,        101
49UP20160703,         P9,      76,          1,         30,        097,2,20160805,       2229,      2.609,   139.0075,       4344,   126.2,  24.5157,  34.8178,2,  34.8087,2,    171.8,2,  172.62,2,    2.91,2,    0.06,2,   0.320,2,   1.889,2,   1.134,2,   0.100,2,  2020.6,2,  2288.9,2,   7.9975,2,    25.00,    0.07,2,    0.26,2,       18,    2.92,2,  24.6911,2,        125
49UP20160703,         P9,      76,          1,         29,        102,2,20160805,       2229,      2.609,   139.0075,       4344,   151.6,  19.2219,  34.8048,2,  34.7994,2,    157.7,2,  156.55,2,    7.57,2,    0.01,2,   0.680,2,   2.295,2,   1.342,2,   0.042,2,  2084.4,2,  2291.8,2,   7.8746,2,    25.00,    0.01,2,    0.04,2,       14,    8.07,2,  19.1640,2,        151
49UP20160703,         P9,      76,          1,         28,        472,2,20160805,       2229,      2.609,   139.0075,       4344,   202.4,  13.7033,  34.5949,2,  34.5930,2,    132.2,2,  132.24,2,   18.39,2,    0.00,2,   1.320,2,   2.258,2,   1.246,2,   0.034,2,  2144.3,6,  2286.0,6,   7.7334,2,    25.00,    0.00,2,    0.03,2,       12,   17.64,2,  13.7026,2,        201
49UP20160703,         P9,      76,          1,         27,        998,2,20160805,       2229,      2.609,   139.0075,       4344,   251.8,  10.3752,  34.4641,2,  34.4664,2,    105.2,2,  104.65,6,   32.24,6,    0.00,6,   1.880,6,   1.718,2,   0.877,2,   0.020,2,  2193.5,2,  2291.2,2,   7.6128,2,    25.00, -999.00,9, -999.00,9,       10,   25.79,6,  10.3788,2,        250
49UP20160703,         P9,      76,          1,         26,        084,2,20160805,       2229,      2.609,   139.0075,       4344,   333.8,   8.7158,  34.5567,2,  34.5567,6,     85.4,2,   85.05,2,   37.78,2,    0.00,2,   2.240,2,   0.905,2,   0.440,2,   0.011,2,  2228.1,2,  2305.2,2,    7.546,2,    25.00, -999.00,9, -999.00,9,        8,   31.27,2,   8.7155,2,        332
49UP20160703,         P9,      76,          1,         25,        098,2,20160805,       2229,      2.609,   139.0075,       4344,   382.9,   7.9952,  34.5494,2,  34.5495,2,    105.6,2,  105.44,2,   38.69,2,    0.00,2,   2.200,2,-999.000,9,-999.000,9,-999.000,9,  2224.0,2,  2306.4,2,   7.5703,6,    25.00, -999.00,9, -999.00,9,        6,   30.90,2,   7.9947,2,        380
49UP20160703,         P9,      76,          1,         24,        110,2,20160805,       2229,      2.609,   139.0075,       4344,   433.8,   7.5773,  34.5499,2,  34.5493,2,    112.5,2,  112.41,2,   39.12,2,    0.00,2,   2.230,2,   0.782,2,   0.379,2,   0.018,2,  2225.6,2,  2307.6,2,   7.5755,2,    25.00, -999.00,9, -999.00,9,        4,   31.24,2,   7.5817,2,        431
49UP20160703,         P9,      76,          1,         23,        679,2,20160805,       2229,      2.609,   139.0075,       4344,   484.0,   7.2405,  34.5379,2,  34.5377,2,    113.4,2,  114.09,2,   42.14,2,    0.00,2,   2.270,2,-999.000,9,-999.000,9,-999.000,9,  2227.0,2,  2311.8,2,   7.5683,2,    25.00, -999.00,9, -999.00,9,        2,   31.82,2,   7.2403,2,        481
49UP20160703,         P9,      76,          1,         22,        111,2,20160805,       2229,      2.609,   139.0075,       4344,   533.6,   6.8255,  34.5350,2,  34.5354,2,    120.7,2,  120.64,2,   42.77,2,    0.00,2,   2.290,2,   0.613,2,   0.314,2,   0.013,2,  2230.1,2,  2312.3,2,   7.5734,2,    25.00, -999.00,9, -999.00,9,        0,   32.06,2,   6.8256,2,        530
49UP20160703,         P9,      76,          1,         21,        078,2,20160805,       2229,      2.609,   139.0075,       4344,   635.6,   5.9132,  34.5288,2,  34.5302,2,    113.2,2,  111.99,2,   56.41,2,    0.00,2,   2.460,2,   0.349,6,   0.169,6,   0.009,6,  2251.4,2,  2326.9,2,   7.5457,2,    25.00, -999.00,9, -999.00,9,     2358,   34.43,2,   5.9140,2,        631
49UP20160703,         P9,      76,          1,         20,        093,2,20160805,       2229,      2.609,   139.0075,       4344,   735.4,   5.3594,  34.5273,2,  34.5271,2,    116.3,2,  116.46,2,   60.98,2,    0.00,2,   2.510,2,   0.261,2,   0.124,2,   0.010,2,  2252.2,2,  2330.2,2,   7.5458,2,    25.00, -999.00,9, -999.00,9,     2355,   35.10,2,   5.3589,2,        730
49UP20160703,         P9,      76,          1,         19,        269,2,20160805,       2229,      2.609,   139.0075,       4344,   835.9,   4.9730,  34.5408,2,  34.5405,2,    103.5,2,  103.85,2,   74.05,2,    0.00,2,   2.620,2,   0.149,2,   0.071,2,   0.012,2,  2276.4,6,  2344.3,6,   7.5234,2,    25.00, -999.00,9, -999.00,9,     2352,   36.47,2,   4.9729,2,        830
49UP20160703,         P9,      76,          1,         18,        088,2,20160805,       2229,      2.609,   139.0075,       4344,   937.4,   4.7470,  34.5513,2,  34.5516,2,    100.5,2,  100.42,2,   82.08,2,    0.00,2,   2.640,2,   0.134,2,   0.066,2,   0.006,2,  2280.6,2,  2352.1,2,   7.5198,2,    25.00, -999.00,9, -999.00,9,     2350,   36.80,2,   4.7471,2,        930
49UP20160703,         P9,      76,          1,         17,        090,2,20160805,       2229,      2.609,   139.0075,       4344,  1079.8,   4.3271,  34.5604,2,  34.5603,2,     98.8,2,   98.75,2,   90.68,2,    0.00,2,   2.690,2,   0.075,2,   0.040,2,   0.005,2,  2298.5,2,  2360.2,2,   7.5142,6,    25.00, -999.00,9, -999.00,9,     2344,   37.44,2,   4.3273,2,       1071
49UP20160703,         P9,      76,          1,         16,        474,2,20160805,       2229,      2.609,   139.0075,       4344,  1283.7,   3.6287,  34.5787,2,  34.5789,2,     99.3,2,   99.16,2,  104.86,2,    0.00,2,   2.740,2,   0.029,2,   0.017,2,   0.009,2,  2313.0,2,  2375.2,2,   7.5097,2,    25.00, -999.00,9, -999.00,9,     2339,   38.10,2,   3.6294,2,       1273
49UP20160703,         P9,      76,          1,         15,        665,2,20160805,       2229,      2.609,   139.0075,       4344,  1485.2,   3.1521,  34.5947,2,  34.5953,2,    100.7,2,  100.42,6,  115.98,6,    0.00,6,   2.770,6,   0.012,2,   0.006,2,   0.007,2,  2321.7,2,  2385.8,2,   7.5105,2,    25.00, -999.00,9, -999.00,9,     2334,   38.43,6,   3.1530,2,       1472
49UP20160703,         P9,      76,          1,         14,        999,2,20160805,       2229,      2.609,   139.0075,       4344,  1687.9,   2.5769,  34.6184,2,  34.6185,6,    108.1,2,  107.89,2,  128.42,2,    0.00,2,   2.740,2,-999.000,9,-999.000,9,-999.000,9,  2330.9,2,  2398.5,2,   7.5188,2,    25.00, -999.00,9, -999.00,9,     2328,   38.33,2,   2.5771,2,       1672
49UP20160703,         P9,      76,          1,         13,        667,2,20160805,       2229,      2.609,   139.0075,       4344,  1890.1,   2.3571,  34.6286,2,  34.6289,2,    113.9,2,  113.85,2,  132.57,2,    0.00,2,   2.710,2,-999.000,9,-999.000,9,-999.000,9,  2343.1,2,  2406.2,2,   7.5257,2,    25.00, -999.00,9, -999.00,9,     2324,   38.03,2,   2.3568,2,       1871
49UP20160703,         P9,      76,          1,         12,        074,2,20160805,       2229,      2.609,   139.0075,       4344,  2092.4,   2.0763,  34.6433,2,  34.6433,2,    119.1,2,  118.74,2,  138.63,2,    0.00,2,   2.690,2,   0.000,2,   0.000,2,   0.008,2,  2336.8,2,  2411.0,2,   7.5336,2,    25.00, -999.00,9, -999.00,9,     2319,   37.89,2,   2.0762,2,       2071
49UP20160703,         P9,      76,          1,         11,        268,2,20160805,       2229,      2.609,   139.0075,       4344,  2295.9,   1.9144,  34.6528,2,  34.6521,2,    123.5,2,  123.36,2,  141.70,2,    0.00,2,   2.670,2,-999.000,9,-999.000,9,-999.000,9,  2338.2,2,  2414.3,2,   7.5396,6,    25.00, -999.00,9, -999.00,9,     2314,   37.68,2,   1.9143,2,       2271
49UP20160703,         P9,      76,          1,         10,        267,2,20160805,       2229,      2.609,   139.0075,       4344,  2499.0,   1.7784,  34.6599,2,  34.6600,2,    131.2,2,  131.18,2,  142.24,2,    0.00,2,   2.620,2,   0.000,2,   0.000,2,   0.011,2,  2337.3,6,  2415.7,6,   7.5521,2,    25.00, -999.00,9, -999.00,9,     2309,   37.17,2,   1.7784,2,       2471
49UP20160703,         P9,      76,          1,          9,        518,2,20160805,       2229,      2.609,   139.0075,       4344,  2701.8,   1.6967,  34.6643,2,  34.6648,2,    136.6,2,  136.68,2,  142.24,2,    0.00,2,   2.600,2,-999.000,9,-999.000,9,-999.000,9,  2331.0,2,  2416.7,2,   7.5602,2,    25.00, -999.00,9, -999.00,9,     2305,   36.76,2,   1.6967,2,       2670
49UP20160703,         P9,      76,          1,          8,        470,2,20160805,       2229,      2.609,   139.0075,       4344,  2905.9,   1.5986,  34.6707,2,  34.6712,2,    142.4,2,  143.08,2,  142.34,2,    0.00,2,   2.570,2,-999.000,9,-999.000,9,-999.000,9,  2337.5,2,  2414.8,2,   7.5682,2,    25.00, -999.00,9, -999.00,9,     2301,   36.34,2,   1.5985,2,       2870
49UP20160703,         P9,      76,          1,          7,        516,2,20160805,       2229,      2.609,   139.0075,       4344,  3120.1,   1.5661,  34.6740,2,  34.6733,2,    145.0,2,  145.18,2,  142.69,2,    0.00,2,   2.550,2,   0.000,2,   0.000,2,   0.006,2,  2326.6,2,  2417.2,2,   7.5725,2,    25.00, -999.00,9, -999.00,9,     2256,   36.24,2,   1.5660,2,       3080
49UP20160703,         P9,      76,          1,          6,        113,2,20160805,       2229,      2.609,   139.0075,       4344,  3375.2,   1.5519,  34.6766,2,  34.6758,2,    147.2,2,  148.16,2,  142.57,2,    0.00,2,   2.540,2,-999.000,9,-999.000,9,-999.000,9,  2335.4,2,  2418.2,2,   7.5775,2,    25.00, -999.00,9, -999.00,9,     2251,   36.09,2,   1.5518,2,       3330
49UP20160703,         P9,      76,          1,          5,        658,2,20160805,       2229,      2.609,   139.0075,       4344,  3631.3,   1.5429,  34.6797,2,  34.6797,2,    148.7,2,  148.67,2,  142.68,2,    0.00,2,   2.530,2,   0.003,2,   0.003,2,   0.012,2,  2336.3,2,  2421.3,2,   7.5834,2,    25.00, -999.00,9, -999.00,9,     2246,   35.94,2,   1.5428,2,       3581
49UP20160703,         P9,      76,          1,          4,        471,2,20160805,       2229,      2.609,   139.0075,       4344,  3887.9,   1.5219,  34.6837,2,  34.6837,2,    151.8,2,  151.93,6,  142.61,6,    0.00,6,   2.510,6,-999.000,9,-999.000,9,-999.000,9,  2330.7,2,  2422.7,2,   7.5879,2,    25.00, -999.00,9, -999.00,9,     2240,   35.77,6,   1.5219,2,       3831
49UP20160703,         P9,      76,          1,          3,        104,2,20160805,       2229,      2.609,   139.0075,       4344,  4143.3,   1.5197,  34.6859,2,  34.6861,6,    154.3,2,  154.41,2,  142.17,2,    0.00,2,   2.500,2,   0.014,2,   0.005,2,   0.006,2,  2327.2,2,  2421.3,2,   7.5929,2,    25.00, -999.00,9, -999.00,9,     2235,   35.63,2,   1.5196,2,       4081
49UP20160703,         P9,      76,          1,          1,        997,2,20160805,       2229,      2.609,   139.0075,       4344,  4389.4,   1.5347,  34.6865,2,  34.6869,2,    155.9,2,  155.83,2,  141.81,2,    0.00,2,   2.490,2,   0.000,2,   0.000,2,   0.011,2,  2324.0,2,  2420.0,2,    7.593,2,    25.00, -999.00,9, -999.00,9,     2229,   35.54,2,   1.5347,2,       4321
49UP20160703,         P9,      76,          1,          2,        075,2,20160805,       2229,      2.609,   139.0075,       4344,  4389.6,   1.5347,  34.6865,2,  34.6863,2,    155.9,2,  155.87,2,  141.79,2,    0.00,2,   2.490,2,-999.000,9,-999.000,9,-999.000,9,  2329.7,2,  2418.3,2,   7.5937,2,    25.00, -999.00,9, -999.00,9,     2230,   35.48,2,   1.5347,2,       4321