BOTTLE,20230712CCHSIOENA
EXPOCODE,SECT_ID,STNNBR,CASTNO,SAMPNO,BTLNBR,BTLNBR_FLAG_W,DATE,TIME,LATITUDE,LONGITUDE,DEPTH,CTDPRS,CTDTMP,CTDSAL,CTDSAL_FLAG_W,SALNTY,SALNTY_FLAG_W,CTDOXY,CTDOXY_FLAG_W,OXYGEN,OXYGEN_FLAG_W,SILCAT,SILCAT_FLAG_W,NITRIT,NITRIT_FLAG_W,PHSPHT,PHSPHT_FLAG_W,CFC-11,CFC-11_FLAG_W,CFC-12,CFC-12_FLAG_W,CFC113,CFC113_FLAG_W,TCARBN,TCARBN_FLAG_W,ALKALI,ALKALI_FLAG_W,PH_TOT,PH_TOT_FLAG_W,PH_TMP,CHLORA,CHLORA_FLAG_W,PPHYTN,PPHYTN_FLAG_W,BTL_TIME,NO2+NO3,NO2+NO3_FLAG_W,SBE35,SBE35_FLAG_W,CTDDEPTH
,,,,,,,,,,,METERS,DBAR,ITS-90,PSS-78,,PSS-78,,UMOL/KG,,UMOL/KG,,UMOL/KG,,UMOL/KG,,UMOL/KG,,PMOL/KG,,PMOL/KG,,PMOL/KG,,UMOL/KG,,UMOL/KG,,,,DEG C,UG/KG,,UG/KG,,,UMOL/KG,,ITS-90,,METERS
49UP20160703,         P9,      74,          1,          0,        BUC,2,20160804,       2351,      2.821,   138.0087,       4514,     0.0,  29.7909,  33.9518,2,  33.9530,2,    195.0,2,  194.62,2,    1.26,2,    0.00,2,   0.070,2,-999.000,9,-999.000,9,-999.000,9,  1907.7,2,  2230.6,2,   8.1211,2,    25.00,    0.11,2,    0.04,2,      126,    0.01,2,-999.0000,9,          0
49UP20160703,         P9,      74,          1,         36,        109,2,20160804,       2351,      2.821,   138.0087,       4514,    11.7,  29.7956,  33.9523,2,  33.9521,2,    194.8,2,  194.83,2,    1.24,2,    0.00,2,   0.050,2,   1.500,2,   0.940,2,   0.108,2,  1907.7,2,  2227.3,2,   8.1202,2,    25.00,    0.09,2,    0.04,2,      159,    0.01,2,  29.7962,2,         12
49UP20160703,         P9,      74,          1,         35,        112,2,20160804,       2351,      2.821,   138.0087,       4514,    26.4,  29.7996,  33.9823,2,  33.9775,2,    195.2,2,  195.06,6,    1.24,6,    0.00,6,   0.050,6,   1.508,2,   0.940,2,   0.114,2,  1909.1,2,  2229.8,2,   8.1245,2,    25.00,    0.09,2,    0.05,2,      158,    0.01,6,  29.7997,2,         26
49UP20160703,         P9,      74,          1,         34,        094,2,20160804,       2351,      2.821,   138.0087,       4514,    52.1,  30.0175,  34.3216,2,  34.3202,6,    197.5,2,  197.41,2,    1.33,2,    0.00,2,   0.030,2,   1.530,6,   0.952,6,   0.105,6,  1931.1,2,  2252.5,2,   8.1161,2,    25.00,    0.13,2,    0.08,2,      156,    0.00,2,  30.0184,2,         52
49UP20160703,         P9,      74,          1,         33,        469,2,20160804,       2351,      2.821,   138.0087,       4514,    77.8,  29.5125,  34.5250,2,  34.5334,2,    196.3,2,  196.05,2,    1.35,2,    0.00,2,   0.070,2,   1.591,2,   0.981,2,   0.098,2,  1954.7,2,  2269.9,2,   8.0908,2,    25.00,    0.23,2,    0.19,2,      154,    0.00,2,  29.5124,2,         77
49UP20160703,         P9,      74,          1,         32,        089,2,20160804,       2351,      2.821,   138.0087,       4514,   102.3,  27.1421,  34.6982,2,  34.7038,2,    180.9,2,  181.25,2,    2.18,2,    0.41,2,   0.200,2,   1.687,2,   1.037,2,   0.078,2,  1995.8,2,  2282.5,2,   8.0396,2,    25.00,    0.18,2,    0.41,2,      152,    1.05,2,  27.1611,2,        102
49UP20160703,         P9,      74,          1,         31,        515,2,20160804,       2351,      2.821,   138.0087,       4514,   126.6,  23.6133,  34.8492,2,  34.8462,2,    167.4,2,  166.51,2,    3.84,2,    0.03,2,   0.370,2,   1.907,2,   1.159,2,   0.079,2,  2034.6,2,  2287.7,2,   7.9785,2,    25.00,    0.05,2,    0.15,2,      151,    3.96,2,  23.6883,2,        126
49UP20160703,         P9,      74,          1,         30,        097,2,20160804,       2351,      2.821,   138.0087,       4514,   151.4,  18.7173,  34.7921,2,  34.7960,2,    155.6,2,  155.62,2,    7.85,2,    0.01,2,   0.670,2,   2.228,2,   1.349,2,   0.047,2,  2088.1,2,  2287.2,2,   7.8729,2,    25.00,    0.01,2,    0.03,2,      147,    8.38,2,  18.7168,2,        151
49UP20160703,         P9,      74,          1,         29,        102,2,20160804,       2351,      2.821,   138.0087,       4514,   201.8,  13.0705,  34.5033,2,  34.5130,2,    125.6,2,  125.76,2,   20.30,2,    0.00,2,   1.350,2,   2.192,2,   1.210,2,   0.011,2,  2150.7,2,  2281.3,2,   7.7107,2,    25.00,    0.00,2,    0.03,2,      145,   18.83,2,  13.0878,2,        201
49UP20160703,         P9,      74,          1,         28,        472,2,20160804,       2351,      2.821,   138.0087,       4514,   252.2,  10.1091,  34.4379,2,  34.4395,2,    100.6,2,  100.44,2,   33.48,2,    0.00,2,   1.900,2,   1.643,2,   0.860,2,   0.000,2,  2201.2,2,  2290.3,2,   7.5941,2,    25.00, -999.00,9, -999.00,9,      143,   26.63,2,  10.1162,2,        251
49UP20160703,         P9,      74,          1,         27,        998,2,20160804,       2351,      2.821,   138.0087,       4514,   285.0,   8.6530,  34.4494,2,  34.4485,2,     94.6,2,   94.25,2,   41.63,2,    0.00,2,   2.120,2,   1.242,2,   0.635,2,   0.004,2,  2224.6,6,  2299.6,6,    7.556,2,    25.00, -999.00,9, -999.00,9,      141,   29.93,2,   8.6585,2,        283
49UP20160703,         P9,      74,          1,         26,        084,2,20160804,       2351,      2.821,   138.0087,       4514,   323.6,   8.4762,  34.5555,2,  34.5546,2,    106.1,2,  106.28,2,   37.95,2,    0.00,2,   2.090,2,-999.000,9,-999.000,9,-999.000,9,  2221.9,2,  2301.7,2,    7.579,2,    25.00, -999.00,9, -999.00,9,      139,   29.89,2,   8.4793,2,        322
49UP20160703,         P9,      74,          1,         25,        098,2,20160804,       2351,      2.821,   138.0087,       4514,   374.4,   7.9234,  34.5491,2,  34.5495,2,    113.0,2,  112.87,2,   38.47,2,    0.00,2,   2.130,2,   0.940,2,   0.482,2,   0.007,2,  2223.1,2,  2301.2,2,   7.5795,2,    25.00, -999.00,9, -999.00,9,      137,   30.49,2,   7.9228,2,        372
49UP20160703,         P9,      74,          1,         24,        110,2,20160804,       2351,      2.821,   138.0087,       4514,   424.1,   7.5058,  34.5367,2,  34.5373,2,    111.0,2,  110.62,2,   41.22,2,    0.00,2,   2.200,2,-999.000,9,-999.000,9,-999.000,9,  2228.3,2,  2305.9,2,   7.5664,2,    25.00, -999.00,9, -999.00,9,      135,   31.51,2,   7.5061,2,        421
49UP20160703,         P9,      74,          1,         23,        679,2,20160804,       2351,      2.821,   138.0087,       4514,   472.7,   7.1793,  34.5333,2,  34.5341,2,    117.1,2,  116.48,2,   41.95,2,    0.00,2,   2.210,2,   0.734,2,   0.371,2,   0.004,2,  2227.9,2,  2307.4,2,   7.5716,6,    25.00, -999.00,9, -999.00,9,      133,   31.71,2,   7.1795,2,        470
49UP20160703,         P9,      74,          1,         22,        111,2,20160804,       2351,      2.821,   138.0087,       4514,   575.5,   6.5002,  34.5372,2,  34.5379,2,     93.6,2,   93.56,6,   52.16,6,    0.00,6,   2.480,6,   0.303,2,   0.155,2,   0.000,2,  2257.3,2,  2318.0,2,   7.5219,2,    25.00, -999.00,9, -999.00,9,      130,   35.28,6,   6.5008,2,        572
49UP20160703,         P9,      74,          1,         21,        078,2,20160804,       2351,      2.821,   138.0087,       4514,   675.9,   5.8793,  34.5341,2,  34.5349,6,     90.0,2,   90.58,2,   61.35,2,    0.00,2,   2.580,2,   0.172,2,   0.088,2,   0.000,2,  2270.1,2,  2325.1,2,    7.507,2,    25.00, -999.00,9, -999.00,9,      127,   36.66,2,   5.8792,2,        671
49UP20160703,         P9,      74,          1,         20,        093,2,20160804,       2351,      2.821,   138.0087,       4514,   777.1,   5.2880,  34.5373,2,  34.5376,2,     95.1,2,   95.50,2,   70.05,2,    0.00,2,   2.610,2,   0.121,6,   0.063,6,   0.000,6,  2276.8,2,  2333.3,2,   7.5073,2,    25.00, -999.00,9, -999.00,9,      124,   37.07,2,   5.2879,2,        771
49UP20160703,         P9,      74,          1,         19,        269,2,20160804,       2351,      2.821,   138.0087,       4514,   878.8,   4.8903,  34.5444,2,  34.5449,2,     95.1,2,   95.55,2,   77.88,2,    0.00,2,   2.650,2,   0.088,2,   0.048,2,   0.000,2,  2287.1,2,  2342.2,2,   7.5065,2,    25.00, -999.00,9, -999.00,9,      121,   37.51,2,   4.8906,2,        872
49UP20160703,         P9,      74,          1,         18,        088,2,20160804,       2351,      2.821,   138.0087,       4514,   980.1,   4.5205,  34.5533,2,  34.5536,2,     93.7,2,   93.89,2,   86.49,2,    0.00,2,   2.690,2,   0.061,2,   0.030,2,   0.000,2,  2295.2,2,  2353.5,2,   7.5017,2,    25.00, -999.00,9, -999.00,9,      117,   37.97,2,   4.5208,2,        972
49UP20160703,         P9,      74,          1,         17,        090,2,20160804,       2351,      2.821,   138.0087,       4514,  1143.1,   4.0069,  34.5671,2,  34.5673,2,     93.2,2,   93.24,2,   98.64,2,    0.00,2,   2.710,2,   0.035,2,   0.019,2,   0.000,2,  2312.6,6,  2361.9,6,   7.5003,2,    25.00, -999.00,9, -999.00,9,      112,   38.39,2,   4.0098,2,       1134
49UP20160703,         P9,      74,          1,         16,        474,2,20160804,       2351,      2.821,   138.0087,       4514,  1343.8,   3.3573,  34.5871,2,  34.5872,2,     98.5,2,   98.51,6,  111.58,6,    0.00,6,   2.730,6,   0.017,2,   0.010,2,   0.000,2,  2323.4,2,  2378.2,2,   7.5036,2,    25.00, -999.00,9, -999.00,9,      107,   38.63,6,   3.3574,2,       1332
49UP20160703,         P9,      74,          1,         15,        665,2,20160804,       2351,      2.821,   138.0087,       4514,  1544.1,   2.8047,  34.6081,2,  34.6080,6,    103.9,2,  103.68,2,  123.56,2,    0.00,2,   2.720,2,-999.000,9,-999.000,9,-999.000,9,  2334.6,2,  2390.1,2,   7.5121,2,    25.00, -999.00,9, -999.00,9,      102,   38.69,2,   2.8038,2,       1530
49UP20160703,         P9,      74,          1,         14,        999,2,20160804,       2351,      2.821,   138.0087,       4514,  1749.0,   2.4607,  34.6236,2,  34.6234,2,    110.1,2,  110.09,2,  130.75,2,    0.00,2,   2.700,2,-999.000,9,-999.000,9,-999.000,9,  2338.1,2,  2397.8,2,    7.519,6,    25.00, -999.00,9, -999.00,9,       57,   38.41,2,   2.4607,2,       1732
49UP20160703,         P9,      74,          1,         13,        667,2,20160804,       2351,      2.821,   138.0087,       4514,  1951.5,   2.1664,  34.6385,2,  34.6385,2,    115.2,2,  115.19,2,  137.15,2,    0.00,2,   2.670,2,   0.002,2,   0.006,2,   0.000,2,  2338.9,2,  2405.8,2,   7.5288,2,    25.00, -999.00,9, -999.00,9,       52,   38.26,2,   2.1663,2,       1932
49UP20160703,         P9,      74,          1,         12,        074,2,20160804,       2351,      2.821,   138.0087,       4514,  2155.3,   1.9798,  34.6486,2,  34.6494,2,    121.2,2,  121.11,2,  140.59,2,    0.00,2,   2.640,2,-999.000,9,-999.000,9,-999.000,9,  2339.1,2,  2410.2,2,   7.5343,2,    25.00, -999.00,9, -999.00,9,       46,   37.96,2,   1.9801,2,       2132
49UP20160703,         P9,      74,          1,         11,        268,2,20160804,       2351,      2.821,   138.0087,       4514,  2358.2,   1.8312,  34.6565,2,  34.6565,2,    128.0,2,  127.95,2,  141.68,2,    0.00,2,   2.600,2,   0.000,2,   0.000,2,   0.000,2,  2340.2,2,  2410.3,2,   7.5479,2,    25.00, -999.00,9, -999.00,9,       41,   37.46,2,   1.8312,2,       2332
49UP20160703,         P9,      74,          1,         10,        267,2,20160804,       2351,      2.821,   138.0087,       4514,  2561.4,   1.7371,  34.6616,2,  34.6616,2,    134.3,2,  134.35,2,  141.99,2,    0.00,2,   2.570,2,-999.000,9,-999.000,9,-999.000,9,  2335.2,2,  2416.5,2,   7.5546,2,    25.00, -999.00,9, -999.00,9,       36,   37.08,2,   1.7372,2,       2532
49UP20160703,         P9,      74,          1,          9,        518,2,20160804,       2351,      2.821,   138.0087,       4514,  2765.4,   1.6662,  34.6660,2,  34.6670,2,    138.6,2,  138.30,2,  142.32,2,    0.00,2,   2.550,2,-999.000,9,-999.000,9,-999.000,9,  2333.1,2,  2411.7,2,   7.5634,2,    25.00, -999.00,9, -999.00,9,       32,   36.77,2,   1.6663,2,       2732
49UP20160703,         P9,      74,          1,          8,        470,2,20160804,       2351,      2.821,   138.0087,       4514,  2967.4,   1.5939,  34.6713,2,  34.6715,2,    143.1,2,  143.11,2,  142.46,2,    0.00,2,   2.530,2,   0.007,2,   0.007,2,   0.002,2,  2332.6,2,  2417.2,2,    7.567,2,    25.00, -999.00,9, -999.00,9,       27,   36.47,2,   1.5939,2,       2930
49UP20160703,         P9,      74,          1,          7,        516,2,20160804,       2351,      2.821,   138.0087,       4514,  3214.2,   1.5689,  34.6743,2,  34.6744,2,    145.7,2,  145.84,2,  142.54,2,    0.00,2,   2.510,2,-999.000,9,-999.000,9,-999.000,9,  2330.4,6,  2413.3,6,   7.5759,2,    25.00, -999.00,9, -999.00,9,       22,   36.31,2,   1.5689,2,       3172
49UP20160703,         P9,      74,          1,          6,        113,2,20160804,       2351,      2.821,   138.0087,       4514,  3469.0,   1.5610,  34.6768,2,  34.6769,2,    147.4,2,  147.46,6,  142.60,6,    0.00,6,   2.500,6,   0.006,2,   0.006,2,   0.000,2,  2331.4,2,  2417.4,2,   7.5795,2,    25.00, -999.00,9, -999.00,9,       16,   36.15,6,   1.5610,2,       3422
49UP20160703,         P9,      74,          1,          5,        658,2,20160804,       2351,      2.821,   138.0087,       4514,  3721.0,   1.5538,  34.6793,2,  34.6794,6,    149.5,2,  149.11,2,  142.35,2,    0.00,2,   2.490,2,-999.000,9,-999.000,9,-999.000,9,  2333.8,2,  2419.7,2,   7.5809,2,    25.00, -999.00,9, -999.00,9,       11,   36.06,2,   1.5540,2,       3668
49UP20160703,         P9,      74,          1,          4,        471,2,20160804,       2351,      2.821,   138.0087,       4514,  3980.1,   1.5223,  34.6841,2,  34.6844,2,    152.9,2,  152.91,2,  142.37,2,    0.00,2,   2.480,2,   0.000,2,   0.002,2,   0.000,2,  2328.3,2,  2417.6,2,   7.5874,2,    25.00, -999.00,9, -999.00,9,        6,   35.86,2,   1.5223,2,       3921
49UP20160703,         P9,      74,          1,          3,        104,2,20160804,       2351,      2.821,   138.0087,       4514,  4236.0,   1.5174,  34.6863,2,  34.6865,2,    155.9,2,  155.89,2,  141.51,2,    0.00,2,   2.460,2,-999.000,9,-999.000,9,-999.000,9,  2325.8,2,  2415.5,2,   7.5907,2,    25.00, -999.00,9, -999.00,9,        0,   35.67,2,   1.5173,2,       4171
49UP20160703,         P9,      74,          1,          2,        075,2,20160804,       2351,      2.821,   138.0087,       4514,  4491.1,   1.5317,  34.6871,2,  34.6873,2,    157.6,2,  157.88,2,  141.06,2,    0.00,2,   2.450,2,   0.000,2,   0.002,2,   0.000,2,  2324.7,2,  2413.1,2,   7.5929,2,    25.00, -999.00,9, -999.00,9,     2354,   35.49,2,   1.5318,2,       4420
49UP20160703,         P9,      74,          1,          1,        997,2,20160804,       2351,      2.821,   138.0087,       4514,  4579.9,   1.5395,  34.6872,2,  34.6873,2,    158.0,2,  158.04,2,  141.13,2,    0.00,2,   2.440,2,   0.000,2,   0.003,2,   0.000,2,  2323.4,2,  2416.7,2,   7.5921,2,    25.00, -999.00,9, -999.00,9,     2352,   35.52,2,   1.5395,2,       4506