BOTTLE,20230712CCHSIOENA
EXPOCODE,SECT_ID,STNNBR,CASTNO,SAMPNO,BTLNBR,BTLNBR_FLAG_W,DATE,TIME,LATITUDE,LONGITUDE,DEPTH,CTDPRS,CTDTMP,CTDSAL,CTDSAL_FLAG_W,SALNTY,SALNTY_FLAG_W,CTDOXY,CTDOXY_FLAG_W,OXYGEN,OXYGEN_FLAG_W,SILCAT,SILCAT_FLAG_W,NITRIT,NITRIT_FLAG_W,PHSPHT,PHSPHT_FLAG_W,CFC-11,CFC-11_FLAG_W,CFC-12,CFC-12_FLAG_W,CFC113,CFC113_FLAG_W,TCARBN,TCARBN_FLAG_W,ALKALI,ALKALI_FLAG_W,PH_TOT,PH_TOT_FLAG_W,PH_TMP,CHLORA,CHLORA_FLAG_W,PPHYTN,PPHYTN_FLAG_W,BTL_TIME,NO2+NO3,NO2+NO3_FLAG_W,SBE35,SBE35_FLAG_W,CTDDEPTH
,,,,,,,,,,,METERS,DBAR,ITS-90,PSS-78,,PSS-78,,UMOL/KG,,UMOL/KG,,UMOL/KG,,UMOL/KG,,UMOL/KG,,PMOL/KG,,PMOL/KG,,PMOL/KG,,UMOL/KG,,UMOL/KG,,,,DEG C,UG/KG,,UG/KG,,,UMOL/KG,,ITS-90,,METERS
49UP20160703,         P9,      54,          1,          0,        BUC,2,20160721,       0051,    10.0018,   136.9778,       4727,     0.0,  30.1939,  34.3128,2,  34.3128,2,    193.6,2,  193.69,2,    0.96,2,    0.00,2,   0.070,2,-999.000,9,-999.000,9,-999.000,9,  1921.9,2,  2252.7,2,    8.115,2,    25.00,    0.04,2,    0.02,2,      233,    0.03,2,-999.0000,9,          0
49UP20160703,         P9,      54,          1,         36,        109,2,20160721,       0051,    10.0018,   136.9778,       4727,    10.4,  30.0401,  34.3225,2,  34.3236,2,    193.5,2,  193.90,2,    0.93,2,    0.00,2,   0.070,2,   1.508,6,   0.938,6,   0.126,6,  1924.1,2,  2255.1,2,   8.1116,2,    25.00,    0.04,2,    0.02,2,      302,    0.03,2,  30.0436,2,         10
49UP20160703,         P9,      54,          1,         35,        112,2,20160721,       0051,    10.0018,   136.9778,       4727,    50.9,  29.1325,  34.7316,2,  34.7341,2,    200.6,2,  201.09,2,    1.14,2,    0.00,2,   0.080,2,   1.579,2,   0.970,2,   0.134,2,  1953.4,2,  2281.6,2,   8.1014,2,    25.00,    0.05,2,    0.03,2,      258,    0.06,2,  29.1316,2,         51
49UP20160703,         P9,      54,          1,         28,        472,2,20160721,       0051,    10.0018,   136.9778,       4727,    75.8,  27.8858,  34.8088,2,  34.8106,2,    200.3,2,  200.77,2,    1.32,2,    0.00,2,   0.080,2,   1.661,2,   1.024,2,   0.133,2,  1967.0,2,  2287.9,2,   8.0869,2,    25.00,    0.09,2,    0.06,2,      257,    0.03,2,  27.8745,2,         75
49UP20160703,         P9,      54,          1,         34,        094,2,20160721,       0051,    10.0018,   136.9778,       4727,   102.1,  24.0627,  35.0113,2,  35.0129,2,    191.6,2,  192.40,2,    2.17,2,    0.08,2,   0.200,2,   1.933,2,   1.183,2,   0.118,2,  2027.0,2,  2305.3,2,   8.0175,2,    25.00,    0.25,2,    0.43,2,      255,    0.56,2,  24.0612,2,        101
49UP20160703,         P9,      54,          1,         33,        469,2,20160721,       0051,    10.0018,   136.9778,       4727,   124.9,  19.2032,  34.8207,2,  34.8270,2,    165.5,2,  167.42,2,    5.77,2,    0.03,2,   0.560,2,   2.277,2,   1.383,2,   0.081,2,  2075.5,2,  2293.2,2,   7.8966,2,    25.00,    0.11,2,    0.30,2,      254,    6.32,2,  19.2026,2,        124
49UP20160703,         P9,      54,          1,         32,        089,2,20160721,       0051,    10.0018,   136.9778,       4727,   150.8,  15.5591,  34.6165,2,  34.6176,2,    155.6,2,  155.92,6,   10.87,6,    0.01,6,   0.880,6,   2.451,2,   1.449,2,   0.040,2,  2103.0,2,  2281.7,2,   7.8131,6,    25.00,    0.04,2,    0.12,2,      253,   11.69,6,  15.5604,2,        150
49UP20160703,         P9,      54,          1,         31,        515,2,20160721,       0051,    10.0018,   136.9778,       4727,   200.3,  12.5455,  34.4909,2,  34.4910,2,    116.6,2,  116.05,2,   22.54,2,    0.00,2,   1.530,2,   2.034,2,   1.123,2,   0.018,2,  2165.2,2,  2282.8,2,   7.6786,2,    25.00,    0.01,2,    0.04,2,      251,   20.91,2,  12.5487,2,        199
49UP20160703,         P9,      54,          1,         30,        097,2,20160721,       0051,    10.0018,   136.9778,       4727,   252.0,  10.8013,  34.4636,2,  34.4614,2,    102.2,2,  102.39,2,   30.17,2,    0.00,2,   1.840,2,   1.691,6,   0.900,6,   0.016,6,  2191.7,2,  2289.1,2,   7.6088,2,    25.00, -999.00,9, -999.00,9,      249,   25.52,2,  10.7998,2,        250
49UP20160703,         P9,      54,          1,         29,        102,2,20160721,       0051,    10.0018,   136.9778,       4727,   282.4,   9.9784,  34.4689,2,  34.4712,2,     94.6,2,   94.26,2,   33.86,2,    0.00,2,   1.990,2,   1.470,2,   0.757,2,   0.003,2,  2206.4,2,  2293.7,2,   7.5808,2,    25.00, -999.00,9, -999.00,9,      248,   27.69,2,   9.9803,2,        281
49UP20160703,         P9,      54,          1,         27,        998,2,20160721,       0051,    10.0018,   136.9778,       4727,   322.4,   8.9414,  34.5135,2,  34.5115,2,     91.0,2,   90.97,2,   38.36,2,    0.00,2,   2.150,2,-999.000,9,-999.000,9,-999.000,9,  2220.7,2,  2302.6,2,   7.5594,2,    25.00, -999.00,9, -999.00,9,      246,   30.19,2,   8.9430,2,        320
49UP20160703,         P9,      54,          1,         26,        084,2,20160721,       0051,    10.0018,   136.9778,       4727,   373.5,   8.4751,  34.5356,2,  34.5360,2,     93.0,2,   92.79,2,   39.18,2,    0.00,2,   2.200,2,   0.927,2,   0.461,2,   0.016,2,  2223.4,2,  2305.5,2,   7.5526,2,    25.00, -999.00,9, -999.00,9,      244,   31.10,2,   8.4802,2,        371
49UP20160703,         P9,      54,          1,         25,        098,2,20160721,       0051,    10.0018,   136.9778,       4727,   423.2,   7.8372,  34.4948,2,  34.4962,2,    100.9,2,  101.79,2,   43.88,2,    0.00,2,   2.220,2,-999.000,9,-999.000,9,-999.000,9,  2230.7,6,  2308.4,6,   7.5559,2,    25.00, -999.00,9, -999.00,9,      242,   31.35,2,   7.8379,2,        420
49UP20160703,         P9,      54,          1,         24,        110,2,20160721,       0051,    10.0018,   136.9778,       4727,   473.4,   7.4825,  34.5141,2,  34.5222,4,    111.6,2,  114.28,2,   42.14,2,    0.00,2,   2.190,2,   0.861,2,   0.437,2,   0.014,2,  2227.8,2,  2309.1,2,   7.5723,2,    25.00, -999.00,9, -999.00,9,      240,   31.11,2,   7.4848,2,        470
49UP20160703,         P9,      54,          1,         23,        679,2,20160721,       0051,    10.0018,   136.9778,       4727,   574.4,   6.8568,  34.5069,2,  34.5073,6,    104.9,2,  104.99,2,   50.56,2,    0.00,2,   2.340,2,   0.596,2,   0.305,2,   0.010,2,  2244.0,2,  2316.6,2,   7.5477,2,    25.00, -999.00,9, -999.00,9,      237,   33.11,2,   6.8572,2,        570
49UP20160703,         P9,      54,          1,         22,        111,2,20160721,       0051,    10.0018,   136.9778,       4727,   676.0,   6.1656,  34.5175,2,  34.5174,2,    101.7,2,  102.04,2,   58.73,2,    0.00,2,   2.460,2,   0.367,2,   0.193,2,   0.001,2,  2263.8,2,  2326.4,2,   7.5316,2,    25.00, -999.00,9, -999.00,9,      234,   34.78,2,   6.1666,2,        671
49UP20160703,         P9,      54,          1,         21,        078,2,20160721,       0051,    10.0018,   136.9778,       4727,   776.8,   5.6967,  34.5202,2,  34.5202,2,     98.2,2,   98.02,2,   67.20,2,    0.00,2,   2.530,2,   0.269,2,   0.140,2,   0.010,2,  2269.0,2,  2333.8,2,   7.5234,2,    25.00, -999.00,9, -999.00,9,      231,   35.74,2,   5.6961,2,        771
49UP20160703,         P9,      54,          1,         20,        093,2,20160721,       0051,    10.0018,   136.9778,       4727,   877.8,   5.3209,  34.5257,2,  34.5254,2,     94.2,2,   94.43,6,   74.78,6,    0.00,6,   2.600,6,   0.191,2,   0.094,2,   0.004,2,  2280.2,2,  2341.2,2,   7.5127,2,    25.00, -999.00,9, -999.00,9,      228,   36.56,6,   5.3222,2,        871
49UP20160703,         P9,      54,          1,         19,        269,2,20160721,       0051,    10.0018,   136.9778,       4727,   978.8,   5.0820,  34.5340,2,  34.5343,2,     93.2,2,   93.64,2,   79.61,2,    0.00,2,   2.630,2,   0.156,2,   0.075,2,   0.010,2,  2282.7,2,  2348.1,2,   7.5088,6,    25.00, -999.00,9, -999.00,9,      224,   36.99,2,   5.0824,2,        971
49UP20160703,         P9,      54,          1,         18,        088,2,20160721,       0051,    10.0018,   136.9778,       4727,  1140.3,   4.3154,  34.5513,2,  34.5518,2,     89.1,2,   89.62,2,   95.89,2,    0.00,2,   2.720,2,   0.064,2,   0.028,2,   0.021,2,  2309.4,2,  2365.2,2,   7.5002,2,    25.00, -999.00,9, -999.00,9,      220,   38.20,2,   4.3153,2,       1131
49UP20160703,         P9,      54,          1,         17,        090,2,20160721,       0051,    10.0018,   136.9778,       4727,  1342.7,   3.4567,  34.5737,2,  34.5747,2,     92.0,2,   92.10,2,  114.03,2,    0.00,2,   2.760,2,   0.014,2,   0.009,2,   0.008,2,  2324.1,2,  2382.8,2,   7.4939,2,    25.00, -999.00,9, -999.00,9,      215,   38.87,2,   3.4568,2,       1331
49UP20160703,         P9,      54,          1,         16,        474,2,20160721,       0051,    10.0018,   136.9778,       4727,  1545.5,   2.9442,  34.5936,2,  34.5935,6,     99.8,2,   99.70,2,  123.63,2,    0.00,2,   2.740,2,-999.000,9,-999.000,9,-999.000,9,  2334.0,2,  2392.7,2,    7.505,2,    25.00, -999.00,9, -999.00,9,      210,   38.69,2,   2.9453,2,       1531
49UP20160703,         P9,      54,          1,         15,        665,2,20160721,       0051,    10.0018,   136.9778,       4727,  1748.3,   2.5150,  34.6115,2,  34.6113,2,    105.1,2,  104.98,2,  132.56,2,    0.00,2,   2.730,2,-999.000,9,-999.000,9,-999.000,9,  2335.7,2,  2402.3,2,   7.5096,2,    25.00, -999.00,9, -999.00,9,      205,   38.66,2,   2.5162,2,       1731
49UP20160703,         P9,      54,          1,         14,        999,2,20160721,       0051,    10.0018,   136.9778,       4727,  1950.9,   2.2370,  34.6287,2,  34.6288,2,    113.2,2,  113.00,2,  137.03,2,    0.00,2,   2.690,2,   0.000,2,   0.000,2,   0.007,2,  2337.5,2,  2406.3,2,   7.5206,2,    25.00, -999.00,9, -999.00,9,      200,   38.33,2,   2.2376,2,       1931
49UP20160703,         P9,      54,          1,         13,        667,2,20160721,       0051,    10.0018,   136.9778,       4727,  2153.8,   2.0535,  34.6395,2,  34.6392,2,    119.1,2,  118.68,2,  139.51,2,    0.00,2,   2.660,2,-999.000,9,-999.000,9,-999.000,9,  2338.5,6,  2409.1,6,    7.532,2,    25.00, -999.00,9, -999.00,9,      156,   38.01,2,   2.0535,2,       2131
49UP20160703,         P9,      54,          1,         12,        074,2,20160721,       0051,    10.0018,   136.9778,       4727,  2357.3,   1.8879,  34.6491,2,  34.6497,2,    125.1,2,  125.24,2,  142.25,2,    0.00,2,   2.630,2,   0.000,2,   0.000,2,   0.001,2,  2338.2,2,  2411.3,2,   7.5387,2,    25.00, -999.00,9, -999.00,9,      151,   37.69,2,   1.8878,2,       2331
49UP20160703,         P9,      54,          1,         11,        268,2,20160721,       0051,    10.0018,   136.9778,       4727,  2560.3,   1.7525,  34.6577,2,  34.6582,6,    131.2,2,  131.23,2,  143.56,2,    0.00,2,   2.600,2,-999.000,9,-999.000,9,-999.000,9,  2344.7,2,  2414.0,2,   7.5489,2,    25.00, -999.00,9, -999.00,9,      146,   37.31,2,   1.7520,2,       2530
49UP20160703,         P9,      54,          1,         10,        267,2,20160721,       0051,    10.0018,   136.9778,       4727,  2765.2,   1.6750,  34.6633,2,  34.6635,2,    135.5,2,  135.97,6,  144.17,6,    0.00,6,   2.580,6,-999.000,9,-999.000,9,-999.000,9,  2335.2,2,  2412.7,2,   7.5515,2,    25.00, -999.00,9, -999.00,9,      141,   37.04,6,   1.6749,2,       2732
49UP20160703,         P9,      54,          1,          9,        518,2,20160721,       0051,    10.0018,   136.9778,       4727,  2968.0,   1.6015,  34.6694,2,  34.6690,2,    141.3,2,  141.45,2,  143.69,2,    0.00,2,   2.550,2,   0.000,2,   0.001,2,   0.021,2,  2328.0,2,  2413.9,2,   7.5629,2,    25.00, -999.00,9, -999.00,9,      137,   36.71,2,   1.6013,2,       2931
49UP20160703,         P9,      54,          1,          8,        470,2,20160721,       0051,    10.0018,   136.9778,       4727,  3214.0,   1.5672,  34.6733,2,  34.6734,2,    146.2,2,  146.35,2,  142.15,2,    0.00,2,   2.530,2,-999.000,9,-999.000,9,-999.000,9,  2327.3,2,  2414.5,2,   7.5723,2,    25.00, -999.00,9, -999.00,9,      131,   36.33,2,   1.5673,2,       3172
49UP20160703,         P9,      54,          1,          7,        516,2,20160721,       0051,    10.0018,   136.9778,       4727,  3468.4,   1.5549,  34.6759,2,  34.6759,2,    148.9,2,  149.06,2,  141.84,2,    0.00,2,   2.510,2,   0.007,2,   0.004,2,   0.011,2,  2329.6,2,  2414.1,2,   7.5749,6,    25.00, -999.00,9, -999.00,9,      126,   36.17,2,   1.5547,2,       3421
49UP20160703,         P9,      54,          1,          6,        113,2,20160721,       0051,    10.0018,   136.9778,       4727,  3723.6,   1.5500,  34.6780,2,  34.6782,2,    151.1,2,  151.27,2,  141.28,2,    0.00,2,   2.500,2,-999.000,9,-999.000,9,-999.000,9,  2328.6,2,  2413.1,2,   7.5802,2,    25.00, -999.00,9, -999.00,9,      120,   36.01,2,   1.5499,2,       3670
49UP20160703,         P9,      54,          1,          5,        658,2,20160721,       0051,    10.0018,   136.9778,       4727,  3980.6,   1.5374,  34.6812,2,  34.6805,2,    154.6,2,  154.58,2,  140.28,2,    0.00,2,   2.490,2,   0.000,2,   0.000,2,   0.017,2,  2323.0,2,  2413.4,2,    7.579,2,    25.00, -999.00,9, -999.00,9,      114,   35.81,2,   1.5374,2,       3921
49UP20160703,         P9,      54,          1,          4,        471,2,20160721,       0051,    10.0018,   136.9778,       4727,  4236.8,   1.5381,  34.6831,2,  34.6829,2,    157.1,2,  157.26,6,  139.55,6,    0.00,6,   2.470,6,-999.000,9,-999.000,9,-999.000,9,  2314.2,2,  2410.3,2,   7.5883,2,    25.00, -999.00,9, -999.00,9,      109,   35.60,6,   1.5381,2,       4171
49UP20160703,         P9,      54,          1,          3,        104,2,20160721,       0051,    10.0018,   136.9778,       4727,  4492.4,   1.5463,  34.6846,2,  34.6847,6,    159.0,2,  159.02,2,  139.12,2,    0.00,2,   2.460,2,   0.000,2,   0.000,2,   0.003,2,  2311.5,2,  2410.5,2,   7.5883,2,    25.00, -999.00,9, -999.00,9,      103,   35.54,2,   1.5463,2,       4420
49UP20160703,         P9,      54,          1,          2,        075,2,20160721,       0051,    10.0018,   136.9778,       4727,  4748.5,   1.5604,  34.6858,2,  34.6855,2,    160.4,2,  160.63,2,  138.59,2,    0.00,2,   2.450,2,-999.000,9,-999.000,9,-999.000,9,  2312.8,2,  2408.6,2,   7.5898,2,    25.00, -999.00,9, -999.00,9,       57,   35.41,2,   1.5604,2,       4670
49UP20160703,         P9,      54,          1,          1,        997,2,20160721,       0051,    10.0018,   136.9778,       4727,  4988.7,   1.5858,  34.6861,2,  34.6863,2,    160.8,2,  161.01,2,  138.63,2,    0.00,2,   2.450,2,   0.000,2,   0.000,2,   0.000,2,  2317.9,6,  2409.3,6,   7.5901,2,    25.00, -999.00,9, -999.00,9,       52,   35.42,2,   1.5857,2,       4903