BOTTLE,20230712CCHSIOENA
EXPOCODE,SECT_ID,STNNBR,CASTNO,SAMPNO,BTLNBR,BTLNBR_FLAG_W,DATE,TIME,LATITUDE,LONGITUDE,DEPTH,CTDPRS,CTDTMP,CTDSAL,CTDSAL_FLAG_W,SALNTY,SALNTY_FLAG_W,CTDOXY,CTDOXY_FLAG_W,OXYGEN,OXYGEN_FLAG_W,SILCAT,SILCAT_FLAG_W,NITRIT,NITRIT_FLAG_W,PHSPHT,PHSPHT_FLAG_W,CFC-11,CFC-11_FLAG_W,CFC-12,CFC-12_FLAG_W,CFC113,CFC113_FLAG_W,TCARBN,TCARBN_FLAG_W,ALKALI,ALKALI_FLAG_W,PH_TOT,PH_TOT_FLAG_W,PH_TMP,CHLORA,CHLORA_FLAG_W,PPHYTN,PPHYTN_FLAG_W,BTL_TIME,NO2+NO3,NO2+NO3_FLAG_W,SBE35,SBE35_FLAG_W,CTDDEPTH
,,,,,,,,,,,METERS,DBAR,ITS-90,PSS-78,,PSS-78,,UMOL/KG,,UMOL/KG,,UMOL/KG,,UMOL/KG,,UMOL/KG,,PMOL/KG,,PMOL/KG,,PMOL/KG,,UMOL/KG,,UMOL/KG,,,,DEG C,UG/KG,,UG/KG,,,UMOL/KG,,ITS-90,,METERS
49UP20160703,         P9,      53,          1,          0,        BUC,2,20160720,       1743,    10.4872,    136.992,       5040,     0.0,  29.9659,  34.3441,2,-999.0000,9,    193.2,2,  193.99,2,    0.95,2,    0.00,2,   0.070,2,-999.000,9,-999.000,9,-999.000,9,  -999.0,9,  -999.0,9,-999.0000,9,  -999.00, -999.00,9, -999.00,9,     1932,    0.02,2,-999.0000,9,          0
49UP20160703,         P9,      53,          1,         36,        109,2,20160720,       1743,    10.4872,    136.992,       5040,    11.3,  29.9453,  34.3450,2,  34.3448,2,    193.3,2,  194.15,2,    0.86,2,    0.00,2,   0.060,2,-999.000,9,-999.000,9,-999.000,9,  -999.0,9,  -999.0,9,-999.0000,9,  -999.00, -999.00,9, -999.00,9,     1958,    0.00,2,  29.9444,2,         11
49UP20160703,         P9,      53,          1,         35,        112,2,20160720,       1743,    10.4872,    136.992,       5040,    50.3,  29.2011,  34.7261,2,  34.7294,2,    199.9,2,  200.90,2,    1.08,2,    0.00,2,   0.070,2,-999.000,9,-999.000,9,-999.000,9,  -999.0,9,  -999.0,9,-999.0000,9,  -999.00, -999.00,9, -999.00,9,     1954,    0.02,2,  29.1928,2,         50
49UP20160703,         P9,      53,          1,         28,        472,2,20160720,       1743,    10.4872,    136.992,       5040,    76.0,  26.9520,  34.8672,2,  34.8701,2,    199.2,2,  199.42,2,    1.40,2,    0.00,2,   0.090,2,-999.000,9,-999.000,9,-999.000,9,  -999.0,9,  -999.0,9,-999.0000,9,  -999.00, -999.00,9, -999.00,9,     1952,    0.02,2,  26.9499,2,         76
49UP20160703,         P9,      53,          1,         34,        094,2,20160720,       1743,    10.4872,    136.992,       5040,    99.7,  25.0676,  35.0420,2,  35.0679,4,    197.3,2,  198.12,6,    1.57,6,    0.01,6,   0.150,6,-999.000,9,-999.000,9,-999.000,9,  -999.0,9,  -999.0,9,-999.0000,9,  -999.00, -999.00,9, -999.00,9,     1951,    0.05,6,  25.0695,2,         99
49UP20160703,         P9,      53,          1,         33,        469,2,20160720,       1743,    10.4872,    136.992,       5040,   126.1,  21.3365,  34.8821,2,  34.8800,2,    173.8,2,  174.63,2,    4.13,2,    0.19,2,   0.420,2,-999.000,9,-999.000,9,-999.000,9,  -999.0,9,  -999.0,9,-999.0000,9,  -999.00, -999.00,9, -999.00,9,     1950,    3.69,2,  21.3266,2,        125
49UP20160703,         P9,      53,          1,         32,        089,2,20160720,       1743,    10.4872,    136.992,       5040,   151.9,  18.2728,  34.7817,2,  34.7813,2,    167.5,2,  169.10,2,    5.82,2,    0.01,2,   0.570,2,-999.000,9,-999.000,9,-999.000,9,  -999.0,9,  -999.0,9,-999.0000,9,  -999.00, -999.00,9, -999.00,9,     1948,    6.73,2,  18.3029,2,        151
49UP20160703,         P9,      53,          1,         31,        515,2,20160720,       1743,    10.4872,    136.992,       5040,   201.7,  14.7577,  34.5467,2,  34.5437,2,    155.5,2,  154.82,2,   12.23,2,    0.00,2,   0.960,2,-999.000,9,-999.000,9,-999.000,9,  -999.0,9,  -999.0,9,-999.0000,9,  -999.00, -999.00,9, -999.00,9,     1946,   13.04,2,  14.7570,2,        200
49UP20160703,         P9,      53,          1,         30,        097,2,20160720,       1743,    10.4872,    136.992,       5040,   252.1,  11.2619,  34.3593,2,  34.3587,2,    124.4,2,  123.25,2,   25.18,2,    0.00,2,   1.600,2,-999.000,9,-999.000,9,-999.000,9,  -999.0,9,  -999.0,9,-999.0000,9,  -999.00, -999.00,9, -999.00,9,     1944,   21.91,2,  11.2623,2,        251
49UP20160703,         P9,      53,          1,         29,        102,2,20160720,       1743,    10.4872,    136.992,       5040,   332.6,   9.1576,  34.4907,2,  34.4942,2,     93.7,2,   93.88,2,   37.97,2,    0.00,2,   2.100,2,-999.000,9,-999.000,9,-999.000,9,  -999.0,9,  -999.0,9,-999.0000,9,  -999.00, -999.00,9, -999.00,9,     1941,   29.58,2,   9.1567,2,        330
49UP20160703,         P9,      53,          1,         27,        998,2,20160720,       1743,    10.4872,    136.992,       5040,   383.0,   8.5708,  34.5063,2,  34.5072,2,     92.6,2,   93.45,2,   40.37,2,    0.00,2,   2.180,2,-999.000,9,-999.000,9,-999.000,9,  -999.0,9,  -999.0,9,-999.0000,9,  -999.00, -999.00,9, -999.00,9,     1939,   30.81,2,   8.5707,2,        380
49UP20160703,         P9,      53,          1,         26,        084,2,20160720,       1743,    10.4872,    136.992,       5040,   433.0,   8.0676,  34.5184,2,  34.5170,2,     95.9,2,   95.58,2,   42.33,2,    0.00,2,   2.230,2,-999.000,9,-999.000,9,-999.000,9,  -999.0,9,  -999.0,9,-999.0000,9,  -999.00, -999.00,9, -999.00,9,     1937,   31.71,2,   8.0675,2,        430
49UP20160703,         P9,      53,          1,         25,        098,2,20160720,       1743,    10.4872,    136.992,       5040,   483.1,   7.6238,  34.5084,2,  34.5080,2,     97.2,2,   97.23,2,   45.64,2,    0.00,2,   2.280,2,-999.000,9,-999.000,9,-999.000,9,  -999.0,9,  -999.0,9,-999.0000,9,  -999.00, -999.00,9, -999.00,9,     1935,   32.40,2,   7.6234,2,        480
49UP20160703,         P9,      53,          1,         24,        110,2,20160720,       1743,    10.4872,    136.992,       5040,   533.9,   7.2450,  34.5056,2,  34.5058,2,    102.1,2,  102.11,2,   47.92,2,    0.00,2,   2.300,2,-999.000,9,-999.000,9,-999.000,9,  -999.0,9,  -999.0,9,-999.0000,9,  -999.00, -999.00,9, -999.00,9,     1933,   32.68,2,   7.2437,2,        530
49UP20160703,         P9,      53,          1,         23,        679,2,20160720,       1743,    10.4872,    136.992,       5040,   635.0,   6.7865,  34.5097,2,  34.5099,2,    112.0,2,  111.67,2,   49.14,2,    0.00,2,   2.310,2,-999.000,9,-999.000,9,-999.000,9,  -999.0,9,  -999.0,9,-999.0000,9,  -999.00, -999.00,9, -999.00,9,     1930,   32.81,2,   6.7860,2,        630
49UP20160703,         P9,      53,          1,         22,        111,2,20160720,       1743,    10.4872,    136.992,       5040,   736.1,   6.1527,  34.4952,2,  34.4960,6,     96.9,2,   96.24,2,   62.45,2,    0.00,2,   2.490,2,-999.000,9,-999.000,9,-999.000,9,  -999.0,9,  -999.0,9,-999.0000,9,  -999.00, -999.00,9, -999.00,9,     1927,   35.05,2,   6.1542,2,        731
49UP20160703,         P9,      53,          1,         21,        078,2,20160720,       1743,    10.4872,    136.992,       5040,   836.7,   5.6162,  34.5177,2,  34.5185,2,     96.8,2,   96.61,2,   69.73,2,    0.00,2,   2.550,2,-999.000,9,-999.000,9,-999.000,9,  -999.0,9,  -999.0,9,-999.0000,9,  -999.00, -999.00,9, -999.00,9,     1924,   36.00,2,   5.6163,2,        830
49UP20160703,         P9,      53,          1,         20,        093,2,20160720,       1743,    10.4872,    136.992,       5040,   938.6,   5.1835,  34.5327,2,  34.5325,2,     95.6,2,   94.19,2,   77.40,2,    0.00,2,   2.610,2,-999.000,9,-999.000,9,-999.000,9,  -999.0,9,  -999.0,9,-999.0000,9,  -999.00, -999.00,9, -999.00,9,     1921,   36.92,2,   5.1839,2,        931
49UP20160703,         P9,      53,          1,         19,        269,2,20160720,       1743,    10.4872,    136.992,       5040,  1079.5,   4.6276,  34.5425,2,  34.5431,2,     88.8,2,   89.16,2,   89.92,2,    0.00,2,   2.690,2,-999.000,9,-999.000,9,-999.000,9,  -999.0,9,  -999.0,9,-999.0000,9,  -999.00, -999.00,9, -999.00,9,     1915,   37.91,2,   4.6272,2,       1071
49UP20160703,         P9,      53,          1,         18,        088,2,20160720,       1743,    10.4872,    136.992,       5040,  1282.0,   3.7944,  34.5639,2,  34.5637,2,     89.9,2,   89.62,2,  107.32,2,    0.00,2,   2.760,2,-999.000,9,-999.000,9,-999.000,9,  -999.0,9,  -999.0,9,-999.0000,9,  -999.00, -999.00,9, -999.00,9,     1910,   38.83,2,   3.7938,2,       1271
49UP20160703,         P9,      53,          1,         17,        090,2,20160720,       1743,    10.4872,    136.992,       5040,  1485.1,   3.2122,  34.5825,2,  34.5828,6,     95.4,2,   95.41,2,  119.33,2,    0.00,2,   2.750,2,-999.000,9,-999.000,9,-999.000,9,  -999.0,9,  -999.0,9,-999.0000,9,  -999.00, -999.00,9, -999.00,9,     1905,   38.93,2,   3.2124,2,       1471
49UP20160703,         P9,      53,          1,         16,        474,2,20160720,       1743,    10.4872,    136.992,       5040,  1686.2,   2.7437,  34.6014,2,  34.6013,2,    100.9,2,  100.82,2,  128.71,2,    0.00,2,   2.730,2,-999.000,9,-999.000,9,-999.000,9,  -999.0,9,  -999.0,9,-999.0000,9,  -999.00, -999.00,9, -999.00,9,     1858,   38.83,2,   2.7435,2,       1670
49UP20160703,         P9,      53,          1,         15,        665,2,20160720,       1743,    10.4872,    136.992,       5040,  1888.7,   2.4312,  34.6180,2,  34.6184,2,    108.1,2,  108.30,6,  134.18,6,    0.00,6,   2.710,6,-999.000,9,-999.000,9,-999.000,9,  -999.0,9,  -999.0,9,-999.0000,9,  -999.00, -999.00,9, -999.00,9,     1854,   38.58,6,   2.4312,2,       1870
49UP20160703,         P9,      53,          1,         14,        999,2,20160720,       1743,    10.4872,    136.992,       5040,  2093.6,   2.1672,  34.6327,2,  34.6329,2,    115.2,2,  115.08,2,  138.63,2,    0.00,2,   2.680,2,-999.000,9,-999.000,9,-999.000,9,  -999.0,9,  -999.0,9,-999.0000,9,  -999.00, -999.00,9, -999.00,9,     1849,   38.33,2,   2.1671,2,       2071
49UP20160703,         P9,      53,          1,         13,        667,2,20160720,       1743,    10.4872,    136.992,       5040,  2296.1,   1.9784,  34.6438,2,  34.6439,2,    121.5,2,  121.48,2,  141.63,2,    0.00,2,   2.650,2,-999.000,9,-999.000,9,-999.000,9,  -999.0,9,  -999.0,9,-999.0000,9,  -999.00, -999.00,9, -999.00,9,     1844,   37.95,2,   1.9785,2,       2271
49UP20160703,         P9,      53,          1,         12,        074,2,20160720,       1743,    10.4872,    136.992,       5040,  2501.1,   1.8318,  34.6526,2,  34.6530,2,    127.1,2,  127.12,2,  143.54,2,    0.00,2,   2.620,2,-999.000,9,-999.000,9,-999.000,9,  -999.0,9,  -999.0,9,-999.0000,9,  -999.00, -999.00,9, -999.00,9,     1839,   37.65,2,   1.8319,2,       2472
49UP20160703,         P9,      53,          1,         11,        268,2,20160720,       1743,    10.4872,    136.992,       5040,  2703.4,   1.7096,  34.6608,2,  34.6606,2,    133.4,2,  133.22,6,  144.34,6,    0.00,6,   2.580,6,-999.000,9,-999.000,9,-999.000,9,  -999.0,9,  -999.0,9,-999.0000,9,  -999.00, -999.00,9, -999.00,9,     1835,   37.21,6,   1.7097,2,       2671
49UP20160703,         P9,      53,          1,         10,        267,2,20160720,       1743,    10.4872,    136.992,       5040,  2906.8,   1.6391,  34.6665,2,  34.6666,2,    138.6,2,  138.71,2,  143.77,2,    0.00,2,   2.550,2,-999.000,9,-999.000,9,-999.000,9,  -999.0,9,  -999.0,9,-999.0000,9,  -999.00, -999.00,9, -999.00,9,     1830,   36.84,2,   1.6392,2,       2871
49UP20160703,         P9,      53,          1,          9,        518,2,20160720,       1743,    10.4872,    136.992,       5040,  3120.2,   1.5833,  34.6716,2,  34.6717,6,    143.6,2,  143.47,2,  143.14,2,    0.00,2,   2.530,2,-999.000,9,-999.000,9,-999.000,9,  -999.0,9,  -999.0,9,-999.0000,9,  -999.00, -999.00,9, -999.00,9,     1826,   36.50,2,   1.5833,2,       3080
49UP20160703,         P9,      53,          1,          8,        470,2,20160720,       1743,    10.4872,    136.992,       5040,  3375.9,   1.5653,  34.6744,2,  34.6744,2,    147.2,2,  147.26,2,  142.19,2,    0.00,2,   2.510,2,-999.000,9,-999.000,9,-999.000,9,  -999.0,9,  -999.0,9,-999.0000,9,  -999.00, -999.00,9, -999.00,9,     1821,   36.28,2,   1.5653,2,       3330
49UP20160703,         P9,      53,          1,          7,        516,2,20160720,       1743,    10.4872,    136.992,       5040,  3632.2,   1.5509,  34.6773,2,  34.6768,2,    150.2,2,  150.09,2,  141.97,2,    0.00,2,   2.500,2,-999.000,9,-999.000,9,-999.000,9,  -999.0,9,  -999.0,9,-999.0000,9,  -999.00, -999.00,9, -999.00,9,     1816,   36.15,2,   1.5510,2,       3581
49UP20160703,         P9,      53,          1,          6,        113,2,20160720,       1743,    10.4872,    136.992,       5040,  3887.4,   1.5285,  34.6809,2,  34.6808,2,    154.3,2,  154.52,6,  140.66,6,    0.00,6,   2.480,6,-999.000,9,-999.000,9,-999.000,9,  -999.0,9,  -999.0,9,-999.0000,9,  -999.00, -999.00,9, -999.00,9,     1810,   35.85,6,   1.5283,2,       3830
49UP20160703,         P9,      53,          1,          5,        658,2,20160720,       1743,    10.4872,    136.992,       5040,  4144.0,   1.5136,  34.6841,2,  34.6842,6,    158.0,2,  157.99,2,  139.51,2,    0.00,2,   2.460,2,-999.000,9,-999.000,9,-999.000,9,  -999.0,9,  -999.0,9,-999.0000,9,  -999.00, -999.00,9, -999.00,9,     1805,   35.60,2,   1.5135,2,       4081
49UP20160703,         P9,      53,          1,          4,        471,2,20160720,       1743,    10.4872,    136.992,       5040,  4400.3,   1.5280,  34.6853,2,  34.6855,2,    159.5,2,  159.68,2,  138.79,2,    0.00,2,   2.450,2,-999.000,9,-999.000,9,-999.000,9,  -999.0,9,  -999.0,9,-999.0000,9,  -999.00, -999.00,9, -999.00,9,     1800,   35.46,2,   1.5279,2,       4331
49UP20160703,         P9,      53,          1,          3,        104,2,20160720,       1743,    10.4872,    136.992,       5040,  4656.8,   1.5514,  34.6858,2,  34.6856,2,    160.2,2,  160.17,2,  138.74,2,    0.00,2,   2.440,2,-999.000,9,-999.000,9,-999.000,9,  -999.0,9,  -999.0,9,-999.0000,9,  -999.00, -999.00,9, -999.00,9,     1754,   35.44,2,   1.5514,2,       4580
49UP20160703,         P9,      53,          1,          2,        075,2,20160720,       1743,    10.4872,    136.992,       5040,  4913.7,   1.5776,  34.6861,2,  34.6859,2,    160.6,2,  160.69,2,  138.69,2,    0.00,2,   2.440,2,-999.000,9,-999.000,9,-999.000,9,  -999.0,9,  -999.0,9,-999.0000,9,  -999.00, -999.00,9, -999.00,9,     1749,   35.44,2,   1.5775,2,       4830
49UP20160703,         P9,      53,          1,          1,        997,2,20160720,       1743,    10.4872,    136.992,       5040,  5209.7,   1.6091,  34.6864,2,  34.6864,2,    161.2,2,  160.77,2,  138.62,2,    0.00,2,   2.440,2,-999.000,9,-999.000,9,-999.000,9,  -999.0,9,  -999.0,9,-999.0000,9,  -999.00, -999.00,9, -999.00,9,     1743,   35.42,2,   1.6091,2,       5118