BOTTLE,20230712CCHSIOENA
EXPOCODE,SECT_ID,STNNBR,CASTNO,SAMPNO,BTLNBR,BTLNBR_FLAG_W,DATE,TIME,LATITUDE,LONGITUDE,DEPTH,CTDPRS,CTDTMP,CTDSAL,CTDSAL_FLAG_W,SALNTY,SALNTY_FLAG_W,CTDOXY,CTDOXY_FLAG_W,OXYGEN,OXYGEN_FLAG_W,SILCAT,SILCAT_FLAG_W,NITRIT,NITRIT_FLAG_W,PHSPHT,PHSPHT_FLAG_W,CFC-11,CFC-11_FLAG_W,CFC-12,CFC-12_FLAG_W,CFC113,CFC113_FLAG_W,TCARBN,TCARBN_FLAG_W,ALKALI,ALKALI_FLAG_W,PH_TOT,PH_TOT_FLAG_W,PH_TMP,CHLORA,CHLORA_FLAG_W,PPHYTN,PPHYTN_FLAG_W,BTL_TIME,NO2+NO3,NO2+NO3_FLAG_W,SBE35,SBE35_FLAG_W,CTDDEPTH
,,,,,,,,,,,METERS,DBAR,ITS-90,PSS-78,,PSS-78,,UMOL/KG,,UMOL/KG,,UMOL/KG,,UMOL/KG,,UMOL/KG,,PMOL/KG,,PMOL/KG,,PMOL/KG,,UMOL/KG,,UMOL/KG,,,,DEG C,UG/KG,,UG/KG,,,UMOL/KG,,ITS-90,,METERS
49UP20160703,         P9,      65,          1,          0,        BUC,2,20160802,       0255,     6.5145,    137.016,       4430,     0.0,  29.8611,  34.1636,2,-999.0000,9,    195.3,2,  195.12,2,    1.38,2,    0.00,2,   0.010,2,-999.000,9,-999.000,9,-999.000,9,  -999.0,9,  -999.0,9,-999.0000,9,  -999.00, -999.00,9, -999.00,9,      432,    0.02,2,-999.0000,9,          0
49UP20160703,         P9,      65,          1,         36,        109,2,20160802,       0255,     6.5145,    137.016,       4430,     9.5,  29.8473,  34.1831,2,  34.1891,2,    195.3,2,  195.33,2,    1.38,2,    0.00,2,   0.020,2,-999.000,9,-999.000,9,-999.000,9,  -999.0,9,  -999.0,9,-999.0000,9,  -999.00, -999.00,9, -999.00,9,      506,    0.02,2,  29.8475,2,          9
49UP20160703,         P9,      65,          1,         35,        112,2,20160802,       0255,     6.5145,    137.016,       4430,    25.2,  29.8331,  34.3096,2,  34.3099,2,    195.0,2,  195.31,6,    1.18,6,    0.00,6,   0.020,6,-999.000,9,-999.000,9,-999.000,9,  -999.0,9,  -999.0,9,-999.0000,9,  -999.00, -999.00,9, -999.00,9,      505,    0.01,6,  29.8326,2,         25
49UP20160703,         P9,      65,          1,         34,        094,2,20160802,       0255,     6.5145,    137.016,       4430,    50.0,  28.2830,  34.6707,2,  34.6725,6,    199.9,2,  200.04,2,    1.58,2,    0.00,2,   0.060,2,-999.000,9,-999.000,9,-999.000,9,  -999.0,9,  -999.0,9,-999.0000,9,  -999.00, -999.00,9, -999.00,9,      501,    0.02,2,  28.2776,2,         50
49UP20160703,         P9,      65,          1,         33,        469,2,20160802,       0255,     6.5145,    137.016,       4430,    75.7,  26.3589,  34.7686,2,  34.7904,4,    178.9,2,  174.62,2,    3.03,2,    0.25,2,   0.260,2,-999.000,9,-999.000,9,-999.000,9,  -999.0,9,  -999.0,9,-999.0000,9,  -999.00, -999.00,9, -999.00,9,      500,    2.67,2,  26.3571,2,         75
49UP20160703,         P9,      65,          1,         32,        089,2,20160802,       0255,     6.5145,    137.016,       4430,   100.4,  23.6267,  35.0138,2,  35.0124,2,    168.0,2,  168.34,2,    3.34,2,    0.05,2,   0.320,2,-999.000,9,-999.000,9,-999.000,9,  -999.0,9,  -999.0,9,-999.0000,9,  -999.00, -999.00,9, -999.00,9,      458,    3.58,2,  23.6206,2,        100
49UP20160703,         P9,      65,          1,         31,        515,2,20160802,       0255,     6.5145,    137.016,       4430,   125.5,  20.7292,  34.8986,2,  34.8960,2,    158.5,2,  160.43,2,    5.64,2,    0.04,2,   0.520,2,-999.000,9,-999.000,9,-999.000,9,  -999.0,9,  -999.0,9,-999.0000,9,  -999.00, -999.00,9, -999.00,9,      457,    6.33,2,  20.7770,2,        125
49UP20160703,         P9,      65,          1,         30,        097,2,20160802,       0255,     6.5145,    137.016,       4430,   151.5,  17.2790,  34.7563,2,  34.7301,4,    158.3,2,  152.48,6,    9.66,6,    0.04,6,   0.780,6,-999.000,9,-999.000,9,-999.000,9,  -999.0,9,  -999.0,9,-999.0000,9,  -999.00, -999.00,9, -999.00,9,      456,   10.39,6,  17.2886,2,        151
49UP20160703,         P9,      65,          1,         29,        102,2,20160802,       0255,     6.5145,    137.016,       4430,   201.7,  11.4162,  34.5149,2,  34.5149,6,     99.1,2,   98.02,2,   27.93,2,    0.00,2,   1.790,2,-999.000,9,-999.000,9,-999.000,9,  -999.0,9,  -999.0,9,-999.0000,9,  -999.00, -999.00,9, -999.00,9,      454,   24.92,2,  11.4287,2,        200
49UP20160703,         P9,      65,          1,         28,        472,2,20160802,       0255,     6.5145,    137.016,       4430,   252.3,   9.5635,  34.5728,2,  34.5742,2,     97.1,2,   97.21,2,   33.48,2,    0.00,2,   2.010,2,-999.000,9,-999.000,9,-999.000,9,  -999.0,9,  -999.0,9,-999.0000,9,  -999.00, -999.00,9, -999.00,9,      452,   28.42,2,   9.5663,2,        251
49UP20160703,         P9,      65,          1,         27,        998,2,20160802,       0255,     6.5145,    137.016,       4430,   282.5,   9.1429,  34.5707,2,  34.5696,2,     95.7,2,   97.13,2,   35.13,2,    0.00,2,   2.070,2,-999.000,9,-999.000,9,-999.000,9,  -999.0,9,  -999.0,9,-999.0000,9,  -999.00, -999.00,9, -999.00,9,      450,   29.27,2,   9.1478,2,        281
49UP20160703,         P9,      65,          1,         26,        084,2,20160802,       0255,     6.5145,    137.016,       4430,   322.9,   8.7735,  34.5786,2,  34.5683,4,     82.9,2,   86.06,2,   37.14,2,    0.00,2,   2.200,2,-999.000,9,-999.000,9,-999.000,9,  -999.0,9,  -999.0,9,-999.0000,9,  -999.00, -999.00,9, -999.00,9,      448,   31.24,2,   8.7721,2,        321
49UP20160703,         P9,      65,          1,         25,        098,2,20160802,       0255,     6.5145,    137.016,       4430,   372.2,   8.1362,  34.5566,2,  34.5572,2,    104.7,2,  105.24,2,   37.64,2,    0.00,2,   2.150,2,-999.000,9,-999.000,9,-999.000,9,  -999.0,9,  -999.0,9,-999.0000,9,  -999.00, -999.00,9, -999.00,9,      446,   30.73,2,   8.1358,2,        370
49UP20160703,         P9,      65,          1,         24,        110,2,20160802,       0255,     6.5145,    137.016,       4430,   424.1,   7.9786,  34.5782,2,  34.5776,2,    112.3,2,  112.07,2,   35.15,2,    0.00,2,   2.140,2,-999.000,9,-999.000,9,-999.000,9,  -999.0,9,  -999.0,9,-999.0000,9,  -999.00, -999.00,9, -999.00,9,      444,   30.61,2,   7.9786,2,        421
49UP20160703,         P9,      65,          1,         23,        679,2,20160802,       0255,     6.5145,    137.016,       4430,   474.7,   7.7211,  34.5637,2,  34.5631,2,    105.1,2,  104.75,2,   38.57,2,    0.00,2,   2.220,2,-999.000,9,-999.000,9,-999.000,9,  -999.0,9,  -999.0,9,-999.0000,9,  -999.00, -999.00,9, -999.00,9,      442,   31.70,2,   7.7214,2,        472
49UP20160703,         P9,      65,          1,         22,        111,2,20160802,       0255,     6.5145,    137.016,       4430,   575.7,   7.1634,  34.5437,2,  34.5431,2,     98.9,2,   99.24,2,   45.42,2,    0.00,2,   2.340,2,-999.000,9,-999.000,9,-999.000,9,  -999.0,9,  -999.0,9,-999.0000,9,  -999.00, -999.00,9, -999.00,9,      439,   33.18,2,   7.1697,2,        572
49UP20160703,         P9,      65,          1,         21,        078,2,20160802,       0255,     6.5145,    137.016,       4430,   676.2,   6.6640,  34.5351,2,  34.5350,2,     97.9,2,   98.00,6,   50.46,6,    0.00,6,   2.420,6,-999.000,9,-999.000,9,-999.000,9,  -999.0,9,  -999.0,9,-999.0000,9,  -999.00, -999.00,9, -999.00,9,      436,   34.23,6,   6.6642,2,        671
49UP20160703,         P9,      65,          1,         20,        093,2,20160802,       0255,     6.5145,    137.016,       4430,   777.5,   6.0680,  34.5279,2,  34.5276,6,     90.8,2,   90.75,2,   62.32,2,    0.00,2,   2.530,2,-999.000,9,-999.000,9,-999.000,9,  -999.0,9,  -999.0,9,-999.0000,9,  -999.00, -999.00,9, -999.00,9,      433,   35.60,2,   6.0684,2,        772
49UP20160703,         P9,      65,          1,         19,        269,2,20160802,       0255,     6.5145,    137.016,       4430,   878.0,   5.1806,  34.5384,2,  34.5386,2,     86.8,2,   87.05,2,   78.35,2,    0.00,2,   2.650,2,-999.000,9,-999.000,9,-999.000,9,  -999.0,9,  -999.0,9,-999.0000,9,  -999.00, -999.00,9, -999.00,9,      430,   37.15,2,   5.1814,2,        871
49UP20160703,         P9,      65,          1,         18,        088,2,20160802,       0255,     6.5145,    137.016,       4430,   979.1,   4.6282,  34.5512,2,  34.5508,2,     86.4,2,   86.81,2,   88.64,2,    0.00,2,   2.700,2,-999.000,9,-999.000,9,-999.000,9,  -999.0,9,  -999.0,9,-999.0000,9,  -999.00, -999.00,9, -999.00,9,      425,   37.93,2,   4.6284,2,        971
49UP20160703,         P9,      65,          1,         17,        090,2,20160802,       0255,     6.5145,    137.016,       4430,  1141.6,   4.1064,  34.5646,2,  34.5643,2,     88.3,2,   88.76,2,   98.90,2,    0.00,2,   2.730,2,-999.000,9,-999.000,9,-999.000,9,  -999.0,9,  -999.0,9,-999.0000,9,  -999.00, -999.00,9, -999.00,9,      419,   38.40,2,   4.1079,2,       1132
49UP20160703,         P9,      65,          1,         16,        474,2,20160802,       0255,     6.5145,    137.016,       4430,  1342.8,   3.5041,  34.5825,2,  34.5826,2,     92.5,2,   92.68,2,  111.16,2,    0.00,2,   2.750,2,-999.000,9,-999.000,9,-999.000,9,  -999.0,9,  -999.0,9,-999.0000,9,  -999.00, -999.00,9, -999.00,9,      414,   38.63,2,   3.5041,2,       1331
49UP20160703,         P9,      65,          1,         15,        665,2,20160802,       0255,     6.5145,    137.016,       4430,  1544.4,   3.0229,  34.5993,2,  34.5994,2,     98.8,2,   98.85,2,  121.09,2,    0.00,2,   2.740,2,-999.000,9,-999.000,9,-999.000,9,  -999.0,9,  -999.0,9,-999.0000,9,  -999.00, -999.00,9, -999.00,9,      407,   38.55,2,   3.0227,2,       1530
49UP20160703,         P9,      65,          1,         14,        999,2,20160802,       0255,     6.5145,    137.016,       4430,  1747.2,   2.6597,  34.6131,2,  34.6126,2,    105.0,2,  105.16,2,  128.83,2,    0.00,2,   2.720,2,-999.000,9,-999.000,9,-999.000,9,  -999.0,9,  -999.0,9,-999.0000,9,  -999.00, -999.00,9, -999.00,9,      402,   38.36,2,   2.6599,2,       1730
49UP20160703,         P9,      65,          1,         13,        667,2,20160802,       0255,     6.5145,    137.016,       4430,  1950.5,   2.3928,  34.6270,2,  34.6267,2,    110.0,2,  110.14,2,  133.68,2,    0.00,2,   2.690,2,-999.000,9,-999.000,9,-999.000,9,  -999.0,9,  -999.0,9,-999.0000,9,  -999.00, -999.00,9, -999.00,9,      357,   38.15,2,   2.3940,2,       1931
49UP20160703,         P9,      65,          1,         12,        074,2,20160802,       0255,     6.5145,    137.016,       4430,  2153.2,   2.1817,  34.6377,2,  34.6376,2,    115.7,2,  115.81,2,  137.83,2,    0.00,2,   2.670,2,-999.000,9,-999.000,9,-999.000,9,  -999.0,9,  -999.0,9,-999.0000,9,  -999.00, -999.00,9, -999.00,9,      352,   37.96,2,   2.1814,2,       2130
49UP20160703,         P9,      65,          1,         11,        268,2,20160802,       0255,     6.5145,    137.016,       4430,  2356.0,   1.9959,  34.6475,2,  34.6478,2,    122.4,2,  122.39,2,  140.51,2,    0.00,2,   2.630,2,-999.000,9,-999.000,9,-999.000,9,  -999.0,9,  -999.0,9,-999.0000,9,  -999.00, -999.00,9, -999.00,9,      347,   37.61,2,   1.9959,2,       2330
49UP20160703,         P9,      65,          1,         10,        267,2,20160802,       0255,     6.5145,    137.016,       4430,  2558.9,   1.7843,  34.6579,2,  34.6578,2,    131.0,2,  131.33,2,  142.93,2,    0.00,2,   2.590,2,   0.004,2,   0.000,2,   0.000,2,  -999.0,9,  -999.0,9,-999.0000,9,  -999.00, -999.00,9, -999.00,9,      342,   37.06,2,   1.7844,2,       2529
49UP20160703,         P9,      65,          1,          9,        518,2,20160802,       0255,     6.5145,    137.016,       4430,  2762.6,   1.6768,  34.6653,2,  34.6653,2,    137.0,2,  137.29,2,  143.46,2,    0.00,2,   2.560,2,   0.006,2,   0.000,2,   0.000,2,  -999.0,9,  -999.0,9,-999.0000,9,  -999.00, -999.00,9, -999.00,9,      337,   36.72,2,   1.6769,2,       2729
49UP20160703,         P9,      65,          1,          8,        470,2,20160802,       0255,     6.5145,    137.016,       4430,  2965.8,   1.6236,  34.6697,2,  34.6695,2,    141.1,2,  141.90,2,  143.29,2,    0.00,2,   2.540,2,   0.004,2,   0.000,2,   0.000,2,  -999.0,9,  -999.0,9,-999.0000,9,  -999.00, -999.00,9, -999.00,9,      332,   36.46,2,   1.6236,2,       2929
49UP20160703,         P9,      65,          1,          7,        516,2,20160802,       0255,     6.5145,    137.016,       4430,  3212.4,   1.5913,  34.6728,2,  34.6726,2,    144.2,2,  145.03,2,  142.98,2,    0.00,2,   2.520,2,   0.011,2,   0.003,2,   0.000,2,  -999.0,9,  -999.0,9,-999.0000,9,  -999.00, -999.00,9, -999.00,9,      327,   36.22,2,   1.5914,2,       3170
49UP20160703,         P9,      65,          1,          6,        113,2,20160802,       0255,     6.5145,    137.016,       4430,  3467.1,   1.5632,  34.6763,2,  34.6758,2,    147.6,2,  147.63,2,  142.74,2,    0.00,2,   2.500,2,   0.009,2,   0.005,2,   0.000,2,  -999.0,9,  -999.0,9,-999.0000,9,  -999.00, -999.00,9, -999.00,9,      320,   36.03,2,   1.5632,2,       3420
49UP20160703,         P9,      65,          1,          5,        658,2,20160802,       0255,     6.5145,    137.016,       4430,  3723.1,   1.5424,  34.6799,2,  34.6791,2,    150.8,2,  150.73,2,  142.18,2,    0.00,2,   2.490,2,   0.011,2,   0.006,2,   0.000,2,  -999.0,9,  -999.0,9,-999.0000,9,  -999.00, -999.00,9, -999.00,9,      314,   35.90,2,   1.5425,2,       3670
49UP20160703,         P9,      65,          1,          4,        471,2,20160802,       0255,     6.5145,    137.016,       4430,  3978.2,   1.5244,  34.6830,2,  34.6826,2,    154.2,2,  154.56,2,  141.58,2,    0.00,2,   2.470,2,   0.006,2,   0.001,2,   0.000,2,  -999.0,9,  -999.0,9,-999.0000,9,  -999.00, -999.00,9, -999.00,9,      308,   35.62,2,   1.5246,2,       3919
49UP20160703,         P9,      65,          1,          3,        104,2,20160802,       0255,     6.5145,    137.016,       4430,  4236.5,   1.5110,  34.6858,2,  34.6857,6,    157.9,2,  157.93,6,  140.34,6,    0.00,6,   2.450,6,   0.012,2,   0.003,2,   0.000,2,  -999.0,9,  -999.0,9,-999.0000,9,  -999.00, -999.00,9, -999.00,9,      302,   35.42,6,   1.5110,2,       4171
49UP20160703,         P9,      65,          1,          1,        997,2,20160802,       0255,     6.5145,    137.016,       4430,  4500.4,   1.4898,  34.6890,2,  34.6880,2,    163.1,2,  162.79,2,  138.41,2,    0.00,2,   2.430,2,   0.008,2,   0.000,2,   0.000,2,  -999.0,9,  -999.0,9,-999.0000,9,  -999.00, -999.00,9, -999.00,9,      255,   35.07,2,   1.4899,2,       4429
49UP20160703,         P9,      65,          1,          2,        075,2,20160802,       0255,     6.5145,    137.016,       4430,  4501.0,   1.4894,  34.6890,2,  34.6896,2,    163.2,2,  163.03,2,  138.25,2,    0.00,2,   2.420,2,-999.000,9,-999.000,9,-999.000,9,  -999.0,9,  -999.0,9,-999.0000,9,  -999.00, -999.00,9, -999.00,9,      256,   34.99,2,   1.4894,2,       4429