BOTTLE,20230712CCHSIOENA
EXPOCODE,SECT_ID,STNNBR,CASTNO,SAMPNO,BTLNBR,BTLNBR_FLAG_W,DATE,TIME,LATITUDE,LONGITUDE,DEPTH,CTDPRS,CTDTMP,CTDSAL,CTDSAL_FLAG_W,SALNTY,SALNTY_FLAG_W,CTDOXY,CTDOXY_FLAG_W,OXYGEN,OXYGEN_FLAG_W,SILCAT,SILCAT_FLAG_W,NITRIT,NITRIT_FLAG_W,PHSPHT,PHSPHT_FLAG_W,CFC-11,CFC-11_FLAG_W,CFC-12,CFC-12_FLAG_W,CFC113,CFC113_FLAG_W,TCARBN,TCARBN_FLAG_W,ALKALI,ALKALI_FLAG_W,PH_TOT,PH_TOT_FLAG_W,PH_TMP,CHLORA,CHLORA_FLAG_W,PPHYTN,PPHYTN_FLAG_W,BTL_TIME,NO2+NO3,NO2+NO3_FLAG_W,SBE35,SBE35_FLAG_W,CTDDEPTH
,,,,,,,,,,,METERS,DBAR,ITS-90,PSS-78,,PSS-78,,UMOL/KG,,UMOL/KG,,UMOL/KG,,UMOL/KG,,UMOL/KG,,PMOL/KG,,PMOL/KG,,PMOL/KG,,UMOL/KG,,UMOL/KG,,,,DEG C,UG/KG,,UG/KG,,,UMOL/KG,,ITS-90,,METERS
49UP20160703,         P9,      58,          1,          0,        BUC,2,20160722,       1038,     8.3323,   136.9978,       2240,     0.0,  30.3349,  34.4158,2,-999.0000,9,    192.9,2,  194.56,2,    1.24,2,    0.00,2,   0.060,2,-999.000,9,-999.000,9,-999.000,9,  -999.0,9,  -999.0,9,-999.0000,9,  -999.00, -999.00,9, -999.00,9,     1125,    0.03,2,-999.0000,9,          0
49UP20160703,         P9,      58,          1,         36,        109,2,20160722,       1038,     8.3323,   136.9978,       2240,    10.0,  30.0596,  34.4022,2,  34.4046,2,    193.0,2,  194.25,2,    1.25,2,    0.00,2,   0.060,2,-999.000,9,-999.000,9,-999.000,9,  -999.0,9,  -999.0,9,-999.0000,9,  -999.00, -999.00,9, -999.00,9,     1152,    0.03,2,  30.0544,2,         10
49UP20160703,         P9,      58,          1,         35,        112,2,20160722,       1038,     8.3323,   136.9978,       2240,    24.9,  29.8727,  34.4223,2,  34.4167,2,    193.4,2,  194.48,2,    1.28,2,    0.00,2,   0.060,2,-999.000,9,-999.000,9,-999.000,9,  -999.0,9,  -999.0,9,-999.0000,9,  -999.00, -999.00,9, -999.00,9,     1151,    0.06,2,  29.8725,2,         25
49UP20160703,         P9,      58,          1,         34,        094,2,20160722,       1038,     8.3323,   136.9978,       2240,    51.0,  29.4626,  34.5918,2,  34.5775,4,    195.9,2,  197.61,2,    1.29,2,    0.00,2,   0.070,2,-999.000,9,-999.000,9,-999.000,9,  -999.0,9,  -999.0,9,-999.0000,9,  -999.00, -999.00,9, -999.00,9,     1147,    0.03,2,  29.4567,2,         51
49UP20160703,         P9,      58,          1,         32,        089,2,20160722,       1038,     8.3323,   136.9978,       2240,    75.3,  27.1236,  34.8242,2,  34.8245,2,    199.6,2,  200.42,2,    1.44,2,    0.00,2,   0.080,2,-999.000,9,-999.000,9,-999.000,9,  -999.0,9,  -999.0,9,-999.0000,9,  -999.00, -999.00,9, -999.00,9,     1146,    0.02,2,  27.1231,2,         75
49UP20160703,         P9,      58,          1,         31,        515,2,20160722,       1038,     8.3323,   136.9978,       2240,   101.0,  24.8713,  34.9171,2,  34.8865,4,    185.3,2,  186.31,2,    2.71,2,    0.09,2,   0.230,2,-999.000,9,-999.000,9,-999.000,9,  -999.0,9,  -999.0,9,-999.0000,9,  -999.00, -999.00,9, -999.00,9,     1145,    1.44,2,  24.8540,2,        100
49UP20160703,         P9,      58,          1,         30,        097,2,20160722,       1038,     8.3323,   136.9978,       2240,   125.7,  20.2275,  34.8238,2,  34.8170,2,    162.0,2,  161.76,2,    6.18,2,    0.03,2,   0.580,2,-999.000,9,-999.000,9,-999.000,9,  -999.0,9,  -999.0,9,-999.0000,9,  -999.00, -999.00,9, -999.00,9,     1143,    6.52,2,  20.2246,2,        125
49UP20160703,         P9,      58,          1,         28,        472,2,20160722,       1038,     8.3323,   136.9978,       2240,   151.0,  15.1945,  34.5961,2,  34.5935,2,    133.2,2,  132.57,2,   15.24,2,    0.01,2,   1.150,2,-999.000,9,-999.000,9,-999.000,9,  -999.0,9,  -999.0,9,-999.0000,9,  -999.00, -999.00,9, -999.00,9,     1142,   15.51,2,  15.1938,2,        150
49UP20160703,         P9,      58,          1,         29,        102,2,20160722,       1038,     8.3323,   136.9978,       2240,   151.1,  15.1680,  34.5971,2,  34.5942,2,    133.4,2,  132.97,2,   15.19,2,    0.01,2,   1.150,2,-999.000,9,-999.000,9,-999.000,9,  -999.0,9,  -999.0,9,-999.0000,9,  -999.00, -999.00,9, -999.00,9,     1142,   15.46,2,  15.1835,2,        150
49UP20160703,         P9,      58,          1,         27,        998,2,20160722,       1038,     8.3323,   136.9978,       2240,   203.8,  11.3118,  34.4683,2,  34.4704,2,    107.1,2,  107.72,2,   26.63,2,    0.00,2,   1.710,2,-999.000,9,-999.000,9,-999.000,9,  -999.0,9,  -999.0,9,-999.0000,9,  -999.00, -999.00,9, -999.00,9,     1140,   23.59,2,  11.3124,2,        203
49UP20160703,         P9,      58,          1,         26,        084,2,20160722,       1038,     8.3323,   136.9978,       2240,   251.4,   9.8573,  34.4995,2,  34.4993,6,     97.6,2,   97.21,2,   34.39,2,    0.00,2,   1.990,2,-999.000,9,-999.000,9,-999.000,9,  -999.0,9,  -999.0,9,-999.0000,9,  -999.00, -999.00,9, -999.00,9,     1138,   27.93,2,   9.8566,2,        250
49UP20160703,         P9,      58,          1,         25,        098,2,20160722,       1038,     8.3323,   136.9978,       2240,   302.3,   8.8798,  34.5125,2,  34.5132,2,    101.9,2,  101.95,6,   38.22,6,    0.00,6,   2.080,6,-999.000,9,-999.000,9,-999.000,9,  -999.0,9,  -999.0,9,-999.0000,9,  -999.00, -999.00,9, -999.00,9,     1136,   29.35,6,   8.8790,2,        300
49UP20160703,         P9,      58,          1,         21,        078,2,20160722,       1038,     8.3323,   136.9978,       2240,   351.5,   8.5902,  34.5116,2,  34.5113,2,     92.2,2,   92.49,2,   40.23,2,    0.00,2,   2.190,2,-999.000,9,-999.000,9,-999.000,9,  -999.0,9,  -999.0,9,-999.0000,9,  -999.00, -999.00,9, -999.00,9,     1134,   30.92,2,   8.5911,2,        349
49UP20160703,         P9,      58,          1,         20,        093,2,20160722,       1038,     8.3323,   136.9978,       2240,   405.8,   8.1596,  34.5274,2,  34.5259,2,     98.8,2,   99.35,2,   40.84,2,    0.00,2,   2.200,2,-999.000,9,-999.000,9,-999.000,9,  -999.0,9,  -999.0,9,-999.0000,9,  -999.00, -999.00,9, -999.00,9,     1132,   31.22,2,   8.1594,2,        403
49UP20160703,         P9,      58,          1,         19,        269,2,20160722,       1038,     8.3323,   136.9978,       2240,   453.0,   7.8434,  34.5225,2,  34.5222,2,     99.8,2,  100.24,2,   42.76,2,    0.00,2,   2.240,2,-999.000,9,-999.000,9,-999.000,9,  -999.0,9,  -999.0,9,-999.0000,9,  -999.00, -999.00,9, -999.00,9,     1131,   31.75,2,   7.8426,2,        450
49UP20160703,         P9,      58,          1,         18,        088,2,20160722,       1038,     8.3323,   136.9978,       2240,   504.0,   7.4798,  34.5119,2,  34.5122,2,    100.9,2,  101.43,2,   45.47,2,    0.00,2,   2.280,2,-999.000,9,-999.000,9,-999.000,9,  -999.0,9,  -999.0,9,-999.0000,9,  -999.00, -999.00,9, -999.00,9,     1128,   32.31,2,   7.4792,2,        501
49UP20160703,         P9,      58,          1,         17,        090,2,20160722,       1038,     8.3323,   136.9978,       2240,   603.7,   6.9558,  34.5186,2,  34.5184,2,    106.9,2,  106.67,2,   48.28,2,    0.00,2,   2.320,2,-999.000,9,-999.000,9,-999.000,9,  -999.0,9,  -999.0,9,-999.0000,9,  -999.00, -999.00,9, -999.00,9,     1126,   32.97,2,   6.9562,2,        599
49UP20160703,         P9,      58,          1,         16,        474,2,20160722,       1038,     8.3323,   136.9978,       2240,   707.9,   6.3550,  34.5173,2,  34.5178,2,    100.8,2,  101.25,2,   56.80,2,    0.00,2,   2.440,2,-999.000,9,-999.000,9,-999.000,9,  -999.0,9,  -999.0,9,-999.0000,9,  -999.00, -999.00,9, -999.00,9,     1123,   34.52,2,   6.3549,2,        703
49UP20160703,         P9,      58,          1,         15,        665,2,20160722,       1038,     8.3323,   136.9978,       2240,   806.3,   5.7657,  34.5232,2,  34.5239,6,     95.5,2,   95.49,2,   67.32,2,    0.00,2,   2.550,2,-999.000,9,-999.000,9,-999.000,9,  -999.0,9,  -999.0,9,-999.0000,9,  -999.00, -999.00,9, -999.00,9,     1120,   36.00,2,   5.7644,2,        800
49UP20160703,         P9,      58,          1,         14,        999,3,20160722,       1038,     8.3323,   136.9978,       2240,   906.8,   5.2136,  34.5354,2,  34.5359,2,     91.0,2,   91.19,2,   76.65,2,    0.00,2,   2.630,2,-999.000,9,-999.000,9,-999.000,9,  -999.0,9,  -999.0,9,-999.0000,9,  -999.00, -999.00,9, -999.00,9,     1117,   37.14,2,   5.2142,2,        900
49UP20160703,         P9,      58,          1,         13,        667,2,20160722,       1038,     8.3323,   136.9978,       2240,   906.9,   5.2147,  34.5353,2,  34.5355,2,     91.0,2,   91.51,2,   76.69,2,    0.00,2,   2.640,2,-999.000,9,-999.000,9,-999.000,9,  -999.0,9,  -999.0,9,-999.0000,9,  -999.00, -999.00,9, -999.00,9,     1117,   37.22,2,   5.2137,2,        900
49UP20160703,         P9,      58,          1,         12,        074,2,20160722,       1038,     8.3323,   136.9978,       2240,  1006.7,   4.9242,  34.5429,2,  34.5438,2,     89.2,2,   89.12,6,   82.55,6,    0.00,6,   2.680,6,-999.000,9,-999.000,9,-999.000,9,  -999.0,9,  -999.0,9,-999.0000,9,  -999.00, -999.00,9, -999.00,9,     1113,   37.78,6,   4.9212,2,        999
49UP20160703,         P9,      58,          1,         11,        268,2,20160722,       1038,     8.3323,   136.9978,       2240,  1209.9,   4.1039,  34.5605,2,  34.5606,2,     91.0,2,   90.98,2,   99.74,2,    0.00,2,   2.730,2,-999.000,9,-999.000,9,-999.000,9,  -999.0,9,  -999.0,9,-999.0000,9,  -999.00, -999.00,9, -999.00,9,     1108,   38.41,2,   4.1027,2,       1200
49UP20160703,         P9,      58,          1,         10,        267,2,20160722,       1038,     8.3323,   136.9978,       2240,  1412.3,   3.2426,  34.5863,2,  34.5860,2,     97.5,2,   97.48,2,  117.02,2,    0.00,2,   2.750,2,-999.000,9,-999.000,9,-999.000,9,  -999.0,9,  -999.0,9,-999.0000,9,  -999.00, -999.00,9, -999.00,9,     1103,   38.77,2,   3.2418,2,       1400
49UP20160703,         P9,      58,          1,          6,        113,2,20160722,       1038,     8.3323,   136.9978,       2240,  1616.9,   2.8631,  34.6025,2,  34.6025,2,    102.2,2,  101.89,2,  124.60,2,    0.00,2,   2.730,2,-999.000,9,-999.000,9,-999.000,9,  -999.0,9,  -999.0,9,-999.0000,9,  -999.00, -999.00,9, -999.00,9,     1058,   38.74,2,   2.8636,2,       1602
49UP20160703,         P9,      58,          1,          5,        658,2,20160722,       1038,     8.3323,   136.9978,       2240,  1818.2,   2.5413,  34.6169,2,  34.6171,6,    108.2,2,  107.82,2,  130.72,2,    0.00,2,   2.710,2,-999.000,9,-999.000,9,-999.000,9,  -999.0,9,  -999.0,9,-999.0000,9,  -999.00, -999.00,9, -999.00,9,     1053,   38.52,2,   2.5413,2,       1800
49UP20160703,         P9,      58,          1,          4,        471,2,20160722,       1038,     8.3323,   136.9978,       2240,  2022.5,   2.2557,  34.6308,2,  34.6326,4,    115.2,2,  114.90,6,  135.72,6,    0.00,6,   2.680,6,-999.000,9,-999.000,9,-999.000,9,  -999.0,9,  -999.0,9,-999.0000,9,  -999.00, -999.00,9, -999.00,9,     1047,   38.21,6,   2.2521,2,       2001
49UP20160703,         P9,      58,          1,          3,        104,2,20160722,       1038,     8.3323,   136.9978,       2240,  2224.9,   2.0405,  34.6428,2,  34.6433,2,    122.2,2,  121.74,2,  138.97,2,    0.00,2,   2.650,2,-999.000,9,-999.000,9,-999.000,9,  -999.0,9,  -999.0,9,-999.0000,9,  -999.00, -999.00,9, -999.00,9,     1042,   37.87,2,   2.0400,2,       2201
49UP20160703,         P9,      58,          1,          2,        075,2,20160722,       1038,     8.3323,   136.9978,       2240,  2316.2,   1.9690,  34.6471,2,  34.6475,2,    125.1,2,  124.76,2,  139.57,2,    0.00,2,   2.640,2,-999.000,9,-999.000,9,-999.000,9,  -999.0,9,  -999.0,9,-999.0000,9,  -999.00, -999.00,9, -999.00,9,     1039,   37.70,2,   1.9693,2,       2291
49UP20160703,         P9,      58,          1,          1,        997,2,20160722,       1038,     8.3323,   136.9978,       2240,  2316.6,   1.9697,  34.6469,2,  34.6471,2,    125.1,2,  124.86,2,  139.73,2,    0.00,2,   2.640,2,-999.000,9,-999.000,9,-999.000,9,  -999.0,9,  -999.0,9,-999.0000,9,  -999.00, -999.00,9, -999.00,9,     1038,   37.70,2,   1.9688,2,       2291