BOTTLE,20230712CCHSIOENA
EXPOCODE,SECT_ID,STNNBR,CASTNO,SAMPNO,BTLNBR,BTLNBR_FLAG_W,DATE,TIME,LATITUDE,LONGITUDE,DEPTH,CTDPRS,CTDTMP,CTDSAL,CTDSAL_FLAG_W,SALNTY,SALNTY_FLAG_W,CTDOXY,CTDOXY_FLAG_W,OXYGEN,OXYGEN_FLAG_W,SILCAT,SILCAT_FLAG_W,NITRIT,NITRIT_FLAG_W,PHSPHT,PHSPHT_FLAG_W,CFC-11,CFC-11_FLAG_W,CFC-12,CFC-12_FLAG_W,CFC113,CFC113_FLAG_W,TCARBN,TCARBN_FLAG_W,ALKALI,ALKALI_FLAG_W,PH_TOT,PH_TOT_FLAG_W,PH_TMP,CHLORA,CHLORA_FLAG_W,PPHYTN,PPHYTN_FLAG_W,BTL_TIME,NO2+NO3,NO2+NO3_FLAG_W,SBE35,SBE35_FLAG_W,CTDDEPTH
,,,,,,,,,,,METERS,DBAR,ITS-90,PSS-78,,PSS-78,,UMOL/KG,,UMOL/KG,,UMOL/KG,,UMOL/KG,,UMOL/KG,,PMOL/KG,,PMOL/KG,,PMOL/KG,,UMOL/KG,,UMOL/KG,,,,DEG C,UG/KG,,UG/KG,,,UMOL/KG,,ITS-90,,METERS
49UP20160703,         P9,      68,          1,          0,        BUC,2,20160803,       0051,     5.0098,   137.0222,       5092,     0.0,  30.4245,  33.9552,2,  33.9515,2,    194.1,2,  193.88,2,    0.93,2,    0.00,2,   0.120,2,-999.000,9,-999.000,9,-999.000,9,  1901.4,2,  2232.2,2,   8.1196,2,    25.00,    0.00,4,    0.14,4,      236,    0.07,2,-999.0000,9,          0
49UP20160703,         P9,      68,          1,         36,        109,2,20160803,       0051,     5.0098,   137.0222,       5092,    10.0,  30.1687,  33.9386,2,  33.9366,2,    195.0,2,  194.93,2,    0.91,2,    0.00,2,   0.080,2,   1.489,2,   0.924,2,   0.110,2,  1898.7,2,  2231.6,2,   8.1236,2,    25.00,    0.00,4,    0.14,4,      312,    0.02,2,  30.1697,2,         10
49UP20160703,         P9,      68,          1,         35,        112,2,20160803,       0051,     5.0098,   137.0222,       5092,    50.9,  30.1553,  34.2024,2,  34.1984,2,    197.5,2,  197.68,2,    1.02,2,    0.00,2,   0.090,2,   1.521,2,   0.924,2,   0.115,2,  1920.5,2,  2249.9,2,   8.1194,2,    25.00,    0.00,4,    0.30,4,      307,    0.01,2,  30.1580,2,         51
49UP20160703,         P9,      68,          1,         34,        094,2,20160803,       0051,     5.0098,   137.0222,       5092,   101.2,  26.7864,  34.7427,2,  34.7515,2,    177.3,2,  177.18,6,    2.58,6,    0.42,6,   0.250,6,   1.710,2,   1.030,2,   0.073,2,  2002.7,2,  2284.4,2,   8.0243,2,    25.00,    0.25,2,    0.43,2,      305,    1.96,6,  26.7921,2,        101
49UP20160703,         P9,      68,          1,         33,        469,2,20160803,       0051,     5.0098,   137.0222,       5092,   126.6,  23.1754,  34.9370,2,  34.9321,6,    167.1,2,  167.20,2,    3.83,2,    0.06,2,   0.410,2,   1.954,2,   1.167,2,   0.061,2,  2045.1,2,  2298.3,2,   7.9586,2,    25.00,    0.08,2,    0.21,2,      304,    4.16,2,  23.2386,2,        126
49UP20160703,         P9,      68,          1,         32,        089,2,20160803,       0051,     5.0098,   137.0222,       5092,   151.5,  16.5115,  34.6780,2,  34.6766,2,    142.6,2,  142.20,2,   11.59,2,    0.01,2,   0.930,2,   2.264,2,   1.329,2,   0.025,2,  2110.0,2,  2285.6,2,   7.8035,2,    25.00,    0.02,2,    0.05,2,      302,   12.53,2,  16.5102,2,        151
49UP20160703,         P9,      68,          1,         31,        515,2,20160803,       0051,     5.0098,   137.0222,       5092,   202.0,  11.6467,  34.4784,2,  34.4815,2,    120.2,2,  119.57,2,   26.01,2,    0.00,2,   1.590,2,   1.994,6,   1.058,6,   0.016,6,  2168.2,2,  2287.1,2,   7.6616,2,    25.00,    0.00,2,    0.02,2,      300,   22.09,2,  11.6841,2,        201
49UP20160703,         P9,      68,          1,         30,        097,2,20160803,       0051,     5.0098,   137.0222,       5092,   251.5,  10.1144,  34.5462,2,  34.5452,2,    102.6,2,  102.50,2,   32.13,2,    0.00,2,   1.920,2,   1.446,2,   0.739,2,   0.017,2,  2204.7,2,  2297.7,2,   7.6061,2,    25.00, -999.00,9, -999.00,9,      258,   26.89,2,  10.1190,2,        250
49UP20160703,         P9,      68,          1,         29,        102,2,20160803,       0051,     5.0098,   137.0222,       5092,   281.1,   9.7526,  34.5773,2,  34.5780,2,     77.5,2,   77.08,2,   33.60,2,    0.00,2,   2.130,2,   1.056,2,   0.526,2,   0.006,2,  2226.0,2,  2300.5,2,   7.5534,2,    25.00, -999.00,9, -999.00,9,      257,   30.10,2,   9.7511,2,        279
49UP20160703,         P9,      68,          1,         28,        472,3,20160803,       0051,     5.0098,   137.0222,       5092,   321.9,   9.0476,  34.6052,2,  34.6050,2,     64.4,2,   65.31,2,   35.71,2,    0.00,2,   2.310,2,-999.000,9,-999.000,9,-999.000,9,  2236.3,2,  2304.3,2,   7.5167,2,    25.00, -999.00,9, -999.00,9,      255,   32.80,2,   9.0477,2,        320
49UP20160703,         P9,      68,          1,         27,        998,2,20160803,       0051,     5.0098,   137.0222,       5092,   372.7,   8.3323,  34.5817,2,  34.5800,2,     88.2,2,   90.01,6,   37.11,6,    0.00,6,   2.240,6,   0.722,2,   0.353,2,   0.009,2,  2230.8,2,  2305.2,2,   7.5457,2,    25.00, -999.00,9, -999.00,9,      253,   31.99,6,   8.3287,2,        370
49UP20160703,         P9,      68,          1,         26,        084,2,20160803,       0051,     5.0098,   137.0222,       5092,   423.3,   7.9381,  34.5754,2,  34.5755,6,    103.7,2,  103.65,2,   36.61,2,    0.00,2,   2.200,2,-999.000,9,-999.000,9,-999.000,9,  2228.1,2,  2307.1,2,   7.5626,2,    25.00, -999.00,9, -999.00,9,      250,   31.61,2,   7.9376,2,        421
49UP20160703,         P9,      68,          1,         25,        098,2,20160803,       0051,     5.0098,   137.0222,       5092,   474.5,   7.5722,  34.5651,2,  34.5652,2,     97.5,2,   97.26,2,   40.36,2,    0.00,2,   2.300,2,   0.524,2,   0.260,2,   0.009,2,  2238.0,2,  2310.1,2,   7.5435,2,    25.00, -999.00,9, -999.00,9,      248,   32.87,2,   7.5728,2,        471
49UP20160703,         P9,      68,          1,         24,        110,2,20160803,       0051,     5.0098,   137.0222,       5092,   574.8,   7.0200,  34.5516,2,  34.5515,2,     86.1,2,   88.00,2,   47.48,2,    0.00,2,   2.480,2,   0.316,2,   0.153,2,   0.005,2,  2253.8,2,  2316.0,2,   7.5167,6,    25.00, -999.00,9, -999.00,9,      245,   35.10,2,   7.0215,2,        571
49UP20160703,         P9,      68,          1,         23,        679,2,20160803,       0051,     5.0098,   137.0222,       5092,   675.9,   6.5552,  34.5418,2,  34.5423,2,     86.8,2,   87.66,2,   51.91,2,    0.00,2,   2.530,2,   0.252,2,   0.126,2,   0.010,2,  2258.5,2,  2320.4,2,   7.5096,2,    25.00, -999.00,9, -999.00,9,      243,   35.86,2,   6.5563,2,        671
49UP20160703,         P9,      68,          1,         22,        111,2,20160803,       0051,     5.0098,   137.0222,       5092,   776.6,   5.9827,  34.5318,2,  34.5325,2,     90.0,2,   90.12,2,   61.70,2,    0.00,2,   2.570,2,   0.199,2,   0.094,2,   0.004,2,  2266.7,2,  2329.5,2,   7.5083,2,    25.00, -999.00,9, -999.00,9,      240,   36.35,2,   5.9819,2,        771
49UP20160703,         P9,      68,          1,         21,        078,2,20160803,       0051,     5.0098,   137.0222,       5092,   878.3,   5.4050,  34.5369,2,  34.5370,2,     91.7,2,   92.17,2,   69.21,2,    0.00,2,   2.630,2,   0.120,2,   0.057,2,   0.004,2,  2273.5,2,  2337.6,2,   7.5038,2,    25.00, -999.00,9, -999.00,9,      237,   37.22,2,   5.4049,2,        872
49UP20160703,         P9,      68,          1,         20,        093,2,20160803,       0051,     5.0098,   137.0222,       5092,   979.6,   4.8472,  34.5454,2,  34.5462,2,     93.1,2,   93.07,2,   80.94,2,    0.00,2,   2.670,2,   0.081,2,   0.038,2,   0.007,2,  2290.5,6,  2350.9,6,   7.5025,2,    25.00, -999.00,9, -999.00,9,      234,   37.63,2,   4.8464,2,        972
49UP20160703,         P9,      68,          1,         19,        269,2,20160803,       0051,     5.0098,   137.0222,       5092,  1140.6,   4.0053,  34.5667,2,  34.5675,2,     89.9,2,   90.09,2,  100.74,2,    0.00,2,   2.740,2,   0.031,2,   0.014,2,   0.002,2,  2314.9,2,  2369.0,2,   7.4946,2,    25.00, -999.00,9, -999.00,9,      228,   38.62,2,   4.0052,2,       1131
49UP20160703,         P9,      68,          1,         18,        088,2,20160803,       0051,     5.0098,   137.0222,       5092,  1341.5,   3.2499,  34.5908,2,  34.5911,2,     94.7,2,   94.89,2,  116.34,2,    0.00,2,   2.750,2,   0.006,2,   0.003,2,   0.005,2,  2328.4,2,  2386.9,2,   7.4966,2,    25.00, -999.00,9, -999.00,9,      223,   38.93,2,   3.2496,2,       1330
49UP20160703,         P9,      68,          1,         17,        090,2,20160803,       0051,     5.0098,   137.0222,       5092,  1545.0,   2.8608,  34.6058,2,  34.6060,2,    100.5,2,  100.73,6,  124.38,6,    0.00,6,   2.750,6,-999.000,9,-999.000,9,-999.000,9,  2331.9,2,  2394.7,2,   7.5054,2,    25.00, -999.00,9, -999.00,9,      218,   38.93,6,   2.8608,2,       1531
49UP20160703,         P9,      68,          1,         16,        474,2,20160803,       0051,     5.0098,   137.0222,       5092,  1748.3,   2.5714,  34.6187,2,  34.6193,6,    105.3,2,  105.76,2,  129.95,2,    0.00,2,   2.720,2,-999.000,9,-999.000,9,-999.000,9,  2344.2,2,  2400.5,2,   7.5117,2,    25.00, -999.00,9, -999.00,9,      212,   38.71,2,   2.5715,2,       1731
49UP20160703,         P9,      68,          1,         15,        665,2,20160803,       0051,     5.0098,   137.0222,       5092,  1949.9,   2.2130,  34.6361,2,  34.6370,2,    113.5,2,  113.48,2,  137.05,2,    0.00,2,   2.690,2,   0.000,6,   0.004,6,   0.004,6,  2341.5,2,  2409.9,2,   7.5236,2,    25.00, -999.00,9, -999.00,9,      207,   38.33,2,   2.2134,2,       1930
49UP20160703,         P9,      68,          1,         14,        999,2,20160803,       0051,     5.0098,   137.0222,       5092,  2154.4,   2.0024,  34.6476,2,  34.6482,2,    119.9,2,  119.87,2,  140.68,2,    0.00,2,   2.660,2,-999.000,9,-999.000,9,-999.000,9,  2339.9,2,  2413.2,2,    7.534,2,    25.00, -999.00,9, -999.00,9,      202,   38.05,2,   2.0030,2,       2132
49UP20160703,         P9,      68,          1,         13,        667,2,20160803,       0051,     5.0098,   137.0222,       5092,  2357.4,   1.8649,  34.6545,2,  34.6544,2,    127.0,2,  126.90,2,  141.32,2,    0.00,2,   2.620,2,   0.000,2,   0.000,2,   0.007,2,  2335.9,2,  2414.3,2,    7.542,2,    25.00, -999.00,9, -999.00,9,      157,   37.53,2,   1.8650,2,       2331
49UP20160703,         P9,      68,          1,         12,        074,2,20160803,       0051,     5.0098,   137.0222,       5092,  2561.6,   1.7438,  34.6613,2,  34.6618,2,    133.5,2,  133.45,2,  142.39,2,    0.00,2,   2.580,2,-999.000,9,-999.000,9,-999.000,9,  2335.3,6,  2414.9,6,   7.5494,2,    25.00, -999.00,9, -999.00,9,      152,   37.15,2,   1.7439,2,       2532
49UP20160703,         P9,      68,          1,         11,        268,2,20160803,       0051,     5.0098,   137.0222,       5092,  2765.0,   1.6290,  34.6683,2,  34.6687,2,    139.9,2,  140.00,2,  142.61,2,    0.00,2,   2.540,2,-999.000,9,-999.000,9,-999.000,9,  2333.9,2,  2415.7,2,   7.5614,2,    25.00, -999.00,9, -999.00,9,      147,   36.68,2,   1.6290,2,       2732
49UP20160703,         P9,      68,          1,         10,        267,2,20160803,       0051,     5.0098,   137.0222,       5092,  2969.6,   1.6014,  34.6710,2,  34.6710,2,    142.5,2,  142.99,2,  142.62,2,    0.00,2,   2.530,2,   0.000,2,   0.000,2,   0.008,2,  2329.1,2,  2416.9,2,   7.5658,6,    25.00, -999.00,9, -999.00,9,      142,   36.48,2,   1.6014,2,       2932
49UP20160703,         P9,      68,          1,          9,        518,2,20160803,       0051,     5.0098,   137.0222,       5092,  3214.2,   1.5758,  34.6739,2,  34.6738,2,    145.3,2,  145.77,2,  142.69,2,    0.00,2,   2.510,2,-999.000,9,-999.000,9,-999.000,9,  2327.4,2,  2416.5,2,   7.5711,2,    25.00, -999.00,9, -999.00,9,      136,   36.35,2,   1.5757,2,       3172
49UP20160703,         P9,      68,          1,          8,        470,2,20160803,       0051,     5.0098,   137.0222,       5092,  3468.1,   1.5482,  34.6775,2,  34.6775,2,    148.6,2,  148.72,6,  142.17,6,    0.00,6,   2.510,6,   0.001,2,   0.000,2,   0.004,2,  2327.8,2,  2416.8,2,    7.577,2,    25.00, -999.00,9, -999.00,9,      131,   36.10,6,   1.5481,2,       3421
49UP20160703,         P9,      68,          1,          7,        516,2,20160803,       0051,     5.0098,   137.0222,       5092,  3723.7,   1.5174,  34.6816,2,  34.6810,6,    152.5,2,  152.55,2,  141.72,2,    0.00,2,   2.480,2,-999.000,9,-999.000,9,-999.000,9,  2324.0,2,  2417.8,2,   7.5816,2,    25.00, -999.00,9, -999.00,9,      125,   35.91,2,   1.5176,2,       3671
49UP20160703,         P9,      68,          1,          6,        113,2,20160803,       0051,     5.0098,   137.0222,       5092,  3980.4,   1.5070,  34.6845,2,  34.6844,2,    155.6,2,  155.38,2,  140.97,2,    0.00,2,   2.470,2,   0.000,2,   0.000,2,   0.006,2,  2322.6,2,  2414.6,2,    7.587,2,    25.00, -999.00,9, -999.00,9,      119,   35.67,2,   1.5072,2,       3922
49UP20160703,         P9,      68,          1,          5,        658,2,20160803,       0051,     5.0098,   137.0222,       5092,  4236.8,   1.5078,  34.6864,2,  34.6859,2,    158.0,2,  157.77,2,  140.35,2,    0.00,2,   2.450,2,-999.000,9,-999.000,9,-999.000,9,  2320.5,2,  2415.1,2,   7.5891,2,    25.00, -999.00,9, -999.00,9,      114,   35.56,2,   1.5079,2,       4172
49UP20160703,         P9,      68,          1,          4,        471,2,20160803,       0051,     5.0098,   137.0222,       5092,  4492.4,   1.5181,  34.6877,2,  34.6876,2,    159.9,2,  159.86,2,  139.77,2,    0.00,2,   2.440,2,   0.000,2,   0.000,2,   0.005,2,  2319.2,6,  2413.4,6,   7.5915,2,    25.00, -999.00,9, -999.00,9,      107,   35.40,2,   1.5182,2,       4421
49UP20160703,         P9,      68,          1,          3,        104,2,20160803,       0051,     5.0098,   137.0222,       5092,  4749.8,   1.5418,  34.6880,2,  34.6884,2,    160.6,2,  160.53,2,  139.53,2,    0.00,2,   2.440,2,-999.000,9,-999.000,9,-999.000,9,  2317.6,2,  2413.8,2,   7.5904,2,    25.00, -999.00,9, -999.00,9,      102,   35.37,2,   1.5421,2,       4672
49UP20160703,         P9,      68,          1,          2,        075,2,20160803,       0051,     5.0098,   137.0222,       5092,  5007.1,   1.5676,  34.6883,2,  34.6886,2,    161.1,2,  161.39,2,  139.15,2,    0.00,2,   2.440,2,   0.000,2,   0.000,2,   0.006,2,  2314.6,2,  2412.0,2,   7.5897,2,    25.00, -999.00,9, -999.00,9,       56,   35.32,2,   1.5676,2,       4922
49UP20160703,         P9,      68,          1,          1,        997,2,20160803,       0051,     5.0098,   137.0222,       5092,  5183.2,   1.5882,  34.6883,2,  34.6891,2,    161.5,2,  161.19,2,  139.26,2,    0.00,2,   2.440,2,   0.005,2,   0.001,2,   0.005,2,  2317.8,2,  2412.1,2,   7.5909,6,    25.00, -999.00,9, -999.00,9,       52,   35.35,2,   1.5883,2,       5093