BOTTLE,20230712CCHSIOENA
EXPOCODE,SECT_ID,STNNBR,CASTNO,SAMPNO,BTLNBR,BTLNBR_FLAG_W,DATE,TIME,LATITUDE,LONGITUDE,DEPTH,CTDPRS,CTDTMP,CTDSAL,CTDSAL_FLAG_W,SALNTY,SALNTY_FLAG_W,CTDOXY,CTDOXY_FLAG_W,OXYGEN,OXYGEN_FLAG_W,SILCAT,SILCAT_FLAG_W,NITRIT,NITRIT_FLAG_W,PHSPHT,PHSPHT_FLAG_W,CFC-11,CFC-11_FLAG_W,CFC-12,CFC-12_FLAG_W,CFC113,CFC113_FLAG_W,TCARBN,TCARBN_FLAG_W,ALKALI,ALKALI_FLAG_W,PH_TOT,PH_TOT_FLAG_W,PH_TMP,CHLORA,CHLORA_FLAG_W,PPHYTN,PPHYTN_FLAG_W,BTL_TIME,NO2+NO3,NO2+NO3_FLAG_W,SBE35,SBE35_FLAG_W,CTDDEPTH
,,,,,,,,,,,METERS,DBAR,ITS-90,PSS-78,,PSS-78,,UMOL/KG,,UMOL/KG,,UMOL/KG,,UMOL/KG,,UMOL/KG,,PMOL/KG,,PMOL/KG,,PMOL/KG,,UMOL/KG,,UMOL/KG,,,,DEG C,UG/KG,,UG/KG,,,UMOL/KG,,ITS-90,,METERS
49UP20160703,         P9,      88,          1,          0,        BUC,2,20160810,       0041,    -1.0125,   142.0047,       3056,     0.0,  29.9574,  33.9278,2,  33.9399,2,    197.6,2,  196.87,2,    1.11,2,    0.00,2,   0.100,2,-999.000,9,-999.000,9,-999.000,9,  1897.4,2,  2230.5,2,   8.1394,2,    25.00,    1.68,2,    0.33,2,      142,    0.05,2,-999.0000,9,          0
49UP20160703,         P9,      88,          1,         36,        109,2,20160810,       0041,    -1.0125,   142.0047,       3056,    10.9,  29.9013,  33.9433,2,  33.9477,2,    197.7,2,  197.39,2,    1.11,2,    0.00,2,   0.080,2,   1.454,2,   0.939,2,   0.116,2,  1897.8,2,  2233.9,2,   8.1378,2,    25.00,    0.68,2,    0.58,2,      215,    0.05,2,  29.9017,2,         11
49UP20160703,         P9,      88,          1,         35,        112,2,20160810,       0041,    -1.0125,   142.0047,       3056,    26.3,  30.0244,  34.0530,2,  34.0552,2,    196.6,2,  197.00,2,    1.06,2,    0.00,2,   0.090,4,   1.461,2,   0.946,2,   0.118,2,  1905.1,2,  2241.3,2,   8.1365,6,    25.00,    0.24,2,    0.08,2,      214,    0.05,2,  30.0245,2,         26
49UP20160703,         P9,      88,          1,         34,        094,2,20160810,       0041,    -1.0125,   142.0047,       3056,    50.8,  29.9948,  34.0783,2,  34.0781,2,    196.7,2,  198.29,2,    1.07,2,    0.00,2,   0.090,4,   1.462,2,   0.948,2,   0.116,2,  1906.7,2,  2242.8,2,   8.1355,2,    25.00,    0.29,2,    0.10,2,      211,    0.03,2,  29.9936,2,         51
49UP20160703,         P9,      88,          1,         32,        089,2,20160810,       0041,    -1.0125,   142.0047,       3056,    75.9,  29.7221,  34.2182,2,  34.2239,2,    196.8,2,  196.91,2,    1.16,2,    0.00,2,   0.080,2,   1.498,2,   0.956,2,   0.121,2,  1918.8,2,  2251.1,2,   8.1278,2,    25.00,    0.27,2,    0.14,2,      209,    0.03,2,  29.7185,2,         75
49UP20160703,         P9,      88,          1,         31,        515,2,20160810,       0041,    -1.0125,   142.0047,       3056,   101.0,  27.5771,  34.8766,2,  34.9118,4,    185.9,2,  184.50,2,    1.20,2,    0.19,2,   0.180,2,   1.604,2,   1.028,2,   0.093,2,  1983.0,2,  2294.9,2,   8.0778,2,    25.00,    0.37,2,    0.47,2,      208,    0.86,2,  27.5709,2,        100
49UP20160703,         P9,      88,          1,         30,        097,2,20160810,       0041,    -1.0125,   142.0047,       3056,   126.5,  22.7010,  35.4783,2,  35.4738,2,    145.5,2,  145.07,2,    2.71,2,    0.03,2,   0.660,2,-999.000,9,-999.000,9,-999.000,9,  2084.2,2,  2327.8,2,    7.943,2,    25.00, -999.00,9, -999.00,9,      206,    7.65,2,  22.7109,2,        126
49UP20160703,         P9,      88,          1,         29,        102,2,20160810,       0041,    -1.0125,   142.0047,       3056,   126.7,  22.6227,  35.4751,2,  35.4721,2,    146.3,2,  145.11,2,    2.74,2,    0.03,2,   0.660,2,   1.859,2,   1.169,2,   0.034,2,  2087.8,2,  2329.7,2,   7.9454,2,    25.00,    0.05,2,    0.19,2,      206,    7.73,2,  22.6456,2,        126
49UP20160703,         P9,      88,          1,         27,        998,2,20160810,       0041,    -1.0125,   142.0047,       3056,   151.6,  20.8348,  35.4585,2,  35.4584,2,    139.9,2,  140.32,2,    3.80,2,    0.01,2,   0.800,2,   1.950,6,   1.215,6,   0.022,6,  2110.2,2,  2330.9,2,   7.9028,2,    25.00,    0.02,2,    0.07,2,      204,    9.73,2,  20.8323,2,        151
49UP20160703,         P9,      88,          1,         26,        084,2,20160810,       0041,    -1.0125,   142.0047,       3056,   202.4,  16.9208,  35.3108,2,  35.3057,2,    145.0,2,  144.70,6,    5.82,6,    0.01,6,   1.010,6,   2.045,2,   1.257,2,   0.019,2,  2133.2,2,  2325.2,2,   7.8352,2,    25.00,    0.00,2,    0.03,2,      202,   12.93,6,  16.9227,2,        201
49UP20160703,         P9,      88,          1,         25,        098,2,20160810,       0041,    -1.0125,   142.0047,       3056,   253.2,  14.8714,  35.1391,2,  35.1358,6,    147.2,2,  146.67,2,    7.99,2,    0.00,2,   1.170,2,   2.020,2,   1.173,2,   0.014,2,  2149.1,2,  2315.8,2,   7.7939,2,    25.00, -999.00,9, -999.00,9,      200,   15.41,2,  14.8692,2,        252
49UP20160703,         P9,      88,          1,         24,        110,2,20160810,       0041,    -1.0125,   142.0047,       3056,   333.1,  10.6248,  34.7613,2,  34.7612,2,    120.4,2,  120.28,2,   20.85,2,    0.00,2,   1.780,2,   1.456,2,   0.798,2,   0.013,2,  2194.6,6,  2304.6,6,   7.6546,2,    25.00, -999.00,9, -999.00,9,      158,   25.06,2,  10.6245,2,        331
49UP20160703,         P9,      88,          1,         23,        679,2,20160810,       0041,    -1.0125,   142.0047,       3056,   382.6,  10.0902,  34.7237,2,  34.7218,2,    103.6,2,  103.42,2,   24.19,2,    0.00,2,   1.960,2,-999.000,9,-999.000,9,-999.000,9,  2209.8,2,  2302.9,2,   7.6093,2,    25.00, -999.00,9, -999.00,9,      156,   27.85,2,  10.0905,2,        380
49UP20160703,         P9,      88,          1,         21,        078,2,20160810,       0041,    -1.0125,   142.0047,       3056,   432.8,   9.4153,  34.6784,2,  34.6791,2,    124.6,2,  124.23,2,   23.42,2,    0.00,2,   1.910,2,   1.272,2,   0.690,2,   0.006,2,  2201.8,2,  2304.2,2,   7.6287,2,    25.00, -999.00,9, -999.00,9,      155,   27.20,2,   9.4109,2,        430
49UP20160703,         P9,      88,          1,         22,        111,2,20160810,       0041,    -1.0125,   142.0047,       3056,   433.1,   9.4057,  34.6780,2,  34.6786,2,    124.4,2,  124.13,2,   23.42,2,    0.00,2,   1.910,2,-999.000,9,-999.000,9,-999.000,9,  2200.1,2,  2302.4,2,   7.6272,2,    25.00, -999.00,9, -999.00,9,      155,   27.19,2,   9.4099,2,        430
49UP20160703,         P9,      88,          1,         20,        093,2,20160810,       0041,    -1.0125,   142.0047,       3056,   484.0,   8.8015,  34.6342,2,  34.6333,2,    111.5,2,  112.71,2,   28.99,2,    0.00,2,   2.060,2,-999.000,9,-999.000,9,-999.000,9,  2219.8,2,  2304.6,2,   7.5947,2,    25.00, -999.00,9, -999.00,9,      153,   29.48,2,   8.8010,2,        481
49UP20160703,         P9,      88,          1,         19,        269,2,20160810,       0041,    -1.0125,   142.0047,       3056,   533.7,   7.9794,  34.5845,2,  34.5806,4,    141.0,2,  147.98,2,   26.02,2,    0.00,2,   1.950,2,   1.177,2,   0.619,2,   0.014,2,  2207.5,2,  2303.7,2,   7.6327,2,    25.00, -999.00,9, -999.00,9,      151,   27.90,2,   7.9743,2,        530
49UP20160703,         P9,      88,          1,         18,        088,2,20160810,       0041,    -1.0125,   142.0047,       3056,   634.8,   6.2201,  34.4967,2,  34.4985,2,    158.1,2,  157.62,2,   36.38,6,    0.00,6,   2.120,6,   0.800,2,   0.405,2,   0.010,2,  2214.2,2,  2310.6,2,   7.6168,2,    25.00, -999.00,9, -999.00,9,      148,   30.33,6,   6.2217,2,        630
49UP20160703,         P9,      88,          1,         17,        090,2,20160810,       0041,    -1.0125,   142.0047,       3056,   735.7,   5.6006,  34.5178,2,  34.5186,6,    123.4,2,  122.92,2,   53.42,2,    0.00,2,   2.430,2,   0.319,2,   0.162,2,   0.000,2,  2250.3,2,  2324.3,2,   7.5558,2,    25.00, -999.00,9, -999.00,9,      146,   34.60,2,   5.6000,2,        730
49UP20160703,         P9,      88,          1,         16,        474,2,20160810,       0041,    -1.0125,   142.0047,       3056,   837.1,   4.9497,  34.5243,2,  34.5256,2,    121.7,2,  127.40,2,   65.24,2,    0.00,2,   2.510,2,   0.210,2,   0.105,2,   0.000,2,  2265.1,2,  2335.7,2,   7.5494,6,    25.00, -999.00,9, -999.00,9,      143,   35.48,2,   4.9496,2,        831
49UP20160703,         P9,      88,          1,         14,        999,2,20160810,       0041,    -1.0125,   142.0047,       3056,   937.3,   4.4667,  34.5365,2,  34.5366,2,    119.6,2,  119.27,2,   75.79,2,    0.00,2,   2.560,2,   0.133,2,   0.064,2,   0.000,2,  2282.8,2,  2348.3,2,   7.5413,2,    25.00, -999.00,9, -999.00,9,      140,   36.13,2,   4.4665,2,        930
49UP20160703,         P9,      88,          1,         15,        665,2,20160810,       0041,    -1.0125,   142.0047,       3056,   937.4,   4.4654,  34.5365,2,  34.5372,2,    119.6,2,  119.37,2,   75.70,2,    0.00,2,   2.560,2,-999.000,9,-999.000,9,-999.000,9,  2279.5,2,  2350.6,2,   7.5404,2,    25.00, -999.00,9, -999.00,9,      140,   36.15,2,   4.4658,2,        930
49UP20160703,         P9,      88,          1,         13,        667,2,20160810,       0041,    -1.0125,   142.0047,       3056,  1079.6,   4.0913,  34.5582,2,  34.5587,2,    105.6,2,  105.40,6,   89.44,6,    0.00,6,   2.690,6,   0.050,2,   0.027,2,   0.000,2,  2301.0,2,  2362.2,2,   7.5207,2,    25.00, -999.00,9, -999.00,9,      133,   37.74,6,   4.0929,2,       1071
49UP20160703,         P9,      88,          1,         12,        074,2,20160810,       0041,    -1.0125,   142.0047,       3056,  1281.9,   3.4287,  34.5837,2,  34.5836,6,    102.5,2,  102.52,2,  106.79,2,    0.00,2,   2.740,2,   0.019,2,   0.005,2,   0.000,2,  2320.6,2,  2378.9,2,   7.5133,2,    25.00, -999.00,9, -999.00,9,      128,   38.51,2,   3.4290,2,       1271
49UP20160703,         P9,      88,          1,         11,        268,2,20160810,       0041,    -1.0125,   142.0047,       3056,  1484.6,   2.9245,  34.6030,2,  34.6036,2,    109.1,2,  109.58,2,  116.96,2,    0.00,2,   2.720,2,   0.017,6,   0.010,6,   0.001,6,  2325.0,2,  2391.7,6,    7.521,2,    25.00, -999.00,9, -999.00,9,      123,   38.34,2,   2.9241,2,       1471
49UP20160703,         P9,      88,          1,         10,        267,2,20160810,       0041,    -1.0125,   142.0047,       3056,  1686.8,   2.5826,  34.6186,2,  34.6186,2,    113.6,2,  113.96,2,  124.77,2,    0.00,2,   2.710,2,-999.000,9,-999.000,9,-999.000,9,  2330.4,2,  2397.8,2,   7.5261,2,    25.00, -999.00,9, -999.00,9,      116,   38.27,2,   2.5826,2,       1671
49UP20160703,         P9,      88,          1,          9,        518,2,20160810,       0041,    -1.0125,   142.0047,       3056,  1891.1,   2.3797,  34.6286,2,  34.6294,2,    116.1,2,  116.02,2,  130.01,2,    0.00,2,   2.690,2,-999.000,9,-999.000,9,-999.000,9,  2339.3,2,  2404.8,2,   7.5283,6,    25.00, -999.00,9, -999.00,9,      112,   38.17,2,   2.3797,2,       1872
49UP20160703,         P9,      88,          1,          8,        470,2,20160810,       0041,    -1.0125,   142.0047,       3056,  2092.7,   2.0443,  34.6443,2,  34.6463,4,    122.9,2,  122.56,2,  137.49,2,    0.00,2,   2.660,2,   0.002,2,   0.008,2,   0.000,2,  2339.8,6,  2412.1,6,   7.5379,2,    25.00, -999.00,9, -999.00,9,      107,   37.85,2,   2.0442,2,       2071
49UP20160703,         P9,      88,          1,          7,        516,2,20160810,       0041,    -1.0125,   142.0047,       3056,  2295.0,   1.8655,  34.6537,2,  34.6545,2,    129.0,2,  129.04,2,  140.20,2,    0.00,2,   2.630,2,-999.000,9,-999.000,9,-999.000,9,  2339.1,2,  2414.4,2,   7.5471,2,    25.00, -999.00,9, -999.00,9,       59,   37.49,2,   1.8656,2,       2270
49UP20160703,         P9,      88,          1,          6,        113,2,20160810,       0041,    -1.0125,   142.0047,       3056,  2498.3,   1.7957,  34.6582,2,  34.6578,2,    132.2,2,  132.06,2,  141.28,2,    0.00,2,   2.610,2,   0.000,2,   0.000,2,   0.000,2,  2345.0,2,  2417.7,2,   7.5529,2,    25.00, -999.00,9, -999.00,9,       54,   37.30,2,   1.7959,2,       2470
49UP20160703,         P9,      88,          1,          4,        471,2,20160810,       0041,    -1.0125,   142.0047,       3056,  2702.3,   1.6760,  34.6657,2,  34.6656,2,    138.2,2,  138.11,2,  141.92,2,    0.00,2,   2.580,2,-999.000,9,-999.000,9,-999.000,9,  2336.2,2,  2418.1,2,   7.5616,2,    25.00, -999.00,9, -999.00,9,       50,   36.88,2,   1.6761,2,       2670
49UP20160703,         P9,      88,          1,          5,        658,2,20160810,       0041,    -1.0125,   142.0047,       3056,  2702.4,   1.6760,  34.6656,2,  34.6662,2,    138.2,2,  138.07,2,  141.89,2,    0.00,2,   2.570,2,-999.000,9,-999.000,9,-999.000,9,  2335.4,2,  2418.1,2,    7.561,2,    25.00, -999.00,9, -999.00,9,       50,   36.90,2,   1.6761,2,       2670
49UP20160703,         P9,      88,          1,          2,        075,2,20160810,       0041,    -1.0125,   142.0047,       3056,  2905.9,   1.6122,  34.6702,2,  34.6715,2,    141.8,2,  141.67,6,  142.51,6,    0.00,6,   2.560,6,-999.000,9,-999.000,9,-999.000,9,  2336.1,2,  2420.1,2,   7.5692,2,    25.00, -999.00,9, -999.00,9,       45,   36.69,6,   1.6121,2,       2870
49UP20160703,         P9,      88,          1,          1,        997,2,20160810,       0041,    -1.0125,   142.0047,       3056,  3056.9,   1.5808,  34.6725,2,  34.6735,6,    144.4,2,  144.42,2,  142.76,2,    0.00,2,   2.540,2,   0.006,2,   0.005,2,   0.000,2,  2336.7,2,  2419.9,2,   7.5726,2,    25.00, -999.00,9, -999.00,9,       42,   36.53,2,   1.5808,2,       3018