BOTTLE,20230712CCHSIOENA
EXPOCODE,SECT_ID,STNNBR,CASTNO,SAMPNO,BTLNBR,BTLNBR_FLAG_W,DATE,TIME,LATITUDE,LONGITUDE,DEPTH,CTDPRS,CTDTMP,CTDSAL,CTDSAL_FLAG_W,SALNTY,SALNTY_FLAG_W,CTDOXY,CTDOXY_FLAG_W,OXYGEN,OXYGEN_FLAG_W,SILCAT,SILCAT_FLAG_W,NITRIT,NITRIT_FLAG_W,PHSPHT,PHSPHT_FLAG_W,CFC-11,CFC-11_FLAG_W,CFC-12,CFC-12_FLAG_W,CFC113,CFC113_FLAG_W,TCARBN,TCARBN_FLAG_W,ALKALI,ALKALI_FLAG_W,PH_TOT,PH_TOT_FLAG_W,PH_TMP,CHLORA,CHLORA_FLAG_W,PPHYTN,PPHYTN_FLAG_W,BTL_TIME,NO2+NO3,NO2+NO3_FLAG_W,SBE35,SBE35_FLAG_W,CTDDEPTH
,,,,,,,,,,,METERS,DBAR,ITS-90,PSS-78,,PSS-78,,UMOL/KG,,UMOL/KG,,UMOL/KG,,UMOL/KG,,UMOL/KG,,PMOL/KG,,PMOL/KG,,PMOL/KG,,UMOL/KG,,UMOL/KG,,,,DEG C,UG/KG,,UG/KG,,,UMOL/KG,,ITS-90,,METERS
49UP20160703,         P9,      13,          1,          0,        BUC,2,20160707,       1354,     30.334,   136.9867,       4375,     0.0,  27.8952,  34.4069,2,-999.0000,9,    204.9,2,  204.08,2,    1.55,2,    0.00,2,   0.010,2,-999.000,9,-999.000,9,-999.000,9,  -999.0,9,  -999.0,9,-999.0000,9,  -999.00, -999.00,9, -999.00,9,     1525,    0.03,2,-999.0000,9,          0
49UP20160703,         P9,      13,          1,         36,        109,2,20160707,       1354,     30.334,   136.9867,       4375,    10.0,  27.2378,  34.3929,2,  34.4013,4,    205.8,2,  205.09,2,    1.53,2,    0.00,2,   0.010,2,-999.000,9,-999.000,9,-999.000,9,  -999.0,9,  -999.0,9,-999.0000,9,  -999.00, -999.00,9, -999.00,9,     1547,    0.00,2,  27.2195,2,         10
49UP20160703,         P9,      13,          1,         35,        112,2,20160707,       1354,     30.334,   136.9867,       4375,    25.2,  23.4924,  34.6497,2,  34.6395,4,    224.1,2,  223.64,6,    1.55,6,    0.00,6,   0.010,6,-999.000,9,-999.000,9,-999.000,9,  -999.0,9,  -999.0,9,-999.0000,9,  -999.00, -999.00,9, -999.00,9,     1546,    0.01,6,  23.5108,2,         25
49UP20160703,         P9,      13,          1,         34,        094,2,20160707,       1354,     30.334,   136.9867,       4375,    50.3,  20.8107,  34.8542,2,  34.8566,2,    237.0,2,  236.46,2,    1.65,2,    0.00,2,   0.010,2,-999.000,9,-999.000,9,-999.000,9,  -999.0,9,  -999.0,9,-999.0000,9,  -999.00, -999.00,9, -999.00,9,     1544,    0.00,2,  20.8007,2,         50
49UP20160703,         P9,      13,          1,         33,        469,2,20160707,       1354,     30.334,   136.9867,       4375,    76.5,  19.8808,  34.8869,2,  34.8872,2,    229.4,2,  229.37,2,    1.68,2,    0.00,2,   0.020,2,-999.000,9,-999.000,9,-999.000,9,  -999.0,9,  -999.0,9,-999.0000,9,  -999.00, -999.00,9, -999.00,9,     1543,    0.00,2,  19.8818,2,         76
49UP20160703,         P9,      13,          1,         32,        089,2,20160707,       1354,     30.334,   136.9867,       4375,   101.2,  19.6049,  34.8959,2,  34.8960,2,    220.4,2,  219.93,2,    1.78,2,    0.06,2,   0.060,2,-999.000,9,-999.000,9,-999.000,9,  -999.0,9,  -999.0,9,-999.0000,9,  -999.00, -999.00,9, -999.00,9,     1541,    0.51,2,  19.6045,2,        100
49UP20160703,         P9,      13,          1,         31,        515,2,20160707,       1354,     30.334,   136.9867,       4375,   124.8,  19.4689,  34.8935,2,  34.8929,2,    215.5,2,  215.44,2,    1.94,2,    0.03,2,   0.100,2,-999.000,9,-999.000,9,-999.000,9,  -999.0,9,  -999.0,9,-999.0000,9,  -999.00, -999.00,9, -999.00,9,     1540,    1.40,2,  19.4687,2,        124
49UP20160703,         P9,      13,          1,         30,        097,2,20160707,       1354,     30.334,   136.9867,       4375,   151.7,  19.3926,  34.8942,2,  34.8931,2,    215.9,2,  215.71,2,    2.01,2,    0.02,2,   0.110,2,-999.000,9,-999.000,9,-999.000,9,  -999.0,9,  -999.0,9,-999.0000,9,  -999.00, -999.00,9, -999.00,9,     1538,    1.48,2,  19.3923,2,        151
49UP20160703,         P9,      13,          1,         29,        102,2,20160707,       1354,     30.334,   136.9867,       4375,   201.4,  19.0518,  34.8666,2,  34.8670,2,    213.1,2,  213.44,2,    2.22,2,    0.01,2,   0.150,2,-999.000,9,-999.000,9,-999.000,9,  -999.0,9,  -999.0,9,-999.0000,9,  -999.00, -999.00,9, -999.00,9,     1537,    1.94,2,  19.0512,2,        200
49UP20160703,         P9,      13,          1,         28,        472,2,20160707,       1354,     30.334,   136.9867,       4375,   252.4,  18.5002,  34.8346,2,  34.8339,2,    216.2,2,  216.14,2,    2.66,2,    0.01,2,   0.170,2,-999.000,9,-999.000,9,-999.000,9,  -999.0,9,  -999.0,9,-999.0000,9,  -999.00, -999.00,9, -999.00,9,     1535,    2.33,2,  18.5010,2,        251
49UP20160703,         P9,      13,          1,         27,        998,2,20160707,       1354,     30.334,   136.9867,       4375,   302.0,  18.1442,  34.8092,2,  34.8081,2,    212.2,2,  211.98,2,    3.17,2,    0.01,2,   0.210,2,-999.000,9,-999.000,9,-999.000,9,  -999.0,9,  -999.0,9,-999.0000,9,  -999.00, -999.00,9, -999.00,9,     1534,    3.12,2,  18.1383,2,        300
49UP20160703,         P9,      13,          1,         26,        084,2,20160707,       1354,     30.334,   136.9867,       4375,   403.1,  16.9165,  34.7139,2,  34.7137,2,    204.6,2,  204.85,2,    4.90,2,    0.00,2,   0.360,2,-999.000,9,-999.000,9,-999.000,9,  -999.0,9,  -999.0,9,-999.0000,9,  -999.00, -999.00,9, -999.00,9,     1531,    5.39,2,  16.9148,2,        400
49UP20160703,         P9,      13,          1,         25,        098,2,20160707,       1354,     30.334,   136.9867,       4375,   404.3,  16.9134,  34.7137,2,  34.7134,2,    204.5,2,  204.84,2,    4.91,2,    0.00,2,   0.360,2,-999.000,9,-999.000,9,-999.000,9,  -999.0,9,  -999.0,9,-999.0000,9,  -999.00, -999.00,9, -999.00,9,     1531,    5.40,2,  16.9131,2,        401
49UP20160703,         P9,      13,          1,         24,        110,2,20160707,       1354,     30.334,   136.9867,       4375,   503.9,  15.3482,  34.5864,2,  34.5856,2,    190.7,2,  191.01,2,    9.75,2,    0.00,2,   0.630,2,-999.000,9,-999.000,9,-999.000,9,  -999.0,9,  -999.0,9,-999.0000,9,  -999.00, -999.00,9, -999.00,9,     1529,    9.20,2,  15.3419,2,        500
49UP20160703,         P9,      13,          1,         23,        679,2,20160707,       1354,     30.334,   136.9867,       4375,   605.7,  12.9271,  34.4182,2,  34.4191,2,    177.6,2,  178.03,2,   18.46,2,    0.00,2,   1.000,2,-999.000,9,-999.000,9,-999.000,9,  -999.0,9,  -999.0,9,-999.0000,9,  -999.00, -999.00,9, -999.00,9,     1526,   14.26,2,  12.9302,2,        601
49UP20160703,         P9,      13,          1,         22,        111,3,20160707,       1354,     30.334,   136.9867,       4375,   706.9,  10.4320,  34.2695,2,  34.2703,2,    160.4,2,  160.65,2,   31.31,2,    0.00,2,   1.420,2,-999.000,9,-999.000,9,-999.000,9,  -999.0,9,  -999.0,9,-999.0000,9,  -999.00, -999.00,9, -999.00,9,     1524,   19.99,2,  10.4306,2,        701
49UP20160703,         P9,      13,          1,         21,        078,2,20160707,       1354,     30.334,   136.9867,       4375,   808.2,   7.8022,  34.1519,2,  34.1515,2,    136.8,2,  136.58,2,   51.48,2,    0.00,2,   1.930,2,-999.000,9,-999.000,9,-999.000,9,  -999.0,9,  -999.0,9,-999.0000,9,  -999.00, -999.00,9, -999.00,9,     1521,   26.83,2,   7.8107,2,        801
49UP20160703,         P9,      13,          1,         20,        093,2,20160707,       1354,     30.334,   136.9867,       4375,   909.6,   6.1967,  34.1928,2,  34.1942,2,     99.9,2,   99.33,2,   74.25,2,    0.00,2,   2.370,2,-999.000,9,-999.000,9,-999.000,9,  -999.0,9,  -999.0,9,-999.0000,9,  -999.00, -999.00,9, -999.00,9,     1519,   32.83,2,   6.1962,2,        901
49UP20160703,         P9,      13,          1,         19,        269,2,20160707,       1354,     30.334,   136.9867,       4375,  1010.3,   5.1026,  34.2741,2,  34.2744,2,     76.5,2,   76.84,2,   93.51,2,    0.00,2,   2.640,2,-999.000,9,-999.000,9,-999.000,9,  -999.0,9,  -999.0,9,-999.0000,9,  -999.00, -999.00,9, -999.00,9,     1516,   36.59,2,   5.1103,2,       1001
49UP20160703,         P9,      13,          1,         18,        088,2,20160707,       1354,     30.334,   136.9867,       4375,  1213.9,   3.7320,  34.3778,2,  34.3775,2,     60.2,2,   60.14,2,  120.06,2,    0.00,2,   2.880,2,-999.000,9,-999.000,9,-999.000,9,  -999.0,9,  -999.0,9,-999.0000,9,  -999.00, -999.00,9, -999.00,9,     1510,   39.98,2,   3.7332,2,       1202
49UP20160703,         P9,      13,          1,         17,        090,2,20160707,       1354,     30.334,   136.9867,       4375,  1415.5,   3.0630,  34.4558,2,  34.4560,6,     63.7,2,   63.60,2,  133.69,2,    0.00,2,   2.900,2,-999.000,9,-999.000,9,-999.000,9,  -999.0,9,  -999.0,9,-999.0000,9,  -999.00, -999.00,9, -999.00,9,     1506,   40.62,2,   3.0627,2,       1401
49UP20160703,         P9,      13,          1,         16,        474,2,20160707,       1354,     30.334,   136.9867,       4375,  1618.5,   2.6038,  34.5146,2,  34.5144,2,     74.0,2,   74.20,6,  141.51,6,    0.00,6,   2.880,6,-999.000,9,-999.000,9,-999.000,9,  -999.0,9,  -999.0,9,-999.0000,9,  -999.00, -999.00,9, -999.00,9,     1501,   40.34,6,   2.6032,2,       1601
49UP20160703,         P9,      13,          1,         15,        665,2,20160707,       1354,     30.334,   136.9867,       4375,  1821.2,   2.3284,  34.5537,2,  34.5533,2,     86.3,2,   86.29,2,  144.61,2,    0.00,2,   2.830,2,-999.000,9,-999.000,9,-999.000,9,  -999.0,9,  -999.0,9,-999.0000,9,  -999.00, -999.00,9, -999.00,9,     1456,   39.82,2,   2.3288,2,       1801
49UP20160703,         P9,      13,          1,         14,        999,2,20160707,       1354,     30.334,   136.9867,       4375,  2023.3,   2.1158,  34.5848,2,  34.5851,2,     98.4,2,   98.30,2,  145.97,2,    0.00,2,   2.770,2,-999.000,9,-999.000,9,-999.000,9,  -999.0,9,  -999.0,9,-999.0000,9,  -999.00, -999.00,9, -999.00,9,     1452,   39.16,2,   2.1159,2,       2000
49UP20160703,         P9,      13,          1,         13,        667,2,20160707,       1354,     30.334,   136.9867,       4375,  2225.9,   1.9441,  34.6103,2,  34.6103,2,    110.4,2,  110.39,2,  145.94,2,    0.00,2,   2.710,2,-999.000,9,-999.000,9,-999.000,9,  -999.0,9,  -999.0,9,-999.0000,9,  -999.00, -999.00,9, -999.00,9,     1447,   38.41,2,   1.9436,2,       2199
49UP20160703,         P9,      13,          1,         12,        074,2,20160707,       1354,     30.334,   136.9867,       4375,  2226.6,   1.9434,  34.6106,2,  34.6104,2,    110.4,2,  110.28,2,  146.05,2,    0.00,2,   2.720,2,-999.000,9,-999.000,9,-999.000,9,  -999.0,9,  -999.0,9,-999.0000,9,  -999.00, -999.00,9, -999.00,9,     1447,   38.52,2,   1.9433,2,       2200
49UP20160703,         P9,      13,          1,         11,        268,2,20160707,       1354,     30.334,   136.9867,       4375,  2430.7,   1.8210,  34.6293,2,  34.6290,6,    120.4,2,  120.56,2,  145.38,2,    0.00,2,   2.670,2,-999.000,9,-999.000,9,-999.000,9,  -999.0,9,  -999.0,9,-999.0000,9,  -999.00, -999.00,9, -999.00,9,     1442,   37.87,2,   1.8209,2,       2400
49UP20160703,         P9,      13,          1,         10,        267,2,20160707,       1354,     30.334,   136.9867,       4375,  2634.9,   1.7187,  34.6448,2,  34.6447,2,    128.8,2,  128.87,6,  144.78,6,    0.00,6,   2.630,6,-999.000,9,-999.000,9,-999.000,9,  -999.0,9,  -999.0,9,-999.0000,9,  -999.00, -999.00,9, -999.00,9,     1437,   37.37,6,   1.7186,2,       2601
49UP20160703,         P9,      13,          1,          9,        518,2,20160707,       1354,     30.334,   136.9867,       4375,  2838.4,   1.6534,  34.6550,2,  34.6552,2,    135.8,2,  135.84,2,  143.90,2,    0.00,2,   2.590,2,-999.000,9,-999.000,9,-999.000,9,  -999.0,9,  -999.0,9,-999.0000,9,  -999.00, -999.00,9, -999.00,9,     1432,   36.98,2,   1.6535,2,       2800
49UP20160703,         P9,      13,          1,          8,        470,2,20160707,       1354,     30.334,   136.9867,       4375,  3043.7,   1.5915,  34.6644,2,  34.6642,2,    142.1,2,  142.59,2,  143.14,2,    0.00,2,   2.560,2,-999.000,9,-999.000,9,-999.000,9,  -999.0,9,  -999.0,9,-999.0000,9,  -999.00, -999.00,9, -999.00,9,     1427,   36.54,2,   1.5916,2,       3001
49UP20160703,         P9,      13,          1,          7,        516,2,20160707,       1354,     30.334,   136.9867,       4375,  3299.9,   1.5376,  34.6730,2,  34.6733,2,    148.0,2,  148.15,2,  142.50,2,    0.00,2,   2.530,2,-999.000,9,-999.000,9,-999.000,9,  -999.0,9,  -999.0,9,-999.0000,9,  -999.00, -999.00,9, -999.00,9,     1421,   36.20,2,   1.5375,2,       3252
49UP20160703,         P9,      13,          1,          6,        113,2,20160707,       1354,     30.334,   136.9867,       4375,  3553.5,   1.5194,  34.6778,2,  34.6780,2,    151.4,2,  151.70,2,  141.96,2,    0.00,2,   2.510,2,-999.000,9,-999.000,9,-999.000,9,  -999.0,9,  -999.0,9,-999.0000,9,  -999.00, -999.00,9, -999.00,9,     1415,   36.05,2,   1.5194,2,       3500
49UP20160703,         P9,      13,          1,          5,        658,2,20160707,       1354,     30.334,   136.9867,       4375,  3809.3,   1.5288,  34.6796,2,  34.6797,2,    152.8,2,  152.98,2,  141.79,2,    0.00,2,   2.510,2,-999.000,9,-999.000,9,-999.000,9,  -999.0,9,  -999.0,9,-999.0000,9,  -999.00, -999.00,9, -999.00,9,     1410,   35.88,2,   1.5287,2,       3750
49UP20160703,         P9,      13,          1,          3,        104,2,20160707,       1354,     30.334,   136.9867,       4375,  4066.2,   1.5452,  34.6809,2,  34.6813,2,    153.8,2,  154.12,2,  141.51,2,    0.00,2,   2.500,2,-999.000,9,-999.000,9,-999.000,9,  -999.0,9,  -999.0,9,-999.0000,9,  -999.00, -999.00,9, -999.00,9,     1404,   35.85,2,   1.5453,2,       4000
49UP20160703,         P9,      13,          1,          4,        471,2,20160707,       1354,     30.334,   136.9867,       4375,  4066.6,   1.5454,  34.6809,2,  34.6815,2,    153.8,2,  154.40,2,  141.56,2,    0.00,2,   2.500,2,-999.000,9,-999.000,9,-999.000,9,  -999.0,9,  -999.0,9,-999.0000,9,  -999.00, -999.00,9, -999.00,9,     1404,   35.87,2,   1.5453,2,       4001
49UP20160703,         P9,      13,          1,          2,        075,2,20160707,       1354,     30.334,   136.9867,       4375,  4322.1,   1.5645,  34.6818,2,  34.6825,6,    154.8,2,  154.85,2,  141.14,2,    0.00,2,   2.490,2,-999.000,9,-999.000,9,-999.000,9,  -999.0,9,  -999.0,9,-999.0000,9,  -999.00, -999.00,9, -999.00,9,     1358,   35.79,2,   1.5644,2,       4249
49UP20160703,         P9,      13,          1,          1,        997,2,20160707,       1354,     30.334,   136.9867,       4375,  4483.8,   1.5800,  34.6821,2,  34.6823,2,    155.1,2,  155.30,6,  141.03,6,    0.00,6,   2.490,6,-999.000,9,-999.000,9,-999.000,9,  -999.0,9,  -999.0,9,-999.0000,9,  -999.00, -999.00,9, -999.00,9,     1354,   35.75,6,   1.5800,2,       4407