BOTTLE,20230712CCHSIOENA
EXPOCODE,SECT_ID,STNNBR,CASTNO,SAMPNO,BTLNBR,BTLNBR_FLAG_W,DATE,TIME,LATITUDE,LONGITUDE,DEPTH,CTDPRS,CTDTMP,CTDSAL,CTDSAL_FLAG_W,SALNTY,SALNTY_FLAG_W,CTDOXY,CTDOXY_FLAG_W,OXYGEN,OXYGEN_FLAG_W,SILCAT,SILCAT_FLAG_W,NITRIT,NITRIT_FLAG_W,PHSPHT,PHSPHT_FLAG_W,CFC-11,CFC-11_FLAG_W,CFC-12,CFC-12_FLAG_W,CFC113,CFC113_FLAG_W,TCARBN,TCARBN_FLAG_W,ALKALI,ALKALI_FLAG_W,PH_TOT,PH_TOT_FLAG_W,PH_TMP,CHLORA,CHLORA_FLAG_W,PPHYTN,PPHYTN_FLAG_W,BTL_TIME,NO2+NO3,NO2+NO3_FLAG_W,SBE35,SBE35_FLAG_W,CTDDEPTH
,,,,,,,,,,,METERS,DBAR,ITS-90,PSS-78,,PSS-78,,UMOL/KG,,UMOL/KG,,UMOL/KG,,UMOL/KG,,UMOL/KG,,PMOL/KG,,PMOL/KG,,PMOL/KG,,UMOL/KG,,UMOL/KG,,,,DEG C,UG/KG,,UG/KG,,,UMOL/KG,,ITS-90,,METERS
49UP20160703,         P9,      64,          1,          0,        BUC,2,20160801,       1929,      6.986,   136.9983,       4228,     0.0,  29.8436,  34.1897,2,  34.1934,2,    194.6,2,  194.43,2,    1.42,2,    0.00,2,   0.030,2,-999.000,9,-999.000,9,-999.000,9,  1924.9,2,  2246.8,2,    8.111,2,    25.00,    0.11,2,    0.06,2,     2050,    0.04,2,-999.0000,9,          0
49UP20160703,         P9,      64,          1,         36,        109,2,20160801,       1929,      6.986,   136.9983,       4228,    10.8,  29.8273,  34.1944,2,  34.1949,2,    194.7,2,  194.62,2,    1.39,2,    0.00,2,   0.050,2,   1.490,2,   0.935,2,   0.099,2,  1922.4,2,  2246.3,2,   8.1084,2,    25.00,    0.09,2,    0.05,2,     2118,    0.03,2,  29.8324,2,         11
49UP20160703,         P9,      64,          1,         35,        112,2,20160801,       1929,      6.986,   136.9983,       4228,    25.9,  29.7297,  34.2200,2,  34.2278,2,    195.6,2,  195.60,2,    1.47,2,    0.00,2,   0.040,2,-999.000,9,-999.000,9,-999.000,9,  1927.0,2,  2250.1,2,   8.1134,2,    25.00,    0.10,2,    0.06,2,     2118,    0.05,2,  29.7296,2,         26
49UP20160703,         P9,      64,          1,         34,        094,2,20160801,       1929,      6.986,   136.9983,       4228,    50.0,  27.8052,  34.6992,2,  34.7201,4,    197.5,2,  194.63,2,    1.91,2,    0.01,2,   0.100,2,   1.684,2,   1.036,2,   0.091,2,  1979.7,2,  2282.1,2,   8.0684,2,    25.00,    0.25,2,    0.28,2,     2115,    0.21,2,  27.7802,2,         50
49UP20160703,         P9,      64,          1,         33,        469,2,20160801,       1929,      6.986,   136.9983,       4228,    79.4,  25.1335,  34.8572,2,  34.8671,2,    157.4,2,  157.83,2,    3.92,2,    0.15,2,   0.410,2,-999.000,9,-999.000,9,-999.000,9,  2030.2,2,  2290.4,2,   7.9861,2,    25.00,    0.21,2,    0.37,2,     2114,    5.04,2,  25.1375,2,         79
49UP20160703,         P9,      64,          1,         32,        089,2,20160801,       1929,      6.986,   136.9983,       4228,   103.2,  22.6531,  34.9436,2,  34.9463,2,    172.3,2,  171.52,2,    3.79,2,    0.21,2,   0.350,2,   1.966,2,   1.239,2,   0.083,2,  2045.5,2,  2298.4,2,   7.9652,2,    25.00,    0.10,2,    0.18,2,     2113,    3.73,2,  22.6681,2,        103
49UP20160703,         P9,      64,          1,         31,        515,2,20160801,       1929,      6.986,   136.9983,       4228,   128.7,  19.0717,  34.8021,2,  34.8284,4,    155.4,2,  157.35,2,    7.07,2,    0.04,2,   0.630,2,-999.000,9,-999.000,9,-999.000,9,  2082.2,2,  2293.8,2,   7.8852,6,    25.00,    0.07,2,    0.16,2,     2112,    7.74,2,  19.1460,2,        128
49UP20160703,         P9,      64,          1,         30,        097,2,20160801,       1929,      6.986,   136.9983,       4228,   155.8,  15.9598,  34.6623,2,  34.6834,4,    144.8,2,  148.42,2,   11.12,2,    0.03,2,   0.880,2,   2.258,2,   1.345,2,   0.029,2,  2108.5,2,  2283.8,2,   7.8128,2,    25.00,    0.07,2,    0.13,2,     2110,   11.83,2,  16.0148,2,        155
49UP20160703,         P9,      64,          1,         29,        102,2,20160801,       1929,      6.986,   136.9983,       4228,   205.1,  10.5403,  34.4748,2,  34.4735,2,     99.9,2,  100.41,2,   30.17,2,    0.00,2,   1.840,2,   1.676,2,   0.877,2,   0.010,2,  2197.9,6,  2289.6,6,   7.6112,2,    25.00,    0.00,2,    0.03,2,     2109,   25.47,2,  10.5783,2,        204
49UP20160703,         P9,      64,          1,         28,        472,2,20160801,       1929,      6.986,   136.9983,       4228,   253.9,   9.2096,  34.4968,2,  34.4973,2,     94.7,2,   94.50,2,   37.14,2,    0.00,2,   2.060,2,-999.000,9,-999.000,9,-999.000,9,  2220.7,2,  2300.5,2,   7.5713,2,    25.00, -999.00,9, -999.00,9,     2107,   28.98,2,   9.2108,2,        252
49UP20160703,         P9,      64,          1,         27,        998,2,20160801,       1929,      6.986,   136.9983,       4228,   333.2,   8.3847,  34.5434,2,  34.5435,2,     89.8,2,   89.90,6,   39.63,6,    0.00,6,   2.220,6,   0.832,2,   0.406,2,   0.015,2,  2235.6,2,  2306.0,2,    7.548,2,    25.00, -999.00,9, -999.00,9,     2105,   31.49,6,   8.3856,2,        331
49UP20160703,         P9,      64,          1,         26,        084,2,20160801,       1929,      6.986,   136.9983,       4228,   382.7,   8.0921,  34.5429,2,  34.5446,6,     97.1,2,   97.49,2,   39.79,2,    0.00,2,   2.210,2,-999.000,9,-999.000,9,-999.000,9,  2232.7,2,  2307.3,2,   7.5517,2,    25.00, -999.00,9, -999.00,9,     2103,   31.40,2,   8.0916,2,        380
49UP20160703,         P9,      64,          1,         25,        098,2,20160801,       1929,      6.986,   136.9983,       4228,   433.4,   7.9598,  34.5579,2,  34.5574,2,    101.0,2,  101.40,2,   38.79,2,    0.00,2,   2.210,2,   0.755,2,   0.370,2,   0.003,2,  2229.2,2,  2308.4,2,   7.5593,2,    25.00, -999.00,9, -999.00,9,     2101,   31.50,2,   7.9582,2,        431
49UP20160703,         P9,      64,          1,         24,        110,2,20160801,       1929,      6.986,   136.9983,       4228,   482.8,   7.5268,  34.5473,2,  34.5476,2,    113.7,2,  113.41,2,   39.43,2,    0.00,2,   2.190,2,-999.000,9,-999.000,9,-999.000,9,  2228.1,2,  2308.9,2,   7.5712,2,    25.00, -999.00,9, -999.00,9,     2100,   31.31,2,   7.5271,2,        480
49UP20160703,         P9,      64,          1,         23,        679,2,20160801,       1929,      6.986,   136.9983,       4228,   536.9,   7.2634,  34.5431,2,  34.5432,2,    112.9,2,  113.18,6,   41.39,6,    0.00,6,   2.240,6,-999.000,9,-999.000,9,-999.000,9,  2234.4,2,  2310.1,2,   7.5653,2,    25.00, -999.00,9, -999.00,9,     2058,   31.88,6,   7.2631,2,        533
49UP20160703,         P9,      64,          1,         22,        111,2,20160801,       1929,      6.986,   136.9983,       4228,   637.8,   6.7395,  34.5288,2,  34.5285,6,    102.5,2,  104.32,2,   49.50,2,    0.00,2,   2.370,2,   0.455,2,   0.226,2,   0.009,2,  2243.9,2,  2317.1,2,   7.5445,2,    25.00, -999.00,9, -999.00,9,     2055,   33.54,2,   6.7398,2,        633
49UP20160703,         P9,      64,          1,         21,        078,2,20160801,       1929,      6.986,   136.9983,       4228,   736.2,   6.1432,  34.5269,2,  34.5268,2,     91.7,2,   91.71,2,   61.61,2,    0.00,2,   2.520,2,-999.000,9,-999.000,9,-999.000,9,  2271.9,2,  2329.0,2,   7.5153,2,    25.00, -999.00,9, -999.00,9,     2053,   35.61,2,   6.1435,2,        731
49UP20160703,         P9,      64,          1,         20,        093,2,20160801,       1929,      6.986,   136.9983,       4228,   837.3,   5.5127,  34.5326,2,  34.5323,2,     88.2,2,   88.77,2,   72.07,2,    0.00,2,   2.610,2,   0.156,2,   0.073,2,   0.006,2,  2279.6,2,  2341.2,2,   7.5039,2,    25.00, -999.00,9, -999.00,9,     2050,   36.74,2,   5.5131,2,        831
49UP20160703,         P9,      64,          1,         19,        269,2,20160801,       1929,      6.986,   136.9983,       4228,   938.0,   4.9704,  34.5437,2,  34.5437,2,     86.2,2,   86.89,2,   82.30,2,    0.00,2,   2.680,2,-999.000,9,-999.000,9,-999.000,9,  2293.5,2,  2349.6,2,   7.4944,2,    25.00, -999.00,9, -999.00,9,     2047,   37.70,2,   4.9702,2,        931
49UP20160703,         P9,      64,          1,         18,        088,2,20160801,       1929,      6.986,   136.9983,       4228,  1079.3,   4.3601,  34.5578,2,  34.5574,2,     87.6,2,   87.81,2,   93.76,2,    0.00,2,   2.730,2,   0.046,2,   0.019,2,   0.000,2,  2305.4,2,  2362.8,2,   7.4929,2,    25.00, -999.00,9, -999.00,9,     2043,   38.27,2,   4.3636,2,       1071
49UP20160703,         P9,      64,          1,         17,        090,2,20160801,       1929,      6.986,   136.9983,       4228,  1282.3,   3.5943,  34.5788,2,  34.5787,2,     92.8,2,   92.97,6,  109.35,6,    0.00,6,   2.750,6,   0.016,2,   0.001,2,   0.001,2,  2323.4,2,  2379.1,2,   7.4947,2,    25.00, -999.00,9, -999.00,9,     2038,   38.72,6,   3.5937,2,       1271
49UP20160703,         P9,      64,          1,         16,        474,2,20160801,       1929,      6.986,   136.9983,       4228,  1484.4,   3.1456,  34.5927,2,  34.5930,6,     97.6,2,   97.59,2,  119.14,2,    0.00,2,   2.740,2,   0.014,2,   0.000,2,   0.001,2,  2331.1,2,  2388.9,2,   7.5009,6,    25.00, -999.00,9, -999.00,9,     2034,   38.64,2,   3.1453,2,       1471
49UP20160703,         P9,      64,          1,         15,        665,2,20160801,       1929,      6.986,   136.9983,       4228,  1686.9,   2.7549,  34.6099,2,  34.6096,2,    102.9,2,  102.49,2,  126.85,2,    0.00,2,   2.730,2,-999.000,9,-999.000,9,-999.000,9,  2334.5,6,  2397.2,6,   7.5048,2,    25.00, -999.00,9, -999.00,9,     2028,   38.62,2,   2.7549,2,       1671
49UP20160703,         P9,      64,          1,         14,        999,2,20160801,       1929,      6.986,   136.9983,       4228,  1891.0,   2.4607,  34.6226,2,  34.6222,2,    109.1,2,  109.00,2,  132.76,2,    0.00,2,   2.700,2,-999.000,9,-999.000,9,-999.000,9,  2338.0,2,  2402.7,2,   7.5162,2,    25.00, -999.00,9, -999.00,9,     2023,   38.39,2,   2.4608,2,       1872
49UP20160703,         P9,      64,          1,         13,        667,2,20160801,       1929,      6.986,   136.9983,       4228,  1891.1,   2.4611,  34.6226,2,  34.6225,2,    109.1,2,  109.08,2,  132.64,2,    0.00,2,   2.700,2,-999.000,9,-999.000,9,-999.000,9,  2333.5,3,  2402.4,2,   7.5169,2,    25.00, -999.00,9, -999.00,9,     2023,   38.39,2,   2.4612,2,       1872
49UP20160703,         P9,      64,          1,         12,        074,2,20160801,       1929,      6.986,   136.9983,       4228,  2092.8,   2.2244,  34.6343,2,  34.6342,2,    115.0,2,  115.26,2,  136.98,2,    0.00,2,   2.670,2,-999.000,9,-999.000,9,-999.000,9,  2338.9,2,  2407.7,2,   7.5249,2,    25.00, -999.00,9, -999.00,9,     2019,   38.14,2,   2.2243,2,       2071
49UP20160703,         P9,      64,          1,         11,        268,2,20160801,       1929,      6.986,   136.9983,       4228,  2295.6,   2.0190,  34.6448,2,  34.6449,2,    121.8,2,  121.73,2,  139.94,2,    0.00,2,   2.640,2,-999.000,9,-999.000,9,-999.000,9,  2340.9,2,  2412.0,2,   7.5315,2,    25.00, -999.00,9, -999.00,9,     2013,   37.71,2,   2.0186,2,       2270
49UP20160703,         P9,      64,          1,         10,        267,2,20160801,       1929,      6.986,   136.9983,       4228,  2500.8,   1.8239,  34.6557,2,  34.6558,2,    129.5,2,  129.71,2,  142.32,2,    0.00,2,   2.600,2,-999.000,9,-999.000,9,-999.000,9,  2334.8,2,  2413.1,2,   7.5448,2,    25.00, -999.00,9, -999.00,9,     2008,   37.29,2,   1.8241,2,       2472
49UP20160703,         P9,      64,          1,          9,        518,2,20160801,       1929,      6.986,   136.9983,       4228,  2703.0,   1.7007,  34.6635,2,  34.6635,2,    135.7,2,  135.68,2,  143.08,2,    0.00,2,   2.560,2,   0.003,2,   0.000,2,   0.003,2,  2333.5,2,  2414.1,2,   7.5572,2,    25.00, -999.00,9, -999.00,9,     2003,   36.85,2,   1.7009,2,       2671
49UP20160703,         P9,      64,          1,          8,        470,2,20160801,       1929,      6.986,   136.9983,       4228,  2906.3,   1.6377,  34.6669,2,  34.6663,2,    138.6,2,  138.51,2,  144.45,2,    0.00,2,   2.550,2,   0.001,2,   0.000,2,   0.003,2,  2333.1,2,  2415.6,2,   7.5586,2,    25.00, -999.00,9, -999.00,9,     1959,   36.69,2,   1.6377,2,       2870
49UP20160703,         P9,      64,          1,          7,        516,2,20160801,       1929,      6.986,   136.9983,       4228,  3121.2,   1.6095,  34.6707,2,  34.6702,2,    142.2,2,  141.50,2,  143.49,2,    0.00,2,   2.530,2,   0.004,2,   0.000,2,   0.002,2,  2333.5,6,  2415.9,6,    7.565,2,    25.00, -999.00,9, -999.00,9,     1954,   36.48,2,   1.6095,2,       3081
49UP20160703,         P9,      64,          1,          6,        113,2,20160801,       1929,      6.986,   136.9983,       4228,  3376.6,   1.5704,  34.6749,2,  34.6747,2,    146.6,2,  146.79,6,  142.85,6,    0.00,6,   2.510,6,   0.005,2,   0.000,2,   0.002,2,  2327.1,2,  2415.5,2,   7.5702,2,    25.00, -999.00,9, -999.00,9,     1949,   36.13,6,   1.5704,2,       3331
49UP20160703,         P9,      64,          1,          5,        658,2,20160801,       1929,      6.986,   136.9983,       4228,  3631.6,   1.5593,  34.6774,2,  34.6776,6,    148.7,2,  148.78,2,  142.86,2,    0.00,2,   2.500,2,   0.000,2,   0.000,2,   0.001,2,  2329.4,2,  2415.2,2,   7.5726,2,    25.00, -999.00,9, -999.00,9,     1943,   36.05,2,   1.5594,2,       3581
49UP20160703,         P9,      64,          1,          4,        471,2,20160801,       1929,      6.986,   136.9983,       4228,  3887.9,   1.5375,  34.6808,2,  34.6805,2,    152.4,2,  152.50,2,  142.00,2,    0.00,2,   2.480,2,   0.008,2,   0.000,2,   0.005,2,  2329.1,2,  2415.4,2,   7.5809,6,    25.00, -999.00,9, -999.00,9,     1938,   35.78,2,   1.5377,2,       3831
49UP20160703,         P9,      64,          1,          3,        104,2,20160801,       1929,      6.986,   136.9983,       4228,  4143.3,   1.5076,  34.6847,2,  34.6850,2,    157.1,2,  156.99,2,  140.61,2,    0.00,2,   2.450,2,   0.004,2,   0.000,2,   0.001,2,  2323.1,2,  2413.4,2,   7.5824,2,    25.00, -999.00,9, -999.00,9,     1933,   35.43,2,   1.5076,2,       4080
49UP20160703,         P9,      64,          1,          1,        997,2,20160801,       1929,      6.986,   136.9983,       4228,  4276.4,   1.4852,  34.6874,2,  34.6878,2,    161.0,2,  161.06,2,  139.18,2,    0.00,2,   2.440,2,   0.006,2,   0.000,2,   0.002,2,  2319.6,2,  2411.6,2,   7.5909,2,    25.00, -999.00,9, -999.00,9,     1929,   35.19,2,   1.4851,2,       4210
49UP20160703,         P9,      64,          1,          2,        075,2,20160801,       1929,      6.986,   136.9983,       4228,  4276.5,   1.4853,  34.6874,2,  34.6880,2,    161.0,2,  160.98,2,  139.15,2,    0.00,2,   2.440,2,-999.000,9,-999.000,9,-999.000,9,  2319.6,2,  2410.1,2,   7.5911,2,    25.00, -999.00,9, -999.00,9,     1929,   35.16,2,   1.4853,2,       4210