BOTTLE,20230712CCHSIOENA
EXPOCODE,SECT_ID,STNNBR,CASTNO,SAMPNO,BTLNBR,BTLNBR_FLAG_W,DATE,TIME,LATITUDE,LONGITUDE,DEPTH,CTDPRS,CTDTMP,CTDSAL,CTDSAL_FLAG_W,SALNTY,SALNTY_FLAG_W,CTDOXY,CTDOXY_FLAG_W,OXYGEN,OXYGEN_FLAG_W,SILCAT,SILCAT_FLAG_W,NITRIT,NITRIT_FLAG_W,PHSPHT,PHSPHT_FLAG_W,CFC-11,CFC-11_FLAG_W,CFC-12,CFC-12_FLAG_W,CFC113,CFC113_FLAG_W,TCARBN,TCARBN_FLAG_W,ALKALI,ALKALI_FLAG_W,PH_TOT,PH_TOT_FLAG_W,PH_TMP,CHLORA,CHLORA_FLAG_W,PPHYTN,PPHYTN_FLAG_W,BTL_TIME,NO2+NO3,NO2+NO3_FLAG_W,SBE35,SBE35_FLAG_W,CTDDEPTH
,,,,,,,,,,,METERS,DBAR,ITS-90,PSS-78,,PSS-78,,UMOL/KG,,UMOL/KG,,UMOL/KG,,UMOL/KG,,UMOL/KG,,PMOL/KG,,PMOL/KG,,PMOL/KG,,UMOL/KG,,UMOL/KG,,,,DEG C,UG/KG,,UG/KG,,,UMOL/KG,,ITS-90,,METERS
49UP20160703,         P9,       4,          1,          0,        BUC,2,20160704,       2246,    33.3393,   137.0122,       2658,     0.0,  25.1590,  33.5491,2,-999.0000,9,    217.3,2,  215.37,2,    2.95,2,    0.00,2,   0.020,2,-999.000,9,-999.000,9,-999.000,9,  -999.0,9,  -999.0,9,-999.0000,9,  -999.00, -999.00,9, -999.00,9,     2337,    0.03,2,-999.0000,9,          0
49UP20160703,         P9,       4,          1,         36,        109,2,20160704,       2246,    33.3393,   137.0122,       2658,    10.1,  24.2503,  33.8309,2,  33.8438,4,    221.5,2,  221.77,6,    2.09,6,    0.00,6,   0.020,6,-999.000,9,-999.000,9,-999.000,9,  -999.0,9,  -999.0,9,-999.0000,9,  -999.00, -999.00,9, -999.00,9,       10,    0.01,6,  24.2509,2,         10
49UP20160703,         P9,       4,          1,         35,        112,2,20160704,       2246,    33.3393,   137.0122,       2658,    25.0,  22.0277,  34.4234,2,  34.4273,6,    226.1,2,  226.29,2,    1.66,2,    0.01,2,   0.040,2,-999.000,9,-999.000,9,-999.000,9,  -999.0,9,  -999.0,9,-999.0000,9,  -999.00, -999.00,9, -999.00,9,        9,    0.05,2,  22.0673,2,         25
49UP20160703,         P9,       4,          1,         34,        094,2,20160704,       2246,    33.3393,   137.0122,       2658,    49.0,  19.1528,  34.6346,2,  34.6373,2,    192.9,2,  193.12,2,    6.45,2,    0.15,2,   0.360,2,-999.000,9,-999.000,9,-999.000,9,  -999.0,9,  -999.0,9,-999.0000,9,  -999.00, -999.00,9, -999.00,9,        5,    5.03,2,  19.1540,2,         49
49UP20160703,         P9,       4,          1,         30,        097,2,20160704,       2246,    33.3393,   137.0122,       2658,    74.5,  17.1077,  34.6442,2,  34.6455,2,    191.1,2,  191.67,2,    9.28,2,    0.07,2,   0.500,2,-999.000,9,-999.000,9,-999.000,9,  -999.0,9,  -999.0,9,-999.0000,9,  -999.00, -999.00,9, -999.00,9,        4,    7.17,2,  17.0998,2,         74
49UP20160703,         P9,       4,          1,         29,        102,2,20160704,       2246,    33.3393,   137.0122,       2658,    74.9,  17.1012,  34.6440,2,  34.6451,2,    191.1,2,  191.25,2,    9.38,2,    0.07,2,   0.510,2,-999.000,9,-999.000,9,-999.000,9,  -999.0,9,  -999.0,9,-999.0000,9,  -999.00, -999.00,9, -999.00,9,        4,    7.17,2,  17.0971,2,         74
49UP20160703,         P9,       4,          1,         28,        472,2,20160704,       2246,    33.3393,   137.0122,       2658,   100.1,  15.4928,  34.5803,2,  34.5790,2,    177.1,2,  176.98,2,   14.83,2,    0.03,2,   0.760,3,-999.000,9,-999.000,9,-999.000,9,  -999.0,9,  -999.0,9,-999.0000,9,  -999.00, -999.00,9, -999.00,9,        3,   10.80,2,  15.4893,2,         99
49UP20160703,         P9,       4,          1,         27,        998,2,20160704,       2246,    33.3393,   137.0122,       2658,   125.5,  14.4735,  34.5349,2,  34.5330,2,    172.8,2,  172.35,2,   17.79,2,    0.01,2,   0.880,2,-999.000,9,-999.000,9,-999.000,9,  -999.0,9,  -999.0,9,-999.0000,9,  -999.00, -999.00,9, -999.00,9,        1,   12.58,2,  14.4735,2,        125
49UP20160703,         P9,       4,          1,         26,        084,2,20160704,       2246,    33.3393,   137.0122,       2658,   151.1,  13.6760,  34.4945,2,  34.4951,2,    167.0,2,  166.88,2,   21.30,2,    0.01,2,   1.000,2,-999.000,9,-999.000,9,-999.000,9,  -999.0,9,  -999.0,9,-999.0000,9,  -999.00, -999.00,9, -999.00,9,     2359,   14.26,2,  13.6748,2,        150
49UP20160703,         P9,       4,          1,         25,        098,2,20160704,       2246,    33.3393,   137.0122,       2658,   201.3,  11.4773,  34.3891,2,  34.3863,2,    151.1,2,  150.89,2,   33.08,2,    0.00,2,   1.370,2,-999.000,9,-999.000,9,-999.000,9,  -999.0,9,  -999.0,9,-999.0000,9,  -999.00, -999.00,9, -999.00,9,     2357,   19.35,2,  11.4757,2,        200
49UP20160703,         P9,       4,          1,         24,        110,2,20160704,       2246,    33.3393,   137.0122,       2658,   251.8,   9.5983,  34.3073,2,  34.3079,2,    135.8,2,  135.55,2,   44.45,2,    0.00,2,   1.690,2,-999.000,9,-999.000,9,-999.000,9,  -999.0,9,  -999.0,9,-999.0000,9,  -999.00, -999.00,9, -999.00,9,     2355,   23.71,2,   9.5994,2,        250
49UP20160703,         P9,       4,          1,         23,        679,2,20160704,       2246,    33.3393,   137.0122,       2658,   302.2,   8.6233,  34.2757,2,  34.2753,2,    125.8,2,  125.55,2,   52.47,2,    0.01,2,   1.880,2,-999.000,9,-999.000,9,-999.000,9,  -999.0,9,  -999.0,9,-999.0000,9,  -999.00, -999.00,9, -999.00,9,     2353,   26.29,2,   8.6172,2,        300
49UP20160703,         P9,       4,          1,         22,        111,2,20160704,       2246,    33.3393,   137.0122,       2658,   402.9,   6.7385,  34.2479,2,  34.2480,2,    102.4,2,  102.25,2,   71.02,2,    0.00,2,   2.260,2,-999.000,9,-999.000,9,-999.000,9,  -999.0,9,  -999.0,9,-999.0000,9,  -999.00, -999.00,9, -999.00,9,     2350,   31.53,2,   6.7379,2,        400
49UP20160703,         P9,       4,          1,         21,        078,2,20160704,       2246,    33.3393,   137.0122,       2658,   504.5,   5.6446,  34.2570,2,  34.2575,2,     86.1,2,   85.91,2,   85.48,2,    0.00,2,   2.500,2,-999.000,9,-999.000,9,-999.000,9,  -999.0,9,  -999.0,9,-999.0000,9,  -999.00, -999.00,9, -999.00,9,     2347,   34.88,2,   5.6444,2,        500
49UP20160703,         P9,       4,          1,         20,        093,2,20160704,       2246,    33.3393,   137.0122,       2658,   505.1,   5.6385,  34.2573,2,  34.2574,2,     86.1,2,   86.11,2,   85.51,2,    0.00,2,   2.500,2,-999.000,9,-999.000,9,-999.000,9,  -999.0,9,  -999.0,9,-999.0000,9,  -999.00, -999.00,9, -999.00,9,     2346,   34.84,2,   5.6398,2,        501
49UP20160703,         P9,       4,          1,         19,        269,3,20160704,       2246,    33.3393,   137.0122,       2658,   605.1,   4.8803,  34.2851,2,  34.2876,2,     73.9,2,   73.86,2,   97.72,2,    0.00,2,   2.670,2,-999.000,9,-999.000,9,-999.000,9,  -999.0,9,  -999.0,9,-999.0000,9,  -999.00, -999.00,9, -999.00,9,     2343,   37.15,2,   4.8808,2,        600
49UP20160703,         P9,       4,          1,         18,        088,2,20160704,       2246,    33.3393,   137.0122,       2658,   706.2,   4.1067,  34.3402,2,  34.3403,2,     63.6,2,   63.60,2,  111.62,2,    0.00,2,   2.800,2,-999.000,9,-999.000,9,-999.000,9,  -999.0,9,  -999.0,9,-999.0000,9,  -999.00, -999.00,9, -999.00,9,     2340,   39.12,2,   4.1066,2,        700
49UP20160703,         P9,       4,          1,         17,        090,2,20160704,       2246,    33.3393,   137.0122,       2658,   807.6,   3.6971,  34.3738,2,  34.3739,6,     59.8,2,   60.23,2,  120.33,2,    0.00,2,   2.860,2,-999.000,9,-999.000,9,-999.000,9,  -999.0,9,  -999.0,9,-999.0000,9,  -999.00, -999.00,9, -999.00,9,     2336,   39.98,2,   3.6974,2,        800
49UP20160703,         P9,       4,          1,         16,        474,3,20160704,       2246,    33.3393,   137.0122,       2658,   908.3,   3.4660,  34.3990,2,  34.3986,2,     59.2,2,   59.27,6,  125.12,6,    0.00,6,   2.880,6,-999.000,9,-999.000,9,-999.000,9,  -999.0,9,  -999.0,9,-999.0000,9,  -999.00, -999.00,9, -999.00,9,     2333,   40.33,6,   3.4659,2,        900
49UP20160703,         P9,       4,          1,         12,        074,2,20160704,       2246,    33.3393,   137.0122,       2658,  1010.1,   3.2268,  34.4270,2,  34.4279,2,     60.0,2,   60.05,2,  130.19,2,    0.00,2,   2.910,2,-999.000,9,-999.000,9,-999.000,9,  -999.0,9,  -999.0,9,-999.0000,9,  -999.00, -999.00,9, -999.00,9,     2330,   40.53,2,   3.2273,2,       1001
49UP20160703,         P9,       4,          1,         11,        268,2,20160704,       2246,    33.3393,   137.0122,       2658,  1212.2,   2.7884,  34.4860,2,  34.4868,2,     68.6,2,   68.49,2,  137.98,2,    0.00,2,   2.880,2,-999.000,9,-999.000,9,-999.000,9,  -999.0,9,  -999.0,9,-999.0000,9,  -999.00, -999.00,9, -999.00,9,     2324,   40.45,2,   2.7883,2,       1200
49UP20160703,         P9,       4,          1,         10,        267,2,20160704,       2246,    33.3393,   137.0122,       2658,  1415.0,   2.5114,  34.5247,2,  34.5247,2,     78.2,2,   78.77,2,  141.82,2,    0.00,2,   2.850,2,-999.000,9,-999.000,9,-999.000,9,  -999.0,9,  -999.0,9,-999.0000,9,  -999.00, -999.00,9, -999.00,9,     2319,   40.05,2,   2.5114,2,       1400
49UP20160703,         P9,       4,          1,          9,        518,2,20160704,       2246,    33.3393,   137.0122,       2658,  1618.8,   2.2453,  34.5631,2,  34.5636,2,     89.6,2,   89.78,2,  144.53,2,    0.00,2,   2.800,2,-999.000,9,-999.000,9,-999.000,9,  -999.0,9,  -999.0,9,-999.0000,9,  -999.00, -999.00,9, -999.00,9,     2314,   39.47,2,   2.2454,2,       1601
49UP20160703,         P9,       4,          1,          7,        516,2,20160704,       2246,    33.3393,   137.0122,       2658,  1821.4,   2.0731,  34.5888,2,  34.5893,2,    100.5,2,  100.61,2,  145.33,2,    0.00,2,   2.760,2,-999.000,9,-999.000,9,-999.000,9,  -999.0,9,  -999.0,9,-999.0000,9,  -999.00, -999.00,9, -999.00,9,     2308,   38.93,2,   2.0731,2,       1801
49UP20160703,         P9,       4,          1,          8,        470,2,20160704,       2246,    33.3393,   137.0122,       2658,  1821.7,   2.0731,  34.5888,2,  34.5892,2,    100.5,2,  100.61,2,  145.22,2,    0.00,2,   2.750,2,-999.000,9,-999.000,9,-999.000,9,  -999.0,9,  -999.0,9,-999.0000,9,  -999.00, -999.00,9, -999.00,9,     2308,   38.93,2,   2.0732,2,       1801
49UP20160703,         P9,       4,          1,          6,        113,2,20160704,       2246,    33.3393,   137.0122,       2658,  2023.3,   1.9219,  34.6108,2,  34.6111,2,    111.6,2,  111.70,2,  145.11,2,    0.00,2,   2.700,2,-999.000,9,-999.000,9,-999.000,9,  -999.0,9,  -999.0,9,-999.0000,9,  -999.00, -999.00,9, -999.00,9,     2303,   38.26,2,   1.9219,2,       1999
49UP20160703,         P9,       4,          1,          5,        658,2,20160704,       2246,    33.3393,   137.0122,       2658,  2229.0,   1.8137,  34.6273,2,  34.6277,2,    120.2,2,  119.96,2,  144.77,2,    0.00,2,   2.660,2,-999.000,9,-999.000,9,-999.000,9,  -999.0,9,  -999.0,9,-999.0000,9,  -999.00, -999.00,9, -999.00,9,     2258,   37.76,2,   1.8136,2,       2202
49UP20160703,         P9,       4,          1,          4,        471,2,20160704,       2246,    33.3393,   137.0122,       2658,  2431.3,   1.6948,  34.6444,2,  34.6446,2,    130.1,2,  130.05,2,  144.03,2,    0.00,2,   2.610,2,-999.000,9,-999.000,9,-999.000,9,  -999.0,9,  -999.0,9,-999.0000,9,  -999.00, -999.00,9, -999.00,9,     2254,   37.17,2,   1.6950,2,       2400
49UP20160703,         P9,       4,          1,          3,        104,2,20160704,       2246,    33.3393,   137.0122,       2658,  2634.9,   1.6281,  34.6547,2,  34.6553,6,    136.5,2,  136.62,2,  143.38,2,    0.00,2,   2.580,2,-999.000,9,-999.000,9,-999.000,9,  -999.0,9,  -999.0,9,-999.0000,9,  -999.00, -999.00,9, -999.00,9,     2249,   36.75,2,   1.6278,2,       2600
49UP20160703,         P9,       4,          1,          2,        075,2,20160704,       2246,    33.3393,   137.0122,       2658,  2687.5,   1.6049,  34.6580,2,  34.6579,2,    138.6,2,  138.82,6,  143.14,6,    0.00,6,   2.570,6,-999.000,9,-999.000,9,-999.000,9,  -999.0,9,  -999.0,9,-999.0000,9,  -999.00, -999.00,9, -999.00,9,     2247,   36.65,6,   1.6049,2,       2652