BOTTLE,20230712CCHSIOENA
EXPOCODE,SECT_ID,STNNBR,CASTNO,SAMPNO,BTLNBR,BTLNBR_FLAG_W,DATE,TIME,LATITUDE,LONGITUDE,DEPTH,CTDPRS,CTDTMP,CTDSAL,CTDSAL_FLAG_W,SALNTY,SALNTY_FLAG_W,CTDOXY,CTDOXY_FLAG_W,OXYGEN,OXYGEN_FLAG_W,SILCAT,SILCAT_FLAG_W,NITRIT,NITRIT_FLAG_W,PHSPHT,PHSPHT_FLAG_W,CFC-11,CFC-11_FLAG_W,CFC-12,CFC-12_FLAG_W,CFC113,CFC113_FLAG_W,TCARBN,TCARBN_FLAG_W,ALKALI,ALKALI_FLAG_W,PH_TOT,PH_TOT_FLAG_W,PH_TMP,CHLORA,CHLORA_FLAG_W,PPHYTN,PPHYTN_FLAG_W,BTL_TIME,NO2+NO3,NO2+NO3_FLAG_W,SBE35,SBE35_FLAG_W,CTDDEPTH
,,,,,,,,,,,METERS,DBAR,ITS-90,PSS-78,,PSS-78,,UMOL/KG,,UMOL/KG,,UMOL/KG,,UMOL/KG,,UMOL/KG,,PMOL/KG,,PMOL/KG,,PMOL/KG,,UMOL/KG,,UMOL/KG,,,,DEG C,UG/KG,,UG/KG,,,UMOL/KG,,ITS-90,,METERS
49UP20160703,         P9,      60,          1,          0,        BUC,2,20160731,       1840,     7.9935,   136.9862,       2879,     0.0,  29.7854,  34.3466,2,  34.3556,2,    194.2,2,  194.26,2,    1.10,2,    0.00,2,   0.040,2,-999.000,9,-999.000,9,-999.000,9,  1937.7,2,  2253.6,2,   8.1065,2,    25.00,    0.08,2,    0.04,2,     1940,    0.01,2,-999.0000,9,          0
49UP20160703,         P9,      60,          1,         36,        109,2,20160731,       1840,     7.9935,   136.9862,       2879,    10.6,  29.8100,  34.3586,2,  34.3630,2,    194.1,2,  193.75,6,    1.08,6,    0.00,6,   0.060,6,   1.458,2,   0.945,2,   0.119,2,  1935.3,2,  2255.3,2,   8.1073,2,    25.00,    0.08,2,    0.04,2,     2006,    0.01,6,  29.8087,2,         11
49UP20160703,         P9,      60,          1,         35,        112,2,20160731,       1840,     7.9935,   136.9862,       2879,    25.6,  29.4513,  34.6329,2,  34.6334,6,    199.6,2,  199.28,2,    1.11,2,    0.00,2,   0.060,2,-999.000,9,-999.000,9,-999.000,9,  1955.8,2,  2276.8,2,   8.1028,2,    25.00,    0.10,2,    0.04,2,     2005,    0.01,2,  29.4514,2,         25
49UP20160703,         P9,      60,          1,         33,        469,2,20160731,       1840,     7.9935,   136.9862,       2879,    50.8,  28.2006,  34.7441,2,  34.7448,2,    199.8,2,  199.88,2,    1.42,2,    0.00,2,   0.080,2,   1.627,2,   1.011,2,   0.112,2,  1971.8,2,  2281.1,2,   8.0853,2,    25.00,    0.12,2,    0.08,2,     2002,    0.06,2,  28.2039,2,         51
49UP20160703,         P9,      60,          1,         34,        094,2,20160731,       1840,     7.9935,   136.9862,       2879,    51.0,  28.2224,  34.7425,2,-999.0000,9,    200.0,2,  200.02,2,    1.50,2,    0.00,2,   0.100,2,-999.000,9,-999.000,9,-999.000,9,  1971.2,2,  2281.9,2,   8.0873,2,    25.00, -999.00,9, -999.00,9,     2002,    0.05,2,  28.2220,2,         51
49UP20160703,         P9,      60,          1,         32,        089,2,20160731,       1840,     7.9935,   136.9862,       2879,    75.5,  25.9718,  34.8497,2,  34.8544,2,    197.4,2,  197.47,2,    1.88,2,    0.01,2,   0.110,2,-999.000,9,-999.000,9,-999.000,9,  1998.5,6,  2292.7,6,   8.0523,2,    25.00,    0.23,2,    0.20,2,     2001,    0.13,2,  25.9718,2,         75
49UP20160703,         P9,      60,          1,         31,        515,2,20160731,       1840,     7.9935,   136.9862,       2879,   100.5,  20.7382,  34.8852,2,  34.8846,2,    171.5,2,  170.94,2,    4.92,2,    0.12,2,   0.430,2,   2.099,2,   1.315,2,   0.065,2,  2068.5,2,  2294.6,2,   7.9315,2,    25.00,    0.18,2,    0.29,2,     2000,    4.72,2,  20.7265,2,        100
49UP20160703,         P9,      60,          1,         30,        097,2,20160731,       1840,     7.9935,   136.9862,       2879,   125.1,  16.6730,  34.6844,2,  34.6919,2,    145.9,2,  147.68,2,   10.91,2,    0.03,2,   0.870,2,-999.000,9,-999.000,9,-999.000,9,  2114.7,2,  2287.1,2,    7.822,2,    25.00,    0.08,2,    0.20,2,     1958,   11.48,2,  16.6742,2,        124
49UP20160703,         P9,      60,          1,         29,        102,2,20160731,       1840,     7.9935,   136.9862,       2879,   151.2,  14.5805,  34.5740,2,  34.5844,4,    132.2,2,  131.11,2,   15.96,2,    0.01,2,   1.180,2,   2.184,2,   1.273,2,   0.010,2,  2141.6,2,  2282.2,2,   7.7513,6,    25.00,    0.04,2,    0.12,2,     1957,   15.86,2,  14.5978,2,        150
49UP20160703,         P9,      60,          1,         28,        472,2,20160731,       1840,     7.9935,   136.9862,       2879,   201.6,  11.2263,  34.4757,2,  34.4759,2,    104.4,2,  104.03,2,   27.95,2,    0.00,2,   1.750,2,-999.000,9,-999.000,9,-999.000,9,  2193.7,2,  2288.2,2,    7.628,2,    25.00, -999.00,9, -999.00,9,     1955,   24.20,2,  11.2267,2,        200
49UP20160703,         P9,      60,          1,         27,        998,2,20160731,       1840,     7.9935,   136.9862,       2879,   201.6,  11.2365,  34.4750,2,  34.4759,2,    104.2,2,  104.03,2,   28.02,2,    0.00,2,   1.760,2,   1.754,2,   0.950,2,   0.013,2,  2191.7,2,  2285.7,2,   7.6257,2,    25.00,    0.00,2,    0.04,2,     1955,   24.25,2,  11.2361,2,        200
49UP20160703,         P9,      60,          1,         26,        084,2,20160731,       1840,     7.9935,   136.9862,       2879,   255.8,   9.6213,  34.5062,2,  34.5003,2,     92.5,2,   92.46,2,   34.82,2,    0.00,2,   2.030,2,-999.000,9,-999.000,9,-999.000,9,  2215.1,2,  2297.1,2,   7.5755,2,    25.00, -999.00,9, -999.00,9,     1953,   28.20,2,   9.6330,2,        254
49UP20160703,         P9,      60,          1,         25,        098,2,20160731,       1840,     7.9935,   136.9862,       2879,   335.2,   8.4651,  34.5090,2,  34.5089,2,     90.4,2,   90.67,2,   40.89,2,    0.00,2,   2.200,2,   0.947,2,   0.478,2,   0.009,2,  2235.3,2,  2302.3,2,   7.5499,2,    25.00, -999.00,9, -999.00,9,     1951,   30.87,2,   8.4653,2,        333
49UP20160703,         P9,      60,          1,         24,        110,2,20160731,       1840,     7.9935,   136.9862,       2879,   382.7,   8.0399,  34.5106,2,  34.5104,2,     92.5,2,   92.03,2,   43.14,2,    0.00,2,   2.250,2,-999.000,9,-999.000,9,-999.000,9,  2239.6,2,  2305.3,2,   7.5433,2,    25.00, -999.00,9, -999.00,9,     1950,   31.65,2,   8.0400,2,        380
49UP20160703,         P9,      60,          1,         23,        679,2,20160731,       1840,     7.9935,   136.9862,       2879,   433.4,   7.7118,  34.5123,2,  34.5126,2,     97.1,2,   97.93,2,   44.50,2,    0.00,2,   2.260,2,   0.762,2,   0.384,2,   0.010,2,  2242.5,2,  2307.2,2,   7.5483,2,    25.00, -999.00,9, -999.00,9,     1948,   31.86,2,   7.7139,2,        431
49UP20160703,         P9,      60,          1,         22,        111,2,20160731,       1840,     7.9935,   136.9862,       2879,   486.0,   7.4435,  34.5201,2,  34.5224,2,    105.6,2,  105.70,2,   44.02,2,    0.00,2,   2.250,2,-999.000,9,-999.000,9,-999.000,9,  2239.2,2,  2307.8,2,    7.557,6,    25.00, -999.00,9, -999.00,9,     1946,   31.71,2,   7.4465,2,        483
49UP20160703,         P9,      60,          1,         21,        078,2,20160731,       1840,     7.9935,   136.9862,       2879,   536.9,   7.1198,  34.5154,2,  34.5151,6,    105.1,2,  104.38,2,   47.66,2,    0.00,2,   2.310,2,-999.000,9,-999.000,9,-999.000,9,  2246.5,6,  2311.6,6,   7.5514,2,    25.00, -999.00,9, -999.00,9,     1944,   32.44,2,   7.1199,2,        533
49UP20160703,         P9,      60,          1,         20,        093,2,20160731,       1840,     7.9935,   136.9862,       2879,   635.6,   6.5357,  34.5285,2,  34.5287,2,    101.5,2,  101.42,6,   52.96,6,    0.00,6,   2.420,6,   0.400,2,   0.202,2,   0.008,2,  2255.2,2,  2319.9,2,   7.5383,2,    25.00, -999.00,9, -999.00,9,     1941,   33.97,6,   6.5359,2,        631
49UP20160703,         P9,      60,          1,         19,        269,2,20160731,       1840,     7.9935,   136.9862,       2879,   736.0,   5.8880,  34.5230,2,  34.5230,2,     97.5,2,   97.03,2,   64.20,2,    0.00,2,   2.520,2,-999.000,9,-999.000,9,-999.000,9,  2272.4,2,  2331.5,2,   7.5234,2,    25.00, -999.00,9, -999.00,9,     1939,   35.30,2,   5.8873,2,        731
49UP20160703,         P9,      60,          1,         18,        088,2,20160731,       1840,     7.9935,   136.9862,       2879,   736.1,   5.8877,  34.5229,2,  34.5231,2,     97.5,2,   97.24,2,   64.15,2,    0.00,2,   2.520,2,-999.000,9,-999.000,9,-999.000,9,  2269.0,2,  2330.2,2,   7.5243,2,    25.00, -999.00,9, -999.00,9,     1939,   35.35,2,   5.8884,2,        731
49UP20160703,         P9,      60,          1,         17,        090,2,20160731,       1840,     7.9935,   136.9862,       2879,   836.3,   5.4197,  34.5338,2,  34.5326,2,     90.3,2,   89.90,2,   72.95,2,    0.00,2,   2.630,2,   0.137,2,   0.062,2,   0.005,2,  2284.7,2,  2338.1,2,   7.5054,2,    25.00, -999.00,9, -999.00,9,     1936,   36.72,2,   5.4201,2,        830
49UP20160703,         P9,      60,          1,         16,        474,2,20160731,       1840,     7.9935,   136.9862,       2879,   938.8,   4.9541,  34.5426,2,  34.5424,2,     89.9,2,   89.90,2,   81.36,2,    0.00,2,   2.670,2,-999.000,9,-999.000,9,-999.000,9,  2294.6,2,  2350.6,2,   7.5051,2,    25.00, -999.00,9, -999.00,9,     1933,   37.33,2,   4.9540,2,        931
49UP20160703,         P9,      60,          1,         15,        665,2,20160731,       1840,     7.9935,   136.9862,       2879,  1079.7,   4.2590,  34.5571,2,  34.5562,2,     89.9,2,   89.95,2,   96.64,2,    0.00,2,   2.720,2,   0.053,2,   0.021,2,   0.007,2,  2313.0,2,  2364.9,2,   7.4951,2,    25.00, -999.00,9, -999.00,9,     1929,   38.08,2,   4.2587,2,       1071
49UP20160703,         P9,      60,          1,         14,        999,2,20160731,       1840,     7.9935,   136.9862,       2879,  1281.3,   3.7119,  34.5722,2,  34.5721,2,     93.0,2,   92.80,2,  107.91,2,    0.00,2,   2.750,2,   0.028,2,   0.009,2,   0.006,2,  2321.7,2,  2376.4,2,   7.4996,2,    25.00, -999.00,9, -999.00,9,     1924,   38.40,2,   3.7116,2,       1270
49UP20160703,         P9,      60,          1,         12,        074,2,20160731,       1840,     7.9935,   136.9862,       2879,  1484.2,   3.2083,  34.5899,2,  34.5889,2,     97.7,2,   97.48,2,  117.79,2,    0.00,2,   2.750,2,   0.003,2,   0.000,2,   0.004,2,  2333.1,2,  2386.7,2,   7.5031,2,    25.00, -999.00,9, -999.00,9,     1919,   38.50,2,   3.2083,2,       1471
49UP20160703,         P9,      60,          1,         13,        667,2,20160731,       1840,     7.9935,   136.9862,       2879,  1484.6,   3.2067,  34.5900,2,  34.5866,4,     97.8,2,   97.56,2,  117.38,2,    0.00,2,   2.740,2,-999.000,9,-999.000,9,-999.000,9,  2334.3,2,  2385.1,2,   7.5051,2,    25.00, -999.00,9, -999.00,9,     1920,   38.46,2,   3.2070,2,       1471
49UP20160703,         P9,      60,          1,         11,        268,2,20160731,       1840,     7.9935,   136.9862,       2879,  1687.7,   2.7153,  34.6096,2,  34.6085,2,    104.5,2,  104.29,6,  127.82,6,    0.00,6,   2.730,6,-999.000,9,-999.000,9,-999.000,9,  2338.0,2,  2397.5,2,   7.5109,2,    25.00, -999.00,9, -999.00,9,     1914,   38.44,6,   2.7135,2,       1671
49UP20160703,         P9,      60,          1,         10,        267,2,20160731,       1840,     7.9935,   136.9862,       2879,  1892.1,   2.4451,  34.6221,2,  34.6218,6,    110.0,2,  110.06,2,  132.84,2,    0.00,2,   2.700,2,-999.000,9,-999.000,9,-999.000,9,  2342.0,6,  2402.8,6,   7.5188,2,    25.00, -999.00,9, -999.00,9,     1909,   38.13,2,   2.4453,2,       1873
49UP20160703,         P9,      60,          1,          8,        470,2,20160731,       1840,     7.9935,   136.9862,       2879,  2094.4,   2.1499,  34.6373,2,  34.6372,2,    117.8,2,  117.45,2,  137.74,2,    0.00,2,   2.670,2,-999.000,9,-999.000,9,-999.000,9,  2341.7,2,  2408.7,2,   7.5301,6,    25.00, -999.00,9, -999.00,9,     1904,   37.86,2,   2.1498,2,       2072
49UP20160703,         P9,      60,          1,          7,        516,2,20160731,       1840,     7.9935,   136.9862,       2879,  2296.3,   2.0301,  34.6445,2,  34.6445,2,    122.2,2,  122.01,2,  139.57,2,    0.00,2,   2.650,2,-999.000,9,-999.000,9,-999.000,9,  2342.8,2,  2411.1,2,   7.5362,2,    25.00, -999.00,9, -999.00,9,     1900,   37.61,2,   2.0302,2,       2271
49UP20160703,         P9,      60,          1,          6,        113,2,20160731,       1840,     7.9935,   136.9862,       2879,  2499.7,   1.8962,  34.6524,2,  34.6524,6,    128.5,2,  128.73,2,  140.88,2,    0.00,2,   2.620,2,  13.032,4,  21.305,4,   1.605,4,  2340.5,2,  2414.0,2,   7.5472,2,    25.00, -999.00,9, -999.00,9,     1855,   37.25,2,   1.8965,2,       2471
49UP20160703,         P9,      60,          1,          5,        658,2,20160731,       1840,     7.9935,   136.9862,       2879,  2702.9,   1.7806,  34.6592,2,  34.6594,2,    133.9,2,  133.38,6,  141.81,6,    0.00,6,   2.580,6,   0.000,2,   0.000,2,   0.000,2,  2340.1,2,  2412.5,2,   7.5569,2,    25.00, -999.00,9, -999.00,9,     1850,   36.88,6,   1.7806,2,       2671
49UP20160703,         P9,      60,          1,          3,        104,2,20160731,       1840,     7.9935,   136.9862,       2879,  2906.6,   1.6883,  34.6653,2,  34.6656,2,    138.5,2,  138.30,2,  143.08,2,    0.00,2,   2.580,2,   0.000,2,   0.000,2,   0.000,2,  2336.9,2,  2414.7,2,     7.56,2,    25.00, -999.00,9, -999.00,9,     1845,   36.65,2,   1.6884,2,       2871
49UP20160703,         P9,      60,          1,          2,        075,2,20160731,       1840,     7.9935,   136.9862,       2879,  3059.9,   1.6869,  34.6662,2,  34.6663,2,    139.1,2,  138.69,2,  143.04,2,    0.00,2,   2.570,2,-999.000,9,-999.000,9,-999.000,9,  2338.5,2,  2417.8,2,   7.5633,2,    25.00, -999.00,9, -999.00,9,     1841,   36.58,2,   1.6869,2,       3021
49UP20160703,         P9,      60,          1,          1,        997,2,20160731,       1840,     7.9935,   136.9862,       2879,  3059.9,   1.6868,  34.6660,2,  34.6669,2,    139.1,2,  138.60,2,  143.14,2,    0.00,2,   2.570,2,   0.000,2,   0.000,2,   0.007,2,  2333.7,3,  2415.3,2,   7.5629,2,    25.00, -999.00,9, -999.00,9,     1840,   36.72,2,   1.6868,2,       3021