BOTTLE,20230712CCHSIOENA
EXPOCODE,SECT_ID,STNNBR,CASTNO,SAMPNO,BTLNBR,BTLNBR_FLAG_W,DATE,TIME,LATITUDE,LONGITUDE,DEPTH,CTDPRS,CTDTMP,CTDSAL,CTDSAL_FLAG_W,SALNTY,SALNTY_FLAG_W,CTDOXY,CTDOXY_FLAG_W,OXYGEN,OXYGEN_FLAG_W,SILCAT,SILCAT_FLAG_W,NITRIT,NITRIT_FLAG_W,PHSPHT,PHSPHT_FLAG_W,CFC-11,CFC-11_FLAG_W,CFC-12,CFC-12_FLAG_W,CFC113,CFC113_FLAG_W,TCARBN,TCARBN_FLAG_W,ALKALI,ALKALI_FLAG_W,PH_TOT,PH_TOT_FLAG_W,PH_TMP,CHLORA,CHLORA_FLAG_W,PPHYTN,PPHYTN_FLAG_W,BTL_TIME,NO2+NO3,NO2+NO3_FLAG_W,SBE35,SBE35_FLAG_W,CTDDEPTH
,,,,,,,,,,,METERS,DBAR,ITS-90,PSS-78,,PSS-78,,UMOL/KG,,UMOL/KG,,UMOL/KG,,UMOL/KG,,UMOL/KG,,PMOL/KG,,PMOL/KG,,PMOL/KG,,UMOL/KG,,UMOL/KG,,,,DEG C,UG/KG,,UG/KG,,,UMOL/KG,,ITS-90,,METERS
49UP20160703,         P9,       6,          1,          0,        BUC,2,20160705,       1230,    32.6628,   137.0553,       4170,     0.0,  28.2167,  34.4564,2,-999.0000,9,    201.9,2,  201.47,2,    1.58,2,    0.00,2,   0.020,2,-999.000,9,-999.000,9,-999.000,9,  -999.0,9,  -999.0,9,-999.0000,9,  -999.00, -999.00,9, -999.00,9,     1400,    0.02,2,-999.0000,9,          0
49UP20160703,         P9,       6,          1,         35,        112,2,20160705,       1230,    32.6628,   137.0553,       4170,     9.6,  28.1548,  34.4268,2,  34.4264,2,    201.9,2,  202.13,2,    1.63,2,    0.00,2,   0.010,2,-999.000,9,-999.000,9,-999.000,9,  -999.0,9,  -999.0,9,-999.0000,9,  -999.00, -999.00,9, -999.00,9,     1435,    0.00,2,  28.1612,2,         10
49UP20160703,         P9,       6,          1,         34,        094,2,20160705,       1230,    32.6628,   137.0553,       4170,    25.1,  26.9589,  34.4535,2,  34.4047,4,    205.7,2,  206.83,2,    1.36,2,    0.00,2,   0.010,2,-999.000,9,-999.000,9,-999.000,9,  -999.0,9,  -999.0,9,-999.0000,9,  -999.00, -999.00,9, -999.00,9,     1434,    0.01,2,  26.9789,2,         25
49UP20160703,         P9,       6,          1,         33,        469,2,20160705,       1230,    32.6628,   137.0553,       4170,    50.6,  23.6848,  34.7485,2,  34.7621,4,    224.7,2,  225.04,2,    1.45,2,    0.00,2,   0.010,2,-999.000,9,-999.000,9,-999.000,9,  -999.0,9,  -999.0,9,-999.0000,9,  -999.00, -999.00,9, -999.00,9,     1430,    0.00,2,  23.6909,2,         50
49UP20160703,         P9,       6,          1,         32,        089,2,20160705,       1230,    32.6628,   137.0553,       4170,    75.5,  21.6699,  34.9123,2,  34.9095,2,    228.2,2,  228.59,2,    1.52,2,    0.00,2,   0.010,2,-999.000,9,-999.000,9,-999.000,9,  -999.0,9,  -999.0,9,-999.0000,9,  -999.00, -999.00,9, -999.00,9,     1429,    0.00,2,  21.6686,2,         75
49UP20160703,         P9,       6,          1,         31,        515,2,20160705,       1230,    32.6628,   137.0553,       4170,   101.5,  20.0838,  34.8761,2,  34.8764,2,    229.6,2,  229.49,2,    1.65,2,    0.00,2,   0.040,2,-999.000,9,-999.000,9,-999.000,9,  -999.0,9,  -999.0,9,-999.0000,9,  -999.00, -999.00,9, -999.00,9,     1427,    0.00,2,  20.0839,2,        101
49UP20160703,         P9,       6,          1,         30,        097,2,20160705,       1230,    32.6628,   137.0553,       4170,   126.1,  19.4388,  34.8787,2,  34.8785,2,    223.2,2,  220.65,2,    1.86,2,    0.16,2,   0.080,2,-999.000,9,-999.000,9,-999.000,9,  -999.0,9,  -999.0,9,-999.0000,9,  -999.00, -999.00,9, -999.00,9,     1426,    0.70,2,  19.4371,2,        125
49UP20160703,         P9,       6,          1,         29,        102,2,20160705,       1230,    32.6628,   137.0553,       4170,   151.5,  19.0125,  34.8659,2,  34.8651,2,    214.6,2,  214.92,2,    2.34,2,    0.02,2,   0.140,2,-999.000,9,-999.000,9,-999.000,9,  -999.0,9,  -999.0,9,-999.0000,9,  -999.00, -999.00,9, -999.00,9,     1425,    1.92,2,  19.0089,2,        150
49UP20160703,         P9,       6,          1,         28,        472,2,20160705,       1230,    32.6628,   137.0553,       4170,   151.6,  19.0015,  34.8651,2,  34.8642,2,    214.4,2,  214.48,2,    2.37,2,    0.02,2,   0.140,2,-999.000,9,-999.000,9,-999.000,9,  -999.0,9,  -999.0,9,-999.0000,9,  -999.00, -999.00,9, -999.00,9,     1425,    1.96,2,  19.0036,2,        150
49UP20160703,         P9,       6,          1,         27,        998,2,20160705,       1230,    32.6628,   137.0553,       4170,   199.1,  18.5034,  34.8340,2,  34.8292,2,    213.0,2,  211.57,2,    2.82,2,    0.01,2,   0.200,2,-999.000,9,-999.000,9,-999.000,9,  -999.0,9,  -999.0,9,-999.0000,9,  -999.00, -999.00,9, -999.00,9,     1423,    2.67,2,  18.5013,2,        198
49UP20160703,         P9,       6,          1,         26,        084,2,20160705,       1230,    32.6628,   137.0553,       4170,   251.8,  17.6450,  34.7673,2,  34.7649,2,    204.2,2,  204.22,2,    3.92,2,    0.01,2,   0.300,2,-999.000,9,-999.000,9,-999.000,9,  -999.0,9,  -999.0,9,-999.0000,9,  -999.00, -999.00,9, -999.00,9,     1421,    4.35,2,  17.6451,2,        250
49UP20160703,         P9,       6,          1,         25,        098,2,20160705,       1230,    32.6628,   137.0553,       4170,   282.1,  17.1563,  34.7327,2,  34.7315,2,    203.6,2,  204.49,2,    4.47,2,    0.00,2,   0.340,2,-999.000,9,-999.000,9,-999.000,9,  -999.0,9,  -999.0,9,-999.0000,9,  -999.00, -999.00,9, -999.00,9,     1419,    5.04,2,  17.1552,2,        280
49UP20160703,         P9,       6,          1,         24,        110,2,20160705,       1230,    32.6628,   137.0553,       4170,   372.0,  15.0683,  34.5635,2,  34.5636,6,    184.4,2,  184.69,2,   10.92,2,    0.00,2,   0.700,2,-999.000,9,-999.000,9,-999.000,9,  -999.0,9,  -999.0,9,-999.0000,9,  -999.00, -999.00,9, -999.00,9,     1417,   10.04,2,  15.0683,2,        369
49UP20160703,         P9,       6,          1,         23,        679,2,20160705,       1230,    32.6628,   137.0553,       4170,   472.9,  12.1724,  34.3672,2,  34.3671,2,    170.8,2,  171.20,6,   21.30,6,    0.00,6,   1.140,6,-999.000,9,-999.000,9,-999.000,9,  -999.0,9,  -999.0,9,-999.0000,9,  -999.00, -999.00,9, -999.00,9,     1414,   15.97,6,  12.1722,2,        469
49UP20160703,         P9,       6,          1,         22,        111,2,20160705,       1230,    32.6628,   137.0553,       4170,   573.3,   9.3824,  34.2438,2,  34.2475,2,    145.8,2,  144.99,2,   40.65,2,    0.00,2,   1.670,2,-999.000,9,-999.000,9,-999.000,9,  -999.0,9,  -999.0,9,-999.0000,9,  -999.00, -999.00,9, -999.00,9,     1411,   23.11,2,   9.3816,2,        568
49UP20160703,         P9,       6,          1,         21,        078,2,20160705,       1230,    32.6628,   137.0553,       4170,   675.7,   6.8241,  34.1588,2,  34.1623,4,    116.6,2,  115.89,2,   63.75,2,    0.00,2,   2.190,2,-999.000,9,-999.000,9,-999.000,9,  -999.0,9,  -999.0,9,-999.0000,9,  -999.00, -999.00,9, -999.00,9,     1409,   30.20,2,   6.8198,2,        670
49UP20160703,         P9,       6,          1,         20,        093,2,20160705,       1230,    32.6628,   137.0553,       4170,   775.8,   5.4973,  34.2635,2,  34.2626,2,     82.0,2,   82.22,2,   86.64,2,    0.00,2,   2.560,2,-999.000,9,-999.000,9,-999.000,9,  -999.0,9,  -999.0,9,-999.0000,9,  -999.00, -999.00,9, -999.00,9,     1406,   35.24,2,   5.5010,2,        769
49UP20160703,         P9,       6,          1,         19,        269,2,20160705,       1230,    32.6628,   137.0553,       4170,   877.6,   4.6167,  34.3118,2,  34.3116,6,     69.2,2,   69.68,2,  101.70,2,    0.00,2,   2.740,2,-999.000,9,-999.000,9,-999.000,9,  -999.0,9,  -999.0,9,-999.0000,9,  -999.00, -999.00,9, -999.00,9,     1403,   37.82,2,   4.6169,2,        870
49UP20160703,         P9,       6,          1,         17,        090,2,20160705,       1230,    32.6628,   137.0553,       4170,   979.5,   3.9383,  34.3585,2,  34.3563,2,     61.6,2,   61.97,2,  114.77,2,    0.00,2,   2.840,2,-999.000,9,-999.000,9,-999.000,9,  -999.0,9,  -999.0,9,-999.0000,9,  -999.00, -999.00,9, -999.00,9,     1400,   39.37,2,   3.9406,2,        970
49UP20160703,         P9,       6,          1,         18,        088,2,20160705,       1230,    32.6628,   137.0553,       4170,   979.8,   3.9376,  34.3585,2,  34.3561,2,     61.6,2,   61.49,2,  114.84,2,    0.00,2,   2.840,2,-999.000,9,-999.000,9,-999.000,9,  -999.0,9,  -999.0,9,-999.0000,9,  -999.00, -999.00,9, -999.00,9,     1400,   39.36,2,   3.9376,2,        971
49UP20160703,         P9,       6,          1,         16,        474,2,20160705,       1230,    32.6628,   137.0553,       4170,  1141.3,   3.3302,  34.4206,2,  34.4206,2,     60.4,2,   60.55,6,  127.69,6,    0.00,6,   2.900,6,-999.000,9,-999.000,9,-999.000,9,  -999.0,9,  -999.0,9,-999.0000,9,  -999.00, -999.00,9, -999.00,9,     1354,   40.28,6,   3.3300,2,       1130
49UP20160703,         P9,       6,          1,         15,        665,2,20160705,       1230,    32.6628,   137.0553,       4170,  1344.5,   2.8039,  34.4855,2,  34.4852,2,     67.6,2,   67.89,2,  137.90,2,    0.00,2,   2.890,2,-999.000,9,-999.000,9,-999.000,9,  -999.0,9,  -999.0,9,-999.0000,9,  -999.00, -999.00,9, -999.00,9,     1348,   40.36,2,   2.8046,2,       1331
49UP20160703,         P9,       6,          1,         14,        999,2,20160705,       1230,    32.6628,   137.0553,       4170,  1548.1,   2.4222,  34.5372,2,  34.5362,2,     79.6,2,   79.47,2,  143.49,2,    0.00,2,   2.850,2,-999.000,9,-999.000,9,-999.000,9,  -999.0,9,  -999.0,9,-999.0000,9,  -999.00, -999.00,9, -999.00,9,     1342,   39.98,2,   2.4232,2,       1532
49UP20160703,         P9,       6,          1,         13,        667,2,20160705,       1230,    32.6628,   137.0553,       4170,  1751.0,   2.2507,  34.5627,2,  34.5626,6,     88.6,2,   88.75,2,  145.03,2,    0.00,2,   2.810,2,-999.000,9,-999.000,9,-999.000,9,  -999.0,9,  -999.0,9,-999.0000,9,  -999.00, -999.00,9, -999.00,9,     1337,   39.53,2,   2.2506,2,       1731
49UP20160703,         P9,       6,          1,         11,        268,2,20160705,       1230,    32.6628,   137.0553,       4170,  1953.5,   2.0399,  34.5936,2,  34.5931,2,    100.6,2,  100.49,2,  146.37,2,    0.00,2,   2.760,2,-999.000,9,-999.000,9,-999.000,9,  -999.0,9,  -999.0,9,-999.0000,9,  -999.00, -999.00,9, -999.00,9,     1332,   38.81,2,   2.0400,2,       1931
49UP20160703,         P9,       6,          1,         12,        074,2,20160705,       1230,    32.6628,   137.0553,       4170,  1954.8,   2.0401,  34.5935,2,  34.5931,2,    100.6,2,  100.51,2,  146.38,2,    0.00,2,   2.760,2,-999.000,9,-999.000,9,-999.000,9,  -999.0,9,  -999.0,9,-999.0000,9,  -999.00, -999.00,9, -999.00,9,     1332,   38.83,2,   2.0400,2,       1932
49UP20160703,         P9,       6,          1,         10,        267,2,20160705,       1230,    32.6628,   137.0553,       4170,  2158.8,   1.8846,  34.6169,2,  34.6164,2,    112.2,2,  112.26,2,  146.06,2,    0.00,2,   2.700,2,-999.000,9,-999.000,9,-999.000,9,  -999.0,9,  -999.0,9,-999.0000,9,  -999.00, -999.00,9, -999.00,9,     1325,   38.19,2,   1.8845,2,       2133
49UP20160703,         P9,       6,          1,          9,        518,2,20160705,       1230,    32.6628,   137.0553,       4170,  2363.0,   1.7773,  34.6345,2,  34.6335,2,    123.0,2,  122.88,2,  144.77,2,    0.00,2,   2.650,2,-999.000,9,-999.000,9,-999.000,9,  -999.0,9,  -999.0,9,-999.0000,9,  -999.00, -999.00,9, -999.00,9,     1318,   37.55,2,   1.7771,2,       2333
49UP20160703,         P9,       6,          1,          8,        470,2,20160705,       1230,    32.6628,   137.0553,       4170,  2565.0,   1.7048,  34.6458,2,  34.6449,6,    130.0,2,  129.99,2,  143.69,2,    0.00,2,   2.620,2,-999.000,9,-999.000,9,-999.000,9,  -999.0,9,  -999.0,9,-999.0000,9,  -999.00, -999.00,9, -999.00,9,     1312,   37.09,2,   1.7051,2,       2532
49UP20160703,         P9,       6,          1,          7,        516,2,20160705,       1230,    32.6628,   137.0553,       4170,  2769.8,   1.6404,  34.6557,2,  34.6557,2,    136.4,2,  136.48,6,  143.14,6,    0.00,6,   2.590,6,-999.000,9,-999.000,9,-999.000,9,  -999.0,9,  -999.0,9,-999.0000,9,  -999.00, -999.00,9, -999.00,9,     1307,   36.76,6,   1.6398,2,       2732
49UP20160703,         P9,       6,          1,          6,        113,2,20160705,       1230,    32.6628,   137.0553,       4170,  2972.9,   1.5809,  34.6648,2,  34.6645,2,    142.3,2,  142.49,2,  142.46,2,    0.00,2,   2.560,2,-999.000,9,-999.000,9,-999.000,9,  -999.0,9,  -999.0,9,-999.0000,9,  -999.00, -999.00,9, -999.00,9,     1301,   36.37,2,   1.5809,2,       2931
49UP20160703,         P9,       6,          1,          5,        658,2,20160705,       1230,    32.6628,   137.0553,       4170,  3219.1,   1.5342,  34.6724,2,  34.6720,2,    147.6,2,  147.36,2,  141.86,2,    0.00,2,   2.530,2,-999.000,9,-999.000,9,-999.000,9,  -999.0,9,  -999.0,9,-999.0000,9,  -999.00, -999.00,9, -999.00,9,     1255,   36.05,2,   1.5342,2,       3172
49UP20160703,         P9,       6,          1,          4,        471,2,20160705,       1230,    32.6628,   137.0553,       4170,  3473.6,   1.5142,  34.6775,2,  34.6768,2,    151.0,2,  151.10,2,  141.38,2,    0.00,2,   2.510,2,-999.000,9,-999.000,9,-999.000,9,  -999.0,9,  -999.0,9,-999.0000,9,  -999.00, -999.00,9, -999.00,9,     1248,   35.87,2,   1.5142,2,       3421
49UP20160703,         P9,       6,          1,          3,        104,2,20160705,       1230,    32.6628,   137.0553,       4170,  3729.2,   1.5240,  34.6793,2,  34.6787,2,    152.3,2,  152.27,2,  141.27,2,    0.00,2,   2.510,2,-999.000,9,-999.000,9,-999.000,9,  -999.0,9,  -999.0,9,-999.0000,9,  -999.00, -999.00,9, -999.00,9,     1242,   35.77,2,   1.5240,2,       3671
49UP20160703,         P9,       6,          1,          2,        075,2,20160705,       1230,    32.6628,   137.0553,       4170,  3982.5,   1.5425,  34.6803,2,  34.6803,6,    153.0,2,  153.29,2,  141.21,2,    0.00,2,   2.510,2,-999.000,9,-999.000,9,-999.000,9,  -999.0,9,  -999.0,9,-999.0000,9,  -999.00, -999.00,9, -999.00,9,     1236,   35.71,2,   1.5426,2,       3918
49UP20160703,         P9,       6,          1,          1,        997,2,20160705,       1230,    32.6628,   137.0553,       4170,  4230.2,   1.5653,  34.6810,2,  34.6805,2,    153.4,2,  153.09,6,  141.12,6,    0.00,6,   2.500,6,-999.000,9,-999.000,9,-999.000,9,  -999.0,9,  -999.0,9,-999.0000,9,  -999.00, -999.00,9, -999.00,9,     1230,   35.72,6,   1.5653,2,       4159