BOTTLE,20230712CCHSIOENA
EXPOCODE,SECT_ID,STNNBR,CASTNO,SAMPNO,BTLNBR,BTLNBR_FLAG_W,DATE,TIME,LATITUDE,LONGITUDE,DEPTH,CTDPRS,CTDTMP,CTDSAL,CTDSAL_FLAG_W,SALNTY,SALNTY_FLAG_W,CTDOXY,CTDOXY_FLAG_W,OXYGEN,OXYGEN_FLAG_W,SILCAT,SILCAT_FLAG_W,NITRIT,NITRIT_FLAG_W,PHSPHT,PHSPHT_FLAG_W,CFC-11,CFC-11_FLAG_W,CFC-12,CFC-12_FLAG_W,CFC113,CFC113_FLAG_W,TCARBN,TCARBN_FLAG_W,ALKALI,ALKALI_FLAG_W,PH_TOT,PH_TOT_FLAG_W,PH_TMP,CHLORA,CHLORA_FLAG_W,PPHYTN,PPHYTN_FLAG_W,BTL_TIME,NO2+NO3,NO2+NO3_FLAG_W,SBE35,SBE35_FLAG_W,CTDDEPTH
,,,,,,,,,,,METERS,DBAR,ITS-90,PSS-78,,PSS-78,,UMOL/KG,,UMOL/KG,,UMOL/KG,,UMOL/KG,,UMOL/KG,,PMOL/KG,,PMOL/KG,,PMOL/KG,,UMOL/KG,,UMOL/KG,,,,DEG C,UG/KG,,UG/KG,,,UMOL/KG,,ITS-90,,METERS
49UP20160703,         P9,      75,          1,          0,        BUC,2,20160805,       1521,     2.6918,   138.5333,       4391,     0.0,  29.8409,  34.0292,2,-999.0000,9,    194.7,2,  194.76,2,    1.31,2,    0.00,2,   0.070,2,-999.000,9,-999.000,9,-999.000,9,  -999.0,9,  -999.0,9,-999.0000,9,  -999.00, -999.00,9, -999.00,9,     1646,    0.03,2,-999.0000,9,          0
49UP20160703,         P9,      75,          1,         36,        109,2,20160805,       1521,     2.6918,   138.5333,       4391,    10.1,  29.8720,  34.0295,2,  34.0294,2,    194.7,2,  194.54,6,    1.25,6,    0.00,6,   0.070,6,-999.000,9,-999.000,9,-999.000,9,  -999.0,9,  -999.0,9,-999.0000,9,  -999.00, -999.00,9, -999.00,9,     1728,    0.03,6,  29.8633,2,         10
49UP20160703,         P9,      75,          1,         35,        112,2,20160805,       1521,     2.6918,   138.5333,       4391,    25.7,  29.8505,  34.0286,2,  34.0278,6,    194.8,2,  195.23,2,    1.27,2,    0.00,2,   0.080,2,-999.000,9,-999.000,9,-999.000,9,  -999.0,9,  -999.0,9,-999.0000,9,  -999.00, -999.00,9, -999.00,9,     1727,    0.06,2,  29.8500,2,         26
49UP20160703,         P9,      75,          1,         34,        094,2,20160805,       1521,     2.6918,   138.5333,       4391,    49.5,  29.8728,  34.0379,2,  34.0398,2,    194.8,2,  194.79,2,    1.27,2,    0.00,2,   0.080,2,-999.000,9,-999.000,9,-999.000,9,  -999.0,9,  -999.0,9,-999.0000,9,  -999.00, -999.00,9, -999.00,9,     1723,    0.04,2,  29.8711,2,         49
49UP20160703,         P9,      75,          1,         32,        089,2,20160805,       1521,     2.6918,   138.5333,       4391,    74.2,  29.7677,  34.4288,2,  34.4310,2,    196.8,2,  196.75,2,    1.32,2,    0.00,2,   0.080,2,-999.000,9,-999.000,9,-999.000,9,  -999.0,9,  -999.0,9,-999.0000,9,  -999.00, -999.00,9, -999.00,9,     1722,    0.01,2,  29.7663,2,         74
49UP20160703,         P9,      75,          1,         33,        469,2,20160805,       1521,     2.6918,   138.5333,       4391,    75.1,  29.7405,  34.4308,2,  34.4288,2,    196.9,2,  196.55,2,    1.29,2,    0.00,2,   0.090,2,-999.000,9,-999.000,9,-999.000,9,  -999.0,9,  -999.0,9,-999.0000,9,  -999.00, -999.00,9, -999.00,9,     1722,    0.02,2,  29.7429,2,         75
49UP20160703,         P9,      75,          1,         31,        515,2,20160805,       1521,     2.6918,   138.5333,       4391,   100.5,  27.9223,  34.7558,2,  34.7553,2,    184.6,2,  184.99,2,    1.45,2,    0.18,2,   0.180,2,-999.000,9,-999.000,9,-999.000,9,  -999.0,9,  -999.0,9,-999.0000,9,  -999.00, -999.00,9, -999.00,9,     1721,    0.30,2,  27.9210,2,        100
49UP20160703,         P9,      75,          1,         30,        097,2,20160805,       1521,     2.6918,   138.5333,       4391,   125.0,  25.0721,  34.7972,2,  34.7981,2,    173.3,2,  173.81,6,    2.90,6,    0.07,6,   0.310,6,-999.000,9,-999.000,9,-999.000,9,  -999.0,9,  -999.0,9,-999.0000,9,  -999.00, -999.00,9, -999.00,9,     1720,    2.71,6,  25.0693,2,        124
49UP20160703,         P9,      75,          1,         29,        102,2,20160805,       1521,     2.6918,   138.5333,       4391,   148.5,  21.1028,  34.8574,2,  34.8588,6,    165.0,2,  164.73,2,    5.23,2,    0.03,2,   0.500,2,-999.000,9,-999.000,9,-999.000,9,  -999.0,9,  -999.0,9,-999.0000,9,  -999.00, -999.00,9, -999.00,9,     1718,    5.37,2,  21.1235,2,        148
49UP20160703,         P9,      75,          1,         28,        472,2,20160805,       1521,     2.6918,   138.5333,       4391,   201.9,  15.2198,  34.6220,2,  34.6309,2,    138.1,2,  138.92,2,   14.02,2,    0.01,2,   1.080,2,-999.000,9,-999.000,9,-999.000,9,  -999.0,9,  -999.0,9,-999.0000,9,  -999.00, -999.00,9, -999.00,9,     1716,   14.33,2,  15.2131,2,        201
49UP20160703,         P9,      75,          1,         27,        998,2,20160805,       1521,     2.6918,   138.5333,       4391,   252.6,  11.0746,  34.4424,2,  34.4500,2,    108.2,2,  109.54,2,   27.65,2,    0.00,2,   1.730,2,-999.000,9,-999.000,9,-999.000,9,  -999.0,9,  -999.0,9,-999.0000,9,  -999.00, -999.00,9, -999.00,9,     1714,   23.63,2,  11.0832,2,        251
49UP20160703,         P9,      75,          1,         26,        084,2,20160805,       1521,     2.6918,   138.5333,       4391,   302.0,   9.1243,  34.5370,2,  34.5363,2,     85.5,2,   85.46,2,   37.03,2,    0.00,2,   2.180,2,-999.000,9,-999.000,9,-999.000,9,  -999.0,9,  -999.0,9,-999.0000,9,  -999.00, -999.00,9, -999.00,9,     1712,   30.38,2,   9.1242,2,        300
49UP20160703,         P9,      75,          1,         25,        098,2,20160805,       1521,     2.6918,   138.5333,       4391,   354.8,   8.3942,  34.5559,2,  34.5571,2,     91.2,2,   90.08,2,   38.42,2,    0.00,2,   2.240,2,-999.000,9,-999.000,9,-999.000,9,  -999.0,9,  -999.0,9,-999.0000,9,  -999.00, -999.00,9, -999.00,9,     1710,   31.54,2,   8.4038,2,        353
49UP20160703,         P9,      75,          1,         24,        110,2,20160805,       1521,     2.6918,   138.5333,       4391,   404.0,   7.8716,  34.5481,2,  34.5493,2,    105.9,2,  105.45,2,   39.02,2,    0.00,2,   2.210,2,-999.000,9,-999.000,9,-999.000,9,  -999.0,9,  -999.0,9,-999.0000,9,  -999.00, -999.00,9, -999.00,9,     1708,   31.22,2,   7.8735,2,        401
49UP20160703,         P9,      75,          1,         23,        679,2,20160805,       1521,     2.6918,   138.5333,       4391,   452.6,   7.2548,  34.5445,2,  34.5446,2,    105.2,2,  105.19,2,   43.06,2,    0.00,2,   2.320,2,-999.000,9,-999.000,9,-999.000,9,  -999.0,9,  -999.0,9,-999.0000,9,  -999.00, -999.00,9, -999.00,9,     1706,   32.56,2,   7.2550,2,        450
49UP20160703,         P9,      75,          1,         22,        111,2,20160805,       1521,     2.6918,   138.5333,       4391,   504.5,   6.9049,  34.5376,2,  34.5377,2,    106.1,2,  106.15,2,   45.81,2,    0.00,2,   2.360,2,-999.000,9,-999.000,9,-999.000,9,  -999.0,9,  -999.0,9,-999.0000,9,  -999.00, -999.00,9, -999.00,9,     1704,   33.11,2,   6.9084,2,        501
49UP20160703,         P9,      75,          1,         21,        078,2,20160805,       1521,     2.6918,   138.5333,       4391,   607.2,   6.2588,  34.5321,2,  34.5309,2,    110.4,2,  111.18,2,   51.50,2,    0.00,2,   2.420,2,-999.000,9,-999.000,9,-999.000,9,  -999.0,9,  -999.0,9,-999.0000,9,  -999.00, -999.00,9, -999.00,9,     1700,   34.00,2,   6.2734,2,        603
49UP20160703,         P9,      75,          1,         20,        093,2,20160805,       1521,     2.6918,   138.5333,       4391,   706.1,   5.4859,  34.5358,2,  34.5353,2,     93.6,2,   93.37,2,   66.14,2,    0.00,2,   2.640,2,-999.000,9,-999.000,9,-999.000,9,  -999.0,9,  -999.0,9,-999.0000,9,  -999.00, -999.00,9, -999.00,9,     1657,   36.92,2,   5.4854,2,        701
49UP20160703,         P9,      75,          1,         19,        269,2,20160805,       1521,     2.6918,   138.5333,       4391,   808.2,   5.0687,  34.5403,2,  34.5400,2,    102.8,2,  103.02,2,   73.70,2,    0.00,2,   2.600,2,-999.000,9,-999.000,9,-999.000,9,  -999.0,9,  -999.0,9,-999.0000,9,  -999.00, -999.00,9, -999.00,9,     1652,   36.39,2,   5.0687,2,        802
49UP20160703,         P9,      75,          1,         18,        088,2,20160805,       1521,     2.6918,   138.5333,       4391,   909.3,   4.7627,  34.5474,2,  34.5474,2,     94.8,2,   94.91,2,   81.15,2,    0.00,2,   2.690,2,-999.000,9,-999.000,9,-999.000,9,  -999.0,9,  -999.0,9,-999.0000,9,  -999.00, -999.00,9, -999.00,9,     1648,   37.52,2,   4.7633,2,        902
49UP20160703,         P9,      75,          1,         17,        090,2,20160805,       1521,     2.6918,   138.5333,       4391,  1011.7,   4.4476,  34.5573,2,  34.5565,2,     97.4,2,   97.23,2,   88.59,2,    0.00,2,   2.690,2,-999.000,9,-999.000,9,-999.000,9,  -999.0,9,  -999.0,9,-999.0000,9,  -999.00, -999.00,9, -999.00,9,     1644,   37.61,2,   4.4481,2,       1004
49UP20160703,         P9,      75,          1,         16,        474,2,20160805,       1521,     2.6918,   138.5333,       4391,  1211.3,   3.7625,  34.5745,2,  34.5738,2,     95.6,2,   95.08,2,  102.95,2,    0.00,2,   2.760,2,-999.000,9,-999.000,9,-999.000,9,  -999.0,9,  -999.0,9,-999.0000,9,  -999.00, -999.00,9, -999.00,9,     1637,   38.53,2,   3.7650,2,       1201
49UP20160703,         P9,      75,          1,         15,        665,2,20160805,       1521,     2.6918,   138.5333,       4391,  1413.2,   3.3323,  34.5884,2,  34.5875,2,     98.5,2,   98.13,6,  112.57,6,    0.00,6,   2.770,6,-999.000,9,-999.000,9,-999.000,9,  -999.0,9,  -999.0,9,-999.0000,9,  -999.00, -999.00,9, -999.00,9,     1631,   38.63,6,   3.3347,2,       1401
49UP20160703,         P9,      75,          1,         14,        999,2,20160805,       1521,     2.6918,   138.5333,       4391,  1616.2,   2.7337,  34.6115,2,  34.6111,6,    107.5,2,  107.27,2,  124.44,2,    0.00,2,   2.740,2,-999.000,9,-999.000,9,-999.000,9,  -999.0,9,  -999.0,9,-999.0000,9,  -999.00, -999.00,9, -999.00,9,     1624,   38.39,2,   2.7349,2,       1601
49UP20160703,         P9,      75,          1,         13,        667,2,20160805,       1521,     2.6918,   138.5333,       4391,  1821.0,   2.4339,  34.6254,2,  34.6252,2,    108.9,2,  108.86,2,  132.25,2,    0.00,2,   2.740,2,-999.000,9,-999.000,9,-999.000,9,  -999.0,9,  -999.0,9,-999.0000,9,  -999.00, -999.00,9, -999.00,9,     1618,   38.47,2,   2.4338,2,       1803
49UP20160703,         P9,      75,          1,         12,        074,2,20160805,       1521,     2.6918,   138.5333,       4391,  2022.8,   2.1280,  34.6406,2,  34.6398,2,    117.3,2,  117.09,2,  137.84,2,    0.00,2,   2.700,2,-999.000,9,-999.000,9,-999.000,9,  -999.0,9,  -999.0,9,-999.0000,9,  -999.00, -999.00,9, -999.00,9,     1613,   38.06,2,   2.1282,2,       2002
49UP20160703,         P9,      75,          1,         11,        268,2,20160805,       1521,     2.6918,   138.5333,       4391,  2224.9,   1.9815,  34.6488,2,  34.6421,4,    121.9,2,  121.53,2,  139.50,2,    0.00,2,   2.670,2,-999.000,9,-999.000,9,-999.000,9,  -999.0,9,  -999.0,9,-999.0000,9,  -999.00, -999.00,9, -999.00,9,     1608,   37.70,2,   1.9817,2,       2201
49UP20160703,         P9,      75,          1,         10,        267,2,20160805,       1521,     2.6918,   138.5333,       4391,  2428.3,   1.8020,  34.6585,2,  34.6580,2,    129.5,2,  129.50,2,  142.13,2,    0.00,2,   2.630,2,-999.000,9,-999.000,9,-999.000,9,  -999.0,9,  -999.0,9,-999.0000,9,  -999.00, -999.00,9, -999.00,9,     1604,   37.27,2,   1.8020,2,       2401
49UP20160703,         P9,      75,          1,          9,        518,2,20160805,       1521,     2.6918,   138.5333,       4391,  2631.9,   1.7293,  34.6625,2,  34.6624,2,    134.5,2,  134.66,2,  142.33,2,    0.00,2,   2.610,2,-999.000,9,-999.000,9,-999.000,9,  -999.0,9,  -999.0,9,-999.0000,9,  -999.00, -999.00,9, -999.00,9,     1559,   37.00,2,   1.7291,2,       2601
49UP20160703,         P9,      75,          1,          8,        470,2,20160805,       1521,     2.6918,   138.5333,       4391,  2833.0,   1.6289,  34.6686,2,  34.6674,4,    140.5,2,  140.43,6,  142.37,6,    0.00,6,   2.580,6,-999.000,9,-999.000,9,-999.000,9,  -999.0,9,  -999.0,9,-999.0000,9,  -999.00, -999.00,9, -999.00,9,     1554,   36.54,6,   1.6288,2,       2799
49UP20160703,         P9,      75,          1,          7,        516,2,20160805,       1521,     2.6918,   138.5333,       4391,  3039.3,   1.5793,  34.6729,2,  34.6715,2,    144.1,2,  143.80,2,  142.43,2,    0.00,2,   2.560,2,-999.000,9,-999.000,9,-999.000,9,  -999.0,9,  -999.0,9,-999.0000,9,  -999.00, -999.00,9, -999.00,9,     1550,   36.33,2,   1.5793,2,       3001
49UP20160703,         P9,      75,          1,          6,        113,2,20160805,       1521,     2.6918,   138.5333,       4391,  3290.6,   1.5634,  34.6751,2,  34.6750,2,    146.2,2,  146.15,2,  142.80,2,    0.00,2,   2.540,2,-999.000,9,-999.000,9,-999.000,9,  -999.0,9,  -999.0,9,-999.0000,9,  -999.00, -999.00,9, -999.00,9,     1544,   36.16,2,   1.5633,2,       3247
49UP20160703,         P9,      75,          1,          5,        658,2,20160805,       1521,     2.6918,   138.5333,       4391,  3548.6,   1.5581,  34.6776,2,  34.6764,2,    148.0,2,  147.90,2,  142.47,2,    0.00,2,   2.530,2,-999.000,9,-999.000,9,-999.000,9,  -999.0,9,  -999.0,9,-999.0000,9,  -999.00, -999.00,9, -999.00,9,     1539,   36.06,2,   1.5581,2,       3500
49UP20160703,         P9,      75,          1,          4,        471,2,20160805,       1521,     2.6918,   138.5333,       4391,  3803.5,   1.5478,  34.6808,2,  34.6804,2,    149.6,2,  149.73,2,  142.93,2,    0.00,2,   2.530,2,-999.000,9,-999.000,9,-999.000,9,  -999.0,9,  -999.0,9,-999.0000,9,  -999.00, -999.00,9, -999.00,9,     1533,   36.00,2,   1.5478,2,       3749
49UP20160703,         P9,      75,          1,          3,        104,2,20160805,       1521,     2.6918,   138.5333,       4391,  4058.4,   1.5166,  34.6853,2,  34.6852,2,    154.0,2,  153.72,2,  142.05,2,    0.00,2,   2.500,2,-999.000,9,-999.000,9,-999.000,9,  -999.0,9,  -999.0,9,-999.0000,9,  -999.00, -999.00,9, -999.00,9,     1528,   35.69,2,   1.5166,2,       3998
49UP20160703,         P9,      75,          1,          2,        075,2,20160805,       1521,     2.6918,   138.5333,       4391,  4313.9,   1.5285,  34.6863,2,  34.6858,2,    155.6,2,  155.46,2,  141.89,2,    0.00,2,   2.490,2,-999.000,9,-999.000,9,-999.000,9,  -999.0,9,  -999.0,9,-999.0000,9,  -999.00, -999.00,9, -999.00,9,     1523,   35.53,2,   1.5283,2,       4247
49UP20160703,         P9,      75,          1,          1,        997,2,20160805,       1521,     2.6918,   138.5333,       4391,  4439.6,   1.5318,  34.6867,2,  34.6859,2,    156.8,2,  156.55,2,  141.35,2,    0.00,2,   2.480,2,-999.000,9,-999.000,9,-999.000,9,  -999.0,9,  -999.0,9,-999.0000,9,  -999.00, -999.00,9, -999.00,9,     1521,   35.41,2,   1.5315,2,       4370