BOTTLE,20230712CCHSIOENA
EXPOCODE,SECT_ID,STNNBR,CASTNO,SAMPNO,BTLNBR,BTLNBR_FLAG_W,DATE,TIME,LATITUDE,LONGITUDE,DEPTH,CTDPRS,CTDTMP,CTDSAL,CTDSAL_FLAG_W,SALNTY,SALNTY_FLAG_W,CTDOXY,CTDOXY_FLAG_W,OXYGEN,OXYGEN_FLAG_W,SILCAT,SILCAT_FLAG_W,NITRIT,NITRIT_FLAG_W,PHSPHT,PHSPHT_FLAG_W,CFC-11,CFC-11_FLAG_W,CFC-12,CFC-12_FLAG_W,CFC113,CFC113_FLAG_W,TCARBN,TCARBN_FLAG_W,ALKALI,ALKALI_FLAG_W,PH_TOT,PH_TOT_FLAG_W,PH_TMP,CHLORA,CHLORA_FLAG_W,PPHYTN,PPHYTN_FLAG_W,BTL_TIME,NO2+NO3,NO2+NO3_FLAG_W,SBE35,SBE35_FLAG_W,CTDDEPTH
,,,,,,,,,,,METERS,DBAR,ITS-90,PSS-78,,PSS-78,,UMOL/KG,,UMOL/KG,,UMOL/KG,,UMOL/KG,,UMOL/KG,,PMOL/KG,,PMOL/KG,,PMOL/KG,,UMOL/KG,,UMOL/KG,,,,DEG C,UG/KG,,UG/KG,,,UMOL/KG,,ITS-90,,METERS
49UP20160703,         P9,      20,          1,          0,        BUC,2,20160710,       0050,    27.0372,   136.9812,       4574,     0.0,  29.2621,  34.5644,2,  34.5608,2,    197.5,2,  197.13,2,    1.40,2,    0.00,2,   0.020,2,-999.000,9,-999.000,9,-999.000,9,  1960.2,2,  2270.3,2,   8.0809,2,    25.00,    0.05,2,    0.02,2,      234,    0.00,2,-999.0000,9,          0
49UP20160703,         P9,      20,          1,         36,        109,2,20160710,       0050,    27.0372,   136.9812,       4574,    10.6,  29.1100,  34.5622,2,  34.5632,2,    197.6,2,  197.36,2,    1.33,2,    0.00,2,   0.010,2,   1.582,2,   0.995,2,   0.134,2,  1956.9,2,  2267.4,2,   8.0791,2,    25.00,    0.04,2,    0.02,2,      303,    0.00,2,  29.1369,2,         11
49UP20160703,         P9,      20,          1,         35,        112,2,20160710,       0050,    27.0372,   136.9812,       4574,    26.2,  25.6112,  34.7316,2,  34.7038,4,    218.5,2,  216.27,2,    1.39,2,    0.00,2,   0.010,2,   1.850,2,   1.131,2,   0.160,2,  1968.3,2,  2278.4,2,    8.075,2,    25.00,    0.07,2,    0.03,2,      302,    0.00,2,  25.6152,2,         26
49UP20160703,         P9,      20,          1,         34,        094,2,20160710,       0050,    27.0372,   136.9812,       4574,    52.3,  21.9614,  34.8929,2,  34.8934,2,    233.2,2,  232.01,2,    1.68,2,    0.00,2,   0.020,2,   2.122,2,   1.316,2,   0.156,2,  1990.5,2,  2292.2,2,   8.0568,2,    25.00,    0.15,2,    0.07,2,      259,    0.01,2,  21.9809,2,         52
49UP20160703,         P9,      20,          1,         33,        469,2,20160710,       0050,    27.0372,   136.9812,       4574,    75.6,  20.9470,  34.8934,2,  34.8938,6,    229.6,2,  228.84,2,    1.70,2,    0.00,2,   0.020,2,   2.167,2,   1.344,2,   0.149,2,  1994.6,6,  2290.9,6,   8.0492,2,    25.00,    0.17,2,    0.09,2,      258,    0.03,2,  20.9537,2,         75
49UP20160703,         P9,      20,          1,         32,        089,2,20160710,       0050,    27.0372,   136.9812,       4574,   102.0,  20.3618,  34.8902,2,  34.8906,2,    226.0,2,  225.88,6,    1.80,6,    0.00,6,   0.020,6,   2.183,2,   1.360,2,   0.149,2,  1999.5,2,  2294.5,2,   8.0397,2,    25.00,    0.24,2,    0.20,2,      257,    0.00,6,  20.3681,2,        101
49UP20160703,         P9,      20,          1,         31,        515,2,20160710,       0050,    27.0372,   136.9812,       4574,   127.4,  19.6568,  34.8752,2,  34.8754,2,    217.0,2,  218.22,2,    2.05,2,    0.07,2,   0.060,2,   2.229,2,   1.389,2,   0.137,2,  2010.3,2,  2290.7,2,   8.0185,2,    25.00,    0.25,2,    0.42,2,      255,    0.47,2,  19.6621,2,        127
49UP20160703,         P9,      20,          1,         30,        097,2,20160710,       0050,    27.0372,   136.9812,       4574,   151.9,  18.9580,  34.8440,2,  34.8446,2,    204.7,2,  204.38,2,    2.74,2,    0.02,2,   0.190,2,   2.279,2,   1.422,2,   0.080,2,  2027.4,2,  2288.4,2,   7.9854,2,    25.00,    0.05,2,    0.09,2,      254,    2.79,2,  18.9623,2,        151
49UP20160703,         P9,      20,          1,         29,        102,3,20160710,       0050,    27.0372,   136.9812,       4574,   201.3,  17.9265,  34.7773,2,  34.7778,2,    200.1,2,  200.17,2,    3.72,2,    0.00,2,   0.290,2,   2.370,2,   1.485,2,   0.059,2,  2036.7,2,  2282.9,2,    7.954,2,    25.00,    0.00,2,    0.02,2,      252,    4.29,2,  17.9261,2,        200
49UP20160703,         P9,      20,          1,         28,        472,4,20160710,       0050,    27.0372,   136.9812,       4574,   251.7,  17.2372,  34.7287,2,-999.0000,9,    200.9,2, -999.00,9, -999.00,9, -999.00,9,-999.000,9,-999.000,9,-999.000,9,-999.000,9,  -999.0,9,  -999.0,9,-999.0000,9,  -999.00, -999.00,9, -999.00,9,      250, -999.00,9,  17.2358,2,        250
49UP20160703,         P9,      20,          1,         27,        998,2,20160710,       0050,    27.0372,   136.9812,       4574,   331.6,  16.0788,  34.6377,2,  34.6384,2,    194.7,2,  194.65,2,    7.04,2,    0.00,2,   0.510,2,   2.553,2,   1.568,2,   0.047,2,  2058.1,2,  2278.0,2,   7.9053,6,    25.00, -999.00,9, -999.00,9,      248,    7.53,2,  16.0737,2,        329
49UP20160703,         P9,      20,          1,         26,        084,2,20160710,       0050,    27.0372,   136.9812,       4574,   432.6,  13.1019,  34.4155,2,  34.4169,2,    179.3,2,  179.24,2,   15.98,2,    0.00,2,   0.940,2,   2.772,2,   1.620,2,   0.035,2,  2104.8,2,  2274.8,2,   7.8024,2,    25.00, -999.00,9, -999.00,9,      245,   13.58,2,  13.1005,2,        429
49UP20160703,         P9,      20,          1,         25,        098,2,20160710,       0050,    27.0372,   136.9812,       4574,   534.7,  10.1686,  34.2440,2,  34.2443,2,    160.8,2,  160.36,2,   31.33,2,    0.00,2,   1.450,2,   2.679,2,   1.501,2,   0.062,2,  2156.1,2,  2279.9,2,   7.6972,2,    25.00, -999.00,9, -999.00,9,      242,   20.46,2,  10.1812,2,        530
49UP20160703,         P9,      20,          1,         24,        110,2,20160710,       0050,    27.0372,   136.9812,       4574,   632.7,   7.7920,  34.1480,2,  34.1489,6,    136.9,2,  136.53,2,   50.56,2,    0.00,2,   1.920,2,   2.353,6,   1.275,6,   0.082,6,  2203.3,2,  2289.2,2,   7.5941,2,    25.00, -999.00,9, -999.00,9,      240,   26.76,2,   7.7919,2,        628
49UP20160703,         P9,      20,          1,         23,        679,2,20160710,       0050,    27.0372,   136.9812,       4574,   736.7,   6.0720,  34.1368,2,  34.1372,2,    105.6,2,  105.51,6,   71.24,6,    0.00,6,   2.350,6,   1.793,2,   0.916,2,   0.072,2,  2248.1,2,  2308.3,2,   7.4985,2,    25.00, -999.00,9, -999.00,9,      237,   32.54,6,   6.0727,2,        731
49UP20160703,         P9,      20,          1,         22,        111,2,20160710,       0050,    27.0372,   136.9812,       4574,   837.7,   5.1859,  34.1822,2,  34.1821,2,     83.1,2,   83.20,2,   86.50,2,    0.00,2,   2.590,2,   1.301,2,   0.648,2,   0.035,2,  2282.2,2,  2322.0,2,    7.446,2,    25.00, -999.00,9, -999.00,9,      234,   35.96,2,   5.1861,2,        831
49UP20160703,         P9,      20,          1,         21,        078,2,20160710,       0050,    27.0372,   136.9812,       4574,   938.9,   4.4067,  34.2632,2,  34.2629,2,     64.6,2,   64.93,2,  103.49,2,    0.00,2,   2.780,2,   0.794,2,   0.389,2,   0.034,2,  2315.4,2,  2341.9,2,   7.4099,2,    25.00, -999.00,9, -999.00,9,      232,   38.73,2,   4.4073,2,        931
49UP20160703,         P9,      20,          1,         19,        269,3,20160710,       0050,    27.0372,   136.9812,       4574,  1080.7,   3.5876,  34.3637,2,  34.3629,2,     54.1,2,   55.35,3,  122.18,2,    0.00,2,   2.920,2,   0.353,2,   0.191,2,   0.028,2,  2341.4,2,  2365.2,2,   7.3958,2,    25.00, -999.00,9, -999.00,9,      225,   40.67,2,   3.5900,2,       1071
49UP20160703,         P9,      20,          1,         20,        093,2,20160710,       0050,    27.0372,   136.9812,       4574,  1081.7,   3.5790,  34.3657,2,  34.3620,4,     54.1,2,   54.40,2,  122.21,2,    0.00,2,   2.910,2,-999.000,9,-999.000,9,-999.000,9,  2340.0,2,  2365.1,2,    7.394,2,    25.00, -999.00,9, -999.00,9,      225,   40.75,2,   3.5828,2,       1072
49UP20160703,         P9,      20,          1,         18,        088,4,20160710,       0050,    27.0372,   136.9812,       4574,  1283.6,   2.9811,  34.4526,2,  34.5538,4,     58.9,2,   83.10,4,  145.40,4,    0.00,4,   2.840,4,   0.035,4,   0.013,4,   0.000,4,  2354.6,4,  2400.4,4,    7.453,4,    25.00, -999.00,9, -999.00,9,      219,   40.12,4,   2.9818,2,       1271
49UP20160703,         P9,      20,          1,         17,        090,2,20160710,       0050,    27.0372,   136.9812,       4574,  1486.3,   2.5158,  34.5164,2,  34.5160,2,     68.7,2,   68.48,2,  144.51,2,    0.00,2,   2.900,2,   0.062,2,   0.035,2,   0.000,2,  2360.1,2,  2398.0,2,    7.426,2,    25.00, -999.00,9, -999.00,9,      213,   40.84,2,   2.5160,2,       1471
49UP20160703,         P9,      20,          1,         16,        474,2,20160710,       0050,    27.0372,   136.9812,       4574,  1688.0,   2.2256,  34.5645,2,  34.5645,2,     87.7,2,   87.62,2,  145.71,2,    0.00,2,   2.820,2,   0.036,2,   0.013,2,   0.021,2,  2355.6,2,  2399.5,2,   7.4633,6,    25.00, -999.00,9, -999.00,9,      207,   39.81,2,   2.2255,2,       1670
49UP20160703,         P9,      20,          1,         15,        665,2,20160710,       0050,    27.0372,   136.9812,       4574,  1889.6,   2.0340,  34.5961,2,  34.5958,2,    103.1,2,  103.19,2,  145.20,2,    0.00,2,   2.740,2,   0.016,6,   0.006,6,   0.005,6,  2346.8,2,  2406.7,2,   7.4908,2,    25.00, -999.00,9, -999.00,9,      202,   38.93,2,   2.0339,2,       1869
49UP20160703,         P9,      20,          1,         14,        999,2,20160710,       0050,    27.0372,   136.9812,       4574,  2091.8,   1.8959,  34.6173,2,  34.6172,2,    113.4,2,  113.32,2,  145.15,2,    0.00,2,   2.690,2,   0.011,2,   0.005,2,   0.004,2,  2342.3,2,  2409.2,2,   7.5082,2,    25.00, -999.00,9, -999.00,9,      157,   38.34,2,   1.8958,2,       2068
49UP20160703,         P9,      20,          1,         13,        667,3,20160710,       0050,    27.0372,   136.9812,       4574,  2298.7,   1.7890,  34.6357,2,  34.6346,2,    124.7,2,  124.63,2,  143.36,2,    0.00,2,   2.640,2,   0.004,2,   0.004,2,   0.000,2,  2336.6,6,  2410.8,6,   7.5336,2,    25.00, -999.00,9, -999.00,9,      151,   37.60,2,   1.7891,2,       2271
49UP20160703,         P9,      20,          1,         12,        074,2,20160710,       0050,    27.0372,   136.9812,       4574,  2501.2,   1.7226,  34.6466,2,  34.6463,6,    130.6,2,  130.67,2,  143.24,2,    0.00,2,   2.610,2,   0.008,2,   0.003,2,   0.014,2,  2333.2,2,  2412.8,2,   7.5436,2,    25.00, -999.00,9, -999.00,9,      146,   37.23,2,   1.7226,2,       2470
49UP20160703,         P9,      20,          1,         11,        268,2,20160710,       0050,    27.0372,   136.9812,       4574,  2708.0,   1.6807,  34.6532,2,  34.6535,2,    134.3,2,  134.48,6,  143.09,6,    0.00,6,   2.590,6,   0.006,2,   0.004,2,   0.000,2,  2334.6,2,  2413.4,2,   7.5467,2,    25.00, -999.00,9, -999.00,9,      140,   37.03,6,   1.6807,2,       2673
49UP20160703,         P9,      20,          1,         10,        267,2,20160710,       0050,    27.0372,   136.9812,       4574,  2910.3,   1.6493,  34.6585,2,  34.6580,2,    137.5,2,  137.66,2,  142.94,2,    0.00,2,   2.580,2,-999.000,9,-999.000,9,-999.000,9,  2332.3,2,  2414.4,2,   7.5552,2,    25.00, -999.00,9, -999.00,9,      135,   36.81,2,   1.6495,2,       2871
49UP20160703,         P9,      20,          1,          9,        518,2,20160710,       0050,    27.0372,   136.9812,       4574,  3124.6,   1.6126,  34.6641,2,  34.6649,2,    141.6,2,  141.60,2,  142.48,2,    0.00,2,   2.560,2,   0.000,2,   0.000,2,   0.000,2,  2328.2,2,  2413.1,2,    7.562,2,    25.00, -999.00,9, -999.00,9,      129,   36.62,2,   1.6125,2,       3081
49UP20160703,         P9,      20,          1,          8,        470,2,20160710,       0050,    27.0372,   136.9812,       4574,  3380.8,   1.5724,  34.6708,2,  34.6716,2,    146.5,2,  146.71,2,  141.95,2,    0.00,2,   2.530,2,-999.000,9,-999.000,9,-999.000,9,  2324.1,2,  2414.2,2,   7.5688,2,    25.00, -999.00,9, -999.00,9,      123,   36.31,2,   1.5723,2,       3332
49UP20160703,         P9,      20,          1,          7,        516,2,20160710,       0050,    27.0372,   136.9812,       4574,  3638.1,   1.5381,  34.6768,2,  34.6771,6,    151.2,2,  151.30,2,  141.24,2,    0.00,2,   2.510,2,   0.000,2,   0.000,2,   0.011,2,  2323.0,2,  2410.8,2,   7.5752,2,    25.00, -999.00,9, -999.00,9,      117,   36.04,2,   1.5382,2,       3583
49UP20160703,         P9,      20,          1,          6,        113,2,20160710,       0050,    27.0372,   136.9812,       4574,  3892.3,   1.5310,  34.6801,2,  34.6800,2,    154.0,2,  153.96,6,  140.73,6,    0.00,6,   2.490,6,-999.000,9,-999.000,9,-999.000,9,  2321.5,2,  2413.4,2,   7.5807,2,    25.00, -999.00,9, -999.00,9,      111,   35.84,6,   1.5309,2,       3832
49UP20160703,         P9,      20,          1,          5,        658,2,20160710,       0050,    27.0372,   136.9812,       4574,  4148.5,   1.5382,  34.6821,2,  34.6825,2,    155.7,2,  155.65,2,  140.29,2,    0.00,2,   2.490,2,   0.000,2,   0.000,2,   0.000,2,  2321.6,2,  2411.3,2,   7.5818,2,    25.00, -999.00,9, -999.00,9,      104,   35.83,2,   1.5382,2,       4081
49UP20160703,         P9,      20,          1,          3,        104,2,20160710,       0050,    27.0372,   136.9812,       4574,  4402.8,   1.5578,  34.6829,2,  34.6834,2,    156.5,2,  156.60,2,  140.11,2,    0.00,2,   2.480,2,-999.000,9,-999.000,9,-999.000,9,  2318.7,2,  2412.7,2,   7.5854,2,    25.00, -999.00,9, -999.00,9,       58,   35.68,2,   1.5576,2,       4329
49UP20160703,         P9,      20,          1,          4,        471,2,20160710,       0050,    27.0372,   136.9812,       4574,  4403.2,   1.5577,  34.6830,2,  34.6836,2,    156.5,2,  156.65,2,  140.28,2,    0.00,2,   2.480,2,-999.000,9,-999.000,9,-999.000,9,  2321.1,2,  2411.6,2,   7.5851,2,    25.00, -999.00,9, -999.00,9,       58,   35.70,2,   1.5576,2,       4329
49UP20160703,         P9,      20,          1,          2,        075,2,20160710,       0050,    27.0372,   136.9812,       4574,  4658.0,   1.5844,  34.6832,2,  34.6832,2,    156.9,2,  157.05,2,  140.24,2,    0.00,2,   2.480,2,   0.000,2,   0.000,2,   0.009,2,  2321.0,2,  2412.5,2,    7.585,6,    25.00, -999.00,9, -999.00,9,       53,   35.61,2,   1.5843,2,       4577
49UP20160703,         P9,      20,          1,          1,        997,2,20160710,       0050,    27.0372,   136.9812,       4574,  4759.9,   1.5965,  34.6833,2,  34.6832,2,    157.0,2,  157.05,2,  140.10,2,    0.00,2,   2.480,2,   0.001,2,   0.002,2,   0.000,2,  2320.5,6,  2411.4,6,   7.5853,2,    25.00, -999.00,9, -999.00,9,       50,   35.67,2,   1.5965,2,       4676