BOTTLE,20230712CCHSIOENA
EXPOCODE,SECT_ID,STNNBR,CASTNO,SAMPNO,BTLNBR,BTLNBR_FLAG_W,DATE,TIME,LATITUDE,LONGITUDE,DEPTH,CTDPRS,CTDTMP,CTDSAL,CTDSAL_FLAG_W,SALNTY,SALNTY_FLAG_W,CTDOXY,CTDOXY_FLAG_W,OXYGEN,OXYGEN_FLAG_W,SILCAT,SILCAT_FLAG_W,NITRIT,NITRIT_FLAG_W,PHSPHT,PHSPHT_FLAG_W,CFC-11,CFC-11_FLAG_W,CFC-12,CFC-12_FLAG_W,CFC113,CFC113_FLAG_W,TCARBN,TCARBN_FLAG_W,ALKALI,ALKALI_FLAG_W,PH_TOT,PH_TOT_FLAG_W,PH_TMP,CHLORA,CHLORA_FLAG_W,PPHYTN,PPHYTN_FLAG_W,BTL_TIME,NO2+NO3,NO2+NO3_FLAG_W,SBE35,SBE35_FLAG_W,CTDDEPTH
,,,,,,,,,,,METERS,DBAR,ITS-90,PSS-78,,PSS-78,,UMOL/KG,,UMOL/KG,,UMOL/KG,,UMOL/KG,,UMOL/KG,,PMOL/KG,,PMOL/KG,,PMOL/KG,,UMOL/KG,,UMOL/KG,,,,DEG C,UG/KG,,UG/KG,,,UMOL/KG,,ITS-90,,METERS
49UP20160703,         P9,      82,          1,          0,        BUC,2,20160808,       0455,     1.9847,   142.0065,       2588,     0.0,  29.9674,  33.8726,2,  33.8616,2,    194.4,2,    0.00,4,    0.95,2,    0.00,2,   0.110,2,-999.000,9,-999.000,9,-999.000,9,  1896.4,2,  2225.9,2,   8.1233,2,    25.00,    0.06,2,    0.03,2,      544,    0.03,2,-999.0000,9,          0
49UP20160703,         P9,      82,          1,         36,        109,2,20160808,       0455,     1.9847,   142.0065,       2588,     9.4,  29.9698,  33.8732,2,  33.8722,2,    194.2,2,  194.60,2,    0.95,2,    0.00,2,   0.100,2,   1.505,2,   0.925,2,   0.110,2,  1896.7,6,  2226.1,6,   8.1244,2,    25.00,    0.06,2,    0.03,2,      618,    0.03,2,  29.9715,2,          9
49UP20160703,         P9,      82,          1,         34,        094,2,20160808,       0455,     1.9847,   142.0065,       2588,    25.1,  29.9257,  33.8845,2,  33.8839,2,    194.6,2,  194.43,2,    1.00,2,    0.00,2,   0.100,2,   0.135,4,   0.108,4,   0.019,4,  1898.9,2,  2226.1,2,   8.1225,2,    25.00, -999.00,9, -999.00,9,      617,    0.03,2,  29.9265,2,         25
49UP20160703,         P9,      82,          1,         35,        112,2,20160808,       0455,     1.9847,   142.0065,       2588,    25.3,  29.9276,  33.8847,2,  33.8840,2,    194.6,2,  194.79,2,    0.98,2,    0.00,2,   0.100,2,-999.000,9,-999.000,9,-999.000,9,  1899.6,2,  2226.9,2,   8.1222,2,    25.00,    0.06,2,    0.03,2,      617,    0.04,2,  29.9256,2,         25
49UP20160703,         P9,      82,          1,         32,        089,2,20160808,       0455,     1.9847,   142.0065,       2588,    50.2,  29.9262,  33.8914,2,  33.8925,2,    194.7,2,  194.54,2,    0.94,2,    0.00,2,   0.090,2,   1.509,2,   0.930,2,   0.111,2,  1897.6,2,  2227.1,2,   8.1228,2,    25.00,    0.07,2,    0.04,2,      614,    0.03,2,  29.9271,2,         50
49UP20160703,         P9,      82,          1,         31,        515,2,20160808,       0455,     1.9847,   142.0065,       2588,    75.1,  29.3512,  34.5765,2,  34.5779,2,    198.2,2,  198.14,2,    1.26,2,    0.00,2,   0.110,2,   1.623,2,   0.996,2,   0.103,2,  1955.0,2,  2273.3,2,   8.0898,6,    25.00,    0.18,2,    0.12,2,      612,    0.04,2,  29.3487,2,         75
49UP20160703,         P9,      82,          1,         30,        097,2,20160808,       0455,     1.9847,   142.0065,       2588,   100.8,  28.2072,  34.7294,2,  34.7290,2,    189.6,2,  189.55,2,    1.51,2,    0.03,2,   0.160,2,-999.000,9,-999.000,9,-999.000,9,  1975.0,2,  2284.3,2,   8.0739,2,    25.00,    0.39,2,    0.49,2,      611,    0.06,2,  28.2116,2,        100
49UP20160703,         P9,      82,          1,         29,        102,2,20160808,       0455,     1.9847,   142.0065,       2588,   101.0,  28.2084,  34.7292,2,  34.7252,2,    189.6,2,  189.74,2,    1.51,2,    0.03,2,   0.160,2,   1.657,2,   1.005,2,   0.098,2,  1973.1,2,  2284.9,2,   8.0747,2,    25.00, -999.00,9, -999.00,9,      611,    0.08,2,  28.2133,2,        100
49UP20160703,         P9,      82,          1,         27,        998,2,20160808,       0455,     1.9847,   142.0065,       2588,   126.1,  24.9578,  34.9468,2,  34.9480,2,    147.3,2,  148.08,6,    4.17,6,    0.05,6,   0.530,6,   1.797,2,   1.089,2,   0.073,2,  2040.3,2,  2295.8,2,   7.9656,2,    25.00,    0.08,2,    0.28,2,      609,    6.39,6,  24.9529,2,        125
49UP20160703,         P9,      82,          1,         26,        084,2,20160808,       0455,     1.9847,   142.0065,       2588,   150.6,  18.7069,  35.0358,2,  35.0223,4,    144.3,2,  145.34,2,    8.29,2,    0.01,2,   0.830,2,   2.149,2,   1.281,2,   0.027,2,  2102.8,2,  2304.3,2,   7.8652,2,    25.00,    0.00,2,    0.03,2,      608,   10.92,2,  18.6948,2,        150
49UP20160703,         P9,      82,          1,         25,        098,2,20160808,       0455,     1.9847,   142.0065,       2588,   201.8,  11.6953,  34.4556,2,  34.4773,4,    131.4,2,  131.39,2,   25.00,2,    0.00,2,   1.520,2,   2.137,2,   1.139,2,   0.023,2,  2160.8,2,  2286.3,2,   7.6901,2,    25.00,    0.00,2,    0.02,2,      606,   21.01,2,  11.6925,2,        201
49UP20160703,         P9,      82,          1,         24,        110,2,20160808,       0455,     1.9847,   142.0065,       2588,   251.7,  10.9191,  34.7826,2,  34.7813,2,    137.0,2,  136.73,2,   18.34,2,    0.00,2,   1.640,2,   1.715,2,   0.890,2,   0.020,2,  2179.8,2,  2305.5,2,   7.6899,2,    25.00, -999.00,9, -999.00,9,      604,   22.83,2,  10.9183,2,        250
49UP20160703,         P9,      82,          1,         23,        679,2,20160808,       0455,     1.9847,   142.0065,       2588,   331.7,   9.9558,  34.7087,2,  34.7089,2,    119.6,2,  119.84,2,   23.44,2,    0.00,2,   1.870,2,   1.380,2,   0.713,2,   0.004,2,  2197.5,6,  2304.8,6,   7.6371,2,    25.00, -999.00,9, -999.00,9,      600,   26.36,2,   9.9548,2,        330
49UP20160703,         P9,      82,          1,         22,        111,2,20160808,       0455,     1.9847,   142.0065,       2588,   382.5,   9.3525,  34.6706,2,  34.6705,2,    101.9,2,  102.05,6,   27.66,6,    0.00,6,   2.070,6,-999.000,9,-999.000,9,-999.000,9,  2214.1,2,  2303.2,2,   7.5941,2,    25.00, -999.00,9, -999.00,9,      558,   29.31,6,   9.3527,2,        380
49UP20160703,         P9,      82,          1,         21,        078,2,20160808,       0455,     1.9847,   142.0065,       2588,   433.7,   8.9945,  34.6442,2,  34.6446,6,    108.3,2,  107.99,2,   28.82,2,    0.00,2,   2.060,2,   1.035,6,   0.518,6,   0.005,6,  2213.4,2,  2303.5,2,   7.5932,2,    25.00, -999.00,9, -999.00,9,      556,   29.37,2,   8.9957,2,        431
49UP20160703,         P9,      82,          1,         20,        093,2,20160808,       0455,     1.9847,   142.0065,       2588,   484.3,   8.4901,  34.6126,2,  34.6124,2,    116.8,2,  116.24,2,   30.17,2,    0.00,2,   2.070,2,-999.000,9,-999.000,9,-999.000,9,  2213.8,2,  2305.5,2,   7.5972,6,    25.00, -999.00,9, -999.00,9,      554,   29.55,2,   8.4900,2,        481
49UP20160703,         P9,      82,          1,         19,        269,2,20160808,       0455,     1.9847,   142.0065,       2588,   535.4,   7.7332,  34.5604,2,  34.5602,2,    113.9,2,  114.36,2,   37.15,2,    0.00,2,   2.190,2,   0.827,2,   0.403,2,   0.007,2,  2223.0,2,  2308.9,2,     7.58,2,    25.00, -999.00,9, -999.00,9,      552,   31.03,2,   7.7380,2,        532
49UP20160703,         P9,      82,          1,         18,        088,2,20160808,       0455,     1.9847,   142.0065,       2588,   636.8,   6.8645,  34.5499,2,  34.5501,2,     83.5,2,   83.59,2,   49.00,2,    0.00,2,   2.530,2,   0.282,2,   0.132,2,   0.002,2,  2253.8,2,  2317.3,2,   7.5124,2,    25.00, -999.00,9, -999.00,9,      549,   35.65,2,   6.8663,2,        632
49UP20160703,         P9,      82,          1,         17,        090,2,20160808,       0455,     1.9847,   142.0065,       2588,   736.1,   5.9388,  34.5332,2,  34.5332,2,     92.0,2,   91.83,2,   60.66,2,    0.00,2,   2.590,2,   0.197,6,   0.092,6,   0.002,6,  2265.5,2,  2327.9,2,   7.5111,2,    25.00, -999.00,9, -999.00,9,      545,   36.45,2,   5.9389,2,        731
49UP20160703,         P9,      82,          1,         16,        474,2,20160808,       0455,     1.9847,   142.0065,       2588,   837.8,   5.3286,  34.5363,2,  34.5371,2,     96.2,2,   96.04,6,   68.71,6,    0.00,6,   2.630,6,   0.133,2,   0.063,2,   0.001,2,  2274.8,2,  2338.4,2,   7.5141,2,    25.00, -999.00,9, -999.00,9,      542,   36.96,6,   5.3288,2,        832
49UP20160703,         P9,      82,          1,         11,        268,2,20160808,       0455,     1.9847,   142.0065,       2588,   939.6,   4.8018,  34.5456,2,  34.5448,2,     99.3,2,   99.22,2,   78.36,2,    0.00,2,   2.650,2,   0.103,2,   0.050,2,   0.003,2,  2287.3,2,  2351.0,2,   7.5149,2,    25.00, -999.00,9, -999.00,9,      538,   37.36,2,   4.8046,2,        932
49UP20160703,         P9,      82,          1,         12,        074,2,20160808,       0455,     1.9847,   142.0065,       2588,   940.7,   4.7858,  34.5464,2,  34.5444,4,     97.7,2,   99.02,2,   78.55,2,    0.00,2,   2.660,2,-999.000,9,-999.000,9,-999.000,9,  2291.1,2,  2349.3,2,   7.5132,2,    25.00, -999.00,9, -999.00,9,      538,   37.33,2,   4.7858,2,        933
49UP20160703,         P9,      82,          1,         10,        267,2,20160808,       0455,     1.9847,   142.0065,       2588,  1079.8,   4.2346,  34.5606,2,  34.5611,6,     95.8,2,   95.99,2,   92.50,2,    0.00,2,   2.720,2,   0.050,2,   0.025,2,   0.000,2,  2303.6,2,  2365.1,2,   7.5069,2,    25.00, -999.00,9, -999.00,9,      535,   38.13,2,   4.2342,2,       1071
49UP20160703,         P9,      82,          1,          9,        518,2,20160808,       0455,     1.9847,   142.0065,       2588,  1282.4,   3.5576,  34.5812,2,  34.5794,4,     98.7,2,   98.59,2,  106.36,2,    0.00,2,   2.750,2,   0.022,2,   0.013,2,   0.000,2,  2313.0,2,  2379.5,2,   7.5072,2,    25.00, -999.00,9, -999.00,9,      529,   38.56,2,   3.5572,2,       1271
49UP20160703,         P9,      82,          1,          8,        470,2,20160808,       0455,     1.9847,   142.0065,       2588,  1485.1,   2.8059,  34.6080,2,  34.6072,2,    104.0,2,  104.09,2,  123.53,2,    0.00,2,   2.760,2,   0.000,2,   0.001,2,   0.000,2,  2331.5,2,  2396.0,2,   7.5129,2,    25.00, -999.00,9, -999.00,9,      523,   38.77,2,   2.8060,2,       1472
49UP20160703,         P9,      82,          1,          6,        113,2,20160808,       0455,     1.9847,   142.0065,       2588,  1685.9,   2.5150,  34.6213,2,  34.6217,2,    113.4,2,  113.20,2,  127.02,2,    0.00,2,   2.710,2,-999.000,9,-999.000,9,-999.000,9,  2331.5,2,  2401.7,2,   7.5241,2,    25.00, -999.00,9, -999.00,9,      518,   38.27,2,   2.5150,2,       1670
49UP20160703,         P9,      82,          1,          7,        516,2,20160808,       0455,     1.9847,   142.0065,       2588,  1686.2,   2.5150,  34.6213,2,  34.6214,2,    113.4,2,  113.48,2,  127.02,2,    0.00,2,   2.710,2,-999.000,9,-999.000,9,-999.000,9,  2329.4,2,  2402.4,2,   7.5268,2,    25.00, -999.00,9, -999.00,9,      518,   38.23,2,   2.5151,2,       1670
49UP20160703,         P9,      82,          1,          5,        658,2,20160808,       0455,     1.9847,   142.0065,       2588,  1888.0,   2.3048,  34.6316,2,  34.6320,2,    117.0,2,  116.79,2,  131.90,2,    0.00,2,   2.690,2,-999.000,9,-999.000,9,-999.000,9,  2334.3,2,  2407.8,2,     7.53,6,    25.00, -999.00,9, -999.00,9,      514,   38.08,2,   2.3043,2,       1869
49UP20160703,         P9,      82,          1,          4,        471,2,20160808,       0455,     1.9847,   142.0065,       2588,  2090.0,   2.1230,  34.6404,2,  34.6408,2,    119.7,2,  119.83,2,  136.71,2,    0.00,2,   2.680,2,   0.000,2,   0.000,2,   0.000,2,  2336.2,6,  2410.7,6,   7.5344,2,    25.00, -999.00,9, -999.00,9,      508,   37.97,2,   2.1232,2,       2068
49UP20160703,         P9,      82,          1,          3,        104,2,20160808,       0455,     1.9847,   142.0065,       2588,  2292.9,   1.9469,  34.6501,2,  34.6499,2,    124.0,2,  123.95,6,  140.47,6,    0.00,6,   2.660,6,-999.000,9,-999.000,9,-999.000,9,  2337.4,2,  2415.1,2,    7.538,2,    25.00, -999.00,9, -999.00,9,      504,   37.79,6,   1.9466,2,       2268
49UP20160703,         P9,      82,          1,          2,        075,2,20160808,       0455,     1.9847,   142.0065,       2588,  2498.4,   1.7886,  34.6591,2,  34.6593,2,    131.0,2,  130.51,2,  141.98,2,    0.00,2,   2.620,2,   0.000,2,   0.000,2,   0.006,2,  2336.6,2,  2417.9,2,   7.5521,2,    25.00, -999.00,9, -999.00,9,      459,   37.35,2,   1.7891,2,       2470
49UP20160703,         P9,      82,          1,          1,        997,2,20160808,       0455,     1.9847,   142.0065,       2588,  2577.0,   1.7091,  34.6635,2,  34.6639,2,    135.2,2,  134.71,2,  142.42,2,    0.00,2,   2.590,2,   0.000,2,   0.002,2,   0.004,2,  2335.7,2,  2419.3,2,   7.5587,2,    25.00, -999.00,9, -999.00,9,      456,   37.07,2,   1.7090,2,       2547