BOTTLE,20230712CCHSIOENA
EXPOCODE,SECT_ID,STNNBR,CASTNO,SAMPNO,BTLNBR,BTLNBR_FLAG_W,DATE,TIME,LATITUDE,LONGITUDE,DEPTH,CTDPRS,CTDTMP,CTDSAL,CTDSAL_FLAG_W,SALNTY,SALNTY_FLAG_W,CTDOXY,CTDOXY_FLAG_W,OXYGEN,OXYGEN_FLAG_W,SILCAT,SILCAT_FLAG_W,NITRIT,NITRIT_FLAG_W,PHSPHT,PHSPHT_FLAG_W,CFC-11,CFC-11_FLAG_W,CFC-12,CFC-12_FLAG_W,CFC113,CFC113_FLAG_W,TCARBN,TCARBN_FLAG_W,ALKALI,ALKALI_FLAG_W,PH_TOT,PH_TOT_FLAG_W,PH_TMP,CHLORA,CHLORA_FLAG_W,PPHYTN,PPHYTN_FLAG_W,BTL_TIME,NO2+NO3,NO2+NO3_FLAG_W,SBE35,SBE35_FLAG_W,CTDDEPTH
,,,,,,,,,,,METERS,DBAR,ITS-90,PSS-78,,PSS-78,,UMOL/KG,,UMOL/KG,,UMOL/KG,,UMOL/KG,,UMOL/KG,,PMOL/KG,,PMOL/KG,,PMOL/KG,,UMOL/KG,,UMOL/KG,,,,DEG C,UG/KG,,UG/KG,,,UMOL/KG,,ITS-90,,METERS
49UP20160703,         P9,      48,          1,          0,        BUC,2,20160719,       0345,    12.9998,   136.9888,       4842,     0.0,  30.5118,  34.5575,2,  34.5554,2,    192.6,2,  192.95,2,    1.02,2,    0.00,2,   0.070,2,-999.000,9,-999.000,9,-999.000,9,  1940.4,2,  2269.2,2,   8.1111,2,    25.00,    0.00,4,    0.09,4,      520,    0.05,2,-999.0000,9,          0
49UP20160703,         P9,      48,          1,         36,        109,2,20160719,       0345,    12.9998,   136.9888,       4842,    10.6,  30.2887,  34.5539,2,  34.5539,2,    192.8,2,  192.89,2,    1.02,2,    0.00,2,   0.060,2,   1.444,2,   0.929,2,   0.109,2,  1938.9,2,  2270.2,2,   8.1105,2,    25.00,    0.00,4,    0.09,4,      546,    0.03,2,  30.2891,2,         11
49UP20160703,         P9,      48,          1,         35,        112,2,20160719,       0345,    12.9998,   136.9888,       4842,    51.6,  29.2018,  34.7220,2,  34.7248,2,    202.2,2,  201.81,2,    1.24,2,    0.00,2,   0.060,2,   1.581,2,   0.979,2,   0.111,2,  1952.7,2,  2281.6,2,   8.1011,2,    25.00,    0.00,4,    0.09,4,      542,    0.02,2,  29.2014,2,         51
49UP20160703,         P9,      48,          1,         28,        472,2,20160719,       0345,    12.9998,   136.9888,       4842,    76.3,  28.7729,  34.8274,2,  34.8286,2,    201.9,2,  201.56,6,    1.21,6,    0.00,6,   0.070,6,   1.588,2,   0.988,2,   0.117,2,  1962.0,2,  2287.9,2,   8.0982,6,    25.00,    0.00,4,    0.15,4,      541,    0.04,6,  28.7690,2,         76
49UP20160703,         P9,      48,          1,         34,        094,2,20160719,       0345,    12.9998,   136.9888,       4842,   101.0,  27.7084,  34.8062,2,  34.8091,2,    203.5,2,  203.78,2,    1.25,2,    0.00,2,   0.080,2,   1.628,2,   1.024,2,   0.124,2,  1964.9,2,  2287.6,2,   8.0938,2,    25.00,    0.00,4,    0.28,4,      540,    0.05,2,  27.6961,2,        100
49UP20160703,         P9,      48,          1,         33,        469,2,20160719,       0345,    12.9998,   136.9888,       4842,   128.4,  25.5464,  35.0240,2,  35.0315,2,    196.6,2,  198.23,2,    1.40,2,    0.01,2,   0.100,2,   1.764,6,   1.119,6,   0.113,6,  1998.0,2,  2304.5,2,   8.0624,2,    25.00,    0.00,4,    0.96,4,      539,    0.06,2,  25.5560,2,        128
49UP20160703,         P9,      48,          1,         32,        089,2,20160719,       0345,    12.9998,   136.9888,       4842,   151.6,  22.7512,  35.1584,2,  35.1604,2,    185.1,2,  186.19,2,    2.06,2,    0.20,2,   0.190,2,   1.975,2,   1.241,2,   0.093,2,  2039.4,2,  2313.8,2,   7.9966,2,    25.00,    0.00,4,    0.62,4,      537,    1.07,2,  22.7643,2,        151
49UP20160703,         P9,      48,          1,         31,        515,2,20160719,       0345,    12.9998,   136.9888,       4842,   201.1,  17.1793,  34.7157,2,  34.7112,2,    159.4,2,  159.88,2,    7.93,2,    0.01,2,   0.720,2,   2.373,2,   1.428,2,   0.039,2,  2093.5,2,  2286.1,2,   7.8452,2,    25.00,    0.00,4,    0.14,4,      535,    9.17,2,  17.1692,2,        200
49UP20160703,         P9,      48,          1,         30,        097,2,20160719,       0345,    12.9998,   136.9888,       4842,   252.2,  13.4999,  34.4915,2,  34.4916,2,    131.9,2,  131.51,2,   17.79,2,    0.00,2,   1.300,2,   2.275,2,   1.292,2,   0.032,2,  2142.6,2,  2281.5,2,   7.7215,2,    25.00, -999.00,9, -999.00,9,      534,   17.67,2,  13.5000,2,        251
49UP20160703,         P9,      48,          1,         29,        102,2,20160719,       0345,    12.9998,   136.9888,       4842,   282.7,  12.1495,  34.4571,2,  34.4568,2,    116.9,2,  114.47,2,   23.90,2,    0.00,2,   1.600,2,   2.013,2,   1.089,2,   0.025,2,  2170.9,2,  2283.8,2,   7.6589,2,    25.00, -999.00,9, -999.00,9,      532,   21.93,2,  12.1606,2,        281
49UP20160703,         P9,      48,          1,         27,        998,2,20160719,       0345,    12.9998,   136.9888,       4842,   322.8,  10.3366,  34.4390,2,  34.4407,2,    100.9,2,   99.69,2,   32.73,2,    0.00,2,   1.920,2,-999.000,9,-999.000,9,-999.000,9,  2198.6,6,  2291.1,6,   7.5964,2,    25.00, -999.00,9, -999.00,9,      531,   26.63,2,  10.3369,2,        321
49UP20160703,         P9,      48,          1,         26,        084,2,20160719,       0345,    12.9998,   136.9888,       4842,   373.2,   9.2363,  34.4464,2,  34.4467,2,     91.2,2,   91.06,2,   38.37,2,    0.00,2,   2.110,2,   1.301,6,   0.652,6,   0.015,6,  2218.5,2,  2298.5,2,   7.5599,2,    25.00, -999.00,9, -999.00,9,      529,   29.42,2,   9.2364,2,        371
49UP20160703,         P9,      48,          1,         25,        098,2,20160719,       0345,    12.9998,   136.9888,       4842,   422.8,   8.5433,  34.4541,2,  34.4543,2,     88.4,2,   88.95,2,   42.71,2,    0.00,2,   2.220,2,-999.000,9,-999.000,9,-999.000,9,  2230.2,2,  2305.3,2,   7.5441,2,    25.00, -999.00,9, -999.00,9,      528,   31.04,2,   8.5421,2,        420
49UP20160703,         P9,      48,          1,         24,        110,2,20160719,       0345,    12.9998,   136.9888,       4842,   473.8,   7.7500,  34.4649,2,  34.4654,2,     87.9,2,   88.28,2,   48.07,2,    0.00,2,   2.320,2,   0.807,2,   0.395,2,   0.000,2,  2242.2,2,  2309.0,2,    7.529,2,    25.00, -999.00,9, -999.00,9,      526,   32.67,2,   7.7497,2,        471
49UP20160703,         P9,      48,          1,         23,        679,2,20160719,       0345,    12.9998,   136.9888,       4842,   575.3,   7.0102,  34.4675,2,  34.4686,6,     81.5,2,   81.94,6,   55.41,6,    0.00,6,   2.470,6,   0.496,2,   0.251,2,   0.000,2,  2255.1,2,  2316.2,2,     7.51,2,    25.00, -999.00,9, -999.00,9,      524,   34.59,6,   7.0098,2,        571
49UP20160703,         P9,      48,          1,         22,        111,2,20160719,       0345,    12.9998,   136.9888,       4842,   676.5,   6.2977,  34.4822,2,  34.4832,2,     83.5,2,   83.97,2,   63.18,2,    0.00,2,   2.560,2,   0.328,2,   0.159,2,   0.000,2,  2265.6,2,  2326.6,2,   7.5015,6,    25.00, -999.00,9, -999.00,9,      521,   35.79,2,   6.2975,2,        672
49UP20160703,         P9,      48,          1,         21,        078,2,20160719,       0345,    12.9998,   136.9888,       4842,   776.4,   5.7498,  34.5045,2,  34.5050,2,     83.3,2,   83.70,2,   70.75,2,    0.00,2,   2.630,2,   0.201,2,   0.096,2,   0.000,2,  2278.3,2,  2335.9,2,   7.4953,2,    25.00, -999.00,9, -999.00,9,      518,   36.87,2,   5.7506,2,        770
49UP20160703,         P9,      48,          1,         20,        093,2,20160719,       0345,    12.9998,   136.9888,       4842,   877.5,   5.2119,  34.5207,2,  34.5208,2,     82.7,2,   82.51,2,   79.79,2,    0.00,2,   2.690,2,   0.127,2,   0.062,2,   0.000,2,  2291.4,2,  2347.0,2,    7.493,2,    25.00, -999.00,9, -999.00,9,      516,   37.70,2,   5.2114,2,        871
49UP20160703,         P9,      48,          1,         19,        269,2,20160719,       0345,    12.9998,   136.9888,       4842,   979.1,   4.7110,  34.5360,2,  34.5371,2,     81.2,2,   80.88,2,   89.50,2,    0.00,2,   2.750,2,   0.070,2,   0.032,2,   0.000,2,  2301.0,2,  2356.9,2,    7.484,2,    25.00, -999.00,9, -999.00,9,      513,   38.55,2,   4.7108,2,        971
49UP20160703,         P9,      48,          1,         18,        088,2,20160719,       0345,    12.9998,   136.9888,       4842,  1141.2,   4.0094,  34.5504,2,  34.5510,2,     85.9,2,   85.95,6,  104.05,6,    0.00,6,   2.770,6,   0.040,2,   0.019,2,   0.000,2,  2314.1,2,  2371.4,2,   7.4856,2,    25.00, -999.00,9, -999.00,9,      509,   38.81,6,   4.0093,2,       1132
49UP20160703,         P9,      48,          1,         17,        090,2,20160719,       0345,    12.9998,   136.9888,       4842,  1343.7,   3.4085,  34.5695,2,  34.5701,6,     91.8,2,   91.83,2,  116.34,2,    0.00,2,   2.770,2,   0.029,2,   0.016,2,   0.000,2,  2322.9,2,  2385.2,2,   7.4929,2,    25.00, -999.00,9, -999.00,9,      505,   38.90,2,   3.4084,2,       1332
49UP20160703,         P9,      48,          1,         16,        474,2,20160719,       0345,    12.9998,   136.9888,       4842,  1545.1,   2.9283,  34.5865,2,  34.5867,2,     98.5,2,   98.56,2,  126.14,2,    0.00,2,   2.750,2,-999.000,9,-999.000,9,-999.000,9,  2331.7,6,  2395.3,6,   7.5013,2,    25.00, -999.00,9, -999.00,9,      500,   38.76,2,   2.9282,2,       1531
49UP20160703,         P9,      48,          1,         15,        665,2,20160719,       0345,    12.9998,   136.9888,       4842,  1748.5,   2.7234,  34.6018,2,  34.6021,2,    101.4,2,  101.23,2,  129.50,2,    0.00,2,   2.750,2,-999.000,9,-999.000,9,-999.000,9,  2336.8,2,  2397.1,2,   7.5052,2,    25.00, -999.00,9, -999.00,9,      455,   38.90,2,   2.7235,2,       1731
49UP20160703,         P9,      48,          1,         14,        999,2,20160719,       0345,    12.9998,   136.9888,       4842,  1951.5,   2.3568,  34.6229,2,  34.6233,2,    110.5,2,  110.55,2,  135.35,2,    0.00,2,   2.710,2,   0.000,2,   0.000,2,   0.000,2,  2338.7,2,  2406.0,2,   7.5201,2,    25.00, -999.00,9, -999.00,9,      451,   38.54,2,   2.3577,2,       1931
49UP20160703,         P9,      48,          1,         13,        667,2,20160719,       0345,    12.9998,   136.9888,       4842,  2152.8,   1.9791,  34.6419,2,  34.6425,2,    120.5,2,  120.73,2,  141.51,2,    0.00,2,   2.660,2,-999.000,9,-999.000,9,-999.000,9,  2338.3,2,  2410.9,2,   7.5305,2,    25.00, -999.00,9, -999.00,9,      447,   38.00,2,   1.9790,2,       2129
49UP20160703,         P9,      48,          1,         12,        074,2,20160719,       0345,    12.9998,   136.9888,       4842,  2357.1,   1.8460,  34.6506,2,  34.6508,2,    125.9,2,  125.94,2,  143.54,2,    0.00,2,   2.640,2,   0.000,2,   0.000,2,   0.002,2,  2341.2,2,  2415.8,2,   7.5404,2,    25.00, -999.00,9, -999.00,9,      442,   37.74,2,   1.8461,2,       2330
49UP20160703,         P9,      48,          1,         11,        268,2,20160719,       0345,    12.9998,   136.9888,       4842,  2560.6,   1.7605,  34.6566,2,  34.6568,6,    130.2,2,  130.23,2,  144.48,2,    0.00,2,   2.610,2,-999.000,9,-999.000,9,-999.000,9,  2337.7,2,  2416.4,2,   7.5475,2,    25.00, -999.00,9, -999.00,9,      438,   37.49,2,   1.7607,2,       2530
49UP20160703,         P9,      48,          1,         10,        267,2,20160719,       0345,    12.9998,   136.9888,       4842,  2764.8,   1.7020,  34.6612,2,  34.6621,2,    133.8,2,  134.09,2,  144.78,2,    0.00,2,   2.600,2,-999.000,9,-999.000,9,-999.000,9,  2336.1,2,  2417.6,2,   7.5511,2,    25.00, -999.00,9, -999.00,9,      434,   37.26,2,   1.7020,2,       2731
49UP20160703,         P9,      48,          1,          9,        518,2,20160719,       0345,    12.9998,   136.9888,       4842,  2969.9,   1.6515,  34.6658,2,  34.6659,2,    138.5,2,  138.23,2,  144.15,2,    0.00,2,   2.570,2,   0.000,2,   0.000,2,   0.000,2,  2331.0,2,  2417.2,2,   7.5586,2,    25.00, -999.00,9, -999.00,9,      429,   36.95,2,   1.6515,2,       2932
49UP20160703,         P9,      48,          1,          8,        470,2,20160719,       0345,    12.9998,   136.9888,       4842,  3213.5,   1.6045,  34.6703,2,  34.6707,2,    142.6,2,  142.62,2,  143.78,2,    0.00,2,   2.550,2,-999.000,9,-999.000,9,-999.000,9,  2329.2,2,  2416.8,2,   7.5656,2,    25.00, -999.00,9, -999.00,9,      424,   36.68,2,   1.6045,2,       3171
49UP20160703,         P9,      48,          1,          7,        516,2,20160719,       0345,    12.9998,   136.9888,       4842,  3469.1,   1.5790,  34.6739,2,  34.6737,2,    146.1,2,  146.34,2,  143.32,2,    0.00,2,   2.540,2,   0.000,2,   0.000,2,   0.000,2,  2328.0,2,  2416.1,2,   7.5715,2,    25.00, -999.00,9, -999.00,9,      419,   36.40,2,   1.5789,2,       3421
49UP20160703,         P9,      48,          1,          6,        113,2,20160719,       0345,    12.9998,   136.9888,       4842,  3725.0,   1.5510,  34.6778,2,  34.6776,2,    150.5,2,  150.39,2,  142.26,2,    0.00,2,   2.510,2,-999.000,9,-999.000,9,-999.000,9,  2323.3,2,  2415.4,2,   7.5757,2,    25.00, -999.00,9, -999.00,9,      413,   36.17,2,   1.5508,2,       3671
49UP20160703,         P9,      48,          1,          5,        658,2,20160719,       0345,    12.9998,   136.9888,       4842,  3980.7,   1.5217,  34.6820,2,  34.6819,2,    155.3,2,  155.16,2,  140.79,2,    0.00,2,   2.480,2,   0.000,2,   0.000,2,   0.000,2,  2320.7,2,  2413.9,2,   7.5818,6,    25.00, -999.00,9, -999.00,9,      407,   35.82,2,   1.5218,2,       3921
49UP20160703,         P9,      48,          1,          4,        471,2,20160719,       0345,    12.9998,   136.9888,       4842,  4237.0,   1.5148,  34.6845,2,  34.6845,2,    158.6,2,  158.52,2,  139.55,2,    0.00,2,   2.460,2,-999.000,9,-999.000,9,-999.000,9,  2319.0,6,  2412.3,6,    7.587,2,    25.00, -999.00,9, -999.00,9,      402,   35.61,2,   1.5147,2,       4171
49UP20160703,         P9,      48,          1,          3,        104,2,20160719,       0345,    12.9998,   136.9888,       4842,  4492.7,   1.5311,  34.6857,2,  34.6857,2,    159.9,2,  160.18,6,  139.20,6,    0.00,6,   2.460,6,   0.000,2,   0.000,2,   0.000,2,  2317.3,2,  2411.6,2,   7.5901,2,    25.00, -999.00,9, -999.00,9,      356,   35.52,6,   1.5311,2,       4420
49UP20160703,         P9,      48,          1,          2,        075,2,20160719,       0345,    12.9998,   136.9888,       4842,  4749.7,   1.5505,  34.6863,2,  34.6865,6,    160.9,2,  161.09,2,  138.82,2,    0.00,2,   2.450,2,-999.000,9,-999.000,9,-999.000,9,  2317.7,2,  2409.9,2,   7.5865,2,    25.00, -999.00,9, -999.00,9,      351,   35.43,2,   1.5504,2,       4670
49UP20160703,         P9,      48,          1,          1,        997,2,20160719,       0345,    12.9998,   136.9888,       4842,  5006.7,   1.5751,  34.6868,2,  34.6869,2,    161.5,2,  161.42,2,  138.86,2,    0.00,2,   2.450,2,   0.000,2,   0.000,2,   0.000,2,  2315.7,2,  2408.7,2,   7.5853,3,    25.00, -999.00,9, -999.00,9,      346,   35.44,2,   1.5750,2,       4920