BOTTLE,20230712CCHSIOENA
EXPOCODE,SECT_ID,STNNBR,CASTNO,SAMPNO,BTLNBR,BTLNBR_FLAG_W,DATE,TIME,LATITUDE,LONGITUDE,DEPTH,CTDPRS,CTDTMP,CTDSAL,CTDSAL_FLAG_W,SALNTY,SALNTY_FLAG_W,CTDOXY,CTDOXY_FLAG_W,OXYGEN,OXYGEN_FLAG_W,SILCAT,SILCAT_FLAG_W,NITRIT,NITRIT_FLAG_W,PHSPHT,PHSPHT_FLAG_W,CFC-11,CFC-11_FLAG_W,CFC-12,CFC-12_FLAG_W,CFC113,CFC113_FLAG_W,TCARBN,TCARBN_FLAG_W,ALKALI,ALKALI_FLAG_W,PH_TOT,PH_TOT_FLAG_W,PH_TMP,CHLORA,CHLORA_FLAG_W,PPHYTN,PPHYTN_FLAG_W,BTL_TIME,NO2+NO3,NO2+NO3_FLAG_W,SBE35,SBE35_FLAG_W,CTDDEPTH
,,,,,,,,,,,METERS,DBAR,ITS-90,PSS-78,,PSS-78,,UMOL/KG,,UMOL/KG,,UMOL/KG,,UMOL/KG,,UMOL/KG,,PMOL/KG,,PMOL/KG,,PMOL/KG,,UMOL/KG,,UMOL/KG,,,,DEG C,UG/KG,,UG/KG,,,UMOL/KG,,ITS-90,,METERS
49UP20160703,         P9,      15,          1,          0,        BUC,2,20160708,       0459,    29.5265,   137.1505,       4537,     0.0,  28.9050,  34.5039,2,-999.0000,9,    201.4,2,  200.06,2,    1.50,2,    0.00,2,   0.010,2,-999.000,9,-999.000,9,-999.000,9,  -999.0,9,  -999.0,9,-999.0000,9,  -999.00, -999.00,9, -999.00,9,      632,    0.01,2,-999.0000,9,          0
49UP20160703,         P9,      15,          1,         36,        109,2,20160708,       0459,    29.5265,   137.1505,       4537,    10.6,  27.7409,  34.5038,2,  34.5059,2,    206.3,2,  206.54,2,    1.50,2,    0.00,2,   0.010,2,-999.000,9,-999.000,9,-999.000,9,  -999.0,9,  -999.0,9,-999.0000,9,  -999.00, -999.00,9, -999.00,9,      654,    0.00,2,  27.7310,2,         11
49UP20160703,         P9,      15,          1,         35,        112,2,20160708,       0459,    29.5265,   137.1505,       4537,    24.9,  26.4320,  34.5399,2,  34.5432,2,    211.2,2,  211.47,2,    1.50,2,    0.00,2,   0.010,2,-999.000,9,-999.000,9,-999.000,9,  -999.0,9,  -999.0,9,-999.0000,9,  -999.00, -999.00,9, -999.00,9,      653,    0.00,2,  26.4222,2,         25
49UP20160703,         P9,      15,          1,         34,        094,2,20160708,       0459,    29.5265,   137.1505,       4537,    51.5,  21.1685,  34.8841,2,  34.8851,2,    229.8,2,  229.35,2,    1.61,2,    0.00,2,   0.020,2,-999.000,9,-999.000,9,-999.000,9,  -999.0,9,  -999.0,9,-999.0000,9,  -999.00, -999.00,9, -999.00,9,      650,    0.01,2,  21.1672,2,         51
49UP20160703,         P9,      15,          1,         33,        469,2,20160708,       0459,    29.5265,   137.1505,       4537,    75.5,  20.3828,  34.8919,2,  34.8919,2,    224.7,2,  224.43,2,    1.48,2,    0.00,2,   0.040,2,-999.000,9,-999.000,9,-999.000,9,  -999.0,9,  -999.0,9,-999.0000,9,  -999.00, -999.00,9, -999.00,9,      649,    0.01,2,  20.3842,2,         75
49UP20160703,         P9,      15,          1,         32,        089,2,20160708,       0459,    29.5265,   137.1505,       4537,   100.2,  19.8195,  34.8912,2,  34.8912,6,    216.0,2,  215.91,2,    1.81,2,    0.10,2,   0.090,2,-999.000,9,-999.000,9,-999.000,9,  -999.0,9,  -999.0,9,-999.0000,9,  -999.00, -999.00,9, -999.00,9,      648,    1.16,2,  19.8172,2,         99
49UP20160703,         P9,      15,          1,         31,        515,2,20160708,       0459,    29.5265,   137.1505,       4537,   126.4,  19.5580,  34.8916,2,  34.8923,2,    215.7,2,  215.48,6,    1.99,6,    0.03,6,   0.110,6,-999.000,9,-999.000,9,-999.000,9,  -999.0,9,  -999.0,9,-999.0000,9,  -999.00, -999.00,9, -999.00,9,      647,    1.44,6,  19.5576,2,        126
49UP20160703,         P9,      15,          1,         29,        102,2,20160708,       0459,    29.5265,   137.1505,       4537,   151.8,  19.4235,  34.8911,2,  34.8907,2,    215.5,2,  215.33,2,    1.99,2,    0.01,2,   0.120,2,-999.000,9,-999.000,9,-999.000,9,  -999.0,9,  -999.0,9,-999.0000,9,  -999.00, -999.00,9, -999.00,9,      645,    1.55,2,  19.4236,2,        151
49UP20160703,         P9,      15,          1,         30,        097,2,20160708,       0459,    29.5265,   137.1505,       4537,   152.4,  19.4151,  34.8911,2,  34.8911,2,    215.5,2,  215.60,2,    2.11,2,    0.02,2,   0.120,2,-999.000,9,-999.000,9,-999.000,9,  -999.0,9,  -999.0,9,-999.0000,9,  -999.00, -999.00,9, -999.00,9,      646,    1.56,2,  19.4158,2,        151
49UP20160703,         P9,      15,          1,         28,        472,2,20160708,       0459,    29.5265,   137.1505,       4537,   202.9,  19.1307,  34.8741,2,  34.8743,2,    217.5,2,  217.13,2,    2.23,2,    0.01,2,   0.140,2,-999.000,9,-999.000,9,-999.000,9,  -999.0,9,  -999.0,9,-999.0000,9,  -999.00, -999.00,9, -999.00,9,      644,    1.87,2,  19.1299,2,        201
49UP20160703,         P9,      15,          1,         27,        998,2,20160708,       0459,    29.5265,   137.1505,       4537,   251.1,  18.9395,  34.8731,2,  34.8736,2,    220.1,2,  219.86,2,    2.37,2,    0.01,2,   0.140,2,-999.000,9,-999.000,9,-999.000,9,  -999.0,9,  -999.0,9,-999.0000,9,  -999.00, -999.00,9, -999.00,9,      642,    1.90,2,  18.9391,2,        249
49UP20160703,         P9,      15,          1,         26,        084,2,20160708,       0459,    29.5265,   137.1505,       4537,   283.8,  18.7347,  34.8591,2,  34.8597,2,    219.4,2,  219.35,2,    2.48,2,    0.01,2,   0.150,2,-999.000,9,-999.000,9,-999.000,9,  -999.0,9,  -999.0,9,-999.0000,9,  -999.00, -999.00,9, -999.00,9,      641,    2.00,2,  18.7347,2,        282
49UP20160703,         P9,      15,          1,         25,        098,2,20160708,       0459,    29.5265,   137.1505,       4537,   374.1,  17.5278,  34.7535,2,  34.7529,2,    203.5,2,  203.67,2,    4.32,2,    0.00,2,   0.310,2,-999.000,9,-999.000,9,-999.000,9,  -999.0,9,  -999.0,9,-999.0000,9,  -999.00, -999.00,9, -999.00,9,      639,    4.74,2,  17.5165,2,        371
49UP20160703,         P9,      15,          1,         24,        110,2,20160708,       0459,    29.5265,   137.1505,       4537,   475.0,  16.0315,  34.6398,2,  34.6392,2,    195.0,2,  195.34,2,    7.94,2,    0.00,2,   0.520,2,-999.000,9,-999.000,9,-999.000,9,  -999.0,9,  -999.0,9,-999.0000,9,  -999.00, -999.00,9, -999.00,9,      636,    7.75,2,  16.0306,2,        471
49UP20160703,         P9,      15,          1,         23,        679,2,20160708,       0459,    29.5265,   137.1505,       4537,   575.2,  13.4393,  34.4515,2,  34.4514,2,    181.1,2,  181.32,2,   16.53,2,    0.00,2,   0.910,2,-999.000,9,-999.000,9,-999.000,9,  -999.0,9,  -999.0,9,-999.0000,9,  -999.00, -999.00,9, -999.00,9,      634,   13.17,2,  13.4535,2,        571
49UP20160703,         P9,      15,          1,         22,        111,3,20160708,       0459,    29.5265,   137.1505,       4537,   677.7,   9.9118,  34.2200,2,  34.2209,6,    165.5,2,  165.97,2,   32.69,2,    0.00,2,   1.450,2,-999.000,9,-999.000,9,-999.000,9,  -999.0,9,  -999.0,9,-999.0000,9,  -999.00, -999.00,9, -999.00,9,      631,   20.41,2,   9.9095,2,        672
49UP20160703,         P9,      15,          1,         21,        078,2,20160708,       0459,    29.5265,   137.1505,       4537,   778.0,   7.3360,  34.1382,2,  34.1397,2,    130.2,2,  130.49,6,   56.07,6,    0.00,6,   2.020,6,-999.000,9,-999.000,9,-999.000,9,  -999.0,9,  -999.0,9,-999.0000,9,  -999.00, -999.00,9, -999.00,9,      628,   28.13,6,   7.3360,2,        771
49UP20160703,         P9,      15,          1,         20,        093,2,20160708,       0459,    29.5265,   137.1505,       4537,   879.5,   5.6955,  34.1419,2,  34.1415,2,     98.0,2,   98.33,2,   77.26,2,    0.00,2,   2.430,2,-999.000,9,-999.000,9,-999.000,9,  -999.0,9,  -999.0,9,-999.0000,9,  -999.00, -999.00,9, -999.00,9,      626,   33.73,2,   5.6963,2,        872
49UP20160703,         P9,      15,          1,         19,        269,2,20160708,       0459,    29.5265,   137.1505,       4537,   982.0,   4.7449,  34.2201,2,  34.2205,2,     72.5,2,   72.58,2,   96.22,2,    0.00,2,   2.700,2,-999.000,9,-999.000,9,-999.000,9,  -999.0,9,  -999.0,9,-999.0000,9,  -999.00, -999.00,9, -999.00,9,      623,   37.50,2,   4.7495,2,        973
49UP20160703,         P9,      15,          1,         18,        088,2,20160708,       0459,    29.5265,   137.1505,       4537,  1141.8,   3.7419,  34.3608,2,  34.3612,2,     57.7,2,   57.82,2,  119.70,2,    0.00,2,   2.880,2,-999.000,9,-999.000,9,-999.000,9,  -999.0,9,  -999.0,9,-999.0000,9,  -999.00, -999.00,9, -999.00,9,      619,   40.13,2,   3.7405,2,       1131
49UP20160703,         P9,      15,          1,         17,        090,2,20160708,       0459,    29.5265,   137.1505,       4537,  1345.9,   3.0550,  34.4445,2,  34.4436,2,     58.4,2,   58.17,2,  134.85,2,    0.00,2,   2.920,2,-999.000,9,-999.000,9,-999.000,9,  -999.0,9,  -999.0,9,-999.0000,9,  -999.00, -999.00,9, -999.00,9,      613,   40.97,2,   3.0555,2,       1332
49UP20160703,         P9,      15,          1,         16,        474,2,20160708,       0459,    29.5265,   137.1505,       4537,  1548.6,   2.5908,  34.5130,2,  34.5120,6,     72.4,2,   72.36,2,  142.36,2,    0.00,2,   2.880,2,-999.000,9,-999.000,9,-999.000,9,  -999.0,9,  -999.0,9,-999.0000,9,  -999.00, -999.00,9, -999.00,9,      607,   40.45,2,   2.5911,2,       1532
49UP20160703,         P9,      15,          1,         15,        665,2,20160708,       0459,    29.5265,   137.1505,       4537,  1751.4,   2.2718,  34.5604,2,  34.5600,2,     88.0,2,   87.92,6,  145.09,6,    0.00,6,   2.820,6,-999.000,9,-999.000,9,-999.000,9,  -999.0,9,  -999.0,9,-999.0000,9,  -999.00, -999.00,9, -999.00,9,      603,   39.71,6,   2.2722,2,       1732
49UP20160703,         P9,      15,          1,         14,        999,2,20160708,       0459,    29.5265,   137.1505,       4537,  1953.5,   2.0802,  34.5889,2,  34.5891,2,    100.1,2,  100.22,2,  145.89,2,    0.00,2,   2.760,2,-999.000,9,-999.000,9,-999.000,9,  -999.0,9,  -999.0,9,-999.0000,9,  -999.00, -999.00,9, -999.00,9,      558,   39.00,2,   2.0803,2,       1931
49UP20160703,         P9,      15,          1,         13,        667,2,20160708,       0459,    29.5265,   137.1505,       4537,  2158.1,   1.9203,  34.6130,2,  34.6134,2,    111.7,2,  111.57,2,  145.89,2,    0.00,2,   2.700,2,-999.000,9,-999.000,9,-999.000,9,  -999.0,9,  -999.0,9,-999.0000,9,  -999.00, -999.00,9, -999.00,9,      553,   38.26,2,   1.9206,2,       2133
49UP20160703,         P9,      15,          1,         12,        074,2,20160708,       0459,    29.5265,   137.1505,       4537,  2361.0,   1.7906,  34.6322,2,  34.6313,2,    121.0,2,  120.94,2,  145.66,2,    0.00,2,   2.650,2,-999.000,9,-999.000,9,-999.000,9,  -999.0,9,  -999.0,9,-999.0000,9,  -999.00, -999.00,9, -999.00,9,      549,   37.82,2,   1.7908,2,       2332
49UP20160703,         P9,      15,          1,         11,        268,2,20160708,       0459,    29.5265,   137.1505,       4537,  2564.0,   1.7104,  34.6452,2,  34.6438,2,    129.4,2,  129.37,2,  144.67,2,    0.00,2,   2.610,2,-999.000,9,-999.000,9,-999.000,9,  -999.0,9,  -999.0,9,-999.0000,9,  -999.00, -999.00,9, -999.00,9,      544,   37.29,2,   1.7105,2,       2531
49UP20160703,         P9,      15,          1,         10,        267,2,20160708,       0459,    29.5265,   137.1505,       4537,  2765.7,   1.6484,  34.6549,2,  34.6541,2,    135.9,2,  135.88,2,  143.82,2,    0.00,2,   2.580,2,-999.000,9,-999.000,9,-999.000,9,  -999.0,9,  -999.0,9,-999.0000,9,  -999.00, -999.00,9, -999.00,9,      540,   36.92,2,   1.6483,2,       2729
49UP20160703,         P9,      15,          1,          9,        518,2,20160708,       0459,    29.5265,   137.1505,       4537,  2766.7,   1.6484,  34.6549,2,  34.6550,2,    135.8,2,  135.59,2,  143.89,2,    0.00,2,   2.580,2,-999.000,9,-999.000,9,-999.000,9,  -999.0,9,  -999.0,9,-999.0000,9,  -999.00, -999.00,9, -999.00,9,      540,   36.89,2,   1.6484,2,       2730
49UP20160703,         P9,      15,          1,          8,        470,2,20160708,       0459,    29.5265,   137.1505,       4537,  2972.4,   1.5901,  34.6639,2,  34.6639,2,    141.8,2,  141.75,2,  143.38,2,    0.00,2,   2.560,2,-999.000,9,-999.000,9,-999.000,9,  -999.0,9,  -999.0,9,-999.0000,9,  -999.00, -999.00,9, -999.00,9,      535,   36.51,2,   1.5902,2,       2932
49UP20160703,         P9,      15,          1,          7,        516,2,20160708,       0459,    29.5265,   137.1505,       4537,  3216.7,   1.5454,  34.6715,2,  34.6703,2,    146.9,2,  146.69,2,  142.49,2,    0.00,2,   2.530,2,-999.000,9,-999.000,9,-999.000,9,  -999.0,9,  -999.0,9,-999.0000,9,  -999.00, -999.00,9, -999.00,9,      530,   36.19,2,   1.5454,2,       3171
49UP20160703,         P9,      15,          1,          6,        113,2,20160708,       0459,    29.5265,   137.1505,       4537,  3472.3,   1.5236,  34.6765,2,  34.6758,2,    150.5,2,  150.32,2,  141.88,2,    0.00,2,   2.510,2,-999.000,9,-999.000,9,-999.000,9,  -999.0,9,  -999.0,9,-999.0000,9,  -999.00, -999.00,9, -999.00,9,      525,   35.99,2,   1.5236,2,       3421
49UP20160703,         P9,      15,          1,          5,        658,2,20160708,       0459,    29.5265,   137.1505,       4537,  3728.3,   1.5248,  34.6793,2,-999.0000,5,    152.5,2,  152.20,2,  141.54,2,    0.00,2,   2.500,2,-999.000,9,-999.000,9,-999.000,9,  -999.0,9,  -999.0,9,-999.0000,9,  -999.00, -999.00,9, -999.00,9,      519,   35.81,2,   1.5249,2,       3671
49UP20160703,         P9,      15,          1,          4,        471,2,20160708,       0459,    29.5265,   137.1505,       4537,  3984.9,   1.5387,  34.6806,2,  34.6803,2,    153.7,2,  153.75,2,  141.27,2,    0.00,2,   2.490,2,-999.000,9,-999.000,9,-999.000,9,  -999.0,9,  -999.0,9,-999.0000,9,  -999.00, -999.00,9, -999.00,9,      514,   35.73,2,   1.5386,2,       3921
49UP20160703,         P9,      15,          1,          3,        104,2,20160708,       0459,    29.5265,   137.1505,       4537,  4240.3,   1.5549,  34.6817,2,  34.6804,4,    155.0,2,  154.50,2,  141.05,2,    0.00,2,   2.480,2,-999.000,9,-999.000,9,-999.000,9,  -999.0,9,  -999.0,9,-999.0000,9,  -999.00, -999.00,9, -999.00,9,      508,   35.67,2,   1.5548,2,       4170
49UP20160703,         P9,      15,          1,          2,        075,2,20160708,       0459,    29.5265,   137.1505,       4537,  4497.2,   1.5789,  34.6823,2,  34.6816,6,    155.4,2,  155.42,2,  140.85,2,    0.00,2,   2.480,2,-999.000,9,-999.000,9,-999.000,9,  -999.0,9,  -999.0,9,-999.0000,9,  -999.00, -999.00,9, -999.00,9,      503,   35.63,2,   1.5790,2,       4420
49UP20160703,         P9,      15,          1,          1,        997,2,20160708,       0459,    29.5265,   137.1505,       4537,  4619.7,   1.5936,  34.6823,2,  34.6822,2,    155.5,2,  155.38,6,  141.06,6,    0.00,6,   2.480,6,-999.000,9,-999.000,9,-999.000,9,  -999.0,9,  -999.0,9,-999.0000,9,  -999.00, -999.00,9, -999.00,9,      500,   35.64,6,   1.5935,2,       4539