BOTTLE,20230712CCHSIOENA
EXPOCODE,SECT_ID,STNNBR,CASTNO,SAMPNO,BTLNBR,BTLNBR_FLAG_W,DATE,TIME,LATITUDE,LONGITUDE,DEPTH,CTDPRS,CTDTMP,CTDSAL,CTDSAL_FLAG_W,SALNTY,SALNTY_FLAG_W,CTDOXY,CTDOXY_FLAG_W,OXYGEN,OXYGEN_FLAG_W,SILCAT,SILCAT_FLAG_W,NITRIT,NITRIT_FLAG_W,PHSPHT,PHSPHT_FLAG_W,CFC-11,CFC-11_FLAG_W,CFC-12,CFC-12_FLAG_W,CFC113,CFC113_FLAG_W,TCARBN,TCARBN_FLAG_W,ALKALI,ALKALI_FLAG_W,PH_TOT,PH_TOT_FLAG_W,PH_TMP,CHLORA,CHLORA_FLAG_W,PPHYTN,PPHYTN_FLAG_W,BTL_TIME,NO2+NO3,NO2+NO3_FLAG_W,SBE35,SBE35_FLAG_W,CTDDEPTH
,,,,,,,,,,,METERS,DBAR,ITS-90,PSS-78,,PSS-78,,UMOL/KG,,UMOL/KG,,UMOL/KG,,UMOL/KG,,UMOL/KG,,PMOL/KG,,PMOL/KG,,PMOL/KG,,UMOL/KG,,UMOL/KG,,,,DEG C,UG/KG,,UG/KG,,,UMOL/KG,,ITS-90,,METERS
49UP20160703,         P9,      73,          1,          0,        BUC,2,20160804,       1718,     2.9055,   137.5105,       4457,     0.0,  29.8315,  33.9530,2,-999.0000,9,    194.6,2,  194.45,2,    1.23,2,    0.00,2,   0.030,2,-999.000,9,-999.000,9,-999.000,9,  -999.0,9,  -999.0,9,-999.0000,9,  -999.00, -999.00,9, -999.00,9,     1851,    0.13,3,-999.0000,9,          0
49UP20160703,         P9,      73,          1,         36,        109,2,20160804,       1718,     2.9055,   137.5105,       4457,     9.2,  29.8444,  33.9572,2,  33.9580,2,    194.8,2,  194.49,6,    1.23,6,    0.00,6,   0.040,6,-999.000,9,-999.000,9,-999.000,9,  -999.0,9,  -999.0,9,-999.0000,9,  -999.00, -999.00,9, -999.00,9,     1916,    0.15,3,  29.8430,2,          9
49UP20160703,         P9,      73,          1,         35,        112,2,20160804,       1718,     2.9055,   137.5105,       4457,    25.1,  29.8606,  33.9679,2,  33.9652,6,    194.9,2,  194.78,2,    1.20,2,    0.00,2,   0.030,2,-999.000,9,-999.000,9,-999.000,9,  -999.0,9,  -999.0,9,-999.0000,9,  -999.00, -999.00,9, -999.00,9,     1915,    0.14,3,  29.8606,2,         25
49UP20160703,         P9,      73,          1,         34,        094,2,20160804,       1718,     2.9055,   137.5105,       4457,    50.5,  30.0606,  34.1798,2,  34.1788,2,    195.4,2,  195.44,2,    1.17,2,    0.00,2,   0.040,2,-999.000,9,-999.000,9,-999.000,9,  -999.0,9,  -999.0,9,-999.0000,9,  -999.00, -999.00,9, -999.00,9,     1912,    0.03,3,  30.0573,2,         50
49UP20160703,         P9,      73,          1,         33,        469,2,20160804,       1718,     2.9055,   137.5105,       4457,    75.6,  28.4035,  34.6338,2,  34.6335,2,    191.0,2,  191.28,2,    1.53,2,    0.00,2,   0.080,2,-999.000,9,-999.000,9,-999.000,9,  -999.0,9,  -999.0,9,-999.0000,9,  -999.00, -999.00,9, -999.00,9,     1911,    0.13,3,  28.4030,2,         75
49UP20160703,         P9,      73,          1,         32,        089,2,20160804,       1718,     2.9055,   137.5105,       4457,   100.9,  26.4766,  34.7316,2,  34.7304,2,    176.9,2,  177.03,2,    2.27,2,    0.18,2,   0.200,2,-999.000,9,-999.000,9,-999.000,9,  -999.0,9,  -999.0,9,-999.0000,9,  -999.00, -999.00,9, -999.00,9,     1910,    1.95,3,  26.4743,2,        100
49UP20160703,         P9,      73,          1,         31,        515,2,20160804,       1718,     2.9055,   137.5105,       4457,   124.6,  23.8553,  34.8377,2,  34.8346,2,    170.1,2,  170.65,2,    3.39,2,    0.03,2,   0.320,4,-999.000,9,-999.000,9,-999.000,9,  -999.0,9,  -999.0,9,-999.0000,9,  -999.00, -999.00,9, -999.00,9,     1909,    3.41,3,  23.8731,2,        124
49UP20160703,         P9,      73,          1,         30,        097,2,20160804,       1718,     2.9055,   137.5105,       4457,   151.4,  20.2682,  34.8384,2,  34.8425,2,    161.6,2,  161.93,2,    6.04,2,    0.02,2,   0.540,2,-999.000,9,-999.000,9,-999.000,9,  -999.0,9,  -999.0,9,-999.0000,9,  -999.00, -999.00,9, -999.00,9,     1907,    6.34,3,  20.2700,2,        151
49UP20160703,         P9,      73,          1,         29,        102,2,20160804,       1718,     2.9055,   137.5105,       4457,   205.1,  14.5918,  34.5924,2,  34.5937,6,    133.2,2,  132.84,6,   16.13,6,    0.00,6,   1.170,6,-999.000,9,-999.000,9,-999.000,9,  -999.0,9,  -999.0,9,-999.0000,9,  -999.00, -999.00,9, -999.00,9,     1905,   15.75,3,  14.5941,2,        204
49UP20160703,         P9,      73,          1,         27,        998,2,20160804,       1718,     2.9055,   137.5105,       4457,   254.2,  11.2923,  34.4737,2,  34.4762,2,    111.6,2,  112.28,2,   27.74,2,    0.00,2,   1.670,2,-999.000,9,-999.000,9,-999.000,9,  -999.0,9,  -999.0,9,-999.0000,9,  -999.00, -999.00,9, -999.00,9,     1903,   23.00,3,  11.3209,2,        253
49UP20160703,         P9,      73,          1,         28,        472,2,20160804,       1718,     2.9055,   137.5105,       4457,   256.7,  11.0037,  34.4629,2,  34.4770,4,    109.7,2,  111.60,2,   27.95,2,    0.00,2,   1.680,2,-999.000,9,-999.000,9,-999.000,9,  -999.0,9,  -999.0,9,-999.0000,9,  -999.00, -999.00,9, -999.00,9,     1903,   23.07,3,  11.0925,2,        255
49UP20160703,         P9,      73,          1,         26,        084,2,20160804,       1718,     2.9055,   137.5105,       4457,   336.4,   8.3432,  34.4999,2,  34.4854,4,     98.3,2,   98.31,2,   42.08,2,    0.00,2,   2.150,2,-999.000,9,-999.000,9,-999.000,9,  -999.0,9,  -999.0,9,-999.0000,9,  -999.00, -999.00,9, -999.00,9,     1900,   30.06,3,   8.3381,2,        334
49UP20160703,         P9,      73,          1,         25,        098,2,20160804,       1718,     2.9055,   137.5105,       4457,   385.1,   7.9785,  34.5358,2,  34.5355,2,    104.0,2,  103.87,2,   40.35,2,    0.00,2,   2.170,2,-999.000,9,-999.000,9,-999.000,9,  -999.0,9,  -999.0,9,-999.0000,9,  -999.00, -999.00,9, -999.00,9,     1858,   30.62,3,   7.9814,2,        383
49UP20160703,         P9,      73,          1,         24,        110,2,20160804,       1718,     2.9055,   137.5105,       4457,   437.6,   7.5480,  34.5419,2,  34.5392,2,    115.0,2,  114.62,2,   40.48,2,    0.00,2,   2.170,2,-999.000,9,-999.000,9,-999.000,9,  -999.0,9,  -999.0,9,-999.0000,9,  -999.00, -999.00,9, -999.00,9,     1856,   30.75,3,   7.5480,2,        435
49UP20160703,         P9,      73,          1,         23,        679,2,20160804,       1718,     2.9055,   137.5105,       4457,   486.1,   7.2215,  34.5384,2,  34.5412,2,    116.3,2,  115.57,2,   40.87,2,    0.00,2,   2.210,2,-999.000,9,-999.000,9,-999.000,9,  -999.0,9,  -999.0,9,-999.0000,9,  -999.00, -999.00,9, -999.00,9,     1854,   31.30,3,   7.2408,2,        483
49UP20160703,         P9,      73,          1,         22,        111,2,20160804,       1718,     2.9055,   137.5105,       4457,   537.3,   6.7998,  34.5314,2,  34.5318,2,    113.2,2,  113.26,2,   45.93,2,    0.00,2,   2.290,2,-999.000,9,-999.000,9,-999.000,9,  -999.0,9,  -999.0,9,-999.0000,9,  -999.00, -999.00,9, -999.00,9,     1852,   32.41,3,   6.8004,2,        534
49UP20160703,         P9,      73,          1,         21,        078,2,20160804,       1718,     2.9055,   137.5105,       4457,   635.3,   6.0908,  34.5335,2,  34.5340,2,     93.4,2,   93.17,2,   57.68,2,    0.00,2,   2.530,2,-999.000,9,-999.000,9,-999.000,9,  -999.0,9,  -999.0,9,-999.0000,9,  -999.00, -999.00,9, -999.00,9,     1848,   35.59,3,   6.0914,2,        631
49UP20160703,         P9,      73,          1,         20,        093,2,20160804,       1718,     2.9055,   137.5105,       4457,   737.2,   5.5547,  34.5342,2,  34.5326,2,     97.0,2,   97.68,2,   64.23,2,    0.00,2,   2.560,2,-999.000,9,-999.000,9,-999.000,9,  -999.0,9,  -999.0,9,-999.0000,9,  -999.00, -999.00,9, -999.00,9,     1844,   35.78,3,   5.5575,2,        732
49UP20160703,         P9,      73,          1,         19,        269,2,20160804,       1718,     2.9055,   137.5105,       4457,   837.8,   5.1403,  34.5392,2,  34.5387,2,     97.0,2,   97.04,2,   72.16,2,    0.00,2,   2.610,2,-999.000,9,-999.000,9,-999.000,9,  -999.0,9,  -999.0,9,-999.0000,9,  -999.00, -999.00,9, -999.00,9,     1841,   36.38,3,   5.1481,2,        832
49UP20160703,         P9,      73,          1,         18,        088,2,20160804,       1718,     2.9055,   137.5105,       4457,   940.1,   4.7353,  34.5478,2,  34.5478,2,     95.1,2,   95.49,2,   81.06,2,    0.00,2,   2.660,2,-999.000,9,-999.000,9,-999.000,9,  -999.0,9,  -999.0,9,-999.0000,9,  -999.00, -999.00,9, -999.00,9,     1838,   36.83,3,   4.7361,2,        933
49UP20160703,         P9,      73,          1,         17,        090,2,20160804,       1718,     2.9055,   137.5105,       4457,  1079.8,   4.1535,  34.5630,2,  34.5630,2,     93.7,2,   94.08,2,   94.37,2,    0.00,2,   2.710,2,-999.000,9,-999.000,9,-999.000,9,  -999.0,9,  -999.0,9,-999.0000,9,  -999.00, -999.00,9, -999.00,9,     1834,   37.58,3,   4.1534,2,       1071
49UP20160703,         P9,      73,          1,         16,        474,2,20160804,       1718,     2.9055,   137.5105,       4457,  1280.7,   3.4800,  34.5831,2,  34.5832,2,     96.1,2,   96.65,2,  109.25,2,    0.00,2,   2.740,2,-999.000,9,-999.000,9,-999.000,9,  -999.0,9,  -999.0,9,-999.0000,9,  -999.00, -999.00,9, -999.00,9,     1828,   38.04,3,   3.4802,2,       1270
49UP20160703,         P9,      73,          1,         15,        665,2,20160804,       1718,     2.9055,   137.5105,       4457,  1482.4,   2.8942,  34.6047,2,  34.6037,2,    102.8,2,  102.78,2,  121.76,2,    0.00,2,   2.730,2,-999.000,9,-999.000,9,-999.000,9,  -999.0,9,  -999.0,9,-999.0000,9,  -999.00, -999.00,9, -999.00,9,     1824,   38.04,3,   2.8943,2,       1469
49UP20160703,         P9,      73,          1,         14,        999,2,20160804,       1718,     2.9055,   137.5105,       4457,  1687.0,   2.5219,  34.6207,2,  34.6195,2,    110.5,2,  110.51,2,  129.19,2,    0.00,2,   2.690,2,-999.000,9,-999.000,9,-999.000,9,  -999.0,9,  -999.0,9,-999.0000,9,  -999.00, -999.00,9, -999.00,9,     1819,   37.70,3,   2.5224,2,       1671
49UP20160703,         P9,      73,          1,         13,        667,2,20160804,       1718,     2.9055,   137.5105,       4457,  1886.6,   2.2743,  34.6326,2,  34.6331,2,    114.4,2,  114.70,2,  134.76,2,    0.00,2,   2.670,2,-999.000,9,-999.000,9,-999.000,9,  -999.0,9,  -999.0,9,-999.0000,9,  -999.00, -999.00,9, -999.00,9,     1813,   37.60,3,   2.2738,2,       1868
49UP20160703,         P9,      73,          1,         12,        074,2,20160804,       1718,     2.9055,   137.5105,       4457,  2090.5,   2.0145,  34.6467,2,  34.6465,2,    119.7,2,  119.83,2,  140.41,2,    0.00,2,   2.640,2,-999.000,9,-999.000,9,-999.000,9,  -999.0,9,  -999.0,9,-999.0000,9,  -999.00, -999.00,9, -999.00,9,     1809,   37.52,3,   2.0146,2,       2069
49UP20160703,         P9,      73,          1,         11,        268,2,20160804,       1718,     2.9055,   137.5105,       4457,  2294.7,   1.8425,  34.6553,2,  34.6548,2,    128.1,2,  128.32,2,  141.52,2,    0.00,2,   2.600,2,-999.000,9,-999.000,9,-999.000,9,  -999.0,9,  -999.0,9,-999.0000,9,  -999.00, -999.00,9, -999.00,9,     1804,   37.06,3,   1.8425,2,       2270
49UP20160703,         P9,      73,          1,         10,        267,2,20160804,       1718,     2.9055,   137.5105,       4457,  2497.4,   1.7548,  34.6606,2,  34.6606,2,    132.5,2,  132.62,6,  142.42,6,    0.00,6,   2.580,6,-999.000,9,-999.000,9,-999.000,9,  -999.0,9,  -999.0,9,-999.0000,9,  -999.00, -999.00,9, -999.00,9,     1800,   36.42,3,   1.7551,2,       2469
49UP20160703,         P9,      73,          1,          9,        518,2,20160804,       1718,     2.9055,   137.5105,       4457,  2699.1,   1.6700,  34.6655,2,  34.6639,4,    138.1,2,  137.12,2,  141.64,2,    0.00,2,   2.540,2,-999.000,9,-999.000,9,-999.000,9,  -999.0,9,  -999.0,9,-999.0000,9,  -999.00, -999.00,9, -999.00,9,     1756,   36.36,3,   1.6699,2,       2667
49UP20160703,         P9,      73,          1,          8,        470,3,20160804,       1718,     2.9055,   137.5105,       4457,  2902.5,   1.6030,  34.6702,2,  34.6700,2,    142.4,2,  142.57,2,  142.35,2,    0.00,2,   2.520,2,-999.000,9,-999.000,9,-999.000,9,  -999.0,9,  -999.0,9,-999.0000,9,  -999.00, -999.00,9, -999.00,9,     1752,   35.68,3,   1.6031,2,       2867
49UP20160703,         P9,      73,          1,          7,        516,2,20160804,       1718,     2.9055,   137.5105,       4457,  3118.1,   1.5776,  34.6731,2,  34.6729,2,    144.6,2,  144.54,2,  142.77,2,    0.00,2,   2.510,2,-999.000,9,-999.000,9,-999.000,9,  -999.0,9,  -999.0,9,-999.0000,9,  -999.00, -999.00,9, -999.00,9,     1748,   35.69,3,   1.5776,2,       3078
49UP20160703,         P9,      73,          1,          6,        113,2,20160804,       1718,     2.9055,   137.5105,       4457,  3374.3,   1.5532,  34.6764,2,  34.6761,2,    147.4,2,  147.59,2,  142.62,2,    0.00,2,   2.490,2,-999.000,9,-999.000,9,-999.000,9,  -999.0,9,  -999.0,9,-999.0000,9,  -999.00, -999.00,9, -999.00,9,     1743,   35.55,3,   1.5531,2,       3329
49UP20160703,         P9,      73,          1,          5,        658,2,20160804,       1718,     2.9055,   137.5105,       4457,  3629.1,   1.5468,  34.6791,2,  34.6783,2,    149.1,2,  149.40,2,  142.48,2,    0.00,2,   2.480,2,-999.000,9,-999.000,9,-999.000,9,  -999.0,9,  -999.0,9,-999.0000,9,  -999.00, -999.00,9, -999.00,9,     1738,   35.48,3,   1.5469,2,       3578
49UP20160703,         P9,      73,          1,          4,        471,2,20160804,       1718,     2.9055,   137.5105,       4457,  3883.3,   1.5173,  34.6836,2,  34.6842,2,    152.7,2,  152.97,2,  142.42,2,    0.00,2,   2.470,2,-999.000,9,-999.000,9,-999.000,9,  -999.0,9,  -999.0,9,-999.0000,9,  -999.00, -999.00,9, -999.00,9,     1733,   35.33,3,   1.5173,2,       3827
49UP20160703,         P9,      73,          1,          3,        104,2,20160804,       1718,     2.9055,   137.5105,       4457,  4139.7,   1.5145,  34.6860,2,  34.6858,2,    155.0,2,  155.09,2,  141.92,2,    0.00,2,   2.450,2,-999.000,9,-999.000,9,-999.000,9,  -999.0,9,  -999.0,9,-999.0000,9,  -999.00, -999.00,9, -999.00,9,     1728,   35.27,3,   1.5146,2,       4077
49UP20160703,         P9,      73,          1,          2,        075,2,20160804,       1718,     2.9055,   137.5105,       4457,  4398.0,   1.5242,  34.6869,2,  34.6861,2,    157.1,2,  157.32,6,  141.19,6,    0.00,6,   2.440,6,-999.000,9,-999.000,9,-999.000,9,  -999.0,9,  -999.0,9,-999.0000,9,  -999.00, -999.00,9, -999.00,9,     1723,   35.12,3,   1.5241,2,       4329
49UP20160703,         P9,      73,          1,          1,        997,2,20160804,       1718,     2.9055,   137.5105,       4457,  4595.6,   1.5443,  34.6872,2,  34.6868,2,    157.6,2,  157.95,2,  141.21,2,    0.00,2,   2.440,2,-999.000,9,-999.000,9,-999.000,9,  -999.0,9,  -999.0,9,-999.0000,9,  -999.00, -999.00,9, -999.00,9,     1718,   34.84,3,   1.5441,2,       4522