BOTTLE,20230712CCHSIOENA
EXPOCODE,SECT_ID,STNNBR,CASTNO,SAMPNO,BTLNBR,BTLNBR_FLAG_W,DATE,TIME,LATITUDE,LONGITUDE,DEPTH,CTDPRS,CTDTMP,CTDSAL,CTDSAL_FLAG_W,SALNTY,SALNTY_FLAG_W,CTDOXY,CTDOXY_FLAG_W,OXYGEN,OXYGEN_FLAG_W,SILCAT,SILCAT_FLAG_W,NITRIT,NITRIT_FLAG_W,PHSPHT,PHSPHT_FLAG_W,CFC-11,CFC-11_FLAG_W,CFC-12,CFC-12_FLAG_W,CFC113,CFC113_FLAG_W,TCARBN,TCARBN_FLAG_W,ALKALI,ALKALI_FLAG_W,PH_TOT,PH_TOT_FLAG_W,PH_TMP,CHLORA,CHLORA_FLAG_W,PPHYTN,PPHYTN_FLAG_W,BTL_TIME,NO2+NO3,NO2+NO3_FLAG_W,SBE35,SBE35_FLAG_W,CTDDEPTH
,,,,,,,,,,,METERS,DBAR,ITS-90,PSS-78,,PSS-78,,UMOL/KG,,UMOL/KG,,UMOL/KG,,UMOL/KG,,UMOL/KG,,PMOL/KG,,PMOL/KG,,PMOL/KG,,UMOL/KG,,UMOL/KG,,,,DEG C,UG/KG,,UG/KG,,,UMOL/KG,,ITS-90,,METERS
49UP20160703,         P9,      14,          1,          0,        BUC,2,20160707,       2106,    30.0117,   136.9882,       4523,     0.0,  28.2367,  34.5923,2,  34.6003,2,    202.3,2,  201.49,2,    1.48,2,    0.00,2,   0.030,2,-999.000,9,-999.000,9,-999.000,9,  1960.7,2,  2272.5,2,   8.0706,2,    25.00,    0.08,2,    0.02,2,     2225,    0.00,2,-999.0000,9,          0
49UP20160703,         P9,      14,          1,         36,        109,2,20160707,       2106,    30.0117,   136.9882,       4523,     9.5,  27.7991,  34.5622,2,  34.5662,2,    204.0,2,  204.10,2,    1.41,2,    0.00,2,   0.000,2,   1.623,2,   1.012,2,   0.164,2,  1967.2,2,  2269.1,2,   8.0664,2,    25.00,    0.05,2,    0.02,2,     2317,    0.00,2,  27.7939,2,          9
49UP20160703,         P9,      14,          1,         35,        112,2,20160707,       2106,    30.0117,   136.9882,       4523,    25.2,  25.4746,  34.5399,2,  34.5370,2,    211.6,2,  211.25,2,    1.55,2,    0.00,2,   0.000,2,   1.737,2,   1.076,2,   0.164,2,  1975.0,2,  2267.2,2,   8.0513,2,    25.00,    0.05,2,    0.02,2,     2316,    0.00,2,  25.5399,2,         25
49UP20160703,         P9,      14,          1,         34,        094,2,20160707,       2106,    30.0117,   136.9882,       4523,    49.7,  22.2545,  34.7839,2,  34.8024,4,    230.4,2,  231.49,2,    1.62,2,    0.00,2,   0.010,2,   2.035,2,   1.270,2,   0.187,2,  1989.5,2,  2284.2,2,    8.054,2,    25.00,    0.11,2,    0.04,2,     2312,    0.01,2,  22.2406,2,         49
49UP20160703,         P9,      14,          1,         33,        469,2,20160707,       2106,    30.0117,   136.9882,       4523,    74.3,  20.7230,  34.8801,2,  34.8790,2,    223.6,2,  224.29,2,    1.44,2,    0.02,2,   0.030,4,   2.058,2,   1.291,2,   0.153,2,  2007.4,2,  2290.8,2,   8.0374,2,    25.00,    1.84,2,    0.86,2,     2311,    0.10,4,  20.7233,2,         74
49UP20160703,         P9,      14,          1,         32,        089,2,20160707,       2106,    30.0117,   136.9882,       4523,   100.1,  19.9945,  34.8903,2,  34.8903,2,    228.6,2,  228.25,2,    1.76,2,    0.00,2,   0.020,2,   2.095,2,   1.314,2,   0.185,2,  2002.5,2,  2290.7,2,   8.0365,2,    25.00,    0.20,2,    0.14,2,     2309,    0.00,2,  19.9946,2,         99
49UP20160703,         P9,      14,          1,         31,        515,2,20160707,       2106,    30.0117,   136.9882,       4523,   124.9,  19.5591,  34.8970,2,  34.8965,2,    217.2,2,  216.97,2,    1.85,2,    0.06,2,   0.080,2,   2.026,2,   1.266,2,   0.154,2,  2010.7,2,  2290.9,2,    8.019,2,    25.00,    0.22,2,    0.37,2,     2308,    0.93,2,  19.5596,2,        124
49UP20160703,         P9,      14,          1,         30,        097,2,20160707,       2106,    30.0117,   136.9882,       4523,   151.1,  19.3850,  34.8892,2,  34.8883,2,    214.8,2,  214.74,2,    2.08,2,    0.02,2,   0.110,2,   2.099,2,   1.312,2,   0.148,2,  2014.3,2,  2288.4,2,   8.0116,2,    25.00,    0.07,2,    0.09,2,     2306,    1.54,2,  19.3853,2,        150
49UP20160703,         P9,      14,          1,         29,        102,2,20160707,       2106,    30.0117,   136.9882,       4523,   201.8,  18.9763,  34.8575,2,  34.8582,6,    212.9,2,  212.95,2,    2.43,2,    0.01,2,   0.150,2,   2.116,2,   1.317,2,   0.119,2,  2020.5,2,  2288.1,2,   7.9996,6,    25.00,    0.01,2,    0.02,2,     2304,    2.02,2,  18.9771,2,        200
49UP20160703,         P9,      14,          1,         27,        998,2,20160707,       2106,    30.0117,   136.9882,       4523,   251.7,  18.4914,  34.8278,2,  34.8275,2,    212.2,2,  211.96,2,    2.82,2,    0.01,2,   0.190,2,   2.169,2,   1.346,2,   0.107,2,  2021.3,2,  2285.6,2,   7.9869,2,    25.00, -999.00,9, -999.00,9,     2302,    2.74,2,  18.4894,2,        250
49UP20160703,         P9,      14,          1,         28,        472,2,20160707,       2106,    30.0117,   136.9882,       4523,   252.1,  18.4876,  34.8278,2,  34.8276,2,    212.3,2,  212.16,2,    2.85,2,    0.01,2,   0.180,2,-999.000,9,-999.000,9,-999.000,9,  2023.9,2,  2286.2,2,   7.9905,2,    25.00, -999.00,9, -999.00,9,     2303,    2.63,2,  18.4891,2,        250
49UP20160703,         P9,      14,          1,         26,        084,2,20160707,       2106,    30.0117,   136.9882,       4523,   331.8,  17.5624,  34.7568,2,  34.7557,2,    202.9,2,  203.05,6,    4.06,6,    0.00,6,   0.300,6,   2.264,2,   1.394,2,   0.053,2,  2042.0,2,  2281.9,2,   7.9535,2,    25.00, -999.00,9, -999.00,9,     2300,    4.60,6,  17.5618,2,        329
49UP20160703,         P9,      14,          1,         25,        098,2,20160707,       2106,    30.0117,   136.9882,       4523,   433.5,  16.4261,  34.6723,2,  34.6714,2,    199.0,2,  199.09,2,    6.33,2,    0.00,2,   0.440,2,   2.362,6,   1.439,6,   0.047,6,  2055.8,2,  2276.7,2,   7.9194,2,    25.00, -999.00,9, -999.00,9,     2257,    6.69,2,  16.4259,2,        430
49UP20160703,         P9,      14,          1,         24,        110,2,20160707,       2106,    30.0117,   136.9882,       4523,   534.4,  14.3620,  34.5136,2,  34.5142,2,    184.0,2,  184.23,2,   12.94,2,    0.00,2,   0.780,2,   2.477,2,   1.467,2,   0.039,2,  2087.7,2,  2274.8,2,   7.8442,2,    25.00, -999.00,9, -999.00,9,     2254,   11.31,2,  14.3609,2,        530
49UP20160703,         P9,      14,          1,         23,        679,2,20160707,       2106,    30.0117,   136.9882,       4523,   635.4,  11.7992,  34.3445,2,  34.3443,2,    171.9,2,  172.23,2,   23.81,2,    0.00,2,   1.180,2,   2.557,2,   1.455,2,   0.056,2,  2128.2,2,  2274.7,2,   7.7585,2,    25.00, -999.00,9, -999.00,9,     2251,   16.69,2,  11.8006,2,        630
49UP20160703,         P9,      14,          1,         22,        111,2,20160707,       2106,    30.0117,   136.9882,       4523,   737.6,   8.7372,  34.1752,2,  34.1772,2,    151.2,2,  151.62,2,   42.35,2,    0.00,2,   1.710,2,   2.383,2,   1.306,2,   0.083,2,  2180.2,6,  2285.0,6,   7.6411,2,    25.00, -999.00,9, -999.00,9,     2248,   23.76,2,   8.7398,2,        731
49UP20160703,         P9,      14,          1,         21,        078,2,20160707,       2106,    30.0117,   136.9882,       4523,   838.3,   6.7139,  34.1757,2,  34.1764,2,    111.5,2,  111.57,2,   66.40,2,    0.00,2,   2.230,2,   1.710,2,   0.861,2,   0.049,2,  2242.2,2,  2308.4,2,   7.5297,2,    25.00, -999.00,9, -999.00,9,     2244,   30.85,2,   6.7138,2,        831
49UP20160703,         P9,      14,          1,         20,        093,2,20160707,       2106,    30.0117,   136.9882,       4523,   939.4,   5.5340,  34.2254,2,  34.2240,6,     85.7,2,   85.86,2,   84.97,2,    0.00,2,   2.540,2,   1.182,2,   0.562,2,   0.042,2,  2279.0,2,  2324.2,2,   7.4677,6,    25.00, -999.00,9, -999.00,9,     2241,   35.08,2,   5.5311,2,        931
49UP20160703,         P9,      14,          1,         19,        269,2,20160707,       2106,    30.0117,   136.9882,       4523,  1079.8,   4.2395,  34.3271,2,  34.3276,2,     63.7,2,   64.26,6,  109.65,6,    0.00,6,   2.810,6,   0.506,2,   0.238,2,   0.016,2,  2321.5,2,  2355.6,2,   7.4198,2,    25.00, -999.00,9, -999.00,9,     2235,   38.95,6,   4.2385,2,       1070
49UP20160703,         P9,      14,          1,         18,        088,2,20160707,       2106,    30.0117,   136.9882,       4523,  1282.7,   3.3396,  34.4217,2,  34.4222,2,     60.6,2,   60.65,2,  128.22,2,    0.00,2,   2.900,2,   0.213,2,   0.094,2,   0.014,2,  2340.7,2,  2372.7,2,   7.4127,2,    25.00, -999.00,9, -999.00,9,     2228,   40.41,2,   3.3395,2,       1270
49UP20160703,         P9,      14,          1,         17,        090,2,20160707,       2106,    30.0117,   136.9882,       4523,  1486.2,   2.8346,  34.4841,2,  34.4841,2,     67.6,2,   67.94,2,  137.98,2,    0.00,2,   2.890,2,-999.000,9,-999.000,9,-999.000,9,  2357.2,2,  2385.2,2,   7.4246,2,    25.00, -999.00,9, -999.00,9,     2222,   40.45,2,   2.8346,2,       1471
49UP20160703,         P9,      14,          1,         16,        474,2,20160707,       2106,    30.0117,   136.9882,       4523,  1486.4,   2.8348,  34.4840,2,  34.4839,2,     67.7,2,   67.89,2,  137.91,2,    0.00,2,   2.900,2,   0.102,2,   0.037,2,   0.017,2,  2355.9,2,  2384.8,2,   7.4261,2,    25.00, -999.00,9, -999.00,9,     2222,   40.48,2,   2.8347,2,       1471
49UP20160703,         P9,      14,          1,         15,        665,2,20160707,       2106,    30.0117,   136.9882,       4523,  1688.8,   2.5246,  34.5260,2,  34.5260,2,     76.8,2,   77.19,2,  142.66,2,    0.00,2,   2.860,2,   0.052,2,   0.015,2,   0.012,2,  2354.6,6,  2393.3,2,   7.4415,2,    25.00, -999.00,9, -999.00,9,     2216,   40.17,2,   2.5247,2,       1671
49UP20160703,         P9,      14,          1,         14,        999,2,20160707,       2106,    30.0117,   136.9882,       4523,  1892.7,   2.2421,  34.5640,2,  34.5642,2,     88.4,2,   88.20,2,  146.30,2,    0.00,2,   2.810,2,   0.032,2,   0.009,2,   0.000,2,  2357.2,2,  2399.0,2,   7.4612,2,    25.00, -999.00,9, -999.00,9,     2211,   39.58,2,   2.2423,2,       1871
49UP20160703,         P9,      14,          1,         13,        667,2,20160707,       2106,    30.0117,   136.9882,       4523,  2093.9,   2.0233,  34.5983,2,  34.5980,2,    104.2,2,  104.22,2,  145.85,2,    0.00,2,   2.740,2,   0.016,2,   0.004,2,   0.000,2,  2345.2,2,  2405.5,2,    7.496,2,    25.00, -999.00,9, -999.00,9,     2206,   38.64,2,   2.0233,2,       2069
49UP20160703,         P9,      14,          1,         12,        074,2,20160707,       2106,    30.0117,   136.9882,       4523,  2299.5,   1.8715,  34.6207,2,  34.6210,6,    115.0,2,  115.12,2,  145.91,2,    0.00,2,   2.690,2,   0.004,2,   0.000,2,   0.006,2,  2343.0,2,  2408.7,2,   7.5128,2,    25.00, -999.00,9, -999.00,9,     2159,   38.09,2,   1.8716,2,       2271
49UP20160703,         P9,      14,          1,         11,        268,2,20160707,       2106,    30.0117,   136.9882,       4523,  2502.5,   1.7687,  34.6367,2,  34.6367,2,    124.3,2,  124.37,6,  145.14,6,    0.00,6,   2.640,6,   0.004,2,   0.000,2,   0.005,2,  2342.3,2,  2409.6,2,   7.5339,2,    25.00, -999.00,9, -999.00,9,     2154,   37.56,6,   1.7688,2,       2471
49UP20160703,         P9,      14,          1,         10,        267,2,20160707,       2106,    30.0117,   136.9882,       4523,  2706.6,   1.6931,  34.6486,2,  34.6487,2,    131.6,2,  131.96,2,  144.38,2,    0.00,2,   2.610,2,   0.000,6,   0.001,6,   0.003,6,  2331.0,2,  2410.4,2,    7.545,2,    25.00, -999.00,9, -999.00,9,     2149,   37.08,2,   1.6932,2,       2671
49UP20160703,         P9,      14,          1,          9,        518,2,20160707,       2106,    30.0117,   136.9882,       4523,  2910.1,   1.6412,  34.6573,2,  34.6575,2,    137.4,2,  137.23,2,  143.60,2,    0.00,2,   2.580,2,-999.000,9,-999.000,9,-999.000,9,  2327.5,2,  2412.6,2,   7.5527,2,    25.00, -999.00,9, -999.00,9,     2144,   36.75,2,   1.6411,2,       2870
49UP20160703,         P9,      14,          1,          8,        470,2,20160707,       2106,    30.0117,   136.9882,       4523,  3124.5,   1.5724,  34.6674,2,  34.6667,2,    144.1,2,  143.97,2,  142.61,2,    0.00,2,   2.550,2,   0.000,2,   0.001,2,   0.011,2,  2328.1,2,  2412.2,2,   7.5674,2,    25.00, -999.00,9, -999.00,9,     2139,   36.32,2,   1.5723,2,       3080
49UP20160703,         P9,      14,          1,          7,        516,2,20160707,       2106,    30.0117,   136.9882,       4523,  3380.4,   1.5460,  34.6730,2,  34.6728,6,    148.0,2,  148.12,2,  142.20,2,    0.00,2,   2.530,2,-999.000,9,-999.000,9,-999.000,9,  2328.9,2,  2413.1,2,   7.5729,2,    25.00, -999.00,9, -999.00,9,     2133,   36.07,2,   1.5457,2,       3331
49UP20160703,         P9,      14,          1,          5,        658,2,20160707,       2106,    30.0117,   136.9882,       4523,  3635.1,   1.5403,  34.6764,2,  34.6763,2,    150.5,2,  151.79,4,  141.78,2,    0.00,2,   2.510,2,   0.000,2,   0.000,2,   0.001,2,  2327.5,2,  2412.8,2,    7.578,2,    25.00, -999.00,9, -999.00,9,     2128,   35.92,2,   1.5402,2,       3580
49UP20160703,         P9,      14,          1,          6,        113,2,20160707,       2106,    30.0117,   136.9882,       4523,  3635.5,   1.5403,  34.6765,2,  34.6772,2,    150.5,2,  150.73,2,  141.96,2,    0.00,2,   2.520,2,-999.000,9,-999.000,9,-999.000,9,  2330.2,2,  2412.8,2,   7.5784,2,    25.00, -999.00,9, -999.00,9,     2128,   35.90,2,   1.5403,2,       3580
49UP20160703,         P9,      14,          1,          4,        471,2,20160707,       2106,    30.0117,   136.9882,       4523,  3891.8,   1.5272,  34.6809,2,  34.6810,2,    153.7,2,  153.95,6,  141.43,6,    0.00,6,   2.500,6,-999.000,9,-999.000,9,-999.000,9,  2326.4,2,  2412.7,2,   7.5825,6,    25.00, -999.00,9, -999.00,9,     2122,   35.77,6,   1.5272,2,       3830
49UP20160703,         P9,      14,          1,          3,        104,2,20160707,       2106,    30.0117,   136.9882,       4523,  4148.8,   1.5518,  34.6812,2,  34.6817,2,    154.1,2,  154.09,2,  141.42,2,    0.00,2,   2.490,2,   0.000,2,   0.000,2,   0.003,2,  2324.9,6,  2412.6,6,   7.5848,2,    25.00, -999.00,9, -999.00,9,     2116,   35.73,2,   1.5518,2,       4081
49UP20160703,         P9,      14,          1,          2,        075,2,20160707,       2106,    30.0117,   136.9882,       4523,  4404.9,   1.5794,  34.6815,2,  34.6815,2,    154.3,2,  154.38,2,  141.15,2,    0.00,2,   2.490,2,-999.000,9,-999.000,9,-999.000,9,  2325.0,2,  2411.0,2,   7.5837,2,    25.00, -999.00,9, -999.00,9,     2111,   35.66,2,   1.5794,2,       4330
49UP20160703,         P9,      14,          1,          1,        997,2,20160707,       2106,    30.0117,   136.9882,       4523,  4594.5,   1.5997,  34.6816,2,  34.6826,4,    154.6,2,  154.60,2,  141.35,2,    0.00,2,   2.490,2,   0.000,2,   0.000,2,   0.007,2,  2331.1,2,  2411.9,2,   7.5819,2,    25.00, -999.00,9, -999.00,9,     2106,   35.64,2,   1.5997,2,       4515