BOTTLE,20230712CCHSIOENA
EXPOCODE,SECT_ID,STNNBR,CASTNO,SAMPNO,BTLNBR,BTLNBR_FLAG_W,DATE,TIME,LATITUDE,LONGITUDE,DEPTH,CTDPRS,CTDTMP,CTDSAL,CTDSAL_FLAG_W,SALNTY,SALNTY_FLAG_W,CTDOXY,CTDOXY_FLAG_W,OXYGEN,OXYGEN_FLAG_W,SILCAT,SILCAT_FLAG_W,NITRIT,NITRIT_FLAG_W,PHSPHT,PHSPHT_FLAG_W,CFC-11,CFC-11_FLAG_W,CFC-12,CFC-12_FLAG_W,CFC113,CFC113_FLAG_W,TCARBN,TCARBN_FLAG_W,ALKALI,ALKALI_FLAG_W,PH_TOT,PH_TOT_FLAG_W,PH_TMP,CHLORA,CHLORA_FLAG_W,PPHYTN,PPHYTN_FLAG_W,BTL_TIME,NO2+NO3,NO2+NO3_FLAG_W,SBE35,SBE35_FLAG_W,CTDDEPTH
,,,,,,,,,,,METERS,DBAR,ITS-90,PSS-78,,PSS-78,,UMOL/KG,,UMOL/KG,,UMOL/KG,,UMOL/KG,,UMOL/KG,,PMOL/KG,,PMOL/KG,,PMOL/KG,,UMOL/KG,,UMOL/KG,,,,DEG C,UG/KG,,UG/KG,,,UMOL/KG,,ITS-90,,METERS
49UP20160703,         P9,      56,          1,          0,        BUC,2,20160721,       1950,     8.9948,   136.9893,       3672,     0.0,  30.1455,  34.4350,2,  34.4241,2,    192.8,2,  193.73,2,    1.02,2,    0.00,2,   0.090,2,-999.000,9,-999.000,9,-999.000,9,  1934.1,2,  2261.9,2,   8.1075,2,    25.00,    0.05,2,    0.02,2,     2111,    0.03,2,-999.0000,9,          0
49UP20160703,         P9,      56,          1,         36,        109,2,20160721,       1950,     8.9948,   136.9893,       3672,    10.8,  30.1326,  34.4374,2,  34.4372,2,    192.8,2,  193.66,2,    0.98,2,    0.00,2,   0.080,2,   1.473,2,   0.939,2,   0.123,2,  1934.8,2,  2263.2,2,   8.1111,2,    25.00,    0.05,2,    0.02,2,     2139,    0.03,2,  30.1197,2,         11
49UP20160703,         P9,      56,          1,         35,        112,2,20160721,       1950,     8.9948,   136.9893,       3672,    26.1,  29.9667,  34.4308,2,  34.4328,2,    193.2,2,  194.36,2,    1.00,2,    0.00,2,   0.070,2,   1.486,2,   0.945,2,   0.119,2,  1935.9,2,  2263.2,2,   8.1083,2,    25.00,    0.05,2,    0.02,2,     2137,    0.04,2,  29.9668,2,         26
49UP20160703,         P9,      56,          1,         34,        094,2,20160721,       1950,     8.9948,   136.9893,       3672,    50.9,  29.2442,  34.6729,2,  34.6738,2,    199.2,2,  200.07,2,    1.12,2,    0.00,2,   0.080,2,   1.564,2,   0.972,2,   0.123,2,  1951.4,2,  2276.0,2,    8.103,2,    25.00,    0.06,2,    0.03,2,     2134,    0.01,2,  29.2426,2,         51
49UP20160703,         P9,      56,          1,         33,        469,4,20160721,       1950,     8.9948,   136.9893,       3672,    76.4,  28.3908,  34.7732,2,  34.4742,4,    200.2,2,  108.20,4,   27.36,4,    0.00,4,   1.700,4,   1.824,4,   0.971,4,   0.027,4,  2181.5,4,  2287.7,4,   7.6358,4,    25.00,    0.00,4,    0.03,4,     2132,   23.88,4,  28.3849,2,         76
49UP20160703,         P9,      56,          1,         32,        089,2,20160721,       1950,     8.9948,   136.9893,       3672,   100.7,  24.4241,  34.8369,2,  34.8388,2,    184.4,2,  185.33,6,    2.79,6,    0.11,6,   0.240,6,   1.872,2,   1.161,2,   0.103,2,  2018.2,2,  2292.8,2,   8.0082,2,    25.00,    0.24,2,    0.43,2,     2131,    1.48,6,  24.4289,2,        100
49UP20160703,         P9,      56,          1,         31,        515,2,20160721,       1950,     8.9948,   136.9893,       3672,   126.5,  20.7403,  34.8075,2,  34.8102,6,    164.6,2,  165.12,2,    5.73,2,    0.06,2,   0.540,2,   2.079,2,   1.290,2,   0.067,2,  2066.3,6,  2292.2,6,   7.9177,2,    25.00,    0.16,2,    0.44,2,     2129,    5.89,2,  20.7003,2,        126
49UP20160703,         P9,      56,          1,         30,        097,2,20160721,       1950,     8.9948,   136.9893,       3672,   152.0,  16.1084,  34.6379,2,  34.6114,4,    142.0,2,  136.26,2,   14.17,2,    0.01,2,   1.100,2,   2.217,2,   1.314,2,   0.036,2,  2125.4,2,  2285.0,2,   7.7742,2,    25.00,    0.05,2,    0.12,2,     2128,   14.57,2,  16.2089,2,        151
49UP20160703,         P9,      56,          1,         29,        102,2,20160721,       1950,     8.9948,   136.9893,       3672,   201.5,  11.8003,  34.4698,2,  34.4786,4,    110.6,2,  107.76,2,   27.33,2,    0.00,2,   1.730,2,   1.832,2,   0.988,2,   0.014,2,  2182.5,2,  2287.5,2,   7.6364,2,    25.00,    0.00,2,    0.04,2,     2127,   23.95,2,  11.7978,2,        200
49UP20160703,         P9,      56,          1,         27,        998,2,20160721,       1950,     8.9948,   136.9893,       3672,   251.2,  10.3779,  34.5123,2,  34.5130,2,    102.2,2,  102.13,2,   31.71,2,    0.00,2,   1.900,2,   1.525,2,   0.808,2,   0.026,2,  2197.2,2,  2296.3,2,   7.6106,2,    25.00, -999.00,9, -999.00,9,     2125,   26.50,2,  10.3778,2,        250
49UP20160703,         P9,      56,          1,         26,        084,2,20160721,       1950,     8.9948,   136.9893,       3672,   332.9,   8.7250,  34.5143,2,  34.5167,2,    103.5,2,  103.03,2,   38.62,2,    0.00,2,   2.100,2,   1.149,2,   0.597,2,   0.017,2,  2217.4,2,  2305.0,2,   7.5758,6,    25.00, -999.00,9, -999.00,9,     2122,   29.59,2,   8.7254,2,        331
49UP20160703,         P9,      56,          1,         25,        098,2,20160721,       1950,     8.9948,   136.9893,       3672,   382.3,   8.1697,  34.5305,2,  34.5296,2,    107.4,2,  107.25,6,   39.76,6,    0.00,6,   2.160,6,-999.000,9,-999.000,9,-999.000,9,  2222.0,2,  2307.9,2,   7.5756,2,    25.00, -999.00,9, -999.00,9,     2121,   30.46,6,   8.1676,2,        380
49UP20160703,         P9,      56,          1,         24,        110,2,20160721,       1950,     8.9948,   136.9893,       3672,   432.7,   7.7243,  34.5184,2,  34.5186,6,    112.9,2,  112.62,2,   41.63,2,    0.00,2,   2.170,2,   0.943,2,   0.486,2,   0.018,2,  2223.1,2,  2308.4,2,   7.5749,2,    25.00, -999.00,9, -999.00,9,     2119,   30.80,2,   7.7238,2,        430
49UP20160703,         P9,      56,          1,         23,        679,2,20160721,       1950,     8.9948,   136.9893,       3672,   484.2,   7.5183,  34.5388,2,  34.5398,2,    118.5,2,  118.46,2,   39.84,2,    0.00,2,   2.170,2,-999.000,9,-999.000,9,-999.000,9,  2222.2,6,  2309.6,6,   7.5839,2,    25.00, -999.00,9, -999.00,9,     2117,   30.93,2,   7.5187,2,        481
49UP20160703,         P9,      56,          1,         22,        111,2,20160721,       1950,     8.9948,   136.9893,       3672,   533.6,   7.2555,  34.5259,2,  34.5251,2,    110.7,2,  109.92,2,   44.70,2,    0.00,2,   2.270,2,   0.700,2,   0.362,2,   0.005,2,  2231.9,2,  2311.5,2,   7.5644,2,    25.00, -999.00,9, -999.00,9,     2115,   32.21,2,   7.2535,2,        530
49UP20160703,         P9,      56,          1,         20,        093,2,20160721,       1950,     8.9948,   136.9893,       3672,   634.8,   6.6329,  34.5151,2,  34.5158,2,    102.6,2,  102.96,2,   52.85,2,    0.00,2,   2.400,2,   0.470,2,   0.254,2,   0.007,2,  2246.2,2,  2321.1,2,   7.5432,2,    25.00, -999.00,9, -999.00,9,     2112,   33.91,2,   6.6316,2,        630
49UP20160703,         P9,      56,          1,         21,        078,2,20160721,       1950,     8.9948,   136.9893,       3672,   635.1,   6.6294,  34.5154,2,  34.5154,2,    102.8,2,  102.74,2,   52.86,2,    0.00,2,   2.400,2,-999.000,9,-999.000,9,-999.000,9,  2248.7,2,  2318.9,2,   7.5418,2,    25.00, -999.00,9, -999.00,9,     2113,   33.95,2,   6.6279,2,        631
49UP20160703,         P9,      56,          1,         19,        269,2,20160721,       1950,     8.9948,   136.9893,       3672,   736.4,   5.9554,  34.5119,2,  34.5114,2,     97.8,2,   97.05,2,   63.63,2,    0.00,2,   2.520,2,   0.315,6,   0.169,6,   0.002,6,  2263.4,2,  2331.2,2,   7.5208,2,    25.00, -999.00,9, -999.00,9,     2110,   35.56,2,   5.9564,2,        731
49UP20160703,         P9,      56,          1,         18,        088,2,20160721,       1950,     8.9948,   136.9893,       3672,   837.5,   5.4101,  34.5315,2,  34.5319,2,     98.8,2,   99.41,2,   71.40,2,    0.00,2,   2.580,2,   0.208,2,   0.120,2,   0.000,2,  2273.9,2,  2340.3,2,   7.5212,6,    25.00, -999.00,9, -999.00,9,     2107,   36.34,2,   5.4093,2,        831
49UP20160703,         P9,      56,          1,         17,        090,2,20160721,       1950,     8.9948,   136.9893,       3672,   937.5,   5.0009,  34.5416,2,  34.5418,2,     98.9,2,   99.27,2,   79.02,2,    0.00,2,   2.620,2,   0.151,2,   0.086,2,   0.001,2,  2284.9,2,  2346.8,2,   7.5206,2,    25.00, -999.00,9, -999.00,9,     2104,   36.86,2,   5.0012,2,        930
49UP20160703,         P9,      56,          1,         16,        474,2,20160721,       1950,     8.9948,   136.9893,       3672,  1078.8,   4.3769,  34.5531,2,  34.5534,2,     90.0,2,   90.70,2,   94.40,2,    0.00,2,   2.720,2,   0.064,2,   0.038,2,   0.004,2,  2305.5,2,  2364.0,2,   7.4952,2,    25.00, -999.00,9, -999.00,9,     2059,   38.23,2,   4.3765,2,       1070
49UP20160703,         P9,      56,          1,         15,        665,2,20160721,       1950,     8.9948,   136.9893,       3672,  1280.9,   3.7291,  34.5710,2,  34.5715,6,     92.7,2,   93.62,2,  107.57,2,    0.00,2,   2.750,2,   0.025,2,   0.026,2,   0.002,2,  2318.2,2,  2376.5,2,   7.4987,2,    25.00, -999.00,9, -999.00,9,     2055,   38.70,2,   3.7292,2,       1270
49UP20160703,         P9,      56,          1,         14,        999,2,20160721,       1950,     8.9948,   136.9893,       3672,  1484.9,   3.1949,  34.5887,2,  34.5887,2,     98.0,2,   98.27,2,  118.22,2,    0.00,2,   2.750,2,   0.008,2,   0.019,2,   0.001,2,  2328.0,2,  2387.7,2,   7.5077,2,    25.00, -999.00,9, -999.00,9,     2050,   38.85,2,   3.1951,2,       1471
49UP20160703,         P9,      56,          1,         13,        667,2,20160721,       1950,     8.9948,   136.9893,       3672,  1687.4,   2.7744,  34.6054,2,  34.6058,2,    103.7,2,  104.08,6,  126.55,6,    0.00,6,   2.730,6,-999.000,9,-999.000,9,-999.000,9,  2331.3,2,  2398.8,2,   7.5101,2,    25.00, -999.00,9, -999.00,9,     2043,   38.70,6,   2.7743,2,       1671
49UP20160703,         P9,      56,          1,         12,        074,2,20160721,       1950,     8.9948,   136.9893,       3672,  1889.4,   2.4603,  34.6211,2,  34.6219,2,    109.5,2,  109.94,2,  132.64,2,    0.00,2,   2.720,2,-999.000,9,-999.000,9,-999.000,9,  2338.0,2,  2403.8,2,   7.5187,2,    25.00, -999.00,9, -999.00,9,     2039,   38.58,2,   2.4602,2,       1870
49UP20160703,         P9,      56,          1,         11,        268,2,20160721,       1950,     8.9948,   136.9893,       3672,  2093.6,   2.2236,  34.6331,2,  34.6344,6,    115.6,2,  115.97,2,  136.90,2,    0.00,2,   2.680,2,   0.000,2,   0.011,2,   0.005,2,  2338.0,2,  2409.9,2,    7.524,2,    25.00, -999.00,9, -999.00,9,     2033,   38.30,2,   2.2239,2,       2071
49UP20160703,         P9,      56,          1,         10,        267,2,20160721,       1950,     8.9948,   136.9893,       3672,  2296.7,   1.9588,  34.6468,2,  34.6478,2,    124.5,2,  125.33,2,  140.37,2,    0.00,2,   2.640,2,-999.000,9,-999.000,9,-999.000,9,  2337.3,2,  2412.8,2,   7.5389,2,    25.00, -999.00,9, -999.00,9,     2028,   37.77,2,   1.9588,2,       2271
49UP20160703,         P9,      56,          1,          9,        518,2,20160721,       1950,     8.9948,   136.9893,       3672,  2499.4,   1.8533,  34.6533,2,  34.6542,2,    129.4,2,  129.67,2,  141.52,2,    0.00,2,   2.610,2,   0.000,2,   0.012,2,   0.007,2,  2338.0,2,  2414.9,2,   7.5429,2,    25.00, -999.00,9, -999.00,9,     2023,   37.48,2,   1.8535,2,       2471
49UP20160703,         P9,      56,          1,          8,        470,2,20160721,       1950,     8.9948,   136.9893,       3672,  2702.6,   1.7432,  34.6601,2,  34.6606,2,    134.7,2,  134.78,2,  142.26,2,    0.00,2,   2.580,2,-999.000,9,-999.000,9,-999.000,9,  2335.0,2,  2415.3,6,   7.5552,2,    25.00, -999.00,9, -999.00,9,     2018,   37.10,2,   1.7429,2,       2670
49UP20160703,         P9,      56,          1,          7,        516,2,20160721,       1950,     8.9948,   136.9893,       3672,  2905.1,   1.6804,  34.6649,2,  34.6650,2,    138.6,2,  138.49,2,  142.88,2,    0.00,2,   2.570,2,-999.000,9,-999.000,9,-999.000,9,  2331.3,2,  2415.5,2,   7.5589,2,    25.00, -999.00,9, -999.00,9,     2013,   36.93,2,   1.6802,2,       2869
49UP20160703,         P9,      56,          1,          6,        113,2,20160721,       1950,     8.9948,   136.9893,       3672,  3121.1,   1.6155,  34.6697,2,  34.6711,4,    143.0,2,  143.24,2,  142.81,2,    0.00,2,   2.540,2,   0.000,2,   0.013,2,   0.014,2,  2328.8,2,  2415.8,2,   7.5673,6,    25.00, -999.00,9, -999.00,9,     2008,   36.61,2,   1.6156,2,       3081
49UP20160703,         P9,      56,          1,          5,        658,2,20160721,       1950,     8.9948,   136.9893,       3672,  3377.6,   1.5569,  34.6750,2,  34.6748,2,    148.1,2,  148.10,2,  142.25,2,    0.00,2,   2.520,2,-999.000,9,-999.000,9,-999.000,9,  2328.0,2,  2416.1,2,    7.572,2,    25.00, -999.00,9, -999.00,9,     2003,   36.31,2,   1.5568,2,       3332
49UP20160703,         P9,      56,          1,          4,        471,2,20160721,       1950,     8.9948,   136.9893,       3672,  3581.4,   1.5582,  34.6763,2,  34.6771,2,    149.7,2,  149.92,6,  141.98,6,    0.00,6,   2.510,6,-999.000,9,-999.000,9,-999.000,9,  2324.4,2,  2415.7,2,   7.5781,2,    25.00, -999.00,9, -999.00,9,     1957,   36.22,6,   1.5584,2,       3531
49UP20160703,         P9,      56,          1,          3,        104,2,20160721,       1950,     8.9948,   136.9893,       3672,  3631.3,   1.5545,  34.6770,2,  34.6777,6,    150.4,2,  150.73,2,  141.91,2,    0.00,2,   2.500,2,   0.000,2,   0.009,2,   0.000,2,  2324.6,2,  2414.7,2,    7.581,2,    25.00, -999.00,9, -999.00,9,     1956,   36.21,2,   1.5545,2,       3580
49UP20160703,         P9,      56,          1,          2,        075,2,20160721,       1950,     8.9948,   136.9893,       3672,  3816.0,   1.5492,  34.6788,2,  34.6791,2,    152.3,2,  152.51,2,  141.29,2,    0.00,2,   2.490,2,-999.000,9,-999.000,9,-999.000,9,  2325.4,2,  2414.3,2,   7.5794,2,    25.00, -999.00,9, -999.00,9,     1951,   36.05,2,   1.5492,2,       3761
49UP20160703,         P9,      56,          1,          1,        997,2,20160721,       1950,     8.9948,   136.9893,       3672,  3816.0,   1.5490,  34.6788,2,  34.6794,2,    152.3,2,  153.35,3,  141.41,2,    0.00,2,   2.490,2,   0.000,2,   0.015,2,   0.002,2,  2325.9,2,  2415.2,2,   7.5817,2,    25.00, -999.00,9, -999.00,9,     1950,   36.05,2,   1.5490,2,       3761