BOTTLE,20230712CCHSIOENA
EXPOCODE,SECT_ID,STNNBR,CASTNO,SAMPNO,BTLNBR,BTLNBR_FLAG_W,DATE,TIME,LATITUDE,LONGITUDE,DEPTH,CTDPRS,CTDTMP,CTDSAL,CTDSAL_FLAG_W,SALNTY,SALNTY_FLAG_W,CTDOXY,CTDOXY_FLAG_W,OXYGEN,OXYGEN_FLAG_W,SILCAT,SILCAT_FLAG_W,NITRIT,NITRIT_FLAG_W,PHSPHT,PHSPHT_FLAG_W,CFC-11,CFC-11_FLAG_W,CFC-12,CFC-12_FLAG_W,CFC113,CFC113_FLAG_W,TCARBN,TCARBN_FLAG_W,ALKALI,ALKALI_FLAG_W,PH_TOT,PH_TOT_FLAG_W,PH_TMP,CHLORA,CHLORA_FLAG_W,PPHYTN,PPHYTN_FLAG_W,BTL_TIME,NO2+NO3,NO2+NO3_FLAG_W,SBE35,SBE35_FLAG_W,CTDDEPTH
,,,,,,,,,,,METERS,DBAR,ITS-90,PSS-78,,PSS-78,,UMOL/KG,,UMOL/KG,,UMOL/KG,,UMOL/KG,,UMOL/KG,,PMOL/KG,,PMOL/KG,,PMOL/KG,,UMOL/KG,,UMOL/KG,,,,DEG C,UG/KG,,UG/KG,,,UMOL/KG,,ITS-90,,METERS
49UP20160703,         P9,      80,          1,          0,        BUC,2,20160807,       1416,     2.1845,   141.0043,       3451,     0.0,  29.6687,  33.6437,2,  33.6600,2,    194.9,2,  195.01,2,    0.92,2,    0.00,2,   0.120,2,-999.000,9,-999.000,9,-999.000,9,  1886.2,2,  2212.3,2,    8.126,2,    25.00,    0.06,2,    0.04,2,     1525,    0.07,2,-999.0000,9,          0
49UP20160703,         P9,      80,          1,         36,        109,2,20160807,       1416,     2.1845,   141.0043,       3451,     9.9,  29.6779,  33.6483,2,  33.7056,4,    195.0,2,  194.74,2,    0.90,2,    0.00,2,   0.110,2,   1.500,2,   0.941,2,   0.112,2,  1895.3,2,  2215.5,2,    8.126,6,    25.00,    0.06,2,    0.03,2,     1559,    0.07,2,  29.6781,2,         10
49UP20160703,         P9,      80,          1,         35,        112,2,20160807,       1416,     2.1845,   141.0043,       3451,    25.5,  29.8612,  33.8807,2,  33.8805,2,    194.8,2,  194.81,2,    0.90,2,    0.00,2,   0.110,2,   1.496,2,   0.933,2,   0.110,2,  1897.3,2,  2227.0,2,   8.1265,2,    25.00,    0.06,2,    0.04,2,     1557,    0.05,2,  29.8606,2,         25
49UP20160703,         P9,      80,          1,         34,        094,2,20160807,       1416,     2.1845,   141.0043,       3451,    50.3,  29.9116,  33.9282,2,  33.9296,2,    195.1,2,  195.19,2,    0.93,2,    0.00,2,   0.120,2,   1.498,2,   0.935,2,   0.111,2,  1898.8,2,  2231.8,6,   8.1232,2,    25.00,    0.09,2,    0.06,2,     1554,    0.06,2,  29.9072,2,         50
49UP20160703,         P9,      80,          1,         33,        469,2,20160807,       1416,     2.1845,   141.0043,       3451,    75.0,  28.4461,  34.6172,2,  34.6107,2,    194.9,2,  194.87,6,    1.57,6,    0.00,6,   0.120,6,   1.631,2,   1.000,2,   0.101,2,  1969.9,2,  2277.4,2,   8.0734,2,    25.00,    0.26,2,    0.26,2,     1553,    0.07,6,  28.4465,2,         75
49UP20160703,         P9,      80,          1,         32,        089,2,20160807,       1416,     2.1845,   141.0043,       3451,   100.7,  26.2745,  34.7879,2,  34.7847,6,    169.1,2,  169.95,2,    2.77,2,    0.15,2,   0.320,2,   1.695,2,   1.055,2,   0.082,2,  2009.7,2,  2286.8,2,    8.016,2,    25.00,    0.18,2,    0.42,2,     1551,    2.51,2,  26.2762,2,        100
49UP20160703,         P9,      80,          1,         30,        097,2,20160807,       1416,     2.1845,   141.0043,       3451,   125.3,  24.4625,  34.8539,2,  34.8798,4,    155.4,2,  155.36,2,    4.55,2,    0.04,2,   0.490,2,   1.810,2,   1.124,2,   0.054,2,  2039.9,2,  2292.5,2,   7.9697,2,    25.00,    0.06,2,    0.18,2,     1550,    5.65,2,  24.5789,2,        125
49UP20160703,         P9,      80,          1,         31,        515,2,20160807,       1416,     2.1845,   141.0043,       3451,   125.4,  24.3453,  34.8537,2,  34.8730,4,    155.8,2,  154.26,2,    4.27,2,    0.04,2,   0.480,2,-999.000,9,-999.000,9,-999.000,9,  2036.5,2,  2292.1,2,   7.9714,2,    25.00, -999.00,9, -999.00,9,     1550,    5.63,2,  24.4633,2,        125
49UP20160703,         P9,      80,          1,         29,        102,2,20160807,       1416,     2.1845,   141.0043,       3451,   150.1,  19.5296,  34.9122,2,  34.8915,4,    155.6,2,  155.53,2,    6.93,2,    0.01,2,   0.660,2,   2.154,2,   1.345,2,   0.020,2,  2081.0,2,  2296.1,2,   7.8836,2,    25.00,    0.01,2,    0.05,2,     1548,    8.15,2,  19.5153,2,        149
49UP20160703,         P9,      80,          1,         28,        472,2,20160807,       1416,     2.1845,   141.0043,       3451,   201.5,  12.3008,  34.5738,2,  34.6538,4,    136.8,2,  135.27,2,   21.85,2,    0.00,2,   1.460,2,   1.966,2,   1.089,2,   0.015,2,  2158.7,2,  2295.8,2,   7.7197,2,    25.00,    0.00,2,    0.02,2,     1546,   20.04,2,  12.2907,2,        200
49UP20160703,         P9,      80,          1,         27,        998,2,20160807,       1416,     2.1845,   141.0043,       3451,   251.3,  10.9934,  34.7918,2,  34.7919,2,    136.8,2,  136.41,2,   17.85,2,    0.00,2,   1.630,2,   1.675,6,   0.903,6,   0.011,6,  2174.6,2,  2304.5,2,   7.6908,2,    25.00, -999.00,9, -999.00,9,     1544,   22.76,2,  10.9926,2,        250
49UP20160703,         P9,      80,          1,         26,        084,2,20160807,       1416,     2.1845,   141.0043,       3451,   281.9,  10.9537,  34.7909,2,  34.7908,2,    136.9,2,  136.19,2,   17.77,2,    0.00,2,   1.650,2,   1.683,2,   0.892,2,   0.011,2,  2173.9,2,  2302.8,2,   7.6894,2,    25.00, -999.00,9, -999.00,9,     1543,   22.86,2,  10.9533,2,        280
49UP20160703,         P9,      80,          1,         25,        098,2,20160807,       1416,     2.1845,   141.0043,       3451,   322.4,  10.2329,  34.7242,2,  34.7237,2,    121.3,2,  120.25,2,   23.00,2,    0.00,2,   1.840,2,-999.000,9,-999.000,9,-999.000,9,  2190.4,2,  2302.5,2,   7.6445,2,    25.00, -999.00,9, -999.00,9,     1541,   25.75,2,  10.2325,2,        320
49UP20160703,         P9,      80,          1,         24,        110,2,20160807,       1416,     2.1845,   141.0043,       3451,   371.7,   9.5841,  34.6850,2,  34.6848,2,    112.5,2,  111.88,2,   25.52,2,    0.00,2,   1.970,2,   1.202,2,   0.616,2,   0.005,2,  2200.4,2,  2302.1,2,   7.6147,2,    25.00, -999.00,9, -999.00,9,     1539,   27.95,2,   9.5837,2,        369
49UP20160703,         P9,      80,          1,         23,        679,2,20160807,       1416,     2.1845,   141.0043,       3451,   422.9,   9.1415,  34.6583,2,  34.6576,2,    106.4,2,  106.69,2,   27.80,2,    0.00,2,   2.060,2,-999.000,9,-999.000,9,-999.000,9,  2207.3,2,  2303.6,2,   7.5925,2,    25.00, -999.00,9, -999.00,9,     1537,   29.38,2,   9.1414,2,        420
49UP20160703,         P9,      80,          1,         22,        111,2,20160807,       1416,     2.1845,   141.0043,       3451,   473.4,   8.7133,  34.6278,2,  34.6278,2,    109.0,2,  108.77,2,   30.08,2,    0.00,2,   2.100,2,-999.000,9,-999.000,9,-999.000,9,  2210.2,2,  2302.8,2,   7.5886,2,    25.00, -999.00,9, -999.00,9,     1535,   29.95,2,   8.7128,2,        470
49UP20160703,         P9,      80,          1,         21,        078,2,20160807,       1416,     2.1845,   141.0043,       3451,   473.6,   8.7128,  34.6277,2,  34.6277,2,    109.0,2,  108.92,2,   30.08,2,    0.00,2,   2.100,2,   0.943,2,   0.464,2,   0.008,2,  2209.3,2,  2302.5,2,     7.59,2,    25.00, -999.00,9, -999.00,9,     1535,   29.98,2,   8.7130,2,        470
49UP20160703,         P9,      80,          1,         20,        093,2,20160807,       1416,     2.1845,   141.0043,       3451,   574.0,   7.8713,  34.5811,2,  34.5819,2,    108.3,2,  108.15,2,   35.66,2,    0.00,2,   2.220,2,   0.718,2,   0.351,2,   0.003,2,  2218.7,2,  2305.3,2,   7.5726,2,    25.00, -999.00,9, -999.00,9,     1532,   31.56,2,   7.8712,2,        570
49UP20160703,         P9,      80,          1,         19,        269,2,20160807,       1416,     2.1845,   141.0043,       3451,   674.6,   6.9891,  34.5440,2,  34.5451,2,    114.7,2,  114.58,6,   41.90,6,    0.00,6,   2.310,6,   0.585,2,   0.290,2,   0.000,2,  2229.6,2,  2311.6,2,   7.5652,2,    25.00, -999.00,9, -999.00,9,     1528,   32.66,6,   6.9912,2,        670
49UP20160703,         P9,      80,          1,         18,        088,2,20160807,       1416,     2.1845,   141.0043,       3451,   776.1,   6.0599,  34.5377,2,  34.5378,6,     84.4,2,   84.28,2,   59.19,2,    0.00,2,   2.650,2,   0.166,2,   0.074,2,   0.000,2,  2270.4,2,  2328.6,2,   7.4989,2,    25.00, -999.00,9, -999.00,9,     1525,   37.12,2,   6.0630,2,        770
49UP20160703,         P9,      80,          1,         17,        090,2,20160807,       1416,     2.1845,   141.0043,       3451,   876.0,   5.3004,  34.5367,2,  34.5370,2,     95.5,2,   94.92,2,   70.06,2,    0.00,2,   2.650,2,   2.956,4,   5.967,4,   0.285,4,  2272.9,2,  2339.2,2,   7.5128,2,    25.00, -999.00,9, -999.00,9,     1522,   37.16,2,   5.2991,2,        869
49UP20160703,         P9,      80,          1,         16,        474,2,20160807,       1416,     2.1845,   141.0043,       3451,   977.9,   4.6006,  34.5515,2,  34.5513,2,     92.6,2,   92.56,2,   85.61,2,    0.00,2,   2.730,2,   0.056,2,   0.026,2,   0.001,2,  2294.7,2,  2355.1,2,   7.5047,2,    25.00, -999.00,9, -999.00,9,     1519,   38.05,2,   4.6006,2,        970
49UP20160703,         P9,      80,          1,         15,        665,2,20160807,       1416,     2.1845,   141.0043,       3451,  1140.4,   3.8913,  34.5697,2,  34.5696,2,     97.2,2,   96.59,2,   99.13,2,    0.00,2,   2.750,2,   0.028,2,   0.017,2,   0.004,2,  2309.5,6,  2370.1,6,   7.5053,2,    25.00, -999.00,9, -999.00,9,     1513,   38.48,2,   3.8915,2,       1131
49UP20160703,         P9,      80,          1,         14,        999,2,20160807,       1416,     2.1845,   141.0043,       3451,  1341.7,   3.2921,  34.5895,2,  34.5888,2,     98.1,2,   98.40,2,  113.15,2,    0.00,2,   2.770,2,   0.007,2,   0.011,2,   0.003,2,  2321.0,2,  2382.7,2,   7.5037,6,    25.00, -999.00,9, -999.00,9,     1508,   38.90,2,   3.2923,2,       1330
49UP20160703,         P9,      80,          1,         12,        074,2,20160807,       1416,     2.1845,   141.0043,       3451,  1544.4,   2.8180,  34.6079,2,  34.6073,2,    103.5,2,  103.28,2,  123.44,2,    0.00,2,   2.760,2,-999.000,9,-999.000,9,-999.000,9,  2329.3,2,  2395.0,2,   7.5116,2,    25.00, -999.00,9, -999.00,9,     1503,   38.83,2,   2.8189,2,       1530
49UP20160703,         P9,      80,          1,         13,        667,2,20160807,       1416,     2.1845,   141.0043,       3451,  1544.9,   2.8171,  34.6079,2,  34.6079,2,    103.6,2,  103.15,2,  123.20,2,    0.00,2,   2.760,2,-999.000,9,-999.000,9,-999.000,9,  2331.6,2,  2394.6,2,   7.5112,2,    25.00, -999.00,9, -999.00,9,     1503,   38.81,2,   2.8173,2,       1531
49UP20160703,         P9,      80,          1,         11,        268,2,20160807,       1416,     2.1845,   141.0043,       3451,  1747.1,   2.5056,  34.6217,2,  34.6212,2,    108.8,2,  108.43,6,  130.13,6,    0.00,6,   2.740,6,-999.000,9,-999.000,9,-999.000,9,  2333.9,2,  2401.7,2,   7.5181,2,    25.00, -999.00,9, -999.00,9,     1457,   38.63,6,   2.5056,2,       1730
49UP20160703,         P9,      80,          1,         10,        267,2,20160807,       1416,     2.1845,   141.0043,       3451,  1949.7,   2.2392,  34.6347,2,  34.6344,6,    114.1,2,  114.04,2,  135.82,2,    0.00,2,   2.720,2,   0.001,6,   0.008,6,   0.003,6,  2335.2,2,  2408.4,2,   7.5295,2,    25.00, -999.00,9, -999.00,9,     1452,   38.41,2,   2.2392,2,       1930
49UP20160703,         P9,      80,          1,          9,        518,2,20160807,       1416,     2.1845,   141.0043,       3451,  2153.3,   2.0066,  34.6470,2,  34.6470,2,    121.1,2,  120.96,2,  139.78,2,    0.00,2,   2.680,2,-999.000,9,-999.000,9,-999.000,9,  2338.0,2,  2412.7,2,   7.5363,2,    25.00, -999.00,9, -999.00,9,     1447,   38.08,2,   2.0065,2,       2130
49UP20160703,         P9,      80,          1,          8,        470,2,20160807,       1416,     2.1845,   141.0043,       3451,  2357.1,   1.8307,  34.6566,2,  34.6567,2,    127.9,2,  127.82,2,  142.21,2,    0.00,2,   2.650,2,   0.000,2,   0.004,2,   0.000,2,  2335.7,6,  2415.5,6,   7.5465,2,    25.00, -999.00,9, -999.00,9,     1442,   37.69,2,   1.8307,2,       2331
49UP20160703,         P9,      80,          1,          7,        516,2,20160807,       1416,     2.1845,   141.0043,       3451,  2560.2,   1.7372,  34.6621,2,  34.6619,2,    133.7,2,  133.89,2,  142.36,2,    0.00,2,   2.610,2,-999.000,9,-999.000,9,-999.000,9,  2332.2,2,  2417.9,2,   7.5567,6,    25.00, -999.00,9, -999.00,9,     1437,   37.23,2,   1.7375,2,       2531
49UP20160703,         P9,      80,          1,          6,        113,2,20160807,       1416,     2.1845,   141.0043,       3451,  2763.6,   1.6420,  34.6678,2,  34.6679,6,    139.5,2,  139.27,2,  142.46,2,    0.00,2,   2.580,2,-999.000,9,-999.000,9,-999.000,9,  2332.4,2,  2416.6,2,   7.5658,2,    25.00, -999.00,9, -999.00,9,     1433,   36.86,2,   1.6421,2,       2730
49UP20160703,         P9,      80,          1,          4,        471,2,20160807,       1416,     2.1845,   141.0043,       3451,  2967.9,   1.5878,  34.6717,2,  34.6716,2,    143.0,2,  143.13,2,  142.75,2,    0.00,2,   2.560,2,   0.000,2,   0.004,2,   0.000,2,  2327.3,2,  2417.5,2,   7.5699,2,    25.00, -999.00,9, -999.00,9,     1428,   36.61,2,   1.5877,2,       2931
49UP20160703,         P9,      80,          1,          5,        658,2,20160807,       1416,     2.1845,   141.0043,       3451,  2968.2,   1.5874,  34.6718,2,  34.6719,2,    143.0,2,  143.07,2,  142.81,2,    0.00,2,   2.560,2,-999.000,9,-999.000,9,-999.000,9,  2329.9,2,  2417.5,2,   7.5685,2,    25.00, -999.00,9, -999.00,9,     1428,   36.63,2,   1.5874,2,       2931
49UP20160703,         P9,      80,          1,          3,        104,2,20160807,       1416,     2.1845,   141.0043,       3451,  3212.4,   1.5623,  34.6752,2,  34.6762,2,    145.0,2,  145.33,6,  143.16,6,    0.00,6,   2.550,6,-999.000,9,-999.000,9,-999.000,9,  2329.8,2,  2420.4,2,   7.5737,2,    25.00, -999.00,9, -999.00,9,     1422,   36.51,6,   1.5623,2,       3171
49UP20160703,         P9,      80,          1,          2,        075,2,20160807,       1416,     2.1845,   141.0043,       3451,  3474.0,   1.5583,  34.6775,2,  34.6776,6,    146.2,2,  146.32,2,  143.47,2,    0.00,2,   2.540,2,   0.000,2,   0.004,2,   0.002,2,  2333.0,2,  2422.9,2,    7.582,2,    25.00, -999.00,9, -999.00,9,     1416,   36.43,2,   1.5584,2,       3427