BOTTLE,20230712CCHSIOENA
EXPOCODE,SECT_ID,STNNBR,CASTNO,SAMPNO,BTLNBR,BTLNBR_FLAG_W,DATE,TIME,LATITUDE,LONGITUDE,DEPTH,CTDPRS,CTDTMP,CTDSAL,CTDSAL_FLAG_W,SALNTY,SALNTY_FLAG_W,CTDOXY,CTDOXY_FLAG_W,OXYGEN,OXYGEN_FLAG_W,SILCAT,SILCAT_FLAG_W,NITRIT,NITRIT_FLAG_W,PHSPHT,PHSPHT_FLAG_W,CFC-11,CFC-11_FLAG_W,CFC-12,CFC-12_FLAG_W,CFC113,CFC113_FLAG_W,TCARBN,TCARBN_FLAG_W,ALKALI,ALKALI_FLAG_W,PH_TOT,PH_TOT_FLAG_W,PH_TMP,CHLORA,CHLORA_FLAG_W,PPHYTN,PPHYTN_FLAG_W,BTL_TIME,NO2+NO3,NO2+NO3_FLAG_W,SBE35,SBE35_FLAG_W,CTDDEPTH
,,,,,,,,,,,METERS,DBAR,ITS-90,PSS-78,,PSS-78,,UMOL/KG,,UMOL/KG,,UMOL/KG,,UMOL/KG,,UMOL/KG,,PMOL/KG,,PMOL/KG,,PMOL/KG,,UMOL/KG,,UMOL/KG,,,,DEG C,UG/KG,,UG/KG,,,UMOL/KG,,ITS-90,,METERS
49UP20160703,         P9,      49,          1,          0,        BUC,2,20160719,       1128,    12.5065,   136.9898,       4639,     0.0,  30.3665,  34.4785,2,-999.0000,9,    192.3,2,  192.97,2,    0.92,2,    0.00,2,   0.060,2,-999.000,9,-999.000,9,-999.000,9,  -999.0,9,  -999.0,9,-999.0000,9,  -999.00, -999.00,9, -999.00,9,     1300,    0.02,2,-999.0000,9,          0
49UP20160703,         P9,      49,          1,         36,        109,2,20160719,       1128,    12.5065,   136.9898,       4639,     9.7,  30.3890,  34.4912,2,  34.4900,2,    192.4,2,  192.82,2,    0.92,2,    0.00,2,   0.050,2,-999.000,9,-999.000,9,-999.000,9,  -999.0,9,  -999.0,9,-999.0000,9,  -999.00, -999.00,9, -999.00,9,     1338,    0.00,2,  30.3885,2,         10
49UP20160703,         P9,      49,          1,         28,        472,2,20160719,       1128,    12.5065,   136.9898,       4639,    24.8,  30.2699,  34.4774,2,  34.4787,2,    192.5,2,  193.14,6,    0.93,6,    0.00,6,   0.060,6,-999.000,9,-999.000,9,-999.000,9,  -999.0,9,  -999.0,9,-999.0000,9,  -999.00, -999.00,9, -999.00,9,     1336,    0.00,6,  30.2706,2,         25
49UP20160703,         P9,      49,          1,         35,        112,2,20160719,       1128,    12.5065,   136.9898,       4639,    50.4,  29.1078,  34.8093,2,  34.7780,4,    201.4,2,  201.62,2,    1.19,2,    0.00,2,   0.060,2,-999.000,9,-999.000,9,-999.000,9,  -999.0,9,  -999.0,9,-999.0000,9,  -999.00, -999.00,9, -999.00,9,     1333,    0.03,2,  29.1077,2,         50
49UP20160703,         P9,      49,          1,         34,        094,2,20160719,       1128,    12.5065,   136.9898,       4639,    74.9,  28.5512,  34.7832,2,  34.7869,2,    201.7,2,  201.92,2,    1.17,2,    0.00,2,   0.070,2,-999.000,9,-999.000,9,-999.000,9,  -999.0,9,  -999.0,9,-999.0000,9,  -999.00, -999.00,9, -999.00,9,     1331,    0.00,2,  28.5492,2,         74
49UP20160703,         P9,      49,          1,         33,        469,2,20160719,       1128,    12.5065,   136.9898,       4639,   100.2,  27.5929,  34.7987,2,  34.8017,2,    204.8,2,  205.11,2,    1.10,2,    0.00,2,   0.050,2,-999.000,9,-999.000,9,-999.000,9,  -999.0,9,  -999.0,9,-999.0000,9,  -999.00, -999.00,9, -999.00,9,     1330,    0.00,2,  27.5914,2,        100
49UP20160703,         P9,      49,          1,         32,        089,2,20160719,       1128,    12.5065,   136.9898,       4639,   124.9,  25.9854,  35.0178,2,  35.0175,2,    200.1,2,  201.54,2,    1.15,2,    0.00,2,   0.060,2,-999.000,9,-999.000,9,-999.000,9,  -999.0,9,  -999.0,9,-999.0000,9,  -999.00, -999.00,9, -999.00,9,     1328,    0.00,2,  26.0268,2,        124
49UP20160703,         P9,      49,          1,         31,        515,2,20160719,       1128,    12.5065,   136.9898,       4639,   149.9,  22.8661,  35.1541,2,  35.1548,6,    186.5,2,  187.68,2,    1.91,2,    0.13,2,   0.170,2,-999.000,9,-999.000,9,-999.000,9,  -999.0,9,  -999.0,9,-999.0000,9,  -999.00, -999.00,9, -999.00,9,     1327,    0.88,2,  22.8715,2,        149
49UP20160703,         P9,      49,          1,         30,        097,2,20160719,       1128,    12.5065,   136.9898,       4639,   200.9,  17.1117,  34.7156,2,  34.6889,4,    156.8,2,  156.30,2,    8.97,2,    0.01,2,   0.780,2,-999.000,9,-999.000,9,-999.000,9,  -999.0,9,  -999.0,9,-999.0000,9,  -999.00, -999.00,9, -999.00,9,     1325,   10.09,2,  17.1127,2,        200
49UP20160703,         P9,      49,          1,         29,        102,2,20160719,       1128,    12.5065,   136.9898,       4639,   252.3,  13.6763,  34.5037,2,  34.5069,2,    131.9,2,  132.16,2,   17.06,2,    0.00,2,   1.260,2,-999.000,9,-999.000,9,-999.000,9,  -999.0,9,  -999.0,9,-999.0000,9,  -999.00, -999.00,9, -999.00,9,     1323,   17.14,2,  13.6807,2,        251
49UP20160703,         P9,      49,          1,         27,        998,2,20160719,       1128,    12.5065,   136.9898,       4639,   301.8,  10.9076,  34.4340,2,  34.4364,2,    105.6,2,  104.39,2,   29.38,2,    0.00,2,   1.790,2,-999.000,9,-999.000,9,-999.000,9,  -999.0,9,  -999.0,9,-999.0000,9,  -999.00, -999.00,9, -999.00,9,     1321,   24.92,2,  10.9094,2,        300
49UP20160703,         P9,      49,          1,         26,        084,2,20160719,       1128,    12.5065,   136.9898,       4639,   351.9,   9.5473,  34.4175,2,  34.4265,4,     85.7,2,   86.05,2,   36.51,2,    0.00,2,   2.090,2,-999.000,9,-999.000,9,-999.000,9,  -999.0,9,  -999.0,9,-999.0000,9,  -999.00, -999.00,9, -999.00,9,     1319,   29.03,2,   9.5466,2,        350
49UP20160703,         P9,      49,          1,         25,        098,2,20160719,       1128,    12.5065,   136.9898,       4639,   402.4,   8.7508,  34.4765,2,  34.4776,2,     93.6,2,   94.27,2,   40.19,2,    0.00,2,   2.140,2,-999.000,9,-999.000,9,-999.000,9,  -999.0,9,  -999.0,9,-999.0000,9,  -999.00, -999.00,9, -999.00,9,     1316,   30.19,2,   8.7512,2,        400
49UP20160703,         P9,      49,          1,         24,        110,2,20160719,       1128,    12.5065,   136.9898,       4639,   452.6,   8.1811,  34.4907,2,  34.4913,2,     94.8,2,   94.84,6,   43.01,6,    0.00,6,   2.220,6,-999.000,9,-999.000,9,-999.000,9,  -999.0,9,  -999.0,9,-999.0000,9,  -999.00, -999.00,9, -999.00,9,     1315,   31.32,6,   8.1803,2,        450
49UP20160703,         P9,      49,          1,         23,        679,2,20160719,       1128,    12.5065,   136.9898,       4639,   502.7,   7.7424,  34.4848,2,  34.4838,2,     95.7,2,   95.38,2,   46.66,2,    0.00,2,   2.270,2,-999.000,9,-999.000,9,-999.000,9,  -999.0,9,  -999.0,9,-999.0000,9,  -999.00, -999.00,9, -999.00,9,     1312,   32.15,2,   7.7416,2,        499
49UP20160703,         P9,      49,          1,         22,        111,2,20160719,       1128,    12.5065,   136.9898,       4639,   603.7,   6.7218,  34.4721,2,  34.4713,2,     86.3,2,   85.74,2,   58.09,2,    0.00,2,   2.470,2,-999.000,9,-999.000,9,-999.000,9,  -999.0,9,  -999.0,9,-999.0000,9,  -999.00, -999.00,9, -999.00,9,     1309,   34.78,2,   6.7224,2,        599
49UP20160703,         P9,      49,          1,         21,        078,2,20160719,       1128,    12.5065,   136.9898,       4639,   705.1,   6.1024,  34.4895,2,  34.4897,2,     85.4,2,   85.39,2,   65.38,2,    0.00,2,   2.550,2,-999.000,9,-999.000,9,-999.000,9,  -999.0,9,  -999.0,9,-999.0000,9,  -999.00, -999.00,9, -999.00,9,     1307,   35.96,2,   6.1025,2,        700
49UP20160703,         P9,      49,          1,         20,        093,2,20160719,       1128,    12.5065,   136.9898,       4639,   806.9,   5.6153,  34.5123,2,  34.5120,2,     84.4,2,   84.21,2,   72.49,2,    0.00,2,   2.630,2,-999.000,9,-999.000,9,-999.000,9,  -999.0,9,  -999.0,9,-999.0000,9,  -999.00, -999.00,9, -999.00,9,     1303,   37.03,2,   5.6152,2,        801
49UP20160703,         P9,      49,          1,         19,        269,2,20160719,       1128,    12.5065,   136.9898,       4639,   907.2,   5.1817,  34.5244,2,  34.5247,2,     83.6,2,   83.64,2,   80.14,2,    0.00,2,   2.680,2,-999.000,9,-999.000,9,-999.000,9,  -999.0,9,  -999.0,9,-999.0000,9,  -999.00, -999.00,9, -999.00,9,     1300,   37.72,2,   5.1815,2,        900
49UP20160703,         P9,      49,          1,         18,        088,2,20160719,       1128,    12.5065,   136.9898,       4639,  1007.8,   4.6927,  34.5349,2,  34.5350,6,     80.6,2,   80.44,2,   90.23,2,    0.00,2,   2.750,2,-999.000,9,-999.000,9,-999.000,9,  -999.0,9,  -999.0,9,-999.0000,9,  -999.00, -999.00,9, -999.00,9,     1258,   38.61,2,   4.6926,2,       1000
49UP20160703,         P9,      49,          1,         17,        090,2,20160719,       1128,    12.5065,   136.9898,       4639,  1210.5,   3.9072,  34.5555,2,  34.5558,2,     84.8,2,   85.22,2,  106.17,2,    0.00,2,   2.780,2,-999.000,9,-999.000,9,-999.000,9,  -999.0,9,  -999.0,9,-999.0000,9,  -999.00, -999.00,9, -999.00,9,     1252,   39.08,2,   3.9070,2,       1200
49UP20160703,         P9,      49,          1,         16,        474,2,20160719,       1128,    12.5065,   136.9898,       4639,  1412.5,   3.2137,  34.5775,2,  34.5780,2,     93.1,2,   93.67,2,  120.28,2,    0.00,2,   2.760,2,-999.000,9,-999.000,9,-999.000,9,  -999.0,9,  -999.0,9,-999.0000,9,  -999.00, -999.00,9, -999.00,9,     1247,   39.02,2,   3.2136,2,       1400
49UP20160703,         P9,      49,          1,         15,        665,2,20160719,       1128,    12.5065,   136.9898,       4639,  1615.8,   2.7470,  34.5969,2,  34.5966,2,    101.0,2,  100.93,2,  129.14,2,    0.00,2,   2.730,2,-999.000,9,-999.000,9,-999.000,9,  -999.0,9,  -999.0,9,-999.0000,9,  -999.00, -999.00,9, -999.00,9,     1242,   38.78,2,   2.7466,2,       1600
49UP20160703,         P9,      49,          1,         14,        999,2,20160719,       1128,    12.5065,   136.9898,       4639,  1818.0,   2.4781,  34.6124,2,  34.6123,2,    106.4,2,  106.41,6,  133.89,6,    0.00,6,   2.720,6,-999.000,9,-999.000,9,-999.000,9,  -999.0,9,  -999.0,9,-999.0000,9,  -999.00, -999.00,9, -999.00,9,     1237,   38.67,6,   2.4777,2,       1800
49UP20160703,         P9,      49,          1,         13,        667,2,20160719,       1128,    12.5065,   136.9898,       4639,  2021.4,   2.2379,  34.6256,2,  34.6256,2,    112.2,2,  112.19,2,  137.97,2,    0.00,2,   2.690,2,-999.000,9,-999.000,9,-999.000,9,  -999.0,9,  -999.0,9,-999.0000,9,  -999.00, -999.00,9, -999.00,9,     1232,   38.43,2,   2.2379,2,       2000
49UP20160703,         P9,      49,          1,         12,        074,2,20160719,       1128,    12.5065,   136.9898,       4639,  2225.1,   2.0543,  34.6370,2,  34.6374,2,    118.1,2,  118.04,2,  140.91,2,    0.00,2,   2.660,2,-999.000,9,-999.000,9,-999.000,9,  -999.0,9,  -999.0,9,-999.0000,9,  -999.00, -999.00,9, -999.00,9,     1227,   38.18,2,   2.0541,2,       2201
49UP20160703,         P9,      49,          1,         11,        268,2,20160719,       1128,    12.5065,   136.9898,       4639,  2428.4,   1.8824,  34.6476,2,  34.6472,2,    123.8,2,  123.54,2,  143.60,2,    0.00,2,   2.630,2,-999.000,9,-999.000,9,-999.000,9,  -999.0,9,  -999.0,9,-999.0000,9,  -999.00, -999.00,9, -999.00,9,     1222,   37.85,2,   1.8823,2,       2401
49UP20160703,         P9,      49,          1,         10,        267,2,20160719,       1128,    12.5065,   136.9898,       4639,  2632.2,   1.7925,  34.6552,2,  34.6555,2,    129.2,2,  129.27,2,  143.93,2,    0.00,2,   2.610,2,-999.000,9,-999.000,9,-999.000,9,  -999.0,9,  -999.0,9,-999.0000,9,  -999.00, -999.00,9, -999.00,9,     1217,   37.48,2,   1.7923,2,       2601
49UP20160703,         P9,      49,          1,          9,        518,2,20160719,       1128,    12.5065,   136.9898,       4639,  2835.1,   1.7007,  34.6617,2,  34.6619,2,    133.9,2,  134.00,2,  144.93,2,    0.00,2,   2.590,2,-999.000,9,-999.000,9,-999.000,9,  -999.0,9,  -999.0,9,-999.0000,9,  -999.00, -999.00,9, -999.00,9,     1212,   37.28,2,   1.7007,2,       2800
49UP20160703,         P9,      49,          1,          8,        470,2,20160719,       1128,    12.5065,   136.9898,       4639,  3039.4,   1.6579,  34.6659,2,  34.6663,6,    138.0,2,  138.52,2,  144.26,2,    0.00,2,   2.560,2,-999.000,9,-999.000,9,-999.000,9,  -999.0,9,  -999.0,9,-999.0000,9,  -999.00, -999.00,9, -999.00,9,     1207,   36.93,2,   1.6579,2,       3000
49UP20160703,         P9,      49,          1,          7,        516,2,20160719,       1128,    12.5065,   136.9898,       4639,  3293.8,   1.5982,  34.6714,2,  34.6717,2,    143.1,2,  143.97,6,  143.99,2,    0.00,6,   2.540,6,-999.000,9,-999.000,9,-999.000,9,  -999.0,9,  -999.0,9,-999.0000,9,  -999.00, -999.00,9, -999.00,9,     1201,   36.67,6,   1.5981,2,       3250
49UP20160703,         P9,      49,          1,          6,        113,2,20160719,       1128,    12.5065,   136.9898,       4639,  3550.2,   1.5680,  34.6754,2,  34.6754,2,    147.6,2,  147.57,2,  142.63,2,    0.00,2,   2.510,2,-999.000,9,-999.000,9,-999.000,9,  -999.0,9,  -999.0,9,-999.0000,9,  -999.00, -999.00,9, -999.00,9,     1155,   36.27,2,   1.5680,2,       3500
49UP20160703,         P9,      49,          1,          5,        658,2,20160719,       1128,    12.5065,   136.9898,       4639,  3806.0,   1.5330,  34.6798,2,  34.6796,2,    152.6,2,  152.50,2,  141.53,2,    0.00,2,   2.490,2,-999.000,9,-999.000,9,-999.000,9,  -999.0,9,  -999.0,9,-999.0000,9,  -999.00, -999.00,9, -999.00,9,     1150,   35.99,2,   1.5329,2,       3750
49UP20160703,         P9,      49,          1,          4,        471,2,20160719,       1128,    12.5065,   136.9898,       4639,  4061.7,   1.5007,  34.6842,2,  34.6843,2,    158.2,2,  158.26,2,  139.64,2,    0.00,2,   2.460,2,-999.000,9,-999.000,9,-999.000,9,  -999.0,9,  -999.0,9,-999.0000,9,  -999.00, -999.00,9, -999.00,9,     1144,   35.65,2,   1.5007,2,       4000
49UP20160703,         P9,      49,          1,          3,        104,2,20160719,       1128,    12.5065,   136.9898,       4639,  4318.7,   1.5130,  34.6855,2,  34.6852,2,    159.6,2,  159.56,2,  139.23,2,    0.00,2,   2.450,2,-999.000,9,-999.000,9,-999.000,9,  -999.0,9,  -999.0,9,-999.0000,9,  -999.00, -999.00,9, -999.00,9,     1138,   35.56,2,   1.5131,2,       4251
49UP20160703,         P9,      49,          1,          2,        075,2,20160719,       1128,    12.5065,   136.9898,       4639,  4574.8,   1.5310,  34.6862,2,  34.6861,6,    160.6,2,  160.64,2,  139.01,2,    0.00,2,   2.440,2,-999.000,9,-999.000,9,-999.000,9,  -999.0,9,  -999.0,9,-999.0000,9,  -999.00, -999.00,9, -999.00,9,     1133,   35.48,2,   1.5309,2,       4500
49UP20160703,         P9,      49,          1,          1,        997,2,20160719,       1128,    12.5065,   136.9898,       4639,  4773.6,   1.5474,  34.6868,2,  34.6868,2,    161.4,2,  161.35,2,  138.68,2,    0.00,2,   2.440,2,-999.000,9,-999.000,9,-999.000,9,  -999.0,9,  -999.0,9,-999.0000,9,  -999.00, -999.00,9, -999.00,9,     1128,   35.46,2,   1.5473,2,       4694