BOTTLE,20230712CCHSIOENA
EXPOCODE,SECT_ID,STNNBR,CASTNO,SAMPNO,BTLNBR,BTLNBR_FLAG_W,DATE,TIME,LATITUDE,LONGITUDE,DEPTH,CTDPRS,CTDTMP,CTDSAL,CTDSAL_FLAG_W,SALNTY,SALNTY_FLAG_W,CTDOXY,CTDOXY_FLAG_W,OXYGEN,OXYGEN_FLAG_W,SILCAT,SILCAT_FLAG_W,NITRIT,NITRIT_FLAG_W,PHSPHT,PHSPHT_FLAG_W,CFC-11,CFC-11_FLAG_W,CFC-12,CFC-12_FLAG_W,CFC113,CFC113_FLAG_W,TCARBN,TCARBN_FLAG_W,ALKALI,ALKALI_FLAG_W,PH_TOT,PH_TOT_FLAG_W,PH_TMP,CHLORA,CHLORA_FLAG_W,PPHYTN,PPHYTN_FLAG_W,BTL_TIME,NO2+NO3,NO2+NO3_FLAG_W,SBE35,SBE35_FLAG_W,CTDDEPTH
,,,,,,,,,,,METERS,DBAR,ITS-90,PSS-78,,PSS-78,,UMOL/KG,,UMOL/KG,,UMOL/KG,,UMOL/KG,,UMOL/KG,,PMOL/KG,,PMOL/KG,,PMOL/KG,,UMOL/KG,,UMOL/KG,,,,DEG C,UG/KG,,UG/KG,,,UMOL/KG,,ITS-90,,METERS
49UP20160703,         P9,      67,          1,          0,        BUC,2,20160802,       1825,     5.5095,   137.0088,       4693,     0.0,  30.0738,  33.9759,2,-999.0000,9,    194.9,2,  194.63,2,    1.07,2,    0.00,2,   0.060,2,-999.000,9,-999.000,9,-999.000,9,  -999.0,9,  -999.0,9,-999.0000,9,  -999.00, -999.00,9, -999.00,9,     2010,    0.03,2,-999.0000,9,          0
49UP20160703,         P9,      67,          1,         36,        109,2,20160802,       1825,     5.5095,   137.0088,       4693,    10.5,  30.0327,  33.9768,2,  33.9755,2,    195.3,2,  195.14,2,    1.07,2,    0.00,2,   0.060,2,-999.000,9,-999.000,9,-999.000,9,  -999.0,9,  -999.0,9,-999.0000,9,  -999.00, -999.00,9, -999.00,9,     2026,    0.03,2,  30.0306,2,         10
49UP20160703,         P9,      67,          1,         35,        112,2,20160802,       1825,     5.5095,   137.0088,       4693,    26.0,  30.0291,  33.9976,2,  33.9951,2,    195.8,2,  195.69,2,    1.03,2,    0.00,2,   0.060,2,-999.000,9,-999.000,9,-999.000,9,  -999.0,9,  -999.0,9,-999.0000,9,  -999.00, -999.00,9, -999.00,9,     2025,    0.04,2,  30.0292,2,         26
49UP20160703,         P9,      67,          1,         34,        094,2,20160802,       1825,     5.5095,   137.0088,       4693,    50.8,  29.9163,  34.4561,2,  34.4602,2,    199.2,2,  198.77,2,    0.89,2,    0.00,2,   0.090,2,-999.000,9,-999.000,9,-999.000,9,  -999.0,9,  -999.0,9,-999.0000,9,  -999.00, -999.00,9, -999.00,9,     2023,    0.03,2,  29.9304,2,         51
49UP20160703,         P9,      67,          1,         33,        469,2,20160802,       1825,     5.5095,   137.0088,       4693,    76.6,  28.9017,  34.6184,2,  34.6201,2,    194.1,2,  194.12,2,    1.08,2,    0.00,2,   0.100,2,-999.000,9,-999.000,9,-999.000,9,  -999.0,9,  -999.0,9,-999.0000,9,  -999.00, -999.00,9, -999.00,9,     2021,    0.03,2,  28.8995,2,         76
49UP20160703,         P9,      67,          1,         32,        089,2,20160802,       1825,     5.5095,   137.0088,       4693,   100.9,  26.8125,  34.7356,2,  34.7375,2,    177.6,2,  177.09,2,    2.37,2,    0.20,2,   0.230,2,-999.000,9,-999.000,9,-999.000,9,  -999.0,9,  -999.0,9,-999.0000,9,  -999.00, -999.00,9, -999.00,9,     2020,    1.73,2,  26.8184,2,        100
49UP20160703,         P9,      67,          1,         31,        515,2,20160802,       1825,     5.5095,   137.0088,       4693,   126.2,  24.9776,  34.8580,2,  34.8675,2,    166.8,2,  165.51,6,    3.53,6,    0.11,6,   0.350,6,-999.000,9,-999.000,9,-999.000,9,  -999.0,9,  -999.0,9,-999.0000,9,  -999.00, -999.00,9, -999.00,9,     2019,    4.09,6,  24.9784,2,        125
49UP20160703,         P9,      67,          1,         30,        097,2,20160802,       1825,     5.5095,   137.0088,       4693,   151.4,  16.8566,  34.6926,2,  34.6918,6,    142.7,2,  142.28,2,   11.02,2,    0.01,2,   0.910,2,-999.000,9,-999.000,9,-999.000,9,  -999.0,9,  -999.0,9,-999.0000,9,  -999.00, -999.00,9, -999.00,9,     2018,   12.13,2,  16.8767,2,        151
49UP20160703,         P9,      67,          1,         29,        102,2,20160802,       1825,     5.5095,   137.0088,       4693,   201.6,  11.2858,  34.4634,2,  34.4660,2,    120.7,2,  120.82,2,   27.96,2,    0.00,2,   1.630,2,-999.000,9,-999.000,9,-999.000,9,  -999.0,9,  -999.0,9,-999.0000,9,  -999.00, -999.00,9, -999.00,9,     2016,   22.85,2,  11.2860,2,        200
49UP20160703,         P9,      67,          1,         28,        472,2,20160802,       1825,     5.5095,   137.0088,       4693,   253.7,  10.0149,  34.5517,2,  34.5519,2,    115.7,2,  115.44,2,   31.98,2,    0.00,2,   1.840,2,-999.000,9,-999.000,9,-999.000,9,  -999.0,9,  -999.0,9,-999.0000,9,  -999.00, -999.00,9, -999.00,9,     2014,   26.03,2,  10.0052,2,        252
49UP20160703,         P9,      67,          1,         27,        998,2,20160802,       1825,     5.5095,   137.0088,       4693,   334.1,   8.8204,  34.6013,2,  34.6003,2,     70.5,2,   70.89,2,   36.24,2,    0.00,2,   2.310,2,-999.000,9,-999.000,9,-999.000,9,  -999.0,9,  -999.0,9,-999.0000,9,  -999.00, -999.00,9, -999.00,9,     2012,   32.91,2,   8.8230,2,        332
49UP20160703,         P9,      67,          1,         26,        084,2,20160802,       1825,     5.5095,   137.0088,       4693,   384.5,   8.1783,  34.5839,2,  34.5834,2,     88.4,2,   88.75,2,   37.42,2,    0.00,2,   2.270,2,-999.000,9,-999.000,9,-999.000,9,  -999.0,9,  -999.0,9,-999.0000,9,  -999.00, -999.00,9, -999.00,9,     2010,   32.58,2,   8.1830,2,        382
49UP20160703,         P9,      67,          1,         25,        098,2,20160802,       1825,     5.5095,   137.0088,       4693,   435.4,   7.8706,  34.5742,2,  34.5737,2,    100.9,2,  100.48,2,   37.47,2,    0.00,2,   2.240,2,-999.000,9,-999.000,9,-999.000,9,  -999.0,9,  -999.0,9,-999.0000,9,  -999.00, -999.00,9, -999.00,9,     2009,   32.14,2,   7.8707,2,        433
49UP20160703,         P9,      67,          1,         24,        110,2,20160802,       1825,     5.5095,   137.0088,       4693,   484.8,   7.5691,  34.5628,2,  34.5624,2,     99.2,2,   99.08,2,   40.28,2,    0.00,2,   2.290,2,-999.000,9,-999.000,9,-999.000,9,  -999.0,9,  -999.0,9,-999.0000,9,  -999.00, -999.00,9, -999.00,9,     2007,   32.86,2,   7.5703,2,        482
49UP20160703,         P9,      67,          1,         23,        679,2,20160802,       1825,     5.5095,   137.0088,       4693,   536.1,   7.3045,  34.5549,2,  34.5547,2,     97.8,2,   97.79,2,   42.80,2,    0.00,2,   2.340,2,-999.000,9,-999.000,9,-999.000,9,  -999.0,9,  -999.0,9,-999.0000,9,  -999.00, -999.00,9, -999.00,9,     2005,   33.48,2,   7.3072,2,        532
49UP20160703,         P9,      67,          1,         22,        111,2,20160802,       1825,     5.5095,   137.0088,       4693,   637.6,   6.6789,  34.5389,2,  34.5390,2,     90.3,2,   90.69,6,   51.41,6,    0.00,6,   2.480,6,-999.000,9,-999.000,9,-999.000,9,  -999.0,9,  -999.0,9,-999.0000,9,  -999.00, -999.00,9, -999.00,9,     2002,   35.26,6,   6.6800,2,        633
49UP20160703,         P9,      67,          1,         21,        078,2,20160802,       1825,     5.5095,   137.0088,       4693,   737.3,   6.1120,  34.5321,2,  34.5319,6,     90.0,2,   90.14,2,   59.71,2,    0.00,2,   2.550,2,-999.000,9,-999.000,9,-999.000,9,  -999.0,9,  -999.0,9,-999.0000,9,  -999.00, -999.00,9, -999.00,9,     1959,   36.27,2,   6.1120,2,        732
49UP20160703,         P9,      67,          1,         20,        093,2,20160802,       1825,     5.5095,   137.0088,       4693,   837.7,   5.5895,  34.5334,2,  34.5327,2,     89.2,2,   89.23,2,   69.29,2,    0.00,2,   2.610,2,-999.000,9,-999.000,9,-999.000,9,  -999.0,9,  -999.0,9,-999.0000,9,  -999.00, -999.00,9, -999.00,9,     1957,   36.96,2,   5.5900,2,        831
49UP20160703,         P9,      67,          1,         19,        269,2,20160802,       1825,     5.5095,   137.0088,       4693,   939.6,   5.0353,  34.5437,2,  34.5439,2,     81.9,2,   81.68,2,   80.50,2,    0.00,2,   2.730,3,-999.000,9,-999.000,9,-999.000,9,  -999.0,9,  -999.0,9,-999.0000,9,  -999.00, -999.00,9, -999.00,9,     1952,   38.42,2,   5.0374,2,        932
49UP20160703,         P9,      67,          1,         18,        088,2,20160802,       1825,     5.5095,   137.0088,       4693,  1081.0,   4.3694,  34.5574,2,  34.5572,2,     87.8,2,   88.25,2,   93.32,2,    0.00,2,   2.720,2,-999.000,9,-999.000,9,-999.000,9,  -999.0,9,  -999.0,9,-999.0000,9,  -999.00, -999.00,9, -999.00,9,     1948,   38.53,2,   4.3700,2,       1072
49UP20160703,         P9,      67,          1,         17,        090,2,20160802,       1825,     5.5095,   137.0088,       4693,  1282.5,   3.5494,  34.5805,2,  34.5807,2,     92.5,2,   92.62,2,  110.03,2,    0.00,2,   2.760,2,-999.000,9,-999.000,9,-999.000,9,  -999.0,9,  -999.0,9,-999.0000,9,  -999.00, -999.00,9, -999.00,9,     1943,   39.04,2,   3.5497,2,       1271
49UP20160703,         P9,      67,          1,         16,        474,2,20160802,       1825,     5.5095,   137.0088,       4693,  1484.4,   2.9953,  34.6002,2,  34.5999,2,     98.9,2,   99.03,2,  120.96,2,    0.00,2,   2.740,2,-999.000,9,-999.000,9,-999.000,9,  -999.0,9,  -999.0,9,-999.0000,9,  -999.00, -999.00,9, -999.00,9,     1937,   38.95,2,   2.9955,2,       1471
49UP20160703,         P9,      67,          1,         15,        665,2,20160802,       1825,     5.5095,   137.0088,       4693,  1686.8,   2.6944,  34.6126,2,  34.6122,2,    103.6,2,  103.42,2,  127.91,2,    0.00,2,   2.730,2,-999.000,9,-999.000,9,-999.000,9,  -999.0,9,  -999.0,9,-999.0000,9,  -999.00, -999.00,9, -999.00,9,     1932,   38.92,2,   2.6944,2,       1671
49UP20160703,         P9,      67,          1,         14,        999,2,20160802,       1825,     5.5095,   137.0088,       4693,  1889.0,   2.3166,  34.6305,2,  34.6303,2,    111.5,2,  111.78,2,  135.00,2,    0.00,2,   2.700,2,-999.000,9,-999.000,9,-999.000,9,  -999.0,9,  -999.0,9,-999.0000,9,  -999.00, -999.00,9, -999.00,9,     1928,   38.62,2,   2.3166,2,       1870
49UP20160703,         P9,      67,          1,         13,        667,2,20160802,       1825,     5.5095,   137.0088,       4693,  2091.8,   2.1293,  34.6403,2,  34.6403,2,    117.0,2,  117.06,6,  138.05,6,    0.00,6,   2.670,6,-999.000,9,-999.000,9,-999.000,9,  -999.0,9,  -999.0,9,-999.0000,9,  -999.00, -999.00,9, -999.00,9,     1923,   38.27,6,   2.1296,2,       2070
49UP20160703,         P9,      67,          1,         12,        074,2,20160802,       1825,     5.5095,   137.0088,       4693,  2294.5,   1.9153,  34.6516,2,  34.6517,6,    125.0,2,  125.13,2,  140.92,2,    0.00,2,   2.630,2,-999.000,9,-999.000,9,-999.000,9,  -999.0,9,  -999.0,9,-999.0000,9,  -999.00, -999.00,9, -999.00,9,     1919,   37.86,2,   1.9153,2,       2269
49UP20160703,         P9,      67,          1,         11,        268,2,20160802,       1825,     5.5095,   137.0088,       4693,  2497.9,   1.7550,  34.6602,2,  34.6590,4,    132.6,2,  132.73,2,  142.23,2,    0.00,2,   2.590,2,-999.000,9,-999.000,9,-999.000,9,  -999.0,9,  -999.0,9,-999.0000,9,  -999.00, -999.00,9, -999.00,9,     1914,   37.33,2,   1.7550,2,       2469
49UP20160703,         P9,      67,          1,         10,        267,2,20160802,       1825,     5.5095,   137.0088,       4693,  2702.5,   1.6585,  34.6664,2,  34.6669,2,    138.2,2,  138.66,2,  142.49,2,    0.00,2,   2.560,2,-999.000,9,-999.000,9,-999.000,9,  -999.0,9,  -999.0,9,-999.0000,9,  -999.00, -999.00,9, -999.00,9,     1910,   36.96,2,   1.6584,2,       2670
49UP20160703,         P9,      67,          1,          9,        518,2,20160802,       1825,     5.5095,   137.0088,       4693,  2905.3,   1.6068,  34.6704,2,  34.6709,2,    141.8,2,  141.96,2,  142.64,2,    0.00,2,   2.540,2,-999.000,9,-999.000,9,-999.000,9,  -999.0,9,  -999.0,9,-999.0000,9,  -999.00, -999.00,9, -999.00,9,     1906,   36.77,2,   1.6068,2,       2869
49UP20160703,         P9,      67,          1,          8,        470,2,20160802,       1825,     5.5095,   137.0088,       4693,  3120.5,   1.5698,  34.6736,2,  34.6733,2,    145.0,2,  145.31,2,  142.64,2,    0.00,2,   2.530,2,-999.000,9,-999.000,9,-999.000,9,  -999.0,9,  -999.0,9,-999.0000,9,  -999.00, -999.00,9, -999.00,9,     1901,   36.55,2,   1.5701,2,       3080
49UP20160703,         P9,      67,          1,          7,        516,2,20160802,       1825,     5.5095,   137.0088,       4693,  3374.5,   1.5404,  34.6773,2,  34.6770,2,    148.6,2,  148.71,2,  142.25,2,    0.00,2,   2.510,2,-999.000,9,-999.000,9,-999.000,9,  -999.0,9,  -999.0,9,-999.0000,9,  -999.00, -999.00,9, -999.00,9,     1856,   36.29,2,   1.5404,2,       3329
49UP20160703,         P9,      67,          1,          6,        113,2,20160802,       1825,     5.5095,   137.0088,       4693,  3630.4,   1.5356,  34.6796,2,  34.6794,2,    150.6,2,  151.12,2,  141.87,2,    0.00,2,   2.490,2,-999.000,9,-999.000,9,-999.000,9,  -999.0,9,  -999.0,9,-999.0000,9,  -999.00, -999.00,9, -999.00,9,     1850,   36.19,2,   1.5356,2,       3580
49UP20160703,         P9,      67,          1,          5,        658,2,20160802,       1825,     5.5095,   137.0088,       4693,  3884.8,   1.5277,  34.6821,2,  34.6824,2,    152.9,2,  152.97,2,  141.54,2,    0.00,2,   2.480,2,-999.000,9,-999.000,9,-999.000,9,  -999.0,9,  -999.0,9,-999.0000,9,  -999.00, -999.00,9, -999.00,9,     1845,   36.09,2,   1.5277,2,       3828
49UP20160703,         P9,      67,          1,          4,        471,2,20160802,       1825,     5.5095,   137.0088,       4693,  4141.7,   1.5163,  34.6851,2,  34.6851,2,    156.1,2,  156.46,2,  140.87,2,    0.00,2,   2.460,2,-999.000,9,-999.000,9,-999.000,9,  -999.0,9,  -999.0,9,-999.0000,9,  -999.00, -999.00,9, -999.00,9,     1839,   35.83,2,   1.5163,2,       4079
49UP20160703,         P9,      67,          1,          3,        104,2,20160802,       1825,     5.5095,   137.0088,       4693,  4397.6,   1.5094,  34.6871,2,  34.6872,2,    159.7,2,  159.86,6,  139.44,6,    0.00,6,   2.440,6,-999.000,9,-999.000,9,-999.000,9,  -999.0,9,  -999.0,9,-999.0000,9,  -999.00, -999.00,9, -999.00,9,     1834,   35.54,6,   1.5092,2,       4329
49UP20160703,         P9,      67,          1,          2,        075,2,20160802,       1825,     5.5095,   137.0088,       4693,  4654.9,   1.5151,  34.6888,2,  34.6890,6,    162.2,2,  162.35,2,  138.65,2,    0.00,2,   2.430,2,-999.000,9,-999.000,9,-999.000,9,  -999.0,9,  -999.0,9,-999.0000,9,  -999.00, -999.00,9, -999.00,9,     1828,   35.34,2,   1.5153,2,       4579
49UP20160703,         P9,      67,          1,          1,        997,2,20160802,       1825,     5.5095,   137.0088,       4693,  4762.1,   1.5274,  34.6887,2,  34.6891,2,    162.4,2,  162.41,2,  138.63,2,    0.00,2,   2.430,2,-999.000,9,-999.000,9,-999.000,9,  -999.0,9,  -999.0,9,-999.0000,9,  -999.00, -999.00,9, -999.00,9,     1825,   35.39,2,   1.5273,2,       4683