BOTTLE,20230712CCHSIOENA
EXPOCODE,SECT_ID,STNNBR,CASTNO,SAMPNO,BTLNBR,BTLNBR_FLAG_W,DATE,TIME,LATITUDE,LONGITUDE,DEPTH,CTDPRS,CTDTMP,CTDSAL,CTDSAL_FLAG_W,SALNTY,SALNTY_FLAG_W,CTDOXY,CTDOXY_FLAG_W,OXYGEN,OXYGEN_FLAG_W,SILCAT,SILCAT_FLAG_W,NITRIT,NITRIT_FLAG_W,PHSPHT,PHSPHT_FLAG_W,CFC-11,CFC-11_FLAG_W,CFC-12,CFC-12_FLAG_W,CFC113,CFC113_FLAG_W,TCARBN,TCARBN_FLAG_W,ALKALI,ALKALI_FLAG_W,PH_TOT,PH_TOT_FLAG_W,PH_TMP,CHLORA,CHLORA_FLAG_W,PPHYTN,PPHYTN_FLAG_W,BTL_TIME,NO2+NO3,NO2+NO3_FLAG_W,SBE35,SBE35_FLAG_W,CTDDEPTH
,,,,,,,,,,,METERS,DBAR,ITS-90,PSS-78,,PSS-78,,UMOL/KG,,UMOL/KG,,UMOL/KG,,UMOL/KG,,UMOL/KG,,PMOL/KG,,PMOL/KG,,PMOL/KG,,UMOL/KG,,UMOL/KG,,,,DEG C,UG/KG,,UG/KG,,,UMOL/KG,,ITS-90,,METERS
49UP20160703,         P9,      17,          1,          0,        BUC,2,20160708,       1936,    28.5045,   136.9955,       4505,     0.0,  29.4346,  34.9590,2,-999.0000,9,    196.2,2,  195.99,2,    1.21,2,    0.00,2,   0.020,2,-999.000,9,-999.000,9,-999.000,9,  -999.0,9,  -999.0,9,-999.0000,9,  -999.00, -999.00,9, -999.00,9,     2113,    0.01,2,-999.0000,9,          0
49UP20160703,         P9,      17,          1,         36,        109,2,20160708,       1936,    28.5045,   136.9955,       4505,    10.3,  29.4458,  34.9591,2,  34.9578,2,    196.0,2,  196.19,6,    1.15,6,    0.00,6,   0.010,6,-999.000,9,-999.000,9,-999.000,9,  -999.0,9,  -999.0,9,-999.0000,9,  -999.00, -999.00,9, -999.00,9,     2144,    0.00,6,  29.4477,2,         10
49UP20160703,         P9,      17,          1,         35,        112,2,20160708,       1936,    28.5045,   136.9955,       4505,    25.0,  28.7428,  34.8694,2,  34.8624,6,    201.4,2,  202.25,2,    1.17,2,    0.00,2,   0.000,2,-999.000,9,-999.000,9,-999.000,9,  -999.0,9,  -999.0,9,-999.0000,9,  -999.00, -999.00,9, -999.00,9,     2142,    0.00,2,  28.7450,2,         25
49UP20160703,         P9,      17,          1,         33,        469,2,20160708,       1936,    28.5045,   136.9955,       4505,    50.9,  23.7555,  34.8835,2,  34.8993,4,    224.6,2,  226.67,2,    1.45,2,    0.00,2,   0.010,2,-999.000,9,-999.000,9,-999.000,9,  -999.0,9,  -999.0,9,-999.0000,9,  -999.00, -999.00,9, -999.00,9,     2138,    0.00,2,  23.5536,2,         51
49UP20160703,         P9,      17,          1,         34,        094,2,20160708,       1936,    28.5045,   136.9955,       4505,    51.2,  23.7560,  34.8851,2,  34.9004,4,    225.4,2,  226.76,2,    1.44,2,    0.00,2,   0.000,2,-999.000,9,-999.000,9,-999.000,9,  -999.0,9,  -999.0,9,-999.0000,9,  -999.00, -999.00,9, -999.00,9,     2138,    0.00,2,  23.7469,2,         51
49UP20160703,         P9,      17,          1,         32,        089,2,20160708,       1936,    28.5045,   136.9955,       4505,    76.6,  21.4606,  34.9189,2,  34.9160,2,    231.4,2,  230.31,2,    1.54,2,    0.00,2,   0.010,2,-999.000,9,-999.000,9,-999.000,9,  -999.0,9,  -999.0,9,-999.0000,9,  -999.00, -999.00,9, -999.00,9,     2137,    0.00,2,  21.4628,2,         76
49UP20160703,         P9,      17,          1,         31,        515,2,20160708,       1936,    28.5045,   136.9955,       4505,   100.9,  20.1516,  34.8961,2,  34.8966,2,    224.8,2,  224.04,2,    1.77,2,    0.02,2,   0.030,2,-999.000,9,-999.000,9,-999.000,9,  -999.0,9,  -999.0,9,-999.0000,9,  -999.00, -999.00,9, -999.00,9,     2135,    0.04,2,  20.1492,2,        100
49UP20160703,         P9,      17,          1,         30,        097,2,20160708,       1936,    28.5045,   136.9955,       4505,   125.3,  19.5400,  34.8813,2,  34.8812,6,    217.4,2,  216.65,2,    1.88,2,    0.14,2,   0.080,2,-999.000,9,-999.000,9,-999.000,9,  -999.0,9,  -999.0,9,-999.0000,9,  -999.00, -999.00,9, -999.00,9,     2134,    0.81,2,  19.5383,2,        124
49UP20160703,         P9,      17,          1,         29,        102,2,20160708,       1936,    28.5045,   136.9955,       4505,   152.0,  18.9703,  34.8567,2,  34.8563,2,    211.5,2,  211.67,6,    2.40,6,    0.06,6,   0.150,6,-999.000,9,-999.000,9,-999.000,9,  -999.0,9,  -999.0,9,-999.0000,9,  -999.00, -999.00,9, -999.00,9,     2132,    2.04,6,  18.9690,2,        151
49UP20160703,         P9,      17,          1,         28,        472,2,20160708,       1936,    28.5045,   136.9955,       4505,   201.9,  18.1677,  34.8054,2,  34.8057,2,    208.8,2,  208.64,2,    3.08,2,    0.01,2,   0.220,2,-999.000,9,-999.000,9,-999.000,9,  -999.0,9,  -999.0,9,-999.0000,9,  -999.00, -999.00,9, -999.00,9,     2130,    3.25,2,  18.1663,2,        200
49UP20160703,         P9,      17,          1,         27,        998,2,20160708,       1936,    28.5045,   136.9955,       4505,   201.9,  18.1694,  34.8054,2,  34.8054,2,    208.8,2,  208.59,2,    3.13,2,    0.01,2,   0.220,2,-999.000,9,-999.000,9,-999.000,9,  -999.0,9,  -999.0,9,-999.0000,9,  -999.00, -999.00,9, -999.00,9,     2130,    3.22,2,  18.1678,2,        200
49UP20160703,         P9,      17,          1,         26,        084,2,20160708,       1936,    28.5045,   136.9955,       4505,   252.1,  17.3584,  34.7427,2,  34.7418,2,    202.8,2,  202.68,2,    4.22,2,    0.01,2,   0.320,2,-999.000,9,-999.000,9,-999.000,9,  -999.0,9,  -999.0,9,-999.0000,9,  -999.00, -999.00,9, -999.00,9,     2128,    4.87,2,  17.3602,2,        250
49UP20160703,         P9,      17,          1,         25,        098,2,20160708,       1936,    28.5045,   136.9955,       4505,   332.3,  16.5312,  34.6824,2,  34.6817,6,    201.2,2,  201.24,2,    5.78,2,    0.00,2,   0.420,2,-999.000,9,-999.000,9,-999.000,9,  -999.0,9,  -999.0,9,-999.0000,9,  -999.00, -999.00,9, -999.00,9,     2125,    6.26,2,  16.5318,2,        330
49UP20160703,         P9,      17,          1,         24,        110,2,20160708,       1936,    28.5045,   136.9955,       4505,   434.4,  14.5757,  34.5303,2,  34.5311,2,    188.0,2,  188.29,6,   11.80,6,    0.00,6,   0.730,6,-999.000,9,-999.000,9,-999.000,9,  -999.0,9,  -999.0,9,-999.0000,9,  -999.00, -999.00,9, -999.00,9,     2122,   10.54,6,  14.5739,2,        431
49UP20160703,         P9,      17,          1,         23,        679,2,20160708,       1936,    28.5045,   136.9955,       4505,   534.1,  12.5405,  34.3897,2,  34.3898,2,    176.2,2,  176.76,2,   19.67,2,    0.00,2,   1.050,2,-999.000,9,-999.000,9,-999.000,9,  -999.0,9,  -999.0,9,-999.0000,9,  -999.00, -999.00,9, -999.00,9,     2119,   14.99,2,  12.5403,2,        530
49UP20160703,         P9,      17,          1,         22,        111,2,20160708,       1936,    28.5045,   136.9955,       4505,   635.7,   9.5943,  34.2245,2,  34.2244,2,    155.0,2,  155.25,2,   36.81,2,    0.00,2,   1.570,2,-999.000,9,-999.000,9,-999.000,9,  -999.0,9,  -999.0,9,-999.0000,9,  -999.00, -999.00,9, -999.00,9,     2116,   21.97,2,   9.5953,2,        630
49UP20160703,         P9,      17,          1,         21,        078,2,20160708,       1936,    28.5045,   136.9955,       4505,   736.5,   6.6917,  34.1329,2,  34.1343,2,    118.5,2,  118.17,2,   63.31,2,    0.00,2,   2.190,2,-999.000,9,-999.000,9,-999.000,9,  -999.0,9,  -999.0,9,-999.0000,9,  -999.00, -999.00,9, -999.00,9,     2113,   30.30,2,   6.6900,2,        730
49UP20160703,         P9,      17,          1,         20,        093,2,20160708,       1936,    28.5045,   136.9955,       4505,   839.2,   5.2839,  34.1673,2,  34.1678,2,     86.6,2,   86.31,2,   84.53,2,    0.00,2,   2.560,2,-999.000,9,-999.000,9,-999.000,9,  -999.0,9,  -999.0,9,-999.0000,9,  -999.00, -999.00,9, -999.00,9,     2109,   35.46,2,   5.2867,2,        832
49UP20160703,         P9,      17,          1,         19,        269,2,20160708,       1936,    28.5045,   136.9955,       4505,   940.2,   4.1405,  34.2659,2,  34.2635,2,     58.0,2,   58.31,2,  107.74,2,    0.00,2,   2.840,2,-999.000,9,-999.000,9,-999.000,9,  -999.0,9,  -999.0,9,-999.0000,9,  -999.00, -999.00,9, -999.00,9,     2106,   39.49,2,   4.1400,2,        932
49UP20160703,         P9,      17,          1,         18,        088,2,20160708,       1936,    28.5045,   136.9955,       4505,  1080.1,   3.5862,  34.3622,2,  34.3622,2,     54.0,2,   53.89,2,  122.20,2,    0.00,2,   2.910,2,-999.000,9,-999.000,9,-999.000,9,  -999.0,9,  -999.0,9,-999.0000,9,  -999.00, -999.00,9, -999.00,9,     2101,   40.61,2,   3.5862,2,       1070
49UP20160703,         P9,      17,          1,         17,        090,2,20160708,       1936,    28.5045,   136.9955,       4505,  1283.3,   3.0220,  34.4488,2,  34.4473,2,     59.1,2,   58.81,2,  134.59,2,    0.00,2,   2.930,2,-999.000,9,-999.000,9,-999.000,9,  -999.0,9,  -999.0,9,-999.0000,9,  -999.00, -999.00,9, -999.00,9,     2055,   40.94,2,   3.0230,2,       1271
49UP20160703,         P9,      17,          1,         16,        474,2,20160708,       1936,    28.5045,   136.9955,       4505,  1485.3,   2.6418,  34.5016,2,  34.5013,2,     67.0,2,   67.24,2,  141.62,2,    0.00,2,   2.910,2,-999.000,9,-999.000,9,-999.000,9,  -999.0,9,  -999.0,9,-999.0000,9,  -999.00, -999.00,9, -999.00,9,     2051,   40.75,2,   2.6418,2,       1470
49UP20160703,         P9,      17,          1,         15,        665,2,20160708,       1936,    28.5045,   136.9955,       4505,  1689.0,   2.3281,  34.5465,2,  34.5462,2,     78.1,2,   77.85,2,  146.46,2,    0.00,2,   2.870,2,-999.000,9,-999.000,9,-999.000,9,  -999.0,9,  -999.0,9,-999.0000,9,  -999.00, -999.00,9, -999.00,9,     2045,   40.32,2,   2.3281,2,       1671
49UP20160703,         P9,      17,          1,         14,        999,2,20160708,       1936,    28.5045,   136.9955,       4505,  1891.4,   2.0907,  34.5834,2,  34.5834,2,     93.0,2,   92.54,2,  147.65,2,    0.00,2,   2.790,2,-999.000,9,-999.000,9,-999.000,9,  -999.0,9,  -999.0,9,-999.0000,9,  -999.00, -999.00,9, -999.00,9,     2040,   39.52,2,   2.0908,2,       1870
49UP20160703,         P9,      17,          1,         13,        667,2,20160708,       1936,    28.5045,   136.9955,       4505,  2095.3,   1.9039,  34.6142,2,  34.6140,2,    110.4,2,  109.98,2,  145.95,2,    0.00,2,   2.710,2,-999.000,9,-999.000,9,-999.000,9,  -999.0,9,  -999.0,9,-999.0000,9,  -999.00, -999.00,9, -999.00,9,     2035,   38.39,2,   1.9038,2,       2071
49UP20160703,         P9,      17,          1,         12,        074,2,20160708,       1936,    28.5045,   136.9955,       4505,  2297.5,   1.8011,  34.6320,2,  34.6319,2,    121.5,2,  121.13,2,  144.40,2,    0.00,2,   2.660,2,-999.000,9,-999.000,9,-999.000,9,  -999.0,9,  -999.0,9,-999.0000,9,  -999.00, -999.00,9, -999.00,9,     2029,   37.77,2,   1.8012,2,       2270
49UP20160703,         P9,      17,          1,         11,        268,2,20160708,       1936,    28.5045,   136.9955,       4505,  2502.2,   1.7235,  34.6447,2,  34.6443,2,    129.5,2,  129.10,2,  143.43,2,    0.00,2,   2.610,2,-999.000,9,-999.000,9,-999.000,9,  -999.0,9,  -999.0,9,-999.0000,9,  -999.00, -999.00,9, -999.00,9,     2025,   37.26,2,   1.7238,2,       2471
49UP20160703,         P9,      17,          1,         10,        267,2,20160708,       1936,    28.5045,   136.9955,       4505,  2704.9,   1.6704,  34.6528,2,  34.6526,2,    134.7,2,  134.46,2,  143.01,2,    0.00,2,   2.590,2,-999.000,9,-999.000,9,-999.000,9,  -999.0,9,  -999.0,9,-999.0000,9,  -999.00, -999.00,9, -999.00,9,     2020,   36.81,2,   1.6698,2,       2670
49UP20160703,         P9,      17,          1,          9,        518,2,20160708,       1936,    28.5045,   136.9955,       4505,  2910.6,   1.6204,  34.6607,2,  34.6606,2,    139.3,2,  139.14,2,  142.93,2,    0.00,2,   2.570,2,-999.000,9,-999.000,9,-999.000,9,  -999.0,9,  -999.0,9,-999.0000,9,  -999.00, -999.00,9, -999.00,9,     2015,   36.67,2,   1.6205,2,       2871
49UP20160703,         P9,      17,          1,          7,        516,2,20160708,       1936,    28.5045,   136.9955,       4505,  3125.9,   1.5820,  34.6670,2,  34.6668,2,    143.7,2,  143.39,2,  142.51,2,    0.00,2,   2.550,2,-999.000,9,-999.000,9,-999.000,9,  -999.0,9,  -999.0,9,-999.0000,9,  -999.00, -999.00,9, -999.00,9,     2010,   36.40,2,   1.5820,2,       3082
49UP20160703,         P9,      17,          1,          8,        470,2,20160708,       1936,    28.5045,   136.9955,       4505,  3126.2,   1.5818,  34.6669,2,  34.6669,2,    143.7,2,  143.42,2,  142.29,2,    0.00,2,   2.550,2,-999.000,9,-999.000,9,-999.000,9,  -999.0,9,  -999.0,9,-999.0000,9,  -999.00, -999.00,9, -999.00,9,     2011,   36.35,2,   1.5819,2,       3082
49UP20160703,         P9,      17,          1,          6,        113,2,20160708,       1936,    28.5045,   136.9955,       4505,  3379.3,   1.5342,  34.6745,2,  34.6744,2,    149.2,2,  149.10,2,  141.55,2,    0.00,2,   2.520,2,-999.000,9,-999.000,9,-999.000,9,  -999.0,9,  -999.0,9,-999.0000,9,  -999.00, -999.00,9, -999.00,9,     2005,   36.03,2,   1.5344,2,       3330
49UP20160703,         P9,      17,          1,          5,        658,2,20160708,       1936,    28.5045,   136.9955,       4505,  3635.0,   1.5211,  34.6785,2,  34.6787,6,    152.3,2,  152.03,2,  140.94,2,    0.00,2,   2.500,2,-999.000,9,-999.000,9,-999.000,9,  -999.0,9,  -999.0,9,-999.0000,9,  -999.00, -999.00,9, -999.00,9,     1959,   35.84,2,   1.5212,2,       3580
49UP20160703,         P9,      17,          1,          4,        471,2,20160708,       1936,    28.5045,   136.9955,       4505,  3891.1,   1.5304,  34.6805,2,  34.6807,2,    153.7,2,  153.59,6,  141.00,6,    0.00,6,   2.500,6,-999.000,9,-999.000,9,-999.000,9,  -999.0,9,  -999.0,9,-999.0000,9,  -999.00, -999.00,9, -999.00,9,     1954,   35.74,6,   1.5305,2,       3830
49UP20160703,         P9,      17,          1,          3,        104,2,20160708,       1936,    28.5045,   136.9955,       4505,  4148.0,   1.5466,  34.6816,2,  34.6817,2,    154.8,2,  154.76,2,  140.85,2,    0.00,2,   2.490,2,-999.000,9,-999.000,9,-999.000,9,  -999.0,9,  -999.0,9,-999.0000,9,  -999.00, -999.00,9, -999.00,9,     1947,   35.69,2,   1.5466,2,       4080
49UP20160703,         P9,      17,          1,          2,        075,2,20160708,       1936,    28.5045,   136.9955,       4505,  4404.8,   1.5662,  34.6825,2,  34.6818,2,    155.7,2,  156.89,3,  140.58,2,    0.00,2,   2.480,2,-999.000,9,-999.000,9,-999.000,9,  -999.0,9,  -999.0,9,-999.0000,9,  -999.00, -999.00,9, -999.00,9,     1942,   35.54,2,   1.5662,2,       4331
49UP20160703,         P9,      17,          1,          1,        997,4,20160708,       1936,    28.5045,   136.9955,       4505,  4607.4,   1.5858,  34.6828,2,  34.5480,4,    156.2,2,  190.33,4,   11.28,4,    0.00,4,   0.690,4,-999.000,9,-999.000,9,-999.000,9,  -999.0,9,  -999.0,9,-999.0000,9,  -999.00, -999.00,9, -999.00,9,     1937,   10.05,4,   1.5858,2,       4528