BOTTLE,20230712CCHSIOENA
EXPOCODE,SECT_ID,STNNBR,CASTNO,SAMPNO,BTLNBR,BTLNBR_FLAG_W,DATE,TIME,LATITUDE,LONGITUDE,DEPTH,CTDPRS,CTDTMP,CTDSAL,CTDSAL_FLAG_W,SALNTY,SALNTY_FLAG_W,CTDOXY,CTDOXY_FLAG_W,OXYGEN,OXYGEN_FLAG_W,SILCAT,SILCAT_FLAG_W,NITRIT,NITRIT_FLAG_W,PHSPHT,PHSPHT_FLAG_W,CFC-11,CFC-11_FLAG_W,CFC-12,CFC-12_FLAG_W,CFC113,CFC113_FLAG_W,TCARBN,TCARBN_FLAG_W,ALKALI,ALKALI_FLAG_W,PH_TOT,PH_TOT_FLAG_W,PH_TMP,CHLORA,CHLORA_FLAG_W,PPHYTN,PPHYTN_FLAG_W,BTL_TIME,NO2+NO3,NO2+NO3_FLAG_W,SBE35,SBE35_FLAG_W,CTDDEPTH
,,,,,,,,,,,METERS,DBAR,ITS-90,PSS-78,,PSS-78,,UMOL/KG,,UMOL/KG,,UMOL/KG,,UMOL/KG,,UMOL/KG,,PMOL/KG,,PMOL/KG,,PMOL/KG,,UMOL/KG,,UMOL/KG,,,,DEG C,UG/KG,,UG/KG,,,UMOL/KG,,ITS-90,,METERS
49UP20160703,         P9,      30,          1,          0,        BUC,2,20160713,       0505,     21.998,   137.3218,       4238,     0.0,  30.6061,  35.0750,2,  35.0566,2,    193.1,2,  192.77,2,    0.95,2,    0.00,2,   0.030,2,-999.000,9,-999.000,9,-999.000,9,  1959.7,2,  2303.5,2,   8.1178,2,    25.00,    0.04,2,    0.02,2,      630,    0.01,2,-999.0000,9,          0
49UP20160703,         P9,      30,          1,         36,        109,2,20160713,       0505,     21.998,   137.3218,       4238,    10.5,  30.4485,  35.0874,2,  35.0809,2,    193.4,2,  193.05,2,    1.05,2,    0.00,2,   0.020,2,   1.474,2,   0.928,2,   0.139,2,  1966.2,2,  2304.2,2,   8.1146,2,    25.00,    0.04,2,    0.02,2,      651,    0.03,2,  30.4531,2,         10
49UP20160703,         P9,      30,          1,         35,        112,2,20160713,       0505,     21.998,   137.3218,       4238,    25.0,  30.1341,  35.0904,2,  35.0909,2,    194.3,2,  194.39,2,    1.05,2,    0.00,2,   0.020,2,   1.487,2,   0.930,2,   0.129,2,  1963.8,6,  2305.3,6,   8.1163,2,    25.00,    0.04,2,    0.02,2,      650,    0.02,2,  30.1357,2,         25
49UP20160703,         P9,      30,          1,         34,        094,2,20160713,       0505,     21.998,   137.3218,       4238,    49.8,  27.2322,  35.0252,2,  35.0280,2,    217.8,2,  217.23,2,    1.12,2,    0.00,2,   0.020,2,   1.805,2,   1.094,2,   0.141,2,  1974.5,2,  2301.6,2,   8.0946,2,    25.00,    0.06,2,    0.03,2,      646,    0.03,2,  27.2144,2,         49
49UP20160703,         P9,      30,          1,         33,        469,2,20160713,       0505,     21.998,   137.3218,       4238,    75.8,  24.7127,  35.0287,2,  35.0279,6,    220.4,2,  220.40,2,    1.24,2,    0.00,2,   0.010,2,   1.914,6,   1.159,6,   0.159,6,  1977.9,2,  2304.0,2,   8.0912,2,    25.00,    0.09,2,    0.05,2,      645,    0.00,2,  24.7052,2,         75
49UP20160703,         P9,      30,          1,         32,        089,2,20160713,       0505,     21.998,   137.3218,       4238,   101.6,  23.1571,  34.9967,2,  35.0079,4,    216.2,2,  214.13,2,    1.40,2,    0.00,2,   0.020,2,-999.000,9,-999.000,9,-999.000,9,  1994.9,2,  2297.8,2,   8.0598,2,    25.00, -999.00,9, -999.00,9,      644,    0.00,2,  23.1529,2,        101
49UP20160703,         P9,      30,          1,         31,        515,2,20160713,       0505,     21.998,   137.3218,       4238,   101.9,  23.1554,  34.9964,2,  35.0110,4,    216.3,2,  213.66,2,    1.38,2,    0.00,2,   0.020,2,   1.983,2,   1.212,2,   0.141,2,  1996.1,2,  2299.6,2,   8.0619,2,    25.00,    0.18,2,    0.20,2,      644,    0.03,2,  23.1548,2,        101
49UP20160703,         P9,      30,          1,         30,        097,2,20160713,       0505,     21.998,   137.3218,       4238,   125.7,  21.9805,  35.0370,2,  35.0055,4,    197.0,2,  199.43,6,    1.72,6,    0.03,6,   0.080,6,   2.072,2,   1.299,2,   0.111,2,  2018.3,2,  2297.9,2,   8.0229,2,    25.00,    0.11,2,    0.27,2,      643,    0.66,6,  21.9730,2,        125
49UP20160703,         P9,      30,          1,         29,        102,2,20160713,       0505,     21.998,   137.3218,       4238,   151.4,  20.8946,  34.9526,2,  34.9505,2,    197.5,2,  197.19,2,    1.99,2,    0.01,2,   0.120,2,   2.140,2,   1.337,2,   0.096,2,  2022.4,2,  2293.8,2,   8.0015,2,    25.00,    0.06,2,    0.17,2,      642,    1.28,2,  20.8930,2,        150
49UP20160703,         P9,      30,          1,         28,        472,2,20160713,       0505,     21.998,   137.3218,       4238,   201.2,  18.8506,  34.8573,2,  34.8554,2,    198.6,2,  198.60,2,    2.86,2,    0.01,2,   0.220,2,   2.323,2,   1.447,2,   0.049,2,  2032.1,2,  2286.7,2,   7.9661,2,    25.00,    0.00,2,    0.03,2,      640,    3.14,2,  18.8528,2,        200
49UP20160703,         P9,      30,          1,         27,        998,2,20160713,       0505,     21.998,   137.3218,       4238,   252.8,  17.3063,  34.7446,2,  34.7447,2,    205.6,2,  205.60,2,    3.86,2,    0.00,2,   0.310,2,   2.460,2,   1.518,2,   0.052,2,  2039.9,2,  2279.5,2,   7.9479,2,    25.00, -999.00,9, -999.00,9,      639,    4.54,2,  17.3056,2,        251
49UP20160703,         P9,      30,          1,         26,        084,2,20160713,       0505,     21.998,   137.3218,       4238,   282.6,  17.0137,  34.7242,2,  34.7243,2,    207.2,2,  207.36,2,    4.15,2,    0.00,2,   0.320,2,   2.492,2,   1.531,2,   0.036,2,  2041.9,6,  2277.9,6,   7.9445,2,    25.00, -999.00,9, -999.00,9,      638,    4.85,2,  17.0131,2,        281
49UP20160703,         P9,      30,          1,         25,        098,2,20160713,       0505,     21.998,   137.3218,       4238,   373.7,  15.4463,  34.5837,2,  34.5834,2,    197.8,2,  197.81,2,    7.72,2,    0.00,2,   0.550,2,   2.658,2,   1.600,2,   0.032,2,  2061.4,2,  2274.9,2,   7.8901,2,    25.00, -999.00,9, -999.00,9,      635,    8.12,2,  15.4407,2,        371
49UP20160703,         P9,      30,          1,         24,        110,2,20160713,       0505,     21.998,   137.3218,       4238,   475.5,  12.3564,  34.3526,2,  34.3576,4,    181.0,2,  181.19,2,   17.25,2,    0.00,2,   1.010,2,   2.879,2,   1.656,2,   0.058,2,  2111.7,2,  2270.9,2,   7.7857,2,    25.00, -999.00,9, -999.00,9,      633,   14.49,2,  12.3641,2,        472
49UP20160703,         P9,      30,          1,         23,        679,2,20160713,       0505,     21.998,   137.3218,       4238,   575.7,   9.1309,  34.1693,2,  34.1701,2,    157.7,2,  157.52,2,   36.13,2,    0.00,2,   1.610,2,   2.694,2,   1.479,2,   0.083,2,  2162.6,2,  2279.1,2,   7.6602,6,    25.00, -999.00,9, -999.00,9,      630,   22.60,2,   9.1314,2,        571
49UP20160703,         P9,      30,          1,         22,        111,2,20160713,       0505,     21.998,   137.3218,       4238,   676.1,   6.4879,  34.0993,2,  34.1031,4,    114.5,2,  113.03,2,   63.23,2,    0.00,2,   2.260,2,   1.976,2,   0.999,2,   0.068,2,  2230.7,2,  2298.3,2,   7.5163,2,    25.00, -999.00,9, -999.00,9,      628,   31.47,2,   6.4844,2,        671
49UP20160703,         P9,      30,          1,         21,        078,2,20160713,       0505,     21.998,   137.3218,       4238,   777.3,   5.1026,  34.1893,2,  34.1902,2,     78.4,2,   78.09,2,   87.98,2,    0.00,2,   2.630,2,   1.169,2,   0.572,2,   0.038,2,  2287.2,2,  2323.2,2,   7.4381,2,    25.00, -999.00,9, -999.00,9,      625,   36.73,2,   5.1101,2,        771
49UP20160703,         P9,      30,          1,         20,        093,2,20160713,       0505,     21.998,   137.3218,       4238,   877.8,   4.3830,  34.2882,2,  34.2888,2,     61.6,2,   61.54,2,  103.63,2,    0.00,2,   2.810,2,   0.613,2,   0.299,2,   0.007,2,  2311.5,2,  2344.4,2,   7.4125,2,    25.00, -999.00,9, -999.00,9,      623,   39.28,2,   4.3829,2,        870
49UP20160703,         P9,      30,          1,         19,        269,2,20160713,       0505,     21.998,   137.3218,       4238,   979.2,   4.0459,  34.3788,2,  34.3790,2,     57.9,2,   58.13,2,  110.46,2,    0.00,2,   2.890,2,   0.251,2,   0.127,2,   0.000,2,  2323.5,2,  2357.5,2,   7.4107,2,    25.00, -999.00,9, -999.00,9,      620,   40.25,2,   4.0461,2,        971
49UP20160703,         P9,      30,          1,         18,        088,2,20160713,       0505,     21.998,   137.3218,       4238,  1140.6,   3.4714,  34.4588,2,  34.4596,2,     65.5,2,   65.44,2,  122.30,2,    0.00,2,   2.880,2,   0.116,2,   0.070,2,   0.000,2,  2341.8,2,  2373.3,2,    7.428,2,    25.00, -999.00,9, -999.00,9,      615,   40.39,2,   3.4714,2,       1130
49UP20160703,         P9,      30,          1,         17,        090,2,20160713,       0505,     21.998,   137.3218,       4238,  1343.2,   2.9159,  34.5149,2,  34.5145,6,     76.5,2,   76.32,2,  132.90,2,    0.00,2,   2.850,2,   0.051,2,   0.025,2,   0.008,2,  2346.0,2,  2389.2,2,   7.4488,2,    25.00, -999.00,9, -999.00,9,      611,   40.02,2,   2.9162,2,       1331
49UP20160703,         P9,      30,          1,         16,        474,2,20160713,       0505,     21.998,   137.3218,       4238,  1546.7,   2.5755,  34.5560,2,  34.5551,2,     89.9,2,   89.95,2,  137.31,2,    0.00,2,   2.790,2,   0.024,2,   0.013,2,   0.000,2,  2340.6,2,  2394.9,2,   7.4759,2,    25.00, -999.00,9, -999.00,9,      607,   39.33,2,   2.5758,2,       1531
49UP20160703,         P9,      30,          1,         15,        665,2,20160713,       0505,     21.998,   137.3218,       4238,  1749.8,   2.3396,  34.5907,2,  34.5911,2,    103.5,2,  103.28,6,  138.85,6,    0.00,6,   2.730,6,   0.012,2,   0.009,2,   0.000,2,  2338.9,2,  2401.6,2,   7.5037,2,    25.00, -999.00,9, -999.00,9,      602,   38.62,6,   2.3396,2,       1732
49UP20160703,         P9,      30,          1,         13,        667,2,20160713,       0505,     21.998,   137.3218,       4238,  1952.4,   2.1258,  34.6122,2,  34.6122,2,    112.0,2,  111.59,2,  140.78,2,    0.00,2,   2.690,2,-999.000,9,-999.000,9,-999.000,9,  2341.6,2,  2404.9,2,   7.5157,2,    25.00, -999.00,9, -999.00,9,      557,   38.26,2,   2.1258,2,       1931
49UP20160703,         P9,      30,          1,         14,        999,2,20160713,       0505,     21.998,   137.3218,       4238,  1952.7,   2.1257,  34.6122,2,  34.6127,2,    112.0,2,  111.48,2,  141.12,2,    0.00,2,   2.690,2,   0.001,2,   0.006,6,   0.000,6,  2342.1,2,  2405.7,2,   7.5129,2,    25.00, -999.00,9, -999.00,9,      557,   38.31,2,   2.1256,2,       1932
49UP20160703,         P9,      30,          1,         12,        074,2,20160713,       0505,     21.998,   137.3218,       4238,  2155.1,   1.9860,  34.6261,2,  34.6268,2,    117.9,2,  117.39,2,  142.14,2,    0.00,2,   2.670,2,-999.000,9,-999.000,9,-999.000,9,  2335.7,2,  2409.5,2,   7.5249,6,    25.00, -999.00,9, -999.00,9,      552,   38.03,2,   1.9860,2,       2131
49UP20160703,         P9,      30,          1,         11,        268,2,20160713,       0505,     21.998,   137.3218,       4238,  2359.0,   1.8508,  34.6393,2,  34.6396,6,    124.6,2,  124.13,2,  143.20,2,    0.00,2,   2.640,2,   0.000,2,   0.001,2,   0.000,2,  2337.7,6,  2411.6,6,   7.5407,2,    25.00, -999.00,9, -999.00,9,      548,   37.68,2,   1.8508,2,       2331
49UP20160703,         P9,      30,          1,         10,        267,2,20160713,       0505,     21.998,   137.3218,       4238,  2561.7,   1.7691,  34.6478,2,  34.6482,2,    129.6,2,  129.79,6,  143.61,6,    0.00,6,   2.620,6,-999.000,9,-999.000,9,-999.000,9,  2335.1,2,  2411.8,2,    7.546,2,    25.00, -999.00,9, -999.00,9,      544,   37.38,6,   1.7691,2,       2530
49UP20160703,         P9,      30,          1,          9,        518,2,20160713,       0505,     21.998,   137.3218,       4238,  2766.8,   1.7072,  34.6550,2,  34.6548,2,    134.3,2,  133.93,2,  143.33,2,    0.00,2,   2.590,2,-999.000,9,-999.000,9,-999.000,9,  2335.1,2,  2411.7,2,   7.5535,2,    25.00, -999.00,9, -999.00,9,      539,   37.12,2,   1.7073,2,       2732
49UP20160703,         P9,      30,          1,          8,        470,2,20160713,       0505,     21.998,   137.3218,       4238,  2968.7,   1.6719,  34.6597,2,  34.6600,2,    137.5,2,  137.82,2,  143.37,2,    0.00,2,   2.570,2,   0.000,2,   0.000,2,   0.000,2,  2331.9,2,  2412.0,2,   7.5595,2,    25.00, -999.00,9, -999.00,9,      535,   36.85,2,   1.6722,2,       2930
49UP20160703,         P9,      30,          1,          7,        516,2,20160713,       0505,     21.998,   137.3218,       4238,  3216.2,   1.6095,  34.6665,2,  34.6669,2,    143.5,2,  143.27,2,  142.56,2,    0.00,2,   2.540,2,-999.000,9,-999.000,9,-999.000,9,  2326.2,2,  2413.4,2,   7.5673,2,    25.00, -999.00,9, -999.00,9,      530,   36.48,2,   1.6094,2,       3172
49UP20160703,         P9,      30,          1,          6,        113,2,20160713,       0505,     21.998,   137.3218,       4238,  3470.7,   1.5709,  34.6724,2,  34.6723,2,    147.8,2,  147.51,2,  142.23,2,    0.00,2,   2.520,2,-999.000,9,-999.000,9,-999.000,9,  2325.7,2,  2413.5,2,    7.575,2,    25.00, -999.00,9, -999.00,9,      524,   36.25,2,   1.5710,2,       3421
49UP20160703,         P9,      30,          1,          5,        658,2,20160713,       0505,     21.998,   137.3218,       4238,  3725.5,   1.5418,  34.6776,2,  34.6773,2,    151.9,2,  151.65,2,  141.31,2,    0.00,2,   2.500,2,-999.000,9,-999.000,9,-999.000,9,  2324.3,2,  2413.8,2,   7.5786,2,    25.00, -999.00,9, -999.00,9,      519,   35.87,2,   1.5418,2,       3670
49UP20160703,         P9,      30,          1,          4,        471,2,20160713,       0505,     21.998,   137.3218,       4238,  3981.6,   1.5417,  34.6799,2,  34.6799,2,    154.1,2,  154.07,2,  141.02,2,    0.00,2,   2.490,2,   0.000,2,   0.002,2,   0.000,2,  2321.9,2,  2412.6,2,   7.5822,2,    25.00, -999.00,9, -999.00,9,      513,   35.76,2,   1.5417,2,       3920
49UP20160703,         P9,      30,          1,          3,        104,2,20160713,       0505,     21.998,   137.3218,       4238,  4238.1,   1.5524,  34.6814,2,  34.6819,6,    155.6,2,  155.24,6,  140.70,6,    0.00,6,   2.490,6,-999.000,9,-999.000,9,-999.000,9,  2326.5,2,  2411.4,2,    7.585,2,    25.00, -999.00,9, -999.00,9,      508,   35.67,6,   1.5524,2,       4170
49UP20160703,         P9,      30,          1,          2,        075,2,20160713,       0505,     21.998,   137.3218,       4238,  4349.5,   1.5565,  34.6822,2,  34.6830,2,    156.4,2,  155.96,2,  140.51,2,    0.00,2,   2.470,2,   0.000,2,   0.001,2,   0.000,2,  2320.7,2,  2410.0,2,   7.5861,2,    25.00, -999.00,9, -999.00,9,      505,   35.59,2,   1.5565,2,       4279
49UP20160703,         P9,      30,          1,          1,        997,2,20160713,       0505,     21.998,   137.3218,       4238,  4349.7,   1.5566,  34.6822,2,  34.6823,2,    156.4,2,  155.87,2,  140.76,2,    0.00,2,   2.480,2,-999.000,9,-999.000,9,-999.000,9,  2317.1,2,  2411.1,2,   7.5842,2,    25.00, -999.00,9, -999.00,9,      505,   35.67,2,   1.5566,2,       4279