BOTTLE,20230712CCHSIOENA
EXPOCODE,SECT_ID,STNNBR,CASTNO,SAMPNO,BTLNBR,BTLNBR_FLAG_W,DATE,TIME,LATITUDE,LONGITUDE,DEPTH,CTDPRS,CTDTMP,CTDSAL,CTDSAL_FLAG_W,SALNTY,SALNTY_FLAG_W,CTDOXY,CTDOXY_FLAG_W,OXYGEN,OXYGEN_FLAG_W,SILCAT,SILCAT_FLAG_W,NITRIT,NITRIT_FLAG_W,PHSPHT,PHSPHT_FLAG_W,CFC-11,CFC-11_FLAG_W,CFC-12,CFC-12_FLAG_W,CFC113,CFC113_FLAG_W,TCARBN,TCARBN_FLAG_W,ALKALI,ALKALI_FLAG_W,PH_TOT,PH_TOT_FLAG_W,PH_TMP,CHLORA,CHLORA_FLAG_W,PPHYTN,PPHYTN_FLAG_W,BTL_TIME,NO2+NO3,NO2+NO3_FLAG_W,SBE35,SBE35_FLAG_W,CTDDEPTH
,,,,,,,,,,,METERS,DBAR,ITS-90,PSS-78,,PSS-78,,UMOL/KG,,UMOL/KG,,UMOL/KG,,UMOL/KG,,UMOL/KG,,PMOL/KG,,PMOL/KG,,PMOL/KG,,UMOL/KG,,UMOL/KG,,,,DEG C,UG/KG,,UG/KG,,,UMOL/KG,,ITS-90,,METERS
49UP20160703,         P9,      87,          1,          0,        BUC,2,20160809,       1725,    -0.4983,   142.0145,       3428,     0.0,  29.8637,  33.9471,2,-999.0000,9,    194.8,2,  195.04,2,    1.04,2,    0.00,2,   0.100,2,-999.000,9,-999.000,9,-999.000,9,  -999.0,9,  -999.0,9,-999.0000,9,  -999.00, -999.00,9, -999.00,9,     1833,    0.03,2,-999.0000,9,          0
49UP20160703,         P9,      87,          1,         36,        109,2,20160809,       1725,    -0.4983,   142.0145,       3428,    10.4,  29.8679,  33.9472,2,  33.9474,2,    194.7,2,  194.83,6,    1.07,6,    0.00,6,   0.090,6,-999.000,9,-999.000,9,-999.000,9,  -999.0,9,  -999.0,9,-999.0000,9,  -999.00, -999.00,9, -999.00,9,     1901,    0.03,6,  29.8675,2,         10
49UP20160703,         P9,      87,          1,         35,        112,2,20160809,       1725,    -0.4983,   142.0145,       3428,    25.7,  29.8784,  33.9484,2,  33.9489,6,    194.8,2,  194.68,2,    1.05,2,    0.00,2,   0.090,2,-999.000,9,-999.000,9,-999.000,9,  -999.0,9,  -999.0,9,-999.0000,9,  -999.00, -999.00,9, -999.00,9,     1900,    0.02,2,  29.8784,2,         26
49UP20160703,         P9,      87,          1,         34,        094,2,20160809,       1725,    -0.4983,   142.0145,       3428,    52.1,  29.9555,  34.0794,2,  34.0790,2,    197.1,2,  197.18,2,    1.09,2,    0.00,2,   0.090,4,-999.000,9,-999.000,9,-999.000,9,  -999.0,9,  -999.0,9,-999.0000,9,  -999.00, -999.00,9, -999.00,9,     1858,    0.01,2,  29.9572,2,         52
49UP20160703,         P9,      87,          1,         32,        089,2,20160809,       1725,    -0.4983,   142.0145,       3428,    76.7,  29.7814,  34.2350,2,  34.2320,2,    195.9,2,  196.17,2,    1.18,2,    0.00,2,   0.080,3,-999.000,9,-999.000,9,-999.000,9,  -999.0,9,  -999.0,9,-999.0000,9,  -999.00, -999.00,9, -999.00,9,     1857,    0.03,2,  29.7806,2,         76
49UP20160703,         P9,      87,          1,         31,        515,2,20160809,       1725,    -0.4983,   142.0145,       3428,   101.0,  27.8714,  34.8598,2,  34.9106,4,    186.2,2,  184.21,2,    1.29,2,    0.09,2,   0.190,2,-999.000,9,-999.000,9,-999.000,9,  -999.0,9,  -999.0,9,-999.0000,9,  -999.00, -999.00,9, -999.00,9,     1856,    0.75,2,  27.8516,2,        100
49UP20160703,         P9,      87,          1,         30,        097,2,20160809,       1725,    -0.4983,   142.0145,       3428,   126.1,  23.9715,  35.4025,2,  35.4154,4,    158.1,2,  157.81,2,    1.95,2,    0.03,2,   0.500,2,-999.000,9,-999.000,9,-999.000,9,  -999.0,9,  -999.0,9,-999.0000,9,  -999.00, -999.00,9, -999.00,9,     1855,    5.46,2,  23.9329,2,        125
49UP20160703,         P9,      87,          1,         29,        102,2,20160809,       1725,    -0.4983,   142.0145,       3428,   151.6,  22.0605,  35.4978,2,  35.4975,2,    150.9,2,  150.98,2,    2.54,2,    0.02,2,   0.630,2,-999.000,9,-999.000,9,-999.000,9,  -999.0,9,  -999.0,9,-999.0000,9,  -999.00, -999.00,9, -999.00,9,     1853,    7.26,2,  22.0947,2,        151
49UP20160703,         P9,      87,          1,         28,        472,2,20160809,       1725,    -0.4983,   142.0145,       3428,   201.9,  18.3037,  35.4055,2,  35.4040,2,    142.8,2,  141.93,6,    4.76,6,    0.01,6,   0.910,2,-999.000,9,-999.000,9,-999.000,9,  -999.0,9,  -999.0,9,-999.0000,9,  -999.00, -999.00,9, -999.00,9,     1852,   11.41,6,  18.4798,2,        201
49UP20160703,         P9,      87,          1,         27,        998,2,20160809,       1725,    -0.4983,   142.0145,       3428,   250.9,  15.2278,  35.1538,2,  35.1394,4,    145.6,2,  145.01,2,    8.60,2,    0.00,2,   1.150,2,-999.000,9,-999.000,9,-999.000,9,  -999.0,9,  -999.0,9,-999.0000,9,  -999.00, -999.00,9, -999.00,9,     1850,   15.11,2,  15.2237,2,        249
49UP20160703,         P9,      87,          1,         26,        084,2,20160809,       1725,    -0.4983,   142.0145,       3428,   302.4,  13.7415,  35.0208,2,  35.0152,2,    146.9,2,  147.35,2,   10.54,2,    0.00,2,   1.270,2,-999.000,9,-999.000,9,-999.000,9,  -999.0,9,  -999.0,9,-999.0000,9,  -999.00, -999.00,9, -999.00,9,     1848,   17.13,2,  13.7411,2,        301
49UP20160703,         P9,      87,          1,         25,        098,2,20160809,       1725,    -0.4983,   142.0145,       3428,   352.8,  10.9617,  34.7847,2,  34.7809,2,    133.9,2,  132.07,2,   19.00,2,    0.00,2,   1.660,2,-999.000,9,-999.000,9,-999.000,9,  -999.0,9,  -999.0,9,-999.0000,9,  -999.00, -999.00,9, -999.00,9,     1847,   23.28,2,  10.9627,2,        351
49UP20160703,         P9,      87,          1,         24,        110,2,20160809,       1725,    -0.4983,   142.0145,       3428,   401.0,   9.9603,  34.7141,2,  34.7119,2,    102.5,2,  102.72,2,   24.93,2,    0.00,2,   1.980,2,-999.000,9,-999.000,9,-999.000,9,  -999.0,9,  -999.0,9,-999.0000,9,  -999.00, -999.00,9, -999.00,9,     1845,   28.21,2,   9.9593,2,        398
49UP20160703,         P9,      87,          1,         23,        679,2,20160809,       1725,    -0.4983,   142.0145,       3428,   401.2,   9.9590,  34.7138,2,  34.7110,2,    102.5,2,  102.49,2,   24.92,2,    0.00,2,   1.970,2,-999.000,9,-999.000,9,-999.000,9,  -999.0,9,  -999.0,9,-999.0000,9,  -999.00, -999.00,9, -999.00,9,     1845,   28.26,2,   9.9565,2,        399
49UP20160703,         P9,      87,          1,         22,        111,2,20160809,       1725,    -0.4983,   142.0145,       3428,   452.9,   9.3391,  34.6713,2,  34.6678,2,    106.2,2,  105.44,2,   27.37,2,    0.00,2,   2.040,2,-999.000,9,-999.000,9,-999.000,9,  -999.0,9,  -999.0,9,-999.0000,9,  -999.00, -999.00,9, -999.00,9,     1843,   29.23,2,   9.3399,2,        450
49UP20160703,         P9,      87,          1,         21,        078,2,20160809,       1725,    -0.4983,   142.0145,       3428,   503.7,   8.2176,  34.5978,2,  34.5975,2,    119.2,2,  119.36,2,   31.20,2,    0.00,2,   2.090,2,-999.000,9,-999.000,9,-999.000,9,  -999.0,9,  -999.0,9,-999.0000,9,  -999.00, -999.00,9, -999.00,9,     1841,   29.90,2,   8.2172,2,        500
49UP20160703,         P9,      87,          1,         20,        093,2,20160809,       1725,    -0.4983,   142.0145,       3428,   603.3,   6.8468,  34.5455,2,  34.5466,2,    117.6,2,  117.03,2,   39.97,2,    0.00,2,   2.310,2,-999.000,9,-999.000,9,-999.000,9,  -999.0,9,  -999.0,9,-999.0000,9,  -999.00, -999.00,9, -999.00,9,     1838,   33.07,2,   6.8466,2,        599
49UP20160703,         P9,      87,          1,         19,        269,2,20160809,       1725,    -0.4983,   142.0145,       3428,   705.7,   6.0174,  34.5316,2,  34.5319,2,    108.5,2,  108.61,6,   51.40,6,    0.00,6,   2.490,6,-999.000,9,-999.000,9,-999.000,9,  -999.0,9,  -999.0,9,-999.0000,9,  -999.00, -999.00,9, -999.00,9,     1836,   35.36,6,   6.0172,2,        701
49UP20160703,         P9,      87,          1,         18,        088,2,20160809,       1725,    -0.4983,   142.0145,       3428,   805.2,   5.2121,  34.5212,2,  34.5216,6,    120.9,2,  121.26,2,   60.89,2,    0.00,2,   2.480,2,-999.000,9,-999.000,9,-999.000,9,  -999.0,9,  -999.0,9,-999.0000,9,  -999.00, -999.00,9, -999.00,9,     1833,   35.24,2,   5.2112,2,        799
49UP20160703,         P9,      87,          1,         16,        474,2,20160809,       1725,    -0.4983,   142.0145,       3428,   905.9,   4.7572,  34.5410,2,  34.5413,2,    103.2,2,  103.39,2,   75.03,2,    0.00,2,   2.650,2,-999.000,9,-999.000,9,-999.000,9,  -999.0,9,  -999.0,9,-999.0000,9,  -999.00, -999.00,9, -999.00,9,     1830,   37.38,2,   4.7569,2,        899
49UP20160703,         P9,      87,          1,         17,        090,2,20160809,       1725,    -0.4983,   142.0145,       3428,   906.2,   4.7571,  34.5411,2,  34.5411,2,    103.3,2,  103.57,2,   75.09,2,    0.00,2,   2.650,2,-999.000,9,-999.000,9,-999.000,9,  -999.0,9,  -999.0,9,-999.0000,9,  -999.00, -999.00,9, -999.00,9,     1830,   37.42,2,   4.7570,2,        899
49UP20160703,         P9,      87,          1,         15,        665,2,20160809,       1725,    -0.4983,   142.0145,       3428,  1011.4,   4.4005,  34.5511,2,  34.5514,2,    100.7,2,  100.61,2,   83.75,2,    0.00,2,   2.700,2,-999.000,9,-999.000,9,-999.000,9,  -999.0,9,  -999.0,9,-999.0000,9,  -999.00, -999.00,9, -999.00,9,     1827,   37.95,2,   4.4009,2,       1003
49UP20160703,         P9,      87,          1,         14,        999,2,20160809,       1725,    -0.4983,   142.0145,       3428,  1213.2,   3.6893,  34.5745,2,  34.5741,2,    101.2,2,  101.43,2,  100.79,2,    0.00,2,   2.730,2,-999.000,9,-999.000,9,-999.000,9,  -999.0,9,  -999.0,9,-999.0000,9,  -999.00, -999.00,9, -999.00,9,     1822,   38.44,2,   3.6903,2,       1203
49UP20160703,         P9,      87,          1,         13,        667,2,20160809,       1725,    -0.4983,   142.0145,       3428,  1413.5,   3.1751,  34.5934,2,  34.5936,2,    105.7,2,  105.83,2,  112.09,2,    0.00,2,   2.720,2,-999.000,9,-999.000,9,-999.000,9,  -999.0,9,  -999.0,9,-999.0000,9,  -999.00, -999.00,9, -999.00,9,     1817,   38.43,2,   3.1764,2,       1401
49UP20160703,         P9,      87,          1,         12,        074,2,20160809,       1725,    -0.4983,   142.0145,       3428,  1615.0,   2.7335,  34.6116,2,  34.6105,2,    110.8,2,  110.77,2,  121.94,2,    0.00,2,   2.710,2,-999.000,9,-999.000,9,-999.000,9,  -999.0,9,  -999.0,9,-999.0000,9,  -999.00, -999.00,9, -999.00,9,     1811,   38.40,2,   2.7340,2,       1600
49UP20160703,         P9,      87,          1,         11,        268,2,20160809,       1725,    -0.4983,   142.0145,       3428,  1817.6,   2.3934,  34.6275,2,  34.6278,2,    116.1,2,  116.21,2,  129.55,2,    0.00,2,   2.690,2,-999.000,9,-999.000,9,-999.000,9,  -999.0,9,  -999.0,9,-999.0000,9,  -999.00, -999.00,9, -999.00,9,     1806,   38.18,2,   2.3933,2,       1800
49UP20160703,         P9,      87,          1,          9,        518,2,20160809,       1725,    -0.4983,   142.0145,       3428,  2021.9,   2.1557,  34.6394,2,  34.6397,2,    120.0,2,  119.95,2,  135.18,2,    0.00,2,   2.670,2,-999.000,9,-999.000,9,-999.000,9,  -999.0,9,  -999.0,9,-999.0000,9,  -999.00, -999.00,9, -999.00,9,     1801,   38.00,2,   2.1556,2,       2001
49UP20160703,         P9,      87,          1,         10,        267,2,20160809,       1725,    -0.4983,   142.0145,       3428,  2022.3,   2.1554,  34.6394,2,  34.6392,2,    120.0,2,  120.38,2,  135.35,2,    0.00,2,   2.660,2,-999.000,9,-999.000,9,-999.000,9,  -999.0,9,  -999.0,9,-999.0000,9,  -999.00, -999.00,9, -999.00,9,     1801,   37.98,2,   2.1554,2,       2002
49UP20160703,         P9,      87,          1,          8,        470,2,20160809,       1725,    -0.4983,   142.0145,       3428,  2224.3,   1.9938,  34.6470,2,  34.6466,2,    124.5,2,  124.59,2,  138.78,2,    0.00,2,   2.650,2,-999.000,9,-999.000,9,-999.000,9,  -999.0,9,  -999.0,9,-999.0000,9,  -999.00, -999.00,9, -999.00,9,     1756,   37.75,2,   1.9938,2,       2200
49UP20160703,         P9,      87,          1,          7,        516,2,20160809,       1725,    -0.4983,   142.0145,       3428,  2427.8,   1.7708,  34.6591,2,  34.6597,2,    132.8,2,  132.86,2,  141.49,2,    0.00,2,   2.600,2,-999.000,9,-999.000,9,-999.000,9,  -999.0,9,  -999.0,9,-999.0000,9,  -999.00, -999.00,9, -999.00,9,     1751,   37.25,2,   1.7708,2,       2401
49UP20160703,         P9,      87,          1,          6,        113,2,20160809,       1725,    -0.4983,   142.0145,       3428,  2630.4,   1.7036,  34.6636,2,  34.6632,2,    136.6,2,  136.75,2,  142.00,2,    0.00,2,   2.580,2,-999.000,9,-999.000,9,-999.000,9,  -999.0,9,  -999.0,9,-999.0000,9,  -999.00, -999.00,9, -999.00,9,     1746,   37.00,2,   1.7038,2,       2600
49UP20160703,         P9,      87,          1,          5,        658,2,20160809,       1725,    -0.4983,   142.0145,       3428,  2834.6,   1.6111,  34.6693,2,  34.6693,2,    141.8,2,  141.87,2,  142.53,2,    0.00,2,   2.550,2,-999.000,9,-999.000,9,-999.000,9,  -999.0,9,  -999.0,9,-999.0000,9,  -999.00, -999.00,9, -999.00,9,     1741,   36.67,2,   1.6108,2,       2800
49UP20160703,         P9,      87,          1,          4,        471,2,20160809,       1725,    -0.4983,   142.0145,       3428,  3037.7,   1.5811,  34.6723,2,  34.6720,6,    144.2,2,  144.47,6,  142.73,6,    0.00,6,   2.540,6,-999.000,9,-999.000,9,-999.000,9,  -999.0,9,  -999.0,9,-999.0000,9,  -999.00, -999.00,9, -999.00,9,     1737,   36.52,6,   1.5811,2,       2999
49UP20160703,         P9,      87,          1,          3,        104,2,20160809,       1725,    -0.4983,   142.0145,       3428,  3293.1,   1.5854,  34.6737,2,  34.6732,2,    145.1,2,  145.14,2,  142.95,2,    0.00,2,   2.540,2,-999.000,9,-999.000,9,-999.000,9,  -999.0,9,  -999.0,9,-999.0000,9,  -999.00, -999.00,9, -999.00,9,     1731,   36.44,2,   1.5853,2,       3250
49UP20160703,         P9,      87,          1,          2,        075,2,20160809,       1725,    -0.4983,   142.0145,       3428,  3293.1,   1.5853,  34.6737,2,  34.6736,2,    145.0,2,  145.20,2,  142.83,2,    0.00,2,   2.540,2,-999.000,9,-999.000,9,-999.000,9,  -999.0,9,  -999.0,9,-999.0000,9,  -999.00, -999.00,9, -999.00,9,     1730,   36.44,2,   1.5852,2,       3250
49UP20160703,         P9,      87,          1,          1,        997,2,20160809,       1725,    -0.4983,   142.0145,       3428,  3446.9,   1.5922,  34.6745,2,  34.6743,2,    145.4,2,  145.58,2,  142.91,2,    0.00,2,   2.530,2,-999.000,9,-999.000,9,-999.000,9,  -999.0,9,  -999.0,9,-999.0000,9,  -999.00, -999.00,9, -999.00,9,     1726,   36.43,2,   1.5923,2,       3400