BOTTLE,20230712CCHSIOENA
EXPOCODE,SECT_ID,STNNBR,CASTNO,SAMPNO,BTLNBR,BTLNBR_FLAG_W,DATE,TIME,LATITUDE,LONGITUDE,DEPTH,CTDPRS,CTDTMP,CTDSAL,CTDSAL_FLAG_W,SALNTY,SALNTY_FLAG_W,CTDOXY,CTDOXY_FLAG_W,OXYGEN,OXYGEN_FLAG_W,SILCAT,SILCAT_FLAG_W,NITRIT,NITRIT_FLAG_W,PHSPHT,PHSPHT_FLAG_W,CFC-11,CFC-11_FLAG_W,CFC-12,CFC-12_FLAG_W,CFC113,CFC113_FLAG_W,TCARBN,TCARBN_FLAG_W,ALKALI,ALKALI_FLAG_W,PH_TOT,PH_TOT_FLAG_W,PH_TMP,CHLORA,CHLORA_FLAG_W,PPHYTN,PPHYTN_FLAG_W,BTL_TIME,NO2+NO3,NO2+NO3_FLAG_W,SBE35,SBE35_FLAG_W,CTDDEPTH
,,,,,,,,,,,METERS,DBAR,ITS-90,PSS-78,,PSS-78,,UMOL/KG,,UMOL/KG,,UMOL/KG,,UMOL/KG,,UMOL/KG,,PMOL/KG,,PMOL/KG,,PMOL/KG,,UMOL/KG,,UMOL/KG,,,,DEG C,UG/KG,,UG/KG,,,UMOL/KG,,ITS-90,,METERS
49UP20160703,         P9,      72,          1,          0,        BUC,2,20160804,       0937,     3.0232,   137.0138,       4537,     0.0,  30.1062,  33.8863,2,  33.8801,2,    195.2,2,  195.08,2,    1.01,2,    0.00,2,   0.090,2,-999.000,9,-999.000,9,-999.000,9,  1898.2,2,  2227.8,2,   8.1268,2,    25.00,    0.06,2,    0.02,2,     1107,    0.02,3,-999.0000,9,          0
49UP20160703,         P9,      72,          1,         36,        109,2,20160804,       0937,     3.0232,   137.0138,       4537,    11.0,  30.1100,  33.8874,2,  33.8873,2,    195.3,2,  195.41,6,    1.02,6,    0.00,6,   0.050,6,   1.468,2,   0.937,2,   0.110,2,  1896.8,2,  2228.1,2,   8.1223,2,    25.00,    0.06,2,    0.03,2,     1142,    0.00,3,  30.1109,2,         11
49UP20160703,         P9,      72,          1,         35,        112,2,20160804,       0937,     3.0232,   137.0138,       4537,    26.2,  30.1122,  33.8867,2,  33.8873,2,    195.3,2,  195.33,2,    1.00,2,    0.00,2,   0.050,2,   1.465,2,   0.930,2,   0.117,2,  1897.3,2,  2228.9,2,    8.126,2,    25.00,    0.05,2,    0.02,2,     1140,    0.00,3,  30.1132,2,         26
49UP20160703,         P9,      72,          1,         34,        094,2,20160804,       0937,     3.0232,   137.0138,       4537,    51.3,  30.2282,  34.1851,2,  34.1850,6,    198.2,2,  198.24,2,    1.09,2,    0.00,2,   0.050,2,   1.501,2,   0.949,2,   0.113,2,  1919.4,2,  2248.4,2,   8.1209,2,    25.00,    0.08,2,    0.05,2,     1139,    0.02,3,  30.2260,2,         51
49UP20160703,         P9,      72,          1,         33,        469,2,20160804,       0937,     3.0232,   137.0138,       4537,    77.5,  29.7555,  34.5173,2,  34.5137,2,    200.1,2,  199.87,2,    1.20,2,    0.00,2,   0.050,3,   1.570,2,   0.967,2,   0.111,2,  1945.4,2,  2268.6,2,   8.1011,2,    25.00,    0.13,2,    0.09,2,     1137,    0.00,3,  29.7628,2,         77
49UP20160703,         P9,      72,          1,         32,        089,2,20160804,       0937,     3.0232,   137.0138,       4537,   104.4,  27.1881,  34.7126,2,  34.7088,2,    182.4,2,  183.39,2,    2.16,2,    0.31,2,   0.170,2,   1.679,2,   1.038,2,   0.086,2,  1990.9,6,  2282.4,6,   8.0433,2,    25.00,    0.27,2,    0.51,2,     1134,    0.77,3,  27.1990,2,        104
49UP20160703,         P9,      72,          1,         31,        515,2,20160804,       0937,     3.0232,   137.0138,       4537,   127.6,  24.4929,  34.8131,2,  34.8146,2,    169.1,2,  168.70,2,    3.43,2,    0.04,2,   0.330,2,   1.843,6,   1.132,6,   0.091,6,  2029.1,2,  2288.3,2,   7.9857,2,    25.00,    0.06,2,    0.22,2,     1132,    3.56,3,  24.5455,2,        127
49UP20160703,         P9,      72,          1,         30,        097,2,20160804,       0937,     3.0232,   137.0138,       4537,   153.1,  21.5205,  34.9076,2,  34.9223,4,    163.3,2,  161.89,2,    5.32,2,    0.02,2,   0.470,2,   2.008,2,   1.254,2,   0.045,2,  2058.3,2,  2297.4,2,   7.9373,2,    25.00,    0.03,2,    0.08,2,     1128,    5.68,3,  21.5372,2,        152
49UP20160703,         P9,      72,          1,         29,        102,2,20160804,       0937,     3.0232,   137.0138,       4537,   199.8,  16.0683,  34.7279,2,  34.7261,2,    147.4,2,  147.49,6,   12.03,6,    0.01,6,   0.940,6,   2.274,2,   1.355,2,   0.012,2,  2110.1,2,  2289.3,2,    7.814,2,    25.00,    0.01,2,    0.04,2,     1126,   12.79,3,  16.0656,2,        199
49UP20160703,         P9,      72,          1,         28,        472,2,20160804,       0937,     3.0232,   137.0138,       4537,   254.8,  11.0625,  34.4599,2,  34.4629,2,    113.2,2,  113.35,2,   28.58,2,    0.00,2,   1.690,2,   1.885,2,   1.006,2,   0.000,2,  2179.5,2,  2288.5,2,   7.6429,2,    25.00, -999.00,9, -999.00,9,     1124,   23.52,3,  11.0966,2,        253
49UP20160703,         P9,      72,          1,         27,        998,2,20160804,       0937,     3.0232,   137.0138,       4537,   303.5,   8.9381,  34.4578,2,  34.4578,6,     96.2,2,   96.15,2,   39.56,2,    0.00,2,   2.080,2,   1.298,2,   0.654,2,   0.000,2,  2219.2,2,  2298.8,2,    7.565,6,    25.00, -999.00,9, -999.00,9,     1122,   29.06,3,   8.9491,2,        302
49UP20160703,         P9,      72,          1,         26,        084,2,20160804,       0937,     3.0232,   137.0138,       4537,   353.4,   8.2946,  34.5190,2,  34.5178,2,    102.7,2,  102.73,2,   40.37,2,    0.00,2,   2.140,2,-999.000,9,-999.000,9,-999.000,9,  2221.2,2,  2305.9,2,   7.5629,2,    25.00, -999.00,9, -999.00,9,     1120,   30.11,3,   8.2958,2,        351
49UP20160703,         P9,      72,          1,         25,        098,2,20160804,       0937,     3.0232,   137.0138,       4537,   405.0,   8.0406,  34.5642,2,  34.5639,2,    112.5,2,  112.63,2,   37.13,2,    0.00,2,   2.120,2,   0.916,2,   0.460,2,   0.000,2,  2220.0,2,  2306.2,2,   7.5818,2,    25.00, -999.00,9, -999.00,9,     1118,   30.10,3,   8.0429,2,        402
49UP20160703,         P9,      72,          1,         24,        110,2,20160804,       0937,     3.0232,   137.0138,       4537,   453.3,   7.5722,  34.5360,2,  34.5370,2,    113.3,2,  113.15,2,   40.93,2,    0.00,2,   2.180,2,-999.000,9,-999.000,9,-999.000,9,  2227.6,2,  2308.9,2,   7.5727,2,    25.00, -999.00,9, -999.00,9,     1116,   30.92,3,   7.5728,2,        450
49UP20160703,         P9,      72,          1,         23,        679,2,20160804,       0937,     3.0232,   137.0138,       4537,   505.8,   7.2158,  34.5391,2,  34.5400,2,    116.4,2,  116.78,2,   41.36,2,    0.00,2,   2.220,2,   0.707,2,   0.351,2,   0.000,2,  2225.7,6,  2309.9,6,   7.5724,2,    25.00, -999.00,9, -999.00,9,     1114,   31.46,3,   7.2157,2,        502
49UP20160703,         P9,      72,          1,         22,        111,2,20160804,       0937,     3.0232,   137.0138,       4537,   605.6,   6.5268,  34.5311,2,  34.5315,2,    109.1,2,  109.35,2,   49.14,2,    0.00,2,   2.370,2,   0.435,2,   0.222,2,   0.000,2,  2245.6,2,  2317.6,2,   7.5497,2,    25.00, -999.00,9, -999.00,9,     1111,   33.54,3,   6.5276,2,        601
49UP20160703,         P9,      72,          1,         21,        078,2,20160804,       0937,     3.0232,   137.0138,       4537,   705.6,   5.7692,  34.5264,2,  34.5268,2,    112.4,2,  112.47,2,   57.00,2,    0.00,2,   2.450,2,   0.305,2,   0.158,2,   0.000,2,  2253.7,2,  2326.9,2,   7.5411,2,    25.00, -999.00,9, -999.00,9,     1109,   34.60,3,   5.7690,2,        701
49UP20160703,         P9,      72,          1,         20,        093,2,20160804,       0937,     3.0232,   137.0138,       4537,   807.4,   5.2487,  34.5379,2,  34.5380,2,     94.1,2,   93.69,2,   71.12,2,    0.00,2,   2.620,2,   0.109,2,   0.055,2,   0.000,2,  2276.5,2,  2340.2,2,   7.5099,2,    25.00, -999.00,9, -999.00,9,     1106,   36.86,3,   5.2496,2,        801
49UP20160703,         P9,      72,          1,         19,        269,2,20160804,       0937,     3.0232,   137.0138,       4537,   906.9,   4.9343,  34.5440,2,  34.5438,2,     93.5,2,   93.59,2,   77.53,2,    0.00,2,   2.660,2,   0.081,6,   0.042,6,   0.000,6,  2289.2,2,  2347.8,2,   7.5031,2,    25.00, -999.00,9, -999.00,9,     1103,   37.26,3,   4.9341,2,        900
49UP20160703,         P9,      72,          1,         18,        088,2,20160804,       0937,     3.0232,   137.0138,       4537,  1009.9,   4.5654,  34.5523,2,  34.5527,2,     93.9,2,   94.09,6,   85.19,6,    0.00,6,   2.680,6,   0.056,2,   0.028,2,   0.000,2,  2293.4,2,  2355.6,2,   7.5015,2,    25.00, -999.00,9, -999.00,9,     1059,   37.61,3,   4.5664,2,       1002
49UP20160703,         P9,      72,          1,         17,        090,2,20160804,       0937,     3.0232,   137.0138,       4537,  1211.0,   3.8459,  34.5719,2,  34.5721,6,     94.0,2,   93.72,2,  102.06,2,    0.00,2,   2.730,2,   0.016,2,   0.005,2,   0.000,2,  2313.9,2,  2372.0,2,   7.5018,2,    25.00, -999.00,9, -999.00,9,     1054,   38.32,3,   3.8466,2,       1201
49UP20160703,         P9,      72,          1,         16,        474,2,20160804,       0937,     3.0232,   137.0138,       4537,  1415.4,   3.0775,  34.5973,2,  34.5975,2,    102.2,2,  102.11,2,  116.54,2,    0.00,2,   2.720,2,   0.004,2,   0.000,2,   0.000,2,  2326.9,2,  2388.3,2,   7.5078,6,    25.00, -999.00,9, -999.00,9,     1049,   38.29,3,   3.0801,2,       1403
49UP20160703,         P9,      72,          1,         15,        665,2,20160804,       0937,     3.0232,   137.0138,       4537,  1618.1,   2.6800,  34.6139,2,  34.6139,2,    104.8,2,  104.70,2,  126.79,2,    0.00,2,   2.720,2,-999.000,9,-999.000,9,-999.000,9,  2334.1,2,  2397.1,2,   7.5106,2,    25.00, -999.00,9, -999.00,9,     1042,   38.42,3,   2.6803,2,       1603
49UP20160703,         P9,      72,          1,         13,        667,2,20160804,       0937,     3.0232,   137.0138,       4537,  1819.5,   2.3570,  34.6284,2,  34.6281,2,    113.4,2,  113.46,2,  132.57,2,    0.00,2,   2.680,2,-999.000,9,-999.000,9,-999.000,9,  2334.5,2,  2404.4,2,   7.5217,2,    25.00, -999.00,9, -999.00,9,     1036,   37.98,3,   2.3569,2,       1802
49UP20160703,         P9,      72,          1,         14,        999,2,20160804,       0937,     3.0232,   137.0138,       4537,  1820.4,   2.3568,  34.6285,2,  34.6289,2,    113.4,2,  113.52,2,  132.59,2,    0.00,2,   2.680,2,-999.000,9,-999.000,9,-999.000,9,  2332.8,2,  2403.7,2,   7.5251,2,    25.00, -999.00,9, -999.00,9,     1036,   37.95,3,   2.3567,2,       1803
49UP20160703,         P9,      72,          1,         12,        074,2,20160804,       0937,     3.0232,   137.0138,       4537,  2024.0,   2.0724,  34.6437,2,  34.6434,2,    117.7,2,  117.67,2,  139.30,2,    0.00,2,   2.670,2,   0.000,2,   0.000,2,   0.000,2,  2339.7,2,  2413.0,2,   7.5299,2,    25.00, -999.00,9, -999.00,9,     1030,   37.87,3,   2.0731,2,       2003
49UP20160703,         P9,      72,          1,         11,        268,2,20160804,       0937,     3.0232,   137.0138,       4537,  2227.5,   1.9149,  34.6521,2,  34.6524,2,    123.8,2,  123.76,2,  141.40,2,    0.00,2,   2.630,2,-999.000,9,-999.000,9,-999.000,9,  2340.3,2,  2414.0,2,   7.5385,2,    25.00, -999.00,9, -999.00,9,     1024,   37.40,3,   1.9149,2,       2204
49UP20160703,         P9,      72,          1,         10,        267,2,20160804,       0937,     3.0232,   137.0138,       4537,  2426.5,   1.7881,  34.6588,2,  34.6588,2,    130.5,2,  130.89,2,  142.12,2,    0.00,2,   2.590,2,   0.000,2,   0.000,2,   0.000,2,  2335.1,2,  2415.2,2,   7.5477,2,    25.00, -999.00,9, -999.00,9,     1019,   37.02,3,   1.7880,2,       2399
49UP20160703,         P9,      72,          1,          9,        518,2,20160804,       0937,     3.0232,   137.0138,       4537,  2630.0,   1.6570,  34.6659,2,  34.6661,2,    138.3,2,  138.08,2,  142.13,2,    0.00,2,   2.550,2,-999.000,9,-999.000,9,-999.000,9,  2333.7,2,  2413.5,2,   7.5587,6,    25.00, -999.00,9, -999.00,9,     1015,   36.50,3,   1.6570,2,       2599
49UP20160703,         P9,      72,          1,          8,        470,3,20160804,       0937,     3.0232,   137.0138,       4537,  2834.7,   1.5881,  34.6708,2,  34.6697,4,    142.8,2,  142.96,2,  141.20,2,    0.00,2,   2.520,2,-999.000,9,-999.000,9,-999.000,9,  2327.2,2,  2414.1,2,   7.5675,2,    25.00, -999.00,9, -999.00,9,     1011,   36.00,3,   1.5881,2,       2800
49UP20160703,         P9,      72,          1,          7,        516,2,20160804,       0937,     3.0232,   137.0138,       4537,  3037.6,   1.5689,  34.6732,2,  34.6732,2,    144.8,2,  145.85,4,  142.60,2,    0.00,2,   2.520,2,   0.000,2,   0.000,2,   0.000,2,  2331.0,2,  2417.6,2,   7.5719,2,    25.00, -999.00,9, -999.00,9,     1007,   35.98,3,   1.5689,2,       2999
49UP20160703,         P9,      72,          1,          6,        113,2,20160804,       0937,     3.0232,   137.0138,       4537,  3292.0,   1.5529,  34.6760,2,  34.6761,2,    146.9,2,  146.97,2,  142.50,2,    0.00,2,   2.500,2,-999.000,9,-999.000,9,-999.000,9,  2325.6,2,  2418.6,2,   7.5759,2,    25.00, -999.00,9, -999.00,9,     1002,   35.84,3,   1.5530,2,       3249
49UP20160703,         P9,      72,          1,          5,        658,2,20160804,       0937,     3.0232,   137.0138,       4537,  3547.5,   1.5495,  34.6782,2,  34.6777,2,    148.5,2,  148.40,6,  142.37,6,    0.00,6,   2.500,6,   0.003,2,   0.000,2,   0.000,2,  2325.3,2,  2418.0,2,   7.5791,2,    25.00, -999.00,9, -999.00,9,      957,   35.71,3,   1.5494,2,       3499
49UP20160703,         P9,      72,          1,          4,        471,2,20160804,       0937,     3.0232,   137.0138,       4537,  3805.9,   1.5284,  34.6818,2,  34.6820,6,    151.5,2,  151.59,2,  142.31,2,    0.00,2,   2.480,2,-999.000,9,-999.000,9,-999.000,9,  2327.3,2,  2419.7,2,   7.5865,2,    25.00, -999.00,9, -999.00,9,      952,   35.58,3,   1.5283,2,       3751
49UP20160703,         P9,      72,          1,          3,        104,2,20160804,       0937,     3.0232,   137.0138,       4537,  4057.8,   1.5154,  34.6853,2,  34.6852,2,    153.9,2,  154.14,2,  142.06,2,    0.00,2,   2.460,2,   0.000,2,   0.000,2,   0.000,2,  2326.5,2,  2421.1,2,   7.5879,2,    25.00, -999.00,9, -999.00,9,      947,   35.45,3,   1.5154,2,       3997
49UP20160703,         P9,      72,          1,          2,        075,2,20160804,       0937,     3.0232,   137.0138,       4537,  4312.3,   1.5088,  34.6872,2,  34.6870,2,    157.7,2,  157.73,2,  140.98,2,    0.00,2,   2.450,2,-999.000,9,-999.000,9,-999.000,9,  2320.8,6,  2417.1,6,   7.5898,2,    25.00, -999.00,9, -999.00,9,      943,   35.17,3,   1.5088,2,       4246
49UP20160703,         P9,      72,          1,          1,        997,2,20160804,       0937,     3.0232,   137.0138,       4537,  4587.9,   1.5331,  34.6875,2,  34.6875,2,    158.9,2,  158.64,2,  140.62,2,    0.00,2,   2.430,2,   0.000,2,   0.000,2,   0.000,2,  2318.5,2,  2414.8,2,   7.5935,2,    25.00, -999.00,9, -999.00,9,      938,   35.12,3,   1.5331,2,       4514