BOTTLE,20230712CCHSIOENA
EXPOCODE,SECT_ID,STNNBR,CASTNO,SAMPNO,BTLNBR,BTLNBR_FLAG_W,DATE,TIME,LATITUDE,LONGITUDE,DEPTH,CTDPRS,CTDTMP,CTDSAL,CTDSAL_FLAG_W,SALNTY,SALNTY_FLAG_W,CTDOXY,CTDOXY_FLAG_W,OXYGEN,OXYGEN_FLAG_W,SILCAT,SILCAT_FLAG_W,NITRIT,NITRIT_FLAG_W,PHSPHT,PHSPHT_FLAG_W,CFC-11,CFC-11_FLAG_W,CFC-12,CFC-12_FLAG_W,CFC113,CFC113_FLAG_W,TCARBN,TCARBN_FLAG_W,ALKALI,ALKALI_FLAG_W,PH_TOT,PH_TOT_FLAG_W,PH_TMP,CHLORA,CHLORA_FLAG_W,PPHYTN,PPHYTN_FLAG_W,BTL_TIME,NO2+NO3,NO2+NO3_FLAG_W,SBE35,SBE35_FLAG_W,CTDDEPTH
,,,,,,,,,,,METERS,DBAR,ITS-90,PSS-78,,PSS-78,,UMOL/KG,,UMOL/KG,,UMOL/KG,,UMOL/KG,,UMOL/KG,,PMOL/KG,,PMOL/KG,,PMOL/KG,,UMOL/KG,,UMOL/KG,,,,DEG C,UG/KG,,UG/KG,,,UMOL/KG,,ITS-90,,METERS
49UP20160703,         P9,      86,          1,          0,        BUC,2,20160809,       0936,    -0.0012,   142.0102,       3363,     0.0,  29.8456,  33.8650,2,  33.8699,2,    195.4,2,  195.56,2,    1.00,2,    0.00,2,   0.100,2,-999.000,9,-999.000,9,-999.000,9,  1894.1,2,  2230.0,2,   8.1274,2,    25.00,    0.08,2,    0.03,2,     1042,    0.05,2,-999.0000,9,          0
49UP20160703,         P9,      86,          1,         36,        109,2,20160809,       0936,    -0.0012,   142.0102,       3363,    10.9,  29.8584,  33.8684,2,  33.8705,2,    195.4,2,  195.64,2,    1.00,2,    0.00,2,   0.100,2,   1.486,2,   0.946,2,   0.099,2,  1894.9,2,  2229.4,2,   8.1312,2,    25.00,    0.07,2,    0.03,2,     1112,    0.05,2,  29.8591,2,         11
49UP20160703,         P9,      86,          1,         35,        112,2,20160809,       0936,    -0.0012,   142.0102,       3363,    26.1,  29.9173,  33.9231,2,  33.9236,2,    195.8,2,  196.14,2,    0.99,2,    0.00,2,   0.100,2,   1.481,2,   0.952,2,   0.114,2,  1897.9,2,  2232.8,2,   8.1302,2,    25.00,    0.07,2,    0.03,2,     1110,    0.05,2,  29.9176,2,         26
49UP20160703,         P9,      86,          1,         34,        094,2,20160809,       0936,    -0.0012,   142.0102,       3363,    50.6,  29.9345,  34.1428,2,  34.1540,4,    195.7,2,  196.29,2,    1.09,2,    0.00,2,   0.120,2,   1.494,2,   0.950,2,   0.112,2,  1912.1,2,  2248.4,2,   8.1257,2,    25.00,    0.10,2,    0.06,2,     1107,    0.07,2,  29.9370,2,         50
49UP20160703,         P9,      86,          1,         33,        469,2,20160809,       0936,    -0.0012,   142.0102,       3363,    76.1,  27.5174,  34.9533,2,  34.9777,4,    180.8,2,  179.90,2,    1.36,2,    0.15,2,   0.230,2,   1.648,2,   1.044,2,   0.095,2,  1986.2,2,  2297.3,2,   8.0688,2,    25.00,    0.42,2,    0.55,2,     1105,    1.34,2,  27.5131,2,         76
49UP20160703,         P9,      86,          1,         32,        089,2,20160809,       0936,    -0.0012,   142.0102,       3363,   101.5,  24.4718,  35.3643,2,  35.3553,2,    151.4,2,  151.83,6,    2.29,6,    0.04,6,   0.530,6,   1.805,2,   1.134,2,   0.051,2,  2053.8,2,  2320.9,2,    7.984,2,    25.00,    0.09,2,    0.25,2,     1104,    6.02,6,  24.4694,2,        101
49UP20160703,         P9,      86,          1,         31,        515,2,20160809,       0936,    -0.0012,   142.0102,       3363,   126.4,  22.3745,  35.4464,2,  35.4552,6,    144.7,2,  144.65,2,    2.99,2,    0.02,2,   0.670,2,   1.924,2,   1.178,2,   0.049,2,  2083.1,2,  2329.1,2,   7.9418,2,    25.00,    0.03,2,    0.09,2,     1103,    8.01,2,  22.3840,2,        126
49UP20160703,         P9,      86,          1,         30,        097,2,20160809,       0936,    -0.0012,   142.0102,       3363,   150.9,  20.2376,  35.4258,2,  35.4192,2,    141.8,2,  141.82,2,    4.27,2,    0.01,2,   0.810,2,   2.008,2,   1.226,2,   0.021,2,  2104.0,2,  2328.7,2,   7.8982,2,    25.00,    0.00,2,    0.05,2,     1102,   10.09,2,  20.2344,2,        150
49UP20160703,         P9,      86,          1,         29,        102,2,20160809,       0936,    -0.0012,   142.0102,       3363,   201.6,  16.9195,  35.2748,2,  35.2750,2,    143.7,2,  143.85,2,    6.58,2,    0.01,2,   1.020,2,   2.082,6,   1.243,6,   0.016,6,  2128.5,2,  2322.7,2,    7.835,2,    25.00,    0.00,2,    0.03,2,     1100,   13.18,2,  16.9191,2,        200
49UP20160703,         P9,      86,          1,         28,        472,2,20160809,       0936,    -0.0012,   142.0102,       3363,   252.0,  14.2008,  35.0071,2,  35.0474,4,    144.1,2,  144.46,2,   11.57,2,    0.00,2,   1.240,2,   2.018,2,   1.143,2,   0.021,2,  2147.2,2,  2314.0,2,   7.7782,2,    25.00, -999.00,9, -999.00,9,     1058,   16.76,2,  14.2001,2,        250
49UP20160703,         P9,      86,          1,         27,        998,2,20160809,       0936,    -0.0012,   142.0102,       3363,   281.2,  13.8583,  35.0276,2,  35.0207,2,    147.0,2,  147.33,2,   10.70,2,    0.00,2,   1.260,2,   2.040,2,   1.135,2,   0.021,2,  2151.1,2,  2312.0,2,   7.7722,2,    25.00, -999.00,9, -999.00,9,     1057,   17.06,2,  13.8358,2,        279
49UP20160703,         P9,      86,          1,         26,        084,2,20160809,       0936,    -0.0012,   142.0102,       3363,   322.6,  11.5134,  34.8162,2,  34.8155,2,    140.1,2,  139.54,2,   17.05,2,    0.00,2,   1.560,2,-999.000,9,-999.000,9,-999.000,9,  2172.9,2,  2308.0,2,    7.705,2,    25.00, -999.00,9, -999.00,9,     1056,   21.64,2,  11.5115,2,        321
49UP20160703,         P9,      86,          1,         25,        098,2,20160809,       0936,    -0.0012,   142.0102,       3363,   373.2,  10.3318,  34.7400,2,  34.7363,2,    107.4,2,  105.61,2,   23.32,2,    0.00,2,   1.910,2,-999.000,9,-999.000,9,-999.000,9,  2203.4,2,  2306.3,2,   7.6192,2,    25.00, -999.00,9, -999.00,9,     1054,   27.21,2,  10.3310,2,        371
49UP20160703,         P9,      86,          1,         24,        110,2,20160809,       0936,    -0.0012,   142.0102,       3363,   373.3,  10.3305,  34.7395,2,  34.7364,2,    107.3,2,  106.04,2,   23.27,2,    0.00,2,   1.910,2,   1.298,2,   0.673,2,   0.013,2,  2202.5,2,  2306.1,2,   7.6242,2,    25.00, -999.00,9, -999.00,9,     1054,   27.25,2,  10.3305,2,        371
49UP20160703,         P9,      86,          1,         23,        679,2,20160809,       0936,    -0.0012,   142.0102,       3363,   424.2,   9.5010,  34.6790,2,  34.6787,2,     99.7,2,   99.87,2,   27.34,2,    0.00,2,   2.050,2,-999.000,9,-999.000,9,-999.000,9,  2212.1,2,  2305.3,2,   7.5897,6,    25.00, -999.00,9, -999.00,9,     1052,   29.33,2,   9.5004,2,        421
49UP20160703,         P9,      86,          1,         22,        111,2,20160809,       0936,    -0.0012,   142.0102,       3363,   473.1,   9.0260,  34.6455,2,  34.6409,4,    106.1,2,  106.25,2,   29.34,2,    0.00,2,   2.080,2,   0.986,2,   0.496,2,   0.016,2,  2214.1,6,  2306.0,6,   7.5888,2,    25.00, -999.00,9, -999.00,9,     1051,   29.81,2,   9.0271,2,        470
49UP20160703,         P9,      86,          1,         21,        078,2,20160809,       0936,    -0.0012,   142.0102,       3363,   576.9,   7.5721,  34.5699,2,  34.5716,2,    113.3,2,  113.08,2,   36.39,2,    0.00,2,   2.220,2,   0.692,2,   0.342,2,   0.005,2,  2222.7,2,  2311.3,2,   7.5719,2,    25.00, -999.00,9, -999.00,9,     1047,   31.78,2,   7.5615,2,        573
49UP20160703,         P9,      86,          1,         20,        093,2,20160809,       0936,    -0.0012,   142.0102,       3363,   675.0,   6.4144,  34.5364,2,  34.5372,2,    112.1,2,  110.56,6,   47.05,6,    0.00,6,   2.420,6,   0.401,2,   0.203,2,   0.007,2,  2242.9,2,  2318.7,2,    7.544,2,    25.00, -999.00,9, -999.00,9,     1045,   34.38,6,   6.4127,2,        670
49UP20160703,         P9,      86,          1,         19,        269,2,20160809,       0936,    -0.0012,   142.0102,       3363,   775.8,   5.8058,  34.5297,2,  34.5300,6,    108.1,2,  108.64,2,   54.58,2,    0.00,2,   2.510,2,   0.240,2,   0.125,2,   0.008,2,  2254.0,2,  2327.1,2,   7.5355,2,    25.00, -999.00,9, -999.00,9,     1042,   35.65,2,   5.8053,2,        770
49UP20160703,         P9,      86,          1,         17,        090,2,20160809,       0936,    -0.0012,   142.0102,       3363,   876.5,   4.8778,  34.5417,2,  34.5423,2,     97.9,2,   97.65,2,   74.20,2,    0.00,2,   2.680,2,   0.080,2,   0.042,2,   0.009,2,  2282.6,2,  2346.9,2,   7.5066,2,    25.00, -999.00,9, -999.00,9,     1040,   37.74,2,   4.8820,2,        870
49UP20160703,         P9,      86,          1,         18,        088,2,20160809,       0936,    -0.0012,   142.0102,       3363,   877.1,   4.8917,  34.5412,2,  34.5428,2,     98.3,2,   97.96,2,   74.03,2,    0.00,2,   2.670,2,-999.000,9,-999.000,9,-999.000,9,  2280.2,2,  2346.6,2,   7.5144,2,    25.00, -999.00,9, -999.00,9,     1040,   37.71,2,   4.8929,2,        870
49UP20160703,         P9,      86,          1,         16,        474,2,20160809,       0936,    -0.0012,   142.0102,       3363,   978.2,   4.6212,  34.5465,2,  34.5487,4,     96.1,2,   95.87,2,   79.86,2,    0.00,2,   2.710,2,   0.058,2,   0.030,2,   0.008,2,  2289.7,2,  2351.9,2,   7.5047,6,    25.00, -999.00,9, -999.00,9,     1037,   38.14,2,   4.6210,2,        971
49UP20160703,         P9,      86,          1,         15,        665,2,20160809,       0936,    -0.0012,   142.0102,       3363,  1139.5,   4.0356,  34.5608,2,  34.5611,2,    104.5,2,  104.18,2,   91.38,2,    0.00,2,   2.690,2,   0.044,6,   0.019,6,   0.004,6,  2297.3,6,  2365.5,6,   7.5162,2,    25.00, -999.00,9, -999.00,9,     1032,   37.82,2,   4.0356,2,       1130
49UP20160703,         P9,      86,          1,         14,        999,2,20160809,       0936,    -0.0012,   142.0102,       3363,  1342.0,   3.4698,  34.5829,2,  34.5827,2,    101.9,2,  101.55,2,  106.52,2,    0.00,2,   2.730,2,   0.021,2,   0.007,2,   0.003,2,  2316.9,2,  2379.9,2,   7.5107,2,    25.00, -999.00,9, -999.00,9,     1028,   38.53,2,   3.4700,2,       1330
49UP20160703,         P9,      86,          1,         13,        667,2,20160809,       0936,    -0.0012,   142.0102,       3363,  1544.6,   2.8873,  34.6047,2,  34.6050,2,    109.1,2,  108.83,2,  118.14,2,    0.00,2,   2.720,2,-999.000,9,-999.000,9,-999.000,9,  2326.7,2,  2393.7,2,   7.5206,2,    25.00, -999.00,9, -999.00,9,     1023,   38.38,2,   2.8871,2,       1530
49UP20160703,         P9,      86,          1,         12,        074,2,20160809,       0936,    -0.0012,   142.0102,       3363,  1747.3,   2.4802,  34.6236,2,  34.6237,2,    114.9,2,  114.85,2,  127.27,2,    0.00,2,   2.690,2,-999.000,9,-999.000,9,-999.000,9,  2332.4,2,  2402.2,2,   7.5264,2,    25.00, -999.00,9, -999.00,9,     1018,   38.20,2,   2.4801,2,       1730
49UP20160703,         P9,      86,          1,         11,        268,2,20160809,       0936,    -0.0012,   142.0102,       3363,  1950.3,   2.3078,  34.6322,2,  34.6332,2,    117.2,2,  116.93,2,  131.57,2,    0.00,2,   2.680,2,   0.009,2,   0.001,2,   0.005,2,  2334.2,2,  2407.2,2,   7.5296,2,    25.00, -999.00,9, -999.00,9,     1014,   38.11,2,   2.3076,2,       1931
49UP20160703,         P9,      86,          1,         10,        267,2,20160809,       0936,    -0.0012,   142.0102,       3363,  2153.2,   2.0620,  34.6436,2,  34.6446,2,    122.4,2,  122.24,6,  137.38,6,    0.00,6,   2.650,6,-999.000,9,-999.000,9,-999.000,9,  2335.9,2,  2412.6,2,   7.5405,2,    25.00, -999.00,9, -999.00,9,     1010,   37.87,6,   2.0606,2,       2130
49UP20160703,         P9,      86,          1,          9,        518,2,20160809,       0936,    -0.0012,   142.0102,       3363,  2356.5,   1.8608,  34.6540,2,  34.6548,6,    128.9,2,  128.57,2,  140.83,2,    0.00,2,   2.620,2,   0.000,2,   0.002,2,   0.009,2,  2335.7,2,  2416.3,2,   7.5471,6,    25.00, -999.00,9, -999.00,9,     1005,   37.47,2,   1.8606,2,       2330
49UP20160703,         P9,      86,          1,          7,        516,2,20160809,       0936,    -0.0012,   142.0102,       3363,  2561.1,   1.7319,  34.6615,2,  34.6622,2,    134.8,2,  134.69,2,  141.84,2,    0.00,2,   2.590,2,-999.000,9,-999.000,9,-999.000,9,  2331.0,2,  2418.3,2,   7.5562,2,    25.00, -999.00,9, -999.00,9,     1000,   37.13,2,   1.7319,2,       2532
49UP20160703,         P9,      86,          1,          8,        470,2,20160809,       0936,    -0.0012,   142.0102,       3363,  2562.2,   1.7318,  34.6616,2,  34.6624,2,    134.8,2,  134.58,2,  141.70,2,    0.00,2,   2.590,2,-999.000,9,-999.000,9,-999.000,9,  2334.6,2,  2417.6,2,   7.5572,2,    25.00, -999.00,9, -999.00,9,     1000,   37.09,2,   1.7318,2,       2533
49UP20160703,         P9,      86,          1,          6,        113,2,20160809,       0936,    -0.0012,   142.0102,       3363,  2765.4,   1.6133,  34.6690,2,  34.6689,2,    141.4,2,  141.23,2,  142.23,2,    0.00,2,   2.550,2,-999.000,9,-999.000,9,-999.000,9,  2330.3,6,  2419.2,6,   7.5671,2,    25.00, -999.00,9, -999.00,9,      955,   36.70,2,   1.6133,2,       2732
49UP20160703,         P9,      86,          1,          5,        658,2,20160809,       0936,    -0.0012,   142.0102,       3363,  2968.2,   1.5818,  34.6720,2,  34.6729,2,    143.6,2,  143.36,2,  142.49,2,    0.00,2,   2.550,2,   0.004,2,   0.004,2,   0.007,2,  2332.6,2,  2419.7,2,   7.5687,2,    25.00, -999.00,9, -999.00,9,      951,   36.52,2,   1.5817,2,       2931
49UP20160703,         P9,      86,          1,          3,        104,2,20160809,       0936,    -0.0012,   142.0102,       3363,  3211.8,   1.5847,  34.6732,2,  34.6732,2,    144.7,2,  144.70,2,  142.61,2,    0.00,2,   2.540,2,-999.000,9,-999.000,9,-999.000,9,  2330.2,2,  2419.1,2,   7.5736,2,    25.00, -999.00,9, -999.00,9,      940,   36.48,2,   1.5847,2,       3170
49UP20160703,         P9,      86,          1,          4,        471,2,20160809,       0936,    -0.0012,   142.0102,       3363,  3212.0,   1.5845,  34.6733,2,  34.6732,2,    144.8,2,  144.63,2,  142.66,2,    0.00,2,   2.540,2,-999.000,9,-999.000,9,-999.000,9,  2329.2,2,  2418.7,2,   7.5707,2,    25.00, -999.00,9, -999.00,9,      941,   36.48,2,   1.5845,2,       3170
49UP20160703,         P9,      86,          1,          1,        997,2,20160809,       0936,    -0.0012,   142.0102,       3363,  3396.3,   1.5966,  34.6737,2,  34.6740,6,    144.8,2,  144.56,6,  142.69,6,    0.00,6,   2.540,6,   0.013,2,   0.007,2,   0.008,2,  2333.1,2,  2419.9,2,   7.5743,2,    25.00, -999.00,9, -999.00,9,      936,   36.48,6,   1.5965,2,       3351