BOTTLE,20230712CCHSIOENA
EXPOCODE,SECT_ID,STNNBR,CASTNO,SAMPNO,BTLNBR,BTLNBR_FLAG_W,DATE,TIME,LATITUDE,LONGITUDE,DEPTH,CTDPRS,CTDTMP,CTDSAL,CTDSAL_FLAG_W,SALNTY,SALNTY_FLAG_W,CTDOXY,CTDOXY_FLAG_W,OXYGEN,OXYGEN_FLAG_W,SILCAT,SILCAT_FLAG_W,NITRIT,NITRIT_FLAG_W,PHSPHT,PHSPHT_FLAG_W,CFC-11,CFC-11_FLAG_W,CFC-12,CFC-12_FLAG_W,CFC113,CFC113_FLAG_W,TCARBN,TCARBN_FLAG_W,ALKALI,ALKALI_FLAG_W,PH_TOT,PH_TOT_FLAG_W,PH_TMP,CHLORA,CHLORA_FLAG_W,PPHYTN,PPHYTN_FLAG_W,BTL_TIME,NO2+NO3,NO2+NO3_FLAG_W,SBE35,SBE35_FLAG_W,CTDDEPTH
,,,,,,,,,,,METERS,DBAR,ITS-90,PSS-78,,PSS-78,,UMOL/KG,,UMOL/KG,,UMOL/KG,,UMOL/KG,,UMOL/KG,,PMOL/KG,,PMOL/KG,,PMOL/KG,,UMOL/KG,,UMOL/KG,,,,DEG C,UG/KG,,UG/KG,,,UMOL/KG,,ITS-90,,METERS
49UP20160703,         P9,      63,          1,          0,        BUC,2,20160801,       1150,     7.3233,   136.8177,       6864,     0.0,  30.0212,  34.2675,2,-999.0000,9,    194.2,2,  193.17,2,    1.07,2,    0.00,2,   0.060,2,-999.000,9,-999.000,9,-999.000,9,  -999.0,9,  -999.0,9,-999.0000,9,  -999.00, -999.00,9, -999.00,9,     1352,    0.01,2,-999.0000,9,          0
49UP20160703,         P9,      63,          1,         36,        109,2,20160801,       1150,     7.3233,   136.8177,       6864,    11.0,  29.9145,  34.3529,2,  34.3338,4,    194.6,2,  193.75,2,    1.07,2,    0.00,2,   0.050,2,-999.000,9,-999.000,9,-999.000,9,  -999.0,9,  -999.0,9,-999.0000,9,  -999.00, -999.00,9, -999.00,9,     1425,    0.01,2,  29.9179,2,         11
49UP20160703,         P9,      63,          1,         35,        112,2,20160801,       1150,     7.3233,   136.8177,       6864,    52.6,  29.4360,  34.6494,2,  34.6516,2,    200.2,2,  199.98,2,    1.11,2,    0.00,2,   0.050,2,-999.000,9,-999.000,9,-999.000,9,  -999.0,9,  -999.0,9,-999.0000,9,  -999.00, -999.00,9, -999.00,9,     1420,    0.00,2,  29.4316,2,         52
49UP20160703,         P9,      63,          1,         34,        094,2,20160801,       1150,     7.3233,   136.8177,       6864,   102.0,  23.7682,  34.9577,2,  34.9512,2,    185.4,2,  183.27,2,    2.87,2,    0.14,2,   0.250,2,-999.000,9,-999.000,9,-999.000,9,  -999.0,9,  -999.0,9,-999.0000,9,  -999.00, -999.00,9, -999.00,9,     1418,    1.85,2,  23.7791,2,        101
49UP20160703,         P9,      63,          1,         33,        469,2,20160801,       1150,     7.3233,   136.8177,       6864,   152.1,  15.6532,  34.6385,2,  34.6403,2,    137.7,2,  137.54,2,   13.41,2,    0.02,2,   1.020,2,-999.000,9,-999.000,9,-999.000,9,  -999.0,9,  -999.0,9,-999.0000,9,  -999.00, -999.00,9, -999.00,9,     1416,   14.06,2,  15.6463,2,        151
49UP20160703,         P9,      63,          1,         32,        089,2,20160801,       1150,     7.3233,   136.8177,       6864,   203.9,  10.7660,  34.4869,2,  34.4885,2,     97.3,2,   97.13,2,   29.49,2,    0.00,2,   1.830,2,-999.000,9,-999.000,9,-999.000,9,  -999.0,9,  -999.0,9,-999.0000,9,  -999.00, -999.00,9, -999.00,9,     1414,   25.69,2,  10.7929,2,        203
49UP20160703,         P9,      63,          1,         31,        515,2,20160801,       1150,     7.3233,   136.8177,       6864,   252.5,   9.5936,  34.5050,2,  34.5061,2,     92.4,2,   92.22,2,   35.22,2,    0.00,2,   2.030,2,-999.000,9,-999.000,9,-999.000,9,  -999.0,9,  -999.0,9,-999.0000,9,  -999.00, -999.00,9, -999.00,9,     1412,   28.72,2,   9.5918,2,        251
49UP20160703,         P9,      63,          1,         30,        097,2,20160801,       1150,     7.3233,   136.8177,       6864,   303.2,   8.7626,  34.5336,2,  34.5339,2,     85.9,2,   86.08,6,   38.58,6,    0.00,6,   2.180,6,-999.000,9,-999.000,9,-999.000,9,  -999.0,9,  -999.0,9,-999.0000,9,  -999.00, -999.00,9, -999.00,9,     1410,   31.06,6,   8.7626,2,        301
49UP20160703,         P9,      63,          1,         29,        102,2,20160801,       1150,     7.3233,   136.8177,       6864,   353.6,   8.3787,  34.5390,2,  34.5392,6,     91.9,2,   91.31,2,   39.64,2,    0.00,2,   2.200,2,-999.000,9,-999.000,9,-999.000,9,  -999.0,9,  -999.0,9,-999.0000,9,  -999.00, -999.00,9, -999.00,9,     1408,   31.37,2,   8.3867,2,        351
49UP20160703,         P9,      63,          1,         28,        472,2,20160801,       1150,     7.3233,   136.8177,       6864,   404.7,   8.0075,  34.5427,2,  34.5430,2,     99.2,2,   98.97,2,   40.04,2,    0.00,2,   2.200,2,-999.000,9,-999.000,9,-999.000,9,  -999.0,9,  -999.0,9,-999.0000,9,  -999.00, -999.00,9, -999.00,9,     1406,   31.52,2,   8.0072,2,        402
49UP20160703,         P9,      63,          1,         27,        998,2,20160801,       1150,     7.3233,   136.8177,       6864,   453.9,   7.7033,  34.5436,2,  34.5434,2,    101.0,2,  100.88,2,   41.46,2,    0.00,2,   2.240,2,-999.000,9,-999.000,9,-999.000,9,  -999.0,9,  -999.0,9,-999.0000,9,  -999.00, -999.00,9, -999.00,9,     1404,   32.05,2,   7.7038,2,        451
49UP20160703,         P9,      63,          1,         26,        084,2,20160801,       1150,     7.3233,   136.8177,       6864,   504.8,   7.3487,  34.5280,2,  34.5279,2,    105.7,2,  105.33,2,   44.10,2,    0.00,2,   2.260,2,-999.000,9,-999.000,9,-999.000,9,  -999.0,9,  -999.0,9,-999.0000,9,  -999.00, -999.00,9, -999.00,9,     1402,   32.24,2,   7.3506,2,        501
49UP20160703,         P9,      63,          1,         25,        098,2,20160801,       1150,     7.3233,   136.8177,       6864,   605.3,   6.7567,  34.5185,2,  34.5185,2,    102.0,2,  101.92,2,   51.31,2,    0.00,2,   2.360,2,-999.000,9,-999.000,9,-999.000,9,  -999.0,9,  -999.0,9,-999.0000,9,  -999.00, -999.00,9, -999.00,9,     1359,   33.59,2,   6.7570,2,        601
49UP20160703,         P9,      63,          1,         24,        110,2,20160801,       1150,     7.3233,   136.8177,       6864,   706.4,   6.2142,  34.5233,2,  34.5232,2,     93.2,2,   92.81,2,   59.96,2,    0.00,2,   2.490,2,-999.000,9,-999.000,9,-999.000,9,  -999.0,9,  -999.0,9,-999.0000,9,  -999.00, -999.00,9, -999.00,9,     1356,   35.39,2,   6.2140,2,        701
49UP20160703,         P9,      63,          1,         23,        679,2,20160801,       1150,     7.3233,   136.8177,       6864,   806.8,   5.7378,  34.5287,2,  34.5285,2,     91.5,2,   91.38,2,   66.98,2,    0.00,2,   2.560,2,-999.000,9,-999.000,9,-999.000,9,  -999.0,9,  -999.0,9,-999.0000,9,  -999.00, -999.00,9, -999.00,9,     1353,   36.33,2,   5.7395,2,        801
49UP20160703,         P9,      63,          1,         22,        111,2,20160801,       1150,     7.3233,   136.8177,       6864,   908.5,   5.3078,  34.5351,2,  34.5349,2,     90.7,2,   90.70,2,   74.76,2,    0.00,2,   2.620,2,-999.000,9,-999.000,9,-999.000,9,  -999.0,9,  -999.0,9,-999.0000,9,  -999.00, -999.00,9, -999.00,9,     1350,   37.03,2,   5.3074,2,        901
49UP20160703,         P9,      63,          1,         21,        078,2,20160801,       1150,     7.3233,   136.8177,       6864,  1009.7,   4.8745,  34.5436,2,  34.5441,2,     87.5,2,   87.47,2,   83.97,2,    0.00,2,   2.670,2,-999.000,9,-999.000,9,-999.000,9,  -999.0,9,  -999.0,9,-999.0000,9,  -999.00, -999.00,9, -999.00,9,     1347,   37.74,2,   4.8746,2,       1002
49UP20160703,         P9,      63,          1,         20,        093,2,20160801,       1150,     7.3233,   136.8177,       6864,  1211.0,   3.9125,  34.5673,2,  34.5674,2,     90.6,2,   90.48,6,  103.33,6,    0.00,6,   2.730,6,-999.000,9,-999.000,9,-999.000,9,  -999.0,9,  -999.0,9,-999.0000,9,  -999.00, -999.00,9, -999.00,9,     1341,   38.58,6,   3.9123,2,       1201
49UP20160703,         P9,      63,          1,         19,        269,2,20160801,       1150,     7.3233,   136.8177,       6864,  1413.8,   3.3819,  34.5844,2,  34.5846,6,     94.9,2,   94.92,2,  113.77,2,    0.00,2,   2.730,2,-999.000,9,-999.000,9,-999.000,9,  -999.0,9,  -999.0,9,-999.0000,9,  -999.00, -999.00,9, -999.00,9,     1336,   38.71,2,   3.3819,2,       1401
49UP20160703,         P9,      63,          1,         18,        088,2,20160801,       1150,     7.3233,   136.8177,       6864,  1616.6,   2.8638,  34.6037,2,  34.6039,2,    101.5,2,  101.33,2,  124.50,2,    0.00,2,   2.720,2,-999.000,9,-999.000,9,-999.000,9,  -999.0,9,  -999.0,9,-999.0000,9,  -999.00, -999.00,9, -999.00,9,     1331,   38.70,2,   2.8640,2,       1601
49UP20160703,         P9,      63,          1,         17,        090,2,20160801,       1150,     7.3233,   136.8177,       6864,  1819.8,   2.5632,  34.6175,2,  34.6174,2,    106.8,2,  106.53,2,  130.52,2,    0.00,2,   2.700,2,-999.000,9,-999.000,9,-999.000,9,  -999.0,9,  -999.0,9,-999.0000,9,  -999.00, -999.00,9, -999.00,9,     1326,   38.57,2,   2.5633,2,       1802
49UP20160703,         P9,      63,          1,         16,        474,2,20160801,       1150,     7.3233,   136.8177,       6864,  2022.7,   2.2762,  34.6311,2,  34.6316,2,    113.7,2,  113.74,2,  135.37,2,    0.00,2,   2.670,2,-999.000,9,-999.000,9,-999.000,9,  -999.0,9,  -999.0,9,-999.0000,9,  -999.00, -999.00,9, -999.00,9,     1321,   38.23,2,   2.2766,2,       2002
49UP20160703,         P9,      63,          1,         15,        665,2,20160801,       1150,     7.3233,   136.8177,       6864,  2225.4,   2.0544,  34.6422,2,  34.6420,2,    120.2,2,  120.24,6,  139.20,6,    0.00,6,   2.640,6,-999.000,9,-999.000,9,-999.000,9,  -999.0,9,  -999.0,9,-999.0000,9,  -999.00, -999.00,9, -999.00,9,     1316,   37.90,6,   2.0550,2,       2201
49UP20160703,         P9,      63,          1,         14,        999,3,20160801,       1150,     7.3233,   136.8177,       6864,  2429.2,   1.9083,  34.6501,2,  34.6503,6,    125.3,2,  125.35,2,  141.55,2,    0.00,2,   2.620,2,-999.000,9,-999.000,9,-999.000,9,  -999.0,9,  -999.0,9,-999.0000,9,  -999.00, -999.00,9, -999.00,9,     1311,   37.59,2,   1.9083,2,       2402
49UP20160703,         P9,      63,          1,         13,        667,2,20160801,       1150,     7.3233,   136.8177,       6864,  2631.3,   1.7571,  34.6601,2,  34.6602,2,    132.7,2,  133.33,2,  142.60,2,    0.00,2,   2.590,2,   0.006,2,   0.002,2,   0.007,2,  -999.0,9,  -999.0,9,-999.0000,9,  -999.00, -999.00,9, -999.00,9,     1306,   37.14,2,   1.7571,2,       2600
49UP20160703,         P9,      63,          1,         12,        074,2,20160801,       1150,     7.3233,   136.8177,       6864,  2835.6,   1.6901,  34.6647,2,  34.6645,2,    137.2,2,  137.11,2,  142.77,2,    0.00,2,   2.550,2,   0.000,2,   0.000,2,   0.008,2,  -999.0,9,  -999.0,9,-999.0000,9,  -999.00, -999.00,9, -999.00,9,     1301,   36.91,2,   1.6901,2,       2801
49UP20160703,         P9,      63,          1,         11,        268,2,20160801,       1150,     7.3233,   136.8177,       6864,  3040.1,   1.6314,  34.6692,2,  34.6684,2,    141.1,2,  140.87,2,  143.02,2,    0.00,2,   2.540,2,   0.000,2,   0.002,2,   0.006,2,  -999.0,9,  -999.0,9,-999.0000,9,  -999.00, -999.00,9, -999.00,9,     1256,   36.64,2,   1.6319,2,       3001
49UP20160703,         P9,      63,          1,         10,        267,2,20160801,       1150,     7.3233,   136.8177,       6864,  3294.7,   1.5851,  34.6736,2,  34.6738,2,    145.2,2,  145.59,2,  142.33,2,    0.00,2,   2.510,2,   0.005,2,   0.000,2,   0.009,2,  -999.0,9,  -999.0,9,-999.0000,9,  -999.00, -999.00,9, -999.00,9,     1250,   36.32,2,   1.5852,2,       3251
49UP20160703,         P9,      63,          1,          9,        518,2,20160801,       1150,     7.3233,   136.8177,       6864,  3550.6,   1.5585,  34.6771,2,  34.6766,2,    148.2,2,  148.11,2,  142.57,2,    0.00,2,   2.500,2,   0.008,2,   0.003,2,   0.001,2,  -999.0,9,  -999.0,9,-999.0000,9,  -999.00, -999.00,9, -999.00,9,     1245,   36.14,2,   1.5588,2,       3501
49UP20160703,         P9,      63,          1,          8,        470,2,20160801,       1150,     7.3233,   136.8177,       6864,  3806.3,   1.5377,  34.6804,2,  34.6795,2,    151.6,2,  151.79,2,  141.73,2,    0.00,2,   2.480,2,   0.000,2,   0.003,2,   0.000,2,  -999.0,9,  -999.0,9,-999.0000,9,  -999.00, -999.00,9, -999.00,9,     1239,   35.89,2,   1.5379,2,       3751
49UP20160703,         P9,      63,          1,          7,        516,2,20160801,       1150,     7.3233,   136.8177,       6864,  4061.9,   1.5286,  34.6830,2,  34.6816,2,    154.7,2,  154.54,2,  141.22,2,    0.00,2,   2.470,2,   0.000,2,   0.000,2,   0.001,2,  -999.0,9,  -999.0,9,-999.0000,9,  -999.00, -999.00,9, -999.00,9,     1233,   35.76,2,   1.5287,2,       4001
49UP20160703,         P9,      63,          1,          6,        113,2,20160801,       1150,     7.3233,   136.8177,       6864,  4575.2,   1.4895,  34.6895,2,  34.6891,2,    163.9,2,  163.80,6,  137.97,6,    0.00,6,   2.410,6,   0.000,2,   0.000,2,   0.000,2,  -999.0,9,  -999.0,9,-999.0000,9,  -999.00, -999.00,9, -999.00,9,     1223,   35.11,6,   1.4895,2,       4501
49UP20160703,         P9,      63,          1,          5,        658,2,20160801,       1150,     7.3233,   136.8177,       6864,  5089.0,   1.4877,  34.6940,2,  34.6936,6,    171.0,2,  170.77,2,  134.62,2,    0.00,2,   2.380,2,   0.003,2,   0.003,2,   0.000,2,  -999.0,9,  -999.0,9,-999.0000,9,  -999.00, -999.00,9, -999.00,9,     1212,   34.59,2,   1.4879,2,       5001
49UP20160703,         P9,      63,          1,          4,        471,2,20160801,       1150,     7.3233,   136.8177,       6864,  5346.2,   1.5137,  34.6944,2,  34.6942,2,    172.0,2,  171.91,2,  134.21,2,    0.00,2,   2.370,2,   0.000,2,   0.000,2,   0.001,2,  -999.0,9,  -999.0,9,-999.0000,9,  -999.00, -999.00,9, -999.00,9,     1207,   34.54,2,   1.5136,2,       5251
49UP20160703,         P9,      63,          1,          3,        104,2,20160801,       1150,     7.3233,   136.8177,       6864,  5604.2,   1.5452,  34.6946,2,  34.6947,2,    172.2,2,  172.31,2,  134.15,2,    0.00,2,   2.370,2,   0.000,2,   0.000,2,   0.000,2,  -999.0,9,  -999.0,9,-999.0000,9,  -999.00, -999.00,9, -999.00,9,     1201,   34.52,2,   1.5453,2,       5501
49UP20160703,         P9,      63,          1,          2,        075,2,20160801,       1150,     7.3233,   136.8177,       6864,  5862.6,   1.5786,  34.6946,2,  34.6953,2,    172.5,2,  172.37,2,  133.71,2,    0.00,2,   2.360,2,   0.018,2,   0.006,2,   0.000,2,  -999.0,9,  -999.0,9,-999.0000,9,  -999.00, -999.00,9, -999.00,9,     1156,   34.42,2,   1.5787,2,       5751
49UP20160703,         P9,      63,          1,          1,        997,2,20160801,       1150,     7.3233,   136.8177,       6864,  6120.4,   1.6139,  34.6946,2,  34.6946,2,    172.6,2,  172.14,2,  133.99,2,    0.00,2,   2.370,2,   0.016,2,   0.006,2,   0.001,2,  -999.0,9,  -999.0,9,-999.0000,9,  -999.00, -999.00,9, -999.00,9,     1150,   34.51,2,   1.6139,2,       6001