BOTTLE,20230712CCHSIOENA
EXPOCODE,SECT_ID,STNNBR,CASTNO,SAMPNO,BTLNBR,BTLNBR_FLAG_W,DATE,TIME,LATITUDE,LONGITUDE,DEPTH,CTDPRS,CTDTMP,CTDSAL,CTDSAL_FLAG_W,SALNTY,SALNTY_FLAG_W,CTDOXY,CTDOXY_FLAG_W,OXYGEN,OXYGEN_FLAG_W,SILCAT,SILCAT_FLAG_W,NITRIT,NITRIT_FLAG_W,PHSPHT,PHSPHT_FLAG_W,CFC-11,CFC-11_FLAG_W,CFC-12,CFC-12_FLAG_W,CFC113,CFC113_FLAG_W,TCARBN,TCARBN_FLAG_W,ALKALI,ALKALI_FLAG_W,PH_TOT,PH_TOT_FLAG_W,PH_TMP,CHLORA,CHLORA_FLAG_W,PPHYTN,PPHYTN_FLAG_W,BTL_TIME,NO2+NO3,NO2+NO3_FLAG_W,SBE35,SBE35_FLAG_W,CTDDEPTH
,,,,,,,,,,,METERS,DBAR,ITS-90,PSS-78,,PSS-78,,UMOL/KG,,UMOL/KG,,UMOL/KG,,UMOL/KG,,UMOL/KG,,PMOL/KG,,PMOL/KG,,PMOL/KG,,UMOL/KG,,UMOL/KG,,,,DEG C,UG/KG,,UG/KG,,,UMOL/KG,,ITS-90,,METERS
49UP20160703,         P9,      57,          1,          0,        BUC,2,20160722,       0414,     8.6668,    136.994,       2128,     0.0,  30.0067,  34.4000,2,-999.0000,9,    193.6,2,  192.96,2,    1.10,2,    0.00,2,   0.070,2,-999.000,9,-999.000,9,-999.000,9,  -999.0,9,  -999.0,9,-999.0000,9,  -999.00, -999.00,9, -999.00,9,      455,    0.01,2,-999.0000,9,          0
49UP20160703,         P9,      57,          1,         36,        109,2,20160722,       0414,     8.6668,    136.994,       2128,    10.6,  29.9154,  34.4195,2,  34.4167,2,    193.9,2,  194.65,2,    1.01,2,    0.00,2,   0.060,2,-999.000,9,-999.000,9,-999.000,9,  -999.0,9,  -999.0,9,-999.0000,9,  -999.00, -999.00,9, -999.00,9,      517,    0.03,2,  29.8888,2,         11
49UP20160703,         P9,      57,          1,         35,        112,2,20160722,       0414,     8.6668,    136.994,       2128,    25.5,  29.7935,  34.4690,2,  34.4569,4,    194.9,2,  195.97,2,    1.06,2,    0.00,2,   0.060,2,-999.000,9,-999.000,9,-999.000,9,  -999.0,9,  -999.0,9,-999.0000,9,  -999.00, -999.00,9, -999.00,9,      516,    0.01,2,  29.7893,2,         25
49UP20160703,         P9,      57,          1,         33,        469,2,20160722,       0414,     8.6668,    136.994,       2128,    51.5,  29.0940,  34.7114,2,  34.7178,2,    199.4,2,  200.71,2,    1.11,2,    0.00,2,   0.070,2,-999.000,9,-999.000,9,-999.000,9,  -999.0,9,  -999.0,9,-999.0000,9,  -999.00, -999.00,9, -999.00,9,      513,    0.03,2,  29.0953,2,         51
49UP20160703,         P9,      57,          1,         32,        089,2,20160722,       0414,     8.6668,    136.994,       2128,    76.0,  27.1666,  34.8182,2,  34.8196,2,    198.2,2,  199.67,2,    1.46,2,    0.00,2,   0.080,2,-999.000,9,-999.000,9,-999.000,9,  -999.0,9,  -999.0,9,-999.0000,9,  -999.00, -999.00,9, -999.00,9,      512,    0.03,2,  27.1622,2,         76
49UP20160703,         P9,      57,          1,         31,        515,2,20160722,       0414,     8.6668,    136.994,       2128,   101.3,  22.1513,  34.8279,2,  34.8289,2,    171.9,2,  172.58,2,    4.45,2,    0.09,2,   0.410,2,-999.000,9,-999.000,9,-999.000,9,  -999.0,9,  -999.0,9,-999.0000,9,  -999.00, -999.00,9, -999.00,9,      510,    4.08,2,  22.1505,2,        101
49UP20160703,         P9,      57,          1,         30,        097,2,20160722,       0414,     8.6668,    136.994,       2128,   126.7,  19.0523,  34.7774,2,  34.7780,2,    156.2,2,  156.35,2,    7.75,2,    0.03,2,   0.680,2,-999.000,9,-999.000,9,-999.000,9,  -999.0,9,  -999.0,9,-999.0000,9,  -999.00, -999.00,9, -999.00,9,      509,    8.27,2,  19.0644,2,        126
49UP20160703,         P9,      57,          1,         29,        102,2,20160722,       0414,     8.6668,    136.994,       2128,   151.9,  14.5618,  34.5657,2,  34.5465,4,    128.4,2,  125.32,2,   17.98,2,    0.00,2,   1.300,2,-999.000,9,-999.000,9,-999.000,9,  -999.0,9,  -999.0,9,-999.0000,9,  -999.00, -999.00,9, -999.00,9,      508,   17.77,2,  14.5561,2,        151
49UP20160703,         P9,      57,          1,         28,        472,2,20160722,       0414,     8.6668,    136.994,       2128,   202.1,  10.8112,  34.4699,2,  34.4730,2,     99.6,2,   99.66,2,   29.58,2,    0.00,2,   1.850,2,-999.000,9,-999.000,9,-999.000,9,  -999.0,9,  -999.0,9,-999.0000,9,  -999.00, -999.00,9, -999.00,9,      506,   25.55,2,  10.8132,2,        201
49UP20160703,         P9,      57,          1,         27,        998,2,20160722,       0414,     8.6668,    136.994,       2128,   202.2,  10.8089,  34.4695,2,  34.4731,2,     99.6,2,  100.31,2,   29.66,2,    0.00,2,   1.850,2,-999.000,9,-999.000,9,-999.000,9,  -999.0,9,  -999.0,9,-999.0000,9,  -999.00, -999.00,9, -999.00,9,      506,   25.61,2,  10.8109,2,        201
49UP20160703,         P9,      57,          1,         26,        084,2,20160722,       0414,     8.6668,    136.994,       2128,   252.3,   9.9843,  34.5063,2,  34.5077,2,     98.4,2,   98.56,2,   33.43,2,    0.00,2,   1.960,2,-999.000,9,-999.000,9,-999.000,9,  -999.0,9,  -999.0,9,-999.0000,9,  -999.00, -999.00,9, -999.00,9,      505,   27.41,2,   9.9843,2,        251
49UP20160703,         P9,      57,          1,         25,        098,2,20160722,       0414,     8.6668,    136.994,       2128,   282.8,   9.5424,  34.5013,2,  34.5018,2,     95.3,2,   95.06,2,   36.08,2,    0.00,2,   2.060,2,-999.000,9,-999.000,9,-999.000,9,  -999.0,9,  -999.0,9,-999.0000,9,  -999.00, -999.00,9, -999.00,9,      503,   28.84,2,   9.5471,2,        281
49UP20160703,         P9,      57,          1,         21,        078,2,20160722,       0414,     8.6668,    136.994,       2128,   323.2,   8.5952,  34.5308,2,  34.5313,2,     98.4,2,   98.35,2,   38.48,2,    0.00,2,   2.150,2,-999.000,9,-999.000,9,-999.000,9,  -999.0,9,  -999.0,9,-999.0000,9,  -999.00, -999.00,9, -999.00,9,      502,   30.31,2,   8.5956,2,        321
49UP20160703,         P9,      57,          1,         20,        093,2,20160722,       0414,     8.6668,    136.994,       2128,   373.0,   8.3582,  34.5431,2,  34.5413,2,    107.3,2,  106.94,2,   38.25,2,    0.00,2,   2.130,2,-999.000,9,-999.000,9,-999.000,9,  -999.0,9,  -999.0,9,-999.0000,9,  -999.00, -999.00,9, -999.00,9,      500,   30.14,2,   8.3597,2,        371
49UP20160703,         P9,      57,          1,         19,        269,2,20160722,       0414,     8.6668,    136.994,       2128,   423.3,   8.0222,  34.5243,2,  34.5257,2,    106.2,2,  106.74,2,   40.47,2,    0.00,2,   2.170,2,-999.000,9,-999.000,9,-999.000,9,  -999.0,9,  -999.0,9,-999.0000,9,  -999.00, -999.00,9, -999.00,9,      459,   30.71,2,   8.0218,2,        420
49UP20160703,         P9,      57,          1,         18,        088,2,20160722,       0414,     8.6668,    136.994,       2128,   473.4,   7.6405,  34.5279,2,  34.5283,2,    104.4,2,  104.45,2,   42.51,2,    0.00,2,   2.240,2,-999.000,9,-999.000,9,-999.000,9,  -999.0,9,  -999.0,9,-999.0000,9,  -999.00, -999.00,9, -999.00,9,      457,   31.82,2,   7.6409,2,        470
49UP20160703,         P9,      57,          1,         17,        090,2,20160722,       0414,     8.6668,    136.994,       2128,   574.3,   7.1375,  34.5295,2,  34.5298,2,    112.7,2,  112.26,2,   44.10,2,    0.00,2,   2.260,2,-999.000,9,-999.000,9,-999.000,9,  -999.0,9,  -999.0,9,-999.0000,9,  -999.00, -999.00,9, -999.00,9,      455,   32.24,2,   7.1371,2,        570
49UP20160703,         P9,      57,          1,         16,        474,2,20160722,       0414,     8.6668,    136.994,       2128,   675.7,   6.7047,  34.5118,2,  34.5126,6,    103.6,2,  103.45,2,   52.17,2,    0.00,2,   2.380,2,-999.000,9,-999.000,9,-999.000,9,  -999.0,9,  -999.0,9,-999.0000,9,  -999.00, -999.00,9, -999.00,9,      452,   33.61,2,   6.7047,2,        671
49UP20160703,         P9,      57,          1,         15,        665,3,20160722,       0414,     8.6668,    136.994,       2128,   776.6,   6.0515,  34.5190,2,  34.5197,2,     97.6,2,   97.51,6,   61.84,6,    0.00,6,   2.500,6,-999.000,9,-999.000,9,-999.000,9,  -999.0,9,  -999.0,9,-999.0000,9,  -999.00, -999.00,9, -999.00,9,      450,   35.27,6,   6.0509,2,        771
49UP20160703,         P9,      57,          1,         14,        999,2,20160722,       0414,     8.6668,    136.994,       2128,   877.6,   5.5530,  34.5265,2,  34.5272,2,     98.8,2,   98.68,2,   69.14,2,    0.00,2,   2.560,2,-999.000,9,-999.000,9,-999.000,9,  -999.0,9,  -999.0,9,-999.0000,9,  -999.00, -999.00,9, -999.00,9,      447,   36.02,2,   5.5531,2,        871
49UP20160703,         P9,      57,          1,         13,        667,2,20160722,       0414,     8.6668,    136.994,       2128,   978.1,   5.1636,  34.5332,2,  34.5339,2,     95.7,2,   95.74,2,   77.08,2,    0.00,2,   2.620,2,-999.000,9,-999.000,9,-999.000,9,  -999.0,9,  -999.0,9,-999.0000,9,  -999.00, -999.00,9, -999.00,9,      444,   36.85,2,   5.1633,2,        970
49UP20160703,         P9,      57,          1,         12,        074,2,20160722,       0414,     8.6668,    136.994,       2128,   978.1,   5.1626,  34.5332,2,  34.5338,2,     95.7,2,   95.69,2,   77.15,2,    0.00,2,   2.620,2,-999.000,9,-999.000,9,-999.000,9,  -999.0,9,  -999.0,9,-999.0000,9,  -999.00, -999.00,9, -999.00,9,      444,   36.82,2,   5.1614,2,        970
49UP20160703,         P9,      57,          1,         11,        268,2,20160722,       0414,     8.6668,    136.994,       2128,  1142.8,   4.1345,  34.5602,2,  34.5604,2,     90.2,2,   90.12,2,   98.79,2,    0.00,2,   2.740,2,-999.000,9,-999.000,9,-999.000,9,  -999.0,9,  -999.0,9,-999.0000,9,  -999.00, -999.00,9, -999.00,9,      440,   38.55,2,   4.1384,2,       1133
49UP20160703,         P9,      57,          1,         10,        267,2,20160722,       0414,     8.6668,    136.994,       2128,  1342.8,   3.5445,  34.5768,2,  34.5769,2,     94.3,2,   94.17,2,  110.72,2,    0.00,2,   2.750,2,-999.000,9,-999.000,9,-999.000,9,  -999.0,9,  -999.0,9,-999.0000,9,  -999.00, -999.00,9, -999.00,9,      435,   38.74,2,   3.5507,2,       1331
49UP20160703,         P9,      57,          1,          9,        518,2,20160722,       0414,     8.6668,    136.994,       2128,  1545.1,   3.0058,  34.5960,2,  34.5969,2,    100.2,2,   99.89,2,  121.70,2,    0.00,2,   2.740,2,-999.000,9,-999.000,9,-999.000,9,  -999.0,9,  -999.0,9,-999.0000,9,  -999.00, -999.00,9, -999.00,9,      431,   38.80,2,   3.0070,2,       1531
49UP20160703,         P9,      57,          1,          8,        470,2,20160722,       0414,     8.6668,    136.994,       2128,  1748.1,   2.6625,  34.6111,2,  34.6118,6,    105.7,2,  105.57,2,  128.46,2,    0.00,2,   2.730,2,-999.000,9,-999.000,9,-999.000,9,  -999.0,9,  -999.0,9,-999.0000,9,  -999.00, -999.00,9, -999.00,9,      426,   38.66,2,   2.6625,2,       1731
49UP20160703,         P9,      57,          1,          7,        516,2,20160722,       0414,     8.6668,    136.994,       2128,  1951.0,   2.3709,  34.6256,2,  34.6260,2,    112.2,2,  112.28,6,  133.83,6,    0.00,6,   2.700,6,-999.000,9,-999.000,9,-999.000,9,  -999.0,9,  -999.0,9,-999.0000,9,  -999.00, -999.00,9, -999.00,9,      421,   38.43,6,   2.3700,2,       1931
49UP20160703,         P9,      57,          1,          5,        658,2,20160722,       0414,     8.6668,    136.994,       2128,  2154.4,   2.1672,  34.6360,2,  34.6361,6,    118.3,2,  118.25,6,  137.09,6,    0.00,6,   2.670,6,-999.000,9,-999.000,9,-999.000,9,  -999.0,9,  -999.0,9,-999.0000,9,  -999.00, -999.00,9, -999.00,9,      417,   38.12,6,   2.1679,2,       2131
49UP20160703,         P9,      57,          1,          2,        075,2,20160722,       0414,     8.6668,    136.994,       2128,  2253.7,   2.0670,  34.6414,2,  34.6407,2,    121.6,2,  120.71,2,  138.20,2,    0.00,2,   2.660,2,-999.000,9,-999.000,9,-999.000,9,  -999.0,9,  -999.0,9,-999.0000,9,  -999.00, -999.00,9, -999.00,9,      414,   37.97,2,   2.0696,2,       2229
49UP20160703,         P9,      57,          1,          1,        997,2,20160722,       0414,     8.6668,    136.994,       2128,  2253.8,   2.0726,  34.6407,2,  34.6406,2,    121.5,2,  120.41,3,  138.23,2,    0.00,2,   2.660,2,-999.000,9,-999.000,9,-999.000,9,  -999.0,9,  -999.0,9,-999.0000,9,  -999.00, -999.00,9, -999.00,9,      414,   38.02,2,   2.0722,2,       2229