BOTTLE,20230712CCHSIOENA
EXPOCODE,SECT_ID,STNNBR,CASTNO,SAMPNO,BTLNBR,BTLNBR_FLAG_W,DATE,TIME,LATITUDE,LONGITUDE,DEPTH,CTDPRS,CTDTMP,CTDSAL,CTDSAL_FLAG_W,SALNTY,SALNTY_FLAG_W,CTDOXY,CTDOXY_FLAG_W,OXYGEN,OXYGEN_FLAG_W,SILCAT,SILCAT_FLAG_W,NITRIT,NITRIT_FLAG_W,PHSPHT,PHSPHT_FLAG_W,CFC-11,CFC-11_FLAG_W,CFC-12,CFC-12_FLAG_W,CFC113,CFC113_FLAG_W,TCARBN,TCARBN_FLAG_W,ALKALI,ALKALI_FLAG_W,PH_TOT,PH_TOT_FLAG_W,PH_TMP,CHLORA,CHLORA_FLAG_W,PPHYTN,PPHYTN_FLAG_W,BTL_TIME,NO2+NO3,NO2+NO3_FLAG_W,SBE35,SBE35_FLAG_W,CTDDEPTH
,,,,,,,,,,,METERS,DBAR,ITS-90,PSS-78,,PSS-78,,UMOL/KG,,UMOL/KG,,UMOL/KG,,UMOL/KG,,UMOL/KG,,PMOL/KG,,PMOL/KG,,PMOL/KG,,UMOL/KG,,UMOL/KG,,,,DEG C,UG/KG,,UG/KG,,,UMOL/KG,,ITS-90,,METERS
49UP20160703,         P9,      84,          1,          0,        BUC,2,20160808,       1901,      0.988,   142.0137,       3101,     0.0,  29.8889,  33.9178,2,  33.9141,2,    194.7,2,  195.00,2,    1.08,2,    0.00,2,   0.100,2,-999.000,9,-999.000,9,-999.000,9,  1899.3,2,  2229.7,2,   8.1253,2,    25.00,    0.07,2,    0.04,2,     2000,    0.05,2,-999.0000,9,          0
49UP20160703,         P9,      84,          1,         36,        109,2,20160808,       1901,      0.988,   142.0137,       3101,    10.9,  29.9135,  33.9187,2,  33.9184,2,    194.6,2,  194.43,2,    1.04,2,    0.00,2,   0.100,2,   1.441,2,   0.941,2,   0.121,2,  1901.5,2,  2231.3,2,   8.1273,2,    25.00,    0.07,2,    0.04,2,     2024,    0.03,2,  29.9026,2,         11
49UP20160703,         P9,      84,          1,         35,        112,2,20160808,       1901,      0.988,   142.0137,       3101,    24.4,  29.9018,  33.9188,2,  33.8937,4,    194.7,2,  194.67,2,    1.04,2,    0.00,2,   0.100,2,   1.450,2,   0.942,2,   0.102,2,  1901.2,2,  2231.3,2,   8.1252,2,    25.00,    0.07,2,    0.04,2,     2023,    0.03,2,  29.8979,2,         24
49UP20160703,         P9,      84,          1,         34,        094,2,20160808,       1901,      0.988,   142.0137,       3101,    51.4,  30.0494,  34.0839,2,  34.0841,2,    196.1,2,  196.02,6,    1.04,6,    0.00,6,   0.110,6,   1.467,2,   0.949,2,   0.105,2,  1905.4,2,  2242.3,2,   8.1305,2,    25.00,    0.08,2,    0.05,2,     2021,    0.04,6,  30.0484,2,         51
49UP20160703,         P9,      84,          1,         32,        089,2,20160808,       1901,      0.988,   142.0137,       3101,    74.5,  29.7391,  34.4837,2,  34.4738,6,    198.4,2,  195.99,2,    1.22,2,    0.00,2,   0.090,2,   1.532,6,   0.965,6,   0.106,6,  1938.8,2,  2266.7,2,   8.1107,2,    25.00,    0.17,2,    0.11,2,     2020,    0.02,2,  29.7695,2,         74
49UP20160703,         P9,      84,          1,         31,        515,2,20160808,       1901,      0.988,   142.0137,       3101,   100.8,  27.9550,  34.8056,2,  34.7784,4,    185.5,2,  186.17,6,    1.32,6,    0.12,6,   0.170,6,   1.603,2,   1.008,2,   0.098,2,  1968.9,2,  2286.1,2,   8.0867,2,    25.00,    0.38,2,    0.39,2,     2019,    0.50,6,  27.9994,2,        100
49UP20160703,         P9,      84,          1,         30,        097,2,20160808,       1901,      0.988,   142.0137,       3101,   126.0,  23.9315,  35.1497,2,  35.1450,6,    142.9,2,  143.72,2,    4.20,2,    0.04,2,   0.610,2,   1.802,2,   1.119,2,   0.050,2,  2060.1,2,  2309.7,2,   7.9511,2,    25.00,    0.07,2,    0.22,2,     2017,    7.49,2,  23.9328,2,        125
49UP20160703,         P9,      84,          1,         29,        102,2,20160808,       1901,      0.988,   142.0137,       3101,   151.3,  20.8525,  35.3520,2,  35.3436,2,    141.6,2,  141.37,2,    4.70,2,    0.02,2,   0.780,3,   1.954,2,   1.186,2,   0.031,2,  2095.9,2,  2322.4,2,   7.9052,2,    25.00,    0.01,2,    0.04,2,     2016,    9.61,2,  20.8925,2,        150
49UP20160703,         P9,      84,          1,         26,        084,2,20160808,       1901,      0.988,   142.0137,       3101,   201.7,  15.5091,  35.0160,2,  35.0271,4,    140.9,2,  141.15,2,   11.94,2,    0.01,2,   1.150,2,   2.023,2,   1.164,2,   0.021,2,  2135.2,2,  2312.3,2,   7.7998,2,    25.00,    0.00,2,    0.02,2,     2015,   15.28,2,  15.5112,2,        200
49UP20160703,         P9,      84,          1,         27,        998,2,20160808,       1901,      0.988,   142.0137,       3101,   202.1,  15.5116,  35.0186,2,  35.0235,2,    141.0,2,  141.27,2,   11.96,2,    0.01,2,   1.150,2,-999.000,9,-999.000,9,-999.000,9,  2134.8,2,  2312.9,2,   7.8015,2,    25.00, -999.00,9, -999.00,9,     2015,   15.29,2,  15.5131,2,        201
49UP20160703,         P9,      84,          1,         25,        098,2,20160808,       1901,      0.988,   142.0137,       3101,   251.8,  12.2286,  34.8421,2,  34.8431,2,    138.9,2,  138.73,2,   17.34,2,    0.00,2,   1.490,2,   1.823,2,   0.987,2,   0.017,2,  2166.0,2,  2307.0,2,   7.7243,6,    25.00, -999.00,9, -999.00,9,     2013,   20.38,2,  12.2235,2,        250
49UP20160703,         P9,      84,          1,         24,        110,2,20160808,       1901,      0.988,   142.0137,       3101,   302.6,  10.6636,  34.6882,2,  34.6871,2,    126.0,2,  125.62,2,   24.48,2,    0.00,2,   1.730,2,   1.576,2,   0.838,2,   0.024,2,  2184.8,2,  2303.4,2,   7.6641,2,    25.00, -999.00,9, -999.00,9,     2011,   24.13,2,  10.6632,2,        301
49UP20160703,         P9,      84,          1,         23,        679,2,20160808,       1901,      0.988,   142.0137,       3101,   353.9,  10.1419,  34.7238,2,  34.7242,2,    105.5,2,  105.59,2,   24.32,2,    0.00,2,   1.940,2,-999.000,9,-999.000,9,-999.000,9,  2204.1,2,  2304.5,2,   7.6176,2,    25.00, -999.00,9, -999.00,9,     2010,   27.40,2,  10.1416,2,        352
49UP20160703,         P9,      84,          1,         22,        111,2,20160808,       1901,      0.988,   142.0137,       3101,   403.3,   9.6740,  34.6923,2,  34.6923,2,     95.2,2,   95.62,2,   27.07,2,    0.00,2,   2.060,2,   1.066,2,   0.546,2,   0.025,2,  2214.5,6,  2304.1,6,   7.5887,2,    25.00, -999.00,9, -999.00,9,     2008,   29.33,2,   9.6746,2,        401
49UP20160703,         P9,      84,          1,         21,        078,2,20160808,       1901,      0.988,   142.0137,       3101,   455.4,   8.9191,  34.6398,2,  34.6416,2,    103.8,2,  102.62,2,   29.90,2,    0.00,2,   2.110,2,-999.000,9,-999.000,9,-999.000,9,  2216.9,2,  2305.6,2,    7.581,2,    25.00, -999.00,9, -999.00,9,     2006,   30.06,2,   8.9269,2,        452
49UP20160703,         P9,      84,          1,         19,        269,2,20160808,       1901,      0.988,   142.0137,       3101,   506.4,   8.3242,  34.6028,2,  34.6038,2,    109.2,2,  109.03,2,   32.53,2,    0.00,2,   2.150,2,   0.842,6,   0.422,6,   0.014,6,  2216.2,2,  2308.5,2,   7.5812,2,    25.00, -999.00,9, -999.00,9,     2005,   30.56,2,   8.3245,2,        503
49UP20160703,         P9,      84,          1,         20,        093,2,20160808,       1901,      0.988,   142.0137,       3101,   507.8,   8.3033,  34.6018,2,  34.6035,2,    109.3,2,  109.24,2,   32.58,2,    0.00,2,   2.150,2,-999.000,9,-999.000,9,-999.000,9,  2218.2,2,  2307.2,2,    7.582,2,    25.00, -999.00,9, -999.00,9,     2005,   30.56,2,   8.3103,2,        504
49UP20160703,         P9,      84,          1,         18,        088,2,20160808,       1901,      0.988,   142.0137,       3101,   606.8,   6.8152,  34.5427,2,  34.5438,2,    114.1,2,  114.00,2,   42.83,2,    0.00,2,   2.330,2,   0.526,2,   0.265,2,   0.001,2,  2231.7,2,  2312.9,2,   7.5611,2,    25.00, -999.00,9, -999.00,9,     2002,   33.00,2,   6.8169,2,        603
49UP20160703,         P9,      84,          1,         17,        090,2,20160808,       1901,      0.988,   142.0137,       3101,   705.8,   5.9362,  34.5273,2,  34.5280,2,    114.0,2,  113.74,6,   54.38,6,    0.00,6,   2.450,6,   0.355,2,   0.174,2,   0.007,2,  2248.8,2,  2325.6,2,   7.5495,2,    25.00, -999.00,9, -999.00,9,     1959,   34.51,6,   5.9358,2,        701
49UP20160703,         P9,      84,          1,         16,        474,2,20160808,       1901,      0.988,   142.0137,       3101,   807.6,   5.4184,  34.5274,2,  34.5276,6,    113.6,2,  113.59,2,   61.06,2,    0.00,2,   2.520,2,   0.244,2,   0.114,2,   0.016,2,  2259.4,2,  2331.9,2,   7.5413,2,    25.00, -999.00,9, -999.00,9,     1956,   35.48,2,   5.4198,2,        802
49UP20160703,         P9,      84,          1,         15,        665,2,20160808,       1901,      0.988,   142.0137,       3101,   908.2,   4.8039,  34.5410,2,  34.5410,2,    103.3,2,  103.80,2,   75.02,2,    0.00,2,   2.650,2,   0.099,2,   0.043,2,   0.008,2,  2280.3,2,  2346.0,2,   7.5192,2,    25.00, -999.00,9, -999.00,9,     1954,   37.22,2,   4.8039,2,        901
49UP20160703,         P9,      84,          1,         14,        999,2,20160808,       1901,      0.988,   142.0137,       3101,  1009.0,   4.5420,  34.5499,2,  34.5491,2,     96.8,2,   97.10,2,   82.34,2,    0.00,2,   2.720,2,   0.054,2,   0.024,2,   0.004,2,  2291.2,2,  2353.3,2,   7.5075,2,    25.00, -999.00,9, -999.00,9,     1950,   38.10,2,   4.5420,2,       1001
49UP20160703,         P9,      84,          1,         13,        667,2,20160808,       1901,      0.988,   142.0137,       3101,  1211.9,   3.7778,  34.5720,2,  34.5725,2,    101.7,2,  101.74,2,   99.29,2,    0.00,2,   2.720,2,   0.034,2,   0.019,2,   0.004,2,  2307.1,2,  2371.6,2,   7.5104,2,    25.00, -999.00,9, -999.00,9,     1945,   38.18,2,   3.7777,2,       1202
49UP20160703,         P9,      84,          1,         12,        074,2,20160808,       1901,      0.988,   142.0137,       3101,  1412.5,   3.1597,  34.5940,2,  34.5937,2,    104.5,2,  104.61,2,  113.79,2,    0.00,2,   2.740,2,-999.000,9,-999.000,9,-999.000,9,  2321.8,2,  2388.8,2,    7.513,2,    25.00, -999.00,9, -999.00,9,     1940,   38.46,2,   3.1596,2,       1400
49UP20160703,         P9,      84,          1,         11,        268,2,20160808,       1901,      0.988,   142.0137,       3101,  1412.7,   3.1596,  34.5940,2,  34.5944,2,    104.5,2,  104.53,2,  113.85,2,    0.00,2,   2.740,2,   0.004,2,   0.003,2,   0.007,2,  2325.9,2,  2386.8,2,   7.5148,2,    25.00, -999.00,9, -999.00,9,     1940,   38.46,2,   3.1597,2,       1400
49UP20160703,         P9,      84,          1,         10,        267,2,20160808,       1901,      0.988,   142.0137,       3101,  1616.3,   2.7456,  34.6108,2,  34.6114,2,    112.8,2,  113.12,2,  120.45,2,    0.00,2,   2.710,2,-999.000,9,-999.000,9,-999.000,9,  2326.1,2,  2393.3,2,   7.5237,6,    25.00, -999.00,9, -999.00,9,     1935,   38.18,2,   2.7461,2,       1601
49UP20160703,         P9,      84,          1,          9,        518,2,20160808,       1901,      0.988,   142.0137,       3101,  1818.2,   2.4186,  34.6263,2,  34.6269,2,    115.4,2,  115.31,2,  129.15,2,    0.00,2,   2.700,2,-999.000,9,-999.000,9,-999.000,9,  2332.5,6,  2404.7,6,   7.5274,2,    25.00, -999.00,9, -999.00,9,     1930,   38.12,2,   2.4189,2,       1800
49UP20160703,         P9,      84,          1,          8,        470,2,20160808,       1901,      0.988,   142.0137,       3101,  2022.3,   2.1949,  34.6372,2,  34.6379,2,    118.8,2,  118.94,2,  134.78,2,    0.00,2,   2.680,2,   0.000,2,   0.000,2,   0.012,2,  2334.1,2,  2408.9,2,    7.533,2,    25.00, -999.00,9, -999.00,9,     1926,   38.01,2,   2.1948,2,       2002
49UP20160703,         P9,      84,          1,          7,        516,2,20160808,       1901,      0.988,   142.0137,       3101,  2222.9,   1.9603,  34.6487,2,  34.6487,2,    125.2,2,  126.52,3,  139.46,2,    0.00,2,   2.650,2,-999.000,9,-999.000,9,-999.000,9,  2336.0,2,  2412.9,2,   7.5414,6,    25.00, -999.00,9, -999.00,9,     1921,   37.64,2,   1.9603,2,       2199
49UP20160703,         P9,      84,          1,          6,        113,2,20160808,       1901,      0.988,   142.0137,       3101,  2425.2,   1.8047,  34.6572,2,  34.6574,2,    131.4,2,  131.30,2,  141.28,2,    0.00,2,   2.610,2,-999.000,9,-999.000,9,-999.000,9,  2334.1,2,  2414.2,2,    7.553,2,    25.00, -999.00,9, -999.00,9,     1916,   37.30,2,   1.8048,2,       2398
49UP20160703,         P9,      84,          1,          5,        658,2,20160808,       1901,      0.988,   142.0137,       3101,  2425.5,   1.8038,  34.6571,2,  34.6574,2,    131.4,2,  131.41,2,  141.41,2,    0.00,2,   2.610,2,   0.009,2,   0.001,2,   0.009,2,  2335.4,2,  2417.0,3,   7.5528,2,    25.00, -999.00,9, -999.00,9,     1916,   37.30,2,   1.8031,2,       2398
49UP20160703,         P9,      84,          1,          4,        471,2,20160808,       1901,      0.988,   142.0137,       3101,  2629.5,   1.6941,  34.6636,2,  34.6634,2,    136.9,2,  137.13,6,  142.19,6,    0.00,6,   2.580,6,-999.000,9,-999.000,9,-999.000,9,  2333.7,2,  2415.5,2,   7.5607,2,    25.00, -999.00,9, -999.00,9,     1912,   36.96,6,   1.6938,2,       2599
49UP20160703,         P9,      84,          1,          3,        104,2,20160808,       1901,      0.988,   142.0137,       3101,  2832.5,   1.6195,  34.6687,2,  34.6688,6,    141.3,2,  141.27,2,  142.53,2,    0.00,2,   2.560,2,-999.000,9,-999.000,9,-999.000,9,  2332.3,2,  2417.2,2,   7.5655,2,    25.00, -999.00,9, -999.00,9,     1908,   36.68,2,   1.6194,2,       2798
49UP20160703,         P9,      84,          1,          2,        075,2,20160808,       1901,      0.988,   142.0137,       3101,  3036.6,   1.5817,  34.6724,2,  34.6727,2,    143.9,2,  143.94,2,  142.87,2,    0.00,2,   2.550,2,   0.000,2,   0.001,2,   0.000,2,  2331.1,6,  2419.9,6,   7.5726,2,    25.00, -999.00,9, -999.00,9,     1903,   36.50,2,   1.5817,2,       2998
49UP20160703,         P9,      84,          1,          1,        997,2,20160808,       1901,      0.988,   142.0137,       3101,  3119.0,   1.5848,  34.6728,2,  34.6732,2,    144.1,2,  143.96,2,  143.07,2,    0.00,2,   2.550,2,   0.000,2,   0.001,2,   0.004,2,  2331.0,2,  2419.5,2,   7.5731,2,    25.00, -999.00,9, -999.00,9,     1901,   36.53,2,   1.5848,2,       3079