BOTTLE,20230712CCHSIOENA
EXPOCODE,SECT_ID,STNNBR,CASTNO,SAMPNO,BTLNBR,BTLNBR_FLAG_W,DATE,TIME,LATITUDE,LONGITUDE,DEPTH,CTDPRS,CTDTMP,CTDSAL,CTDSAL_FLAG_W,SALNTY,SALNTY_FLAG_W,CTDOXY,CTDOXY_FLAG_W,OXYGEN,OXYGEN_FLAG_W,SILCAT,SILCAT_FLAG_W,NITRIT,NITRIT_FLAG_W,PHSPHT,PHSPHT_FLAG_W,CFC-11,CFC-11_FLAG_W,CFC-12,CFC-12_FLAG_W,CFC113,CFC113_FLAG_W,TCARBN,TCARBN_FLAG_W,ALKALI,ALKALI_FLAG_W,PH_TOT,PH_TOT_FLAG_W,PH_TMP,CHLORA,CHLORA_FLAG_W,PPHYTN,PPHYTN_FLAG_W,BTL_TIME,NO2+NO3,NO2+NO3_FLAG_W,SBE35,SBE35_FLAG_W,CTDDEPTH
,,,,,,,,,,,METERS,DBAR,ITS-90,PSS-78,,PSS-78,,UMOL/KG,,UMOL/KG,,UMOL/KG,,UMOL/KG,,UMOL/KG,,PMOL/KG,,PMOL/KG,,PMOL/KG,,UMOL/KG,,UMOL/KG,,,,DEG C,UG/KG,,UG/KG,,,UMOL/KG,,ITS-90,,METERS
49UP20160703,         P9,      26,          1,          0,        BUC,2,20160711,       2204,    24.0063,    137.016,       3947,     0.0,  30.2331,  34.9427,2,  34.9552,2,    193.0,2,  193.17,2,    1.04,2,    0.00,2,   0.010,2,-999.000,9,-999.000,9,-999.000,9,  1966.3,2,  2297.0,2,   8.1072,2,    25.00,    0.05,2,    0.02,2,     2322,    0.01,2,-999.0000,9,          0
49UP20160703,         P9,      26,          1,         35,        112,2,20160711,       2204,    24.0063,    137.016,       3947,     9.9,  29.9599,  34.9311,2,  34.9346,2,    193.8,2,  194.19,2,    1.04,2,    0.00,2,   0.010,2,   1.493,2,   0.933,2,   0.141,2,  1966.6,2,  2297.1,2,   8.1024,2,    25.00,    0.04,2,    0.02,2,     2352,    0.00,2,  29.9611,2,         10
49UP20160703,         P9,      26,          1,         33,        469,2,20160711,       2204,    24.0063,    137.016,       3947,    25.2,  27.3185,  34.8544,2,  34.8636,4,    208.9,2,  210.16,2,    1.09,2,    0.00,2,   0.010,2,   1.745,2,   1.061,2,   0.156,2,  1970.1,2,  2288.6,2,   8.0883,2,    25.00,    0.05,2,    0.02,2,     2351,    0.01,2,  27.2942,2,         25
49UP20160703,         P9,      26,          1,         34,        094,2,20160711,       2204,    24.0063,    137.016,       3947,    25.6,  27.2764,  34.8606,2,  34.8569,2,    209.3,2,  209.26,2,    1.13,2,    0.00,2,   0.010,2,-999.000,9,-999.000,9,-999.000,9,  1969.5,2,  2289.0,2,   8.0895,2,    25.00, -999.00,9, -999.00,9,     2351,    0.00,2,  27.2863,2,         25
49UP20160703,         P9,      26,          1,         32,        089,2,20160711,       2204,    24.0063,    137.016,       3947,    50.8,  24.2569,  34.9825,2,  34.9830,2,    224.6,2,  224.71,2,    1.25,2,    0.00,2,   0.010,2,   1.948,2,   1.176,2,   0.166,2,  1980.7,2,  2295.9,2,   8.0801,2,    25.00,    0.08,2,    0.04,2,     2347,    0.02,2,  24.2592,2,         50
49UP20160703,         P9,      26,          1,         31,        515,2,20160711,       2204,    24.0063,    137.016,       3947,    74.5,  22.5010,  34.9680,2,  34.9677,2,    221.0,2,  220.83,2,    1.37,2,    0.00,2,   0.010,2,   2.031,2,   1.267,2,   0.141,2,  1993.9,2,  2296.0,2,   8.0617,2,    25.00,    0.13,2,    0.07,2,     2346,    0.00,2,  22.4982,2,         74
49UP20160703,         P9,      26,          1,         30,        097,2,20160711,       2204,    24.0063,    137.016,       3947,   104.3,  21.4341,  34.9391,2,-999.0000,5,    213.1,2,  213.66,2,    1.55,2,    0.00,2,   0.020,2,-999.000,9,-999.000,9,-999.000,9,  2005.8,6,  2293.9,6,   8.0364,2,    25.00,    0.15,2,    0.19,2,     2345,    0.02,2,  21.4350,2,        104
49UP20160703,         P9,      26,          1,         29,        102,2,20160711,       2204,    24.0063,    137.016,       3947,   128.9,  20.3506,  34.9008,2,  34.9018,2,    203.2,2,  204.10,2,    1.91,2,    0.06,2,   0.080,2,   2.163,2,   1.347,2,   0.129,2,  2016.4,2,  2292.6,2,   8.0092,2,    25.00,    0.20,2,    0.34,2,     2343,    0.81,2,  20.3580,2,        128
49UP20160703,         P9,      26,          1,         27,        998,2,20160711,       2204,    24.0063,    137.016,       3947,   153.1,  19.5459,  34.8707,2,  34.8711,2,    201.4,2,  201.13,2,    2.27,2,    0.01,2,   0.160,2,   2.252,2,   1.397,2,   0.096,2,  2025.4,2,  2288.8,2,   7.9888,2,    25.00,    0.05,2,    0.19,2,     2342,    2.31,2,  19.5447,2,        152
49UP20160703,         P9,      26,          1,         26,        084,2,20160711,       2204,    24.0063,    137.016,       3947,   200.2,  18.1761,  34.7919,2,  34.7903,2,    199.4,2,  199.72,2,    3.36,2,    0.00,2,   0.270,2,   2.350,2,   1.453,2,   0.060,2,  2038.6,2,  2281.0,2,   7.9604,2,    25.00,    0.00,2,    0.03,2,     2340,    4.01,2,  18.1660,2,        199
49UP20160703,         P9,      26,          1,         25,        098,2,20160711,       2204,    24.0063,    137.016,       3947,   254.9,  17.2801,  34.7303,2,  34.7318,2,    199.5,2,  199.70,2,    4.33,2,    0.00,2,   0.350,2,   2.437,2,   1.494,2,   0.052,2,  2047.8,2,  2280.2,2,   7.9415,6,    25.00, -999.00,9, -999.00,9,     2339,    5.20,2,  17.2816,2,        253
49UP20160703,         P9,      26,          1,         24,        110,2,20160711,       2204,    24.0063,    137.016,       3947,   333.8,  15.8157,  34.6131,2,  34.6160,2,    192.0,2,  192.40,2,    7.38,2,    0.00,2,   0.540,2,   2.593,2,   1.554,2,   0.057,2,  2065.7,2,  2275.7,2,    7.895,2,    25.00, -999.00,9, -999.00,9,     2336,    7.99,2,  15.8193,2,        331
49UP20160703,         P9,      26,          1,         23,        679,2,20160711,       2204,    24.0063,    137.016,       3947,   433.7,  12.8277,  34.4047,2,  34.4062,6,    177.5,2,  176.89,2,   17.51,2,    0.00,2,   0.990,2,   2.749,2,   1.576,2,   0.042,2,  2104.3,2,  2274.0,2,   7.7971,2,    25.00, -999.00,9, -999.00,9,     2333,   14.26,2,  12.8808,2,        430
49UP20160703,         P9,      26,          1,         22,        111,2,20160711,       2204,    24.0063,    137.016,       3947,   534.8,   9.9455,  34.2216,2,  34.2247,2,    163.8,2,  163.76,6,   31.43,6,    0.00,6,   1.450,6,   2.757,2,   1.523,2,   0.078,2,  2149.8,2,  2277.5,2,   7.6977,2,    25.00, -999.00,9, -999.00,9,     2330,   20.43,6,   9.9471,2,        531
49UP20160703,         P9,      26,          1,         20,        093,2,20160711,       2204,    24.0063,    137.016,       3947,   634.7,   7.4008,  34.1231,2,  34.1238,2,    133.2,2,  132.75,2,   53.38,2,    0.00,2,   2.000,2,   2.298,2,   1.185,2,   0.091,2,  2216.6,2,  2291.8,2,   7.5748,2,    25.00, -999.00,9, -999.00,9,     2327,   27.83,2,   7.4012,2,        630
49UP20160703,         P9,      26,          1,         21,        078,2,20160711,       2204,    24.0063,    137.016,       3947,   635.4,   7.3985,  34.1233,2,  34.1240,2,    133.2,2,  132.99,2,   53.21,2,    0.00,2,   1.990,2,-999.000,9,-999.000,9,-999.000,9,  2211.1,2,  2290.4,2,   7.5763,2,    25.00, -999.00,9, -999.00,9,     2327,   27.77,2,   7.3996,2,        630
49UP20160703,         P9,      26,          1,         19,        269,2,20160711,       2204,    24.0063,    137.016,       3947,   735.9,   5.7558,  34.1416,2,  34.1423,2,     97.1,2,   97.06,2,   75.65,2,    0.00,2,   2.440,2,   1.613,2,   0.802,2,   0.071,2,  2260.9,6,  2310.1,6,   7.4796,2,    25.00, -999.00,9, -999.00,9,     2324,   33.84,2,   5.7554,2,        730
49UP20160703,         P9,      26,          1,         18,        088,2,20160711,       2204,    24.0063,    137.016,       3947,   838.2,   4.7581,  34.2126,2,  34.2124,2,     71.6,2,   71.27,2,   94.93,2,    0.00,2,   2.710,2,   1.021,2,   0.495,2,   0.033,2,  2305.7,2,  2329.8,2,   7.4225,2,    25.00, -999.00,9, -999.00,9,     2321,   37.66,2,   4.7580,2,        831
49UP20160703,         P9,      26,          1,         17,        090,2,20160711,       2204,    24.0063,    137.016,       3947,   938.6,   4.0408,  34.3111,2,  34.3101,2,     57.1,2,   56.69,2,  111.45,2,    0.00,2,   2.870,2,   0.483,6,   0.240,6,   0.026,6,  2330.8,2,  2351.5,2,   7.3962,2,    25.00, -999.00,9, -999.00,9,     2319,   39.93,2,   4.0401,2,        931
49UP20160703,         P9,      26,          1,         16,        474,2,20160711,       2204,    24.0063,    137.016,       3947,  1081.0,   3.4854,  34.4000,2,  34.3991,6,     56.4,2,   55.87,2,  123.45,2,    0.00,2,   2.920,2,   0.220,2,   0.113,2,   0.011,2,  2340.5,2,  2367.4,2,   7.4034,2,    25.00, -999.00,9, -999.00,9,     2314,   40.76,2,   3.4867,2,       1071
49UP20160703,         P9,      26,          1,         15,        665,2,20160711,       2204,    24.0063,    137.016,       3947,  1284.1,   2.9598,  34.4904,2,  34.4900,2,     70.5,2,   70.14,6,  133.15,6,    0.00,6,   2.870,6,   0.068,2,   0.036,2,   0.000,2,  2348.9,2,  2386.7,2,   7.4344,2,    25.00, -999.00,9, -999.00,9,     2308,   40.36,6,   2.9600,2,       1272
49UP20160703,         P9,      26,          1,         14,        999,2,20160711,       2204,    24.0063,    137.016,       3947,  1485.4,   2.5633,  34.5432,2,  34.5430,2,     86.0,2,   85.79,2,  138.59,2,    0.00,2,   2.810,2,   0.033,2,   0.014,2,   0.000,2,  2346.7,2,  2394.3,2,   7.4636,2,    25.00, -999.00,9, -999.00,9,     2303,   39.60,2,   2.5636,2,       1471
49UP20160703,         P9,      26,          1,         13,        667,3,20160711,       2204,    24.0063,    137.016,       3947,  1687.0,   2.3317,  34.5747,2,  34.5746,6,     97.6,2,   97.79,2,  140.38,2,    0.00,2,   2.760,2,   0.018,2,   0.011,2,   0.000,2,  2342.4,2,  2399.8,2,   7.4861,2,    25.00, -999.00,9, -999.00,9,     2258,   38.96,2,   2.3316,2,       1670
49UP20160703,         P9,      26,          1,         12,        074,3,20160711,       2204,    24.0063,    137.016,       3947,  1890.4,   2.0992,  34.6019,2,  34.6021,2,    109.0,2,  109.21,6,  141.71,6,    0.00,6,   2.710,6,   0.011,2,   0.006,2,   0.000,2,  2342.0,2,  2404.5,2,   7.5049,2,    25.00, -999.00,9, -999.00,9,     2253,   38.41,6,   2.0994,2,       1870
49UP20160703,         P9,      26,          1,         11,        268,3,20160711,       2204,    24.0063,    137.016,       3947,  2093.5,   1.9390,  34.6198,2,  34.6191,2,    117.2,2,  117.10,2,  142.80,2,    0.00,2,   2.670,2,   0.003,2,   0.003,2,   0.003,2,  2342.2,2,  2406.6,2,   7.5211,6,    25.00, -999.00,9, -999.00,9,     2249,   38.02,2,   1.9389,2,       2070
49UP20160703,         P9,      26,          1,         10,        267,2,20160711,       2204,    24.0063,    137.016,       3947,  2297.2,   1.8441,  34.6326,2,  34.6327,2,    123.8,2,  123.67,2,  142.95,2,    0.00,2,   2.640,2,-999.000,9,-999.000,9,-999.000,9,  2336.6,6,  2408.8,6,    7.533,2,    25.00, -999.00,9, -999.00,9,     2243,   37.59,2,   1.8441,2,       2270
49UP20160703,         P9,      26,          1,          9,        518,2,20160711,       2204,    24.0063,    137.016,       3947,  2501.9,   1.7422,  34.6453,2,  34.6455,2,    130.7,2,  130.86,2,  143.02,2,    0.00,2,   2.610,2,   0.000,2,   0.000,2,   0.000,2,  2333.5,2,  2410.0,2,   7.5448,2,    25.00, -999.00,9, -999.00,9,     2239,   37.21,2,   1.7422,2,       2471
49UP20160703,         P9,      26,          1,          7,        516,2,20160711,       2204,    24.0063,    137.016,       3947,  2705.0,   1.6960,  34.6518,2,  34.6517,2,    134.5,2,  134.56,2,  143.01,2,    0.00,2,   2.590,2,-999.000,9,-999.000,9,-999.000,9,  2337.8,2,  2412.2,2,   7.5512,2,    25.00, -999.00,9, -999.00,9,     2234,   36.97,2,   1.6960,2,       2671
49UP20160703,         P9,      26,          1,          8,        470,2,20160711,       2204,    24.0063,    137.016,       3947,  2705.3,   1.6960,  34.6518,2,  34.6519,2,    134.5,2,  134.70,2,  142.83,2,    0.00,2,   2.590,2,-999.000,9,-999.000,9,-999.000,9,  2336.7,2,  2410.7,2,   7.5524,2,    25.00, -999.00,9, -999.00,9,     2234,   36.99,2,   1.6959,2,       2671
49UP20160703,         P9,      26,          1,          6,        113,2,20160711,       2204,    24.0063,    137.016,       3947,  2909.3,   1.6386,  34.6597,2,  34.6604,6,    139.4,2,  139.27,2,  142.76,2,    0.00,2,   2.570,2,-999.000,9,-999.000,9,-999.000,9,  2332.3,2,  2411.9,2,   7.5601,6,    25.00, -999.00,9, -999.00,9,     2229,   36.67,2,   1.6387,2,       2871
49UP20160703,         P9,      26,          1,          5,        658,2,20160711,       2204,    24.0063,    137.016,       3947,  3122.5,   1.5981,  34.6658,2,  34.6659,2,    143.2,2,  143.40,6,  142.63,6,    0.00,6,   2.550,6,   0.002,2,   0.005,2,   0.000,2,  2329.4,2,  2412.5,2,   7.5648,2,    25.00, -999.00,9, -999.00,9,     2224,   36.47,6,   1.5980,2,       3080
49UP20160703,         P9,      26,          1,          4,        471,2,20160711,       2204,    24.0063,    137.016,       3947,  3379.2,   1.5544,  34.6724,2,  34.6724,2,    148.0,2,  148.13,2,  142.06,2,    0.00,2,   2.520,2,-999.000,9,-999.000,9,-999.000,9,  2329.2,2,  2412.5,2,   7.5724,2,    25.00, -999.00,9, -999.00,9,     2218,   36.18,2,   1.5543,2,       3331
49UP20160703,         P9,      26,          1,          3,        104,2,20160711,       2204,    24.0063,    137.016,       3947,  3633.8,   1.5413,  34.6763,2,  34.6764,2,    151.0,2,  150.96,2,  141.49,2,    0.00,2,   2.500,2,   0.000,2,   0.000,2,   0.002,2,  2328.1,2,  2412.3,2,   7.5793,2,    25.00, -999.00,9, -999.00,9,     2213,   35.98,2,   1.5413,2,       3580
49UP20160703,         P9,      26,          1,          2,        075,2,20160711,       2204,    24.0063,    137.016,       3947,  3888.4,   1.5209,  34.6807,2,  34.6798,2,    154.8,2,  155.16,2,  140.90,2,    0.00,2,   2.490,2,-999.000,9,-999.000,9,-999.000,9,  2319.0,2,  2412.1,2,    7.583,2,    25.00, -999.00,9, -999.00,9,     2207,   35.72,2,   1.5209,2,       3829
49UP20160703,         P9,      26,          1,          1,        997,2,20160711,       2204,    24.0063,    137.016,       3947,  3990.0,   1.5185,  34.6820,2,  34.6815,2,    155.8,2,  155.75,2,  140.74,2,    0.00,2,   2.480,2,   0.002,2,   0.004,2,   0.001,2,  2319.4,2,  2411.6,2,   7.5838,2,    25.00, -999.00,9, -999.00,9,     2204,   35.71,2,   1.5186,2,       3928