BOTTLE,20230712CCHSIOENA
EXPOCODE,SECT_ID,STNNBR,CASTNO,SAMPNO,BTLNBR,BTLNBR_FLAG_W,DATE,TIME,LATITUDE,LONGITUDE,DEPTH,CTDPRS,CTDTMP,CTDSAL,CTDSAL_FLAG_W,SALNTY,SALNTY_FLAG_W,CTDOXY,CTDOXY_FLAG_W,OXYGEN,OXYGEN_FLAG_W,SILCAT,SILCAT_FLAG_W,NITRIT,NITRIT_FLAG_W,PHSPHT,PHSPHT_FLAG_W,CFC-11,CFC-11_FLAG_W,CFC-12,CFC-12_FLAG_W,CFC113,CFC113_FLAG_W,TCARBN,TCARBN_FLAG_W,ALKALI,ALKALI_FLAG_W,PH_TOT,PH_TOT_FLAG_W,PH_TMP,CHLORA,CHLORA_FLAG_W,PPHYTN,PPHYTN_FLAG_W,BTL_TIME,NO2+NO3,NO2+NO3_FLAG_W,SBE35,SBE35_FLAG_W,CTDDEPTH
,,,,,,,,,,,METERS,DBAR,ITS-90,PSS-78,,PSS-78,,UMOL/KG,,UMOL/KG,,UMOL/KG,,UMOL/KG,,UMOL/KG,,PMOL/KG,,PMOL/KG,,PMOL/KG,,UMOL/KG,,UMOL/KG,,,,DEG C,UG/KG,,UG/KG,,,UMOL/KG,,ITS-90,,METERS
49UP20160703,         P9,       9,          1,          0,        BUC,2,20160706,       1008,    31.6448,   136.9972,       4196,     0.0,  28.2887,  34.3477,2,-999.0000,9,    202.7,2,  201.67,2,    1.73,2,    0.00,2,   0.010,2,-999.000,9,-999.000,9,-999.000,9,  -999.0,9,  -999.0,9,-999.0000,9,  -999.00, -999.00,9, -999.00,9,     1140,    0.00,2,-999.0000,9,          0
49UP20160703,         P9,       9,          1,         36,        109,2,20160706,       1008,    31.6448,   136.9972,       4196,     9.7,  27.8010,  34.3421,2,  34.3358,2,    202.8,2,  202.58,2,    1.71,2,    0.00,2,   0.010,2,-999.000,9,-999.000,9,-999.000,9,  -999.0,9,  -999.0,9,-999.0000,9,  -999.00, -999.00,9, -999.00,9,     1209,    0.00,2,  27.7998,2,         10
49UP20160703,         P9,       9,          1,         35,        112,2,20160706,       1008,    31.6448,   136.9972,       4196,    24.5,  26.8628,  34.5020,2,  34.5244,4,    205.9,2,  207.24,2,    1.33,2,    0.00,2,   0.010,2,-999.000,9,-999.000,9,-999.000,9,  -999.0,9,  -999.0,9,-999.0000,9,  -999.00, -999.00,9, -999.00,9,     1208,    0.00,2,  26.8707,2,         24
49UP20160703,         P9,       9,          1,         34,        094,2,20160706,       1008,    31.6448,   136.9972,       4196,    50.5,  21.7760,  34.8630,2,  34.8690,6,    226.4,2,  224.62,6,    1.60,6,    0.02,6,   0.030,6,-999.000,9,-999.000,9,-999.000,9,  -999.0,9,  -999.0,9,-999.0000,9,  -999.00, -999.00,9, -999.00,9,     1205,    0.07,6,  21.7763,2,         50
49UP20160703,         P9,       9,          1,         33,        469,2,20160706,       1008,    31.6448,   136.9972,       4196,    75.4,  20.6476,  34.8895,2,  34.8882,2,    207.1,2,  206.58,2,    2.22,2,    0.08,2,   0.120,3,-999.000,9,-999.000,9,-999.000,9,  -999.0,9,  -999.0,9,-999.0000,9,  -999.00, -999.00,9, -999.00,9,     1203,    1.35,2,  20.6513,2,         75
49UP20160703,         P9,       9,          1,         32,        089,2,20160706,       1008,    31.6448,   136.9972,       4196,    75.5,  20.6471,  34.8895,2,  34.8867,2,    206.8,2,  204.83,2,    2.31,2,    0.07,2,   0.130,2,-999.000,9,-999.000,9,-999.000,9,  -999.0,9,  -999.0,9,-999.0000,9,  -999.00, -999.00,9, -999.00,9,     1203,    1.58,2,  20.6526,2,         75
49UP20160703,         P9,       9,          1,         31,        515,2,20160706,       1008,    31.6448,   136.9972,       4196,   100.6,  19.9018,  34.8832,2,  34.8831,2,    229.6,2,  229.42,2,    1.63,2,    0.00,2,   0.030,2,-999.000,9,-999.000,9,-999.000,9,  -999.0,9,  -999.0,9,-999.0000,9,  -999.00, -999.00,9, -999.00,9,     1202,    0.00,2,  19.9043,2,        100
49UP20160703,         P9,       9,          1,         30,        097,2,20160706,       1008,    31.6448,   136.9972,       4196,   125.0,  19.5466,  34.8903,2,  34.8902,2,    217.3,2,  217.21,2,    1.81,2,    0.05,2,   0.090,2,-999.000,9,-999.000,9,-999.000,9,  -999.0,9,  -999.0,9,-999.0000,9,  -999.00, -999.00,9, -999.00,9,     1200,    1.04,2,  19.5461,2,        124
49UP20160703,         P9,       9,          1,         29,        102,2,20160706,       1008,    31.6448,   136.9972,       4196,   150.8,  19.4019,  34.8904,2,  34.8902,2,    214.9,2,  214.97,2,    1.93,2,    0.02,2,   0.120,2,-999.000,9,-999.000,9,-999.000,9,  -999.0,9,  -999.0,9,-999.0000,9,  -999.00, -999.00,9, -999.00,9,     1159,    1.50,2,  19.4009,2,        150
49UP20160703,         P9,       9,          1,         28,        472,2,20160706,       1008,    31.6448,   136.9972,       4196,   200.6,  18.9808,  34.8596,2,  34.8604,2,    212.7,2,  213.19,2,    2.37,2,    0.01,2,   0.150,2,-999.000,9,-999.000,9,-999.000,9,  -999.0,9,  -999.0,9,-999.0000,9,  -999.00, -999.00,9, -999.00,9,     1157,    2.09,2,  18.9808,2,        199
49UP20160703,         P9,       9,          1,         27,        998,2,20160706,       1008,    31.6448,   136.9972,       4196,   251.8,  18.4621,  34.8308,2,  34.8304,2,    214.3,2,  214.45,2,    2.69,2,    0.01,2,   0.180,2,-999.000,9,-999.000,9,-999.000,9,  -999.0,9,  -999.0,9,-999.0000,9,  -999.00, -999.00,9, -999.00,9,     1155,    2.49,2,  18.4612,2,        250
49UP20160703,         P9,       9,          1,         26,        084,2,20160706,       1008,    31.6448,   136.9972,       4196,   282.1,  18.2192,  34.8128,2,  34.8118,6,    212.0,2,  212.01,2,    3.01,2,    0.01,2,   0.200,2,-999.000,9,-999.000,9,-999.000,9,  -999.0,9,  -999.0,9,-999.0000,9,  -999.00, -999.00,9, -999.00,9,     1153,    2.98,2,  18.2187,2,        280
49UP20160703,         P9,       9,          1,         25,        098,2,20160706,       1008,    31.6448,   136.9972,       4196,   373.3,  16.9020,  34.7139,2,  34.7136,2,    203.8,2,  204.00,6,    4.79,6,    0.00,6,   0.360,6,-999.000,9,-999.000,9,-999.000,9,  -999.0,9,  -999.0,9,-999.0000,9,  -999.00, -999.00,9, -999.00,9,     1150,    5.48,6,  16.9044,2,        370
49UP20160703,         P9,       9,          1,         24,        110,2,20160706,       1008,    31.6448,   136.9972,       4196,   473.8,  15.3472,  34.5860,2,  34.5863,2,    191.3,2,  191.45,2,    9.39,2,    0.00,2,   0.620,2,-999.000,9,-999.000,9,-999.000,9,  -999.0,9,  -999.0,9,-999.0000,9,  -999.00, -999.00,9, -999.00,9,     1147,    9.09,2,  15.3461,2,        470
49UP20160703,         P9,       9,          1,         23,        679,2,20160706,       1008,    31.6448,   136.9972,       4196,   574.4,  13.0481,  34.4273,2,  34.4310,2,    177.5,2,  177.90,2,   17.80,2,    0.00,2,   0.970,2,-999.000,9,-999.000,9,-999.000,9,  -999.0,9,  -999.0,9,-999.0000,9,  -999.00, -999.00,9, -999.00,9,     1144,   13.97,2,  13.0448,2,        570
49UP20160703,         P9,       9,          1,         22,        111,2,20160706,       1008,    31.6448,   136.9972,       4196,   676.5,  10.7649,  34.2875,2,  34.2883,2,    163.4,2,  163.73,2,   29.02,2,    0.00,2,   1.360,2,-999.000,9,-999.000,9,-999.000,9,  -999.0,9,  -999.0,9,-999.0000,9,  -999.00, -999.00,9, -999.00,9,     1141,   19.18,2,  10.7697,2,        671
49UP20160703,         P9,       9,          1,         21,        078,2,20160706,       1008,    31.6448,   136.9972,       4196,   776.6,   8.3117,  34.1893,2,  34.1901,2,    136.1,2,  136.15,2,   47.44,2,    0.00,2,   1.860,2,-999.000,9,-999.000,9,-999.000,9,  -999.0,9,  -999.0,9,-999.0000,9,  -999.00, -999.00,9, -999.00,9,     1137,   25.91,2,   8.3131,2,        770
49UP20160703,         P9,       9,          1,         20,        093,2,20160706,       1008,    31.6448,   136.9972,       4196,   877.3,   6.8068,  34.1777,2,  34.1777,6,    113.2,2,  113.58,2,   65.09,2,    0.00,2,   2.200,2,-999.000,9,-999.000,9,-999.000,9,  -999.0,9,  -999.0,9,-999.0000,9,  -999.00, -999.00,9, -999.00,9,     1134,   30.58,2,   6.8096,2,        869
49UP20160703,         P9,       9,          1,         19,        269,2,20160706,       1008,    31.6448,   136.9972,       4196,   979.8,   5.3974,  34.2337,2,  34.2335,2,     83.2,2,   83.33,6,   87.33,6,    0.00,6,   2.570,6,-999.000,9,-999.000,9,-999.000,9,  -999.0,9,  -999.0,9,-999.0000,9,  -999.00, -999.00,9, -999.00,9,     1131,   35.64,6,   5.3977,2,        971
49UP20160703,         P9,       9,          1,         17,        090,2,20160706,       1008,    31.6448,   136.9972,       4196,  1142.2,   4.0198,  34.3489,2,  34.3480,2,     62.1,2,   62.21,2,  113.84,2,    0.00,2,   2.830,2,-999.000,9,-999.000,9,-999.000,9,  -999.0,9,  -999.0,9,-999.0000,9,  -999.00, -999.00,9, -999.00,9,     1124,   39.57,2,   4.0206,2,       1131
49UP20160703,         P9,       9,          1,         18,        088,2,20160706,       1008,    31.6448,   136.9972,       4196,  1143.2,   4.0176,  34.3492,2,  34.3482,2,     62.0,2,   62.81,2,  113.98,2,    0.00,2,   2.830,2,-999.000,9,-999.000,9,-999.000,9,  -999.0,9,  -999.0,9,-999.0000,9,  -999.00, -999.00,9, -999.00,9,     1124,   39.49,2,   4.0182,2,       1132
49UP20160703,         P9,       9,          1,         16,        474,2,20160706,       1008,    31.6448,   136.9972,       4196,  1344.2,   3.2585,  34.4317,2,  34.4309,2,     61.0,2,   60.93,2,  129.66,2,    0.00,2,   2.900,2,-999.000,9,-999.000,9,-999.000,9,  -999.0,9,  -999.0,9,-999.0000,9,  -999.00, -999.00,9, -999.00,9,     1119,   40.59,2,   3.2595,2,       1331
49UP20160703,         P9,       9,          1,         15,        665,2,20160706,       1008,    31.6448,   136.9972,       4196,  1547.8,   2.7919,  34.4907,2,  34.4897,2,     68.8,2,   68.61,2,  138.08,2,    0.00,2,   2.890,2,-999.000,9,-999.000,9,-999.000,9,  -999.0,9,  -999.0,9,-999.0000,9,  -999.00, -999.00,9, -999.00,9,     1114,   40.56,2,   2.7936,2,       1531
49UP20160703,         P9,       9,          1,         14,        999,2,20160706,       1008,    31.6448,   136.9972,       4196,  1749.5,   2.5068,  34.5282,2,  34.5277,2,     77.2,2,   77.30,2,  142.96,2,    0.00,2,   2.860,2,-999.000,9,-999.000,9,-999.000,9,  -999.0,9,  -999.0,9,-999.0000,9,  -999.00, -999.00,9, -999.00,9,     1108,   40.27,2,   2.5070,2,       1730
49UP20160703,         P9,       9,          1,         13,        667,2,20160706,       1008,    31.6448,   136.9972,       4196,  1953.1,   2.2370,  34.5673,2,  34.5669,2,     90.7,2,   90.66,2,  145.33,2,    0.00,2,   2.800,2,-999.000,9,-999.000,9,-999.000,9,  -999.0,9,  -999.0,9,-999.0000,9,  -999.00, -999.00,9, -999.00,9,     1103,   39.55,2,   2.2372,2,       1931
49UP20160703,         P9,       9,          1,         12,        074,2,20160706,       1008,    31.6448,   136.9972,       4196,  2154.9,   2.0465,  34.5960,2,  34.5963,2,    103.0,2,  103.15,2,  145.84,2,    0.00,2,   2.750,2,-999.000,9,-999.000,9,-999.000,9,  -999.0,9,  -999.0,9,-999.0000,9,  -999.00, -999.00,9, -999.00,9,     1056,   38.88,2,   2.0464,2,       2129
49UP20160703,         P9,       9,          1,         11,        268,2,20160706,       1008,    31.6448,   136.9972,       4196,  2357.5,   1.8998,  34.6183,2,  34.6177,2,    114.3,2,  114.01,2,  145.47,2,    0.00,2,   2.690,2,-999.000,9,-999.000,9,-999.000,9,  -999.0,9,  -999.0,9,-999.0000,9,  -999.00, -999.00,9, -999.00,9,     1051,   38.21,2,   1.8999,2,       2328
49UP20160703,         P9,       9,          1,         10,        267,2,20160706,       1008,    31.6448,   136.9972,       4196,  2562.9,   1.7897,  34.6349,2,  34.6348,2,    123.7,2,  123.64,2,  144.79,2,    0.00,2,   2.650,2,-999.000,9,-999.000,9,-999.000,9,  -999.0,9,  -999.0,9,-999.0000,9,  -999.00, -999.00,9, -999.00,9,     1046,   37.66,2,   1.7896,2,       2530
49UP20160703,         P9,       9,          1,          9,        518,2,20160706,       1008,    31.6448,   136.9972,       4196,  2767.7,   1.6885,  34.6499,2,  34.6497,6,    132.6,2,  132.54,2,  143.98,2,    0.00,2,   2.600,2,-999.000,9,-999.000,9,-999.000,9,  -999.0,9,  -999.0,9,-999.0000,9,  -999.00, -999.00,9, -999.00,9,     1041,   37.12,2,   1.6884,2,       2731
49UP20160703,         P9,       9,          1,          8,        470,2,20160706,       1008,    31.6448,   136.9972,       4196,  2970.6,   1.6285,  34.6592,2,  34.6585,2,    138.7,2,  138.71,6,  143.28,6,    0.00,6,   2.580,6,-999.000,9,-999.000,9,-999.000,9,  -999.0,9,  -999.0,9,-999.0000,9,  -999.00, -999.00,9, -999.00,9,     1037,   36.75,6,   1.6281,2,       2929
49UP20160703,         P9,       9,          1,          7,        516,2,20160706,       1008,    31.6448,   136.9972,       4196,  3215.6,   1.5598,  34.6696,2,  34.6699,2,    145.6,2,  145.83,2,  142.46,2,    0.00,2,   2.540,2,-999.000,9,-999.000,9,-999.000,9,  -999.0,9,  -999.0,9,-999.0000,9,  -999.00, -999.00,9, -999.00,9,     1031,   36.36,2,   1.5597,2,       3169
49UP20160703,         P9,       9,          1,          6,        113,2,20160706,       1008,    31.6448,   136.9972,       4196,  3471.9,   1.5275,  34.6760,2,  34.6756,2,    150.0,2,  150.15,2,  141.89,2,    0.00,2,   2.520,2,-999.000,9,-999.000,9,-999.000,9,  -999.0,9,  -999.0,9,-999.0000,9,  -999.00, -999.00,9, -999.00,9,     1026,   36.02,2,   1.5275,2,       3420
49UP20160703,         P9,       9,          1,          4,        471,2,20160706,       1008,    31.6448,   136.9972,       4196,  3726.9,   1.5259,  34.6790,2,  34.6787,2,    152.2,2,  152.32,2,  141.47,2,    0.00,2,   2.510,2,-999.000,9,-999.000,9,-999.000,9,  -999.0,9,  -999.0,9,-999.0000,9,  -999.00, -999.00,9, -999.00,9,     1020,   35.92,2,   1.5258,2,       3669
49UP20160703,         P9,       9,          1,          5,        658,2,20160706,       1008,    31.6448,   136.9972,       4196,  3727.2,   1.5260,  34.6791,2,  34.6785,2,    152.3,2,  152.01,2,  141.55,2,    0.00,2,   2.510,2,-999.000,9,-999.000,9,-999.000,9,  -999.0,9,  -999.0,9,-999.0000,9,  -999.00, -999.00,9, -999.00,9,     1020,   35.89,2,   1.5261,2,       3669
49UP20160703,         P9,       9,          1,          3,        104,2,20160706,       1008,    31.6448,   136.9972,       4196,  3983.7,   1.5397,  34.6805,2,  34.6805,2,    153.5,2,  153.77,2,  141.22,2,    0.00,2,   2.500,2,-999.000,9,-999.000,9,-999.000,9,  -999.0,9,  -999.0,9,-999.0000,9,  -999.00, -999.00,9, -999.00,9,     1014,   35.82,2,   1.5395,2,       3919
49UP20160703,         P9,       9,          1,          2,        075,2,20160706,       1008,    31.6448,   136.9972,       4196,  4260.0,   1.5617,  34.6815,2,  34.6814,2,    154.4,2,  154.64,2,  141.03,2,    0.00,2,   2.500,2,-999.000,9,-999.000,9,-999.000,9,  -999.0,9,  -999.0,9,-999.0000,9,  -999.00, -999.00,9, -999.00,9,     1008,   35.76,2,   1.5616,2,       4188