BOTTLE,20230712CCHSIOENA
EXPOCODE,SECT_ID,STNNBR,CASTNO,SAMPNO,BTLNBR,BTLNBR_FLAG_W,DATE,TIME,LATITUDE,LONGITUDE,DEPTH,CTDPRS,CTDTMP,CTDSAL,CTDSAL_FLAG_W,SALNTY,SALNTY_FLAG_W,CTDOXY,CTDOXY_FLAG_W,OXYGEN,OXYGEN_FLAG_W,SILCAT,SILCAT_FLAG_W,NITRIT,NITRIT_FLAG_W,PHSPHT,PHSPHT_FLAG_W,CFC-11,CFC-11_FLAG_W,CFC-12,CFC-12_FLAG_W,CFC113,CFC113_FLAG_W,TCARBN,TCARBN_FLAG_W,ALKALI,ALKALI_FLAG_W,PH_TOT,PH_TOT_FLAG_W,PH_TMP,CHLORA,CHLORA_FLAG_W,PPHYTN,PPHYTN_FLAG_W,BTL_TIME,NO2+NO3,NO2+NO3_FLAG_W,SBE35,SBE35_FLAG_W,CTDDEPTH
,,,,,,,,,,,METERS,DBAR,ITS-90,PSS-78,,PSS-78,,UMOL/KG,,UMOL/KG,,UMOL/KG,,UMOL/KG,,UMOL/KG,,PMOL/KG,,PMOL/KG,,PMOL/KG,,UMOL/KG,,UMOL/KG,,,,DEG C,UG/KG,,UG/KG,,,UMOL/KG,,ITS-90,,METERS
49UP20160703,         P9,      35,          1,          0,        BUC,2,20160714,       1738,    19.4935,   136.9977,       3827,     0.0,  30.2805,  35.0757,2,-999.0000,9,    192.8,2,  192.80,2,    1.00,2,    0.00,2,   0.020,2,-999.000,9,-999.000,9,-999.000,9,  -999.0,9,  -999.0,9,-999.0000,9,  -999.00, -999.00,9, -999.00,9,     1855,    0.01,2,-999.0000,9,          0
49UP20160703,         P9,      35,          1,         36,        109,2,20160714,       1738,    19.4935,   136.9977,       3827,    10.4,  30.2903,  35.0737,2,  35.0720,2,    192.9,2,  193.17,2,    0.93,2,    0.00,2,   0.020,2,-999.000,9,-999.000,9,-999.000,9,  -999.0,9,  -999.0,9,-999.0000,9,  -999.00, -999.00,9, -999.00,9,     1921,    0.04,2,  30.2951,2,         10
49UP20160703,         P9,      35,          1,         35,        112,2,20160714,       1738,    19.4935,   136.9977,       3827,    25.6,  29.7389,  35.0317,2,  35.0303,2,    195.2,2,  195.71,2,    0.96,2,    0.00,2,   0.010,2,-999.000,9,-999.000,9,-999.000,9,  -999.0,9,  -999.0,9,-999.0000,9,  -999.00, -999.00,9, -999.00,9,     1920,    0.05,2,  29.7389,2,         25
49UP20160703,         P9,      35,          1,         34,        094,2,20160714,       1738,    19.4935,   136.9977,       3827,    51.2,  28.0305,  35.1552,2,  35.1559,2,    213.5,2,  213.66,2,    0.94,2,    0.00,2,   0.010,2,-999.000,9,-999.000,9,-999.000,9,  -999.0,9,  -999.0,9,-999.0000,9,  -999.00, -999.00,9, -999.00,9,     1915,    0.01,2,  28.0497,2,         51
49UP20160703,         P9,      35,          1,         33,        469,2,20160714,       1738,    19.4935,   136.9977,       3827,    75.2,  25.6451,  35.1355,2,  35.1359,2,    216.6,2,  216.59,2,    1.05,2,    0.00,2,   0.010,2,-999.000,9,-999.000,9,-999.000,9,  -999.0,9,  -999.0,9,-999.0000,9,  -999.00, -999.00,9, -999.00,9,     1914,    0.01,2,  25.6370,2,         75
49UP20160703,         P9,      35,          1,         32,        089,2,20160714,       1738,    19.4935,   136.9977,       3827,   100.5,  24.0665,  35.1034,2,  35.1309,4,    208.2,2,  205.65,2,    1.17,2,    0.00,2,   0.020,2,-999.000,9,-999.000,9,-999.000,9,  -999.0,9,  -999.0,9,-999.0000,9,  -999.00, -999.00,9, -999.00,9,     1913,    0.04,2,  24.0764,2,        100
49UP20160703,         P9,      35,          1,         31,        515,2,20160714,       1738,    19.4935,   136.9977,       3827,   124.1,  22.6039,  35.0141,2,  35.0142,2,    211.8,2,  211.55,2,    1.46,2,    0.00,2,   0.030,2,-999.000,9,-999.000,9,-999.000,9,  -999.0,9,  -999.0,9,-999.0000,9,  -999.00, -999.00,9, -999.00,9,     1911,    0.05,2,  22.6017,2,        123
49UP20160703,         P9,      35,          1,         30,        097,2,20160714,       1738,    19.4935,   136.9977,       3827,   151.4,  20.9764,  34.9606,2,  34.9581,2,    207.0,2,  207.72,2,    1.69,2,    0.13,2,   0.060,2,-999.000,9,-999.000,9,-999.000,9,  -999.0,9,  -999.0,9,-999.0000,9,  -999.00, -999.00,9, -999.00,9,     1910,    0.41,2,  20.9661,2,        150
49UP20160703,         P9,      35,          1,         29,        102,2,20160714,       1738,    19.4935,   136.9977,       3827,   201.3,  18.8181,  34.8366,2,  34.8375,2,    208.0,2,  208.75,2,    2.59,2,    0.01,2,   0.180,2,-999.000,9,-999.000,9,-999.000,9,  -999.0,9,  -999.0,9,-999.0000,9,  -999.00, -999.00,9, -999.00,9,     1908,    2.65,2,  18.8178,2,        200
49UP20160703,         P9,      35,          1,         28,        472,2,20160714,       1738,    19.4935,   136.9977,       3827,   251.3,  17.3410,  34.7427,2,  34.7425,2,    203.3,2,  203.69,2,    3.97,2,    0.00,2,   0.320,2,-999.000,9,-999.000,9,-999.000,9,  -999.0,9,  -999.0,9,-999.0000,9,  -999.00, -999.00,9, -999.00,9,     1906,    4.76,2,  17.3414,2,        250
49UP20160703,         P9,      35,          1,         27,        998,2,20160714,       1738,    19.4935,   136.9977,       3827,   332.6,  15.6040,  34.5994,2,  34.6005,2,    197.2,2,  198.09,2,    7.62,2,    0.00,2,   0.540,2,-999.000,9,-999.000,9,-999.000,9,  -999.0,9,  -999.0,9,-999.0000,9,  -999.00, -999.00,9, -999.00,9,     1903,    8.02,2,  15.6097,2,        330
49UP20160703,         P9,      35,          1,         26,        084,2,20160714,       1738,    19.4935,   136.9977,       3827,   382.5,  13.4018,  34.4219,2,  34.4164,6,    187.1,2,  187.64,2,   13.37,2,    0.00,2,   0.850,2,-999.000,9,-999.000,9,-999.000,9,  -999.0,9,  -999.0,9,-999.0000,9,  -999.00, -999.00,9, -999.00,9,     1902,   12.30,2,  13.4046,2,        380
49UP20160703,         P9,      35,          1,         25,        098,2,20160714,       1738,    19.4935,   136.9977,       3827,   432.8,  11.5273,  34.2978,2,  34.2987,2,    162.5,2,  160.89,6,   20.85,6,    0.00,6,   1.270,6,-999.000,9,-999.000,9,-999.000,9,  -999.0,9,  -999.0,9,-999.0000,9,  -999.00, -999.00,9, -999.00,9,     1900,   17.68,6,  11.5292,2,        430
49UP20160703,         P9,      35,          1,         24,        110,2,20160714,       1738,    19.4935,   136.9977,       3827,   483.7,  10.0897,  34.2255,2,  34.2259,2,    145.1,2,  145.06,2,   28.15,2,    0.00,2,   1.570,2,-999.000,9,-999.000,9,-999.000,9,  -999.0,9,  -999.0,9,-999.0000,9,  -999.00, -999.00,9, -999.00,9,     1858,   21.65,2,  10.0847,2,        480
49UP20160703,         P9,      35,          1,         22,        111,2,20160714,       1738,    19.4935,   136.9977,       3827,   534.1,   8.8149,  34.1705,2,  34.1687,2,    132.6,2,  133.34,2,   37.75,2,    0.00,2,   1.820,2,-999.000,9,-999.000,9,-999.000,9,  -999.0,9,  -999.0,9,-999.0000,9,  -999.00, -999.00,9, -999.00,9,     1856,   25.25,2,   8.8261,2,        530
49UP20160703,         P9,      35,          1,         23,        679,2,20160714,       1738,    19.4935,   136.9977,       3827,   534.6,   8.7844,  34.1695,2,  34.1704,2,    132.8,2,  134.18,2,   37.41,2,    0.00,2,   1.810,2,-999.000,9,-999.000,9,-999.000,9,  -999.0,9,  -999.0,9,-999.0000,9,  -999.00, -999.00,9, -999.00,9,     1856,   25.08,2,   8.7885,2,        531
49UP20160703,         P9,      35,          1,         21,        078,2,20160714,       1738,    19.4935,   136.9977,       3827,   634.6,   6.7676,  34.1733,2,  34.1750,2,     91.8,2,   92.13,2,   60.20,2,    0.00,2,   2.370,2,-999.000,9,-999.000,9,-999.000,9,  -999.0,9,  -999.0,9,-999.0000,9,  -999.00, -999.00,9, -999.00,9,     1853,   32.82,2,   6.7673,2,        630
49UP20160703,         P9,      35,          1,         20,        093,2,20160714,       1738,    19.4935,   136.9977,       3827,   735.8,   5.4176,  34.2367,2,  34.2383,2,     68.6,2,   69.16,2,   82.38,2,    0.00,2,   2.680,2,-999.000,9,-999.000,9,-999.000,9,  -999.0,9,  -999.0,9,-999.0000,9,  -999.00, -999.00,9, -999.00,9,     1850,   37.27,2,   5.4179,2,        730
49UP20160703,         P9,      35,          1,         19,        269,2,20160714,       1738,    19.4935,   136.9977,       3827,   837.1,   4.6566,  34.3350,2,  34.3383,4,     58.8,2,   59.89,2,   97.50,2,    0.00,2,   2.830,2,-999.000,9,-999.000,9,-999.000,9,  -999.0,9,  -999.0,9,-999.0000,9,  -999.00, -999.00,9, -999.00,9,     1848,   39.34,2,   4.6569,2,        830
49UP20160703,         P9,      35,          1,         18,        088,2,20160714,       1738,    19.4935,   136.9977,       3827,   937.5,   4.0671,  34.4115,2,  34.4143,4,     62.0,2,   62.18,6,  110.25,6,    0.00,6,   2.870,6,-999.000,9,-999.000,9,-999.000,9,  -999.0,9,  -999.0,9,-999.0000,9,  -999.00, -999.00,9, -999.00,9,     1845,   39.99,6,   4.0616,2,        930
49UP20160703,         P9,      35,          1,         17,        090,2,20160714,       1738,    19.4935,   136.9977,       3827,  1080.3,   3.4485,  34.4752,2,  34.4743,2,     68.6,2,   68.78,2,  121.97,2,    0.00,2,   2.870,2,-999.000,9,-999.000,9,-999.000,9,  -999.0,9,  -999.0,9,-999.0000,9,  -999.00, -999.00,9, -999.00,9,     1842,   40.18,2,   3.4491,2,       1071
49UP20160703,         P9,      35,          1,         16,        474,2,20160714,       1738,    19.4935,   136.9977,       3827,  1282.2,   2.9389,  34.5294,2,  34.5306,2,     81.3,2,   81.95,2,  131.24,2,    0.00,2,   2.830,2,-999.000,9,-999.000,9,-999.000,9,  -999.0,9,  -999.0,9,-999.0000,9,  -999.00, -999.00,9, -999.00,9,     1837,   39.65,2,   2.9391,2,       1270
49UP20160703,         P9,      35,          1,         15,        665,2,20160714,       1738,    19.4935,   136.9977,       3827,  1484.9,   2.5935,  34.5762,2,  34.5767,2,     97.7,2,   97.66,2,  135.13,2,    0.00,2,   2.750,2,-999.000,9,-999.000,9,-999.000,9,  -999.0,9,  -999.0,9,-999.0000,9,  -999.00, -999.00,9, -999.00,9,     1833,   38.78,2,   2.5925,2,       1471
49UP20160703,         P9,      35,          1,         14,        999,2,20160714,       1738,    19.4935,   136.9977,       3827,  1687.6,   2.3455,  34.6001,2,  34.6007,2,    105.7,2,  105.69,2,  138.27,2,    0.00,2,   2.730,2,-999.000,9,-999.000,9,-999.000,9,  -999.0,9,  -999.0,9,-999.0000,9,  -999.00, -999.00,9, -999.00,9,     1828,   38.59,2,   2.3460,2,       1671
49UP20160703,         P9,      35,          1,         12,        074,2,20160714,       1738,    19.4935,   136.9977,       3827,  1890.2,   2.1347,  34.6171,2,  34.6173,2,    111.9,2,  111.39,2,  140.83,2,    0.00,2,   2.700,2,-999.000,9,-999.000,9,-999.000,9,  -999.0,9,  -999.0,9,-999.0000,9,  -999.00, -999.00,9, -999.00,9,     1823,   38.37,2,   2.1348,2,       1870
49UP20160703,         P9,      35,          1,         13,        667,2,20160714,       1738,    19.4935,   136.9977,       3827,  1891.0,   2.1345,  34.6171,2,  34.6173,2,    111.9,2,  111.81,2,  140.74,2,    0.00,2,   2.700,2,-999.000,9,-999.000,9,-999.000,9,  -999.0,9,  -999.0,9,-999.0000,9,  -999.00, -999.00,9, -999.00,9,     1823,   38.34,2,   2.1346,2,       1871
49UP20160703,         P9,      35,          1,         11,        268,2,20160714,       1738,    19.4935,   136.9977,       3827,  2094.1,   1.9815,  34.6292,2,  34.6293,2,    117.6,2,  117.34,2,  142.48,2,    0.00,2,   2.670,2,-999.000,9,-999.000,9,-999.000,9,  -999.0,9,  -999.0,9,-999.0000,9,  -999.00, -999.00,9, -999.00,9,     1819,   38.07,2,   1.9815,2,       2071
49UP20160703,         P9,      35,          1,         10,        267,2,20160714,       1738,    19.4935,   136.9977,       3827,  2296.6,   1.8442,  34.6421,2,  34.6426,6,    124.1,2,  123.60,2,  143.86,2,    0.00,2,   2.640,2,-999.000,9,-999.000,9,-999.000,9,  -999.0,9,  -999.0,9,-999.0000,9,  -999.00, -999.00,9, -999.00,9,     1814,   37.76,2,   1.8442,2,       2270
49UP20160703,         P9,      35,          1,          9,        518,2,20160714,       1738,    19.4935,   136.9977,       3827,  2500.4,   1.7688,  34.6500,2,  34.6491,2,    128.6,2,  128.22,6,  144.22,6,    0.00,6,   2.620,6,-999.000,9,-999.000,9,-999.000,9,  -999.0,9,  -999.0,9,-999.0000,9,  -999.00, -999.00,9, -999.00,9,     1810,   37.47,6,   1.7688,2,       2470
49UP20160703,         P9,      35,          1,          8,        470,2,20160714,       1738,    19.4935,   136.9977,       3827,  2704.3,   1.7058,  34.6563,2,  34.6558,2,    133.4,2,  133.24,2,  144.08,2,    0.00,2,   2.590,2,-999.000,9,-999.000,9,-999.000,9,  -999.0,9,  -999.0,9,-999.0000,9,  -999.00, -999.00,9, -999.00,9,     1805,   37.17,2,   1.7057,2,       2671
49UP20160703,         P9,      35,          1,          7,        516,2,20160714,       1738,    19.4935,   136.9977,       3827,  2908.3,   1.6526,  34.6622,2,  34.6621,2,    138.0,2,  137.59,2,  143.81,2,    0.00,2,   2.570,2,-999.000,9,-999.000,9,-999.000,9,  -999.0,9,  -999.0,9,-999.0000,9,  -999.00, -999.00,9, -999.00,9,     1801,   36.89,2,   1.6527,2,       2871
49UP20160703,         P9,      35,          1,          6,        113,2,20160714,       1738,    19.4935,   136.9977,       3827,  3122.4,   1.6111,  34.6670,2,  34.6670,6,    142.4,2,  142.19,2,  142.90,2,    0.00,2,   2.540,2,-999.000,9,-999.000,9,-999.000,9,  -999.0,9,  -999.0,9,-999.0000,9,  -999.00, -999.00,9, -999.00,9,     1756,   36.56,2,   1.6112,2,       3081
49UP20160703,         P9,      35,          1,          5,        658,2,20160714,       1738,    19.4935,   136.9977,       3827,  3377.8,   1.5608,  34.6732,2,  34.6734,2,    147.7,2,  147.30,6,  142.26,6,    0.00,6,   2.520,6,-999.000,9,-999.000,9,-999.000,9,  -999.0,9,  -999.0,9,-999.0000,9,  -999.00, -999.00,9, -999.00,9,     1751,   36.26,6,   1.5610,2,       3331
49UP20160703,         P9,      35,          1,          4,        471,2,20160714,       1738,    19.4935,   136.9977,       3827,  3633.6,   1.5508,  34.6764,2,  34.6755,2,    150.2,2,  150.00,2,  142.09,2,    0.00,2,   2.510,2,-999.000,9,-999.000,9,-999.000,9,  -999.0,9,  -999.0,9,-999.0000,9,  -999.00, -999.00,9, -999.00,9,     1746,   36.08,2,   1.5508,2,       3581
49UP20160703,         P9,      35,          1,          3,        104,2,20160714,       1738,    19.4935,   136.9977,       3827,  3888.1,   1.5147,  34.6813,2,  34.6814,2,    155.3,2,  154.95,2,  140.82,2,    0.00,2,   2.480,2,-999.000,9,-999.000,9,-999.000,9,  -999.0,9,  -999.0,9,-999.0000,9,  -999.00, -999.00,9, -999.00,9,     1741,   35.76,2,   1.5143,2,       3829
49UP20160703,         P9,      35,          1,          1,        997,2,20160714,       1738,    19.4935,   136.9977,       3827,  3977.0,   1.5143,  34.6820,2,  34.6818,2,    156.2,2,  155.99,2,  140.57,2,    0.00,2,   2.480,2,-999.000,9,-999.000,9,-999.000,9,  -999.0,9,  -999.0,9,-999.0000,9,  -999.00, -999.00,9, -999.00,9,     1738,   35.69,2,   1.5143,2,       3916
49UP20160703,         P9,      35,          1,          2,        075,2,20160714,       1738,    19.4935,   136.9977,       3827,  3977.5,   1.5144,  34.6821,2,  34.6823,2,    156.2,2,  155.86,2,  140.50,2,    0.00,2,   2.480,2,-999.000,9,-999.000,9,-999.000,9,  -999.0,9,  -999.0,9,-999.0000,9,  -999.00, -999.00,9, -999.00,9,     1738,   35.67,2,   1.5143,2,       3917