BOTTLE,20230712CCHSIOENA
EXPOCODE,SECT_ID,STNNBR,CASTNO,SAMPNO,BTLNBR,BTLNBR_FLAG_W,DATE,TIME,LATITUDE,LONGITUDE,DEPTH,CTDPRS,CTDTMP,CTDSAL,CTDSAL_FLAG_W,SALNTY,SALNTY_FLAG_W,CTDOXY,CTDOXY_FLAG_W,OXYGEN,OXYGEN_FLAG_W,SILCAT,SILCAT_FLAG_W,NITRIT,NITRIT_FLAG_W,PHSPHT,PHSPHT_FLAG_W,CFC-11,CFC-11_FLAG_W,CFC-12,CFC-12_FLAG_W,CFC113,CFC113_FLAG_W,TCARBN,TCARBN_FLAG_W,ALKALI,ALKALI_FLAG_W,PH_TOT,PH_TOT_FLAG_W,PH_TMP,CHLORA,CHLORA_FLAG_W,PPHYTN,PPHYTN_FLAG_W,BTL_TIME,NO2+NO3,NO2+NO3_FLAG_W,SBE35,SBE35_FLAG_W,CTDDEPTH
,,,,,,,,,,,METERS,DBAR,ITS-90,PSS-78,,PSS-78,,UMOL/KG,,UMOL/KG,,UMOL/KG,,UMOL/KG,,UMOL/KG,,PMOL/KG,,PMOL/KG,,PMOL/KG,,UMOL/KG,,UMOL/KG,,,,DEG C,UG/KG,,UG/KG,,,UMOL/KG,,ITS-90,,METERS
49UP20160703,         P9,      77,          1,          0,        BUC,2,20160806,       0835,      2.455,   139.6445,       4358,     0.0,  29.8634,  33.8441,2,-999.0000,9,    195.4,2,  195.51,2,    0.95,2,    0.00,2,   0.090,2,-999.000,9,-999.000,9,-999.000,9,  -999.0,9,  -999.0,9,-999.0000,9,  -999.00, -999.00,9, -999.00,9,     1010,    0.03,2,-999.0000,9,          0
49UP20160703,         P9,      77,          1,         36,        109,2,20160806,       0835,      2.455,   139.6445,       4358,    10.5,  29.8773,  33.8450,2,  33.8441,2,    195.3,2,  195.16,2,    0.96,2,    0.00,2,   0.090,2,-999.000,9,-999.000,9,-999.000,9,  -999.0,9,  -999.0,9,-999.0000,9,  -999.00, -999.00,9, -999.00,9,     1036,    0.03,2,  29.8759,2,         10
49UP20160703,         P9,      77,          1,         35,        112,2,20160806,       0835,      2.455,   139.6445,       4358,    25.4,  29.8695,  33.8448,2,  33.8441,2,    195.3,2,  195.23,2,    0.96,2,    0.00,2,   0.090,2,-999.000,9,-999.000,9,-999.000,9,  -999.0,9,  -999.0,9,-999.0000,9,  -999.00, -999.00,9, -999.00,9,     1035,    0.04,2,  29.8689,2,         25
49UP20160703,         P9,      77,          1,         34,        094,2,20160806,       0835,      2.455,   139.6445,       4358,    50.6,  29.9108,  33.8996,2,  33.9381,4,    195.8,2,  196.22,6,    0.94,6,    0.00,6,   0.100,6,-999.000,9,-999.000,9,-999.000,9,  -999.0,9,  -999.0,9,-999.0000,9,  -999.00, -999.00,9, -999.00,9,     1033,    0.05,6,  29.9101,2,         50
49UP20160703,         P9,      77,          1,         33,        469,2,20160806,       0835,      2.455,   139.6445,       4358,    76.3,  29.3438,  34.6129,2,  34.6240,4,    197.6,2,  196.92,2,    1.15,2,    0.00,2,   0.110,2,-999.000,9,-999.000,9,-999.000,9,  -999.0,9,  -999.0,9,-999.0000,9,  -999.00, -999.00,9, -999.00,9,     1032,    0.04,2,  29.3444,2,         76
49UP20160703,         P9,      77,          1,         32,        089,2,20160806,       0835,      2.455,   139.6445,       4358,   103.7,  27.4351,  34.6871,2,  34.6798,2,    183.6,2,  185.50,2,    1.83,2,    0.20,2,   0.170,2,-999.000,9,-999.000,9,-999.000,9,  -999.0,9,  -999.0,9,-999.0000,9,  -999.00, -999.00,9, -999.00,9,     1030,    0.59,2,  27.4359,2,        103
49UP20160703,         P9,      77,          1,         31,        515,2,20160806,       0835,      2.455,   139.6445,       4358,   127.3,  25.2683,  34.7985,2,  34.7813,4,    169.0,2,  170.75,2,    3.15,2,    0.07,2,   0.320,2,-999.000,9,-999.000,9,-999.000,9,  -999.0,9,  -999.0,9,-999.0000,9,  -999.00, -999.00,9, -999.00,9,     1029,    3.21,2,  25.2314,2,        127
49UP20160703,         P9,      77,          1,         30,        097,2,20160806,       0835,      2.455,   139.6445,       4358,   151.9,  21.4449,  34.8985,2,  34.8641,4,    163.9,2,  162.68,2,    5.61,2,    0.02,2,   0.530,2,-999.000,9,-999.000,9,-999.000,9,  -999.0,9,  -999.0,9,-999.0000,9,  -999.00, -999.00,9, -999.00,9,     1027,    6.00,2,  21.4959,2,        151
49UP20160703,         P9,      77,          1,         29,        102,2,20160806,       0835,      2.455,   139.6445,       4358,   203.4,  12.5527,  34.5197,2,  34.5269,2,    124.3,2,  124.59,2,   22.59,2,    0.00,2,   1.470,2,-999.000,9,-999.000,9,-999.000,9,  -999.0,9,  -999.0,9,-999.0000,9,  -999.00, -999.00,9, -999.00,9,     1026,   20.25,2,  12.5526,2,        202
49UP20160703,         P9,      77,          1,         28,        472,3,20160806,       0835,      2.455,   139.6445,       4358,   254.8,  10.2106,  34.6042,2,  34.6048,2,    117.6,2,  117.90,2,   30.82,2,    0.00,2,   1.840,2,-999.000,9,-999.000,9,-999.000,9,  -999.0,9,  -999.0,9,-999.0000,9,  -999.00, -999.00,9, -999.00,9,     1024,   25.86,2,  10.2111,2,        253
49UP20160703,         P9,      77,          1,         27,        998,2,20160806,       0835,      2.455,   139.6445,       4358,   283.1,  10.1176,  34.7170,2,  34.7191,2,    121.3,2,  122.27,6,   22.92,6,    0.00,6,   1.820,6,-999.000,9,-999.000,9,-999.000,9,  -999.0,9,  -999.0,9,-999.0000,9,  -999.00, -999.00,9, -999.00,9,     1023,   25.93,6,  10.1164,2,        281
49UP20160703,         P9,      77,          1,         26,        084,2,20160806,       0835,      2.455,   139.6445,       4358,   322.3,   9.3512,  34.6689,2,  34.6671,6,    103.5,2,  104.43,2,   27.66,2,    0.00,2,   2.040,2,-999.000,9,-999.000,9,-999.000,9,  -999.0,9,  -999.0,9,-999.0000,9,  -999.00, -999.00,9, -999.00,9,     1022,   29.26,2,   9.3581,2,        320
49UP20160703,         P9,      77,          1,         25,        098,2,20160806,       0835,      2.455,   139.6445,       4358,   373.1,   9.1347,  34.6533,2,  34.6533,2,    105.5,2,  105.50,2,   28.42,2,    0.00,2,   2.060,2,-999.000,9,-999.000,9,-999.000,9,  -999.0,9,  -999.0,9,-999.0000,9,  -999.00, -999.00,9, -999.00,9,     1020,   29.49,2,   9.1345,2,        371
49UP20160703,         P9,      77,          1,         24,        110,2,20160806,       0835,      2.455,   139.6445,       4358,   423.4,   8.9372,  34.6370,2,  34.6372,2,    108.4,2,  108.30,2,   29.53,2,    0.00,2,   2.060,2,-999.000,9,-999.000,9,-999.000,9,  -999.0,9,  -999.0,9,-999.0000,9,  -999.00, -999.00,9, -999.00,9,     1018,   29.55,2,   8.9368,2,        421
49UP20160703,         P9,      77,          1,         23,        679,2,20160806,       0835,      2.455,   139.6445,       4358,   474.4,   8.5815,  34.6172,2,  34.6185,2,    111.7,2,  111.42,2,   30.53,2,    0.00,2,   2.090,2,-999.000,9,-999.000,9,-999.000,9,  -999.0,9,  -999.0,9,-999.0000,9,  -999.00, -999.00,9, -999.00,9,     1016,   29.99,2,   8.5856,2,        471
49UP20160703,         P9,      77,          1,         22,        111,2,20160806,       0835,      2.455,   139.6445,       4358,   575.5,   7.1704,  34.5493,2,  34.5491,2,    115.6,2,  115.67,2,   40.69,2,    0.00,2,   2.260,2,-999.000,9,-999.000,9,-999.000,9,  -999.0,9,  -999.0,9,-999.0000,9,  -999.00, -999.00,9, -999.00,9,     1013,   32.19,2,   7.1710,2,        572
49UP20160703,         P9,      77,          1,         21,        078,2,20160806,       0835,      2.455,   139.6445,       4358,   676.9,   6.3718,  34.5338,2,  34.5343,2,    115.5,2,  124.94,4,   48.96,2,    0.00,2,   2.370,2,-999.000,9,-999.000,9,-999.000,9,  -999.0,9,  -999.0,9,-999.0000,9,  -999.00, -999.00,9, -999.00,9,     1010,   33.61,2,   6.3795,2,        672
49UP20160703,         P9,      77,          1,         20,        093,2,20160806,       0835,      2.455,   139.6445,       4358,   777.9,   5.4611,  34.5359,2,  34.5355,2,     94.4,2,   94.54,2,   66.50,2,    0.00,2,   2.620,2,-999.000,9,-999.000,9,-999.000,9,  -999.0,9,  -999.0,9,-999.0000,9,  -999.00, -999.00,9, -999.00,9,     1007,   37.02,2,   5.4613,2,        772
49UP20160703,         P9,      77,          1,         19,        269,2,20160806,       0835,      2.455,   139.6445,       4358,   889.1,   4.8446,  34.5466,2,  34.5458,2,    102.3,2,  103.10,6,   78.10,6,    0.00,6,   2.620,6,-999.000,9,-999.000,9,-999.000,9,  -999.0,9,  -999.0,9,-999.0000,9,  -999.00, -999.00,9, -999.00,9,     1002,   36.89,6,   4.8461,2,        882
49UP20160703,         P9,      77,          1,         18,        088,2,20160806,       0835,      2.455,   139.6445,       4358,   981.8,   4.5173,  34.5551,2,  34.5546,6,     98.9,2,   99.38,2,   86.11,2,    0.00,2,   2.670,2,-999.000,9,-999.000,9,-999.000,9,  -999.0,9,  -999.0,9,-999.0000,9,  -999.00, -999.00,9, -999.00,9,      958,   37.54,2,   4.5196,2,        974
49UP20160703,         P9,      77,          1,         17,        090,2,20160806,       0835,      2.455,   139.6445,       4358,  1142.7,   4.0722,  34.5663,2,  34.5655,2,     98.4,2,   98.53,2,   95.51,2,    0.00,2,   2.710,2,-999.000,9,-999.000,9,-999.000,9,  -999.0,9,  -999.0,9,-999.0000,9,  -999.00, -999.00,9, -999.00,9,      953,   38.09,2,   4.0747,2,       1133
49UP20160703,         P9,      77,          1,         16,        474,2,20160806,       0835,      2.455,   139.6445,       4358,  1343.4,   3.3781,  34.5867,2,  34.5873,2,     99.8,2,  100.01,2,  110.53,2,    0.00,2,   2.740,2,-999.000,9,-999.000,9,-999.000,9,  -999.0,9,  -999.0,9,-999.0000,9,  -999.00, -999.00,9, -999.00,9,      946,   38.66,2,   3.3791,2,       1332
49UP20160703,         P9,      77,          1,         15,        665,2,20160806,       0835,      2.455,   139.6445,       4358,  1547.3,   2.8361,  34.6073,2,  34.6069,2,    107.6,2,  107.53,2,  120.77,2,    0.00,2,   2.730,2,-999.000,9,-999.000,9,-999.000,9,  -999.0,9,  -999.0,9,-999.0000,9,  -999.00, -999.00,9, -999.00,9,      941,   38.56,2,   2.8362,2,       1533
49UP20160703,         P9,      77,          1,         14,        999,2,20160806,       0835,      2.455,   139.6445,       4358,  1750.3,   2.5316,  34.6205,2,  34.6198,2,    110.4,2,  110.51,2,  128.73,2,    0.00,2,   2.720,2,-999.000,9,-999.000,9,-999.000,9,  -999.0,9,  -999.0,9,-999.0000,9,  -999.00, -999.00,9, -999.00,9,      935,   38.51,2,   2.5319,2,       1733
49UP20160703,         P9,      77,          1,         13,        667,2,20160806,       0835,      2.455,   139.6445,       4358,  1952.0,   2.2162,  34.6359,2,  34.6356,2,    115.2,2,  115.55,2,  135.80,2,    0.00,2,   2.700,2,-999.000,9,-999.000,9,-999.000,9,  -999.0,9,  -999.0,9,-999.0000,9,  -999.00, -999.00,9, -999.00,9,      930,   38.38,2,   2.2175,2,       1932
49UP20160703,         P9,      77,          1,         12,        074,2,20160806,       0835,      2.455,   139.6445,       4358,  2155.3,   1.9907,  34.6479,2,  34.6470,2,    121.4,2,  121.39,2,  140.13,2,    0.00,2,   2.670,2,-999.000,9,-999.000,9,-999.000,9,  -999.0,9,  -999.0,9,-999.0000,9,  -999.00, -999.00,9, -999.00,9,      924,   38.10,2,   1.9907,2,       2132
49UP20160703,         P9,      77,          1,         11,        268,2,20160806,       0835,      2.455,   139.6445,       4358,  2359.2,   1.8589,  34.6556,2,  34.6547,2,    126.2,2,  126.04,2,  141.28,2,    0.00,2,   2.640,2,-999.000,9,-999.000,9,-999.000,9,  -999.0,9,  -999.0,9,-999.0000,9,  -999.00, -999.00,9, -999.00,9,      920,   37.78,2,   1.8590,2,       2333
49UP20160703,         P9,      77,          1,         10,        267,2,20160806,       0835,      2.455,   139.6445,       4358,  2560.3,   1.7485,  34.6618,2,  34.6616,2,    132.7,2,  132.85,2,  141.89,2,    0.00,2,   2.600,2,-999.000,9,-999.000,9,-999.000,9,  -999.0,9,  -999.0,9,-999.0000,9,  -999.00, -999.00,9, -999.00,9,      915,   37.24,2,   1.7485,2,       2531
49UP20160703,         P9,      77,          1,          9,        518,2,20160806,       0835,      2.455,   139.6445,       4358,  2763.0,   1.6488,  34.6674,2,  34.6671,2,    138.9,2,  138.58,2,  142.40,2,    0.00,2,   2.570,2,-999.000,9,-999.000,9,-999.000,9,  -999.0,9,  -999.0,9,-999.0000,9,  -999.00, -999.00,9, -999.00,9,      910,   36.94,2,   1.6487,2,       2730
49UP20160703,         P9,      77,          1,          8,        470,2,20160806,       0835,      2.455,   139.6445,       4358,  2968.3,   1.5799,  34.6724,2,  34.6721,2,    143.2,2,  143.40,6,  142.84,6,    0.00,6,   2.560,6,-999.000,9,-999.000,9,-999.000,9,  -999.0,9,  -999.0,9,-999.0000,9,  -999.00, -999.00,9, -999.00,9,      906,   36.67,6,   1.5799,2,       2931
49UP20160703,         P9,      77,          1,          7,        516,2,20160806,       0835,      2.455,   139.6445,       4358,  3213.9,   1.5559,  34.6756,2,  34.6750,6,    145.5,2,  146.09,2,  143.12,2,    0.00,2,   2.550,2,-999.000,9,-999.000,9,-999.000,9,  -999.0,9,  -999.0,9,-999.0000,9,  -999.00, -999.00,9, -999.00,9,      900,   36.55,2,   1.5561,2,       3172
49UP20160703,         P9,      77,          1,          6,        113,2,20160806,       0835,      2.455,   139.6445,       4358,  3468.4,   1.5511,  34.6778,2,  34.6771,2,    147.4,2,  147.57,2,  142.78,2,    0.00,2,   2.530,2,-999.000,9,-999.000,9,-999.000,9,  -999.0,9,  -999.0,9,-999.0000,9,  -999.00, -999.00,9, -999.00,9,      855,   36.41,2,   1.5512,2,       3421
49UP20160703,         P9,      77,          1,          5,        658,2,20160806,       0835,      2.455,   139.6445,       4358,  3723.9,   1.5434,  34.6802,2,  34.6785,4,    149.5,2,  148.89,2,  141.90,2,    0.00,2,   2.520,2,-999.000,9,-999.000,9,-999.000,9,  -999.0,9,  -999.0,9,-999.0000,9,  -999.00, -999.00,9, -999.00,9,      849,   36.23,2,   1.5432,2,       3671
49UP20160703,         P9,      77,          1,          4,        471,2,20160806,       0835,      2.455,   139.6445,       4358,  3979.0,   1.5271,  34.6840,2,  34.6840,2,    152.2,2,  152.30,2,  142.56,2,    0.00,2,   2.500,2,-999.000,9,-999.000,9,-999.000,9,  -999.0,9,  -999.0,9,-999.0000,9,  -999.00, -999.00,9, -999.00,9,      844,   36.11,2,   1.5271,2,       3920
49UP20160703,         P9,      77,          1,          3,        104,2,20160806,       0835,      2.455,   139.6445,       4358,  4231.9,   1.5208,  34.6864,2,  34.6857,2,    155.1,2,  155.04,2,  142.07,2,    0.00,2,   2.480,2,-999.000,9,-999.000,9,-999.000,9,  -999.0,9,  -999.0,9,-999.0000,9,  -999.00, -999.00,9, -999.00,9,      838,   35.96,2,   1.5207,2,       4167
49UP20160703,         P9,      77,          1,          2,        075,3,20160806,       0835,      2.455,   139.6445,       4358,  4232.2,   1.5208,  34.6865,2,  34.6861,2,    155.2,2,  155.25,2,  142.08,2,    0.00,2,   2.490,2,-999.000,9,-999.000,9,-999.000,9,  -999.0,9,  -999.0,9,-999.0000,9,  -999.00, -999.00,9, -999.00,9,      838,   35.95,2,   1.5207,2,       4167
49UP20160703,         P9,      77,          1,          1,        997,2,20160806,       0835,      2.455,   139.6445,       4358,  4415.8,   1.5393,  34.6865,2,  34.6864,2,    155.5,2,  155.56,2,  141.86,2,    0.00,2,   2.480,2,-999.000,9,-999.000,9,-999.000,9,  -999.0,9,  -999.0,9,-999.0000,9,  -999.00, -999.00,9, -999.00,9,      835,   35.92,2,   1.5393,2,       4346