BOTTLE,20230712CCHSIOENA
EXPOCODE,SECT_ID,STNNBR,CASTNO,SAMPNO,BTLNBR,BTLNBR_FLAG_W,DATE,TIME,LATITUDE,LONGITUDE,DEPTH,CTDPRS,CTDTMP,CTDSAL,CTDSAL_FLAG_W,SALNTY,SALNTY_FLAG_W,CTDOXY,CTDOXY_FLAG_W,OXYGEN,OXYGEN_FLAG_W,SILCAT,SILCAT_FLAG_W,NITRIT,NITRIT_FLAG_W,PHSPHT,PHSPHT_FLAG_W,CFC-11,CFC-11_FLAG_W,CFC-12,CFC-12_FLAG_W,CFC113,CFC113_FLAG_W,TCARBN,TCARBN_FLAG_W,ALKALI,ALKALI_FLAG_W,PH_TOT,PH_TOT_FLAG_W,PH_TMP,CHLORA,CHLORA_FLAG_W,PPHYTN,PPHYTN_FLAG_W,BTL_TIME,NO2+NO3,NO2+NO3_FLAG_W,SBE35,SBE35_FLAG_W,CTDDEPTH
,,,,,,,,,,,METERS,DBAR,ITS-90,PSS-78,,PSS-78,,UMOL/KG,,UMOL/KG,,UMOL/KG,,UMOL/KG,,UMOL/KG,,PMOL/KG,,PMOL/KG,,PMOL/KG,,UMOL/KG,,UMOL/KG,,,,DEG C,UG/KG,,UG/KG,,,UMOL/KG,,ITS-90,,METERS
49UP20160703,         P9,      91,          1,          0,        BUC,2,20160811,       0640,    -2.1757,   141.4957,       4160,     0.0,  30.0643,  34.0081,2,-999.0000,9,    195.9,2,  195.34,2,    0.58,2,    0.00,2,   0.110,2,-999.000,9,-999.000,9,-999.000,9,  -999.0,9,  -999.0,9,-999.0000,9,  -999.00, -999.00,9, -999.00,9,      810,    0.09,2,-999.0000,9,          0
49UP20160703,         P9,      91,          1,         36,        109,2,20160811,       0640,    -2.1757,   141.4957,       4160,    10.4,  29.7537,  34.0114,2,  34.0035,2,    196.2,2,  196.13,2,    0.59,2,    0.00,2,   0.100,2,-999.000,9,-999.000,9,-999.000,9,  -999.0,9,  -999.0,9,-999.0000,9,  -999.00, -999.00,9, -999.00,9,      828,    0.08,2,  29.7496,2,         10
49UP20160703,         P9,      91,          1,         35,        112,2,20160811,       0640,    -2.1757,   141.4957,       4160,    25.5,  29.7629,  34.1253,2,  34.1357,2,    197.0,2,  197.06,2,    0.64,2,    0.00,2,   0.110,2,-999.000,9,-999.000,9,-999.000,9,  -999.0,9,  -999.0,9,-999.0000,9,  -999.00, -999.00,9, -999.00,9,      826,    0.07,2,  29.7539,2,         25
49UP20160703,         P9,      91,          1,         34,        094,2,20160811,       0640,    -2.1757,   141.4957,       4160,    51.5,  28.5967,  34.3619,2,  34.3714,2,    198.3,2,  197.84,2,    0.75,2,    0.00,2,   0.090,2,-999.000,9,-999.000,9,-999.000,9,  -999.0,9,  -999.0,9,-999.0000,9,  -999.00, -999.00,9, -999.00,9,      824,    0.09,2,  28.5998,2,         51
49UP20160703,         P9,      91,          1,         33,        469,2,20160811,       0640,    -2.1757,   141.4957,       4160,    76.3,  27.6447,  34.6217,2,  34.6450,4,    190.2,2,  189.57,2,    0.83,2,    0.30,2,   0.150,2,-999.000,9,-999.000,9,-999.000,9,  -999.0,9,  -999.0,9,-999.0000,9,  -999.00, -999.00,9, -999.00,9,      822,    0.87,2,  27.6447,2,         76
49UP20160703,         P9,      91,          1,         32,        089,2,20160811,       0640,    -2.1757,   141.4957,       4160,   101.8,  26.2506,  35.0573,2,  35.0648,2,    174.3,2,  173.99,2,    0.99,2,    0.19,2,   0.300,2,-999.000,9,-999.000,9,-999.000,9,  -999.0,9,  -999.0,9,-999.0000,9,  -999.00, -999.00,9, -999.00,9,      821,    2.73,2,  26.2586,2,        101
49UP20160703,         P9,      91,          1,         31,        515,2,20160811,       0640,    -2.1757,   141.4957,       4160,   127.3,  24.3506,  35.3673,2,  35.4014,4,    162.6,2,  161.09,2,    1.31,2,    0.05,2,   0.470,2,-999.000,9,-999.000,9,-999.000,9,  -999.0,9,  -999.0,9,-999.0000,9,  -999.00, -999.00,9, -999.00,9,      820,    5.09,2,  24.3508,2,        127
49UP20160703,         P9,      91,          1,         30,        097,2,20160811,       0640,    -2.1757,   141.4957,       4160,   151.4,  21.4977,  35.5209,2,  35.5216,2,    151.9,2,  151.79,2,    2.12,2,    0.00,2,   0.640,2,-999.000,9,-999.000,9,-999.000,9,  -999.0,9,  -999.0,9,-999.0000,9,  -999.00, -999.00,9, -999.00,9,      819,    7.59,2,  21.4969,2,        151
49UP20160703,         P9,      91,          1,         29,        102,2,20160811,       0640,    -2.1757,   141.4957,       4160,   202.6,  18.8322,  35.4525,2,  35.4393,4,    147.7,2,  146.30,2,    3.65,2,    0.00,2,   0.860,2,-999.000,9,-999.000,9,-999.000,9,  -999.0,9,  -999.0,9,-999.0000,9,  -999.00, -999.00,9, -999.00,9,      817,   10.76,2,  18.8287,2,        201
49UP20160703,         P9,      91,          1,         28,        472,2,20160811,       0640,    -2.1757,   141.4957,       4160,   252.1,  15.2001,  35.1743,2,  35.1633,4,    142.1,2,  142.30,6,    7.36,6,    0.00,6,   1.180,6,-999.000,9,-999.000,9,-999.000,9,  -999.0,9,  -999.0,9,-999.0000,9,  -999.00, -999.00,9, -999.00,9,      815,   15.70,6,  15.2045,2,        251
49UP20160703,         P9,      91,          1,         27,        998,2,20160811,       0640,    -2.1757,   141.4957,       4160,   332.1,  11.2605,  34.8359,2,  34.8328,6,    158.4,2,  157.58,2,   12.57,2,    0.00,2,   1.460,2,-999.000,9,-999.000,9,-999.000,9,  -999.0,9,  -999.0,9,-999.0000,9,  -999.00, -999.00,9, -999.00,9,      813,   20.49,2,  11.2623,2,        330
49UP20160703,         P9,      91,          1,         26,        084,2,20160811,       0640,    -2.1757,   141.4957,       4160,   382.8,   9.8889,  34.7226,2,  34.7228,2,    163.5,2,  163.72,2,   15.22,2,    0.00,2,   1.580,2,-999.000,9,-999.000,9,-999.000,9,  -999.0,9,  -999.0,9,-999.0000,9,  -999.00, -999.00,9, -999.00,9,      812,   22.46,2,   9.8885,2,        380
49UP20160703,         P9,      91,          1,         25,        098,2,20160811,       0640,    -2.1757,   141.4957,       4160,   434.0,   9.0612,  34.6532,2,  34.6529,2,    165.0,2,  165.48,2,   17.36,2,    0.00,2,   1.670,2,-999.000,9,-999.000,9,-999.000,9,  -999.0,9,  -999.0,9,-999.0000,9,  -999.00, -999.00,9, -999.00,9,      809,   24.00,2,   9.0634,2,        431
49UP20160703,         P9,      91,          1,         24,        110,2,20160811,       0640,    -2.1757,   141.4957,       4160,   484.5,   7.9789,  34.5796,2,  34.5799,2,    167.0,2,  167.25,2,   21.84,2,    0.00,2,   1.800,2,-999.000,9,-999.000,9,-999.000,9,  -999.0,9,  -999.0,9,-999.0000,9,  -999.00, -999.00,9, -999.00,9,      806,   26.02,2,   7.9809,2,        481
49UP20160703,         P9,      91,          1,         23,        679,2,20160811,       0640,    -2.1757,   141.4957,       4160,   533.7,   7.2755,  34.5376,2,  34.5367,2,    165.8,2,  166.30,2,   26.02,2,    0.00,2,   1.910,2,-999.000,9,-999.000,9,-999.000,9,  -999.0,9,  -999.0,9,-999.0000,9,  -999.00, -999.00,9, -999.00,9,      805,   27.62,2,   7.2758,2,        530
49UP20160703,         P9,      91,          1,         22,        111,2,20160811,       0640,    -2.1757,   141.4957,       4160,   635.3,   6.4128,  34.4983,2,  34.4980,2,    164.2,2,  164.44,2,   32.77,2,    0.00,2,   2.040,2,-999.000,9,-999.000,9,-999.000,9,  -999.0,9,  -999.0,9,-999.0000,9,  -999.00, -999.00,9, -999.00,9,      802,   29.49,2,   6.4119,2,        631
49UP20160703,         P9,      91,          1,         20,        093,2,20160811,       0640,    -2.1757,   141.4957,       4160,   735.6,   5.6941,  34.4864,2,  34.4871,2,    156.4,2,  156.39,2,   42.08,2,    0.00,2,   2.180,2,-999.000,9,-999.000,9,-999.000,9,  -999.0,9,  -999.0,9,-999.0000,9,  -999.00, -999.00,9, -999.00,9,      800,   31.53,2,   5.6941,2,        730
49UP20160703,         P9,      91,          1,         21,        078,2,20160811,       0640,    -2.1757,   141.4957,       4160,   736.2,   5.6943,  34.4864,2,  34.4867,2,    156.4,2,  156.46,2,   42.15,2,    0.00,2,   2.180,2,-999.000,9,-999.000,9,-999.000,9,  -999.0,9,  -999.0,9,-999.0000,9,  -999.00, -999.00,9, -999.00,9,      800,   31.53,2,   5.6938,2,        731
49UP20160703,         P9,      91,          1,         19,        269,2,20160811,       0640,    -2.1757,   141.4957,       4160,   836.6,   5.0549,  34.5106,2,  34.5146,4,    134.1,2,  130.73,2,   59.57,2,    0.00,2,   2.420,2,-999.000,9,-999.000,9,-999.000,9,  -999.0,9,  -999.0,9,-999.0000,9,  -999.00, -999.00,9, -999.00,9,      757,   34.70,2,   5.0546,2,        830
49UP20160703,         P9,      91,          1,         18,        088,2,20160811,       0640,    -2.1757,   141.4957,       4160,   937.3,   4.7504,  34.5141,2,  34.5152,2,    135.6,2,  135.57,6,   63.87,6,    0.00,6,   2.410,6,-999.000,9,-999.000,9,-999.000,9,  -999.0,9,  -999.0,9,-999.0000,9,  -999.00, -999.00,9, -999.00,9,      755,   34.61,6,   4.7502,2,        930
49UP20160703,         P9,      91,          1,         17,        090,2,20160811,       0640,    -2.1757,   141.4957,       4160,  1079.4,   4.2571,  34.5539,2,  34.5543,6,    104.8,2,  105.10,2,   85.36,2,    0.00,2,   2.650,2,-999.000,9,-999.000,9,-999.000,9,  -999.0,9,  -999.0,9,-999.0000,9,  -999.00, -999.00,9, -999.00,9,      750,   37.71,2,   4.2585,2,       1071
49UP20160703,         P9,      91,          1,         16,        474,2,20160811,       0640,    -2.1757,   141.4957,       4160,  1281.5,   3.5319,  34.5790,2,  34.5796,2,    104.1,2,  104.41,2,  102.58,2,    0.00,2,   2.710,2,-999.000,9,-999.000,9,-999.000,9,  -999.0,9,  -999.0,9,-999.0000,9,  -999.00, -999.00,9, -999.00,9,      746,   38.33,2,   3.5318,2,       1271
49UP20160703,         P9,      91,          1,         15,        665,2,20160811,       0640,    -2.1757,   141.4957,       4160,  1483.6,   3.0054,  34.6005,2,  34.6004,2,    107.2,2,  107.17,2,  115.94,2,    0.00,2,   2.710,2,-999.000,9,-999.000,9,-999.000,9,  -999.0,9,  -999.0,9,-999.0000,9,  -999.00, -999.00,9, -999.00,9,      742,   38.58,2,   3.0052,2,       1470
49UP20160703,         P9,      91,          1,         14,        999,2,20160811,       0640,    -2.1757,   141.4957,       4160,  1686.5,   2.6550,  34.6155,2,  34.6156,2,    112.4,2,  112.71,2,  123.02,2,    0.00,2,   2.690,2,-999.000,9,-999.000,9,-999.000,9,  -999.0,9,  -999.0,9,-999.0000,9,  -999.00, -999.00,9, -999.00,9,      737,   38.39,2,   2.6547,2,       1670
49UP20160703,         P9,      91,          1,         13,        667,2,20160811,       0640,    -2.1757,   141.4957,       4160,  1887.6,   2.2268,  34.6358,2,  34.6353,2,    118.9,2,  118.96,2,  132.99,2,    0.00,2,   2.660,2,-999.000,9,-999.000,9,-999.000,9,  -999.0,9,  -999.0,9,-999.0000,9,  -999.00, -999.00,9, -999.00,9,      732,   38.10,2,   2.2267,2,       1869
49UP20160703,         P9,      91,          1,         12,        074,2,20160811,       0640,    -2.1757,   141.4957,       4160,  2092.4,   2.0373,  34.6452,2,  34.6452,2,    123.8,2,  124.35,2,  136.78,2,    0.00,2,   2.640,2,-999.000,9,-999.000,9,-999.000,9,  -999.0,9,  -999.0,9,-999.0000,9,  -999.00, -999.00,9, -999.00,9,      728,   37.80,2,   2.0374,2,       2071
49UP20160703,         P9,      91,          1,         11,        268,2,20160811,       0640,    -2.1757,   141.4957,       4160,  2294.9,   1.9031,  34.6522,2,  34.6526,2,    128.3,2,  128.32,6,  139.12,6,    0.00,6,   2.610,6,-999.000,9,-999.000,9,-999.000,9,  -999.0,9,  -999.0,9,-999.0000,9,  -999.00, -999.00,9, -999.00,9,      723,   37.56,6,   1.9027,2,       2270
49UP20160703,         P9,      91,          1,         10,        267,2,20160811,       0640,    -2.1757,   141.4957,       4160,  2498.9,   1.7494,  34.6614,2,  34.6618,6,    134.4,2,  134.89,2,  140.72,2,    0.00,2,   2.570,2,-999.000,9,-999.000,9,-999.000,9,  -999.0,9,  -999.0,9,-999.0000,9,  -999.00, -999.00,9, -999.00,9,      718,   37.11,2,   1.7494,2,       2470
49UP20160703,         P9,      91,          1,          9,        518,2,20160811,       0640,    -2.1757,   141.4957,       4160,  2702.0,   1.6781,  34.6660,2,  34.6667,2,    137.9,2,  137.99,2,  141.48,2,    0.00,2,   2.560,2,-999.000,9,-999.000,9,-999.000,9,  -999.0,9,  -999.0,9,-999.0000,9,  -999.00, -999.00,9, -999.00,9,      714,   36.93,2,   1.6779,2,       2670
49UP20160703,         P9,      91,          1,          8,        470,2,20160811,       0640,    -2.1757,   141.4957,       4160,  2906.6,   1.6230,  34.6700,2,  34.6682,4,    141.2,2,  142.00,2,  142.08,2,    0.00,2,   2.540,2,-999.000,9,-999.000,9,-999.000,9,  -999.0,9,  -999.0,9,-999.0000,9,  -999.00, -999.00,9, -999.00,9,      710,   36.73,2,   1.6230,2,       2871
49UP20160703,         P9,      91,          1,          7,        516,2,20160811,       0640,    -2.1757,   141.4957,       4160,  3120.2,   1.5855,  34.6734,2,  34.6741,2,    143.7,2,  144.09,2,  142.49,2,    0.00,2,   2.530,2,-999.000,9,-999.000,9,-999.000,9,  -999.0,9,  -999.0,9,-999.0000,9,  -999.00, -999.00,9, -999.00,9,      705,   36.58,2,   1.5854,2,       3080
49UP20160703,         P9,      91,          1,          6,        113,2,20160811,       0640,    -2.1757,   141.4957,       4160,  3375.9,   1.5800,  34.6756,2,  34.6748,2,    145.1,2,  145.04,2,  142.54,2,    0.00,2,   2.520,2,-999.000,9,-999.000,9,-999.000,9,  -999.0,9,  -999.0,9,-999.0000,9,  -999.00, -999.00,9, -999.00,9,      700,   36.46,2,   1.5800,2,       3331
49UP20160703,         P9,      91,          1,          5,        658,2,20160811,       0640,    -2.1757,   141.4957,       4160,  3630.4,   1.5873,  34.6767,2,  34.6773,2,    146.3,2,  146.17,2,  142.39,2,    0.00,2,   2.520,2,-999.000,9,-999.000,9,-999.000,9,  -999.0,9,  -999.0,9,-999.0000,9,  -999.00, -999.00,9, -999.00,9,      655,   36.38,2,   1.5871,2,       3580
49UP20160703,         P9,      91,          1,          4,        471,2,20160811,       0640,    -2.1757,   141.4957,       4160,  3885.7,   1.6060,  34.6773,2,  34.6768,2,    146.7,2,  146.76,2,  142.53,2,    0.00,2,   2.510,2,-999.000,9,-999.000,9,-999.000,9,  -999.0,9,  -999.0,9,-999.0000,9,  -999.00, -999.00,9, -999.00,9,      649,   36.39,2,   1.6058,2,       3829
49UP20160703,         P9,      91,          1,          3,        104,2,20160811,       0640,    -2.1757,   141.4957,       4160,  3885.7,   1.6060,  34.6773,2,  34.6774,2,    146.7,2,  146.98,2,  142.52,2,    0.00,2,   2.510,2,-999.000,9,-999.000,9,-999.000,9,  -999.0,9,  -999.0,9,-999.0000,9,  -999.00, -999.00,9, -999.00,9,      649,   36.35,2,   1.6060,2,       3829
49UP20160703,         P9,      91,          1,          2,        075,2,20160811,       0640,    -2.1757,   141.4957,       4160,  4141.7,   1.6309,  34.6776,2,  34.6783,2,    147.0,2,  146.85,6,  142.35,6,    0.00,6,   2.510,6,-999.000,9,-999.000,9,-999.000,9,  -999.0,9,  -999.0,9,-999.0000,9,  -999.00, -999.00,9, -999.00,9,      643,   36.30,6,   1.6309,2,       4079
49UP20160703,         P9,      91,          1,          1,        997,2,20160811,       0640,    -2.1757,   141.4957,       4160,  4206.2,   1.6366,  34.6777,2,  34.6776,6,    147.1,2,  146.96,2,  142.53,2,    0.00,2,   2.510,2,-999.000,9,-999.000,9,-999.000,9,  -999.0,9,  -999.0,9,-999.0000,9,  -999.00, -999.00,9, -999.00,9,      641,   36.36,2,   1.6367,2,       4142