BOTTLE,20230712CCHSIOENA
EXPOCODE,SECT_ID,STNNBR,CASTNO,SAMPNO,BTLNBR,BTLNBR_FLAG_W,DATE,TIME,LATITUDE,LONGITUDE,DEPTH,CTDPRS,CTDTMP,CTDSAL,CTDSAL_FLAG_W,SALNTY,SALNTY_FLAG_W,CTDOXY,CTDOXY_FLAG_W,OXYGEN,OXYGEN_FLAG_W,SILCAT,SILCAT_FLAG_W,NITRIT,NITRIT_FLAG_W,PHSPHT,PHSPHT_FLAG_W,CFC-11,CFC-11_FLAG_W,CFC-12,CFC-12_FLAG_W,CFC113,CFC113_FLAG_W,TCARBN,TCARBN_FLAG_W,ALKALI,ALKALI_FLAG_W,PH_TOT,PH_TOT_FLAG_W,PH_TMP,CHLORA,CHLORA_FLAG_W,PPHYTN,PPHYTN_FLAG_W,BTL_TIME,NO2+NO3,NO2+NO3_FLAG_W,SBE35,SBE35_FLAG_W,CTDDEPTH
,,,,,,,,,,,METERS,DBAR,ITS-90,PSS-78,,PSS-78,,UMOL/KG,,UMOL/KG,,UMOL/KG,,UMOL/KG,,UMOL/KG,,PMOL/KG,,PMOL/KG,,PMOL/KG,,UMOL/KG,,UMOL/KG,,,,DEG C,UG/KG,,UG/KG,,,UMOL/KG,,ITS-90,,METERS
49UP20160703,         P9,       8,          1,          0,        BUC,2,20160706,       0238,    31.9908,   137.0137,       4198,     0.0,  28.0672,  34.4868,2,  34.4852,2,    203.3,2,  201.80,2,    1.53,2,    0.00,2,   0.020,2,-999.000,9,-999.000,9,-999.000,9,  1952.0,2,  2269.1,2,   8.0948,2,    25.00,    0.10,2,    0.04,2,      403,    0.06,2,-999.0000,9,          0
49UP20160703,         P9,       8,          1,         35,        112,2,20160706,       0238,    31.9908,   137.0137,       4198,    10.3,  28.0222,  34.4858,2,  34.4848,2,    203.0,2,  202.51,2,    1.49,2,    0.00,2,   0.010,2,   1.631,2,   1.002,2,   0.122,2,  1950.1,2,  2266.8,2,   8.0954,2,    25.00,    0.11,2,    0.04,2,      426,    0.02,2,  28.0210,2,         10
49UP20160703,         P9,       8,          1,         34,        094,2,20160706,       0238,    31.9908,   137.0137,       4198,    24.9,  27.2590,  34.5183,2,  34.5003,4,    205.1,2,  204.04,2,    1.49,2,    0.00,2,   0.010,2,   1.656,2,   1.027,2,   0.129,2,  1950.4,2,  2267.0,2,   8.0971,2,    25.00,    0.13,2,    0.05,2,      425,    0.02,2,  27.2459,2,         25
49UP20160703,         P9,       8,          1,         33,        469,2,20160706,       0238,    31.9908,   137.0137,       4198,    50.6,  25.3522,  34.7551,2,  34.7328,4,    210.8,2,  209.69,2,    1.38,2,    0.00,2,   0.020,2,   1.776,2,   1.091,2,   0.129,2,  1969.9,2,  2278.9,2,   8.0837,2,    25.00,    0.15,2,    0.08,2,      421,    0.00,2,  25.3043,2,         50
49UP20160703,         P9,       8,          1,         32,        089,2,20160706,       0238,    31.9908,   137.0137,       4198,    75.7,  23.5246,  34.9344,2,  34.9277,2,    220.0,2,  218.50,6,    1.48,6,    0.00,6,   0.010,6,   1.956,2,   1.191,2,   0.144,2,  1985.6,2,  2293.6,2,   8.0636,2,    25.00,    0.24,2,    0.26,2,      420,    0.03,6,  23.5182,2,         75
49UP20160703,         P9,       8,          1,         31,        515,2,20160706,       0238,    31.9908,   137.0137,       4198,   100.3,  22.0850,  34.9165,2,  34.9003,4,    210.8,2,  203.03,2,    2.19,2,    0.07,2,   0.120,2,   2.023,2,   1.239,2,   0.106,2,  2011.7,2,  2288.9,2,   8.0257,6,    25.00,    0.13,2,    0.16,2,      419,    1.54,2,  22.0848,2,        100
49UP20160703,         P9,       8,          1,         30,        097,2,20160706,       0238,    31.9908,   137.0137,       4198,   124.2,  21.1805,  34.9025,2,  34.9012,2,    206.4,2,  206.07,2,    2.23,2,    0.08,2,   0.110,2,   2.080,2,   1.275,2,   0.106,2,  2015.1,2,  2289.6,2,   8.0226,2,    25.00,    0.06,2,    0.10,2,      417,    1.24,2,  21.1784,2,        123
49UP20160703,         P9,       8,          1,         29,        102,2,20160706,       0238,    31.9908,   137.0137,       4198,   150.8,  20.3435,  34.8723,2,  34.8713,2,    205.4,2,  204.20,2,    2.74,2,    0.04,2,   0.160,2,   2.118,6,   1.298,6,   0.104,6,  2020.7,2,  2288.5,2,   8.0047,2,    25.00,    0.03,2,    0.05,2,      416,    2.06,2,  20.3513,2,        150
49UP20160703,         P9,       8,          1,         28,        472,2,20160706,       0238,    31.9908,   137.0137,       4198,   202.9,  19.1168,  34.8464,2,  34.8479,6,    201.5,2,  201.42,2,    2.70,2,    0.01,2,   0.210,2,   2.217,2,   1.388,2,   0.082,2,  2031.0,2,  2285.2,2,   7.9858,2,    25.00,    0.03,2,    0.07,2,      414,    2.91,2,  19.1137,2,        201
49UP20160703,         P9,       8,          1,         27,        998,2,20160706,       0238,    31.9908,   137.0137,       4198,   252.1,  18.1858,  34.7887,2,  34.7867,2,    196.9,2,  197.16,6,    3.88,6,    0.01,6,   0.300,6,   2.302,2,   1.444,2,   0.034,2,  2044.5,2,  2282.3,2,   7.9549,2,    25.00, -999.00,9, -999.00,9,      412,    4.43,6,  18.1912,2,        250
49UP20160703,         P9,       8,          1,         26,        084,2,20160706,       0238,    31.9908,   137.0137,       4198,   333.0,  17.0322,  34.7147,2,  34.7140,2,    200.8,2,  200.80,2,    4.85,2,    0.00,2,   0.370,2,-999.000,9,-999.000,9,-999.000,9,  2047.2,2,  2277.7,2,   7.9376,2,    25.00, -999.00,9, -999.00,9,      410,    5.53,2,  17.0305,2,        330
49UP20160703,         P9,       8,          1,         25,        098,2,20160706,       0238,    31.9908,   137.0137,       4198,   333.3,  17.0319,  34.7145,2,  34.7133,2,    200.8,2,  200.84,2,    4.89,2,    0.00,2,   0.370,2,   2.415,2,   1.507,2,   0.033,2,  2045.3,2,  2277.6,2,   7.9356,2,    25.00, -999.00,9, -999.00,9,      410,    5.55,2,  17.0317,2,        331
49UP20160703,         P9,       8,          1,         24,        110,2,20160706,       0238,    31.9908,   137.0137,       4198,   433.9,  15.5610,  34.5976,2,  34.5957,2,    188.0,2,  188.39,2,    9.28,2,    0.00,2,   0.620,2,   2.538,2,   1.542,2,   0.028,2,  2072.2,6,  2274.3,6,   7.8799,2,    25.00, -999.00,9, -999.00,9,      407,    9.06,2,  15.5598,2,        430
49UP20160703,         P9,       8,          1,         23,        679,2,20160706,       0238,    31.9908,   137.0137,       4198,   536.4,  13.4169,  34.4516,2,  34.4522,2,    178.5,2,  178.05,2,   16.47,2,    0.00,2,   0.930,2,   2.633,2,   1.552,2,   0.039,2,  2103.8,2,  2272.2,2,   7.8132,2,    25.00, -999.00,9, -999.00,9,      404,   13.39,2,  13.4276,2,        532
49UP20160703,         P9,       8,          1,         22,        111,2,20160706,       0238,    31.9908,   137.0137,       4198,   635.1,  10.7408,  34.2860,2,  34.2869,2,    164.4,2,  164.68,2,   29.87,2,    0.00,2,   1.360,2,   2.596,2,   1.474,2,   0.056,2,  2143.9,2,  2276.2,2,   7.7202,6,    25.00, -999.00,9, -999.00,9,      402,   19.19,2,  10.7349,2,        630
49UP20160703,         P9,       8,          1,         21,        078,2,20160706,       0238,    31.9908,   137.0137,       4198,   736.4,   8.1469,  34.1748,2,  34.1747,2,    137.2,2,  137.23,2,   49.06,2,    0.00,2,   1.880,2,   2.262,2,   1.205,2,   0.053,2,  2193.4,2,  2290.5,2,   7.6054,2,    25.00, -999.00,9, -999.00,9,      359,   26.18,2,   8.1436,2,        730
49UP20160703,         P9,       8,          1,         20,        093,2,20160706,       0238,    31.9908,   137.0137,       4198,   837.5,   6.2406,  34.1584,2,  34.1591,2,    105.8,2,  105.55,2,   71.36,2,    0.00,2,   2.330,2,   1.721,2,   0.883,2,   0.044,2,  2248.5,2,  2310.7,2,   7.5055,2,    25.00, -999.00,9, -999.00,9,      356,   32.31,2,   6.2397,2,        830
49UP20160703,         P9,       8,          1,         19,        269,2,20160706,       0238,    31.9908,   137.0137,       4198,   939.6,   5.2386,  34.2248,2,  34.2259,2,     80.8,2,   80.81,2,   89.11,2,    0.00,2,   2.600,2,   1.122,2,   0.559,2,   0.034,2,  2288.4,2,  2326.1,2,   7.4557,2,    25.00, -999.00,9, -999.00,9,      354,   36.14,2,   5.2397,2,        931
49UP20160703,         P9,       8,          1,         18,        088,2,20160706,       0238,    31.9908,   137.0137,       4198,  1081.7,   4.2267,  34.3246,2,  34.3239,2,     63.7,2,   63.87,2,  110.04,2,    0.00,2,   2.800,2,   0.543,2,   0.273,2,   0.012,2,  2320.1,2,  2349.8,2,   7.4194,2,    25.00, -999.00,9, -999.00,9,      350,   39.09,2,   4.2267,2,       1071
49UP20160703,         P9,       8,          1,         17,        090,3,20160706,       0238,    31.9908,   137.0137,       4198,  1284.0,   3.3886,  34.4161,2,  34.4136,4,     60.5,2,   60.35,2,  127.18,2,    0.00,2,   2.890,2,   0.228,2,   0.114,2,   0.000,2,  2342.8,6,  2370.4,6,   7.4106,2,    25.00, -999.00,9, -999.00,9,      345,   40.48,2,   3.3885,2,       1271
49UP20160703,         P9,       8,          1,         15,        665,2,20160706,       0238,    31.9908,   137.0137,       4198,  1485.6,   2.9092,  34.4729,2,  34.4727,2,     65.2,2,   65.40,2,  137.01,2,    0.00,2,   2.900,2,   0.117,2,   0.056,2,   0.000,2,  2354.4,2,  2382.5,2,   7.4231,2,    25.00, -999.00,9, -999.00,9,      340,   40.75,2,   2.9090,2,       1470
49UP20160703,         P9,       8,          1,         16,        474,2,20160706,       0238,    31.9908,   137.0137,       4198,  1486.4,   2.9085,  34.4730,2,  34.4726,2,     65.2,2,   64.79,2,  137.02,2,    0.00,2,   2.900,2,-999.000,9,-999.000,9,-999.000,9,  2357.4,2,  2383.9,2,   7.4201,2,    25.00, -999.00,9, -999.00,9,      340,   40.76,2,   2.9087,2,       1471
49UP20160703,         P9,       8,          1,         14,        999,2,20160706,       0238,    31.9908,   137.0137,       4198,  1689.3,   2.5917,  34.5175,2,  34.5173,2,     74.8,2,   75.32,2,  141.76,2,    0.00,2,   2.870,2,   0.057,6,   0.026,6,   0.000,6,  2353.1,2,  2390.7,2,   7.4394,2,    25.00, -999.00,9, -999.00,9,      335,   40.38,2,   2.5918,2,       1671
49UP20160703,         P9,       8,          1,         13,        667,2,20160706,       0238,    31.9908,   137.0137,       4198,  1893.2,   2.2848,  34.5592,2,  34.5587,6,     87.4,2,   87.65,2,  145.60,2,    0.00,2,   2.820,2,-999.000,9,-999.000,9,-999.000,9,  2351.4,2,  2398.6,2,   7.4639,2,    25.00, -999.00,9, -999.00,9,      331,   39.84,2,   2.2845,2,       1872
49UP20160703,         P9,       8,          1,         12,        074,2,20160706,       0238,    31.9908,   137.0137,       4198,  2097.0,   2.0813,  34.5904,2,  34.5904,2,    100.5,2,  100.62,6,  146.39,6,    0.00,6,   2.760,6,   0.015,2,   0.007,2,   0.000,2,  2350.1,2,  2405.7,2,   7.4864,2,    25.00, -999.00,9, -999.00,9,      326,   39.10,6,   2.0814,2,       2072
49UP20160703,         P9,       8,          1,         11,        268,2,20160706,       0238,    31.9908,   137.0137,       4198,  2299.7,   1.9151,  34.6156,2,  34.6159,2,    113.1,2,  113.35,2,  145.89,2,    0.00,2,   2.700,2,-999.000,9,-999.000,9,-999.000,9,  2346.8,2,  2406.0,2,   7.5088,2,    25.00, -999.00,9, -999.00,9,      321,   38.34,2,   1.9150,2,       2271
49UP20160703,         P9,       8,          1,         10,        267,2,20160706,       0238,    31.9908,   137.0137,       4198,  2503.0,   1.7944,  34.6338,2,  34.6330,2,    123.1,2,  123.42,2,  145.14,2,    0.00,2,   2.650,2,   0.000,2,   0.000,2,   0.000,2,  2341.3,2,  2407.5,2,   7.5288,2,    25.00, -999.00,9, -999.00,9,      317,   37.72,2,   1.7944,2,       2471
49UP20160703,         P9,       8,          1,          9,        518,2,20160706,       0238,    31.9908,   137.0137,       4198,  2707.2,   1.7139,  34.6464,2,  34.6463,2,    130.6,2,  130.92,2,  144.51,2,    0.00,2,   2.610,2,-999.000,9,-999.000,9,-999.000,9,  2337.4,2,  2410.0,2,   7.5434,2,    25.00, -999.00,9, -999.00,9,      313,   37.30,2,   1.7138,2,       2671
49UP20160703,         P9,       8,          1,          8,        470,2,20160706,       0238,    31.9908,   137.0137,       4198,  2910.3,   1.6281,  34.6585,2,  34.6588,2,    138.3,2,  139.03,2,  143.77,2,    0.00,2,   2.580,2,-999.000,9,-999.000,9,-999.000,9,  2331.9,2,  2412.0,2,   7.5541,6,    25.00, -999.00,9, -999.00,9,      308,   36.82,2,   1.6281,2,       2870
49UP20160703,         P9,       8,          1,          7,        516,2,20160706,       0238,    31.9908,   137.0137,       4198,  3125.3,   1.5704,  34.6673,2,  34.6655,4,    144.2,2,  144.12,2,  142.77,2,    0.00,2,   2.540,2,-999.000,9,-999.000,9,-999.000,9,  2327.0,2,  2411.1,2,   7.5628,2,    25.00, -999.00,9, -999.00,9,      304,   36.46,2,   1.5705,2,       3081
49UP20160703,         P9,       8,          1,          6,        113,2,20160706,       0238,    31.9908,   137.0137,       4198,  3125.3,   1.5703,  34.6673,2,  34.6673,2,    144.2,2,  144.62,2,  142.96,2,    0.00,2,   2.540,2,   0.000,2,   0.000,2,   0.000,2,  2328.2,2,  2411.5,2,   7.5683,2,    25.00, -999.00,9, -999.00,9,      304,   36.43,2,   1.5702,2,       3081
49UP20160703,         P9,       8,          1,          5,        658,2,20160706,       0238,    31.9908,   137.0137,       4198,  3380.8,   1.5316,  34.6745,2,  34.6747,2,    149.0,2,  149.67,2,  142.20,2,    0.00,2,   2.520,2,-999.000,9,-999.000,9,-999.000,9,  2325.1,2,  2411.9,6,   7.5748,2,    25.00, -999.00,9, -999.00,9,      258,   36.16,2,   1.5317,2,       3331
49UP20160703,         P9,       8,          1,          4,        471,2,20160706,       0238,    31.9908,   137.0137,       4198,  3636.8,   1.5247,  34.6781,2,  34.6782,2,    151.6,2,  152.20,2,  141.90,2,    0.00,2,   2.510,2,   0.000,2,   0.000,2,   0.000,2,  2322.4,2,  2418.5,3,   7.5777,2,    25.00, -999.00,9, -999.00,9,      253,   35.96,2,   1.5246,2,       3581
49UP20160703,         P9,       8,          1,          3,        104,2,20160706,       0238,    31.9908,   137.0137,       4198,  3892.0,   1.5367,  34.6799,2,  34.6793,2,    152.8,2,  152.92,2,  141.75,2,    0.00,2,   2.500,2,-999.000,9,-999.000,9,-999.000,9,  2325.6,2,  2411.8,2,   7.5813,2,    25.00, -999.00,9, -999.00,9,      247,   35.91,2,   1.5368,2,       3830
49UP20160703,         P9,       8,          1,          2,        075,2,20160706,       0238,    31.9908,   137.0137,       4198,  4149.4,   1.5565,  34.6808,2,  34.6811,6,    153.6,2,  154.23,2,  141.63,2,    0.00,2,   2.500,2,   0.000,2,   0.001,2,   0.000,2,  2323.3,2,  2411.0,2,   7.5841,2,    25.00, -999.00,9, -999.00,9,      242,   35.84,2,   1.5565,2,       4081
49UP20160703,         P9,       8,          1,          1,        997,2,20160706,       0238,    31.9908,   137.0137,       4198,  4292.7,   1.5700,  34.6812,2,  34.6814,6,    153.9,2,  154.11,6,  141.66,6,    0.00,6,   2.500,6,   0.000,2,   0.000,2,   0.000,2,  2330.9,2,  2416.5,2,   7.5813,2,    25.00, -999.00,9, -999.00,9,      238,   35.87,6,   1.5701,2,       4220