BOTTLE,20230712CCHSIOENA
EXPOCODE,SECT_ID,STNNBR,CASTNO,SAMPNO,BTLNBR,BTLNBR_FLAG_W,DATE,TIME,LATITUDE,LONGITUDE,DEPTH,CTDPRS,CTDTMP,CTDSAL,CTDSAL_FLAG_W,SALNTY,SALNTY_FLAG_W,CTDOXY,CTDOXY_FLAG_W,OXYGEN,OXYGEN_FLAG_W,SILCAT,SILCAT_FLAG_W,NITRIT,NITRIT_FLAG_W,PHSPHT,PHSPHT_FLAG_W,CFC-11,CFC-11_FLAG_W,CFC-12,CFC-12_FLAG_W,CFC113,CFC113_FLAG_W,TCARBN,TCARBN_FLAG_W,ALKALI,ALKALI_FLAG_W,PH_TOT,PH_TOT_FLAG_W,PH_TMP,CHLORA,CHLORA_FLAG_W,PPHYTN,PPHYTN_FLAG_W,BTL_TIME,NO2+NO3,NO2+NO3_FLAG_W,SBE35,SBE35_FLAG_W,CTDDEPTH
,,,,,,,,,,,METERS,DBAR,ITS-90,PSS-78,,PSS-78,,UMOL/KG,,UMOL/KG,,UMOL/KG,,UMOL/KG,,UMOL/KG,,PMOL/KG,,PMOL/KG,,PMOL/KG,,UMOL/KG,,UMOL/KG,,,,DEG C,UG/KG,,UG/KG,,,UMOL/KG,,ITS-90,,METERS
49UP20160703,         P9,      23,          1,          0,        BUC,2,20160710,       2347,    25.5027,    137.012,       4857,     0.0,  29.7810,  35.0127,2,-999.0000,9,    196.3,2,  195.84,2,    1.17,2,    0.00,2,   0.020,2,-999.000,9,-999.000,9,-999.000,9,  -999.0,9,  -999.0,9,-999.0000,9,  -999.00, -999.00,9, -999.00,9,      125,    0.00,2,-999.0000,9,          0
49UP20160703,         P9,      23,          1,         36,        109,2,20160710,       2347,    25.5027,    137.012,       4857,     9.9,  29.5283,  35.0057,2,  35.0051,2,    196.7,2,  196.16,2,    1.22,2,    0.00,2,   0.020,2,-999.000,9,-999.000,9,-999.000,9,  -999.0,9,  -999.0,9,-999.0000,9,  -999.00, -999.00,9, -999.00,9,      155,    0.00,2,  29.5244,2,         10
49UP20160703,         P9,      23,          1,         35,        112,2,20160710,       2347,    25.5027,    137.012,       4857,    25.1,  29.4062,  34.9947,2,  34.9919,2,    197.1,2,  197.52,2,    1.24,2,    0.00,2,   0.010,2,-999.000,9,-999.000,9,-999.000,9,  -999.0,9,  -999.0,9,-999.0000,9,  -999.00, -999.00,9, -999.00,9,      154,    0.00,2,  29.4076,2,         25
49UP20160703,         P9,      23,          1,         34,        094,2,20160710,       2347,    25.5027,    137.012,       4857,    50.3,  25.2630,  34.9822,2,  34.9915,4,    221.3,2,  219.59,2,    1.31,2,    0.00,2,   0.010,2,-999.000,9,-999.000,9,-999.000,9,  -999.0,9,  -999.0,9,-999.0000,9,  -999.00, -999.00,9, -999.00,9,      151,    0.01,2,  25.1863,2,         50
49UP20160703,         P9,      23,          1,         33,        469,2,20160710,       2347,    25.5027,    137.012,       4857,    75.0,  23.4253,  35.0208,2,  35.0207,2,    222.3,2,  221.90,6,    1.43,6,    0.00,6,   0.020,6,-999.000,9,-999.000,9,-999.000,9,  -999.0,9,  -999.0,9,-999.0000,9,  -999.00, -999.00,9, -999.00,9,      150,    0.00,6,  23.4281,2,         75
49UP20160703,         P9,      23,          1,         32,        089,2,20160710,       2347,    25.5027,    137.012,       4857,   100.4,  21.9228,  34.9641,2,  34.9604,2,    218.6,2,  218.51,2,    1.62,2,    0.00,2,   0.020,2,-999.000,9,-999.000,9,-999.000,9,  -999.0,9,  -999.0,9,-999.0000,9,  -999.00, -999.00,9, -999.00,9,      148,    0.00,2,  21.8567,2,        100
49UP20160703,         P9,      23,          1,         31,        515,2,20160710,       2347,    25.5027,    137.012,       4857,   125.3,  20.3041,  34.9240,2,  34.9250,2,    196.4,2,  196.11,2,    2.23,2,    0.04,2,   0.140,2,-999.000,9,-999.000,9,-999.000,9,  -999.0,9,  -999.0,9,-999.0000,9,  -999.00, -999.00,9, -999.00,9,      147,    1.70,2,  20.2985,2,        124
49UP20160703,         P9,      23,          1,         30,        097,2,20160710,       2347,    25.5027,    137.012,       4857,   150.0,  19.4273,  34.8823,2,  34.8834,2,    199.7,2,  199.31,2,    2.46,2,    0.03,2,   0.190,2,-999.000,9,-999.000,9,-999.000,9,  -999.0,9,  -999.0,9,-999.0000,9,  -999.00, -999.00,9, -999.00,9,      146,    2.48,2,  19.4447,2,        149
49UP20160703,         P9,      23,          1,         29,        102,2,20160710,       2347,    25.5027,    137.012,       4857,   201.8,  18.2133,  34.7986,2,  34.7989,2,    204.0,2,  203.79,2,    3.38,2,    0.01,2,   0.260,2,-999.000,9,-999.000,9,-999.000,9,  -999.0,9,  -999.0,9,-999.0000,9,  -999.00, -999.00,9, -999.00,9,      144,    3.63,2,  18.2124,2,        200
49UP20160703,         P9,      23,          1,         28,        472,2,20160710,       2347,    25.5027,    137.012,       4857,   252.8,  17.3507,  34.7391,2,  34.7376,2,    202.2,2,  202.67,2,    4.27,2,    0.01,2,   0.330,2,-999.000,9,-999.000,9,-999.000,9,  -999.0,9,  -999.0,9,-999.0000,9,  -999.00, -999.00,9, -999.00,9,      142,    4.96,2,  17.3485,2,        251
49UP20160703,         P9,      23,          1,         27,        998,2,20160710,       2347,    25.5027,    137.012,       4857,   332.5,  15.9390,  34.6357,2,  34.6360,2,    199.6,2,  199.45,2,    7.14,2,    0.01,2,   0.500,2,-999.000,9,-999.000,9,-999.000,9,  -999.0,9,  -999.0,9,-999.0000,9,  -999.00, -999.00,9, -999.00,9,      139,    7.35,2,  15.9467,2,        330
49UP20160703,         P9,      23,          1,         26,        084,2,20160710,       2347,    25.5027,    137.012,       4857,   434.3,  14.2414,  34.5031,2,  34.5003,2,    189.4,2,  189.67,2,   12.67,2,    0.00,2,   0.770,2,-999.000,9,-999.000,9,-999.000,9,  -999.0,9,  -999.0,9,-999.0000,9,  -999.00, -999.00,9, -999.00,9,      136,   11.06,2,  14.2417,2,        431
49UP20160703,         P9,      23,          1,         25,        098,2,20160710,       2347,    25.5027,    137.012,       4857,   533.0,  11.0486,  34.2848,2,  34.2850,2,    172.7,2,  172.75,2,   25.66,2,    0.00,2,   1.270,2,-999.000,9,-999.000,9,-999.000,9,  -999.0,9,  -999.0,9,-999.0000,9,  -999.00, -999.00,9, -999.00,9,      133,   17.84,2,  11.0437,2,        529
49UP20160703,         P9,      23,          1,         24,        110,2,20160710,       2347,    25.5027,    137.012,       4857,   636.3,   8.5039,  34.1557,2,  34.1558,2,    149.5,2,  148.96,2,   43.09,2,    0.00,2,   1.770,2,-999.000,9,-999.000,9,-999.000,9,  -999.0,9,  -999.0,9,-999.0000,9,  -999.00, -999.00,9, -999.00,9,      130,   24.52,2,   8.5090,2,        631
49UP20160703,         P9,      23,          1,         23,        679,2,20160710,       2347,    25.5027,    137.012,       4857,   736.2,   6.3925,  34.1318,2,  34.1319,2,    112.0,2,  111.26,2,   67.16,2,    0.00,2,   2.290,2,-999.000,9,-999.000,9,-999.000,9,  -999.0,9,  -999.0,9,-999.0000,9,  -999.00, -999.00,9, -999.00,9,      127,   31.59,2,   6.4071,2,        730
49UP20160703,         P9,      23,          1,         22,        111,2,20160710,       2347,    25.5027,    137.012,       4857,   838.5,   5.0871,  34.1888,2,  34.1898,2,     80.5,2,   80.39,2,   89.51,2,    0.00,2,   2.650,2,-999.000,9,-999.000,9,-999.000,9,  -999.0,9,  -999.0,9,-999.0000,9,  -999.00, -999.00,9, -999.00,9,      124,   36.50,2,   5.0866,2,        831
49UP20160703,         P9,      23,          1,         21,        078,2,20160710,       2347,    25.5027,    137.012,       4857,   938.6,   4.2369,  34.2669,2,  34.2676,2,     61.3,2,   61.06,2,  107.58,2,    0.00,2,   2.840,2,-999.000,9,-999.000,9,-999.000,9,  -999.0,9,  -999.0,9,-999.0000,9,  -999.00, -999.00,9, -999.00,9,      121,   39.28,2,   4.2231,2,        930
49UP20160703,         P9,      23,          1,         20,        093,2,20160710,       2347,    25.5027,    137.012,       4857,  1079.7,   3.6044,  34.3579,2,  34.3585,2,     54.4,2,   54.02,2,  122.43,2,    0.00,2,   2.930,2,-999.000,9,-999.000,9,-999.000,9,  -999.0,9,  -999.0,9,-999.0000,9,  -999.00, -999.00,9, -999.00,9,      117,   40.78,2,   3.6028,2,       1070
49UP20160703,         P9,      23,          1,         19,        269,2,20160710,       2347,    25.5027,    137.012,       4857,  1283.6,   2.9550,  34.4566,2,  34.4559,2,     62.2,2,   61.89,2,  135.77,2,    0.00,2,   2.940,2,-999.000,9,-999.000,9,-999.000,9,  -999.0,9,  -999.0,9,-999.0000,9,  -999.00, -999.00,9, -999.00,9,      112,   40.99,2,   2.9550,2,       1271
49UP20160703,         P9,      23,          1,         18,        088,2,20160710,       2347,    25.5027,    137.012,       4857,  1484.6,   2.5511,  34.5185,2,  34.5188,2,     75.9,2,   75.34,2,  142.04,2,    0.00,2,   2.890,2,-999.000,9,-999.000,9,-999.000,9,  -999.0,9,  -999.0,9,-999.0000,9,  -999.00, -999.00,9, -999.00,9,      108,   40.44,2,   2.5509,2,       1470
49UP20160703,         P9,      23,          1,         17,        090,2,20160710,       2347,    25.5027,    137.012,       4857,  1687.2,   2.3214,  34.5702,2,  34.5699,2,     95.0,2,   94.84,2,  141.71,2,    0.00,2,   2.790,2,-999.000,9,-999.000,9,-999.000,9,  -999.0,9,  -999.0,9,-999.0000,9,  -999.00, -999.00,9, -999.00,9,      102,   39.29,2,   2.3212,2,       1670
49UP20160703,         P9,      23,          1,         16,        474,2,20160710,       2347,    25.5027,    137.012,       4857,  1890.8,   2.1173,  34.6012,2,  34.6006,6,    108.3,2,  107.98,2,  142.34,2,    0.00,2,   2.740,2,-999.000,9,-999.000,9,-999.000,9,  -999.0,9,  -999.0,9,-999.0000,9,  -999.00, -999.00,9, -999.00,9,       58,   38.60,2,   2.1173,2,       1870
49UP20160703,         P9,      23,          1,         15,        665,2,20160710,       2347,    25.5027,    137.012,       4857,  2092.6,   1.9601,  34.6170,2,  34.6168,2,    115.6,2,  115.61,6,  143.42,6,    0.00,6,   2.700,6,-999.000,9,-999.000,9,-999.000,9,  -999.0,9,  -999.0,9,-999.0000,9,  -999.00, -999.00,9, -999.00,9,       53,   38.20,6,   1.9595,2,       2069
49UP20160703,         P9,      23,          1,         14,        999,2,20160710,       2347,    25.5027,    137.012,       4857,  2297.3,   1.8386,  34.6327,2,  34.6329,2,    123.3,2,  123.35,2,  143.81,2,    0.00,2,   2.670,2,-999.000,9,-999.000,9,-999.000,9,  -999.0,9,  -999.0,9,-999.0000,9,  -999.00, -999.00,9, -999.00,9,       48,   37.79,2,   1.8386,2,       2270
49UP20160703,         P9,      23,          1,         13,        667,2,20160710,       2347,    25.5027,    137.012,       4857,  2500.3,   1.7586,  34.6437,2,  34.6430,2,    129.2,2,  129.29,2,  143.71,2,    0.00,2,   2.630,2,-999.000,9,-999.000,9,-999.000,9,  -999.0,9,  -999.0,9,-999.0000,9,  -999.00, -999.00,9, -999.00,9,       44,   37.45,2,   1.7586,2,       2469
49UP20160703,         P9,      23,          1,         12,        074,2,20160710,       2347,    25.5027,    137.012,       4857,  2704.5,   1.6980,  34.6517,2,  34.6511,2,    134.0,2,  133.75,2,  143.68,2,    0.00,2,   2.610,2,-999.000,9,-999.000,9,-999.000,9,  -999.0,9,  -999.0,9,-999.0000,9,  -999.00, -999.00,9, -999.00,9,       39,   37.20,2,   1.6979,2,       2670
49UP20160703,         P9,      23,          1,         11,        268,2,20160710,       2347,    25.5027,    137.012,       4857,  2907.6,   1.6443,  34.6593,2,  34.6590,2,    138.4,2,  138.10,2,  143.65,2,    0.00,2,   2.590,2,-999.000,9,-999.000,9,-999.000,9,  -999.0,9,  -999.0,9,-999.0000,9,  -999.00, -999.00,9, -999.00,9,       34,   36.88,2,   1.6447,2,       2869
49UP20160703,         P9,      23,          1,         10,        267,2,20160710,       2347,    25.5027,    137.012,       4857,  3122.3,   1.5920,  34.6661,2,  34.6659,2,    143.4,2,  143.38,2,  143.10,2,    0.00,2,   2.560,2,-999.000,9,-999.000,9,-999.000,9,  -999.0,9,  -999.0,9,-999.0000,9,  -999.00, -999.00,9, -999.00,9,       29,   36.60,2,   1.5918,2,       3079
49UP20160703,         P9,      23,          1,          9,        518,2,20160710,       2347,    25.5027,    137.012,       4857,  3378.8,   1.5641,  34.6713,2,  34.6707,6,    147.1,2,  146.85,2,  142.91,2,    0.00,2,   2.550,2,-999.000,9,-999.000,9,-999.000,9,  -999.0,9,  -999.0,9,-999.0000,9,  -999.00, -999.00,9, -999.00,9,       23,   36.42,2,   1.5641,2,       3330
49UP20160703,         P9,      23,          1,          8,        470,2,20160710,       2347,    25.5027,    137.012,       4857,  3634.7,   1.5492,  34.6757,2,  34.6755,2,    150.1,2,  150.24,6,  142.24,6,    0.00,6,   2.530,6,-999.000,9,-999.000,9,-999.000,9,  -999.0,9,  -999.0,9,-999.0000,9,  -999.00, -999.00,9, -999.00,9,       17,   36.18,6,   1.5492,2,       3580
49UP20160703,         P9,      23,          1,          6,        113,2,20160710,       2347,    25.5027,    137.012,       4857,  3889.3,   1.5424,  34.6791,2,  34.6783,2,    152.8,2,  152.86,2,  141.81,2,    0.00,2,   2.510,2,-999.000,9,-999.000,9,-999.000,9,  -999.0,9,  -999.0,9,-999.0000,9,  -999.00, -999.00,9, -999.00,9,       11,   36.01,2,   1.5424,2,       3829
49UP20160703,         P9,      23,          1,          7,        516,3,20160710,       2347,    25.5027,    137.012,       4857,  3890.3,   1.5427,  34.6791,2,  34.6788,2,    152.9,2,  152.86,2,  141.96,2,    0.00,2,   2.510,2,-999.000,9,-999.000,9,-999.000,9,  -999.0,9,  -999.0,9,-999.0000,9,  -999.00, -999.00,9, -999.00,9,       11,   36.07,2,   1.5427,2,       3830
49UP20160703,         P9,      23,          1,          5,        658,2,20160710,       2347,    25.5027,    137.012,       4857,  4146.7,   1.5457,  34.6815,2,  34.6814,2,    155.0,2,  155.03,2,  141.42,2,    0.00,2,   2.500,2,-999.000,9,-999.000,9,-999.000,9,  -999.0,9,  -999.0,9,-999.0000,9,  -999.00, -999.00,9, -999.00,9,        5,   35.91,2,   1.5457,2,       4080
49UP20160703,         P9,      23,          1,          4,        471,2,20160710,       2347,    25.5027,    137.012,       4857,  4403.8,   1.5643,  34.6825,2,  34.6819,2,    155.9,2,  156.31,2,  141.15,2,    0.00,2,   2.500,2,-999.000,9,-999.000,9,-999.000,9,  -999.0,9,  -999.0,9,-999.0000,9,  -999.00, -999.00,9, -999.00,9,     2359,   35.81,2,   1.5643,2,       4331
49UP20160703,         P9,      23,          1,          3,        104,2,20160710,       2347,    25.5027,    137.012,       4857,  4659.0,   1.5879,  34.6830,2,  34.6827,2,    156.6,2,  156.65,2,  140.90,2,    0.00,2,   2.490,2,-999.000,9,-999.000,9,-999.000,9,  -999.0,9,  -999.0,9,-999.0000,9,  -999.00, -999.00,9, -999.00,9,     2354,   35.81,2,   1.5880,2,       4579
49UP20160703,         P9,      23,          1,          2,        075,2,20160710,       2347,    25.5027,    137.012,       4857,  4659.7,   1.5882,  34.6830,2,  34.6831,2,    156.5,2,  156.69,2,  140.94,2,    0.00,2,   2.490,2,-999.000,9,-999.000,9,-999.000,9,  -999.0,9,  -999.0,9,-999.0000,9,  -999.00, -999.00,9, -999.00,9,     2354,   35.78,2,   1.5883,2,       4580
49UP20160703,         P9,      23,          1,          1,        997,2,20160710,       2347,    25.5027,    137.012,       4857,  4941.3,   1.6167,  34.6834,2,  34.6833,6,    157.2,2,  157.03,6,  140.98,6,    0.00,6,   2.490,6,-999.000,9,-999.000,9,-999.000,9,  -999.0,9,  -999.0,9,-999.0000,9,  -999.00, -999.00,9, -999.00,9,     2347,   35.83,6,   1.6169,2,       4853