BOTTLE,20230712CCHSIOENA
EXPOCODE,SECT_ID,STNNBR,CASTNO,SAMPNO,BTLNBR,BTLNBR_FLAG_W,DATE,TIME,LATITUDE,LONGITUDE,DEPTH,CTDPRS,CTDTMP,CTDSAL,CTDSAL_FLAG_W,SALNTY,SALNTY_FLAG_W,CTDOXY,CTDOXY_FLAG_W,OXYGEN,OXYGEN_FLAG_W,SILCAT,SILCAT_FLAG_W,NITRIT,NITRIT_FLAG_W,PHSPHT,PHSPHT_FLAG_W,CFC-11,CFC-11_FLAG_W,CFC-12,CFC-12_FLAG_W,CFC113,CFC113_FLAG_W,TCARBN,TCARBN_FLAG_W,ALKALI,ALKALI_FLAG_W,PH_TOT,PH_TOT_FLAG_W,PH_TMP,CHLORA,CHLORA_FLAG_W,PPHYTN,PPHYTN_FLAG_W,BTL_TIME,NO2+NO3,NO2+NO3_FLAG_W,SBE35,SBE35_FLAG_W,CTDDEPTH
,,,,,,,,,,,METERS,DBAR,ITS-90,PSS-78,,PSS-78,,UMOL/KG,,UMOL/KG,,UMOL/KG,,UMOL/KG,,UMOL/KG,,PMOL/KG,,PMOL/KG,,PMOL/KG,,UMOL/KG,,UMOL/KG,,,,DEG C,UG/KG,,UG/KG,,,UMOL/KG,,ITS-90,,METERS
49UP20160703,         P9,      10,          1,          0,        BUC,2,20160706,       1651,    31.3188,   137.0188,       4068,     0.0,  28.3036,  34.4388,2,-999.0000,9,    201.8,2,  201.68,2,    1.51,2,    0.00,2,   0.020,2,-999.000,9,-999.000,9,-999.000,9,  -999.0,9,  -999.0,9,-999.0000,9,  -999.00, -999.00,9, -999.00,9,     1810,    0.01,2,-999.0000,9,          0
49UP20160703,         P9,      10,          1,         35,        112,2,20160706,       1651,    31.3188,   137.0188,       4068,    10.6,  27.6773,  34.4197,2,  34.4242,2,    203.1,2,  205.07,2,    1.43,2,    0.00,2,   0.010,2,-999.000,9,-999.000,9,-999.000,9,  -999.0,9,  -999.0,9,-999.0000,9,  -999.00, -999.00,9, -999.00,9,     1833,    0.02,2,  27.5857,2,         11
49UP20160703,         P9,      10,          1,         34,        094,2,20160706,       1651,    31.3188,   137.0188,       4068,    26.0,  25.3667,  34.4203,2,  34.4367,4,    212.0,2,  213.05,2,    1.52,2,    0.00,2,   0.000,2,-999.000,9,-999.000,9,-999.000,9,  -999.0,9,  -999.0,9,-999.0000,9,  -999.00, -999.00,9, -999.00,9,     1832,    0.00,2,  25.3669,2,         26
49UP20160703,         P9,      10,          1,         33,        469,2,20160706,       1651,    31.3188,   137.0188,       4068,    50.4,  21.3570,  34.8278,2,  34.8385,4,    235.5,2,  237.03,2,    1.64,2,    0.00,2,   0.010,2,-999.000,9,-999.000,9,-999.000,9,  -999.0,9,  -999.0,9,-999.0000,9,  -999.00, -999.00,9, -999.00,9,     1828,    0.00,2,  21.3556,2,         50
49UP20160703,         P9,      10,          1,         32,        089,2,20160706,       1651,    31.3188,   137.0188,       4068,    74.6,  20.1267,  34.8768,2,  34.8821,2,    232.2,2,  232.16,2,    1.66,2,    0.00,2,   0.010,2,-999.000,9,-999.000,9,-999.000,9,  -999.0,9,  -999.0,9,-999.0000,9,  -999.00, -999.00,9, -999.00,9,     1827,    0.01,2,  20.1257,2,         74
49UP20160703,         P9,      10,          1,         31,        515,2,20160706,       1651,    31.3188,   137.0188,       4068,   100.9,  19.6811,  34.8943,2,  34.8954,2,    223.8,2,  222.36,2,    1.71,2,    0.04,2,   0.040,2,-999.000,9,-999.000,9,-999.000,9,  -999.0,9,  -999.0,9,-999.0000,9,  -999.00, -999.00,9, -999.00,9,     1825,    0.24,2,  19.6761,2,        100
49UP20160703,         P9,      10,          1,         30,        097,2,20160706,       1651,    31.3188,   137.0188,       4068,   101.9,  19.6768,  34.8948,2,  34.8958,2,    223.7,2,  222.27,2,    1.71,2,    0.04,2,   0.040,2,-999.000,9,-999.000,9,-999.000,9,  -999.0,9,  -999.0,9,-999.0000,9,  -999.00, -999.00,9, -999.00,9,     1825,    0.25,2,  19.6736,2,        101
49UP20160703,         P9,      10,          1,         29,        102,2,20160706,       1651,    31.3188,   137.0188,       4068,   126.0,  19.4505,  34.8944,2,  34.8939,2,    215.5,2,  215.57,2,    1.94,2,    0.03,2,   0.100,2,-999.000,9,-999.000,9,-999.000,9,  -999.0,9,  -999.0,9,-999.0000,9,  -999.00, -999.00,9, -999.00,9,     1824,    1.43,2,  19.4550,2,        125
49UP20160703,         P9,      10,          1,         28,        472,2,20160706,       1651,    31.3188,   137.0188,       4068,   151.7,  19.3917,  34.8913,2,  34.8899,2,    215.3,2,  215.15,2,    2.04,2,    0.02,2,   0.110,2,-999.000,9,-999.000,9,-999.000,9,  -999.0,9,  -999.0,9,-999.0000,9,  -999.00, -999.00,9, -999.00,9,     1823,    1.54,2,  19.3910,2,        151
49UP20160703,         P9,      10,          1,         27,        998,2,20160706,       1651,    31.3188,   137.0188,       4068,   202.7,  19.0358,  34.8611,2,  34.8589,2,    212.9,2,  212.98,2,    2.44,2,    0.01,2,   0.150,2,-999.000,9,-999.000,9,-999.000,9,  -999.0,9,  -999.0,9,-999.0000,9,  -999.00, -999.00,9, -999.00,9,     1821,    2.07,2,  19.0379,2,        201
49UP20160703,         P9,      10,          1,         26,        084,2,20160706,       1651,    31.3188,   137.0188,       4068,   252.2,  18.6114,  34.8343,2,  34.8329,2,    212.7,2,  212.78,2,    2.72,2,    0.01,2,   0.170,2,-999.000,9,-999.000,9,-999.000,9,  -999.0,9,  -999.0,9,-999.0000,9,  -999.00, -999.00,9, -999.00,9,     1819,    2.54,2,  18.6119,2,        250
49UP20160703,         P9,      10,          1,         25,        098,2,20160706,       1651,    31.3188,   137.0188,       4068,   302.8,  18.1127,  34.7989,2,  34.7979,6,    204.7,2,  204.92,2,    3.32,2,    0.01,2,   0.240,2,-999.000,9,-999.000,9,-999.000,9,  -999.0,9,  -999.0,9,-999.0000,9,  -999.00, -999.00,9, -999.00,9,     1818,    3.75,2,  18.1123,2,        300
49UP20160703,         P9,      10,          1,         24,        110,2,20160706,       1651,    31.3188,   137.0188,       4068,   404.3,  16.9675,  34.7173,2,  34.7172,2,    204.4,2,  204.43,6,    4.82,6,    0.00,6,   0.360,6,-999.000,9,-999.000,9,-999.000,9,  -999.0,9,  -999.0,9,-999.0000,9,  -999.00, -999.00,9, -999.00,9,     1815,    5.35,6,  16.9676,2,        401
49UP20160703,         P9,      10,          1,         23,        679,2,20160706,       1651,    31.3188,   137.0188,       4068,   505.0,  15.8245,  34.6271,2,  34.6266,2,    196.2,2,  196.38,2,    8.01,2,    0.00,2,   0.540,2,-999.000,9,-999.000,9,-999.000,9,  -999.0,9,  -999.0,9,-999.0000,9,  -999.00, -999.00,9, -999.00,9,     1813,    7.90,2,  15.8244,2,        501
49UP20160703,         P9,      10,          1,         22,        111,2,20160706,       1651,    31.3188,   137.0188,       4068,   606.2,  13.4606,  34.4535,2,  34.4549,2,    179.3,2,  179.83,2,   16.56,2,    0.00,2,   0.920,2,-999.000,9,-999.000,9,-999.000,9,  -999.0,9,  -999.0,9,-999.0000,9,  -999.00, -999.00,9, -999.00,9,     1810,   13.25,2,  13.4611,2,        601
49UP20160703,         P9,      10,          1,         21,        078,2,20160706,       1651,    31.3188,   137.0188,       4068,   707.3,  10.8930,  34.2920,2,  34.2927,2,    163.2,2,  163.24,2,   28.19,2,    0.00,2,   1.340,2,-999.000,9,-999.000,9,-999.000,9,  -999.0,9,  -999.0,9,-999.0000,9,  -999.00, -999.00,9, -999.00,9,     1808,   18.95,2,  10.8915,2,        701
49UP20160703,         P9,      10,          1,         19,        269,2,20160706,       1651,    31.3188,   137.0188,       4068,   808.5,   8.4776,  34.1916,2,  34.1928,2,    138.6,2,  138.98,2,   45.97,2,    0.00,2,   1.820,2,-999.000,9,-999.000,9,-999.000,9,  -999.0,9,  -999.0,9,-999.0000,9,  -999.00, -999.00,9, -999.00,9,     1805,   25.33,2,   8.4754,2,        801
49UP20160703,         P9,      10,          1,         20,        093,2,20160706,       1651,    31.3188,   137.0188,       4068,   809.4,   8.4648,  34.1917,2,  34.1934,2,    138.2,2,  138.84,2,   45.91,2,    0.00,2,   1.820,2,-999.000,9,-999.000,9,-999.000,9,  -999.0,9,  -999.0,9,-999.0000,9,  -999.00, -999.00,9, -999.00,9,     1805,   25.34,2,   8.4673,2,        802
49UP20160703,         P9,      10,          1,         18,        088,2,20160706,       1651,    31.3188,   137.0188,       4068,   910.5,   6.5319,  34.1829,2,  34.1826,2,    107.7,2,  108.01,2,   69.04,2,    0.00,2,   2.270,2,-999.000,9,-999.000,9,-999.000,9,  -999.0,9,  -999.0,9,-999.0000,9,  -999.00, -999.00,9, -999.00,9,     1802,   31.45,2,   6.5341,2,        902
49UP20160703,         P9,      10,          1,         17,        090,2,20160706,       1651,    31.3188,   137.0188,       4068,  1010.4,   5.2071,  34.2485,2,  34.2469,2,     79.8,2,   79.99,2,   91.14,2,    0.00,2,   2.600,2,-999.000,9,-999.000,9,-999.000,9,  -999.0,9,  -999.0,9,-999.0000,9,  -999.00, -999.00,9, -999.00,9,     1759,   36.10,2,   5.2093,2,       1001
49UP20160703,         P9,      10,          1,         16,        474,2,20160706,       1651,    31.3188,   137.0188,       4068,  1213.6,   3.7841,  34.3715,2,  34.3711,2,     60.5,2,   60.57,2,  118.93,2,    0.00,2,   2.860,2,-999.000,9,-999.000,9,-999.000,9,  -999.0,9,  -999.0,9,-999.0000,9,  -999.00, -999.00,9, -999.00,9,     1754,   39.84,2,   3.7845,2,       1202
49UP20160703,         P9,      10,          1,         15,        665,2,20160706,       1651,    31.3188,   137.0188,       4068,  1415.6,   3.1116,  34.4491,2,  34.4490,6,     62.5,2,   62.60,2,  132.71,2,    0.00,2,   2.900,2,-999.000,9,-999.000,9,-999.000,9,  -999.0,9,  -999.0,9,-999.0000,9,  -999.00, -999.00,9, -999.00,9,     1749,   40.58,2,   3.1111,2,       1401
49UP20160703,         P9,      10,          1,         14,        999,2,20160706,       1651,    31.3188,   137.0188,       4068,  1619.3,   2.7346,  34.4976,2,  34.4974,2,     70.0,2,   70.10,6,  139.52,6,    0.00,6,   2.880,6,-999.000,9,-999.000,9,-999.000,9,  -999.0,9,  -999.0,9,-999.0000,9,  -999.00, -999.00,9, -999.00,9,     1744,   40.47,6,   2.7347,2,       1602
49UP20160703,         P9,      10,          1,         13,        667,2,20160706,       1651,    31.3188,   137.0188,       4068,  1821.1,   2.3938,  34.5447,2,  34.5443,2,     82.6,2,   82.87,2,  144.17,2,    0.00,2,   2.830,2,-999.000,9,-999.000,9,-999.000,9,  -999.0,9,  -999.0,9,-999.0000,9,  -999.00, -999.00,9, -999.00,9,     1739,   39.91,2,   2.3940,2,       1801
49UP20160703,         P9,      10,          1,         12,        074,2,20160706,       1651,    31.3188,   137.0188,       4068,  2024.5,   2.1500,  34.5801,2,  34.5797,2,     95.8,2,   95.69,2,  145.83,2,    0.00,2,   2.770,2,-999.000,9,-999.000,9,-999.000,9,  -999.0,9,  -999.0,9,-999.0000,9,  -999.00, -999.00,9, -999.00,9,     1735,   39.23,2,   2.1514,2,       2001
49UP20160703,         P9,      10,          1,         11,        268,2,20160706,       1651,    31.3188,   137.0188,       4068,  2227.8,   2.0077,  34.6021,2,  34.6023,2,    106.4,2,  106.37,2,  145.78,2,    0.00,2,   2.730,2,-999.000,9,-999.000,9,-999.000,9,  -999.0,9,  -999.0,9,-999.0000,9,  -999.00, -999.00,9, -999.00,9,     1731,   38.59,2,   2.0075,2,       2201
49UP20160703,         P9,      10,          1,         10,        267,2,20160706,       1651,    31.3188,   137.0188,       4068,  2431.1,   1.8687,  34.6231,2,  34.6231,6,    117.0,2,  117.00,2,  145.29,2,    0.00,2,   2.680,2,-999.000,9,-999.000,9,-999.000,9,  -999.0,9,  -999.0,9,-999.0000,9,  -999.00, -999.00,9, -999.00,9,     1726,   37.97,2,   1.8685,2,       2400
49UP20160703,         P9,      10,          1,          9,        518,2,20160706,       1651,    31.3188,   137.0188,       4068,  2634.6,   1.7684,  34.6385,2,  34.6390,2,    126.0,2,  126.32,6,  144.53,6,    0.00,6,   2.640,6,-999.000,9,-999.000,9,-999.000,9,  -999.0,9,  -999.0,9,-999.0000,9,  -999.00, -999.00,9, -999.00,9,     1722,   37.44,6,   1.7683,2,       2600
49UP20160703,         P9,      10,          1,          8,        470,2,20160706,       1651,    31.3188,   137.0188,       4068,  2839.1,   1.6836,  34.6513,2,  34.6517,2,    133.6,2,  134.03,2,  143.61,2,    0.00,2,   2.590,2,-999.000,9,-999.000,9,-999.000,9,  -999.0,9,  -999.0,9,-999.0000,9,  -999.00, -999.00,9, -999.00,9,     1718,   36.98,2,   1.6845,2,       2801
49UP20160703,         P9,      10,          1,          7,        516,2,20160706,       1651,    31.3188,   137.0188,       4068,  3042.9,   1.6036,  34.6628,2,  34.6629,6,    141.1,2,  141.10,2,  142.96,2,    0.00,2,   2.560,2,-999.000,9,-999.000,9,-999.000,9,  -999.0,9,  -999.0,9,-999.0000,9,  -999.00, -999.00,9, -999.00,9,     1713,   36.55,2,   1.6035,2,       3000
49UP20160703,         P9,      10,          1,          6,        113,2,20160706,       1651,    31.3188,   137.0188,       4068,  3298.2,   1.5374,  34.6730,2,  34.6727,2,    148.0,2,  148.09,2,  142.10,2,    0.00,2,   2.520,2,-999.000,9,-999.000,9,-999.000,9,  -999.0,9,  -999.0,9,-999.0000,9,  -999.00, -999.00,9, -999.00,9,     1708,   36.08,2,   1.5374,2,       3250
49UP20160703,         P9,      10,          1,          5,        658,2,20160706,       1651,    31.3188,   137.0188,       4068,  3554.2,   1.5238,  34.6773,2,  34.6772,2,    151.0,2,  151.13,2,  141.69,2,    0.00,2,   2.510,2,-999.000,9,-999.000,9,-999.000,9,  -999.0,9,  -999.0,9,-999.0000,9,  -999.00, -999.00,9, -999.00,9,     1703,   35.91,2,   1.5238,2,       3500
49UP20160703,         P9,      10,          1,          4,        471,2,20160706,       1651,    31.3188,   137.0188,       4068,  3810.6,   1.5261,  34.6800,2,  34.6801,6,    152.9,2,  152.99,6,  141.42,6,    0.00,6,   2.500,6,-999.000,9,-999.000,9,-999.000,9,  -999.0,9,  -999.0,9,-999.0000,9,  -999.00, -999.00,9, -999.00,9,     1657,   35.78,6,   1.5261,2,       3751
49UP20160703,         P9,      10,          1,          1,        997,2,20160706,       1651,    31.3188,   137.0188,       4068,  4109.3,   1.5437,  34.6814,2,  34.6812,2,    154.4,2,  154.40,2,  141.06,2,    0.00,2,   2.490,2,-999.000,9,-999.000,9,-999.000,9,  -999.0,9,  -999.0,9,-999.0000,9,  -999.00, -999.00,9, -999.00,9,     1651,   35.70,2,   1.5436,2,       4042
49UP20160703,         P9,      10,          1,          2,        075,2,20160706,       1651,    31.3188,   137.0188,       4068,  4109.6,   1.5436,  34.6814,2,  34.6812,2,    154.4,2,  154.52,2,  140.89,2,    0.00,2,   2.500,2,-999.000,9,-999.000,9,-999.000,9,  -999.0,9,  -999.0,9,-999.0000,9,  -999.00, -999.00,9, -999.00,9,     1652,   35.72,2,   1.5435,2,       4042