BOTTLE,20230712CCHSIOENA
EXPOCODE,SECT_ID,STNNBR,CASTNO,SAMPNO,BTLNBR,BTLNBR_FLAG_W,DATE,TIME,LATITUDE,LONGITUDE,DEPTH,CTDPRS,CTDTMP,CTDSAL,CTDSAL_FLAG_W,SALNTY,SALNTY_FLAG_W,CTDOXY,CTDOXY_FLAG_W,OXYGEN,OXYGEN_FLAG_W,SILCAT,SILCAT_FLAG_W,NITRIT,NITRIT_FLAG_W,PHSPHT,PHSPHT_FLAG_W,CFC-11,CFC-11_FLAG_W,CFC-12,CFC-12_FLAG_W,CFC113,CFC113_FLAG_W,TCARBN,TCARBN_FLAG_W,ALKALI,ALKALI_FLAG_W,PH_TOT,PH_TOT_FLAG_W,PH_TMP,CHLORA,CHLORA_FLAG_W,PPHYTN,PPHYTN_FLAG_W,BTL_TIME,NO2+NO3,NO2+NO3_FLAG_W,SBE35,SBE35_FLAG_W,CTDDEPTH
,,,,,,,,,,,METERS,DBAR,ITS-90,PSS-78,,PSS-78,,UMOL/KG,,UMOL/KG,,UMOL/KG,,UMOL/KG,,UMOL/KG,,PMOL/KG,,PMOL/KG,,PMOL/KG,,UMOL/KG,,UMOL/KG,,,,DEG C,UG/KG,,UG/KG,,,UMOL/KG,,ITS-90,,METERS
49UP20160703,         P9,      42,          1,          0,        BUC,2,20160717,       0713,    16.0032,   136.9767,       5032,     0.0,  30.2121,  34.8964,2,  34.8993,2,    194.6,2,  194.42,2,    0.97,2,    0.00,2,   0.020,2,-999.000,9,-999.000,9,-999.000,9,  1955.9,2,  2293.0,2,   8.1134,2,    25.00,    0.05,2,    0.02,2,      905,    0.04,2,-999.0000,9,          0
49UP20160703,         P9,      42,          1,         36,        109,2,20160717,       0713,    16.0032,   136.9767,       5032,    10.9,  30.0017,  34.8906,2,  34.8900,2,    195.6,2,  194.92,2,    0.93,2,    0.00,2,   0.020,2,   1.489,2,   0.925,2,   0.112,2,  1954.5,2,  2291.9,2,   8.1162,2,    25.00,    0.06,2,    0.02,2,      939,    0.03,2,  30.0151,2,         11
49UP20160703,         P9,      42,          1,         35,        112,2,20160717,       0713,    16.0032,   136.9767,       5032,    50.5,  28.8463,  34.9506,2,  34.9526,2,    209.0,2,  208.82,2,    0.93,2,    0.00,2,   0.020,2,   1.626,2,   0.985,2,   0.123,2,  1963.0,2,  2297.0,2,   8.1139,2,    25.00,    0.09,2,    0.04,2,      935,    0.04,2,  28.8454,2,         50
49UP20160703,         P9,      42,          1,         34,        094,2,20160717,       0713,    16.0032,   136.9767,       5032,   101.0,  26.3561,  35.1672,2,  35.1675,2,    204.9,2,  203.72,2,    0.88,2,    0.00,2,   0.030,2,   1.703,2,   1.049,2,   0.126,2,  1981.1,2,  2309.2,2,    8.093,2,    25.00,    0.23,2,    0.26,2,      933,    0.03,2,  26.3601,2,        100
49UP20160703,         P9,      42,          1,         33,        469,2,20160717,       0713,    16.0032,   136.9767,       5032,   125.5,  24.5247,  35.1794,2,  35.1863,2,    193.7,2,  193.89,2,    1.34,2,    0.22,2,   0.120,2,   1.862,6,   1.140,6,   0.126,6,  2014.5,2,  2310.9,2,   8.0419,2,    25.00,    0.21,2,    0.26,2,      932,    0.35,2,  24.5214,2,        125
49UP20160703,         P9,      42,          1,         32,        089,2,20160717,       0713,    16.0032,   136.9767,       5032,   151.5,  22.6152,  35.2135,2,  35.2139,6,    185.6,2,  185.93,2,    1.70,2,    0.02,2,   0.160,2,   2.017,2,   1.262,2,   0.097,2,  2043.2,6,  2313.1,6,   7.9986,2,    25.00,    0.05,2,    0.20,2,      930,    0.91,2,  22.6105,2,        151
49UP20160703,         P9,      42,          1,         31,        515,2,20160717,       0713,    16.0032,   136.9767,       5032,   202.0,  19.7291,  35.0064,2,  34.9989,2,    181.9,2,  182.17,6,    3.10,6,    0.01,6,   0.310,6,   2.247,2,   1.380,2,   0.033,2,  2056.2,2,  2299.6,2,   7.9427,2,    25.00,    0.02,2,    0.05,2,      928,    3.51,6,  19.7354,2,        201
49UP20160703,         P9,      42,          1,         30,        097,2,20160717,       0713,    16.0032,   136.9767,       5032,   252.0,  16.1091,  34.6412,2,  34.6405,2,    182.0,2,  182.41,2,    6.99,2,    0.00,2,   0.600,2,   2.544,2,   1.522,2,   0.041,2,  2075.9,2,  2277.5,2,    7.871,2,    25.00, -999.00,9, -999.00,9,      926,    8.00,2,  16.1097,2,        250
49UP20160703,         P9,      42,          1,         29,        102,2,20160717,       0713,    16.0032,   136.9767,       5032,   282.9,  14.4118,  34.5072,2,  34.5043,2,    154.1,2,  155.89,2,   12.48,2,    0.00,2,   0.990,2,   2.555,2,   1.479,2,   0.037,2,  2116.4,2,  2276.0,2,   7.7827,6,    25.00, -999.00,9, -999.00,9,      925,   13.18,2,  14.4129,2,        281
49UP20160703,         P9,      42,          1,         28,        472,2,20160717,       0713,    16.0032,   136.9767,       5032,   322.5,  12.2456,  34.3405,2,  34.3411,2,    156.4,2,  155.78,2,   17.90,2,    0.00,2,   1.220,2,-999.000,9,-999.000,9,-999.000,9,  2130.0,2,  2269.9,2,   7.7267,2,    25.00, -999.00,9, -999.00,9,      923,   16.60,2,  12.2483,2,        320
49UP20160703,         P9,      42,          1,         27,        998,2,20160717,       0713,    16.0032,   136.9767,       5032,   373.2,  10.4766,  34.2536,2,  34.2562,6,    142.2,2,  140.48,2,   26.31,2,    0.00,2,   1.560,2,   2.539,2,   1.390,2,   0.042,2,  2168.4,2,  2272.1,2,   7.6553,2,    25.00, -999.00,9, -999.00,9,      921,   21.28,2,  10.4768,2,        371
49UP20160703,         P9,      42,          1,         26,        084,2,20160717,       0713,    16.0032,   136.9767,       5032,   423.2,   8.8518,  34.2403,2,  34.2426,2,    110.5,2,  109.81,6,   38.80,6,    0.00,6,   1.980,6,-999.000,9,-999.000,9,-999.000,9,  2204.1,2,  2282.5,2,   7.5679,2,    25.00, -999.00,9, -999.00,9,      919,   27.26,6,   8.8458,2,        420
49UP20160703,         P9,      42,          1,         25,        098,2,20160717,       0713,    16.0032,   136.9767,       5032,   473.9,   7.9456,  34.2963,2,  34.2954,2,     85.1,2,   83.54,2,   49.22,2,    0.00,2,   2.300,2,   1.284,2,   0.634,2,   0.025,2,  2232.3,2,  2295.5,2,   7.5075,2,    25.00, -999.00,9, -999.00,9,      917,   31.58,2,   7.9375,2,        471
49UP20160703,         P9,      42,          1,         24,        110,2,20160717,       0713,    16.0032,   136.9767,       5032,   575.0,   6.5853,  34.3518,2,  34.3529,2,     68.9,2,   69.09,2,   65.16,2,    0.00,2,   2.570,2,   0.631,2,   0.295,2,   0.014,2,  2269.8,2,  2314.6,2,   7.4664,2,    25.00, -999.00,9, -999.00,9,      914,   35.59,2,   6.5847,2,        571
49UP20160703,         P9,      42,          1,         23,        679,2,20160717,       0713,    16.0032,   136.9767,       5032,   675.8,   5.6491,  34.4266,2,  34.4282,2,     68.9,2,   68.95,2,   78.33,2,    0.00,2,   2.690,2,   0.270,2,   0.135,2,   0.007,2,  2285.7,2,  2334.6,2,   7.4616,2,    25.00, -999.00,9, -999.00,9,      909,   37.43,2,   5.6491,2,        671
49UP20160703,         P9,      42,          1,         22,        111,2,20160717,       0713,    16.0032,   136.9767,       5032,   776.8,   5.1578,  34.4678,2,  34.4685,2,     72.7,2,   73.39,2,   85.51,2,    0.00,2,   2.730,2,   0.167,2,   0.088,2,   0.014,2,  2295.7,2,  2344.9,2,   7.4683,2,    25.00, -999.00,9, -999.00,9,      906,   37.97,2,   5.1576,2,        771
49UP20160703,         P9,      42,          1,         21,        078,2,20160717,       0713,    16.0032,   136.9767,       5032,   877.7,   4.7179,  34.4955,2,  34.4952,2,     77.4,2,   77.28,2,   92.95,2,    0.00,2,   2.740,2,   0.125,6,   0.063,6,   0.008,6,  2298.4,2,  2352.3,2,   7.4735,2,    25.00, -999.00,9, -999.00,9,      904,   38.28,2,   4.7177,2,        871
49UP20160703,         P9,      42,          1,         20,        093,2,20160717,       0713,    16.0032,   136.9767,       5032,   978.9,   4.2789,  34.5167,2,  34.5183,2,     82.1,2,   82.00,2,  101.31,2,    0.00,2,   2.750,2,   0.095,2,   0.047,2,   0.001,2,  2310.8,2,  2364.2,2,   7.4813,2,    25.00, -999.00,9, -999.00,9,      901,   38.45,2,   4.2788,2,        971
49UP20160703,         P9,      42,          1,         19,        269,2,20160717,       0713,    16.0032,   136.9767,       5032,  1139.8,   3.6798,  34.5398,2,  34.5394,2,     87.6,2,   87.67,2,  113.18,2,    0.00,2,   2.750,2,   0.078,2,   0.037,2,   0.008,2,  2323.3,2,  2375.8,2,   7.4897,2,    25.00, -999.00,9, -999.00,9,      856,   38.51,2,   3.6796,2,       1130
49UP20160703,         P9,      42,          1,         18,        088,2,20160717,       0713,    16.0032,   136.9767,       5032,  1342.3,   3.1217,  34.5628,2,  34.5633,2,     94.2,2,   94.05,2,  124.75,2,    0.00,2,   2.740,2,   0.050,2,   0.013,2,   0.016,2,  2337.3,2,  2388.8,2,   7.4921,2,    25.00, -999.00,9, -999.00,9,      852,   38.49,2,   3.1219,2,       1330
49UP20160703,         P9,      42,          1,         17,        090,2,20160717,       0713,    16.0032,   136.9767,       5032,  1545.0,   2.7142,  34.5865,2,  34.5868,2,     99.9,2,   99.94,2,  131.48,2,    0.00,2,   2.740,2,-999.000,9,-999.000,9,-999.000,9,  2335.6,2,  2396.4,2,   7.5009,2,    25.00, -999.00,9, -999.00,9,      847,   38.63,2,   2.7148,2,       1530
49UP20160703,         P9,      42,          1,         16,        474,2,20160717,       0713,    16.0032,   136.9767,       5032,  1748.3,   2.3810,  34.6037,2,  34.6037,2,    104.9,2,  104.92,2,  137.11,2,    0.00,2,   2.730,2,-999.000,9,-999.000,9,-999.000,9,  2344.1,2,  2403.3,2,   7.5061,2,    25.00, -999.00,9, -999.00,9,      841,   38.62,2,   2.3815,2,       1731
49UP20160703,         P9,      42,          1,         15,        665,2,20160717,       0713,    16.0032,   136.9767,       5032,  1951.9,   2.1186,  34.6212,2,  34.6217,2,    111.8,2,  111.97,2,  141.11,2,    0.00,2,   2.700,2,   0.005,2,   0.000,2,   0.000,2,  2347.6,2,  2408.8,2,   7.5173,2,    25.00, -999.00,9, -999.00,9,      835,   38.37,2,   2.1186,2,       1931
49UP20160703,         P9,      42,          1,         14,        999,2,20160717,       0713,    16.0032,   136.9767,       5032,  2153.4,   1.9614,  34.6350,2,  34.6358,2,    118.3,2,  118.35,2,  143.09,2,    0.00,2,   2.670,2,-999.000,9,-999.000,9,-999.000,9,  2346.1,2,  2410.5,6,    7.527,2,    25.00, -999.00,9, -999.00,9,      830,   38.06,2,   1.9611,2,       2130
49UP20160703,         P9,      42,          1,         13,        667,2,20160717,       0713,    16.0032,   136.9767,       5032,  2356.9,   1.8220,  34.6462,2,  34.6460,2,    124.7,2,  124.72,2,  144.20,2,    0.00,2,   2.640,2,   0.004,2,   0.000,2,   0.001,2,  2335.5,2,  2411.4,2,   7.5366,6,    25.00, -999.00,9, -999.00,9,      825,   37.72,2,   1.8222,2,       2330
49UP20160703,         P9,      42,          1,         12,        074,2,20160717,       0713,    16.0032,   136.9767,       5032,  2560.3,   1.7533,  34.6536,2,  34.6541,2,    128.9,2,  128.92,2,  145.07,2,    0.00,2,   2.620,2,-999.000,9,-999.000,9,-999.000,9,  2337.9,2,  2414.5,2,   7.5424,2,    25.00, -999.00,9, -999.00,9,      820,   37.45,2,   1.7534,2,       2530
49UP20160703,         P9,      42,          1,         11,        268,2,20160717,       0713,    16.0032,   136.9767,       5032,  2764.4,   1.6920,  34.6600,2,  34.6604,2,    133.4,2,  133.22,2,  145.09,2,    0.00,2,   2.600,2,-999.000,9,-999.000,9,-999.000,9,  2338.2,2,  2414.9,2,   7.5484,2,    25.00, -999.00,9, -999.00,9,      815,   37.20,2,   1.6919,2,       2730
49UP20160703,         P9,      42,          1,         10,        267,2,20160717,       0713,    16.0032,   136.9767,       5032,  2968.4,   1.6467,  34.6650,2,  34.6659,6,    137.4,2,  137.34,2,  144.76,2,    0.00,2,   2.580,2,   0.000,2,   0.000,2,   0.004,2,  2339.5,2,  2416.5,2,   7.5548,2,    25.00, -999.00,9, -999.00,9,      810,   36.95,2,   1.6469,2,       2930
49UP20160703,         P9,      42,          1,          9,        518,2,20160717,       0713,    16.0032,   136.9767,       5032,  3214.4,   1.6083,  34.6697,2,  34.6704,2,    141.9,2,  142.04,6,  144.11,6,    0.00,6,   2.550,6,-999.000,9,-999.000,9,-999.000,9,  2332.0,2,  2412.4,2,   7.5626,2,    25.00, -999.00,9, -999.00,9,      804,   36.68,6,   1.6082,2,       3171
49UP20160703,         P9,      42,          1,          8,        470,2,20160717,       0713,    16.0032,   136.9767,       5032,  3469.4,   1.5735,  34.6742,2,  34.6746,2,    146.3,2,  146.98,2,  142.89,2,    0.00,2,   2.530,2,   0.007,2,   0.000,2,   0.003,2,  2328.9,2,  2412.4,2,   7.5693,2,    25.00, -999.00,9, -999.00,9,      758,   36.34,2,   1.5733,2,       3421
49UP20160703,         P9,      42,          1,          7,        516,2,20160717,       0713,    16.0032,   136.9767,       5032,  3725.1,   1.5474,  34.6780,2,  34.6778,2,    150.6,2,  150.54,2,  141.97,2,    0.00,2,   2.510,2,-999.000,9,-999.000,9,-999.000,9,  2331.9,2,  2411.9,2,   7.5753,2,    25.00, -999.00,9, -999.00,9,      752,   36.10,2,   1.5473,2,       3671
49UP20160703,         P9,      42,          1,          6,        113,2,20160717,       0713,    16.0032,   136.9767,       5032,  3981.0,   1.5176,  34.6822,2,  34.6831,2,    155.4,2,  155.38,2,  140.76,2,    0.00,2,   2.480,2,   0.006,2,   0.000,2,   0.018,3,  2319.6,6,  2410.1,6,   7.5833,2,    25.00, -999.00,9, -999.00,9,      746,   35.78,2,   1.5177,2,       3921
49UP20160703,         P9,      42,          1,          5,        658,2,20160717,       0713,    16.0032,   136.9767,       5032,  4236.9,   1.5103,  34.6848,2,  34.6854,6,    158.6,2,  158.59,2,  139.68,2,    0.00,2,   2.470,2,-999.000,9,-999.000,9,-999.000,9,  2318.6,2,  2408.1,2,   7.5849,2,    25.00, -999.00,9, -999.00,9,      739,   35.56,2,   1.5103,2,       4170
49UP20160703,         P9,      42,          1,          4,        471,2,20160717,       0713,    16.0032,   136.9767,       5032,  4494.4,   1.5172,  34.6865,2,  34.6867,2,    160.6,2,  160.65,6,  139.11,6,    0.00,6,   2.460,6,   0.000,2,   0.000,2,   0.003,2,  2314.5,2,  2407.8,2,   7.5895,2,    25.00, -999.00,9, -999.00,9,      733,   35.42,6,   1.5174,2,       4421
49UP20160703,         P9,      42,          1,          3,        104,2,20160717,       0713,    16.0032,   136.9767,       5032,  4751.2,   1.5415,  34.6868,2,  34.6874,2,    161.2,2,  161.21,2,  138.93,2,    0.00,2,   2.450,2,-999.000,9,-999.000,9,-999.000,9,  2314.6,2,  2408.6,2,    7.587,2,    25.00, -999.00,9, -999.00,9,      727,   35.37,2,   1.5415,2,       4671
49UP20160703,         P9,      42,          1,          2,        075,2,20160717,       0713,    16.0032,   136.9767,       5032,  5008.1,   1.5708,  34.6871,2,  34.6875,2,    161.5,2,  161.41,2,  138.83,2,    0.00,2,   2.450,2,   0.002,2,   0.000,2,   0.000,2,  2317.5,2,  2407.5,2,   7.5891,2,    25.00, -999.00,9, -999.00,9,      721,   35.33,2,   1.5707,2,       4921
49UP20160703,         P9,      42,          1,          1,        997,2,20160717,       0713,    16.0032,   136.9767,       5032,  5279.2,   1.6025,  34.6874,2,  34.6878,2,    161.9,2,  161.68,2,  138.81,2,    0.00,2,   2.450,2,   0.007,2,   0.000,2,   0.000,2,  2319.7,2,  2406.5,2,   7.5894,6,    25.00, -999.00,9, -999.00,9,      714,   35.33,2,   1.6026,2,       5184