BOTTLE,20230712CCHSIOENA
EXPOCODE,SECT_ID,STNNBR,CASTNO,SAMPNO,BTLNBR,BTLNBR_FLAG_W,DATE,TIME,LATITUDE,LONGITUDE,DEPTH,CTDPRS,CTDTMP,CTDSAL,CTDSAL_FLAG_W,SALNTY,SALNTY_FLAG_W,CTDOXY,CTDOXY_FLAG_W,OXYGEN,OXYGEN_FLAG_W,SILCAT,SILCAT_FLAG_W,NITRIT,NITRIT_FLAG_W,PHSPHT,PHSPHT_FLAG_W,CFC-11,CFC-11_FLAG_W,CFC-12,CFC-12_FLAG_W,CFC113,CFC113_FLAG_W,TCARBN,TCARBN_FLAG_W,ALKALI,ALKALI_FLAG_W,PH_TOT,PH_TOT_FLAG_W,PH_TMP,CHLORA,CHLORA_FLAG_W,PPHYTN,PPHYTN_FLAG_W,BTL_TIME,NO2+NO3,NO2+NO3_FLAG_W,SBE35,SBE35_FLAG_W,CTDDEPTH
,,,,,,,,,,,METERS,DBAR,ITS-90,PSS-78,,PSS-78,,UMOL/KG,,UMOL/KG,,UMOL/KG,,UMOL/KG,,UMOL/KG,,PMOL/KG,,PMOL/KG,,PMOL/KG,,UMOL/KG,,UMOL/KG,,,,DEG C,UG/KG,,UG/KG,,,UMOL/KG,,ITS-90,,METERS
49UP20160703,         P9,      32,          1,          0,        BUC,2,20160713,       1905,    21.0025,   136.9977,       4813,     0.0,  30.1498,  35.0548,2,  35.0575,2,    194.0,2,  193.60,2,    0.99,2,    0.00,2,   0.030,2,-999.000,9,-999.000,9,-999.000,9,  1961.6,2,  2304.0,2,   8.1154,2,    25.00,    0.06,2,    0.02,2,     2045,    0.03,2,-999.0000,9,          0
49UP20160703,         P9,      32,          1,         36,        109,2,20160713,       1905,    21.0025,   136.9977,       4813,    10.4,  30.1352,  35.0526,2,  35.0513,2,    194.2,2,  193.99,2,    0.97,2,    0.00,2,   0.010,2,   1.481,2,   0.929,2,   0.134,2,  1963.1,6,  2304.5,6,    8.118,2,    25.00,    0.06,2,    0.02,2,     2115,    0.02,2,  30.1341,2,         10
49UP20160703,         P9,      32,          1,         35,        112,2,20160713,       1905,    21.0025,   136.9977,       4813,    25.7,  29.8238,  35.0171,2,  35.0161,2,    195.9,2,  195.86,2,    0.98,2,    0.00,2,   0.010,2,   1.499,2,   0.938,2,   0.130,2,  1961.0,2,  2301.7,2,   8.1162,6,    25.00,    0.05,2,    0.02,2,     2114,    0.03,2,  29.8223,2,         26
49UP20160703,         P9,      32,          1,         34,        094,2,20160713,       1905,    21.0025,   136.9977,       4813,    49.4,  28.1947,  35.1187,2,  35.1146,2,    212.5,2,  212.13,2,    0.93,2,    0.00,2,   0.020,2,   1.703,2,   1.029,2,   0.137,2,  1967.0,2,  2307.7,2,   8.1161,2,    25.00,    0.07,2,    0.03,2,     2111,    0.05,2,  28.1874,2,         49
49UP20160703,         P9,      32,          1,         33,        469,2,20160713,       1905,    21.0025,   136.9977,       4813,    75.1,  26.5840,  35.1632,2,  35.1572,2,    212.5,2,  211.61,2,    0.98,2,    0.00,2,   0.020,2,   1.746,2,   1.064,2,   0.135,2,  1976.0,2,  2310.0,2,   8.1045,2,    25.00,    0.11,2,    0.05,2,     2109,    0.02,2,  26.5842,2,         75
49UP20160703,         P9,      32,          1,         32,        089,2,20160713,       1905,    21.0025,   136.9977,       4813,   100.4,  25.4580,  35.1580,2,  35.1566,2,    209.7,2,  209.04,2,    0.98,2,    0.00,2,   0.010,2,   1.784,6,   1.093,6,   0.141,6,  1983.3,2,  2310.4,2,   8.0891,2,    25.00,    0.16,2,    0.12,2,     2108,    0.03,2,  25.4667,2,        100
49UP20160703,         P9,      32,          1,         31,        515,2,20160713,       1905,    21.0025,   136.9977,       4813,   125.4,  24.5593,  35.1411,2,  35.1492,4,    208.5,2,  206.31,2,    1.12,2,    0.00,2,   0.020,2,   1.851,2,   1.149,2,   0.136,2,  1992.6,2,  2309.6,2,   8.0727,2,    25.00,    0.21,2,    0.30,2,     2106,    0.03,2,  24.5589,2,        125
49UP20160703,         P9,      32,          1,         30,        097,2,20160713,       1905,    21.0025,   136.9977,       4813,   151.6,  23.6219,  35.1614,2,  35.1604,2,    198.4,2,  197.73,2,    1.32,2,    0.08,2,   0.060,2,   1.917,2,   1.189,2,   0.130,2,  2010.4,2,  2310.2,2,   8.0474,2,    25.00,    0.15,2,    0.41,2,     2105,    0.26,2,  23.6233,2,        151
49UP20160703,         P9,      32,          1,         29,        102,2,20160713,       1905,    21.0025,   136.9977,       4813,   202.2,  20.2834,  34.9379,2,  34.9342,6,    202.1,2,  202.42,2,    2.02,2,    0.02,2,   0.120,2,   4.262,4,   5.887,4,   0.883,4,  2022.1,2,  2293.7,2,   7.9986,2,    25.00,    0.04,2,    0.11,2,     2102,    1.51,2,  20.2869,2,        201
49UP20160703,         P9,      32,          1,         28,        472,4,20160713,       1905,    21.0025,   136.9977,       4813,   250.9,  18.0978,  34.8196,2,-999.0000,9,    196.8,2, -999.00,9, -999.00,9, -999.00,9,-999.000,9,-999.000,9,-999.000,9,-999.000,9,  -999.0,9,  -999.0,9,-999.0000,9,  -999.00, -999.00,9, -999.00,9,     2100, -999.00,9,  18.0976,2,        249
49UP20160703,         P9,      32,          1,         27,        998,2,20160713,       1905,    21.0025,   136.9977,       4813,   333.5,  16.1623,  34.6507,2,  34.6528,2,    202.7,2,  202.71,2,    5.98,2,    0.00,2,   0.440,2,   2.555,2,   1.553,2,   0.032,2,  2053.0,2,  2279.7,2,   7.9179,2,    25.00, -999.00,9, -999.00,9,     2058,    6.59,2,  16.1677,2,        331
49UP20160703,         P9,      32,          1,         26,        084,2,20160713,       1905,    21.0025,   136.9977,       4813,   433.6,  13.4151,  34.4351,2,  34.4359,2,    185.8,2,  185.68,2,   14.38,2,    0.00,2,   0.870,2,   2.785,2,   1.631,2,   0.037,2,  2092.2,2,  2274.0,2,    7.823,2,    25.00, -999.00,9, -999.00,9,     2055,   12.60,2,  13.4160,2,        430
49UP20160703,         P9,      32,          1,         25,        098,2,20160713,       1905,    21.0025,   136.9977,       4813,   533.9,  10.0517,  34.2141,2,  34.2104,2,    168.2,2,  167.68,2,   29.76,2,    0.00,2,   1.420,2,   2.804,2,   1.558,2,   0.064,2,  2147.6,2,  2276.0,2,   7.7019,2,    25.00, -999.00,9, -999.00,9,     2052,   20.14,2,  10.0481,2,        530
49UP20160703,         P9,      32,          1,         24,        110,2,20160713,       1905,    21.0025,   136.9977,       4813,   634.8,   7.2745,  34.1184,2,  34.1189,2,    124.2,2,  123.33,2,   53.12,2,    0.00,2,   2.080,2,   2.147,2,   1.119,2,   0.059,2,  2214.5,6,  2291.4,6,   7.5567,2,    25.00, -999.00,9, -999.00,9,     2049,   29.00,2,   7.2732,2,        630
49UP20160703,         P9,      32,          1,         23,        679,2,20160713,       1905,    21.0025,   136.9977,       4813,   736.1,   5.7568,  34.1725,2,  34.1752,2,     83.3,2,   82.39,2,   75.88,2,    0.00,2,   2.550,2,   1.235,2,   0.609,2,   0.030,2,  2271.5,2,  2314.2,2,   7.4588,2,    25.00, -999.00,9, -999.00,9,     2046,   35.35,2,   5.7563,2,        730
49UP20160703,         P9,      32,          1,         22,        111,2,20160713,       1905,    21.0025,   136.9977,       4813,   836.8,   4.6733,  34.2661,2,  34.2671,2,     63.2,2,   62.99,2,   96.77,2,    0.00,2,   2.790,2,   0.682,2,   0.339,2,   0.035,2,  2306.9,2,  2338.1,2,   7.4156,2,    25.00, -999.00,9, -999.00,9,     2043,   38.78,2,   4.6731,2,        830
49UP20160703,         P9,      32,          1,         21,        078,2,20160713,       1905,    21.0025,   136.9977,       4813,   938.0,   4.1656,  34.3617,2,  34.3625,2,     58.3,2,   58.06,2,  107.47,2,    0.00,2,   2.860,2,   0.303,2,   0.165,2,   0.000,2,  2324.6,2,  2354.8,2,   7.4119,2,    25.00, -999.00,9, -999.00,9,     2040,   40.01,2,   4.1653,2,        930
49UP20160703,         P9,      32,          1,         20,        093,2,20160713,       1905,    21.0025,   136.9977,       4813,  1079.0,   3.6430,  34.4505,2,  34.4506,6,     64.4,2,   64.06,2,  118.02,2,    0.00,2,   2.880,2,   0.117,6,   0.074,6,   0.000,6,  2334.8,2,  2372.7,2,   7.4302,2,    25.00, -999.00,9, -999.00,9,     2035,   40.31,2,   3.6427,2,       1070
49UP20160703,         P9,      32,          1,         19,        269,2,20160713,       1905,    21.0025,   136.9977,       4813,  1281.7,   3.0338,  34.5141,2,  34.5146,2,     77.0,2,   77.34,6,  129.78,6,    0.00,6,   2.840,6,   0.054,2,   0.026,2,   0.004,2,  2341.2,2,  2387.3,2,   7.4529,2,    25.00, -999.00,9, -999.00,9,     2029,   39.94,6,   3.0335,2,       1270
49UP20160703,         P9,      32,          1,         18,        088,2,20160713,       1905,    21.0025,   136.9977,       4813,  1484.3,   2.6776,  34.5657,2,  34.5666,2,     94.4,2,   94.53,2,  134.02,2,    0.00,2,   2.760,2,   0.027,2,   0.013,2,   0.000,2,  2340.3,2,  2398.1,2,   7.4896,6,    25.00, -999.00,9, -999.00,9,     2024,   38.98,2,   2.6777,2,       1470
49UP20160703,         P9,      32,          1,         17,        090,2,20160713,       1905,    21.0025,   136.9977,       4813,  1687.9,   2.4287,  34.5899,2,  34.5902,2,    103.1,2,  103.08,2,  136.85,2,    0.00,2,   2.730,2,   0.014,2,   0.007,2,   0.001,2,  2338.3,2,  2403.6,2,   7.5027,2,    25.00, -999.00,9, -999.00,9,     2019,   38.68,2,   2.4288,2,       1671
49UP20160703,         P9,      32,          1,         16,        474,2,20160713,       1905,    21.0025,   136.9977,       4813,  1890.3,   2.2075,  34.6107,2,  34.6108,2,    110.5,2,  110.48,2,  139.12,2,    0.00,2,   2.700,2,   0.003,2,   0.005,2,   0.000,2,  2339.0,2,  2407.0,2,   7.5145,2,    25.00, -999.00,9, -999.00,9,     2015,   38.41,2,   2.2076,2,       1870
49UP20160703,         P9,      32,          1,         15,        665,2,20160713,       1905,    21.0025,   136.9977,       4813,  2092.9,   2.0289,  34.6260,2,  34.6264,2,    116.9,2,  116.89,2,  141.26,2,    0.00,2,   2.680,2,   0.000,2,   0.004,2,   0.000,2,  2338.7,2,  2408.3,2,   7.5242,2,    25.00, -999.00,9, -999.00,9,     2010,   38.12,2,   2.0288,2,       2070
49UP20160703,         P9,      32,          1,         14,        999,2,20160713,       1905,    21.0025,   136.9977,       4813,  2296.2,   1.8861,  34.6361,2,  34.6359,2,    123.0,2,  123.17,2,  142.38,2,    0.00,2,   2.650,2,-999.000,9,-999.000,9,-999.000,9,  2335.5,2,  2411.1,2,   7.5345,2,    25.00, -999.00,9, -999.00,9,     2005,   37.85,2,   1.8861,2,       2270
49UP20160703,         P9,      32,          1,         13,        667,2,20160713,       1905,    21.0025,   136.9977,       4813,  2500.3,   1.7869,  34.6472,2,  34.6474,2,    128.3,2,  128.32,2,  143.30,2,    0.00,2,   2.620,2,   0.000,2,   0.002,2,   0.000,2,  2336.1,2,  2411.5,2,   7.5419,2,    25.00, -999.00,9, -999.00,9,     2000,   37.57,2,   1.7869,2,       2470
49UP20160703,         P9,      32,          1,         12,        074,2,20160713,       1905,    21.0025,   136.9977,       4813,  2704.2,   1.7217,  34.6539,2,  34.6543,6,    133.0,2,  132.82,2,  143.26,2,    0.00,2,   2.600,2,-999.000,9,-999.000,9,-999.000,9,  2333.8,6,  2414.6,6,   7.5484,2,    25.00, -999.00,9, -999.00,9,     1955,   37.29,2,   1.7215,2,       2670
49UP20160703,         P9,      32,          1,         11,        268,2,20160713,       1905,    21.0025,   136.9977,       4813,  2907.7,   1.6679,  34.6600,2,  34.6596,2,    137.4,2,  137.18,6,  142.89,6,    0.00,6,   2.570,6,-999.000,9,-999.000,9,-999.000,9,  2333.1,2,  2412.6,2,   7.5557,2,    25.00, -999.00,9, -999.00,9,     1951,   36.98,6,   1.6679,2,       2870
49UP20160703,         P9,      32,          1,         10,        267,2,20160713,       1905,    21.0025,   136.9977,       4813,  3122.7,   1.6288,  34.6648,2,  34.6651,2,    141.3,2,  141.20,2,  142.56,2,    0.00,2,   2.560,2,   0.002,2,   0.007,2,   0.000,2,  2330.2,2,  2415.6,2,   7.5608,2,    25.00, -999.00,9, -999.00,9,     1945,   36.76,2,   1.6286,2,       3081
49UP20160703,         P9,      32,          1,          9,        518,2,20160713,       1905,    21.0025,   136.9977,       4813,  3377.6,   1.5869,  34.6706,2,  34.6714,2,    145.9,2,  145.93,2,  142.12,2,    0.00,2,   2.530,2,-999.000,9,-999.000,9,-999.000,9,  2325.7,2,  2411.9,2,   7.5668,2,    25.00, -999.00,9, -999.00,9,     1940,   36.43,2,   1.5866,2,       3330
49UP20160703,         P9,      32,          1,          8,        470,2,20160713,       1905,    21.0025,   136.9977,       4813,  3377.7,   1.5869,  34.6706,2,  34.6709,2,    145.9,2,  145.52,2,  142.05,2,    0.00,2,   2.530,2,-999.000,9,-999.000,9,-999.000,9,  2326.5,2,  2411.7,2,   7.5694,2,    25.00, -999.00,9, -999.00,9,     1939,   36.43,2,   1.5866,2,       3330
49UP20160703,         P9,      32,          1,          7,        516,2,20160713,       1905,    21.0025,   136.9977,       4813,  3633.1,   1.5411,  34.6768,2,  34.6769,2,    151.2,2,  151.29,2,  141.21,2,    0.00,2,   2.510,2,   0.007,2,   0.008,2,   0.005,2,  2326.2,2,  2411.4,2,   7.5767,2,    25.00, -999.00,9, -999.00,9,     1934,   36.14,2,   1.5415,2,       3580
49UP20160703,         P9,      32,          1,          6,        113,2,20160713,       1905,    21.0025,   136.9977,       4813,  3889.5,   1.5339,  34.6797,2,  34.6800,2,    153.9,2,  153.85,2,  140.61,2,    0.00,2,   2.490,2,-999.000,9,-999.000,9,-999.000,9,  2327.4,2,  2412.2,2,   7.5802,2,    25.00, -999.00,9, -999.00,9,     1928,   35.93,2,   1.5338,2,       3830
49UP20160703,         P9,      32,          1,          5,        658,2,20160713,       1905,    21.0025,   136.9977,       4813,  4146.3,   1.5349,  34.6822,2,  34.6819,2,    156.0,2,  155.74,6,  140.25,6,    0.00,6,   2.480,6,   0.003,2,   0.005,2,   0.000,2,  2328.2,2,  2412.9,2,   7.5816,2,    25.00, -999.00,9, -999.00,9,     1922,   35.81,6,   1.5349,2,       4081
49UP20160703,         P9,      32,          1,          4,        471,2,20160713,       1905,    21.0025,   136.9977,       4813,  4401.5,   1.5369,  34.6842,2,  34.6845,2,    158.2,2,  158.24,2,  139.70,2,    0.00,2,   2.470,2,-999.000,9,-999.000,9,-999.000,9,  2318.8,2,  2411.2,2,   7.5856,2,    25.00, -999.00,9, -999.00,9,     1917,   35.61,2,   1.5369,2,       4330
49UP20160703,         P9,      32,          1,          3,        104,2,20160713,       1905,    21.0025,   136.9977,       4813,  4657.9,   1.5624,  34.6846,2,  34.6847,6,    158.6,2,  158.56,2,  139.58,2,    0.00,2,   2.470,2,   0.003,2,   0.004,2,   0.004,2,  2317.0,2,  2409.4,2,   7.5861,6,    25.00, -999.00,9, -999.00,9,     1911,   35.63,2,   1.5625,2,       4579
49UP20160703,         P9,      32,          1,          2,        075,2,20160713,       1905,    21.0025,   136.9977,       4813,  4901.2,   1.5905,  34.6847,2,  34.6845,2,    158.8,2,  158.77,2,  139.58,2,    0.00,2,   2.470,2,-999.000,9,-999.000,9,-999.000,9,  2316.8,2,  2408.3,2,   7.5827,2,    25.00, -999.00,9, -999.00,9,     1906,   35.64,2,   1.5905,2,       4816
49UP20160703,         P9,      32,          1,          1,        997,4,20160713,       1905,    21.0025,   136.9977,       4813,  4901.4,   1.5904,  34.6847,2,  34.3743,4,    158.8,2,  181.98,4,   18.22,4,    0.00,4,   1.000,4,   2.806,4,   1.622,4,   0.056,4,  2109.1,4,  2269.7,4,   7.7817,4,    25.00, -999.00,9, -999.00,9,     1906,   14.57,4,   1.5905,2,       4816