BOTTLE,20230712CCHSIOENA
EXPOCODE,SECT_ID,STNNBR,CASTNO,SAMPNO,BTLNBR,BTLNBR_FLAG_W,DATE,TIME,LATITUDE,LONGITUDE,DEPTH,CTDPRS,CTDTMP,CTDSAL,CTDSAL_FLAG_W,SALNTY,SALNTY_FLAG_W,CTDOXY,CTDOXY_FLAG_W,OXYGEN,OXYGEN_FLAG_W,SILCAT,SILCAT_FLAG_W,NITRIT,NITRIT_FLAG_W,PHSPHT,PHSPHT_FLAG_W,CFC-11,CFC-11_FLAG_W,CFC-12,CFC-12_FLAG_W,CFC113,CFC113_FLAG_W,TCARBN,TCARBN_FLAG_W,ALKALI,ALKALI_FLAG_W,PH_TOT,PH_TOT_FLAG_W,PH_TMP,CHLORA,CHLORA_FLAG_W,PPHYTN,PPHYTN_FLAG_W,BTL_TIME,NO2+NO3,NO2+NO3_FLAG_W,SBE35,SBE35_FLAG_W,CTDDEPTH
,,,,,,,,,,,METERS,DBAR,ITS-90,PSS-78,,PSS-78,,UMOL/KG,,UMOL/KG,,UMOL/KG,,UMOL/KG,,UMOL/KG,,PMOL/KG,,PMOL/KG,,PMOL/KG,,UMOL/KG,,UMOL/KG,,,,DEG C,UG/KG,,UG/KG,,,UMOL/KG,,ITS-90,,METERS
49UP20160703,         P9,      66,          1,          0,        BUC,2,20160802,       1029,     5.9872,   137.0235,       4354,     0.0,  30.2090,  34.2569,2,  34.2481,2,    195.3,2,  194.24,2,    1.24,2,    0.00,2,   0.040,2,-999.000,9,-999.000,9,-999.000,9,  1926.0,2,  2250.7,2,   8.1073,2,    25.00,    0.05,2,    0.03,2,     1155,    0.02,2,-999.0000,9,          0
49UP20160703,         P9,      66,          1,         36,        109,2,20160802,       1029,     5.9872,   137.0235,       4354,    10.9,  30.0056,  34.2550,2,  34.2543,2,    194.9,2,  195.31,2,    1.28,2,    0.00,2,   0.020,2,   1.504,2,   0.929,2,   0.116,2,  1929.0,2,  2250.3,2,   8.1095,2,    25.00,    0.05,2,    0.03,2,     1234,    0.05,2,  30.0071,2,         11
49UP20160703,         P9,      66,          1,         35,        112,2,20160802,       1029,     5.9872,   137.0235,       4354,    25.9,  29.9590,  34.2524,2,  34.2516,2,    194.9,2,  195.66,2,    1.24,2,    0.00,2,   0.020,2,-999.000,9,-999.000,9,-999.000,9,  1927.0,2,  2251.2,2,   8.1075,2,    25.00,    0.06,2,    0.03,2,     1233,    0.02,2,  29.9535,2,         26
49UP20160703,         P9,      66,          1,         34,        094,2,20160802,       1029,     5.9872,   137.0235,       4354,    50.5,  29.7867,  34.4475,2,  34.4879,4,    198.3,2,  198.91,2,    1.23,2,    0.00,2,   0.040,2,   1.576,2,   0.964,2,   0.121,2,  1943.8,2,  2266.5,2,   8.1021,2,    25.00,    0.09,2,    0.05,2,     1229,    0.02,2,  29.7722,2,         50
49UP20160703,         P9,      66,          1,         33,        469,2,20160802,       1029,     5.9872,   137.0235,       4354,    75.5,  28.1414,  34.7894,2,  34.7867,2,    199.9,2,  200.03,2,    1.28,2,    0.00,2,   0.060,2,-999.000,9,-999.000,9,-999.000,9,  1969.8,2,  2285.1,2,   8.0831,6,    25.00,    0.14,2,    0.10,2,     1227,    0.05,2,  28.1424,2,         75
49UP20160703,         P9,      66,          1,         32,        089,2,20160802,       1029,     5.9872,   137.0235,       4354,   101.8,  24.5165,  34.9307,2,  34.9419,4,    160.5,2,  162.34,2,    3.65,2,    0.04,2,   0.380,2,   1.867,2,   1.134,2,   0.100,2,  2037.4,2,  2296.8,2,   7.9799,2,    25.00,    0.08,2,    0.21,2,     1226,    4.48,2,  24.5120,2,        101
49UP20160703,         P9,      66,          1,         31,        515,2,20160802,       1029,     5.9872,   137.0235,       4354,   126.5,  20.1785,  34.8453,2,  34.8647,4,    158.1,2,  161.51,6,    5.89,6,    0.03,6,   0.540,6,-999.000,9,-999.000,9,-999.000,9,  2079.4,2,  2294.8,2,   7.8982,2,    25.00,    0.06,2,    0.14,2,     1224,    6.58,6,  20.1964,2,        126
49UP20160703,         P9,      66,          1,         30,        097,2,20160802,       1029,     5.9872,   137.0235,       4354,   151.3,  15.8333,  34.6252,2,  34.6127,4,    135.2,2,  133.43,2,   14.35,2,    0.01,2,   1.090,2,   2.228,2,   1.297,2,   0.018,2,  2131.1,2,  2283.7,2,   7.7686,2,    25.00,    0.02,2,    0.07,2,     1223,   14.79,2,  15.8465,2,        150
49UP20160703,         P9,      66,          1,         28,        472,3,20160802,       1029,     5.9872,   137.0235,       4354,   201.7,  10.4500,  34.4621,2,  34.4649,2,    117.8,2,  117.81,2,   33.45,2,    0.00,2,   1.750,2,   1.778,2,   0.934,2,   0.021,2,  2190.5,2,  2294.3,2,   7.6379,2,    25.00,    0.00,2,    0.02,2,     1221,   24.43,2,  10.4530,2,        200
49UP20160703,         P9,      66,          1,         29,        102,3,20160802,       1029,     5.9872,   137.0235,       4354,   202.3,  10.4411,  34.4615,2,  34.4643,2,    117.6,2,  117.60,2,   33.42,2,    0.00,2,   1.750,2,-999.000,9,-999.000,9,-999.000,9,  2191.7,2,  2293.9,2,   7.6398,2,    25.00, -999.00,9, -999.00,9,     1221,   24.42,2,  10.4442,2,        201
49UP20160703,         P9,      66,          1,         27,        998,2,20160802,       1029,     5.9872,   137.0235,       4354,   252.9,   9.6073,  34.5588,2,  34.5596,2,    111.6,2,  111.52,2,   32.84,2,    0.00,2,   1.910,2,-999.000,9,-999.000,9,-999.000,9,  2208.4,6,  2301.6,6,   7.6096,2,    25.00, -999.00,9, -999.00,9,     1218,   26.85,2,   9.6226,2,        251
49UP20160703,         P9,      66,          1,         26,        084,2,20160802,       1029,     5.9872,   137.0235,       4354,   304.1,   8.8143,  34.5474,2,  34.5485,2,    106.9,2,  106.00,2,   36.34,2,    0.00,2,   2.050,2,   1.172,2,   0.599,2,   0.014,2,  2220.4,2,  2304.2,2,   7.5846,2,    25.00, -999.00,9, -999.00,9,     1216,   28.88,2,   8.8187,2,        302
49UP20160703,         P9,      66,          1,         25,        098,2,20160802,       1029,     5.9872,   137.0235,       4354,   354.3,   8.5789,  34.5781,2,  34.5785,2,     86.8,2,   86.86,2,   36.72,2,    0.00,2,   2.210,2,-999.000,9,-999.000,9,-999.000,9,  2233.3,2,  2307.0,2,   7.5475,2,    25.00, -999.00,9, -999.00,9,     1213,   31.41,2,   8.5804,2,        352
49UP20160703,         P9,      66,          1,         24,        110,2,20160802,       1029,     5.9872,   137.0235,       4354,   404.6,   8.2097,  34.5764,2,  34.5756,2,     93.7,2,   94.16,2,   37.11,2,    0.00,2,   2.220,2,   0.744,2,   0.381,2,   0.001,2,  2233.2,2,  2308.2,2,   7.5522,2,    25.00, -999.00,9, -999.00,9,     1211,   31.59,2,   8.2105,2,        402
49UP20160703,         P9,      66,          1,         23,        679,2,20160802,       1029,     5.9872,   137.0235,       4354,   454.9,   7.8311,  34.5708,2,  34.5715,2,     93.1,2,   93.74,2,   39.15,2,    0.00,2,   2.280,2,-999.000,9,-999.000,9,-999.000,9,  2240.0,2,  2311.0,2,   7.5423,2,    25.00, -999.00,9, -999.00,9,     1209,   32.47,2,   7.8365,2,        452
49UP20160703,         P9,      66,          1,         22,        111,2,20160802,       1029,     5.9872,   137.0235,       4354,   505.5,   7.4987,  34.5573,2,  34.5577,2,     97.2,2,   97.65,6,   41.52,6,    0.00,6,   2.300,6,-999.000,9,-999.000,9,-999.000,9,  2241.4,2,  2312.6,2,   7.5456,2,    25.00, -999.00,9, -999.00,9,     1206,   32.71,6,   7.5010,2,        502
49UP20160703,         P9,      66,          1,         21,        078,2,20160802,       1029,     5.9872,   137.0235,       4354,   606.1,   7.1638,  34.5508,2,  34.5507,6,     93.6,2,   93.46,2,   45.17,2,    0.00,2,   2.390,2,   0.394,2,   0.213,2,   0.000,2,  2246.9,2,  2314.0,2,   7.5308,2,    25.00, -999.00,9, -999.00,9,     1203,   33.81,2,   7.1641,2,        602
49UP20160703,         P9,      66,          1,         20,        093,2,20160802,       1029,     5.9872,   137.0235,       4354,   707.8,   6.6321,  34.5381,2,  34.5379,2,     86.9,2,   87.12,2,   53.07,2,    0.00,2,   2.500,2,-999.000,9,-999.000,9,-999.000,9,  2260.8,2,  2320.1,2,   7.5131,2,    25.00, -999.00,9, -999.00,9,     1200,   35.17,2,   6.6322,2,        703
49UP20160703,         P9,      66,          1,         19,        269,2,20160802,       1029,     5.9872,   137.0235,       4354,   807.8,   5.8257,  34.5338,2,  34.5336,2,     83.4,2,   83.57,2,   66.58,2,    0.00,2,   2.620,2,   0.154,2,   0.084,2,   0.000,2,  2277.9,2,  2335.3,2,   7.4958,2,    25.00, -999.00,9, -999.00,9,     1156,   36.69,2,   5.8266,2,        802
49UP20160703,         P9,      66,          1,         18,        088,2,20160802,       1029,     5.9872,   137.0235,       4354,   908.9,   5.0707,  34.5416,2,  34.5419,2,     86.4,2,   86.46,2,   79.97,2,    0.00,2,   2.660,2,-999.000,9,-999.000,9,-999.000,9,  2293.6,6,  2348.5,6,   7.4985,2,    25.00, -999.00,9, -999.00,9,     1151,   37.34,2,   5.0707,2,        902
49UP20160703,         P9,      66,          1,         17,        090,2,20160802,       1029,     5.9872,   137.0235,       4354,  1013.2,   4.4902,  34.5522,2,  34.5500,4,     87.1,2,   87.03,2,   91.68,2,    0.00,2,   2.710,2,   0.059,2,   0.029,2,   0.000,2,  2306.7,2,  2361.4,2,   7.4939,2,    25.00, -999.00,9, -999.00,9,     1148,   37.98,2,   4.4918,2,       1005
49UP20160703,         P9,      66,          1,         16,        474,2,20160802,       1029,     5.9872,   137.0235,       4354,  1212.8,   3.7447,  34.5744,2,  34.5740,2,     90.7,2,   90.96,2,  106.00,2,    0.00,2,   2.740,2,   0.026,2,   0.012,2,   0.000,2,  2322.9,2,  2377.1,2,   7.4934,2,    25.00, -999.00,9, -999.00,9,     1142,   38.59,2,   3.7457,2,       1203
49UP20160703,         P9,      66,          1,         15,        665,2,20160802,       1029,     5.9872,   137.0235,       4354,  1415.3,   3.2619,  34.5905,2,  34.5902,2,     96.0,2,   96.10,2,  115.85,2,    0.00,2,   2.740,2,   0.020,2,   0.005,2,   0.000,2,  2328.9,2,  2387.0,2,   7.4982,2,    25.00, -999.00,9, -999.00,9,     1136,   38.60,2,   3.2635,2,       1403
49UP20160703,         P9,      66,          1,         14,        999,2,20160802,       1029,     5.9872,   137.0235,       4354,  1617.9,   2.8568,  34.6063,2,  34.6062,2,    100.5,2,  100.31,2,  124.18,2,    0.00,2,   2.740,2,-999.000,9,-999.000,9,-999.000,9,  2338.4,2,  2395.6,2,    7.501,2,    25.00, -999.00,9, -999.00,9,     1131,   38.65,2,   2.8579,2,       1603
49UP20160703,         P9,      66,          1,         13,        667,2,20160802,       1029,     5.9872,   137.0235,       4354,  1818.4,   2.5276,  34.6205,2,  34.6204,2,    106.5,2,  106.56,6,  130.96,6,    0.00,6,   2.710,6,-999.000,9,-999.000,9,-999.000,9,  2340.5,2,  2404.3,2,   7.5111,2,    25.00, -999.00,9, -999.00,9,     1127,   38.39,6,   2.5283,2,       1800
49UP20160703,         P9,      66,          1,         12,        074,2,20160802,       1029,     5.9872,   137.0235,       4354,  2022.4,   2.2712,  34.6326,2,  34.6325,6,    113.3,2,  112.91,2,  135.81,2,    0.00,2,   2.680,2,-999.000,9,-999.000,9,-999.000,9,  2341.0,2,  2409.0,2,   7.5233,2,    25.00, -999.00,9, -999.00,9,     1121,   38.12,2,   2.2713,2,       2001
49UP20160703,         P9,      66,          1,         11,        268,2,20160802,       1029,     5.9872,   137.0235,       4354,  2225.6,   2.0644,  34.6429,2,  34.6431,2,    120.0,2,  119.75,2,  138.65,2,    0.00,2,   2.640,2,-999.000,9,-999.000,9,-999.000,9,  2340.7,2,  2411.6,2,   7.5349,2,    25.00, -999.00,9, -999.00,9,     1116,   37.61,2,   2.0646,2,       2202
49UP20160703,         P9,      66,          1,         10,        267,2,20160802,       1029,     5.9872,   137.0235,       4354,  2429.0,   1.8771,  34.6543,2,  34.6542,2,    127.7,2,  127.69,2,  141.03,2,    0.00,2,   2.610,2,-999.000,9,-999.000,9,-999.000,9,  2340.3,2,  2414.3,2,   7.5427,2,    25.00, -999.00,9, -999.00,9,     1111,   37.20,2,   1.8771,2,       2402
49UP20160703,         P9,      66,          1,          9,        518,2,20160802,       1029,     5.9872,   137.0235,       4354,  2631.2,   1.7411,  34.6618,2,  34.6621,2,    134.0,2,  133.93,2,  142.08,2,    0.00,2,   2.570,2,   0.009,2,   0.003,2,   0.000,2,  2338.2,2,  2416.2,2,    7.554,2,    25.00, -999.00,9, -999.00,9,     1107,   36.80,2,   1.7415,2,       2600
49UP20160703,         P9,      66,          1,          8,        470,2,20160802,       1029,     5.9872,   137.0235,       4354,  2834.9,   1.6456,  34.6675,2,  34.6673,2,    139.3,2,  139.03,2,  142.92,2,    0.00,2,   2.540,2,   0.008,2,   0.000,2,   0.000,2,  2336.2,2,  2417.1,2,   7.5595,2,    25.00, -999.00,9, -999.00,9,     1102,   36.46,2,   1.6456,2,       2800
49UP20160703,         P9,      66,          1,          7,        516,2,20160802,       1029,     5.9872,   137.0235,       4354,  3038.7,   1.6006,  34.6711,2,  34.6707,2,    142.5,2,  142.43,2,  142.85,2,    0.00,2,   2.530,2,   0.009,2,   0.000,2,   0.000,2,  2333.7,2,  2415.4,2,   7.5631,2,    25.00, -999.00,9, -999.00,9,     1058,   36.25,2,   1.6008,2,       3000
49UP20160703,         P9,      66,          1,          6,        113,2,20160802,       1029,     5.9872,   137.0235,       4354,  3293.7,   1.5703,  34.6745,2,  34.6742,2,    146.0,2,  145.81,2,  142.65,2,    0.00,2,   2.510,2,   0.005,2,   0.000,2,   0.000,2,  2331.2,2,  2416.8,2,   7.5723,2,    25.00, -999.00,9, -999.00,9,     1053,   36.07,2,   1.5702,2,       3250
49UP20160703,         P9,      66,          1,          5,        658,2,20160802,       1029,     5.9872,   137.0235,       4354,  3550.2,   1.5503,  34.6776,2,  34.6775,2,    149.0,2,  148.65,2,  142.08,2,    0.00,2,   2.490,2,   0.006,2,   0.001,2,   0.000,2,  2331.6,2,  2416.9,2,   7.5752,6,    25.00, -999.00,9, -999.00,9,     1047,   35.87,2,   1.5502,2,       3501
49UP20160703,         P9,      66,          1,          4,        471,2,20160802,       1029,     5.9872,   137.0235,       4354,  3805.3,   1.5294,  34.6809,2,  34.6812,2,    152.4,2,  152.71,2,  141.62,2,    0.00,2,   2.480,2,   0.013,2,   0.005,2,   0.000,2,  2331.3,2,  2417.6,2,   7.5795,2,    25.00, -999.00,9, -999.00,9,     1042,   35.63,2,   1.5294,2,       3751
49UP20160703,         P9,      66,          1,          3,        104,2,20160802,       1029,     5.9872,   137.0235,       4354,  4061.1,   1.5128,  34.6843,2,  34.6842,2,    155.9,2,  155.54,6,  140.72,6,    0.00,6,   2.460,6,   0.004,2,   0.000,2,   0.000,2,  2327.7,2,  2416.2,2,   7.5853,2,    25.00, -999.00,9, -999.00,9,     1037,   35.42,6,   1.5127,2,       4000
49UP20160703,         P9,      66,          1,          2,        075,2,20160802,       1029,     5.9872,   137.0235,       4354,  4318.1,   1.4910,  34.6876,2,  34.6879,6,    160.8,2,  160.71,2,  138.79,2,    0.00,2,   2.430,2,   0.018,2,   0.003,2,   0.000,2,  2323.4,2,  2412.1,2,    7.593,2,    25.00, -999.00,9, -999.00,9,     1032,   34.99,2,   1.4910,2,       4251
49UP20160703,         P9,      66,          1,          1,        997,2,20160802,       1029,     5.9872,   137.0235,       4354,  4402.1,   1.4960,  34.6878,2,  34.6884,2,    161.3,2,  161.13,2,  138.67,2,    0.00,2,   2.430,2,   0.011,2,   0.000,2,   0.000,2,  2318.8,6,  2412.6,6,   7.5882,2,    25.00, -999.00,9, -999.00,9,     1029,   35.03,2,   1.4960,2,       4333