BOTTLE,20230712CCHSIOENA
EXPOCODE,SECT_ID,STNNBR,CASTNO,SAMPNO,BTLNBR,BTLNBR_FLAG_W,DATE,TIME,LATITUDE,LONGITUDE,DEPTH,CTDPRS,CTDTMP,CTDSAL,CTDSAL_FLAG_W,SALNTY,SALNTY_FLAG_W,CTDOXY,CTDOXY_FLAG_W,OXYGEN,OXYGEN_FLAG_W,SILCAT,SILCAT_FLAG_W,NITRIT,NITRIT_FLAG_W,PHSPHT,PHSPHT_FLAG_W,CFC-11,CFC-11_FLAG_W,CFC-12,CFC-12_FLAG_W,CFC113,CFC113_FLAG_W,TCARBN,TCARBN_FLAG_W,ALKALI,ALKALI_FLAG_W,PH_TOT,PH_TOT_FLAG_W,PH_TMP,CHLORA,CHLORA_FLAG_W,PPHYTN,PPHYTN_FLAG_W,BTL_TIME,NO2+NO3,NO2+NO3_FLAG_W,SBE35,SBE35_FLAG_W,CTDDEPTH
,,,,,,,,,,,METERS,DBAR,ITS-90,PSS-78,,PSS-78,,UMOL/KG,,UMOL/KG,,UMOL/KG,,UMOL/KG,,UMOL/KG,,PMOL/KG,,PMOL/KG,,PMOL/KG,,UMOL/KG,,UMOL/KG,,,,DEG C,UG/KG,,UG/KG,,,UMOL/KG,,ITS-90,,METERS
49UP20160703,         P9,      92,          1,          0,        BUC,2,20160811,       0122,    -2.2872,   141.1893,       2639,     0.0,  29.7505,  33.9967,2,-999.0000,9,    196.5,2,  195.93,2,    0.92,2,    0.00,2,   0.110,2,-999.000,9,-999.000,9,-999.000,9,  -999.0,9,  -999.0,9,-999.0000,9,  -999.00, -999.00,9, -999.00,9,      212,    0.04,2,-999.0000,9,          0
49UP20160703,         P9,      92,          1,         36,        109,2,20160811,       0122,    -2.2872,   141.1893,       2639,    10.6,  29.5070,  33.9802,2,  33.9823,2,    196.4,2,  196.24,2,    0.92,2,    0.00,2,   0.100,2,-999.000,9,-999.000,9,-999.000,9,  -999.0,9,  -999.0,9,-999.0000,9,  -999.00, -999.00,9, -999.00,9,      240,    0.03,2,  29.5089,2,         11
49UP20160703,         P9,      92,          1,         35,        112,2,20160811,       0122,    -2.2872,   141.1893,       2639,    25.9,  29.5641,  34.0912,2,  34.0928,2,    196.6,2,  196.71,2,    0.97,2,    0.00,2,   0.090,2,-999.000,9,-999.000,9,-999.000,9,  -999.0,9,  -999.0,9,-999.0000,9,  -999.00, -999.00,9, -999.00,9,      239,    0.02,2,  29.5642,2,         26
49UP20160703,         P9,      92,          1,         34,        094,2,20160811,       0122,    -2.2872,   141.1893,       2639,    50.7,  28.9345,  34.2812,2,  34.2955,4,    198.2,2,  198.23,2,    1.19,2,    0.00,2,   0.080,2,-999.000,9,-999.000,9,-999.000,9,  -999.0,9,  -999.0,9,-999.0000,9,  -999.00, -999.00,9, -999.00,9,      235,    0.03,2,  28.9364,2,         50
49UP20160703,         P9,      92,          1,         30,        097,2,20160811,       0122,    -2.2872,   141.1893,       2639,    76.1,  27.4784,  34.7531,2,  34.7656,4,    185.4,2,  184.78,2,    1.17,2,    0.39,2,   0.180,2,-999.000,9,-999.000,9,-999.000,9,  -999.0,9,  -999.0,9,-999.0000,9,  -999.00, -999.00,9, -999.00,9,      234,    1.14,2,  27.4765,2,         76
49UP20160703,         P9,      92,          1,         29,        102,2,20160811,       0122,    -2.2872,   141.1893,       2639,   100.9,  26.1194,  35.0757,2,  35.0788,2,    174.5,2,  174.78,2,    1.33,2,    0.21,2,   0.300,2,-999.000,9,-999.000,9,-999.000,9,  -999.0,9,  -999.0,9,-999.0000,9,  -999.00, -999.00,9, -999.00,9,      233,    2.67,2,  26.1178,2,        100
49UP20160703,         P9,      92,          1,         28,        472,2,20160811,       0122,    -2.2872,   141.1893,       2639,   126.0,  23.9130,  35.3835,2,  35.3858,2,    161.2,2,  161.33,2,    1.73,2,    0.06,2,   0.460,2,-999.000,9,-999.000,9,-999.000,9,  -999.0,9,  -999.0,9,-999.0000,9,  -999.00, -999.00,9, -999.00,9,      232,    5.00,2,  23.9116,2,        125
49UP20160703,         P9,      92,          1,         27,        998,2,20160811,       0122,    -2.2872,   141.1893,       2639,   126.1,  23.9090,  35.3822,2,  35.3888,2,    161.2,2,  161.21,2,    1.69,2,    0.06,2,   0.460,2,-999.000,9,-999.000,9,-999.000,9,  -999.0,9,  -999.0,9,-999.0000,9,  -999.00, -999.00,9, -999.00,9,      232,    5.04,2,  23.9063,2,        125
49UP20160703,         P9,      92,          1,         26,        084,2,20160811,       0122,    -2.2872,   141.1893,       2639,   151.0,  21.4173,  35.5277,2,  35.5271,2,    150.2,2,  149.93,6,    2.57,6,    0.02,6,   0.660,6,-999.000,9,-999.000,9,-999.000,9,  -999.0,9,  -999.0,9,-999.0000,9,  -999.00, -999.00,9, -999.00,9,      231,    7.86,6,  21.4176,2,        150
49UP20160703,         P9,      92,          1,         25,        098,2,20160811,       0122,    -2.2872,   141.1893,       2639,   202.3,  17.8943,  35.3876,2,  35.3692,4,    147.2,2,  147.54,2,    4.75,2,    0.01,2,   0.920,2,-999.000,9,-999.000,9,-999.000,9,  -999.0,9,  -999.0,9,-999.0000,9,  -999.00, -999.00,9, -999.00,9,      229,   11.71,2,  17.8825,2,        201
49UP20160703,         P9,      92,          1,         24,        110,2,20160811,       0122,    -2.2872,   141.1893,       2639,   252.0,  13.5556,  35.0311,2,  35.0311,2,    145.3,2,  145.43,2,    9.80,2,    0.00,2,   1.290,2,-999.000,9,-999.000,9,-999.000,9,  -999.0,9,  -999.0,9,-999.0000,9,  -999.00, -999.00,9, -999.00,9,      227,   17.47,2,  13.5523,2,        250
49UP20160703,         P9,      92,          1,         23,        679,2,20160811,       0122,    -2.2872,   141.1893,       2639,   282.6,  12.8743,  34.9747,2,  34.9743,2,    154.9,2,  154.73,2,   10.06,2,    0.00,2,   1.300,2,-999.000,9,-999.000,9,-999.000,9,  -999.0,9,  -999.0,9,-999.0000,9,  -999.00, -999.00,9, -999.00,9,      226,   17.78,2,  12.8695,2,        281
49UP20160703,         P9,      92,          1,         22,        111,2,20160811,       0122,    -2.2872,   141.1893,       2639,   321.5,  12.2569,  34.9210,2,  34.9186,2,    156.6,2,  156.68,2,   11.06,2,    0.00,2,   1.360,2,-999.000,9,-999.000,9,-999.000,9,  -999.0,9,  -999.0,9,-999.0000,9,  -999.00, -999.00,9, -999.00,9,      225,   18.67,2,  12.2536,2,        319
49UP20160703,         P9,      92,          1,         21,        078,2,20160811,       0122,    -2.2872,   141.1893,       2639,   373.0,   9.9576,  34.7279,2,  34.7284,2,    163.8,2,  163.64,2,   15.48,2,    0.00,2,   1.570,2,-999.000,9,-999.000,9,-999.000,9,  -999.0,9,  -999.0,9,-999.0000,9,  -999.00, -999.00,9, -999.00,9,      223,   22.19,2,   9.9556,2,        371
49UP20160703,         P9,      92,          1,         20,        093,2,20160811,       0122,    -2.2872,   141.1893,       2639,   422.8,   9.2931,  34.6719,2,  34.6722,2,    159.7,2,  159.92,2,   17.76,2,    0.00,2,   1.670,2,-999.000,9,-999.000,9,-999.000,9,  -999.0,9,  -999.0,9,-999.0000,9,  -999.00, -999.00,9, -999.00,9,      221,   23.92,2,   9.2921,2,        420
49UP20160703,         P9,      92,          1,         19,        269,2,20160811,       0122,    -2.2872,   141.1893,       2639,   477.2,   8.7792,  34.6346,2,  34.6370,2,    166.3,2,  166.07,2,   18.84,2,    0.00,2,   1.700,2,-999.000,9,-999.000,9,-999.000,9,  -999.0,9,  -999.0,9,-999.0000,9,  -999.00, -999.00,9, -999.00,9,      219,   24.29,2,   8.7791,2,        474
49UP20160703,         P9,      92,          1,         18,        088,2,20160811,       0122,    -2.2872,   141.1893,       2639,   576.4,   7.1563,  34.5296,2,  34.5247,4,    167.8,2,  167.85,6,   26.80,6,    0.00,6,   1.910,6,-999.000,9,-999.000,9,-999.000,9,  -999.0,9,  -999.0,9,-999.0000,9,  -999.00, -999.00,9, -999.00,9,      216,   27.48,6,   7.1557,2,        572
49UP20160703,         P9,      92,          1,         17,        090,2,20160811,       0122,    -2.2872,   141.1893,       2639,   678.4,   6.5066,  34.5190,2,  34.5203,2,    141.5,2,  140.08,2,   37.91,2,    0.00,2,   2.190,2,-999.000,9,-999.000,9,-999.000,9,  -999.0,9,  -999.0,9,-999.0000,9,  -999.00, -999.00,9, -999.00,9,      213,   31.44,2,   6.5079,2,        674
49UP20160703,         P9,      92,          1,         16,        474,2,20160811,       0122,    -2.2872,   141.1893,       2639,   775.6,   5.5050,  34.5062,2,  34.5013,4,    134.7,2,  136.73,2,   51.06,2,    0.00,2,   2.340,2,-999.000,9,-999.000,9,-999.000,9,  -999.0,9,  -999.0,9,-999.0000,9,  -999.00, -999.00,9, -999.00,9,      211,   33.44,2,   5.5000,2,        770
49UP20160703,         P9,      92,          1,         12,        074,2,20160811,       0122,    -2.2872,   141.1893,       2639,   876.3,   4.8485,  34.5175,2,  34.5187,2,    129.9,2,  129.16,2,   64.58,2,    0.00,2,   2.460,2,-999.000,9,-999.000,9,-999.000,9,  -999.0,9,  -999.0,9,-999.0000,9,  -999.00, -999.00,9, -999.00,9,      208,   34.92,2,   4.8473,2,        870
49UP20160703,         P9,      92,          1,         11,        268,2,20160811,       0122,    -2.2872,   141.1893,       2639,   981.0,   4.5944,  34.5331,2,  34.5336,2,    120.3,2,  120.12,6,   73.03,6,    0.00,6,   2.530,6,-999.000,9,-999.000,9,-999.000,9,  -999.0,9,  -999.0,9,-999.0000,9,  -999.00, -999.00,9, -999.00,9,      205,   35.90,6,   4.5948,2,        973
49UP20160703,         P9,      92,          1,         10,        267,2,20160811,       0122,    -2.2872,   141.1893,       2639,  1142.5,   4.0684,  34.5600,2,  34.5596,6,    105.2,2,  105.33,2,   89.85,2,    0.00,2,   2.670,2,-999.000,9,-999.000,9,-999.000,9,  -999.0,9,  -999.0,9,-999.0000,9,  -999.00, -999.00,9, -999.00,9,      159,   37.73,2,   4.0698,2,       1133
49UP20160703,         P9,      92,          1,          9,        518,2,20160811,       0122,    -2.2872,   141.1893,       2639,  1341.9,   3.3724,  34.5859,2,  34.5869,2,    103.1,2,  102.88,2,  108.38,2,    0.00,2,   2.720,2,-999.000,9,-999.000,9,-999.000,9,  -999.0,9,  -999.0,9,-999.0000,9,  -999.00, -999.00,9, -999.00,9,      154,   38.45,2,   3.3704,2,       1330
49UP20160703,         P9,      92,          1,          8,        470,2,20160811,       0122,    -2.2872,   141.1893,       2639,  1545.0,   2.8866,  34.6056,2,  34.6021,4,    109.5,2,  109.45,2,  118.02,2,    0.00,2,   2.710,2,-999.000,9,-999.000,9,-999.000,9,  -999.0,9,  -999.0,9,-999.0000,9,  -999.00, -999.00,9, -999.00,9,      150,   38.19,2,   2.8866,2,       1531
49UP20160703,         P9,      92,          1,          7,        516,2,20160811,       0122,    -2.2872,   141.1893,       2639,  1747.5,   2.5286,  34.6215,2,  34.6218,2,    114.3,2,  114.18,2,  126.18,2,    0.00,2,   2.690,2,-999.000,9,-999.000,9,-999.000,9,  -999.0,9,  -999.0,9,-999.0000,9,  -999.00, -999.00,9, -999.00,9,      145,   38.13,2,   2.5272,2,       1731
49UP20160703,         P9,      92,          1,          6,        113,2,20160811,       0122,    -2.2872,   141.1893,       2639,  1951.4,   2.2129,  34.6367,2,  34.6367,2,    119.6,2,  119.43,2,  133.23,2,    0.00,2,   2.660,2,-999.000,9,-999.000,9,-999.000,9,  -999.0,9,  -999.0,9,-999.0000,9,  -999.00, -999.00,9, -999.00,9,      140,   37.89,2,   2.2129,2,       1932
49UP20160703,         P9,      92,          1,          5,        658,2,20160811,       0122,    -2.2872,   141.1893,       2639,  2152.9,   2.0185,  34.6463,2,  34.6469,6,    124.5,2,  124.23,2,  137.35,2,    0.00,2,   2.640,2,-999.000,9,-999.000,9,-999.000,9,  -999.0,9,  -999.0,9,-999.0000,9,  -999.00, -999.00,9, -999.00,9,      135,   37.66,2,   2.0184,2,       2130
49UP20160703,         P9,      92,          1,          4,        471,2,20160811,       0122,    -2.2872,   141.1893,       2639,  2356.9,   1.8306,  34.6558,2,  34.6543,2,    130.7,2,  130.31,2,  140.37,2,    0.00,2,   2.610,2,-999.000,9,-999.000,9,-999.000,9,  -999.0,9,  -999.0,9,-999.0000,9,  -999.00, -999.00,9, -999.00,9,      130,   37.29,2,   1.8304,2,       2331
49UP20160703,         P9,      92,          1,          3,        104,2,20160811,       0122,    -2.2872,   141.1893,       2639,  2357.9,   1.8308,  34.6558,2,  34.6563,2,    130.7,2,  130.56,2,  140.37,2,    0.00,2,   2.600,2,-999.000,9,-999.000,9,-999.000,9,  -999.0,9,  -999.0,9,-999.0000,9,  -999.00, -999.00,9, -999.00,9,      130,   37.29,2,   1.8306,2,       2332
49UP20160703,         P9,      92,          1,          2,        075,2,20160811,       0122,    -2.2872,   141.1893,       2639,  2559.4,   1.7280,  34.6626,2,  34.6562,4,    135.6,2,  135.41,6,  140.99,6,    0.00,6,   2.580,6,-999.000,9,-999.000,9,-999.000,9,  -999.0,9,  -999.0,9,-999.0000,9,  -999.00, -999.00,9, -999.00,9,      125,   36.91,6,   1.7278,2,       2530
49UP20160703,         P9,      92,          1,          1,        997,2,20160811,       0122,    -2.2872,   141.1893,       2639,  2640.0,   1.7037,  34.6641,2,  34.6648,2,    136.9,2,  136.60,2,  141.50,2,    0.00,2,   2.570,2,-999.000,9,-999.000,9,-999.000,9,  -999.0,9,  -999.0,9,-999.0000,9,  -999.00, -999.00,9, -999.00,9,      123,   36.87,2,   1.7034,2,       2609