BOTTLE,20230712CCHSIOENA
EXPOCODE,SECT_ID,STNNBR,CASTNO,SAMPNO,BTLNBR,BTLNBR_FLAG_W,DATE,TIME,LATITUDE,LONGITUDE,DEPTH,CTDPRS,CTDTMP,CTDSAL,CTDSAL_FLAG_W,SALNTY,SALNTY_FLAG_W,CTDOXY,CTDOXY_FLAG_W,OXYGEN,OXYGEN_FLAG_W,SILCAT,SILCAT_FLAG_W,NITRIT,NITRIT_FLAG_W,PHSPHT,PHSPHT_FLAG_W,CFC-11,CFC-11_FLAG_W,CFC-12,CFC-12_FLAG_W,CFC113,CFC113_FLAG_W,TCARBN,TCARBN_FLAG_W,ALKALI,ALKALI_FLAG_W,PH_TOT,PH_TOT_FLAG_W,PH_TMP,CHLORA,CHLORA_FLAG_W,PPHYTN,PPHYTN_FLAG_W,BTL_TIME,NO2+NO3,NO2+NO3_FLAG_W,SBE35,SBE35_FLAG_W,CTDDEPTH
,,,,,,,,,,,METERS,DBAR,ITS-90,PSS-78,,PSS-78,,UMOL/KG,,UMOL/KG,,UMOL/KG,,UMOL/KG,,UMOL/KG,,PMOL/KG,,PMOL/KG,,PMOL/KG,,UMOL/KG,,UMOL/KG,,,,DEG C,UG/KG,,UG/KG,,,UMOL/KG,,ITS-90,,METERS
49UP20160703,         P9,      16,          1,          0,        BUC,2,20160708,       1154,    29.0253,   136.9662,       4589,     0.0,  29.5444,  34.8574,2,  34.8635,2,    196.6,2,  196.43,2,    1.29,2,    0.00,2,   0.010,2,-999.000,9,-999.000,9,-999.000,9,  1975.7,2,  2290.9,3,   8.0729,2,    25.00,    0.04,2,    0.01,2,     1336,    0.00,2,-999.0000,9,          0
49UP20160703,         P9,      16,          1,         36,        109,2,20160708,       1154,    29.0253,   136.9662,       4589,     9.7,  29.5411,  34.8550,2,  34.8524,2,    196.6,2,  196.85,2,    1.32,2,    0.00,2,   0.010,2,   1.567,2,   0.983,2,   0.142,2,  1979.2,6,  2289.0,3,   8.0789,2,    25.00,    0.04,2,    0.01,2,     1406,    0.00,2,  29.5325,2,         10
49UP20160703,         P9,      16,          1,         35,        112,2,20160708,       1154,    29.0253,   136.9662,       4589,    25.1,  26.5603,  34.7949,2,  34.8058,4,    212.7,2,  213.61,2,    1.41,2,    0.00,2,   0.000,2,   1.831,2,   1.111,2,   0.152,2,  1983.3,2,  2286.3,3,   8.0646,2,    25.00,    0.05,2,    0.02,2,     1405,    0.00,2,  26.5512,2,         25
49UP20160703,         P9,      16,          1,         34,        094,2,20160708,       1154,    29.0253,   136.9662,       4589,    50.8,  22.4056,  34.9263,2,  34.9285,2,    230.4,2,  229.50,2,    1.57,2,    0.00,2,   0.010,2,   2.099,6,   1.288,6,   0.157,6,  1997.5,2,  2293.9,2,   8.0557,2,    25.00,    0.08,2,    0.04,2,     1403,    0.00,2,  22.4202,2,         50
49UP20160703,         P9,      16,          1,         33,        469,2,20160708,       1154,    29.0253,   136.9662,       4589,    76.3,  21.1649,  34.9488,2,  34.9480,2,    222.6,2,  222.05,2,    1.87,2,    0.00,2,   0.020,2,   2.146,2,   1.315,2,   0.146,2,  2008.3,2,  2298.2,2,   8.0366,2,    25.00,    0.15,2,    0.13,2,     1402,    0.00,2,  21.1741,2,         76
49UP20160703,         P9,      16,          1,         31,        515,2,20160708,       1154,    29.0253,   136.9662,       4589,   105.3,  20.3760,  34.9301,2,  34.9315,2,    214.5,2,  214.99,2,    2.08,2,    0.11,2,   0.060,2,   2.180,2,   1.345,2,   0.126,2,  2014.8,2,  2296.1,2,   8.0175,2,    25.00,    0.71,2,    0.70,2,     1357,    0.70,2,  20.3872,2,        105
49UP20160703,         P9,      16,          1,         32,        089,2,20160708,       1154,    29.0253,   136.9662,       4589,   106.4,  20.2806,  34.9223,2,  34.9309,4,    213.3,2,  214.54,2,    2.08,2,    0.11,2,   0.070,2,-999.000,9,-999.000,9,-999.000,9,  2017.0,2,  2293.9,2,   8.0145,2,    25.00, -999.00,9, -999.00,9,     1357,    0.75,2,  20.2997,2,        106
49UP20160703,         P9,      16,          1,         30,        097,2,20160708,       1154,    29.0253,   136.9662,       4589,   125.9,  19.6030,  34.8879,2,  34.8873,2,    213.7,2,  214.38,2,    2.08,2,    0.07,2,   0.100,2,   2.223,2,   1.375,2,   0.134,2,  2020.0,2,  2292.9,2,   8.0059,2,    25.00,    0.13,2,    0.23,2,     1356,    1.23,2,  19.6082,2,        125
49UP20160703,         P9,      16,          1,         29,        102,2,20160708,       1154,    29.0253,   136.9662,       4589,   152.4,  19.1490,  34.8694,2,  34.8705,2,    214.1,2,  214.27,2,    2.20,2,    0.02,2,   0.130,2,   2.229,2,   1.386,2,   0.151,2,  2017.4,2,  2291.3,2,   8.0078,2,    25.00,    0.06,2,    0.09,2,     1355,    1.73,2,  19.1530,2,        151
49UP20160703,         P9,      16,          1,         28,        472,2,20160708,       1154,    29.0253,   136.9662,       4589,   200.8,  18.6200,  34.8345,2,  34.8341,2,    212.3,2,  212.06,2,    2.69,2,    0.01,2,   0.170,2,   2.277,2,   1.413,2,   0.124,2,  2025.6,2,  2288.7,2,   7.9907,6,    25.00,    0.01,2,    0.08,2,     1353,    2.48,2,  18.6195,2,        199
49UP20160703,         P9,      16,          1,         27,        998,2,20160708,       1154,    29.0253,   136.9662,       4589,   251.1,  18.1793,  34.8055,2,  34.8036,2,    209.1,2,  208.59,2,    3.26,2,    0.01,2,   0.230,2,   2.314,2,   1.433,2,   0.092,2,  2030.4,2,  2284.5,2,   7.9758,2,    25.00, -999.00,9, -999.00,9,     1351,    3.36,2,  18.1790,2,        249
49UP20160703,         P9,      16,          1,         26,        084,2,20160708,       1154,    29.0253,   136.9662,       4589,   300.5,  17.5076,  34.7526,2,  34.7512,2,    202.7,2,  203.13,2,    4.26,2,    0.00,2,   0.320,2,   2.387,2,   1.466,2,   0.058,2,  2042.0,2,  2283.7,2,   7.9486,2,    25.00, -999.00,9, -999.00,9,     1350,    4.77,2,  17.5071,2,        298
49UP20160703,         P9,      16,          1,         25,        098,2,20160708,       1154,    29.0253,   136.9662,       4589,   402.6,  15.7579,  34.6177,2,  34.6149,2,    192.9,2,  193.01,2,    8.55,2,    0.00,2,   0.560,2,   2.545,2,   1.532,2,   0.057,2,  2068.5,2,  2275.7,2,   7.8905,2,    25.00, -999.00,9, -999.00,9,     1347,    8.35,2,  15.7508,2,        400
49UP20160703,         P9,      16,          1,         24,        110,2,20160708,       1154,    29.0253,   136.9662,       4589,   503.8,  13.1961,  34.4309,2,  34.4266,2,    181.6,2,  181.77,2,   17.15,2,    0.00,2,   0.940,2,   2.700,2,   1.561,2,   0.065,2,  2107.0,2,  2275.3,2,   7.8074,2,    25.00, -999.00,9, -999.00,9,     1344,   13.58,2,  13.1957,2,        500
49UP20160703,         P9,      16,          1,         23,        679,2,20160708,       1154,    29.0253,   136.9662,       4589,   604.4,  10.1907,  34.2580,2,  34.2575,2,    159.8,2,  159.39,2,   33.50,2,    0.00,2,   1.460,2,   2.605,2,   1.423,2,   0.071,2,  2157.7,2,  2284.1,2,   7.6948,2,    25.00, -999.00,9, -999.00,9,     1341,   20.56,2,  10.1840,2,        599
49UP20160703,         P9,      16,          1,         22,        111,2,20160708,       1154,    29.0253,   136.9662,       4589,   706.4,   7.6417,  34.1329,2,  34.1343,2,    137.2,2,  137.08,6,   51.72,6,    0.00,6,   1.940,6,   2.350,2,   1.202,2,   0.079,2,  2203.8,2,  2290.5,2,   7.5879,2,    25.00, -999.00,9, -999.00,9,     1339,   26.98,6,   7.6414,2,        700
49UP20160703,         P9,      16,          1,         21,        078,2,20160708,       1154,    29.0253,   136.9662,       4589,   807.3,   5.9859,  34.1375,2,  34.1382,2,    104.3,2,  104.73,2,   72.85,2,    0.00,2,   2.370,2,   1.784,2,   0.865,2,   0.058,2,  2256.2,2,  2310.8,2,   7.4949,6,    25.00, -999.00,9, -999.00,9,     1336,   32.73,2,   5.9885,2,        800
49UP20160703,         P9,      16,          1,         20,        093,2,20160708,       1154,    29.0253,   136.9662,       4589,   907.1,   5.0417,  34.1870,2,  34.1891,6,     79.5,2,   79.08,2,   89.93,2,    0.00,2,   2.630,2,   1.241,2,   0.592,2,   0.044,2,  2292.2,2,  2325.7,2,   7.4352,2,    25.00, -999.00,9, -999.00,9,     1333,   36.50,2,   5.0406,2,        899
49UP20160703,         P9,      16,          1,         18,        088,2,20160708,       1154,    29.0253,   136.9662,       4589,  1008.1,   4.3066,  34.2691,2,  34.2691,2,     61.7,2,   61.66,2,  106.31,2,    0.00,2,   2.810,2,   0.730,2,   0.335,2,   0.021,2,  2322.3,2,  2343.8,2,   7.4028,2,    25.00, -999.00,9, -999.00,9,     1331,   39.03,2,   4.3061,2,        999
49UP20160703,         P9,      16,          1,         19,        269,3,20160708,       1154,    29.0253,   136.9662,       4589,  1008.5,   4.3061,  34.2691,2,  34.2690,2,     61.6,2,   63.23,4,  105.98,2,    0.00,2,   2.800,2,-999.000,9,-999.000,9,-999.000,9,  2322.5,2,  2342.8,2,   7.4015,2,    25.00, -999.00,9, -999.00,9,     1331,   38.99,2,   4.3058,2,        999
49UP20160703,         P9,      16,          1,         17,        090,3,20160708,       1154,    29.0253,   136.9662,       4589,  1211.3,   3.3630,  34.4089,2,  34.4084,2,     58.0,2,   57.72,6,  127.90,6,    0.00,6,   2.910,6,   0.245,2,   0.102,2,   0.003,2,  2351.2,2,  2372.9,2,   7.4044,2,    25.00, -999.00,9, -999.00,9,     1323,   40.61,6,   3.3629,2,       1200
49UP20160703,         P9,      16,          1,         16,        474,2,20160708,       1154,    29.0253,   136.9662,       4589,  1414.8,   2.7681,  34.4822,2,  34.4818,2,     62.5,2,   62.58,2,  140.42,2,    0.00,2,   2.920,2,   0.102,6,   0.038,6,   0.000,6,  2362.2,2,  2392.3,2,    7.415,2,    25.00, -999.00,9, -999.00,9,     1318,   40.96,2,   2.7681,2,       1401
49UP20160703,         P9,      16,          1,         15,        665,2,20160708,       1154,    29.0253,   136.9662,       4589,  1616.2,   2.4280,  34.5330,2,  34.5331,2,     75.3,2,   75.06,2,  145.42,2,    0.00,2,   2.870,2,   0.048,2,   0.015,2,   0.000,2,  2361.3,2,  2396.6,2,    7.437,2,    25.00, -999.00,9, -999.00,9,     1313,   40.44,2,   2.4277,2,       1599
49UP20160703,         P9,      16,          1,         14,        999,2,20160708,       1154,    29.0253,   136.9662,       4589,  1820.0,   2.1583,  34.5763,2,  34.5766,2,     94.6,2,   94.29,2,  145.51,2,    0.00,2,   2.780,2,   0.025,2,   0.008,2,   0.004,2,  2354.1,6,  2404.6,6,   7.4772,2,    25.00, -999.00,9, -999.00,9,     1308,   39.25,2,   2.1582,2,       1800
49UP20160703,         P9,      16,          1,         13,        667,2,20160708,       1154,    29.0253,   136.9662,       4589,  2023.3,   1.9504,  34.6070,2,  34.6061,2,    108.0,2,  107.89,2,  146.02,2,    0.00,2,   2.720,2,   0.014,2,   0.005,2,   0.004,2,  2348.7,2,  2408.3,2,   7.5037,2,    25.00, -999.00,9, -999.00,9,     1303,   38.52,2,   1.9505,2,       2000
49UP20160703,         P9,      16,          1,         12,        074,2,20160708,       1154,    29.0253,   136.9662,       4589,  2227.0,   1.8317,  34.6249,2,  34.6253,2,    116.2,2,  116.00,2,  146.42,2,    0.00,2,   2.680,2,   0.000,2,   0.000,2,   0.000,2,  2346.7,2,  2413.0,2,   7.5172,2,    25.00, -999.00,9, -999.00,9,     1256,   38.11,2,   1.8316,2,       2200
49UP20160703,         P9,      16,          1,         11,        268,2,20160708,       1154,    29.0253,   136.9662,       4589,  2430.2,   1.7503,  34.6387,2,  34.6383,2,    125.0,2,  124.82,2,  145.07,2,    0.00,2,   2.640,2,   0.000,2,   0.000,2,   0.000,2,  2344.4,2,  2417.9,2,   7.5323,2,    25.00, -999.00,9, -999.00,9,     1251,   37.56,2,   1.7503,2,       2400
49UP20160703,         P9,      16,          1,         10,        267,2,20160708,       1154,    29.0253,   136.9662,       4589,  2635.0,   1.6746,  34.6507,2,  34.6502,6,    132.9,2,  132.97,2,  143.85,2,    0.00,2,   2.600,2,   0.000,2,   0.001,2,   0.000,2,  2336.7,2,  2412.6,2,   7.5466,2,    25.00, -999.00,9, -999.00,9,     1246,   37.09,2,   1.6748,2,       2601
49UP20160703,         P9,      16,          1,          9,        518,2,20160708,       1154,    29.0253,   136.9662,       4589,  2836.9,   1.6249,  34.6586,2,  34.6586,2,    138.2,2,  138.07,6,  143.39,6,    0.00,6,   2.570,6,-999.000,9,-999.000,9,-999.000,9,  2335.5,2,  2416.6,2,   7.5535,2,    25.00, -999.00,9, -999.00,9,     1241,   36.74,6,   1.6248,2,       2799
49UP20160703,         P9,      16,          1,          8,        470,2,20160708,       1154,    29.0253,   136.9662,       4589,  3042.7,   1.5785,  34.6660,2,  34.6664,2,    143.2,2,  143.31,2,  142.70,2,    0.00,2,   2.550,2,   0.000,2,   0.001,2,   0.002,2,  2332.0,2,  2421.6,2,   7.5647,2,    25.00, -999.00,9, -999.00,9,     1236,   36.40,2,   1.5786,2,       3001
49UP20160703,         P9,      16,          1,          7,        516,2,20160708,       1154,    29.0253,   136.9662,       4589,  3299.2,   1.5362,  34.6732,2,  34.6736,6,    148.2,2,  148.28,2,  142.09,2,    0.00,2,   2.520,2,-999.000,9,-999.000,9,-999.000,9,  2329.9,6,  2414.9,6,   7.5731,2,    25.00, -999.00,9, -999.00,9,     1229,   36.13,2,   1.5362,2,       3252
49UP20160703,         P9,      16,          1,          6,        113,2,20160708,       1154,    29.0253,   136.9662,       4589,  3554.2,   1.5174,  34.6779,2,  34.6779,2,    151.7,2,  151.96,6,  141.54,6,    0.00,6,   2.500,6,   0.000,2,   0.000,2,   0.000,2,  2322.7,3,  2414.9,2,   7.5759,2,    25.00, -999.00,9, -999.00,9,     1223,   35.91,6,   1.5173,2,       3501
49UP20160703,         P9,      16,          1,          5,        658,2,20160708,       1154,    29.0253,   136.9662,       4589,  3811.7,   1.5212,  34.6804,2,  34.6801,2,    153.7,2,  153.78,2,  141.30,2,    0.00,2,   2.500,2,-999.000,9,-999.000,9,-999.000,9,  2324.7,2,  2417.4,2,   7.5807,2,    25.00, -999.00,9, -999.00,9,     1217,   35.78,2,   1.5212,2,       3752
49UP20160703,         P9,      16,          1,          4,        471,2,20160708,       1154,    29.0253,   136.9662,       4589,  4067.9,   1.5358,  34.6820,2,  34.6825,2,    154.9,2,  155.37,2,  140.98,2,    0.00,2,   2.490,2,   0.000,2,   0.000,2,   0.002,2,  2322.1,2,  2414.1,2,   7.5829,2,    25.00, -999.00,9, -999.00,9,     1210,   35.70,2,   1.5359,2,       4002
49UP20160703,         P9,      16,          1,          3,        104,2,20160708,       1154,    29.0253,   136.9662,       4589,  4324.4,   1.5599,  34.6823,2,  34.6828,2,    155.4,2,  155.64,2,  140.93,2,    0.00,2,   2.480,2,-999.000,9,-999.000,9,-999.000,9,  2323.4,2,  2412.5,2,    7.584,6,    25.00, -999.00,9, -999.00,9,     1203,   35.73,2,   1.5599,2,       4252
49UP20160703,         P9,      16,          1,          2,        075,2,20160708,       1154,    29.0253,   136.9662,       4589,  4580.9,   1.5884,  34.6823,2,  34.6820,2,    155.6,2,  155.77,2,  140.78,2,    0.00,2,   2.480,2,-999.000,9,-999.000,9,-999.000,9,  2322.8,2,  2414.9,2,    7.584,2,    25.00, -999.00,9, -999.00,9,     1157,   35.67,2,   1.5882,2,       4502
49UP20160703,         P9,      16,          1,          1,        997,2,20160708,       1154,    29.0253,   136.9662,       4589,  4645.6,   1.5964,  34.6823,2,  34.6823,2,    155.6,2,  155.95,2,  140.92,2,    0.00,2,   2.480,2,   0.000,2,   0.000,2,   0.000,2,  2322.6,2,  2414.1,2,   7.5845,2,    25.00, -999.00,9, -999.00,9,     1154,   35.72,2,   1.5962,2,       4565