BOTTLE,20230712CCHSIOENA
EXPOCODE,SECT_ID,STNNBR,CASTNO,SAMPNO,BTLNBR,BTLNBR_FLAG_W,DATE,TIME,LATITUDE,LONGITUDE,DEPTH,CTDPRS,CTDTMP,CTDSAL,CTDSAL_FLAG_W,SALNTY,SALNTY_FLAG_W,CTDOXY,CTDOXY_FLAG_W,OXYGEN,OXYGEN_FLAG_W,SILCAT,SILCAT_FLAG_W,NITRIT,NITRIT_FLAG_W,PHSPHT,PHSPHT_FLAG_W,CFC-11,CFC-11_FLAG_W,CFC-12,CFC-12_FLAG_W,CFC113,CFC113_FLAG_W,TCARBN,TCARBN_FLAG_W,ALKALI,ALKALI_FLAG_W,PH_TOT,PH_TOT_FLAG_W,PH_TMP,CHLORA,CHLORA_FLAG_W,PPHYTN,PPHYTN_FLAG_W,BTL_TIME,NO2+NO3,NO2+NO3_FLAG_W,SBE35,SBE35_FLAG_W,CTDDEPTH
,,,,,,,,,,,METERS,DBAR,ITS-90,PSS-78,,PSS-78,,UMOL/KG,,UMOL/KG,,UMOL/KG,,UMOL/KG,,UMOL/KG,,PMOL/KG,,PMOL/KG,,PMOL/KG,,UMOL/KG,,UMOL/KG,,,,DEG C,UG/KG,,UG/KG,,,UMOL/KG,,ITS-90,,METERS
49UP20160703,         P9,      40,          1,          0,        BUC,2,20160716,       1621,    16.9967,   136.9653,       4730,     0.0,  30.0161,  34.8736,2,  34.8772,2,    194.7,2,  194.60,2,    1.03,2,    0.00,2,   0.020,2,-999.000,9,-999.000,9,-999.000,9,  1957.1,2,  2296.6,2,   8.1143,2,    25.00,    0.06,2,    0.02,2,     1800,    0.02,2,-999.0000,9,          0
49UP20160703,         P9,      40,          1,         36,        109,2,20160716,       1621,    16.9967,   136.9653,       4730,    10.6,  30.0211,  34.8728,2,  34.8702,2,    194.7,2,  194.59,2,    1.07,2,    0.00,2,   0.030,2,   1.476,2,   0.927,2,   0.132,2,  1955.7,2,  2295.4,2,   8.1138,2,    25.00,    0.03,2,    0.02,2,     1823,    0.02,2,  30.0208,2,         11
49UP20160703,         P9,      40,          1,         35,        112,2,20160716,       1621,    16.9967,   136.9653,       4730,    51.0,  29.7458,  34.8944,2,  34.8933,2,    197.7,2,  197.52,2,    1.03,2,    0.00,2,   0.020,2,   1.503,2,   0.940,2,   0.118,2,  1957.1,2,  2297.2,2,   8.1132,2,    25.00,    0.07,2,    0.02,2,     1822,    0.01,2,  29.7393,2,         51
49UP20160703,         P9,      40,          1,         34,        094,2,20160716,       1621,    16.9967,   136.9653,       4730,    76.0,  28.1677,  34.9463,2,  34.9501,2,    212.0,2,  211.53,2,    0.94,2,    0.00,2,   0.030,2,   1.682,2,   1.019,2,   0.124,2,  1956.6,2,  2299.8,2,    8.112,2,    25.00,    0.09,2,    0.05,2,     1820,    0.02,2,  28.1662,2,         76
49UP20160703,         P9,      40,          1,         33,        469,2,20160716,       1621,    16.9967,   136.9653,       4730,   100.6,  27.0730,  35.0930,2,  35.0940,2,    208.3,2,  207.88,2,    0.90,2,    0.00,2,   0.030,2,   1.698,2,   1.043,2,   0.133,2,  1970.9,2,  2309.7,2,   8.1036,2,    25.00,    0.21,2,    0.14,2,     1817,    0.00,2,  27.0689,2,        100
49UP20160703,         P9,      40,          1,         32,        089,2,20160716,       1621,    16.9967,   136.9653,       4730,   126.5,  25.7280,  35.1749,2,  35.1929,4,    201.0,2,  199.74,2,    0.99,2,    0.06,2,   0.040,2,   1.768,2,   1.093,2,   0.147,2,  1992.6,2,  2315.0,2,   8.0823,2,    25.00,    0.20,2,    0.44,2,     1816,    0.08,2,  25.7237,2,        126
49UP20160703,         P9,      40,          1,         31,        515,2,20160716,       1621,    16.9967,   136.9653,       4730,   150.6,  24.2855,  35.2458,2,  35.2465,6,    191.7,2,  191.19,2,    1.27,2,    0.11,2,   0.090,2,   1.878,2,   1.168,2,   0.118,2,  2018.8,2,  2318.9,2,   8.0409,2,    25.00,    0.10,2,    0.21,2,     1815,    0.43,2,  24.2913,2,        150
49UP20160703,         P9,      40,          1,         30,        097,2,20160716,       1621,    16.9967,   136.9653,       4730,   201.4,  20.3027,  35.0667,2,  35.0601,2,    183.3,2,  182.74,6,    2.90,6,    0.01,6,   0.290,6,   2.173,2,   1.364,2,   0.048,2,  2056.5,2,  2307.8,2,   7.9561,2,    25.00,    0.02,2,    0.05,2,     1813,    2.88,6,  20.3080,2,        200
49UP20160703,         P9,      40,          1,         29,        102,2,20160716,       1621,    16.9967,   136.9653,       4730,   251.9,  17.7162,  34.7955,2,  34.7948,2,    178.1,2,  178.53,2,    5.34,2,    0.01,2,   0.500,2,   2.403,2,   1.473,2,   0.058,2,  2076.2,6,  2291.9,6,   7.8951,2,    25.00, -999.00,9, -999.00,9,     1812,    6.21,2,  17.7149,2,        250
49UP20160703,         P9,      40,          1,         28,        472,2,20160716,       1621,    16.9967,   136.9653,       4730,   302.8,  15.2638,  34.5600,2,  34.6066,4,    181.1,2,  181.17,2,    8.67,2,    0.00,2,   0.700,2,   2.651,2,   1.582,2,   0.032,2,  2085.1,2,  2278.9,2,   7.8461,2,    25.00, -999.00,9, -999.00,9,     1810,    9.52,2,  15.2719,2,        301
49UP20160703,         P9,      40,          1,         27,        998,2,20160716,       1621,    16.9967,   136.9653,       4730,   353.2,  11.7570,  34.3023,2,  34.3038,2,    162.8,2,  162.50,2,   18.96,2,    0.00,2,   1.230,2,-999.000,9,-999.000,9,-999.000,9,  2130.6,2,  2272.4,2,   7.7269,2,    25.00, -999.00,9, -999.00,9,     1808,   16.82,2,  11.7654,2,        351
49UP20160703,         P9,      40,          1,         26,        084,3,20160716,       1621,    16.9967,   136.9653,       4730,   403.7,  10.1638,  34.2724,2,  34.2780,4,    125.6,2,  125.26,2,   28.63,2,    0.00,2,   1.710,2,   2.334,6,   1.272,6,   0.041,6,  2175.4,2,  2279.1,2,   7.6285,2,    25.00, -999.00,9, -999.00,9,     1806,   23.19,2,  10.1698,2,        401
49UP20160703,         P9,      40,          1,         25,        098,2,20160716,       1621,    16.9967,   136.9653,       4730,   454.6,   8.5299,  34.2313,2,  34.2328,2,    102.8,2,  103.40,2,   41.45,2,    0.00,2,   2.080,2,-999.000,9,-999.000,9,-999.000,9,  2214.3,2,  2287.4,2,   7.5482,2,    25.00, -999.00,9, -999.00,9,     1804,   28.44,2,   8.5332,2,        451
49UP20160703,         P9,      40,          1,         24,        110,2,20160716,       1621,    16.9967,   136.9653,       4730,   506.2,   7.5816,  34.2513,2,  34.2510,2,     84.3,2,   84.55,2,   51.57,2,    0.00,2,   2.320,2,   1.371,2,   0.675,2,   0.022,2,  2239.8,2,  2299.4,2,   7.4976,6,    25.00, -999.00,9, -999.00,9,     1802,   31.95,2,   7.5838,2,        503
49UP20160703,         P9,      40,          1,         23,        679,2,20160716,       1621,    16.9967,   136.9653,       4730,   606.3,   6.6061,  34.3173,2,  34.3160,2,     68.4,2,   68.72,2,   64.00,2,    0.00,2,   2.560,2,   0.756,2,   0.376,2,   0.027,2,  2267.5,2,  2315.8,2,   7.4633,2,    25.00, -999.00,9, -999.00,9,     1800,   35.36,2,   6.6113,2,        602
49UP20160703,         P9,      40,          1,         22,        111,2,20160716,       1621,    16.9967,   136.9653,       4730,   707.7,   5.7981,  34.4050,2,  34.4049,2,     68.3,2,   68.62,2,   76.09,2,    0.00,2,   2.680,2,   0.370,2,   0.194,2,   0.006,2,  2287.9,2,  2334.2,2,   7.4629,2,    25.00, -999.00,9, -999.00,9,     1757,   37.11,2,   5.7977,2,        702
49UP20160703,         P9,      40,          1,         21,        078,2,20160716,       1621,    16.9967,   136.9653,       4730,   808.9,   5.2366,  34.4604,2,  34.4608,2,     72.2,2,   72.46,2,   84.43,2,    0.00,2,   2.730,2,   0.200,2,   0.111,2,   0.000,2,  2297.7,2,  2347.4,2,   7.4699,2,    25.00, -999.00,9, -999.00,9,     1754,   37.92,2,   5.2369,2,        803
49UP20160703,         P9,      40,          1,         20,        093,2,20160716,       1621,    16.9967,   136.9653,       4730,   907.7,   4.7371,  34.4937,2,  34.4937,2,     77.5,2,   77.79,2,   92.78,2,    0.00,2,   2.750,2,   0.134,2,   0.076,2,   0.000,2,  2305.0,6,  2357.5,6,   7.4756,2,    25.00, -999.00,9, -999.00,9,     1750,   38.26,2,   4.7373,2,        900
49UP20160703,         P9,      40,          1,         19,        269,2,20160716,       1621,    16.9967,   136.9653,       4730,  1009.7,   4.2361,  34.5237,2,  34.5243,2,     82.2,2,   83.06,2,  101.30,2,    0.00,2,   2.750,2,   0.085,2,   0.052,2,   0.000,2,  2310.9,2,  2370.0,2,   7.4833,2,    25.00, -999.00,9, -999.00,9,     1746,   38.47,2,   4.2361,2,       1001
49UP20160703,         P9,      40,          1,         18,        088,2,20160716,       1621,    16.9967,   136.9653,       4730,  1212.7,   3.5736,  34.5464,2,  34.5473,2,     87.7,2,   87.93,2,  115.43,2,    0.00,2,   2.760,2,   0.059,2,   0.042,2,   0.002,2,  2321.7,2,  2383.7,2,   7.4909,2,    25.00, -999.00,9, -999.00,9,     1741,   38.73,2,   3.5736,2,       1202
49UP20160703,         P9,      40,          1,         17,        090,2,20160716,       1621,    16.9967,   136.9653,       4730,  1414.1,   3.0881,  34.5670,2,  34.5676,2,     94.3,2,   94.23,2,  125.43,2,    0.00,2,   2.750,2,   0.039,6,   0.018,6,   0.000,6,  2332.1,2,  2393.5,2,   7.4943,2,    25.00, -999.00,9, -999.00,9,     1736,   38.68,2,   3.0882,2,       1401
49UP20160703,         P9,      40,          1,         16,        474,2,20160716,       1621,    16.9967,   136.9653,       4730,  1618.8,   2.6198,  34.5907,2,  34.5910,2,    100.7,2,  101.11,2,  133.20,2,    0.00,2,   2.740,2,-999.000,9,-999.000,9,-999.000,9,  2339.2,2,  2401.6,2,   7.5003,2,    25.00, -999.00,9, -999.00,9,     1731,   38.65,2,   2.6202,2,       1603
49UP20160703,         P9,      40,          1,         15,        665,2,20160716,       1621,    16.9967,   136.9653,       4730,  1819.4,   2.3435,  34.6064,2,  34.6066,6,    106.1,2,  106.25,2,  137.93,2,    0.00,2,   2.720,2,-999.000,9,-999.000,9,-999.000,9,  2342.6,2,  2407.3,2,   7.5063,2,    25.00, -999.00,9, -999.00,9,     1726,   38.57,2,   2.3440,2,       1801
49UP20160703,         P9,      40,          1,         14,        999,2,20160716,       1621,    16.9967,   136.9653,       4730,  2022.6,   2.1186,  34.6225,2,  34.6229,2,    112.5,2,  112.32,6,  141.33,6,    0.00,6,   2.700,6,   0.003,2,   0.000,2,   0.000,2,  2340.3,2,  2411.0,2,   7.5183,2,    25.00, -999.00,9, -999.00,9,     1721,   38.31,6,   2.1187,2,       2001
49UP20160703,         P9,      40,          1,         13,        667,3,20160716,       1621,    16.9967,   136.9653,       4730,  2225.4,   1.9418,  34.6366,2,  34.6367,2,    119.5,2,  119.60,2,  143.15,2,    0.00,2,   2.660,2,-999.000,9,-999.000,9,-999.000,9,  2340.8,2,  2413.1,2,   7.5281,6,    25.00, -999.00,9, -999.00,9,     1717,   37.91,2,   1.9418,2,       2200
49UP20160703,         P9,      40,          1,         12,        074,2,20160716,       1621,    16.9967,   136.9653,       4730,  2427.3,   1.8295,  34.6461,2,  34.6462,2,    124.8,2,  124.61,2,  144.61,2,    0.00,2,   2.640,2,   0.000,2,   0.000,2,   0.000,2,  2339.1,2,  2416.2,2,    7.536,2,    25.00, -999.00,9, -999.00,9,     1712,   37.63,2,   1.8295,2,       2399
49UP20160703,         P9,      40,          1,         11,        268,2,20160716,       1621,    16.9967,   136.9653,       4730,  2632.6,   1.7478,  34.6543,2,  34.6544,2,    129.8,2,  129.50,2,  145.12,2,    0.00,2,   2.610,2,-999.000,9,-999.000,9,-999.000,9,  2337.4,2,  2417.2,2,    7.544,2,    25.00, -999.00,9, -999.00,9,     1708,   37.38,2,   1.7480,2,       2601
49UP20160703,         P9,      40,          1,         10,        267,2,20160716,       1621,    16.9967,   136.9653,       4730,  2838.2,   1.6976,  34.6598,2,  34.6604,6,    133.7,2,  133.92,2,  145.09,2,    0.00,2,   2.590,2,-999.000,9,-999.000,9,-999.000,9,  2332.9,2,  2416.4,2,   7.5499,2,    25.00, -999.00,9, -999.00,9,     1704,   36.98,2,   1.6977,2,       2802
49UP20160703,         P9,      40,          1,          9,        518,2,20160716,       1621,    16.9967,   136.9653,       4730,  3039.1,   1.6612,  34.6643,2,  34.6648,2,    137.3,2,  136.92,6,  144.73,6,    0.00,6,   2.570,6,   0.000,2,   0.000,2,   0.000,2,  2335.8,2,  2418.3,2,   7.5555,2,    25.00, -999.00,9, -999.00,9,     1659,   36.74,6,   1.6611,2,       2999
49UP20160703,         P9,      40,          1,          8,        470,2,20160716,       1621,    16.9967,   136.9653,       4730,  3292.7,   1.6066,  34.6704,2,  34.6704,2,    142.8,2,  142.55,2,  143.94,2,    0.00,2,   2.550,2,-999.000,9,-999.000,9,-999.000,9,  2331.1,2,  2418.7,2,   7.5623,2,    25.00, -999.00,9, -999.00,9,     1654,   36.38,2,   1.6067,2,       3248
49UP20160703,         P9,      40,          1,          7,        516,2,20160716,       1621,    16.9967,   136.9653,       4730,  3550.6,   1.5779,  34.6745,2,  34.6743,2,    146.9,2,  146.86,2,  143.35,2,    0.00,2,   2.520,2,   0.000,2,   0.000,2,   0.000,2,  2327.4,6,  2417.6,6,   7.5688,2,    25.00, -999.00,9, -999.00,9,     1649,   36.15,2,   1.5779,2,       3500
49UP20160703,         P9,      40,          1,          6,        113,2,20160716,       1621,    16.9967,   136.9653,       4730,  3807.6,   1.5528,  34.6782,2,  34.6785,6,    151.0,2,  150.96,2,  142.19,2,    0.00,2,   2.500,2,-999.000,9,-999.000,9,-999.000,9,  2324.6,2,  2416.4,2,   7.5751,2,    25.00, -999.00,9, -999.00,9,     1643,   35.85,2,   1.5529,2,       3751
49UP20160703,         P9,      40,          1,          5,        658,2,20160716,       1621,    16.9967,   136.9653,       4730,  4062.8,   1.5246,  34.6822,2,  34.6829,2,    155.6,2,  155.58,6,  140.83,6,    0.00,6,   2.480,6,   0.006,2,   0.002,2,   0.000,2,  2320.9,2,  2413.5,2,   7.5799,2,    25.00, -999.00,9, -999.00,9,     1638,   35.52,6,   1.5246,2,       4000
49UP20160703,         P9,      40,          1,          4,        471,2,20160716,       1621,    16.9967,   136.9653,       4730,  4319.5,   1.5122,  34.6853,2,  34.6851,2,    159.3,2,  159.56,2,  139.65,2,    0.00,2,   2.460,2,-999.000,9,-999.000,9,-999.000,9,  2317.4,2,  2413.2,2,   7.5892,2,    25.00, -999.00,9, -999.00,9,     1633,   35.24,2,   1.5122,2,       4251
49UP20160703,         P9,      40,          1,          3,        104,2,20160716,       1621,    16.9967,   136.9653,       4730,  4575.9,   1.5302,  34.6863,2,  34.6856,2,    160.5,2,  160.12,2,  139.26,2,    0.00,2,   2.450,2,   0.001,2,   0.000,2,   0.003,2,  2315.5,2,  2412.0,2,   7.5893,2,    25.00, -999.00,9, -999.00,9,     1628,   35.21,2,   1.5303,2,       4500
49UP20160703,         P9,      40,          1,          2,        075,2,20160716,       1621,    16.9967,   136.9653,       4730,  4832.0,   1.5580,  34.6865,2,  34.6865,2,    160.9,2,  160.52,2,  139.27,2,    0.00,2,   2.450,2,-999.000,9,-999.000,9,-999.000,9,  2317.0,2,  2413.0,2,    7.587,6,    25.00, -999.00,9, -999.00,9,     1623,   35.17,2,   1.5581,2,       4750
49UP20160703,         P9,      40,          1,          1,        997,2,20160716,       1621,    16.9967,   136.9653,       4730,  4885.7,   1.5648,  34.6865,2,  34.6868,2,    160.8,2,  160.70,2,  139.36,2,    0.00,2,   2.450,2,   0.002,2,   0.000,2,   0.004,2,  2319.3,2,  2413.7,2,   7.5901,2,    25.00, -999.00,9, -999.00,9,     1621,   35.16,2,   1.5648,2,       4802