BOTTLE,20230712CCHSIOENA
EXPOCODE,SECT_ID,STNNBR,CASTNO,SAMPNO,BTLNBR,BTLNBR_FLAG_W,DATE,TIME,LATITUDE,LONGITUDE,DEPTH,CTDPRS,CTDTMP,CTDSAL,CTDSAL_FLAG_W,SALNTY,SALNTY_FLAG_W,CTDOXY,CTDOXY_FLAG_W,OXYGEN,OXYGEN_FLAG_W,SILCAT,SILCAT_FLAG_W,NITRIT,NITRIT_FLAG_W,PHSPHT,PHSPHT_FLAG_W,CFC-11,CFC-11_FLAG_W,CFC-12,CFC-12_FLAG_W,CFC113,CFC113_FLAG_W,TCARBN,TCARBN_FLAG_W,ALKALI,ALKALI_FLAG_W,PH_TOT,PH_TOT_FLAG_W,PH_TMP,CHLORA,CHLORA_FLAG_W,PPHYTN,PPHYTN_FLAG_W,BTL_TIME,NO2+NO3,NO2+NO3_FLAG_W,SBE35,SBE35_FLAG_W,CTDDEPTH
,,,,,,,,,,,METERS,DBAR,ITS-90,PSS-78,,PSS-78,,UMOL/KG,,UMOL/KG,,UMOL/KG,,UMOL/KG,,UMOL/KG,,PMOL/KG,,PMOL/KG,,PMOL/KG,,UMOL/KG,,UMOL/KG,,,,DEG C,UG/KG,,UG/KG,,,UMOL/KG,,ITS-90,,METERS
49UP20160703,         P9,      31,          1,          0,        BUC,2,20160713,       1225,    21.4947,   136.9892,       4365,     0.0,  30.6903,  35.0459,2,-999.0000,9,    192.1,2,  191.91,2,    0.93,2,    0.00,2,   0.020,2,-999.000,9,-999.000,9,-999.000,9,  -999.0,9,  -999.0,9,-999.0000,9,  -999.00, -999.00,9, -999.00,9,     1354,    0.02,2,-999.0000,9,          0
49UP20160703,         P9,      31,          1,         36,        109,2,20160713,       1225,    21.4947,   136.9892,       4365,     9.6,  30.6337,  35.0373,2,  35.0341,2,    192.2,2,  192.23,2,    0.99,2,    0.00,2,   0.020,2,-999.000,9,-999.000,9,-999.000,9,  -999.0,9,  -999.0,9,-999.0000,9,  -999.00, -999.00,9, -999.00,9,     1423,    0.04,2,  30.6387,2,         10
49UP20160703,         P9,      31,          1,         35,        112,2,20160713,       1225,    21.4947,   136.9892,       4365,    24.5,  30.2406,  35.0047,2,  35.0034,2,    193.5,2,  193.30,2,    1.00,2,    0.00,2,   0.010,2,-999.000,9,-999.000,9,-999.000,9,  -999.0,9,  -999.0,9,-999.0000,9,  -999.00, -999.00,9, -999.00,9,     1422,    0.02,2,  30.2405,2,         24
49UP20160703,         P9,      31,          1,         34,        094,2,20160713,       1225,    21.4947,   136.9892,       4365,    50.3,  28.2111,  34.9339,2,  34.9363,2,    206.0,2,  205.84,2,    1.04,2,    0.00,2,   0.010,2,-999.000,9,-999.000,9,-999.000,9,  -999.0,9,  -999.0,9,-999.0000,9,  -999.00, -999.00,9, -999.00,9,     1418,    0.01,2,  28.2004,2,         50
49UP20160703,         P9,      31,          1,         33,        469,2,20160713,       1225,    21.4947,   136.9892,       4365,    75.6,  26.1263,  35.0158,2,  35.0198,2,    217.0,2,  217.18,2,    1.07,2,    0.00,2,   0.020,2,-999.000,9,-999.000,9,-999.000,9,  -999.0,9,  -999.0,9,-999.0000,9,  -999.00, -999.00,9, -999.00,9,     1417,    0.02,2,  26.0979,2,         75
49UP20160703,         P9,      31,          1,         32,        089,2,20160713,       1225,    21.4947,   136.9892,       4365,    99.1,  24.1453,  35.0056,2,  35.0077,2,    221.5,2,  221.42,2,    1.16,2,    0.00,2,   0.010,2,-999.000,9,-999.000,9,-999.000,9,  -999.0,9,  -999.0,9,-999.0000,9,  -999.00, -999.00,9, -999.00,9,     1416,    0.03,2,  24.1741,2,         98
49UP20160703,         P9,      31,          1,         31,        515,2,20160713,       1225,    21.4947,   136.9892,       4365,   124.7,  22.5809,  34.9888,2,  34.9854,2,    218.2,2,  218.54,2,    1.32,2,    0.00,2,   0.010,2,-999.000,9,-999.000,9,-999.000,9,  -999.0,9,  -999.0,9,-999.0000,9,  -999.00, -999.00,9, -999.00,9,     1414,    0.01,2,  22.6038,2,        124
49UP20160703,         P9,      31,          1,         30,        097,2,20160713,       1225,    21.4947,   136.9892,       4365,   150.8,  21.2277,  34.9365,2,  34.9377,6,    209.7,2,  210.87,2,    1.60,2,    0.06,2,   0.060,2,-999.000,9,-999.000,9,-999.000,9,  -999.0,9,  -999.0,9,-999.0000,9,  -999.00, -999.00,9, -999.00,9,     1413,    0.25,2,  21.2260,2,        150
49UP20160703,         P9,      31,          1,         29,        102,2,20160713,       1225,    21.4947,   136.9892,       4365,   199.6,  19.4137,  34.8819,2,  34.8901,4,    195.3,2,  198.46,6,    2.36,6,    0.01,6,   0.180,6,-999.000,9,-999.000,9,-999.000,9,  -999.0,9,  -999.0,9,-999.0000,9,  -999.00, -999.00,9, -999.00,9,     1411,    2.46,6,  19.4165,2,        198
49UP20160703,         P9,      31,          1,         28,        472,2,20160713,       1225,    21.4947,   136.9892,       4365,   255.4,  17.5629,  34.7636,2,  34.7631,2,    202.0,2,  201.93,2,    3.64,2,    0.00,2,   0.300,2,-999.000,9,-999.000,9,-999.000,9,  -999.0,9,  -999.0,9,-999.0000,9,  -999.00, -999.00,9, -999.00,9,     1409,    4.41,2,  17.5618,2,        254
49UP20160703,         P9,      31,          1,         27,        998,2,20160713,       1225,    21.4947,   136.9892,       4365,   304.8,  16.6904,  34.7020,2,  34.7020,2,    208.6,2,  209.48,2,    4.53,2,    0.00,2,   0.350,2,-999.000,9,-999.000,9,-999.000,9,  -999.0,9,  -999.0,9,-999.0000,9,  -999.00, -999.00,9, -999.00,9,     1407,    5.24,2,  16.6914,2,        303
49UP20160703,         P9,      31,          1,         26,        084,2,20160713,       1225,    21.4947,   136.9892,       4365,   404.7,  14.4543,  34.5001,2,  34.4971,2,    189.8,2,  189.79,2,   10.48,2,    0.00,2,   0.720,2,-999.000,9,-999.000,9,-999.000,9,  -999.0,9,  -999.0,9,-999.0000,9,  -999.00, -999.00,9, -999.00,9,     1404,   10.41,2,  14.4558,2,        402
49UP20160703,         P9,      31,          1,         25,        098,2,20160713,       1225,    21.4947,   136.9892,       4365,   504.1,  11.6056,  34.3059,2,  34.2940,4,    176.2,2,  175.58,2,   22.82,2,    0.00,2,   1.200,2,-999.000,9,-999.000,9,-999.000,9,  -999.0,9,  -999.0,9,-999.0000,9,  -999.00, -999.00,9, -999.00,9,     1402,   17.05,2,  11.5785,2,        500
49UP20160703,         P9,      31,          1,         24,        110,2,20160713,       1225,    21.4947,   136.9892,       4365,   605.7,   8.3472,  34.1342,2,  34.1319,2,    148.7,2,  146.93,2,   43.04,2,    0.00,2,   1.790,2,-999.000,9,-999.000,9,-999.000,9,  -999.0,9,  -999.0,9,-999.0000,9,  -999.00, -999.00,9, -999.00,9,     1359,   25.15,2,   8.3430,2,        601
49UP20160703,         P9,      31,          1,         23,        679,2,20160713,       1225,    21.4947,   136.9892,       4365,   706.1,   6.1732,  34.1142,2,  34.1149,2,    105.1,2,  104.98,2,   67.19,2,    0.00,2,   2.350,2,-999.000,9,-999.000,9,-999.000,9,  -999.0,9,  -999.0,9,-999.0000,9,  -999.00, -999.00,9, -999.00,9,     1356,   32.59,2,   6.1730,2,        701
49UP20160703,         P9,      31,          1,         22,        111,2,20160713,       1225,    21.4947,   136.9892,       4365,   807.0,   4.9823,  34.2120,2,  34.2144,2,     72.3,2,   71.90,2,   90.54,2,    0.00,2,   2.690,2,-999.000,9,-999.000,9,-999.000,9,  -999.0,9,  -999.0,9,-999.0000,9,  -999.00, -999.00,9, -999.00,9,     1354,   37.46,2,   4.9896,2,        800
49UP20160703,         P9,      31,          1,         21,        078,2,20160713,       1225,    21.4947,   136.9892,       4365,   908.7,   4.2741,  34.3279,2,  34.3277,2,     58.6,2,   58.15,2,  105.56,2,    0.00,2,   2.850,2,-999.000,9,-999.000,9,-999.000,9,  -999.0,9,  -999.0,9,-999.0000,9,  -999.00, -999.00,9, -999.00,9,     1351,   39.85,2,   4.2740,2,        901
49UP20160703,         P9,      31,          1,         20,        093,2,20160713,       1225,    21.4947,   136.9892,       4365,  1008.0,   3.8648,  34.3917,2,  34.3919,2,     58.8,2,   59.03,2,  114.32,2,    0.00,2,   2.890,2,-999.000,9,-999.000,9,-999.000,9,  -999.0,9,  -999.0,9,-999.0000,9,  -999.00, -999.00,9, -999.00,9,     1348,   40.37,2,   3.8641,2,        999
49UP20160703,         P9,      31,          1,         18,        088,2,20160713,       1225,    21.4947,   136.9892,       4365,  1210.9,   3.3079,  34.4952,2,  34.4957,2,     72.5,2,   72.57,2,  124.52,2,    0.00,2,   2.850,2,-999.000,9,-999.000,9,-999.000,9,  -999.0,9,  -999.0,9,-999.0000,9,  -999.00, -999.00,9, -999.00,9,     1342,   40.05,2,   3.3075,2,       1200
49UP20160703,         P9,      31,          1,         19,        269,2,20160713,       1225,    21.4947,   136.9892,       4365,  1211.2,   3.3069,  34.4953,2,  34.4941,2,     72.5,2,   72.64,2,  124.26,2,    0.00,2,   2.850,2,-999.000,9,-999.000,9,-999.000,9,  -999.0,9,  -999.0,9,-999.0000,9,  -999.00, -999.00,9, -999.00,9,     1343,   40.05,2,   3.3066,2,       1200
49UP20160703,         P9,      31,          1,         17,        090,2,20160713,       1225,    21.4947,   136.9892,       4365,  1414.9,   2.8094,  34.5348,2,  34.5345,6,     83.0,2,   82.77,2,  133.81,2,    0.00,2,   2.820,2,-999.000,9,-999.000,9,-999.000,9,  -999.0,9,  -999.0,9,-999.0000,9,  -999.00, -999.00,9, -999.00,9,     1338,   39.74,2,   2.8093,2,       1401
49UP20160703,         P9,      31,          1,         16,        474,2,20160713,       1225,    21.4947,   136.9892,       4365,  1615.2,   2.5555,  34.5722,2,  34.5722,2,     96.8,2,   96.52,6,  136.37,6,    0.00,6,   2.760,6,-999.000,9,-999.000,9,-999.000,9,  -999.0,9,  -999.0,9,-999.0000,9,  -999.00, -999.00,9, -999.00,9,     1333,   38.96,6,   2.5552,2,       1599
49UP20160703,         P9,      31,          1,         15,        665,2,20160713,       1225,    21.4947,   136.9892,       4365,  1820.2,   2.2954,  34.5975,2,  34.5972,2,    106.3,2,  105.88,2,  138.69,2,    0.00,2,   2.720,2,-999.000,9,-999.000,9,-999.000,9,  -999.0,9,  -999.0,9,-999.0000,9,  -999.00, -999.00,9, -999.00,9,     1328,   38.58,2,   2.2956,2,       1801
49UP20160703,         P9,      31,          1,         14,        999,2,20160713,       1225,    21.4947,   136.9892,       4365,  2022.3,   2.0665,  34.6194,2,  34.6196,2,    115.0,2,  114.67,2,  140.85,2,    0.00,2,   2.680,2,-999.000,9,-999.000,9,-999.000,9,  -999.0,9,  -999.0,9,-999.0000,9,  -999.00, -999.00,9, -999.00,9,     1323,   38.26,2,   2.0659,2,       2000
49UP20160703,         P9,      31,          1,         12,        074,2,20160713,       1225,    21.4947,   136.9892,       4365,  2225.2,   1.9181,  34.6322,2,  34.6323,2,    121.4,2,  121.50,2,  142.12,2,    0.00,2,   2.660,2,-999.000,9,-999.000,9,-999.000,9,  -999.0,9,  -999.0,9,-999.0000,9,  -999.00, -999.00,9, -999.00,9,     1318,   37.91,2,   1.9174,2,       2200
49UP20160703,         P9,      31,          1,         13,        667,2,20160713,       1225,    21.4947,   136.9892,       4365,  2225.5,   1.9186,  34.6322,2,  34.6311,2,    121.3,2,  120.72,2,  142.21,2,    0.00,2,   2.660,2,-999.000,9,-999.000,9,-999.000,9,  -999.0,9,  -999.0,9,-999.0000,9,  -999.00, -999.00,9, -999.00,9,     1318,   37.91,2,   1.9181,2,       2200
49UP20160703,         P9,      31,          1,         11,        268,2,20160713,       1225,    21.4947,   136.9892,       4365,  2429.5,   1.8173,  34.6428,2,  34.6427,2,    126.5,2,  126.29,2,  143.10,2,    0.00,2,   2.630,2,-999.000,9,-999.000,9,-999.000,9,  -999.0,9,  -999.0,9,-999.0000,9,  -999.00, -999.00,9, -999.00,9,     1313,   37.65,2,   1.8173,2,       2401
49UP20160703,         P9,      31,          1,         10,        267,2,20160713,       1225,    21.4947,   136.9892,       4365,  2632.9,   1.7557,  34.6491,2,  34.6493,2,    130.9,2,  131.05,2,  143.11,2,    0.00,2,   2.610,2,-999.000,9,-999.000,9,-999.000,9,  -999.0,9,  -999.0,9,-999.0000,9,  -999.00, -999.00,9, -999.00,9,     1308,   37.41,2,   1.7555,2,       2600
49UP20160703,         P9,      31,          1,          9,        518,2,20160713,       1225,    21.4947,   136.9892,       4365,  2836.5,   1.6985,  34.6563,2,  34.6561,2,    135.0,2,  134.78,2,  143.36,2,    0.00,2,   2.590,2,-999.000,9,-999.000,9,-999.000,9,  -999.0,9,  -999.0,9,-999.0000,9,  -999.00, -999.00,9, -999.00,9,     1303,   37.19,2,   1.6986,2,       2800
49UP20160703,         P9,      31,          1,          8,        470,2,20160713,       1225,    21.4947,   136.9892,       4365,  3041.7,   1.6492,  34.6623,2,  34.6627,6,    139.4,2,  139.27,2,  142.86,2,    0.00,2,   2.570,2,-999.000,9,-999.000,9,-999.000,9,  -999.0,9,  -999.0,9,-999.0000,9,  -999.00, -999.00,9, -999.00,9,     1258,   36.87,2,   1.6491,2,       3001
49UP20160703,         P9,      31,          1,          7,        516,2,20160713,       1225,    21.4947,   136.9892,       4365,  3296.6,   1.6040,  34.6685,2,  34.6688,2,    144.0,2,  144.63,6,  142.52,6,    0.00,6,   2.550,6,-999.000,9,-999.000,9,-999.000,9,  -999.0,9,  -999.0,9,-999.0000,9,  -999.00, -999.00,9, -999.00,9,     1252,   36.59,6,   1.6039,2,       3251
49UP20160703,         P9,      31,          1,          6,        113,2,20160713,       1225,    21.4947,   136.9892,       4365,  3551.9,   1.5619,  34.6743,2,  34.6743,2,    149.0,2,  148.65,2,  141.59,2,    0.00,2,   2.520,2,-999.000,9,-999.000,9,-999.000,9,  -999.0,9,  -999.0,9,-999.0000,9,  -999.00, -999.00,9, -999.00,9,     1246,   36.27,2,   1.5617,2,       3500
49UP20160703,         P9,      31,          1,          5,        658,2,20160713,       1225,    21.4947,   136.9892,       4365,  3807.5,   1.5235,  34.6800,2,  34.6789,4,    153.9,2,  153.32,2,  140.47,2,    0.00,2,   2.490,2,-999.000,9,-999.000,9,-999.000,9,  -999.0,9,  -999.0,9,-999.0000,9,  -999.00, -999.00,9, -999.00,9,     1241,   36.00,2,   1.5236,2,       3750
49UP20160703,         P9,      31,          1,          4,        471,2,20160713,       1225,    21.4947,   136.9892,       4365,  4063.7,   1.5326,  34.6815,2,  34.6818,2,    155.5,2,  155.19,6,  140.39,6,    0.00,6,   2.490,6,-999.000,9,-999.000,9,-999.000,9,  -999.0,9,  -999.0,9,-999.0000,9,  -999.00, -999.00,9, -999.00,9,     1235,   35.85,6,   1.5326,2,       4000
49UP20160703,         P9,      31,          1,          3,        104,2,20160713,       1225,    21.4947,   136.9892,       4365,  4320.2,   1.5466,  34.6827,2,  34.6829,6,    156.7,2,  156.17,2,  140.10,2,    0.00,2,   2.480,2,-999.000,9,-999.000,9,-999.000,9,  -999.0,9,  -999.0,9,-999.0000,9,  -999.00, -999.00,9, -999.00,9,     1229,   35.79,2,   1.5465,2,       4250
49UP20160703,         P9,      31,          1,          1,        997,2,20160713,       1225,    21.4947,   136.9892,       4365,  4455.6,   1.5485,  34.6838,2,  34.6836,2,    157.8,2,  157.39,2,  139.86,2,    0.00,2,   2.470,2,-999.000,9,-999.000,9,-999.000,9,  -999.0,9,  -999.0,9,-999.0000,9,  -999.00, -999.00,9, -999.00,9,     1225,   35.72,2,   1.5484,2,       4382
49UP20160703,         P9,      31,          1,          2,        075,2,20160713,       1225,    21.4947,   136.9892,       4365,  4455.7,   1.5486,  34.6837,2,  34.6840,2,    157.8,2,  157.45,2,  139.78,2,    0.00,2,   2.470,2,-999.000,9,-999.000,9,-999.000,9,  -999.0,9,  -999.0,9,-999.0000,9,  -999.00, -999.00,9, -999.00,9,     1225,   35.67,2,   1.5485,2,       4382