BOTTLE,20230706CCHSIOENA
EXPOCODE,SECT_ID,STNNBR,CASTNO,SAMPNO,DATE,TIME,LATITUDE,LONGITUDE,DEPTH,CTDPRS,CTDPRS_FLAG_W,CTDTMP,CTDSAL,CTDSAL_FLAG_W,SALNTY,SALNTY_FLAG_W,CTDOXY,CTDOXY_FLAG_W,OXYGEN,OXYGEN_FLAG_W,SILCAT,SILCAT_FLAG_W,NITRAT,NITRAT_FLAG_W,PHSPHT,PHSPHT_FLAG_W,ALKALI,ALKALI_FLAG_W,PH_SWS,PH_SWS_FLAG_W,PH_TMP,CFC-12,CFC-12_FLAG_W,SF6,SF6_FLAG_W
,,,,,,,,,METERS,DBAR,,DEG C,PSS-78,,PSS-78,,UMOL/KG,,UMOL/KG,,UMOL/KG,,UMOL/KG,,UMOL/KG,,UMOL/KG,,,,DEG C,PMOL/KG,,FMOL/KG,
29AH20160617, OVIDE/BOCATS,127,1,3,20160725,212,60.5992,-28.5793,792,793.1,2,5.7537,35.0612,2,35.0598,2,257.4,2,255.9,2,8.94,2,16.11,2,1.056,2,2310.1,2,7.7232,2,25,-999,9,-999,9
29AH20160617, OVIDE/BOCATS,127,1,4,20160725,212,60.5992,-28.5793,792,599.5,2,6.3748,35.0831,2,35.0817,2,265.5,2,264.8,2,7.04,2,15,2,1.004,2,-999,9,7.7408,2,25,-999,9,-999,9
29AH20160617, OVIDE/BOCATS,127,1,5,20160725,212,60.5992,-28.5793,792,498.6,2,6.6505,35.0909,2,35.0898,2,272.2,2,272.3,2,6.42,2,14.36,2,0.959,2,2313,2,7.7523,2,25,-999,9,-999,9
29AH20160617, OVIDE/BOCATS,127,1,6,20160725,212,60.5992,-28.5793,792,399.2,2,7.0051,35.1222,2,35.1202,2,277.4,2,277.3,2,5.78,2,13.92,2,0.916,2,-999,9,7.7637,2,25,-999,9,-999,9
29AH20160617, OVIDE/BOCATS,127,1,7,20160725,212,60.5992,-28.5793,792,299.7,2,7.1484,35.126,2,35.125,2,277.9,2,277.9,2,5.62,2,13.34,2,0.905,2,2316.4,2,7.7675,2,25,-999,9,-999,9
29AH20160617, OVIDE/BOCATS,127,1,8,20160725,212,60.5992,-28.5793,792,199.7,2,7.2559,35.1257,2,35.1213,4,277.7,2,277.2,2,5.58,2,13.27,2,0.897,2,2312.9,2,7.7667,2,25,-999,9,-999,9
29AH20160617, OVIDE/BOCATS,127,1,9,20160725,212,60.5992,-28.5793,792,150.1,2,7.2882,35.1238,2,35.1225,2,277.4,2,277.4,2,5.96,2,13.55,2,0.9,2,-999,9,7.7667,2,25,-999,9,-999,9
29AH20160617, OVIDE/BOCATS,127,1,10,20160725,212,60.5992,-28.5793,792,99.4,2,7.2351,35.0997,2,35.0964,4,276.7,2,276.1,2,6.5,2,13.92,2,0.908,2,2313.1,2,7.7623,2,25,-999,9,-999,9
29AH20160617, OVIDE/BOCATS,127,1,11,20160725,212,60.5992,-28.5793,792,49,2,7.1634,34.9928,2,34.9919,2,277,2,276.3,2,6.17,2,13.8,2,0.902,2,-999,9,7.758,2,25,-999,9,-999,9
29AH20160617, OVIDE/BOCATS,127,1,12,20160725,212,60.5992,-28.5793,792,4.4,2,10.6116,34.8979,2,34.8959,2,292,2,293.7,2,1.7,2,3.94,2,0.311,2,2302.6,2,7.908,2,25,-999,9,-999,9
29AH20160617, OVIDE/BOCATS,128,1,3,20160725,552,60.9028,-28.118,662,655,2,5.9964,35.0792,2,35.0792,2,252.4,2,252,2,9.18,2,16.65,2,1.071,2,-999,9,7.7249,2,25,-999,9,-999,9
29AH20160617, OVIDE/BOCATS,128,1,4,20160725,552,60.9028,-28.118,662,600.6,2,6.3802,35.0982,2,35.0967,2,258.9,2,257.3,2,8.47,2,16,2,1.022,2,-999,9,7.7387,2,25,-999,9,-999,9
29AH20160617, OVIDE/BOCATS,128,1,5,20160725,552,60.9028,-28.118,662,499.4,2,6.802,35.1172,2,35.1153,2,262.2,2,262.2,2,7.78,2,15.4,2,0.991,2,-999,9,7.7466,2,25,-999,9,-999,9
29AH20160617, OVIDE/BOCATS,128,1,6,20160725,552,60.9028,-28.118,662,398.3,2,6.9935,35.1252,2,35.1272,2,266.2,2,265.1,2,7.38,2,14.94,2,0.958,2,-999,9,7.7546,2,25,-999,9,-999,9
29AH20160617, OVIDE/BOCATS,128,1,7,20160725,552,60.9028,-28.118,662,299,2,7.2024,35.1361,2,35.1344,2,273,2,272.9,2,6.87,2,14.44,2,0.913,2,-999,9,7.7632,2,25,-999,9,-999,9
29AH20160617, OVIDE/BOCATS,128,1,8,20160725,552,60.9028,-28.118,662,198,2,7.2682,35.1263,2,35.124,2,275.7,2,274.6,2,6.65,2,14.12,2,0.903,2,-999,9,7.7624,2,25,-999,9,-999,9
29AH20160617, OVIDE/BOCATS,128,1,9,20160725,552,60.9028,-28.118,662,150,2,7.1203,35.0853,2,35.0835,2,277.4,2,276.3,2,6.84,2,14.4,2,0.922,2,-999,9,7.7577,2,25,-999,9,-999,9
29AH20160617, OVIDE/BOCATS,128,1,10,20160725,552,60.9028,-28.118,662,106.6,2,7.3008,35.082,2,35.088,4,276.7,2,276.4,2,6.1,2,13.91,2,0.89,2,-999,9,7.7612,2,25,-999,9,-999,9
29AH20160617, OVIDE/BOCATS,128,1,11,20160725,552,60.9028,-28.118,662,50.3,2,8.2083,35.0484,2,35.0489,2,275.8,2,275.4,2,4.09,2,11.58,2,0.737,2,-999,9,7.792,2,25,-999,9,-999,9
29AH20160617, OVIDE/BOCATS,128,1,12,20160725,552,60.9028,-28.118,662,5.7,2,11.0092,34.921,2,34.9194,2,286.2,2,286.9,2,1.67,2,3.97,2,0.303,2,-999,9,7.9094,2,25,-999,9,-999,9
29AH20160617, OVIDE/BOCATS,129,1,3,20160725,928,61.2014,-27.659,680,674.7,2,6.3117,35.0925,2,35.0923,2,252.9,2,252.2,2,9.59,2,16.47,2,1.069,2,2314.2,2,7.7196,2,25,-999,9,-999,9
29AH20160617, OVIDE/BOCATS,129,1,4,20160725,928,61.2014,-27.659,680,600.4,2,6.662,35.1009,2,35.1005,2,256.3,2,257.1,2,8.79,2,16.11,2,1.033,2,2316.1,2,7.7285,2,25,-999,9,-999,9
29AH20160617, OVIDE/BOCATS,129,1,5,20160725,928,61.2014,-27.659,680,499.5,2,6.9773,35.1133,2,35.1147,2,268.7,2,268.5,2,7.39,2,14.87,2,0.951,2,2314.7,2,7.7457,2,25,-999,9,-999,9
29AH20160617, OVIDE/BOCATS,129,1,6,20160725,928,61.2014,-27.659,680,400.7,2,7.128,35.1142,2,35.114,2,275,2,274.2,2,6.94,2,14.28,2,0.92,2,2315.7,2,7.7548,2,25,-999,9,-999,9
29AH20160617, OVIDE/BOCATS,129,1,7,20160725,928,61.2014,-27.659,680,299,2,7.2693,35.124,2,35.1227,2,274.9,2,274.7,2,6.8,2,14.13,2,0.907,2,2317,2,7.766,2,25,-999,9,-999,9
29AH20160617, OVIDE/BOCATS,129,1,8,20160725,928,61.2014,-27.659,680,199.7,2,7.367,35.1279,2,35.1271,2,276.8,2,276.8,2,6.63,2,13.92,2,0.893,2,2317,2,7.7677,2,25,-999,9,-999,9
29AH20160617, OVIDE/BOCATS,129,1,9,20160725,928,61.2014,-27.659,680,149.8,2,7.3814,35.1243,2,35.1226,2,277.3,2,276.2,2,6.64,2,13.89,2,0.893,2,-999,9,7.7677,2,25,-999,9,-999,9
29AH20160617, OVIDE/BOCATS,129,1,10,20160725,928,61.2014,-27.659,680,100,2,7.345,35.1046,2,35.1019,2,276.6,2,275.5,2,6.74,2,14.12,2,0.935,2,2314.6,2,7.7624,2,25,-999,9,-999,9
29AH20160617, OVIDE/BOCATS,129,1,11,20160725,928,61.2014,-27.659,680,63.7,2,7.5801,35.0935,2,35.0917,2,274.6,2,274.8,2,6.07,2,13.74,2,0.874,2,-999,9,7.7651,2,25,-999,9,-999,9
29AH20160617, OVIDE/BOCATS,129,1,12,20160725,928,61.2014,-27.659,680,4,2,10.879,34.9774,2,34.9768,2,287.7,2,287.9,2,1.46,2,3.67,2,0.274,2,2306.6,2,7.9161,2,25,-999,9,-999,9
29AH20160617, OVIDE/BOCATS,130,1,3,20160725,1307,61.4989,-27.1756,714,711.9,2,6.1088,35.0787,2,35.0794,2,259,2,257.8,2,8.68,2,15.76,2,1.04,2,2315.5,2,7.7345,2,25,-999,9,-999,9
29AH20160617, OVIDE/BOCATS,130,1,4,20160725,1307,61.4989,-27.1756,714,600.1,2,6.5156,35.0947,2,35.0937,2,266.1,2,265.6,2,7.38,2,14.97,2,1.001,2,-999,9,7.7463,2,25,-999,9,-999,9
29AH20160617, OVIDE/BOCATS,130,1,5,20160725,1307,61.4989,-27.1756,714,500.4,2,6.7574,35.1034,2,35.1023,2,273.9,2,273.4,2,6.22,2,13.92,2,0.951,2,2315.6,2,7.758,2,25,-999,9,-999,9
29AH20160617, OVIDE/BOCATS,130,1,6,20160725,1307,61.4989,-27.1756,714,399,2,6.9572,35.1127,2,35.1117,2,276.7,2,276.8,2,5.91,2,13.57,2,0.929,2,2312.6,2,7.7631,2,25,-999,9,-999,9
29AH20160617, OVIDE/BOCATS,130,1,7,20160725,1307,61.4989,-27.1756,714,299.8,2,7.0713,35.1099,2,35.1088,2,277.1,2,277,2,6.22,2,13.65,2,0.926,2,2315,2,7.7637,2,25,-999,9,-999,9
29AH20160617, OVIDE/BOCATS,130,1,8,20160725,1307,61.4989,-27.1756,714,199.5,2,7.1711,35.1085,2,35.1075,2,276.2,2,276,2,6.66,2,14.04,2,0.915,2,2318.2,2,7.7644,2,25,-999,9,-999,9
29AH20160617, OVIDE/BOCATS,130,1,9,20160725,1307,61.4989,-27.1756,714,149.4,2,7.2888,35.1161,2,35.1149,2,276.4,2,275.8,2,6.52,2,13.81,2,0.91,2,-999,9,7.7677,2,25,-999,9,-999,9
29AH20160617, OVIDE/BOCATS,130,1,10,20160725,1307,61.4989,-27.1756,714,100.4,2,7.1769,35.0684,2,35.0664,2,275.9,2,274.9,2,6.88,2,14.02,2,0.919,2,2315.6,2,7.7604,2,25,-999,9,-999,9
29AH20160617, OVIDE/BOCATS,130,1,11,20160725,1307,61.4989,-27.1756,714,49.7,2,7.652,34.9999,2,35.0018,2,274.3,2,273,2,5.59,2,12.97,2,0.848,2,-999,9,7.7702,2,25,-999,9,-999,9
29AH20160617, OVIDE/BOCATS,130,1,12,20160725,1307,61.4989,-27.1756,714,4.1,2,11.0152,34.934,2,34.933,2,289.7,2,290.2,2,1.52,2,3.51,2,0.279,2,2308.6,2,7.9186,2,25,-999,9,-999,9
29AH20160617, OVIDE/BOCATS,131,1,3,20160725,1735,61.7998,-26.6917,1047,1044.5,2,5.6209,35.0617,2,-999,9,253.5,2,-999,9,9.54,2,16.51,2,1.084,2,-999,9,7.7196,2,25,-999,9,-999,9
29AH20160617, OVIDE/BOCATS,131,1,4,20160725,1735,61.7998,-26.6917,1047,800.5,2,5.7523,35.0705,2,-999,9,255.5,2,-999,9,9.24,2,16.28,2,1.066,2,-999,9,7.7234,2,25,-999,9,-999,9
29AH20160617, OVIDE/BOCATS,131,1,5,20160725,1735,61.7998,-26.6917,1047,598.3,2,6.1787,35.0899,2,-999,9,259.6,2,-999,9,8.29,2,15.81,2,1.033,2,-999,9,7.7344,2,25,-999,9,-999,9
29AH20160617, OVIDE/BOCATS,131,1,6,20160725,1735,61.7998,-26.6917,1047,500.2,2,6.3971,35.082,2,-999,9,269.2,2,-999,9,7.38,2,15.29,2,1,2,-999,9,7.742,2,25,-999,9,-999,9
29AH20160617, OVIDE/BOCATS,131,1,7,20160725,1735,61.7998,-26.6917,1047,400.2,2,6.7626,35.1023,2,-999,9,274.3,2,-999,9,6.68,2,14.53,2,0.949,2,-999,9,7.7573,2,25,-999,9,-999,9
29AH20160617, OVIDE/BOCATS,131,1,8,20160725,1735,61.7998,-26.6917,1047,299.5,2,6.9407,35.11,2,-999,9,277.9,2,-999,9,6.24,2,14.11,2,0.926,2,-999,9,7.7637,2,25,-999,9,-999,9
29AH20160617, OVIDE/BOCATS,131,1,9,20160725,1735,61.7998,-26.6917,1047,199.5,2,7.0804,35.1114,2,-999,9,278.1,2,-999,9,6.09,2,14.03,2,0.911,2,-999,9,7.7673,2,25,-999,9,-999,9
29AH20160617, OVIDE/BOCATS,131,1,11,20160725,1735,61.7998,-26.6917,1047,150.7,2,7.1015,35.0989,2,-999,9,278.6,2,-999,9,6.14,2,13.97,2,0.915,2,-999,9,7.7635,2,25,-999,9,-999,9
29AH20160617, OVIDE/BOCATS,131,1,12,20160725,1735,61.7998,-26.6917,1047,98.7,2,7.0743,35.0656,2,-999,9,278,2,-999,9,6.21,2,14.16,2,0.924,2,-999,9,7.7606,2,25,-999,9,-999,9
29AH20160617, OVIDE/BOCATS,131,1,13,20160725,1735,61.7998,-26.6917,1047,49.8,2,7.9176,34.9031,2,-999,9,278.1,2,-999,9,3.89,2,11.33,2,0.754,2,-999,9,7.7941,2,25,-999,9,-999,9
29AH20160617, OVIDE/BOCATS,131,1,14,20160725,1735,61.7998,-26.6917,1047,5.5,2,11.1024,34.8808,2,-999,9,290.1,2,-999,9,1.29,2,4.01,2,0.288,2,-999,9,7.919,2,25,-999,9,-999,9
29AH20160617, OVIDE/BOCATS,132,1,3,20160725,2150,62.1001,-26.2056,775,773.7,2,5.7838,35.0724,2,-999,9,255.9,2,-999,9,9.35,2,16.26,2,1.059,2,-999,9,7.7261,2,25,-999,9,-999,9
29AH20160617, OVIDE/BOCATS,132,1,4,20160725,2150,62.1001,-26.2056,775,600.7,2,6.3503,35.0943,2,-999,9,264,2,-999,9,7.85,2,15.47,2,1.008,2,-999,9,7.7435,2,25,-999,9,-999,9
29AH20160617, OVIDE/BOCATS,132,1,5,20160725,2150,62.1001,-26.2056,775,501,2,6.6566,35.1108,2,-999,9,265.6,2,-999,9,7.27,2,15.06,2,0.978,2,-999,9,7.7493,2,25,-999,9,-999,9
29AH20160617, OVIDE/BOCATS,132,1,6,20160725,2150,62.1001,-26.2056,775,401,2,6.9765,35.1288,2,-999,9,268.9,2,-999,9,6.84,2,14.81,2,0.942,2,-999,9,7.7564,2,25,-999,9,-999,9
29AH20160617, OVIDE/BOCATS,132,1,7,20160725,2150,62.1001,-26.2056,775,300.5,2,7.1548,35.1208,2,-999,9,274.8,2,-999,9,6.69,2,14.38,2,0.905,2,-999,9,7.7638,2,25,-999,9,-999,9
29AH20160617, OVIDE/BOCATS,132,1,8,20160725,2150,62.1001,-26.2056,775,200.3,2,7.3289,35.1302,2,-999,9,275.6,2,-999,9,6.67,2,14.22,2,0.895,2,-999,9,7.7645,2,25,-999,9,-999,9
29AH20160617, OVIDE/BOCATS,132,1,9,20160725,2150,62.1001,-26.2056,775,100.7,2,7.3781,35.1122,2,-999,9,276.8,2,-999,9,6.68,2,14.17,2,0.893,2,-999,9,7.7608,2,25,-999,9,-999,9
29AH20160617, OVIDE/BOCATS,132,1,10,20160725,2150,62.1001,-26.2056,775,50.3,2,8.1783,35.0477,2,-999,9,275.6,2,-999,9,4.3,2,11.82,2,0.747,2,-999,9,7.7909,2,25,-999,9,-999,9
29AH20160617, OVIDE/BOCATS,132,1,11,20160725,2150,62.1001,-26.2056,775,5.7,2,11.534,34.9581,2,-999,9,286.7,2,-999,9,1.23,2,3.22,2,0.226,2,-999,9,7.9202,2,25,-999,9,-999,9
29AH20160617, OVIDE/BOCATS,133,1,3,20160726,136,62.4,-25.7221,682,677.3,2,6.4136,35.0915,2,-999,9,268.1,2,-999,9,8.89,2,15.94,2,1.074,2,2315.9,2,7.7316,2,25,-999,9,-999,9
29AH20160617, OVIDE/BOCATS,133,1,4,20160726,136,62.4,-25.7221,682,599.1,2,6.4389,35.0922,2,-999,9,269.2,2,-999,9,8.55,2,15.8,2,1.009,2,-999,9,7.7401,2,25,-999,9,-999,9
29AH20160617, OVIDE/BOCATS,133,1,5,20160726,136,62.4,-25.7221,682,499,2,6.5724,35.098,2,-999,9,272.2,2,-999,9,8,2,15.5,2,0.976,2,2313.4,2,7.7483,2,25,-999,9,-999,9
29AH20160617, OVIDE/BOCATS,133,1,6,20160726,136,62.4,-25.7221,682,399,2,6.7682,35.1047,2,-999,9,275.4,2,-999,9,7.19,2,15.13,2,0.942,2,2313.1,2,7.7516,2,25,-999,9,-999,9
29AH20160617, OVIDE/BOCATS,133,1,7,20160726,136,62.4,-25.7221,682,298.5,2,6.9775,35.1099,2,-999,9,277.4,2,-999,9,6.9,2,14.46,2,0.926,2,2317,2,7.7595,2,25,-999,9,-999,9
29AH20160617, OVIDE/BOCATS,133,1,8,20160726,136,62.4,-25.7221,682,190.8,2,7.2007,35.1296,2,-999,9,276.5,2,-999,9,6.91,2,14.19,2,0.907,2,2315.2,2,7.7635,2,25,-999,9,-999,9
29AH20160617, OVIDE/BOCATS,133,1,9,20160726,136,62.4,-25.7221,682,100.3,2,7.2851,35.1155,2,-999,9,276.4,2,-999,9,7.05,2,14.31,2,0.897,2,2317.3,2,7.7635,2,25,-999,9,-999,9
29AH20160617, OVIDE/BOCATS,133,1,10,20160726,136,62.4,-25.7221,682,49.4,2,8.0687,35.0504,2,-999,9,278.5,2,-999,9,4.85,2,11.64,2,0.744,2,-999,9,7.7979,2,25,-999,9,-999,9
29AH20160617, OVIDE/BOCATS,133,1,11,20160726,136,62.4,-25.7221,682,4.2,2,11.4528,34.9658,2,-999,9,287,2,-999,9,0.94,2,2.85,2,0.209,2,2305.8,2,7.9258,2,25,-999,9,-999,9
29AH20160617, OVIDE/BOCATS,134,1,3,20160726,512,62.7,-25.2371,613,607.1,2,6.7457,35.1238,2,-999,9,261.9,2,-999,9,7.84,2,15.5,2,0.992,2,-999,9,7.7426,2,25,-999,9,-999,9
29AH20160617, OVIDE/BOCATS,134,1,4,20160726,512,62.7,-25.2371,613,499.7,2,6.8104,35.1271,2,-999,9,265.5,2,-999,9,7.84,2,15.17,2,0.981,2,-999,9,7.7488,2,25,-999,9,-999,9
29AH20160617, OVIDE/BOCATS,134,1,5,20160726,512,62.7,-25.2371,613,298.8,2,7.1114,35.1301,2,-999,9,271.5,2,-999,9,7.02,2,14.74,2,0.932,2,-999,9,7.7582,2,25,-999,9,-999,9
29AH20160617, OVIDE/BOCATS,134,1,6,20160726,512,62.7,-25.2371,613,195.8,2,7.2845,35.1333,2,-999,9,273,2,-999,9,6.72,2,14.7,2,0.91,2,-999,9,7.762,2,25,-999,9,-999,9
29AH20160617, OVIDE/BOCATS,134,1,7,20160726,512,62.7,-25.2371,613,49.7,2,7.9081,35.0841,2,-999,9,276.8,2,-999,9,4.66,2,12.82,2,0.798,2,-999,9,7.781,2,25,-999,9,-999,9
29AH20160617, OVIDE/BOCATS,134,1,8,20160726,512,62.7,-25.2371,613,5.1,2,10.9146,34.9821,2,-999,9,288.3,2,-999,9,1.38,2,4.32,2,0.289,2,-999,9,7.9107,2,25,-999,9,-999,9
29AH20160617, OVIDE/BOCATS,135,1,3,20160726,911,63.0002,-24.7521,257,250.2,2,7.0376,35.1374,2,-999,9,272.8,2,-999,9,7.11,2,14.64,2,0.938,2,-999,9,7.7577,2,25,-999,9,-999,9
29AH20160617, OVIDE/BOCATS,135,1,4,20160726,911,63.0002,-24.7521,257,148.9,2,7.16,35.1335,2,-999,9,275.6,2,-999,9,6.46,2,14.5,2,0.919,2,-999,9,7.7638,2,25,-999,9,-999,9
29AH20160617, OVIDE/BOCATS,135,1,5,20160726,911,63.0002,-24.7521,257,99,2,7.1795,35.1324,2,-999,9,275.8,2,-999,9,6.4,2,14.42,2,0.915,2,-999,9,7.7641,2,25,-999,9,-999,9
29AH20160617, OVIDE/BOCATS,135,1,6,20160726,911,63.0002,-24.7521,257,49.8,2,7.7952,35.1012,2,-999,9,276.2,2,-999,9,4.21,2,13.09,2,0.812,2,-999,9,7.7791,2,25,-999,9,-999,9
29AH20160617, OVIDE/BOCATS,135,1,7,20160726,911,63.0002,-24.7521,257,3.9,2,12.2662,34.9669,2,-999,9,298.6,2,-999,9,0.46,2,0.58,2,0.077,2,-999,9,7.9726,2,25,-999,9,-999,9
29AH20160617, OVIDE/BOCATS,136,1,3,20160726,1350,63.4166,-23.9172,142,133,2,7.6591,35.1148,2,-999,9,268.7,2,-999,9,5.68,2,13.06,2,0.848,2,2315.3,2,7.7744,2,25,-999,9,-999,9
29AH20160617, OVIDE/BOCATS,136,1,4,20160726,1350,63.4166,-23.9172,142,99.7,2,8.0199,35.102,2,-999,9,271.2,2,-999,9,4.93,2,11.98,2,0.772,2,2315.5,2,7.7925,2,25,-999,9,-999,9
29AH20160617, OVIDE/BOCATS,136,1,5,20160726,1350,63.4166,-23.9172,142,49.3,2,8.2993,35.0955,2,-999,9,275.2,2,-999,9,4.4,2,10.76,2,0.709,2,-999,9,7.8127,2,25,-999,9,-999,9
29AH20160617, OVIDE/BOCATS,136,1,6,20160726,1350,63.4166,-23.9172,142,4,2,9.6818,35.065,2,-999,9,295,2,-999,9,2.84,2,5.37,2,0.399,2,2316.4,2,7.8996,2,25,-999,9,-999,9