BOTTLE,20230706CCHSIOENA
EXPOCODE,SECT_ID,STNNBR,CASTNO,SAMPNO,DATE,TIME,LATITUDE,LONGITUDE,DEPTH,CTDPRS,CTDPRS_FLAG_W,CTDTMP,CTDSAL,CTDSAL_FLAG_W,SALNTY,SALNTY_FLAG_W,CTDOXY,CTDOXY_FLAG_W,OXYGEN,OXYGEN_FLAG_W,SILCAT,SILCAT_FLAG_W,NITRAT,NITRAT_FLAG_W,PHSPHT,PHSPHT_FLAG_W,ALKALI,ALKALI_FLAG_W,PH_SWS,PH_SWS_FLAG_W,PH_TMP,CFC-12,CFC-12_FLAG_W,SF6,SF6_FLAG_W
,,,,,,,,,METERS,DBAR,,DEG C,PSS-78,,PSS-78,,UMOL/KG,,UMOL/KG,,UMOL/KG,,UMOL/KG,,UMOL/KG,,UMOL/KG,,,,DEG C,PMOL/KG,,FMOL/KG,
29AH20160617, OVIDE/BOCATS,19,1,3,20160627,520,42.5791,-15.4595,5070,5159.1,2,2.5392,34.8949,2,34.8942,2,243.2,2,243,2,44.98,2,22.32,2,1.492,2,2350.8,2,7.7477,2,25,0.0118,2,-999,9
29AH20160617, OVIDE/BOCATS,19,1,4,20160627,520,42.5791,-15.4595,5070,4748.9,2,2.4925,34.8959,2,34.8949,2,243.3,2,243.4,2,44.96,2,22.15,2,1.495,2,2349.8,2,7.7407,2,25,-999,9,-999,9
29AH20160617, OVIDE/BOCATS,19,1,5,20160627,520,42.5791,-15.4595,5070,4499.3,2,2.4806,34.8979,2,34.8973,2,243.2,2,243.3,2,44.57,2,22.09,2,1.495,2,2352.4,2,7.7426,2,25,-999,9,-999,9
29AH20160617, OVIDE/BOCATS,19,1,6,20160627,520,42.5791,-15.4595,5070,4001.2,2,2.5064,34.9064,2,34.9061,2,243.4,2,243.9,2,42.69,2,21.88,2,1.478,2,2347.9,2,7.7418,2,25,0.0209,2,-999,9
29AH20160617, OVIDE/BOCATS,19,1,7,20160627,520,42.5791,-15.4595,5070,3501.1,2,2.607,34.9209,2,34.9216,2,244.6,2,244.7,2,38.89,2,21.43,2,1.435,2,2343.4,2,7.7409,2,25,-999,9,-999,9
29AH20160617, OVIDE/BOCATS,19,1,8,20160627,520,42.5791,-15.4595,5070,3247.8,2,2.6945,34.9308,2,34.9296,2,246,2,246.1,2,36.54,2,21.09,2,1.4,2,2336.7,2,7.7415,2,25,-999,9,-999,9
29AH20160617, OVIDE/BOCATS,19,1,9,20160627,520,42.5791,-15.4595,5070,2999.9,2,2.8326,34.9436,2,34.9434,2,248,2,248.7,2,32.93,2,20.6,2,1.369,2,2331.4,2,7.7443,2,25,0.1137,2,-999,9
29AH20160617, OVIDE/BOCATS,19,1,10,20160627,520,42.5791,-15.4595,5070,2748.7,2,3.0043,34.954,2,34.9531,2,252.4,2,253,2,27.91,2,19.67,2,1.308,2,2325.6,2,7.7427,2,25,-999,9,-999,9
29AH20160617, OVIDE/BOCATS,19,1,11,20160627,520,42.5791,-15.4595,5070,2499.1,2,3.2153,34.9596,2,34.9578,2,257,2,257.1,2,23.83,2,19.04,2,1.26,2,2320.5,2,7.7404,2,25,-999,9,-999,9
29AH20160617, OVIDE/BOCATS,19,1,12,20160627,520,42.5791,-15.4595,5070,2249.2,2,3.3772,34.9375,2,34.9372,2,268.2,2,269.2,2,15.45,2,17.66,2,1.166,2,2305.9,2,7.7308,2,25,-999,9,-999,9
29AH20160617, OVIDE/BOCATS,19,1,13,20160627,520,42.5791,-15.4595,5070,1999.7,2,3.6701,34.9502,2,34.9506,2,267.4,2,268.1,2,13.39,2,17.62,2,1.154,2,2304.8,2,7.7251,2,25,1.2312,2,0.5715,2
29AH20160617, OVIDE/BOCATS,19,1,14,20160627,520,42.5791,-15.4595,5070,1799.1,2,4.0786,34.9975,2,34.996,2,262.1,2,263.3,2,12.54,2,17.52,2,1.152,2,2306.8,2,7.7213,2,25,1.3227,2,0.5526,2
29AH20160617, OVIDE/BOCATS,19,1,15,20160627,520,42.5791,-15.4595,5070,1599.5,2,4.5599,35.0446,2,35.0446,2,257,2,257.9,2,11.66,2,17.69,2,1.145,2,2310.4,2,7.7229,2,25,-999,9,-999,9
29AH20160617, OVIDE/BOCATS,19,1,16,20160627,520,42.5791,-15.4595,5070,1399.6,2,6.203,35.3058,2,35.3069,2,233.2,2,233,2,11.53,2,17.88,2,1.124,2,2326.9,2,7.732,2,25,1.2852,2,0.8512,2
29AH20160617, OVIDE/BOCATS,19,1,17,20160627,520,42.5791,-15.4595,5070,1199.9,2,8.3196,35.6265,2,35.6284,2,205.9,2,205.5,2,10.97,2,17.61,2,1.1,2,2349.6,2,7.7502,2,25,1.0946,2,0.6971,2
29AH20160617, OVIDE/BOCATS,19,1,18,20160627,520,42.5791,-15.4595,5070,999,2,9.4787,35.7221,2,35.7221,2,190.8,2,191.2,2,10.4,2,17.68,2,1.09,2,2354.4,2,7.7578,2,25,1.0086,2,0.5392,2
29AH20160617, OVIDE/BOCATS,19,1,19,20160627,520,42.5791,-15.4595,5070,899.9,2,9.5451,35.594,2,35.5921,2,186.3,2,187.3,2,9.81,2,17.91,2,1.094,2,2342,2,7.7495,2,25,-999,9,-999,9
29AH20160617, OVIDE/BOCATS,19,1,20,20160627,520,42.5791,-15.4595,5070,799.5,2,10.0483,35.5552,2,35.5555,2,189.6,2,190.1,2,9.07,2,17.36,2,1.075,2,2339.3,2,7.7529,2,25,1.1853,2,0.8739,2
29AH20160617, OVIDE/BOCATS,19,1,21,20160627,520,42.5791,-15.4595,5070,699.4,2,10.6359,35.5617,2,35.5607,2,193.2,2,193.5,2,7.64,2,16.09,2,0.986,2,2336.8,2,7.7667,2,25,-999,9,-999,9
29AH20160617, OVIDE/BOCATS,19,1,22,20160627,520,42.5791,-15.4595,5070,600.4,2,10.9731,35.5438,2,35.5413,4,212,2,213.8,2,5.95,2,13.98,2,0.849,2,2333.8,2,7.786,2,25,1.5003,2,1.4306,2
29AH20160617, OVIDE/BOCATS,19,1,23,20160627,520,42.5791,-15.4595,5070,499.6,2,11.3336,35.5538,2,35.5535,2,223.2,2,223.4,2,4.98,2,12.64,2,0.767,2,-999,9,7.8009,2,25,1.5908,2,1.6209,2
29AH20160617, OVIDE/BOCATS,19,1,24,20160627,520,42.5791,-15.4595,5070,399.5,2,11.7284,35.5797,2,35.5806,2,227.7,2,235.5,4,4.24,2,11.29,2,0.68,2,2334.7,2,7.8155,2,25,-999,9,-999,9
29AH20160617, OVIDE/BOCATS,19,1,25,20160627,520,42.5791,-15.4595,5070,300.3,2,11.9646,35.5444,2,35.5437,2,248.9,2,248.6,2,3.26,2,8.54,2,0.529,2,-999,9,7.8493,2,25,-999,9,-999,9
29AH20160617, OVIDE/BOCATS,19,1,26,20160627,520,42.5791,-15.4595,5070,199.1,2,12.7732,35.6666,2,35.6658,2,241.6,2,242.4,2,2.6,2,7.53,2,0.457,2,2339.3,2,7.8616,2,25,1.617,2,1.9991,2
29AH20160617, OVIDE/BOCATS,19,1,27,20160627,520,42.5791,-15.4595,5070,148.6,2,13.1696,35.7105,2,35.709,2,242.4,2,242.4,2,1.88,2,5.78,2,0.364,2,-999,9,7.8755,2,25,-999,9,-999,9
29AH20160617, OVIDE/BOCATS,19,1,28,20160627,520,42.5791,-15.4595,5070,99.5,2,13.4241,35.7344,2,35.7323,2,242.9,2,243.2,2,1.59,2,4.78,2,0.314,2,2343.4,2,7.8836,2,25,-999,9,-999,9
29AH20160617, OVIDE/BOCATS,19,1,29,20160627,520,42.5791,-15.4595,5070,50.1,2,13.8633,35.7607,2,35.76,2,243,2,242.8,2,1.27,2,3.71,2,0.255,2,-999,9,7.8967,2,25,-999,9,-999,9
29AH20160617, OVIDE/BOCATS,19,1,30,20160627,520,42.5791,-15.4595,5070,4.7,2,17.5688,35.6895,2,35.6897,2,244.5,2,245.2,2,0.14,2,0.04,2,0.03,2,2347.8,2,7.9804,2,25,1.3998,2,-999,9
29AH20160617, OVIDE/BOCATS,20,1,3,20160627,1121,42.885,-15.8517,4192,4252,2,2.4919,34.9018,2,34.8997,2,242.9,2,243.3,2,44.86,2,22.09,2,1.503,2,-999,9,7.7403,2,25,-999,9,-999,9
29AH20160617, OVIDE/BOCATS,20,1,4,20160627,1121,42.885,-15.8517,4192,3999.4,2,2.5063,34.9065,2,34.909,2,243,2,243.9,2,43.94,2,21.94,2,1.496,2,-999,9,7.74,2,25,-999,9,-999,9
29AH20160617, OVIDE/BOCATS,20,1,5,20160627,1121,42.885,-15.8517,4192,3747.8,2,2.5682,34.9152,2,34.9161,2,243.7,2,244.2,2,41.21,2,21.6,2,1.468,2,-999,9,7.7411,2,25,-999,9,-999,9
29AH20160617, OVIDE/BOCATS,20,1,6,20160627,1121,42.885,-15.8517,4192,3499.6,2,2.6223,34.9224,2,34.9219,2,244.7,2,244.8,2,39.69,2,21.47,2,1.441,2,-999,9,7.7394,2,25,-999,9,-999,9
29AH20160617, OVIDE/BOCATS,20,1,7,20160627,1121,42.885,-15.8517,4192,3247.9,2,2.7227,34.9328,2,34.9331,2,246.6,2,247,2,35.99,2,20.81,2,1.412,2,-999,9,7.7411,2,25,-999,9,-999,9
29AH20160617, OVIDE/BOCATS,20,1,8,20160627,1121,42.885,-15.8517,4192,2999,2,2.8424,34.9434,2,34.9429,2,249.2,2,249.3,2,32,2,20.22,2,1.361,2,-999,9,7.7402,2,25,-999,9,-999,9
29AH20160617, OVIDE/BOCATS,20,1,9,20160627,1121,42.885,-15.8517,4192,2750.7,2,3.018,34.9557,2,34.9568,2,252.6,2,252.5,2,28.21,2,19.79,2,1.326,2,-999,9,7.7411,2,25,-999,9,-999,9
29AH20160617, OVIDE/BOCATS,20,1,10,20160627,1121,42.885,-15.8517,4192,2499.1,2,3.1869,34.9566,2,34.9573,2,258.8,2,259,2,22.19,2,18.67,2,1.241,2,-999,9,7.7382,2,25,-999,9,-999,9
29AH20160617, OVIDE/BOCATS,20,1,11,20160627,1121,42.885,-15.8517,4192,2251.5,2,3.4212,34.9524,2,34.9531,2,265,2,265.4,2,16.49,2,17.9,2,1.188,2,-999,9,7.7357,2,25,-999,9,-999,9
29AH20160617, OVIDE/BOCATS,20,1,12,20160627,1121,42.885,-15.8517,4192,2000.2,2,3.846,34.9873,2,34.989,2,262.9,2,262.8,2,14.03,2,17.93,2,1.164,2,-999,9,7.7317,2,25,-999,9,-999,9
29AH20160617, OVIDE/BOCATS,20,1,13,20160627,1121,42.885,-15.8517,4192,1800.1,2,4.0493,34.9929,2,34.9923,2,262.1,2,262.2,2,12.76,2,17.58,2,1.147,2,-999,9,7.7263,2,25,-999,9,-999,9
29AH20160617, OVIDE/BOCATS,20,1,14,20160627,1121,42.885,-15.8517,4192,1600.5,2,4.7431,35.0898,2,35.0889,2,253,2,252.6,2,12.05,2,17.53,2,1.144,2,-999,9,7.7281,2,25,-999,9,-999,9
29AH20160617, OVIDE/BOCATS,20,1,15,20160627,1121,42.885,-15.8517,4192,1399.8,2,6.3392,35.3432,2,35.3462,4,229.8,2,229.6,2,11.54,2,17.55,2,1.142,2,-999,9,7.7404,2,25,-999,9,-999,9
29AH20160617, OVIDE/BOCATS,20,1,16,20160627,1121,42.885,-15.8517,4192,1200,2,8.2038,35.6332,2,35.6294,4,207,2,206.5,2,10.87,2,17.53,2,1.1,2,-999,9,7.7573,2,25,-999,9,-999,9
29AH20160617, OVIDE/BOCATS,20,1,17,20160627,1121,42.885,-15.8517,4192,1100.9,2,8.8841,35.7055,2,35.7051,2,197.7,2,196.2,2,10.43,2,17.41,2,1.099,2,-999,9,7.7605,2,25,-999,9,-999,9
29AH20160617, OVIDE/BOCATS,20,1,18,20160627,1121,42.885,-15.8517,4192,1000.5,2,9.2241,35.6878,2,35.6876,2,190.7,2,190.1,2,10.46,2,17.62,2,1.103,2,-999,9,7.7591,2,25,-999,9,-999,9
29AH20160617, OVIDE/BOCATS,20,1,19,20160627,1121,42.885,-15.8517,4192,899.1,2,9.7584,35.702,2,35.7014,2,186.1,2,185.4,2,9.93,2,17.64,2,1.098,2,-999,9,7.7596,2,25,-999,9,-999,9
29AH20160617, OVIDE/BOCATS,20,1,20,20160627,1121,42.885,-15.8517,4192,800.8,2,9.7373,35.5814,2,35.5803,2,186.9,2,185.6,2,9.58,2,17.63,2,1.098,2,-999,9,7.7526,2,25,-999,9,-999,9
29AH20160617, OVIDE/BOCATS,20,1,21,20160627,1121,42.885,-15.8517,4192,699.5,2,10.2843,35.5614,2,35.5605,2,188.7,2,186.9,2,8.56,2,16.92,2,1.061,2,-999,9,7.7591,2,25,-999,9,-999,9
29AH20160617, OVIDE/BOCATS,20,1,22,20160627,1121,42.885,-15.8517,4192,600.4,2,10.6514,35.5304,2,35.5291,2,201,2,200,2,7.04,2,15.59,2,0.961,2,-999,9,7.7729,2,25,-999,9,-999,9
29AH20160617, OVIDE/BOCATS,20,1,23,20160627,1121,42.885,-15.8517,4192,499.7,2,11.0688,35.537,2,35.5369,2,218.3,2,217.6,2,5.46,2,13.31,2,0.82,2,-999,9,7.7937,2,25,-999,9,-999,9
29AH20160617, OVIDE/BOCATS,20,1,24,20160627,1121,42.885,-15.8517,4192,399.7,2,11.3707,35.5455,2,35.5458,2,227,2,226.9,2,4.62,2,12.01,2,0.738,2,-999,9,7.8082,2,25,-999,9,-999,9
29AH20160617, OVIDE/BOCATS,20,1,25,20160627,1121,42.885,-15.8517,4192,300.1,2,11.884,35.6062,2,35.6054,2,226.2,2,226.5,2,3.9,2,10.95,2,0.665,2,-999,9,7.8206,2,25,-999,9,-999,9
29AH20160617, OVIDE/BOCATS,20,1,26,20160627,1121,42.885,-15.8517,4192,199.5,2,12.1015,35.588,2,35.5877,2,246.4,2,246.3,2,2.65,2,7.87,2,0.505,2,-999,9,7.8499,2,25,-999,9,-999,9
29AH20160617, OVIDE/BOCATS,20,1,27,20160627,1121,42.885,-15.8517,4192,149.5,2,12.3485,35.6148,2,35.6138,2,245.5,2,245.7,2,2.42,2,7.45,2,0.474,2,-999,9,7.8573,2,25,-999,9,-999,9
29AH20160617, OVIDE/BOCATS,20,1,28,20160627,1121,42.885,-15.8517,4192,99.8,2,12.6631,35.6481,2,35.647,2,243.2,2,243.2,2,2.29,2,7.19,2,0.447,2,-999,9,7.8631,2,25,-999,9,-999,9
29AH20160617, OVIDE/BOCATS,20,1,29,20160627,1121,42.885,-15.8517,4192,49.7,2,13.6958,35.6681,2,35.6683,2,252,2,252.3,2,0.87,2,2.89,2,0.226,2,-999,9,7.9072,2,25,-999,9,-999,9
29AH20160617, OVIDE/BOCATS,20,1,30,20160627,1121,42.885,-15.8517,4192,3.5,2,18.1496,35.7056,2,35.7065,2,243.8,2,244.5,2,0.32,2,0.18,2,0.031,2,-999,9,7.9843,2,25,-999,9,-999,9
29AH20160617, OVIDE/BOCATS,21,1,3,20160627,2020,43.183,-16.2447,5126,5214.8,2,2.5562,34.8961,2,34.8963,2,243.3,2,243.1,2,45.25,2,22.01,2,1.496,2,2353.7,2,7.7408,2,25,-999,9,-999,9
29AH20160617, OVIDE/BOCATS,21,1,4,20160627,2020,43.183,-16.2447,5126,4799.3,2,2.5157,34.8978,2,34.8978,2,243.4,2,243.7,2,45.04,2,21.95,2,1.488,2,2351.5,2,7.7383,2,25,-999,9,-999,9
29AH20160617, OVIDE/BOCATS,21,1,5,20160627,2020,43.183,-16.2447,5126,4399.8,2,2.5011,34.9014,2,34.9017,2,243.2,2,243.2,2,44.26,2,21.87,2,1.503,2,2348.2,2,7.7375,2,25,-999,9,-999,9
29AH20160617, OVIDE/BOCATS,21,1,6,20160627,2020,43.183,-16.2447,5126,3999.1,2,2.5373,34.9095,2,34.9084,2,243.1,2,243.2,2,42.47,2,21.69,2,1.463,2,2349.4,2,7.7367,2,25,0.0354,2,-999,9
29AH20160617, OVIDE/BOCATS,21,1,7,20160627,2020,43.183,-16.2447,5126,3501,2,2.6316,34.9229,2,34.9232,2,245.4,2,245.3,2,38.99,2,21.02,2,1.419,2,2346.4,2,7.7369,2,25,-999,9,-999,9
29AH20160617, OVIDE/BOCATS,21,1,8,20160627,2020,43.183,-16.2447,5126,3249.4,2,2.7299,34.9328,2,34.9335,2,247.9,2,247.8,2,35.85,2,20.45,2,1.383,2,2339.6,2,7.7385,2,25,-999,9,-999,9
29AH20160617, OVIDE/BOCATS,21,1,9,20160627,2020,43.183,-16.2447,5126,2998.7,2,2.8537,34.9418,2,34.9337,4,252.4,2,252.3,2,30.65,2,19.95,2,1.316,2,2333,2,7.7355,2,25,0.3017,2,-999,9
29AH20160617, OVIDE/BOCATS,21,1,10,20160627,2020,43.183,-16.2447,5126,2749.9,2,3.0153,34.9514,2,34.9421,4,255.4,2,255.6,2,26.53,2,19.25,2,1.271,2,2327.3,2,7.7328,2,25,-999,9,-999,9
29AH20160617, OVIDE/BOCATS,21,1,11,20160627,2020,43.183,-16.2447,5126,2498.5,2,3.2194,34.9554,2,34.9558,2,260,2,260.2,2,21.33,2,18.35,2,1.222,2,2320.4,2,7.7318,2,25,-999,9,-999,9
29AH20160617, OVIDE/BOCATS,21,1,12,20160627,2020,43.183,-16.2447,5126,2248.8,2,3.452,34.9519,2,34.9522,2,265.4,2,265.8,2,16.37,2,17.76,2,1.163,2,2311.6,2,7.7282,2,25,-999,9,-999,9
29AH20160617, OVIDE/BOCATS,21,1,13,20160627,2020,43.183,-16.2447,5126,1999.8,2,3.7714,34.9668,2,34.9679,2,265.4,2,265.5,2,14.1,2,17.75,2,1.161,2,2310.7,2,7.7232,2,25,0.922,2,0.3244,2
29AH20160617, OVIDE/BOCATS,21,1,14,20160627,2020,43.183,-16.2447,5126,1799.7,2,4.2029,35.0123,2,35.0138,2,259.8,2,259.9,2,12.95,2,17.66,2,1.15,2,2310.9,2,7.7204,2,25,1.3139,2,0.7168,2
29AH20160617, OVIDE/BOCATS,21,1,15,20160627,2020,43.183,-16.2447,5126,1600.6,2,4.8488,35.091,2,35.0944,4,251.9,2,251.9,2,12.06,2,17.55,2,1.136,2,2317.6,2,7.7259,2,25,-999,9,-999,9
29AH20160617, OVIDE/BOCATS,21,1,16,20160627,2020,43.183,-16.2447,5126,1401.7,2,6.045,35.2747,2,35.2778,4,234.4,2,234.7,2,11.89,2,17.58,2,1.117,2,2328.7,2,7.7328,2,25,1.313,2,0.7314,2
29AH20160617, OVIDE/BOCATS,21,1,17,20160627,2020,43.183,-16.2447,5126,1199.6,2,8.5473,35.6933,2,35.6939,2,204.3,2,204.7,2,11.38,2,17.22,2,1.068,2,2355.9,2,7.759,2,25,1.0564,2,0.6639,2
29AH20160617, OVIDE/BOCATS,21,1,18,20160627,2020,43.183,-16.2447,5126,1000.6,2,9.7174,35.7889,2,35.7891,2,191,2,191,2,10.46,2,17.31,2,1.049,2,2360.1,2,7.7646,2,25,1.044,2,0.7293,2
29AH20160617, OVIDE/BOCATS,21,1,19,20160627,2020,43.183,-16.2447,5126,877.5,2,10.3833,35.8125,2,35.8075,4,184.8,2,184.2,2,9.61,2,16.86,2,1.02,2,2360.4,2,7.7688,2,25,-999,9,-999,9
29AH20160617, OVIDE/BOCATS,21,1,20,20160627,2020,43.183,-16.2447,5126,801.2,2,10.4837,35.7325,2,35.7322,2,187.1,2,187.7,2,8.97,2,16.58,2,1.01,2,2352.9,2,7.767,2,25,1.1667,2,0.8691,2
29AH20160617, OVIDE/BOCATS,21,1,21,20160627,2020,43.183,-16.2447,5126,699.4,2,10.4675,35.5751,2,35.5749,2,191.7,2,190.3,2,8.25,2,16.45,2,1.011,2,2342.5,2,7.7622,2,25,-999,9,-999,9
29AH20160617, OVIDE/BOCATS,21,1,22,20160627,2020,43.183,-16.2447,5126,600.4,2,10.8394,35.5449,2,35.5362,4,205.8,2,205.4,2,6.75,2,14.84,2,0.914,2,2335.3,2,7.7752,2,25,1.4371,2,1.281,2
29AH20160617, OVIDE/BOCATS,21,1,23,20160627,2020,43.183,-16.2447,5126,500.1,2,11.1773,35.5427,2,35.5429,2,225.8,2,224.3,2,5.08,2,12.56,2,0.767,2,-999,9,7.8015,2,25,-999,9,-999,9
29AH20160617, OVIDE/BOCATS,21,1,24,20160627,2020,43.183,-16.2447,5126,399.7,2,11.4928,35.5519,2,35.5491,4,224.7,2,-999,9,4.82,2,12.39,2,0.737,2,2333.9,2,7.8059,2,25,1.5908,2,1.8282,2
29AH20160617, OVIDE/BOCATS,21,1,25,20160627,2020,43.183,-16.2447,5126,301,2,11.6496,35.5135,2,35.5154,2,241.4,2,241.6,2,3.87,2,9.98,2,0.618,2,-999,9,7.8314,2,25,-999,9,-999,9
29AH20160617, OVIDE/BOCATS,21,1,26,20160627,2020,43.183,-16.2447,5126,199.9,2,12.0768,35.5524,2,35.5526,2,248,2,248.2,2,3.42,2,8.74,2,0.544,2,2333.6,2,7.8477,2,25,1.6512,2,2.1833,2
29AH20160617, OVIDE/BOCATS,21,1,27,20160627,2020,43.183,-16.2447,5126,150.1,2,12.5508,35.6289,2,35.6272,2,243.4,2,243.8,2,3.26,2,8.67,2,0.517,2,-999,9,7.858,2,25,-999,9,-999,9
29AH20160617, OVIDE/BOCATS,21,1,28,20160627,2020,43.183,-16.2447,5126,99.4,2,12.9703,35.703,2,35.7,4,246,2,245.2,2,3.08,2,7.84,2,0.474,2,2343.1,2,7.867,2,25,-999,9,-999,9
29AH20160617, OVIDE/BOCATS,21,1,29,20160627,2020,43.183,-16.2447,5126,50.7,2,13.4959,35.7446,2,35.7409,4,245,2,244.5,2,2.29,2,6.58,2,0.393,2,-999,9,7.8861,2,25,-999,9,-999,9
29AH20160617, OVIDE/BOCATS,21,1,30,20160627,2020,43.183,-16.2447,5126,4.7,2,17.9205,35.6606,2,35.6645,4,248.2,2,248.4,2,0.22,2,-0.08,2,0.016,2,2345.6,2,7.9885,2,25,-999,9,-999,9