BOTTLE,20230706CCHSIOENA
# removed YEAR, MTH, DAY, HOUR, MIN columns
# added correct zero padding to DATE
# BOTTLE,20230703CCHSIOFP
# Data from F.Perez  12FEB2019
# Ship and cruise designation: BIO Sarmiento de Gamboa BOCATS/Ovide16 
# EXPOCODE: 29AH20160617
# Cruise dates: 6/18/2016 - 7/31/2016 
# 132 stations 
# Region: North Atlantic, Spain to Greenland & Iceland
# Chief Scientist: Fiz F. Pérez
# DEPTH: bottom depth from LADCP+CTD (corrected)
# Hydro (P, T, S, O2): Who - Pascale Lherminier; Status - final "
# 	Notes:  precisions based on 1.74 std of differences between CTD and samples for data flagged good (i.e. 92% confidence interval): "
# precision on pressure: 1 dbar; temperature: 0.001°C; salinity: 0.002; oxygen: 2µmol/kg.
# Nuts: Who -Fernando Alonso; Status - final 
# 	Nitrate data (actually nitrate+nitrite)  precision: 0.1 µmol.kg-1 "
# Phosphate data  precision: 0.01 µmol.kg-1 
# Silicate data (actually nitrate+nitrite)  precision: 0.1 µmol.kg-1 
# TA: Who - F.Perez et al.; Status - final 
# 	Notes: CRM used (batch135 & 155)"
# 	Automatic potentiometric titraiton 64 stations  (Perez et al.2000; Mintrop et al2.00) precision 2 µmol.kg-1  "
# 	CRM reproducibility of 0.7+/-1.0 (23 duplicates) "
# fCO2: Who - ; Status - Underway data only delivered in SOCAT
# pH: Who - F.Perez et al.; Status - final   Total pH scale @ 25C  precision: 0.002 
# N2O/CH4 Who - Mercedes de la Paz.; Status -no ready
# CFC12-SF6 : Who - Reiner Steinfeltd; Status - final  
# References: ,  
# Perez_et_al-2018-Nature Meridional overturning circulation conveys fast OA    [ doi:10.1038/nature25493]
# Fontela, M., Mercier, H., Pérez, F.F., Long-term integrated biogeochemical budget driven by circulation in the eastern subpolar North Atlantic, Progress in Oceanography (2019), doi: https://doi.org/10.1016/j.pocean.2019.02.004"
# Clayton & Byrne 1993 Spectrophotometric seawater pH measurements: total hydrogen ion concentration scale concentration scale calibration of m-cresol purple and at-sea results. Deep-sea Research I
# Cruise Report  [ https://digital.csic.es/handle/10261/154348 ]
# Branellec and Lherminier (2017): BOCATS 2016 CTD-O2 data report. Int. rep. LOPS/17-06 https://doi.org/10.13155/59190
# Part of the preliminary data are published at DIGITAL CSIC with the DOI:  http://dx.doi.org/10.20350/digitalCSIC/8513
# 
# Please cite data as: 
# [Data providers of the parameter(s) used]. [Year of file access]. Bottle data from cruise [expocode], [format version used]. 
# Accessed from CCHDO [url of cruise data page]. Access date [date of download]. [Applicable CCHDO cruise DOI if provided].
# 
# For example: Swift, J. and Becker, S. 2019. CTD data from Cruise I09N, exchange version. 
# Accessed from CCHDO https://cchdo.ucsd.edu/cruise/33RR20160321. Access date 2019-08-21. CCHDO cruise DOI: 10.7942/C2008W
# 
# Information on the scientists who provided the different parameters can be found in the cruise report. Additionally, for US GO-SHIP cruises, 
# this information is usually in the comments section in the text headers of the Exchange bottle files.
# Users are also encouraged to acknowledge the funding program that supported the data collection in their publication. 
# For US GO-SHIP data this is the NSF/NOAA funded U.S Repeat Hydrography Program.
EXPOCODE,SECT_ID,STNNBR,CASTNO,SAMPNO,DATE,TIME,LATITUDE,LONGITUDE,DEPTH,CTDPRS,CTDPRS_FLAG_W,CTDTMP,CTDSAL,CTDSAL_FLAG_W,SALNTY,SALNTY_FLAG_W,CTDOXY,CTDOXY_FLAG_W,OXYGEN,OXYGEN_FLAG_W,SILCAT,SILCAT_FLAG_W,NITRAT,NITRAT_FLAG_W,PHSPHT,PHSPHT_FLAG_W,ALKALI,ALKALI_FLAG_W,PH_SWS,PH_SWS_FLAG_W,PH_TMP,CFC-12,CFC-12_FLAG_W,SF6,SF6_FLAG_W
,,,,,,,,,METERS,DBAR,,DEG C,PSS-78,,PSS-78,,UMOL/KG,,UMOL/KG,,UMOL/KG,,UMOL/KG,,UMOL/KG,,UMOL/KG,,,,DEG C,PMOL/KG,,FMOL/KG,
29AH20160617, OVIDE/BOCATS,1,1,3,20160622,1618,40.3331,-9.4642,157,143.6,2,12.744,35.7048,2,35.7051,2,225.6,2,224.1,2,2.59,2,8.61,2,0.545,2,-999,9,-999.0,9,25,-999,9,-999,9
29AH20160617, OVIDE/BOCATS,1,1,4,20160622,1618,40.3331,-9.4642,157,143.5,2,12.7368,35.7042,2,35.7043,2,225.7,2,224.5,2,2.72,2,8.68,2,0.547,2,2342.3,2,7.8355,2,25,-999,9,-999,9
29AH20160617, OVIDE/BOCATS,1,1,5,20160622,1618,40.3331,-9.4642,157,100.2,2,13.1047,35.714,2,35.7154,2,234.9,2,235.2,2,1.87,2,6.33,2,0.409,2,-999,9,7.8615,2,25,-999,9,-999,9
29AH20160617, OVIDE/BOCATS,1,1,6,20160622,1618,40.3331,-9.4642,157,100.1,2,13.1054,35.7141,2,35.7151,2,235,2,235,2,1.87,2,6.33,2,0.409,2,2342.9,2,7.8615,2,25,-999,9,-999,9
29AH20160617, OVIDE/BOCATS,1,1,7,20160622,1618,40.3331,-9.4642,157,50.5,2,13.6292,35.7089,2,35.7114,4,243.9,2,244.1,2,-999,9,-999,9,-999,9,-999,9,-999.0,9,25,-999,9,-999,9
29AH20160617, OVIDE/BOCATS,1,1,8,20160622,1618,40.3331,-9.4642,157,50.5,2,13.6295,35.709,2,35.7099,2,243.9,2,244.2,2,1.12,2,3.46,2,0.258,2,2342.3,2,7.8906,2,25,-999,9,-999,9
29AH20160617, OVIDE/BOCATS,1,1,9,20160622,1618,40.3331,-9.4642,157,4.6,2,17.849,34.8879,4,34.8925,2,250,2,250.1,2,1.08,2,3.42,2,0.26,2,-999,9,7.9441,2,25,-999,9,-999,9
29AH20160617, OVIDE/BOCATS,1,1,10,20160622,1618,40.3331,-9.4642,157,4.5,2,17.8329,34.8913,2,34.8918,2,250.1,2,250.8,2,1.08,2,3.42,2,0.26,2,2309.5,2,7.9975,2,25,-999,9,-999,9
29AH20160617, OVIDE/BOCATS,2,1,3,20160622,1818,40.3345,-9.6432,385,380.3,2,11.5345,35.6712,2,35.6704,2,204.8,2,203.9,2,5.27,2,13.47,2,0.838,2,-999,9,7.7942,2,25,-999,9,-999,9
29AH20160617, OVIDE/BOCATS,2,1,4,20160622,1818,40.3345,-9.6432,385,380.3,2,11.5329,35.6723,2,35.6721,2,204.8,2,204.2,2,-999,9,13.47,2,0.838,2,-999,9,7.7941,2,25,-999,9,-999,9
29AH20160617, OVIDE/BOCATS,2,1,5,20160622,1818,40.3345,-9.6432,385,300.3,2,11.7509,35.6408,2,35.6408,2,214.9,2,218.6,4,4.28,2,12.06,2,0.769,2,-999,9,7.8033,2,25,-999,9,-999,9
29AH20160617, OVIDE/BOCATS,2,1,6,20160622,1818,40.3345,-9.6432,385,201.1,2,12.3799,35.6826,2,35.6829,2,218.6,2,218.6,2,3.37,2,10.26,2,0.657,2,-999,9,7.8211,2,25,-999,9,-999,9
29AH20160617, OVIDE/BOCATS,2,1,7,20160622,1818,40.3345,-9.6432,385,149.8,2,12.7381,35.7022,2,35.7029,2,223.2,2,222.4,2,2.75,2,8.66,2,0.555,2,-999,9,7.8391,2,25,-999,9,-999,9
29AH20160617, OVIDE/BOCATS,2,1,8,20160622,1818,40.3345,-9.6432,385,100.5,2,13.0174,35.7088,2,35.7104,2,236.4,2,236.9,2,1.73,2,6.19,2,0.421,2,-999,9,7.8664,2,25,-999,9,-999,9
29AH20160617, OVIDE/BOCATS,2,1,9,20160622,1818,40.3345,-9.6432,385,49.8,2,13.8259,35.6738,2,35.6476,4,248.8,2,249.6,2,0.51,2,1.71,2,0.154,2,-999,9,7.9083,2,25,-999,9,-999,9
29AH20160617, OVIDE/BOCATS,2,1,10,20160622,1818,40.3345,-9.6432,385,4,2,18.712,34.9983,2,34.9978,2,242.6,2,243.5,2,0.14,2,0.06,2,0.036,2,-999,9,7.9983,2,25,-999,9,-999,9
29AH20160617, OVIDE/BOCATS,3,1,3,20160622,2036,40.3341,-9.7679,821,813.8,2,11.8387,36.1318,2,36.1312,2,183.4,2,183.1,2,7.25,2,14.39,2,0.886,2,2378.7,2,7.8033,2,25,1.0268,2,0.7388,2
29AH20160617, OVIDE/BOCATS,3,1,5,20160622,2036,40.3341,-9.7679,821,699.9,2,11.8476,36.0641,2,36.0655,2,183.7,2,182.5,2,7.17,2,14.74,2,0.9,2,2372.5,2,7.8015,2,25,-999,9,-999,9
29AH20160617, OVIDE/BOCATS,3,1,6,20160622,2036,40.3341,-9.7679,821,699.8,2,11.8473,36.0636,2,-999,9,183.9,2,-999,9,7.2,2,14.84,2,0.901,2,-999,9,-999.0,9,25,-999,9,-999,9
29AH20160617, OVIDE/BOCATS,3,1,7,20160622,2036,40.3341,-9.7679,821,599.3,2,11.6592,35.9197,2,35.9118,4,185.6,2,184.1,2,7.03,2,14.96,2,0.92,2,2358.8,2,-999.0,9,25,-999,9,-999,9
29AH20160617, OVIDE/BOCATS,3,1,9,20160622,2036,40.3341,-9.7679,821,479.2,2,11.3776,35.6521,2,35.6529,2,203.1,2,202.1,2,5.73,2,14.13,2,0.871,2,2336.8,2,7.7881,2,25,-999,9,-999,9
29AH20160617, OVIDE/BOCATS,3,1,11,20160622,2036,40.3341,-9.7679,821,400.5,2,11.5208,35.6155,2,35.6148,2,214.8,2,215.5,2,4.65,2,12.82,2,0.786,2,2334.9,2,7.8014,2,25,-999,9,-999,9
29AH20160617, OVIDE/BOCATS,3,1,13,20160622,2036,40.3341,-9.7679,821,300.4,2,12.0073,35.6617,2,35.6631,2,213.3,2,213.2,2,4.06,2,11.95,2,0.741,2,2337.9,2,7.8083,2,25,-999,9,-999,9
29AH20160617, OVIDE/BOCATS,3,1,15,20160622,2036,40.3341,-9.7679,821,200.3,2,12.4913,35.6951,2,35.6929,2,220.9,2,220.3,2,3.17,2,10.03,2,0.623,2,2338.3,2,7.8272,2,25,1.4687,2,1.6799,2
29AH20160617, OVIDE/BOCATS,3,1,17,20160622,2036,40.3341,-9.7679,821,149.9,2,12.9852,35.7424,2,35.7434,2,224.7,2,224.9,2,2.5,2,8.32,2,0.522,2,2341.4,2,7.8476,2,25,-999,9,-999,9
29AH20160617, OVIDE/BOCATS,3,1,19,20160622,2036,40.3341,-9.7679,821,100.1,2,13.3432,35.7531,2,35.7525,2,239.1,2,238.7,2,1.51,2,5.24,2,0.361,2,2340.9,2,7.8802,2,25,-999,9,-999,9
29AH20160617, OVIDE/BOCATS,3,1,21,20160622,2036,40.3341,-9.7679,821,50,2,13.8126,35.7199,2,35.7207,2,248.7,2,249.6,2,0.76,2,2.32,2,0.196,2,2342.3,2,7.9097,2,25,-999,9,-999,9
29AH20160617, OVIDE/BOCATS,3,1,23,20160622,2036,40.3341,-9.7679,821,3,2,18.826,34.9964,2,34.9985,2,241.4,2,240.9,2,0.14,2,0.04,2,0.043,2,2314.1,2,8.0005,2,25,1.2278,2,1.6744,2
29AH20160617, OVIDE/BOCATS,4,1,3,20160623,3,40.334,-9.8051,1440,1440,2,8.9467,35.8708,2,35.8721,2,201,2,200.9,2,11.2,2,16.71,2,1.057,2,-999,9,7.7756,2,25,-999,9,-999,9
29AH20160617, OVIDE/BOCATS,4,1,4,20160623,3,40.334,-9.8051,1440,1402.1,2,9.0101,35.8831,2,35.8832,2,200.4,2,200.4,2,11.26,2,16.71,2,1.057,2,-999,9,7.7764,2,25,-999,9,-999,9
29AH20160617, OVIDE/BOCATS,4,1,5,20160623,3,40.334,-9.8051,1440,1200.1,2,10.7196,36.1584,2,36.1602,2,184,2,184.2,2,9.6,2,15.73,2,0.978,2,-999,9,7.7976,2,25,-999,9,-999,9
29AH20160617, OVIDE/BOCATS,4,1,6,20160623,3,40.334,-9.8051,1440,998.9,2,11.3952,36.21,2,36.211,2,182.1,2,181.7,2,8.74,2,14.99,2,0.944,2,-999,9,7.799,2,25,-999,9,-999,9
29AH20160617, OVIDE/BOCATS,4,1,7,20160623,3,40.334,-9.8051,1440,898.3,2,11.6959,36.2134,2,36.2145,2,182.9,2,182.1,2,8.14,2,14.64,2,0.908,2,-999,9,7.8039,2,25,-999,9,-999,9
29AH20160617, OVIDE/BOCATS,4,1,8,20160623,3,40.334,-9.8051,1440,798.9,2,11.7753,36.1612,2,36.1617,2,183.1,2,182.2,2,7.82,2,14.72,2,0.905,2,-999,9,7.8031,2,25,-999,9,-999,9
29AH20160617, OVIDE/BOCATS,4,1,9,20160623,3,40.334,-9.8051,1440,699.9,2,11.8501,36.0708,2,36.0708,2,183.6,2,182.2,2,7.53,2,14.54,2,0.908,2,-999,9,7.8003,2,25,-999,9,-999,9
29AH20160617, OVIDE/BOCATS,4,1,10,20160623,3,40.334,-9.8051,1440,599.7,2,11.5141,35.8709,2,35.8715,2,185.4,2,184.6,2,7.47,2,15.21,2,0.955,2,-999,9,7.7878,2,25,-999,9,-999,9
29AH20160617, OVIDE/BOCATS,4,1,11,20160623,3,40.334,-9.8051,1440,498.7,2,11.4188,35.7182,2,35.7173,2,196.6,2,196.5,2,6.45,2,14.62,2,0.914,2,-999,9,7.7857,2,25,-999,9,-999,9
29AH20160617, OVIDE/BOCATS,4,1,12,20160623,3,40.334,-9.8051,1440,398.6,2,11.4296,35.6046,2,35.607,2,216.8,2,216.2,2,4.87,2,12.83,2,0.8,2,-999,9,7.8018,2,25,-999,9,-999,9
29AH20160617, OVIDE/BOCATS,4,1,13,20160623,3,40.334,-9.8051,1440,300.5,2,11.9796,35.6679,2,35.6679,2,211.3,2,210,2,4.36,2,12.43,2,0.765,2,-999,9,7.8064,2,25,-999,9,-999,9
29AH20160617, OVIDE/BOCATS,4,1,14,20160623,3,40.334,-9.8051,1440,198.9,2,12.5258,35.6999,2,35.7019,2,219.7,2,219.4,2,3.28,2,10.05,2,0.628,2,-999,9,7.8257,2,25,-999,9,-999,9
29AH20160617, OVIDE/BOCATS,4,1,15,20160623,3,40.334,-9.8051,1440,149.7,2,13.0175,35.747,2,35.7476,2,224.8,2,225.1,2,2.48,2,8.26,2,0.514,2,-999,9,7.8454,2,25,-999,9,-999,9
29AH20160617, OVIDE/BOCATS,4,1,16,20160623,3,40.334,-9.8051,1440,90.8,2,13.5813,35.7718,2,35.7711,2,242.3,2,242.1,2,1.27,2,4.2,2,0.302,2,-999,9,7.9005,2,25,-999,9,-999,9
29AH20160617, OVIDE/BOCATS,4,1,17,20160623,3,40.334,-9.8051,1440,47.1,2,15.2771,35.6898,2,35.6924,4,266.2,2,266.9,2,0.36,2,0.05,2,0.064,2,-999,9,7.9556,2,25,-999,9,-999,9
29AH20160617, OVIDE/BOCATS,4,1,18,20160623,3,40.334,-9.8051,1440,4,2,18.863,35.0059,2,35.0064,2,240.1,2,240.3,2,0.29,2,0.02,2,0.046,2,-999,9,8.0007,2,25,-999,9,-999,9
29AH20160617, OVIDE/BOCATS,5,1,3,20160623,347,40.3345,-9.8794,2772,2772.9,2,3.0441,34.9678,2,34.9676,2,246.2,2,246.1,2,-999,9,-999,9,-999,9,-999,9,-999.0,9,25,-999,9,-999,9
29AH20160617, OVIDE/BOCATS,5,1,4,20160623,347,40.3345,-9.8794,2772,2772.8,2,3.0454,34.9677,2,34.9694,2,246.2,2,246,2,32.1,2,20.47,2,1.387,2,2336.5,2,7.7426,2,25,-999,9,-999,9
29AH20160617, OVIDE/BOCATS,5,1,5,20160623,347,40.3345,-9.8794,2772,2249.2,2,3.8103,35.0417,2,35.0423,2,249.4,2,249.9,2,-999,9,19.36,2,1.304,2,2323.5,2,7.7435,2,25,-999,9,-999,9
29AH20160617, OVIDE/BOCATS,5,1,6,20160623,347,40.3345,-9.8794,2772,2000.1,2,4.3829,35.1023,2,35.1035,2,248.7,2,248.9,2,17.11,2,18.26,2,1.22,2,2318.6,2,7.7424,2,25,0.7209,2,0.2441,2
29AH20160617, OVIDE/BOCATS,5,1,7,20160623,347,40.3345,-9.8794,2772,2000,2,4.3861,35.1027,2,35.0795,4,248.7,2,248.8,2,17.15,2,18.42,2,1.223,2,2320.4,2,7.7428,2,25,-999,9,-999,9
29AH20160617, OVIDE/BOCATS,5,1,8,20160623,347,40.3345,-9.8794,2772,1799.6,2,4.8955,35.1598,2,35.1607,2,245.6,2,245.4,2,14.48,2,18.06,2,1.199,2,2325.1,2,7.7396,2,25,-999,9,-999,9
29AH20160617, OVIDE/BOCATS,5,1,9,20160623,347,40.3345,-9.8794,2772,1601.2,2,7.4722,35.6104,2,35.6165,4,214.5,2,214.7,2,12.52,2,17.4,2,1.125,2,2352.1,2,7.763,2,25,0.8039,2,0.4544,2
29AH20160617, OVIDE/BOCATS,5,1,10,20160623,347,40.3345,-9.8794,2772,1400.1,2,9.4909,35.9704,2,35.9201,4,196.6,2,197.8,2,10.94,2,16.43,2,1.049,2,2373.4,2,7.7798,2,25,0.8261,2,0.4152,2
29AH20160617, OVIDE/BOCATS,5,1,11,20160623,347,40.3345,-9.8794,2772,1400,2,9.4919,35.9706,2,35.9724,2,195.6,2,194.9,2,10.72,2,16.31,2,1.04,2,-999,9,-999.0,9,25,-999,9,-999,9
29AH20160617, OVIDE/BOCATS,5,1,12,20160623,347,40.3345,-9.8794,2772,1200.2,2,10.9936,36.21,2,36.2095,2,182.8,2,181.8,2,9.34,2,15.61,2,0.972,2,2389.9,2,7.797,2,25,0.9111,2,0.61,2
29AH20160617, OVIDE/BOCATS,5,1,13,20160623,347,40.3345,-9.8794,2772,1000.9,2,11.3435,36.1823,2,36.1882,4,182.2,2,182.2,2,8.77,2,15.41,2,0.95,2,2386.2,2,7.798,2,25,0.9182,2,-999,9
29AH20160617, OVIDE/BOCATS,5,1,14,20160623,347,40.3345,-9.8794,2772,1001,2,11.3311,36.1787,2,36.1861,4,181.4,2,180.4,2,8.76,2,15.22,2,0.954,2,-999,9,-999.0,9,25,-999,9,-999,9
29AH20160617, OVIDE/BOCATS,5,1,15,20160623,347,40.3345,-9.8794,2772,900.1,2,11.0834,36.0253,2,36.0242,2,181.3,2,181,2,8.73,2,15.88,2,0.991,2,2372,2,7.789,2,25,-999,9,-999,9
29AH20160617, OVIDE/BOCATS,5,1,16,20160623,347,40.3345,-9.8794,2772,798.1,2,11.7212,36.0966,2,36.0973,2,182.2,2,-999,9,7.8,2,14.81,2,0.925,2,2377.4,2,7.8003,2,25,-999,9,-999,9
29AH20160617, OVIDE/BOCATS,5,1,17,20160623,347,40.3345,-9.8794,2772,700,2,11.4564,35.908,2,35.9125,4,183.9,2,183.3,2,7.69,2,15.36,2,0.963,2,2359.9,2,7.7897,2,25,-999,9,-999,9
29AH20160617, OVIDE/BOCATS,5,1,18,20160623,347,40.3345,-9.8794,2772,700,2,11.4634,35.9104,2,35.9106,2,183.9,2,183.3,2,-999,9,-999,9,-999,9,-999,9,-999.0,9,25,-999,9,-999,9
29AH20160617, OVIDE/BOCATS,5,1,19,20160623,347,40.3345,-9.8794,2772,600.5,2,11.7061,35.8432,2,35.8408,2,186.5,2,185.5,2,6.89,2,14.91,2,0.929,2,2352.3,2,7.7916,2,25,-999,9,-999,9
29AH20160617, OVIDE/BOCATS,5,1,20,20160623,347,40.3345,-9.8794,2772,498.5,2,11.2898,35.6214,2,35.624,4,207.4,2,208.1,2,5.67,2,13.83,2,0.868,2,2335.6,2,7.7925,2,25,1.3561,2,1.177,2
29AH20160617, OVIDE/BOCATS,5,1,21,20160623,347,40.3345,-9.8794,2772,498.6,2,11.2943,35.6217,2,35.6226,2,207.4,2,207.5,2,-999,9,-999,9,-999,9,-999,9,-999.0,9,25,-999,9,-999,9
29AH20160617, OVIDE/BOCATS,5,1,22,20160623,347,40.3345,-9.8794,2772,397.1,2,11.6271,35.6284,2,35.6283,2,216.3,2,214.1,2,4.65,2,12.57,2,0.794,2,2331.9,2,7.8022,2,25,-999,9,-999,9
29AH20160617, OVIDE/BOCATS,5,1,23,20160623,347,40.3345,-9.8794,2772,297.7,2,12.0446,35.6539,2,35.6545,2,219.3,2,218.3,2,3.81,2,11.26,2,0.697,2,2334.9,2,7.8146,2,25,-999,9,-999,9
29AH20160617, OVIDE/BOCATS,5,1,24,20160623,347,40.3345,-9.8794,2772,199.6,2,12.7808,35.7167,2,35.7198,4,226.1,2,226.3,2,2.67,2,8.57,2,0.545,2,2336.4,2,7.8444,2,25,-999,9,-999,9
29AH20160617, OVIDE/BOCATS,5,1,25,20160623,347,40.3345,-9.8794,2772,199.6,2,12.793,35.7176,2,35.718,2,227.3,2,226.8,2,-999,9,-999,9,-999,9,-999,9,-999.0,9,25,-999,9,-999,9
29AH20160617, OVIDE/BOCATS,5,1,26,20160623,347,40.3345,-9.8794,2772,148.7,2,13.0918,35.7109,2,35.7151,4,241.9,2,240.9,2,1.49,2,5.35,2,0.369,2,2336.9,2,7.8754,2,25,-999,9,-999,9
29AH20160617, OVIDE/BOCATS,5,1,27,20160623,347,40.3345,-9.8794,2772,100.2,2,13.5508,35.7649,2,35.7315,4,241.7,2,240.6,2,1.47,2,5.15,2,0.354,2,2339.9,2,7.8791,2,25,-999,9,-999,9
29AH20160617, OVIDE/BOCATS,5,1,28,20160623,347,40.3345,-9.8794,2772,100.2,2,13.552,35.7645,2,35.7522,4,242.3,2,242.3,2,-999,9,-999,9,-999,9,-999,9,-999.0,9,25,-999,9,-999,9
29AH20160617, OVIDE/BOCATS,5,1,29,20160623,347,40.3345,-9.8794,2772,50.8,2,14.8612,35.7292,2,-999,9,267.1,2,266.9,2,0.32,2,0.03,2,0.065,2,2340.6,2,7.9561,2,25,-999,9,-999,9
29AH20160617, OVIDE/BOCATS,5,1,30,20160623,347,40.3345,-9.8794,2772,4.5,2,18.9268,35.0505,2,35.0525,2,238.4,2,239,2,0.17,2,0.02,2,0.051,2,2306.7,2,8.0004,2,25,1.2022,2,1.5384,2