BOTTLE,20230706CCHSIOENA
EXPOCODE,SECT_ID,STNNBR,CASTNO,SAMPNO,DATE,TIME,LATITUDE,LONGITUDE,DEPTH,CTDPRS,CTDPRS_FLAG_W,CTDTMP,CTDSAL,CTDSAL_FLAG_W,SALNTY,SALNTY_FLAG_W,CTDOXY,CTDOXY_FLAG_W,OXYGEN,OXYGEN_FLAG_W,SILCAT,SILCAT_FLAG_W,NITRAT,NITRAT_FLAG_W,PHSPHT,PHSPHT_FLAG_W,ALKALI,ALKALI_FLAG_W,PH_SWS,PH_SWS_FLAG_W,PH_TMP,CFC-12,CFC-12_FLAG_W,SF6,SF6_FLAG_W
,,,,,,,,,METERS,DBAR,,DEG C,PSS-78,,PSS-78,,UMOL/KG,,UMOL/KG,,UMOL/KG,,UMOL/KG,,UMOL/KG,,UMOL/KG,,,,DEG C,PMOL/KG,,FMOL/KG,
29AH20160617, OVIDE/BOCATS,28,1,3,20160629,2003,45.4191,-18.7947,4571,4644.6,2,2.5656,34.904,2,34.9027,2,240.8,2,240.5,2,43.96,2,22.02,2,1.482,2,-999,9,7.7376,2,25,-999,9,-999,9
29AH20160617, OVIDE/BOCATS,28,1,4,20160629,2003,45.4191,-18.7947,4571,4499.2,2,2.5737,34.9066,2,34.9074,2,240.9,2,240.5,2,43.47,2,21.97,2,1.479,2,-999,9,7.7382,2,25,-999,9,-999,9
29AH20160617, OVIDE/BOCATS,28,1,5,20160629,2003,45.4191,-18.7947,4571,4248.6,2,2.563,34.9085,2,34.9086,2,241,2,240.8,2,43.14,2,22.05,2,1.465,2,-999,9,7.7392,2,25,-999,9,-999,9
29AH20160617, OVIDE/BOCATS,28,1,6,20160629,2003,45.4191,-18.7947,4571,3999,2,2.5539,34.9105,2,34.9105,2,241.7,2,241.8,2,42.44,2,21.64,2,1.459,2,-999,9,7.7378,2,25,-999,9,-999,9
29AH20160617, OVIDE/BOCATS,28,1,7,20160629,2003,45.4191,-18.7947,4571,3749.9,2,2.5655,34.9143,2,34.9146,2,243,2,242.9,2,40.84,2,21.11,2,1.45,2,-999,9,7.7369,2,25,-999,9,-999,9
29AH20160617, OVIDE/BOCATS,28,1,8,20160629,2003,45.4191,-18.7947,4571,3499.3,2,2.6284,34.9222,2,34.9229,2,245.9,2,246,2,37.7,2,20.84,2,1.405,2,-999,9,7.7386,2,25,-999,9,-999,9
29AH20160617, OVIDE/BOCATS,28,1,9,20160629,2003,45.4191,-18.7947,4571,3247.9,2,2.7238,34.9314,2,34.9322,2,252.1,2,252,2,32.02,2,19.52,2,1.323,2,-999,9,7.7342,2,25,-999,9,-999,9
29AH20160617, OVIDE/BOCATS,28,1,10,20160629,2003,45.4191,-18.7947,4571,3000.4,2,2.8365,34.9385,2,34.9391,2,256.9,2,257,2,26.89,2,18.81,2,1.259,2,-999,9,7.734,2,25,-999,9,-999,9
29AH20160617, OVIDE/BOCATS,28,1,11,20160629,2003,45.4191,-18.7947,4571,2699.1,2,3.0162,34.942,2,34.943,2,261.1,2,260.9,2,22.43,2,18.11,2,1.215,2,-999,9,7.7348,2,25,-999,9,-999,9
29AH20160617, OVIDE/BOCATS,28,1,12,20160629,2003,45.4191,-18.7947,4571,2499.3,2,3.1504,34.9377,2,34.9387,2,265.5,2,265.6,2,18.63,2,17.63,2,1.184,2,-999,9,7.7332,2,25,-999,9,-999,9
29AH20160617, OVIDE/BOCATS,28,1,13,20160629,2003,45.4191,-18.7947,4571,2248.3,2,3.375,34.9324,2,34.9333,2,269.1,2,269,2,14.99,2,17.22,2,1.148,2,-999,9,7.7294,2,25,-999,9,-999,9
29AH20160617, OVIDE/BOCATS,28,1,14,20160629,2003,45.4191,-18.7947,4571,2000.8,2,3.6272,34.9323,2,34.9354,4,269.1,2,269,2,12.77,2,17.27,2,1.132,2,-999,9,7.7256,2,25,-999,9,-999,9
29AH20160617, OVIDE/BOCATS,28,1,15,20160629,2003,45.4191,-18.7947,4571,1699.2,2,4.0209,34.9533,2,34.9538,2,266,2,265.7,2,11.55,2,17.2,2,1.131,2,-999,9,7.7198,2,25,-999,9,-999,9
29AH20160617, OVIDE/BOCATS,28,1,16,20160629,2003,45.4191,-18.7947,4571,1399.6,2,4.6954,35.0216,2,35.0219,2,256.8,2,256.8,2,10.81,2,17.32,2,1.135,2,-999,9,7.7169,2,25,-999,9,-999,9
29AH20160617, OVIDE/BOCATS,28,1,17,20160629,2003,45.4191,-18.7947,4571,1198.4,2,5.9026,35.1909,2,35.1916,2,236,2,235.1,2,10.99,2,17.68,2,1.139,2,-999,9,7.7235,2,25,-999,9,-999,9
29AH20160617, OVIDE/BOCATS,28,1,18,20160629,2003,45.4191,-18.7947,4571,999.4,2,7.4419,35.3612,2,35.3608,2,212,2,210.7,2,10.73,2,17.72,2,1.146,2,-999,9,7.7319,2,25,-999,9,-999,9
29AH20160617, OVIDE/BOCATS,28,1,19,20160629,2003,45.4191,-18.7947,4571,799.8,2,8.7548,35.42,2,35.419,2,195.5,2,194.8,2,10.06,2,17.94,2,1.13,2,-999,9,7.7362,2,25,-999,9,-999,9
29AH20160617, OVIDE/BOCATS,28,1,20,20160629,2003,45.4191,-18.7947,4571,799.9,2,8.7551,35.4197,2,35.4195,2,195.5,2,193.7,2,10.09,2,17.96,2,1.131,2,-999,9,7.7368,2,25,-999,9,-999,9
29AH20160617, OVIDE/BOCATS,28,1,21,20160629,2003,45.4191,-18.7947,4571,699.8,2,9.1823,35.3418,2,35.3409,2,199.4,2,200.2,2,8.98,2,17.08,2,1.085,2,-999,9,7.7429,2,25,-999,9,-999,9
29AH20160617, OVIDE/BOCATS,28,1,22,20160629,2003,45.4191,-18.7947,4571,600.9,2,9.8481,35.3721,2,35.372,2,214.7,2,214.5,2,7.47,2,15.39,2,0.971,2,-999,9,7.7648,2,25,-999,9,-999,9
29AH20160617, OVIDE/BOCATS,28,1,23,20160629,2003,45.4191,-18.7947,4571,499.3,2,10.5632,35.4466,2,35.446,2,223.2,2,223.2,2,5.98,2,13.46,2,0.845,2,-999,9,7.788,2,25,-999,9,-999,9
29AH20160617, OVIDE/BOCATS,28,1,24,20160629,2003,45.4191,-18.7947,4571,399.5,2,10.9099,35.4688,2,35.4681,2,226.3,2,225.9,2,5.36,2,12.77,2,0.794,2,-999,9,7.7987,2,25,-999,9,-999,9
29AH20160617, OVIDE/BOCATS,28,1,25,20160629,2003,45.4191,-18.7947,4571,300.9,2,11.3144,35.5003,2,35.4994,2,234.7,2,234.2,2,4.46,2,11.26,2,0.69,2,-999,9,7.815,2,25,-999,9,-999,9
29AH20160617, OVIDE/BOCATS,28,1,26,20160629,2003,45.4191,-18.7947,4571,197.8,2,11.6146,35.5116,2,35.5117,2,252.3,2,252.3,2,3.24,2,8.69,2,0.549,2,-999,9,7.8456,2,25,-999,9,-999,9
29AH20160617, OVIDE/BOCATS,28,1,27,20160629,2003,45.4191,-18.7947,4571,98.9,2,11.8816,35.538,2,35.5378,2,248.6,2,247.8,2,3.11,2,8.6,2,0.534,2,-999,9,7.8473,2,25,-999,9,-999,9
29AH20160617, OVIDE/BOCATS,28,1,28,20160629,2003,45.4191,-18.7947,4571,49.8,2,13.3954,35.5696,2,35.5692,2,255.1,2,254.4,2,0.48,2,2.72,2,0.288,2,-999,9,7.9058,2,25,-999,9,-999,9
29AH20160617, OVIDE/BOCATS,28,1,29,20160629,2003,45.4191,-18.7947,4571,4.4,2,17.3293,35.5578,2,35.5579,2,250.3,2,250.5,2,0.19,2,-0.11,2,0.019,2,-999,9,7.9969,2,25,-999,9,-999,9
29AH20160617, OVIDE/BOCATS,28,1,30,20160629,2003,45.4191,-18.7947,4571,4.4,2,17.3305,35.5581,2,35.5576,2,250.3,2,250.5,2,0.2,2,-0.07,2,0.019,2,-999,9,7.9967,2,25,-999,9,-999,9
29AH20160617, OVIDE/BOCATS,29,1,3,20160630,224,45.7939,-19.0861,4523,4594.4,2,2.5866,34.9065,2,34.9062,2,240.7,2,240.3,2,44.16,2,22.15,2,1.492,2,2350.5,2,7.7332,2,25,0.0464,2,-999,9
29AH20160617, OVIDE/BOCATS,29,1,4,20160630,224,45.7939,-19.0861,4523,4594.5,2,2.5865,34.9065,2,34.9068,2,240.7,2,240.2,2,43.98,2,22.08,2,1.494,2,-999,9,7.735,2,25,0.0457,2,-999,9
29AH20160617, OVIDE/BOCATS,29,1,5,20160630,224,45.7939,-19.0861,4523,4499.3,2,2.5774,34.9069,2,34.9079,2,240.7,2,240.3,2,44.34,2,22.15,2,1.486,2,2350.2,2,7.7368,2,25,-999,9,-999,9
29AH20160617, OVIDE/BOCATS,29,1,6,20160630,224,45.7939,-19.0861,4523,3999.1,2,2.5493,34.91,2,34.9093,2,241.7,2,241,2,43.15,2,21.7,2,1.473,2,2347.8,2,7.7369,2,25,-999,9,-999,9
29AH20160617, OVIDE/BOCATS,29,1,7,20160630,224,45.7939,-19.0861,4523,3501.6,2,2.6076,34.9204,2,34.92,2,245.4,2,244.9,2,38.67,2,20.94,2,1.418,2,2342.1,2,7.7335,2,25,-999,9,-999,9
29AH20160617, OVIDE/BOCATS,29,1,8,20160630,224,45.7939,-19.0861,4523,3249.7,2,2.71,34.9306,2,34.9307,2,248.9,2,248.7,2,33.98,2,20.33,2,1.366,2,2336.5,2,7.7336,2,25,-999,9,-999,9
29AH20160617, OVIDE/BOCATS,29,1,9,20160630,224,45.7939,-19.0861,4523,3001.9,2,2.8597,34.9399,2,34.9387,2,254.1,2,254.3,2,28.44,2,19.63,2,1.3,2,2328.4,2,7.7335,2,25,0.4654,2,-999,9
29AH20160617, OVIDE/BOCATS,29,1,10,20160630,224,45.7939,-19.0861,4523,2747.6,2,3.0155,34.9426,2,34.9426,2,260.1,2,260.6,2,23.29,2,18.6,2,1.238,2,2320.6,2,7.7324,2,25,-999,9,-999,9
29AH20160617, OVIDE/BOCATS,29,1,11,20160630,224,45.7939,-19.0861,4523,2501.7,2,3.1835,34.9378,2,34.9381,2,265.3,2,265.5,2,18.44,2,17.93,2,1.182,2,-999,9,7.7307,2,25,-999,9,-999,9
29AH20160617, OVIDE/BOCATS,29,1,12,20160630,224,45.7939,-19.0861,4523,2248.8,2,3.391,34.9317,2,34.9317,2,269.1,2,270.9,2,15.42,2,17.7,2,1.158,2,2308.1,2,7.7307,2,25,-999,9,-999,9
29AH20160617, OVIDE/BOCATS,29,1,13,20160630,224,45.7939,-19.0861,4523,2000.2,2,3.6126,34.9294,2,34.9274,2,269.6,2,270.1,2,13.82,2,17.64,2,1.15,2,2305.9,2,7.724,2,25,1.3824,2,0.5631,2
29AH20160617, OVIDE/BOCATS,29,1,14,20160630,224,45.7939,-19.0861,4523,1799.8,2,3.8683,34.9396,2,34.94,2,267.4,2,267.5,2,12.87,2,17.95,2,1.139,2,2304.7,2,7.7239,2,25,-999,9,-999,9
29AH20160617, OVIDE/BOCATS,29,1,15,20160630,224,45.7939,-19.0861,4523,1599.7,2,4.1939,34.9665,2,34.9667,2,264.4,2,263.9,2,12.17,2,17.69,2,1.132,2,2308.2,2,7.7186,2,25,-999,9,-999,9
29AH20160617, OVIDE/BOCATS,29,1,16,20160630,224,45.7939,-19.0861,4523,1399.1,2,4.9964,35.0757,2,35.0767,2,251.2,2,251.2,2,12.01,2,17.95,2,1.137,2,2314.4,2,7.7195,2,25,1.6046,2,1.0392,2
29AH20160617, OVIDE/BOCATS,29,1,17,20160630,224,45.7939,-19.0861,4523,1202.1,2,6.0741,35.2139,2,35.2147,2,232.8,2,233,2,12.03,2,18.09,2,1.145,2,2325.2,2,7.7241,2,25,1.4525,2,0.9397,2
29AH20160617, OVIDE/BOCATS,29,1,18,20160630,224,45.7939,-19.0861,4523,998.8,2,7.3911,35.355,2,35.355,2,212.7,2,212.9,2,11.77,2,18.29,2,1.138,2,2336,2,7.7323,2,25,1.2894,2,0.8483,2
29AH20160617, OVIDE/BOCATS,29,1,19,20160630,224,45.7939,-19.0861,4523,899.3,2,8.0507,35.3993,2,35.3969,2,201.9,2,201.3,2,11.52,2,18.46,2,1.151,2,2337,2,7.7326,2,25,-999,9,-999,9
29AH20160617, OVIDE/BOCATS,29,1,20,20160630,224,45.7939,-19.0861,4523,800.9,2,8.5129,35.3659,2,35.3658,2,199,2,198.4,2,11.12,2,18.61,2,1.153,2,2332.5,2,7.7331,2,25,-999,9,-999,9
29AH20160617, OVIDE/BOCATS,29,1,21,20160630,224,45.7939,-19.0861,4523,699.7,2,9.1558,35.3663,2,35.3665,2,198.2,2,196,2,10.06,2,17.83,2,1.109,2,2333.4,2,7.7395,2,25,-999,9,-999,9
29AH20160617, OVIDE/BOCATS,29,1,22,20160630,224,45.7939,-19.0861,4523,600.4,2,10.0301,35.4144,2,35.4162,2,208.6,2,209.6,2,8.2,2,15.91,2,0.99,2,2333.6,2,7.7608,2,25,1.4246,2,1.3173,2
29AH20160617, OVIDE/BOCATS,29,1,23,20160630,224,45.7939,-19.0861,4523,501.7,2,10.5606,35.4419,2,35.441,2,223.3,2,222.1,2,6.48,2,14.01,2,0.871,2,2331.6,2,7.7919,2,25,-999,9,-999,9
29AH20160617, OVIDE/BOCATS,29,1,24,20160630,224,45.7939,-19.0861,4523,401.1,2,11.0751,35.4973,2,35.4974,2,228,2,228,2,5.37,2,12.52,2,0.772,2,2334.2,2,7.8031,2,25,1.6116,2,1.9589,2
29AH20160617, OVIDE/BOCATS,29,1,25,20160630,224,45.7939,-19.0861,4523,299.9,2,11.3097,35.4866,2,35.4861,2,235.2,2,235.6,2,4.69,2,11.16,2,0.69,2,-999,9,7.8166,2,25,-999,9,-999,9
29AH20160617, OVIDE/BOCATS,29,1,26,20160630,224,45.7939,-19.0861,4523,200.7,2,11.6785,35.5198,2,35.5195,2,251.5,2,251.4,2,3.49,2,8.81,2,0.55,2,2335.4,2,7.8447,2,25,1.6638,2,2.1132,2
29AH20160617, OVIDE/BOCATS,29,1,27,20160630,224,45.7939,-19.0861,4523,149.5,2,11.7907,35.527,2,35.5265,2,251.6,2,251.4,2,3.46,2,8.6,2,0.538,2,-999,9,7.8483,2,25,-999,9,-999,9
29AH20160617, OVIDE/BOCATS,29,1,28,20160630,224,45.7939,-19.0861,4523,101.4,2,11.9937,35.5448,2,35.5456,2,249.4,2,248.5,2,3.32,2,8.3,2,0.529,2,2335.1,2,7.852,2,25,-999,9,-999,9
29AH20160617, OVIDE/BOCATS,29,1,29,20160630,224,45.7939,-19.0861,4523,50.2,2,13.8185,35.5683,2,35.5701,2,253.6,2,253.5,2,0.39,2,2.15,2,0.233,2,-999,9,7.9178,2,25,-999,9,-999,9
29AH20160617, OVIDE/BOCATS,29,1,30,20160630,224,45.7939,-19.0861,4523,3.8,2,17.0588,35.5852,2,35.5853,2,249.4,2,249.9,2,0.2,2,-0.06,2,0.021,2,2342.2,2,7.9874,2,25,1.437,2,2.0228,2
29AH20160617, OVIDE/BOCATS,30,1,3,20160630,844,46.1691,-19.3765,4606,4679.6,2,2.5821,34.9052,2,34.9041,2,240.8,2,241.1,2,40.52,2,21.04,2,1.499,2,-999,9,7.7343,2,25,-999,9,-999,9
29AH20160617, OVIDE/BOCATS,30,1,4,20160630,844,46.1691,-19.3765,4606,4497.5,2,2.5755,34.9067,2,34.9065,2,240.6,2,240.5,2,40.19,2,20.9,2,1.503,2,-999,9,7.7326,2,25,-999,9,-999,9
29AH20160617, OVIDE/BOCATS,30,1,5,20160630,844,46.1691,-19.3765,4606,3997.5,2,2.5544,34.9106,2,34.9115,2,241.6,2,241.1,2,38.83,2,20.65,2,1.48,2,-999,9,7.7269,2,25,-999,9,-999,9
29AH20160617, OVIDE/BOCATS,30,1,6,20160630,844,46.1691,-19.3765,4606,3729,2,2.5816,34.916,2,34.9166,2,243.3,2,243,2,36.82,2,20.41,2,1.456,2,-999,9,7.7315,2,25,-999,9,-999,9
29AH20160617, OVIDE/BOCATS,30,1,7,20160630,844,46.1691,-19.3765,4606,3499.3,2,2.6491,34.9239,2,34.9242,2,246.3,2,247.7,2,34.29,2,20.11,2,1.408,2,-999,9,7.7326,2,25,-999,9,-999,9
29AH20160617, OVIDE/BOCATS,30,1,8,20160630,844,46.1691,-19.3765,4606,3249.4,2,2.7554,34.9336,2,34.9328,2,250.6,2,250.4,2,30.07,2,19.06,2,1.344,2,-999,9,7.7302,2,25,-999,9,-999,9
29AH20160617, OVIDE/BOCATS,30,1,9,20160630,844,46.1691,-19.3765,4606,3000.4,2,2.8914,34.9409,2,34.9424,2,255.7,2,255.9,2,25.58,2,18.27,2,1.282,2,-999,9,7.7323,2,25,-999,9,-999,9
29AH20160617, OVIDE/BOCATS,30,1,10,20160630,844,46.1691,-19.3765,4606,2749.1,2,3.0656,34.9413,2,34.9421,2,262,2,262.1,2,20.57,2,17.59,2,1.22,2,-999,9,7.7353,2,25,-999,9,-999,9
29AH20160617, OVIDE/BOCATS,30,1,11,20160630,844,46.1691,-19.3765,4606,2499.5,2,3.2296,34.9301,2,34.9313,2,269.4,2,269.4,2,15.09,2,16.66,2,1.16,2,-999,9,7.7288,2,25,-999,9,-999,9
29AH20160617, OVIDE/BOCATS,30,1,12,20160630,844,46.1691,-19.3765,4606,2249.2,2,3.4131,34.9224,2,34.9235,2,271.2,2,271.2,2,12.91,2,16.47,2,1.149,2,-999,9,7.7227,2,25,-999,9,-999,9
29AH20160617, OVIDE/BOCATS,30,1,13,20160630,844,46.1691,-19.3765,4606,2001,2,3.725,34.9377,2,34.9375,2,268.1,2,268.1,2,12.16,2,16.85,2,1.152,2,-999,9,7.714,2,25,-999,9,-999,9
29AH20160617, OVIDE/BOCATS,30,1,14,20160630,844,46.1691,-19.3765,4606,1800.8,2,3.9472,34.9454,2,34.9472,2,266.5,2,266.5,2,11.24,2,16.57,2,1.137,2,-999,9,7.7145,2,25,-999,9,-999,9
29AH20160617, OVIDE/BOCATS,30,1,15,20160630,844,46.1691,-19.3765,4606,1600.9,2,4.3048,34.977,2,34.9769,2,263.2,2,262.8,2,10.66,2,16.67,2,1.143,2,-999,9,7.7125,2,25,-999,9,-999,9
29AH20160617, OVIDE/BOCATS,30,1,16,20160630,844,46.1691,-19.3765,4606,1399.9,2,4.8949,35.0445,2,35.0447,2,254.5,2,253.4,2,10.35,2,16.93,2,1.143,2,-999,9,7.7096,2,25,-999,9,-999,9
29AH20160617, OVIDE/BOCATS,30,1,17,20160630,844,46.1691,-19.3765,4606,1200.4,2,6.2323,35.228,2,35.2263,2,230.2,2,230.4,2,10.66,2,17.14,2,1.154,2,-999,9,7.719,2,25,-999,9,-999,9
29AH20160617, OVIDE/BOCATS,30,1,18,20160630,844,46.1691,-19.3765,4606,1000.7,2,7.7754,35.3917,2,35.391,2,207.4,2,205.5,2,10.27,2,17.33,2,1.158,2,-999,9,7.7254,2,25,-999,9,-999,9
29AH20160617, OVIDE/BOCATS,30,1,19,20160630,844,46.1691,-19.3765,4606,900.6,2,8.2787,35.3852,2,35.3852,2,201.7,2,202.9,2,10.02,2,17.66,2,1.152,2,-999,9,7.7299,2,25,-999,9,-999,9
29AH20160617, OVIDE/BOCATS,30,1,20,20160630,844,46.1691,-19.3765,4606,799.7,2,8.9202,35.377,2,35.3772,2,196.8,2,195,2,9.39,2,17.18,2,1.137,2,-999,9,7.7357,2,25,-999,9,-999,9
29AH20160617, OVIDE/BOCATS,30,1,21,20160630,844,46.1691,-19.3765,4606,700.1,2,9.4987,35.3577,2,35.3582,2,200.8,2,198.4,2,8.33,2,16.34,2,1.073,2,-999,9,7.7473,2,25,-999,9,-999,9
29AH20160617, OVIDE/BOCATS,30,1,22,20160630,844,46.1691,-19.3765,4606,599.4,2,10.4384,35.4489,2,35.4487,2,220.3,2,220.5,2,6,2,13.6,2,0.862,2,-999,9,7.7847,2,25,-999,9,-999,9
29AH20160617, OVIDE/BOCATS,30,1,23,20160630,844,46.1691,-19.3765,4606,500.2,2,10.8527,35.4757,2,35.4758,2,226.4,2,226.1,2,5.18,2,12.36,2,0.796,2,-999,9,7.7961,2,25,-999,9,-999,9
29AH20160617, OVIDE/BOCATS,30,1,24,20160630,844,46.1691,-19.3765,4606,400,2,11.3467,35.5339,2,35.5324,2,228.5,2,228.4,2,4.4,2,11.35,2,0.727,2,-999,9,7.8099,2,25,-999,9,-999,9
29AH20160617, OVIDE/BOCATS,30,1,25,20160630,844,46.1691,-19.3765,4606,299.5,2,11.5442,35.5092,2,35.5397,4,239.7,2,238.8,2,3.82,2,10.02,2,0.649,2,-999,9,7.8271,2,25,-999,9,-999,9
29AH20160617, OVIDE/BOCATS,30,1,26,20160630,844,46.1691,-19.3765,4606,198.9,2,11.7783,35.5234,2,35.523,2,250.6,2,250.6,2,3.11,2,8.34,2,0.545,2,-999,9,7.8485,2,25,-999,9,-999,9
29AH20160617, OVIDE/BOCATS,30,1,27,20160630,844,46.1691,-19.3765,4606,149.6,2,11.9403,35.5405,2,35.5397,2,249.9,2,249.3,2,3.08,2,8.3,2,0.533,2,-999,9,7.8504,2,25,-999,9,-999,9
29AH20160617, OVIDE/BOCATS,30,1,28,20160630,844,46.1691,-19.3765,4606,100.1,2,12.2962,35.5838,2,35.5849,2,247.9,2,255.4,4,2.85,2,7.82,2,0.5,2,-999,9,7.8576,2,25,-999,9,-999,9
29AH20160617, OVIDE/BOCATS,30,1,29,20160630,844,46.1691,-19.3765,4606,50.6,2,13.0782,35.5984,2,35.5978,2,250.7,2,250.9,2,0.87,2,4.16,2,0.375,2,-999,9,7.8895,2,25,-999,9,-999,9
29AH20160617, OVIDE/BOCATS,30,1,30,20160630,844,46.1691,-19.3765,4606,4.3,2,16.8623,35.6124,2,35.612,2,248.1,2,248.1,2,0.18,2,-0.09,2,0.014,2,-999,9,7.9897,2,25,-999,9,-999,9