BOTTLE,20230706CCHSIOENA
EXPOCODE,SECT_ID,STNNBR,CASTNO,SAMPNO,DATE,TIME,LATITUDE,LONGITUDE,DEPTH,CTDPRS,CTDPRS_FLAG_W,CTDTMP,CTDSAL,CTDSAL_FLAG_W,SALNTY,SALNTY_FLAG_W,CTDOXY,CTDOXY_FLAG_W,OXYGEN,OXYGEN_FLAG_W,SILCAT,SILCAT_FLAG_W,NITRAT,NITRAT_FLAG_W,PHSPHT,PHSPHT_FLAG_W,ALKALI,ALKALI_FLAG_W,PH_SWS,PH_SWS_FLAG_W,PH_TMP,CFC-12,CFC-12_FLAG_W,SF6,SF6_FLAG_W
,,,,,,,,,METERS,DBAR,,DEG C,PSS-78,,PSS-78,,UMOL/KG,,UMOL/KG,,UMOL/KG,,UMOL/KG,,UMOL/KG,,UMOL/KG,,,,DEG C,PMOL/KG,,FMOL/KG,
29AH20160617, OVIDE/BOCATS,25,1,3,20160628,2205,44.3783,-17.8177,4952,5033.6,2,2.6484,34.9071,2,34.9075,2,241.2,2,241.3,2,45.19,2,22.04,2,1.447,2,2349.2,2,7.7366,2,25,0.0562,2,-999,9
29AH20160617, OVIDE/BOCATS,25,1,4,20160628,2205,44.3783,-17.8177,4952,4799.9,2,2.6174,34.9073,2,34.9083,2,241.2,2,241.2,2,43.81,2,21.83,2,1.462,2,2348,2,7.739,2,25,-999,9,-999,9
29AH20160617, OVIDE/BOCATS,25,1,5,20160628,2205,44.3783,-17.8177,4952,4499.4,2,2.591,34.9083,2,34.9082,2,241,2,241,2,42.6,2,21.86,2,1.458,2,-999,9,7.7382,2,25,-999,9,-999,9
29AH20160617, OVIDE/BOCATS,25,1,6,20160628,2205,44.3783,-17.8177,4952,3999.2,2,2.5576,34.9111,2,34.9105,2,241.5,2,241.2,2,42.1,2,21.54,2,1.446,2,2348.4,2,7.7376,2,25,0.07,2,-999,9
29AH20160617, OVIDE/BOCATS,25,1,7,20160628,2205,44.3783,-17.8177,4952,3500.9,2,2.6197,34.9215,2,34.9211,2,245,2,245.1,2,38.04,2,20.91,2,1.402,2,2341.8,2,7.7379,2,25,-999,9,-999,9
29AH20160617, OVIDE/BOCATS,25,1,8,20160628,2205,44.3783,-17.8177,4952,3249,2,2.7019,34.93,2,34.9314,2,249.3,2,249.4,2,33.7,2,20.27,2,1.344,2,2333.7,2,7.7378,2,25,-999,9,-999,9
29AH20160617, OVIDE/BOCATS,25,1,9,20160628,2205,44.3783,-17.8177,4952,3000.5,2,2.8257,34.9392,2,34.9388,2,253.3,2,253.4,2,29.52,2,19.45,2,1.3,2,2330.1,2,7.739,2,25,0.3561,2,-999,9
29AH20160617, OVIDE/BOCATS,25,1,10,20160628,2205,44.3783,-17.8177,4952,2748.6,2,2.9751,34.9453,2,34.946,2,256.1,2,256.5,2,25.17,2,18.78,2,1.261,2,2322.1,2,7.7358,2,25,-999,9,-999,9
29AH20160617, OVIDE/BOCATS,25,1,11,20160628,2205,44.3783,-17.8177,4952,2499.7,2,3.228,34.952,2,34.9523,2,260.7,2,260.6,2,20.33,2,18.31,2,1.216,2,2315.8,2,7.7366,2,25,-999,9,-999,9
29AH20160617, OVIDE/BOCATS,25,1,12,20160628,2205,44.3783,-17.8177,4952,2251.1,2,3.4493,34.956,2,34.9574,2,263.8,2,263.6,2,16.62,2,17.79,2,1.169,2,2310.4,2,7.7358,2,25,-999,9,-999,9
29AH20160617, OVIDE/BOCATS,25,1,13,20160628,2205,44.3783,-17.8177,4952,2000.2,2,3.7707,34.9642,2,34.9643,2,264.4,2,264.5,2,13.41,2,17.48,2,1.143,2,2307,2,7.7293,2,25,1.2173,2,0.4045,2
29AH20160617, OVIDE/BOCATS,25,1,14,20160628,2205,44.3783,-17.8177,4952,1798.5,2,4.1044,34.9925,2,34.9907,2,261.4,2,261.2,2,12.41,2,17.55,2,1.144,2,2307.2,2,7.7259,2,25,1.3863,2,0.4815,2
29AH20160617, OVIDE/BOCATS,25,1,15,20160628,2205,44.3783,-17.8177,4952,1599.5,2,4.1795,34.9757,2,34.9776,2,264.1,2,263.5,2,11.42,2,17.27,2,1.129,2,2305,2,7.7199,2,25,-999,9,-999,9
29AH20160617, OVIDE/BOCATS,25,1,16,20160628,2205,44.3783,-17.8177,4952,1400.6,2,4.7062,35.0358,2,35.0353,2,256.1,2,255.9,2,10.83,2,17.4,2,1.134,2,2308.3,2,7.7195,2,25,1.651,2,1.1214,2
29AH20160617, OVIDE/BOCATS,25,1,17,20160628,2205,44.3783,-17.8177,4952,1201.2,2,5.5993,35.1547,2,35.1556,2,242.1,2,242.4,2,10.79,2,17.49,2,1.129,2,2316.4,2,7.7225,2,25,1.5413,2,1.0134,2
29AH20160617, OVIDE/BOCATS,25,1,18,20160628,2205,44.3783,-17.8177,4952,1002.9,2,6.363,35.1946,2,35.1968,2,229.2,2,228.5,2,10.56,2,17.81,2,1.149,2,2319.3,2,7.7191,2,25,1.4772,2,0.9578,2
29AH20160617, OVIDE/BOCATS,25,1,19,20160628,2205,44.3783,-17.8177,4952,900.6,2,8.5603,35.5641,2,35.5655,2,197.5,2,197.7,2,10.25,2,17.44,2,1.107,2,2343.8,2,7.746,2,25,-999,9,-999,9
29AH20160617, OVIDE/BOCATS,25,1,20,20160628,2205,44.3783,-17.8177,4952,800.1,2,8.3404,35.4053,2,35.4107,4,201.3,2,199.7,2,10.14,2,17.9,2,1.141,2,2332.5,2,7.7341,2,25,1.22,2,0.8547,2
29AH20160617, OVIDE/BOCATS,25,1,21,20160628,2205,44.3783,-17.8177,4952,699.9,2,8.0304,35.1823,2,35.2268,4,202.5,2,200.8,2,10.15,2,18.49,2,1.18,2,2317.4,2,7.7155,2,25,-999,9,-999,9
29AH20160617, OVIDE/BOCATS,25,1,22,20160628,2205,44.3783,-17.8177,4952,601.2,2,9.0227,35.2229,2,35.2138,4,205.9,2,206,2,8.76,2,16.94,2,1.079,2,2317.7,2,7.735,2,25,1.4032,2,1.2553,2
29AH20160617, OVIDE/BOCATS,25,1,23,20160628,2205,44.3783,-17.8177,4952,499,2,9.5846,35.2135,2,35.2619,4,226.5,2,225.4,2,6.93,2,14.47,2,0.927,2,-999,9,7.7631,2,25,-999,9,-999,9
29AH20160617, OVIDE/BOCATS,25,1,24,20160628,2205,44.3783,-17.8177,4952,401.7,2,10.1382,35.2614,2,35.2629,2,235.3,2,234.4,2,5.9,2,13.01,2,0.823,2,2319.8,2,7.7828,2,25,1.6224,2,1.916,2
29AH20160617, OVIDE/BOCATS,25,1,25,20160628,2205,44.3783,-17.8177,4952,299,2,11.0218,35.3913,2,35.3945,4,236.4,2,235.3,2,4.88,2,11.67,2,0.727,2,-999,9,7.8094,2,25,-999,9,-999,9
29AH20160617, OVIDE/BOCATS,25,1,26,20160628,2205,44.3783,-17.8177,4952,200.3,2,11.6373,35.4796,2,35.4806,2,248,2,246.9,2,3.92,2,9.78,2,0.604,2,2330.4,2,7.8325,2,25,1.6406,2,2.0782,2
29AH20160617, OVIDE/BOCATS,25,1,27,20160628,2205,44.3783,-17.8177,4952,150.6,2,12.107,35.5536,2,35.5531,2,239.1,2,239.7,2,3.83,2,9.75,2,0.595,2,-999,9,7.8379,2,25,-999,9,-999,9
29AH20160617, OVIDE/BOCATS,25,1,28,20160628,2205,44.3783,-17.8177,4952,100.9,2,12.5751,35.6056,2,35.6074,2,246.1,2,246.2,2,2.8,2,8.08,2,0.496,2,2336.3,2,7.8565,2,25,-999,9,-999,9
29AH20160617, OVIDE/BOCATS,25,1,29,20160628,2205,44.3783,-17.8177,4952,52.1,2,14.7389,35.6703,2,35.6719,2,250.4,2,249.9,2,0.59,2,1.75,2,0.213,2,-999,9,7.9288,2,25,-999,9,-999,9
29AH20160617, OVIDE/BOCATS,25,1,30,20160628,2205,44.3783,-17.8177,4952,4.2,2,17.7544,35.6245,2,35.6253,2,251.9,2,251.8,2,0.3,2,-0.02,2,0.029,2,2343.1,2,7.9896,2,25,1.4149,2,2.0245,2
29AH20160617, OVIDE/BOCATS,26,1,3,20160629,408,44.6738,-18.2107,4824,4907,2,2.6376,34.9076,2,34.9094,2,241.2,2,241.8,2,45.96,2,22.22,2,1.469,2,-999,9,7.7349,2,25,-999,9,-999,9
29AH20160617, OVIDE/BOCATS,26,1,4,20160629,408,44.6738,-18.2107,4824,4499.2,2,2.5897,34.9082,2,34.9195,4,240.9,2,240.9,2,44.84,2,21.83,2,1.447,2,-999,9,7.7449,2,25,-999,9,-999,9
29AH20160617, OVIDE/BOCATS,26,1,5,20160629,408,44.6738,-18.2107,4824,3998.2,2,2.5592,34.9111,2,34.942,4,241.9,2,242.2,2,42.07,2,21.39,2,1.411,2,-999,9,7.7407,2,25,-999,9,-999,9
29AH20160617, OVIDE/BOCATS,26,1,6,20160629,408,44.6738,-18.2107,4824,3499.6,2,2.6157,34.9211,2,34.9193,2,245.4,2,249.3,4,40.82,2,21.43,2,1.41,2,-999,9,7.7357,2,25,-999,9,-999,9
29AH20160617, OVIDE/BOCATS,26,1,7,20160629,408,44.6738,-18.2107,4824,3246.2,2,2.7175,34.931,2,34.9307,2,249.3,2,250.6,2,36.1,2,20.54,2,1.344,2,-999,9,7.7335,2,25,-999,9,-999,9
29AH20160617, OVIDE/BOCATS,26,1,8,20160629,408,44.6738,-18.2107,4824,3000.1,2,2.8445,34.9401,2,34.9401,2,253,2,254.5,2,31.31,2,19.82,2,1.3,2,-999,9,7.7364,2,25,-999,9,-999,9
29AH20160617, OVIDE/BOCATS,26,1,9,20160629,408,44.6738,-18.2107,4824,2751.8,2,2.9948,34.9448,2,34.9444,2,258.2,2,259,2,25.69,2,18.92,2,1.237,2,-999,9,7.7369,2,25,-999,9,-999,9
29AH20160617, OVIDE/BOCATS,26,1,10,20160629,408,44.6738,-18.2107,4824,2499.2,2,3.1576,34.9351,2,34.9356,2,267.2,2,267.3,2,18.53,2,17.82,2,1.16,2,-999,9,7.731,2,25,-999,9,-999,9
29AH20160617, OVIDE/BOCATS,26,1,11,20160629,408,44.6738,-18.2107,4824,2249.2,2,3.3283,34.9257,2,34.9265,2,270.7,2,271.6,2,14.99,2,17.37,2,1.128,2,-999,9,7.7302,2,25,-999,9,-999,9
29AH20160617, OVIDE/BOCATS,26,1,12,20160629,408,44.6738,-18.2107,4824,2000,2,3.6072,34.9311,2,34.9312,2,269.6,2,269.5,2,13.53,2,17.39,2,1.132,2,-999,9,7.7231,2,25,-999,9,-999,9
29AH20160617, OVIDE/BOCATS,26,1,13,20160629,408,44.6738,-18.2107,4824,1801.6,2,3.8285,34.9375,2,34.9375,2,268,2,267.9,2,12.45,2,17.43,2,1.123,2,-999,9,7.7215,2,25,-999,9,-999,9
29AH20160617, OVIDE/BOCATS,26,1,14,20160629,408,44.6738,-18.2107,4824,1599,2,4.0891,34.9501,2,34.9513,2,266.7,2,267.2,2,11.77,2,17.31,2,1.127,2,-999,9,7.7171,2,25,-999,9,-999,9
29AH20160617, OVIDE/BOCATS,26,1,15,20160629,408,44.6738,-18.2107,4824,1402,2,4.533,34.993,2,34.9959,4,260.4,2,259.7,2,11.34,2,17.55,2,1.123,2,-999,9,7.7153,2,25,-999,9,-999,9
29AH20160617, OVIDE/BOCATS,26,1,16,20160629,408,44.6738,-18.2107,4824,1199.6,2,5.9969,35.1936,2,35.1946,2,238.9,2,-999,9,11.54,2,17.83,2,1.134,2,-999,9,7.7229,2,25,-999,9,-999,9
29AH20160617, OVIDE/BOCATS,26,1,17,20160629,408,44.6738,-18.2107,4824,1000.7,2,9.0842,35.7276,2,35.7269,2,196.8,2,194.7,2,10.92,2,17.1,2,1.06,2,-999,9,7.7425,2,25,-999,9,-999,9
29AH20160617, OVIDE/BOCATS,26,1,18,20160629,408,44.6738,-18.2107,4824,1000.6,2,9.0866,35.7275,2,35.7255,2,196.7,2,195.3,2,10.92,2,17.27,2,1.061,2,-999,9,7.7567,2,25,-999,9,-999,9
29AH20160617, OVIDE/BOCATS,26,1,19,20160629,408,44.6738,-18.2107,4824,898.4,2,8.7238,35.5129,2,35.5138,2,196,2,194.5,2,10.9,2,17.89,2,1.114,2,-999,9,7.7408,2,25,-999,9,-999,9
29AH20160617, OVIDE/BOCATS,26,1,20,20160629,408,44.6738,-18.2107,4824,801.6,2,8.6157,35.3739,2,35.375,2,196.5,2,194.4,2,10.74,2,18.21,2,1.144,2,-999,9,7.7327,2,25,-999,9,-999,9
29AH20160617, OVIDE/BOCATS,26,1,21,20160629,408,44.6738,-18.2107,4824,700.4,2,9.9269,35.4976,2,35.4981,2,193.2,2,191.8,2,9.14,2,17.1,2,1.05,2,-999,9,7.7532,2,25,-999,9,-999,9
29AH20160617, OVIDE/BOCATS,26,1,22,20160629,408,44.6738,-18.2107,4824,599.5,2,10.0953,35.4157,2,35.4155,2,211.2,2,212.2,2,7.58,2,15.16,2,0.945,2,-999,9,7.7686,2,25,-999,9,-999,9
29AH20160617, OVIDE/BOCATS,26,1,23,20160629,408,44.6738,-18.2107,4824,501.3,2,10.6589,35.464,2,35.4629,2,221.3,2,220.2,2,6.29,2,13.62,2,0.839,2,-999,9,7.7882,2,25,-999,9,-999,9
29AH20160617, OVIDE/BOCATS,26,1,24,20160629,408,44.6738,-18.2107,4824,398.5,2,11.3199,35.5518,2,35.552,2,231.3,2,230.3,2,4.7,2,11.84,2,0.702,2,-999,9,7.8079,2,25,-999,9,-999,9
29AH20160617, OVIDE/BOCATS,26,1,25,20160629,408,44.6738,-18.2107,4824,301.5,2,11.5119,35.542,2,35.5417,2,230.5,2,229.4,2,4.61,2,11.37,2,0.684,2,-999,9,7.8157,2,25,-999,9,-999,9
29AH20160617, OVIDE/BOCATS,26,1,26,20160629,408,44.6738,-18.2107,4824,198.7,2,11.9172,35.5607,2,35.5656,4,245.1,2,242.2,4,3.57,2,9.17,2,0.556,2,-999,9,7.8424,2,25,-999,9,-999,9
29AH20160617, OVIDE/BOCATS,26,1,27,20160629,408,44.6738,-18.2107,4824,149.1,2,12.0603,35.5626,2,35.5635,2,248.1,2,247.3,2,3.24,2,8.44,2,0.513,2,-999,9,7.8584,2,25,-999,9,-999,9
29AH20160617, OVIDE/BOCATS,26,1,28,20160629,408,44.6738,-18.2107,4824,100.2,2,12.3973,35.5925,2,35.5918,2,247.3,2,247.4,2,2.85,2,7.84,2,0.482,2,-999,9,7.861,2,25,-999,9,-999,9
29AH20160617, OVIDE/BOCATS,26,1,29,20160629,408,44.6738,-18.2107,4824,51.8,2,13.1876,35.5908,2,35.5913,2,253.3,2,254.2,2,0.81,2,3.51,2,0.337,2,-999,9,7.8925,2,25,-999,9,-999,9
29AH20160617, OVIDE/BOCATS,26,1,30,20160629,408,44.6738,-18.2107,4824,5.2,2,17.6993,35.6078,2,35.6077,2,248.5,2,249,2,0.23,2,-0.08,2,0.011,2,-999,9,7.9956,2,25,-999,9,-999,9
29AH20160617, OVIDE/BOCATS,27,1,3,20160629,1340,45.052,-18.5032,4611,4683.1,2,2.6105,34.9078,2,34.9069,2,240.9,2,241.2,2,44.39,2,22,2,1.446,2,2350.3,2,7.7368,2,25,0.0573,2,-999,9
29AH20160617, OVIDE/BOCATS,27,1,4,20160629,1340,45.052,-18.5032,4611,3999.5,2,2.5651,34.9117,2,34.9078,4,241.9,2,241.9,2,43.45,2,21.69,2,1.442,2,2347.2,2,7.7356,2,25,0.078,2,-999,9
29AH20160617, OVIDE/BOCATS,27,1,5,20160629,1340,45.052,-18.5032,4611,3748.4,2,2.5808,34.9158,2,34.9147,2,243.4,2,243.3,2,41.59,2,21.39,2,1.421,2,2345.2,2,7.737,2,25,-999,9,-999,9
29AH20160617, OVIDE/BOCATS,27,1,6,20160629,1340,45.052,-18.5032,4611,3501,2,2.626,34.9219,2,34.9208,2,245.7,2,246.4,2,38.79,2,20.98,2,1.399,2,2340.2,2,7.7367,2,25,-999,9,-999,9
29AH20160617, OVIDE/BOCATS,27,1,7,20160629,1340,45.052,-18.5032,4611,3247.2,2,2.7163,34.931,2,34.9297,2,249.1,2,249.2,2,34.75,2,20.26,2,1.345,2,2335.4,2,7.7397,2,25,-999,9,-999,9
29AH20160617, OVIDE/BOCATS,27,1,8,20160629,1340,45.052,-18.5032,4611,3000.1,2,2.8328,34.939,2,34.938,2,254.3,2,254.2,2,29.17,2,19.32,2,1.28,2,2326.7,2,7.7373,2,25,0.4382,2,0.1128,2
29AH20160617, OVIDE/BOCATS,27,1,9,20160629,1340,45.052,-18.5032,4611,2701,2,3.0063,34.9406,2,34.9405,2,263.1,2,262.9,2,21.74,2,18.09,2,1.201,2,2316.4,2,7.7349,2,25,-999,9,-999,9
29AH20160617, OVIDE/BOCATS,27,1,10,20160629,1340,45.052,-18.5032,4611,2398.1,2,3.2362,34.9335,2,34.9332,2,268,2,269.6,2,16.56,2,17.62,2,1.159,2,2309.3,2,7.7334,2,25,-999,9,-999,9
29AH20160617, OVIDE/BOCATS,27,1,11,20160629,1340,45.052,-18.5032,4611,2199.7,2,3.385,34.9261,2,34.9245,2,270.7,2,270.7,2,14.04,2,17.19,2,1.131,2,2304.8,2,7.7267,2,25,-999,9,-999,9
29AH20160617, OVIDE/BOCATS,27,1,12,20160629,1340,45.052,-18.5032,4611,2000.3,2,3.6537,34.9359,2,34.9348,2,268.4,2,268.5,2,13.05,2,17.46,2,1.135,2,2304.5,2,7.724,2,25,1.3492,2,0.6672,2
29AH20160617, OVIDE/BOCATS,27,1,13,20160629,1340,45.052,-18.5032,4611,2000.3,2,3.6546,34.9359,2,34.9358,2,268.4,2,268.6,2,13.1,2,17.68,2,1.137,2,2305.8,2,7.7229,2,25,1.3563,2,0.6759,2
29AH20160617, OVIDE/BOCATS,27,1,14,20160629,1340,45.052,-18.5032,4611,1798.6,2,3.9756,34.9582,2,34.9566,2,265.6,2,265.4,2,12.19,2,17.39,2,1.133,2,2304.9,2,7.7194,2,25,1.5067,2,0.8453,2
29AH20160617, OVIDE/BOCATS,27,1,15,20160629,1340,45.052,-18.5032,4611,1700,2,4.1118,34.964,2,34.9645,2,264.8,2,264.5,2,11.67,2,17.54,2,1.128,2,2305.6,2,7.716,2,25,-999,9,-999,9
29AH20160617, OVIDE/BOCATS,27,1,16,20160629,1340,45.052,-18.5032,4611,1397.7,2,4.8221,35.0329,2,35.032,2,256,2,254.7,2,10.89,2,17.89,2,1.129,2,2310.6,2,7.7125,2,25,1.7013,2,1.1311,2
29AH20160617, OVIDE/BOCATS,27,1,17,20160629,1340,45.052,-18.5032,4611,1200.9,2,5.7327,35.1295,2,35.13,2,238.4,2,237.7,2,10.91,2,17.95,2,1.146,2,2316.8,2,7.7094,2,25,-999,9,-999,9
29AH20160617, OVIDE/BOCATS,27,1,18,20160629,1340,45.052,-18.5032,4611,999.6,2,7.4785,35.3457,2,35.3459,2,212.5,2,213.4,2,10.83,2,18.15,2,1.147,2,2331.6,2,7.718,2,25,1.2931,2,1.0231,2
29AH20160617, OVIDE/BOCATS,27,1,19,20160629,1340,45.052,-18.5032,4611,899.5,2,8.4631,35.4338,2,35.4345,2,197.8,2,196.8,2,10.43,2,18.27,2,1.132,2,2336.9,2,7.7254,2,25,-999,9,-999,9
29AH20160617, OVIDE/BOCATS,27,1,20,20160629,1340,45.052,-18.5032,4611,798.1,2,9.0575,35.4312,2,35.4314,2,195.8,2,196.6,2,9.84,2,17.95,2,1.119,2,2335.9,2,7.7321,2,25,1.2192,2,0.8946,2
29AH20160617, OVIDE/BOCATS,27,1,21,20160629,1340,45.052,-18.5032,4611,699,2,9.5519,35.3831,2,35.3826,2,202.1,2,201.2,2,8.69,2,16.86,2,1.055,2,2331.1,2,7.7476,2,25,-999,9,-999,9
29AH20160617, OVIDE/BOCATS,27,1,22,20160629,1340,45.052,-18.5032,4611,599.8,2,9.9098,35.3443,2,35.3414,4,217,2,216.5,2,7.32,2,15.33,2,0.955,2,2326.4,2,7.7617,2,25,1.5016,2,1.647,2
29AH20160617, OVIDE/BOCATS,27,1,23,20160629,1340,45.052,-18.5032,4611,499.7,2,10.8179,35.4517,2,35.4617,4,227.2,2,224.9,2,5.61,2,13.17,2,0.804,2,-999,9,7.7939,2,25,-999,9,-999,9
29AH20160617, OVIDE/BOCATS,27,1,24,20160629,1340,45.052,-18.5032,4611,399.1,2,11.3669,35.4918,2,35.4876,4,233,2,232.2,2,4.55,2,11.47,2,0.706,2,2332.8,2,7.8151,2,25,-999,9,-999,9
29AH20160617, OVIDE/BOCATS,27,1,25,20160629,1340,45.052,-18.5032,4611,299,2,11.7196,35.5149,2,35.5095,4,250.7,2,250.5,2,3.54,2,9,2,0.57,2,-999,9,7.8522,2,25,1.602,2,1.6959,2
29AH20160617, OVIDE/BOCATS,27,1,26,20160629,1340,45.052,-18.5032,4611,199.5,2,12.4135,35.6137,2,35.607,4,234.8,2,235.5,2,3.95,2,9.92,2,0.602,2,2339,2,7.8423,2,25,1.5715,2,1.8073,2
29AH20160617, OVIDE/BOCATS,27,1,27,20160629,1340,45.052,-18.5032,4611,149.9,2,12.8583,35.6782,2,35.6774,2,245.3,2,245.9,2,3.06,2,8.06,2,0.475,2,-999,9,7.8679,2,25,-999,9,-999,9
29AH20160617, OVIDE/BOCATS,27,1,28,20160629,1340,45.052,-18.5032,4611,100.3,2,13.1137,35.7089,2,35.7082,2,244.4,2,244.5,2,2.84,2,7.53,2,0.446,2,2350.4,2,7.8721,2,25,-999,9,-999,9
29AH20160617, OVIDE/BOCATS,27,1,29,20160629,1340,45.052,-18.5032,4611,49.4,2,13.761,35.7397,2,35.7377,2,242.9,2,242.1,2,1.86,2,5.83,2,0.361,2,-999,9,7.8936,2,25,-999,9,-999,9
29AH20160617, OVIDE/BOCATS,27,1,30,20160629,1340,45.052,-18.5032,4611,5.8,2,17.0529,35.6369,2,35.6364,2,254.5,2,254.7,2,0.24,2,0,2,0.034,2,2345.9,2,7.9959,2,25,1.414,2,1.8326,2