BOTTLE,20230706CCHSIOENA
EXPOCODE,SECT_ID,STNNBR,CASTNO,SAMPNO,DATE,TIME,LATITUDE,LONGITUDE,DEPTH,CTDPRS,CTDPRS_FLAG_W,CTDTMP,CTDSAL,CTDSAL_FLAG_W,SALNTY,SALNTY_FLAG_W,CTDOXY,CTDOXY_FLAG_W,OXYGEN,OXYGEN_FLAG_W,SILCAT,SILCAT_FLAG_W,NITRAT,NITRAT_FLAG_W,PHSPHT,PHSPHT_FLAG_W,ALKALI,ALKALI_FLAG_W,PH_SWS,PH_SWS_FLAG_W,PH_TMP,CFC-12,CFC-12_FLAG_W,SF6,SF6_FLAG_W
,,,,,,,,,METERS,DBAR,,DEG C,PSS-78,,PSS-78,,UMOL/KG,,UMOL/KG,,UMOL/KG,,UMOL/KG,,UMOL/KG,,UMOL/KG,,,,DEG C,PMOL/KG,,FMOL/KG,
29AH20160617, OVIDE/BOCATS,45,1,3,20160705,436,51.7705,-23.7849,3850,3906.4,2,2.5509,34.911,2,34.9099,2,241.1,2,240.2,2,43.82,2,21.67,2,1.433,2,2350.9,2,7.7371,2,25,0.1345,2,-999,9
29AH20160617, OVIDE/BOCATS,45,1,4,20160705,436,51.7705,-23.7849,3850,3749.1,2,2.6252,34.9202,2,34.9198,2,245.3,2,245.1,2,39.19,2,20.92,2,1.373,2,2343,2,7.734,2,25,-999,9,-999,9
29AH20160617, OVIDE/BOCATS,45,1,5,20160705,436,51.7705,-23.7849,3850,3499.4,2,2.7325,34.9347,2,34.935,2,254.1,2,254,2,31.26,2,19.28,2,1.269,2,2331.8,2,7.7249,2,25,-999,9,-999,9
29AH20160617, OVIDE/BOCATS,45,1,6,20160705,436,51.7705,-23.7849,3850,3248.6,2,2.8424,34.946,2,34.9467,2,261.5,2,261.7,2,24.11,2,18,2,1.176,2,2322.1,2,7.7257,2,25,-999,9,-999,9
29AH20160617, OVIDE/BOCATS,45,1,7,20160705,436,51.7705,-23.7849,3850,2999.9,2,2.9507,34.9491,2,34.9489,2,265.9,2,267.4,2,19.65,2,17.31,2,1.129,2,2320.2,2,-999.0,9,25,-999,9,-999,9
29AH20160617, OVIDE/BOCATS,45,1,8,20160705,436,51.7705,-23.7849,3850,2748.8,2,3.085,34.9393,2,34.9399,2,267.9,2,268.1,2,17.34,2,17.23,2,1.116,2,2311.7,2,7.7298,2,25,-999,9,-999,9
29AH20160617, OVIDE/BOCATS,45,1,9,20160705,436,51.7705,-23.7849,3850,2498.6,2,3.2302,34.9301,2,34.9304,2,270.7,2,270.8,2,14.61,2,16.98,2,1.1,2,2308.8,2,7.7287,2,25,1.2522,2,0.5813,2
29AH20160617, OVIDE/BOCATS,45,1,10,20160705,436,51.7705,-23.7849,3850,2249.5,2,3.4309,34.9252,2,34.9264,2,272,2,272.7,2,12.49,2,16.81,2,1.092,2,2305.9,2,7.7244,2,25,-999,9,-999,9
29AH20160617, OVIDE/BOCATS,45,1,11,20160705,436,51.7705,-23.7849,3850,2000.9,2,3.6135,34.923,2,34.9233,2,270.9,2,270.7,2,12,2,17.05,2,1.096,2,2302.5,2,7.7226,2,25,-999,9,-999,9
29AH20160617, OVIDE/BOCATS,45,1,12,20160705,436,51.7705,-23.7849,3850,1800.9,2,3.7735,34.9233,2,34.9238,2,270,2,-999,9,11.45,2,17.18,2,1.099,2,2303.1,2,7.7211,2,25,-999,9,-999,9
29AH20160617, OVIDE/BOCATS,45,1,13,20160705,436,51.7705,-23.7849,3850,1599.4,2,3.9376,34.9241,2,34.925,2,270.8,2,270.9,2,10.87,2,17.15,2,1.1,2,2302.8,2,7.7163,2,25,1.8339,2,1.0516,2
29AH20160617, OVIDE/BOCATS,45,1,14,20160705,436,51.7705,-23.7849,3850,1599.1,2,3.9375,34.9241,2,34.9249,2,270.3,2,270,2,10.81,2,17.11,2,1.088,2,-999,9,-999.0,9,25,1.8281,2,1.1461,2
29AH20160617, OVIDE/BOCATS,45,1,15,20160705,436,51.7705,-23.7849,3850,1400.1,2,4.09,34.9252,2,34.9214,4,271.5,2,271.3,2,10.15,2,17.02,2,1.087,2,2302.8,2,7.7144,2,25,1.9656,2,1.3489,2
29AH20160617, OVIDE/BOCATS,45,1,16,20160705,436,51.7705,-23.7849,3850,1200.2,2,4.5488,34.9644,2,34.9653,2,261.3,2,260.9,2,10.16,2,17.32,2,1.103,2,2308.2,2,7.712,2,25,-999,9,-999,9
29AH20160617, OVIDE/BOCATS,45,1,17,20160705,436,51.7705,-23.7849,3850,1000.6,2,5.284,35.0293,2,35.0308,2,246.9,2,247.8,2,10.56,2,17.77,2,1.147,2,2310.8,2,7.7086,2,25,1.7294,2,1.1828,2
29AH20160617, OVIDE/BOCATS,45,1,18,20160705,436,51.7705,-23.7849,3850,899.5,2,5.6932,35.0437,2,35.047,4,238.5,2,236.7,2,10.65,2,17.99,2,1.147,2,2311.9,2,7.7062,2,25,-999,9,-999,9
29AH20160617, OVIDE/BOCATS,45,1,19,20160705,436,51.7705,-23.7849,3850,800,2,6.5028,35.0986,2,35.0982,2,222.6,2,223,2,10.78,2,18.27,2,1.166,2,2313.3,2,7.7088,2,25,1.5324,2,1.2267,2
29AH20160617, OVIDE/BOCATS,45,1,20,20160705,436,51.7705,-23.7849,3850,700.8,2,7.2264,35.1016,2,35.1022,2,214.6,2,213,2,10.47,2,18.43,2,1.163,2,2313.8,2,7.7124,2,25,-999,9,-999,9
29AH20160617, OVIDE/BOCATS,45,1,21,20160705,436,51.7705,-23.7849,3850,599.9,2,7.8399,35.0813,2,35.0817,2,214.6,2,214.9,2,9.58,2,17.46,2,1.11,2,2311.9,2,7.7214,2,25,-999,9,-999,9
29AH20160617, OVIDE/BOCATS,45,1,22,20160705,436,51.7705,-23.7849,3850,498.4,2,8.6263,35.1109,2,35.1098,2,240.3,2,240.8,2,7.35,2,14.64,2,0.928,2,2312.1,2,7.7603,2,25,-999,9,-999,9
29AH20160617, OVIDE/BOCATS,45,1,23,20160705,436,51.7705,-23.7849,3850,470.4,2,8.5579,35.0678,2,35.0694,2,250.8,2,250.4,2,6.84,2,13.87,2,0.881,2,-999,9,7.7641,2,25,1.8161,2,2.0476,2
29AH20160617, OVIDE/BOCATS,45,1,24,20160705,436,51.7705,-23.7849,3850,400.2,2,9.3138,35.1794,2,35.1802,2,255.2,2,255,2,5.69,2,12.42,2,0.784,2,2316.3,2,7.7895,2,25,-999,9,-999,9
29AH20160617, OVIDE/BOCATS,45,1,25,20160705,436,51.7705,-23.7849,3850,300.1,2,9.7476,35.2148,2,35.2134,2,265.2,2,265.1,2,4.79,2,10.99,2,0.694,2,-999,9,7.8082,2,25,-999,9,-999,9
29AH20160617, OVIDE/BOCATS,45,1,26,20160705,436,51.7705,-23.7849,3850,198.9,2,9.6843,35.1973,2,35.1963,2,264.7,2,264.4,2,4.84,2,11.08,2,0.706,2,2316.6,2,7.8071,2,25,1.808,2,1.7668,2
29AH20160617, OVIDE/BOCATS,45,1,27,20160705,436,51.7705,-23.7849,3850,149.8,2,9.6367,35.182,2,35.1815,2,262.9,2,263.4,2,4.91,2,11.38,2,0.71,2,-999,9,7.8037,2,25,-999,9,-999,9
29AH20160617, OVIDE/BOCATS,45,1,28,20160705,436,51.7705,-23.7849,3850,100.1,2,10.0268,35.2034,2,35.2031,2,265.1,2,265.8,2,2.88,2,8.67,2,0.622,2,2318.9,2,7.8286,2,25,-999,9,-999,9
29AH20160617, OVIDE/BOCATS,45,1,29,20160705,436,51.7705,-23.7849,3850,48.3,2,10.6231,35.1908,2,35.1923,2,263.7,2,263.7,2,0.44,2,5.96,2,0.521,2,-999,9,7.8456,2,25,-999,9,-999,9
29AH20160617, OVIDE/BOCATS,45,1,30,20160705,436,51.7705,-23.7849,3850,3.6,2,13.3293,35.1883,2,35.19,2,267.2,2,268.2,2,0.16,2,1.84,2,0.167,2,2321.6,2,7.9448,2,25,1.6816,2,2.1875,2
29AH20160617, OVIDE/BOCATS,46,1,3,20160705,1203,52.148,-24.0734,3907,3963.9,2,2.5895,34.9144,2,34.9143,2,243,2,243,2,41.97,2,21.49,2,1.409,2,-999,9,7.7329,2,25,-999,9,-999,9
29AH20160617, OVIDE/BOCATS,46,1,4,20160705,1203,52.148,-24.0734,3907,3748.6,2,2.6521,34.9235,2,34.923,2,247,2,246.6,2,37.51,2,20.5,2,1.355,2,-999,9,7.731,2,25,-999,9,-999,9
29AH20160617, OVIDE/BOCATS,46,1,5,20160705,1203,52.148,-24.0734,3907,3497.6,2,2.7871,34.94,2,34.9403,2,257.4,2,257.5,2,27.91,2,18.76,2,1.225,2,-999,9,7.7267,2,25,-999,9,-999,9
29AH20160617, OVIDE/BOCATS,46,1,6,20160705,1203,52.148,-24.0734,3907,3247,2,2.867,34.9496,2,34.9496,2,263.4,2,263.2,2,22.35,2,17.58,2,1.155,2,-999,9,7.7248,2,25,-999,9,-999,9
29AH20160617, OVIDE/BOCATS,46,1,7,20160705,1203,52.148,-24.0734,3907,2997.3,2,2.9587,34.9482,2,34.9486,2,266.7,2,267.2,2,19.27,2,17.25,2,1.125,2,-999,9,7.7272,2,25,-999,9,-999,9
29AH20160617, OVIDE/BOCATS,46,1,8,20160705,1203,52.148,-24.0734,3907,2748.4,2,3.0911,34.9427,2,34.9429,2,270.1,2,270.2,2,15.71,2,16.82,2,1.124,2,-999,9,7.7277,2,25,-999,9,-999,9
29AH20160617, OVIDE/BOCATS,46,1,9,20160705,1203,52.148,-24.0734,3907,2500.4,2,3.217,34.9346,2,34.9349,2,272.8,2,272.6,2,13.33,2,16.74,2,1.077,2,-999,9,7.7283,2,25,-999,9,-999,9
29AH20160617, OVIDE/BOCATS,46,1,10,20160705,1203,52.148,-24.0734,3907,2248.8,2,3.3525,34.9268,2,34.9263,2,272.6,2,272.5,2,12.76,2,16.86,2,1.096,2,-999,9,7.7251,2,25,-999,9,-999,9
29AH20160617, OVIDE/BOCATS,46,1,11,20160705,1203,52.148,-24.0734,3907,1999.2,2,3.5294,34.926,2,34.9264,2,271.3,2,271.2,2,12.06,2,16.97,2,1.093,2,-999,9,7.7238,2,25,-999,9,-999,9
29AH20160617, OVIDE/BOCATS,46,1,12,20160705,1203,52.148,-24.0734,3907,1801.2,2,3.6793,34.926,2,34.9263,2,270.6,2,270.8,2,11.54,2,17.02,2,1.09,2,-999,9,7.7223,2,25,-999,9,-999,9
29AH20160617, OVIDE/BOCATS,46,1,13,20160705,1203,52.148,-24.0734,3907,1602.5,2,3.8106,34.9216,2,34.9215,2,270.5,2,270.2,2,11.26,2,17.11,2,1.109,2,-999,9,7.7181,2,25,-999,9,-999,9
29AH20160617, OVIDE/BOCATS,46,1,14,20160705,1203,52.148,-24.0734,3907,1400.2,2,3.9181,34.9157,2,34.9168,2,273.3,2,272.4,2,10.44,2,16.97,2,1.107,2,-999,9,7.716,2,25,-999,9,-999,9
29AH20160617, OVIDE/BOCATS,46,1,15,20160705,1203,52.148,-24.0734,3907,1189.2,2,4.178,34.9326,2,34.9346,2,269.5,2,269.1,2,10.26,2,17.15,2,1.105,2,-999,9,7.7121,2,25,-999,9,-999,9
29AH20160617, OVIDE/BOCATS,46,1,16,20160705,1203,52.148,-24.0734,3907,1000.1,2,4.5281,34.9606,2,34.9614,2,261.3,2,260.8,2,10.26,2,17.31,2,1.11,2,-999,9,7.7071,2,25,-999,9,-999,9
29AH20160617, OVIDE/BOCATS,46,1,17,20160705,1203,52.148,-24.0734,3907,900.5,2,4.8381,34.9835,2,34.9847,2,256.4,2,255.2,2,10.33,2,17.58,2,1.131,2,-999,9,7.7066,2,25,-999,9,-999,9
29AH20160617, OVIDE/BOCATS,46,1,18,20160705,1203,52.148,-24.0734,3907,800.7,2,4.9867,34.9637,2,34.9592,4,252.2,2,252.8,2,10.27,2,17.51,2,1.128,2,-999,9,7.7023,2,25,-999,9,-999,9
29AH20160617, OVIDE/BOCATS,46,1,19,20160705,1203,52.148,-24.0734,3907,701.2,2,5.4679,34.9853,2,34.9857,2,241,2,240.4,2,10.67,2,17.99,2,1.157,2,-999,9,7.6986,2,25,-999,9,-999,9
29AH20160617, OVIDE/BOCATS,46,1,20,20160705,1203,52.148,-24.0734,3907,601.4,2,5.2793,34.8498,2,34.8491,2,250,2,250.3,2,10.15,2,17.38,2,1.13,2,-999,9,7.6981,2,25,-999,9,-999,9
29AH20160617, OVIDE/BOCATS,46,1,21,20160705,1203,52.148,-24.0734,3907,501.6,2,6.9114,34.9845,2,34.9728,4,221.5,2,220.9,2,10.5,2,18.19,2,1.171,2,-999,9,7.7058,2,25,-999,9,-999,9
29AH20160617, OVIDE/BOCATS,46,1,22,20160705,1203,52.148,-24.0734,3907,400.3,2,7.9151,35.0147,2,35.0232,4,224.6,2,226.2,2,9.14,2,16.87,2,1.081,2,-999,9,7.7289,2,25,-999,9,-999,9
29AH20160617, OVIDE/BOCATS,46,1,23,20160705,1203,52.148,-24.0734,3907,300.2,2,8.4921,35.0207,2,35.0186,2,246.6,2,246.4,2,7.41,2,14.56,2,0.931,2,-999,9,7.7584,2,25,-999,9,-999,9
29AH20160617, OVIDE/BOCATS,46,1,24,20160705,1203,52.148,-24.0734,3907,201.4,2,9.2318,35.1121,2,35.1025,4,257.1,2,255.7,2,6.07,2,12.94,2,0.815,2,-999,9,7.7865,2,25,-999,9,-999,9
29AH20160617, OVIDE/BOCATS,46,1,25,20160705,1203,52.148,-24.0734,3907,149.6,2,9.6099,35.166,2,35.155,4,260.1,2,258.7,2,5.39,2,12.08,2,0.762,2,-999,9,7.7947,2,25,-999,9,-999,9
29AH20160617, OVIDE/BOCATS,46,1,26,20160705,1203,52.148,-24.0734,3907,98.4,2,10.3398,35.2509,2,35.2339,4,257.9,2,270.3,4,3.76,2,11.15,2,0.712,2,-999,9,7.8143,2,25,-999,9,-999,9
29AH20160617, OVIDE/BOCATS,46,1,27,20160705,1203,52.148,-24.0734,3907,52,2,11.2262,35.2955,2,35.3143,4,260.2,2,258.4,2,2,2,8.16,2,0.582,2,-999,9,7.8472,2,25,-999,9,-999,9
29AH20160617, OVIDE/BOCATS,46,1,28,20160705,1203,52.148,-24.0734,3907,5.4,2,12.8404,35.0621,2,35.0624,2,264.8,2,264.9,2,0.83,2,3.46,2,0.301,2,-999,9,7.9108,2,25,-999,9,-999,9
29AH20160617, OVIDE/BOCATS,47,1,3,20160705,1800,52.5189,-24.3585,3597,3647.4,2,2.5119,34.9101,2,34.9096,2,241,2,240.1,2,44.43,2,21.75,2,1.442,2,2350.3,2,7.7288,2,25,0.1099,2,-999,9
29AH20160617, OVIDE/BOCATS,47,1,4,20160705,1800,52.5189,-24.3585,3597,3498.4,2,2.5818,34.9189,2,34.9185,2,245.1,2,244.6,2,40.09,2,20.88,2,1.386,2,2344.9,2,7.728,2,25,-999,9,-999,9
29AH20160617, OVIDE/BOCATS,47,1,5,20160705,1800,52.5189,-24.3585,3597,3250.6,2,2.7332,34.9366,2,34.9357,2,254.9,2,254.8,2,31,2,19.16,2,1.257,2,2331.2,2,7.7226,2,25,-999,9,-999,9
29AH20160617, OVIDE/BOCATS,47,1,6,20160705,1800,52.5189,-24.3585,3597,2999.1,2,2.8487,34.9451,2,34.9441,2,261.4,2,261.9,2,24.6,2,18.17,2,1.186,2,2323.6,2,7.7233,2,25,-999,9,-999,9
29AH20160617, OVIDE/BOCATS,47,1,7,20160705,1800,52.5189,-24.3585,3597,2749,2,3.0095,34.9485,2,34.9494,2,269,2,270.1,2,17.78,2,17.01,2,1.105,2,2314,2,7.7252,2,25,-999,9,-999,9
29AH20160617, OVIDE/BOCATS,47,1,8,20160705,1800,52.5189,-24.3585,3597,2500,2,3.1362,34.9383,2,34.9359,2,271.4,2,271.8,2,15.26,2,16.95,2,1.089,2,2310.9,2,7.7269,2,25,1.2949,2,0.6918,2
29AH20160617, OVIDE/BOCATS,47,1,9,20160705,1800,52.5189,-24.3585,3597,2249.5,2,3.2604,34.9292,2,34.9297,2,272.6,2,274.1,2,14.01,2,16.89,2,1.088,2,2308,2,7.7278,2,25,-999,9,-999,9
29AH20160617, OVIDE/BOCATS,47,1,10,20160705,1800,52.5189,-24.3585,3597,1999.8,2,3.4124,34.9239,2,34.9238,2,271.9,2,272.1,2,13.76,2,17.19,2,1.099,2,2305.3,2,7.7259,2,25,-999,9,-999,9
29AH20160617, OVIDE/BOCATS,47,1,11,20160705,1800,52.5189,-24.3585,3597,1798.7,2,3.5473,34.9227,2,34.9202,2,271,2,271.1,2,13.35,2,17.41,2,1.103,2,2306.9,2,7.7239,2,25,-999,9,-999,9
29AH20160617, OVIDE/BOCATS,47,1,12,20160705,1800,52.5189,-24.3585,3597,1599.3,2,3.7131,34.9236,2,34.925,2,270.3,2,270.2,2,12.85,2,17.55,2,1.103,2,2308.2,2,7.718,2,25,-999,9,-999,9
29AH20160617, OVIDE/BOCATS,47,1,13,20160705,1800,52.5189,-24.3585,3597,1399.6,2,3.8623,34.9235,2,34.9257,2,270.6,2,270,2,12.09,2,17.35,2,1.105,2,2308,2,7.7146,2,25,1.7856,2,0.9975,2
29AH20160617, OVIDE/BOCATS,47,1,14,20160705,1800,52.5189,-24.3585,3597,1199.8,2,4.0166,34.9269,2,34.9267,2,270.6,2,270.2,2,11.54,2,17.36,2,1.091,2,2306.7,2,7.7135,2,25,-999,9,-999,9
29AH20160617, OVIDE/BOCATS,47,1,15,20160705,1800,52.5189,-24.3585,3597,999.6,2,4.3482,34.954,2,34.9551,2,265.5,2,264.9,2,11.31,2,17.55,2,1.099,2,-999,9,-999.0,9,25,1.9081,2,1.426,2
29AH20160617, OVIDE/BOCATS,47,1,16,20160705,1800,52.5189,-24.3585,3597,999.4,2,4.3485,34.9542,2,34.955,2,265.5,2,264.6,2,11.34,2,17.62,2,1.102,2,2308.3,2,7.7107,2,25,1.9319,2,1.6261,2
29AH20160617, OVIDE/BOCATS,47,1,17,20160705,1800,52.5189,-24.3585,3597,898.8,2,4.556,34.9709,2,34.973,2,262.1,2,261.6,2,11.31,2,17.7,2,1.109,2,2307.9,2,7.7094,2,25,-999,9,-999,9
29AH20160617, OVIDE/BOCATS,47,1,18,20160705,1800,52.5189,-24.3585,3597,800.9,2,4.8971,35.0022,2,35.0028,2,253.8,2,253,2,11.44,2,17.85,2,1.122,2,2309,2,7.7071,2,25,1.8217,2,-999,9
29AH20160617, OVIDE/BOCATS,47,1,19,20160705,1800,52.5189,-24.3585,3597,698.8,2,5.0757,35.0012,2,35.0011,2,250.8,2,248.7,2,11.33,2,17.93,2,1.128,2,2308.7,2,7.7037,2,25,-999,9,-999,9
29AH20160617, OVIDE/BOCATS,47,1,20,20160705,1800,52.5189,-24.3585,3597,599.5,2,5.7578,35.0687,2,35.0675,2,236.3,2,235,2,11.67,2,18.26,2,1.143,2,2314,2,7.7045,2,25,1.6562,2,1.5197,2
29AH20160617, OVIDE/BOCATS,47,1,21,20160705,1800,52.5189,-24.3585,3597,498.4,2,5.3839,34.9219,2,34.922,2,241.9,2,241.1,2,11.32,2,18.05,2,1.156,2,2305.4,2,7.6927,2,25,-999,9,-999,9
29AH20160617, OVIDE/BOCATS,47,1,22,20160705,1800,52.5189,-24.3585,3597,447.2,2,5.5187,34.883,2,34.8817,2,240.4,2,239.8,2,11.21,2,18.08,2,1.159,2,2305.6,2,7.6955,2,25,1.789,2,1.8305,2
29AH20160617, OVIDE/BOCATS,47,1,23,20160705,1800,52.5189,-24.3585,3597,350.1,2,6.3902,34.8965,2,34.8971,2,226.2,2,225.9,2,11.39,2,18.29,2,1.167,2,-999,9,7.6971,2,25,-999,9,-999,9
29AH20160617, OVIDE/BOCATS,47,1,24,20160705,1800,52.5189,-24.3585,3597,278.9,2,6.7936,34.8694,2,34.8698,2,247,2,245.1,2,9.85,2,16.63,2,1.07,2,-999,9,7.7205,2,25,1.8204,2,2.0456,2
29AH20160617, OVIDE/BOCATS,47,1,25,20160705,1800,52.5189,-24.3585,3597,198.4,2,7.4613,34.9094,2,34.9101,2,256.6,2,254.9,2,8.76,2,15.47,2,0.992,2,2305.8,2,7.742,2,25,-999,9,-999,9
29AH20160617, OVIDE/BOCATS,47,1,26,20160705,1800,52.5189,-24.3585,3597,149,2,7.9222,34.9459,2,34.9435,2,255.3,2,253.5,2,8.01,2,14.71,2,0.942,2,-999,9,7.7523,2,25,-999,9,-999,9
29AH20160617, OVIDE/BOCATS,47,1,27,20160705,1800,52.5189,-24.3585,3597,100.6,2,8.7125,35.0158,2,35.0137,2,265.2,2,264.9,2,5.41,2,12.43,2,0.803,2,2313.7,2,7.7884,2,25,-999,9,-999,9
29AH20160617, OVIDE/BOCATS,47,1,28,20160705,1800,52.5189,-24.3585,3597,49.4,2,10.0548,35.0352,2,35.033,2,272.3,2,272.4,2,3.33,2,7.78,2,0.619,2,-999,9,7.8408,2,25,-999,9,-999,9
29AH20160617, OVIDE/BOCATS,47,1,29,20160705,1800,52.5189,-24.3585,3597,5.2,2,12.4689,35.032,2,35.0336,2,270.2,2,270.5,2,1.12,2,4.67,2,0.338,2,2315.5,2,7.9038,2,25,1.7338,2,2.2579,2
29AH20160617, OVIDE/BOCATS,48,1,3,20160706,132,52.8895,-24.6591,3613,3663.7,2,2.6618,34.9265,2,34.9267,2,248.5,2,250,2,37.31,2,20.22,2,1.323,2,-999,9,7.7318,2,25,-999,9,-999,9
29AH20160617, OVIDE/BOCATS,48,1,4,20160706,132,52.8895,-24.6591,3613,3500,2,2.748,34.9373,2,34.9363,2,255.7,2,255.6,2,30.88,2,19.11,2,1.256,2,-999,9,7.728,2,25,-999,9,-999,9
29AH20160617, OVIDE/BOCATS,48,1,5,20160706,132,52.8895,-24.6591,3613,3247.6,2,2.8743,34.948,2,34.9478,2,262.9,2,263,2,23.54,2,17.86,2,1.157,2,-999,9,7.7279,2,25,-999,9,-999,9
29AH20160617, OVIDE/BOCATS,48,1,6,20160706,132,52.8895,-24.6591,3613,2999.5,2,2.9986,34.9489,2,34.9486,2,267.3,2,267.5,2,18.72,2,17.17,2,1.112,2,-999,9,7.7279,2,25,-999,9,-999,9
29AH20160617, OVIDE/BOCATS,48,1,7,20160706,132,52.8895,-24.6591,3613,2749,2,3.1291,34.9407,2,34.9409,2,271,2,271.1,2,15.58,2,16.77,2,1.097,2,-999,9,7.7274,2,25,-999,9,-999,9
29AH20160617, OVIDE/BOCATS,48,1,8,20160706,132,52.8895,-24.6591,3613,2499.4,2,3.2496,34.932,2,34.9317,2,272.4,2,272.9,2,13.86,2,16.79,2,1.083,2,-999,9,7.728,2,25,-999,9,-999,9
29AH20160617, OVIDE/BOCATS,48,1,9,20160706,132,52.8895,-24.6591,3613,2249.1,2,3.3803,34.9254,2,34.9254,2,271.8,2,272,2,13.17,2,16.96,2,1.09,2,-999,9,7.7267,2,25,-999,9,-999,9
29AH20160617, OVIDE/BOCATS,48,1,10,20160706,132,52.8895,-24.6591,3613,1997.4,2,3.5606,34.9236,2,34.9237,2,271.6,2,271.6,2,12.42,2,17.06,2,1.093,2,-999,9,7.7227,2,25,-999,9,-999,9
29AH20160617, OVIDE/BOCATS,48,1,11,20160706,132,52.8895,-24.6591,3613,1798.7,2,3.6983,34.9237,2,34.9241,2,270.6,2,270.7,2,11.88,2,17.13,2,1.099,2,-999,9,7.7218,2,25,-999,9,-999,9
29AH20160617, OVIDE/BOCATS,48,1,12,20160706,132,52.8895,-24.6591,3613,1601.3,2,3.8231,34.92,2,34.9211,2,271.4,2,271.5,2,11.28,2,17.1,2,1.093,2,-999,9,7.718,2,25,-999,9,-999,9
29AH20160617, OVIDE/BOCATS,48,1,13,20160706,132,52.8895,-24.6591,3613,1398.5,2,3.8914,34.9113,2,34.911,2,275.3,2,274.9,2,10.59,2,16.97,2,1.08,2,-999,9,7.7145,2,25,-999,9,-999,9
29AH20160617, OVIDE/BOCATS,48,1,14,20160706,132,52.8895,-24.6591,3613,1201.3,2,4.0259,34.9133,2,34.9128,2,274.9,2,274.2,2,10.38,2,16.92,2,1.078,2,-999,9,7.7129,2,25,-999,9,-999,9
29AH20160617, OVIDE/BOCATS,48,1,15,20160706,132,52.8895,-24.6591,3613,998.9,2,4.279,34.9285,2,34.93,2,268.7,2,268.3,2,10.48,2,17.19,2,1.09,2,-999,9,7.7084,2,25,-999,9,-999,9
29AH20160617, OVIDE/BOCATS,48,1,16,20160706,132,52.8895,-24.6591,3613,891.1,2,4.4565,34.9343,2,34.9349,2,263.7,2,264,2,10.21,2,17.25,2,1.096,2,-999,9,7.7058,2,25,-999,9,-999,9
29AH20160617, OVIDE/BOCATS,48,1,17,20160706,132,52.8895,-24.6591,3613,802.3,2,4.7235,34.9499,2,34.9513,2,257.9,2,257.9,2,10.31,2,17.46,2,1.112,2,-999,9,7.7001,2,25,-999,9,-999,9
29AH20160617, OVIDE/BOCATS,48,1,18,20160706,132,52.8895,-24.6591,3613,699.6,2,5.0834,34.9555,2,34.9561,2,250.9,2,249,2,10.38,2,17.73,2,1.135,2,-999,9,7.7024,2,25,-999,9,-999,9
29AH20160617, OVIDE/BOCATS,48,1,19,20160706,132,52.8895,-24.6591,3613,599.8,2,5.5103,34.931,2,34.9318,2,240.1,2,238.2,2,10.75,2,17.99,2,1.163,2,-999,9,7.6969,2,25,-999,9,-999,9
29AH20160617, OVIDE/BOCATS,48,1,20,20160706,132,52.8895,-24.6591,3613,476.8,2,6.3071,34.9007,2,34.8994,2,230.7,2,233.1,2,10.18,2,17.63,2,1.135,2,-999,9,7.702,2,25,-999,9,-999,9
29AH20160617, OVIDE/BOCATS,48,1,21,20160706,132,52.8895,-24.6591,3613,400.8,2,7.1628,34.9574,2,34.9578,2,233.9,2,232.9,2,9.12,2,16.72,2,1.082,2,-999,9,7.7211,2,25,-999,9,-999,9
29AH20160617, OVIDE/BOCATS,48,1,22,20160706,132,52.8895,-24.6591,3613,294.4,2,7.815,34.9488,2,34.948,2,258.9,2,257.8,2,7.3,2,14.12,2,0.928,2,-999,9,7.7537,2,25,-999,9,-999,9
29AH20160617, OVIDE/BOCATS,48,1,23,20160706,132,52.8895,-24.6591,3613,200.4,2,8.4363,35.008,2,35.0086,2,267,2,266.6,2,5.98,2,12.59,2,0.821,2,-999,9,7.7776,2,25,-999,9,-999,9
29AH20160617, OVIDE/BOCATS,48,1,24,20160706,132,52.8895,-24.6591,3613,151.2,2,9.0699,35.0877,2,35.0934,4,265.1,2,264.9,2,5.02,2,12.09,2,0.778,2,-999,9,7.7984,2,25,-999,9,-999,9
29AH20160617, OVIDE/BOCATS,48,1,25,20160706,132,52.8895,-24.6591,3613,101,2,9.6642,35.1612,2,35.1603,2,258.6,2,258.2,2,4.84,2,11.81,2,0.761,2,-999,9,7.8025,2,25,-999,9,-999,9
29AH20160617, OVIDE/BOCATS,48,1,26,20160706,132,52.8895,-24.6591,3613,50.5,2,10.4328,35.2641,2,35.2639,2,263.1,2,270.8,4,2.65,2,9.8,2,0.666,2,-999,9,7.8297,2,25,-999,9,-999,9
29AH20160617, OVIDE/BOCATS,48,1,27,20160706,132,52.8895,-24.6591,3613,4.5,2,11.8619,35.0184,2,35.0179,2,275.5,2,275.7,2,1.38,2,4.88,2,0.356,2,-999,9,7.9004,2,25,-999,9,-999,9