BOTTLE,20230706CCHSIOENA
EXPOCODE,SECT_ID,STNNBR,CASTNO,SAMPNO,DATE,TIME,LATITUDE,LONGITUDE,DEPTH,CTDPRS,CTDPRS_FLAG_W,CTDTMP,CTDSAL,CTDSAL_FLAG_W,SALNTY,SALNTY_FLAG_W,CTDOXY,CTDOXY_FLAG_W,OXYGEN,OXYGEN_FLAG_W,SILCAT,SILCAT_FLAG_W,NITRAT,NITRAT_FLAG_W,PHSPHT,PHSPHT_FLAG_W,ALKALI,ALKALI_FLAG_W,PH_SWS,PH_SWS_FLAG_W,PH_TMP,CFC-12,CFC-12_FLAG_W,SF6,SF6_FLAG_W
,,,,,,,,,METERS,DBAR,,DEG C,PSS-78,,PSS-78,,UMOL/KG,,UMOL/KG,,UMOL/KG,,UMOL/KG,,UMOL/KG,,UMOL/KG,,,,DEG C,PMOL/KG,,FMOL/KG,
29AH20160617, OVIDE/BOCATS,72,1,3,20160710,2221,59.1664,-34.4763,2519,2546.2,2,3.0808,34.9388,2,34.9392,2,275.7,2,276.6,2,13.51,2,16.26,2,1.051,2,-999,9,7.7245,2,25,-999,9,-999,9
29AH20160617, OVIDE/BOCATS,72,1,4,20160710,2221,59.1664,-34.4763,2519,2253,2,3.2198,34.9411,2,34.9412,2,274.7,2,273.8,2,12.6,2,16.28,2,1.047,2,-999,9,7.7252,2,25,-999,9,-999,9
29AH20160617, OVIDE/BOCATS,72,1,5,20160710,2221,59.1664,-34.4763,2519,1999.5,2,3.3738,34.939,2,34.9386,2,274.5,2,274.5,2,11.65,2,16.35,2,1.05,2,-999,9,7.7233,2,25,-999,9,-999,9
29AH20160617, OVIDE/BOCATS,72,1,6,20160710,2221,59.1664,-34.4763,2519,1599.3,2,3.6269,34.9329,2,34.9331,2,273.6,2,272.5,2,10.96,2,16.49,2,1.061,2,-999,9,7.7201,2,25,-999,9,-999,9
29AH20160617, OVIDE/BOCATS,72,1,7,20160710,2221,59.1664,-34.4763,2519,1556.2,2,3.7523,34.9491,2,34.9491,2,272.6,2,271.6,2,10.84,2,16.44,2,1.058,2,-999,9,7.7219,2,25,-999,9,-999,9
29AH20160617, OVIDE/BOCATS,72,1,8,20160710,2221,59.1664,-34.4763,2519,1399.4,2,3.7774,34.9392,2,34.9391,2,275.4,2,274.3,2,10.66,2,16.52,2,1.056,2,-999,9,7.7166,2,25,-999,9,-999,9
29AH20160617, OVIDE/BOCATS,72,1,9,20160710,2221,59.1664,-34.4763,2519,1149.1,2,3.5298,34.8838,2,34.8819,2,297.7,2,298.2,2,8.85,2,16.15,2,1.02,2,-999,9,7.7141,2,25,-999,9,-999,9
29AH20160617, OVIDE/BOCATS,72,1,10,20160710,2221,59.1664,-34.4763,2519,699.3,2,3.7335,34.904,2,34.9049,2,294.3,2,291.1,4,9.41,2,16.32,2,1.034,2,-999,9,7.7133,2,25,-999,9,-999,9
29AH20160617, OVIDE/BOCATS,72,1,11,20160710,2221,59.1664,-34.4763,2519,599.3,2,3.8145,34.9082,2,34.908,2,294.9,2,292.6,2,9.41,2,16.59,2,1.041,2,-999,9,7.7148,2,25,-999,9,-999,9
29AH20160617, OVIDE/BOCATS,72,1,12,20160710,2221,59.1664,-34.4763,2519,496.5,2,3.9234,34.9138,2,34.9145,2,292.9,2,291.3,2,9.29,2,16.55,2,1.043,2,-999,9,7.7215,2,25,-999,9,-999,9
29AH20160617, OVIDE/BOCATS,72,1,13,20160710,2221,59.1664,-34.4763,2519,400.7,2,4.079,34.9206,2,34.9203,2,287.3,2,285.2,2,9.7,2,16.79,2,1.054,2,-999,9,7.7163,2,25,-999,9,-999,9
29AH20160617, OVIDE/BOCATS,72,1,14,20160710,2221,59.1664,-34.4763,2519,299.9,2,4.4235,34.9437,2,34.9428,2,282.9,2,283.4,2,9.45,2,16.84,2,1.063,2,-999,9,7.7181,2,25,-999,9,-999,9
29AH20160617, OVIDE/BOCATS,72,1,15,20160710,2221,59.1664,-34.4763,2519,199.6,2,4.6187,34.9362,2,34.9359,2,286.5,2,284.6,2,9.25,2,16.65,2,1.049,2,-999,9,7.7168,2,25,-999,9,-999,9
29AH20160617, OVIDE/BOCATS,72,1,16,20160710,2221,59.1664,-34.4763,2519,148.9,2,4.7931,34.9341,2,34.9336,2,288.5,2,289.6,2,8.91,2,16.44,2,1.035,2,-999,9,7.7199,2,25,-999,9,-999,9
29AH20160617, OVIDE/BOCATS,72,1,17,20160710,2221,59.1664,-34.4763,2519,79.5,2,5.2762,34.9433,2,34.9432,2,289.4,2,288.9,2,8.34,2,15.95,2,0.998,2,-999,9,7.7296,2,25,-999,9,-999,9
29AH20160617, OVIDE/BOCATS,72,1,18,20160710,2221,59.1664,-34.4763,2519,40.8,2,7.3336,34.8508,2,34.855,4,294.4,2,293.9,2,3.01,2,10.33,2,0.726,2,-999,9,7.8001,2,25,-999,9,-999,9
29AH20160617, OVIDE/BOCATS,72,1,19,20160710,2221,59.1664,-34.4763,2519,4.5,2,9.0166,34.8188,2,34.8163,2,298.2,2,299.1,2,1.22,2,7.92,2,0.512,2,-999,9,7.8485,2,25,-999,9,-999,9
29AH20160617, OVIDE/BOCATS,73,1,3,20160711,224,59.2336,-35.114,2991,3026.1,2,2.4099,34.9176,2,34.9149,2,287,2,287.1,2,11.41,2,14.92,2,1.1,2,2306,2,7.7216,2,25,1.7603,2,1.2343,2
29AH20160617, OVIDE/BOCATS,73,1,4,20160711,224,59.2336,-35.114,2991,3025.7,2,2.4127,34.9173,2,34.9172,2,287.7,2,288,2,11.22,2,14.89,2,1.004,2,-999,9,7.7196,2,25,1.7484,2,1.0977,2
29AH20160617, OVIDE/BOCATS,73,1,5,20160711,224,59.2336,-35.114,2991,2901,2,2.9061,34.9346,2,34.932,2,277.1,2,276.4,2,13.61,2,16.1,2,1.057,2,2308,2,7.727,2,25,1.4661,2,0.9296,2
29AH20160617, OVIDE/BOCATS,73,1,6,20160711,224,59.2336,-35.114,2991,2749.8,2,2.9972,34.9375,2,34.9371,2,276,2,275.4,2,13.82,2,16.26,2,1.06,2,2307.3,2,7.7276,2,25,1.4205,2,0.7392,2
29AH20160617, OVIDE/BOCATS,73,1,7,20160711,224,59.2336,-35.114,2991,2498.4,2,3.0996,34.9421,2,34.9362,4,274.9,2,275,2,13.53,2,16.22,2,1.063,2,2308.3,2,7.7224,2,25,-999,9,-999,9
29AH20160617, OVIDE/BOCATS,73,1,8,20160711,224,59.2336,-35.114,2991,2196.2,2,3.2868,34.9475,2,34.9472,2,274,2,273.5,2,12.64,2,16.32,2,1.056,2,2309,2,7.7218,2,25,1.5384,2,1.06,2
29AH20160617, OVIDE/BOCATS,73,1,9,20160711,224,59.2336,-35.114,2991,2001.3,2,3.3916,34.9418,2,34.9397,2,274.7,2,274.5,2,11.89,2,16.38,2,1.059,2,2307.4,2,7.7213,2,25,-999,9,-999,9
29AH20160617, OVIDE/BOCATS,73,1,10,20160711,224,59.2336,-35.114,2991,1749.1,2,3.5908,34.9388,2,34.939,2,273.1,2,273.2,2,11.05,2,16.33,2,1.066,2,2306.2,2,7.7183,2,25,-999,9,-999,9
29AH20160617, OVIDE/BOCATS,73,1,11,20160711,224,59.2336,-35.114,2991,1620.7,2,3.7567,34.9546,2,34.9534,2,272.6,2,272.4,2,10.61,2,16.06,2,1.06,2,2307.3,2,7.7188,2,25,1.759,2,1.1798,2
29AH20160617, OVIDE/BOCATS,73,1,12,20160711,224,59.2336,-35.114,2991,1448.6,2,3.6695,34.9171,2,34.9163,2,281.7,2,282,2,9.59,2,15.91,2,1.07,2,2306.2,2,7.7142,2,25,-999,9,-999,9
29AH20160617, OVIDE/BOCATS,73,1,13,20160711,224,59.2336,-35.114,2991,1348.5,2,3.4825,34.8806,2,34.8798,2,295.7,2,295.9,2,8.49,2,15.52,2,1.059,2,2304.3,2,7.7137,2,25,2.2516,2,2.1212,2
29AH20160617, OVIDE/BOCATS,73,1,14,20160711,224,59.2336,-35.114,2991,997.7,2,3.5267,34.8828,2,34.8826,2,300.6,2,300.2,2,8.18,2,15.64,2,1.024,2,2304.5,2,7.7128,2,25,-999,9,-999,9
29AH20160617, OVIDE/BOCATS,73,1,15,20160711,224,59.2336,-35.114,2991,599.1,2,3.6704,34.894,2,34.8941,2,299.7,2,298.8,2,8.25,2,15.73,2,1.029,2,2303.2,2,7.712,2,25,2.345,2,2.4213,2
29AH20160617, OVIDE/BOCATS,73,1,16,20160711,224,59.2336,-35.114,2991,399.8,2,3.9687,34.9155,2,34.9148,2,291.3,2,291.4,2,8.38,2,15.82,2,1.043,2,2307,2,7.7089,2,25,-999,9,-999,9
29AH20160617, OVIDE/BOCATS,73,1,17,20160711,224,59.2336,-35.114,2991,199.5,2,4.4543,34.9273,2,34.9255,2,286.2,2,284.3,2,8.28,2,16.15,2,1.057,2,2308.2,2,7.7111,2,25,2.2335,2,2.3994,2
29AH20160617, OVIDE/BOCATS,73,1,18,20160711,224,59.2336,-35.114,2991,99.7,2,4.8293,34.9273,2,34.9256,2,287.5,2,287.5,2,8.09,2,15.97,2,1.032,2,2308.1,2,7.7142,2,25,-999,9,-999,9
29AH20160617, OVIDE/BOCATS,73,1,19,20160711,224,59.2336,-35.114,2991,29.4,2,7.3328,34.8644,2,34.8632,2,298.1,2,298.9,2,2.82,2,9.78,2,0.68,2,-999,9,7.8065,2,25,-999,9,-999,9
29AH20160617, OVIDE/BOCATS,73,1,20,20160711,224,59.2336,-35.114,2991,4.2,2,8.9749,34.846,2,34.8441,2,298.8,2,298.7,2,1.52,2,7.74,2,0.524,2,2308.4,2,7.8477,2,25,2.1045,2,2.5441,2
29AH20160617, OVIDE/BOCATS,74,1,3,20160711,631,59.2994,-35.7623,3100,3139.2,2,1.9933,34.907,2,34.9013,4,296.3,2,297.1,2,9.84,2,14.05,2,0.926,2,-999,9,7.7157,2,25,-999,9,-999,9
29AH20160617, OVIDE/BOCATS,74,1,4,20160711,631,59.2994,-35.7623,3100,2998.7,2,2.5279,34.9212,2,34.9204,2,283.2,2,283.1,2,12.67,2,15.28,2,1.004,2,-999,9,7.724,2,25,-999,9,-999,9
29AH20160617, OVIDE/BOCATS,74,1,5,20160711,631,59.2994,-35.7623,3100,2799.5,2,2.8242,34.9301,2,34.9289,2,279.1,2,279.1,2,12.98,2,15.74,2,1.033,2,-999,9,7.7275,2,25,-999,9,-999,9
29AH20160617, OVIDE/BOCATS,74,1,6,20160711,631,59.2994,-35.7623,3100,2498.9,2,3.0368,34.9346,2,34.9342,2,276.7,2,277.3,2,12.27,2,15.8,2,1.047,2,-999,9,7.73,2,25,-999,9,-999,9
29AH20160617, OVIDE/BOCATS,74,1,7,20160711,631,59.2994,-35.7623,3100,2249,2,3.2276,34.9418,2,34.9422,2,275.2,2,275.6,2,11.43,2,15.71,2,1.053,2,-999,9,7.726,2,25,-999,9,-999,9
29AH20160617, OVIDE/BOCATS,74,1,8,20160711,631,59.2994,-35.7623,3100,1997.6,2,3.3565,34.9351,2,34.9341,2,274.6,2,274.1,2,10.74,2,15.63,2,1.059,2,-999,9,7.7228,2,25,-999,9,-999,9
29AH20160617, OVIDE/BOCATS,74,1,9,20160711,631,59.2994,-35.7623,3100,1770.1,2,3.5207,34.938,2,34.9388,2,273.3,2,272.7,2,10.37,2,15.82,2,1.062,2,-999,9,7.7206,2,25,-999,9,-999,9
29AH20160617, OVIDE/BOCATS,74,1,10,20160711,631,59.2994,-35.7623,3100,1600.8,2,3.6608,34.9399,2,34.9398,2,274,2,273.9,2,10.16,2,15.85,2,1.065,2,-999,9,7.7222,2,25,-999,9,-999,9
29AH20160617, OVIDE/BOCATS,74,1,11,20160711,631,59.2994,-35.7623,3100,1399.6,2,3.6367,34.9152,2,34.9154,2,281,2,286.5,4,9.26,2,15.65,2,1.046,2,-999,9,7.717,2,25,-999,9,-999,9
29AH20160617, OVIDE/BOCATS,74,1,12,20160711,631,59.2994,-35.7623,3100,1201,2,3.4875,34.8804,2,34.8801,2,297.9,2,299.5,2,7.98,2,15.33,2,1.026,2,-999,9,7.718,2,25,-999,9,-999,9
29AH20160617, OVIDE/BOCATS,74,1,13,20160711,631,59.2994,-35.7623,3100,1041.9,2,3.5561,34.8887,2,34.889,2,296.6,2,296.4,2,7.87,2,15.36,2,1.025,2,-999,9,7.7153,2,25,-999,9,-999,9
29AH20160617, OVIDE/BOCATS,74,1,14,20160711,631,59.2994,-35.7623,3100,799.5,2,3.6189,34.894,2,34.894,2,296.5,2,296.4,2,8.09,2,15.4,2,1.033,2,-999,9,7.7166,2,25,-999,9,-999,9
29AH20160617, OVIDE/BOCATS,74,1,15,20160711,631,59.2994,-35.7623,3100,600.5,2,3.6577,34.8948,2,34.8954,2,298.2,2,298.3,2,8.2,2,15.59,2,1.038,2,-999,9,7.7171,2,25,-999,9,-999,9
29AH20160617, OVIDE/BOCATS,74,1,16,20160711,631,59.2994,-35.7623,3100,500.2,2,3.7323,34.8998,2,34.8996,2,297.6,2,297.8,2,8.92,2,15.9,2,1.042,2,-999,9,-999.0,9,25,-999,9,-999,9
29AH20160617, OVIDE/BOCATS,74,1,17,20160711,631,59.2994,-35.7623,3100,400.8,2,3.8071,34.9014,2,34.901,2,297.1,2,297.3,2,9.39,2,16.45,2,1.053,2,-999,9,-999.0,9,25,-999,9,-999,9
29AH20160617, OVIDE/BOCATS,74,1,18,20160711,631,59.2994,-35.7623,3100,302.2,2,3.965,34.9056,2,34.9046,2,295.3,2,295.2,2,9.46,2,16.73,2,1.047,2,-999,9,7.7143,2,25,-999,9,-999,9
29AH20160617, OVIDE/BOCATS,74,1,19,20160711,631,59.2994,-35.7623,3100,200.5,2,4.3388,34.9283,2,34.9253,4,286.4,2,286.7,2,9.51,2,16.75,2,1.06,2,-999,9,7.7139,2,25,-999,9,-999,9
29AH20160617, OVIDE/BOCATS,74,1,20,20160711,631,59.2994,-35.7623,3100,149,2,4.5542,34.9345,2,34.9342,2,288,2,287.4,2,9.12,2,16.58,2,1.059,2,-999,9,7.7153,2,25,-999,9,-999,9
29AH20160617, OVIDE/BOCATS,74,1,21,20160711,631,59.2994,-35.7623,3100,100.3,2,4.7609,34.9347,2,34.9336,2,288.9,2,289,2,8.9,2,16.27,2,1.037,2,-999,9,7.7217,2,25,-999,9,-999,9
29AH20160617, OVIDE/BOCATS,74,1,22,20160711,631,59.2994,-35.7623,3100,39.2,2,7.2508,34.8687,2,34.8738,4,296.4,2,296.6,2,3.5,2,10.2,2,0.721,2,-999,9,7.8034,2,25,-999,9,-999,9
29AH20160617, OVIDE/BOCATS,74,1,23,20160711,631,59.2994,-35.7623,3100,4.8,2,8.7003,34.8597,2,34.8576,2,297.7,2,298.7,2,2.09,2,8.7,2,0.579,2,-999,9,7.8437,2,25,-999,9,-999,9
29AH20160617, OVIDE/BOCATS,75,1,3,20160711,1048,59.3635,-36.398,3095,3134.5,2,1.5403,34.9017,2,34.9015,2,303.4,2,304.7,2,8.33,2,13.42,2,0.884,2,2301.6,2,7.7128,2,25,2.2432,2,2.1508,2
29AH20160617, OVIDE/BOCATS,75,1,4,20160711,1048,59.3635,-36.398,3095,3000.1,2,2.4079,34.9149,2,34.9134,2,287.9,2,288.2,2,11.01,2,14.93,2,0.97,2,2306.4,2,7.722,2,25,-999,9,-999,9
29AH20160617, OVIDE/BOCATS,75,1,5,20160711,1048,59.3635,-36.398,3095,2999.8,2,2.4087,34.9149,2,34.914,2,287.6,2,287.7,2,11.18,2,14.91,2,0.97,2,-999,9,-999.0,9,25,-999,9,-999,9
29AH20160617, OVIDE/BOCATS,75,1,6,20160711,1048,59.3635,-36.398,3095,2748.7,2,2.8517,34.9306,2,34.9307,2,278.9,2,283.4,4,13.11,2,15.72,2,1.032,2,2312.4,2,7.7262,2,25,1.4941,2,0.9379,2
29AH20160617, OVIDE/BOCATS,75,1,7,20160711,1048,59.3635,-36.398,3095,2500.5,2,3.0665,34.9346,2,34.9346,2,276.7,2,276.8,2,12.75,2,16.06,2,1.05,2,2309.3,2,7.7276,2,25,-999,9,-999,9
29AH20160617, OVIDE/BOCATS,75,1,8,20160711,1048,59.3635,-36.398,3095,2248,2,3.2432,34.9338,2,34.9312,2,275.4,2,275.4,2,11.96,2,16.2,2,1.05,2,2308.8,2,7.7281,2,25,-999,9,-999,9
29AH20160617, OVIDE/BOCATS,75,1,9,20160711,1048,59.3635,-36.398,3095,1999.2,2,3.4179,34.9331,2,34.9327,2,275.1,2,275.9,2,11.56,2,16.49,2,1.06,2,2306.6,2,7.727,2,25,1.5868,2,0.8826,2
29AH20160617, OVIDE/BOCATS,75,1,10,20160711,1048,59.3635,-36.398,3095,1697.6,2,3.7087,34.9422,2,34.9429,2,274,2,276.1,2,10.79,2,16.37,2,1.058,2,2308.3,2,7.7173,2,25,1.7527,2,1.2056,2
29AH20160617, OVIDE/BOCATS,75,1,11,20160711,1048,59.3635,-36.398,3095,1599.3,2,3.6547,34.9187,2,34.9178,2,279.2,2,279.2,2,10.03,2,16.18,2,1.055,2,-999,9,7.7198,2,25,-999,9,-999,9
29AH20160617, OVIDE/BOCATS,75,1,12,20160711,1048,59.3635,-36.398,3095,1467.5,2,3.4769,34.8797,2,34.8797,2,294.7,2,297.3,2,9,2,15.8,2,1.022,2,2301.2,2,7.7175,2,25,2.2498,2,2.1747,2
29AH20160617, OVIDE/BOCATS,75,1,13,20160711,1048,59.3635,-36.398,3095,1199.5,2,3.487,34.8784,2,34.8749,4,300.6,2,302.6,2,8.67,2,15.74,2,1.017,2,2302.2,2,7.7163,2,25,-999,9,-999,9
29AH20160617, OVIDE/BOCATS,75,1,14,20160711,1048,59.3635,-36.398,3095,798.8,2,3.5627,34.888,2,34.8886,2,301.4,2,301.5,2,8.44,2,15.89,2,1.015,2,2303.1,2,7.7202,2,25,2.3899,2,2.5837,2
29AH20160617, OVIDE/BOCATS,75,1,15,20160711,1048,59.3635,-36.398,3095,599.9,2,3.6033,34.8903,2,34.8913,2,300.1,2,299.6,2,8.6,2,15.91,2,1.026,2,-999,9,7.7167,2,25,-999,9,-999,9
29AH20160617, OVIDE/BOCATS,75,1,16,20160711,1048,59.3635,-36.398,3095,500.3,2,3.6758,34.8956,2,34.8953,2,301.1,2,302.7,2,8.69,2,15.99,2,1.024,2,2303.2,2,7.7168,2,25,-999,9,-999,9
29AH20160617, OVIDE/BOCATS,75,1,17,20160711,1048,59.3635,-36.398,3095,401.5,2,3.7613,34.901,2,34.9002,2,299.1,2,299,2,8.53,2,15.9,2,1.028,2,2303.7,2,7.7173,2,25,2.3574,2,2.4639,2
29AH20160617, OVIDE/BOCATS,75,1,18,20160711,1048,59.3635,-36.398,3095,299.7,2,3.9272,34.9107,2,34.9113,2,298.2,2,297.2,2,8.54,2,16.03,2,1.035,2,2304.2,2,7.7175,2,25,-999,9,-999,9
29AH20160617, OVIDE/BOCATS,75,1,19,20160711,1048,59.3635,-36.398,3095,199.9,2,4.2052,34.9254,2,34.9251,2,294.7,2,294.6,2,8.52,2,16.1,2,1.038,2,2305.7,2,7.7155,2,25,2.3217,2,2.4962,2
29AH20160617, OVIDE/BOCATS,75,1,20,20160711,1048,59.3635,-36.398,3095,148.8,2,4.3485,34.9268,2,34.9265,2,294.9,2,294.2,2,8.66,2,16.29,2,1.043,2,-999,9,7.7153,2,25,-999,9,-999,9
29AH20160617, OVIDE/BOCATS,75,1,21,20160711,1048,59.3635,-36.398,3095,99.8,2,4.565,34.9278,2,34.9279,2,291.9,2,291,2,8.63,2,16.29,2,1.042,2,2305.1,2,7.7165,2,25,-999,9,-999,9
29AH20160617, OVIDE/BOCATS,75,1,22,20160711,1048,59.3635,-36.398,3095,38.5,2,7.5385,34.8474,2,34.851,4,300,2,301.5,2,1.7,2,9.19,2,0.644,2,-999,9,7.8185,2,25,-999,9,-999,9
29AH20160617, OVIDE/BOCATS,75,1,23,20160711,1048,59.3635,-36.398,3095,3.8,2,8.5548,34.8427,2,34.8442,2,300.2,2,303.5,4,1.88,2,8.67,2,0.622,2,2306.2,2,7.824,2,25,-999,9,-999,9
29AH20160617, OVIDE/BOCATS,76,1,3,20160711,1518,59.4276,-37.0386,3117,3156.1,2,1.5083,34.9021,2,34.8997,2,303.6,2,303.6,2,7.9,2,13.01,2,0.875,2,-999,9,7.7094,2,25,-999,9,-999,9
29AH20160617, OVIDE/BOCATS,76,1,4,20160711,1518,59.4276,-37.0386,3117,2998.9,2,2.4476,34.9151,2,34.9119,4,287.5,2,287.6,2,10.57,2,14.47,2,0.97,2,-999,9,7.7185,2,25,-999,9,-999,9
29AH20160617, OVIDE/BOCATS,76,1,5,20160711,1518,59.4276,-37.0386,3117,2799.4,2,2.7777,34.9295,2,34.9286,2,279,2,278.2,2,12.55,2,15.32,2,1.031,2,-999,9,7.7247,2,25,-999,9,-999,9
29AH20160617, OVIDE/BOCATS,76,1,6,20160711,1518,59.4276,-37.0386,3117,2499.5,2,3.0307,34.9341,2,34.9322,2,276.1,2,276,2,12.4,2,15.89,2,1.044,2,-999,9,7.7247,2,25,-999,9,-999,9
29AH20160617, OVIDE/BOCATS,76,1,7,20160711,1518,59.4276,-37.0386,3117,2000.2,2,3.4162,34.9341,2,34.9327,2,274.1,2,274,2,11.14,2,16.29,2,1.056,2,-999,9,7.7204,2,25,-999,9,-999,9
29AH20160617, OVIDE/BOCATS,76,1,8,20160711,1518,59.4276,-37.0386,3117,1649.5,2,3.6657,34.9299,2,34.9303,2,274.5,2,274.4,2,10.56,2,16.35,2,1.063,2,-999,9,7.7165,2,25,-999,9,-999,9
29AH20160617, OVIDE/BOCATS,76,1,9,20160711,1518,59.4276,-37.0386,3117,1398.8,2,3.462,34.8765,2,34.8776,2,297.2,2,297.4,2,8.93,2,15.86,2,1.02,2,-999,9,7.7133,2,25,-999,9,-999,9
29AH20160617, OVIDE/BOCATS,76,1,10,20160711,1518,59.4276,-37.0386,3117,1199.6,2,3.4663,34.8762,2,34.8765,2,300.6,2,300.5,2,8.74,2,15.9,2,1.021,2,-999,9,7.712,2,25,-999,9,-999,9
29AH20160617, OVIDE/BOCATS,76,1,11,20160711,1518,59.4276,-37.0386,3117,998.4,2,3.5043,34.8811,2,34.8812,2,301.2,2,300.8,2,8.73,2,16.06,2,1.02,2,-999,9,7.716,2,25,-999,9,-999,9
29AH20160617, OVIDE/BOCATS,76,1,12,20160711,1518,59.4276,-37.0386,3117,799.6,2,3.5374,34.8843,2,34.8841,2,300.8,2,300.8,2,8.75,2,16.12,2,1.028,2,-999,9,7.7146,2,25,-999,9,-999,9
29AH20160617, OVIDE/BOCATS,76,1,13,20160711,1518,59.4276,-37.0386,3117,602.5,2,3.6235,34.8936,2,34.8935,2,300,2,299.5,2,8.79,2,16.08,2,1.028,2,-999,9,7.7132,2,25,-999,9,-999,9
29AH20160617, OVIDE/BOCATS,76,1,14,20160711,1518,59.4276,-37.0386,3117,499.7,2,3.6307,34.8907,2,34.8883,2,300.8,2,300.1,2,8.84,2,16.23,2,1.03,2,-999,9,7.7146,2,25,-999,9,-999,9
29AH20160617, OVIDE/BOCATS,76,1,15,20160711,1518,59.4276,-37.0386,3117,399.6,2,3.7205,34.8975,2,34.8919,4,300.8,2,300.6,2,8.77,2,16.36,2,1.031,2,-999,9,7.7144,2,25,-999,9,-999,9
29AH20160617, OVIDE/BOCATS,76,1,16,20160711,1518,59.4276,-37.0386,3117,199.9,2,4.1537,34.9153,2,34.9093,4,296.2,2,295.4,2,8.85,2,16.58,2,1.047,2,-999,9,7.7135,2,25,-999,9,-999,9
29AH20160617, OVIDE/BOCATS,76,1,17,20160711,1518,59.4276,-37.0386,3117,100.5,2,5.0824,34.9696,2,34.9703,2,285.3,2,284,2,8.53,2,16.31,2,1.029,2,-999,9,7.7261,2,25,-999,9,-999,9
29AH20160617, OVIDE/BOCATS,76,1,18,20160711,1518,59.4276,-37.0386,3117,30.5,2,7.3805,34.8623,2,34.8637,2,296.9,2,298,2,1.66,2,9.32,2,0.663,2,-999,9,7.8153,2,25,-999,9,-999,9
29AH20160617, OVIDE/BOCATS,76,1,19,20160711,1518,59.4276,-37.0386,3117,5.1,2,8.5065,34.8705,2,34.8712,2,305.7,2,304.9,2,1.97,2,7.61,2,0.526,2,-999,9,7.857,2,25,-999,9,-999,9