BOTTLE,20230706CCHSIOENA
EXPOCODE,SECT_ID,STNNBR,CASTNO,SAMPNO,DATE,TIME,LATITUDE,LONGITUDE,DEPTH,CTDPRS,CTDPRS_FLAG_W,CTDTMP,CTDSAL,CTDSAL_FLAG_W,SALNTY,SALNTY_FLAG_W,CTDOXY,CTDOXY_FLAG_W,OXYGEN,OXYGEN_FLAG_W,SILCAT,SILCAT_FLAG_W,NITRAT,NITRAT_FLAG_W,PHSPHT,PHSPHT_FLAG_W,ALKALI,ALKALI_FLAG_W,PH_SWS,PH_SWS_FLAG_W,PH_TMP,CFC-12,CFC-12_FLAG_W,SF6,SF6_FLAG_W
,,,,,,,,,METERS,DBAR,,DEG C,PSS-78,,PSS-78,,UMOL/KG,,UMOL/KG,,UMOL/KG,,UMOL/KG,,UMOL/KG,,UMOL/KG,,,,DEG C,PMOL/KG,,FMOL/KG,
29AH20160617, OVIDE/BOCATS,6,1,3,20160623,902,40.3343,-9.942,3395,3435.5,2,2.6118,34.9211,2,34.9213,2,244,2,243.2,2,40.46,2,21.57,2,1.479,2,-999,9,7.7435,2,25,-999,9,-999,9
29AH20160617, OVIDE/BOCATS,6,1,4,20160623,902,40.3343,-9.942,3395,3248.7,2,2.6845,34.9299,2,34.9309,2,244.5,2,243.7,2,38.68,2,21.29,2,1.45,2,-999,9,7.7442,2,25,-999,9,-999,9
29AH20160617, OVIDE/BOCATS,6,1,5,20160623,902,40.3343,-9.942,3395,2999.9,2,2.8034,34.9433,2,34.9447,2,245,2,244.5,2,35.99,2,20.93,2,1.432,2,-999,9,7.7431,2,25,-999,9,-999,9
29AH20160617, OVIDE/BOCATS,6,1,6,20160623,902,40.3343,-9.942,3395,2750.3,2,3.0519,34.9672,2,34.9681,2,246.6,2,246.4,2,31.2,2,20.44,2,1.381,2,-999,9,-999.0,9,25,-999,9,-999,9
29AH20160617, OVIDE/BOCATS,6,1,7,20160623,902,40.3343,-9.942,3395,2499.8,2,3.3692,34.9981,2,34.9995,2,247.9,2,248,2,26.74,2,19.62,2,1.324,2,-999,9,7.7443,2,25,-999,9,-999,9
29AH20160617, OVIDE/BOCATS,6,1,8,20160623,902,40.3343,-9.942,3395,2251,2,3.8047,35.0457,2,35.0468,2,248.5,2,248.6,2,22.26,2,18.99,2,1.283,2,-999,9,7.7434,2,25,-999,9,-999,9
29AH20160617, OVIDE/BOCATS,6,1,9,20160623,902,40.3343,-9.942,3395,2121.7,2,3.9437,35.0496,2,35.0514,2,250.9,2,251.1,2,19.5,2,18.74,2,1.251,2,-999,9,7.7389,2,25,-999,9,-999,9
29AH20160617, OVIDE/BOCATS,6,1,10,20160623,902,40.3343,-9.942,3395,1800.6,2,4.7249,35.1348,2,35.1357,2,247.1,2,247.3,2,14.69,2,17.82,2,1.193,2,-999,9,7.736,2,25,-999,9,-999,9
29AH20160617, OVIDE/BOCATS,6,1,11,20160623,902,40.3343,-9.942,3395,1600.2,2,6.7811,35.4859,2,35.4892,4,222.3,2,221.9,2,12.97,2,17.48,2,1.146,2,-999,9,7.7535,2,25,-999,9,-999,9
29AH20160617, OVIDE/BOCATS,6,1,12,20160623,902,40.3343,-9.942,3395,1399.9,2,9.2008,35.9056,2,35.9048,2,197.3,2,197.4,2,10.79,2,16.57,2,1.054,2,-999,9,7.7742,2,25,-999,9,-999,9
29AH20160617, OVIDE/BOCATS,6,1,13,20160623,902,40.3343,-9.942,3395,1200.7,2,10.7302,36.1533,2,36.152,2,183.4,2,182.5,2,9.62,2,15.8,2,0.997,2,-999,9,7.7882,2,25,-999,9,-999,9
29AH20160617, OVIDE/BOCATS,6,1,14,20160623,902,40.3343,-9.942,3395,1001.3,2,10.8686,36.0396,2,36.0376,2,181.5,2,180.4,2,9.15,2,15.95,2,1.01,2,-999,9,7.7843,2,25,-999,9,-999,9
29AH20160617, OVIDE/BOCATS,6,1,15,20160623,902,40.3343,-9.942,3395,900.2,2,11.4904,36.1207,2,36.1196,2,181,2,180.1,2,8.29,2,15.17,2,0.956,2,-999,9,7.7927,2,25,-999,9,-999,9
29AH20160617, OVIDE/BOCATS,6,1,16,20160623,902,40.3343,-9.942,3395,800,2,11.5902,36.0716,2,36.0693,2,182.9,2,181.9,2,7.88,2,14.94,2,0.943,2,-999,9,7.7916,2,25,-999,9,-999,9
29AH20160617, OVIDE/BOCATS,6,1,17,20160623,902,40.3343,-9.942,3395,700.3,2,11.6291,35.971,2,35.971,2,183.8,2,181.5,2,7.55,2,15.02,2,0.95,2,-999,9,7.7889,2,25,-999,9,-999,9
29AH20160617, OVIDE/BOCATS,6,1,18,20160623,902,40.3343,-9.942,3395,600.2,2,11.32,35.7744,2,35.7739,2,189.1,2,187.5,2,7.12,2,15.02,2,0.959,2,-999,9,7.78,2,25,-999,9,-999,9
29AH20160617, OVIDE/BOCATS,6,1,19,20160623,902,40.3343,-9.942,3395,500.7,2,11.3298,35.6422,2,35.643,2,203.5,2,202.7,2,5.77,2,13.87,2,0.885,2,-999,9,7.7861,2,25,-999,9,-999,9
29AH20160617, OVIDE/BOCATS,6,1,20,20160623,902,40.3343,-9.942,3395,400.7,2,11.5417,35.6224,2,35.6236,2,214.4,2,213.3,2,4.74,2,12.52,2,0.799,2,-999,9,7.7949,2,25,-999,9,-999,9
29AH20160617, OVIDE/BOCATS,6,1,21,20160623,902,40.3343,-9.942,3395,300.6,2,11.9043,35.6423,2,35.6428,2,219.2,2,217.6,2,3.95,2,11.38,2,0.721,2,-999,9,7.8033,2,25,-999,9,-999,9
29AH20160617, OVIDE/BOCATS,6,1,22,20160623,902,40.3343,-9.942,3395,201.1,2,12.7016,35.7204,2,35.722,2,220.4,2,220.8,2,2.96,2,9.4,2,0.605,2,-999,9,7.8282,2,25,-999,9,-999,9
29AH20160617, OVIDE/BOCATS,6,1,23,20160623,902,40.3343,-9.942,3395,150.3,2,13.123,35.7445,2,35.7443,2,232,2,230.2,2,2.05,2,6.95,2,0.46,2,-999,9,7.8533,2,25,-999,9,-999,9
29AH20160617, OVIDE/BOCATS,6,1,24,20160623,902,40.3343,-9.942,3395,100.1,2,13.6039,35.7717,2,35.7722,2,241.8,2,241.6,2,1.2,2,4.04,2,0.308,2,-999,9,7.8816,2,25,-999,9,-999,9
29AH20160617, OVIDE/BOCATS,6,1,25,20160623,902,40.3343,-9.942,3395,50.9,2,14.5591,35.7456,2,35.746,2,265.9,2,266.1,2,0.33,2,0.03,2,0.073,2,-999,9,7.9409,2,25,-999,9,-999,9
29AH20160617, OVIDE/BOCATS,6,1,26,20160623,902,40.3343,-9.942,3395,3.7,2,19.0316,35.2167,2,35.2184,2,236.9,2,236.8,2,0.21,2,0.02,2,0.042,2,-999,9,7.9814,2,25,-999,9,-999,9
29AH20160617, OVIDE/BOCATS,7,1,3,20160623,1247,40.3341,-10.0341,3542,3584.7,2,2.5698,34.9157,2,34.916,2,243.7,2,243.8,2,41.36,2,21.56,2,1.51,2,2345.3,2,7.7417,2,25,-999,9,-999,9
29AH20160617, OVIDE/BOCATS,7,1,4,20160623,1247,40.3341,-10.0341,3542,3584.7,2,2.5696,34.9156,2,34.9154,2,243.7,2,242.9,2,41.25,2,21.52,2,1.496,2,-999,9,-999.0,9,25,0.0319,2,-999,9
29AH20160617, OVIDE/BOCATS,7,1,5,20160623,1247,40.3341,-10.0341,3542,3499.3,2,2.5836,34.9181,2,34.9182,2,243.9,2,244.5,2,40.07,2,21.33,2,1.488,2,2343.6,2,7.7407,2,25,-999,9,-999,9
29AH20160617, OVIDE/BOCATS,7,1,6,20160623,1247,40.3341,-10.0341,3542,3249,2,2.7165,34.9333,2,34.9338,2,244.5,2,244.2,2,36.88,2,20.94,2,1.468,2,2336.8,2,7.7409,2,25,0.0542,2,-999,9
29AH20160617, OVIDE/BOCATS,7,1,7,20160623,1247,40.3341,-10.0341,3542,2999.7,2,2.8769,34.9503,2,34.951,2,245.2,2,245.1,2,34.03,2,20.46,2,1.424,2,2333,2,7.7421,2,25,-999,9,-999,9
29AH20160617, OVIDE/BOCATS,7,1,8,20160623,1247,40.3341,-10.0341,3542,2750.6,2,3.0878,34.9724,2,34.9733,2,246.4,2,246.4,2,30.36,2,20.09,2,1.395,2,2329.6,2,-999.0,9,25,0.1404,2,-999,9
29AH20160617, OVIDE/BOCATS,7,1,9,20160623,1247,40.3341,-10.0341,3542,2500.1,2,3.3766,35.0007,2,35.0021,2,247.5,2,248.2,2,26.17,2,19.57,2,1.348,2,2327,2,7.7438,2,25,-999,9,-999,9
29AH20160617, OVIDE/BOCATS,7,1,10,20160623,1247,40.3341,-10.0341,3542,2250.3,2,3.6751,35.0257,2,35.027,2,249.7,2,249.7,2,22.14,2,18.87,2,1.292,2,2323.8,2,7.7421,2,25,-999,9,-999,9
29AH20160617, OVIDE/BOCATS,7,1,11,20160623,1247,40.3341,-10.0341,3542,2001.4,2,4.3077,35.1,2,35.097,4,247.5,2,249.7,2,17.29,2,18.1,2,1.252,2,2320.5,2,7.7416,2,25,0.6394,2,0.1881,2
29AH20160617, OVIDE/BOCATS,7,1,12,20160623,1247,40.3341,-10.0341,3542,1799.5,2,5.2752,35.239,2,35.2397,2,239.2,2,239,2,14.52,2,17.97,2,1.199,2,2325.1,2,7.7453,2,25,-999,9,-999,9
29AH20160617, OVIDE/BOCATS,7,1,13,20160623,1247,40.3341,-10.0341,3542,1600.5,2,6.6956,35.4757,2,35.4886,4,222.7,2,222.3,2,12.74,2,17.39,2,1.153,2,2340.8,2,7.7551,2,25,-999,9,-999,9
29AH20160617, OVIDE/BOCATS,7,1,14,20160623,1247,40.3341,-10.0341,3542,1400.8,2,8.8905,35.8578,2,35.851,4,201.7,2,200.3,2,10.75,2,16.62,2,1.086,2,2363.8,2,7.7744,2,25,0.836,2,0.4005,2
29AH20160617, OVIDE/BOCATS,7,1,15,20160623,1247,40.3341,-10.0341,3542,1200.2,2,10.7644,36.1684,2,-999,9,183.9,2,-999,9,-999,9,-999,9,-999,9,-999,9,-999.0,9,25,-999,9,-999,9
29AH20160617, OVIDE/BOCATS,7,1,16,20160623,1247,40.3341,-10.0341,3542,1200.3,2,10.7729,36.1698,2,36.1696,2,183.8,2,182.7,2,9.22,2,15.65,2,1.002,2,2387,2,7.7952,2,25,-999,9,-999,9
29AH20160617, OVIDE/BOCATS,7,1,17,20160623,1247,40.3341,-10.0341,3542,1000.9,2,10.8086,36.0378,2,36.035,4,182.9,2,182.9,2,9.04,2,16.02,2,1.033,2,2375.7,2,7.7854,2,25,0.8927,2,0.5639,2
29AH20160617, OVIDE/BOCATS,7,1,18,20160623,1247,40.3341,-10.0341,3542,900.1,2,11.2123,36.0491,2,36.0486,2,181,2,180.3,2,8.36,2,15.47,2,0.993,2,2373.6,2,7.7902,2,25,0.9491,2,0.6101,2
29AH20160617, OVIDE/BOCATS,7,1,19,20160623,1247,40.3341,-10.0341,3542,800.7,2,11.5505,36.0572,2,36.0566,2,181.7,2,180.7,2,7.8,2,14.92,2,0.965,2,2371.2,2,7.7967,2,25,-999,9,-999,9
29AH20160617, OVIDE/BOCATS,7,1,20,20160623,1247,40.3341,-10.0341,3542,700.1,2,11.5795,35.9473,2,35.7606,4,183.3,2,182.1,2,7.43,2,14.95,2,0.963,2,2360.4,2,7.793,2,25,-999,9,-999,9
29AH20160617, OVIDE/BOCATS,7,1,21,20160623,1247,40.3341,-10.0341,3542,600.8,2,11.3391,35.7615,2,35.7625,2,189.4,2,187.6,2,6.93,2,15.18,2,0.973,2,2346.4,2,7.7851,2,25,-999,9,-999,9
29AH20160617, OVIDE/BOCATS,7,1,22,20160623,1247,40.3341,-10.0341,3542,500.9,2,11.2353,35.5996,2,35.5992,2,212.3,2,211.6,2,5.34,2,13.3,2,0.86,2,2334.9,2,7.7936,2,25,1.3898,2,1.281,2
29AH20160617, OVIDE/BOCATS,7,1,23,20160623,1247,40.3341,-10.0341,3542,400.9,2,11.5231,35.6098,2,35.6098,2,219.5,2,219.7,2,4.39,2,12.11,2,0.779,2,2332.4,2,7.8046,2,25,-999,9,-999,9
29AH20160617, OVIDE/BOCATS,7,1,24,20160623,1247,40.3341,-10.0341,3542,400.9,2,11.5234,35.6098,2,35.6099,2,220.8,2,220.3,2,4.42,2,12.14,2,0.781,2,-999,9,-999.0,9,25,-999,9,-999,9
29AH20160617, OVIDE/BOCATS,7,1,25,20160623,1247,40.3341,-10.0341,3542,301.2,2,11.8668,35.6338,2,35.6338,2,222.2,2,221.7,2,3.84,2,11.25,2,0.713,2,2331.1,2,7.8131,2,25,-999,9,-999,9
29AH20160617, OVIDE/BOCATS,7,1,26,20160623,1247,40.3341,-10.0341,3542,200.8,2,12.4307,35.6842,2,35.6871,4,221.4,2,222.1,2,3.1,2,9.85,2,0.629,2,2336.4,2,7.8257,2,25,1.4789,2,1.6255,2
29AH20160617, OVIDE/BOCATS,7,1,27,20160623,1247,40.3341,-10.0341,3542,149,2,13.0046,35.7397,2,35.7399,2,228.6,2,228.4,2,2.35,2,7.71,2,0.517,2,-999,9,7.8561,2,25,-999,9,-999,9
29AH20160617, OVIDE/BOCATS,7,1,28,20160623,1247,40.3341,-10.0341,3542,100.3,2,13.4999,35.7604,2,35.9473,4,241.5,2,241.5,2,1.3,2,4.38,2,0.311,2,2340.4,2,7.8865,2,25,-999,9,-999,9
29AH20160617, OVIDE/BOCATS,7,1,29,20160623,1247,40.3341,-10.0341,3542,50.4,2,14.7388,35.7387,2,35.7398,2,265.9,2,267,2,0.39,2,0.09,2,0.076,2,2341.3,2,7.9488,2,25,-999,9,-999,9
29AH20160617, OVIDE/BOCATS,7,1,30,20160623,1247,40.3341,-10.0341,3542,3.5,2,19.5445,35.2735,2,35.2765,4,236.7,2,242.2,4,0.19,2,0.04,2,0.047,2,2323.1,2,7.9834,2,25,1.205,2,1.5897,2
29AH20160617, OVIDE/BOCATS,8,1,3,20160623,2220,40.3342,-10.3001,3901,3951.9,2,2.4671,34.9019,2,34.9046,2,242.9,2,242.1,2,44.65,2,21.82,2,1.519,2,-999,9,7.7418,2,25,-999,9,-999,9
29AH20160617, OVIDE/BOCATS,8,1,4,20160623,2220,40.3342,-10.3001,3901,3748,2,2.4925,34.9068,2,34.9288,4,243.3,2,242.4,2,42.92,2,21.62,2,1.488,2,-999,9,7.7435,2,25,-999,9,-999,9
29AH20160617, OVIDE/BOCATS,8,1,5,20160623,2220,40.3342,-10.3001,3901,3500.7,2,2.5773,34.9176,2,34.9153,2,243.7,2,243.7,2,41.71,2,21.8,2,1.478,2,-999,9,7.7443,2,25,-999,9,-999,9
29AH20160617, OVIDE/BOCATS,8,1,6,20160623,2220,40.3342,-10.3001,3901,3249.4,2,2.6945,34.9312,2,34.931,2,244.6,2,-999,9,39.05,2,21.44,2,1.441,2,-999,9,7.7442,2,25,-999,9,-999,9
29AH20160617, OVIDE/BOCATS,8,1,7,20160623,2220,40.3342,-10.3001,3901,3249.3,2,2.6953,34.9312,2,34.931,2,244.3,2,244.2,2,-999,9,-999,9,-999,9,-999,9,-999.0,9,25,-999,9,-999,9
29AH20160617, OVIDE/BOCATS,8,1,8,20160623,2220,40.3342,-10.3001,3901,2997.6,2,2.8489,34.9478,2,34.9481,2,245.1,2,245.1,2,35.83,2,21.03,2,1.416,2,-999,9,7.7441,2,25,-999,9,-999,9
29AH20160617, OVIDE/BOCATS,8,1,9,20160623,2220,40.3342,-10.3001,3901,2752.5,2,3.1295,34.975,2,34.9757,2,246.4,2,246.6,2,31.05,2,20.46,2,1.365,2,-999,9,7.7431,2,25,-999,9,-999,9
29AH20160617, OVIDE/BOCATS,8,1,10,20160623,2220,40.3342,-10.3001,3901,2500.9,2,3.4255,35.0035,2,35.0069,4,248.1,2,247.9,2,26.95,2,19.74,2,1.324,2,-999,9,7.7426,2,25,-999,9,-999,9
29AH20160617, OVIDE/BOCATS,8,1,11,20160623,2220,40.3342,-10.3001,3901,2250.4,2,3.8946,35.0582,2,35.0591,2,247,2,247,2,22.25,2,19.18,2,1.279,2,-999,9,7.7413,2,25,-999,9,-999,9
29AH20160617, OVIDE/BOCATS,8,1,12,20160623,2220,40.3342,-10.3001,3901,2000.8,2,4.452,35.1225,2,35.1234,2,246.3,2,246.5,2,17.41,2,18.43,2,1.221,2,-999,9,7.74,2,25,-999,9,-999,9
29AH20160617, OVIDE/BOCATS,8,1,13,20160623,2220,40.3342,-10.3001,3901,1800,2,5.3183,35.2519,2,35.2522,2,237.4,2,237.6,2,15.02,2,18.1,2,1.194,2,-999,9,7.7455,2,25,-999,9,-999,9
29AH20160617, OVIDE/BOCATS,8,1,14,20160623,2220,40.3342,-10.3001,3901,1602.6,2,6.969,35.5159,2,35.52,4,220.1,2,220.3,2,12.85,2,17.64,2,1.128,2,-999,9,7.7559,2,25,-999,9,-999,9
29AH20160617, OVIDE/BOCATS,8,1,15,20160623,2220,40.3342,-10.3001,3901,1400.4,2,9.1511,35.8929,2,35.8909,2,198.1,2,198.2,2,11.14,2,16.74,2,1.053,2,-999,9,7.7774,2,25,-999,9,-999,9
29AH20160617, OVIDE/BOCATS,8,1,16,20160623,2220,40.3342,-10.3001,3901,1202,2,10.6987,36.1522,2,36.1531,2,182.9,2,183.6,2,9.89,2,16.03,2,0.986,2,-999,9,7.7876,2,25,-999,9,-999,9
29AH20160617, OVIDE/BOCATS,8,1,17,20160623,2220,40.3342,-10.3001,3901,1101.8,2,11.2506,36.2135,2,36.2117,2,181.3,2,180.3,2,9.15,2,15.65,2,0.955,2,-999,9,7.7968,2,25,-999,9,-999,9
29AH20160617, OVIDE/BOCATS,8,1,18,20160623,2220,40.3342,-10.3001,3901,901.3,2,11.4487,36.0868,2,36.0857,2,180.6,2,179.4,2,8.58,2,15.5,2,0.959,2,-999,9,7.7926,2,25,-999,9,-999,9
29AH20160617, OVIDE/BOCATS,8,1,19,20160623,2220,40.3342,-10.3001,3901,801,2,11.8487,36.0778,2,36.0758,2,182.7,2,181.6,2,7.68,2,14.48,2,0.919,2,-999,9,7.8008,2,25,-999,9,-999,9
29AH20160617, OVIDE/BOCATS,8,1,20,20160623,2220,40.3342,-10.3001,3901,699.1,2,11.8929,35.9788,2,35.98,2,183.9,2,182.6,2,7.33,2,14.5,2,0.906,2,-999,9,7.7965,2,25,-999,9,-999,9
29AH20160617, OVIDE/BOCATS,8,1,21,20160623,2220,40.3342,-10.3001,3901,600.8,2,11.6918,35.7954,2,35.795,2,189.5,2,187.8,2,6.78,2,14.56,2,0.923,2,-999,9,7.7894,2,25,-999,9,-999,9
29AH20160617, OVIDE/BOCATS,8,1,22,20160623,2220,40.3342,-10.3001,3901,501.3,2,11.7209,35.717,2,35.7163,2,198,2,197.7,2,5.86,2,13.76,2,0.868,2,-999,9,7.7908,2,25,-999,9,-999,9
29AH20160617, OVIDE/BOCATS,8,1,23,20160623,2220,40.3342,-10.3001,3901,400,2,11.674,35.6196,2,35.6201,2,219.8,2,218.9,2,4.48,2,12.06,2,0.755,2,-999,9,7.8046,2,25,-999,9,-999,9
29AH20160617, OVIDE/BOCATS,8,1,24,20160623,2220,40.3342,-10.3001,3901,301.5,2,12.1859,35.6712,2,35.6711,2,218.6,2,217.2,2,3.91,2,11.25,2,0.694,2,-999,9,7.8139,2,25,-999,9,-999,9
29AH20160617, OVIDE/BOCATS,8,1,25,20160623,2220,40.3342,-10.3001,3901,199.3,2,13.1417,35.792,2,35.7915,2,218.4,2,218.3,2,2.89,2,9.02,2,0.561,2,-999,9,7.8406,2,25,-999,9,-999,9
29AH20160617, OVIDE/BOCATS,8,1,26,20160623,2220,40.3342,-10.3001,3901,152.2,2,13.568,35.8119,2,35.8125,2,237.4,2,237.3,2,1.63,2,5.28,2,0.356,2,-999,9,7.8836,2,25,-999,9,-999,9
29AH20160617, OVIDE/BOCATS,8,1,27,20160623,2220,40.3342,-10.3001,3901,101.3,2,14.2206,35.9205,2,35.9207,2,237.2,2,236.4,2,1.34,2,4,2,0.272,2,-999,9,7.8961,2,25,-999,9,-999,9
29AH20160617, OVIDE/BOCATS,8,1,28,20160623,2220,40.3342,-10.3001,3901,53,2,14.7542,35.9026,2,35.9055,4,254.2,2,253.4,2,0.76,2,0.56,2,0.11,2,-999,9,7.9342,2,25,-999,9,-999,9
29AH20160617, OVIDE/BOCATS,8,1,29,20160623,2220,40.3342,-10.3001,3901,3.7,2,18.7964,35.628,2,35.6293,2,238,2,238,2,0.34,2,0.15,2,0.059,2,-999,9,7.9611,2,25,-999,9,-999,9
29AH20160617, OVIDE/BOCATS,8,1,30,20160623,2220,40.3342,-10.3001,3901,3.9,2,18.8039,35.628,2,35.6282,2,238,2,237.9,2,-999,9,-999,9,-999,9,-999,9,-999.0,9,25,-999,9,-999,9
29AH20160617, OVIDE/BOCATS,9,1,3,20160624,251,40.3341,-10.572,4340,4405,2,2.4697,34.897,2,34.896,2,243.4,2,242.9,2,45.55,2,22.28,2,1.516,2,2348.9,2,7.7413,2,25,0.0155,2,-999,9
29AH20160617, OVIDE/BOCATS,9,1,4,20160624,251,40.3341,-10.572,4340,4000.8,2,2.4705,34.902,2,34.9023,2,243.2,2,243.1,2,44.18,2,21.97,2,1.503,2,2344.5,2,7.7403,2,25,0.0246,2,-999,9
29AH20160617, OVIDE/BOCATS,9,1,5,20160624,251,40.3341,-10.572,4340,3748.4,2,2.5125,34.909,2,34.9096,2,243.4,2,243.3,2,42.39,2,21.79,2,1.483,2,2343.1,2,7.7416,2,25,-999,9,-999,9
29AH20160617, OVIDE/BOCATS,9,1,6,20160624,251,40.3341,-10.572,4340,3748.5,2,2.513,34.9091,2,34.9093,2,243.8,2,243.8,2,43.03,2,21.89,2,1.488,2,2344.2,2,7.7424,2,25,-999,9,-999,9
29AH20160617, OVIDE/BOCATS,9,1,7,20160624,251,40.3341,-10.572,4340,3499.5,2,2.5893,34.919,2,34.92,2,244.3,2,244.1,2,40.7,2,21.59,2,1.463,2,2341.5,2,7.7431,2,25,-999,9,-999,9
29AH20160617, OVIDE/BOCATS,9,1,8,20160624,251,40.3341,-10.572,4340,3249.5,2,2.6997,34.9317,2,34.933,2,244.8,2,245.9,2,38.03,2,21.27,2,1.443,2,2339.2,2,7.74,2,25,-999,9,-999,9
29AH20160617, OVIDE/BOCATS,9,1,9,20160624,251,40.3341,-10.572,4340,3000.6,2,2.8731,34.9496,2,34.9501,2,245.7,2,245.6,2,34.7,2,20.87,2,1.416,2,2332.7,2,7.743,2,25,0.0703,2,-999,9
29AH20160617, OVIDE/BOCATS,9,1,10,20160624,251,40.3341,-10.572,4340,2749.6,2,3.1343,34.9784,2,34.9799,2,245.9,2,247.6,2,31.06,2,20.52,2,1.376,2,2331.9,2,7.7448,2,25,-999,9,-999,9
29AH20160617, OVIDE/BOCATS,9,1,11,20160624,251,40.3341,-10.572,4340,2499.2,2,3.4545,35.0143,2,35.0158,2,245.7,2,246.4,2,26.59,2,20.07,2,1.334,2,2328.4,2,7.7442,2,25,-999,9,-999,9
29AH20160617, OVIDE/BOCATS,9,1,12,20160624,251,40.3341,-10.572,4340,2242.9,2,3.8283,35.0507,2,35.0514,2,247.6,2,250.6,4,22.4,2,19.24,2,1.29,2,2322.7,2,7.7432,2,25,-999,9,-999,9
29AH20160617, OVIDE/BOCATS,9,1,13,20160624,251,40.3341,-10.572,4340,1999.9,2,4.399,35.1175,2,35.1195,2,246.3,2,247.7,2,18.13,2,18.6,2,1.23,2,2322.9,2,7.7444,2,25,0.6007,2,0.1717,2
29AH20160617, OVIDE/BOCATS,9,1,14,20160624,251,40.3341,-10.572,4340,1795.4,2,5.2502,35.2449,2,35.2449,2,237.9,2,239.6,2,15.5,2,18.09,2,1.184,2,2327.3,2,7.7475,2,25,0.7123,2,0.272,2
29AH20160617, OVIDE/BOCATS,9,1,15,20160624,251,40.3341,-10.572,4340,1602,2,6.7655,35.491,2,35.4938,4,222.3,2,222.4,2,13.25,2,17.49,2,1.156,2,2339.6,2,7.7584,2,25,-999,9,-999,9
29AH20160617, OVIDE/BOCATS,9,1,16,20160624,251,40.3341,-10.572,4340,1398.5,2,9.4439,35.963,2,35.9699,4,197.3,2,197.2,2,10.96,2,16.14,2,1.037,2,2371,2,7.7781,2,25,0.8316,2,0.488,2
29AH20160617, OVIDE/BOCATS,9,1,17,20160624,251,40.3341,-10.572,4340,1200.6,2,10.9733,36.1997,2,36.1991,2,184.2,2,185.5,2,9.36,2,15.46,2,0.966,2,2387,2,7.7956,2,25,0.8752,2,0.624,2
29AH20160617, OVIDE/BOCATS,9,1,18,20160624,251,40.3341,-10.572,4340,998.9,2,11.4943,36.1914,2,36.1907,2,182.9,2,183.4,2,8.4,2,14.77,2,0.933,2,2383.5,2,7.802,2,25,0.9388,2,0.648,2
29AH20160617, OVIDE/BOCATS,9,1,19,20160624,251,40.3341,-10.572,4340,897.3,2,11.8755,36.1962,2,36.1954,2,182.7,2,183.6,2,7.6,2,14.1,2,0.881,2,2382.4,2,7.8081,2,25,-999,9,-999,9
29AH20160617, OVIDE/BOCATS,9,1,20,20160624,251,40.3341,-10.572,4340,802.7,2,11.9645,36.121,2,36.1224,2,185.2,2,185.3,2,7.32,2,14.21,2,0.883,2,2374.5,2,7.8032,2,25,1.0543,2,0.7838,2
29AH20160617, OVIDE/BOCATS,9,1,21,20160624,251,40.3341,-10.572,4340,699.8,2,11.9156,35.9863,2,35.9837,4,185.3,2,185.1,2,7.06,2,14.47,2,0.901,2,2364.8,2,7.7992,2,25,-999,9,-999,9
29AH20160617, OVIDE/BOCATS,9,1,22,20160624,251,40.3341,-10.572,4340,600.5,2,11.7473,35.8231,2,35.8167,4,188.8,2,189.2,2,6.43,2,14.4,2,0.955,2,2349.4,2,-999.0,9,25,-999,9,-999,9
29AH20160617, OVIDE/BOCATS,9,1,23,20160624,251,40.3341,-10.572,4340,499.9,2,11.5989,35.6633,2,35.6608,2,206.8,2,207.7,2,5.23,2,13.25,2,0.833,2,-999,9,7.7964,2,25,1.3696,2,1.3616,2
29AH20160617, OVIDE/BOCATS,9,1,24,20160624,251,40.3341,-10.572,4340,403,2,11.9272,35.6666,2,35.6661,2,208.1,2,207.2,2,4.7,2,12.59,2,0.798,2,2334.4,2,7.8041,2,25,-999,9,-999,9
29AH20160617, OVIDE/BOCATS,9,1,25,20160624,251,40.3341,-10.572,4340,301.8,2,12.5166,35.7196,2,35.7192,2,212.3,2,212.4,2,3.71,2,11.05,2,0.701,2,-999,9,7.8181,2,25,-999,9,-999,9
29AH20160617, OVIDE/BOCATS,9,1,26,20160624,251,40.3341,-10.572,4340,202.5,2,13.4457,35.8457,2,-999,9,218.9,2,220.4,2,2.59,2,8.26,2,0.525,2,2344.4,2,7.8533,2,25,1.3824,2,1.5271,2
29AH20160617, OVIDE/BOCATS,9,1,27,20160624,251,40.3341,-10.572,4340,149.5,2,14.0332,35.9221,2,35.924,2,234.5,2,235,2,1.48,2,4.73,2,0.324,2,-999,9,7.8917,2,25,-999,9,-999,9
29AH20160617, OVIDE/BOCATS,9,1,28,20160624,251,40.3341,-10.572,4340,99.2,2,14.5508,36.013,2,36.0152,2,236.6,2,236.6,2,1.19,2,3.52,2,0.252,2,2354.9,2,7.9077,2,25,-999,9,-999,9
29AH20160617, OVIDE/BOCATS,9,1,29,20160624,251,40.3341,-10.572,4340,51.5,2,15.1116,35.8667,2,35.8661,2,262.3,2,263.4,2,0.61,2,0.1,2,0.064,2,-999,9,7.9605,2,25,-999,9,-999,9
29AH20160617, OVIDE/BOCATS,9,1,30,20160624,251,40.3341,-10.572,4340,4.1,2,18.9111,35.8388,2,35.8379,2,237.1,2,237.2,2,0.64,2,0.09,2,0.049,2,2349.2,2,7.9678,2,25,1.2104,2,1.5996,2