BOTTLE,20230706CCHSIOENA
EXPOCODE,SECT_ID,STNNBR,CASTNO,SAMPNO,DATE,TIME,LATITUDE,LONGITUDE,DEPTH,CTDPRS,CTDPRS_FLAG_W,CTDTMP,CTDSAL,CTDSAL_FLAG_W,SALNTY,SALNTY_FLAG_W,CTDOXY,CTDOXY_FLAG_W,OXYGEN,OXYGEN_FLAG_W,SILCAT,SILCAT_FLAG_W,NITRAT,NITRAT_FLAG_W,PHSPHT,PHSPHT_FLAG_W,ALKALI,ALKALI_FLAG_W,PH_SWS,PH_SWS_FLAG_W,PH_TMP,CFC-12,CFC-12_FLAG_W,SF6,SF6_FLAG_W
,,,,,,,,,METERS,DBAR,,DEG C,PSS-78,,PSS-78,,UMOL/KG,,UMOL/KG,,UMOL/KG,,UMOL/KG,,UMOL/KG,,UMOL/KG,,,,DEG C,PMOL/KG,,FMOL/KG,
29AH20160617, OVIDE/BOCATS,37,1,3,20160703,522,48.7872,-21.4329,4090,4150.3,2,2.5938,34.9123,2,34.9137,2,242.1,2,241.7,2,42.02,2,21.42,2,1.409,2,2350.2,2,7.7359,2,25,0.1162,2,-999,9
29AH20160617, OVIDE/BOCATS,37,1,4,20160703,522,48.7872,-21.4329,4090,4119.4,2,2.5915,34.9124,2,34.9144,2,242.1,2,241.6,2,41.88,2,21.19,2,1.417,2,-999,9,7.7338,2,25,-999,9,-999,9
29AH20160617, OVIDE/BOCATS,37,1,5,20160703,522,48.7872,-21.4329,4090,3745.8,2,2.6373,34.9207,2,34.9208,2,245.6,2,245.5,2,37.84,2,20.71,2,1.363,2,2347,2,7.7316,2,25,-999,9,-999,9
29AH20160617, OVIDE/BOCATS,37,1,6,20160703,522,48.7872,-21.4329,4090,3501.1,2,2.6982,34.9284,2,34.9293,2,249.6,2,249.6,2,34.01,2,19.96,2,1.316,2,2339.2,2,7.7318,2,25,-999,9,-999,9
29AH20160617, OVIDE/BOCATS,37,1,7,20160703,522,48.7872,-21.4329,4090,3248.9,2,2.8434,34.9391,2,34.9395,2,256,2,255.9,2,27.51,2,18.91,2,1.229,2,2331.5,2,7.7318,2,25,-999,9,-999,9
29AH20160617, OVIDE/BOCATS,37,1,8,20160703,522,48.7872,-21.4329,4090,3000.4,2,2.9873,34.9419,2,34.9426,2,262.9,2,262.9,2,21.42,2,17.79,2,1.16,2,2323.2,2,7.7296,2,25,0.8992,2,0.5093,2
29AH20160617, OVIDE/BOCATS,37,1,9,20160703,522,48.7872,-21.4329,4090,2750.2,2,3.1226,34.9354,2,34.9362,2,270.1,2,270.3,2,15.74,2,16.81,2,1.09,2,2313.4,2,7.729,2,25,-999,9,-999,9
29AH20160617, OVIDE/BOCATS,37,1,10,20160703,522,48.7872,-21.4329,4090,2500.1,2,3.2527,34.927,2,34.9281,2,271.2,2,271.6,2,14.21,2,17.12,2,1.088,2,2311.5,2,7.7272,2,25,-999,9,-999,9
29AH20160617, OVIDE/BOCATS,37,1,11,20160703,522,48.7872,-21.4329,4090,2474.4,2,3.2762,34.9257,2,34.9285,2,271.4,2,272,2,13.84,2,16.87,2,1.084,2,2309.3,2,7.7282,2,25,-999,9,-999,9
29AH20160617, OVIDE/BOCATS,37,1,12,20160703,522,48.7872,-21.4329,4090,2249,2,3.4648,34.9223,2,34.924,2,271.4,2,271.4,2,12.64,2,17.04,2,1.094,2,2309.1,2,7.7256,2,25,-999,9,-999,9
29AH20160617, OVIDE/BOCATS,37,1,13,20160703,522,48.7872,-21.4329,4090,1999.1,2,3.7112,34.9268,2,34.9268,2,269.6,2,269.5,2,11.84,2,17.11,2,1.095,2,2307.7,2,7.7219,2,25,1.5421,2,0.8136,2
29AH20160617, OVIDE/BOCATS,37,1,14,20160703,522,48.7872,-21.4329,4090,1799.3,2,3.8997,34.9288,2,34.929,2,269.3,2,269.2,2,10.95,2,16.93,2,1.087,2,2307.2,2,7.7168,2,25,1.7269,2,1.0869,2
29AH20160617, OVIDE/BOCATS,37,1,15,20160703,522,48.7872,-21.4329,4090,1599.3,2,4.0898,34.9327,2,34.935,2,270,2,269.1,2,10.07,2,16.79,2,1.08,2,2307,2,7.714,2,25,-999,9,-999,9
29AH20160617, OVIDE/BOCATS,37,1,16,20160703,522,48.7872,-21.4329,4090,1400.2,2,4.4505,34.9632,2,34.9649,2,263.4,2,263.2,2,9.8,2,16.96,2,1.079,2,2308.6,2,7.7118,2,25,1.8871,2,1.3573,2
29AH20160617, OVIDE/BOCATS,37,1,17,20160703,522,48.7872,-21.4329,4090,1200.3,2,5.1092,35.0296,2,35.0318,2,250.4,2,249.4,2,10.17,2,17.44,2,1.114,2,2312.1,2,7.7108,2,25,1.7718,2,1.4381,2
29AH20160617, OVIDE/BOCATS,37,1,18,20160703,522,48.7872,-21.4329,4090,1001.1,2,6.2617,35.1193,2,35.1179,2,229.2,2,228.2,2,10.36,2,17.87,2,1.14,2,2318.8,2,7.7113,2,25,1.551,2,1.4207,2
29AH20160617, OVIDE/BOCATS,37,1,19,20160703,522,48.7872,-21.4329,4090,901.8,2,6.6966,35.0923,2,35.1176,4,217.7,2,217.5,2,10.33,2,18.25,2,1.162,2,2314.8,2,7.7079,2,25,-999,9,-999,9
29AH20160617, OVIDE/BOCATS,37,1,20,20160703,522,48.7872,-21.4329,4090,798.7,2,7.3778,35.0705,2,35.0931,4,208.9,2,208.2,2,10.12,2,18.24,2,1.164,2,2315.4,2,7.7074,2,25,1.4637,2,1.4936,2
29AH20160617, OVIDE/BOCATS,37,1,21,20160703,522,48.7872,-21.4329,4090,700.1,2,8.4011,35.1315,2,35.1324,2,209.6,2,206.6,4,9.2,2,17.4,2,1.1,2,2317.8,2,7.7271,2,25,-999,9,-999,9
29AH20160617, OVIDE/BOCATS,37,1,22,20160703,522,48.7872,-21.4329,4090,600.2,2,9.6506,35.2756,2,35.276,2,212.9,2,212.2,2,7.57,2,15.62,2,0.977,2,2324.7,2,7.7581,2,25,1.5147,2,1.5968,2
29AH20160617, OVIDE/BOCATS,37,1,23,20160703,522,48.7872,-21.4329,4090,498.5,2,10.4337,35.3391,2,35.3386,2,231.1,2,231.4,2,5.57,2,12.89,2,0.799,2,-999,9,7.7928,2,25,-999,9,-999,9
29AH20160617, OVIDE/BOCATS,37,1,24,20160703,522,48.7872,-21.4329,4090,400.3,2,11.0416,35.4046,2,35.4037,2,237,2,235.6,2,4.71,2,11.61,2,0.708,2,2329.8,2,7.8113,2,25,1.6651,2,1.9042,2
29AH20160617, OVIDE/BOCATS,37,1,25,20160703,522,48.7872,-21.4329,4090,301.2,2,11.4561,35.4505,2,35.4502,2,247,2,247.3,2,3.9,2,10.04,2,0.604,2,-999,9,7.8355,2,25,-999,9,-999,9
29AH20160617, OVIDE/BOCATS,37,1,26,20160703,522,48.7872,-21.4329,4090,199.8,2,11.7708,35.5011,2,35.5012,2,250,2,250,2,3.5,2,9.13,2,0.551,2,2334.5,2,7.8463,2,25,-999,9,-999,9
29AH20160617, OVIDE/BOCATS,37,1,27,20160703,522,48.7872,-21.4329,4090,150.1,2,11.9615,35.5186,2,35.5203,2,246.7,2,245.9,2,3.44,2,9.16,2,0.552,2,-999,9,7.8481,2,25,-999,9,-999,9
29AH20160617, OVIDE/BOCATS,37,1,28,20160703,522,48.7872,-21.4329,4090,100.5,2,12.5697,35.5883,2,35.5881,2,246.1,2,245.3,2,2.37,2,7.86,2,0.466,2,2339.2,2,7.8626,2,25,-999,9,-999,9
29AH20160617, OVIDE/BOCATS,37,1,29,20160703,522,48.7872,-21.4329,4090,50.3,2,14.531,35.6021,2,35.6139,4,251.7,2,252.7,2,0.26,2,1.74,2,0.166,2,-999,9,7.9418,2,25,-999,9,-999,9
29AH20160617, OVIDE/BOCATS,37,1,30,20160703,522,48.7872,-21.4329,4090,7.9,2,15.1026,35.5713,2,35.5734,2,256.2,2,256.2,2,0.24,2,1.25,2,0.112,2,2341.1,2,7.9588,2,25,1.5351,2,2.0736,2
29AH20160617, OVIDE/BOCATS,38,1,3,20160703,1123,49.1579,-21.7265,4343,4409,2,2.5564,34.906,2,34.9048,2,240.8,2,240.3,2,44.64,2,21.86,2,1.444,2,-999,9,7.7393,2,25,-999,9,-999,9
29AH20160617, OVIDE/BOCATS,38,1,4,20160703,1123,49.1579,-21.7265,4343,4249.8,2,2.5774,34.9099,2,34.9101,2,241.5,2,241.2,2,42.51,2,21.59,2,1.427,2,-999,9,7.7375,2,25,-999,9,-999,9
29AH20160617, OVIDE/BOCATS,38,1,5,20160703,1123,49.1579,-21.7265,4343,4000.7,2,2.5893,34.9137,2,34.9135,2,242.7,2,242.7,2,41.89,2,21.53,2,1.409,2,-999,9,7.7374,2,25,-999,9,-999,9
29AH20160617, OVIDE/BOCATS,38,1,6,20160703,1123,49.1579,-21.7265,4343,3749,2,2.642,34.9212,2,34.9208,2,245.7,2,245.6,2,38.12,2,20.82,2,1.368,2,-999,9,7.7347,2,25,-999,9,-999,9
29AH20160617, OVIDE/BOCATS,38,1,7,20160703,1123,49.1579,-21.7265,4343,3500.8,2,2.7315,34.9311,2,34.9313,2,251.6,2,251.5,2,32.03,2,19.5,2,1.295,2,-999,9,7.7336,2,25,-999,9,-999,9
29AH20160617, OVIDE/BOCATS,38,1,8,20160703,1123,49.1579,-21.7265,4343,3248.3,2,2.8369,34.939,2,34.9389,2,256.4,2,256.4,2,27.2,2,18.69,2,1.232,2,-999,9,7.7312,2,25,-999,9,-999,9
29AH20160617, OVIDE/BOCATS,38,1,9,20160703,1123,49.1579,-21.7265,4343,2999.8,2,2.9752,34.942,2,34.9419,2,261.9,2,261.5,2,22.71,2,18.1,2,1.185,2,-999,9,7.7314,2,25,-999,9,-999,9
29AH20160617, OVIDE/BOCATS,38,1,10,20160703,1123,49.1579,-21.7265,4343,2749.6,2,3.1222,34.9363,2,34.936,2,267.2,2,268.1,2,17.92,2,17.24,2,1.132,2,-999,9,7.7286,2,25,-999,9,-999,9
29AH20160617, OVIDE/BOCATS,38,1,11,20160703,1123,49.1579,-21.7265,4343,2500.3,2,3.2796,34.927,2,34.9265,2,270.4,2,271.3,2,14.76,2,17.06,2,1.109,2,-999,9,7.7234,2,25,-999,9,-999,9
29AH20160617, OVIDE/BOCATS,38,1,12,20160703,1123,49.1579,-21.7265,4343,2250.3,2,3.4773,34.9222,2,34.9223,2,271.1,2,271.8,2,12.94,2,16.98,2,1.095,2,-999,9,7.723,2,25,-999,9,-999,9
29AH20160617, OVIDE/BOCATS,38,1,13,20160703,1123,49.1579,-21.7265,4343,2001.3,2,3.7177,34.9269,2,34.9267,2,269.5,2,269.5,2,12.15,2,17.17,2,1.099,2,-999,9,7.7149,2,25,-999,9,-999,9
29AH20160617, OVIDE/BOCATS,38,1,14,20160703,1123,49.1579,-21.7265,4343,1800.2,2,3.9204,34.9321,2,34.9312,2,268.9,2,269.6,2,11.38,2,17.01,2,1.092,2,-999,9,7.709,2,25,-999,9,-999,9
29AH20160617, OVIDE/BOCATS,38,1,15,20160703,1123,49.1579,-21.7265,4343,1598.8,2,4.064,34.9251,2,34.9249,2,271.3,2,271.5,2,10.49,2,16.73,2,1.076,2,-999,9,7.7073,2,25,-999,9,-999,9
29AH20160617, OVIDE/BOCATS,38,1,16,20160703,1123,49.1579,-21.7265,4343,1397.5,2,4.3736,34.9456,2,34.9451,2,266.3,2,266,2,10.2,2,16.86,2,1.089,2,-999,9,7.7048,2,25,-999,9,-999,9
29AH20160617, OVIDE/BOCATS,38,1,17,20160703,1123,49.1579,-21.7265,4343,1200.3,2,5.0293,35.0102,2,35.0115,2,251.1,2,250.4,2,10.61,2,17.36,2,1.118,2,-999,9,7.7069,2,25,-999,9,-999,9
29AH20160617, OVIDE/BOCATS,38,1,18,20160703,1123,49.1579,-21.7265,4343,1000.1,2,6.2287,35.1035,2,35.1042,2,227.5,2,226.1,2,10.93,2,17.79,2,1.151,2,-999,9,7.7059,2,25,-999,9,-999,9
29AH20160617, OVIDE/BOCATS,38,1,19,20160703,1123,49.1579,-21.7265,4343,900.2,2,6.389,35.0171,2,35.0189,2,220.2,2,218.3,2,11.14,2,18.44,2,1.183,2,-999,9,7.6988,2,25,-999,9,-999,9
29AH20160617, OVIDE/BOCATS,38,1,20,20160703,1123,49.1579,-21.7265,4343,799.6,2,8.2364,35.2539,2,35.2534,2,200.7,2,199.3,2,10.39,2,18.09,2,1.136,2,-999,9,7.7186,2,25,-999,9,-999,9
29AH20160617, OVIDE/BOCATS,38,1,21,20160703,1123,49.1579,-21.7265,4343,700.6,2,9.0429,35.2671,2,35.2669,2,203.3,2,202.8,2,9.08,2,16.97,2,1.061,2,-999,9,7.7375,2,25,-999,9,-999,9
29AH20160617, OVIDE/BOCATS,38,1,22,20160703,1123,49.1579,-21.7265,4343,601.4,2,10.1061,35.3758,2,35.3753,2,214.4,2,214.6,2,7.12,2,14.67,2,0.911,2,-999,9,7.7703,2,25,-999,9,-999,9
29AH20160617, OVIDE/BOCATS,38,1,23,20160703,1123,49.1579,-21.7265,4343,499.2,2,10.537,35.378,2,35.3865,4,228,2,227.9,2,5.69,2,12.91,2,0.791,2,-999,9,7.7882,2,25,-999,9,-999,9
29AH20160617, OVIDE/BOCATS,38,1,24,20160703,1123,49.1579,-21.7265,4343,401.4,2,11.4909,35.5355,2,35.5349,2,232.4,2,231.7,2,4.28,2,10.95,2,0.658,2,-999,9,7.816,2,25,-999,9,-999,9
29AH20160617, OVIDE/BOCATS,38,1,25,20160703,1123,49.1579,-21.7265,4343,301.7,2,11.5123,35.4652,2,35.4649,2,246.2,2,246.6,2,3.9,2,9.85,2,0.588,2,-999,9,7.8378,2,25,-999,9,-999,9
29AH20160617, OVIDE/BOCATS,38,1,26,20160703,1123,49.1579,-21.7265,4343,199.4,2,11.8226,35.5131,2,35.5127,2,249.6,2,250.3,2,3.52,2,8.96,2,0.541,2,-999,9,7.8438,2,25,-999,9,-999,9
29AH20160617, OVIDE/BOCATS,38,1,27,20160703,1123,49.1579,-21.7265,4343,150.6,2,12.0939,35.5479,2,35.5468,2,246.1,2,245.6,2,3.31,2,8.71,2,0.519,2,-999,9,7.847,2,25,-999,9,-999,9
29AH20160617, OVIDE/BOCATS,38,1,28,20160703,1123,49.1579,-21.7265,4343,99.9,2,12.5382,35.6106,2,35.61,2,247.6,2,246.9,2,2.69,2,7.85,2,0.46,2,-999,9,7.8602,2,25,-999,9,-999,9
29AH20160617, OVIDE/BOCATS,38,1,29,20160703,1123,49.1579,-21.7265,4343,48.8,2,14.6924,35.5538,2,35.5531,2,256.2,2,257,2,0.4,2,2.49,2,0.172,2,-999,9,7.9428,2,25,-999,9,-999,9
29AH20160617, OVIDE/BOCATS,39,1,3,20160703,1723,49.5344,-22.0182,4231,4295,2,2.5843,34.9099,2,34.9112,2,241.6,2,241.7,2,41.33,2,21.19,2,1.425,2,2349.4,2,7.7365,2,25,0.0796,2,-999,9
29AH20160617, OVIDE/BOCATS,39,1,4,20160703,1723,49.5344,-22.0182,4231,3998.3,2,2.5918,34.914,2,34.9155,2,242.8,2,243.1,2,37.43,2,20.74,2,1.392,2,2347,2,7.7348,2,25,-999,9,-999,9
29AH20160617, OVIDE/BOCATS,39,1,5,20160703,1723,49.5344,-22.0182,4231,3747.5,2,2.6241,34.9197,2,34.9196,2,245.3,2,245.2,2,33.9,2,19.82,2,1.359,2,2344.2,2,7.7316,2,25,-999,9,-999,9
29AH20160617, OVIDE/BOCATS,39,1,6,20160703,1723,49.5344,-22.0182,4231,3498.6,2,2.7249,34.9307,2,34.9308,2,251.4,2,251.4,2,28.87,2,18.77,2,1.284,2,2337.1,2,7.7326,2,25,-999,9,-999,9
29AH20160617, OVIDE/BOCATS,39,1,7,20160703,1723,49.5344,-22.0182,4231,3248.8,2,2.8326,34.9395,2,34.9394,2,257.4,2,257.7,2,24.45,2,18.03,2,1.217,2,2328,2,7.7303,2,25,-999,9,-999,9
29AH20160617, OVIDE/BOCATS,39,1,8,20160703,1723,49.5344,-22.0182,4231,2999.1,2,2.9448,34.9421,2,34.9424,2,263,2,262.9,2,20.51,2,17.51,2,1.161,2,2319.3,2,7.7289,2,25,0.9126,2,0.4667,2
29AH20160617, OVIDE/BOCATS,39,1,9,20160703,1723,49.5344,-22.0182,4231,2749,2,3.1136,34.9354,2,34.9363,2,268.9,2,269.7,2,16.76,2,17.24,2,1.106,2,2312.1,2,7.7284,2,25,-999,9,-999,9
29AH20160617, OVIDE/BOCATS,39,1,10,20160703,1723,49.5344,-22.0182,4231,2499.6,2,3.2591,34.9274,2,34.9273,2,270.8,2,271.2,2,15.24,2,17.26,2,1.094,2,2311.1,2,7.7325,2,25,-999,9,-999,9
29AH20160617, OVIDE/BOCATS,39,1,11,20160703,1723,49.5344,-22.0182,4231,2247.6,2,3.4575,34.922,2,34.9237,2,271.2,2,271.8,2,13.3,2,17.37,2,1.088,2,2307.3,2,7.7274,2,25,-999,9,-999,9
29AH20160617, OVIDE/BOCATS,39,1,12,20160703,1723,49.5344,-22.0182,4231,1998.6,2,3.6637,34.9222,2,34.924,2,270.7,2,271.3,2,12.17,2,17.13,2,1.085,2,2305.3,2,7.7212,2,25,1.5633,2,0.8227,2
29AH20160617, OVIDE/BOCATS,39,1,13,20160703,1723,49.5344,-22.0182,4231,1800.2,2,3.8,34.9223,2,34.9227,2,270.7,2,270.7,2,11.6,2,17.17,2,1.087,2,2305.8,2,7.72,2,25,1.698,2,0.9653,2
29AH20160617, OVIDE/BOCATS,39,1,14,20160703,1723,49.5344,-22.0182,4231,1599.9,2,3.981,34.9253,2,34.9262,2,270.5,2,270.1,2,10.97,2,17.14,2,1.084,2,2304.8,2,7.7161,2,25,1.8599,2,1.1099,2
29AH20160617, OVIDE/BOCATS,39,1,15,20160703,1723,49.5344,-22.0182,4231,1400,2,4.1192,34.9198,2,34.921,2,272.8,2,272.6,2,10.22,2,17.03,2,1.07,2,2303.7,2,7.715,2,25,-999,9,-999,9
29AH20160617, OVIDE/BOCATS,39,1,16,20160703,1723,49.5344,-22.0182,4231,1249,2,4.7256,34.9949,2,34.9954,2,256.9,2,256.9,2,10.59,2,17.49,2,1.1,2,2311.1,2,7.7154,2,25,1.8328,2,1.333,2
29AH20160617, OVIDE/BOCATS,39,1,17,20160703,1723,49.5344,-22.0182,4231,999.9,2,5.7451,35.0701,2,35.0717,2,236.2,2,235.8,2,10.87,2,18.09,2,1.124,2,2314.9,2,7.7096,2,25,1.6406,2,1.2192,2
29AH20160617, OVIDE/BOCATS,39,1,18,20160703,1723,49.5344,-22.0182,4231,999.8,2,5.7463,35.0699,2,35.0713,2,236.1,2,236.1,2,10.86,2,18.25,2,1.119,2,2315.7,2,7.711,2,25,1.6266,2,1.1739,2
29AH20160617, OVIDE/BOCATS,39,1,19,20160703,1723,49.5344,-22.0182,4231,899.8,2,6.5027,35.1248,2,35.1255,2,222.9,2,220.6,2,10.99,2,18.06,2,1.154,2,2319.2,2,7.7105,2,25,-999,9,-999,9
29AH20160617, OVIDE/BOCATS,39,1,20,20160703,1723,49.5344,-22.0182,4231,799.6,2,8.0961,35.3187,2,35.3185,2,203.2,2,200.9,2,10.57,2,17.85,2,1.119,2,2330.4,2,7.7272,2,25,1.2969,2,0.8841,2
29AH20160617, OVIDE/BOCATS,39,1,21,20160703,1723,49.5344,-22.0182,4231,699.8,2,8.1427,35.1704,2,35.1712,2,201.1,2,198.4,4,10.11,2,18.07,2,1.143,2,2320.3,2,7.719,2,25,-999,9,-999,9
29AH20160617, OVIDE/BOCATS,39,1,22,20160703,1723,49.5344,-22.0182,4231,598.4,2,9.8482,35.3474,2,35.3469,2,204.9,2,205,2,8.05,2,15.96,2,0.985,2,2328.9,2,7.7575,2,25,1.4396,2,1.2194,2
29AH20160617, OVIDE/BOCATS,39,1,23,20160703,1723,49.5344,-22.0182,4231,499.3,2,10.3124,35.3389,2,35.3401,2,229.1,2,229.4,2,5.9,2,13.12,2,0.805,2,-999,9,7.7884,2,25,-999,9,-999,9
29AH20160617, OVIDE/BOCATS,39,1,24,20160703,1723,49.5344,-22.0182,4231,400.8,2,10.8246,35.3708,2,35.3721,2,234.3,2,235.3,2,5.12,2,12,2,0.731,2,2328.2,2,7.8031,2,25,1.6683,2,1.7415,2
29AH20160617, OVIDE/BOCATS,39,1,25,20160703,1723,49.5344,-22.0182,4231,299.7,2,11.2503,35.416,2,35.4192,4,247.3,2,246.3,2,4.14,2,10.21,2,0.618,2,-999,9,7.824,2,25,-999,9,-999,9
29AH20160617, OVIDE/BOCATS,39,1,26,20160703,1723,49.5344,-22.0182,4231,200.8,2,11.8346,35.5156,2,35.5159,2,249.8,2,249.1,2,3.51,2,8.9,2,0.533,2,2333.7,2,7.8435,2,25,1.6816,2,1.9477,2
29AH20160617, OVIDE/BOCATS,39,1,27,20160703,1723,49.5344,-22.0182,4231,149.5,2,12.3063,35.583,2,35.5833,2,245.5,2,244.6,2,3.21,2,8.77,2,0.516,2,-999,9,7.8527,2,25,-999,9,-999,9
29AH20160617, OVIDE/BOCATS,39,1,28,20160703,1723,49.5344,-22.0182,4231,95.4,2,12.6408,35.5938,2,35.5927,2,245.2,2,245.1,2,2.21,2,7.75,2,0.454,2,2339.3,2,7.8588,2,25,-999,9,-999,9
29AH20160617, OVIDE/BOCATS,39,1,29,20160703,1723,49.5344,-22.0182,4231,49.2,2,15.2079,35.6495,2,35.6488,2,253.4,2,254.1,2,0.43,2,1.12,2,0.103,2,-999,9,7.9535,2,25,-999,9,-999,9
29AH20160617, OVIDE/BOCATS,39,1,30,20160703,1723,49.5344,-22.0182,4231,6.5,2,15.3231,35.6374,2,35.6369,2,255.6,2,256.1,2,0.38,2,0.88,2,0.088,2,2346.6,2,7.9562,2,25,1.5149,2,1.9081,2
29AH20160617, OVIDE/BOCATS,40,1,3,20160703,2319,49.904,-22.3127,4001,4059.7,2,2.6115,34.9151,2,34.9135,2,243.1,2,-999,9,39.27,2,20.97,2,1.408,2,-999,9,7.7375,2,25,-999,9,-999,9
29AH20160617, OVIDE/BOCATS,40,1,4,20160703,2319,49.904,-22.3127,4001,3749.6,2,2.634,34.9206,2,34.9192,2,245.8,2,245.9,2,36.48,2,20.6,2,1.365,2,-999,9,7.733,2,25,-999,9,-999,9
29AH20160617, OVIDE/BOCATS,40,1,5,20160703,2319,49.904,-22.3127,4001,3501.5,2,2.7219,34.9309,2,34.9312,2,251.5,2,251.7,2,31.19,2,19.56,2,1.297,2,-999,9,7.7334,2,25,-999,9,-999,9
29AH20160617, OVIDE/BOCATS,40,1,6,20160703,2319,49.904,-22.3127,4001,3247.9,2,2.8284,34.9403,2,34.9396,2,258.6,2,259.1,2,25.01,2,18.33,2,1.208,2,-999,9,7.7283,2,25,-999,9,-999,9
29AH20160617, OVIDE/BOCATS,40,1,7,20160703,2319,49.904,-22.3127,4001,3000.8,2,2.9314,34.9436,2,34.9435,2,263.5,2,263.6,2,20.78,2,17.71,2,1.155,2,-999,9,7.7292,2,25,-999,9,-999,9
29AH20160617, OVIDE/BOCATS,40,1,8,20160703,2319,49.904,-22.3127,4001,2748.4,2,3.0706,34.9378,2,34.9379,2,268.6,2,269.1,2,16.41,2,17.16,2,1.11,2,-999,9,7.7294,2,25,-999,9,-999,9
29AH20160617, OVIDE/BOCATS,40,1,9,20160703,2319,49.904,-22.3127,4001,2500.1,2,3.1981,34.9285,2,34.9285,2,271.1,2,271.4,2,14.3,2,16.81,2,1.095,2,-999,9,7.7294,2,25,-999,9,-999,9
29AH20160617, OVIDE/BOCATS,40,1,10,20160703,2319,49.904,-22.3127,4001,2248.7,2,3.3586,34.9229,2,34.9229,2,272.1,2,272.5,2,12.61,2,16.75,2,1.093,2,-999,9,7.7252,2,25,-999,9,-999,9
29AH20160617, OVIDE/BOCATS,40,1,11,20160703,2319,49.904,-22.3127,4001,1999.8,2,3.5538,34.9219,2,34.9223,2,271.2,2,271.7,2,11.75,2,17.11,2,1.097,2,-999,9,7.7246,2,25,-999,9,-999,9
29AH20160617, OVIDE/BOCATS,40,1,12,20160703,2319,49.904,-22.3127,4001,1801.3,2,3.7118,34.9228,2,34.9245,2,270.6,2,270.5,2,11.25,2,17.24,2,1.098,2,-999,9,7.7218,2,25,-999,9,-999,9
29AH20160617, OVIDE/BOCATS,40,1,13,20160703,2319,49.904,-22.3127,4001,1599.7,2,3.85,34.9193,2,34.9199,2,272.3,2,273.3,2,10.53,2,17.32,2,1.085,2,-999,9,7.7202,2,25,-999,9,-999,9
29AH20160617, OVIDE/BOCATS,40,1,14,20160703,2319,49.904,-22.3127,4001,1400.7,2,3.9748,34.9185,2,34.9185,2,273.5,2,273,2,10.2,2,17.02,2,1.084,2,-999,9,7.7141,2,25,-999,9,-999,9
29AH20160617, OVIDE/BOCATS,40,1,15,20160703,2319,49.904,-22.3127,4001,1200,2,4.3016,34.9455,2,34.9466,2,266.7,2,266.4,2,10.18,2,17.22,2,1.098,2,-999,9,7.7152,2,25,-999,9,-999,9
29AH20160617, OVIDE/BOCATS,40,1,16,20160703,2319,49.904,-22.3127,4001,1002,2,5.1839,35.0472,2,35.0487,2,248.1,2,247.9,2,10.47,2,17.87,2,1.122,2,-999,9,7.7128,2,25,-999,9,-999,9
29AH20160617, OVIDE/BOCATS,40,1,17,20160703,2319,49.904,-22.3127,4001,900.1,2,5.3899,35.0321,2,35.0328,2,243,2,241.9,2,10.47,2,18.08,2,1.133,2,-999,9,7.7078,2,25,-999,9,-999,9
29AH20160617, OVIDE/BOCATS,40,1,18,20160703,2319,49.904,-22.3127,4001,799.1,2,5.9312,35.0594,2,35.06,2,232.5,2,231.9,2,10.54,2,18.22,2,1.151,2,-999,9,7.7075,2,25,-999,9,-999,9
29AH20160617, OVIDE/BOCATS,40,1,19,20160703,2319,49.904,-22.3127,4001,699.7,2,6.5015,35.059,2,35.0588,2,222.5,2,221.1,2,10.65,2,18.52,2,1.156,2,-999,9,7.7063,2,25,-999,9,-999,9
29AH20160617, OVIDE/BOCATS,40,1,20,20160703,2319,49.904,-22.3127,4001,600,2,7.1536,35.0297,2,35.0289,2,207.7,2,206.5,2,10.82,2,19.1,2,1.194,2,-999,9,7.7003,2,25,-999,9,-999,9
29AH20160617, OVIDE/BOCATS,40,1,21,20160703,2319,49.904,-22.3127,4001,499.5,2,8.1471,35.0445,2,35.0414,4,213.6,2,211.4,2,9.38,2,17.64,2,1.106,2,-999,9,7.7209,2,25,-999,9,-999,9
29AH20160617, OVIDE/BOCATS,40,1,22,20160703,2319,49.904,-22.3127,4001,398.8,2,8.4976,35.0222,2,35.0225,2,238,2,236.3,2,7.72,2,15.2,2,0.954,2,-999,9,7.754,2,25,-999,9,-999,9
29AH20160617, OVIDE/BOCATS,40,1,23,20160703,2319,49.904,-22.3127,4001,301.7,2,9.4715,35.1488,2,35.149,2,256.5,2,256.4,2,5.68,2,12.32,2,0.776,2,-999,9,7.7954,2,25,-999,9,-999,9
29AH20160617, OVIDE/BOCATS,40,1,24,20160703,2319,49.904,-22.3127,4001,200.6,2,10.0117,35.2282,2,35.2266,2,254.4,2,254.9,2,4.93,2,11.9,2,0.735,2,-999,9,7.8057,2,25,-999,9,-999,9
29AH20160617, OVIDE/BOCATS,40,1,25,20160703,2319,49.904,-22.3127,4001,150.5,2,10.4565,35.2808,2,35.2805,2,253.2,2,252.7,2,3.94,2,11.25,2,0.695,2,-999,9,7.8172,2,25,-999,9,-999,9
29AH20160617, OVIDE/BOCATS,40,1,26,20160703,2319,49.904,-22.3127,4001,101.6,2,11.1421,35.3429,2,35.342,2,259.2,2,258.3,2,1.59,2,8.31,2,0.575,2,-999,9,7.8487,2,25,-999,9,-999,9
29AH20160617, OVIDE/BOCATS,40,1,27,20160703,2319,49.904,-22.3127,4001,52.2,2,12.8362,35.382,2,35.3841,2,258.2,2,259.7,2,0.52,2,4.96,2,0.348,2,-999,9,7.9079,2,25,-999,9,-999,9
29AH20160617, OVIDE/BOCATS,40,1,28,20160703,2319,49.904,-22.3127,4001,4.5,2,13.8723,35.2687,2,35.2685,2,262.9,2,263.5,2,0.2,2,3.14,2,0.237,2,-999,9,7.9245,2,25,-999,9,-999,9