BOTTLE,20230706CCHSIOENA
EXPOCODE,SECT_ID,STNNBR,CASTNO,SAMPNO,DATE,TIME,LATITUDE,LONGITUDE,DEPTH,CTDPRS,CTDPRS_FLAG_W,CTDTMP,CTDSAL,CTDSAL_FLAG_W,SALNTY,SALNTY_FLAG_W,CTDOXY,CTDOXY_FLAG_W,OXYGEN,OXYGEN_FLAG_W,SILCAT,SILCAT_FLAG_W,NITRAT,NITRAT_FLAG_W,PHSPHT,PHSPHT_FLAG_W,ALKALI,ALKALI_FLAG_W,PH_SWS,PH_SWS_FLAG_W,PH_TMP,CFC-12,CFC-12_FLAG_W,SF6,SF6_FLAG_W
,,,,,,,,,METERS,DBAR,,DEG C,PSS-78,,PSS-78,,UMOL/KG,,UMOL/KG,,UMOL/KG,,UMOL/KG,,UMOL/KG,,UMOL/KG,,,,DEG C,PMOL/KG,,FMOL/KG,
29AH20160617, OVIDE/BOCATS,22,1,3,20160628,211,43.478,-16.6356,4173,4233.6,2,2.4942,34.902,2,34.9004,2,242.7,2,242.2,2,44.56,2,22.01,2,1.486,2,-999,9,7.7395,2,25,-999,9,-999,9
29AH20160617, OVIDE/BOCATS,22,1,4,20160628,211,43.478,-16.6356,4173,4001.6,2,2.5345,34.9088,2,34.9081,2,242.9,2,242.3,2,42.25,2,21.89,2,1.463,2,-999,9,7.7387,2,25,-999,9,-999,9
29AH20160617, OVIDE/BOCATS,22,1,5,20160628,211,43.478,-16.6356,4173,3749.2,2,2.5688,34.9147,2,34.9137,2,243.4,2,242.5,2,41.12,2,21.6,2,1.437,2,-999,9,7.74,2,25,-999,9,-999,9
29AH20160617, OVIDE/BOCATS,22,1,6,20160628,211,43.478,-16.6356,4173,3501.2,2,2.6027,34.92,2,34.9189,2,244.7,2,243.9,2,39.22,2,21.3,2,1.419,2,-999,9,7.7377,2,25,-999,9,-999,9
29AH20160617, OVIDE/BOCATS,22,1,7,20160628,211,43.478,-16.6356,4173,3249.5,2,2.6662,34.9272,2,34.9259,2,247.2,2,246.6,2,35.07,2,20.74,2,1.383,2,-999,9,7.7367,2,25,-999,9,-999,9
29AH20160617, OVIDE/BOCATS,22,1,8,20160628,211,43.478,-16.6356,4173,3001.5,2,2.8075,34.9406,2,34.9394,2,249.6,2,248.9,2,31.29,2,20.18,2,1.35,2,-999,9,7.738,2,25,-999,9,-999,9
29AH20160617, OVIDE/BOCATS,22,1,9,20160628,211,43.478,-16.6356,4173,2750,2,2.9831,34.9508,2,34.949,2,253.9,2,253.4,2,26.41,2,19.36,2,1.292,2,-999,9,7.7412,2,25,-999,9,-999,9
29AH20160617, OVIDE/BOCATS,22,1,10,20160628,211,43.478,-16.6356,4173,2501.4,2,3.1725,34.9565,2,34.9567,2,258.1,2,258,2,21.47,2,18.61,2,1.251,2,-999,9,7.7348,2,25,-999,9,-999,9
29AH20160617, OVIDE/BOCATS,22,1,11,20160628,211,43.478,-16.6356,4173,2251,2,3.4147,34.9455,2,34.9454,2,266.2,2,266,2,15.43,2,17.72,2,1.169,2,-999,9,7.7336,2,25,-999,9,-999,9
29AH20160617, OVIDE/BOCATS,22,1,12,20160628,211,43.478,-16.6356,4173,2000.8,2,3.7491,34.9651,2,34.9667,2,264.9,2,264.7,2,13.14,2,17.56,2,1.158,2,-999,9,7.7288,2,25,-999,9,-999,9
29AH20160617, OVIDE/BOCATS,22,1,13,20160628,211,43.478,-16.6356,4173,1803.5,2,4.2161,35.0117,2,35.0123,2,260.2,2,259.6,2,12.01,2,17.58,2,1.148,2,-999,9,7.7279,2,25,-999,9,-999,9
29AH20160617, OVIDE/BOCATS,22,1,14,20160628,211,43.478,-16.6356,4173,1600,2,4.9766,35.1128,2,35.1154,2,249.7,2,248.8,2,11.35,2,17.46,2,1.142,2,-999,9,7.7292,2,25,-999,9,-999,9
29AH20160617, OVIDE/BOCATS,22,1,15,20160628,211,43.478,-16.6356,4173,1400.3,2,6.1275,35.2868,2,35.2864,2,232.7,2,232.5,2,11.09,2,17.44,2,1.13,2,-999,9,-999.0,9,25,-999,9,-999,9
29AH20160617, OVIDE/BOCATS,22,1,16,20160628,211,43.478,-16.6356,4173,1199.6,2,8.6259,35.7095,2,35.7111,2,200.9,2,201.7,2,10.34,2,16.96,2,1.075,2,-999,9,7.764,2,25,-999,9,-999,9
29AH20160617, OVIDE/BOCATS,22,1,17,20160628,211,43.478,-16.6356,4173,1098.3,2,9.1709,35.7506,2,35.75,2,193.9,2,193.4,2,9.89,2,16.96,2,1.071,2,-999,9,7.7554,2,25,-999,9,-999,9
29AH20160617, OVIDE/BOCATS,22,1,18,20160628,211,43.478,-16.6356,4173,1001.3,2,9.6386,35.7729,2,35.7715,2,188.3,2,187.7,2,9.67,2,16.89,2,1.063,2,-999,9,7.7623,2,25,-999,9,-999,9
29AH20160617, OVIDE/BOCATS,22,1,19,20160628,211,43.478,-16.6356,4173,899.4,2,9.9186,35.7371,2,35.7368,2,186.1,2,184.4,2,9.37,2,16.97,2,1.068,2,-999,9,7.7626,2,25,-999,9,-999,9
29AH20160617, OVIDE/BOCATS,22,1,20,20160628,211,43.478,-16.6356,4173,799.5,2,10.1437,35.6766,2,35.6755,2,185.9,2,184,2,8.94,2,17.03,2,1.067,2,-999,9,7.7647,2,25,-999,9,-999,9
29AH20160617, OVIDE/BOCATS,22,1,21,20160628,211,43.478,-16.6356,4173,700.4,2,10.2921,35.5591,2,-999,9,190,2,188.6,2,8.26,2,16.76,2,1.045,2,-999,9,7.7614,2,25,-999,9,-999,9
29AH20160617, OVIDE/BOCATS,22,1,22,20160628,211,43.478,-16.6356,4173,599.8,2,10.8543,35.5631,2,35.5631,2,207.5,2,206.6,2,6.24,2,14.49,2,0.901,2,-999,9,7.783,2,25,-999,9,-999,9
29AH20160617, OVIDE/BOCATS,22,1,23,20160628,211,43.478,-16.6356,4173,498.7,2,11.0126,35.519,2,35.5186,2,228.5,2,227.9,2,4.84,2,12.46,2,0.765,2,-999,9,7.7995,2,25,-999,9,-999,9
29AH20160617, OVIDE/BOCATS,22,1,24,20160628,211,43.478,-16.6356,4173,394.2,2,11.3431,35.5402,2,35.5392,2,230.2,2,230,2,4.32,2,11.63,2,0.715,2,-999,9,7.8103,2,25,-999,9,-999,9
29AH20160617, OVIDE/BOCATS,22,1,25,20160628,211,43.478,-16.6356,4173,301.5,2,11.7509,35.5853,2,35.5849,2,233.2,2,231.8,2,3.67,2,10.49,2,0.646,2,-999,9,7.8221,2,25,-999,9,-999,9
29AH20160617, OVIDE/BOCATS,22,1,26,20160628,211,43.478,-16.6356,4173,199.9,2,12.1155,35.6109,2,35.6142,4,230.5,2,229.3,2,3.57,2,10.19,2,0.618,2,-999,9,7.829,2,25,-999,9,-999,9
29AH20160617, OVIDE/BOCATS,22,1,27,20160628,211,43.478,-16.6356,4173,150.7,2,12.1874,35.5973,2,35.598,2,247.1,2,246.1,2,2.36,2,7.47,2,0.47,2,-999,9,7.8475,2,25,-999,9,-999,9
29AH20160617, OVIDE/BOCATS,22,1,28,20160628,211,43.478,-16.6356,4173,103.1,2,12.379,35.62,2,35.6209,2,243,2,242,2,2.58,2,7.76,2,0.485,2,-999,9,7.8472,2,25,-999,9,-999,9
29AH20160617, OVIDE/BOCATS,22,1,29,20160628,211,43.478,-16.6356,4173,50.8,2,12.8967,35.6135,2,35.6111,2,257.1,2,257.7,2,0.83,2,3.57,2,0.298,2,-999,9,7.8833,2,25,-999,9,-999,9
29AH20160617, OVIDE/BOCATS,22,1,30,20160628,211,43.478,-16.6356,4173,3.8,2,18.1164,35.6463,2,35.6483,2,243.5,2,243.6,2,0.33,2,-0.1,2,0.019,2,-999,9,7.9742,2,25,-999,9,-999,9
29AH20160617, OVIDE/BOCATS,23,1,3,20160628,801,43.7744,-17.0291,4011,4066.3,2,2.574,34.9112,2,34.91,2,242.1,2,241.5,2,43.44,2,21.98,2,1.463,2,2351.8,2,7.7397,2,25,0.0627,2,-999,9
29AH20160617, OVIDE/BOCATS,23,1,4,20160628,801,43.7744,-17.0291,4011,3998.5,2,2.5785,34.9123,2,34.9119,2,242,2,241.6,2,43.48,2,21.98,2,1.461,2,2350.9,2,7.7406,2,25,-999,9,-999,9
29AH20160617, OVIDE/BOCATS,23,1,5,20160628,801,43.7744,-17.0291,4011,3748.2,2,2.5874,34.9161,2,34.913,4,243.4,2,243.2,2,42.28,2,21.72,2,1.44,2,2343.7,2,7.7411,2,25,-999,9,-999,9
29AH20160617, OVIDE/BOCATS,23,1,6,20160628,801,43.7744,-17.0291,4011,3498.7,2,2.6195,34.9212,2,34.9204,2,245,2,244.6,2,40.21,2,21.25,2,1.425,2,2342.5,2,7.7373,2,25,-999,9,-999,9
29AH20160617, OVIDE/BOCATS,23,1,7,20160628,801,43.7744,-17.0291,4011,3247.8,2,2.6933,34.9292,2,34.9279,2,247.8,2,247.8,2,36.83,2,20.7,2,1.384,2,2336.4,2,7.7379,2,25,-999,9,-999,9
29AH20160617, OVIDE/BOCATS,23,1,8,20160628,801,43.7744,-17.0291,4011,2999.4,2,2.826,34.9399,2,34.9408,2,251.7,2,251.8,2,31.91,2,20.08,2,1.327,2,2331.1,2,7.7383,2,25,0.2799,2,0.1046,2
29AH20160617, OVIDE/BOCATS,23,1,9,20160628,801,43.7744,-17.0291,4011,2999.6,2,2.8269,34.9399,2,34.9406,2,251.6,2,251.4,2,31.85,2,19.95,2,1.323,2,2330,2,7.7391,2,25,0.2809,2,0.1467,2
29AH20160617, OVIDE/BOCATS,23,1,10,20160628,801,43.7744,-17.0291,4011,2748.7,2,2.9681,34.9458,2,34.9439,2,255.9,2,255.9,2,26.7,2,19.07,2,1.278,2,2321.6,2,7.7359,2,25,-999,9,-999,9
29AH20160617, OVIDE/BOCATS,23,1,11,20160628,801,43.7744,-17.0291,4011,2500.2,2,3.1287,34.9455,2,34.945,2,261.7,2,260.9,2,21.73,2,18.34,2,1.216,2,2319.1,2,7.7354,2,25,-999,9,-999,9
29AH20160617, OVIDE/BOCATS,23,1,12,20160628,801,43.7744,-17.0291,4011,2250.2,2,3.333,34.9414,2,34.9424,2,266,2,265.8,2,17.15,2,17.85,2,1.179,2,2312.5,2,7.732,2,25,-999,9,-999,9
29AH20160617, OVIDE/BOCATS,23,1,13,20160628,801,43.7744,-17.0291,4011,2000.2,2,3.6602,34.9529,2,34.9534,2,266.2,2,265.5,2,14.47,2,17.81,2,1.154,2,2306.2,2,7.728,2,25,-999,9,-999,9
29AH20160617, OVIDE/BOCATS,23,1,14,20160628,801,43.7744,-17.0291,4011,1799.9,2,3.9426,34.9711,2,34.9729,2,264.6,2,264.5,2,13.02,2,17.7,2,1.149,2,2305.2,2,7.7237,2,25,1.3768,2,0.6689,2
29AH20160617, OVIDE/BOCATS,23,1,15,20160628,801,43.7744,-17.0291,4011,1599.1,2,4.5924,35.0526,2,35.055,2,255.4,2,255.4,2,12.36,2,17.76,2,1.14,2,2310.8,2,7.7194,2,25,-999,9,-999,9
29AH20160617, OVIDE/BOCATS,23,1,16,20160628,801,43.7744,-17.0291,4011,1399.3,2,6.0164,35.2747,2,35.273,2,234,2,234.2,2,11.81,2,17.73,2,1.13,2,2326.6,2,7.7346,2,25,1.3068,2,0.7586,2
29AH20160617, OVIDE/BOCATS,23,1,17,20160628,801,43.7744,-17.0291,4011,1199.5,2,8.3654,35.6502,2,35.6481,2,206.7,2,206.4,2,10.89,2,17.38,2,1.088,2,2353.1,2,7.7571,2,25,1.0786,2,0.6468,2
29AH20160617, OVIDE/BOCATS,23,1,18,20160628,801,43.7744,-17.0291,4011,999.5,2,9.7022,35.7754,2,35.7751,2,188.4,2,188.6,2,10.09,2,17.1,2,1.064,2,2358.8,2,7.7664,2,25,1.0242,2,0.5883,2
29AH20160617, OVIDE/BOCATS,23,1,19,20160628,801,43.7744,-17.0291,4011,899.1,2,9.8963,35.6966,2,35.6976,2,186.1,2,184.2,2,9.71,2,17.26,2,1.078,2,2353.2,2,7.7611,2,25,-999,9,-999,9
29AH20160617, OVIDE/BOCATS,23,1,20,20160628,801,43.7744,-17.0291,4011,800.3,2,10.2968,35.6779,2,35.6775,2,186.6,2,186.2,2,8.83,2,16.78,2,1.046,2,2350.7,2,7.7641,2,25,1.1408,2,0.7696,2
29AH20160617, OVIDE/BOCATS,23,1,21,20160628,801,43.7744,-17.0291,4011,699.6,2,10.1033,35.4763,2,35.4779,2,202.6,2,201.3,2,7.79,2,15.83,2,1.001,2,2333.9,2,7.7617,2,25,-999,9,-999,9
29AH20160617, OVIDE/BOCATS,23,1,22,20160628,801,43.7744,-17.0291,4011,600.5,2,10.7545,35.5233,2,35.5241,2,220.3,2,220.3,2,5.74,2,13.35,2,0.838,2,2334,2,7.7899,2,25,-999,9,-999,9
29AH20160617, OVIDE/BOCATS,23,1,23,20160628,801,43.7744,-17.0291,4011,499.8,2,11.1419,35.5452,2,35.544,2,230.6,2,229.9,2,4.73,2,11.99,2,0.745,2,-999,9,7.805,2,25,1.6307,2,1.7865,2
29AH20160617, OVIDE/BOCATS,23,1,24,20160628,801,43.7744,-17.0291,4011,400.1,2,11.4698,35.5751,2,35.5745,2,233,2,232.6,2,4.06,2,11.08,2,0.678,2,2335.9,2,7.8141,2,25,-999,9,-999,9
29AH20160617, OVIDE/BOCATS,23,1,25,20160628,801,43.7744,-17.0291,4011,300.2,2,11.8378,35.6043,2,35.603,2,226.9,2,225,2,4.07,2,11.23,2,0.681,2,-999,9,7.8172,2,25,-999,9,-999,9
29AH20160617, OVIDE/BOCATS,23,1,26,20160628,801,43.7744,-17.0291,4011,199.3,2,12.0775,35.5987,2,35.5975,2,241.7,2,240.7,2,3.01,2,8.72,2,0.551,2,2336.4,2,7.8396,2,25,1.6383,2,1.9734,2
29AH20160617, OVIDE/BOCATS,23,1,27,20160628,801,43.7744,-17.0291,4011,149.9,2,12.148,35.5879,2,35.5871,2,250.7,2,249.8,2,2.21,2,6.97,2,0.459,2,-999,9,7.8591,2,25,-999,9,-999,9
29AH20160617, OVIDE/BOCATS,23,1,28,20160628,801,43.7744,-17.0291,4011,100.3,2,12.3862,35.6208,2,35.6204,2,243.2,2,242,2,2.49,2,7.59,2,0.483,2,2338.6,2,7.8532,2,25,-999,9,-999,9
29AH20160617, OVIDE/BOCATS,23,1,29,20160628,801,43.7744,-17.0291,4011,50.1,2,12.8364,35.6419,2,35.6412,2,251.6,2,250.8,2,1.19,2,4.93,2,0.343,2,-999,9,7.8758,2,25,-999,9,-999,9
29AH20160617, OVIDE/BOCATS,23,1,30,20160628,801,43.7744,-17.0291,4011,3.8,2,17.8854,35.6455,2,35.6461,2,244.3,2,244.7,2,0.29,2,-0.06,2,0.02,2,2344.6,2,7.9766,2,25,1.3863,2,1.933,2
29AH20160617, OVIDE/BOCATS,24,1,3,20160628,1607,44.0758,-17.4253,3801,3854.4,2,2.5557,34.9119,2,34.9125,2,242.4,2,242.6,2,40.89,2,21.3,2,1.457,2,2344.7,2,7.7361,2,25,-999,9,-999,9
29AH20160617, OVIDE/BOCATS,24,1,4,20160628,1607,44.0758,-17.4253,3801,3655.9,2,2.5638,34.9149,2,34.9139,2,243.3,2,243.1,2,39.73,2,21.26,2,1.438,2,-999,9,7.7369,2,25,-999,9,-999,9
29AH20160617, OVIDE/BOCATS,24,1,5,20160628,1607,44.0758,-17.4253,3801,3549.7,2,2.5872,34.918,2,34.9186,2,244.3,2,244.9,2,38.77,2,21.11,2,1.431,2,-999,9,7.7369,2,25,-999,9,-999,9
29AH20160617, OVIDE/BOCATS,24,1,6,20160628,1607,44.0758,-17.4253,3801,3500.6,2,2.5991,34.9194,2,34.9192,2,244.7,2,245,2,38.2,2,20.85,2,1.42,2,-999,9,7.7351,2,25,-999,9,-999,9
29AH20160617, OVIDE/BOCATS,24,1,7,20160628,1607,44.0758,-17.4253,3801,3249.4,2,2.6771,34.9281,2,34.9246,4,248,2,249,2,34.65,2,20.26,2,1.373,2,-999,9,7.7347,2,25,-999,9,-999,9
29AH20160617, OVIDE/BOCATS,24,1,8,20160628,1607,44.0758,-17.4253,3801,3000.1,2,2.7931,34.937,2,34.9356,2,252.9,2,253.4,2,30.27,2,19.44,2,1.311,2,-999,9,7.731,2,25,-999,9,-999,9
29AH20160617, OVIDE/BOCATS,24,1,9,20160628,1607,44.0758,-17.4253,3801,2750.2,2,2.9483,34.9456,2,34.9466,2,255.9,2,256.5,2,25.62,2,19.13,2,1.27,2,-999,9,7.7336,2,25,-999,9,-999,9
29AH20160617, OVIDE/BOCATS,24,1,10,20160628,1607,44.0758,-17.4253,3801,2499.3,2,3.1257,34.9437,2,34.9437,2,262.6,2,262.7,2,19.85,2,18.13,2,1.2,2,-999,9,7.7288,2,25,-999,9,-999,9
29AH20160617, OVIDE/BOCATS,24,1,11,20160628,1607,44.0758,-17.4253,3801,2250.1,2,3.3975,34.9474,2,34.9488,2,265.6,2,265.4,2,16.35,2,17.8,2,1.183,2,-999,9,7.7277,2,25,-999,9,-999,9
29AH20160617, OVIDE/BOCATS,24,1,12,20160628,1607,44.0758,-17.4253,3801,2000.1,2,3.5715,34.9324,2,34.9326,2,269.6,2,270.5,2,12.85,2,17.37,2,1.142,2,-999,9,7.721,2,25,-999,9,-999,9
29AH20160617, OVIDE/BOCATS,24,1,13,20160628,1607,44.0758,-17.4253,3801,2000.1,2,3.5715,34.9324,2,34.9324,2,269.5,2,269.5,2,12.81,2,17.3,2,1.143,2,-999,9,7.7238,2,25,-999,9,-999,9
29AH20160617, OVIDE/BOCATS,24,1,14,20160628,1607,44.0758,-17.4253,3801,1801,2,3.7865,34.9295,2,34.9295,2,269.5,2,269.4,2,11.56,2,17.42,2,1.132,2,-999,9,7.7192,2,25,-999,9,-999,9
29AH20160617, OVIDE/BOCATS,24,1,15,20160628,1607,44.0758,-17.4253,3801,1598.6,2,4.3102,34.9891,2,34.993,4,260.8,2,261.1,2,10.99,2,17.39,2,1.137,2,-999,9,7.7133,2,25,-999,9,-999,9
29AH20160617, OVIDE/BOCATS,24,1,16,20160628,1607,44.0758,-17.4253,3801,1399.3,2,5.0556,35.0863,2,35.086,2,250.3,2,250.2,2,10.71,2,17.58,2,1.136,2,-999,9,7.7176,2,25,-999,9,-999,9
29AH20160617, OVIDE/BOCATS,24,1,17,20160628,1607,44.0758,-17.4253,3801,1199.7,2,6.2189,35.2396,2,35.2397,2,232.3,2,230.7,2,10.55,2,17.76,2,1.139,2,-999,9,7.7249,2,25,-999,9,-999,9
29AH20160617, OVIDE/BOCATS,24,1,18,20160628,1607,44.0758,-17.4253,3801,1000.7,2,7.8629,35.4163,2,35.4151,2,205.1,2,205.4,2,10.27,2,18.05,2,1.141,2,-999,9,7.7299,2,25,-999,9,-999,9
29AH20160617, OVIDE/BOCATS,24,1,19,20160628,1607,44.0758,-17.4253,3801,901,2,8.3681,35.4054,2,35.4078,2,197.8,2,198.7,2,10.04,2,18.04,2,1.146,2,-999,9,7.7328,2,25,-999,9,-999,9
29AH20160617, OVIDE/BOCATS,24,1,20,20160628,1607,44.0758,-17.4253,3801,800.9,2,8.4821,35.2834,2,35.285,2,197.2,2,197.4,2,9.94,2,18.36,2,1.169,2,-999,9,7.7257,2,25,-999,9,-999,9
29AH20160617, OVIDE/BOCATS,24,1,21,20160628,1607,44.0758,-17.4253,3801,699.9,2,9.2438,35.2935,2,35.2932,2,197.9,2,197.5,2,8.91,2,17.75,2,1.107,2,-999,9,7.7329,2,25,-999,9,-999,9
29AH20160617, OVIDE/BOCATS,24,1,22,20160628,1607,44.0758,-17.4253,3801,596.2,2,10.2413,35.3714,2,35.3727,2,214.3,2,214.1,2,6.87,2,14.49,2,0.932,2,-999,9,7.7697,2,25,-999,9,-999,9
29AH20160617, OVIDE/BOCATS,24,1,23,20160628,1607,44.0758,-17.4253,3801,501.3,2,10.9299,35.4654,2,35.4648,2,222.8,2,221.9,2,5.46,2,12.85,2,0.81,2,-999,9,7.7948,2,25,-999,9,-999,9
29AH20160617, OVIDE/BOCATS,24,1,24,20160628,1607,44.0758,-17.4253,3801,399.8,2,11.2386,35.4542,2,35.4518,2,226,2,225.6,2,4.97,2,12.01,2,0.762,2,-999,9,7.8045,2,25,-999,9,-999,9
29AH20160617, OVIDE/BOCATS,24,1,25,20160628,1607,44.0758,-17.4253,3801,300.5,2,11.8307,35.5187,2,35.5168,2,233.9,2,234.2,2,4.29,2,10.65,2,0.662,2,-999,9,7.8293,2,25,-999,9,-999,9
29AH20160617, OVIDE/BOCATS,24,1,26,20160628,1607,44.0758,-17.4253,3801,199.6,2,12.5015,35.618,2,35.617,2,247.9,2,247.5,2,2.68,2,7.8,2,0.477,2,-999,9,7.8655,2,25,-999,9,-999,9
29AH20160617, OVIDE/BOCATS,24,1,27,20160628,1607,44.0758,-17.4253,3801,149.2,2,12.7685,35.6583,2,35.6588,2,245.8,2,246.5,2,2.79,2,7.83,2,0.466,2,-999,9,7.8677,2,25,-999,9,-999,9
29AH20160617, OVIDE/BOCATS,24,1,28,20160628,1607,44.0758,-17.4253,3801,99.3,2,13.048,35.6962,2,35.6902,4,245.2,2,244.2,2,2.72,2,7.83,2,0.449,2,-999,9,7.8686,2,25,-999,9,-999,9
29AH20160617, OVIDE/BOCATS,24,1,29,20160628,1607,44.0758,-17.4253,3801,50.6,2,13.5151,35.7079,2,35.7064,2,244.4,2,244.4,2,1.83,2,5.98,2,0.365,2,-999,9,7.8887,2,25,-999,9,-999,9
29AH20160617, OVIDE/BOCATS,24,1,30,20160628,1607,44.0758,-17.4253,3801,4.1,2,18.1541,35.602,2,35.5988,4,247.2,2,247.4,2,0.31,2,-0.06,2,0.032,2,-999,9,7.9919,2,25,-999,9,-999,9