BOTTLE,20230706CCHSIOENA
EXPOCODE,SECT_ID,STNNBR,CASTNO,SAMPNO,DATE,TIME,LATITUDE,LONGITUDE,DEPTH,CTDPRS,CTDPRS_FLAG_W,CTDTMP,CTDSAL,CTDSAL_FLAG_W,SALNTY,SALNTY_FLAG_W,CTDOXY,CTDOXY_FLAG_W,OXYGEN,OXYGEN_FLAG_W,SILCAT,SILCAT_FLAG_W,NITRAT,NITRAT_FLAG_W,PHSPHT,PHSPHT_FLAG_W,ALKALI,ALKALI_FLAG_W,PH_SWS,PH_SWS_FLAG_W,PH_TMP,CFC-12,CFC-12_FLAG_W,SF6,SF6_FLAG_W
,,,,,,,,,METERS,DBAR,,DEG C,PSS-78,,PSS-78,,UMOL/KG,,UMOL/KG,,UMOL/KG,,UMOL/KG,,UMOL/KG,,UMOL/KG,,,,DEG C,PMOL/KG,,FMOL/KG,
29AH20160617, OVIDE/BOCATS,88,1,3,20160713,901,59.7972,-42.0032,1724,1734,2,3.0171,34.9253,2,34.9253,2,285,2,286.1,2,10.99,2,15.6,2,0.992,2,2308.7,2,7.7218,2,25,1.8759,2,1.593,2
29AH20160617, OVIDE/BOCATS,88,1,4,20160713,901,59.7972,-42.0032,1724,1699.5,2,3.0834,34.9265,2,34.9271,2,283.8,2,283.9,2,10.82,2,15.53,2,1.002,2,-999,9,7.7238,2,25,-999,9,-999,9
29AH20160617, OVIDE/BOCATS,88,1,5,20160713,901,59.7972,-42.0032,1724,1647.7,2,3.1187,34.927,2,34.9272,2,283.6,2,283.4,2,10.63,2,15.59,2,0.996,2,-999,9,7.7219,2,25,-999,9,-999,9
29AH20160617, OVIDE/BOCATS,88,1,6,20160713,901,59.7972,-42.0032,1724,1599.2,2,3.1609,34.9277,2,34.9279,2,283.3,2,283.3,2,10.59,2,15.73,2,0.992,2,2308.9,2,7.7314,2,25,-999,9,-999,9
29AH20160617, OVIDE/BOCATS,88,1,7,20160713,901,59.7972,-42.0032,1724,1398.9,2,3.407,34.9315,2,34.9308,2,281.4,2,281.5,2,10.46,2,15.9,2,1.004,2,-999,9,7.731,2,25,-999,9,-999,9
29AH20160617, OVIDE/BOCATS,88,1,8,20160713,901,59.7972,-42.0032,1724,1198.8,2,3.6326,34.9349,2,34.9329,2,279.1,2,278.4,2,10.39,2,16.02,2,1.018,2,2309,2,7.7196,2,25,1.9352,2,1.5853,2
29AH20160617, OVIDE/BOCATS,88,1,9,20160713,901,59.7972,-42.0032,1724,1077.9,2,3.744,34.9268,2,34.9274,2,284.3,2,284.3,2,9.69,2,16.04,2,1.023,2,2309.4,2,7.7203,2,25,-999,9,-999,9
29AH20160617, OVIDE/BOCATS,88,1,10,20160713,901,59.7972,-42.0032,1724,898.7,2,3.9974,34.9324,2,34.9325,2,285.8,2,285.6,2,9.27,2,16.15,2,1.021,2,-999,9,7.7176,2,25,-999,9,-999,9
29AH20160617, OVIDE/BOCATS,88,1,11,20160713,901,59.7972,-42.0032,1724,800.3,2,4.1645,34.942,2,34.9419,2,285.5,2,285.8,2,9.19,2,16.1,2,1.03,2,2309.9,2,7.7215,2,25,2.1829,2,2.1109,2
29AH20160617, OVIDE/BOCATS,88,1,12,20160713,901,59.7972,-42.0032,1724,700.4,2,4.2707,34.9475,2,34.9473,2,286.1,2,285.8,2,9.11,2,16.07,2,1.03,2,-999,9,7.7218,2,25,-999,9,-999,9
29AH20160617, OVIDE/BOCATS,88,1,13,20160713,901,59.7972,-42.0032,1724,599.4,2,4.4956,34.962,2,34.9623,2,285.4,2,285.5,2,8.83,2,15.98,2,1.017,2,2311.3,2,7.7236,2,25,2.1953,2,2.2614,2
29AH20160617, OVIDE/BOCATS,88,1,14,20160713,901,59.7972,-42.0032,1724,498.1,2,4.7162,34.975,2,34.9751,2,285,2,285.3,2,8.65,2,15.84,2,1.004,2,-999,9,7.7283,2,25,-999,9,-999,9
29AH20160617, OVIDE/BOCATS,88,1,15,20160713,901,59.7972,-42.0032,1724,400.9,2,5.0473,34.9985,2,34.998,2,288,2,287.8,2,8.32,2,15.68,2,1.002,2,2311.2,2,7.734,2,25,2.2042,2,2.4307,2
29AH20160617, OVIDE/BOCATS,88,1,16,20160713,901,59.7972,-42.0032,1724,300.1,2,5.4214,35.0224,2,35.0222,2,285.3,2,285.5,2,7.99,2,15.31,2,0.976,2,-999,9,7.7395,2,25,-999,9,-999,9
29AH20160617, OVIDE/BOCATS,88,1,17,20160713,901,59.7972,-42.0032,1724,200.8,2,5.8697,35.0571,2,35.056,2,283.6,2,283.3,2,7.67,2,15.13,2,1.029,2,2315.8,2,7.7436,2,25,2.1526,2,2.4225,2
29AH20160617, OVIDE/BOCATS,88,1,18,20160713,901,59.7972,-42.0032,1724,148.2,2,6.0128,35.0579,2,35.0562,2,283.3,2,282.5,2,7.28,2,15.09,2,0.971,2,-999,9,7.7519,2,25,-999,9,-999,9
29AH20160617, OVIDE/BOCATS,88,1,19,20160713,901,59.7972,-42.0032,1724,99.1,2,6.3473,35.0351,2,35.0318,4,288,2,289.1,2,5.21,2,13.09,2,0.877,2,2315.7,2,7.7716,2,25,-999,9,-999,9
29AH20160617, OVIDE/BOCATS,88,1,20,20160713,901,59.7972,-42.0032,1724,49.2,2,7.559,34.9401,2,34.9411,2,296.5,2,296.9,2,2.98,2,8.97,2,0.652,2,-999,9,7.8305,2,25,-999,9,-999,9
29AH20160617, OVIDE/BOCATS,88,1,21,20160713,901,59.7972,-42.0032,1724,3.9,2,8.7137,34.8956,2,34.8943,2,299.9,2,300.4,2,2.81,2,7.28,2,0.514,2,2308.9,2,7.8678,2,25,2.102,2,2.4927,2
29AH20160617, OVIDE/BOCATS,89,1,3,20160713,1131,59.8084,-42.2341,1218,1220.2,2,3.7176,34.9267,2,34.9264,2,284.3,2,284.1,2,9.7,2,15.89,2,1.035,2,-999,9,7.7208,2,25,-999,9,-999,9
29AH20160617, OVIDE/BOCATS,89,1,4,20160713,1131,59.8084,-42.2341,1218,1149,2,3.8409,34.9237,2,34.9235,2,286.2,2,286.5,2,9.36,2,15.84,2,1.031,2,-999,9,7.7194,2,25,-999,9,-999,9
29AH20160617, OVIDE/BOCATS,89,1,5,20160713,1131,59.8084,-42.2341,1218,1079.8,2,4.0249,34.933,2,34.9332,2,286.2,2,286.2,2,9.14,2,15.95,2,1.031,2,-999,9,7.7215,2,25,-999,9,-999,9
29AH20160617, OVIDE/BOCATS,89,1,6,20160713,1131,59.8084,-42.2341,1218,969.7,2,4.0446,34.9341,2,34.9337,2,286.5,2,286.6,2,9.14,2,16.02,2,1.023,2,-999,9,7.7223,2,25,-999,9,-999,9
29AH20160617, OVIDE/BOCATS,89,1,7,20160713,1131,59.8084,-42.2341,1218,876.8,2,4.5527,34.9581,2,34.958,2,284.9,2,285,2,8.68,2,15.52,2,1.003,2,-999,9,7.7274,2,25,-999,9,-999,9
29AH20160617, OVIDE/BOCATS,89,1,8,20160713,1131,59.8084,-42.2341,1218,799.4,2,4.7999,34.9597,2,34.9575,2,286.2,2,287.7,2,8.33,2,15.29,2,0.972,2,-999,9,7.7305,2,25,-999,9,-999,9
29AH20160617, OVIDE/BOCATS,89,1,9,20160713,1131,59.8084,-42.2341,1218,699.2,2,4.902,34.9547,2,34.954,2,287.1,2,-999,9,8.26,2,14.98,2,0.964,2,-999,9,7.7309,2,25,-999,9,-999,9
29AH20160617, OVIDE/BOCATS,89,1,10,20160713,1131,59.8084,-42.2341,1218,600.4,2,4.8859,34.9479,2,34.9476,2,288.2,2,288.3,2,8.07,2,15.09,2,0.959,2,-999,9,7.7267,2,25,-999,9,-999,9
29AH20160617, OVIDE/BOCATS,89,1,11,20160713,1131,59.8084,-42.2341,1218,399.5,2,5.116,34.9505,2,34.9507,2,288.2,2,288.1,2,7.71,2,14.44,2,0.933,2,-999,9,7.7402,2,25,-999,9,-999,9
29AH20160617, OVIDE/BOCATS,89,1,12,20160713,1131,59.8084,-42.2341,1218,299.7,2,4.8201,34.86,2,34.858,2,295.7,2,295.5,2,6.66,2,12.97,2,0.88,2,-999,9,7.7485,2,25,-999,9,-999,9
29AH20160617, OVIDE/BOCATS,89,1,13,20160713,1131,59.8084,-42.2341,1218,199.3,2,4.818,34.8223,2,34.8223,2,298.9,2,298.3,2,5.83,2,12.16,2,0.84,2,-999,9,7.7582,2,25,-999,9,-999,9
29AH20160617, OVIDE/BOCATS,89,1,14,20160713,1131,59.8084,-42.2341,1218,149.5,2,4.854,34.7853,2,34.7851,2,300.9,2,300.4,2,5.17,2,11.3,2,0.815,2,-999,9,7.7655,2,25,-999,9,-999,9
29AH20160617, OVIDE/BOCATS,89,1,15,20160713,1131,59.8084,-42.2341,1218,100.1,2,4.78,34.739,2,34.7435,4,303.3,2,302.5,2,4.76,2,10.63,2,0.789,2,-999,9,7.7709,2,25,-999,9,-999,9
29AH20160617, OVIDE/BOCATS,89,1,16,20160713,1131,59.8084,-42.2341,1218,49.8,2,4.0629,34.5042,2,34.5089,4,311.6,2,311.5,2,3.87,2,9.09,2,0.709,2,-999,9,7.7775,2,25,-999,9,-999,9
29AH20160617, OVIDE/BOCATS,89,1,17,20160713,1131,59.8084,-42.2341,1218,3.2,2,3.9485,34.0502,2,34.051,2,377,2,377.5,2,0.47,2,1.07,2,0.158,2,-999,9,7.9126,2,25,-999,9,-999,9
29AH20160617, OVIDE/BOCATS,90,1,3,20160713,1311,59.816,-42.2751,899,896,2,4.4523,34.9545,2,34.9551,2,284.6,2,285.1,2,8.68,2,15.88,2,1.015,2,2309.7,2,7.7237,2,25,2.2011,2,2.1935,2
29AH20160617, OVIDE/BOCATS,90,1,4,20160713,1311,59.816,-42.2751,899,799.1,2,4.5999,34.9594,2,34.9585,2,284.8,2,284.9,2,8.49,2,15.62,2,0.997,2,-999,9,7.7257,2,25,-999,9,-999,9
29AH20160617, OVIDE/BOCATS,90,1,5,20160713,1311,59.816,-42.2751,899,760.4,2,4.6027,34.9593,2,34.9561,4,285,2,285.1,2,8.44,2,15.48,2,0.995,2,-999,9,7.728,2,25,-999,9,-999,9
29AH20160617, OVIDE/BOCATS,90,1,6,20160713,1311,59.816,-42.2751,899,596.5,2,4.8057,34.9578,2,34.9542,4,286.1,2,286.3,2,8.04,2,15.01,2,0.974,2,2308.8,2,7.7327,2,25,2.2427,2,2.5199,2
29AH20160617, OVIDE/BOCATS,90,1,7,20160713,1311,59.816,-42.2751,899,499.9,2,5.0106,34.9598,2,34.9595,2,287.1,2,287.4,2,7.63,2,14.73,2,0.958,2,-999,9,7.7359,2,25,-999,9,-999,9
29AH20160617, OVIDE/BOCATS,90,1,8,20160713,1311,59.816,-42.2751,899,413.6,2,5.06,34.9206,2,34.9176,4,290.5,2,290.7,2,6.75,2,13.82,2,0.913,2,2307.5,2,7.7441,2,25,2.2864,2,2.5971,2
29AH20160617, OVIDE/BOCATS,90,1,9,20160713,1311,59.816,-42.2751,899,372.1,2,5.4142,34.972,2,34.9721,2,287.3,2,287.8,2,7.08,2,14.19,2,0.926,2,-999,9,7.746,2,25,-999,9,-999,9
29AH20160617, OVIDE/BOCATS,90,1,10,20160713,1311,59.816,-42.2751,899,300.2,2,4.6769,34.8118,2,34.813,2,297.9,2,298.1,2,5.91,2,12.12,2,0.842,2,2304.5,2,7.7544,2,25,-999,9,-999,9
29AH20160617, OVIDE/BOCATS,90,1,11,20160713,1311,59.816,-42.2751,899,199.2,2,4.8567,34.7894,2,34.788,2,300,2,300,2,5.26,2,11.32,2,0.811,2,2303.5,2,7.7664,2,25,-999,9,-999,9
29AH20160617, OVIDE/BOCATS,90,1,12,20160713,1311,59.816,-42.2751,899,109.1,2,4.6567,34.71,2,34.704,4,303.7,2,304,2,4.58,2,10.38,2,0.774,2,2298.4,2,7.7702,2,25,2.4433,2,2.932,2
29AH20160617, OVIDE/BOCATS,90,1,13,20160713,1311,59.816,-42.2751,899,49.9,2,4.3004,34.5535,2,34.5515,2,310.1,2,309.8,2,3.65,2,8.99,2,0.696,2,2293.3,2,7.7815,2,25,-999,9,-999,9
29AH20160617, OVIDE/BOCATS,90,1,14,20160713,1311,59.816,-42.2751,899,3.9,2,4.1904,33.9319,2,33.9326,2,398.8,2,403.6,4,0.28,2,0.29,2,0.046,2,2265.1,2,7.9749,2,25,2.6698,2,3.0618,2
29AH20160617, OVIDE/BOCATS,91,1,3,20160713,1437,59.8182,-42.3131,549,543.5,2,4.9985,34.9619,2,34.9622,2,287,2,287.6,2,7.89,2,14.82,2,0.951,2,-999,9,7.7374,2,25,-999,9,-999,9
29AH20160617, OVIDE/BOCATS,91,1,4,20160713,1437,59.8182,-42.3131,549,500.5,2,5.0097,34.9616,2,34.9604,2,287.2,2,287.2,2,7.87,2,14.78,2,0.963,2,-999,9,7.7325,2,25,-999,9,-999,9
29AH20160617, OVIDE/BOCATS,91,1,5,20160713,1437,59.8182,-42.3131,549,400,2,5.043,34.9469,2,34.9456,2,288.4,2,288.6,2,7.53,2,14.34,2,0.936,2,-999,9,7.7416,2,25,-999,9,-999,9
29AH20160617, OVIDE/BOCATS,91,1,6,20160713,1437,59.8182,-42.3131,549,299.5,2,5.0545,34.8818,2,34.8858,4,293.3,2,292.9,2,5.98,2,12.49,2,0.878,2,-999,9,7.7546,2,25,-999,9,-999,9
29AH20160617, OVIDE/BOCATS,91,1,7,20160713,1437,59.8182,-42.3131,549,200.1,2,4.8108,34.7595,2,34.7545,4,302.2,2,302.3,2,4.28,2,10.54,2,0.787,2,-999,9,7.7726,2,25,-999,9,-999,9
29AH20160617, OVIDE/BOCATS,91,1,8,20160713,1437,59.8182,-42.3131,549,149.9,2,4.7057,34.7263,2,34.7251,2,303.3,2,303.5,2,4.02,2,10.12,2,0.773,2,-999,9,7.7737,2,25,-999,9,-999,9
29AH20160617, OVIDE/BOCATS,91,1,9,20160713,1437,59.8182,-42.3131,549,99.9,2,4.3588,34.6393,2,34.639,2,306.8,2,306.7,2,3.8,2,9.56,2,0.74,2,-999,9,7.773,2,25,-999,9,-999,9
29AH20160617, OVIDE/BOCATS,91,1,10,20160713,1437,59.8182,-42.3131,549,49.5,2,4.5077,34.5162,2,34.5154,2,312.8,2,313.5,2,2.71,2,7.93,2,0.645,2,-999,9,7.7935,2,25,-999,9,-999,9
29AH20160617, OVIDE/BOCATS,91,1,11,20160713,1437,59.8182,-42.3131,549,3.9,2,4.7055,34.0718,2,34.0714,2,397.7,2,398.7,2,0.26,2,0.3,2,0.05,2,-999,9,7.9776,2,25,-999,9,-999,9
29AH20160617, OVIDE/BOCATS,92,1,3,20160713,1547,59.8215,-42.3979,307,297.8,2,5.0029,34.8316,2,34.8298,2,297.1,2,298.2,2,5.53,2,11.77,2,0.826,2,2304.5,2,7.7607,2,25,-999,9,-999,9
29AH20160617, OVIDE/BOCATS,92,1,4,20160713,1547,59.8215,-42.3979,307,297.8,2,5.0035,34.8309,2,-999,9,297.4,2,-999,9,-999,9,-999,9,-999,9,-999,9,-999.0,9,25,2.35,2,2.6134,2
29AH20160617, OVIDE/BOCATS,92,1,5,20160713,1547,59.8215,-42.3979,307,249.3,2,4.9025,34.7934,2,34.793,2,300.6,2,300.6,2,4.99,2,11.21,2,0.81,2,-999,9,7.7678,2,25,-999,9,-999,9
29AH20160617, OVIDE/BOCATS,92,1,6,20160713,1547,59.8215,-42.3979,307,249.3,2,4.9025,34.7935,2,-999,9,300.5,2,-999,9,-999,9,-999,9,-999,9,-999,9,-999.0,9,25,-999,9,-999,9
29AH20160617, OVIDE/BOCATS,92,1,7,20160713,1547,59.8215,-42.3979,307,199.2,2,4.845,34.7724,2,34.7688,4,301.5,2,302.3,2,4.87,2,10.89,2,0.796,2,2300.3,2,7.769,2,25,-999,9,-999,9
29AH20160617, OVIDE/BOCATS,92,1,8,20160713,1547,59.8215,-42.3979,307,199.2,2,4.8448,34.7722,2,-999,9,301.4,2,-999,9,-999,9,-999,9,-999,9,-999,9,-999.0,9,25,2.4056,2,2.8676,2
29AH20160617, OVIDE/BOCATS,92,1,9,20160713,1547,59.8215,-42.3979,307,149.2,2,4.5344,34.6861,2,34.6874,2,305.2,2,314.7,4,4.51,2,10.34,2,0.769,2,-999,9,7.77,2,25,-999,9,-999,9
29AH20160617, OVIDE/BOCATS,92,1,10,20160713,1547,59.8215,-42.3979,307,149.4,2,4.5329,34.6857,2,-999,9,304.8,2,-999,9,-999,9,-999,9,-999,9,-999,9,-999.0,9,25,-999,9,-999,9
29AH20160617, OVIDE/BOCATS,92,1,11,20160713,1547,59.8215,-42.3979,307,99.9,2,4.4567,34.6438,2,34.6345,4,307.7,2,-999,9,4.06,2,9.72,2,0.734,2,2294.6,2,7.7773,2,25,-999,9,-999,9
29AH20160617, OVIDE/BOCATS,92,1,12,20160713,1547,59.8215,-42.3979,307,100,2,4.4562,34.6434,2,-999,9,307.7,2,-999,9,-999,9,-999,9,-999,9,-999,9,-999.0,9,25,2.4805,2,2.9442,2
29AH20160617, OVIDE/BOCATS,92,1,13,20160713,1547,59.8215,-42.3979,307,38.9,2,5.5432,34.6284,2,34.6303,2,311.9,2,311.1,2,2.8,2,8.12,2,0.648,2,-999,9,7.809,2,25,-999,9,-999,9
29AH20160617, OVIDE/BOCATS,92,1,14,20160713,1547,59.8215,-42.3979,307,39,2,5.5153,34.6253,2,-999,9,313.9,2,-999,9,-999,9,-999,9,-999,9,-999,9,-999.0,9,25,-999,9,-999,9
29AH20160617, OVIDE/BOCATS,92,1,15,20160713,1547,59.8215,-42.3979,307,3.8,2,5.5623,34.3001,2,34.2998,2,378,2,376.3,2,0.31,2,0.76,2,0.108,2,2286.5,2,7.9552,2,25,-999,9,-999,9
29AH20160617, OVIDE/BOCATS,92,1,16,20160713,1547,59.8215,-42.3979,307,3.8,2,5.5775,34.3004,2,-999,9,377.3,2,-999,9,-999,9,-999,9,-999,9,-999,9,-999.0,9,25,2.5168,2,2.8303,2
29AH20160617, OVIDE/BOCATS,93,1,3,20160713,1650,59.8308,-42.5201,228,220.7,2,5.7105,34.9768,2,34.9728,4,287.8,2,288.9,2,6.59,2,13.76,2,0.93,2,-999,9,7.7551,2,25,-999,9,-999,9
29AH20160617, OVIDE/BOCATS,93,1,4,20160713,1650,59.8308,-42.5201,228,198.8,2,5.0532,34.8212,2,34.8085,4,299,2,299.3,2,5.27,2,11.48,2,0.839,2,-999,9,7.7676,2,25,-999,9,-999,9
29AH20160617, OVIDE/BOCATS,93,1,5,20160713,1650,59.8308,-42.5201,228,150.7,2,4.8365,34.7572,2,34.7531,4,302.4,2,313.7,4,4.71,2,10.72,2,0.8,2,-999,9,7.7694,2,25,-999,9,-999,9
29AH20160617, OVIDE/BOCATS,93,1,6,20160713,1650,59.8308,-42.5201,228,110.2,2,4.6572,34.698,2,34.7015,4,306.9,2,317.2,4,4.41,2,10.3,2,0.76,2,-999,9,7.7724,2,25,-999,9,-999,9
29AH20160617, OVIDE/BOCATS,93,1,7,20160713,1650,59.8308,-42.5201,228,40,2,4.3583,34.4027,2,34.3936,4,322.3,2,322.6,2,2.26,2,7.01,2,0.542,2,-999,9,7.8078,2,25,-999,9,-999,9
29AH20160617, OVIDE/BOCATS,93,1,8,20160713,1650,59.8308,-42.5201,228,4.8,2,4.9925,34.262,2,34.2621,2,380.9,2,383.8,4,0.28,2,0.41,2,0.083,2,-999,9,7.952,2,25,-999,9,-999,9
29AH20160617, OVIDE/BOCATS,94,1,3,20160713,1743,59.8458,-42.6006,201,192.8,2,4.9747,34.8321,2,34.8311,2,296.6,2,296.7,2,5.8,2,12.12,2,0.847,2,2301.5,2,7.7565,2,25,-999,9,-999,9
29AH20160617, OVIDE/BOCATS,94,1,4,20160713,1743,59.8458,-42.6006,201,149.5,2,4.9967,34.8241,2,34.8243,2,297.5,2,297.4,2,5.62,2,11.99,2,0.851,2,-999,9,7.7616,2,25,-999,9,-999,9
29AH20160617, OVIDE/BOCATS,94,1,5,20160713,1743,59.8458,-42.6006,201,95.1,2,6.1857,34.9287,2,34.9283,2,293.7,2,294.1,2,4.77,2,11.51,2,0.816,2,2306.5,2,7.7829,2,25,-999,9,-999,9
29AH20160617, OVIDE/BOCATS,94,1,6,20160713,1743,59.8458,-42.6006,201,36.8,2,6.879,34.6679,2,34.6369,4,317.1,2,332.1,4,1.25,2,5.26,2,0.331,2,-999,9,7.879,2,25,-999,9,-999,9
29AH20160617, OVIDE/BOCATS,94,1,7,20160713,1743,59.8458,-42.6006,201,4.2,2,4.9617,34.2271,2,34.2269,2,389,2,390.1,2,0.25,2,0.35,2,0.067,2,2284.6,2,7.9593,2,25,-999,9,-999,9
29AH20160617, OVIDE/BOCATS,95,1,3,20160713,1840,59.8595,-42.7012,184,175.6,2,4.7935,34.767,2,34.7679,2,296.7,2,297.2,2,5.96,2,11.99,2,0.854,2,-999,9,7.7535,2,25,-999,9,-999,9
29AH20160617, OVIDE/BOCATS,95,1,4,20160713,1840,59.8595,-42.7012,184,145.3,2,4.8154,34.7485,2,34.7579,4,300.1,2,300.4,2,5.34,2,11.66,2,0.825,2,-999,9,7.7623,2,25,-999,9,-999,9
29AH20160617, OVIDE/BOCATS,95,1,5,20160713,1840,59.8595,-42.7012,184,86.8,2,4.6859,34.5296,2,34.5261,4,314.2,2,314.8,2,3.12,2,8.77,2,0.682,2,-999,9,7.7929,2,25,-999,9,-999,9
29AH20160617, OVIDE/BOCATS,95,1,6,20160713,1840,59.8595,-42.7012,184,63,2,6.0015,34.6468,2,34.637,4,315,2,313.5,2,2.27,2,7.65,2,0.562,2,-999,9,7.8291,2,25,-999,9,-999,9
29AH20160617, OVIDE/BOCATS,95,1,7,20160713,1840,59.8595,-42.7012,184,33.3,2,7.6853,34.8099,2,34.8076,2,313.2,2,314,2,2.31,2,6.98,2,0.473,2,-999,9,7.8663,2,25,-999,9,-999,9
29AH20160617, OVIDE/BOCATS,95,1,9,20160713,1840,59.8595,-42.7012,184,3.2,2,6.0083,34.3436,2,34.3423,2,380.3,2,384.5,4,0.37,2,0.38,2,0.072,2,-999,9,7.9829,2,25,-999,9,-999,9
29AH20160617, OVIDE/BOCATS,96,1,3,20160713,1938,59.8758,-42.7955,184,175.6,2,4.7639,34.7397,2,34.7385,2,297.5,2,298.3,2,5.44,2,11.6,2,0.833,2,-999,9,7.7557,2,25,-999,9,-999,9
29AH20160617, OVIDE/BOCATS,96,1,4,20160713,1938,59.8758,-42.7955,184,129.7,2,4.6647,34.681,2,34.6638,4,307.4,2,306.5,2,4.36,2,10.44,2,0.773,2,-999,9,7.7709,2,25,-999,9,-999,9
29AH20160617, OVIDE/BOCATS,96,1,5,20160713,1938,59.8758,-42.7955,184,109.7,2,3.8115,34.475,2,34.4955,4,311,2,310.9,2,4.15,2,9.47,2,0.731,2,-999,9,7.771,2,25,-999,9,-999,9
29AH20160617, OVIDE/BOCATS,96,1,6,20160713,1938,59.8758,-42.7955,184,73.6,2,3.7374,34.3311,2,34.3137,4,318.8,2,318.8,2,2.84,2,7.62,2,0.634,2,-999,9,7.7851,2,25,-999,9,-999,9
29AH20160617, OVIDE/BOCATS,96,1,7,20160713,1938,59.8758,-42.7955,184,16.1,2,2.9433,33.5244,2,33.5826,4,382.3,2,383.9,2,0.19,2,0.18,2,0.094,2,-999,9,7.9097,2,25,-999,9,-999,9
29AH20160617, OVIDE/BOCATS,96,1,8,20160713,1938,59.8758,-42.7955,184,4.7,2,2.7473,33.3872,2,33.3827,4,395.4,2,396,2,0.18,2,0.04,2,0.086,2,-999,9,7.9312,2,25,-999,9,-999,9
29AH20160617, OVIDE/BOCATS,97,1,3,20160713,2047,59.8913,-42.9058,184,175.5,2,4.8083,34.7249,2,34.7244,2,300.3,2,301.2,2,4.86,2,10.9,2,0.801,2,2297.7,2,7.7637,2,25,-999,9,-999,9
29AH20160617, OVIDE/BOCATS,97,1,4,20160713,2047,59.8913,-42.9058,184,148,2,4.6948,34.6844,2,34.671,4,306.1,2,306.2,2,4.27,2,10.3,2,0.774,2,2297.6,2,7.7723,2,25,-999,9,-999,9
29AH20160617, OVIDE/BOCATS,97,1,5,20160713,2047,59.8913,-42.9058,184,80.1,2,3.7951,34.3394,2,34.3343,4,317.3,2,318,2,2.79,2,7.66,2,0.637,2,2286,2,7.7843,2,25,-999,9,-999,9
29AH20160617, OVIDE/BOCATS,97,1,6,20160713,2047,59.8913,-42.9058,184,44.2,2,2.3719,34.0071,2,34.0053,2,323.5,2,321.8,2,3.36,2,7.12,2,0.629,2,2265,2,7.7632,2,25,-999,9,-999,9
29AH20160617, OVIDE/BOCATS,97,1,7,20160713,2047,59.8913,-42.9058,184,5.5,2,3.5112,33.4451,2,33.4402,4,389.3,2,389.8,2,0.25,2,0.1,2,0.063,2,2244.5,2,7.9485,2,25,-999,9,-999,9
29AH20160617, OVIDE/BOCATS,98,1,3,20160713,2207,59.9038,-43.0041,170,156.6,2,3.9488,34.4825,2,34.4814,2,307.2,2,307.3,2,4.6,2,9.6,2,0.742,2,-999,9,7.7646,2,25,-999,9,-999,9
29AH20160617, OVIDE/BOCATS,98,1,4,20160713,2207,59.9038,-43.0041,170,120.6,2,3.6064,34.3765,2,34.3803,4,310.2,2,310.5,2,4.48,2,9.31,2,0.727,2,-999,9,7.7608,2,25,-999,9,-999,9
29AH20160617, OVIDE/BOCATS,98,1,5,20160713,2207,59.9038,-43.0041,170,90.1,2,3.0971,34.2343,2,34.2341,2,316.1,2,316.4,2,3.83,2,8.46,2,0.681,2,-999,9,7.7724,2,25,-999,9,-999,9
29AH20160617, OVIDE/BOCATS,98,1,6,20160713,2207,59.9038,-43.0041,170,35,2,2.5046,33.5004,2,33.4969,4,360.3,2,362,2,0.72,2,1.17,2,0.164,2,-999,9,7.8636,2,25,-999,9,-999,9
29AH20160617, OVIDE/BOCATS,98,1,7,20160713,2207,59.9038,-43.0041,170,4.4,2,4.4999,32.2096,2,32.1924,4,357.5,2,358.2,2,0.41,2,0.07,2,0.091,2,-999,9,7.8906,2,25,-999,9,-999,9
29AH20160617, OVIDE/BOCATS,99,1,3,20160713,2301,59.913,-43.0754,161,153.2,2,3.6503,34.3762,2,34.3729,4,312.4,2,314.3,2,4.12,2,8.92,2,0.702,2,-999,9,7.7785,2,25,-999,9,-999,9
29AH20160617, OVIDE/BOCATS,99,1,4,20160713,2301,59.913,-43.0754,161,111.6,2,3.6881,34.2138,2,34.2089,4,323,2,326.2,4,2.05,2,6.5,2,0.56,2,-999,9,7.8022,2,25,-999,9,-999,9
29AH20160617, OVIDE/BOCATS,99,1,5,20160713,2301,59.913,-43.0754,161,41.3,2,0.5574,32.8621,2,32.82,4,370.7,2,369.8,2,0.67,2,1.41,2,0.267,2,-999,9,7.839,2,25,-999,9,-999,9
29AH20160617, OVIDE/BOCATS,99,1,6,20160713,2301,59.913,-43.0754,161,5.4,2,4.6111,31.3261,2,31.3188,4,354.6,2,354.9,2,0.63,2,0.06,2,0.098,2,-999,9,7.8815,2,25,-999,9,-999,9