BOTTLE,20230706CCHSIOENA
EXPOCODE,SECT_ID,STNNBR,CASTNO,SAMPNO,DATE,TIME,LATITUDE,LONGITUDE,DEPTH,CTDPRS,CTDPRS_FLAG_W,CTDTMP,CTDSAL,CTDSAL_FLAG_W,SALNTY,SALNTY_FLAG_W,CTDOXY,CTDOXY_FLAG_W,OXYGEN,OXYGEN_FLAG_W,SILCAT,SILCAT_FLAG_W,NITRAT,NITRAT_FLAG_W,PHSPHT,PHSPHT_FLAG_W,ALKALI,ALKALI_FLAG_W,PH_SWS,PH_SWS_FLAG_W,PH_TMP,CFC-12,CFC-12_FLAG_W,SF6,SF6_FLAG_W
,,,,,,,,,METERS,DBAR,,DEG C,PSS-78,,PSS-78,,UMOL/KG,,UMOL/KG,,UMOL/KG,,UMOL/KG,,UMOL/KG,,UMOL/KG,,,,DEG C,PMOL/KG,,FMOL/KG,
29AH20160617, OVIDE/BOCATS,77,1,3,20160711,1947,59.4922,-37.6779,3112,3150.8,2,1.4847,34.9016,2,34.8976,4,303.6,2,303.7,2,7.91,2,13.16,2,0.893,2,2306,2,7.7078,2,25,2.2613,2,2.0575,2
29AH20160617, OVIDE/BOCATS,77,1,4,20160711,1947,59.4922,-37.6779,3112,3150.7,2,1.4836,34.9016,2,34.9008,2,303.8,2,304.5,2,7.83,2,13.26,2,0.894,2,-999,9,-999.0,9,25,-999,9,-999,9
29AH20160617, OVIDE/BOCATS,77,1,5,20160711,1947,59.4922,-37.6779,3112,3100.2,2,2.0759,34.9055,2,34.9061,2,296,2,295.9,2,8.86,2,14.05,2,0.945,2,-999,9,7.7168,2,25,-999,9,-999,9
29AH20160617, OVIDE/BOCATS,77,1,6,20160711,1947,59.4922,-37.6779,3112,2998.8,2,2.5363,34.9182,2,34.914,4,284.3,2,284.4,2,11.32,2,15.02,2,1.024,2,2308.4,2,7.7199,2,25,1.6952,2,1.29,2
29AH20160617, OVIDE/BOCATS,77,1,7,20160711,1947,59.4922,-37.6779,3112,2799.9,2,2.8666,34.9337,2,34.9329,2,277.2,2,277.1,2,12.73,2,15.74,2,1.078,2,2312.7,2,7.7282,2,25,1.4339,2,0.9246,2
29AH20160617, OVIDE/BOCATS,77,1,8,20160711,1947,59.4922,-37.6779,3112,2499.4,2,3.0887,34.9322,2,34.9311,2,276.5,2,276.1,2,11.88,2,16.01,2,1.063,2,2309.7,2,7.7251,2,25,-999,9,-999,9
29AH20160617, OVIDE/BOCATS,77,1,9,20160711,1947,59.4922,-37.6779,3112,2198.9,2,3.3362,34.9317,2,34.9313,2,275.8,2,275.4,2,11.01,2,16.13,2,1.062,2,2310.6,2,7.7252,2,25,1.5683,2,0.9401,2
29AH20160617, OVIDE/BOCATS,77,1,10,20160711,1947,59.4922,-37.6779,3112,1898.5,2,3.6266,34.9321,2,34.9326,2,274.4,2,274.2,2,10.39,2,16.2,2,1.07,2,-999,9,7.7242,2,25,1.7268,2,1.0542,2
29AH20160617, OVIDE/BOCATS,77,1,11,20160711,1947,59.4922,-37.6779,3112,1799.9,2,3.6515,34.9169,2,-999,9,279.3,2,280.2,2,9.64,2,16.14,2,1.057,2,2308,2,7.7213,2,25,-999,9,-999,9
29AH20160617, OVIDE/BOCATS,77,1,12,20160711,1947,59.4922,-37.6779,3112,1648.5,2,3.4837,34.8762,2,34.8769,2,297.9,2,298.8,2,8.48,2,15.68,2,1.025,2,-999,9,7.7159,2,25,2.3203,2,2.1688,2
29AH20160617, OVIDE/BOCATS,77,1,13,20160711,1947,59.4922,-37.6779,3112,1600.2,2,3.4772,34.8747,2,34.8742,2,299.7,2,300.9,2,8.38,2,15.79,2,1.024,2,2306.8,2,7.7168,2,25,-999,9,-999,9
29AH20160617, OVIDE/BOCATS,77,1,14,20160711,1947,59.4922,-37.6779,3112,1498.7,2,3.485,34.8757,2,-999,9,299.8,2,-999,9,-999,9,15.82,2,1.038,2,-999,9,7.7164,2,25,-999,9,-999,9
29AH20160617, OVIDE/BOCATS,77,1,15,20160711,1947,59.4922,-37.6779,3112,1399.4,2,3.4952,34.8775,2,-999,9,300.2,2,-999,9,-999,9,15.86,2,1.052,2,-999,9,7.7166,2,25,-999,9,-999,9
29AH20160617, OVIDE/BOCATS,77,1,16,20160711,1947,59.4922,-37.6779,3112,1298.7,2,3.5065,34.8791,2,-999,9,300.3,2,-999,9,-999,9,15.89,2,1.066,2,-999,9,7.7166,2,25,-999,9,-999,9
29AH20160617, OVIDE/BOCATS,77,1,17,20160711,1947,59.4922,-37.6779,3112,1199.2,2,3.5161,34.8803,2,34.8813,2,301.4,2,302.1,2,8.32,2,15.92,2,1.08,2,2305.8,2,7.7159,2,25,2.3838,2,2.4275,2
29AH20160617, OVIDE/BOCATS,77,1,18,20160711,1947,59.4922,-37.6779,3112,1099.7,2,3.526,34.8816,2,-999,9,300.8,2,-999,9,-999,9,15.87,2,1.052,2,-999,9,7.7167,2,25,-999,9,-999,9
29AH20160617, OVIDE/BOCATS,77,1,19,20160711,1947,59.4922,-37.6779,3112,997.9,2,3.5408,34.884,2,34.884,2,302.1,2,301.9,2,8.24,2,15.82,2,1.025,2,2306.9,2,7.7167,2,25,-999,9,-999,9
29AH20160617, OVIDE/BOCATS,77,1,21,20160711,1947,59.4922,-37.6779,3112,899.9,2,3.5511,34.8855,2,-999,9,300.7,2,-999,9,-999,9,15.78,2,1.025,2,-999,9,7.719,2,25,-999,9,-999,9
29AH20160617, OVIDE/BOCATS,77,1,22,20160711,1947,59.4922,-37.6779,3112,799.5,2,3.5607,34.8866,2,34.887,2,301.9,2,301.9,2,8.17,2,15.73,2,1.025,2,2306.5,2,7.7208,2,25,2.3766,2,2.5562,2
29AH20160617, OVIDE/BOCATS,77,1,23,20160711,1947,59.4922,-37.6779,3112,698.8,2,3.5731,34.8871,2,-999,9,300.5,2,-999,9,-999,9,15.85,2,1.031,2,-999,9,-999.0,9,25,-999,9,-999,9
29AH20160617, OVIDE/BOCATS,77,1,24,20160711,1947,59.4922,-37.6779,3112,599.1,2,3.6002,34.8887,2,34.8906,2,300.2,2,300.5,2,8.33,2,15.98,2,1.036,2,2307.5,2,7.7199,2,25,-999,9,-999,9
29AH20160617, OVIDE/BOCATS,77,1,25,20160711,1947,59.4922,-37.6779,3112,499.6,2,3.6417,34.892,2,-999,9,300.3,2,-999,9,-999,9,16.1,2,1.035,2,-999,9,7.7179,2,25,-999,9,-999,9
29AH20160617, OVIDE/BOCATS,77,1,26,20160711,1947,59.4922,-37.6779,3112,349.3,2,3.7261,34.8978,2,34.8967,2,300.8,2,300.3,2,8.29,2,16.22,2,1.034,2,2308.7,2,7.7175,2,25,2.3704,2,2.5849,2
29AH20160617, OVIDE/BOCATS,77,1,27,20160711,1947,59.4922,-37.6779,3112,250.2,2,3.7932,34.8966,2,34.8971,2,302.2,2,301,2,8.37,2,15.98,2,1.044,2,-999,9,7.7149,2,25,-999,9,-999,9
29AH20160617, OVIDE/BOCATS,77,1,28,20160711,1947,59.4922,-37.6779,3112,99.2,2,3.9246,34.8977,2,34.8994,2,303.1,2,302.9,2,8.23,2,16.06,2,1.038,2,2304.8,2,7.7177,2,25,2.3891,2,2.6291,2
29AH20160617, OVIDE/BOCATS,77,1,29,20160711,1947,59.4922,-37.6779,3112,46.2,2,4.23,34.9154,2,34.9148,2,298.1,2,295.9,2,8.24,2,16.28,2,1.051,2,-999,9,7.7167,2,25,-999,9,-999,9
29AH20160617, OVIDE/BOCATS,77,1,30,20160711,1947,59.4922,-37.6779,3112,5,2,9.1508,34.8504,2,34.8553,4,304.9,2,304.3,2,0.95,2,7.8,2,0.538,2,2309.1,2,7.8491,2,25,2.1738,2,2.6481,2
29AH20160617, OVIDE/BOCATS,78,1,3,20160712,14,59.5596,-38.3187,3041,3079.2,2,1.3238,34.902,2,34.904,2,308.4,2,308.4,2,7.12,2,12.82,2,0.871,2,-999,9,7.713,2,25,-999,9,-999,9
29AH20160617, OVIDE/BOCATS,78,1,4,20160712,14,59.5596,-38.3187,3041,2999.7,2,1.8971,34.9042,2,34.9041,2,299.5,2,299.6,2,7.71,2,13.42,2,0.901,2,-999,9,7.7166,2,25,-999,9,-999,9
29AH20160617, OVIDE/BOCATS,78,1,5,20160712,14,59.5596,-38.3187,3041,2798.7,2,2.6553,34.9188,2,34.9174,2,285.1,2,285.7,2,10.45,2,14.81,2,0.988,2,-999,9,7.7195,2,25,-999,9,-999,9
29AH20160617, OVIDE/BOCATS,78,1,6,20160712,14,59.5596,-38.3187,3041,2599,2,2.9183,34.9266,2,34.9278,2,278.9,2,278.4,2,11.5,2,15.47,2,1.029,2,-999,9,7.7221,2,25,-999,9,-999,9
29AH20160617, OVIDE/BOCATS,78,1,7,20160712,14,59.5596,-38.3187,3041,2298.6,2,3.1665,34.9317,2,34.9297,2,275.9,2,275.4,2,11.19,2,15.75,2,1.056,2,-999,9,7.7241,2,25,-999,9,-999,9
29AH20160617, OVIDE/BOCATS,78,1,8,20160712,14,59.5596,-38.3187,3041,1999.9,2,3.3687,34.9273,2,34.9274,2,274.6,2,274.1,2,10.95,2,16.14,2,1.062,2,-999,9,7.7229,2,25,-999,9,-999,9
29AH20160617, OVIDE/BOCATS,78,1,9,20160712,14,59.5596,-38.3187,3041,1699.4,2,3.6085,34.9284,2,34.9292,2,273.8,2,273.1,2,10.48,2,16.44,2,1.063,2,-999,9,7.7184,2,25,-999,9,-999,9
29AH20160617, OVIDE/BOCATS,78,1,10,20160712,14,59.5596,-38.3187,3041,1580.4,2,3.6181,34.9152,2,34.9144,2,279.3,2,278.8,2,10.02,2,16.32,2,1.052,2,-999,9,7.7155,2,25,-999,9,-999,9
29AH20160617, OVIDE/BOCATS,78,1,11,20160712,14,59.5596,-38.3187,3041,1470.3,2,3.3961,34.8698,2,34.8699,2,295.6,2,296.1,2,8.82,2,15.77,2,1.022,2,-999,9,7.7127,2,25,-999,9,-999,9
29AH20160617, OVIDE/BOCATS,78,1,12,20160712,14,59.5596,-38.3187,3041,1400.8,2,3.3889,34.8681,2,-999,9,296.6,2,-999,9,-999,9,15.76,2,1.018,2,-999,9,7.7152,2,25,-999,9,-999,9
29AH20160617, OVIDE/BOCATS,78,1,13,20160712,14,59.5596,-38.3187,3041,1299.3,2,3.4031,34.8691,2,-999,9,298.1,2,-999,9,-999,9,15.76,2,1.017,2,-999,9,7.7143,2,25,-999,9,-999,9
29AH20160617, OVIDE/BOCATS,78,1,14,20160712,14,59.5596,-38.3187,3041,1198.1,2,3.4044,34.8694,2,34.8618,4,299.8,2,299.9,2,8.56,2,15.75,2,1.015,2,-999,9,7.7144,2,25,-999,9,-999,9
29AH20160617, OVIDE/BOCATS,78,1,15,20160712,14,59.5596,-38.3187,3041,1100.1,2,3.4144,34.8712,2,-999,9,300.1,2,-999,9,-999,9,15.75,2,1.019,2,-999,9,7.7142,2,25,-999,9,-999,9
29AH20160617, OVIDE/BOCATS,78,1,16,20160712,14,59.5596,-38.3187,3041,998.9,2,3.4278,34.8732,2,34.8618,4,300.8,2,300.5,2,8.56,2,15.75,2,1.024,2,-999,9,7.7143,2,25,-999,9,-999,9
29AH20160617, OVIDE/BOCATS,78,1,17,20160712,14,59.5596,-38.3187,3041,898.8,2,3.4419,34.8751,2,-999,9,300.8,2,-999,9,-999,9,15.8,2,1.017,2,-999,9,7.7111,2,25,-999,9,-999,9
29AH20160617, OVIDE/BOCATS,78,1,18,20160712,14,59.5596,-38.3187,3041,799.9,2,3.4566,34.8771,2,34.8811,4,301.1,2,301,2,8.54,2,15.86,2,1.01,2,-999,9,7.7155,2,25,-999,9,-999,9
29AH20160617, OVIDE/BOCATS,78,1,19,20160712,14,59.5596,-38.3187,3041,700.3,2,3.4762,34.8792,2,-999,9,301.3,2,-999,9,-999,9,15.92,2,1.016,2,-999,9,7.7129,2,25,-999,9,-999,9
29AH20160617, OVIDE/BOCATS,78,1,20,20160712,14,59.5596,-38.3187,3041,599.5,2,3.5203,34.8844,2,34.8852,2,301.2,2,300.9,2,8.62,2,15.99,2,1.022,2,-999,9,7.719,2,25,-999,9,-999,9
29AH20160617, OVIDE/BOCATS,78,1,21,20160712,14,59.5596,-38.3187,3041,500.1,2,3.5345,34.8852,2,-999,9,301.5,2,-999,9,-999,9,15.99,2,1.021,2,-999,9,7.717,2,25,-999,9,-999,9
29AH20160617, OVIDE/BOCATS,78,1,22,20160712,14,59.5596,-38.3187,3041,399.4,2,3.5951,34.8907,2,34.8913,2,302.1,2,301,2,8.7,2,16,2,1.02,2,-999,9,7.7176,2,25,-999,9,-999,9
29AH20160617, OVIDE/BOCATS,78,1,23,20160712,14,59.5596,-38.3187,3041,349.5,2,3.6058,34.89,2,-999,9,301.7,2,-999,9,-999,9,16.03,2,1.023,2,-999,9,7.7138,2,25,-999,9,-999,9
29AH20160617, OVIDE/BOCATS,78,1,24,20160712,14,59.5596,-38.3187,3041,300.4,2,3.6446,34.892,2,34.8931,2,301,2,300.6,2,8.76,2,16.07,2,1.025,2,-999,9,7.7123,2,25,-999,9,-999,9
29AH20160617, OVIDE/BOCATS,78,1,25,20160712,14,59.5596,-38.3187,3041,198.4,2,3.7238,34.8936,2,34.8944,2,299.2,2,298.7,2,8.86,2,16.36,2,1.037,2,-999,9,7.7143,2,25,-999,9,-999,9
29AH20160617, OVIDE/BOCATS,78,1,26,20160712,14,59.5596,-38.3187,3041,149.1,2,3.8748,34.8998,2,34.9005,2,298.1,2,298.3,2,8.85,2,16.4,2,1.053,2,-999,9,7.7117,2,25,-999,9,-999,9
29AH20160617, OVIDE/BOCATS,78,1,27,20160712,14,59.5596,-38.3187,3041,79.1,2,4.1267,34.8988,2,34.8999,2,298.3,2,295.7,2,8.78,2,16.47,2,1.065,2,-999,9,7.7107,2,25,-999,9,-999,9
29AH20160617, OVIDE/BOCATS,78,1,28,20160712,14,59.5596,-38.3187,3041,39,2,7.2483,34.8373,2,34.8437,4,302.2,2,300.7,2,2.61,2,9.11,2,0.634,2,-999,9,7.8112,2,25,-999,9,-999,9
29AH20160617, OVIDE/BOCATS,78,1,29,20160712,14,59.5596,-38.3187,3041,4.5,2,7.9343,34.8344,2,34.8349,2,304.5,2,304.6,2,1.18,2,8.18,2,0.566,2,-999,9,7.8312,2,25,-999,9,-999,9
29AH20160617, OVIDE/BOCATS,79,1,3,20160712,433,59.6247,-38.9582,2926,2962.8,2,1.3466,34.9015,2,34.9002,2,306.3,2,307.4,2,8.47,2,13.65,2,0.888,2,2305,2,7.7071,2,25,2.2902,2,2.1668,2
29AH20160617, OVIDE/BOCATS,79,1,4,20160712,433,59.6247,-38.9582,2926,2799.7,2,2.5278,34.9192,2,34.9191,2,283.2,2,283.2,2,13.12,2,15.55,2,1.013,2,-999,9,-999.0,9,25,1.6544,2,1.1774,2
29AH20160617, OVIDE/BOCATS,79,1,5,20160712,433,59.6247,-38.9582,2926,2800,2,2.5297,34.9193,2,34.9191,2,284.6,2,285.9,2,13.12,2,15.55,2,1.013,2,2309.1,2,7.7212,2,25,-999,9,-999,9
29AH20160617, OVIDE/BOCATS,79,1,6,20160712,433,59.6247,-38.9582,2926,2620,2,2.6986,34.9285,2,34.9277,2,279.1,2,278.9,2,14.22,2,16.02,2,1.103,2,2309.8,2,7.726,2,25,-999,9,-999,9
29AH20160617, OVIDE/BOCATS,79,1,7,20160712,433,59.6247,-38.9582,2926,2438.4,2,2.9517,34.9361,2,34.9367,2,276.7,2,276.4,2,14.14,2,16.32,2,1.066,2,2311,2,7.724,2,25,1.4304,2,0.8505,2
29AH20160617, OVIDE/BOCATS,79,1,8,20160712,433,59.6247,-38.9582,2926,1999.8,2,3.1824,34.9315,2,34.9315,2,275.4,2,275.6,2,12.58,2,16.5,2,1.08,2,2308.4,2,7.7248,2,25,-999,9,-999,9
29AH20160617, OVIDE/BOCATS,79,1,9,20160712,433,59.6247,-38.9582,2926,1550.1,2,3.5979,34.93,2,34.9287,2,274.4,2,274.2,2,11.29,2,16.71,2,1.073,2,2307.5,2,7.7194,2,25,-999,9,-999,9
29AH20160617, OVIDE/BOCATS,79,1,10,20160712,433,59.6247,-38.9582,2926,1376.9,2,3.4948,34.8918,2,34.891,2,288.1,2,288.3,2,10.05,2,16.27,2,1.052,2,2305.6,2,7.7167,2,25,2.1105,2,-999,9
29AH20160617, OVIDE/BOCATS,79,1,11,20160712,433,59.6247,-38.9582,2926,1201.2,2,3.3748,34.8672,2,34.8673,2,298.6,2,298.9,2,9.2,2,15.9,2,1.027,2,2304.1,2,7.7137,2,25,-999,9,-999,9
29AH20160617, OVIDE/BOCATS,79,1,12,20160712,433,59.6247,-38.9582,2926,999.2,2,3.4031,34.871,2,34.8701,2,300.9,2,301.2,2,9.06,2,15.97,2,1.036,2,2304.7,2,7.7156,2,25,-999,9,-999,9
29AH20160617, OVIDE/BOCATS,79,1,13,20160712,433,59.6247,-38.9582,2926,800.3,2,3.419,34.8728,2,34.866,4,302.4,2,304.1,2,9.05,2,16.04,2,1.027,2,2304.8,2,7.7145,2,25,2.3831,2,2.5064,2
29AH20160617, OVIDE/BOCATS,79,1,14,20160712,433,59.6247,-38.9582,2926,598.5,2,3.4646,34.8782,2,34.8776,2,301.5,2,301.8,2,8.98,2,16.05,2,1.045,2,2305.5,2,7.7146,2,25,-999,9,-999,9
29AH20160617, OVIDE/BOCATS,79,1,15,20160712,433,59.6247,-38.9582,2926,501.4,2,3.4949,34.8812,2,34.8815,2,302.5,2,302.6,2,9,2,16.31,2,1.039,2,2304.5,2,7.716,2,25,-999,9,-999,9
29AH20160617, OVIDE/BOCATS,79,1,16,20160712,433,59.6247,-38.9582,2926,399.7,2,3.5345,34.8842,2,-999,9,302.8,2,302.6,2,9.01,2,16.04,2,1.033,2,2305.2,2,7.7128,2,25,2.3682,2,2.5057,2
29AH20160617, OVIDE/BOCATS,79,1,17,20160712,433,59.6247,-38.9582,2926,351,2,3.5541,34.8852,2,34.8857,2,301.9,2,301.9,2,8.95,2,16.08,2,1.038,2,2303.4,2,7.7148,2,25,-999,9,-999,9
29AH20160617, OVIDE/BOCATS,79,1,18,20160712,433,59.6247,-38.9582,2926,201.2,2,3.7021,34.8931,2,34.894,2,300.3,2,300,2,8.98,2,16.35,2,1.053,2,2303.6,2,7.7154,2,25,2.3797,2,2.573,2
29AH20160617, OVIDE/BOCATS,79,1,19,20160712,433,59.6247,-38.9582,2926,149.2,2,3.8258,34.9001,2,34.9002,2,299,2,299.4,2,8.97,2,16.26,2,1.047,2,-999,9,7.7107,2,25,-999,9,-999,9
29AH20160617, OVIDE/BOCATS,79,1,20,20160712,433,59.6247,-38.9582,2926,99.9,2,4.0262,34.9042,2,34.9033,2,299.3,2,297.8,2,8.88,2,16.31,2,1.055,2,2304.4,2,7.7088,2,25,2.3768,2,2.576,2
29AH20160617, OVIDE/BOCATS,79,1,21,20160712,433,59.6247,-38.9582,2926,49.5,2,4.5775,34.8969,2,34.897,2,302.4,2,301.2,2,8.56,2,15.41,2,1.037,2,-999,9,7.7196,2,25,-999,9,-999,9
29AH20160617, OVIDE/BOCATS,79,1,22,20160712,433,59.6247,-38.9582,2926,4.6,2,7.6774,34.8341,2,34.8353,2,309.5,2,310.1,2,0.16,2,7.58,2,0.54,2,2306,2,7.8486,2,25,2.2539,2,2.825,2
29AH20160617, OVIDE/BOCATS,80,1,3,20160712,737,59.6542,-39.2773,2860,2895.4,2,1.3909,34.901,2,34.9018,2,305.3,2,306.7,2,-999,9,-999,9,-999,9,-999,9,-999.0,9,25,-999,9,-999,9
29AH20160617, OVIDE/BOCATS,80,1,4,20160712,737,59.6542,-39.2773,2860,2500.1,2,2.796,34.9264,2,34.9351,4,282.8,2,283.9,2,-999,9,-999,9,-999,9,-999,9,-999.0,9,25,-999,9,-999,9
29AH20160617, OVIDE/BOCATS,80,1,5,20160712,737,59.6542,-39.2773,2860,1999.9,2,3.2388,34.9283,2,34.9315,4,276.4,2,276.5,2,-999,9,-999,9,-999,9,-999,9,-999.0,9,25,-999,9,-999,9
29AH20160617, OVIDE/BOCATS,80,1,6,20160712,737,59.6542,-39.2773,2860,1399.5,2,3.3237,34.8592,2,34.86,2,300.1,2,302.8,4,-999,9,-999,9,-999,9,-999,9,-999.0,9,25,-999,9,-999,9
29AH20160617, OVIDE/BOCATS,80,1,7,20160712,737,59.6542,-39.2773,2860,799.5,2,3.4759,34.8809,2,34.8855,4,300.2,2,300.5,2,-999,9,-999,9,-999,9,-999,9,-999.0,9,25,-999,9,-999,9
29AH20160617, OVIDE/BOCATS,80,1,8,20160712,737,59.6542,-39.2773,2860,3.5,2,7.9398,34.8231,2,34.828,4,304.2,2,305.7,2,-999,9,-999,9,-999,9,-999,9,-999.0,9,25,-999,9,-999,9
29AH20160617, OVIDE/BOCATS,81,1,3,20160712,1056,59.6856,-39.6001,2795,2827.1,2,1.3884,34.9022,2,34.9015,2,307.3,2,307.4,2,8.25,2,13.56,2,0.886,2,-999,9,7.7119,2,25,-999,9,-999,9
29AH20160617, OVIDE/BOCATS,81,1,4,20160712,1056,59.6856,-39.6001,2795,2748.9,2,1.7672,34.9034,2,34.9039,2,301.6,2,301.5,2,8.57,2,13.93,2,0.899,2,-999,9,7.7115,2,25,-999,9,-999,9
29AH20160617, OVIDE/BOCATS,81,1,5,20160712,1056,59.6856,-39.6001,2795,2699.2,2,2.0855,34.9047,2,34.9056,2,295.3,2,295.5,2,9.63,2,14.54,2,0.93,2,-999,9,7.7147,2,25,-999,9,-999,9
29AH20160617, OVIDE/BOCATS,81,1,6,20160712,1056,59.6856,-39.6001,2795,2498,2,2.7459,34.9202,2,34.9208,2,284.8,2,284.7,2,11.59,2,15.45,2,0.998,2,-999,9,7.7208,2,25,-999,9,-999,9
29AH20160617, OVIDE/BOCATS,81,1,7,20160712,1056,59.6856,-39.6001,2795,2248.9,2,3.0752,34.9328,2,34.9331,2,276.1,2,275.8,2,12.95,2,16.44,2,1.056,2,-999,9,7.7244,2,25,-999,9,-999,9
29AH20160617, OVIDE/BOCATS,81,1,8,20160712,1056,59.6856,-39.6001,2795,1999.2,2,3.299,34.9324,2,34.9334,2,275.1,2,274.8,2,12.05,2,16.55,2,1.059,2,-999,9,7.7236,2,25,-999,9,-999,9
29AH20160617, OVIDE/BOCATS,81,1,9,20160712,1056,59.6856,-39.6001,2795,1798.6,2,3.4591,34.9323,2,34.9321,2,274.1,2,274.1,2,11.64,2,16.76,2,1.062,2,-999,9,7.7216,2,25,-999,9,-999,9
29AH20160617, OVIDE/BOCATS,81,1,10,20160712,1056,59.6856,-39.6001,2795,1599.3,2,3.6103,34.9319,2,34.9327,2,273.2,2,271.3,2,11.29,2,16.61,2,1.069,2,-999,9,7.714,2,25,-999,9,-999,9
29AH20160617, OVIDE/BOCATS,81,1,11,20160712,1056,59.6856,-39.6001,2795,1445.7,2,3.6662,34.9223,2,34.9226,2,276.8,2,276.5,2,10.66,2,16.68,2,1.067,2,-999,9,7.7057,2,25,-999,9,-999,9
29AH20160617, OVIDE/BOCATS,81,1,12,20160712,1056,59.6856,-39.6001,2795,1267.8,2,3.4857,34.8801,2,34.8806,2,296.7,2,296.3,2,9.24,2,16.1,2,1.033,2,-999,9,7.7129,2,25,-999,9,-999,9
29AH20160617, OVIDE/BOCATS,81,1,13,20160712,1056,59.6856,-39.6001,2795,999.9,2,3.5085,34.8826,2,34.8838,2,300.5,2,300.2,2,8.86,2,16,2,1.029,2,-999,9,7.7134,2,25,-999,9,-999,9
29AH20160617, OVIDE/BOCATS,81,1,14,20160712,1056,59.6856,-39.6001,2795,899.4,2,3.5332,34.886,2,34.887,2,299,2,299.3,2,8.87,2,16.17,2,1.033,2,-999,9,7.715,2,25,-999,9,-999,9
29AH20160617, OVIDE/BOCATS,81,1,15,20160712,1056,59.6856,-39.6001,2795,799,2,3.55,34.8879,2,34.8886,2,298.9,2,299.2,2,8.85,2,16.17,2,1.031,2,-999,9,7.7156,2,25,-999,9,-999,9
29AH20160617, OVIDE/BOCATS,81,1,16,20160712,1056,59.6856,-39.6001,2795,699.2,2,3.5718,34.8906,2,34.8918,2,300,2,299.6,2,8.86,2,16.2,2,1.041,2,-999,9,7.7097,2,25,-999,9,-999,9
29AH20160617, OVIDE/BOCATS,81,1,17,20160712,1056,59.6856,-39.6001,2795,599.5,2,3.5946,34.8934,2,34.8945,2,300.3,2,300.4,2,8.9,2,16.02,2,1.03,2,-999,9,7.7079,2,25,-999,9,-999,9
29AH20160617, OVIDE/BOCATS,81,1,18,20160712,1056,59.6856,-39.6001,2795,500,2,3.6162,34.8955,2,34.8968,2,299.3,2,299.7,2,8.93,2,16.09,2,1.028,2,-999,9,7.7047,2,25,-999,9,-999,9
29AH20160617, OVIDE/BOCATS,81,1,19,20160712,1056,59.6856,-39.6001,2795,399,2,3.653,34.8976,2,34.8984,2,298.9,2,298.6,2,8.99,2,16.14,2,1.035,2,-999,9,7.7144,2,25,-999,9,-999,9
29AH20160617, OVIDE/BOCATS,81,1,20,20160712,1056,59.6856,-39.6001,2795,299.7,2,3.7113,34.9011,2,34.9018,2,299.1,2,299,2,8.96,2,16.24,2,1.032,2,-999,9,7.7158,2,25,-999,9,-999,9
29AH20160617, OVIDE/BOCATS,81,1,21,20160712,1056,59.6856,-39.6001,2795,199.7,2,3.8468,34.9096,2,34.9098,2,298.3,2,298.7,2,8.88,2,16.35,2,1.049,2,-999,9,7.712,2,25,-999,9,-999,9
29AH20160617, OVIDE/BOCATS,81,1,22,20160712,1056,59.6856,-39.6001,2795,149.4,2,3.955,34.918,2,34.9186,2,298.5,2,298.6,2,8.76,2,16.19,2,1.044,2,-999,9,7.7209,2,25,-999,9,-999,9
29AH20160617, OVIDE/BOCATS,81,1,23,20160712,1056,59.6856,-39.6001,2795,99.8,2,4.1353,34.9181,2,34.9182,2,298,2,297.8,2,8.85,2,16.39,2,1.062,2,-999,9,7.7156,2,25,-999,9,-999,9
29AH20160617, OVIDE/BOCATS,81,1,24,20160712,1056,59.6856,-39.6001,2795,50.8,2,4.4397,34.9113,2,34.9123,2,299.3,2,298.9,2,8.64,2,16.24,2,1.044,2,-999,9,7.7161,2,25,-999,9,-999,9
29AH20160617, OVIDE/BOCATS,81,1,25,20160712,1056,59.6856,-39.6001,2795,3.7,2,8.1334,34.8237,2,34.8248,2,306.5,2,307.6,2,0.22,2,6.49,2,0.45,2,-999,9,7.8548,2,25,-999,9,-999,9
29AH20160617, OVIDE/BOCATS,82,1,3,20160712,1405,59.7049,-39.9187,2734,2763.8,2,1.4509,34.9006,2,34.9014,2,307.2,2,307.8,2,-999,9,-999,9,-999,9,-999,9,-999.0,9,25,-999,9,-999,9
29AH20160617, OVIDE/BOCATS,82,1,4,20160712,1405,59.7049,-39.9187,2734,2501,2,2.508,34.9139,2,34.9144,2,291.6,2,291.5,2,-999,9,-999,9,-999,9,-999,9,-999.0,9,25,-999,9,-999,9
29AH20160617, OVIDE/BOCATS,82,1,5,20160712,1405,59.7049,-39.9187,2734,2000.5,2,3.2407,34.9277,2,34.9292,2,277.7,2,278.2,2,-999,9,-999,9,-999,9,-999,9,-999.0,9,25,-999,9,-999,9
29AH20160617, OVIDE/BOCATS,82,1,6,20160712,1405,59.7049,-39.9187,2734,1400.3,2,3.4189,34.8762,2,34.8777,2,295.2,2,294.9,2,-999,9,-999,9,-999,9,-999,9,-999.0,9,25,-999,9,-999,9
29AH20160617, OVIDE/BOCATS,82,1,7,20160712,1405,59.7049,-39.9187,2734,598.9,2,3.501,34.8829,2,34.8841,2,302.1,2,302.6,2,-999,9,-999,9,-999,9,-999,9,-999.0,9,25,-999,9,-999,9
29AH20160617, OVIDE/BOCATS,82,1,8,20160712,1405,59.7049,-39.9187,2734,3.9,2,8.6842,34.8437,2,34.846,2,310.2,2,311.9,2,-999,9,-999,9,-999,9,-999,9,-999.0,9,25,-999,9,-999,9