BOTTLE,20230706CCHSIOENA
EXPOCODE,SECT_ID,STNNBR,CASTNO,SAMPNO,DATE,TIME,LATITUDE,LONGITUDE,DEPTH,CTDPRS,CTDPRS_FLAG_W,CTDTMP,CTDSAL,CTDSAL_FLAG_W,SALNTY,SALNTY_FLAG_W,CTDOXY,CTDOXY_FLAG_W,OXYGEN,OXYGEN_FLAG_W,SILCAT,SILCAT_FLAG_W,NITRAT,NITRAT_FLAG_W,PHSPHT,PHSPHT_FLAG_W,ALKALI,ALKALI_FLAG_W,PH_SWS,PH_SWS_FLAG_W,PH_TMP,CFC-12,CFC-12_FLAG_W,SF6,SF6_FLAG_W
,,,,,,,,,METERS,DBAR,,DEG C,PSS-78,,PSS-78,,UMOL/KG,,UMOL/KG,,UMOL/KG,,UMOL/KG,,UMOL/KG,,UMOL/KG,,,,DEG C,PMOL/KG,,FMOL/KG,
29AH20160617, OVIDE/BOCATS,100,1,3,20160718,1748,58.547,-30.1831,1707,1713.7,2,3.4752,34.9847,2,34.9827,2,275.6,2,277.1,2,-999,9,-999,9,-999,9,-999,9,-999.0,9,25,-999,9,-999,9
29AH20160617, OVIDE/BOCATS,100,1,4,20160718,1748,58.547,-30.1831,1707,1713.6,2,3.4752,34.9847,2,34.9835,2,275.6,2,277.4,2,-999,9,-999,9,-999,9,-999,9,-999.0,9,25,-999,9,-999,9
29AH20160617, OVIDE/BOCATS,100,1,5,20160718,1748,58.547,-30.1831,1707,1713.6,2,3.4753,34.9847,2,34.9852,2,275.6,2,276.6,2,-999,9,-999,9,-999,9,-999,9,-999.0,9,25,-999,9,-999,9
29AH20160617, OVIDE/BOCATS,100,1,6,20160718,1748,58.547,-30.1831,1707,1713.6,2,3.4753,34.9847,2,34.9846,2,275.6,2,277.4,2,-999,9,-999,9,-999,9,-999,9,-999.0,9,25,-999,9,-999,9
29AH20160617, OVIDE/BOCATS,100,1,7,20160718,1748,58.547,-30.1831,1707,1713.5,2,3.4753,34.9846,2,34.9849,2,275.6,2,276.6,2,-999,9,-999,9,-999,9,-999,9,-999.0,9,25,-999,9,-999,9
29AH20160617, OVIDE/BOCATS,100,1,8,20160718,1748,58.547,-30.1831,1707,1713.7,2,3.4753,34.9845,2,34.9847,2,275.6,2,276.4,2,-999,9,-999,9,-999,9,-999,9,-999.0,9,25,-999,9,-999,9
29AH20160617, OVIDE/BOCATS,101,1,3,20160721,212,55.3491,-34.8138,2212,2230.7,2,3.2306,34.9776,2,34.9768,2,275,2,277.5,2,12.71,2,16.14,2,1.042,2,2308.5,2,7.7199,2,25,1.61,2,1.3068,2
29AH20160617, OVIDE/BOCATS,101,1,4,20160721,212,55.3491,-34.8138,2212,1999.5,2,3.2796,34.9762,2,34.9759,2,274.6,2,-999,9,12.22,2,16.06,2,1.043,2,2309.1,2,7.7246,2,25,-999,9,-999,9
29AH20160617, OVIDE/BOCATS,101,1,5,20160721,212,55.3491,-34.8138,2212,1799.2,2,3.3143,34.9739,2,34.9739,2,274.9,2,275.1,2,11.9,2,16.14,2,1.043,2,2309.5,2,7.7183,2,25,-999,9,-999,9
29AH20160617, OVIDE/BOCATS,101,1,6,20160721,212,55.3491,-34.8138,2212,1598.4,2,3.4145,34.9671,2,34.9672,2,274.6,2,274.5,2,11.78,2,16.19,2,1.057,2,2307.7,2,7.7237,2,25,1.5807,2,1.0421,2
29AH20160617, OVIDE/BOCATS,101,1,7,20160721,212,55.3491,-34.8138,2212,1400,2,3.6208,34.9509,2,34.9511,2,273.1,2,273.2,2,11.77,2,16.83,2,1.072,2,2306.6,2,7.7219,2,25,-999,9,-999,9
29AH20160617, OVIDE/BOCATS,101,1,8,20160721,212,55.3491,-34.8138,2212,1199.3,2,3.7374,34.9323,2,34.9326,2,273,2,274.3,2,11.34,2,16.96,2,1.084,2,2306.8,2,7.7179,2,25,-999,9,-999,9
29AH20160617, OVIDE/BOCATS,101,1,9,20160721,212,55.3491,-34.8138,2212,998.6,2,3.865,34.9181,2,34.9186,2,275.7,2,276,2,10.93,2,17.01,2,1.087,2,2306.1,2,7.7158,2,25,-999,9,-999,9
29AH20160617, OVIDE/BOCATS,101,1,10,20160721,212,55.3491,-34.8138,2212,899.1,2,3.9354,34.9155,2,34.9154,2,276.7,2,276.7,2,10.62,2,17.07,2,1.081,2,-999,9,7.7105,2,25,-999,9,-999,9
29AH20160617, OVIDE/BOCATS,101,1,11,20160721,212,55.3491,-34.8138,2212,799.6,2,3.997,34.9137,2,34.9133,2,277.1,2,276.5,2,10.41,2,17.04,2,1.082,2,2304,2,7.7078,2,25,-999,9,-999,9
29AH20160617, OVIDE/BOCATS,101,1,12,20160721,212,55.3491,-34.8138,2212,699.7,2,4.1053,34.916,2,34.9153,2,273.5,2,273.5,2,10.41,2,17.02,2,1.089,2,-999,9,7.7076,2,25,-999,9,-999,9
29AH20160617, OVIDE/BOCATS,101,1,13,20160721,212,55.3491,-34.8138,2212,599,2,4.2456,34.9213,2,34.9208,2,271,2,270.9,2,10.41,2,17.23,2,1.102,2,-999,9,7.7036,2,25,-999,9,-999,9
29AH20160617, OVIDE/BOCATS,101,1,14,20160721,212,55.3491,-34.8138,2212,499.7,2,4.4283,34.9273,2,34.9269,2,266.2,2,266.2,2,10.23,2,17.23,2,1.107,2,2304.8,2,7.6988,2,25,-999,9,-999,9
29AH20160617, OVIDE/BOCATS,101,1,15,20160721,212,55.3491,-34.8138,2212,399.5,2,4.6969,34.9282,2,34.9275,2,263.8,2,263.6,2,10.01,2,17.29,2,1.113,2,2305.2,2,7.702,2,25,-999,9,-999,9
29AH20160617, OVIDE/BOCATS,101,1,16,20160721,212,55.3491,-34.8138,2212,298.8,2,4.9476,34.92,2,34.9193,2,273.3,2,273,2,9.18,2,16.75,2,1.075,2,2305.3,2,7.7115,2,25,-999,9,-999,9
29AH20160617, OVIDE/BOCATS,101,1,17,20160721,212,55.3491,-34.8138,2212,198.8,2,5.1611,34.9074,2,34.9081,2,281.8,2,282.1,2,8.75,2,16.17,2,1.055,2,2304.9,2,7.7207,2,25,-999,9,-999,9
29AH20160617, OVIDE/BOCATS,101,1,18,20160721,212,55.3491,-34.8138,2212,150.1,2,5.069,34.8565,2,34.8556,2,290.9,2,292.7,2,8.13,2,15.69,2,1.057,2,-999,9,7.7256,2,25,-999,9,-999,9
29AH20160617, OVIDE/BOCATS,101,1,19,20160721,212,55.3491,-34.8138,2212,99.7,2,5.0971,34.8289,2,34.8299,2,292.9,2,296.7,4,7.91,2,15.2,2,1.004,2,2302.8,2,7.7281,2,25,-999,9,-999,9
29AH20160617, OVIDE/BOCATS,101,1,20,20160721,212,55.3491,-34.8138,2212,30,2,8.5155,34.6689,2,34.6817,4,286.3,2,286.6,2,3.11,2,7.71,2,0.629,2,-999,9,7.8205,2,25,-999,9,-999,9
29AH20160617, OVIDE/BOCATS,101,1,21,20160721,212,55.3491,-34.8138,2212,4.8,2,10.054,34.6446,2,34.6549,4,284.8,2,287.3,2,-999,9,-999,9,-999,9,2295.9,2,7.8741,2,25,-999,9,-999,9
29AH20160617, OVIDE/BOCATS,102,1,3,20160721,743,55.6714,-34.5708,1460,1465.5,2,3.6005,34.954,2,34.9528,2,273.6,2,274.9,2,12.28,2,16.67,2,1.075,2,-999,9,7.7224,2,25,-999,9,-999,9
29AH20160617, OVIDE/BOCATS,102,1,4,20160721,743,55.6714,-34.5708,1460,1299.5,2,3.7242,34.9379,2,34.9397,2,273.4,2,274,2,11.61,2,16.84,2,1.084,2,-999,9,7.7218,2,25,-999,9,-999,9
29AH20160617, OVIDE/BOCATS,102,1,5,20160721,743,55.6714,-34.5708,1460,1099,2,3.8024,34.9253,2,34.9259,2,275.2,2,275.3,2,10.68,2,16.95,2,1.087,2,-999,9,7.7187,2,25,-999,9,-999,9
29AH20160617, OVIDE/BOCATS,102,1,6,20160721,743,55.6714,-34.5708,1460,898.4,2,3.9179,34.9197,2,34.9198,2,276.7,2,277.3,2,10.32,2,16.92,2,1.088,2,-999,9,7.7133,2,25,-999,9,-999,9
29AH20160617, OVIDE/BOCATS,102,1,7,20160721,743,55.6714,-34.5708,1460,700.1,2,4.2174,34.9218,2,34.922,2,271.3,2,270.4,2,10.18,2,16.97,2,1.108,2,-999,9,7.709,2,25,-999,9,-999,9
29AH20160617, OVIDE/BOCATS,102,1,8,20160721,743,55.6714,-34.5708,1460,599.9,2,4.3122,34.9266,2,34.926,2,268.9,2,269,2,10,2,17,2,1.11,2,-999,9,7.7064,2,25,-999,9,-999,9
29AH20160617, OVIDE/BOCATS,102,1,9,20160721,743,55.6714,-34.5708,1460,455.1,2,4.668,34.9276,2,34.9267,2,264.9,2,264.8,2,9.77,2,17.05,2,1.132,2,-999,9,7.7039,2,25,-999,9,-999,9
29AH20160617, OVIDE/BOCATS,102,1,10,20160721,743,55.6714,-34.5708,1460,399.6,2,4.7851,34.9216,2,34.9212,2,269,2,268.8,2,9.34,2,16.8,2,1.109,2,-999,9,7.7076,2,25,-999,9,-999,9
29AH20160617, OVIDE/BOCATS,102,1,11,20160721,743,55.6714,-34.5708,1460,298.5,2,5.0672,34.9245,2,34.9229,2,277,2,277.2,2,8.79,2,16.37,2,1.068,2,-999,9,7.7206,2,25,-999,9,-999,9
29AH20160617, OVIDE/BOCATS,102,1,12,20160721,743,55.6714,-34.5708,1460,199.3,2,5.1354,34.8833,2,34.884,2,289.3,2,290.8,2,7.85,2,15.49,2,1.017,2,-999,9,7.7259,2,25,-999,9,-999,9
29AH20160617, OVIDE/BOCATS,102,1,13,20160721,743,55.6714,-34.5708,1460,159.9,2,5.0784,34.8574,2,34.8552,2,292.4,2,292.2,2,7.86,2,15.26,2,1.008,2,-999,9,7.7384,2,25,-999,9,-999,9
29AH20160617, OVIDE/BOCATS,102,1,14,20160721,743,55.6714,-34.5708,1460,99.2,2,5.1332,34.7805,2,34.7808,2,294.7,2,294.7,2,7.69,2,15.02,2,0.996,2,-999,9,7.7293,2,25,-999,9,-999,9
29AH20160617, OVIDE/BOCATS,102,1,15,20160721,743,55.6714,-34.5708,1460,33.8,2,9.4054,34.6684,2,34.6653,4,286.3,2,285.9,2,1.44,2,6.02,2,0.465,2,-999,9,7.8605,2,25,-999,9,-999,9
29AH20160617, OVIDE/BOCATS,102,1,16,20160721,743,55.6714,-34.5708,1460,4,2,9.8751,34.6538,2,34.6537,2,285,2,287.6,2,1.12,2,5.27,2,0.409,2,-999,9,7.875,2,25,-999,9,-999,9
29AH20160617, OVIDE/BOCATS,103,1,3,20160721,1046,55.9076,-34.3939,1834,1846.6,2,3.2662,34.9772,2,34.9775,2,274.9,2,275.1,2,12.15,2,16.22,2,1.042,2,2309.5,2,7.7202,2,25,-999,9,-999,9
29AH20160617, OVIDE/BOCATS,103,1,4,20160721,1046,55.9076,-34.3939,1834,1799.4,2,3.2923,34.9761,2,34.9761,2,274.8,2,275.4,2,11.89,2,15.96,2,1.045,2,-999,9,7.7197,2,25,-999,9,-999,9
29AH20160617, OVIDE/BOCATS,103,1,5,20160721,1046,55.9076,-34.3939,1834,1600,2,3.4646,34.9615,2,34.9617,2,273.9,2,275.3,2,11.86,2,16.33,2,1.062,2,2307.9,2,7.7198,2,25,-999,9,-999,9
29AH20160617, OVIDE/BOCATS,103,1,6,20160721,1046,55.9076,-34.3939,1834,1399.6,2,3.6677,34.9456,2,34.9458,2,272.8,2,274.4,2,11.58,2,16.68,2,1.082,2,2307.3,2,7.7193,2,25,-999,9,-999,9
29AH20160617, OVIDE/BOCATS,103,1,7,20160721,1046,55.9076,-34.3939,1834,1199.3,2,3.8164,34.9314,2,34.932,2,272.8,2,272.9,2,11.16,2,16.95,2,1.091,2,2304.9,2,7.7173,2,25,-999,9,-999,9
29AH20160617, OVIDE/BOCATS,103,1,8,20160721,1046,55.9076,-34.3939,1834,998.9,2,3.9584,34.9167,2,34.9173,2,275.1,2,276.3,2,10.39,2,16.96,2,1.087,2,2304.1,2,7.7125,2,25,-999,9,-999,9
29AH20160617, OVIDE/BOCATS,103,1,9,20160721,1046,55.9076,-34.3939,1834,899.4,2,4.037,34.9137,2,34.9137,2,275.1,2,276.4,2,10.19,2,17.02,2,1.091,2,-999,9,7.7108,2,25,-999,9,-999,9
29AH20160617, OVIDE/BOCATS,103,1,10,20160721,1046,55.9076,-34.3939,1834,799.5,2,4.1286,34.916,2,34.9153,2,273.1,2,273.3,2,10.12,2,16.82,2,1.089,2,2304.5,2,7.7074,2,25,-999,9,-999,9
29AH20160617, OVIDE/BOCATS,103,1,11,20160721,1046,55.9076,-34.3939,1834,699.1,2,4.3737,34.9351,2,34.9346,2,268.1,2,267.4,2,10.21,2,17.13,2,1.105,2,-999,9,7.7063,2,25,-999,9,-999,9
29AH20160617, OVIDE/BOCATS,103,1,12,20160721,1046,55.9076,-34.3939,1834,599.5,2,4.6434,34.9446,2,34.9443,2,264,2,264,2,10.12,2,17.23,2,1.112,2,2306.5,2,7.7046,2,25,-999,9,-999,9
29AH20160617, OVIDE/BOCATS,103,1,13,20160721,1046,55.9076,-34.3939,1834,498.9,2,4.9141,34.9451,2,34.9442,2,268.9,2,268.8,2,9.52,2,16.87,2,1.086,2,2306.1,2,7.7074,2,25,-999,9,-999,9
29AH20160617, OVIDE/BOCATS,103,1,14,20160721,1046,55.9076,-34.3939,1834,430.7,2,5.1569,34.9525,2,34.9518,2,267.2,2,268.2,2,9.39,2,16.86,2,1.091,2,2306.8,2,7.7109,2,25,-999,9,-999,9
29AH20160617, OVIDE/BOCATS,103,1,15,20160721,1046,55.9076,-34.3939,1834,337.7,2,5.4028,34.9489,2,34.9483,2,281.5,2,281.5,2,8.46,2,15.97,2,1.029,2,-999,9,7.7288,2,25,-999,9,-999,9
29AH20160617, OVIDE/BOCATS,103,1,16,20160721,1046,55.9076,-34.3939,1834,280.8,2,5.6252,34.9757,2,34.975,2,280.7,2,280.6,2,8.14,2,15.83,2,1.005,2,2308.2,2,7.7349,2,25,-999,9,-999,9
29AH20160617, OVIDE/BOCATS,103,1,17,20160721,1046,55.9076,-34.3939,1834,150.4,2,5.6349,34.9279,2,34.9266,2,287.2,2,287.1,2,7.89,2,15.39,2,0.986,2,-999,9,7.7386,2,25,-999,9,-999,9
29AH20160617, OVIDE/BOCATS,103,1,18,20160721,1046,55.9076,-34.3939,1834,83.8,2,5.4756,34.8365,2,34.8356,2,289.7,2,289.1,2,7.77,2,15.17,2,0.989,2,2301.6,2,7.7339,2,25,-999,9,-999,9
29AH20160617, OVIDE/BOCATS,103,1,19,20160721,1046,55.9076,-34.3939,1834,49.7,2,6.3673,34.764,2,34.7655,2,287.4,2,289.4,2,5.98,2,13.14,2,0.885,2,-999,9,7.7568,2,25,-999,9,-999,9
29AH20160617, OVIDE/BOCATS,103,1,20,20160721,1046,55.9076,-34.3939,1834,3.8,2,9.7697,34.6852,2,34.6845,2,287.3,2,289.3,2,1.01,2,5.76,2,0.412,2,2295.2,2,7.8712,2,25,-999,9,-999,9
29AH20160617, OVIDE/BOCATS,104,1,3,20160721,1640,56.3988,-34.0208,1709,1721,2,3.6307,34.9609,2,34.9613,2,272.8,2,273.6,2,12.03,2,16.7,2,1.101,2,-999,9,7.7199,2,25,-999,9,-999,9
29AH20160617, OVIDE/BOCATS,104,1,4,20160721,1640,56.3988,-34.0208,1709,1599.9,2,3.6416,34.9578,2,34.9578,2,272.9,2,273.8,2,11.77,2,16.82,2,1.103,2,-999,9,7.7183,2,25,-999,9,-999,9
29AH20160617, OVIDE/BOCATS,104,1,5,20160721,1640,56.3988,-34.0208,1709,1400.6,2,3.7346,34.9489,2,34.9493,2,272.6,2,272.8,2,11.53,2,17.09,2,1.108,2,-999,9,7.7218,2,25,-999,9,-999,9
29AH20160617, OVIDE/BOCATS,104,1,6,20160721,1640,56.3988,-34.0208,1709,1090.6,2,3.8813,34.9251,2,34.9261,2,274.9,2,274.9,2,10.77,2,17.12,2,1.075,2,-999,9,7.7171,2,25,-999,9,-999,9
29AH20160617, OVIDE/BOCATS,104,1,7,20160721,1640,56.3988,-34.0208,1709,999.6,2,3.9678,34.921,2,34.9215,2,275.7,2,276,2,10.3,2,17.12,2,1.078,2,-999,9,7.7139,2,25,-999,9,-999,9
29AH20160617, OVIDE/BOCATS,104,1,8,20160721,1640,56.3988,-34.0208,1709,889.6,2,4.0922,34.9194,2,34.9196,2,274,2,274.1,2,10.32,2,17.3,2,1.081,2,-999,9,7.7105,2,25,-999,9,-999,9
29AH20160617, OVIDE/BOCATS,104,1,9,20160721,1640,56.3988,-34.0208,1709,600.8,2,4.6561,34.9446,2,34.9443,2,264.5,2,264.4,2,10.25,2,17.55,2,1.103,2,-999,9,7.7059,2,25,-999,9,-999,9
29AH20160617, OVIDE/BOCATS,104,1,10,20160721,1640,56.3988,-34.0208,1709,500.1,2,4.9486,34.9533,2,34.9528,2,268.4,2,268.4,2,9.63,2,17.18,2,1.082,2,-999,9,7.7124,2,25,-999,9,-999,9
29AH20160617, OVIDE/BOCATS,104,1,11,20160721,1640,56.3988,-34.0208,1709,401.5,2,5.2741,34.9632,2,34.9626,2,272,2,272,2,8.93,2,16.76,2,1.063,2,-999,9,7.7218,2,25,-999,9,-999,9
29AH20160617, OVIDE/BOCATS,104,1,12,20160721,1640,56.3988,-34.0208,1709,299.2,2,5.6886,34.985,2,34.9847,2,282.9,2,283.4,2,7.95,2,15.78,2,0.996,2,-999,9,7.7371,2,25,-999,9,-999,9
29AH20160617, OVIDE/BOCATS,104,1,13,20160721,1640,56.3988,-34.0208,1709,227.9,2,5.893,34.9951,2,34.9957,2,286.4,2,288.1,2,7.63,2,15.43,2,0.976,2,-999,9,7.743,2,25,-999,9,-999,9
29AH20160617, OVIDE/BOCATS,104,1,14,20160721,1640,56.3988,-34.0208,1709,100.6,2,5.3162,34.8041,2,34.8043,2,291.6,2,291.5,2,7.78,2,15.25,2,0.985,2,-999,9,7.7288,2,25,-999,9,-999,9
29AH20160617, OVIDE/BOCATS,104,1,15,20160721,1640,56.3988,-34.0208,1709,50.6,2,7.3656,34.736,2,34.7299,4,287.6,2,289.6,2,3.93,2,10.15,2,0.724,2,-999,9,7.7992,2,25,-999,9,-999,9
29AH20160617, OVIDE/BOCATS,104,1,16,20160721,1640,56.3988,-34.0208,1709,6,2,9.6085,34.679,2,34.6783,2,289.2,2,292.4,4,1.81,2,6.03,2,0.432,2,-999,9,7.8661,2,25,-999,9,-999,9
29AH20160617, OVIDE/BOCATS,105,1,3,20160721,1951,56.6353,-33.713,1299,1284.7,2,3.9043,34.9365,2,34.9355,2,272.5,2,272.7,2,10.73,2,17.16,2,1.112,2,2308.9,2,7.7171,2,25,-999,9,-999,9
29AH20160617, OVIDE/BOCATS,105,1,4,20160721,1951,56.6353,-33.713,1299,1072.3,2,4.143,34.9306,2,34.9306,2,272.2,2,272.6,2,10.02,2,17.07,2,1.119,2,2306.6,2,7.7114,2,25,-999,9,-999,9
29AH20160617, OVIDE/BOCATS,105,1,5,20160721,1951,56.6353,-33.713,1299,899.4,2,4.2756,34.9364,2,34.9365,2,270.4,2,270.6,2,10.14,2,17.23,2,1.127,2,-999,9,7.7099,2,25,-999,9,-999,9
29AH20160617, OVIDE/BOCATS,105,1,6,20160721,1951,56.6353,-33.713,1299,799.5,2,4.4673,34.9455,2,34.9459,2,268.1,2,268.1,2,10.06,2,17.4,2,1.129,2,2306.3,2,7.7052,2,25,-999,9,-999,9
29AH20160617, OVIDE/BOCATS,105,1,7,20160721,1951,56.6353,-33.713,1299,699.3,2,4.6397,34.9528,2,34.9515,2,264.2,2,265.2,2,9.68,2,17.31,2,1.129,2,2305.6,2,7.6954,2,25,-999,9,-999,9
29AH20160617, OVIDE/BOCATS,105,1,8,20160721,1951,56.6353,-33.713,1299,574.1,2,5.1357,34.9977,2,34.9941,4,253.4,2,252.7,2,10.12,2,17.68,2,1.145,2,2312.8,2,7.6982,2,25,-999,9,-999,9
29AH20160617, OVIDE/BOCATS,105,1,9,20160721,1951,56.6353,-33.713,1299,504,2,5.418,35.0028,2,35.0025,2,254.4,2,254.1,2,9.83,2,17.49,2,1.129,2,2311.8,2,7.7054,2,25,-999,9,-999,9
29AH20160617, OVIDE/BOCATS,105,1,10,20160721,1951,56.6353,-33.713,1299,431.5,2,5.7714,35.0262,2,35.0271,2,256.8,2,256.2,2,9.47,2,17.18,2,1.106,2,2313.9,2,7.7124,2,25,-999,9,-999,9
29AH20160617, OVIDE/BOCATS,105,1,11,20160721,1951,56.6353,-33.713,1299,299.3,2,6.0443,35.008,2,35.007,2,279.2,2,284.8,4,7.49,2,15.34,2,0.999,2,-999,9,7.7422,2,25,-999,9,-999,9
29AH20160617, OVIDE/BOCATS,105,1,12,20160721,1951,56.6353,-33.713,1299,200,2,6.0939,34.9821,2,34.9821,2,281.6,2,283.3,2,7.37,2,15.14,2,0.987,2,2309.1,2,7.741,2,25,-999,9,-999,9
29AH20160617, OVIDE/BOCATS,105,1,13,20160721,1951,56.6353,-33.713,1299,158.9,2,6.043,34.9534,2,34.9534,2,281.9,2,282.1,2,7.54,2,15.26,2,0.991,2,-999,9,7.7367,2,25,-999,9,-999,9
29AH20160617, OVIDE/BOCATS,105,1,14,20160721,1951,56.6353,-33.713,1299,111.1,2,5.7895,34.8867,2,34.886,2,285.3,2,286.9,2,7.53,2,15.16,2,0.993,2,2306,2,7.7291,2,25,-999,9,-999,9
29AH20160617, OVIDE/BOCATS,105,1,15,20160721,1951,56.6353,-33.713,1299,50.4,2,7.4349,34.8058,2,34.8057,2,282.2,2,282.8,2,4.4,2,11.57,2,0.795,2,-999,9,7.778,2,25,-999,9,-999,9
29AH20160617, OVIDE/BOCATS,105,1,16,20160721,1951,56.6353,-33.713,1299,3.5,2,9.9575,34.7343,2,34.735,2,287.6,2,289.6,2,1.96,2,6.24,2,0.463,2,2299.3,2,7.8635,2,25,-999,9,-999,9
29AH20160617, OVIDE/BOCATS,106,1,3,20160721,2200,56.7021,-33.626,1833,1847.6,2,3.325,34.9819,2,-999,9,274.7,2,-999,9,-999,9,-999,9,-999,9,-999,9,-999.0,9,25,-999,9,-999,9
29AH20160617, OVIDE/BOCATS,107,1,3,20160721,2355,56.7249,-33.5939,2424,2421.8,2,3.2042,34.9808,2,34.9813,2,275.3,2,275.9,2,12.4,2,16.23,2,1.047,2,2309.8,2,7.7194,2,25,-999,9,-999,9
29AH20160617, OVIDE/BOCATS,107,1,4,20160721,2355,56.7249,-33.5939,2424,2248.8,2,3.2228,34.9813,2,34.9813,2,275.2,2,275.8,2,12.21,2,16.11,2,1.044,2,-999,9,7.7207,2,25,-999,9,-999,9
29AH20160617, OVIDE/BOCATS,107,1,5,20160721,2355,56.7249,-33.5939,2424,1999.4,2,3.3749,34.9822,2,34.9823,2,275,2,275.5,2,11.53,2,16.02,2,1.041,2,2311.7,2,7.7213,2,25,-999,9,-999,9
29AH20160617, OVIDE/BOCATS,107,1,6,20160721,2355,56.7249,-33.5939,2424,1799,2,3.5134,34.9798,2,34.98,2,274.5,2,274.8,2,11.4,2,16.22,2,1.051,2,2308.5,2,7.7223,2,25,-999,9,-999,9
29AH20160617, OVIDE/BOCATS,107,1,7,20160721,2355,56.7249,-33.5939,2424,1598.3,2,3.6664,34.9686,2,34.9686,2,273.2,2,273.9,2,11.39,2,16.66,2,1.064,2,2307,2,7.7231,2,25,-999,9,-999,9
29AH20160617, OVIDE/BOCATS,107,1,8,20160721,2355,56.7249,-33.5939,2424,1398.9,2,3.7195,34.9411,2,34.9407,2,272.4,2,272.3,2,11.59,2,17.07,2,1.092,2,-999,9,7.7202,2,25,-999,9,-999,9
29AH20160617, OVIDE/BOCATS,107,1,9,20160721,2355,56.7249,-33.5939,2424,1199.1,2,3.8373,34.9203,2,34.9206,2,273.9,2,274.4,2,11.03,2,17.25,2,1.103,2,2306.1,2,7.7173,2,25,-999,9,-999,9
29AH20160617, OVIDE/BOCATS,107,1,10,20160721,2355,56.7249,-33.5939,2424,999.7,2,3.9482,34.9084,2,34.9083,2,277,2,277.5,2,10.21,2,16.96,2,1.097,2,2305.2,2,7.7106,2,25,-999,9,-999,9
29AH20160617, OVIDE/BOCATS,107,1,11,20160721,2355,56.7249,-33.5939,2424,899.9,2,4.2677,34.9388,2,34.9432,4,269.1,2,269.9,2,10.4,2,17.38,2,1.101,2,-999,9,7.7086,2,25,-999,9,-999,9
29AH20160617, OVIDE/BOCATS,107,1,12,20160721,2355,56.7249,-33.5939,2424,797.8,2,4.525,34.9495,2,34.9494,2,263.9,2,264.3,2,10.54,2,17.68,2,1.118,2,2310.1,2,7.7067,2,25,-999,9,-999,9
29AH20160617, OVIDE/BOCATS,107,1,13,20160721,2355,56.7249,-33.5939,2424,699.4,2,4.8267,34.9708,2,34.9725,2,262.2,2,262.3,2,10.3,2,17.63,2,1.113,2,-999,9,7.7085,2,25,-999,9,-999,9
29AH20160617, OVIDE/BOCATS,107,1,14,20160721,2355,56.7249,-33.5939,2424,651.9,2,5.0863,34.9907,2,34.9905,2,256,2,257.2,2,10.3,2,17.48,2,1.12,2,2310.6,2,7.7077,2,25,-999,9,-999,9
29AH20160617, OVIDE/BOCATS,107,1,15,20160721,2355,56.7249,-33.5939,2424,499,2,5.709,35.0103,2,35.0115,2,264.2,2,264.7,2,9.12,2,16.67,2,1.065,2,-999,9,7.7229,2,25,-999,9,-999,9
29AH20160617, OVIDE/BOCATS,107,1,16,20160721,2355,56.7249,-33.5939,2424,400.1,2,5.9498,35.007,2,35.0088,2,277.2,2,278.4,2,8.08,2,15.64,2,1.005,2,2314.2,2,7.7392,2,25,-999,9,-999,9
29AH20160617, OVIDE/BOCATS,107,1,17,20160721,2355,56.7249,-33.5939,2424,298.8,2,6.5262,35.065,2,35.0644,2,278.4,2,280.3,2,7.42,2,14.97,2,0.95,2,-999,9,7.7541,2,25,-999,9,-999,9
29AH20160617, OVIDE/BOCATS,107,1,18,20160721,2355,56.7249,-33.5939,2424,199.6,2,6.7469,35.0774,2,35.0765,2,278.6,2,279.5,2,7.16,2,14.74,2,0.934,2,2315.9,2,7.7583,2,25,-999,9,-999,9
29AH20160617, OVIDE/BOCATS,107,1,19,20160721,2355,56.7249,-33.5939,2424,164.8,2,6.717,35.0606,2,35.0591,2,278.5,2,279.4,2,7.17,2,14.72,2,0.937,2,-999,9,7.7562,2,25,-999,9,-999,9
29AH20160617, OVIDE/BOCATS,107,1,20,20160721,2355,56.7249,-33.5939,2424,100.4,2,6.5741,34.9911,2,34.9907,2,279.9,2,280.2,2,7.32,2,14.84,2,0.959,2,2308.6,2,7.7503,2,25,-999,9,-999,9
29AH20160617, OVIDE/BOCATS,107,1,21,20160721,2355,56.7249,-33.5939,2424,48.6,2,7.6673,34.8303,2,34.8313,2,280.9,2,281.8,2,4.51,2,11.2,2,0.761,2,-999,9,7.7886,2,25,-999,9,-999,9
29AH20160617, OVIDE/BOCATS,107,1,22,20160721,2355,56.7249,-33.5939,2424,4.8,2,9.8155,34.7299,2,34.7281,2,286.3,2,288.9,4,2.07,2,6.27,2,0.446,2,2295.2,2,7.8685,2,25,-999,9,-999,9
29AH20160617, OVIDE/BOCATS,108,1,3,20160722,351,56.7811,-33.5242,1691,1703.1,2,3.5468,34.9764,2,-999,9,273.5,2,-999,9,-999,9,-999,9,-999,9,-999,9,-999.0,9,25,-999,9,-999,9