BOTTLE,20230706CCHSIOENA
EXPOCODE,SECT_ID,STNNBR,CASTNO,SAMPNO,DATE,TIME,LATITUDE,LONGITUDE,DEPTH,CTDPRS,CTDPRS_FLAG_W,CTDTMP,CTDSAL,CTDSAL_FLAG_W,SALNTY,SALNTY_FLAG_W,CTDOXY,CTDOXY_FLAG_W,OXYGEN,OXYGEN_FLAG_W,SILCAT,SILCAT_FLAG_W,NITRAT,NITRAT_FLAG_W,PHSPHT,PHSPHT_FLAG_W,ALKALI,ALKALI_FLAG_W,PH_SWS,PH_SWS_FLAG_W,PH_TMP,CFC-12,CFC-12_FLAG_W,SF6,SF6_FLAG_W
,,,,,,,,,METERS,DBAR,,DEG C,PSS-78,,PSS-78,,UMOL/KG,,UMOL/KG,,UMOL/KG,,UMOL/KG,,UMOL/KG,,UMOL/KG,,,,DEG C,PMOL/KG,,FMOL/KG,
29AH20160617, OVIDE/BOCATS,31,1,3,20160630,1755,46.5418,-19.6745,4561,4585.7,2,2.5799,34.9061,2,34.9064,2,240.6,2,241.4,2,46.05,2,22.37,2,1.46,2,2353.8,2,7.7396,2,25,0.0445,2,-999,9
29AH20160617, OVIDE/BOCATS,31,1,4,20160630,1755,46.5418,-19.6745,4561,3998.8,2,2.5663,34.9118,2,34.9111,2,241.9,2,242.3,2,44.52,2,21.96,2,1.443,2,2352.4,2,7.7403,2,25,-999,9,-999,9
29AH20160617, OVIDE/BOCATS,31,1,5,20160630,1755,46.5418,-19.6745,4561,3748.5,2,2.5933,34.9169,2,34.917,2,243.7,2,243.7,2,42.14,2,21.64,2,1.407,2,2348.5,2,7.74,2,25,-999,9,-999,9
29AH20160617, OVIDE/BOCATS,31,1,6,20160630,1755,46.5418,-19.6745,4561,3498.2,2,2.6557,34.9246,2,34.9238,2,247.4,2,247.4,2,38.72,2,21.14,2,1.365,2,2343.4,2,7.7399,2,25,-999,9,-999,9
29AH20160617, OVIDE/BOCATS,31,1,7,20160630,1755,46.5418,-19.6745,4561,3250.2,2,2.7834,34.9352,2,34.9363,2,252.9,2,256.4,4,33.35,2,20.07,2,1.29,2,2334.7,2,7.7389,2,25,-999,9,-999,9
29AH20160617, OVIDE/BOCATS,31,1,8,20160630,1755,46.5418,-19.6745,4561,3000.5,2,2.9288,34.9419,2,34.9425,2,256.8,2,256.9,2,28.58,2,19.14,2,1.242,2,2328.4,2,7.7371,2,25,0.5757,2,0.3109,2
29AH20160617, OVIDE/BOCATS,31,1,9,20160630,1755,46.5418,-19.6745,4561,2748.9,2,3.0742,34.9383,2,34.9388,2,265.1,2,265.1,2,21.3,2,18.13,2,1.152,2,2319.2,2,7.7352,2,25,-999,9,-999,9
29AH20160617, OVIDE/BOCATS,31,1,10,20160630,1755,46.5418,-19.6745,4561,2398.8,2,3.3261,34.9274,2,34.9281,2,269.9,2,271,2,15.97,2,17.65,2,1.123,2,2311.7,2,7.7316,2,25,-999,9,-999,9
29AH20160617, OVIDE/BOCATS,31,1,11,20160630,1755,46.5418,-19.6745,4561,2249.6,2,3.4615,34.9269,2,34.9274,2,270.4,2,270.4,2,14.56,2,17.73,2,1.118,2,2308.9,2,7.7294,2,25,-999,9,-999,9
29AH20160617, OVIDE/BOCATS,31,1,12,20160630,1755,46.5418,-19.6745,4561,1998.7,2,3.6906,34.9253,2,34.9254,2,269.9,2,269.9,2,12.93,2,17.63,2,1.103,2,-999,9,7.7223,2,25,1.4929,2,0.6725,2
29AH20160617, OVIDE/BOCATS,31,1,13,20160630,1755,46.5418,-19.6745,4561,1998.7,2,3.6918,34.9252,2,34.9249,2,269.9,2,271.3,2,13,2,17.5,2,1.105,2,2306.9,2,7.7239,2,25,1.4641,2,0.6612,2
29AH20160617, OVIDE/BOCATS,31,1,14,20160630,1755,46.5418,-19.6745,4561,1800.3,2,3.862,34.9251,2,34.9238,2,269.8,2,269.8,2,12.11,2,17.62,2,1.103,2,2307.3,2,7.7205,2,25,1.7016,2,0.93,2
29AH20160617, OVIDE/BOCATS,31,1,15,20160630,1755,46.5418,-19.6745,4561,1599,2,4.075,34.9313,2,34.9333,2,269.6,2,269.8,2,11.43,2,17.61,2,1.099,2,2309.3,2,7.7158,2,25,-999,9,-999,9
29AH20160617, OVIDE/BOCATS,31,1,16,20160630,1755,46.5418,-19.6745,4561,1398.1,2,4.3959,34.9553,2,34.9566,2,265.2,2,265.1,2,11.09,2,17.72,2,1.097,2,2308.5,2,7.7096,2,25,-999,9,-999,9
29AH20160617, OVIDE/BOCATS,31,1,17,20160630,1755,46.5418,-19.6745,4561,1200.8,2,5.0339,35.0132,2,35.0132,2,251.4,2,250.6,2,11.18,2,17.97,2,1.119,2,2314,2,7.7115,2,25,1.7587,2,1.2616,2
29AH20160617, OVIDE/BOCATS,31,1,18,20160630,1755,46.5418,-19.6745,4561,1099.5,2,6.0924,35.1553,2,35.1559,2,230.9,2,232.1,2,11.38,2,18.44,2,1.129,2,2322.8,2,7.7171,2,25,-999,9,-999,9
29AH20160617, OVIDE/BOCATS,31,1,19,20160630,1755,46.5418,-19.6745,4561,999.4,2,6.7976,35.2097,2,35.2115,2,220.1,2,220.2,2,11.43,2,18.53,2,1.139,2,2327.5,2,7.7198,2,25,1.4384,2,1.1055,2
29AH20160617, OVIDE/BOCATS,31,1,20,20160630,1755,46.5418,-19.6745,4561,798.8,2,9.1833,35.4423,2,35.443,2,194.6,2,194.3,2,10.3,2,18.22,2,1.095,2,2338.7,2,7.7428,2,25,-999,9,-999,9
29AH20160617, OVIDE/BOCATS,31,1,21,20160630,1755,46.5418,-19.6745,4561,699,2,9.8252,35.4168,2,35.418,2,206.4,2,206.8,2,8.37,2,16.08,2,0.982,2,2334,2,7.7616,2,25,-999,9,-999,9
29AH20160617, OVIDE/BOCATS,31,1,22,20160630,1755,46.5418,-19.6745,4561,598.6,2,10.3519,35.4372,2,35.4315,4,223.9,2,224.9,2,6.57,2,14.12,2,0.849,2,2334.1,2,7.7844,2,25,1.5758,2,1.5983,2
29AH20160617, OVIDE/BOCATS,31,1,23,20160630,1755,46.5418,-19.6745,4561,500,2,10.9399,35.4876,2,35.4881,2,225.5,2,224.9,2,5.63,2,12.96,2,0.774,2,-999,9,7.7959,2,25,-999,9,-999,9
29AH20160617, OVIDE/BOCATS,31,1,24,20160630,1755,46.5418,-19.6745,4561,400.7,2,11.2593,35.5039,2,35.5041,2,230.5,2,230.7,2,4.9,2,12.06,2,0.706,2,2334.6,2,7.805,2,25,1.6699,2,2.0756,2
29AH20160617, OVIDE/BOCATS,31,1,25,20160630,1755,46.5418,-19.6745,4561,299.3,2,11.6396,35.5187,2,35.5152,4,240.5,2,240.8,2,4.03,2,10.09,2,0.606,2,-999,9,7.8305,2,25,-999,9,-999,9
29AH20160617, OVIDE/BOCATS,31,1,26,20160630,1755,46.5418,-19.6745,4561,200,2,11.824,35.5256,2,35.5257,2,252.2,2,252.3,2,3.43,2,8.73,2,0.529,2,2335.5,2,7.8502,2,25,1.6785,2,2.1191,2
29AH20160617, OVIDE/BOCATS,31,1,27,20160630,1755,46.5418,-19.6745,4561,150.1,2,12.0285,35.5536,2,35.5496,4,249.1,2,248.8,2,3.28,2,8.62,2,0.51,2,-999,9,7.8473,2,25,-999,9,-999,9
29AH20160617, OVIDE/BOCATS,31,1,28,20160630,1755,46.5418,-19.6745,4561,100.5,2,12.4258,35.6087,2,35.6075,2,249,2,248.3,2,2.65,2,7.66,2,0.451,2,2339.2,2,7.8597,2,25,-999,9,-999,9
29AH20160617, OVIDE/BOCATS,31,1,29,20160630,1755,46.5418,-19.6745,4561,50.3,2,12.7318,35.622,2,35.6222,2,245.9,2,245.9,2,2.38,2,7.64,2,0.454,2,-999,9,7.8637,2,25,-999,9,-999,9
29AH20160617, OVIDE/BOCATS,31,1,30,20160630,1755,46.5418,-19.6745,4561,4.2,2,16.2729,35.5929,2,35.5933,2,257.5,2,257.7,2,0.23,2,0,2,0.031,2,2343.6,2,7.9849,2,25,1.4298,2,1.7349,2
29AH20160617, OVIDE/BOCATS,32,1,3,20160701,49,46.9177,-19.9683,4505,4577,2,2.5761,34.9058,2,34.9065,2,240.7,2,241.1,2,51.65,2,22.69,2,1.469,2,-999,9,7.7394,2,25,-999,9,-999,9
29AH20160617, OVIDE/BOCATS,32,1,4,20160701,49,46.9177,-19.9683,4505,4434.8,2,2.5626,34.9062,2,34.9066,2,240.7,2,-999,9,53.09,2,22.89,2,1.474,2,-999,9,7.7381,2,25,-999,9,-999,9
29AH20160617, OVIDE/BOCATS,32,1,5,20160701,49,46.9177,-19.9683,4505,3899.9,2,2.5666,34.9128,2,34.9125,2,242.3,2,241.9,2,49.82,2,22.35,2,1.431,2,-999,9,7.7399,2,25,-999,9,-999,9
29AH20160617, OVIDE/BOCATS,32,1,6,20160701,49,46.9177,-19.9683,4505,3700.5,2,2.5988,34.9177,2,34.9185,2,244.2,2,243.8,2,47.27,2,22.13,2,1.407,2,-999,9,7.7378,2,25,-999,9,-999,9
29AH20160617, OVIDE/BOCATS,32,1,7,20160701,49,46.9177,-19.9683,4505,3501,2,2.6834,34.9267,2,34.9279,2,247.6,2,247.8,2,42.33,2,21.19,2,1.356,2,-999,9,7.7369,2,25,-999,9,-999,9
29AH20160617, OVIDE/BOCATS,32,1,8,20160701,49,46.9177,-19.9683,4505,3248.1,2,2.7931,34.936,2,34.9359,2,250.9,2,250.9,2,37.24,2,20.72,2,1.306,2,-999,9,7.7369,2,25,-999,9,-999,9
29AH20160617, OVIDE/BOCATS,32,1,9,20160701,49,46.9177,-19.9683,4505,3002.6,2,2.9375,34.9423,2,34.9427,2,257,2,257,2,30.33,2,19.46,2,1.234,2,-999,9,7.7356,2,25,-999,9,-999,9
29AH20160617, OVIDE/BOCATS,32,1,10,20160701,49,46.9177,-19.9683,4505,2500,2,3.3343,34.9312,2,34.9329,2,268.5,2,268.9,2,18.06,2,18.16,2,1.132,2,-999,9,7.7299,2,25,-999,9,-999,9
29AH20160617, OVIDE/BOCATS,32,1,11,20160701,49,46.9177,-19.9683,4505,1999.6,2,3.7552,34.9243,2,34.9249,2,269.8,2,270,2,13.55,2,17.84,2,1.099,2,-999,9,7.7227,2,25,-999,9,-999,9
29AH20160617, OVIDE/BOCATS,32,1,12,20160701,49,46.9177,-19.9683,4505,1599.4,2,4.1421,34.9323,2,34.9333,2,269.9,2,269.4,2,11.93,2,17.61,2,1.094,2,-999,9,7.7151,2,25,-999,9,-999,9
29AH20160617, OVIDE/BOCATS,32,1,13,20160701,49,46.9177,-19.9683,4505,1399.3,2,4.4485,34.9491,2,34.9503,2,264.5,2,264.2,2,11.68,2,17.79,2,1.104,2,-999,9,7.7115,2,25,-999,9,-999,9
29AH20160617, OVIDE/BOCATS,32,1,14,20160701,49,46.9177,-19.9683,4505,1298.9,2,4.8658,34.995,2,34.9954,2,254.3,2,254.3,2,11.76,2,17.89,2,1.111,2,-999,9,7.7103,2,25,-999,9,-999,9
29AH20160617, OVIDE/BOCATS,32,1,15,20160701,49,46.9177,-19.9683,4505,1199.4,2,6.1074,35.1935,2,35.1934,2,231.5,2,230.4,2,12.23,2,18.2,2,1.131,2,-999,9,7.7215,2,25,-999,9,-999,9
29AH20160617, OVIDE/BOCATS,32,1,16,20160701,49,46.9177,-19.9683,4505,1070.9,2,7.3423,35.3437,2,35.3424,2,214.8,2,212.2,4,11.97,2,18.21,2,1.131,2,-999,9,7.7304,2,25,-999,9,-999,9
29AH20160617, OVIDE/BOCATS,32,1,17,20160701,49,46.9177,-19.9683,4505,1001.9,2,6.8136,35.1737,2,35.1725,2,219.3,2,217.9,2,11.56,2,18.61,2,1.155,2,-999,9,7.7151,2,25,-999,9,-999,9
29AH20160617, OVIDE/BOCATS,32,1,18,20160701,49,46.9177,-19.9683,4505,949.1,2,6.9124,35.1333,2,35.1344,2,215,2,214.3,2,11.96,2,18.83,2,1.164,2,-999,9,7.7103,2,25,-999,9,-999,9
29AH20160617, OVIDE/BOCATS,32,1,19,20160701,49,46.9177,-19.9683,4505,849.9,2,8.8798,35.3936,2,35.3945,2,195.1,2,194.3,2,11.02,2,18.19,2,1.123,2,-999,9,7.736,2,25,-999,9,-999,9
29AH20160617, OVIDE/BOCATS,32,1,20,20160701,49,46.9177,-19.9683,4505,698.3,2,9.4215,35.2819,2,35.2819,2,212.3,2,211.5,2,8.74,2,16.21,2,0.992,2,-999,9,7.7541,2,25,-999,9,-999,9
29AH20160617, OVIDE/BOCATS,32,1,21,20160701,49,46.9177,-19.9683,4505,651.6,2,9.91,35.3447,2,35.3444,2,202.9,2,201.2,2,8.9,2,16.61,2,1.007,2,-999,9,7.7573,2,25,-999,9,-999,9
29AH20160617, OVIDE/BOCATS,32,1,22,20160701,49,46.9177,-19.9683,4505,601.3,2,10.2968,35.3798,2,35.3789,2,209.2,2,207.1,2,7.89,2,15.58,2,0.934,2,-999,9,7.7722,2,25,-999,9,-999,9
29AH20160617, OVIDE/BOCATS,32,1,23,20160701,49,46.9177,-19.9683,4505,550.5,2,10.4352,35.3629,2,35.3623,2,211.6,2,211.8,2,7.42,2,14.92,2,0.897,2,-999,9,7.7762,2,25,-999,9,-999,9
29AH20160617, OVIDE/BOCATS,32,1,24,20160701,49,46.9177,-19.9683,4505,448.3,2,10.9713,35.4158,2,35.4161,2,220.9,2,219.4,2,6.26,2,13.22,2,0.81,2,-999,9,7.7956,2,25,-999,9,-999,9
29AH20160617, OVIDE/BOCATS,32,1,25,20160701,49,46.9177,-19.9683,4505,300.2,2,11.5649,35.4722,2,35.473,2,245.2,2,244.6,2,4.29,2,10.01,2,0.604,2,-999,9,7.837,2,25,-999,9,-999,9
29AH20160617, OVIDE/BOCATS,32,1,26,20160701,49,46.9177,-19.9683,4505,202.6,2,11.866,35.5138,2,35.515,2,246.4,2,245.6,2,3.86,2,9.44,2,0.564,2,-999,9,7.8476,2,25,-999,9,-999,9
29AH20160617, OVIDE/BOCATS,32,1,27,20160701,49,46.9177,-19.9683,4505,149.6,2,12.1966,35.5557,2,35.5553,2,249.1,2,252.2,4,2.9,2,8.16,2,0.491,2,-999,9,7.8515,2,25,-999,9,-999,9
29AH20160617, OVIDE/BOCATS,32,1,28,20160701,49,46.9177,-19.9683,4505,96.8,2,12.7579,35.6531,2,35.6541,2,245.2,2,245.2,2,2.94,2,8,2,0.465,2,-999,9,7.8695,2,25,-999,9,-999,9
29AH20160617, OVIDE/BOCATS,32,1,29,20160701,49,46.9177,-19.9683,4505,51.2,2,14.4012,35.5503,2,35.5521,2,250,2,250.5,2,0.34,2,1.88,2,0.205,2,-999,9,7.9332,2,25,-999,9,-999,9
29AH20160617, OVIDE/BOCATS,32,1,30,20160701,49,46.9177,-19.9683,4505,4.9,2,16.094,35.636,2,35.6361,2,255.5,2,255.5,2,0.26,2,0,2,0.023,2,-999,9,7.9866,2,25,-999,9,-999,9
29AH20160617, OVIDE/BOCATS,33,1,3,20160701,652,47.2912,-20.2637,4516,4587.9,2,2.5592,34.9039,2,34.9039,2,240.5,2,240.4,2,47.47,2,22.11,2,1.477,2,2355.1,2,7.7371,2,25,0.0349,2,-999,9
29AH20160617, OVIDE/BOCATS,33,1,4,20160701,652,47.2912,-20.2637,4516,3998.8,2,2.5782,34.9128,2,34.9122,2,242.3,2,242,2,44.25,2,21.85,2,1.432,2,2347.3,2,7.7347,2,25,-999,9,-999,9
29AH20160617, OVIDE/BOCATS,33,1,5,20160701,652,47.2912,-20.2637,4516,3748.1,2,2.601,34.9175,2,34.918,2,244.1,2,243.9,2,42.16,2,21.19,2,1.404,2,2347.3,2,7.7365,2,25,-999,9,-999,9
29AH20160617, OVIDE/BOCATS,33,1,6,20160701,652,47.2912,-20.2637,4516,3498.7,2,2.7087,34.9286,2,34.929,2,248.8,2,248.7,2,36.21,2,20.67,2,1.344,2,2335.6,2,7.7363,2,25,-999,9,-999,9
29AH20160617, OVIDE/BOCATS,33,1,7,20160701,652,47.2912,-20.2637,4516,3249.6,2,2.8291,34.938,2,34.9392,2,254.8,2,254.9,2,30.02,2,19.4,2,1.262,2,2329.8,2,7.7355,2,25,-999,9,-999,9
29AH20160617, OVIDE/BOCATS,33,1,8,20160701,652,47.2912,-20.2637,4516,2999.3,2,2.9987,34.9418,2,34.9416,2,261.3,2,261.3,2,23.07,2,18.52,2,1.186,2,2319.4,2,7.734,2,25,0.7937,2,0.3114,2
29AH20160617, OVIDE/BOCATS,33,1,9,20160701,652,47.2912,-20.2637,4516,2749.4,2,3.1349,34.9341,2,34.9352,2,268.5,2,268.6,2,17.23,2,17,2,1.128,2,2313.2,2,7.7323,2,25,-999,9,-999,9
29AH20160617, OVIDE/BOCATS,33,1,10,20160701,652,47.2912,-20.2637,4516,2399.4,2,3.3537,34.9221,2,34.922,2,271.4,2,271.8,2,14.16,2,17.04,2,1.106,2,2307.7,2,7.7295,2,25,-999,9,-999,9
29AH20160617, OVIDE/BOCATS,33,1,11,20160701,652,47.2912,-20.2637,4516,2249.6,2,3.4907,34.9224,2,34.9238,2,270.7,2,271.1,2,13.43,2,17.03,2,1.108,2,2306.6,2,7.7271,2,25,-999,9,-999,9
29AH20160617, OVIDE/BOCATS,33,1,12,20160701,652,47.2912,-20.2637,4516,2099.1,2,3.6322,34.9231,2,34.9228,2,270.3,2,270.8,2,12.8,2,17.03,2,1.109,2,2305.7,2,7.7264,2,25,-999,9,-999,9
29AH20160617, OVIDE/BOCATS,33,1,13,20160701,652,47.2912,-20.2637,4516,1999.9,2,3.732,34.9262,2,34.9253,2,269.5,2,269.5,2,12.5,2,17.07,2,1.105,2,2306.3,2,7.7246,2,25,-999,9,-999,9
29AH20160617, OVIDE/BOCATS,33,1,14,20160701,652,47.2912,-20.2637,4516,1799.7,2,3.9689,34.9383,2,34.9376,2,267.8,2,267.5,2,11.89,2,17.22,2,1.112,2,2306,2,7.7206,2,25,-999,9,-999,9
29AH20160617, OVIDE/BOCATS,33,1,15,20160701,652,47.2912,-20.2637,4516,1799.7,2,3.9706,34.9386,2,34.9388,2,268.1,2,268.1,2,11.79,2,17.3,2,1.105,2,-999,9,7.719,2,25,1.7337,2,1.1021,2
29AH20160617, OVIDE/BOCATS,33,1,16,20160701,652,47.2912,-20.2637,4516,1600.2,2,4.3483,34.9725,2,34.9728,2,263.2,2,262.9,2,11.19,2,17.28,2,1.112,2,2309.6,2,7.7173,2,25,-999,9,-999,9
29AH20160617, OVIDE/BOCATS,33,1,17,20160701,652,47.2912,-20.2637,4516,1398.8,2,4.9145,35.028,2,35.0293,2,253.2,2,253.3,2,10.92,2,17.55,2,1.131,2,2312.4,2,7.7161,2,25,1.746,2,1.1148,2
29AH20160617, OVIDE/BOCATS,33,1,18,20160701,652,47.2912,-20.2637,4516,1200.1,2,5.7036,35.088,2,35.0831,4,237.3,2,237.7,2,11.03,2,17.54,2,1.133,2,2314.4,2,7.712,2,25,1.6777,2,-999,9
29AH20160617, OVIDE/BOCATS,33,1,19,20160701,652,47.2912,-20.2637,4516,1001.6,2,8.1518,35.4063,2,35.405,2,201.7,2,200.5,2,11.11,2,17.92,2,1.115,2,2336.1,2,7.734,2,25,1.2416,2,0.8521,2
29AH20160617, OVIDE/BOCATS,33,1,20,20160701,652,47.2912,-20.2637,4516,801.2,2,9.3817,35.3507,2,35.3504,2,199,2,198.8,2,9.35,2,17.15,2,1.06,2,2329.1,2,7.7461,2,25,1.3495,2,1.0645,2
29AH20160617, OVIDE/BOCATS,33,1,21,20160701,652,47.2912,-20.2637,4516,700.2,2,10.2273,35.4095,2,35.4099,2,217.7,2,217.5,2,7.02,2,14.42,2,0.895,2,2331.2,2,7.7762,2,25,-999,9,-999,9
29AH20160617, OVIDE/BOCATS,33,1,22,20160701,652,47.2912,-20.2637,4516,600.2,2,10.6597,35.4177,2,35.4122,4,227.9,2,227.7,2,5.87,2,12.89,2,0.792,2,2327,2,7.7951,2,25,1.6252,2,1.7205,2
29AH20160617, OVIDE/BOCATS,33,1,23,20160701,652,47.2912,-20.2637,4516,501.3,2,11.3757,35.531,2,35.525,4,229.5,2,228.9,2,4.77,2,11.78,2,0.725,2,-999,9,7.8112,2,25,-999,9,-999,9
29AH20160617, OVIDE/BOCATS,33,1,24,20160701,652,47.2912,-20.2637,4516,400.6,2,11.5029,35.498,2,35.4975,2,236.1,2,235.8,2,4.39,2,10.71,2,0.659,2,2330.5,2,7.8257,2,25,1.6572,2,1.9657,2
29AH20160617, OVIDE/BOCATS,33,1,25,20160701,652,47.2912,-20.2637,4516,302.5,2,11.7626,35.5151,2,35.5161,2,244.4,2,243.6,2,3.9,2,9.62,2,0.582,2,-999,9,7.839,2,25,-999,9,-999,9
29AH20160617, OVIDE/BOCATS,33,1,26,20160701,652,47.2912,-20.2637,4516,200.3,2,12.0379,35.5474,2,35.5484,2,247.8,2,246.6,2,3.54,2,8.9,2,0.534,2,2333.6,2,7.8502,2,25,1.6654,2,2.2298,2
29AH20160617, OVIDE/BOCATS,33,1,27,20160701,652,47.2912,-20.2637,4516,150.3,2,12.4808,35.6105,2,35.5853,4,245.2,2,244.6,2,3.38,2,8.65,2,0.524,2,-999,9,7.8575,2,25,-999,9,-999,9
29AH20160617, OVIDE/BOCATS,33,1,28,20160701,652,47.2912,-20.2637,4516,101.2,2,12.7917,35.6621,2,35.6613,2,245.5,2,244.4,2,2.96,2,7.92,2,0.47,2,2339.6,2,7.8681,2,25,-999,9,-999,9
29AH20160617, OVIDE/BOCATS,33,1,29,20160701,652,47.2912,-20.2637,4516,50.7,2,13.3717,35.6325,2,35.6369,4,247.3,2,247,2,1,2,4.53,2,0.349,2,-999,9,7.897,2,25,-999,9,-999,9
29AH20160617, OVIDE/BOCATS,33,1,30,20160701,652,47.2912,-20.2637,4516,4.1,2,16.1014,35.6431,2,35.6433,2,253.1,2,253.1,2,0.24,2,-0.03,2,0.028,2,2344,2,7.9808,2,25,1.4858,2,-999,9