BOTTLE,20230706CCHSIOENA
EXPOCODE,SECT_ID,STNNBR,CASTNO,SAMPNO,DATE,TIME,LATITUDE,LONGITUDE,DEPTH,CTDPRS,CTDPRS_FLAG_W,CTDTMP,CTDSAL,CTDSAL_FLAG_W,SALNTY,SALNTY_FLAG_W,CTDOXY,CTDOXY_FLAG_W,OXYGEN,OXYGEN_FLAG_W,SILCAT,SILCAT_FLAG_W,NITRAT,NITRAT_FLAG_W,PHSPHT,PHSPHT_FLAG_W,ALKALI,ALKALI_FLAG_W,PH_SWS,PH_SWS_FLAG_W,PH_TMP,CFC-12,CFC-12_FLAG_W,SF6,SF6_FLAG_W
,,,,,,,,,METERS,DBAR,,DEG C,PSS-78,,PSS-78,,UMOL/KG,,UMOL/KG,,UMOL/KG,,UMOL/KG,,UMOL/KG,,UMOL/KG,,,,DEG C,PMOL/KG,,FMOL/KG,
29AH20160617, OVIDE/BOCATS,41,1,3,20160704,451,50.2823,-22.6085,4133,4195.3,2,2.6009,34.9124,2,34.9123,2,241.7,2,241.3,2,42.94,2,21.42,2,1.426,2,2352,2,7.7323,2,25,0.1173,2,-999,9
29AH20160617, OVIDE/BOCATS,41,1,4,20160704,451,50.2823,-22.6085,4133,3749,2,2.6347,34.9207,2,34.9205,2,246,2,246.4,2,37.94,2,20.86,2,1.367,2,2344.6,2,7.7387,2,25,-999,9,-999,9
29AH20160617, OVIDE/BOCATS,41,1,5,20160704,451,50.2823,-22.6085,4133,3501.3,2,2.7084,34.9302,2,34.9293,2,250.9,2,250.8,2,33.2,2,19.67,2,1.3,2,2336.6,2,7.7317,2,25,-999,9,-999,9
29AH20160617, OVIDE/BOCATS,41,1,6,20160704,451,50.2823,-22.6085,4133,3250.9,2,2.7878,34.9383,2,34.9371,2,256,2,256,2,28.57,2,18.79,2,1.233,2,2331.4,2,7.7334,2,25,-999,9,-999,9
29AH20160617, OVIDE/BOCATS,41,1,7,20160704,451,50.2823,-22.6085,4133,2987.2,2,2.915,34.9445,2,34.9453,2,262.6,2,263.6,2,22.16,2,17.75,2,1.155,2,2320.2,2,7.7339,2,25,0.9452,2,0.5282,2
29AH20160617, OVIDE/BOCATS,41,1,8,20160704,451,50.2823,-22.6085,4133,2749.4,2,3.0526,34.9407,2,34.9422,2,267.8,2,268.1,2,17.76,2,17.16,2,1.109,2,2315.6,2,7.7249,2,25,-999,9,-999,9
29AH20160617, OVIDE/BOCATS,41,1,9,20160704,451,50.2823,-22.6085,4133,2502.2,2,3.1985,34.9313,2,34.9311,2,271.9,2,272.2,2,14.11,2,16.59,2,1.076,2,2310.8,2,7.7274,2,25,-999,9,-999,9
29AH20160617, OVIDE/BOCATS,41,1,10,20160704,451,50.2823,-22.6085,4133,2250.1,2,3.3562,34.9241,2,34.9225,2,272.2,2,273,2,13.21,2,16.67,2,1.081,2,-999,9,-999.0,9,25,-999,9,-999,9
29AH20160617, OVIDE/BOCATS,41,1,11,20160704,451,50.2823,-22.6085,4133,2250.1,2,3.3562,34.9241,2,34.9243,2,272.2,2,273.5,2,12.96,2,16.72,2,1.084,2,2309.3,2,7.7263,2,25,-999,9,-999,9
29AH20160617, OVIDE/BOCATS,41,1,12,20160704,451,50.2823,-22.6085,4133,1998.9,2,3.5284,34.9224,2,34.9227,2,271.5,2,271.6,2,12.21,2,16.89,2,1.088,2,2307.7,2,7.7234,2,25,1.4637,2,0.7125,2
29AH20160617, OVIDE/BOCATS,41,1,13,20160704,451,50.2823,-22.6085,4133,1801.1,2,3.6803,34.9229,2,34.9249,2,270.6,2,270.4,2,11.73,2,16.87,2,1.098,2,2306.7,2,7.7218,2,25,1.5875,2,0.8548,2
29AH20160617, OVIDE/BOCATS,41,1,14,20160704,451,50.2823,-22.6085,4133,1600,2,3.8389,34.9204,2,34.9201,2,270.8,2,271.1,2,10.98,2,16.97,2,1.093,2,-999,9,-999.0,9,25,-999,9,-999,9
29AH20160617, OVIDE/BOCATS,41,1,15,20160704,451,50.2823,-22.6085,4133,1401.3,2,3.952,34.9168,2,34.9196,2,273.1,2,272.5,2,10.41,2,16.72,2,1.086,2,2305.1,2,7.7169,2,25,1.3537,2,0.9499,2
29AH20160617, OVIDE/BOCATS,41,1,16,20160704,451,50.2823,-22.6085,4133,1200.5,2,4.156,34.9235,2,34.9243,2,271.8,2,271.4,2,9.99,2,16.98,2,1.083,2,2306,2,7.7109,2,25,2.0254,2,1.5827,2
29AH20160617, OVIDE/BOCATS,41,1,17,20160704,451,50.2823,-22.6085,4133,998.8,2,4.7121,34.9791,2,34.9608,4,259.6,2,265.8,4,10.33,2,17.21,2,1.096,2,2311.7,2,7.7125,2,25,1.9246,2,1.5296,2
29AH20160617, OVIDE/BOCATS,41,1,18,20160704,451,50.2823,-22.6085,4133,899.2,2,5.2508,35.0418,2,35.0419,2,245.7,2,245.5,2,10.64,2,17.55,2,1.113,2,2316.9,2,7.711,2,25,-999,9,-999,9
29AH20160617, OVIDE/BOCATS,41,1,19,20160704,451,50.2823,-22.6085,4133,799.4,2,5.4902,35.0276,2,35.0245,4,241.6,2,241.6,2,10.69,2,18,2,1.134,2,2311.2,2,7.707,2,25,1.6804,2,1.3169,2
29AH20160617, OVIDE/BOCATS,41,1,20,20160704,451,50.2823,-22.6085,4133,699.3,2,5.9257,35.0196,2,35.0177,2,232.5,2,231.6,2,10.65,2,18.06,2,1.155,2,2312.5,2,7.7027,2,25,-999,9,-999,9
29AH20160617, OVIDE/BOCATS,41,1,21,20160704,451,50.2823,-22.6085,4133,599.4,2,6.221,34.9563,2,34.9564,2,228.7,2,227.1,2,10.68,2,17.73,2,1.172,2,2311,2,7.6964,2,25,1.6105,2,1.5212,2
29AH20160617, OVIDE/BOCATS,41,1,22,20160704,451,50.2823,-22.6085,4133,499.1,2,6.8905,34.9169,2,34.9153,2,230.3,2,229.1,2,9.94,2,17.18,2,1.121,2,2307.5,2,7.7099,2,25,-999,9,-999,9
29AH20160617, OVIDE/BOCATS,41,1,23,20160704,451,50.2823,-22.6085,4133,399.6,2,8.1106,35.0016,2,34.9962,4,228.1,2,230.6,2,8.61,2,15.68,2,1.024,2,2311,2,7.7373,2,25,-999,9,-999,9
29AH20160617, OVIDE/BOCATS,41,1,24,20160704,451,50.2823,-22.6085,4133,299.6,2,9.176,35.1065,2,35.1045,2,240.4,2,238.5,2,6.89,2,13.8,2,0.893,2,-999,9,7.7717,2,25,1.6572,2,1.954,2
29AH20160617, OVIDE/BOCATS,41,1,25,20160704,451,50.2823,-22.6085,4133,200.2,2,9.8964,35.2015,2,35.2025,2,247.6,2,247.1,2,5.5,2,12.14,2,0.773,2,2322.1,2,7.7962,2,25,1.7362,2,2.1997,2
29AH20160617, OVIDE/BOCATS,41,1,26,20160704,451,50.2823,-22.6085,4133,149.2,2,10.544,35.2975,2,35.2972,2,244.9,2,245.7,2,4.59,2,11.41,2,0.711,2,-999,9,7.8116,2,25,-999,9,-999,9
29AH20160617, OVIDE/BOCATS,41,1,27,20160704,451,50.2823,-22.6085,4133,100.4,2,11.0735,35.333,2,35.3336,2,259.6,2,259.4,2,1.71,2,8.42,2,0.569,2,2330.9,2,7.8493,2,25,-999,9,-999,9
29AH20160617, OVIDE/BOCATS,41,1,28,20160704,451,50.2823,-22.6085,4133,49.8,2,13.3778,35.3446,2,35.3467,2,259.4,2,260.5,2,0.19,2,3.3,2,0.262,2,-999,9,7.9262,2,25,-999,9,-999,9
29AH20160617, OVIDE/BOCATS,41,1,29,20160704,451,50.2823,-22.6085,4133,4.2,2,14.0053,35.296,2,35.2967,2,261.9,2,261.9,2,0.15,2,2.52,2,0.193,2,2326.6,2,7.9423,2,25,1.6156,2,-999,9
29AH20160617, OVIDE/BOCATS,41,1,30,20160704,451,50.2823,-22.6085,4133,4.2,2,14.0061,35.296,2,35.2948,2,261.4,2,261.4,2,-999,9,-999,9,-999,9,-999,9,-999.0,9,25,1.6121,2,2.1077,2
29AH20160617, OVIDE/BOCATS,42,1,3,20160704,1305,50.6459,-22.8997,3735,3786.4,2,2.5797,34.9149,2,34.9141,2,243,2,243,2,41.71,2,20.87,2,1.411,2,-999,9,7.7352,2,25,-999,9,-999,9
29AH20160617, OVIDE/BOCATS,42,1,4,20160704,1305,50.6459,-22.8997,3735,3499.3,2,2.6801,34.9278,2,34.9267,2,249.6,2,249.4,2,34.71,2,19.5,2,1.321,2,-999,9,7.7336,2,25,-999,9,-999,9
29AH20160617, OVIDE/BOCATS,42,1,5,20160704,1305,50.6459,-22.8997,3735,3248.5,2,2.7699,34.9373,2,34.9369,2,255.4,2,255.2,2,28.78,2,18.47,2,1.249,2,-999,9,7.733,2,25,-999,9,-999,9
29AH20160617, OVIDE/BOCATS,42,1,6,20160704,1305,50.6459,-22.8997,3735,3000.1,2,2.9175,34.9437,2,34.9433,2,262.1,2,262.2,2,22.5,2,17.46,2,1.171,2,-999,9,7.7313,2,25,-999,9,-999,9
29AH20160617, OVIDE/BOCATS,42,1,7,20160704,1305,50.6459,-22.8997,3735,2749,2,3.0488,34.9413,2,34.941,2,268,2,268.6,2,17.7,2,16.51,2,1.11,2,-999,9,7.7357,2,25,-999,9,-999,9
29AH20160617, OVIDE/BOCATS,42,1,8,20160704,1305,50.6459,-22.8997,3735,2499.2,2,3.1856,34.9309,2,34.9316,2,270.8,2,270.9,2,15.13,2,16.63,2,1.106,2,-999,9,7.7231,2,25,-999,9,-999,9
29AH20160617, OVIDE/BOCATS,42,1,9,20160704,1305,50.6459,-22.8997,3735,2249,2,3.3337,34.9247,2,34.9249,2,272.2,2,272,2,13.42,2,16.55,2,1.094,2,-999,9,7.7222,2,25,-999,9,-999,9
29AH20160617, OVIDE/BOCATS,42,1,10,20160704,1305,50.6459,-22.8997,3735,1999,2,3.5268,34.9217,2,34.9217,2,270.9,2,271.1,2,12.47,2,16.76,2,1.096,2,-999,9,7.7213,2,25,-999,9,-999,9
29AH20160617, OVIDE/BOCATS,42,1,11,20160704,1305,50.6459,-22.8997,3735,1799.1,2,3.6971,34.9231,2,34.9229,2,270.2,2,270.1,2,11.85,2,16.97,2,1.1,2,-999,9,7.7184,2,25,-999,9,-999,9
29AH20160617, OVIDE/BOCATS,42,1,12,20160704,1305,50.6459,-22.8997,3735,1598.8,2,3.859,34.9239,2,34.9242,2,270.2,2,270.1,2,11.19,2,16.76,2,1.1,2,-999,9,7.7159,2,25,-999,9,-999,9
29AH20160617, OVIDE/BOCATS,42,1,13,20160704,1305,50.6459,-22.8997,3735,1399.2,2,4.0258,34.9272,2,34.9268,2,270.6,2,270.1,2,10.63,2,16.72,2,1.088,2,-999,9,7.7106,2,25,-999,9,-999,9
29AH20160617, OVIDE/BOCATS,42,1,14,20160704,1305,50.6459,-22.8997,3735,1199.9,2,4.2849,34.9414,2,34.9418,2,267.8,2,266.9,2,10.23,2,16.87,2,1.087,2,-999,9,7.7078,2,25,-999,9,-999,9
29AH20160617, OVIDE/BOCATS,42,1,15,20160704,1305,50.6459,-22.8997,3735,999.9,2,4.9249,35.0063,2,35.0069,2,253.3,2,252.1,2,10.43,2,17.3,2,1.114,2,-999,9,7.7056,2,25,-999,9,-999,9
29AH20160617, OVIDE/BOCATS,42,1,16,20160704,1305,50.6459,-22.8997,3735,899.1,2,5.2373,35.0307,2,35.0307,2,244,2,245,2,10.48,2,17.36,2,1.124,2,-999,9,7.7033,2,25,-999,9,-999,9
29AH20160617, OVIDE/BOCATS,42,1,17,20160704,1305,50.6459,-22.8997,3735,799.8,2,5.7972,35.0765,2,35.0776,2,235.7,2,234.5,2,10.66,2,17.63,2,1.138,2,-999,9,7.7058,2,25,-999,9,-999,9
29AH20160617, OVIDE/BOCATS,42,1,18,20160704,1305,50.6459,-22.8997,3735,700.5,2,6.2644,35.0784,2,35.0776,2,226.9,2,226.9,2,10.72,2,18.11,2,1.154,2,-999,9,7.7035,2,25,-999,9,-999,9
29AH20160617, OVIDE/BOCATS,42,1,19,20160704,1305,50.6459,-22.8997,3735,600.5,2,6.785,35.0672,2,35.0674,2,215.2,2,215.8,2,10.68,2,18.24,2,1.168,2,-999,9,7.7022,2,25,-999,9,-999,9
29AH20160617, OVIDE/BOCATS,42,1,20,20160704,1305,50.6459,-22.8997,3735,498.3,2,7.7716,35.0903,2,35.0911,2,213.3,2,210.9,2,9.87,2,17.61,2,1.122,2,-999,9,7.7142,2,25,-999,9,-999,9
29AH20160617, OVIDE/BOCATS,42,1,21,20160704,1305,50.6459,-22.8997,3735,400,2,8.5031,35.1098,2,35.1095,2,228,2,227,2,8.07,2,15.55,2,0.998,2,-999,9,7.7361,2,25,-999,9,-999,9
29AH20160617, OVIDE/BOCATS,42,1,22,20160704,1305,50.6459,-22.8997,3735,299.7,2,8.9354,35.1042,2,35.1043,2,251.8,2,250.3,2,6.31,2,13.07,2,0.843,2,-999,9,7.7691,2,25,-999,9,-999,9
29AH20160617, OVIDE/BOCATS,42,1,23,20160704,1305,50.6459,-22.8997,3735,200.3,2,9.5202,35.1626,2,35.1627,2,261.8,2,262,2,4.97,2,11.41,2,0.728,2,-999,9,7.7948,2,25,-999,9,-999,9
29AH20160617, OVIDE/BOCATS,42,1,24,20160704,1305,50.6459,-22.8997,3735,149.5,2,9.8839,35.1997,2,35.1999,2,258.9,2,259.4,2,3.62,2,10.47,2,0.687,2,-999,9,7.8057,2,25,-999,9,-999,9
29AH20160617, OVIDE/BOCATS,42,1,25,20160704,1305,50.6459,-22.8997,3735,99.3,2,10.2166,35.2067,2,35.207,2,260,2,260,2,1.16,2,7.74,2,0.64,2,-999,9,7.8198,2,25,-999,9,-999,9
29AH20160617, OVIDE/BOCATS,42,1,26,20160704,1305,50.6459,-22.8997,3735,49.8,2,11.5018,35.224,2,35.2261,2,263.6,2,264,2,0.23,2,4.75,2,0.441,2,-999,9,7.8705,2,25,-999,9,-999,9
29AH20160617, OVIDE/BOCATS,42,1,27,20160704,1305,50.6459,-22.8997,3735,5.6,2,13.7577,35.229,2,35.2292,2,268.9,2,270.9,2,0.13,2,1.65,2,0.169,2,-999,9,7.948,2,25,-999,9,-999,9
29AH20160617, OVIDE/BOCATS,43,1,3,20160704,1830,51.028,-23.2017,3918,3973.7,2,2.6212,34.917,2,34.9147,2,243.6,2,243.3,2,41.29,2,21.42,2,1.395,2,2344.7,2,7.7354,2,25,0.2169,2,-999,9
29AH20160617, OVIDE/BOCATS,43,1,4,20160704,1830,51.028,-23.2017,3918,3748.6,2,2.6228,34.9197,2,34.9189,2,245.4,2,245.5,2,39.23,2,20.93,2,1.372,2,2343.6,2,7.7336,2,25,-999,9,-999,9
29AH20160617, OVIDE/BOCATS,43,1,5,20160704,1830,51.028,-23.2017,3918,3497.5,2,2.6822,34.928,2,34.9256,2,249.8,2,249.9,2,34.88,2,20.12,2,1.314,2,2338.2,2,7.7329,2,25,-999,9,-999,9
29AH20160617, OVIDE/BOCATS,43,1,6,20160704,1830,51.028,-23.2017,3918,3249.1,2,2.7663,34.9364,2,34.9361,2,255.1,2,255.1,2,29.63,2,19.21,2,1.251,2,2331.1,2,7.7309,2,25,-999,9,-999,9
29AH20160617, OVIDE/BOCATS,43,1,7,20160704,1830,51.028,-23.2017,3918,2998.7,2,2.9278,34.9433,2,34.9434,2,262.1,2,262.3,2,22.8,2,17.9,2,1.163,2,2321.7,2,7.7301,2,25,-999,9,-999,9
29AH20160617, OVIDE/BOCATS,43,1,8,20160704,1830,51.028,-23.2017,3918,2748.2,2,3.0532,34.9408,2,34.941,2,267.1,2,268,2,18.21,2,17.32,2,1.113,2,2314.6,2,7.73,2,25,-999,9,-999,9
29AH20160617, OVIDE/BOCATS,43,1,9,20160704,1830,51.028,-23.2017,3918,2500.2,2,3.2052,34.9311,2,34.9307,2,270.1,2,270.4,2,15.31,2,17.07,2,1.1,2,2309.7,2,7.7307,2,25,1.2213,2,0.5925,2
29AH20160617, OVIDE/BOCATS,43,1,10,20160704,1830,51.028,-23.2017,3918,2247.9,2,3.3782,34.9247,2,34.9242,2,272,2,272.4,2,12.89,2,16.66,2,1.185,2,2306.5,2,7.7268,2,25,-999,9,-999,9
29AH20160617, OVIDE/BOCATS,43,1,11,20160704,1830,51.028,-23.2017,3918,1999.1,2,3.5664,34.9236,2,34.9229,2,271.2,2,271.1,2,12.09,2,16.78,2,1.086,2,-999,9,-999.0,9,25,1.4888,2,0.832,2
29AH20160617, OVIDE/BOCATS,43,1,12,20160704,1830,51.028,-23.2017,3918,1999.1,2,3.5668,34.9237,2,34.9237,2,271.2,2,271.5,2,12.06,2,16.92,2,1.095,2,2304.7,2,7.7236,2,25,1.4951,2,0.7311,2
29AH20160617, OVIDE/BOCATS,43,1,13,20160704,1830,51.028,-23.2017,3918,1799.7,2,3.7306,34.9234,2,34.9222,2,270.8,2,270.7,2,11.49,2,16.96,2,1.085,2,2305.6,2,7.7211,2,25,-999,9,-999,9
29AH20160617, OVIDE/BOCATS,43,1,14,20160704,1830,51.028,-23.2017,3918,1600.4,2,3.8857,34.9204,2,34.9202,2,271.8,2,271.8,2,10.79,2,16.89,2,1.086,2,2306.3,2,7.7168,2,25,-999,9,-999,9
29AH20160617, OVIDE/BOCATS,43,1,15,20160704,1830,51.028,-23.2017,3918,1399.3,2,4.0189,34.9203,2,34.9211,2,272.8,2,272,2,10.29,2,16.85,2,1.096,2,2305.4,2,7.7147,2,25,-999,9,-999,9
29AH20160617, OVIDE/BOCATS,43,1,16,20160704,1830,51.028,-23.2017,3918,1200.4,2,4.3094,34.9427,2,34.9433,2,266.9,2,267.3,2,10.18,2,17.02,2,1.104,2,2306.2,2,7.7104,2,25,-999,9,-999,9
29AH20160617, OVIDE/BOCATS,43,1,17,20160704,1830,51.028,-23.2017,3918,999.9,2,4.9038,34.9906,2,34.9917,2,253.4,2,252.9,2,10.37,2,17.52,2,1.129,2,2311.2,2,7.707,2,25,1.8406,2,1.4592,2
29AH20160617, OVIDE/BOCATS,43,1,18,20160704,1830,51.028,-23.2017,3918,891.7,2,5.2311,34.9983,2,34.9986,2,247.7,2,246.6,2,10.46,2,17.61,2,1.142,2,2309.9,2,7.7052,2,25,-999,9,-999,9
29AH20160617, OVIDE/BOCATS,43,1,19,20160704,1830,51.028,-23.2017,3918,799.6,2,5.8037,35.0448,2,35.0463,2,236.8,2,235.2,2,10.61,2,17.96,2,1.156,2,2314.5,2,7.7065,2,25,1.6658,2,1.4277,2
29AH20160617, OVIDE/BOCATS,43,1,20,20160704,1830,51.028,-23.2017,3918,699.2,2,6.1835,35.0178,2,35.0192,2,229,2,230.6,2,10.63,2,18.19,2,1.157,2,2312.1,2,7.7031,2,25,-999,9,-999,9
29AH20160617, OVIDE/BOCATS,43,1,21,20160704,1830,51.028,-23.2017,3918,644.5,2,7.0972,35.1173,2,35.1155,2,214.3,2,212.7,2,10.63,2,18.29,2,1.154,2,2317.9,2,7.7106,2,25,-999,9,-999,9
29AH20160617, OVIDE/BOCATS,43,1,22,20160704,1830,51.028,-23.2017,3918,598.8,2,7.3306,35.1154,2,35.112,4,210.6,2,210.5,2,10.43,2,18.1,2,1.149,2,2315.6,2,7.7115,2,25,1.4552,2,1.2205,2
29AH20160617, OVIDE/BOCATS,43,1,23,20160704,1830,51.028,-23.2017,3918,500.5,2,7.9997,35.0863,2,35.0864,2,212,2,210.3,2,9.82,2,17.6,2,1.113,2,-999,9,7.7205,2,25,-999,9,-999,9
29AH20160617, OVIDE/BOCATS,43,1,24,20160704,1830,51.028,-23.2017,3918,400.1,2,8.6347,35.0944,2,35.0989,4,237.9,2,237.8,2,7.47,2,14.77,2,0.933,2,2314.9,2,7.7588,2,25,1.7088,2,1.812,2
29AH20160617, OVIDE/BOCATS,43,1,25,20160704,1830,51.028,-23.2017,3918,298.4,2,9.1923,35.1275,2,35.1286,2,255.2,2,255.9,2,5.81,2,12.39,2,0.777,2,-999,9,7.7877,2,25,-999,9,-999,9
29AH20160617, OVIDE/BOCATS,43,1,26,20160704,1830,51.028,-23.2017,3918,201,2,9.5127,35.1597,2,35.16,2,263,2,263.1,2,5.08,2,11.43,2,0.716,2,2315.3,2,7.8015,2,25,1.8553,2,2.2444,2
29AH20160617, OVIDE/BOCATS,43,1,27,20160704,1830,51.028,-23.2017,3918,148.6,2,9.6854,35.1786,2,35.1772,2,259.1,2,258.7,2,4.73,2,11.44,2,0.713,2,-999,9,7.8016,2,25,-999,9,-999,9
29AH20160617, OVIDE/BOCATS,43,1,28,20160704,1830,51.028,-23.2017,3918,99.9,2,9.9858,35.2079,2,35.203,4,258.9,2,258.6,2,3.36,2,10.56,2,0.667,2,2316.7,2,7.8112,2,25,-999,9,-999,9
29AH20160617, OVIDE/BOCATS,43,1,29,20160704,1830,51.028,-23.2017,3918,49.5,2,10.5352,35.2327,2,35.2328,2,259.6,2,258.7,2,0.79,2,7.44,2,0.593,2,-999,9,7.8317,2,25,-999,9,-999,9
29AH20160617, OVIDE/BOCATS,43,1,30,20160704,1830,51.028,-23.2017,3918,5.7,2,13.4601,35.228,2,35.2277,2,265.7,2,266.5,2,0.26,2,2.98,2,0.231,2,2321,2,7.9261,2,25,1.664,2,2.1462,2
29AH20160617, OVIDE/BOCATS,44,1,3,20160704,2335,51.4021,-23.4853,3247,3287.9,2,2.7147,34.932,2,34.9315,2,252.8,2,-999,9,32.05,2,19.54,2,1.283,2,-999,9,7.7318,2,25,-999,9,-999,9
29AH20160617, OVIDE/BOCATS,44,1,4,20160704,2335,51.4021,-23.4853,3247,3200.7,2,2.7874,34.9377,2,34.9363,2,256.2,2,255.4,2,28.37,2,18.88,2,1.234,2,-999,9,7.7307,2,25,-999,9,-999,9
29AH20160617, OVIDE/BOCATS,44,1,5,20160704,2335,51.4021,-23.4853,3247,2998.6,2,2.8969,34.9431,2,34.9424,2,261.5,2,261.1,2,23.25,2,18.08,2,1.173,2,-999,9,7.7242,2,25,-999,9,-999,9
29AH20160617, OVIDE/BOCATS,44,1,6,20160704,2335,51.4021,-23.4853,3247,2751,2,3.0453,34.9406,2,34.9399,2,266.8,2,266.4,2,18.29,2,17.2,2,1.124,2,-999,9,7.726,2,25,-999,9,-999,9
29AH20160617, OVIDE/BOCATS,44,1,7,20160704,2335,51.4021,-23.4853,3247,2501.7,2,3.1689,34.9334,2,34.9329,2,269.7,2,269.5,2,15.44,2,16.97,2,1.096,2,-999,9,7.7237,2,25,-999,9,-999,9
29AH20160617, OVIDE/BOCATS,44,1,8,20160704,2335,51.4021,-23.4853,3247,2250,2,3.3543,34.9239,2,34.9242,2,271.3,2,271,2,13.36,2,16.96,2,1.092,2,-999,9,7.7255,2,25,-999,9,-999,9
29AH20160617, OVIDE/BOCATS,44,1,9,20160704,2335,51.4021,-23.4853,3247,2000,2,3.6014,34.9224,2,34.9217,2,270.5,2,270.2,2,12.09,2,17.08,2,1.092,2,-999,9,7.7183,2,25,-999,9,-999,9
29AH20160617, OVIDE/BOCATS,44,1,10,20160704,2335,51.4021,-23.4853,3247,1798.3,2,3.7596,34.9234,2,34.9233,2,269.8,2,269.1,2,11.47,2,17.08,2,1.093,2,-999,9,7.712,2,25,-999,9,-999,9
29AH20160617, OVIDE/BOCATS,44,1,11,20160704,2335,51.4021,-23.4853,3247,1599.8,2,3.9432,34.9279,2,34.9276,2,269.3,2,268.5,2,10.92,2,17.05,2,1.093,2,-999,9,7.713,2,25,-999,9,-999,9
29AH20160617, OVIDE/BOCATS,44,1,12,20160704,2335,51.4021,-23.4853,3247,1399,2,4.1113,34.929,2,34.9286,2,270.3,2,269.3,2,10.27,2,17.02,2,1.093,2,-999,9,7.7066,2,25,-999,9,-999,9
29AH20160617, OVIDE/BOCATS,44,1,13,20160704,2335,51.4021,-23.4853,3247,1197.9,2,4.3769,34.9449,2,34.9441,2,265.2,2,264.6,2,10.13,2,17.05,2,1.09,2,-999,9,7.708,2,25,-999,9,-999,9
29AH20160617, OVIDE/BOCATS,44,1,14,20160704,2335,51.4021,-23.4853,3247,1001.3,2,5.2109,35.0278,2,35.0286,2,247.1,2,245.4,2,10.46,2,17.63,2,1.123,2,-999,9,7.7034,2,25,-999,9,-999,9
29AH20160617, OVIDE/BOCATS,44,1,15,20160704,2335,51.4021,-23.4853,3247,898.4,2,5.8881,35.0974,2,35.0981,2,232.8,2,232.4,2,10.64,2,17.8,2,1.134,2,-999,9,7.7079,2,25,-999,9,-999,9
29AH20160617, OVIDE/BOCATS,44,1,16,20160704,2335,51.4021,-23.4853,3247,799.7,2,6.277,35.0799,2,35.0785,2,226.7,2,224.9,2,10.58,2,18.13,2,1.148,2,-999,9,7.703,2,25,-999,9,-999,9
29AH20160617, OVIDE/BOCATS,44,1,17,20160704,2335,51.4021,-23.4853,3247,700.7,2,7.0208,35.0976,2,35.0973,2,215.4,2,214.4,2,10.43,2,18.05,2,1.149,2,-999,9,7.7062,2,25,-999,9,-999,9
29AH20160617, OVIDE/BOCATS,44,1,18,20160704,2335,51.4021,-23.4853,3247,600.4,2,7.5086,35.0672,2,35.0669,2,214,2,213.5,2,10.03,2,17.85,2,1.142,2,-999,9,7.7101,2,25,-999,9,-999,9
29AH20160617, OVIDE/BOCATS,44,1,19,20160704,2335,51.4021,-23.4853,3247,497.9,2,8.5109,35.1162,2,35.116,2,232.5,2,233.1,2,7.82,2,15.32,2,0.973,2,-999,9,7.747,2,25,-999,9,-999,9
29AH20160617, OVIDE/BOCATS,44,1,20,20160704,2335,51.4021,-23.4853,3247,422.6,2,8.4372,35.0392,2,35.0412,2,252.5,2,252.3,2,6.7,2,13.56,2,0.874,2,-999,9,7.7622,2,25,-999,9,-999,9
29AH20160617, OVIDE/BOCATS,44,1,21,20160704,2335,51.4021,-23.4853,3247,299.8,2,9.4749,35.1667,2,35.1666,2,262.2,2,262.6,2,5.05,2,11.36,2,0.723,2,-999,9,7.7992,2,25,-999,9,-999,9
29AH20160617, OVIDE/BOCATS,44,1,22,20160704,2335,51.4021,-23.4853,3247,199.9,2,9.6606,35.1932,2,35.193,2,264.2,2,264.2,2,4.76,2,10.97,2,0.695,2,-999,9,7.8059,2,25,-999,9,-999,9
29AH20160617, OVIDE/BOCATS,44,1,23,20160704,2335,51.4021,-23.4853,3247,158.5,2,9.6116,35.1775,2,35.1778,2,262.2,2,262.9,2,4.81,2,11.04,2,0.712,2,-999,9,7.7989,2,25,-999,9,-999,9
29AH20160617, OVIDE/BOCATS,44,1,24,20160704,2335,51.4021,-23.4853,3247,98.7,2,10.0222,35.1969,2,35.1961,2,262.5,2,261.9,2,2.25,2,8.67,2,0.644,2,-999,9,7.817,2,25,-999,9,-999,9
29AH20160617, OVIDE/BOCATS,44,1,25,20160704,2335,51.4021,-23.4853,3247,48.7,2,10.9901,35.2199,2,35.2228,4,264.5,2,265.9,2,0.29,2,5.47,2,0.482,2,-999,9,7.8577,2,25,-999,9,-999,9
29AH20160617, OVIDE/BOCATS,44,1,26,20160704,2335,51.4021,-23.4853,3247,4.4,2,13.4632,35.198,2,35.198,2,268.5,2,268.5,2,0.13,2,2.05,2,0.17,2,-999,9,7.9397,2,25,-999,9,-999,9