BOTTLE,20230706CCHSIOENA
EXPOCODE,SECT_ID,STNNBR,CASTNO,SAMPNO,DATE,TIME,LATITUDE,LONGITUDE,DEPTH,CTDPRS,CTDPRS_FLAG_W,CTDTMP,CTDSAL,CTDSAL_FLAG_W,SALNTY,SALNTY_FLAG_W,CTDOXY,CTDOXY_FLAG_W,OXYGEN,OXYGEN_FLAG_W,SILCAT,SILCAT_FLAG_W,NITRAT,NITRAT_FLAG_W,PHSPHT,PHSPHT_FLAG_W,ALKALI,ALKALI_FLAG_W,PH_SWS,PH_SWS_FLAG_W,PH_TMP,CFC-12,CFC-12_FLAG_W,SF6,SF6_FLAG_W
,,,,,,,,,METERS,DBAR,,DEG C,PSS-78,,PSS-78,,UMOL/KG,,UMOL/KG,,UMOL/KG,,UMOL/KG,,UMOL/KG,,UMOL/KG,,,,DEG C,PMOL/KG,,FMOL/KG,
29AH20160617, OVIDE/BOCATS,49,1,3,20160706,635,53.2652,-24.948,3527,3574,2,2.6726,34.9281,2,34.9274,2,249.6,2,249.8,2,36.46,2,20.15,2,1.315,2,2337.9,2,7.7259,2,25,0.4165,2,0.2636,2
29AH20160617, OVIDE/BOCATS,49,1,4,20160706,635,53.2652,-24.948,3527,3248.7,2,2.8164,34.9465,2,34.9469,2,261.3,2,261.5,2,25.19,2,18.14,2,1.177,2,2325.8,2,-999.0,9,25,-999,9,-999,9
29AH20160617, OVIDE/BOCATS,49,1,5,20160706,635,53.2652,-24.948,3527,2999.4,2,2.9335,34.9505,2,34.9496,2,266.1,2,266.6,2,20.03,2,17.31,2,1.123,2,2318.8,2,7.7264,2,25,-999,9,-999,9
29AH20160617, OVIDE/BOCATS,49,1,6,20160706,635,53.2652,-24.948,3527,2748.6,2,3.0542,34.9453,2,34.9459,2,269.9,2,270.5,2,16.42,2,16.94,2,1.096,2,2312.5,2,7.7262,2,25,-999,9,-999,9
29AH20160617, OVIDE/BOCATS,49,1,7,20160706,635,53.2652,-24.948,3527,2500.5,2,3.1798,34.9356,2,34.9364,2,272,2,272.9,2,14.41,2,16.81,2,1.085,2,2310.2,2,7.7288,2,25,1.3196,2,0.7286,2
29AH20160617, OVIDE/BOCATS,49,1,8,20160706,635,53.2652,-24.948,3527,2249.4,2,3.3413,34.929,2,34.9291,2,272.6,2,273.4,2,13.06,2,16.94,2,1.085,2,2307.4,2,7.7286,2,25,-999,9,-999,9
29AH20160617, OVIDE/BOCATS,49,1,9,20160706,635,53.2652,-24.948,3527,1999.8,2,3.5008,34.9244,2,34.9251,2,271.3,2,271.5,2,12.56,2,17.13,2,1.092,2,2305.8,2,7.726,2,25,-999,9,-999,9
29AH20160617, OVIDE/BOCATS,49,1,10,20160706,635,53.2652,-24.948,3527,1799.8,2,3.6796,34.9239,2,34.9243,2,271,2,271.1,2,11.83,2,17.29,2,1.098,2,2308.3,2,7.7226,2,25,-999,9,-999,9
29AH20160617, OVIDE/BOCATS,49,1,11,20160706,635,53.2652,-24.948,3527,1600.4,2,3.7959,34.9208,2,34.9209,2,272.2,2,272.3,2,11.28,2,17.19,2,1.093,2,2304.3,2,7.7191,2,25,-999,9,-999,9
29AH20160617, OVIDE/BOCATS,49,1,12,20160706,635,53.2652,-24.948,3527,1398.9,2,3.8668,34.9107,2,34.9105,2,274.8,2,274.6,2,10.58,2,16.92,2,1.084,2,2305.1,2,7.7124,2,25,1.9607,2,1.4961,2
29AH20160617, OVIDE/BOCATS,49,1,13,20160706,635,53.2652,-24.948,3527,1200.1,2,3.9832,34.9088,2,34.91,2,276.1,2,275.9,2,10.14,2,16.9,2,1.077,2,2303.7,2,7.7097,2,25,-999,9,-999,9
29AH20160617, OVIDE/BOCATS,49,1,14,20160706,635,53.2652,-24.948,3527,999.5,2,4.2221,34.9178,2,34.9187,2,271.6,2,270.5,2,10.06,2,17.1,2,1.089,2,2304.7,2,7.7054,2,25,2.0623,2,1.7166,2
29AH20160617, OVIDE/BOCATS,49,1,15,20160706,635,53.2652,-24.948,3527,899.5,2,4.5189,34.9416,2,34.9429,2,263.9,2,261.6,2,10.29,2,17.39,2,1.11,2,2307.8,2,7.7024,2,25,-999,9,-999,9
29AH20160617, OVIDE/BOCATS,49,1,16,20160706,635,53.2652,-24.948,3527,799.5,2,4.7753,34.9508,2,34.9512,2,258.1,2,257.8,2,10.48,2,17.59,2,1.123,2,2309.1,2,7.688,2,25,1.9128,2,1.6856,2
29AH20160617, OVIDE/BOCATS,49,1,17,20160706,635,53.2652,-24.948,3527,699,2,5.0292,34.9435,2,34.9436,2,249.8,2,250.5,2,10.52,2,17.73,2,1.138,2,-999,9,7.6994,2,25,-999,9,-999,9
29AH20160617, OVIDE/BOCATS,49,1,18,20160706,635,53.2652,-24.948,3527,599.6,2,5.8062,34.9824,2,34.9808,2,234.9,2,234.5,2,10.79,2,18.22,2,1.161,2,2310.8,2,7.7024,2,25,1.7061,2,1.5344,2
29AH20160617, OVIDE/BOCATS,49,1,19,20160706,635,53.2652,-24.948,3527,599.8,2,5.8064,34.9826,2,34.9826,2,234.9,2,234.2,2,10.79,2,18.17,2,1.162,2,-999,9,-999.0,9,25,1.68,2,1.5303,2
29AH20160617, OVIDE/BOCATS,49,1,20,20160706,635,53.2652,-24.948,3527,459.8,2,6.316,34.86,2,34.8595,2,236.3,2,236.3,2,10.02,2,17.41,2,1.127,2,-999,9,7.7064,2,25,-999,9,-999,9
29AH20160617, OVIDE/BOCATS,49,1,21,20160706,635,53.2652,-24.948,3527,399.6,2,6.9972,34.8802,2,34.8816,2,243.9,2,244.2,2,9.03,2,16.22,2,1.051,2,2305.2,2,7.7251,2,25,1.811,2,2.0755,2
29AH20160617, OVIDE/BOCATS,49,1,22,20160706,635,53.2652,-24.948,3527,299.2,2,7.6559,34.907,2,34.9071,2,269.2,2,269.1,2,7,2,13.65,2,0.886,2,-999,9,7.761,2,25,-999,9,-999,9
29AH20160617, OVIDE/BOCATS,49,1,23,20160706,635,53.2652,-24.948,3527,201.1,2,8.4338,35.0023,2,35.001,2,252.8,2,253.2,2,6.92,2,13.92,2,0.889,2,2311,2,7.7648,2,25,-999,9,-999,9
29AH20160617, OVIDE/BOCATS,49,1,24,20160706,635,53.2652,-24.948,3527,148.5,2,9.2223,35.1149,2,35.1155,2,256.2,2,256.5,2,5.73,2,12.46,2,0.787,2,-999,9,7.7876,2,25,-999,9,-999,9
29AH20160617, OVIDE/BOCATS,49,1,25,20160706,635,53.2652,-24.948,3527,100.7,2,9.5011,35.142,2,35.1415,2,256.5,2,256.1,2,5.22,2,11.99,2,0.758,2,2316.7,2,7.7953,2,25,-999,9,-999,9
29AH20160617, OVIDE/BOCATS,49,1,26,20160706,635,53.2652,-24.948,3527,50.1,2,10.2531,35.0628,2,35.0699,4,270.4,2,271.2,2,2.48,2,7.93,2,0.581,2,-999,9,7.8364,2,25,-999,9,-999,9
29AH20160617, OVIDE/BOCATS,49,1,27,20160706,635,53.2652,-24.948,3527,4.8,2,12.0158,34.9846,2,34.9812,4,275.1,2,275.8,2,1.81,2,4.53,2,0.342,2,2309.8,2,7.8993,2,25,1.7701,2,2.3184,2
29AH20160617, OVIDE/BOCATS,50,1,3,20160706,1406,53.6393,-25.24,3580,3629.4,2,2.7925,34.9468,2,34.9457,2,258.4,2,-999,9,27.71,2,18.24,2,1.193,2,-999,9,7.7266,2,25,-999,9,-999,9
29AH20160617, OVIDE/BOCATS,50,1,4,20160706,1406,53.6393,-25.24,3580,3481.4,2,2.8229,34.9508,2,34.9486,2,261.2,2,261.5,2,25,2,17.88,2,1.169,2,-999,9,7.7256,2,25,-999,9,-999,9
29AH20160617, OVIDE/BOCATS,50,1,5,20160706,1406,53.6393,-25.24,3580,3247.7,2,2.8922,34.9557,2,34.9552,2,265.7,2,266.2,2,20.64,2,17.18,2,1.118,2,-999,9,7.7261,2,25,-999,9,-999,9
29AH20160617, OVIDE/BOCATS,50,1,6,20160706,1406,53.6393,-25.24,3580,2997.6,2,2.9457,34.9525,2,34.9521,2,268.1,2,268.3,2,18.59,2,17,2,1.105,2,-999,9,7.729,2,25,-999,9,-999,9
29AH20160617, OVIDE/BOCATS,50,1,7,20160706,1406,53.6393,-25.24,3580,2748.1,2,3.1185,34.9531,2,34.9515,2,272.1,2,272.6,2,14.18,2,16.34,2,1.065,2,-999,9,7.7275,2,25,-999,9,-999,9
29AH20160617, OVIDE/BOCATS,50,1,8,20160706,1406,53.6393,-25.24,3580,2499.7,2,3.2238,34.9386,2,34.9374,2,273.1,2,273.4,2,13.08,2,16.43,2,1.066,2,-999,9,7.7273,2,25,-999,9,-999,9
29AH20160617, OVIDE/BOCATS,50,1,9,20160706,1406,53.6393,-25.24,3580,2247.5,2,3.3283,34.926,2,34.9258,2,272.5,2,272.7,2,13.09,2,16.83,2,1.092,2,-999,9,7.7274,2,25,-999,9,-999,9
29AH20160617, OVIDE/BOCATS,50,1,10,20160706,1406,53.6393,-25.24,3580,1999.8,2,3.5308,34.9262,2,34.9265,2,272,2,271.8,2,12.08,2,16.88,2,1.09,2,-999,9,7.7244,2,25,-999,9,-999,9
29AH20160617, OVIDE/BOCATS,50,1,11,20160706,1406,53.6393,-25.24,3580,1797.2,2,3.6802,34.9237,2,34.9236,2,270.4,2,-999,9,11.75,2,17.04,2,1.103,2,-999,9,7.7218,2,25,-999,9,-999,9
29AH20160617, OVIDE/BOCATS,50,1,12,20160706,1406,53.6393,-25.24,3580,1600.5,2,3.7921,34.9177,2,34.9169,2,273.7,2,273.2,2,10.93,2,16.87,2,1.097,2,-999,9,7.7196,2,25,-999,9,-999,9
29AH20160617, OVIDE/BOCATS,50,1,13,20160706,1406,53.6393,-25.24,3580,1399.8,2,3.8644,34.9107,2,34.911,2,275.6,2,275.4,2,10.38,2,16.79,2,1.088,2,-999,9,7.7198,2,25,-999,9,-999,9
29AH20160617, OVIDE/BOCATS,50,1,14,20160706,1406,53.6393,-25.24,3580,1199.7,2,4.0278,34.9154,2,34.9154,2,274.6,2,273.8,2,10.08,2,16.84,2,1.084,2,-999,9,7.7122,2,25,-999,9,-999,9
29AH20160617, OVIDE/BOCATS,50,1,15,20160706,1406,53.6393,-25.24,3580,998.4,2,4.3125,34.9351,2,34.9342,2,268.6,2,267.4,2,10.15,2,17.12,2,1.097,2,-999,9,7.7091,2,25,-999,9,-999,9
29AH20160617, OVIDE/BOCATS,50,1,16,20160706,1406,53.6393,-25.24,3580,799.4,2,4.7735,34.9674,2,34.9677,2,256.8,2,256.1,2,10.35,2,17.52,2,1.118,2,-999,9,7.7069,2,25,-999,9,-999,9
29AH20160617, OVIDE/BOCATS,50,1,18,20160706,1406,53.6393,-25.24,3580,699.3,2,4.9193,34.9424,2,34.9411,2,252.8,2,253.2,2,10.25,2,17.61,2,1.129,2,-999,9,7.7009,2,25,-999,9,-999,9
29AH20160617, OVIDE/BOCATS,50,1,19,20160706,1406,53.6393,-25.24,3580,599.5,2,5.562,34.9784,2,34.9782,2,240.6,2,239.5,2,10.48,2,17.97,2,1.156,2,-999,9,7.6981,2,25,-999,9,-999,9
29AH20160617, OVIDE/BOCATS,50,1,20,20160706,1406,53.6393,-25.24,3580,472.4,2,6.1766,34.9409,2,34.9391,2,226.3,2,226.4,2,10.54,2,18.21,2,1.176,2,-999,9,7.6971,2,25,-999,9,-999,9
29AH20160617, OVIDE/BOCATS,50,1,21,20160706,1406,53.6393,-25.24,3580,421.3,2,6.4745,34.9148,2,34.9155,2,233.8,2,239.4,4,10.1,2,17.76,2,1.147,2,-999,9,7.7056,2,25,-999,9,-999,9
29AH20160617, OVIDE/BOCATS,50,1,22,20160706,1406,53.6393,-25.24,3580,298.5,2,7.8415,34.9813,2,34.9743,4,242.4,2,241.4,2,8.23,2,15.62,2,1.008,2,-999,9,7.741,2,25,-999,9,-999,9
29AH20160617, OVIDE/BOCATS,50,1,23,20160706,1406,53.6393,-25.24,3580,200,2,8.8809,35.0943,2,35.0928,2,242.8,2,242.1,2,6.78,2,13.95,2,0.893,2,-999,9,7.7658,2,25,-999,9,-999,9
29AH20160617, OVIDE/BOCATS,50,1,24,20160706,1406,53.6393,-25.24,3580,150.1,2,9.3709,35.1394,2,35.1398,2,254.6,2,254.7,2,5.6,2,12.23,2,0.78,2,-999,9,7.7897,2,25,-999,9,-999,9
29AH20160617, OVIDE/BOCATS,50,1,25,20160706,1406,53.6393,-25.24,3580,97.4,2,9.5937,35.1563,2,35.1567,2,254.3,2,254.4,2,5.16,2,12.01,2,0.759,2,-999,9,7.7945,2,25,-999,9,-999,9
29AH20160617, OVIDE/BOCATS,50,1,26,20160706,1406,53.6393,-25.24,3580,50.8,2,10.5208,35.2675,2,35.2646,4,253.9,2,296.2,4,3.02,2,10.46,2,0.662,2,-999,9,7.8173,2,25,-999,9,-999,9
29AH20160617, OVIDE/BOCATS,50,1,27,20160706,1406,53.6393,-25.24,3580,4,2,12.2241,35.0754,2,35.0759,2,271,2,271.4,2,0.47,2,4.53,2,0.316,2,-999,9,7.8978,2,25,-999,9,-999,9
29AH20160617, OVIDE/BOCATS,51,1,3,20160706,1905,54.018,-25.5301,3044,3079.7,2,2.7153,34.9314,2,34.9311,2,253.3,2,252.5,2,32.72,2,19.71,2,1.276,2,2334.6,2,7.7267,2,25,0.5858,2,0.3105,2
29AH20160617, OVIDE/BOCATS,51,1,4,20160706,1905,54.018,-25.5301,3044,2999.6,2,2.8288,34.9394,2,34.9401,2,258.5,2,258.2,2,27.15,2,18.59,2,1.211,2,2328.2,2,7.7228,2,25,-999,9,-999,9
29AH20160617, OVIDE/BOCATS,51,1,5,20160706,1905,54.018,-25.5301,3044,2747.6,2,2.9981,34.9455,2,34.9459,2,266.6,2,267.2,2,19.45,2,17.44,2,1.122,2,2316,2,7.724,2,25,-999,9,-999,9
29AH20160617, OVIDE/BOCATS,51,1,6,20160706,1905,54.018,-25.5301,3044,2498.2,2,3.1477,34.9416,2,34.9429,2,271.9,2,272.8,2,14.24,2,16.66,2,1.069,2,2308.3,2,7.7226,2,25,-999,9,-999,9
29AH20160617, OVIDE/BOCATS,51,1,7,20160706,1905,54.018,-25.5301,3044,2249.4,2,3.2682,34.9313,2,34.9352,4,272.8,2,273.5,2,13.06,2,16.71,2,1.068,2,2308,2,7.7259,2,25,-999,9,-999,9
29AH20160617, OVIDE/BOCATS,51,1,8,20160706,1905,54.018,-25.5301,3044,2000.1,2,3.4243,34.9272,2,34.9285,2,272.5,2,272.5,2,12.31,2,16.86,2,1.075,2,2306,2,7.7227,2,25,1.4144,2,0.8322,2
29AH20160617, OVIDE/BOCATS,51,1,9,20160706,1905,54.018,-25.5301,3044,1799.6,2,3.5779,34.925,2,34.9275,2,271.5,2,271.2,2,12.09,2,17.09,2,1.091,2,2304.3,2,7.7219,2,25,-999,9,-999,9
29AH20160617, OVIDE/BOCATS,51,1,10,20160706,1905,54.018,-25.5301,3044,1600.3,2,3.7293,34.9238,2,34.9239,2,270.5,2,270.6,2,11.62,2,17.14,2,1.094,2,2305.9,2,7.7159,2,25,-999,9,-999,9
29AH20160617, OVIDE/BOCATS,51,1,11,20160706,1905,54.018,-25.5301,3044,1399.1,2,3.8524,34.922,2,34.9232,2,271.1,2,270.6,2,11.13,2,17.15,2,1.092,2,2305.3,2,7.7121,2,25,-999,9,-999,9
29AH20160617, OVIDE/BOCATS,51,1,12,20160706,1905,54.018,-25.5301,3044,1199.3,2,3.9828,34.9216,2,34.9224,2,272,2,272,2,10.69,2,17.09,2,1.092,2,2305.4,2,7.7093,2,25,-999,9,-999,9
29AH20160617, OVIDE/BOCATS,51,1,13,20160706,1905,54.018,-25.5301,3044,999.7,2,4.2162,34.9343,2,34.9358,2,270,2,270.1,2,10.53,2,17.19,2,1.09,2,2308.4,2,7.7053,2,25,1.9392,2,1.588,2
29AH20160617, OVIDE/BOCATS,51,1,14,20160706,1905,54.018,-25.5301,3044,898.3,2,4.3743,34.9459,2,34.9461,2,265.5,2,265,2,10.6,2,17.41,2,1.098,2,2309.2,2,7.7076,2,25,-999,9,-999,9
29AH20160617, OVIDE/BOCATS,51,1,15,20160706,1905,54.018,-25.5301,3044,800.1,2,4.5533,34.9556,2,34.9564,2,261.7,2,261.6,2,10.68,2,17.5,2,1.106,2,2310.6,2,7.7084,2,25,-999,9,-999,9
29AH20160617, OVIDE/BOCATS,51,1,16,20160706,1905,54.018,-25.5301,3044,699.4,2,4.5154,34.9284,2,34.9292,2,264.3,2,263.7,2,10.5,2,17.43,2,1.101,2,2308.5,2,7.7026,2,25,-999,9,-999,9
29AH20160617, OVIDE/BOCATS,51,1,17,20160706,1905,54.018,-25.5301,3044,600.6,2,4.72,34.9168,2,34.9181,2,258.6,2,257.5,2,10.65,2,17.66,2,1.117,2,2307,2,7.7025,2,25,-999,9,-999,9
29AH20160617, OVIDE/BOCATS,51,1,18,20160706,1905,54.018,-25.5301,3044,499.4,2,5.0205,34.8923,2,34.8923,2,252.3,2,250.2,2,10.74,2,17.71,2,1.125,2,2308.5,2,7.697,2,25,-999,9,-999,9
29AH20160617, OVIDE/BOCATS,51,1,19,20160706,1905,54.018,-25.5301,3044,400.8,2,5.6482,34.8914,2,34.8895,2,238.7,2,236.5,2,10.98,2,18.27,2,1.156,2,2308.7,2,7.6954,2,25,1.7379,2,1.7383,2
29AH20160617, OVIDE/BOCATS,51,1,20,20160706,1905,54.018,-25.5301,3044,302.5,2,6.2276,34.8495,2,34.8505,2,245.4,2,-999,9,10.16,2,17.31,2,1.123,2,2306.9,2,7.7067,2,25,1.7874,2,1.8746,2
29AH20160617, OVIDE/BOCATS,51,1,21,20160706,1905,54.018,-25.5301,3044,302.5,2,6.2289,34.8496,2,34.8508,2,244.2,2,242.8,2,10.18,2,17.29,2,1.107,2,-999,9,-999.0,9,25,1.8043,2,1.9872,2
29AH20160617, OVIDE/BOCATS,51,1,22,20160706,1905,54.018,-25.5301,3044,199.9,2,7.2055,34.8837,2,34.8849,2,254.3,2,255.7,2,8.83,2,15.69,2,0.995,2,2307.3,2,7.7351,2,25,-999,9,-999,9
29AH20160617, OVIDE/BOCATS,51,1,23,20160706,1905,54.018,-25.5301,3044,148.5,2,7.6515,34.9199,2,34.921,2,258.6,2,258.9,2,7.92,2,14.72,2,0.935,2,-999,9,7.75,2,25,-999,9,-999,9
29AH20160617, OVIDE/BOCATS,51,1,24,20160706,1905,54.018,-25.5301,3044,98.1,2,8.2663,34.9698,2,34.9708,2,256.1,2,255,2,7.32,2,14.02,2,0.89,2,2312.4,2,7.763,2,25,-999,9,-999,9
29AH20160617, OVIDE/BOCATS,51,1,25,20160706,1905,54.018,-25.5301,3044,49.4,2,9.8142,34.9701,2,34.9736,4,269.8,2,270.5,2,3.6,2,8,2,0.612,2,-999,9,7.8326,2,25,-999,9,-999,9
29AH20160617, OVIDE/BOCATS,51,1,26,20160706,1905,54.018,-25.5301,3044,4.8,2,11.7991,34.9289,2,34.9302,2,276.9,2,277.7,2,1.4,2,3.9,2,0.316,2,2313.3,2,7.9082,2,25,1.8036,2,2.3437,2
29AH20160617, OVIDE/BOCATS,52,1,3,20160706,2344,54.3879,-25.8309,3056,3091.7,2,2.8459,34.9469,2,34.9471,2,261.6,2,262.2,2,24.11,2,18.25,2,1.319,2,-999,9,7.7245,2,25,-999,9,-999,9
29AH20160617, OVIDE/BOCATS,52,1,4,20160706,2344,54.3879,-25.8309,3056,3001.1,2,2.882,34.951,2,34.9504,2,264.2,2,264.2,2,21.34,2,17.35,2,1.129,2,-999,9,7.7236,2,25,-999,9,-999,9
29AH20160617, OVIDE/BOCATS,52,1,5,20160706,2344,54.3879,-25.8309,3056,2748.7,2,2.9888,34.9527,2,34.9519,2,268.9,2,268.9,2,16.81,2,16.66,2,1.091,2,-999,9,7.7288,2,25,-999,9,-999,9
29AH20160617, OVIDE/BOCATS,52,1,6,20160706,2344,54.3879,-25.8309,3056,2499.8,2,3.1482,34.9413,2,34.9407,2,271.2,2,271.3,2,14.42,2,16.56,2,1.076,2,-999,9,7.7252,2,25,-999,9,-999,9
29AH20160617, OVIDE/BOCATS,52,1,7,20160706,2344,54.3879,-25.8309,3056,2249,2,3.3027,34.9307,2,34.931,2,272.4,2,272.4,2,12.65,2,16.55,2,1.073,2,-999,9,7.7286,2,25,-999,9,-999,9
29AH20160617, OVIDE/BOCATS,52,1,8,20160706,2344,54.3879,-25.8309,3056,1999.9,2,3.4231,34.9257,2,34.9256,2,271.9,2,271.7,2,12.34,2,16.71,2,1.076,2,-999,9,7.7247,2,25,-999,9,-999,9
29AH20160617, OVIDE/BOCATS,52,1,9,20160706,2344,54.3879,-25.8309,3056,1800.4,2,3.5413,34.9238,2,34.9234,2,271.2,2,270.7,2,11.89,2,16.76,2,1.084,2,-999,9,7.7258,2,25,-999,9,-999,9
29AH20160617, OVIDE/BOCATS,52,1,10,20160706,2344,54.3879,-25.8309,3056,1601,2,3.6876,34.9236,2,34.9235,2,270.6,2,270.1,2,11.14,2,16.82,2,1.097,2,-999,9,7.719,2,25,-999,9,-999,9
29AH20160617, OVIDE/BOCATS,52,1,11,20160706,2344,54.3879,-25.8309,3056,1401.3,2,3.8115,34.9203,2,34.9207,2,271.4,2,270.3,2,10.62,2,16.79,2,1.091,2,-999,9,7.7158,2,25,-999,9,-999,9
29AH20160617, OVIDE/BOCATS,52,1,12,20160706,2344,54.3879,-25.8309,3056,1201.8,2,3.8905,34.9108,2,34.911,2,273.9,2,274,2,9.85,2,16.79,2,1.075,2,-999,9,7.7132,2,25,-999,9,-999,9
29AH20160617, OVIDE/BOCATS,52,1,13,20160706,2344,54.3879,-25.8309,3056,1000.8,2,4.0555,34.9177,2,34.9188,2,271.4,2,271.4,2,9.68,2,16.92,2,1.078,2,-999,9,7.7106,2,25,-999,9,-999,9
29AH20160617, OVIDE/BOCATS,52,1,14,20160706,2344,54.3879,-25.8309,3056,898.3,2,4.2212,34.9313,2,34.9323,2,267.8,2,267.1,2,9.72,2,17.02,2,1.086,2,-999,9,7.7098,2,25,-999,9,-999,9
29AH20160617, OVIDE/BOCATS,52,1,15,20160706,2344,54.3879,-25.8309,3056,799.2,2,4.4954,34.9511,2,34.9506,2,262.1,2,260.6,2,9.82,2,17.25,2,1.105,2,-999,9,7.7052,2,25,-999,9,-999,9
29AH20160617, OVIDE/BOCATS,52,1,16,20160706,2344,54.3879,-25.8309,3056,699.2,2,4.8188,34.9752,2,34.9752,2,254.2,2,252.9,2,10.01,2,17.46,2,1.122,2,-999,9,7.7043,2,25,-999,9,-999,9
29AH20160617, OVIDE/BOCATS,52,1,17,20160706,2344,54.3879,-25.8309,3056,601.6,2,5.1903,34.9971,2,34.9983,2,247.7,2,247.3,2,10.25,2,17.67,2,1.135,2,-999,9,7.7015,2,25,-999,9,-999,9
29AH20160617, OVIDE/BOCATS,52,1,18,20160706,2344,54.3879,-25.8309,3056,499.7,2,5.4952,34.9826,2,34.9817,2,243.4,2,243.1,2,10.16,2,17.97,2,1.139,2,-999,9,7.7004,2,25,-999,9,-999,9
29AH20160617, OVIDE/BOCATS,52,1,19,20160706,2344,54.3879,-25.8309,3056,400.9,2,5.6315,34.8932,2,34.8932,2,237.9,2,237.6,2,10.16,2,18.05,2,1.154,2,-999,9,7.6934,2,25,-999,9,-999,9
29AH20160617, OVIDE/BOCATS,52,1,20,20160706,2344,54.3879,-25.8309,3056,301,2,6.0771,34.8157,2,34.8156,2,248.6,2,248.6,2,9.55,2,16.95,2,1.092,2,-999,9,7.7067,2,25,-999,9,-999,9
29AH20160617, OVIDE/BOCATS,52,1,21,20160706,2344,54.3879,-25.8309,3056,200.7,2,6.9201,34.8364,2,34.8367,2,273,2,273.1,2,7.53,2,14.44,2,0.934,2,-999,9,7.7434,2,25,-999,9,-999,9
29AH20160617, OVIDE/BOCATS,52,1,22,20160706,2344,54.3879,-25.8309,3056,149.1,2,7.0489,34.8415,2,34.8415,2,275,2,275.5,2,7.47,2,14.14,2,0.907,2,-999,9,7.7504,2,25,-999,9,-999,9
29AH20160617, OVIDE/BOCATS,52,1,23,20160706,2344,54.3879,-25.8309,3056,99.3,2,7.5712,34.8712,2,34.8704,2,275,2,274.4,2,6.46,2,13.25,2,0.857,2,-999,9,7.7607,2,25,-999,9,-999,9
29AH20160617, OVIDE/BOCATS,52,1,24,20160706,2344,54.3879,-25.8309,3056,51.1,2,8.8638,34.9066,2,34.9072,2,282.3,2,282.4,2,3.16,2,9.16,2,0.692,2,-999,9,7.8129,2,25,-999,9,-999,9
29AH20160617, OVIDE/BOCATS,52,1,25,20160706,2344,54.3879,-25.8309,3056,4.2,2,11.3694,34.8087,2,34.8091,2,280.5,2,280.7,2,2.06,2,6.01,2,0.45,2,-999,9,7.8814,2,25,-999,9,-999,9