BOTTLE,20230706CCHSIOENA
EXPOCODE,SECT_ID,STNNBR,CASTNO,SAMPNO,DATE,TIME,LATITUDE,LONGITUDE,DEPTH,CTDPRS,CTDPRS_FLAG_W,CTDTMP,CTDSAL,CTDSAL_FLAG_W,SALNTY,SALNTY_FLAG_W,CTDOXY,CTDOXY_FLAG_W,OXYGEN,OXYGEN_FLAG_W,SILCAT,SILCAT_FLAG_W,NITRAT,NITRAT_FLAG_W,PHSPHT,PHSPHT_FLAG_W,ALKALI,ALKALI_FLAG_W,PH_SWS,PH_SWS_FLAG_W,PH_TMP,CFC-12,CFC-12_FLAG_W,SF6,SF6_FLAG_W
,,,,,,,,,METERS,DBAR,,DEG C,PSS-78,,PSS-78,,UMOL/KG,,UMOL/KG,,UMOL/KG,,UMOL/KG,,UMOL/KG,,UMOL/KG,,,,DEG C,PMOL/KG,,FMOL/KG,
29AH20160617, OVIDE/BOCATS,53,1,3,20160707,633,54.762,-26.1203,3613,3662.4,2,2.798,34.9522,2,34.9493,2,259.2,2,259.2,2,26.7,2,17.99,2,1.187,2,2325.3,2,7.7242,2,25,1.0032,2,0.7943,2
29AH20160617, OVIDE/BOCATS,53,1,4,20160707,633,54.762,-26.1203,3613,3662.3,2,2.7978,34.9521,2,34.9524,2,259.3,2,259.7,2,26.78,2,17.99,2,1.189,2,-999,9,-999.0,9,25,-999,9,-999,9
29AH20160617, OVIDE/BOCATS,53,1,5,20160707,633,54.762,-26.1203,3613,3549,2,2.7996,34.9508,2,34.9497,2,259.6,2,260.2,2,26.28,2,17.92,2,1.184,2,2325.5,2,7.7224,2,25,-999,9,-999,9
29AH20160617, OVIDE/BOCATS,53,1,6,20160707,633,54.762,-26.1203,3613,3418.5,2,2.8087,34.9502,2,34.9493,2,260.9,2,261.4,2,25.05,2,17.79,2,1.177,2,2324.7,2,7.7257,2,25,-999,9,-999,9
29AH20160617, OVIDE/BOCATS,53,1,7,20160707,633,54.762,-26.1203,3613,3258.5,2,2.8396,34.9507,2,34.9503,2,262.6,2,264.9,2,23.51,2,17.6,2,1.16,2,2323.2,2,7.7282,2,25,-999,9,-999,9
29AH20160617, OVIDE/BOCATS,53,1,8,20160707,633,54.762,-26.1203,3613,2999.5,2,2.938,34.9558,2,34.9549,2,267.1,2,267.6,2,18.99,2,16.9,2,1.106,2,2316.4,2,7.7288,2,25,-999,9,-999,9
29AH20160617, OVIDE/BOCATS,53,1,9,20160707,633,54.762,-26.1203,3613,2749.6,2,3.0725,34.9573,2,34.9576,2,270.6,2,271.1,2,15.39,2,16.35,2,1.073,2,2310.4,2,7.7281,2,25,-999,9,-999,9
29AH20160617, OVIDE/BOCATS,53,1,10,20160707,633,54.762,-26.1203,3613,2499.4,2,3.1493,34.942,2,34.9412,2,272.5,2,272.9,2,14,2,16.33,2,1.067,2,2308.4,2,7.7243,2,25,-999,9,-999,9
29AH20160617, OVIDE/BOCATS,53,1,11,20160707,633,54.762,-26.1203,3613,2248.5,2,3.2726,34.9294,2,34.9287,2,272.9,2,273.3,2,13.15,2,16.53,2,1.081,2,2308.4,2,7.7268,2,25,-999,9,-999,9
29AH20160617, OVIDE/BOCATS,53,1,12,20160707,633,54.762,-26.1203,3613,1999.9,2,3.4129,34.9256,2,34.9255,2,272.6,2,273.2,2,12.54,2,16.67,2,1.085,2,2306.4,2,7.7225,2,25,-999,9,-999,9
29AH20160617, OVIDE/BOCATS,53,1,13,20160707,633,54.762,-26.1203,3613,1800.5,2,3.5756,34.9253,2,34.9261,2,271.1,2,270.9,2,11.98,2,16.84,2,1.095,2,2305.3,2,7.7177,2,25,-999,9,-999,9
29AH20160617, OVIDE/BOCATS,53,1,14,20160707,633,54.762,-26.1203,3613,1599.8,2,3.7052,34.9237,2,34.9236,2,271.3,2,271.5,2,11.61,2,16.97,2,1.095,2,2304.6,2,7.7156,2,25,1.6462,2,0.9177,2
29AH20160617, OVIDE/BOCATS,53,1,15,20160707,633,54.762,-26.1203,3613,1400,2,3.8348,34.9194,2,34.9147,4,271.3,2,270.5,2,11.47,2,17.06,2,1.096,2,2304.5,2,7.7112,2,25,-999,9,-999,9
29AH20160617, OVIDE/BOCATS,53,1,16,20160707,633,54.762,-26.1203,3613,1199.7,2,3.9666,34.9179,2,34.9134,4,271.9,2,-999,9,10.95,2,17.07,2,1.096,2,2304.9,2,7.715,2,25,-999,9,-999,9
29AH20160617, OVIDE/BOCATS,53,1,17,20160707,633,54.762,-26.1203,3613,999.4,2,4.1346,34.9226,2,34.9238,2,270.7,2,270.9,2,10.45,2,17.07,2,1.092,2,2304.1,2,7.7094,2,25,2.0365,2,1.6459,2
29AH20160617, OVIDE/BOCATS,53,1,18,20160707,633,54.762,-26.1203,3613,900,2,4.2362,34.9233,2,34.9237,2,269.2,2,269.6,2,10.36,2,17.02,2,1.092,2,2302.9,2,7.7056,2,25,-999,9,-999,9
29AH20160617, OVIDE/BOCATS,53,1,19,20160707,633,54.762,-26.1203,3613,799,2,4.3795,34.9322,2,34.9325,2,266.9,2,265.8,2,10.42,2,17.17,2,1.098,2,2305.2,2,7.7061,2,25,-999,9,-999,9
29AH20160617, OVIDE/BOCATS,53,1,20,20160707,633,54.762,-26.1203,3613,699.6,2,4.5281,34.9286,2,34.929,2,263.6,2,262,2,10.32,2,17.29,2,1.105,2,2305.8,2,7.7052,2,25,-999,9,-999,9
29AH20160617, OVIDE/BOCATS,53,1,21,20160707,633,54.762,-26.1203,3613,599.1,2,4.7323,34.9269,2,34.9275,2,258.6,2,258.4,2,10.44,2,17.46,2,1.117,2,2305.6,2,7.703,2,25,1.9237,2,1.6959,2
29AH20160617, OVIDE/BOCATS,53,1,22,20160707,633,54.762,-26.1203,3613,498.7,2,5.0012,34.9071,2,34.9078,2,251.7,2,250.9,2,10.48,2,17.58,2,1.133,2,2304.9,2,7.6975,2,25,-999,9,-999,9
29AH20160617, OVIDE/BOCATS,53,1,23,20160707,633,54.762,-26.1203,3613,400.2,2,5.4599,34.879,2,34.8779,2,242.4,2,241.7,2,10.66,2,17.77,2,1.168,2,2303.5,2,7.6955,2,25,1.7878,2,1.7238,2
29AH20160617, OVIDE/BOCATS,53,1,24,20160707,633,54.762,-26.1203,3613,313.1,2,5.6699,34.79,2,34.7837,4,262.3,2,261.5,2,9.45,2,16.27,2,1.147,2,-999,9,7.7148,2,25,-999,9,-999,9
29AH20160617, OVIDE/BOCATS,53,1,25,20160707,633,54.762,-26.1203,3613,199.5,2,7.0147,34.866,2,34.8593,4,257.3,2,256.6,2,8.81,2,15.65,2,1.016,2,2305.1,2,7.7309,2,25,1.8918,2,2.1778,2
29AH20160617, OVIDE/BOCATS,53,1,26,20160707,633,54.762,-26.1203,3613,149.9,2,7.5527,34.91,2,34.9116,2,256.4,2,257.6,2,8,2,14.84,2,0.966,2,-999,9,7.7473,2,25,-999,9,-999,9
29AH20160617, OVIDE/BOCATS,53,1,27,20160707,633,54.762,-26.1203,3613,99.9,2,8.3424,34.9533,2,34.9547,2,261.9,2,262.8,2,6.4,2,12.99,2,0.84,2,2311.7,2,7.773,2,25,-999,9,-999,9
29AH20160617, OVIDE/BOCATS,53,1,28,20160707,633,54.762,-26.1203,3613,50.3,2,11.2768,35.0331,2,35.0295,4,271.4,2,271.5,2,2.26,2,5.94,2,0.437,2,-999,9,7.8819,2,25,-999,9,-999,9
29AH20160617, OVIDE/BOCATS,53,1,29,20160707,633,54.762,-26.1203,3613,4,2,11.8555,34.9812,2,34.9772,4,274.5,2,274.6,2,1.95,2,5.12,2,0.374,2,2313.1,2,7.8969,2,25,1.7967,2,2.3181,2
29AH20160617, OVIDE/BOCATS,54,1,3,20160707,1133,55.1491,-26.4111,3379,3423.4,2,2.8197,34.969,2,34.9686,2,266.2,2,266.3,2,20.97,2,16.74,2,1.105,2,-999,9,7.7156,2,25,-999,9,-999,9
29AH20160617, OVIDE/BOCATS,54,1,4,20160707,1133,55.1491,-26.4111,3379,3298.8,2,2.814,34.9626,2,34.9629,2,263.9,2,264.1,2,22.51,2,17.17,2,1.134,2,-999,9,7.7142,2,25,-999,9,-999,9
29AH20160617, OVIDE/BOCATS,54,1,5,20160707,1133,55.1491,-26.4111,3379,3198.8,2,2.8343,34.9606,2,34.9605,2,264.6,2,264.6,2,21.62,2,17.11,2,1.129,2,-999,9,7.7201,2,25,-999,9,-999,9
29AH20160617, OVIDE/BOCATS,54,1,6,20160707,1133,55.1491,-26.4111,3379,3098.8,2,2.8866,34.9622,2,34.9614,2,266,2,266,2,20.04,2,16.87,2,1.117,2,-999,9,7.7228,2,25,-999,9,-999,9
29AH20160617, OVIDE/BOCATS,54,1,7,20160707,1133,55.1491,-26.4111,3379,2999.4,2,2.9245,34.9585,2,34.9578,2,266.7,2,266.7,2,20.09,2,16.93,2,1.113,2,-999,9,7.7245,2,25,-999,9,-999,9
29AH20160617, OVIDE/BOCATS,54,1,8,20160707,1133,55.1491,-26.4111,3379,2748,2,3.021,34.9541,2,34.9537,2,269.5,2,269.5,2,19.34,2,16.84,2,1.113,2,-999,9,7.725,2,25,-999,9,-999,9
29AH20160617, OVIDE/BOCATS,54,1,9,20160707,1133,55.1491,-26.4111,3379,2500.4,2,3.1338,34.9451,2,34.9453,2,272.3,2,272.2,2,16.64,2,16.62,2,1.088,2,-999,9,7.7292,2,25,-999,9,-999,9
29AH20160617, OVIDE/BOCATS,54,1,10,20160707,1133,55.1491,-26.4111,3379,2248.6,2,3.2872,34.9362,2,34.9356,2,273.1,2,272.9,2,14.19,2,16.41,2,1.068,2,-999,9,7.7271,2,25,-999,9,-999,9
29AH20160617, OVIDE/BOCATS,54,1,11,20160707,1133,55.1491,-26.4111,3379,1998.4,2,3.4163,34.9291,2,34.9291,2,272.2,2,272.3,2,12.92,2,16.46,2,1.069,2,-999,9,7.7243,2,25,-999,9,-999,9
29AH20160617, OVIDE/BOCATS,54,1,12,20160707,1133,55.1491,-26.4111,3379,1799.9,2,3.56,34.9277,2,34.9275,2,271.9,2,273.9,2,12.26,2,16.56,2,1.08,2,-999,9,7.723,2,25,-999,9,-999,9
29AH20160617, OVIDE/BOCATS,54,1,13,20160707,1133,55.1491,-26.4111,3379,1564.7,2,3.7206,34.9245,2,34.9251,2,272,2,271.7,2,11.71,2,16.74,2,1.082,2,-999,9,7.7185,2,25,-999,9,-999,9
29AH20160617, OVIDE/BOCATS,54,1,14,20160707,1133,55.1491,-26.4111,3379,1399.4,2,3.7412,34.9072,2,34.9066,2,277.7,2,277.6,2,11.16,2,16.69,2,1.086,2,-999,9,7.7162,2,25,-999,9,-999,9
29AH20160617, OVIDE/BOCATS,54,1,15,20160707,1133,55.1491,-26.4111,3379,1200,2,3.8067,34.9006,2,34.9012,2,278.9,2,279.1,2,10.26,2,16.44,2,1.074,2,-999,9,7.7145,2,25,-999,9,-999,9
29AH20160617, OVIDE/BOCATS,54,1,16,20160707,1133,55.1491,-26.4111,3379,999.7,2,3.9506,34.9033,2,34.9038,2,277.9,2,277,2,9.85,2,16.36,2,1.071,2,-999,9,7.7091,2,25,-999,9,-999,9
29AH20160617, OVIDE/BOCATS,54,1,17,20160707,1133,55.1491,-26.4111,3379,899.8,2,4.0603,34.9087,2,34.9088,2,276.2,2,276.2,2,9.62,2,16.47,2,1.074,2,-999,9,7.7096,2,25,-999,9,-999,9
29AH20160617, OVIDE/BOCATS,54,1,18,20160707,1133,55.1491,-26.4111,3379,801.4,2,4.1751,34.9122,2,34.9137,2,273,2,271.7,2,9.62,2,16.53,2,1.079,2,-999,9,7.7061,2,25,-999,9,-999,9
29AH20160617, OVIDE/BOCATS,54,1,19,20160707,1133,55.1491,-26.4111,3379,700,2,4.3325,34.918,2,34.9184,2,268.4,2,267.6,2,9.43,2,16.58,2,1.089,2,-999,9,7.7025,2,25,-999,9,-999,9
29AH20160617, OVIDE/BOCATS,54,1,20,20160707,1133,55.1491,-26.4111,3379,601.1,2,4.5193,34.9168,2,34.9169,2,264.1,2,263.9,2,9.37,2,16.75,2,1.099,2,-999,9,7.7016,2,25,-999,9,-999,9
29AH20160617, OVIDE/BOCATS,54,1,21,20160707,1133,55.1491,-26.4111,3379,499.5,2,4.7465,34.9043,2,34.9048,2,262.2,2,261.1,2,9.66,2,16.86,2,1.107,2,-999,9,7.6996,2,25,-999,9,-999,9
29AH20160617, OVIDE/BOCATS,54,1,22,20160707,1133,55.1491,-26.4111,3379,399.3,2,5.0429,34.884,2,34.8842,2,254.7,2,250.9,4,9.49,2,16.91,2,1.111,2,-999,9,7.6985,2,25,-999,9,-999,9
29AH20160617, OVIDE/BOCATS,54,1,23,20160707,1133,55.1491,-26.4111,3379,298.9,2,5.2981,34.8085,2,34.8068,2,261.7,2,261.9,2,9.8,2,17.2,2,1.126,2,-999,9,7.7064,2,25,-999,9,-999,9
29AH20160617, OVIDE/BOCATS,54,1,24,20160707,1133,55.1491,-26.4111,3379,199.3,2,6.2442,34.8253,2,34.8247,2,249,2,248.8,2,9.26,2,16.39,2,1.088,2,-999,9,7.7138,2,25,-999,9,-999,9
29AH20160617, OVIDE/BOCATS,54,1,25,20160707,1133,55.1491,-26.4111,3379,150.1,2,6.7671,34.8462,2,34.8464,2,254.4,2,254.5,2,9.31,2,16.42,2,1.09,2,-999,9,7.7245,2,25,-999,9,-999,9
29AH20160617, OVIDE/BOCATS,54,1,26,20160707,1133,55.1491,-26.4111,3379,100.8,2,7.4447,34.8893,2,34.8893,2,257.6,2,256.2,2,8.71,2,15.79,2,1.041,2,-999,9,7.7424,2,25,-999,9,-999,9
29AH20160617, OVIDE/BOCATS,54,1,27,20160707,1133,55.1491,-26.4111,3379,50.1,2,9.0487,34.8961,2,34.8976,2,273.2,2,273.5,2,7.82,2,14.71,2,0.961,2,-999,9,7.818,2,25,-999,9,-999,9
29AH20160617, OVIDE/BOCATS,54,1,28,20160707,1133,55.1491,-26.4111,3379,3.9,2,11.3795,34.742,2,34.7424,2,285.4,2,286.2,2,3.31,2,8.13,2,0.646,2,-999,9,7.8996,2,25,-999,9,-999,9
29AH20160617, OVIDE/BOCATS,55,1,3,20160707,1626,55.5061,-26.7076,3235,3275.1,2,2.7334,34.9463,2,34.9443,2,259.6,2,258.5,2,28.74,2,18.32,2,1.2,2,2330,2,7.7167,2,25,0.8841,2,0.644,2
29AH20160617, OVIDE/BOCATS,55,1,4,20160707,1626,55.5061,-26.7076,3235,3149.6,2,2.7574,34.9472,2,34.9465,2,261.8,2,260.1,2,26.58,2,18.12,2,1.191,2,2328.2,2,7.7233,2,25,-999,9,-999,9
29AH20160617, OVIDE/BOCATS,55,1,5,20160707,1626,55.5061,-26.7076,3235,3150.1,2,2.7574,34.9471,2,34.9438,4,261.8,2,259.9,2,-999,9,-999,9,-999,9,-999,9,-999.0,9,25,-999,9,-999,9
29AH20160617, OVIDE/BOCATS,55,1,6,20160707,1626,55.5061,-26.7076,3235,2999.2,2,2.816,34.9521,2,34.9507,2,264.9,2,263.3,2,23.28,2,17.58,2,1.148,2,2323.6,2,7.7198,2,25,-999,9,-999,9
29AH20160617, OVIDE/BOCATS,55,1,7,20160707,1626,55.5061,-26.7076,3235,2749.5,2,2.9253,34.9538,2,34.9513,2,269.2,2,267.9,2,18.9,2,16.9,2,1.107,2,2317.4,2,7.7229,2,25,-999,9,-999,9
29AH20160617, OVIDE/BOCATS,55,1,8,20160707,1626,55.5061,-26.7076,3235,2498.7,2,3.0757,34.9506,2,34.9497,2,273,2,272.6,2,14.82,2,16.45,2,1.073,2,2314,2,7.7243,2,25,-999,9,-999,9
29AH20160617, OVIDE/BOCATS,55,1,9,20160707,1626,55.5061,-26.7076,3235,2248.6,2,3.1794,34.9399,2,34.9391,2,273.8,2,273.4,2,13.75,2,16.43,2,1.073,2,2311.4,2,7.7266,2,25,-999,9,-999,9
29AH20160617, OVIDE/BOCATS,55,1,10,20160707,1626,55.5061,-26.7076,3235,1999.6,2,3.3275,34.9333,2,34.9326,2,273.8,2,273.4,2,12.62,2,16.51,2,1.073,2,2307.1,2,7.7245,2,25,1.4492,2,0.8043,2
29AH20160617, OVIDE/BOCATS,55,1,11,20160707,1626,55.5061,-26.7076,3235,1798.9,2,3.468,34.9306,2,34.9281,2,272.9,2,272.2,2,12.12,2,16.67,2,1.082,2,2308.5,2,7.7227,2,25,-999,9,-999,9
29AH20160617, OVIDE/BOCATS,55,1,12,20160707,1626,55.5061,-26.7076,3235,1598.9,2,3.6054,34.927,2,34.927,2,272.9,2,272.9,2,11.82,2,16.86,2,1.09,2,2305.5,2,7.7226,2,25,1.5797,2,0.8281,2
29AH20160617, OVIDE/BOCATS,55,1,13,20160707,1626,55.5061,-26.7076,3235,1399.2,2,3.7316,34.9216,2,34.9213,2,274.4,2,276.4,2,11.13,2,16.7,2,1.092,2,2307.2,2,7.7164,2,25,-999,9,-999,9
29AH20160617, OVIDE/BOCATS,55,1,14,20160707,1626,55.5061,-26.7076,3235,1192.9,2,3.8304,34.9143,2,34.9145,2,274.4,2,274.2,2,10.68,2,16.73,2,1.088,2,2304.7,2,7.7139,2,25,-999,9,-999,9
29AH20160617, OVIDE/BOCATS,55,1,15,20160707,1626,55.5061,-26.7076,3235,998.8,2,3.9185,34.9074,2,34.907,2,276.6,2,276.8,2,10.18,2,16.65,2,1.072,2,2301.7,2,7.7118,2,25,-999,9,-999,9
29AH20160617, OVIDE/BOCATS,55,1,16,20160707,1626,55.5061,-26.7076,3235,799.6,2,4.1385,34.9202,2,34.9196,2,272.5,2,272.2,2,10.17,2,16.8,2,1.089,2,2305.1,2,7.7068,2,25,-999,9,-999,9
29AH20160617, OVIDE/BOCATS,55,1,17,20160707,1626,55.5061,-26.7076,3235,699.7,2,4.25,34.9213,2,34.9217,2,271,2,270,2,10.1,2,16.87,2,1.089,2,2304.4,2,7.7031,2,25,-999,9,-999,9
29AH20160617, OVIDE/BOCATS,55,1,18,20160707,1626,55.5061,-26.7076,3235,599.8,2,4.3796,34.9216,2,34.9224,2,267.5,2,265.9,2,10.07,2,17.1,2,1.1,2,-999,9,7.7025,2,25,2.0248,2,1.8106,2
29AH20160617, OVIDE/BOCATS,55,1,19,20160707,1626,55.5061,-26.7076,3235,499.6,2,4.5863,34.9219,2,34.9177,4,260.6,2,260.6,2,10.15,2,17.26,2,1.109,2,2307,2,7.6993,2,25,-999,9,-999,9
29AH20160617, OVIDE/BOCATS,55,1,20,20160707,1626,55.5061,-26.7076,3235,400.2,2,4.8953,34.9188,2,34.917,2,256.2,2,255,2,10.23,2,17.48,2,1.13,2,-999,9,7.7006,2,25,1.9213,2,1.816,2
29AH20160617, OVIDE/BOCATS,55,1,21,20160707,1626,55.5061,-26.7076,3235,301.4,2,5.0253,34.8616,2,34.8604,2,257.8,2,256.5,2,9.89,2,17.11,2,1.112,2,2304.1,2,7.6984,2,25,-999,9,-999,9
29AH20160617, OVIDE/BOCATS,55,1,22,20160707,1626,55.5061,-26.7076,3235,197.8,2,5.3883,34.7815,2,34.7803,2,269.8,2,268.3,2,9.08,2,16.06,2,1.053,2,2299.9,2,7.7123,2,25,2.0664,2,2.3764,2
29AH20160617, OVIDE/BOCATS,55,1,23,20160707,1626,55.5061,-26.7076,3235,150,2,5.4602,34.7511,2,34.7504,2,279.2,2,279.4,2,8.48,2,15.3,2,1.007,2,-999,9,7.7211,2,25,-999,9,-999,9
29AH20160617, OVIDE/BOCATS,55,1,24,20160707,1626,55.5061,-26.7076,3235,119.9,2,5.557,34.7309,2,34.731,2,289.3,2,287.6,2,8.28,2,14.94,2,0.99,2,2299,2,7.7231,2,25,-999,9,-999,9
29AH20160617, OVIDE/BOCATS,55,1,25,20160707,1626,55.5061,-26.7076,3235,55.6,2,7.6634,34.7608,2,34.7627,2,288.9,2,288.9,2,3.77,2,8.81,2,0.747,2,-999,9,7.7984,2,25,-999,9,-999,9
29AH20160617, OVIDE/BOCATS,55,1,26,20160707,1626,55.5061,-26.7076,3235,4.4,2,11.097,34.6827,2,34.6831,2,284.9,2,285.3,2,1.62,2,5.01,2,0.416,2,2300.6,2,7.8964,2,25,1.8958,2,2.418,2
29AH20160617, OVIDE/BOCATS,56,1,3,20160707,2116,55.8829,-26.9983,2882,2915.1,2,2.783,34.9726,2,34.972,2,270,2,269.5,2,20.03,2,16.77,2,1.069,2,-999,9,7.7167,2,25,-999,9,-999,9
29AH20160617, OVIDE/BOCATS,56,1,4,20160707,2116,55.8829,-26.9983,2882,2847.4,2,2.8265,34.973,2,34.9725,2,270.9,2,270.8,2,18.67,2,16.79,2,1.06,2,-999,9,7.7185,2,25,-999,9,-999,9
29AH20160617, OVIDE/BOCATS,56,1,5,20160707,2116,55.8829,-26.9983,2882,2793.4,2,2.8569,34.9721,2,34.9718,2,271,2,269.4,2,18.23,2,16.7,2,1.06,2,-999,9,7.7191,2,25,-999,9,-999,9
29AH20160617, OVIDE/BOCATS,56,1,6,20160707,2116,55.8829,-26.9983,2882,2748.2,2,2.8812,34.9714,2,34.9708,2,271,2,269.5,2,18.16,2,16.69,2,1.062,2,-999,9,7.7208,2,25,-999,9,-999,9
29AH20160617, OVIDE/BOCATS,56,1,7,20160707,2116,55.8829,-26.9983,2882,2498.4,2,3.0322,34.9596,2,34.9589,2,271.5,2,269.6,2,16.72,2,16.86,2,1.071,2,-999,9,7.7268,2,25,-999,9,-999,9
29AH20160617, OVIDE/BOCATS,56,1,8,20160707,2116,55.8829,-26.9983,2882,2250.6,2,3.1864,34.9442,2,34.9434,2,273.6,2,272.4,2,14.33,2,16.79,2,1.063,2,-999,9,7.7288,2,25,-999,9,-999,9
29AH20160617, OVIDE/BOCATS,56,1,9,20160707,2116,55.8829,-26.9983,2882,1999.6,2,3.3261,34.9299,2,34.9298,2,274.3,2,274.3,2,13.41,2,16.92,2,1.069,2,-999,9,7.7288,2,25,-999,9,-999,9
29AH20160617, OVIDE/BOCATS,56,1,10,20160707,2116,55.8829,-26.9983,2882,1799.3,2,3.4586,34.9256,2,34.9258,2,272.8,2,272.2,2,12.9,2,17.21,2,1.079,2,-999,9,7.7273,2,25,-999,9,-999,9
29AH20160617, OVIDE/BOCATS,56,1,11,20160707,2116,55.8829,-26.9983,2882,1600.5,2,3.6049,34.9246,2,34.9238,2,271.7,2,270.5,2,12.59,2,17.35,2,1.087,2,-999,9,7.725,2,25,-999,9,-999,9
29AH20160617, OVIDE/BOCATS,56,1,12,20160707,2116,55.8829,-26.9983,2882,1399.2,2,3.7605,34.9216,2,34.92,2,271.7,2,270.1,2,12,2,17.24,2,1.082,2,-999,9,7.7191,2,25,-999,9,-999,9
29AH20160617, OVIDE/BOCATS,56,1,13,20160707,2116,55.8829,-26.9983,2882,1198.5,2,3.8981,34.9192,2,34.9193,2,272.1,2,271.2,2,11.56,2,17.35,2,1.087,2,-999,9,7.7158,2,25,-999,9,-999,9
29AH20160617, OVIDE/BOCATS,56,1,14,20160707,2116,55.8829,-26.9983,2882,997.8,2,4.0509,34.9192,2,34.9206,2,272.9,2,271.5,2,10.82,2,17.29,2,1.082,2,-999,9,7.7127,2,25,-999,9,-999,9
29AH20160617, OVIDE/BOCATS,56,1,15,20160707,2116,55.8829,-26.9983,2882,899.7,2,4.1777,34.9292,2,34.9295,2,270.9,2,269.5,2,10.69,2,17.34,2,1.082,2,-999,9,7.7112,2,25,-999,9,-999,9
29AH20160617, OVIDE/BOCATS,56,1,16,20160707,2116,55.8829,-26.9983,2882,799.5,2,4.3326,34.9404,2,34.9413,2,267.6,2,265.7,2,10.73,2,17.5,2,1.083,2,-999,9,7.7075,2,25,-999,9,-999,9
29AH20160617, OVIDE/BOCATS,56,1,19,20160707,2116,55.8829,-26.9983,2882,701.2,2,4.5883,34.9605,2,34.9606,2,261.1,2,259.1,2,10.89,2,17.74,2,1.099,2,-999,9,7.7069,2,25,-999,9,-999,9
29AH20160617, OVIDE/BOCATS,56,1,20,20160707,2116,55.8829,-26.9983,2882,598.2,2,4.8761,34.9834,2,34.983,2,253.4,2,252.1,2,11.07,2,17.95,2,1.115,2,-999,9,7.7055,2,25,-999,9,-999,9
29AH20160617, OVIDE/BOCATS,56,1,21,20160707,2116,55.8829,-26.9983,2882,501.4,2,5.4266,35.0368,2,35.0368,2,242.3,2,240.5,2,11.58,2,18.25,2,1.126,2,-999,9,7.7041,2,25,-999,9,-999,9
29AH20160617, OVIDE/BOCATS,56,1,22,20160707,2116,55.8829,-26.9983,2882,400.7,2,5.7105,35.0307,2,35.0325,2,240.2,2,237,4,11.22,2,18.27,2,1.128,2,-999,9,7.7026,2,25,-999,9,-999,9
29AH20160617, OVIDE/BOCATS,56,1,23,20160707,2116,55.8829,-26.9983,2882,300.1,2,5.2647,34.8622,2,34.863,2,251.5,2,246.9,4,10.77,2,17.87,2,1.121,2,-999,9,7.6961,2,25,-999,9,-999,9
29AH20160617, OVIDE/BOCATS,56,1,24,20160707,2116,55.8829,-26.9983,2882,200.3,2,5.6001,34.7862,2,34.7862,2,263.6,2,263.3,2,9.68,2,16.6,2,1.053,2,-999,9,7.7116,2,25,-999,9,-999,9
29AH20160617, OVIDE/BOCATS,56,1,25,20160707,2116,55.8829,-26.9983,2882,149.9,2,6.0487,34.7987,2,34.8004,2,266.5,2,263.5,4,9.29,2,16.21,2,1.028,2,-999,9,7.7176,2,25,-999,9,-999,9
29AH20160617, OVIDE/BOCATS,56,1,26,20160707,2116,55.8829,-26.9983,2882,99.8,2,6.6473,34.8196,2,34.8199,2,273.9,2,272.4,2,8.2,2,14.91,2,0.951,2,-999,9,7.7358,2,25,-999,9,-999,9
29AH20160617, OVIDE/BOCATS,56,1,27,20160707,2116,55.8829,-26.9983,2882,50.7,2,9.1911,34.7786,2,34.7837,4,281.6,2,280.1,2,3.13,2,7.2,2,0.632,2,-999,9,7.8336,2,25,-999,9,-999,9
29AH20160617, OVIDE/BOCATS,56,1,28,20160707,2116,55.8829,-26.9983,2882,4.7,2,10.9567,34.7928,2,34.7934,2,283.9,2,283.6,2,2.08,2,5.81,2,0.443,2,-999,9,7.8848,2,25,-999,9,-999,9