BOTTLE,20230706CCHSIOENA
EXPOCODE,SECT_ID,STNNBR,CASTNO,SAMPNO,DATE,TIME,LATITUDE,LONGITUDE,DEPTH,CTDPRS,CTDPRS_FLAG_W,CTDTMP,CTDSAL,CTDSAL_FLAG_W,SALNTY,SALNTY_FLAG_W,CTDOXY,CTDOXY_FLAG_W,OXYGEN,OXYGEN_FLAG_W,SILCAT,SILCAT_FLAG_W,NITRAT,NITRAT_FLAG_W,PHSPHT,PHSPHT_FLAG_W,ALKALI,ALKALI_FLAG_W,PH_SWS,PH_SWS_FLAG_W,PH_TMP,CFC-12,CFC-12_FLAG_W,SF6,SF6_FLAG_W
,,,,,,,,,METERS,DBAR,,DEG C,PSS-78,,PSS-78,,UMOL/KG,,UMOL/KG,,UMOL/KG,,UMOL/KG,,UMOL/KG,,UMOL/KG,,,,DEG C,PMOL/KG,,FMOL/KG,
29AH20160617, OVIDE/BOCATS,61,1,3,20160709,23,57.6737,-28.7238,2457,2479.7,2,2.8072,34.9819,2,34.982,2,275.7,2,274.7,2,14.11,2,15.67,2,1.019,2,2310.2,2,7.7129,2,25,1.5803,2,1.2676,2
29AH20160617, OVIDE/BOCATS,61,1,4,20160709,23,57.6737,-28.7238,2457,2400.8,2,2.8116,34.9821,2,34.9827,2,275.9,2,275.4,2,13.98,2,15.62,2,1.02,2,2309.6,2,7.7132,2,25,1.5811,2,1.3677,2
29AH20160617, OVIDE/BOCATS,61,1,5,20160709,23,57.6737,-28.7238,2457,2400.5,2,2.8124,34.982,2,34.9831,2,275.9,2,275.1,2,14.34,2,15.66,2,1.026,2,-999,9,-999.0,9,25,-999,9,-999,9
29AH20160617, OVIDE/BOCATS,61,1,6,20160709,23,57.6737,-28.7238,2457,2249.6,2,2.8904,34.98,2,34.9805,2,275.2,2,275.2,2,14.4,2,15.82,2,1.034,2,2309.7,2,7.7163,2,25,-999,9,-999,9
29AH20160617, OVIDE/BOCATS,61,1,7,20160709,23,57.6737,-28.7238,2457,2000,2,3.2197,34.9588,2,34.96,2,273.2,2,273,2,14.17,2,16.42,2,1.055,2,2309.2,2,7.7268,2,25,-999,9,-999,9
29AH20160617, OVIDE/BOCATS,61,1,8,20160709,23,57.6737,-28.7238,2457,1799.6,2,3.4623,34.9397,2,34.9399,2,273.1,2,273.1,2,13.01,2,16.76,2,1.074,2,2308.4,2,7.7244,2,25,-999,9,-999,9
29AH20160617, OVIDE/BOCATS,61,1,9,20160709,23,57.6737,-28.7238,2457,1601.2,2,3.6492,34.9295,2,34.9306,2,271.7,2,271.4,2,12.4,2,16.98,2,1.081,2,2304.9,2,7.7119,2,25,1.608,2,0.9647,2
29AH20160617, OVIDE/BOCATS,61,1,10,20160709,23,57.6737,-28.7238,2457,1399.9,2,3.7806,34.9226,2,34.9237,2,271.6,2,271.9,2,11.54,2,16.92,2,1.085,2,2305.4,2,7.7174,2,25,-999,9,-999,9
29AH20160617, OVIDE/BOCATS,61,1,11,20160709,23,57.6737,-28.7238,2457,1199.2,2,3.8936,34.9146,2,34.9146,2,273.4,2,273.8,2,11.08,2,16.89,2,1.079,2,2304.6,2,7.7135,2,25,-999,9,-999,9
29AH20160617, OVIDE/BOCATS,61,1,12,20160709,23,57.6737,-28.7238,2457,1001,2,4.0442,34.9141,2,34.915,2,273.6,2,273.4,2,10.75,2,16.94,2,1.077,2,-999,9,7.7055,2,25,2.0663,2,1.6198,2
29AH20160617, OVIDE/BOCATS,61,1,13,20160709,23,57.6737,-28.7238,2457,899.4,2,4.2512,34.9304,2,34.9319,2,268.3,2,267.9,2,10.89,2,17.14,2,1.095,2,2306.9,2,7.7061,2,25,-999,9,-999,9
29AH20160617, OVIDE/BOCATS,61,1,14,20160709,23,57.6737,-28.7238,2457,800,2,4.4574,34.9459,2,34.9463,2,262.2,2,262,2,10.95,2,17.41,2,1.098,2,-999,9,7.7011,2,25,-999,9,-999,9
29AH20160617, OVIDE/BOCATS,61,1,15,20160709,23,57.6737,-28.7238,2457,699.9,2,4.6434,34.9497,2,34.9493,2,257.7,2,256.9,2,10.86,2,17.68,2,1.113,2,2310,2,7.698,2,25,-999,9,-999,9
29AH20160617, OVIDE/BOCATS,61,1,16,20160709,23,57.6737,-28.7238,2457,599.3,2,5.1103,34.9823,2,34.9832,2,251.8,2,250.9,2,10.8,2,17.69,2,1.116,2,-999,9,7.6981,2,25,1.8621,2,1.5065,2
29AH20160617, OVIDE/BOCATS,61,1,17,20160709,23,57.6737,-28.7238,2457,500.7,2,5.6705,35.0104,2,35.0101,2,251.9,2,252,2,10.02,2,17.13,2,1.085,2,2314,2,7.7108,2,25,-999,9,-999,9
29AH20160617, OVIDE/BOCATS,61,1,18,20160709,23,57.6737,-28.7238,2457,399,2,5.8729,34.9913,2,34.9919,2,265.8,2,265.1,2,9.03,2,16.21,2,1.038,2,-999,9,7.7244,2,25,-999,9,-999,9
29AH20160617, OVIDE/BOCATS,61,1,19,20160709,23,57.6737,-28.7238,2457,298,2,6.055,34.9628,2,34.9675,4,276.1,2,275.5,2,8.17,2,15.32,2,0.975,2,2309.4,2,7.7369,2,25,-999,9,-999,9
29AH20160617, OVIDE/BOCATS,61,1,20,20160709,23,57.6737,-28.7238,2457,200,2,5.9831,34.8952,2,34.8959,2,278.6,2,279.2,2,8.17,2,15.09,2,0.971,2,-999,9,7.7339,2,25,2.1063,2,2.3651,2
29AH20160617, OVIDE/BOCATS,61,1,21,20160709,23,57.6737,-28.7238,2457,148,2,6.0835,34.8681,2,34.8683,2,278.4,2,276.6,2,8.13,2,14.96,2,0.968,2,2301.3,2,7.733,2,25,-999,9,-999,9
29AH20160617, OVIDE/BOCATS,61,1,22,20160709,23,57.6737,-28.7238,2457,100.6,2,6.4491,34.8691,2,34.8697,2,281.7,2,281.7,2,7.66,2,14.13,2,0.93,2,-999,9,7.746,2,25,-999,9,-999,9
29AH20160617, OVIDE/BOCATS,61,1,23,20160709,23,57.6737,-28.7238,2457,50.5,2,8.6975,34.7971,2,34.8093,4,279.7,2,279,2,4.39,2,9.34,2,0.682,2,2300.7,2,7.8086,2,25,-999,9,-999,9
29AH20160617, OVIDE/BOCATS,61,1,24,20160709,23,57.6737,-28.7238,2457,4.8,2,9.8711,34.7452,2,34.7446,2,286.6,2,286.6,2,2.15,2,5.75,2,0.43,2,2298.4,2,7.8748,2,25,1.9785,2,2.4525,2
29AH20160617, OVIDE/BOCATS,62,1,3,20160709,449,57.9695,-29.2802,2141,2159.5,2,2.8696,34.9843,2,34.9846,2,276.3,2,276.4,2,13.02,2,15.52,2,1.023,2,-999,9,7.7183,2,25,-999,9,-999,9
29AH20160617, OVIDE/BOCATS,62,1,4,20160709,449,57.9695,-29.2802,2141,2100,2,2.9278,34.9841,2,34.9837,2,276.1,2,275.9,2,12.78,2,15.69,2,1.009,2,-999,9,7.724,2,25,-999,9,-999,9
29AH20160617, OVIDE/BOCATS,62,1,5,20160709,449,57.9695,-29.2802,2141,2001.3,2,3.0957,34.9808,2,34.9819,2,275,2,274.3,2,12.61,2,15.76,2,1.016,2,-999,9,7.7236,2,25,-999,9,-999,9
29AH20160617, OVIDE/BOCATS,62,1,6,20160709,449,57.9695,-29.2802,2141,1900.9,2,3.2085,34.9673,2,34.9675,2,273.3,2,272.8,2,13.23,2,16.12,2,1.042,2,-999,9,7.7237,2,25,-999,9,-999,9
29AH20160617, OVIDE/BOCATS,62,1,7,20160709,449,57.9695,-29.2802,2141,1801.3,2,3.3096,34.9512,2,34.9487,2,273.2,2,272.6,2,12.99,2,16.41,2,1.049,2,-999,9,7.7267,2,25,-999,9,-999,9
29AH20160617, OVIDE/BOCATS,62,1,8,20160709,449,57.9695,-29.2802,2141,1601.1,2,3.5097,34.9351,2,34.937,2,272.3,2,271.9,2,12.22,2,16.72,2,1.067,2,-999,9,7.7277,2,25,-999,9,-999,9
29AH20160617, OVIDE/BOCATS,62,1,9,20160709,449,57.9695,-29.2802,2141,1399.7,2,3.7186,34.9296,2,34.9291,2,271.1,2,271.1,2,11.66,2,16.88,2,1.076,2,-999,9,7.7216,2,25,-999,9,-999,9
29AH20160617, OVIDE/BOCATS,62,1,10,20160709,449,57.9695,-29.2802,2141,1198.8,2,3.8553,34.9201,2,34.9194,2,272,2,271.6,2,10.92,2,16.8,2,1.079,2,-999,9,7.7152,2,25,-999,9,-999,9
29AH20160617, OVIDE/BOCATS,62,1,11,20160709,449,57.9695,-29.2802,2141,999.5,2,4.0756,34.9243,2,34.924,2,271.2,2,270.3,2,10.15,2,16.82,2,1.077,2,-999,9,7.7153,2,25,-999,9,-999,9
29AH20160617, OVIDE/BOCATS,62,1,12,20160709,449,57.9695,-29.2802,2141,898.4,2,4.1888,34.9272,2,34.9267,2,269.4,2,268.6,2,10.1,2,16.85,2,1.079,2,-999,9,7.7099,2,25,-999,9,-999,9
29AH20160617, OVIDE/BOCATS,62,1,13,20160709,449,57.9695,-29.2802,2141,800.1,2,4.4219,34.9437,2,34.9437,2,263.9,2,262.7,2,10.21,2,17.08,2,1.096,2,-999,9,7.7137,2,25,-999,9,-999,9
29AH20160617, OVIDE/BOCATS,62,1,14,20160709,449,57.9695,-29.2802,2141,696.5,2,4.7177,34.9618,2,34.9618,2,256.7,2,255.4,2,10.35,2,17.28,2,1.113,2,-999,9,7.7024,2,25,-999,9,-999,9
29AH20160617, OVIDE/BOCATS,62,1,15,20160709,449,57.9695,-29.2802,2141,598.4,2,5.0325,34.9786,2,34.9771,2,251.2,2,250.4,2,10.31,2,17.43,2,1.117,2,-999,9,7.6992,2,25,-999,9,-999,9
29AH20160617, OVIDE/BOCATS,62,1,16,20160709,449,57.9695,-29.2802,2141,500.9,2,5.6266,35.0068,2,35.0063,2,252.2,2,251.4,2,9.74,2,16.96,2,1.096,2,-999,9,7.7146,2,25,-999,9,-999,9
29AH20160617, OVIDE/BOCATS,62,1,17,20160709,449,57.9695,-29.2802,2141,400,2,6.2924,35.0595,2,35.0598,2,263.7,2,262.1,2,8.39,2,15.77,2,1.01,2,-999,9,7.7296,2,25,-999,9,-999,9
29AH20160617, OVIDE/BOCATS,62,1,18,20160709,449,57.9695,-29.2802,2141,298,2,6.5111,35.0581,2,35.0583,2,272.8,2,272.2,2,7.58,2,14.89,2,0.96,2,-999,9,7.7468,2,25,-999,9,-999,9
29AH20160617, OVIDE/BOCATS,62,1,19,20160709,449,57.9695,-29.2802,2141,201,2,6.5113,35.0114,2,35.0106,2,276.2,2,275.6,2,7.53,2,14.77,2,0.949,2,-999,9,7.7404,2,25,-999,9,-999,9
29AH20160617, OVIDE/BOCATS,62,1,20,20160709,449,57.9695,-29.2802,2141,149.7,2,6.2658,34.9247,2,34.925,2,274.3,2,274.7,2,8.13,2,15.14,2,0.992,2,-999,9,7.735,2,25,-999,9,-999,9
29AH20160617, OVIDE/BOCATS,62,1,21,20160709,449,57.9695,-29.2802,2141,98.7,2,6.0219,34.8166,2,34.8161,2,283.8,2,282.6,2,7.85,2,14.54,2,0.959,2,-999,9,7.7327,2,25,-999,9,-999,9
29AH20160617, OVIDE/BOCATS,62,1,22,20160709,449,57.9695,-29.2802,2141,52.9,2,6.7111,34.8437,2,34.8379,4,281.3,2,278.9,2,7.3,2,13.99,2,0.925,2,-999,9,7.7356,2,25,-999,9,-999,9
29AH20160617, OVIDE/BOCATS,62,1,23,20160709,449,57.9695,-29.2802,2141,4.6,2,9.8842,34.7594,2,34.7603,2,285.9,2,286.3,2,2.19,2,5.57,2,0.425,2,-999,9,7.865,2,25,-999,9,-999,9
29AH20160617, OVIDE/BOCATS,63,1,3,20160709,1016,58.2102,-29.7298,2237,2256.8,2,2.9457,34.9836,2,34.9828,2,276,2,275.1,2,13.05,2,15.68,2,1.01,2,2311.5,2,7.7186,2,25,1.6083,2,1.2886,2
29AH20160617, OVIDE/BOCATS,63,1,4,20160709,1016,58.2102,-29.7298,2237,2179.2,2,2.9538,34.9832,2,34.9821,2,275.8,2,274.7,2,12.91,2,15.76,2,1.014,2,-999,9,7.7192,2,25,-999,9,-999,9
29AH20160617, OVIDE/BOCATS,63,1,5,20160709,1016,58.2102,-29.7298,2237,2149.1,2,2.9567,34.9831,2,34.977,4,276,2,274.6,2,12.91,2,15.71,2,1.007,2,2308,2,7.7174,2,25,-999,9,-999,9
29AH20160617, OVIDE/BOCATS,63,1,6,20160709,1016,58.2102,-29.7298,2237,1999.7,2,3.0247,34.9801,2,34.9835,4,275.1,2,274,2,12.95,2,15.86,2,1.017,2,2308.5,2,7.7207,2,25,1.5675,2,1.2732,2
29AH20160617, OVIDE/BOCATS,63,1,7,20160709,1016,58.2102,-29.7298,2237,1999.4,2,3.0253,34.9801,2,34.9803,2,275.1,2,274,2,-999,9,-999,9,-999,9,-999,9,-999.0,9,25,-999,9,-999,9
29AH20160617, OVIDE/BOCATS,63,1,8,20160709,1016,58.2102,-29.7298,2237,1799.5,2,3.2951,34.9603,2,34.96,2,273.6,2,-999,9,12.83,2,16.27,2,1.037,2,2305.7,2,7.7248,2,25,-999,9,-999,9
29AH20160617, OVIDE/BOCATS,63,1,9,20160709,1016,58.2102,-29.7298,2237,1600.6,2,3.5622,34.9523,2,34.9496,2,272.7,2,272.4,2,12.03,2,16.52,2,1.053,2,2304.2,2,7.7246,2,25,-999,9,-999,9
29AH20160617, OVIDE/BOCATS,63,1,10,20160709,1016,58.2102,-29.7298,2237,1399.5,2,3.7673,34.9363,2,34.9347,2,271.2,2,270.7,2,11.66,2,16.83,2,1.07,2,2304.1,2,7.721,2,25,-999,9,-999,9
29AH20160617, OVIDE/BOCATS,63,1,11,20160709,1016,58.2102,-29.7298,2237,1200.1,2,3.9055,34.9229,2,34.9241,2,271.1,2,-999,9,11.09,2,17.02,2,1.073,2,2302.2,2,7.7151,2,25,-999,9,-999,9
29AH20160617, OVIDE/BOCATS,63,1,12,20160709,1016,58.2102,-29.7298,2237,1000.6,2,4.1278,34.9288,2,34.9285,2,270.4,2,269.9,2,10.67,2,17.19,2,1.074,2,2302.4,2,7.7113,2,25,-999,9,-999,9
29AH20160617, OVIDE/BOCATS,63,1,13,20160709,1016,58.2102,-29.7298,2237,900.1,2,4.2872,34.9387,2,34.9388,2,267.2,2,266.9,2,10.67,2,17.22,2,1.08,2,-999,9,7.7076,2,25,-999,9,-999,9
29AH20160617, OVIDE/BOCATS,63,1,14,20160709,1016,58.2102,-29.7298,2237,800.8,2,4.4806,34.9521,2,34.9519,2,262.3,2,261.8,2,10.64,2,17.39,2,1.091,2,2304.2,2,7.7075,2,25,-999,9,-999,9
29AH20160617, OVIDE/BOCATS,63,1,15,20160709,1016,58.2102,-29.7298,2237,699.2,2,4.7754,34.9691,2,34.9674,2,255.5,2,254.6,2,10.72,2,17.74,2,1.111,2,-999,9,7.7021,2,25,-999,9,-999,9
29AH20160617, OVIDE/BOCATS,63,1,16,20160709,1016,58.2102,-29.7298,2237,600.6,2,5.1067,34.9826,2,34.9833,2,250,2,250,2,10.68,2,17.89,2,1.112,2,2308.6,2,7.6992,2,25,1.8513,2,1.5831,2
29AH20160617, OVIDE/BOCATS,63,1,17,20160709,1016,58.2102,-29.7298,2237,499.8,2,5.522,34.9997,2,35,2,251.6,2,251.4,2,10.11,2,17.52,2,1.088,2,2308.4,2,7.7074,2,25,-999,9,-999,9
29AH20160617, OVIDE/BOCATS,63,1,18,20160709,1016,58.2102,-29.7298,2237,399.4,2,5.9695,35.0275,2,35.0283,2,255,2,254.6,2,9.47,2,16.85,2,1.053,2,2310.4,2,7.7196,2,25,-999,9,-999,9
29AH20160617, OVIDE/BOCATS,63,1,19,20160709,1016,58.2102,-29.7298,2237,301.1,2,6.1771,35.0129,2,35.0121,2,257.6,2,257.6,2,8.99,2,16.44,2,1.028,2,2309.1,2,7.728,2,25,-999,9,-999,9
29AH20160617, OVIDE/BOCATS,63,1,20,20160709,1016,58.2102,-29.7298,2237,198.5,2,6.1197,34.9478,2,34.9504,2,264.9,2,264.1,2,8.61,2,16.06,2,1.019,2,2304,2,7.7281,2,25,-999,9,-999,9
29AH20160617, OVIDE/BOCATS,63,1,21,20160709,1016,58.2102,-29.7298,2237,149.5,2,6.2803,34.9343,2,34.9306,4,271.2,2,269.2,2,8.16,2,15.46,2,0.984,2,-999,9,7.7352,2,25,-999,9,-999,9
29AH20160617, OVIDE/BOCATS,63,1,22,20160709,1016,58.2102,-29.7298,2237,99.9,2,6.592,34.9239,2,34.9237,2,283.5,2,283,2,7.43,2,14.11,2,0.894,2,2303.9,2,7.7533,2,25,-999,9,-999,9
29AH20160617, OVIDE/BOCATS,63,1,23,20160709,1016,58.2102,-29.7298,2237,48.8,2,8.9714,34.8306,2,34.8338,4,281.1,2,280.8,2,2.7,2,7.64,2,0.58,2,-999,9,7.8373,2,25,-999,9,-999,9
29AH20160617, OVIDE/BOCATS,63,1,24,20160709,1016,58.2102,-29.7298,2237,4.8,2,9.8479,34.7937,2,34.7936,2,286.4,2,286.5,2,2.16,2,5.99,2,0.444,2,2299.4,2,7.8744,2,25,1.959,2,2.1488,2
29AH20160617, OVIDE/BOCATS,64,1,3,20160709,1354,58.4108,-30.1042,2178,2195.9,2,3.2936,34.9879,2,34.9886,2,276.5,2,275.7,2,11.11,2,15.33,2,1.017,2,-999,9,7.7283,2,25,-999,9,-999,9
29AH20160617, OVIDE/BOCATS,64,1,4,20160709,1354,58.4108,-30.1042,2178,2099.7,2,3.3337,34.9878,2,34.9867,2,276.1,2,275.4,2,11.11,2,15.43,2,1.013,2,-999,9,7.7192,2,25,-999,9,-999,9
29AH20160617, OVIDE/BOCATS,64,1,5,20160709,1354,58.4108,-30.1042,2178,1999.4,2,3.347,34.9879,2,34.9884,2,275.9,2,275.3,2,11.15,2,15.45,2,1.017,2,-999,9,7.7187,2,25,-999,9,-999,9
29AH20160617, OVIDE/BOCATS,64,1,6,20160709,1354,58.4108,-30.1042,2178,1800,2,3.3756,34.9879,2,34.985,2,275.9,2,275.1,2,10.97,2,15.51,2,1.014,2,-999,9,7.7211,2,25,-999,9,-999,9
29AH20160617, OVIDE/BOCATS,64,1,7,20160709,1354,58.4108,-30.1042,2178,1600.3,2,3.5396,34.9822,2,34.9789,4,274.5,2,273.4,2,11.07,2,15.71,2,1.025,2,-999,9,7.7194,2,25,-999,9,-999,9
29AH20160617, OVIDE/BOCATS,64,1,8,20160709,1354,58.4108,-30.1042,2178,1399.4,2,3.682,34.9404,2,34.9366,4,271.6,2,270.5,2,11.95,2,16.75,2,1.083,2,-999,9,7.7264,2,25,-999,9,-999,9
29AH20160617, OVIDE/BOCATS,64,1,9,20160709,1354,58.4108,-30.1042,2178,1199.6,2,3.9154,34.9288,2,34.9269,2,271.4,2,271.4,2,11.13,2,16.78,2,1.082,2,-999,9,7.7133,2,25,-999,9,-999,9
29AH20160617, OVIDE/BOCATS,64,1,10,20160709,1354,58.4108,-30.1042,2178,1000,2,4.1472,34.9281,2,34.9265,2,270,2,269.1,2,10.57,2,16.92,2,1.087,2,-999,9,7.7071,2,25,-999,9,-999,9
29AH20160617, OVIDE/BOCATS,64,1,11,20160709,1354,58.4108,-30.1042,2178,900,2,4.3586,34.943,2,34.9422,2,264.9,2,264.9,2,10.65,2,17.04,2,1.097,2,-999,9,7.7119,2,25,-999,9,-999,9
29AH20160617, OVIDE/BOCATS,64,1,12,20160709,1354,58.4108,-30.1042,2178,798.6,2,4.6122,34.9602,2,34.9641,4,258.8,2,258.2,2,10.61,2,17.34,2,1.112,2,-999,9,7.6987,2,25,-999,9,-999,9
29AH20160617, OVIDE/BOCATS,64,1,13,20160709,1354,58.4108,-30.1042,2178,699.8,2,4.9593,34.9799,2,34.9798,2,250.1,2,250.4,2,10.57,2,17.61,2,1.123,2,-999,9,7.7027,2,25,-999,9,-999,9
29AH20160617, OVIDE/BOCATS,64,1,14,20160709,1354,58.4108,-30.1042,2178,600.1,2,5.459,35.0112,2,35.0127,2,247.4,2,246.2,2,10.49,2,17.48,2,1.118,2,-999,9,7.7072,2,25,-999,9,-999,9
29AH20160617, OVIDE/BOCATS,64,1,15,20160709,1354,58.4108,-30.1042,2178,499.7,2,5.8814,35.018,2,35.0167,2,253.2,2,253.1,2,9.58,2,16.84,2,1.067,2,-999,9,7.7143,2,25,-999,9,-999,9
29AH20160617, OVIDE/BOCATS,64,1,16,20160709,1354,58.4108,-30.1042,2178,399.6,2,6.0505,34.9891,2,34.9884,2,271.9,2,270.4,2,8.17,2,15.65,2,0.993,2,-999,9,7.7248,2,25,-999,9,-999,9
29AH20160617, OVIDE/BOCATS,64,1,17,20160709,1354,58.4108,-30.1042,2178,299.7,2,5.8888,34.9156,2,34.915,2,269.8,2,268,2,8.48,2,15.64,2,1.01,2,-999,9,7.7283,2,25,-999,9,-999,9
29AH20160617, OVIDE/BOCATS,64,1,18,20160709,1354,58.4108,-30.1042,2178,199.3,2,5.8553,34.8459,2,34.8447,2,280.4,2,279.3,2,8.07,2,14.93,2,0.966,2,-999,9,7.7409,2,25,-999,9,-999,9
29AH20160617, OVIDE/BOCATS,64,1,19,20160709,1354,58.4108,-30.1042,2178,149.4,2,6.1321,34.8478,2,34.8466,2,278.9,2,-999,9,8.29,2,14.93,2,0.96,2,-999,9,7.7373,2,25,-999,9,-999,9
29AH20160617, OVIDE/BOCATS,64,1,20,20160709,1354,58.4108,-30.1042,2178,100.2,2,6.4218,34.8251,2,34.8253,2,278,2,276.3,2,8.15,2,14.62,2,0.944,2,-999,9,7.7299,2,25,-999,9,-999,9
29AH20160617, OVIDE/BOCATS,64,1,21,20160709,1354,58.4108,-30.1042,2178,49.2,2,9.2764,34.7581,2,34.7571,2,280.2,2,280.6,2,2.58,2,6.45,2,0.521,2,-999,9,7.8664,2,25,-999,9,-999,9
29AH20160617, OVIDE/BOCATS,64,1,22,20160709,1354,58.4108,-30.1042,2178,4.5,2,10.2659,34.7515,2,34.7494,2,284,2,284.3,2,1.91,2,5.15,2,0.394,2,-999,9,7.8763,2,25,-999,9,-999,9
29AH20160617, OVIDE/BOCATS,65,1,3,20160709,1820,58.5493,-30.3665,1615,1623.6,2,3.6744,34.9826,2,34.9845,2,273.7,2,273.8,2,11.28,2,16.03,2,1.029,2,2307.7,2,7.7179,2,25,1.7163,2,1.4016,2
29AH20160617, OVIDE/BOCATS,65,1,5,20160709,1820,58.5493,-30.3665,1615,1499.7,2,3.7326,34.9852,2,34.9859,2,273.8,2,273.9,2,11.03,2,15.97,2,1.021,2,-999,9,7.7206,2,25,-999,9,-999,9
29AH20160617, OVIDE/BOCATS,65,1,6,20160709,1820,58.5493,-30.3665,1615,1400,2,3.832,34.9823,2,34.9827,2,272.7,2,272.7,2,10.98,2,16.2,2,1.038,2,2307.1,2,7.7191,2,25,-999,9,-999,9
29AH20160617, OVIDE/BOCATS,65,1,7,20160709,1820,58.5493,-30.3665,1615,1199.9,2,3.9733,34.9569,2,34.9582,2,270.8,2,270,2,11.18,2,16.85,2,1.065,2,2306.9,2,7.718,2,25,-999,9,-999,9
29AH20160617, OVIDE/BOCATS,65,1,8,20160709,1820,58.5493,-30.3665,1615,999.8,2,4.3239,34.9638,2,34.9644,2,266.7,2,267,2,10.86,2,17.04,2,1.085,2,2307.8,2,7.7153,2,25,1.9301,2,1.6079,2
29AH20160617, OVIDE/BOCATS,65,1,9,20160709,1820,58.5493,-30.3665,1615,799.9,2,4.9149,34.9999,2,35.0022,2,254.5,2,254,2,10.73,2,17.41,2,1.109,2,-999,9,7.7063,2,25,-999,9,-999,9
29AH20160617, OVIDE/BOCATS,65,1,10,20160709,1820,58.5493,-30.3665,1615,699.6,2,5.4202,35.0386,2,35.0387,2,248.5,2,248.1,2,10.53,2,17.33,2,1.123,2,2310.5,2,7.709,2,25,-999,9,-999,9
29AH20160617, OVIDE/BOCATS,65,1,11,20160709,1820,58.5493,-30.3665,1615,600.3,2,5.7616,35.0425,2,35.0427,2,247.9,2,245.9,2,10.22,2,17.58,2,1.119,2,2312.4,2,7.7117,2,25,1.8213,2,1.736,2
29AH20160617, OVIDE/BOCATS,65,1,12,20160709,1820,58.5493,-30.3665,1615,509.2,2,6.0469,35.0256,2,35.0259,2,262.5,2,261.9,2,8.97,2,16.34,2,1.037,2,-999,9,7.7282,2,25,1.9774,2,2.2103,2
29AH20160617, OVIDE/BOCATS,65,1,13,20160709,1820,58.5493,-30.3665,1615,399.4,2,6.4047,35.0457,2,35.0451,2,263.1,2,261.5,2,8.54,2,15.91,2,1.023,2,2313.3,2,7.7358,2,25,1.9604,2,2.2385,2
29AH20160617, OVIDE/BOCATS,65,1,14,20160709,1820,58.5493,-30.3665,1615,268.6,2,6.5483,35.0123,2,35.0116,2,275.3,2,274.2,2,7.51,2,14.74,2,1.142,2,2309.1,2,7.7461,2,25,-999,9,-999,9
29AH20160617, OVIDE/BOCATS,65,1,15,20160709,1820,58.5493,-30.3665,1615,180.3,2,6.0862,34.8427,2,34.843,2,280.2,2,278.9,2,8,2,14.97,2,0.985,2,2301.5,2,7.7353,2,25,-999,9,-999,9
29AH20160617, OVIDE/BOCATS,65,1,16,20160709,1820,58.5493,-30.3665,1615,128.8,2,6.5724,34.8395,2,34.8398,2,278.3,2,276.7,2,7.77,2,14.43,2,0.958,2,-999,9,7.7396,2,25,-999,9,-999,9
29AH20160617, OVIDE/BOCATS,65,1,17,20160709,1820,58.5493,-30.3665,1615,87.8,2,7.1965,34.8944,2,34.8941,2,278.1,2,276.6,2,7,2,13.57,2,0.874,2,2304.7,2,7.7525,2,25,-999,9,-999,9
29AH20160617, OVIDE/BOCATS,65,1,18,20160709,1820,58.5493,-30.3665,1615,49,2,8.5993,34.8411,2,34.8427,2,279.1,2,278.9,2,4.12,2,9.47,2,0.658,2,-999,9,7.8149,2,25,-999,9,-999,9
29AH20160617, OVIDE/BOCATS,65,1,19,20160709,1820,58.5493,-30.3665,1615,6,2,10.2438,34.7713,2,34.7717,2,287.3,2,286.9,2,2.22,2,5.53,2,0.399,2,2300.6,2,7.8805,2,25,1.9373,2,2.4319,2