BOTTLE,20230706CCHSIOENA
EXPOCODE,SECT_ID,STNNBR,CASTNO,SAMPNO,DATE,TIME,LATITUDE,LONGITUDE,DEPTH,CTDPRS,CTDPRS_FLAG_W,CTDTMP,CTDSAL,CTDSAL_FLAG_W,SALNTY,SALNTY_FLAG_W,CTDOXY,CTDOXY_FLAG_W,OXYGEN,OXYGEN_FLAG_W,SILCAT,SILCAT_FLAG_W,NITRAT,NITRAT_FLAG_W,PHSPHT,PHSPHT_FLAG_W,ALKALI,ALKALI_FLAG_W,PH_SWS,PH_SWS_FLAG_W,PH_TMP,CFC-12,CFC-12_FLAG_W,SF6,SF6_FLAG_W
,,,,,,,,,METERS,DBAR,,DEG C,PSS-78,,PSS-78,,UMOL/KG,,UMOL/KG,,UMOL/KG,,UMOL/KG,,UMOL/KG,,UMOL/KG,,,,DEG C,PMOL/KG,,FMOL/KG,
29AH20160617, OVIDE/BOCATS,34,1,3,20160701,1553,47.6625,-20.5599,4349,4418.7,2,2.5436,34.9046,2,34.9052,2,240.6,2,240.9,2,45.89,2,21.93,2,1.522,2,-999,9,7.7387,2,25,-999,9,-999,9
29AH20160617, OVIDE/BOCATS,34,1,4,20160701,1553,47.6625,-20.5599,4349,3998.7,2,2.5553,34.9107,2,34.9106,2,241.8,2,242,2,43.47,2,21.66,2,1.516,2,-999,9,7.7401,2,25,-999,9,-999,9
29AH20160617, OVIDE/BOCATS,34,1,5,20160701,1553,47.6625,-20.5599,4349,3748.6,2,2.5785,34.9155,2,34.9163,2,243.5,2,244.1,2,41.75,2,21.2,2,1.474,2,-999,9,7.7363,2,25,-999,9,-999,9
29AH20160617, OVIDE/BOCATS,34,1,6,20160701,1553,47.6625,-20.5599,4349,3500.9,2,2.6384,34.9233,2,34.9244,2,246.8,2,247.8,2,38.02,2,20.75,2,1.382,2,-999,9,7.7382,2,25,-999,9,-999,9
29AH20160617, OVIDE/BOCATS,34,1,7,20160701,1553,47.6625,-20.5599,4349,3248.5,2,2.7687,34.9352,2,34.9321,4,253.1,2,254.1,2,30.9,2,19.4,2,1.277,2,-999,9,7.7355,2,25,-999,9,-999,9
29AH20160617, OVIDE/BOCATS,34,1,8,20160701,1553,47.6625,-20.5599,4349,2999.7,2,2.9022,34.9413,2,34.9416,2,258.8,2,259.2,2,25.78,2,18.59,2,1.221,2,-999,9,7.7331,2,25,-999,9,-999,9
29AH20160617, OVIDE/BOCATS,34,1,9,20160701,1553,47.6625,-20.5599,4349,2749.5,2,3.0641,34.9389,2,34.9401,2,265.6,2,267.9,2,19.33,2,17.57,2,1.139,2,-999,9,7.7298,2,25,-999,9,-999,9
29AH20160617, OVIDE/BOCATS,34,1,10,20160701,1553,47.6625,-20.5599,4349,2500.5,2,3.2291,34.9306,2,34.9323,2,269.5,2,271.1,2,15.64,2,17.3,2,1.131,2,-999,9,7.732,2,25,-999,9,-999,9
29AH20160617, OVIDE/BOCATS,34,1,11,20160701,1553,47.6625,-20.5599,4349,2249.8,2,3.4211,34.9237,2,34.9253,2,270.5,2,271.8,2,13.16,2,17.03,2,1.095,2,-999,9,7.7283,2,25,-999,9,-999,9
29AH20160617, OVIDE/BOCATS,34,1,12,20160701,1553,47.6625,-20.5599,4349,1998.7,2,3.6783,34.9305,2,34.9351,4,268.9,2,271.5,2,12.22,2,17.02,2,1.097,2,-999,9,7.7247,2,25,-999,9,-999,9
29AH20160617, OVIDE/BOCATS,34,1,13,20160701,1553,47.6625,-20.5599,4349,1799.1,2,3.8982,34.9347,2,34.935,2,268.2,2,273,4,11.13,2,17.07,2,1.101,2,-999,9,7.719,2,25,-999,9,-999,9
29AH20160617, OVIDE/BOCATS,34,1,14,20160701,1553,47.6625,-20.5599,4349,1600.2,2,4.1997,34.9536,2,34.9545,2,265.8,2,265.8,2,10.94,2,17.12,2,1.106,2,-999,9,7.712,2,25,-999,9,-999,9
29AH20160617, OVIDE/BOCATS,34,1,15,20160701,1553,47.6625,-20.5599,4349,1399.1,2,4.4872,34.9682,2,34.9698,2,263.2,2,263.3,2,10.46,2,17.26,2,1.103,2,-999,9,7.7128,2,25,-999,9,-999,9
29AH20160617, OVIDE/BOCATS,34,1,16,20160701,1553,47.6625,-20.5599,4349,1198.3,2,5.131,35.0261,2,35.0271,2,250,2,249.5,2,10.54,2,17.58,2,1.117,2,-999,9,7.7116,2,25,-999,9,-999,9
29AH20160617, OVIDE/BOCATS,34,1,17,20160701,1553,47.6625,-20.5599,4349,999.2,2,6.4733,35.1624,2,35.163,2,224.7,2,224.3,2,10.68,2,17.85,2,1.148,2,-999,9,7.7153,2,25,-999,9,-999,9
29AH20160617, OVIDE/BOCATS,34,1,18,20160701,1553,47.6625,-20.5599,4349,900.5,2,6.515,35.0567,2,35.0564,2,222.3,2,221.9,2,10.77,2,18.29,2,1.173,2,-999,9,7.7054,2,25,-999,9,-999,9
29AH20160617, OVIDE/BOCATS,34,1,19,20160701,1553,47.6625,-20.5599,4349,800.1,2,8.5172,35.2954,2,35.2958,2,203.7,2,203.9,2,9.81,2,17.5,2,1.099,2,-999,9,7.7318,2,25,-999,9,-999,9
29AH20160617, OVIDE/BOCATS,34,1,20,20160701,1553,47.6625,-20.5599,4349,698.2,2,8.9789,35.2406,2,35.2413,2,208.7,2,208.8,2,8.88,2,16.86,2,1.058,2,-999,9,7.7432,2,25,-999,9,-999,9
29AH20160617, OVIDE/BOCATS,34,1,21,20160701,1553,47.6625,-20.5599,4349,599.9,2,9.5949,35.2602,2,35.2614,2,209.7,2,209.6,2,7.84,2,16.01,2,0.989,2,-999,9,7.7572,2,25,-999,9,-999,9
29AH20160617, OVIDE/BOCATS,34,1,22,20160701,1553,47.6625,-20.5599,4349,500.5,2,10.1537,35.2772,2,35.276,2,234.3,2,234.6,2,5.94,2,13.11,2,0.808,2,-999,9,7.7896,2,25,-999,9,-999,9
29AH20160617, OVIDE/BOCATS,34,1,23,20160701,1553,47.6625,-20.5599,4349,400.2,2,10.6062,35.3139,2,35.3141,2,243.1,2,242.5,2,4.88,2,11.49,2,0.733,2,-999,9,7.8101,2,25,-999,9,-999,9
29AH20160617, OVIDE/BOCATS,34,1,24,20160701,1553,47.6625,-20.5599,4349,298.9,2,11.4368,35.4482,2,35.4464,2,241.9,2,241.8,2,4.44,2,10.66,2,0.645,2,-999,9,7.8252,2,25,-999,9,-999,9
29AH20160617, OVIDE/BOCATS,34,1,25,20160701,1553,47.6625,-20.5599,4349,199.8,2,12.0291,35.5398,2,35.5408,2,241.2,2,241,2,3.98,2,10.03,2,0.588,2,-999,9,7.843,2,25,-999,9,-999,9
29AH20160617, OVIDE/BOCATS,34,1,26,20160701,1553,47.6625,-20.5599,4349,148.5,2,12.4983,35.6126,2,35.6114,2,246.3,2,247.3,2,3.2,2,8.22,2,0.486,2,-999,9,7.8633,2,25,-999,9,-999,9
29AH20160617, OVIDE/BOCATS,34,1,27,20160701,1553,47.6625,-20.5599,4349,99.6,2,12.7527,35.644,2,35.6427,2,246,2,247.2,2,2.88,2,7.71,2,0.442,2,-999,9,7.8674,2,25,-999,9,-999,9
29AH20160617, OVIDE/BOCATS,34,1,28,20160701,1553,47.6625,-20.5599,4349,48.8,2,14.6288,35.6754,2,35.6761,2,251.3,2,252.5,2,0.38,2,0.89,2,0.092,2,-999,9,7.9368,2,25,-999,9,-999,9
29AH20160617, OVIDE/BOCATS,34,1,29,20160701,1553,47.6625,-20.5599,4349,5.4,2,15.6575,35.6185,2,35.6193,2,259.1,2,259.3,2,0.77,2,2.69,2,0.202,2,-999,9,7.9755,2,25,-999,9,-999,9
29AH20160617, OVIDE/BOCATS,34,1,30,20160701,1553,47.6625,-20.5599,4349,5.4,2,15.6602,35.6184,2,35.6211,4,259.1,2,259.4,2,0.36,2,0.92,2,0.085,2,-999,9,-999.0,9,25,-999,9,-999,9
29AH20160617, OVIDE/BOCATS,35,1,3,20160701,2208,48.0367,-20.852,4457,4527.5,2,2.5506,34.9039,2,34.9025,2,240.6,2,240.3,2,45.11,2,22.06,2,1.5,2,2355.3,2,7.7386,2,25,0.0361,2,-999,9
29AH20160617, OVIDE/BOCATS,35,1,4,20160701,2208,48.0367,-20.852,4457,4000.5,2,2.5866,34.9136,2,34.9118,2,242.9,2,243.1,2,41.65,2,21.6,2,1.446,2,2347.6,2,7.7368,2,25,-999,9,-999,9
29AH20160617, OVIDE/BOCATS,35,1,5,20160701,2208,48.0367,-20.852,4457,3747.1,2,2.6116,34.9185,2,34.9196,2,244.6,2,244.5,2,39.06,2,21.06,2,1.426,2,2344.5,2,7.7375,2,25,-999,9,-999,9
29AH20160617, OVIDE/BOCATS,35,1,6,20160701,2208,48.0367,-20.852,4457,3499.2,2,2.671,34.9261,2,34.925,2,248,2,248.1,2,35.26,2,20.45,2,1.375,2,2339.9,2,7.7327,2,25,-999,9,-999,9
29AH20160617, OVIDE/BOCATS,35,1,7,20160701,2208,48.0367,-20.852,4457,3249.8,2,2.7732,34.9354,2,34.9352,2,253.4,2,253.2,2,30.13,2,19.37,2,1.306,2,-999,9,7.7336,2,25,-999,9,-999,9
29AH20160617, OVIDE/BOCATS,35,1,8,20160701,2208,48.0367,-20.852,4457,3001.2,2,2.9117,34.9418,2,34.944,2,260,2,260.2,2,23.93,2,18.53,2,1.221,2,2325.3,2,7.7318,2,25,0.7753,2,0.4482,2
29AH20160617, OVIDE/BOCATS,35,1,9,20160701,2208,48.0367,-20.852,4457,2749.1,2,3.0554,34.9385,2,34.9389,2,265.9,2,265.9,2,18.83,2,17.61,2,1.15,2,2317.2,2,7.7306,2,25,-999,9,-999,9
29AH20160617, OVIDE/BOCATS,35,1,10,20160701,2208,48.0367,-20.852,4457,2500.2,2,3.1958,34.9314,2,34.9308,2,270.6,2,270.9,2,14.73,2,16.97,2,1.114,2,2311.3,2,7.7247,2,25,-999,9,-999,9
29AH20160617, OVIDE/BOCATS,35,1,11,20160701,2208,48.0367,-20.852,4457,2249.4,2,3.4385,34.9309,2,34.9321,2,269.1,2,269,2,14.16,2,17.35,2,1.141,2,2309.5,2,7.727,2,25,-999,9,-999,9
29AH20160617, OVIDE/BOCATS,35,1,12,20160701,2208,48.0367,-20.852,4457,2000.1,2,3.6766,34.9289,2,34.9294,2,269.1,2,269.2,2,12.23,2,17.34,2,1.118,2,2307.8,2,7.7193,2,25,1.4839,2,0.7687,2
29AH20160617, OVIDE/BOCATS,35,1,13,20160701,2208,48.0367,-20.852,4457,1801.5,2,3.9058,34.9297,2,34.9312,2,268.9,2,268.7,2,11.18,2,17.28,2,1.119,2,2308.4,2,7.7117,2,25,1.7324,2,-999,9
29AH20160617, OVIDE/BOCATS,35,1,14,20160701,2208,48.0367,-20.852,4457,1597.5,2,4.1899,34.9444,2,34.9456,2,267.1,2,266.7,2,10.77,2,17.2,2,1.213,2,2305.3,2,7.7079,2,25,1.8616,2,1.3101,2
29AH20160617, OVIDE/BOCATS,35,1,15,20160701,2208,48.0367,-20.852,4457,1401.6,2,4.5795,34.9754,2,34.9766,2,261.7,2,260.8,2,10.44,2,17.32,2,1.171,2,2306.8,2,7.7088,2,25,-999,9,-999,9
29AH20160617, OVIDE/BOCATS,35,1,16,20160701,2208,48.0367,-20.852,4457,1201,2,5.5835,35.1026,2,35.1023,2,241.2,2,240.7,2,10.59,2,17.72,2,1.19,2,2314.9,2,7.7083,2,25,1.6462,2,1.2706,2
29AH20160617, OVIDE/BOCATS,35,1,17,20160701,2208,48.0367,-20.852,4457,1201.8,2,5.5846,35.1026,2,35.1034,2,241.2,2,240.4,2,10.6,2,17.91,2,1.182,2,-999,9,-999.0,9,25,1.6487,2,1.3492,2
29AH20160617, OVIDE/BOCATS,35,1,18,20160701,2208,48.0367,-20.852,4457,1002.8,2,6.4255,35.1291,2,35.1295,2,224,2,224.3,2,10.77,2,18.06,2,1.201,2,-999,9,7.7062,2,25,1.5178,2,1.3474,2
29AH20160617, OVIDE/BOCATS,35,1,19,20160701,2208,48.0367,-20.852,4457,898.6,2,7.4944,35.2092,2,35.2094,2,206.8,2,206,2,10.72,2,18.6,2,1.22,2,2322.2,2,7.7089,2,25,-999,9,-999,9
29AH20160617, OVIDE/BOCATS,35,1,20,20160701,2208,48.0367,-20.852,4457,801.6,2,8.3228,35.2385,2,35.2388,2,202.2,2,203,2,10,2,18.04,2,1.174,2,2323.8,2,7.7218,2,25,1.3617,2,1.1703,2
29AH20160617, OVIDE/BOCATS,35,1,21,20160701,2208,48.0367,-20.852,4457,699.7,2,8.9381,35.2217,2,35.2221,2,202,2,201,2,9.15,2,17.75,2,1.147,2,2321.7,2,7.7325,2,25,-999,9,-999,9
29AH20160617, OVIDE/BOCATS,35,1,22,20160701,2208,48.0367,-20.852,4457,601.1,2,9.7734,35.2806,2,35.2823,2,217,2,217,2,7.4,2,15.24,2,0.999,2,-999,9,7.7609,2,25,1.5302,2,1.6815,2
29AH20160617, OVIDE/BOCATS,35,1,23,20160701,2208,48.0367,-20.852,4457,501.9,2,10.4805,35.3505,2,35.3502,2,233.1,2,232.9,2,5.57,2,12.88,2,0.818,2,2327.4,2,7.7928,2,25,-999,9,-999,9
29AH20160617, OVIDE/BOCATS,35,1,24,20160701,2208,48.0367,-20.852,4457,400.3,2,11.1375,35.4392,2,35.4399,2,234.3,2,233.5,2,4.89,2,11.72,2,0.735,2,2332.4,2,7.8104,2,25,1.6447,2,1.9063,2
29AH20160617, OVIDE/BOCATS,35,1,25,20160701,2208,48.0367,-20.852,4457,300.2,2,11.5821,35.4844,2,35.4841,2,233.2,2,-999,9,4.39,2,10.81,2,0.682,2,-999,9,7.8254,2,25,-999,9,-999,9
29AH20160617, OVIDE/BOCATS,35,1,26,20160701,2208,48.0367,-20.852,4457,198.6,2,11.9165,35.5303,2,35.5297,2,246.4,2,246.8,2,3.57,2,9.12,2,0.565,2,2335.8,2,7.8461,2,25,1.6778,2,2.1296,2
29AH20160617, OVIDE/BOCATS,35,1,27,20160701,2208,48.0367,-20.852,4457,148.8,2,12.1744,35.5605,2,35.5599,2,247.1,2,246.5,2,3.16,2,8.82,2,0.544,2,-999,9,7.8521,2,25,-999,9,-999,9
29AH20160617, OVIDE/BOCATS,35,1,28,20160701,2208,48.0367,-20.852,4457,100.6,2,12.4495,35.5971,2,35.5965,2,246.5,2,246.9,2,2.68,2,8.19,2,0.501,2,2337.9,2,7.8575,2,25,-999,9,-999,9
29AH20160617, OVIDE/BOCATS,35,1,29,20160701,2208,48.0367,-20.852,4457,50.2,2,13.0091,35.6024,2,35.6025,2,248.9,2,248.3,2,1.03,2,5.29,2,0.414,2,-999,9,7.8821,2,25,-999,9,-999,9
29AH20160617, OVIDE/BOCATS,35,1,30,20160701,2208,48.0367,-20.852,4457,5.7,2,15.3266,35.6361,2,35.6359,2,258.8,2,259,2,0.35,2,1.08,2,0.12,2,2346.2,2,7.9646,2,25,1.5307,2,2.1561,2
29AH20160617, OVIDE/BOCATS,36,1,3,20160702,410,48.4099,-21.1409,4338,4405.5,2,2.5262,34.9032,2,34.9028,2,240.7,2,240.7,2,45.57,2,22.04,2,1.513,2,-999,9,7.7406,2,25,-999,9,-999,9
29AH20160617, OVIDE/BOCATS,36,1,4,20160702,410,48.4099,-21.1409,4338,4000.2,2,2.5592,34.911,2,34.9101,2,241.8,2,242.1,2,42.56,2,21.78,2,1.477,2,-999,9,7.741,2,25,-999,9,-999,9
29AH20160617, OVIDE/BOCATS,36,1,5,20160702,410,48.4099,-21.1409,4338,3746.1,2,2.598,34.9171,2,34.9155,2,244.1,2,244.1,2,40.4,2,21.13,2,1.425,2,-999,9,7.7393,2,25,-999,9,-999,9
29AH20160617, OVIDE/BOCATS,36,1,6,20160702,410,48.4099,-21.1409,4338,3500.4,2,2.6756,34.9263,2,34.9253,2,247.9,2,248.2,2,36.01,2,20.64,2,1.38,2,-999,9,7.7372,2,25,-999,9,-999,9
29AH20160617, OVIDE/BOCATS,36,1,7,20160702,410,48.4099,-21.1409,4338,3247.1,2,2.7923,34.9357,2,34.9352,2,251,2,251.5,2,32,2,19.82,2,1.327,2,-999,9,7.7431,2,25,-999,9,-999,9
29AH20160617, OVIDE/BOCATS,36,1,8,20160702,410,48.4099,-21.1409,4338,3000,2,2.9535,34.9423,2,34.9429,2,257.5,2,257.7,2,25.56,2,18.84,2,1.253,2,-999,9,7.7321,2,25,-999,9,-999,9
29AH20160617, OVIDE/BOCATS,36,1,9,20160702,410,48.4099,-21.1409,4338,2749.6,2,3.1434,34.9381,2,34.9383,2,264.8,2,265.3,2,18.9,2,17.78,2,1.18,2,-999,9,7.7359,2,25,-999,9,-999,9
29AH20160617, OVIDE/BOCATS,36,1,10,20160702,410,48.4099,-21.1409,4338,2498.7,2,3.3074,34.9268,2,34.9278,2,271.3,2,272.4,2,13.61,2,17.08,2,1.1,2,-999,9,7.7241,2,25,-999,9,-999,9
29AH20160617, OVIDE/BOCATS,36,1,11,20160702,410,48.4099,-21.1409,4338,2245.2,2,3.4523,34.9216,2,34.9218,2,271.1,2,271.8,2,12.78,2,17.04,2,1.117,2,-999,9,7.7323,2,25,-999,9,-999,9
29AH20160617, OVIDE/BOCATS,36,1,12,20160702,410,48.4099,-21.1409,4338,1998.8,2,3.6776,34.9231,2,34.9242,2,270.2,2,270.8,2,11.73,2,17.33,2,1.119,2,-999,9,7.7266,2,25,-999,9,-999,9
29AH20160617, OVIDE/BOCATS,36,1,13,20160702,410,48.4099,-21.1409,4338,1800.9,2,3.8547,34.9232,2,34.9243,2,270.1,2,270.6,2,11.17,2,17.19,2,1.119,2,-999,9,7.7157,2,25,-999,9,-999,9
29AH20160617, OVIDE/BOCATS,36,1,14,20160702,410,48.4099,-21.1409,4338,1607.9,2,4.1552,34.9513,2,34.9515,2,267,2,267.1,2,10.85,2,17.18,2,1.122,2,-999,9,7.7157,2,25,-999,9,-999,9
29AH20160617, OVIDE/BOCATS,36,1,15,20160702,410,48.4099,-21.1409,4338,1400.1,2,4.3021,34.941,2,34.9424,2,267.7,2,267.9,2,10.18,2,17.14,2,1.122,2,-999,9,7.7143,2,25,-999,9,-999,9
29AH20160617, OVIDE/BOCATS,36,1,16,20160702,410,48.4099,-21.1409,4338,1198.9,2,5.0731,35.0197,2,35.0224,2,250.7,2,250,2,10.43,2,17.68,2,1.14,2,-999,9,7.7104,2,25,-999,9,-999,9
29AH20160617, OVIDE/BOCATS,36,1,17,20160702,410,48.4099,-21.1409,4338,999.8,2,7.1786,35.2839,2,35.2823,2,215.5,2,215.3,2,10.65,2,18.12,2,1.153,2,-999,9,7.7217,2,25,-999,9,-999,9
29AH20160617, OVIDE/BOCATS,36,1,18,20160702,410,48.4099,-21.1409,4338,901.8,2,7.3229,35.1985,2,35.1989,2,210.1,2,209.4,2,10.59,2,18.34,2,1.175,2,-999,9,7.7146,2,25,-999,9,-999,9
29AH20160617, OVIDE/BOCATS,36,1,19,20160702,410,48.4099,-21.1409,4338,797.3,2,7.7915,35.1555,2,35.1564,2,206.2,2,205.6,2,10.15,2,18.23,2,1.175,2,-999,9,7.7187,2,25,-999,9,-999,9
29AH20160617, OVIDE/BOCATS,36,1,20,20160702,410,48.4099,-21.1409,4338,700.2,2,8.825,35.2107,2,35.2104,2,201.9,2,202.5,2,9.05,2,17.39,2,1.112,2,-999,9,7.7321,2,25,-999,9,-999,9
29AH20160617, OVIDE/BOCATS,36,1,21,20160702,410,48.4099,-21.1409,4338,600.6,2,9.4248,35.2191,2,35.2192,2,213.7,2,214.3,2,7.49,2,15.75,2,1.001,2,-999,9,7.7545,2,25,-999,9,-999,9
29AH20160617, OVIDE/BOCATS,36,1,22,20160702,410,48.4099,-21.1409,4338,498.5,2,10.3057,35.3116,2,35.3111,2,229.4,2,228.7,2,5.49,2,13.12,2,0.845,2,-999,9,7.7863,2,25,-999,9,-999,9
29AH20160617, OVIDE/BOCATS,36,1,23,20160702,410,48.4099,-21.1409,4338,399.8,2,11.0081,35.3929,2,35.3935,2,235.7,2,235.4,2,4.33,2,11.44,2,0.71,2,-999,9,7.8133,2,25,-999,9,-999,9
29AH20160617, OVIDE/BOCATS,36,1,24,20160702,410,48.4099,-21.1409,4338,302.2,2,11.5823,35.4721,2,35.4726,2,248.6,2,248.9,2,3.34,2,9.31,2,0.595,2,-999,9,7.8381,2,25,-999,9,-999,9
29AH20160617, OVIDE/BOCATS,36,1,25,20160702,410,48.4099,-21.1409,4338,199.7,2,12.0605,35.5487,2,35.5488,2,241.2,2,240.5,2,3.45,2,9.58,2,0.599,2,-999,9,7.8413,2,25,-999,9,-999,9
29AH20160617, OVIDE/BOCATS,36,1,26,20160702,410,48.4099,-21.1409,4338,149,2,12.505,35.6182,2,35.6157,4,244.7,2,244.8,2,2.94,2,8.46,2,0.531,2,-999,9,7.8512,2,25,-999,9,-999,9
29AH20160617, OVIDE/BOCATS,36,1,27,20160702,410,48.4099,-21.1409,4338,98.1,2,13.0426,35.7074,2,35.7058,2,241.5,2,241.6,2,2.51,2,8.18,2,0.488,2,-999,9,7.8657,2,25,-999,9,-999,9
29AH20160617, OVIDE/BOCATS,36,1,28,20160702,410,48.4099,-21.1409,4338,50.8,2,14.4785,35.6708,2,35.6726,2,250.8,2,250.2,2,0.63,2,3.02,2,0.225,2,-999,9,7.9247,2,25,-999,9,-999,9
29AH20160617, OVIDE/BOCATS,36,1,29,20160702,410,48.4099,-21.1409,4338,5.4,2,15.2165,35.6192,2,35.6199,2,257.9,2,258.3,2,0.26,2,1.05,2,0.104,2,-999,9,7.9599,2,25,-999,9,-999,9
29AH20160617, OVIDE/BOCATS,36,1,30,20160702,410,48.4099,-21.1409,4338,5.8,2,15.2174,35.6192,2,35.6188,2,257.9,2,258,2,-999,9,-999,9,-999,9,-999,9,-999.0,9,25,-999,9,-999,9