BOTTLE,20230706CCHSIOENA
EXPOCODE,SECT_ID,STNNBR,CASTNO,SAMPNO,DATE,TIME,LATITUDE,LONGITUDE,DEPTH,CTDPRS,CTDPRS_FLAG_W,CTDTMP,CTDSAL,CTDSAL_FLAG_W,SALNTY,SALNTY_FLAG_W,CTDOXY,CTDOXY_FLAG_W,OXYGEN,OXYGEN_FLAG_W,SILCAT,SILCAT_FLAG_W,NITRAT,NITRAT_FLAG_W,PHSPHT,PHSPHT_FLAG_W,ALKALI,ALKALI_FLAG_W,PH_SWS,PH_SWS_FLAG_W,PH_TMP,CFC-12,CFC-12_FLAG_W,SF6,SF6_FLAG_W
,,,,,,,,,METERS,DBAR,,DEG C,PSS-78,,PSS-78,,UMOL/KG,,UMOL/KG,,UMOL/KG,,UMOL/KG,,UMOL/KG,,UMOL/KG,,,,DEG C,PMOL/KG,,FMOL/KG,
29AH20160617, OVIDE/BOCATS,119,1,3,20160723,1822,58.9706,-32.0975,1699,1712,2,3.6254,34.9583,2,34.958,2,272.8,2,272.6,2,-999,9,-999,9,-999,9,-999,9,-999.0,9,25,-999,9,-999,9
29AH20160617, OVIDE/BOCATS,119,1,4,20160723,1822,58.9706,-32.0975,1699,1600,2,3.7144,34.9644,2,34.9619,2,272.2,2,271.7,2,-999,9,-999,9,-999,9,-999,9,-999.0,9,25,-999,9,-999,9
29AH20160617, OVIDE/BOCATS,119,1,5,20160723,1822,58.9706,-32.0975,1699,1399.8,2,3.7747,34.9691,2,34.9679,2,272,2,271.8,2,-999,9,-999,9,-999,9,-999,9,-999.0,9,25,-999,9,-999,9
29AH20160617, OVIDE/BOCATS,119,1,6,20160723,1822,58.9706,-32.0975,1699,1197.5,2,3.8181,34.9685,2,34.9675,2,272.2,2,271.3,2,-999,9,-999,9,-999,9,-999,9,-999.0,9,25,-999,9,-999,9
29AH20160617, OVIDE/BOCATS,119,1,7,20160723,1822,58.9706,-32.0975,1699,1000.9,2,3.8914,34.9559,2,34.955,2,273,2,272.6,2,-999,9,-999,9,-999,9,-999,9,-999.0,9,25,-999,9,-999,9
29AH20160617, OVIDE/BOCATS,119,1,8,20160723,1822,58.9706,-32.0975,1699,777.2,2,4.0216,34.9335,2,34.932,2,275.2,2,274.2,2,-999,9,-999,9,-999,9,-999,9,-999.0,9,25,-999,9,-999,9
29AH20160617, OVIDE/BOCATS,119,1,9,20160723,1822,58.9706,-32.0975,1699,620.2,2,4.451,34.9644,2,34.9638,2,265.6,2,264,2,-999,9,-999,9,-999,9,-999,9,-999.0,9,25,-999,9,-999,9
29AH20160617, OVIDE/BOCATS,119,1,10,20160723,1822,58.9706,-32.0975,1699,501.2,2,4.4353,34.9393,2,34.9388,2,270.5,2,271.9,2,-999,9,-999,9,-999,9,-999,9,-999.0,9,25,-999,9,-999,9
29AH20160617, OVIDE/BOCATS,119,1,11,20160723,1822,58.9706,-32.0975,1699,400.2,2,4.6475,34.9492,2,34.9456,4,272.8,2,272.3,2,-999,9,-999,9,-999,9,-999,9,-999.0,9,25,-999,9,-999,9
29AH20160617, OVIDE/BOCATS,119,1,12,20160723,1822,58.9706,-32.0975,1699,299.6,2,4.7051,34.9306,2,34.9332,2,274.8,2,277.4,2,-999,9,-999,9,-999,9,-999,9,-999.0,9,25,-999,9,-999,9
29AH20160617, OVIDE/BOCATS,119,1,13,20160723,1822,58.9706,-32.0975,1699,199.7,2,4.818,34.9166,2,34.9161,2,290.3,2,288.9,2,-999,9,-999,9,-999,9,-999,9,-999.0,9,25,-999,9,-999,9
29AH20160617, OVIDE/BOCATS,119,1,14,20160723,1822,58.9706,-32.0975,1699,120,2,5.2332,34.9143,2,34.9137,2,292.2,2,290.6,2,-999,9,-999,9,-999,9,-999,9,-999.0,9,25,-999,9,-999,9
29AH20160617, OVIDE/BOCATS,119,1,15,20160723,1822,58.9706,-32.0975,1699,40.7,2,8.4641,34.7683,2,34.7709,2,289.8,2,289.8,2,-999,9,-999,9,-999,9,-999,9,-999.0,9,25,-999,9,-999,9
29AH20160617, OVIDE/BOCATS,119,1,16,20160723,1822,58.9706,-32.0975,1699,5.5,2,9.6143,34.7401,2,34.7457,4,292.7,2,294.2,2,-999,9,-999,9,-999,9,-999,9,-999.0,9,25,-999,9,-999,9
29AH20160617, OVIDE/BOCATS,120,1,3,20160724,128,58.8451,-31.2687,1454,1463.5,2,4.0626,34.9883,2,34.9891,2,270.7,2,270.2,2,10.62,2,16.12,2,1.053,2,-999,9,7.7187,2,25,-999,9,-999,9
29AH20160617, OVIDE/BOCATS,120,1,4,20160724,128,58.8451,-31.2687,1454,1399.5,2,4.058,34.9884,2,34.9874,2,270.7,2,270.5,2,10.62,2,16.25,2,1.057,2,-999,9,7.7203,2,25,-999,9,-999,9
29AH20160617, OVIDE/BOCATS,120,1,5,20160724,128,58.8451,-31.2687,1454,1199.9,2,4.0498,34.9877,2,34.9898,2,270.8,2,-999,9,10.38,2,16.22,2,1.056,2,-999,9,7.7194,2,25,-999,9,-999,9
29AH20160617, OVIDE/BOCATS,120,1,6,20160724,128,58.8451,-31.2687,1454,999.2,2,4.2471,34.9794,2,34.9797,2,268.6,2,267.8,2,10.3,2,16.55,2,1.076,2,-999,9,7.7168,2,25,-999,9,-999,9
29AH20160617, OVIDE/BOCATS,120,1,7,20160724,128,58.8451,-31.2687,1454,798.9,2,5.0557,35.0216,2,35.0229,2,256,2,255.6,2,10.07,2,17.02,2,1.095,2,-999,9,7.7124,2,25,-999,9,-999,9
29AH20160617, OVIDE/BOCATS,120,1,8,20160724,128,58.8451,-31.2687,1454,647.9,2,5.679,35.044,2,35.0434,2,247.3,2,246.1,2,10.07,2,17.4,2,1.121,2,-999,9,7.711,2,25,-999,9,-999,9
29AH20160617, OVIDE/BOCATS,120,1,9,20160724,128,58.8451,-31.2687,1454,498.9,2,6.286,35.0577,2,35.0599,2,260.7,2,260.7,2,8.52,2,16.18,2,1.042,2,-999,9,7.731,2,25,-999,9,-999,9
29AH20160617, OVIDE/BOCATS,120,1,10,20160724,128,58.8451,-31.2687,1454,398.9,2,6.5955,35.0736,2,35.0778,4,272.9,2,273.3,2,7.42,2,15.08,2,0.973,2,-999,9,7.7487,2,25,-999,9,-999,9
29AH20160617, OVIDE/BOCATS,120,1,11,20160724,128,58.8451,-31.2687,1454,300.1,2,7.0302,35.1168,2,35.1157,2,276,2,276.6,2,6.74,2,14.27,2,0.922,2,-999,9,7.7622,2,25,-999,9,-999,9
29AH20160617, OVIDE/BOCATS,120,1,12,20160724,128,58.8451,-31.2687,1454,199.8,2,7.1274,35.1053,2,35.1028,2,276.1,2,275.7,2,6.68,2,14.2,2,0.914,2,-999,9,7.761,2,25,-999,9,-999,9
29AH20160617, OVIDE/BOCATS,120,1,13,20160724,128,58.8451,-31.2687,1454,149.5,2,7.1074,35.0688,2,35.0688,2,276.6,2,276.5,2,6.95,2,14.34,2,0.93,2,-999,9,7.7574,2,25,-999,9,-999,9
29AH20160617, OVIDE/BOCATS,120,1,14,20160724,128,58.8451,-31.2687,1454,109.1,2,6.6635,34.9189,2,34.9209,2,273.8,2,273.3,2,7.47,2,14.69,2,0.963,2,-999,9,7.7425,2,25,-999,9,-999,9
29AH20160617, OVIDE/BOCATS,120,1,15,20160724,128,58.8451,-31.2687,1454,50.4,2,9.3899,34.8374,2,34.846,4,277.4,2,278.6,2,2.76,2,7.62,2,0.543,2,-999,9,7.8434,2,25,-999,9,-999,9
29AH20160617, OVIDE/BOCATS,120,1,16,20160724,128,58.8451,-31.2687,1454,4.7,2,10.2343,34.791,2,34.7916,2,285.5,2,-999,9,2.31,2,5.54,2,0.426,2,-999,9,7.8795,2,25,-999,9,-999,9
29AH20160617, OVIDE/BOCATS,121,1,3,20160724,653,59.05,-30.9527,1303,1303.1,2,4.1352,34.9898,2,34.9893,2,269.9,2,269.8,2,10.49,2,16.21,2,1.059,2,2306.6,2,7.7195,2,25,-999,9,-999,9
29AH20160617, OVIDE/BOCATS,121,1,4,20160724,653,59.05,-30.9527,1303,1197.4,2,4.1392,34.989,2,34.9886,2,269.8,2,269.2,2,10.58,2,16.25,2,1.062,2,2306.2,2,7.7491,2,25,-999,9,-999,9
29AH20160617, OVIDE/BOCATS,121,1,5,20160724,653,59.05,-30.9527,1303,998.4,2,4.3009,34.9906,2,34.9884,2,268,2,267.4,2,10.34,2,16.3,2,1.064,2,2307.8,2,7.7189,2,25,-999,9,-999,9
29AH20160617, OVIDE/BOCATS,121,1,6,20160724,653,59.05,-30.9527,1303,814,2,5.1526,35.0333,2,35.0307,2,255.8,2,255.7,2,10.11,2,16.75,2,1.09,2,-999,9,7.7171,2,25,-999,9,-999,9
29AH20160617, OVIDE/BOCATS,121,1,7,20160724,653,59.05,-30.9527,1303,773.7,2,5.0045,34.9724,2,34.9745,2,265.7,2,264.6,2,9.65,2,16.87,2,1.1,2,2307.2,2,7.7077,2,25,-999,9,-999,9
29AH20160617, OVIDE/BOCATS,121,1,8,20160724,653,59.05,-30.9527,1303,553.7,2,5.921,35.0177,2,35.0153,2,265.4,2,264.6,2,8.71,2,16.2,2,1.058,2,2309.4,2,7.7359,2,25,-999,9,-999,9
29AH20160617, OVIDE/BOCATS,121,1,9,20160724,653,59.05,-30.9527,1303,500.3,2,5.8462,34.9799,2,34.9805,2,281.9,2,282.4,2,7.79,2,15.29,2,1.003,2,-999,9,7.7402,2,25,-999,9,-999,9
29AH20160617, OVIDE/BOCATS,121,1,10,20160724,653,59.05,-30.9527,1303,401.4,2,6.4325,35.0498,2,35.0455,4,278.3,2,280.9,2,7.48,2,14.91,2,0.969,2,2315.8,2,7.7524,2,25,-999,9,-999,9
29AH20160617, OVIDE/BOCATS,121,1,11,20160724,653,59.05,-30.9527,1303,299,2,6.6512,35.0697,2,35.0606,4,278.7,2,279.3,2,7.05,2,14.54,2,1.169,2,-999,9,7.7578,2,25,-999,9,-999,9
29AH20160617, OVIDE/BOCATS,121,1,12,20160724,653,59.05,-30.9527,1303,198.8,2,6.6541,35.0482,2,35.0461,2,279.7,2,279.6,2,6.98,2,14.41,2,0.951,2,2312.6,2,7.756,2,25,-999,9,-999,9
29AH20160617, OVIDE/BOCATS,121,1,13,20160724,653,59.05,-30.9527,1303,149.3,2,6.4883,35.0006,2,35.0045,4,280,2,278.7,2,7.14,2,14.48,2,0.96,2,-999,9,7.7521,2,25,-999,9,-999,9
29AH20160617, OVIDE/BOCATS,121,1,14,20160724,653,59.05,-30.9527,1303,99.9,2,6.2609,34.9189,2,34.9149,4,281.5,2,281.3,2,7.42,2,14.66,2,0.977,2,2305.7,2,7.7439,2,25,-999,9,-999,9
29AH20160617, OVIDE/BOCATS,121,1,15,20160724,653,59.05,-30.9527,1303,54.5,2,7.348,34.8746,2,34.8752,2,280.1,2,279.9,2,5.47,2,12.7,2,0.853,2,-999,9,7.7723,2,25,-999,9,-999,9
29AH20160617, OVIDE/BOCATS,121,1,16,20160724,653,59.05,-30.9527,1303,5,2,9.9546,34.795,2,34.7941,2,287,2,288.9,2,2.15,2,6.02,2,0.444,2,2301.5,2,7.8694,2,25,-999,9,-999,9
29AH20160617, OVIDE/BOCATS,122,1,3,20160724,1006,59.3003,-30.5696,1321,1307.8,2,4.1755,34.9898,2,34.99,2,269.6,2,268.5,2,11.2,2,16.31,2,1.057,2,-999,9,7.7193,2,25,-999,9,-999,9
29AH20160617, OVIDE/BOCATS,122,1,4,20160724,1006,59.3003,-30.5696,1321,1200.3,2,4.1769,34.9892,2,34.9889,2,269.6,2,269.1,2,10.92,2,16.26,2,1.056,2,-999,9,7.72,2,25,-999,9,-999,9
29AH20160617, OVIDE/BOCATS,122,1,5,20160724,1006,59.3003,-30.5696,1321,999.6,2,4.5501,34.9976,2,34.9969,2,265.5,2,265,2,10.52,2,16.62,2,1.078,2,-999,9,7.719,2,25,-999,9,-999,9
29AH20160617, OVIDE/BOCATS,122,1,6,20160724,1006,59.3003,-30.5696,1321,799.9,2,5.3328,35.0336,2,35.0373,4,249.9,2,249.6,2,11.05,2,17.48,2,1.114,2,-999,9,7.7126,2,25,-999,9,-999,9
29AH20160617, OVIDE/BOCATS,122,1,7,20160724,1006,59.3003,-30.5696,1321,600.3,2,6.3066,35.0798,2,35.0792,2,249.4,2,250.5,2,9.93,2,16.81,2,1.069,2,-999,9,7.7274,2,25,-999,9,-999,9
29AH20160617, OVIDE/BOCATS,122,1,8,20160724,1006,59.3003,-30.5696,1321,551.5,2,6.4365,35.068,2,35.0677,2,279.9,2,281.4,2,7.76,2,14.91,2,0.952,2,-999,9,7.7552,2,25,-999,9,-999,9
29AH20160617, OVIDE/BOCATS,122,1,9,20160724,1006,59.3003,-30.5696,1321,377.9,2,6.5421,35.0644,2,35.0639,2,283.1,2,283,2,7.58,2,14.63,2,0.937,2,-999,9,7.7587,2,25,-999,9,-999,9
29AH20160617, OVIDE/BOCATS,122,1,10,20160724,1006,59.3003,-30.5696,1321,301.3,2,6.8488,35.105,2,35.1029,2,272.1,2,273.2,2,7.77,2,14.75,2,0.943,2,-999,9,7.7587,2,25,-999,9,-999,9
29AH20160617, OVIDE/BOCATS,122,1,11,20160724,1006,59.3003,-30.5696,1321,200.4,2,6.7433,35.0392,2,35.0413,2,279.4,2,278.3,2,7.56,2,14.57,2,0.939,2,-999,9,7.7576,2,25,-999,9,-999,9
29AH20160617, OVIDE/BOCATS,122,1,12,20160724,1006,59.3003,-30.5696,1321,149.9,2,7.1801,35.1047,2,35.1043,2,276.3,2,275.4,2,7.3,2,14.22,2,0.914,2,-999,9,7.7681,2,25,-999,9,-999,9
29AH20160617, OVIDE/BOCATS,122,1,13,20160724,1006,59.3003,-30.5696,1321,99.2,2,7.1253,35.0507,2,35.0552,4,275.7,2,275.2,2,7.48,2,14.44,2,0.926,2,-999,9,7.7596,2,25,-999,9,-999,9
29AH20160617, OVIDE/BOCATS,122,1,14,20160724,1006,59.3003,-30.5696,1321,56,2,7.4169,34.8853,2,34.8758,4,279,2,279.5,2,5.25,2,12.15,2,0.811,2,-999,9,7.7809,2,25,-999,9,-999,9
29AH20160617, OVIDE/BOCATS,122,1,15,20160724,1006,59.3003,-30.5696,1321,3.9,2,10.2014,34.8759,2,34.8778,2,288.3,2,289.2,2,2.28,2,4.99,2,0.385,2,-999,9,7.8897,2,25,-999,9,-999,9
29AH20160617, OVIDE/BOCATS,123,1,3,20160724,1315,59.5496,-30.1883,1240,1244.7,2,4.1758,34.984,2,34.9847,2,270.3,2,269.3,2,11.01,2,16.34,2,1.06,2,2306.5,2,7.7207,2,25,-999,9,-999,9
29AH20160617, OVIDE/BOCATS,123,1,4,20160724,1315,59.5496,-30.1883,1240,1200.3,2,4.1715,34.9841,2,34.9839,2,270.1,2,269.2,2,10.79,2,16.25,2,1.062,2,-999,9,7.7211,2,25,-999,9,-999,9
29AH20160617, OVIDE/BOCATS,123,1,5,20160724,1315,59.5496,-30.1883,1240,1000.4,2,4.6893,34.9834,2,34.9829,2,263.4,2,262.6,2,10.43,2,16.86,2,1.092,2,2306.5,2,7.7135,2,25,-999,9,-999,9
29AH20160617, OVIDE/BOCATS,123,1,6,20160724,1315,59.5496,-30.1883,1240,799.5,2,5.5591,35.0129,2,35.0162,4,257.9,2,257.7,2,9.77,2,16.78,2,1.091,2,2309.8,2,7.7174,2,25,-999,9,-999,9
29AH20160617, OVIDE/BOCATS,123,1,7,20160724,1315,59.5496,-30.1883,1240,599.8,2,6.5556,35.0828,2,35.0829,2,281,2,282,2,7.03,2,14.43,2,0.939,2,2314.2,2,7.7594,2,25,-999,9,-999,9
29AH20160617, OVIDE/BOCATS,123,1,8,20160724,1315,59.5496,-30.1883,1240,499.2,2,6.5362,35.0743,2,35.0733,2,283.5,2,283.3,2,7.17,2,14.33,2,0.934,2,-999,9,7.7594,2,25,-999,9,-999,9
29AH20160617, OVIDE/BOCATS,123,1,9,20160724,1315,59.5496,-30.1883,1240,399.5,2,6.4253,35.0404,2,35.0393,2,284.7,2,284.5,2,7.18,2,14.16,2,0.937,2,2315,2,7.7563,2,25,-999,9,-999,9
29AH20160617, OVIDE/BOCATS,123,1,10,20160724,1315,59.5496,-30.1883,1240,299.6,2,6.4845,35.0459,2,35.0456,2,283.9,2,283.5,2,7.16,2,14.38,2,0.932,2,2314.8,2,7.7568,2,25,-999,9,-999,9
29AH20160617, OVIDE/BOCATS,123,1,11,20160724,1315,59.5496,-30.1883,1240,200.6,2,6.6999,35.0662,2,35.0658,2,279.7,2,279.7,2,7.23,2,14.45,2,0.937,2,2313.8,2,7.7582,2,25,-999,9,-999,9
29AH20160617, OVIDE/BOCATS,123,1,12,20160724,1315,59.5496,-30.1883,1240,142,2,7.0852,35.1112,2,35.1099,2,277.2,2,277.2,2,6.91,2,14.04,2,0.911,2,-999,9,7.7649,2,25,-999,9,-999,9
29AH20160617, OVIDE/BOCATS,123,1,13,20160724,1315,59.5496,-30.1883,1240,100.1,2,6.4398,34.9557,2,34.9553,2,276.8,2,277,2,7.74,2,14.79,2,0.971,2,2307.7,2,7.7384,2,25,-999,9,-999,9
29AH20160617, OVIDE/BOCATS,123,1,14,20160724,1315,59.5496,-30.1883,1240,50.1,2,7.4994,34.8597,2,34.8594,2,279.5,2,279.3,2,5.02,2,11.96,2,0.8,2,-999,9,7.7802,2,25,-999,9,-999,9
29AH20160617, OVIDE/BOCATS,123,1,15,20160724,1315,59.5496,-30.1883,1240,3.7,2,10.4968,34.802,2,34.8048,4,288.4,2,290.2,2,2.42,2,5.95,2,0.429,2,2301.1,2,7.8745,2,25,-999,9,-999,9
29AH20160617, OVIDE/BOCATS,124,1,3,20160724,1611,59.8,-29.8062,998,988.6,2,4.5376,34.9945,2,34.9942,2,262.1,2,264,2,10.25,2,16.97,2,1.089,2,-999,9,7.7149,2,25,-999,9,-999,9
29AH20160617, OVIDE/BOCATS,124,1,4,20160724,1611,59.8,-29.8062,998,860.5,2,4.8225,34.9945,2,34.9934,2,259,2,260.8,2,9.79,2,17.05,2,1.099,2,-999,9,7.7115,2,25,-999,9,-999,9
29AH20160617, OVIDE/BOCATS,124,1,5,20160724,1611,59.8,-29.8062,998,661.7,2,5.1772,34.9514,2,34.9508,2,278.4,2,278.5,2,8.42,2,16.57,2,1.056,2,-999,9,7.72,2,25,-999,9,-999,9
29AH20160617, OVIDE/BOCATS,124,1,6,20160724,1611,59.8,-29.8062,998,612.3,2,5.7901,35.0197,2,35.0194,2,261.2,2,263.5,2,8.38,2,16.59,2,1.07,2,-999,9,7.7229,2,25,-999,9,-999,9
29AH20160617, OVIDE/BOCATS,124,1,7,20160724,1611,59.8,-29.8062,998,499.9,2,6.3755,35.0633,2,35.0626,2,276.4,2,279.3,4,7.4,2,15.26,2,0.969,2,-999,9,7.7513,2,25,-999,9,-999,9
29AH20160617, OVIDE/BOCATS,124,1,8,20160724,1611,59.8,-29.8062,998,435.9,2,6.5336,35.0756,2,35.0741,2,279.7,2,282.5,4,6.91,2,14.85,2,0.936,2,-999,9,7.7565,2,25,-999,9,-999,9
29AH20160617, OVIDE/BOCATS,124,1,9,20160724,1611,59.8,-29.8062,998,277,2,6.7093,35.0717,2,35.07,2,279.5,2,279.8,2,6.76,2,14.72,2,0.936,2,-999,9,7.7582,2,25,-999,9,-999,9
29AH20160617, OVIDE/BOCATS,124,1,10,20160724,1611,59.8,-29.8062,998,199.9,2,6.769,35.0613,2,35.0581,4,276.2,2,277.3,2,6.88,2,14.92,2,0.94,2,-999,9,7.7543,2,25,-999,9,-999,9
29AH20160617, OVIDE/BOCATS,124,1,11,20160724,1611,59.8,-29.8062,998,151.5,2,6.5373,34.9974,2,34.9955,2,275.5,2,276.6,2,7.19,2,15.06,2,0.963,2,-999,9,7.7456,2,25,-999,9,-999,9
29AH20160617, OVIDE/BOCATS,124,1,12,20160724,1611,59.8,-29.8062,998,100.5,2,6.5498,34.9647,2,34.9618,4,275.4,2,276.6,2,7.47,2,15,2,0.967,2,-999,9,7.7448,2,25,-999,9,-999,9
29AH20160617, OVIDE/BOCATS,124,1,13,20160724,1611,59.8,-29.8062,998,39.7,2,9.4731,34.8043,2,34.7974,4,277.8,2,284.3,4,2.53,2,6.8,2,0.477,2,-999,9,7.854,2,25,-999,9,-999,9
29AH20160617, OVIDE/BOCATS,124,1,14,20160724,1611,59.8,-29.8062,998,4,2,10.519,34.8049,2,34.8029,2,285.1,2,290.7,4,2.21,2,5.61,2,0.393,2,-999,9,7.881,2,25,-999,9,-999,9
29AH20160617, OVIDE/BOCATS,125,1,3,20160724,2028,60.24,-29.1293,704,693.3,2,5.8545,35.0667,2,35.0654,2,248,2,247.3,2,9.85,2,17.36,2,1.098,2,2310.6,2,7.7215,2,25,-999,9,-999,9
29AH20160617, OVIDE/BOCATS,125,1,4,20160724,2028,60.24,-29.1293,704,601.6,2,6.6611,35.1034,2,35.0951,4,257.5,2,257.9,2,8.36,2,16.22,2,1.022,2,2314,2,7.7425,2,25,-999,9,-999,9
29AH20160617, OVIDE/BOCATS,125,1,5,20160724,2028,60.24,-29.1293,704,499.8,2,6.8816,35.1022,2,35.0981,4,272.3,2,273.3,2,7.1,2,15.04,2,0.951,2,2314.5,2,7.7612,2,25,-999,9,-999,9
29AH20160617, OVIDE/BOCATS,125,1,6,20160724,2028,60.24,-29.1293,704,399.8,2,7.0241,35.111,2,35.1108,2,272.7,2,274.8,2,6.86,2,14.82,2,0.921,2,2313.3,2,7.7637,2,25,-999,9,-999,9
29AH20160617, OVIDE/BOCATS,125,1,7,20160724,2028,60.24,-29.1293,704,297.6,2,7.1827,35.1198,2,35.1185,2,275,2,277.4,2,6.7,2,14.5,2,0.906,2,2313.6,2,7.7675,2,25,-999,9,-999,9
29AH20160617, OVIDE/BOCATS,125,1,8,20160724,2028,60.24,-29.1293,704,199.2,2,7.1414,35.0924,2,35.0904,2,274.2,2,275.9,2,6.87,2,14.59,2,0.923,2,2311.4,2,7.7646,2,25,-999,9,-999,9
29AH20160617, OVIDE/BOCATS,125,1,9,20160724,2028,60.24,-29.1293,704,152.1,2,7.2736,35.1021,2,35.1005,2,274.8,2,-999,9,6.7,2,14.41,2,0.925,2,2312.1,2,7.7662,2,25,-999,9,-999,9
29AH20160617, OVIDE/BOCATS,125,1,10,20160724,2028,60.24,-29.1293,704,87.6,2,7.1573,35.023,2,35.0314,4,274,2,274.8,2,6.51,2,14.3,2,0.909,2,2305.8,2,7.7581,2,25,-999,9,-999,9
29AH20160617, OVIDE/BOCATS,125,1,11,20160724,2028,60.24,-29.1293,704,50,2,8.578,34.9854,2,34.9853,2,274.3,2,276.8,2,4.32,2,10.69,2,1.265,2,-999,9,7.8119,2,25,-999,9,-999,9
29AH20160617, OVIDE/BOCATS,125,1,12,20160724,2028,60.24,-29.1293,704,5.4,2,10.4889,34.9534,2,34.9511,2,291.4,2,294.3,4,2.25,2,4.6,2,0.458,2,2304,2,7.9105,2,25,-999,9,-999,9
29AH20160617, OVIDE/BOCATS,126,1,3,20160724,2313,60.4699,-28.7782,1275,1277.4,2,4.8619,35.0119,2,35.0112,2,259.3,2,260.9,2,10.63,2,17.19,2,1.083,2,-999,9,7.7169,2,25,-999,9,-999,9
29AH20160617, OVIDE/BOCATS,126,1,4,20160724,2313,60.4699,-28.7782,1275,999.9,2,4.9253,35.0194,2,35.0192,2,258.8,2,260.2,2,10.75,2,17.2,2,1.085,2,-999,9,7.7156,2,25,-999,9,-999,9
29AH20160617, OVIDE/BOCATS,126,1,5,20160724,2313,60.4699,-28.7782,1275,899.5,2,5.0671,35.0291,2,35.0287,2,257.5,2,258,2,10.65,2,17.23,2,1.087,2,-999,9,7.7168,2,25,-999,9,-999,9
29AH20160617, OVIDE/BOCATS,126,1,6,20160724,2313,60.4699,-28.7782,1275,800.9,2,5.6682,35.0619,2,35.0623,2,252.3,2,252.4,2,10.26,2,17.28,2,1.083,2,-999,9,7.7204,2,25,-999,9,-999,9
29AH20160617, OVIDE/BOCATS,126,1,7,20160724,2313,60.4699,-28.7782,1275,661.3,2,6.33,35.0955,2,35.0948,2,248.9,2,249.3,2,9.66,2,17.18,2,1.065,2,-999,9,7.7279,2,25,-999,9,-999,9
29AH20160617, OVIDE/BOCATS,126,1,8,20160724,2313,60.4699,-28.7782,1275,552.4,2,6.7414,35.1095,2,35.1094,2,268,2,269.5,2,7.82,2,15.56,2,0.973,2,-999,9,7.7523,2,25,-999,9,-999,9
29AH20160617, OVIDE/BOCATS,126,1,9,20160724,2313,60.4699,-28.7782,1275,500,2,6.8681,35.1131,2,35.1122,2,270.7,2,272,2,7.49,2,15.15,2,0.949,2,-999,9,7.7568,2,25,-999,9,-999,9
29AH20160617, OVIDE/BOCATS,126,1,10,20160724,2313,60.4699,-28.7782,1275,399.4,2,6.9627,35.106,2,35.1055,2,276.1,2,277.8,2,6.99,2,14.6,2,0.923,2,-999,9,7.7615,2,25,-999,9,-999,9
29AH20160617, OVIDE/BOCATS,126,1,11,20160724,2313,60.4699,-28.7782,1275,300,2,7.1889,35.118,2,35.1167,2,274.4,2,275.8,2,6.83,2,14.52,2,0.915,2,-999,9,7.7659,2,25,-999,9,-999,9
29AH20160617, OVIDE/BOCATS,126,1,12,20160724,2313,60.4699,-28.7782,1275,200.4,2,7.3165,35.1245,2,35.1206,4,275.3,2,276.9,2,6.63,2,14.29,2,0.898,2,-999,9,7.768,2,25,-999,9,-999,9
29AH20160617, OVIDE/BOCATS,126,1,13,20160724,2313,60.4699,-28.7782,1275,149,2,7.3438,35.1174,2,35.1161,2,275.9,2,278.2,2,6.63,2,14.25,2,0.896,2,-999,9,7.7685,2,25,-999,9,-999,9
29AH20160617, OVIDE/BOCATS,126,1,14,20160724,2313,60.4699,-28.7782,1275,100.8,2,7.2354,35.0721,2,35.0684,4,275,2,275.7,2,6.84,2,14.54,2,0.914,2,-999,9,7.7609,2,25,-999,9,-999,9
29AH20160617, OVIDE/BOCATS,126,1,15,20160724,2313,60.4699,-28.7782,1275,42.7,2,7.7593,34.9911,2,34.9872,4,272.5,2,273.2,2,5.38,2,12.95,2,0.83,2,-999,9,7.7774,2,25,-999,9,-999,9
29AH20160617, OVIDE/BOCATS,126,1,16,20160724,2313,60.4699,-28.7782,1275,5.6,2,10.9741,34.905,2,34.9043,2,289.2,2,292.2,4,1.7,2,3.39,2,0.273,2,-999,9,7.9248,2,25,-999,9,-999,9