BOTTLE,20230706CCHSIOENA
EXPOCODE,SECT_ID,STNNBR,CASTNO,SAMPNO,DATE,TIME,LATITUDE,LONGITUDE,DEPTH,CTDPRS,CTDPRS_FLAG_W,CTDTMP,CTDSAL,CTDSAL_FLAG_W,SALNTY,SALNTY_FLAG_W,CTDOXY,CTDOXY_FLAG_W,OXYGEN,OXYGEN_FLAG_W,SILCAT,SILCAT_FLAG_W,NITRAT,NITRAT_FLAG_W,PHSPHT,PHSPHT_FLAG_W,ALKALI,ALKALI_FLAG_W,PH_SWS,PH_SWS_FLAG_W,PH_TMP,CFC-12,CFC-12_FLAG_W,SF6,SF6_FLAG_W
,,,,,,,,,METERS,DBAR,,DEG C,PSS-78,,PSS-78,,UMOL/KG,,UMOL/KG,,UMOL/KG,,UMOL/KG,,UMOL/KG,,UMOL/KG,,,,DEG C,PMOL/KG,,FMOL/KG,
29AH20160617, OVIDE/BOCATS,109,1,3,20160722,519,56.7998,-33.4845,1097,1099.6,2,4.0338,34.9347,2,34.9361,2,271.7,2,271,2,10.66,2,17,2,1.094,2,-999,9,7.7147,2,25,-999,9,-999,9
29AH20160617, OVIDE/BOCATS,109,1,4,20160722,519,56.7998,-33.4845,1097,998.3,2,4.2144,34.9352,2,34.9347,2,269.5,2,269.2,2,10.39,2,17.28,2,1.102,2,-999,9,7.709,2,25,-999,9,-999,9
29AH20160617, OVIDE/BOCATS,109,1,5,20160722,519,56.7998,-33.4845,1097,943.4,2,4.3179,34.9389,2,34.9385,2,267.6,2,266.9,2,10.36,2,17.23,2,1.11,2,-999,9,7.7075,2,25,-999,9,-999,9
29AH20160617, OVIDE/BOCATS,109,1,6,20160722,519,56.7998,-33.4845,1097,799.7,2,4.5644,34.9521,2,34.9532,2,263.1,2,262.4,2,10.28,2,17.42,2,1.121,2,-999,9,7.703,2,25,-999,9,-999,9
29AH20160617, OVIDE/BOCATS,109,1,7,20160722,519,56.7998,-33.4845,1097,698.9,2,4.7688,34.9625,2,34.9621,2,261.4,2,260.8,2,10.11,2,17.36,2,1.119,2,-999,9,7.7088,2,25,-999,9,-999,9
29AH20160617, OVIDE/BOCATS,109,1,8,20160722,519,56.7998,-33.4845,1097,620.2,2,5.1431,34.9801,2,34.9806,2,259,2,259.6,2,9.82,2,17.03,2,1.118,2,-999,9,7.7072,2,25,-999,9,-999,9
29AH20160617, OVIDE/BOCATS,109,1,9,20160722,519,56.7998,-33.4845,1097,500.4,2,5.612,34.9956,2,34.9965,2,269,2,268.6,2,8.86,2,16.55,2,1.066,2,-999,9,7.725,2,25,-999,9,-999,9
29AH20160617, OVIDE/BOCATS,109,1,10,20160722,519,56.7998,-33.4845,1097,354.1,2,6.291,35.0559,2,35.0576,2,271.7,2,271.6,2,7.92,2,15.57,2,1.019,2,-999,9,7.7435,2,25,-999,9,-999,9
29AH20160617, OVIDE/BOCATS,109,1,11,20160722,519,56.7998,-33.4845,1097,301.2,2,6.1799,35.0215,2,35.0205,2,279.8,2,279.7,2,7.55,2,15.12,2,0.975,2,-999,9,7.7436,2,25,-999,9,-999,9
29AH20160617, OVIDE/BOCATS,109,1,12,20160722,519,56.7998,-33.4845,1097,201.9,2,6.2623,34.9971,2,34.9998,2,280.2,2,280,2,7.36,2,14.92,2,0.975,2,-999,9,7.7498,2,25,-999,9,-999,9
29AH20160617, OVIDE/BOCATS,109,1,13,20160722,519,56.7998,-33.4845,1097,149.9,2,6.2803,34.982,2,34.9797,2,281.3,2,280.6,2,7.41,2,14.84,2,0.991,2,-999,9,7.7459,2,25,-999,9,-999,9
29AH20160617, OVIDE/BOCATS,109,1,14,20160722,519,56.7998,-33.4845,1097,84.1,2,6.0593,34.8563,2,34.8586,2,284,2,282.9,2,7.42,2,14.83,2,1.005,2,-999,9,7.7394,2,25,-999,9,-999,9
29AH20160617, OVIDE/BOCATS,109,1,15,20160722,519,56.7998,-33.4845,1097,36.1,2,8.6281,34.7846,2,34.7834,2,281.9,2,284.2,2,2.87,2,8.56,2,0.612,2,-999,9,7.8265,2,25,-999,9,-999,9
29AH20160617, OVIDE/BOCATS,109,1,16,20160722,519,56.7998,-33.4845,1097,4.9,2,9.6381,34.7359,2,34.7367,2,286.6,2,288.1,2,2.14,2,6.64,2,0.466,2,-999,9,7.8642,2,25,-999,9,-999,9
29AH20160617, OVIDE/BOCATS,110,1,3,20160722,711,56.8502,-33.4331,1896,1911.5,2,3.4514,34.9819,2,-999,9,274.4,2,-999,9,-999,9,-999,9,-999,9,-999,9,-999.0,9,25,-999,9,-999,9
29AH20160617, OVIDE/BOCATS,111,1,3,20160722,1038,56.9098,-33.3543,1925,1939.3,2,3.5685,34.9799,2,34.9791,2,273.9,2,273.6,2,11.19,2,15.95,2,1.044,2,-999,9,7.7219,2,25,-999,9,-999,9
29AH20160617, OVIDE/BOCATS,111,1,4,20160722,1038,56.9098,-33.3543,1925,1800.1,2,3.632,34.9783,2,34.9774,2,273.3,2,272.2,2,11.07,2,16.12,2,1.052,2,-999,9,7.7204,2,25,-999,9,-999,9
29AH20160617, OVIDE/BOCATS,111,1,5,20160722,1038,56.9098,-33.3543,1925,1600,2,3.7075,34.9732,2,34.9736,2,272.7,2,272.5,2,11,2,16.19,2,1.066,2,-999,9,7.7174,2,25,-999,9,-999,9
29AH20160617, OVIDE/BOCATS,111,1,6,20160722,1038,56.9098,-33.3543,1925,1399,2,3.7651,34.9647,2,34.9647,2,272,2,271.2,2,11.06,2,16.53,2,1.07,2,-999,9,7.7178,2,25,-999,9,-999,9
29AH20160617, OVIDE/BOCATS,111,1,7,20160722,1038,56.9098,-33.3543,1925,1199.7,2,3.9194,34.9457,2,34.9455,2,272.4,2,271.2,2,10.83,2,16.8,2,1.088,2,-999,9,7.7169,2,25,-999,9,-999,9
29AH20160617, OVIDE/BOCATS,111,1,8,20160722,1038,56.9098,-33.3543,1925,1074.5,2,4.0842,34.9361,2,34.9375,2,273.3,2,272.9,2,10.34,2,16.98,2,1.087,2,-999,9,7.7136,2,25,-999,9,-999,9
29AH20160617, OVIDE/BOCATS,111,1,9,20160722,1038,56.9098,-33.3543,1925,878.6,2,4.4815,34.9481,2,34.948,2,264.9,2,265.3,2,10.11,2,17.19,2,1.108,2,-999,9,7.7078,2,25,-999,9,-999,9
29AH20160617, OVIDE/BOCATS,111,1,10,20160722,1038,56.9098,-33.3543,1925,766,2,4.7777,34.9596,2,34.9596,2,265.2,2,264.1,2,9.89,2,17.23,2,1.111,2,-999,9,7.7093,2,25,-999,9,-999,9
29AH20160617, OVIDE/BOCATS,111,1,11,20160722,1038,56.9098,-33.3543,1925,659.5,2,4.9176,34.9377,2,34.9381,2,277.7,2,276.2,2,8.96,2,16.69,2,1.066,2,-999,9,7.7169,2,25,-999,9,-999,9
29AH20160617, OVIDE/BOCATS,111,1,12,20160722,1038,56.9098,-33.3543,1925,599.8,2,5.1558,34.9524,2,34.954,2,273.5,2,273.2,2,8.94,2,16.66,2,1.064,2,-999,9,7.7181,2,25,-999,9,-999,9
29AH20160617, OVIDE/BOCATS,111,1,13,20160722,1038,56.9098,-33.3543,1925,500.3,2,5.7811,35.0009,2,35.0013,2,272.9,2,271.9,2,8.42,2,16.02,2,1.035,2,-999,9,7.7301,2,25,-999,9,-999,9
29AH20160617, OVIDE/BOCATS,111,1,14,20160722,1038,56.9098,-33.3543,1925,399.5,2,6.2042,35.0306,2,35.0298,2,280.5,2,280.5,2,7.47,2,15.07,2,0.971,2,-999,9,7.7492,2,25,-999,9,-999,9
29AH20160617, OVIDE/BOCATS,111,1,15,20160722,1038,56.9098,-33.3543,1925,300.5,2,6.1923,35.0106,2,35.0097,2,282.1,2,281.6,2,7.23,2,14.96,2,0.963,2,-999,9,7.7482,2,25,-999,9,-999,9
29AH20160617, OVIDE/BOCATS,111,1,16,20160722,1038,56.9098,-33.3543,1925,200,2,6.0531,34.9461,2,34.9515,4,281.5,2,280.9,2,7.54,2,15.13,2,0.974,2,-999,9,7.7436,2,25,-999,9,-999,9
29AH20160617, OVIDE/BOCATS,111,1,17,20160722,1038,56.9098,-33.3543,1925,150.4,2,5.9213,34.8981,2,34.8959,2,282.2,2,282.4,2,7.57,2,15.05,2,0.978,2,-999,9,7.738,2,25,-999,9,-999,9
29AH20160617, OVIDE/BOCATS,111,1,18,20160722,1038,56.9098,-33.3543,1925,100,2,5.8237,34.8567,2,34.8552,2,285.6,2,284,2,7.55,2,14.94,2,0.978,2,-999,9,7.735,2,25,-999,9,-999,9
29AH20160617, OVIDE/BOCATS,111,1,19,20160722,1038,56.9098,-33.3543,1925,50,2,6.8059,34.8284,2,34.825,4,281.3,2,281.1,2,5.71,2,13.13,2,0.871,2,-999,9,7.7608,2,25,-999,9,-999,9
29AH20160617, OVIDE/BOCATS,111,1,20,20160722,1038,56.9098,-33.3543,1925,4.1,2,9.6456,34.721,2,34.7206,2,288,2,288.1,2,1.97,2,6.48,2,0.448,2,-999,9,7.8651,2,25,-999,9,-999,9
29AH20160617, OVIDE/BOCATS,112,1,3,20160722,1354,56.9499,-33.3035,1645,1653.8,2,3.7091,34.9727,2,-999,9,272.6,2,-999,9,-999,9,-999,9,-999,9,-999,9,-999.0,9,25,-999,9,-999,9
29AH20160617, OVIDE/BOCATS,113,1,3,20160722,1655,57.1753,-33.0018,1071,1070.8,2,4.148,34.9367,2,34.9361,2,272.8,2,272.3,2,10.24,2,16.89,2,1.084,2,2304.3,2,7.7126,2,25,-999,9,-999,9
29AH20160617, OVIDE/BOCATS,113,1,4,20160722,1655,57.1753,-33.0018,1071,798.9,2,4.4992,34.9377,2,34.9374,2,272.7,2,272,2,9.64,2,17.07,2,1.092,2,2302.8,2,7.7108,2,25,-999,9,-999,9
29AH20160617, OVIDE/BOCATS,113,1,5,20160722,1655,57.1753,-33.0018,1071,611.1,2,4.6524,34.9263,2,34.9262,2,280,2,279.7,2,9.02,2,16.77,2,1.075,2,2302.8,2,7.7143,2,25,-999,9,-999,9
29AH20160617, OVIDE/BOCATS,113,1,6,20160722,1655,57.1753,-33.0018,1071,514.1,2,5.5769,35.0015,2,35.0014,2,260.6,2,260.6,2,9.28,2,16.98,2,1.092,2,2305.4,2,7.7173,2,25,-999,9,-999,9
29AH20160617, OVIDE/BOCATS,113,1,7,20160722,1655,57.1753,-33.0018,1071,445.8,2,5.7588,35.0033,2,35.0044,2,271.6,2,270.9,2,8.54,2,16.33,2,1.041,2,2307,2,7.7308,2,25,-999,9,-999,9
29AH20160617, OVIDE/BOCATS,113,1,8,20160722,1655,57.1753,-33.0018,1071,400.8,2,5.8408,35.0038,2,35.0035,2,269.3,2,268.1,2,8.55,2,16.28,2,1.066,2,2307.1,2,7.7305,2,25,-999,9,-999,9
29AH20160617, OVIDE/BOCATS,113,1,9,20160722,1655,57.1753,-33.0018,1071,309.7,2,5.9014,34.9902,2,34.9901,2,276.8,2,276.5,2,7.99,2,15.79,2,1.025,2,-999,9,7.7371,2,25,-999,9,-999,9
29AH20160617, OVIDE/BOCATS,113,1,10,20160722,1655,57.1753,-33.0018,1071,200.7,2,5.9088,34.9506,2,34.9495,2,282.8,2,282.7,2,7.52,2,15.23,2,0.996,2,2304.3,2,7.7399,2,25,-999,9,-999,9
29AH20160617, OVIDE/BOCATS,113,1,11,20160722,1655,57.1753,-33.0018,1071,150.4,2,5.7926,34.8904,2,34.8936,4,284.9,2,284.8,2,7.56,2,15.34,2,0.998,2,-999,9,7.7368,2,25,-999,9,-999,9
29AH20160617, OVIDE/BOCATS,113,1,12,20160722,1655,57.1753,-33.0018,1071,99.7,2,6.0211,34.8399,2,34.8381,2,285,2,284.5,2,7.14,2,14.8,2,0.97,2,2298.7,2,7.7388,2,25,-999,9,-999,9
29AH20160617, OVIDE/BOCATS,113,1,13,20160722,1655,57.1753,-33.0018,1071,50.8,2,7.7784,34.8094,2,34.8102,2,281.6,2,282.1,2,4.17,2,10.92,2,0.755,2,-999,9,7.7915,2,25,-999,9,-999,9
29AH20160617, OVIDE/BOCATS,113,1,14,20160722,1655,57.1753,-33.0018,1071,4.5,2,9.6582,34.7455,2,34.7444,2,288.5,2,289.3,2,2.04,2,6.85,2,0.467,2,2293.8,2,7.8624,2,25,-999,9,-999,9
29AH20160617, OVIDE/BOCATS,114,1,3,20160722,2124,57.5776,-32.4779,1731,1741.1,2,3.8419,34.9768,2,34.9773,2,271.8,2,271.7,2,10.87,2,16.39,2,1.058,2,-999,9,7.7215,2,25,-999,9,-999,9
29AH20160617, OVIDE/BOCATS,114,1,4,20160722,2124,57.5776,-32.4779,1731,1600.6,2,3.8358,34.9764,2,34.9766,2,272,2,272.2,2,10.94,2,16.39,2,1.06,2,-999,9,7.7214,2,25,-999,9,-999,9
29AH20160617, OVIDE/BOCATS,114,1,5,20160722,2124,57.5776,-32.4779,1731,1400,2,3.87,34.9704,2,34.9706,2,271.6,2,271.1,2,10.85,2,16.43,2,1.06,2,-999,9,7.7209,2,25,-999,9,-999,9
29AH20160617, OVIDE/BOCATS,114,1,6,20160722,2124,57.5776,-32.4779,1731,1200.3,2,4.0144,34.9556,2,34.9539,2,270.5,2,270.2,2,10.49,2,16.74,2,1.077,2,-999,9,7.7191,2,25,-999,9,-999,9
29AH20160617, OVIDE/BOCATS,114,1,7,20160722,2124,57.5776,-32.4779,1731,999.6,2,4.1856,34.9346,2,34.9364,2,269.4,2,269.1,2,10.05,2,17.05,2,1.092,2,-999,9,7.708,2,25,-999,9,-999,9
29AH20160617, OVIDE/BOCATS,114,1,8,20160722,2124,57.5776,-32.4779,1731,800.7,2,4.5239,34.944,2,34.9443,2,269.8,2,269.3,2,9.14,2,16.91,2,1.09,2,-999,9,7.7091,2,25,-999,9,-999,9
29AH20160617, OVIDE/BOCATS,114,1,9,20160722,2124,57.5776,-32.4779,1731,599.2,2,4.9722,34.9407,2,34.9414,2,276.6,2,275.4,2,7.65,2,16.21,2,1.062,2,-999,9,7.7146,2,25,-999,9,-999,9
29AH20160617, OVIDE/BOCATS,114,1,10,20160722,2124,57.5776,-32.4779,1731,433.6,2,5.4928,34.9677,2,34.9673,2,282.1,2,280.2,2,7.17,2,15.47,2,1.024,2,-999,9,7.7252,2,25,-999,9,-999,9
29AH20160617, OVIDE/BOCATS,114,1,11,20160722,2124,57.5776,-32.4779,1731,355,2,5.6077,34.9584,2,34.9581,2,282.8,2,281.8,2,6.98,2,15.29,2,1.009,2,-999,9,7.7299,2,25,-999,9,-999,9
29AH20160617, OVIDE/BOCATS,114,1,12,20160722,2124,57.5776,-32.4779,1731,301.6,2,5.9861,35.0054,2,35.0058,2,277.6,2,278.6,2,6.95,2,15.2,2,1.003,2,-999,9,7.7331,2,25,-999,9,-999,9
29AH20160617, OVIDE/BOCATS,114,1,13,20160722,2124,57.5776,-32.4779,1731,200.5,2,5.6984,34.9158,2,34.9216,4,285.6,2,284.3,2,6.63,2,14.82,2,0.989,2,-999,9,7.7327,2,25,-999,9,-999,9
29AH20160617, OVIDE/BOCATS,114,1,14,20160722,2124,57.5776,-32.4779,1731,120.9,2,5.507,34.8211,2,34.8222,2,290,2,289.1,2,6.57,2,14.6,2,0.977,2,-999,9,7.7306,2,25,-999,9,-999,9
29AH20160617, OVIDE/BOCATS,114,1,15,20160722,2124,57.5776,-32.4779,1731,68.4,2,6.9533,34.8153,2,34.8154,2,284.4,2,284.3,2,4.66,2,12.69,2,0.865,2,-999,9,7.7616,2,25,-999,9,-999,9
29AH20160617, OVIDE/BOCATS,114,1,16,20160722,2124,57.5776,-32.4779,1731,5.1,2,9.3295,34.7384,2,34.7392,2,292.8,2,293.4,2,1.63,2,6.98,2,0.48,2,-999,9,7.8508,2,25,-999,9,-999,9
29AH20160617, OVIDE/BOCATS,115,1,3,20160723,140,57.8003,-32.2167,1433,1437,2,3.8268,34.9688,2,34.9679,2,271.8,2,271.2,2,11.13,2,16.53,2,1.067,2,2301.3,2,-999.0,9,25,-999,9,-999,9
29AH20160617, OVIDE/BOCATS,115,1,4,20160723,140,57.8003,-32.2167,1433,1200,2,3.9479,34.9474,2,34.9476,2,273.4,2,272.4,2,10.52,2,16.76,2,1.076,2,2303.9,2,-999.0,9,25,-999,9,-999,9
29AH20160617, OVIDE/BOCATS,115,1,5,20160723,140,57.8003,-32.2167,1433,1098.6,2,4.2435,34.9287,2,34.9283,2,277.1,2,276.3,2,9.59,2,16.92,2,1.084,2,-999,9,-999.0,9,25,-999,9,-999,9
29AH20160617, OVIDE/BOCATS,115,1,6,20160723,140,57.8003,-32.2167,1433,950.5,2,4.6105,34.9455,2,34.9455,2,269.8,2,268.7,2,9.43,2,17.09,2,1.094,2,2304.9,2,-999.0,9,25,-999,9,-999,9
29AH20160617, OVIDE/BOCATS,115,1,7,20160723,140,57.8003,-32.2167,1433,799,2,4.8839,34.9329,2,34.9323,2,278.1,2,278.2,2,8.68,2,16.69,2,1.065,2,-999,9,-999.0,9,25,-999,9,-999,9
29AH20160617, OVIDE/BOCATS,115,1,8,20160723,140,57.8003,-32.2167,1433,700.1,2,5.2731,34.9574,2,34.9572,2,283.8,2,282.9,2,8.17,2,15.98,2,1.024,2,2305.9,2,-999.0,9,25,-999,9,-999,9
29AH20160617, OVIDE/BOCATS,115,1,9,20160723,140,57.8003,-32.2167,1433,600.3,2,5.4767,34.9708,2,34.9692,2,293.4,2,293.5,2,7.58,2,15.28,2,0.974,2,-999,9,-999.0,9,25,-999,9,-999,9
29AH20160617, OVIDE/BOCATS,115,1,10,20160723,140,57.8003,-32.2167,1433,499.2,2,5.5009,34.9743,2,34.9733,2,294.1,2,294.9,2,7.47,2,15.21,2,0.974,2,2306.1,2,-999.0,9,25,-999,9,-999,9
29AH20160617, OVIDE/BOCATS,115,1,11,20160723,140,57.8003,-32.2167,1433,397.2,2,5.5087,34.9727,2,34.9714,2,293.5,2,293.5,2,7.51,2,15.3,2,0.985,2,2305.9,2,-999.0,9,25,-999,9,-999,9
29AH20160617, OVIDE/BOCATS,115,1,12,20160723,140,57.8003,-32.2167,1433,271.9,2,6.0428,35.0202,2,35.0187,2,276.3,2,276,2,7.92,2,15.58,2,1.001,2,2311.2,2,-999.0,9,25,-999,9,-999,9
29AH20160617, OVIDE/BOCATS,115,1,13,20160723,140,57.8003,-32.2167,1433,169.4,2,6.3625,35.0308,2,35.0292,2,278.6,2,279.1,2,7.28,2,14.96,2,0.962,2,2307.1,2,-999.0,9,25,-999,9,-999,9
29AH20160617, OVIDE/BOCATS,115,1,14,20160723,140,57.8003,-32.2167,1433,99,2,5.9506,34.9083,2,34.9041,4,283,2,282.1,2,7.55,2,15.05,2,0.983,2,2302.6,2,-999.0,9,25,-999,9,-999,9
29AH20160617, OVIDE/BOCATS,115,1,15,20160723,140,57.8003,-32.2167,1433,29.5,2,6.4831,34.8245,2,34.8217,4,284,2,283.8,2,6,2,13.66,2,0.901,2,-999,9,-999.0,9,25,-999,9,-999,9
29AH20160617, OVIDE/BOCATS,115,1,16,20160723,140,57.8003,-32.2167,1433,5.6,2,9.2211,34.738,2,34.7371,2,292.6,2,292.6,2,2.02,2,7.27,2,0.499,2,2293.7,2,-999.0,9,25,-999,9,-999,9
29AH20160617, OVIDE/BOCATS,116,1,3,20160723,554,58.2003,-31.7504,1592,1607.7,2,3.8839,34.9785,2,34.9761,2,271.4,2,270.6,2,11.15,2,16.3,2,1.054,2,-999,9,7.7204,2,25,-999,9,-999,9
29AH20160617, OVIDE/BOCATS,116,1,4,20160723,554,58.2003,-31.7504,1592,1400.3,2,3.89,34.9716,2,34.9707,2,271.2,2,270.4,2,11.01,2,16.36,2,1.063,2,-999,9,7.7202,2,25,-999,9,-999,9
29AH20160617, OVIDE/BOCATS,116,1,5,20160723,554,58.2003,-31.7504,1592,1199.2,2,3.9654,34.964,2,34.9639,2,270.7,2,269.8,2,10.78,2,16.58,2,1.067,2,-999,9,7.7163,2,25,-999,9,-999,9
29AH20160617, OVIDE/BOCATS,116,1,6,20160723,554,58.2003,-31.7504,1592,1000.2,2,4.272,34.9546,2,34.9516,4,271.4,2,270.3,2,10.03,2,16.88,2,1.096,2,-999,9,7.7109,2,25,-999,9,-999,9
29AH20160617, OVIDE/BOCATS,116,1,7,20160723,554,58.2003,-31.7504,1592,899.6,2,4.4875,34.9662,2,34.9661,2,265.3,2,264,2,10.56,2,17.2,2,1.106,2,-999,9,7.7115,2,25,-999,9,-999,9
29AH20160617, OVIDE/BOCATS,116,1,8,20160723,554,58.2003,-31.7504,1592,799.8,2,4.7361,34.9733,2,34.9728,2,263.6,2,262.9,2,10.26,2,17.29,2,1.103,2,-999,9,7.711,2,25,-999,9,-999,9
29AH20160617, OVIDE/BOCATS,116,1,9,20160723,554,58.2003,-31.7504,1592,633.8,2,5.4518,35.0213,2,35.0207,2,253.9,2,252.8,2,10.12,2,17.35,2,1.105,2,-999,9,7.713,2,25,-999,9,-999,9
29AH20160617, OVIDE/BOCATS,116,1,10,20160723,554,58.2003,-31.7504,1592,500.3,2,5.5543,34.9801,2,34.979,2,278,2,277.4,2,8.48,2,15.96,2,1.03,2,-999,9,7.7313,2,25,-999,9,-999,9
29AH20160617, OVIDE/BOCATS,116,1,11,20160723,554,58.2003,-31.7504,1592,399.2,2,5.7964,34.9858,2,34.9871,2,279.6,2,279.6,2,8.09,2,15.47,2,1.002,2,-999,9,7.7373,2,25,-999,9,-999,9
29AH20160617, OVIDE/BOCATS,116,1,12,20160723,554,58.2003,-31.7504,1592,324.5,2,6.0013,34.9966,2,34.9941,2,280.9,2,280.8,2,7.77,2,15.23,2,0.98,2,-999,9,7.7473,2,25,-999,9,-999,9
29AH20160617, OVIDE/BOCATS,116,1,13,20160723,554,58.2003,-31.7504,1592,202.3,2,5.9713,34.9467,2,34.9524,4,282.4,2,281.6,2,7.73,2,15.02,2,0.978,2,-999,9,7.7427,2,25,-999,9,-999,9
29AH20160617, OVIDE/BOCATS,116,1,14,20160723,554,58.2003,-31.7504,1592,101.4,2,6.0009,34.8383,2,34.8379,2,283.7,2,283.1,2,7.29,2,14.68,2,0.969,2,-999,9,7.738,2,25,-999,9,-999,9
29AH20160617, OVIDE/BOCATS,116,1,15,20160723,554,58.2003,-31.7504,1592,54.5,2,8.4119,34.8307,2,34.8265,4,280.4,2,281.3,2,3.15,2,9.4,2,0.657,2,-999,9,7.8156,2,25,-999,9,-999,9
29AH20160617, OVIDE/BOCATS,116,1,16,20160723,554,58.2003,-31.7504,1592,4.7,2,9.7999,34.7586,2,34.7577,2,286.9,2,287.1,2,1.96,2,6.01,2,0.43,2,-999,9,7.8652,2,25,-999,9,-999,9
29AH20160617, OVIDE/BOCATS,117,1,3,20160723,940,58.5303,-31.4223,1663,1670.9,2,3.9448,34.9815,2,34.9891,4,271.1,2,270.8,2,10.95,2,16.33,2,1.056,2,2305.3,2,7.72,2,25,-999,9,-999,9
29AH20160617, OVIDE/BOCATS,117,1,4,20160723,940,58.5303,-31.4223,1663,1399.7,2,3.9417,34.9809,2,34.9829,2,271,2,271,2,10.88,2,16.27,2,1.053,2,2306.6,2,7.7193,2,25,-999,9,-999,9
29AH20160617, OVIDE/BOCATS,117,1,5,20160723,940,58.5303,-31.4223,1663,1199,2,3.9622,34.9772,2,34.9773,2,270.8,2,270.1,2,10.93,2,16.38,2,1.082,2,2308.5,2,7.7196,2,25,-999,9,-999,9
29AH20160617, OVIDE/BOCATS,117,1,6,20160723,940,58.5303,-31.4223,1663,999.9,2,4.2143,34.9708,2,34.9706,2,268,2,268,2,10.48,2,16.71,2,1.078,2,2308.2,2,7.7128,2,25,-999,9,-999,9
29AH20160617, OVIDE/BOCATS,117,1,7,20160723,940,58.5303,-31.4223,1663,799.2,2,4.7845,35.0026,2,35.0021,2,260.1,2,259.5,2,10.15,2,16.91,2,1.09,2,2309.1,2,7.7129,2,25,-999,9,-999,9
29AH20160617, OVIDE/BOCATS,117,1,8,20160723,940,58.5303,-31.4223,1663,600.1,2,5.6181,35.0523,2,35.0515,2,248.2,2,246.8,2,9.88,2,17.25,2,1.111,2,2311.8,2,7.719,2,25,-999,9,-999,9
29AH20160617, OVIDE/BOCATS,117,1,9,20160723,940,58.5303,-31.4223,1663,499.2,2,6.0536,35.0699,2,35.0696,2,249.5,2,247.9,2,9.51,2,16.88,2,1.086,2,2312.2,2,7.7165,2,25,-999,9,-999,9
29AH20160617, OVIDE/BOCATS,117,1,10,20160723,940,58.5303,-31.4223,1663,400.4,2,6.3127,35.0644,2,35.0627,2,258.1,2,258,2,8.59,2,16.28,2,1.043,2,2311.9,2,7.7319,2,25,-999,9,-999,9
29AH20160617, OVIDE/BOCATS,117,1,11,20160723,940,58.5303,-31.4223,1663,348.6,2,6.229,35.0266,2,35.032,4,263.5,2,264,2,8.33,2,16.02,2,1.025,2,-999,9,7.7331,2,25,-999,9,-999,9
29AH20160617, OVIDE/BOCATS,117,1,12,20160723,940,58.5303,-31.4223,1663,271.3,2,6.7213,35.0795,2,35.0791,2,277.6,2,277,2,7.01,2,14.61,2,0.937,2,-999,9,7.7567,2,25,-999,9,-999,9
29AH20160617, OVIDE/BOCATS,117,1,13,20160723,940,58.5303,-31.4223,1663,188.7,2,6.2427,34.9643,2,34.9627,2,270.9,2,267.3,4,8.06,2,15.65,2,1.008,2,2307,2,7.7345,2,25,-999,9,-999,9
29AH20160617, OVIDE/BOCATS,117,1,14,20160723,940,58.5303,-31.4223,1663,79.4,2,6.9618,34.8799,2,34.8708,4,274.9,2,275.5,2,6.91,2,13.99,2,0.924,2,2302.6,2,7.7496,2,25,-999,9,-999,9
29AH20160617, OVIDE/BOCATS,117,1,15,20160723,940,58.5303,-31.4223,1663,50.2,2,9.2994,34.841,2,34.8433,2,279,2,279.3,2,2.3,2,7.12,2,0.53,2,-999,9,7.849,2,25,-999,9,-999,9
29AH20160617, OVIDE/BOCATS,117,1,16,20160723,940,58.5303,-31.4223,1663,4.2,2,10.3283,34.7555,2,34.7528,4,282.8,2,282.9,2,2.1,2,5.2,2,0.417,2,2299.5,2,7.8828,2,25,-999,9,-999,9
29AH20160617, OVIDE/BOCATS,118,1,3,20160723,1414,58.8452,-31.2696,1464,1470.8,2,4.0737,34.9893,2,-999,9,270.8,2,-999,9,-999,9,-999,9,-999,9,-999,9,-999.0,9,25,-999,9,-999,9