BOTTLE,20230706CCHSIOENA
EXPOCODE,SECT_ID,STNNBR,CASTNO,SAMPNO,DATE,TIME,LATITUDE,LONGITUDE,DEPTH,CTDPRS,CTDPRS_FLAG_W,CTDTMP,CTDSAL,CTDSAL_FLAG_W,SALNTY,SALNTY_FLAG_W,CTDOXY,CTDOXY_FLAG_W,OXYGEN,OXYGEN_FLAG_W,SILCAT,SILCAT_FLAG_W,NITRAT,NITRAT_FLAG_W,PHSPHT,PHSPHT_FLAG_W,ALKALI,ALKALI_FLAG_W,PH_SWS,PH_SWS_FLAG_W,PH_TMP,CFC-12,CFC-12_FLAG_W,SF6,SF6_FLAG_W
,,,,,,,,,METERS,DBAR,,DEG C,PSS-78,,PSS-78,,UMOL/KG,,UMOL/KG,,UMOL/KG,,UMOL/KG,,UMOL/KG,,UMOL/KG,,,,DEG C,PMOL/KG,,FMOL/KG,
29AH20160617, OVIDE/BOCATS,83,1,3,20160712,1712,59.7242,-40.2532,2656,2687,2,1.526,34.9004,2,34.8984,2,306.8,2,307.4,2,8.57,2,13.56,2,0.872,2,2305.1,2,7.7128,2,25,2.2798,2,-999,9
29AH20160617, OVIDE/BOCATS,83,1,4,20160712,1712,59.7242,-40.2532,2656,2594.8,2,1.8476,34.9039,2,34.9036,2,302.8,2,302.3,2,9,2,13.95,2,0.9,2,2302.9,2,7.7128,2,25,2.215,2,2.0981,2
29AH20160617, OVIDE/BOCATS,83,1,5,20160712,1712,59.7242,-40.2532,2656,2465.9,2,2.3858,34.9125,2,34.9103,2,290.3,2,290.4,2,11.32,2,15,2,0.953,2,2306.4,2,7.7196,2,25,-999,9,-999,9
29AH20160617, OVIDE/BOCATS,83,1,6,20160712,1712,59.7242,-40.2532,2656,2222.8,2,2.9729,34.9243,2,34.9219,2,283.9,2,283.5,2,11.88,2,15.57,2,0.995,2,2305.6,2,7.7216,2,25,1.782,2,1.44,2
29AH20160617, OVIDE/BOCATS,83,1,7,20160712,1712,59.7242,-40.2532,2656,1972.9,2,3.2857,34.9305,2,34.9277,2,278.4,2,277.4,2,12.27,2,16.1,2,1.029,2,2308.9,2,7.7224,2,25,-999,9,-999,9
29AH20160617, OVIDE/BOCATS,83,1,8,20160712,1712,59.7242,-40.2532,2656,1799.1,2,3.4497,34.9298,2,34.9259,4,275.4,2,275.8,2,11.94,2,16.34,2,1.039,2,2306.7,2,7.7197,2,25,-999,9,-999,9
29AH20160617, OVIDE/BOCATS,83,1,9,20160712,1712,59.7242,-40.2532,2656,1600,2,3.6142,34.9279,2,34.9268,2,274.5,2,274.2,2,11.87,2,16.58,2,1.047,2,2307.7,2,7.7179,2,25,1.7562,2,-999,9
29AH20160617, OVIDE/BOCATS,83,1,10,20160712,1712,59.7242,-40.2532,2656,1369.4,2,3.3828,34.8685,2,34.8698,2,296.8,2,296.8,2,10.02,2,15.87,2,1.01,2,2302.6,2,7.7124,2,25,2.3059,2,2.3269,2
29AH20160617, OVIDE/BOCATS,83,1,11,20160712,1712,59.7242,-40.2532,2656,1200,2,3.4078,34.8706,2,34.87,2,298.9,2,298.8,2,9.73,2,16.04,2,1.006,2,2304.5,2,7.7133,2,25,-999,9,-999,9
29AH20160617, OVIDE/BOCATS,83,1,12,20160712,1712,59.7242,-40.2532,2656,1200,2,3.4075,34.8706,2,34.8706,2,298.9,2,298.6,2,-999,9,-999,9,-999,9,-999,9,-999.0,9,25,-999,9,-999,9
29AH20160617, OVIDE/BOCATS,83,1,13,20160712,1712,59.7242,-40.2532,2656,1000.3,2,3.4368,34.8745,2,34.8735,2,301.1,2,301,2,9.61,2,16.01,2,1.029,2,2302.5,2,7.7143,2,25,2.3788,2,2.4997,2
29AH20160617, OVIDE/BOCATS,83,1,14,20160712,1712,59.7242,-40.2532,2656,799.9,2,3.5021,34.8832,2,34.8821,2,299.8,2,299.8,2,9.68,2,15.99,2,1.007,2,2301.5,2,7.7146,2,25,-999,9,-999,9
29AH20160617, OVIDE/BOCATS,83,1,15,20160712,1712,59.7242,-40.2532,2656,601.1,2,3.5574,34.8892,2,34.8877,2,300.7,2,300.8,2,9.55,2,16.04,2,1.011,2,2302.7,2,7.7147,2,25,2.3907,2,2.6365,2
29AH20160617, OVIDE/BOCATS,83,1,16,20160712,1712,59.7242,-40.2532,2656,400.8,2,3.6506,34.8969,2,34.8966,2,300.3,2,299.4,2,9.5,2,16.08,2,1.014,2,2305.1,2,7.7157,2,25,2.3841,2,2.5056,2
29AH20160617, OVIDE/BOCATS,83,1,17,20160712,1712,59.7242,-40.2532,2656,287.7,2,3.7383,34.9019,2,34.9018,2,299.8,2,298.8,2,9.38,2,16.06,2,1.022,2,2305.8,2,7.7155,2,25,-999,9,-999,9
29AH20160617, OVIDE/BOCATS,83,1,18,20160712,1712,59.7242,-40.2532,2656,199.9,2,4.0266,34.9306,2,34.93,2,296.1,2,295.1,2,9.26,2,15.98,2,1.015,2,2306.8,2,7.7188,2,25,2.3347,2,2.5943,2
29AH20160617, OVIDE/BOCATS,83,1,19,20160712,1712,59.7242,-40.2532,2656,98.7,2,4.2323,34.9423,2,34.9409,2,294.5,2,293.8,2,9.23,2,16.14,2,1.024,2,2304.9,2,7.7194,2,25,2.3232,2,2.5979,2
29AH20160617, OVIDE/BOCATS,83,1,20,20160712,1712,59.7242,-40.2532,2656,49.9,2,4.6215,34.9249,2,34.9252,2,297.1,2,296.4,2,8.39,2,15.01,2,0.991,2,2302.4,2,7.729,2,25,-999,9,-999,9
29AH20160617, OVIDE/BOCATS,83,1,21,20160712,1712,59.7242,-40.2532,2656,5.8,2,8.3113,34.8284,2,34.8299,2,308.7,2,307.9,2,0.31,2,7.11,2,0.453,2,2302.9,2,7.8514,2,25,2.215,2,2.5309,2
29AH20160617, OVIDE/BOCATS,84,1,3,20160712,2022,59.7399,-40.5808,2630,2658.2,2,1.7337,34.9004,2,34.9011,2,305,2,305.3,2,8.75,2,13.81,2,0.881,2,-999,9,7.7159,2,25,-999,9,-999,9
29AH20160617, OVIDE/BOCATS,84,1,4,20160712,2022,59.7399,-40.5808,2630,2599.1,2,1.737,34.9003,2,34.9002,2,305,2,305.6,2,8.8,2,13.83,2,0.882,2,-999,9,7.7154,2,25,-999,9,-999,9
29AH20160617, OVIDE/BOCATS,84,1,5,20160712,2022,59.7399,-40.5808,2630,2528.1,2,1.7454,34.9009,2,34.9011,2,304.8,2,305.2,2,8.88,2,13.75,2,0.887,2,-999,9,7.714,2,25,-999,9,-999,9
29AH20160617, OVIDE/BOCATS,84,1,6,20160712,2022,59.7399,-40.5808,2630,2298.9,2,2.613,34.9169,2,34.9175,2,290.6,2,291.1,2,11.11,2,15.07,2,0.958,2,-999,9,7.7218,2,25,-999,9,-999,9
29AH20160617, OVIDE/BOCATS,84,1,7,20160712,2022,59.7399,-40.5808,2630,2000.2,2,3.1241,34.9287,2,34.9294,2,277.8,2,277.7,2,12.92,2,16.3,2,1.033,2,-999,9,7.727,2,25,-999,9,-999,9
29AH20160617, OVIDE/BOCATS,84,1,8,20160712,2022,59.7399,-40.5808,2630,1798.6,2,3.3441,34.9279,2,34.929,2,275.6,2,276.1,2,12.37,2,16.56,2,1.045,2,-999,9,7.7232,2,25,-999,9,-999,9
29AH20160617, OVIDE/BOCATS,84,1,9,20160712,2022,59.7399,-40.5808,2630,1599.1,2,3.5436,34.929,2,34.9295,2,275.1,2,274.8,2,12,2,16.74,2,1.062,2,-999,9,7.7217,2,25,-999,9,-999,9
29AH20160617, OVIDE/BOCATS,84,1,10,20160712,2022,59.7399,-40.5808,2630,1450,2,3.6138,34.9202,2,34.9212,2,277.1,2,277,2,11.24,2,16.59,2,1.055,2,-999,9,7.7168,2,25,-999,9,-999,9
29AH20160617, OVIDE/BOCATS,84,1,11,20160712,2022,59.7399,-40.5808,2630,1299.6,2,3.3453,34.8637,2,34.8642,2,298.9,2,299.5,2,9.55,2,15.96,2,1.024,2,-999,9,7.7146,2,25,-999,9,-999,9
29AH20160617, OVIDE/BOCATS,84,1,12,20160712,2022,59.7399,-40.5808,2630,1099.6,2,3.3681,34.866,2,34.8662,2,300.3,2,300.8,2,9.22,2,16.01,2,1.024,2,-999,9,7.7164,2,25,-999,9,-999,9
29AH20160617, OVIDE/BOCATS,84,1,13,20160712,2022,59.7399,-40.5808,2630,999.6,2,3.3869,34.8688,2,34.8693,2,301.1,2,301.6,2,9.1,2,15.98,2,1.016,2,-999,9,7.7154,2,25,-999,9,-999,9
29AH20160617, OVIDE/BOCATS,84,1,14,20160712,2022,59.7399,-40.5808,2630,800.2,2,3.4321,34.875,2,34.8755,2,301.7,2,301.6,2,9.12,2,15.96,2,1.015,2,-999,9,7.7167,2,25,-999,9,-999,9
29AH20160617, OVIDE/BOCATS,84,1,15,20160712,2022,59.7399,-40.5808,2630,595.5,2,3.5065,34.8844,2,34.8851,2,301.2,2,301.9,2,9.24,2,16.15,2,1.017,2,-999,9,7.7161,2,25,-999,9,-999,9
29AH20160617, OVIDE/BOCATS,84,1,16,20160712,2022,59.7399,-40.5808,2630,499.9,2,3.5384,34.8879,2,34.8887,2,300.4,2,300.6,2,9.36,2,16.33,2,1.022,2,-999,9,7.7172,2,25,-999,9,-999,9
29AH20160617, OVIDE/BOCATS,84,1,17,20160712,2022,59.7399,-40.5808,2630,399.8,2,3.5715,34.8903,2,34.892,2,300.1,2,300.7,2,9.38,2,16.26,2,1.02,2,-999,9,7.7164,2,25,-999,9,-999,9
29AH20160617, OVIDE/BOCATS,84,1,18,20160712,2022,59.7399,-40.5808,2630,300.3,2,3.6402,34.8961,2,34.8946,2,300.2,2,300,2,9.14,2,16,2,1.022,2,-999,9,7.7176,2,25,-999,9,-999,9
29AH20160617, OVIDE/BOCATS,84,1,19,20160712,2022,59.7399,-40.5808,2630,198.6,2,3.8605,34.9148,2,34.9152,2,298.7,2,297.2,2,8.8,2,15.86,2,1.023,2,-999,9,7.7183,2,25,-999,9,-999,9
29AH20160617, OVIDE/BOCATS,84,1,20,20160712,2022,59.7399,-40.5808,2630,149.3,2,4.0064,34.9252,2,34.9254,2,297.5,2,296.7,2,8.48,2,16.06,2,1.017,2,-999,9,7.7194,2,25,-999,9,-999,9
29AH20160617, OVIDE/BOCATS,84,1,21,20160712,2022,59.7399,-40.5808,2630,71.1,2,4.5375,34.9517,2,34.9509,2,295,2,294,2,8.39,2,15.74,2,1.006,2,-999,9,7.7251,2,25,-999,9,-999,9
29AH20160617, OVIDE/BOCATS,84,1,22,20160712,2022,59.7399,-40.5808,2630,28.8,2,6.8051,34.8438,2,34.8445,2,309.9,2,310.2,2,0.57,2,7.57,2,0.482,2,-999,9,7.8361,2,25,-999,9,-999,9
29AH20160617, OVIDE/BOCATS,85,1,3,20160712,2321,59.7576,-40.9072,2269,2293.2,2,1.9256,34.9032,2,34.9031,2,301.5,2,301.4,2,8.55,2,13.86,2,0.906,2,2304.5,2,7.7139,2,25,2.2145,2,2.196,2
29AH20160617, OVIDE/BOCATS,85,1,4,20160712,2321,59.7576,-40.9072,2269,2201.4,2,1.9467,34.9037,2,34.9043,2,300,2,300.3,2,8.73,2,13.87,2,0.913,2,-999,9,7.7142,2,25,-999,9,-999,9
29AH20160617, OVIDE/BOCATS,85,1,5,20160712,2321,59.7576,-40.9072,2269,2097.9,2,2.4869,34.9141,2,34.9148,2,290.5,2,290.4,2,10.29,2,14.7,2,0.952,2,2307.3,2,7.7193,2,25,-999,9,-999,9
29AH20160617, OVIDE/BOCATS,85,1,6,20160712,2321,59.7576,-40.9072,2269,1999.3,2,2.7844,34.9217,2,34.9225,2,286.3,2,286.1,2,10.82,2,15.15,2,0.982,2,2307.6,2,7.7199,2,25,1.8598,2,1.5101,2
29AH20160617, OVIDE/BOCATS,85,1,7,20160712,2321,59.7576,-40.9072,2269,1999.4,2,2.785,34.9216,2,34.9222,2,286.3,2,286,2,10.89,2,15.25,2,0.976,2,-999,9,-999.0,9,25,1.8591,2,1.5568,2
29AH20160617, OVIDE/BOCATS,85,1,8,20160712,2321,59.7576,-40.9072,2269,1798.9,2,3.1532,34.9296,2,34.9298,2,278.9,2,278.1,2,11.65,2,15.91,2,1.015,2,2308.9,2,7.7224,2,25,-999,9,-999,9
29AH20160617, OVIDE/BOCATS,85,1,9,20160712,2321,59.7576,-40.9072,2269,1599.1,2,3.408,34.9301,2,34.9275,2,275.1,2,274.1,2,11.45,2,16.22,2,1.047,2,2306.7,2,7.7209,2,25,-999,9,-999,9
29AH20160617, OVIDE/BOCATS,85,1,10,20160712,2321,59.7576,-40.9072,2269,1348.9,2,3.6092,34.9212,2,34.9185,2,276.6,2,276.5,2,10.79,2,16.42,2,1.047,2,2307.1,2,7.7181,2,25,-999,9,-999,9
29AH20160617, OVIDE/BOCATS,85,1,11,20160712,2321,59.7576,-40.9072,2269,1239.5,2,3.3303,34.8621,2,34.8634,2,298.6,2,298.8,2,9.27,2,15.89,2,1.009,2,-999,9,7.7132,2,25,1.6788,2,-999,9
29AH20160617, OVIDE/BOCATS,85,1,12,20160712,2321,59.7576,-40.9072,2269,1000.2,2,3.4231,34.8732,2,34.8739,2,299.3,2,299.4,2,9.08,2,15.81,2,1.015,2,2304.1,2,7.715,2,25,2.3648,2,2.4543,2
29AH20160617, OVIDE/BOCATS,85,1,13,20160712,2321,59.7576,-40.9072,2269,798.6,2,3.4842,34.8802,2,34.8808,2,299.8,2,299.7,2,8.83,2,15.77,2,1.013,2,2304.5,2,7.7148,2,25,-999,9,-999,9
29AH20160617, OVIDE/BOCATS,85,1,14,20160712,2321,59.7576,-40.9072,2269,600.2,2,3.576,34.8908,2,34.8909,2,299.7,2,299.2,2,8.84,2,15.93,2,1.018,2,2306.5,2,7.7154,2,25,2.3649,2,2.4562,2
29AH20160617, OVIDE/BOCATS,85,1,15,20160712,2321,59.7576,-40.9072,2269,499.3,2,3.5982,34.8917,2,34.8917,2,299.4,2,299.1,2,8.85,2,16,2,1.02,2,2305.4,2,7.7145,2,25,-999,9,-999,9
29AH20160617, OVIDE/BOCATS,85,1,16,20160712,2321,59.7576,-40.9072,2269,399.3,2,3.6956,34.8999,2,34.8969,4,299,2,298.4,2,8.89,2,15.96,2,1.021,2,2306.7,2,7.715,2,25,2.3541,2,2.5062,2
29AH20160617, OVIDE/BOCATS,85,1,17,20160712,2321,59.7576,-40.9072,2269,299,2,3.8506,34.9132,2,34.9133,2,297.7,2,296.2,2,8.72,2,15.85,2,1.017,2,2307.6,2,7.7174,2,25,-999,9,-999,9
29AH20160617, OVIDE/BOCATS,85,1,18,20160712,2321,59.7576,-40.9072,2269,199.5,2,4.1503,34.9399,2,34.9354,4,293,2,291.8,2,8.87,2,15.94,2,1.018,2,2309.7,2,7.7209,2,25,2.2865,2,2.543,2
29AH20160617, OVIDE/BOCATS,85,1,19,20160712,2321,59.7576,-40.9072,2269,150.8,2,4.2718,34.9488,2,34.9484,2,291.3,2,291.3,2,8.68,2,15.96,2,1.016,2,-999,9,7.7214,2,25,-999,9,-999,9
29AH20160617, OVIDE/BOCATS,85,1,20,20160712,2321,59.7576,-40.9072,2269,99.5,2,4.5023,34.9622,2,34.9576,4,291,2,290.7,2,8.68,2,15.93,2,1.016,2,2311.1,2,7.7242,2,25,-999,9,-999,9
29AH20160617, OVIDE/BOCATS,85,1,21,20160712,2321,59.7576,-40.9072,2269,52.4,2,5.0108,34.9859,2,34.9872,2,292.8,2,292.2,2,8.19,2,15.55,2,0.986,2,-999,9,7.7304,2,25,-999,9,-999,9
29AH20160617, OVIDE/BOCATS,85,1,22,20160712,2321,59.7576,-40.9072,2269,4.8,2,8.2863,34.865,2,34.8658,2,316.1,2,313.5,4,0.31,2,6.85,2,0.389,2,2310.1,2,7.8584,2,25,2.2491,2,2.7455,2
29AH20160617, OVIDE/BOCATS,86,1,3,20160713,341,59.7718,-41.2951,2041,2058.4,2,2.2358,34.9085,2,34.9074,2,296.6,2,296.7,2,9.16,2,14.19,2,0.942,2,-999,9,7.7159,2,25,-999,9,-999,9
29AH20160617, OVIDE/BOCATS,86,1,4,20160713,341,59.7718,-41.2951,2041,2000,2,2.2328,34.9087,2,34.9088,2,296.5,2,296.2,2,9.36,2,14.22,2,0.958,2,-999,9,7.7163,2,25,-999,9,-999,9
29AH20160617, OVIDE/BOCATS,86,1,5,20160713,341,59.7718,-41.2951,2041,1948.9,2,2.2705,34.9102,2,34.9092,2,294.5,2,294.1,2,9.58,2,13.98,2,0.95,2,-999,9,7.7166,2,25,-999,9,-999,9
29AH20160617, OVIDE/BOCATS,86,1,6,20160713,341,59.7718,-41.2951,2041,1798.5,2,2.7672,34.9221,2,34.9225,2,285.3,2,285.1,2,9.08,2,14.19,2,0.991,2,-999,9,7.7212,2,25,-999,9,-999,9
29AH20160617, OVIDE/BOCATS,86,1,7,20160713,341,59.7718,-41.2951,2041,1600.1,2,3.1269,34.9306,2,34.9313,2,278.9,2,279.1,2,9.46,2,15.17,2,1.017,2,-999,9,7.72,2,25,-999,9,-999,9
29AH20160617, OVIDE/BOCATS,86,1,8,20160713,341,59.7718,-41.2951,2041,1399.5,2,3.4406,34.9325,2,34.9313,2,280.4,2,280.3,2,9.35,2,15.3,2,1.014,2,-999,9,7.7193,2,25,-999,9,-999,9
29AH20160617, OVIDE/BOCATS,86,1,9,20160713,341,59.7718,-41.2951,2041,1199.5,2,3.6805,34.9357,2,34.9359,2,277.8,2,277.8,2,9.8,2,15.96,2,1.029,2,-999,9,7.7173,2,25,-999,9,-999,9
29AH20160617, OVIDE/BOCATS,86,1,10,20160713,341,59.7718,-41.2951,2041,997.8,2,3.7631,34.9234,2,34.922,2,285.3,2,284.6,2,9.36,2,15.84,2,1.013,2,-999,9,7.7171,2,25,-999,9,-999,9
29AH20160617, OVIDE/BOCATS,86,1,11,20160713,341,59.7718,-41.2951,2041,899.7,2,3.7713,34.9188,2,34.9176,2,287.7,2,287.7,2,9.17,2,15.82,2,1.023,2,-999,9,7.7173,2,25,-999,9,-999,9
29AH20160617, OVIDE/BOCATS,86,1,12,20160713,341,59.7718,-41.2951,2041,799.5,2,3.7929,34.9156,2,34.9119,4,290.1,2,289.6,2,9.14,2,15.9,2,1.023,2,-999,9,7.7189,2,25,-999,9,-999,9
29AH20160617, OVIDE/BOCATS,86,1,13,20160713,341,59.7718,-41.2951,2041,700.1,2,3.8633,34.9187,2,34.9187,2,290.1,2,289.9,2,9.16,2,15.98,2,1.022,2,-999,9,7.7162,2,25,-999,9,-999,9
29AH20160617, OVIDE/BOCATS,86,1,14,20160713,341,59.7718,-41.2951,2041,591.1,2,4.0317,34.9311,2,34.9298,2,289.8,2,289.9,2,9,2,15.97,2,1.031,2,-999,9,7.7193,2,25,-999,9,-999,9
29AH20160617, OVIDE/BOCATS,86,1,15,20160713,341,59.7718,-41.2951,2041,499.1,2,4.1852,34.9417,2,34.9379,4,289.5,2,289.2,2,8.89,2,15.96,2,1.018,2,-999,9,7.7217,2,25,-999,9,-999,9
29AH20160617, OVIDE/BOCATS,86,1,16,20160713,341,59.7718,-41.2951,2041,400.1,2,4.3728,34.9534,2,34.9511,2,289,2,289.3,2,8.91,2,16.03,2,1.023,2,-999,9,7.7219,2,25,-999,9,-999,9
29AH20160617, OVIDE/BOCATS,86,1,17,20160713,341,59.7718,-41.2951,2041,298.9,2,4.762,34.9791,2,34.9774,2,289.2,2,287.1,2,8.64,2,15.68,2,0.994,2,-999,9,7.728,2,25,-999,9,-999,9
29AH20160617, OVIDE/BOCATS,86,1,18,20160713,341,59.7718,-41.2951,2041,199.8,2,5.1459,35.0032,2,35.0027,2,286,2,285.8,2,8.39,2,15.53,2,0.99,2,-999,9,7.7335,2,25,-999,9,-999,9
29AH20160617, OVIDE/BOCATS,86,1,19,20160713,341,59.7718,-41.2951,2041,149.3,2,5.4784,35.0292,2,35.0287,2,287.2,2,287.1,2,8.16,2,15.49,2,0.969,2,-999,9,7.7391,2,25,-999,9,-999,9
29AH20160617, OVIDE/BOCATS,86,1,20,20160713,341,59.7718,-41.2951,2041,98.5,2,6.0073,35.0522,2,35.0505,2,285.8,2,285.2,2,7.07,2,14.82,2,0.927,2,-999,9,7.7522,2,25,-999,9,-999,9
29AH20160617, OVIDE/BOCATS,86,1,21,20160713,341,59.7718,-41.2951,2041,51.3,2,6.6524,34.9981,2,34.9995,2,291.6,2,291.5,2,4.77,2,11.87,2,0.816,2,-999,9,7.7879,2,25,-999,9,-999,9
29AH20160617, OVIDE/BOCATS,86,1,22,20160713,341,59.7718,-41.2951,2041,4,2,9.02,34.9056,2,34.9061,2,304.5,2,305.3,2,2.94,2,6.62,2,0.449,2,-999,9,7.881,2,25,-999,9,-999,9
29AH20160617, OVIDE/BOCATS,87,1,3,20160713,633,59.7978,-41.7281,1846,1859.6,2,2.5987,34.9162,2,34.9167,2,290.6,2,292.5,2,10.25,2,15.07,2,0.964,2,-999,9,7.7226,2,25,-999,9,-999,9
29AH20160617, OVIDE/BOCATS,87,1,4,20160713,633,59.7978,-41.7281,1846,1799.2,2,2.6413,34.9169,2,34.9179,2,290.2,2,291.6,2,10.4,2,14.98,2,0.968,2,-999,9,7.7208,2,25,-999,9,-999,9
29AH20160617, OVIDE/BOCATS,87,1,5,20160713,633,59.7978,-41.7281,1846,1749.5,2,2.6938,34.9183,2,34.919,2,289.2,2,290,2,10.49,2,15.06,2,0.988,2,-999,9,7.7224,2,25,-999,9,-999,9
29AH20160617, OVIDE/BOCATS,87,1,6,20160713,633,59.7978,-41.7281,1846,1699,2,2.7916,34.9229,2,34.9241,2,285.5,2,286.6,2,11.32,2,15.49,2,0.998,2,-999,9,7.7233,2,25,-999,9,-999,9
29AH20160617, OVIDE/BOCATS,87,1,7,20160713,633,59.7978,-41.7281,1846,1599.4,2,3.0525,34.9291,2,34.9291,2,280.6,2,280.7,2,11.7,2,15.93,2,1.027,2,-999,9,7.7252,2,25,-999,9,-999,9
29AH20160617, OVIDE/BOCATS,87,1,8,20160713,633,59.7978,-41.7281,1846,1399.3,2,3.2871,34.9302,2,34.9302,2,281.7,2,281.7,2,10.97,2,15.85,2,1.026,2,-999,9,7.7227,2,25,-999,9,-999,9
29AH20160617, OVIDE/BOCATS,87,1,9,20160713,633,59.7978,-41.7281,1846,1200.8,2,3.6055,34.9357,2,34.9356,2,278.6,2,279.4,2,10.68,2,16.03,2,1.038,2,-999,9,7.7229,2,25,-999,9,-999,9
29AH20160617, OVIDE/BOCATS,87,1,10,20160713,633,59.7978,-41.7281,1846,998.8,2,3.733,34.9323,2,34.9316,2,283.5,2,282.8,2,10.27,2,16.01,2,1.031,2,-999,9,7.7183,2,25,-999,9,-999,9
29AH20160617, OVIDE/BOCATS,87,1,11,20160713,633,59.7978,-41.7281,1846,898.2,2,3.8453,34.9273,2,34.9265,2,285.9,2,286.8,2,9.88,2,16.14,2,1.03,2,-999,9,7.7203,2,25,-999,9,-999,9
29AH20160617, OVIDE/BOCATS,87,1,12,20160713,633,59.7978,-41.7281,1846,799.6,2,3.9247,34.9239,2,34.9247,2,289.1,2,289,2,9.82,2,16.22,2,1.03,2,-999,9,7.7222,2,25,-999,9,-999,9
29AH20160617, OVIDE/BOCATS,87,1,13,20160713,633,59.7978,-41.7281,1846,700.1,2,4.0768,34.9329,2,34.933,2,290,2,290,2,9.51,2,16.22,2,1.029,2,-999,9,7.7198,2,25,-999,9,-999,9
29AH20160617, OVIDE/BOCATS,87,1,14,20160713,633,59.7978,-41.7281,1846,599.8,2,4.2192,34.9438,2,34.9447,2,289,2,290.3,2,9.43,2,16.22,2,1.024,2,-999,9,7.7218,2,25,-999,9,-999,9
29AH20160617, OVIDE/BOCATS,87,1,15,20160713,633,59.7978,-41.7281,1846,499.5,2,4.4665,34.9608,2,34.961,2,286.9,2,287.8,2,9.23,2,16.05,2,1.021,2,-999,9,7.7266,2,25,-999,9,-999,9
29AH20160617, OVIDE/BOCATS,87,1,16,20160713,633,59.7978,-41.7281,1846,398.8,2,4.7117,34.9759,2,34.9766,2,287.2,2,289.9,4,8.82,2,15.86,2,1,2,-999,9,7.7288,2,25,-999,9,-999,9
29AH20160617, OVIDE/BOCATS,87,1,17,20160713,633,59.7978,-41.7281,1846,299.3,2,5.0587,35.0006,2,34.9996,2,286.6,2,287.5,2,8.65,2,15.77,2,1.01,2,-999,9,7.734,2,25,-999,9,-999,9
29AH20160617, OVIDE/BOCATS,87,1,18,20160713,633,59.7978,-41.7281,1846,199.1,2,5.5533,35.0355,2,35.0362,2,286.6,2,286.7,2,8.16,2,15.43,2,0.975,2,-999,9,7.7421,2,25,-999,9,-999,9
29AH20160617, OVIDE/BOCATS,87,1,19,20160713,633,59.7978,-41.7281,1846,149.9,2,5.7987,35.0491,2,35.0478,2,285.7,2,288.2,2,7.66,2,15.12,2,0.953,2,-999,9,7.7453,2,25,-999,9,-999,9
29AH20160617, OVIDE/BOCATS,87,1,20,20160713,633,59.7978,-41.7281,1846,86.6,2,6.1541,35.0427,2,35.0442,2,286.2,2,-999,9,6.17,2,14.2,2,0.921,2,-999,9,7.7615,2,25,-999,9,-999,9
29AH20160617, OVIDE/BOCATS,87,1,21,20160713,633,59.7978,-41.7281,1846,44.9,2,7.2291,34.9574,2,34.9589,2,294.7,2,295.3,2,4,2,10.04,2,0.702,2,-999,9,7.8143,2,25,-999,9,-999,9
29AH20160617, OVIDE/BOCATS,87,1,22,20160713,633,59.7978,-41.7281,1846,4,2,8.9656,34.8803,2,34.8784,2,303,2,304.4,2,3.4,2,6.55,2,0.461,2,-999,9,7.8783,2,25,-999,9,-999,9