BOTTLE,20230706CCHSIOENA
EXPOCODE,SECT_ID,STNNBR,CASTNO,SAMPNO,DATE,TIME,LATITUDE,LONGITUDE,DEPTH,CTDPRS,CTDPRS_FLAG_W,CTDTMP,CTDSAL,CTDSAL_FLAG_W,SALNTY,SALNTY_FLAG_W,CTDOXY,CTDOXY_FLAG_W,OXYGEN,OXYGEN_FLAG_W,SILCAT,SILCAT_FLAG_W,NITRAT,NITRAT_FLAG_W,PHSPHT,PHSPHT_FLAG_W,ALKALI,ALKALI_FLAG_W,PH_SWS,PH_SWS_FLAG_W,PH_TMP,CFC-12,CFC-12_FLAG_W,SF6,SF6_FLAG_W
,,,,,,,,,METERS,DBAR,,DEG C,PSS-78,,PSS-78,,UMOL/KG,,UMOL/KG,,UMOL/KG,,UMOL/KG,,UMOL/KG,,UMOL/KG,,,,DEG C,PMOL/KG,,FMOL/KG,
29AH20160617, OVIDE/BOCATS,57,1,3,20160708,341,56.2555,-27.2984,2738,2768.3,2,2.7751,34.9775,2,34.9774,2,272.3,2,271.7,2,16.4,2,15.98,2,1.062,2,2315.5,2,7.7118,2,25,-999,9,-999,9
29AH20160617, OVIDE/BOCATS,57,1,4,20160708,341,56.2555,-27.2984,2738,2701.2,2,2.7931,34.9716,2,34.9712,2,269.9,2,269.1,2,18.81,2,16.38,2,1.093,2,2319.1,2,7.7173,2,25,-999,9,-999,9
29AH20160617, OVIDE/BOCATS,57,1,5,20160708,341,56.2555,-27.2984,2738,2598.9,2,2.8373,34.9679,2,34.9669,2,269.5,2,269.3,2,18.25,2,16.49,2,1.095,2,2318.2,2,7.7207,2,25,1.3158,2,0.9185,2
29AH20160617, OVIDE/BOCATS,57,1,6,20160708,341,56.2555,-27.2984,2738,2599.2,2,2.8373,34.9681,2,34.9674,2,269.5,2,267.8,2,-999,9,-999,9,-999,9,-999,9,-999.0,9,25,-999,9,-999,9
29AH20160617, OVIDE/BOCATS,57,1,7,20160708,341,56.2555,-27.2984,2738,2499.9,2,2.9151,34.9671,2,34.9669,2,270.3,2,269.4,2,16.21,2,16.16,2,1.09,2,2315,2,7.7207,2,25,-999,9,-999,9
29AH20160617, OVIDE/BOCATS,57,1,8,20160708,341,56.2555,-27.2984,2738,2248.9,2,3.1832,34.959,2,34.9588,2,273,2,272.1,2,12.65,2,15.85,2,1.071,2,2312.1,2,7.7244,2,25,-999,9,-999,9
29AH20160617, OVIDE/BOCATS,57,1,9,20160708,341,56.2555,-27.2984,2738,2000.6,2,3.3763,34.9406,2,34.9403,2,273.2,2,272.4,2,12.36,2,16.33,2,1.083,2,2311.1,2,7.725,2,25,1.4497,2,0.7804,2
29AH20160617, OVIDE/BOCATS,57,1,10,20160708,341,56.2555,-27.2984,2738,1802.2,2,3.5252,34.9305,2,34.9497,4,272.4,2,271.9,2,11.76,2,16.64,2,1.103,2,2308.7,2,7.7219,2,25,-999,9,-999,9
29AH20160617, OVIDE/BOCATS,57,1,11,20160708,341,56.2555,-27.2984,2738,1598.8,2,3.6654,34.924,2,34.9236,2,271.5,2,270.5,2,11.64,2,16.88,2,1.105,2,2309.3,2,7.7221,2,25,1.6217,2,0.8384,2
29AH20160617, OVIDE/BOCATS,57,1,12,20160708,341,56.2555,-27.2984,2738,1402,2,3.814,34.9199,2,34.92,2,271.6,2,271.2,2,11.3,2,16.96,2,1.101,2,2307.5,2,7.7175,2,25,-999,9,-999,9
29AH20160617, OVIDE/BOCATS,57,1,13,20160708,341,56.2555,-27.2984,2738,1201.8,2,3.9724,34.9205,2,34.9213,2,271.8,2,270.5,2,10.91,2,17.1,2,1.098,2,2305.5,2,7.7118,2,25,-999,9,-999,9
29AH20160617, OVIDE/BOCATS,57,1,14,20160708,341,56.2555,-27.2984,2738,999.4,2,4.1472,34.9249,2,34.9249,2,270.2,2,269.4,2,10.38,2,17.12,2,1.089,2,2307.2,2,7.7122,2,25,2.0244,2,1.5726,2
29AH20160617, OVIDE/BOCATS,57,1,15,20160708,341,56.2555,-27.2984,2738,898.6,2,4.2318,34.9238,2,34.9232,2,268,2,268.5,2,10.26,2,17.12,2,1.1,2,2306.5,2,7.7064,2,25,-999,9,-999,9
29AH20160617, OVIDE/BOCATS,57,1,16,20160708,341,56.2555,-27.2984,2738,800.1,2,4.5101,34.9476,2,34.947,2,262.7,2,-999,9,10.38,2,17.29,2,1.112,2,2307.8,2,7.7065,2,25,-999,9,-999,9
29AH20160617, OVIDE/BOCATS,57,1,17,20160708,341,56.2555,-27.2984,2738,699.1,2,4.9005,34.9843,2,34.9842,2,253,2,252.9,2,10.79,2,17.83,2,1.13,2,2312.8,2,7.6972,2,25,-999,9,-999,9
29AH20160617, OVIDE/BOCATS,57,1,18,20160708,341,56.2555,-27.2984,2738,597.8,2,5.2364,34.9986,2,34.9981,2,245.9,2,245.4,2,10.69,2,17.89,2,1.138,2,-999,9,7.7026,2,25,1.7648,2,1.4941,2
29AH20160617, OVIDE/BOCATS,57,1,19,20160708,341,56.2555,-27.2984,2738,522.3,2,5.7496,35.0418,2,35.0419,2,238.7,2,236.6,2,10.69,2,18.02,2,1.137,2,2314.8,2,7.7061,2,25,-999,9,-999,9
29AH20160617, OVIDE/BOCATS,57,1,20,20160708,341,56.2555,-27.2984,2738,409.1,2,5.6773,34.9065,2,34.9081,2,259.3,2,258.7,2,9.15,2,16.67,2,1.072,2,-999,9,7.7142,2,25,1.9209,2,2.0421,2
29AH20160617, OVIDE/BOCATS,57,1,21,20160708,341,56.2555,-27.2984,2738,332.6,2,5.996,34.9116,2,34.9112,2,267.2,2,265.8,2,8.37,2,15.83,2,1.024,2,2307.3,2,7.726,2,25,-999,9,-999,9
29AH20160617, OVIDE/BOCATS,57,1,22,20160708,341,56.2555,-27.2984,2738,269.7,2,5.6054,34.7745,2,34.774,2,271.3,2,272.1,2,8.63,2,15.63,2,1.031,2,-999,9,7.721,2,25,-999,9,-999,9
29AH20160617, OVIDE/BOCATS,57,1,23,20160708,341,56.2555,-27.2984,2738,202.2,2,6.2457,34.8087,2,34.8086,2,263.3,2,261.4,2,8.68,2,15.85,2,1.038,2,2301.8,2,7.7172,2,25,-999,9,-999,9
29AH20160617, OVIDE/BOCATS,57,1,24,20160708,341,56.2555,-27.2984,2738,149.6,2,6.9402,34.8513,2,34.8504,2,267.2,2,266,2,7.85,2,14.94,2,0.98,2,-999,9,7.7369,2,25,-999,9,-999,9
29AH20160617, OVIDE/BOCATS,57,1,25,20160708,341,56.2555,-27.2984,2738,98.6,2,7.4121,34.8585,2,34.859,2,276.1,2,275.1,2,6.32,2,13.16,2,0.88,2,2303.4,2,7.7591,2,25,-999,9,-999,9
29AH20160617, OVIDE/BOCATS,57,1,26,20160708,341,56.2555,-27.2984,2738,49.4,2,10.697,34.9013,2,34.9025,2,272.7,2,273.8,2,2.02,2,6.06,2,0.521,2,-999,9,7.8635,2,25,-999,9,-999,9
29AH20160617, OVIDE/BOCATS,57,1,27,20160708,341,56.2555,-27.2984,2738,4.5,2,11.5367,34.9037,2,34.9019,2,277.9,2,278.4,2,1.87,2,5.34,2,0.4,2,2309.3,2,7.8927,2,25,1.8009,2,2.2641,2
29AH20160617, OVIDE/BOCATS,58,1,3,20160708,801,56.631,-27.5883,2726,2755.7,2,2.7822,34.9742,2,34.9735,2,271.1,2,-999,9,17.39,2,16.02,2,1.068,2,-999,9,7.716,2,25,-999,9,-999,9
29AH20160617, OVIDE/BOCATS,58,1,4,20160708,801,56.631,-27.5883,2726,2599.5,2,2.8195,34.9689,2,34.9667,2,269.5,2,-999,9,18.87,2,16.38,2,1.094,2,-999,9,7.7172,2,25,-999,9,-999,9
29AH20160617, OVIDE/BOCATS,58,1,5,20160708,801,56.631,-27.5883,2726,2498.2,2,2.8896,34.9658,2,34.9649,2,269.9,2,270.1,2,17.64,2,16.7,2,1.1,2,-999,9,7.723,2,25,-999,9,-999,9
29AH20160617, OVIDE/BOCATS,58,1,6,20160708,801,56.631,-27.5883,2726,2399.7,2,3.0044,34.9671,2,34.9654,2,271.7,2,272.4,2,15.27,2,16.32,2,1.065,2,-999,9,7.7278,2,25,-999,9,-999,9
29AH20160617, OVIDE/BOCATS,58,1,7,20160708,801,56.631,-27.5883,2726,2249.1,2,3.1753,34.9594,2,34.9584,2,272.9,2,272.8,2,13.4,2,16.24,2,1.059,2,-999,9,-999.0,9,25,-999,9,-999,9
29AH20160617, OVIDE/BOCATS,58,1,8,20160708,801,56.631,-27.5883,2726,1999.2,2,3.3888,34.9372,2,34.9365,2,273.3,2,273.5,2,12.04,2,16.47,2,1.073,2,-999,9,7.7285,2,25,-999,9,-999,9
29AH20160617, OVIDE/BOCATS,58,1,9,20160708,801,56.631,-27.5883,2726,1800.3,2,3.5514,34.9284,2,34.9281,2,272,2,271.6,2,11.68,2,16.77,2,1.088,2,-999,9,7.7254,2,25,-999,9,-999,9
29AH20160617, OVIDE/BOCATS,58,1,10,20160708,801,56.631,-27.5883,2726,1599,2,3.7379,34.9241,2,34.923,2,271.3,2,270.5,2,11.31,2,16.92,2,1.092,2,-999,9,7.7195,2,25,-999,9,-999,9
29AH20160617, OVIDE/BOCATS,58,1,11,20160708,801,56.631,-27.5883,2726,1399.3,2,3.8374,34.9178,2,34.9175,2,272.3,2,271.6,2,10.75,2,16.99,2,1.086,2,-999,9,7.7182,2,25,-999,9,-999,9
29AH20160617, OVIDE/BOCATS,58,1,12,20160708,801,56.631,-27.5883,2726,1198.9,2,3.9683,34.9133,2,34.9131,2,273.5,2,273,2,10.2,2,16.85,2,1.084,2,-999,9,7.7078,2,25,-999,9,-999,9
29AH20160617, OVIDE/BOCATS,58,1,13,20160708,801,56.631,-27.5883,2726,1001.3,2,4.2018,34.9223,2,34.9214,2,269.2,2,269,2,9.91,2,17.03,2,1.088,2,-999,9,7.7071,2,25,-999,9,-999,9
29AH20160617, OVIDE/BOCATS,58,1,14,20160708,801,56.631,-27.5883,2726,900,2,4.4466,34.9364,2,34.9359,2,263.5,2,262.8,2,10.13,2,17.34,2,1.106,2,-999,9,7.7023,2,25,-999,9,-999,9
29AH20160617, OVIDE/BOCATS,58,1,15,20160708,801,56.631,-27.5883,2726,799.8,2,4.7514,34.9636,2,34.9638,2,255.9,2,254.5,2,10.43,2,17.53,2,1.122,2,-999,9,7.6968,2,25,-999,9,-999,9
29AH20160617, OVIDE/BOCATS,58,1,16,20160708,801,56.631,-27.5883,2726,699.7,2,4.8707,34.9525,2,34.9522,2,252.7,2,253.5,2,10.2,2,17.59,2,1.124,2,-999,9,7.6975,2,25,-999,9,-999,9
29AH20160617, OVIDE/BOCATS,58,1,17,20160708,801,56.631,-27.5883,2726,600.2,2,5.3941,34.9758,2,34.9772,2,249.8,2,249.3,2,10.07,2,17.64,2,1.122,2,-999,9,-999.0,9,25,-999,9,-999,9
29AH20160617, OVIDE/BOCATS,58,1,18,20160708,801,56.631,-27.5883,2726,499.5,2,5.8723,34.9887,2,34.9876,2,254.7,2,255.9,2,9.17,2,16.8,2,1.073,2,-999,9,7.713,2,25,-999,9,-999,9
29AH20160617, OVIDE/BOCATS,58,1,19,20160708,801,56.631,-27.5883,2726,400.1,2,6.0786,34.9668,2,34.9639,4,265,2,264.5,2,8.43,2,15.92,2,1.019,2,-999,9,7.7276,2,25,-999,9,-999,9
29AH20160617, OVIDE/BOCATS,58,1,20,20160708,801,56.631,-27.5883,2726,300.3,2,6.2457,34.9228,2,34.9219,2,268.8,2,268.2,2,8.05,2,15.38,2,0.997,2,-999,9,7.7362,2,25,-999,9,-999,9
29AH20160617, OVIDE/BOCATS,58,1,21,20160708,801,56.631,-27.5883,2726,199.8,2,6.4815,34.866,2,34.8665,2,271.2,2,269.2,2,7.92,2,15.08,2,0.978,2,-999,9,7.7337,2,25,-999,9,-999,9
29AH20160617, OVIDE/BOCATS,58,1,22,20160708,801,56.631,-27.5883,2726,150.2,2,7.0389,34.8943,2,34.8942,2,272.1,2,271.8,2,7.17,2,13.95,2,0.909,2,-999,9,7.7539,2,25,-999,9,-999,9
29AH20160617, OVIDE/BOCATS,58,1,23,20160708,801,56.631,-27.5883,2726,100.4,2,7.0694,34.8697,2,34.8696,2,277.5,2,277.7,2,6.93,2,13.59,2,0.88,2,-999,9,7.7527,2,25,-999,9,-999,9
29AH20160617, OVIDE/BOCATS,58,1,24,20160708,801,56.631,-27.5883,2726,49.2,2,7.4906,34.8651,2,34.8608,4,276,2,275.8,2,5.92,2,13.08,2,0.839,2,-999,9,7.763,2,25,-999,9,-999,9
29AH20160617, OVIDE/BOCATS,58,1,25,20160708,801,56.631,-27.5883,2726,4.2,2,9.925,34.7277,2,34.7289,2,288.5,2,289.4,2,1.96,2,5.19,2,0.394,2,-999,9,7.8814,2,25,-999,9,-999,9
29AH20160617, OVIDE/BOCATS,59,1,3,20160708,1419,57.013,-27.8825,2753,2783.2,2,2.7755,34.9781,2,34.977,2,273.9,2,272.9,2,16.47,2,15.95,2,1.036,2,2316.5,2,7.7163,2,25,1.5052,2,1.1836,2
29AH20160617, OVIDE/BOCATS,59,1,4,20160708,1419,57.013,-27.8825,2753,2750.6,2,2.7897,34.9754,2,34.9746,2,272.3,2,271.4,2,17.46,2,16.28,2,1.058,2,-999,9,7.7164,2,25,-999,9,-999,9
29AH20160617, OVIDE/BOCATS,59,1,5,20160708,1419,57.013,-27.8825,2753,2600.1,2,2.8222,34.9706,2,34.9692,2,270.1,2,268.8,2,19.06,2,16.65,2,1.088,2,2316.2,2,7.7214,2,25,-999,9,-999,9
29AH20160617, OVIDE/BOCATS,59,1,6,20160708,1419,57.013,-27.8825,2753,2498,2,2.8762,34.9686,2,34.9647,4,270.2,2,269.1,2,18.5,2,16.76,2,1.091,2,2315,2,7.7204,2,25,-999,9,-999,9
29AH20160617, OVIDE/BOCATS,59,1,7,20160708,1419,57.013,-27.8825,2753,2498.2,2,2.8766,34.9687,2,34.9649,4,270.2,2,269.4,2,18.59,2,16.78,2,1.086,2,-999,9,-999.0,9,25,-999,9,-999,9
29AH20160617, OVIDE/BOCATS,59,1,8,20160708,1419,57.013,-27.8825,2753,2249.2,2,3.1631,34.9609,2,34.9599,2,272.7,2,272.3,2,14.58,2,16.48,2,1.062,2,2311.4,2,7.7285,2,25,-999,9,-999,9
29AH20160617, OVIDE/BOCATS,59,1,9,20160708,1419,57.013,-27.8825,2753,1998.8,2,3.3838,34.9406,2,34.9404,2,273.3,2,272.8,2,13.21,2,16.79,2,1.075,2,2309,2,7.7255,2,25,1.4383,2,0.8314,2
29AH20160617, OVIDE/BOCATS,59,1,10,20160708,1419,57.013,-27.8825,2753,1799.9,2,3.5427,34.9285,2,34.9268,2,272.2,2,272,2,12.65,2,17.14,2,1.09,2,2305.7,2,7.7237,2,25,-999,9,-999,9
29AH20160617, OVIDE/BOCATS,59,1,11,20160708,1419,57.013,-27.8825,2753,1599,2,3.6991,34.9237,2,34.9194,4,271.4,2,271.1,2,12.24,2,17.26,2,1.09,2,2303.2,2,7.72,2,25,1.6257,2,0.9237,2
29AH20160617, OVIDE/BOCATS,59,1,13,20160708,1419,57.013,-27.8825,2753,1199.7,2,3.9616,34.9143,2,34.9149,2,273.4,2,272.8,2,10.95,2,17.21,2,1.093,2,2303.5,2,7.7151,2,25,-999,9,-999,9
29AH20160617, OVIDE/BOCATS,59,1,14,20160708,1419,57.013,-27.8825,2753,1000.2,2,4.1267,34.9187,2,34.9179,2,272,2,271,2,10.67,2,17.23,2,1.094,2,2305.6,2,7.7124,2,25,2.0416,2,1.5946,2
29AH20160617, OVIDE/BOCATS,59,1,15,20160708,1419,57.013,-27.8825,2753,900.9,2,4.2839,34.9289,2,34.9277,2,266.9,2,267.1,2,10.79,2,17.48,2,1.103,2,2307.9,2,7.7086,2,25,-999,9,-999,9
29AH20160617, OVIDE/BOCATS,59,1,16,20160708,1419,57.013,-27.8825,2753,799.5,2,4.5168,34.9464,2,34.9466,2,261.1,2,260.2,2,10.98,2,17.69,2,1.117,2,2310.1,2,7.7052,2,25,-999,9,-999,9
29AH20160617, OVIDE/BOCATS,59,1,17,20160708,1419,57.013,-27.8825,2753,698.9,2,4.6993,34.945,2,34.9452,2,258.7,2,257.8,2,10.93,2,17.82,2,1.121,2,2312,2,7.7038,2,25,-999,9,-999,9
29AH20160617, OVIDE/BOCATS,59,1,18,20160708,1419,57.013,-27.8825,2753,598.8,2,5.1091,34.9694,2,34.9687,2,251.5,2,250.2,2,11.11,2,18.01,2,1.145,2,2311.2,2,7.702,2,25,1.8814,2,1.8059,2
29AH20160617, OVIDE/BOCATS,59,1,19,20160708,1419,57.013,-27.8825,2753,500.3,2,5.5389,34.9657,2,34.962,4,250.3,2,248.8,2,10.62,2,17.83,2,1.13,2,-999,9,7.7083,2,25,1.8673,2,1.8143,2
29AH20160617, OVIDE/BOCATS,59,1,20,20160708,1419,57.013,-27.8825,2753,400.4,2,6.0365,34.9746,2,34.9747,2,272,2,271.4,2,8.73,2,15.97,2,1.006,2,2310.6,2,7.7404,2,25,-999,9,-999,9
29AH20160617, OVIDE/BOCATS,59,1,21,20160708,1419,57.013,-27.8825,2753,316.8,2,5.692,34.866,2,34.8644,2,292.7,2,292.6,2,7.63,2,14.65,2,0.945,2,-999,9,7.7498,2,25,-999,9,-999,9
29AH20160617, OVIDE/BOCATS,59,1,22,20160708,1419,57.013,-27.8825,2753,201.2,2,6.4195,34.8828,2,34.8842,2,248.2,2,245.4,4,9.96,2,17.08,2,1.088,2,2307.7,2,7.7136,2,25,1.8305,2,2.0092,2
29AH20160617, OVIDE/BOCATS,59,1,23,20160708,1419,57.013,-27.8825,2753,150.9,2,6.5807,34.8215,2,34.8182,4,264.9,2,265.7,2,9.05,2,15.78,2,0.999,2,-999,9,7.734,2,25,-999,9,-999,9
29AH20160617, OVIDE/BOCATS,59,1,24,20160708,1419,57.013,-27.8825,2753,101.4,2,7.3473,34.8623,2,34.8621,2,275.2,2,272.9,2,7.65,2,14.35,2,0.911,2,2308.4,2,7.7552,2,25,-999,9,-999,9
29AH20160617, OVIDE/BOCATS,59,1,25,20160708,1419,57.013,-27.8825,2753,50.7,2,10.7093,34.865,2,34.8656,2,276.3,2,276.3,2,2.45,2,6.55,2,0.499,2,-999,9,7.8706,2,25,-999,9,-999,9
29AH20160617, OVIDE/BOCATS,59,1,26,20160708,1419,57.013,-27.8825,2753,5.7,2,10.9966,34.8116,2,34.8111,2,283.6,2,284,2,2.13,2,5.86,2,0.443,2,2306.3,2,7.8872,2,25,1.8629,2,2.3868,2
29AH20160617, OVIDE/BOCATS,60,1,3,20160708,1840,57.3806,-28.1726,2607,2636,2,2.7544,34.9799,2,34.9807,2,275,2,274.7,2,15.04,2,16.34,2,1.024,2,-999,9,7.7153,2,25,-999,9,-999,9
29AH20160617, OVIDE/BOCATS,60,1,4,20160708,1840,57.3806,-28.1726,2607,2550.7,2,2.7817,34.9811,2,34.9803,2,275.6,2,275.7,2,14.02,2,16.21,2,1.014,2,-999,9,7.7152,2,25,-999,9,-999,9
29AH20160617, OVIDE/BOCATS,60,1,5,20160708,1840,57.3806,-28.1726,2607,2499.9,2,2.8028,34.9807,2,34.9817,2,275.8,2,275.7,2,13.99,2,16.21,2,1.038,2,-999,9,7.7152,2,25,-999,9,-999,9
29AH20160617, OVIDE/BOCATS,60,1,6,20160708,1840,57.3806,-28.1726,2607,2250.9,2,3.0934,34.9794,2,34.98,2,275,2,276.2,2,12.75,2,16.26,2,1.055,2,-999,9,7.7242,2,25,-999,9,-999,9
29AH20160617, OVIDE/BOCATS,60,1,7,20160708,1840,57.3806,-28.1726,2607,2059.5,2,3.4042,34.9681,2,34.9689,2,274.3,2,276.1,2,11.82,2,16.52,2,1.028,2,-999,9,7.7263,2,25,-999,9,-999,9
29AH20160617, OVIDE/BOCATS,60,1,8,20160708,1840,57.3806,-28.1726,2607,1999.7,2,3.3933,34.9491,2,34.9459,4,273.8,2,274.5,2,12.34,2,16.78,2,1.054,2,-999,9,7.7273,2,25,-999,9,-999,9
29AH20160617, OVIDE/BOCATS,60,1,9,20160708,1840,57.3806,-28.1726,2607,1800.3,2,3.5543,34.9308,2,34.9301,2,272.8,2,272.7,2,11.87,2,17.12,2,1.073,2,-999,9,7.7269,2,25,-999,9,-999,9
29AH20160617, OVIDE/BOCATS,60,1,10,20160708,1840,57.3806,-28.1726,2607,1599,2,3.7648,34.9321,2,34.9323,2,271.8,2,271.6,2,11.28,2,17.08,2,1.071,2,-999,9,7.7222,2,25,-999,9,-999,9
29AH20160617, OVIDE/BOCATS,60,1,11,20160708,1840,57.3806,-28.1726,2607,1400.5,2,3.8758,34.9201,2,34.9205,2,271.9,2,271.9,2,10.74,2,17.2,2,1.08,2,-999,9,7.7218,2,25,-999,9,-999,9
29AH20160617, OVIDE/BOCATS,60,1,12,20160708,1840,57.3806,-28.1726,2607,1201.5,2,4.0126,34.9171,2,34.9177,2,274.1,2,274.1,2,10.2,2,17.05,2,1.071,2,-999,9,7.7156,2,25,-999,9,-999,9
29AH20160617, OVIDE/BOCATS,60,1,13,20160708,1840,57.3806,-28.1726,2607,999.4,2,4.2498,34.9293,2,34.9297,2,268.3,2,268.5,2,10.2,2,17.3,2,1.09,2,-999,9,7.7067,2,25,-999,9,-999,9
29AH20160617, OVIDE/BOCATS,60,1,14,20160708,1840,57.3806,-28.1726,2607,899.6,2,4.4412,34.9437,2,34.9442,2,262.7,2,262.5,2,10.17,2,17.36,2,1.095,2,-999,9,7.7047,2,25,-999,9,-999,9
29AH20160617, OVIDE/BOCATS,60,1,15,20160708,1840,57.3806,-28.1726,2607,799.3,2,4.7024,34.9606,2,34.9603,2,255.6,2,256.1,2,10.07,2,17.52,2,1.106,2,-999,9,7.7045,2,25,-999,9,-999,9
29AH20160617, OVIDE/BOCATS,60,1,16,20160708,1840,57.3806,-28.1726,2607,699.6,2,5.0644,34.9765,2,34.9766,2,250.5,2,249.3,2,10.16,2,17.66,2,1.118,2,-999,9,7.697,2,25,-999,9,-999,9
29AH20160617, OVIDE/BOCATS,60,1,17,20160708,1840,57.3806,-28.1726,2607,599.6,2,5.4797,34.9937,2,34.9911,2,250.9,2,249.9,2,9.66,2,17.26,2,1.105,2,-999,9,7.7081,2,25,-999,9,-999,9
29AH20160617, OVIDE/BOCATS,60,1,18,20160708,1840,57.3806,-28.1726,2607,499.8,2,5.9419,35.007,2,35.0075,2,260.5,2,258.9,2,8.74,2,16.41,2,1.041,2,-999,9,7.7191,2,25,-999,9,-999,9
29AH20160617, OVIDE/BOCATS,60,1,19,20160708,1840,57.3806,-28.1726,2607,399.5,2,6.4224,35.0336,2,35.0334,2,274.6,2,274.3,2,7.4,2,14.93,2,0.95,2,-999,9,7.7446,2,25,-999,9,-999,9
29AH20160617, OVIDE/BOCATS,60,1,20,20160708,1840,57.3806,-28.1726,2607,299.3,2,5.9725,34.9062,2,34.9077,2,279.2,2,279.2,2,7.56,2,14.89,2,0.962,2,-999,9,7.7377,2,25,-999,9,-999,9
29AH20160617, OVIDE/BOCATS,60,1,21,20160708,1840,57.3806,-28.1726,2607,200.1,2,5.9378,34.8166,2,34.8182,2,271.2,2,270.2,2,8.34,2,15.43,2,1.012,2,-999,9,7.7249,2,25,-999,9,-999,9
29AH20160617, OVIDE/BOCATS,60,1,22,20160708,1840,57.3806,-28.1726,2607,150.4,2,6.8736,34.9249,2,34.9243,2,272.6,2,272,2,7.19,2,14.16,2,0.918,2,-999,9,7.7449,2,25,-999,9,-999,9
29AH20160617, OVIDE/BOCATS,60,1,23,20160708,1840,57.3806,-28.1726,2607,99.6,2,7.1337,34.8891,2,34.8899,2,278.3,2,277.3,2,6.69,2,13.32,2,0.864,2,-999,9,7.7542,2,25,-999,9,-999,9
29AH20160617, OVIDE/BOCATS,60,1,24,20160708,1840,57.3806,-28.1726,2607,50,2,9.1517,34.7795,2,34.7814,2,280,2,279.1,2,2.84,2,6.88,2,0.521,2,-999,9,7.8472,2,25,-999,9,-999,9
29AH20160617, OVIDE/BOCATS,60,1,25,20160708,1840,57.3806,-28.1726,2607,6.6,2,10.1057,34.758,2,34.7581,2,288.1,2,288.2,2,2.02,2,4.96,2,0.415,2,-999,9,7.8829,2,25,-999,9,-999,9