BOTTLE,20230706CCHSIOENA
EXPOCODE,SECT_ID,STNNBR,CASTNO,SAMPNO,DATE,TIME,LATITUDE,LONGITUDE,DEPTH,CTDPRS,CTDPRS_FLAG_W,CTDTMP,CTDSAL,CTDSAL_FLAG_W,SALNTY,SALNTY_FLAG_W,CTDOXY,CTDOXY_FLAG_W,OXYGEN,OXYGEN_FLAG_W,SILCAT,SILCAT_FLAG_W,NITRAT,NITRAT_FLAG_W,PHSPHT,PHSPHT_FLAG_W,ALKALI,ALKALI_FLAG_W,PH_SWS,PH_SWS_FLAG_W,PH_TMP,CFC-12,CFC-12_FLAG_W,SF6,SF6_FLAG_W
,,,,,,,,,METERS,DBAR,,DEG C,PSS-78,,PSS-78,,UMOL/KG,,UMOL/KG,,UMOL/KG,,UMOL/KG,,UMOL/KG,,UMOL/KG,,,,DEG C,PMOL/KG,,FMOL/KG,
29AH20160617, OVIDE/BOCATS,66,1,3,20160709,2150,58.7264,-30.6994,1451,1455.4,2,4.0047,34.9864,2,34.9855,2,270.5,2,270.8,2,10.96,2,16.41,2,1.035,2,-999,9,7.7152,2,25,-999,9,-999,9
29AH20160617, OVIDE/BOCATS,66,1,4,20160709,2150,58.7264,-30.6994,1451,1201.3,2,4.0284,34.9855,2,34.9863,2,270.5,2,270.9,2,10.85,2,16.46,2,1.051,2,-999,9,7.7166,2,25,-999,9,-999,9
29AH20160617, OVIDE/BOCATS,66,1,5,20160709,2150,58.7264,-30.6994,1451,1001.1,2,4.3533,34.9867,2,34.9775,4,267.9,2,267.9,2,10.69,2,16.59,2,1.053,2,-999,9,7.7155,2,25,-999,9,-999,9
29AH20160617, OVIDE/BOCATS,66,1,6,20160709,2150,58.7264,-30.6994,1451,850.1,2,5.1459,35.0308,2,35.0314,2,255.8,2,254.7,2,10.45,2,17.04,2,1.071,2,-999,9,7.7155,2,25,-999,9,-999,9
29AH20160617, OVIDE/BOCATS,66,1,7,20160709,2150,58.7264,-30.6994,1451,721,2,5.6432,35.0385,2,35.0393,2,246.3,2,245.4,2,10.58,2,17.69,2,1.103,2,-999,9,7.7091,2,25,-999,9,-999,9
29AH20160617, OVIDE/BOCATS,66,1,8,20160709,2150,58.7264,-30.6994,1451,595.4,2,6.2568,35.0726,2,35.0728,2,258.6,2,258,2,9.13,2,16.52,2,1.029,2,-999,9,7.7296,2,25,-999,9,-999,9
29AH20160617, OVIDE/BOCATS,66,1,9,20160709,2150,58.7264,-30.6994,1451,520.1,2,6.5786,35.0886,2,35.0871,2,268.7,2,269.7,2,8.08,2,15.51,2,0.971,2,-999,9,7.7459,2,25,-999,9,-999,9
29AH20160617, OVIDE/BOCATS,66,1,10,20160709,2150,58.7264,-30.6994,1451,399,2,6.8002,35.092,2,35.0916,2,273.1,2,272.7,2,7.56,2,14.86,2,0.933,2,-999,9,7.7496,2,25,-999,9,-999,9
29AH20160617, OVIDE/BOCATS,66,1,11,20160709,2150,58.7264,-30.6994,1451,300.3,2,6.8357,35.0811,2,35.0806,2,275.5,2,275.3,2,7.31,2,14.74,2,0.926,2,-999,9,7.7536,2,25,-999,9,-999,9
29AH20160617, OVIDE/BOCATS,66,1,12,20160709,2150,58.7264,-30.6994,1451,199.2,2,6.8862,35.0624,2,35.0627,2,276.6,2,275.8,2,7.26,2,14.74,2,0.92,2,-999,9,7.7557,2,25,-999,9,-999,9
29AH20160617, OVIDE/BOCATS,66,1,13,20160709,2150,58.7264,-30.6994,1451,150.3,2,6.9262,35.0419,2,35.0417,2,277.5,2,277.7,2,7.33,2,14.64,2,0.93,2,-999,9,7.7554,2,25,-999,9,-999,9
29AH20160617, OVIDE/BOCATS,66,1,14,20160709,2150,58.7264,-30.6994,1451,99,2,6.569,34.9094,2,34.9073,2,276.9,2,275.4,2,7.73,2,14.75,2,0.94,2,-999,9,7.7436,2,25,-999,9,-999,9
29AH20160617, OVIDE/BOCATS,66,1,15,20160709,2150,58.7264,-30.6994,1451,39.4,2,7.9163,34.908,2,34.911,4,279.8,2,280.2,2,4.5,2,11.23,2,0.75,2,-999,9,7.7901,2,25,-999,9,-999,9
29AH20160617, OVIDE/BOCATS,66,1,16,20160709,2150,58.7264,-30.6994,1451,5.1,2,9.913,34.8381,2,34.8375,2,289.5,2,-999,9,1.6,2,6.28,2,0.407,2,-999,9,7.8773,2,25,-999,9,-999,9
29AH20160617, OVIDE/BOCATS,67,1,3,20160710,103,58.8463,-31.2697,1483,1489.8,2,4.0453,34.9855,2,34.9864,2,270.1,2,270.2,2,9.89,2,15.85,2,1.027,2,2308.5,2,7.7184,2,25,1.8033,2,1.4048,2
29AH20160617, OVIDE/BOCATS,67,1,4,20160710,103,58.8463,-31.2697,1483,1298.7,2,4.0487,34.9852,2,34.9856,2,269.9,2,268.8,2,9.82,2,15.92,2,1.028,2,2308.3,2,7.7175,2,25,-999,9,-999,9
29AH20160617, OVIDE/BOCATS,67,1,5,20160710,103,58.8463,-31.2697,1483,1099.3,2,4.2181,34.9833,2,34.9849,2,268.2,2,267.1,2,9.67,2,16.09,2,1.045,2,2307.8,2,7.7175,2,25,1.8515,2,1.5812,2
29AH20160617, OVIDE/BOCATS,67,1,6,20160710,103,58.8463,-31.2697,1483,901.6,2,5.1856,35.029,2,35.0296,2,254.3,2,252.7,2,9.56,2,16.65,2,1.075,2,2308.1,2,7.7134,2,25,-999,9,-999,9
29AH20160617, OVIDE/BOCATS,67,1,7,20160710,103,58.8463,-31.2697,1483,701.9,2,5.8609,35.0464,2,35.0473,2,253.9,2,251.1,4,9.07,2,16.69,2,1.067,2,2311.5,2,7.7198,2,25,1.8558,2,1.9408,2
29AH20160617, OVIDE/BOCATS,67,1,8,20160710,103,58.8463,-31.2697,1483,601.7,2,6.1598,35.0461,2,35.0466,2,271.2,2,270.7,2,7.5,2,15.26,2,0.978,2,-999,9,7.7387,2,25,-999,9,-999,9
29AH20160617, OVIDE/BOCATS,67,1,9,20160710,103,58.8463,-31.2697,1483,499.3,2,6.392,35.061,2,35.0617,2,274.9,2,274.3,2,7.18,2,14.82,2,0.952,2,2313.2,2,7.7461,2,25,2.0445,2,2.3325,2
29AH20160617, OVIDE/BOCATS,67,1,10,20160710,103,58.8463,-31.2697,1483,399.4,2,6.521,35.0646,2,35.0639,2,279.8,2,279.7,2,6.46,2,14.18,2,0.91,2,2312.3,2,7.7546,2,25,-999,9,-999,9
29AH20160617, OVIDE/BOCATS,67,1,11,20160710,103,58.8463,-31.2697,1483,300.6,2,6.6662,35.0704,2,35.0706,2,279.2,2,279.1,2,6.37,2,14.03,2,0.912,2,2313.7,2,7.7574,2,25,-999,9,-999,9
29AH20160617, OVIDE/BOCATS,67,1,12,20160710,103,58.8463,-31.2697,1483,199.7,2,6.6125,35.0322,2,35.0295,2,281,2,281.5,2,6.39,2,14.02,2,0.918,2,2314.1,2,7.7542,2,25,2.1061,2,2.4629,2
29AH20160617, OVIDE/BOCATS,67,1,13,20160710,103,58.8463,-31.2697,1483,149.2,2,6.5716,34.9684,2,34.973,4,279.4,2,278.6,2,6.65,2,14.14,2,0.93,2,-999,9,7.7515,2,25,-999,9,-999,9
29AH20160617, OVIDE/BOCATS,67,1,14,20160710,103,58.8463,-31.2697,1483,98.9,2,6.4913,34.9157,2,34.9157,2,275.2,2,274.9,2,6.99,2,14.33,2,0.942,2,2308,2,7.7429,2,25,-999,9,-999,9
29AH20160617, OVIDE/BOCATS,67,1,15,20160710,103,58.8463,-31.2697,1483,50.5,2,8.7147,34.866,2,34.8719,4,280.8,2,285,4,1.99,2,6.82,2,0.464,2,-999,9,7.8358,2,25,-999,9,-999,9
29AH20160617, OVIDE/BOCATS,67,1,16,20160710,103,58.8463,-31.2697,1483,4.9,2,9.5373,34.8661,2,34.8665,2,289.6,2,-999,9,2.02,2,6.72,2,0.454,2,2305,2,7.8586,2,25,2.0018,2,2.4785,2
29AH20160617, OVIDE/BOCATS,68,1,3,20160710,431,58.9104,-31.912,1695,1706.8,2,3.8809,34.9746,2,34.9756,2,270.7,2,270.2,2,10.36,2,16.04,2,1.039,2,-999,9,7.7195,2,25,-999,9,-999,9
29AH20160617, OVIDE/BOCATS,68,1,4,20160710,431,58.9104,-31.912,1695,1601.2,2,3.926,34.9761,2,34.9759,2,270.3,2,270.2,2,10.27,2,16.13,2,1.045,2,-999,9,7.7194,2,25,-999,9,-999,9
29AH20160617, OVIDE/BOCATS,68,1,5,20160710,431,58.9104,-31.912,1695,1401.7,2,3.9206,34.9763,2,34.976,2,270.4,2,269.8,2,10.27,2,16.11,2,1.051,2,-999,9,7.7171,2,25,-999,9,-999,9
29AH20160617, OVIDE/BOCATS,68,1,6,20160710,431,58.9104,-31.912,1695,1201,2,3.9281,34.9718,2,34.9725,2,270.6,2,269.9,2,10.41,2,16.15,2,1.035,2,-999,9,7.7166,2,25,-999,9,-999,9
29AH20160617, OVIDE/BOCATS,68,1,7,20160710,431,58.9104,-31.912,1695,1001.7,2,4.1204,34.9519,2,34.9523,2,269.4,2,268.4,2,9.86,2,16.5,2,1.056,2,-999,9,7.7122,2,25,-999,9,-999,9
29AH20160617, OVIDE/BOCATS,68,1,8,20160710,431,58.9104,-31.912,1695,899.2,2,4.3575,34.9592,2,34.9594,2,265.4,2,264.7,2,9.59,2,16.7,2,1.076,2,-999,9,7.7097,2,25,-999,9,-999,9
29AH20160617, OVIDE/BOCATS,68,1,9,20160710,431,58.9104,-31.912,1695,800,2,4.59,34.9677,2,34.968,2,261.9,2,260.5,2,9.71,2,16.96,2,1.081,2,-999,9,7.7059,2,25,-999,9,-999,9
29AH20160617, OVIDE/BOCATS,68,1,10,20160710,431,58.9104,-31.912,1695,724,2,4.9368,34.9939,2,34.9937,2,257.8,2,256.3,2,9.54,2,16.85,2,1.086,2,-999,9,7.7064,2,25,-999,9,-999,9
29AH20160617, OVIDE/BOCATS,68,1,11,20160710,431,58.9104,-31.912,1695,602.2,2,4.7963,34.9254,2,34.9254,2,282,2,281.1,2,8.16,2,15.97,2,1.037,2,-999,9,7.7127,2,25,-999,9,-999,9
29AH20160617, OVIDE/BOCATS,68,1,12,20160710,431,58.9104,-31.912,1695,500.7,2,5.1011,34.935,2,34.9353,2,283.7,2,284.1,2,7.84,2,15.64,2,1.014,2,-999,9,7.7251,2,25,-999,9,-999,9
29AH20160617, OVIDE/BOCATS,68,1,13,20160710,431,58.9104,-31.912,1695,418.4,2,5.9339,35.0396,2,35.0402,2,260.6,2,260.4,2,8.5,2,16.26,2,1.032,2,-999,9,7.7257,2,25,-999,9,-999,9
29AH20160617, OVIDE/BOCATS,68,1,14,20160710,431,58.9104,-31.912,1695,302.6,2,6.5038,35.0737,2,35.0734,2,279.3,2,278.5,2,6.98,2,14.48,2,0.922,2,-999,9,7.7574,2,25,-999,9,-999,9
29AH20160617, OVIDE/BOCATS,68,1,15,20160710,431,58.9104,-31.912,1695,199.6,2,6.7358,35.08,2,35.0801,2,279,2,278.9,2,6.54,2,14.07,2,0.901,2,-999,9,7.7608,2,25,-999,9,-999,9
29AH20160617, OVIDE/BOCATS,68,1,16,20160710,431,58.9104,-31.912,1695,152.9,2,6.6978,35.0553,2,35.0548,2,279.4,2,279.2,2,6.59,2,14.15,2,0.907,2,-999,9,7.7553,2,25,-999,9,-999,9
29AH20160617, OVIDE/BOCATS,68,1,17,20160710,431,58.9104,-31.912,1695,102.5,2,6.5898,34.9621,2,34.9602,2,278.5,2,278,2,6.86,2,14.34,2,0.931,2,-999,9,7.7457,2,25,-999,9,-999,9
29AH20160617, OVIDE/BOCATS,68,1,18,20160710,431,58.9104,-31.912,1695,39.7,2,8.1755,34.7867,2,34.7868,2,292.5,2,293.1,2,1.69,2,8.39,2,0.581,2,-999,9,7.8305,2,25,-999,9,-999,9
29AH20160617, OVIDE/BOCATS,68,1,19,20160710,431,58.9104,-31.912,1695,3.9,2,9.2491,34.7984,2,34.797,2,291.3,2,292,2,2.28,2,6.76,2,0.445,2,-999,9,7.8604,2,25,-999,9,-999,9
29AH20160617, OVIDE/BOCATS,69,1,3,20160710,914,58.9752,-32.5549,1881,1892.8,2,3.4049,34.9513,2,34.9498,2,273.3,2,-999,9,13.21,2,16.43,2,1.063,2,-999,9,7.7243,2,25,1.5742,2,0.9832,2
29AH20160617, OVIDE/BOCATS,69,1,4,20160710,914,58.9752,-32.5549,1881,1798.5,2,3.4207,34.9517,2,34.9527,2,273.1,2,273.2,2,12.77,2,16.59,2,1.064,2,2308.4,2,7.7176,2,25,-999,9,-999,9
29AH20160617, OVIDE/BOCATS,69,1,5,20160710,914,58.9752,-32.5549,1881,1599.1,2,3.5566,34.9512,2,34.9512,2,272.7,2,272.4,2,12.16,2,16.54,2,1.063,2,2307.7,2,7.7207,2,25,-999,9,-999,9
29AH20160617, OVIDE/BOCATS,69,1,6,20160710,914,58.9752,-32.5549,1881,1398.7,2,3.7245,34.9486,2,34.9492,2,273,2,272.6,2,11.36,2,16.44,2,1.064,2,2306.2,2,7.7056,2,25,1.7076,2,-999,9
29AH20160617, OVIDE/BOCATS,69,1,7,20160710,914,58.9752,-32.5549,1881,1200.2,2,3.8416,34.9497,2,34.9495,2,274.7,2,274.7,2,10.85,2,16.3,2,1.066,2,2306.9,2,7.7128,2,25,-999,9,-999,9
29AH20160617, OVIDE/BOCATS,69,1,8,20160710,914,58.9752,-32.5549,1881,1025.8,2,3.764,34.924,2,34.925,2,283.3,2,-999,9,10.11,2,16.14,2,1.049,2,2304.2,2,7.7205,2,25,2.0795,2,1.8427,2
29AH20160617, OVIDE/BOCATS,69,1,9,20160710,914,58.9752,-32.5549,1881,855.9,2,4.1037,34.9571,2,34.957,2,274.3,2,274,2,10.1,2,16.31,2,1.065,2,-999,9,7.7268,2,25,-999,9,-999,9
29AH20160617, OVIDE/BOCATS,69,1,10,20160710,914,58.9752,-32.5549,1881,800.3,2,4.0391,34.9384,2,34.9387,2,276.3,2,275.9,2,9.82,2,16.34,2,1.074,2,2307.7,2,7.7139,2,25,2.0512,2,1.8319,2
29AH20160617, OVIDE/BOCATS,69,1,11,20160710,914,58.9752,-32.5549,1881,700.5,2,4.1325,34.9419,2,34.9427,2,276.7,2,276.3,2,9.59,2,16.23,2,1.085,2,2308.5,2,7.712,2,25,-999,9,-999,9
29AH20160617, OVIDE/BOCATS,69,1,12,20160710,914,58.9752,-32.5549,1881,600.1,2,4.2649,34.9448,2,34.9446,2,277.2,2,275.7,2,9.33,2,16.19,2,1.073,2,2307.6,2,7.7078,2,25,-999,9,-999,9
29AH20160617, OVIDE/BOCATS,69,1,13,20160710,914,58.9752,-32.5549,1881,500,2,4.4148,34.9504,2,34.9458,4,274,2,272.8,2,9.59,2,16.33,2,1.083,2,2308.2,2,7.7116,2,25,2.0687,2,1.9067,2
29AH20160617, OVIDE/BOCATS,69,1,14,20160710,914,58.9752,-32.5549,1881,399.4,2,4.5867,34.9516,2,34.9487,2,277,2,276.7,2,9.33,2,16.26,2,1.076,2,2308.5,2,7.7149,2,25,-999,9,-999,9
29AH20160617, OVIDE/BOCATS,69,1,15,20160710,914,58.9752,-32.5549,1881,300.4,2,4.7734,34.9547,2,34.955,2,280.8,2,280.6,2,9.08,2,16.25,2,1.059,2,2308.6,2,7.7155,2,25,-999,9,-999,9
29AH20160617, OVIDE/BOCATS,69,1,16,20160710,914,58.9752,-32.5549,1881,200.1,2,5.0074,34.9584,2,34.9572,2,287.3,2,286.3,2,8.87,2,16.1,2,1.057,2,2308.1,2,7.7124,2,25,2.2139,2,2.3902,2
29AH20160617, OVIDE/BOCATS,69,1,17,20160710,914,58.9752,-32.5549,1881,149,2,5.3281,34.9577,2,34.9532,4,291.9,2,290.9,2,8.44,2,15.59,2,1.009,2,-999,9,7.7309,2,25,-999,9,-999,9
29AH20160617, OVIDE/BOCATS,69,1,18,20160710,914,58.9752,-32.5549,1881,100.5,2,5.8148,34.9326,2,34.9292,4,294.8,2,294.8,2,7.46,2,13.83,2,0.975,2,2310.8,2,7.7439,2,25,-999,9,-999,9
29AH20160617, OVIDE/BOCATS,69,1,19,20160710,914,58.9752,-32.5549,1881,39.4,2,8.4715,34.7836,2,34.7832,2,292.2,2,293.6,2,0.99,2,7.9,2,0.559,2,-999,9,7.8365,2,25,-999,9,-999,9
29AH20160617, OVIDE/BOCATS,69,1,20,20160710,914,58.9752,-32.5549,1881,4.6,2,9.0355,34.7782,2,34.7775,2,294.2,2,295.1,2,1.21,2,7.21,2,0.559,2,2302.3,2,7.8563,2,25,2.0747,2,2.6245,2
29AH20160617, OVIDE/BOCATS,70,1,3,20160710,1259,59.041,-33.1924,2284,2303.5,2,3.1321,34.9438,2,34.944,2,274.7,2,273.9,2,13.86,2,16.2,2,1.059,2,-999,9,7.7268,2,25,-999,9,-999,9
29AH20160617, OVIDE/BOCATS,70,1,4,20160710,1259,59.041,-33.1924,2284,2199.9,2,3.1925,34.9456,2,34.9456,2,274.2,2,273.5,2,13.51,2,16.23,2,1.056,2,-999,9,7.7253,2,25,-999,9,-999,9
29AH20160617, OVIDE/BOCATS,70,1,5,20160710,1259,59.041,-33.1924,2284,2098.2,2,3.2344,34.9463,2,34.9466,2,273.9,2,273.3,2,13.35,2,16.27,2,1.058,2,-999,9,7.7231,2,25,-999,9,-999,9
29AH20160617, OVIDE/BOCATS,70,1,6,20160710,1259,59.041,-33.1924,2284,1999.3,2,3.3306,34.9481,2,34.9469,2,273.5,2,273.1,2,12.93,2,16.41,2,1.058,2,-999,9,7.7244,2,25,-999,9,-999,9
29AH20160617, OVIDE/BOCATS,70,1,7,20160710,1259,59.041,-33.1924,2284,1800.1,2,3.5316,34.9514,2,34.9513,2,273.3,2,273.3,2,11.92,2,16.31,2,1.055,2,-999,9,7.7231,2,25,-999,9,-999,9
29AH20160617, OVIDE/BOCATS,70,1,8,20160710,1259,59.041,-33.1924,2284,1596.1,2,3.6702,34.9499,2,34.9502,2,272.6,2,271.9,2,11.32,2,16.35,2,1.061,2,-999,9,7.7215,2,25,-999,9,-999,9
29AH20160617, OVIDE/BOCATS,70,1,9,20160710,1259,59.041,-33.1924,2284,1398.5,2,3.7698,34.9462,2,34.9452,2,274.3,2,273.2,2,11.12,2,16.39,2,1.058,2,-999,9,7.7193,2,25,-999,9,-999,9
29AH20160617, OVIDE/BOCATS,70,1,10,20160710,1259,59.041,-33.1924,2284,1202.8,2,3.6201,34.9004,2,34.9009,2,289.2,2,-999,9,9.79,2,16.21,2,1.044,2,-999,9,7.7161,2,25,-999,9,-999,9
29AH20160617, OVIDE/BOCATS,70,1,11,20160710,1259,59.041,-33.1924,2284,1000.1,2,3.6183,34.8899,2,34.8903,2,296.8,2,297.1,2,9.25,2,16.2,2,1.031,2,-999,9,7.7197,2,25,-999,9,-999,9
29AH20160617, OVIDE/BOCATS,70,1,12,20160710,1259,59.041,-33.1924,2284,801.4,2,3.821,34.908,2,34.9089,2,291.2,2,291.2,2,9.62,2,16.57,2,1.044,2,-999,9,7.7167,2,25,-999,9,-999,9
29AH20160617, OVIDE/BOCATS,70,1,13,20160710,1259,59.041,-33.1924,2284,600.3,2,4.0766,34.921,2,34.9215,2,287.7,2,288.3,2,9.86,2,16.56,2,1.057,2,-999,9,7.7166,2,25,-999,9,-999,9
29AH20160617, OVIDE/BOCATS,70,1,14,20160710,1259,59.041,-33.1924,2284,449.8,2,4.3873,34.9227,2,34.9147,4,277.7,2,277.1,2,9.82,2,16.87,2,1.086,2,-999,9,7.7119,2,25,-999,9,-999,9
29AH20160617, OVIDE/BOCATS,70,1,15,20160710,1259,59.041,-33.1924,2284,299.5,2,4.7003,34.9252,2,34.9246,2,283.9,2,280.5,4,8.92,2,16.38,2,1.052,2,-999,9,7.7176,2,25,-999,9,-999,9
29AH20160617, OVIDE/BOCATS,70,1,16,20160710,1259,59.041,-33.1924,2284,200.4,2,5.0931,34.9412,2,34.9407,2,283.5,2,284.5,2,8.45,2,15.99,2,1.027,2,-999,9,7.7244,2,25,-999,9,-999,9
29AH20160617, OVIDE/BOCATS,70,1,17,20160710,1259,59.041,-33.1924,2284,150.4,2,5.3944,34.9625,2,34.9628,2,283.8,2,283.4,2,8.35,2,15.87,2,1.012,2,-999,9,7.7303,2,25,-999,9,-999,9
29AH20160617, OVIDE/BOCATS,70,1,18,20160710,1259,59.041,-33.1924,2284,100.8,2,5.7375,34.9763,2,34.977,2,285.4,2,-999,9,7.78,2,15.32,2,0.979,2,-999,9,7.7374,2,25,-999,9,-999,9
29AH20160617, OVIDE/BOCATS,70,1,19,20160710,1259,59.041,-33.1924,2284,39.3,2,8.2302,34.8024,2,34.8028,2,296.9,2,300.6,4,1.01,2,8.49,2,0.576,2,-999,9,7.8372,2,25,-999,9,-999,9
29AH20160617, OVIDE/BOCATS,70,1,20,20160710,1259,59.041,-33.1924,2284,4.2,2,8.8444,34.7932,2,34.7911,2,296.9,2,297.8,2,0.96,2,7.81,2,0.511,2,-999,9,7.8507,2,25,-999,9,-999,9
29AH20160617, OVIDE/BOCATS,71,1,3,20160710,1651,59.1011,-33.8338,2290,2311.6,2,3.0256,34.9395,2,34.939,2,275.7,2,276.2,2,14.68,2,16.56,2,1.024,2,2308.2,2,7.7306,2,25,1.4488,2,0.8607,2
29AH20160617, OVIDE/BOCATS,71,1,4,20160710,1651,59.1011,-33.8338,2290,1999.7,2,3.1539,34.9412,2,34.9401,2,274.8,2,274.8,2,13.93,2,16.55,2,1.036,2,2308.6,2,7.7292,2,25,-999,9,-999,9
29AH20160617, OVIDE/BOCATS,71,1,5,20160710,1651,59.1011,-33.8338,2290,1799.8,2,3.3347,34.9505,2,34.9472,4,273.3,2,273.1,2,13.32,2,16.64,2,1.033,2,2308,2,7.7321,2,25,-999,9,-999,9
29AH20160617, OVIDE/BOCATS,71,1,6,20160710,1651,59.1011,-33.8338,2290,1668.8,2,3.4046,34.9424,2,34.9419,2,273.8,2,273.3,2,12.56,2,16.85,2,1.045,2,2305.8,2,7.7346,2,25,1.5807,2,1.0124,2
29AH20160617, OVIDE/BOCATS,71,1,7,20160710,1651,59.1011,-33.8338,2290,1398.5,2,3.6661,34.957,2,34.9566,2,272.6,2,271.9,2,12.25,2,17.08,2,1.038,2,2307.4,2,7.721,2,25,1.7028,2,1.2369,2
29AH20160617, OVIDE/BOCATS,71,1,8,20160710,1651,59.1011,-33.8338,2290,998.2,2,3.7432,34.9295,2,34.9302,2,279.5,2,278.9,2,11.17,2,17.06,2,1.036,2,2307.3,2,7.7249,2,25,-999,9,-999,9
29AH20160617, OVIDE/BOCATS,71,1,9,20160710,1651,59.1011,-33.8338,2290,900,2,3.6294,34.9019,2,34.9013,2,289.2,2,289.1,2,10.41,2,16.8,2,1.026,2,2306.5,2,7.7134,2,25,2.1515,2,1.94,2
29AH20160617, OVIDE/BOCATS,71,1,10,20160710,1651,59.1011,-33.8338,2290,699.7,2,3.7658,34.9074,2,34.9073,2,289.2,2,289.2,2,10.41,2,16.96,2,1.042,2,2303.5,2,7.723,2,25,2.1904,2,2.0775,2
29AH20160617, OVIDE/BOCATS,71,1,11,20160710,1651,59.1011,-33.8338,2290,600.6,2,3.9938,34.9268,2,34.9263,2,282.1,2,281.9,2,10.43,2,17.03,2,1.053,2,-999,9,7.7149,2,25,2.1132,2,1.894,2
29AH20160617, OVIDE/BOCATS,71,1,12,20160710,1651,59.1011,-33.8338,2290,499.8,2,4.1033,34.9257,2,34.9259,2,283.7,2,283.6,2,9.93,2,17.03,2,1.053,2,2305.1,2,7.7146,2,25,-999,9,-999,9
29AH20160617, OVIDE/BOCATS,71,1,13,20160710,1651,59.1011,-33.8338,2290,398,2,4.2512,34.9276,2,34.927,2,285,2,284,2,9.8,2,16.96,2,1.053,2,2305.2,2,7.7146,2,25,-999,9,-999,9
29AH20160617, OVIDE/BOCATS,71,1,14,20160710,1651,59.1011,-33.8338,2290,299,2,4.4174,34.9261,2,34.9257,2,283.4,2,282.6,2,9.66,2,17.02,2,1.053,2,2305.1,2,7.7162,2,25,-999,9,-999,9
29AH20160617, OVIDE/BOCATS,71,1,15,20160710,1651,59.1011,-33.8338,2290,200.6,2,4.7213,34.9386,2,34.9383,2,283.6,2,283.1,2,9.48,2,16.86,2,1.044,2,2305.9,2,7.7208,2,25,2.1718,2,2.1413,2
29AH20160617, OVIDE/BOCATS,71,1,16,20160710,1651,59.1011,-33.8338,2290,100.9,2,5.1404,34.9411,2,34.9407,2,289.6,2,288.7,2,8.73,2,16.41,2,1.018,2,2304.2,2,7.7303,2,25,-999,9,-999,9
29AH20160617, OVIDE/BOCATS,71,1,17,20160710,1651,59.1011,-33.8338,2290,61.6,2,5.9127,34.9229,2,34.922,2,293.9,2,293.4,2,6.86,2,14,2,0.941,2,-999,9,7.7491,2,25,-999,9,-999,9
29AH20160617, OVIDE/BOCATS,71,1,18,20160710,1651,59.1011,-33.8338,2290,5.4,2,8.8911,34.8489,2,34.8453,4,297.4,2,297.4,2,1.49,2,8.13,2,0.535,2,2304.7,2,7.8433,2,25,2.1133,2,2.6932,2