BOTTLE,20230706CCHSIOENA
EXPOCODE,SECT_ID,STNNBR,CASTNO,SAMPNO,DATE,TIME,LATITUDE,LONGITUDE,DEPTH,CTDPRS,CTDPRS_FLAG_W,CTDTMP,CTDSAL,CTDSAL_FLAG_W,SALNTY,SALNTY_FLAG_W,CTDOXY,CTDOXY_FLAG_W,OXYGEN,OXYGEN_FLAG_W,SILCAT,SILCAT_FLAG_W,NITRAT,NITRAT_FLAG_W,PHSPHT,PHSPHT_FLAG_W,ALKALI,ALKALI_FLAG_W,PH_SWS,PH_SWS_FLAG_W,PH_TMP,CFC-12,CFC-12_FLAG_W,SF6,SF6_FLAG_W
,,,,,,,,,METERS,DBAR,,DEG C,PSS-78,,PSS-78,,UMOL/KG,,UMOL/KG,,UMOL/KG,,UMOL/KG,,UMOL/KG,,UMOL/KG,,,,DEG C,PMOL/KG,,FMOL/KG,
29AH20160617, OVIDE/BOCATS,10,1,3,20160624,759,40.3342,-10.9059,4853,4931.4,2,2.5044,34.8938,2,34.8849,4,244.4,2,243.2,2,48.46,2,23.16,2,1.535,2,-999,9,7.7442,2,25,-999,9,-999,9
29AH20160617, OVIDE/BOCATS,10,1,4,20160624,759,40.3342,-10.9059,4853,4498.7,2,2.474,34.8966,2,34.8985,2,243.4,2,243.1,2,47.79,2,22.87,2,1.516,2,-999,9,7.7426,2,25,-999,9,-999,9
29AH20160617, OVIDE/BOCATS,10,1,5,20160624,759,40.3342,-10.9059,4853,3999.7,2,2.486,34.9037,2,34.9032,2,243.3,2,243.2,2,46.31,2,22.8,2,1.505,2,-999,9,7.7424,2,25,-999,9,-999,9
29AH20160617, OVIDE/BOCATS,10,1,6,20160624,759,40.3342,-10.9059,4853,3748.3,2,2.5229,34.9102,2,34.9094,2,243.8,2,243.5,2,44.57,2,22.64,2,1.49,2,-999,9,7.7408,2,25,-999,9,-999,9
29AH20160617, OVIDE/BOCATS,10,1,7,20160624,759,40.3342,-10.9059,4853,3500.6,2,2.5902,34.9191,2,34.9194,2,244.2,2,244,2,42.21,2,22.44,2,1.473,2,-999,9,7.7404,2,25,-999,9,-999,9
29AH20160617, OVIDE/BOCATS,10,1,8,20160624,759,40.3342,-10.9059,4853,3500.8,2,2.5903,34.9191,2,34.9199,2,244.2,2,244,2,42.02,2,22.24,2,1.467,2,-999,9,-999.0,9,25,-999,9,-999,9
29AH20160617, OVIDE/BOCATS,10,1,9,20160624,759,40.3342,-10.9059,4853,2998.7,2,2.8564,34.9486,2,34.9498,2,245.5,2,245.5,2,35.74,2,21.28,2,1.419,2,-999,9,7.7438,2,25,-999,9,-999,9
29AH20160617, OVIDE/BOCATS,10,1,10,20160624,759,40.3342,-10.9059,4853,2750.1,2,3.1021,34.9749,2,34.977,2,245.8,2,246.2,2,31.95,2,20.95,2,1.379,2,-999,9,7.7434,2,25,-999,9,-999,9
29AH20160617, OVIDE/BOCATS,10,1,11,20160624,759,40.3342,-10.9059,4853,2501.8,2,3.4385,35.0118,2,35.0144,2,245.9,2,246.3,2,27.92,2,20.38,2,1.344,2,-999,9,7.7437,2,25,-999,9,-999,9
29AH20160617, OVIDE/BOCATS,10,1,12,20160624,759,40.3342,-10.9059,4853,2249.5,2,3.8651,35.057,2,35.0598,2,246.8,2,247.2,2,22.96,2,19.65,2,1.286,2,-999,9,7.7411,2,25,-999,9,-999,9
29AH20160617, OVIDE/BOCATS,10,1,13,20160624,759,40.3342,-10.9059,4853,2080.3,2,4.0776,35.0694,2,35.0658,4,250.1,2,250.6,2,19.1,2,19.12,2,1.249,2,-999,9,7.7376,2,25,-999,9,-999,9
29AH20160617, OVIDE/BOCATS,10,1,14,20160624,759,40.3342,-10.9059,4853,1873.5,2,4.6564,35.142,2,35.1431,2,245.9,2,246.4,2,16.05,2,18.68,2,1.208,2,-999,9,7.739,2,25,-999,9,-999,9
29AH20160617, OVIDE/BOCATS,10,1,15,20160624,759,40.3342,-10.9059,4853,1599.5,2,6.9838,35.5348,2,35.5352,2,217.9,2,218.2,2,13.37,2,18.23,2,1.146,2,-999,9,7.7573,2,25,-999,9,-999,9
29AH20160617, OVIDE/BOCATS,10,1,16,20160624,759,40.3342,-10.9059,4853,1399.8,2,9.1663,35.9096,2,35.9117,2,198.2,2,197.6,2,11.31,2,17.12,2,1.056,2,-999,9,7.7774,2,25,-999,9,-999,9
29AH20160617, OVIDE/BOCATS,10,1,17,20160624,759,40.3342,-10.9059,4853,1201.8,2,10.9508,36.2191,2,36.2181,2,183.8,2,183.6,2,9.75,2,15.48,2,0.967,2,-999,9,7.7958,2,25,-999,9,-999,9
29AH20160617, OVIDE/BOCATS,10,1,18,20160624,759,40.3342,-10.9059,4853,1000.2,2,11.4088,36.1967,2,36.1913,4,181,2,180,2,8.99,2,15.31,2,0.96,2,-999,9,7.7947,2,25,-999,9,-999,9
29AH20160617, OVIDE/BOCATS,10,1,19,20160624,759,40.3342,-10.9059,4853,900.1,2,11.6709,36.1765,2,36.1774,2,181.7,2,180.9,2,8.34,2,14.75,2,0.924,2,-999,9,7.8001,2,25,-999,9,-999,9
29AH20160617, OVIDE/BOCATS,10,1,20,20160624,759,40.3342,-10.9059,4853,799.2,2,12.0575,36.1687,2,36.1684,2,184.4,2,184.2,2,7.4,2,14.02,2,0.871,2,-999,9,7.8058,2,25,-999,9,-999,9
29AH20160617, OVIDE/BOCATS,10,1,21,20160624,759,40.3342,-10.9059,4853,699.3,2,11.9331,36.0203,2,36.0205,2,183.7,2,182.8,2,7.45,2,14.59,2,0.914,2,-999,9,7.7955,2,25,-999,9,-999,9
29AH20160617, OVIDE/BOCATS,10,1,22,20160624,759,40.3342,-10.9059,4853,599.9,2,11.6742,35.8321,2,35.8363,4,186.8,2,185.2,2,7.16,2,15.15,2,0.94,2,-999,9,7.7868,2,25,-999,9,-999,9
29AH20160617, OVIDE/BOCATS,10,1,23,20160624,759,40.3342,-10.9059,4853,499.4,2,11.7087,35.7207,2,35.7242,4,196.8,2,195.5,2,6.01,2,14.13,2,0.875,2,-999,9,7.7903,2,25,-999,9,-999,9
29AH20160617, OVIDE/BOCATS,10,1,24,20160624,759,40.3342,-10.9059,4853,400.4,2,11.8053,35.6548,2,35.6544,2,210.7,2,209.2,2,4.77,2,12.66,2,0.789,2,-999,9,7.7994,2,25,-999,9,-999,9
29AH20160617, OVIDE/BOCATS,10,1,25,20160624,759,40.3342,-10.9059,4853,299.8,2,12.1775,35.6736,2,35.6731,2,216.1,2,215,2,3.99,2,11.41,2,0.716,2,-999,9,7.8126,2,25,-999,9,-999,9
29AH20160617, OVIDE/BOCATS,10,1,26,20160624,759,40.3342,-10.9059,4853,200.4,2,13.1697,35.8025,2,35.7992,4,216.9,2,216.4,2,2.96,2,9.06,2,0.572,2,-999,9,7.8419,2,25,-999,9,-999,9
29AH20160617, OVIDE/BOCATS,10,1,27,20160624,759,40.3342,-10.9059,4853,150.5,2,13.3769,35.7809,2,35.7816,2,235.7,2,234.6,2,1.82,2,5.99,2,0.396,2,-999,9,7.8715,2,25,-999,9,-999,9
29AH20160617, OVIDE/BOCATS,10,1,28,20160624,759,40.3342,-10.9059,4853,100.7,2,13.6015,35.7766,2,35.776,2,239.3,2,238.8,2,1.43,2,4.55,2,0.313,2,-999,9,7.883,2,25,-999,9,-999,9
29AH20160617, OVIDE/BOCATS,10,1,29,20160624,759,40.3342,-10.9059,4853,49.4,2,14.6226,35.7622,2,35.7595,4,261.8,2,261.8,2,0.68,2,0.2,2,0.079,2,-999,9,7.9423,2,25,-999,9,-999,9
29AH20160617, OVIDE/BOCATS,10,1,30,20160624,759,40.3342,-10.9059,4853,3.6,2,18.9708,35.8054,2,35.806,2,236.5,2,236.7,2,0.62,2,0.11,2,0.047,2,-999,9,7.9647,2,25,-999,9,-999,9
29AH20160617, OVIDE/BOCATS,11,1,3,20160624,1338,40.3342,-11.339,5098,5184.4,2,2.5381,34.8941,2,34.8949,2,244,2,243,2,45.68,2,21.75,2,1.504,2,2348.4,2,7.742,2,25,0.0121,2,-999,9
29AH20160617, OVIDE/BOCATS,11,1,4,20160624,1338,40.3342,-11.339,5098,4847.5,2,2.4989,34.8948,2,34.8951,2,243.6,2,243.4,2,45.43,2,21.59,2,1.518,2,2349.4,2,7.7417,2,25,-999,9,-999,9
29AH20160617, OVIDE/BOCATS,11,1,5,20160624,1338,40.3342,-11.339,5098,4400.7,2,2.4734,34.898,2,34.8977,2,242.8,2,243.2,2,44.06,2,21.52,2,1.515,2,2346.7,2,7.7421,2,25,-999,9,-999,9
29AH20160617, OVIDE/BOCATS,11,1,6,20160624,1338,40.3342,-11.339,5098,3999.3,2,2.4937,34.9048,2,34.903,2,243.4,2,243.5,2,42.85,2,21.31,2,1.499,2,2345.6,2,7.7427,2,25,0.017,2,-999,9
29AH20160617, OVIDE/BOCATS,11,1,7,20160624,1338,40.3342,-11.339,5098,3500.4,2,2.5991,34.9201,2,34.9202,2,244,2,245.1,2,39.17,2,20.84,2,1.457,2,2341.1,2,7.7433,2,25,-999,9,-999,9
29AH20160617, OVIDE/BOCATS,11,1,8,20160624,1338,40.3342,-11.339,5098,3247.3,2,2.6992,34.9313,2,34.9317,2,244.8,2,245.6,2,36.03,2,20.27,2,1.44,2,2338.7,2,7.7418,2,25,-999,9,-999,9
29AH20160617, OVIDE/BOCATS,11,1,9,20160624,1338,40.3342,-11.339,5098,2999.3,2,2.8556,34.9478,2,34.9489,2,245.5,2,246.2,2,33.15,2,19.99,2,1.418,2,2335.5,2,7.7397,2,25,0.0725,2,-999,9
29AH20160617, OVIDE/BOCATS,11,1,10,20160624,1338,40.3342,-11.339,5098,2749.2,2,3.0883,34.9724,2,34.9731,2,245.9,2,246.6,2,29.6,2,19.44,2,1.393,2,2331.9,2,7.7444,2,25,-999,9,-999,9
29AH20160617, OVIDE/BOCATS,11,1,11,20160624,1338,40.3342,-11.339,5098,2500.2,2,3.3718,34.9987,2,34.9985,2,247.8,2,248.8,2,25.39,2,18.83,2,1.334,2,2327,2,7.7439,2,25,-999,9,-999,9
29AH20160617, OVIDE/BOCATS,11,1,12,20160624,1338,40.3342,-11.339,5098,2248.8,2,3.6795,35.019,2,35.0206,2,251.6,2,252.1,2,20.48,2,18.03,2,1.266,2,2323.4,2,7.7452,2,25,-999,9,-999,9
29AH20160617, OVIDE/BOCATS,11,1,13,20160624,1338,40.3342,-11.339,5098,1999.4,2,3.9912,35.0269,2,35.0277,2,255.9,2,256.8,2,15.09,2,17.94,2,1.214,2,2314.1,2,7.7373,2,25,0.8364,2,0.2751,2
29AH20160617, OVIDE/BOCATS,11,1,14,20160624,1338,40.3342,-11.339,5098,1799.2,2,4.6249,35.1051,2,35.1068,2,249.7,2,250.8,2,13.12,2,17.74,2,1.188,2,2317.1,2,7.7353,2,25,0.9967,2,0.4877,2
29AH20160617, OVIDE/BOCATS,11,1,15,20160624,1338,40.3342,-11.339,5098,1599.4,2,6.0936,35.3494,2,35.3497,2,230.5,2,231.6,2,11.95,2,17.3,2,1.159,2,2333.4,2,7.7474,2,25,-999,9,-999,9
29AH20160617, OVIDE/BOCATS,11,1,16,20160624,1338,40.3342,-11.339,5098,1389,2,8.4526,35.7574,2,35.7588,2,204.9,2,205,2,10.64,2,16.66,2,1.092,2,2359,2,7.7698,2,25,0.8828,2,0.4165,2
29AH20160617, OVIDE/BOCATS,11,1,17,20160624,1338,40.3342,-11.339,5098,1198.7,2,10.0187,35.9956,2,35.9963,2,189.7,2,189.4,2,9.53,2,16.17,2,1.039,2,2375.7,2,7.7831,2,25,0.8731,2,0.5182,2
29AH20160617, OVIDE/BOCATS,11,1,18,20160624,1338,40.3342,-11.339,5098,998.9,2,10.7504,36.0045,2,36.0043,2,182.4,2,182.7,2,8.69,2,15.88,2,1.023,2,2372.9,2,7.7886,2,25,0.904,2,0.5504,2
29AH20160617, OVIDE/BOCATS,11,1,19,20160624,1338,40.3342,-11.339,5098,900.4,2,11.4116,36.0793,2,36.0807,2,180.3,2,180.7,2,7.88,2,14.9,2,0.973,2,2377.2,2,7.7962,2,25,-999,9,-999,9
29AH20160617, OVIDE/BOCATS,11,1,20,20160624,1338,40.3342,-11.339,5098,800.2,2,11.7957,36.0642,2,36.0613,4,182.2,2,182.5,2,7.26,2,14.49,2,0.927,2,2372.7,2,7.8072,2,25,1.0284,2,0.7932,2
29AH20160617, OVIDE/BOCATS,11,1,21,20160624,1338,40.3342,-11.339,5098,699,2,11.4449,35.8342,2,35.8335,2,184.8,2,183.9,2,7.28,2,15.3,2,0.963,2,2355.2,2,7.7861,2,25,-999,9,-999,9
29AH20160617, OVIDE/BOCATS,11,1,22,20160624,1338,40.3342,-11.339,5098,598.9,2,11.2555,35.6471,2,35.6482,2,200.5,2,201.5,2,6.23,2,14.19,2,0.926,2,2340.5,2,7.7899,2,25,1.2937,2,0.9931,2
29AH20160617, OVIDE/BOCATS,11,1,23,20160624,1338,40.3342,-11.339,5098,500.9,2,11.353,35.5954,2,35.5969,2,216.2,2,217.7,2,4.96,2,12.57,2,0.807,2,-999,9,7.8012,2,25,-999,9,-999,9
29AH20160617, OVIDE/BOCATS,11,1,24,20160624,1338,40.3342,-11.339,5098,400.6,2,11.6769,35.6152,2,35.6155,2,222.5,2,222.5,2,4.05,2,11.61,2,0.741,2,2335.4,2,7.8117,2,25,-999,9,-999,9
29AH20160617, OVIDE/BOCATS,11,1,25,20160624,1338,40.3342,-11.339,5098,300.7,2,12.0995,35.656,2,35.6559,2,220.3,2,220.2,2,3.59,2,10.82,2,0.69,2,-999,9,7.8238,2,25,-999,9,-999,9
29AH20160617, OVIDE/BOCATS,11,1,26,20160624,1338,40.3342,-11.339,5098,199.2,2,12.5002,35.6508,2,35.6512,2,236.7,2,240,4,2.4,2,7.63,2,0.515,2,2337.6,2,7.852,2,25,1.4879,2,1.8782,2
29AH20160617, OVIDE/BOCATS,11,1,27,20160624,1338,40.3342,-11.339,5098,149.7,2,12.9572,35.7144,2,35.7134,2,237.8,2,237.5,2,2.1,2,6.85,2,0.461,2,-999,9,7.8608,2,25,-999,9,-999,9
29AH20160617, OVIDE/BOCATS,11,1,28,20160624,1338,40.3342,-11.339,5098,100,2,13.4744,35.771,2,35.7699,2,240.4,2,240.9,2,1.46,2,4.83,2,0.35,2,2343.6,2,7.8869,2,25,-999,9,-999,9
29AH20160617, OVIDE/BOCATS,11,1,29,20160624,1338,40.3342,-11.339,5098,49.5,2,15.2003,35.7666,2,35.7658,2,273.3,2,272.6,2,0.48,2,0.07,2,0.087,2,-999,9,7.9711,2,25,-999,9,-999,9
29AH20160617, OVIDE/BOCATS,11,1,30,20160624,1338,40.3342,-11.339,5098,4.3,2,19.036,35.8071,2,35.8079,2,237,2,237.9,2,0.5,2,0.03,2,0.056,2,2350,2,7.9748,2,25,1.2007,2,1.5472,2
29AH20160617, OVIDE/BOCATS,12,1,3,20160624,1924,40.3339,-11.7743,5216,5305.4,2,2.5499,34.8937,2,34.8929,2,244.4,2,244.4,2,45.47,2,22.26,2,1.496,2,-999,9,7.7388,2,25,-999,9,-999,9
29AH20160617, OVIDE/BOCATS,12,1,4,20160624,1924,40.3339,-11.7743,5216,4697.9,2,2.4867,34.8959,2,34.8962,2,243.8,2,243.7,2,45.26,2,22.6,2,1.499,2,-999,9,7.7428,2,25,-999,9,-999,9
29AH20160617, OVIDE/BOCATS,12,1,5,20160624,1924,40.3339,-11.7743,5216,4598.9,2,2.4804,34.8965,2,34.8968,2,243.6,2,243.6,2,44.82,2,22.38,2,1.497,2,-999,9,7.7434,2,25,-999,9,-999,9
29AH20160617, OVIDE/BOCATS,12,1,6,20160624,1924,40.3339,-11.7743,5216,3999,2,2.5171,34.9072,2,34.9074,2,243.3,2,243.7,2,42.26,2,20.44,2,1.465,2,-999,9,7.7424,2,25,-999,9,-999,9
29AH20160617, OVIDE/BOCATS,12,1,7,20160624,1924,40.3339,-11.7743,5216,3499.8,2,2.6138,34.9214,2,34.9222,2,244.3,2,245.7,2,38.71,2,20.07,2,1.438,2,-999,9,7.7416,2,25,-999,9,-999,9
29AH20160617, OVIDE/BOCATS,12,1,8,20160624,1924,40.3339,-11.7743,5216,3244.2,2,2.7135,34.9321,2,34.9322,2,245.6,2,246.8,2,35.98,2,19.64,2,1.396,2,-999,9,7.7385,2,25,-999,9,-999,9
29AH20160617, OVIDE/BOCATS,12,1,9,20160624,1924,40.3339,-11.7743,5216,2999.1,2,2.8022,34.9412,2,34.9424,2,247,2,248.1,2,33.26,2,19.48,2,1.376,2,-999,9,7.7402,2,25,-999,9,-999,9
29AH20160617, OVIDE/BOCATS,12,1,10,20160624,1924,40.3339,-11.7743,5216,2748.6,2,3.0252,34.9617,2,34.9631,2,248.2,2,249.1,2,29.14,2,18.92,2,1.344,2,-999,9,7.7379,2,25,-999,9,-999,9
29AH20160617, OVIDE/BOCATS,12,1,11,20160624,1924,40.3339,-11.7743,5216,2502,2,3.2934,34.9846,2,34.9852,2,249.9,2,250.9,2,25.05,2,18.43,2,1.292,2,-999,9,7.7382,2,25,-999,9,-999,9
29AH20160617, OVIDE/BOCATS,12,1,12,20160624,1924,40.3339,-11.7743,5216,2250,2,3.6361,35.0127,2,35.0149,2,251.9,2,254.8,4,20.47,2,17.89,2,1.237,2,-999,9,7.7351,2,25,-999,9,-999,9
29AH20160617, OVIDE/BOCATS,12,1,13,20160624,1924,40.3339,-11.7743,5216,1999.1,2,4.1943,35.0678,2,35.07,2,251.2,2,253.1,2,15.75,2,17.33,2,1.191,2,-999,9,7.7363,2,25,-999,9,-999,9
29AH20160617, OVIDE/BOCATS,12,1,14,20160624,1924,40.3339,-11.7743,5216,1800.1,2,4.9892,35.1769,2,35.1822,4,243.1,2,244.9,2,13.54,2,17.12,2,1.161,2,-999,9,7.7336,2,25,-999,9,-999,9
29AH20160617, OVIDE/BOCATS,12,1,15,20160624,1924,40.3339,-11.7743,5216,1601.7,2,6.0504,35.3416,2,35.343,2,231.1,2,232.8,2,12.36,2,16.84,2,1.136,2,-999,9,7.7417,2,25,-999,9,-999,9
29AH20160617, OVIDE/BOCATS,12,1,16,20160624,1924,40.3339,-11.7743,5216,1401,2,7.7513,35.6212,2,35.6251,4,211.8,2,211.9,2,11.16,2,16.51,2,1.091,2,-999,9,7.7552,2,25,-999,9,-999,9
29AH20160617, OVIDE/BOCATS,12,1,17,20160624,1924,40.3339,-11.7743,5216,1199.6,2,10.5087,36.1312,2,36.1318,2,185.2,2,185.4,2,9.47,2,15.15,2,0.968,2,-999,9,7.7872,2,25,-999,9,-999,9
29AH20160617, OVIDE/BOCATS,12,1,18,20160624,1924,40.3339,-11.7743,5216,1199.4,2,10.5076,36.1314,2,36.1318,2,186.3,2,187,2,9.55,2,15.2,2,0.97,2,-999,9,-999.0,9,25,-999,9,-999,9
29AH20160617, OVIDE/BOCATS,12,1,19,20160624,1924,40.3339,-11.7743,5216,999.9,2,10.856,36.055,2,36.0544,2,180,2,180,2,8.99,2,15.4,2,0.987,2,-999,9,7.7792,2,25,-999,9,-999,9
29AH20160617, OVIDE/BOCATS,12,1,20,20160624,1924,40.3339,-11.7743,5216,799.7,2,11.2317,35.9389,2,35.9385,2,180,2,179.6,2,7.98,2,15.29,2,0.97,2,-999,9,7.7799,2,25,-999,9,-999,9
29AH20160617, OVIDE/BOCATS,12,1,21,20160624,1924,40.3339,-11.7743,5216,701,2,11.2915,35.8224,2,35.8233,2,182.6,2,182.3,2,7.41,2,15.04,2,0.96,2,-999,9,7.7802,2,25,-999,9,-999,9
29AH20160617, OVIDE/BOCATS,12,1,22,20160624,1924,40.3339,-11.7743,5216,600.6,2,11.2371,35.6628,2,35.6633,2,193.4,2,193.2,2,6.43,2,14.49,2,0.935,2,-999,9,7.7801,2,25,-999,9,-999,9
29AH20160617, OVIDE/BOCATS,12,1,23,20160624,1924,40.3339,-11.7743,5216,500.1,2,11.4384,35.6074,2,35.6076,2,209.9,2,210.4,2,5.05,2,12.83,2,0.803,2,-999,9,7.7957,2,25,-999,9,-999,9
29AH20160617, OVIDE/BOCATS,12,1,24,20160624,1924,40.3339,-11.7743,5216,400.3,2,11.7944,35.6211,2,35.6213,2,220.7,2,221.1,2,3.96,2,11.09,2,0.696,2,-999,9,7.811,2,25,-999,9,-999,9
29AH20160617, OVIDE/BOCATS,12,1,25,20160624,1924,40.3339,-11.7743,5216,299.7,2,12.2344,35.662,2,35.6621,2,220.9,2,220.7,2,3.51,2,10.32,2,0.642,2,-999,9,7.8242,2,25,-999,9,-999,9
29AH20160617, OVIDE/BOCATS,12,1,26,20160624,1924,40.3339,-11.7743,5216,199.6,2,12.8597,35.7102,2,35.7106,2,230,2,232,2,2.54,2,7.54,2,0.486,2,-999,9,7.854,2,25,-999,9,-999,9
29AH20160617, OVIDE/BOCATS,12,1,27,20160624,1924,40.3339,-11.7743,5216,150.7,2,13.2546,35.7522,2,35.7524,2,233.6,2,235.9,2,1.97,2,6.16,2,0.406,2,-999,9,7.8682,2,25,-999,9,-999,9
29AH20160617, OVIDE/BOCATS,12,1,28,20160624,1924,40.3339,-11.7743,5216,100.6,2,13.7657,35.8125,2,35.8086,4,239.8,2,239,2,1.41,2,4.42,2,0.306,2,-999,9,7.8864,2,25,-999,9,-999,9
29AH20160617, OVIDE/BOCATS,12,1,29,20160624,1924,40.3339,-11.7743,5216,49.9,2,14.4632,35.8949,2,35.8927,2,244.7,2,250.3,4,0.85,2,2.23,2,0.172,2,-999,9,7.9137,2,25,-999,9,-999,9
29AH20160617, OVIDE/BOCATS,12,1,30,20160624,1924,40.3339,-11.7743,5216,4.2,2,18.9189,35.6847,2,35.6852,2,237.5,2,239.1,2,0.53,2,-0.04,2,0.028,2,-999,9,7.9715,2,25,-999,9,-999,9