BOTTLE,20230706CCHSIOENA
EXPOCODE,SECT_ID,STNNBR,CASTNO,SAMPNO,DATE,TIME,LATITUDE,LONGITUDE,DEPTH,CTDPRS,CTDPRS_FLAG_W,CTDTMP,CTDSAL,CTDSAL_FLAG_W,SALNTY,SALNTY_FLAG_W,CTDOXY,CTDOXY_FLAG_W,OXYGEN,OXYGEN_FLAG_W,SILCAT,SILCAT_FLAG_W,NITRAT,NITRAT_FLAG_W,PHSPHT,PHSPHT_FLAG_W,ALKALI,ALKALI_FLAG_W,PH_SWS,PH_SWS_FLAG_W,PH_TMP,CFC-12,CFC-12_FLAG_W,SF6,SF6_FLAG_W
,,,,,,,,,METERS,DBAR,,DEG C,PSS-78,,PSS-78,,UMOL/KG,,UMOL/KG,,UMOL/KG,,UMOL/KG,,UMOL/KG,,UMOL/KG,,,,DEG C,PMOL/KG,,FMOL/KG,
29AH20160617, OVIDE/BOCATS,13,1,3,20160625,123,40.3341,-12.221,5260,5352.9,2,2.5534,34.8934,2,34.8935,2,244.2,2,244.2,2,44.67,2,21.59,2,1.489,2,2349,2,7.7485,2,25,0.012,2,-999,9
29AH20160617, OVIDE/BOCATS,13,1,4,20160625,123,40.3341,-12.221,5260,5000.3,2,2.5107,34.8943,2,34.8941,2,243.8,2,243.5,2,45.43,2,21.9,2,1.49,2,2350.9,2,7.7404,2,25,-999,9,-999,9
29AH20160617, OVIDE/BOCATS,13,1,5,20160625,123,40.3341,-12.221,5260,4500.6,2,2.4764,34.8973,2,34.8968,2,244,2,243.9,2,45.01,2,22.04,2,1.479,2,2349.6,2,7.7421,2,25,-999,9,-999,9
29AH20160617, OVIDE/BOCATS,13,1,6,20160625,123,40.3341,-12.221,5260,3999.7,2,2.5149,34.907,2,34.9069,2,243.8,2,243.4,2,43.02,2,21.81,2,1.462,2,2349,2,-999.0,9,25,0.0202,2,-999,9
29AH20160617, OVIDE/BOCATS,13,1,7,20160625,123,40.3341,-12.221,5260,3500.7,2,2.6192,34.9217,2,34.9219,2,245.2,2,244.6,2,39.6,2,21.6,2,1.422,2,2344.2,2,7.7403,2,25,-999,9,-999,9
29AH20160617, OVIDE/BOCATS,13,1,8,20160625,123,40.3341,-12.221,5260,3249,2,2.7195,34.9327,2,34.933,2,246.7,2,246.6,2,36.42,2,20.9,2,1.392,2,2340.4,2,7.7433,2,25,-999,9,-999,9
29AH20160617, OVIDE/BOCATS,13,1,9,20160625,123,40.3341,-12.221,5260,2999.6,2,2.8466,34.9446,2,34.9442,2,248.5,2,249.2,2,33.23,2,20.6,2,1.356,2,2334.7,2,7.732,2,25,0.1051,2,-999,9
29AH20160617, OVIDE/BOCATS,13,1,10,20160625,123,40.3341,-12.221,5260,2748.3,2,3.0124,34.9585,2,34.9597,2,250.5,2,250.3,2,29.03,2,20.25,2,1.322,2,2330,2,7.7385,2,25,-999,9,-999,9
29AH20160617, OVIDE/BOCATS,13,1,11,20160625,123,40.3341,-12.221,5260,2497.1,2,3.2971,34.9842,2,34.9857,2,249.9,2,250.8,2,24.91,2,19.55,2,1.29,2,2327.3,2,7.7417,2,25,-999,9,-999,9
29AH20160617, OVIDE/BOCATS,13,1,12,20160625,123,40.3341,-12.221,5260,2249.2,2,3.8182,35.0451,2,35.0471,2,247.8,2,248.8,2,21.33,2,19.27,2,1.255,2,2324.6,2,7.7427,2,25,-999,9,-999,9
29AH20160617, OVIDE/BOCATS,13,1,13,20160625,123,40.3341,-12.221,5260,1997.2,2,4.3565,35.0986,2,35.1002,2,249.4,2,249,2,16.32,2,18.67,2,1.2,2,2322.3,2,7.7365,2,25,0.7119,2,0.2395,2
29AH20160617, OVIDE/BOCATS,13,1,14,20160625,123,40.3341,-12.221,5260,1804,2,5.3131,35.2428,2,35.2425,2,239.5,2,240.1,2,14.35,2,18.36,2,1.158,2,2327.6,2,7.7434,2,25,0.8238,2,0.3209,2
29AH20160617, OVIDE/BOCATS,13,1,15,20160625,123,40.3341,-12.221,5260,1597.8,2,6.8882,35.5045,2,35.5071,2,221,2,221.3,2,12.65,2,17.84,2,1.117,2,2344.5,2,7.7596,2,25,-999,9,-999,9
29AH20160617, OVIDE/BOCATS,13,1,16,20160625,123,40.3341,-12.221,5260,1400.9,2,8.9405,35.8513,2,35.8529,2,200.8,2,200.5,2,10.62,2,17.2,2,1.046,2,2366.7,2,7.7765,2,25,0.8546,2,0.4414,2
29AH20160617, OVIDE/BOCATS,13,1,17,20160625,123,40.3341,-12.221,5260,1201.7,2,10.8294,36.1705,2,36.172,2,183.6,2,182.7,2,9.22,2,16.28,2,0.956,2,2389.9,2,7.7979,2,25,0.8611,2,0.5317,2
29AH20160617, OVIDE/BOCATS,13,1,18,20160625,123,40.3341,-12.221,5260,1000.5,2,11.0536,36.0868,2,36.0858,2,182.2,2,182,2,8.86,2,15.03,2,0.974,2,2379.6,2,7.7918,2,25,0.8978,2,0.5682,2
29AH20160617, OVIDE/BOCATS,13,1,19,20160625,123,40.3341,-12.221,5260,900.7,2,11.3071,36.0498,2,35.7726,4,180.4,2,179.6,2,8.35,2,15.02,2,0.964,2,2376.1,2,7.7915,2,25,-999,9,-999,9
29AH20160617, OVIDE/BOCATS,13,1,20,20160625,123,40.3341,-12.221,5260,800.5,2,11.6353,36.0113,2,36.0108,2,181.5,2,181.3,2,7.44,2,14.23,2,0.936,2,2369.8,2,7.7967,2,25,-999,9,-999,9
29AH20160617, OVIDE/BOCATS,13,1,21,20160625,123,40.3341,-12.221,5260,684.7,2,11.3369,35.7724,2,35.7717,2,187.6,2,187.4,2,7.07,2,14.69,2,0.947,2,2352.3,2,7.7841,2,25,-999,9,-999,9
29AH20160617, OVIDE/BOCATS,13,1,22,20160625,123,40.3341,-12.221,5260,600.3,2,11.4205,35.6961,2,35.696,2,192.9,2,192,2,6.4,2,14.28,2,1.035,2,2343.1,2,7.7851,2,25,1.2279,2,0.9335,2
29AH20160617, OVIDE/BOCATS,13,1,23,20160625,123,40.3341,-12.221,5260,500.5,2,11.7079,35.6604,2,35.6607,2,201.3,2,201.7,2,5.22,2,12.95,2,0.834,2,-999,9,7.7958,2,25,1.3507,2,1.1285,2
29AH20160617, OVIDE/BOCATS,13,1,24,20160625,123,40.3341,-12.221,5260,401.6,2,11.9857,35.6497,2,35.6496,2,219.4,2,218,2,3.83,2,10.95,2,0.706,2,2337.5,2,7.8151,2,25,-999,9,-999,9
29AH20160617, OVIDE/BOCATS,13,1,25,20160625,123,40.3341,-12.221,5260,299.7,2,12.7011,35.7377,2,35.7384,2,215.4,2,214,2,3.31,2,9.8,2,0.624,2,-999,9,7.8304,2,25,-999,9,-999,9
29AH20160617, OVIDE/BOCATS,13,1,26,20160625,123,40.3341,-12.221,5260,200.6,2,13.7378,35.9036,2,35.9023,2,216,2,215.3,2,2.55,2,7.64,2,0.491,2,2351.3,2,7.859,2,25,1.3781,2,1.5032,2
29AH20160617, OVIDE/BOCATS,13,1,27,20160625,123,40.3341,-12.221,5260,148.7,2,14.5267,36.0223,2,36.0232,2,230.5,2,230.7,2,1.47,2,4.25,2,0.282,2,-999,9,7.8989,2,25,-999,9,-999,9
29AH20160617, OVIDE/BOCATS,13,1,28,20160625,123,40.3341,-12.221,5260,98,2,15.1546,36.1196,2,36.1192,2,233.6,2,233.9,2,0.92,2,2.5,2,0.178,2,2366.8,2,7.9223,2,25,-999,9,-999,9
29AH20160617, OVIDE/BOCATS,13,1,29,20160625,123,40.3341,-12.221,5260,52,2,16.2186,36.0236,2,36.0264,4,254.7,2,255.7,2,0.56,2,-0.08,2,0.03,2,-999,9,7.966,2,25,-999,9,-999,9
29AH20160617, OVIDE/BOCATS,13,1,30,20160625,123,40.3341,-12.221,5260,4.4,2,19.0461,35.9654,2,35.9667,2,235.8,2,236.3,2,0.48,2,-0.07,2,0.034,2,2359.7,2,7.9754,2,25,-999,9,-999,9
29AH20160617, OVIDE/BOCATS,14,1,3,20160625,1126,40.5523,-12.6555,5307,5402.1,2,2.5589,34.8934,2,34.8937,2,244.2,2,244.2,2,46.23,2,21.75,2,1.492,2,-999,9,7.7424,2,25,-999,9,-999,9
29AH20160617, OVIDE/BOCATS,14,1,4,20160625,1126,40.5523,-12.6555,5307,4598.6,2,2.4771,34.8961,2,34.8961,2,243.1,2,243.4,2,45.22,2,21.77,2,1.498,2,-999,9,7.7401,2,25,-999,9,-999,9
29AH20160617, OVIDE/BOCATS,14,1,5,20160625,1126,40.5523,-12.6555,5307,4498.5,2,2.4764,34.8973,2,34.8977,2,243.1,2,243.4,2,45.44,2,21.74,2,1.48,2,-999,9,7.742,2,25,-999,9,-999,9
29AH20160617, OVIDE/BOCATS,14,1,6,20160625,1126,40.5523,-12.6555,5307,3998.3,2,2.5149,34.907,2,34.907,2,243.8,2,243.3,2,43.02,2,21.31,2,1.464,2,-999,9,7.7411,2,25,-999,9,-999,9
29AH20160617, OVIDE/BOCATS,14,1,7,20160625,1126,40.5523,-12.6555,5307,3499.4,2,2.6073,34.9206,2,34.9204,2,245.1,2,247.3,2,39.17,2,20.7,2,1.429,2,-999,9,7.7403,2,25,-999,9,-999,9
29AH20160617, OVIDE/BOCATS,14,1,8,20160625,1126,40.5523,-12.6555,5307,3248.3,2,2.6932,34.9304,2,34.9299,2,246.3,2,245.8,2,36.87,2,20.33,2,1.408,2,-999,9,7.7391,2,25,-999,9,-999,9
29AH20160617, OVIDE/BOCATS,14,1,9,20160625,1126,40.5523,-12.6555,5307,2999.5,2,2.8029,34.9415,2,34.9417,2,247.7,2,247.4,2,34.18,2,19.99,2,1.385,2,-999,9,7.7386,2,25,-999,9,-999,9
29AH20160617, OVIDE/BOCATS,14,1,10,20160625,1126,40.5523,-12.6555,5307,2749.1,2,2.9627,34.956,2,34.9565,2,249.5,2,249,2,30.65,2,19.33,2,1.346,2,-999,9,7.7387,2,25,-999,9,-999,9
29AH20160617, OVIDE/BOCATS,14,1,11,20160625,1126,40.5523,-12.6555,5307,2500.4,2,3.2264,34.9763,2,34.9776,2,252.1,2,251.7,2,25.52,2,18.53,2,1.294,2,-999,9,7.7367,2,25,-999,9,-999,9
29AH20160617, OVIDE/BOCATS,14,1,12,20160625,1126,40.5523,-12.6555,5307,2249.3,2,3.5357,34.996,2,34.9987,2,255.4,2,255,2,20.4,2,17.81,2,1.247,2,-999,9,7.737,2,25,-999,9,-999,9
29AH20160617, OVIDE/BOCATS,14,1,13,20160625,1126,40.5523,-12.6555,5307,1999.8,2,4.1407,35.0626,2,35.0636,2,253.3,2,254.3,2,16.05,2,17.44,2,1.201,2,-999,9,7.7358,2,25,-999,9,-999,9
29AH20160617, OVIDE/BOCATS,14,1,14,20160625,1126,40.5523,-12.6555,5307,1799,2,4.9062,35.1703,2,35.1767,4,244.6,2,244.3,2,14.18,2,17.54,2,1.178,2,-999,9,7.7391,2,25,-999,9,-999,9
29AH20160617, OVIDE/BOCATS,14,1,15,20160625,1126,40.5523,-12.6555,5307,1600.9,2,6.0438,35.3358,2,35.3393,4,232.3,2,231.7,2,12.25,2,17,2,1.148,2,-999,9,7.7403,2,25,-999,9,-999,9
29AH20160617, OVIDE/BOCATS,14,1,16,20160625,1126,40.5523,-12.6555,5307,1400.1,2,8.682,35.8121,2,35.8244,4,203.3,2,201.6,2,10.86,2,16.24,2,1.065,2,-999,9,7.7668,2,25,-999,9,-999,9
29AH20160617, OVIDE/BOCATS,14,1,17,20160625,1126,40.5523,-12.6555,5307,1201,2,10.5003,36.1292,2,36.1307,2,185.3,2,185,2,9.56,2,15.41,2,0.986,2,-999,9,7.7856,2,25,-999,9,-999,9
29AH20160617, OVIDE/BOCATS,14,1,18,20160625,1126,40.5523,-12.6555,5307,999.4,2,11.0491,36.0896,2,36.0891,2,180.5,2,180,2,9.01,2,15.58,2,0.989,2,-999,9,7.7853,2,25,-999,9,-999,9
29AH20160617, OVIDE/BOCATS,14,1,19,20160625,1126,40.5523,-12.6555,5307,899.6,2,11.2859,36.0383,2,36.0384,2,180.7,2,180.7,2,8.26,2,15.16,2,0.957,2,-999,9,7.7906,2,25,-999,9,-999,9
29AH20160617, OVIDE/BOCATS,14,1,20,20160625,1126,40.5523,-12.6555,5307,800.1,2,11.6098,35.9902,2,35.9884,2,182.2,2,181.5,2,7.44,2,14.21,2,0.934,2,-999,9,7.7885,2,25,-999,9,-999,9
29AH20160617, OVIDE/BOCATS,14,1,21,20160625,1126,40.5523,-12.6555,5307,699.5,2,11.2859,35.802,2,35.8015,2,183.5,2,183,2,7.29,2,14.85,2,0.976,2,-999,9,7.7777,2,25,-999,9,-999,9
29AH20160617, OVIDE/BOCATS,14,1,22,20160625,1126,40.5523,-12.6555,5307,599.9,2,11.3152,35.6484,2,35.6486,2,198.7,2,199.3,2,5.79,2,13.27,2,0.886,2,-999,9,7.7842,2,25,-999,9,-999,9
29AH20160617, OVIDE/BOCATS,14,1,23,20160625,1126,40.5523,-12.6555,5307,500.6,2,11.5489,35.6118,2,35.6119,2,212.9,2,213.4,2,4.68,2,11.98,2,0.781,2,-999,9,7.7997,2,25,-999,9,-999,9
29AH20160617, OVIDE/BOCATS,14,1,24,20160625,1126,40.5523,-12.6555,5307,399.8,2,11.865,35.631,2,35.6302,2,218.8,2,218.1,2,4.05,2,11.01,2,0.723,2,-999,9,7.8106,2,25,-999,9,-999,9
29AH20160617, OVIDE/BOCATS,14,1,25,20160625,1126,40.5523,-12.6555,5307,300,2,12.3356,35.6826,2,35.6829,2,219.3,2,217.8,2,3.58,2,10.15,2,0.645,2,-999,9,7.8211,2,25,-999,9,-999,9
29AH20160617, OVIDE/BOCATS,14,1,26,20160625,1126,40.5523,-12.6555,5307,200.7,2,13.1016,35.7699,2,35.7692,2,222.1,2,221.5,2,2.82,2,8.13,2,0.524,2,-999,9,7.8452,2,25,-999,9,-999,9
29AH20160617, OVIDE/BOCATS,14,1,27,20160625,1126,40.5523,-12.6555,5307,119.9,2,14.0526,35.8633,2,35.8644,2,239.3,2,239.3,2,1.28,2,3.75,2,0.261,2,-999,9,7.8962,2,25,-999,9,-999,9
29AH20160617, OVIDE/BOCATS,14,1,28,20160625,1126,40.5523,-12.6555,5307,81,2,14.4631,35.9278,2,35.9198,4,238.6,2,238.6,2,0.99,2,2.89,2,0.218,2,-999,9,7.9051,2,25,-999,9,-999,9
29AH20160617, OVIDE/BOCATS,14,1,29,20160625,1126,40.5523,-12.6555,5307,50.4,2,15.0575,35.9229,2,35.9165,4,257.8,2,258.6,2,0.47,2,0.03,2,0.061,2,-999,9,7.9528,2,25,-999,9,-999,9
29AH20160617, OVIDE/BOCATS,14,1,30,20160625,1126,40.5523,-12.6555,5307,3.3,2,19.0973,36.0451,2,36.0459,2,234.5,2,234.5,2,0.43,2,-0.03,2,0.024,2,-999,9,7.9667,2,25,-999,9,-999,9
29AH20160617, OVIDE/BOCATS,15,1,3,20160625,1923,40.9362,-13.2952,5346,5442.7,2,2.5639,34.8934,2,34.9064,4,243.8,2,243.7,2,44.88,2,21.94,2,1.488,2,2348.8,2,7.7435,2,25,0.0356,2,-999,9
29AH20160617, OVIDE/BOCATS,15,1,4,20160625,1923,40.9362,-13.2952,5346,5000.6,2,2.5161,34.895,2,34.8959,2,243.6,2,243.5,2,45.78,2,22.16,2,1.509,2,2348.9,2,7.7432,2,25,-999,9,-999,9
29AH20160617, OVIDE/BOCATS,15,1,5,20160625,1923,40.9362,-13.2952,5346,4500.4,2,2.484,34.8982,2,34.8987,2,243.5,2,243.7,2,44.7,2,22.06,2,1.498,2,2347.4,2,7.7432,2,25,-999,9,-999,9
29AH20160617, OVIDE/BOCATS,15,1,6,20160625,1923,40.9362,-13.2952,5346,3999.9,2,2.5315,34.9086,2,34.9072,2,243.4,2,243.3,2,42.82,2,21.78,2,1.478,2,2345.2,2,7.7433,2,25,0.0215,2,-999,9
29AH20160617, OVIDE/BOCATS,15,1,7,20160625,1923,40.9362,-13.2952,5346,3500.7,2,2.6339,34.9229,2,34.924,2,245.1,2,245.2,2,38.37,2,21.2,2,1.43,2,2338.9,2,7.7424,2,25,-999,9,-999,9
29AH20160617, OVIDE/BOCATS,15,1,8,20160625,1923,40.9362,-13.2952,5346,3229.1,2,2.735,34.9336,2,34.9343,2,246.8,2,247.7,2,35.45,2,20.72,2,1.404,2,2335.6,2,7.7428,2,25,-999,9,-999,9
29AH20160617, OVIDE/BOCATS,15,1,9,20160625,1923,40.9362,-13.2952,5346,3001.9,2,2.8292,34.9432,2,34.9425,2,247.9,2,248.1,2,32.97,2,20.43,2,1.375,2,2333.5,2,7.7429,2,25,0.1005,2,-999,9
29AH20160617, OVIDE/BOCATS,15,1,10,20160625,1923,40.9362,-13.2952,5346,2749.5,2,2.9928,34.9577,2,34.9577,2,250.1,2,250,2,29.34,2,19.71,2,1.338,2,2329.2,2,7.7417,2,25,-999,9,-999,9
29AH20160617, OVIDE/BOCATS,15,1,11,20160625,1923,40.9362,-13.2952,5346,2500.1,2,3.2397,34.9775,2,34.9766,2,251.8,2,251.8,2,25.15,2,19.3,2,1.301,2,2323.9,2,7.7419,2,25,0.2523,2,-999,9
29AH20160617, OVIDE/BOCATS,15,1,12,20160625,1923,40.9362,-13.2952,5346,2269.7,2,3.546,35.0012,2,35.0022,2,254.3,2,254.5,2,20.67,2,18.65,2,1.257,2,2319,2,7.7394,2,25,-999,9,-999,9
29AH20160617, OVIDE/BOCATS,15,1,13,20160625,1923,40.9362,-13.2952,5346,1999.9,2,4.1134,35.0602,2,35.0589,2,252.8,2,253.4,2,16.38,2,18.18,2,1.205,2,2317.9,2,7.7369,2,25,0.7076,2,-999,9
29AH20160617, OVIDE/BOCATS,15,1,14,20160625,1923,40.9362,-13.2952,5346,1799.7,2,4.8214,35.158,2,35.1581,2,247,2,246.6,2,14.37,2,17.97,2,1.182,2,2320.9,2,7.7408,2,25,0.8636,2,-999,9
29AH20160617, OVIDE/BOCATS,15,1,15,20160625,1923,40.9362,-13.2952,5346,1600.6,2,6.4186,35.428,2,35.4304,2,226.5,2,227.1,2,13.12,2,17.5,2,1.139,2,2338.9,2,7.7523,2,25,-999,9,-999,9
29AH20160617, OVIDE/BOCATS,15,1,16,20160625,1923,40.9362,-13.2952,5346,1399.8,2,7.6974,35.6117,2,35.6082,4,213.9,2,213.3,2,11.46,2,17.14,2,1.103,2,2350.9,2,7.7565,2,25,0.9409,2,0.3934,2
29AH20160617, OVIDE/BOCATS,15,1,17,20160625,1923,40.9362,-13.2952,5346,1100.2,2,10.3271,36.0115,2,36.0117,2,185.9,2,186.5,2,9.75,2,16.21,2,1.006,2,2375.4,2,7.7815,2,25,-999,9,-999,9
29AH20160617, OVIDE/BOCATS,15,1,18,20160625,1923,40.9362,-13.2952,5346,999.1,2,10.6161,35.9816,2,35.9819,2,184.9,2,185.5,2,9.17,2,16.13,2,0.994,2,2372.4,2,7.7806,2,25,0.925,2,0.5406,2
29AH20160617, OVIDE/BOCATS,15,1,19,20160625,1923,40.9362,-13.2952,5346,900.2,2,10.8719,35.9679,2,35.968,2,182.1,2,181.5,2,8.88,2,15.95,2,0.988,2,2368.8,2,7.7832,2,25,-999,9,-999,9
29AH20160617, OVIDE/BOCATS,15,1,20,20160625,1923,40.9362,-13.2952,5346,801.2,2,10.949,35.8944,2,35.8944,2,183,2,183.2,2,8.51,2,15.97,2,0.988,2,2362,2,7.7801,2,25,1.1028,2,0.7823,2
29AH20160617, OVIDE/BOCATS,15,1,21,20160625,1923,40.9362,-13.2952,5346,701.5,2,11.0721,35.8102,2,35.8105,2,185.7,2,185.2,2,7.84,2,15.62,2,0.973,2,2353.2,2,7.7781,2,25,-999,9,-999,9
29AH20160617, OVIDE/BOCATS,15,1,22,20160625,1923,40.9362,-13.2952,5346,599.9,2,11.0808,35.6825,2,35.6827,2,195.1,2,194.5,2,6.84,2,14.98,2,0.937,2,2341.1,2,7.78,2,25,1.3369,2,1.1169,2
29AH20160617, OVIDE/BOCATS,15,1,23,20160625,1923,40.9362,-13.2952,5346,500.9,2,11.1529,35.6081,2,35.6073,2,210.2,2,210,2,5.65,2,13.61,2,0.845,2,-999,9,7.7909,2,25,1.4943,2,1.4049,2
29AH20160617, OVIDE/BOCATS,15,1,24,20160625,1923,40.9362,-13.2952,5346,399.5,2,11.4469,35.5991,2,35.5996,2,219.9,2,220.4,2,4.48,2,12.27,2,0.746,2,2334,2,7.8028,2,25,-999,9,-999,9
29AH20160617, OVIDE/BOCATS,15,1,25,20160625,1923,40.9362,-13.2952,5346,299.6,2,11.7873,35.6241,2,35.6263,2,224.5,2,224,2,3.83,2,10.98,2,0.681,2,-999,9,7.8131,2,25,-999,9,-999,9
29AH20160617, OVIDE/BOCATS,15,1,26,20160625,1923,40.9362,-13.2952,5346,200,2,12.3423,35.6768,2,35.6757,2,224.3,2,224.1,2,3.13,2,9.82,2,0.595,2,2337.8,2,7.8273,2,25,1.6235,2,1.7593,2
29AH20160617, OVIDE/BOCATS,15,1,27,20160625,1923,40.9362,-13.2952,5346,149.3,2,12.7012,35.689,2,35.6898,2,232.1,2,231.6,2,2.41,2,7.71,2,0.485,2,-999,9,7.8468,2,25,-999,9,-999,9
29AH20160617, OVIDE/BOCATS,15,1,28,20160625,1923,40.9362,-13.2952,5346,99.3,2,13.0921,35.7123,2,35.7097,4,244.5,2,244.7,2,1.37,2,4.53,2,0.314,2,2340.4,2,7.8741,2,25,-999,9,-999,9
29AH20160617, OVIDE/BOCATS,15,1,29,20160625,1923,40.9362,-13.2952,5346,50.5,2,13.7183,35.7323,2,35.7325,2,262.1,2,259.4,4,0.36,2,1.61,2,0.15,2,-999,9,7.9112,2,25,-999,9,-999,9
29AH20160617, OVIDE/BOCATS,15,1,30,20160625,1923,40.9362,-13.2952,5346,7.7,2,18.6953,35.7563,2,35.7544,2,240.5,2,240.6,2,0.47,2,0.04,2,0.031,2,2346.8,2,7.9679,2,25,1.3413,2,1.8266,2