BOTTLE,20230706CCHSIOENA
EXPOCODE,SECT_ID,STNNBR,CASTNO,SAMPNO,DATE,TIME,LATITUDE,LONGITUDE,DEPTH,CTDPRS,CTDPRS_FLAG_W,CTDTMP,CTDSAL,CTDSAL_FLAG_W,SALNTY,SALNTY_FLAG_W,CTDOXY,CTDOXY_FLAG_W,OXYGEN,OXYGEN_FLAG_W,SILCAT,SILCAT_FLAG_W,NITRAT,NITRAT_FLAG_W,PHSPHT,PHSPHT_FLAG_W,ALKALI,ALKALI_FLAG_W,PH_SWS,PH_SWS_FLAG_W,PH_TMP,CFC-12,CFC-12_FLAG_W,SF6,SF6_FLAG_W
,,,,,,,,,METERS,DBAR,,DEG C,PSS-78,,PSS-78,,UMOL/KG,,UMOL/KG,,UMOL/KG,,UMOL/KG,,UMOL/KG,,UMOL/KG,,,,DEG C,PMOL/KG,,FMOL/KG,
29AH20160617, OVIDE/BOCATS,16,1,3,20160626,343,41.3824,-13.8903,5346,5442.7,2,2.5672,34.8939,2,34.8908,4,243.7,2,243.9,2,45.73,2,22.43,2,1.506,2,-999,9,7.7418,2,25,-999,9,-999,9
29AH20160617, OVIDE/BOCATS,16,1,4,20160626,343,41.3824,-13.8903,5346,4802.1,2,2.4983,34.8958,2,34.8957,2,243.2,2,244,2,45.45,2,21.92,2,1.505,2,-999,9,7.7423,2,25,-999,9,-999,9
29AH20160617, OVIDE/BOCATS,16,1,5,20160626,343,41.3824,-13.8903,5346,4400.7,2,2.4867,34.8997,2,34.8995,2,243.2,2,244.3,2,44.35,2,22.07,2,1.495,2,-999,9,7.7411,2,25,-999,9,-999,9
29AH20160617, OVIDE/BOCATS,16,1,6,20160626,343,41.3824,-13.8903,5346,3999.2,2,2.5295,34.9085,2,34.9067,2,243.3,2,244.7,2,42.44,2,21.8,2,1.483,2,-999,9,7.7402,2,25,-999,9,-999,9
29AH20160617, OVIDE/BOCATS,16,1,7,20160626,343,41.3824,-13.8903,5346,3502,2,2.6435,34.924,2,34.9238,2,244.9,2,245.6,2,37.89,2,21.18,2,1.429,2,-999,9,7.7424,2,25,-999,9,-999,9
29AH20160617, OVIDE/BOCATS,16,1,8,20160626,343,41.3824,-13.8903,5346,3198.5,2,2.7661,34.9368,2,34.9371,2,246.7,2,247.5,2,34.77,2,20.56,2,1.395,2,-999,9,7.7425,2,25,-999,9,-999,9
29AH20160617, OVIDE/BOCATS,16,1,9,20160626,343,41.3824,-13.8903,5346,2999.7,2,2.863,34.946,2,34.9464,2,248,2,249.3,2,32.4,2,20.25,2,1.373,2,-999,9,7.7444,2,25,-999,9,-999,9
29AH20160617, OVIDE/BOCATS,16,1,10,20160626,343,41.3824,-13.8903,5346,2699.3,2,3.0811,34.9645,2,34.9633,2,250.1,2,253.9,4,27.95,2,19.71,2,1.331,2,-999,9,7.747,2,25,-999,9,-999,9
29AH20160617, OVIDE/BOCATS,16,1,11,20160626,343,41.3824,-13.8903,5346,2500.7,2,3.3071,34.9812,2,34.9822,2,252.5,2,253.9,2,24.17,2,19.08,2,1.29,2,-999,9,7.7471,2,25,-999,9,-999,9
29AH20160617, OVIDE/BOCATS,16,1,12,20160626,343,41.3824,-13.8903,5346,2201.8,2,3.6562,35.0004,2,35.0022,2,256.5,2,257.6,2,18.52,2,18.36,2,1.226,2,-999,9,7.7401,2,25,-999,9,-999,9
29AH20160617, OVIDE/BOCATS,16,1,13,20160626,343,41.3824,-13.8903,5346,1999.6,2,4.0126,35.0286,2,35.0289,2,256.1,2,257.8,2,15.27,2,17.92,2,1.199,2,-999,9,7.7353,2,25,-999,9,-999,9
29AH20160617, OVIDE/BOCATS,16,1,14,20160626,343,41.3824,-13.8903,5346,1801,2,4.6921,35.1156,2,35.1168,2,249,2,252.3,4,13.54,2,17.8,2,1.176,2,-999,9,7.7387,2,25,-999,9,-999,9
29AH20160617, OVIDE/BOCATS,16,1,15,20160626,343,41.3824,-13.8903,5346,1586.6,2,5.8515,35.2833,2,35.2857,2,235.2,2,238.4,4,12.23,2,17.55,2,1.155,2,-999,9,7.7425,2,25,-999,9,-999,9
29AH20160617, OVIDE/BOCATS,16,1,16,20160626,343,41.3824,-13.8903,5346,1400.5,2,7.8949,35.6218,2,35.6217,2,211.9,2,213.3,2,11.13,2,17.16,2,1.106,2,-999,9,7.7615,2,25,-999,9,-999,9
29AH20160617, OVIDE/BOCATS,16,1,17,20160626,343,41.3824,-13.8903,5346,1201.1,2,9.9078,35.9568,2,35.9575,2,191.7,2,191.8,2,9.85,2,16.41,2,1.033,2,-999,9,7.7809,2,25,-999,9,-999,9
29AH20160617, OVIDE/BOCATS,16,1,18,20160626,343,41.3824,-13.8903,5346,1093.6,2,10.7389,36.0875,2,36.0882,2,185,2,186.2,2,9.16,2,15.82,2,0.982,2,-999,9,7.7907,2,25,-999,9,-999,9
29AH20160617, OVIDE/BOCATS,16,1,19,20160626,343,41.3824,-13.8903,5346,901.5,2,11.5686,36.1449,2,36.145,2,181.7,2,182.1,2,8.02,2,14.95,2,0.918,2,-999,9,7.8022,2,25,-999,9,-999,9
29AH20160617, OVIDE/BOCATS,16,1,20,20160626,343,41.3824,-13.8903,5346,800.6,2,11.7388,36.102,2,36.1014,2,182.9,2,183,2,7.68,2,14.65,2,0.907,2,-999,9,7.8019,2,25,-999,9,-999,9
29AH20160617, OVIDE/BOCATS,16,1,21,20160626,343,41.3824,-13.8903,5346,701.3,2,11.4244,35.9075,2,35.9109,4,185,2,184.5,2,7.49,2,15.16,2,0.93,2,-999,9,7.7904,2,25,-999,9,-999,9
29AH20160617, OVIDE/BOCATS,16,1,22,20160626,343,41.3824,-13.8903,5346,601.5,2,11.1452,35.7106,2,35.7115,2,196,2,195.8,2,6.83,2,14.8,2,0.938,2,-999,9,7.7849,2,25,-999,9,-999,9
29AH20160617, OVIDE/BOCATS,16,1,23,20160626,343,41.3824,-13.8903,5346,504,2,11.16,35.5973,2,35.5968,2,214.2,2,213.7,2,5.43,2,13.22,2,0.827,2,-999,9,7.7945,2,25,-999,9,-999,9
29AH20160617, OVIDE/BOCATS,16,1,24,20160626,343,41.3824,-13.8903,5346,399.7,2,11.4547,35.5923,2,35.592,2,226.2,2,226.2,2,4.28,2,11.56,2,0.71,2,-999,9,7.8092,2,25,-999,9,-999,9
29AH20160617, OVIDE/BOCATS,16,1,25,20160626,343,41.3824,-13.8903,5346,301.3,2,11.8146,35.6242,2,35.6158,4,227.5,2,227.1,2,3.87,2,10.82,2,0.674,2,-999,9,7.8161,2,25,-999,9,-999,9
29AH20160617, OVIDE/BOCATS,16,1,26,20160626,343,41.3824,-13.8903,5346,200.7,2,12.484,35.6712,2,35.671,2,230.7,2,231.3,2,2.84,2,8.57,2,0.536,2,-999,9,7.8398,2,25,-999,9,-999,9
29AH20160617, OVIDE/BOCATS,16,1,27,20160626,343,41.3824,-13.8903,5346,149.8,2,12.6574,35.6561,2,35.6568,2,245.2,2,245.4,2,1.79,2,5.9,2,0.396,2,-999,9,7.8636,2,25,-999,9,-999,9
29AH20160617, OVIDE/BOCATS,16,1,28,20160626,343,41.3824,-13.8903,5346,99.8,2,12.9493,35.6923,2,35.6931,2,246.5,2,246.7,2,1.39,2,4.65,2,0.328,2,-999,9,7.8763,2,25,-999,9,-999,9
29AH20160617, OVIDE/BOCATS,16,1,29,20160626,343,41.3824,-13.8903,5346,50.9,2,13.3885,35.713,2,35.7153,2,250.3,2,254.4,4,1.05,2,2.69,2,0.229,2,-999,9,7.8992,2,25,-999,9,-999,9
29AH20160617, OVIDE/BOCATS,16,1,30,20160626,343,41.3824,-13.8903,5346,3.2,2,18.3542,35.7748,2,35.7771,4,239.1,2,241,2,0.38,2,0.03,2,0.026,2,-999,9,7.9574,2,25,-999,9,-999,9
29AH20160617, OVIDE/BOCATS,17,1,3,20160626,1134,41.836,-14.4771,5336,5431.7,2,2.5669,34.8939,2,34.8938,2,243.7,2,243.5,2,45.01,2,21.9,2,1.524,2,2350,2,7.7423,2,25,0.0115,2,-999,9
29AH20160617, OVIDE/BOCATS,17,1,4,20160626,1134,41.836,-14.4771,5336,4798,2,2.5024,34.8965,2,34.8958,2,243.2,2,243.3,2,44.35,2,21.88,2,1.52,2,2350.2,2,7.7417,2,25,-999,9,-999,9
29AH20160617, OVIDE/BOCATS,17,1,5,20160626,1134,41.836,-14.4771,5336,4399.3,2,2.4945,34.9007,2,34.9004,2,243.1,2,243.2,2,43.61,2,21.8,2,1.507,2,2346.8,2,7.7399,2,25,-999,9,-999,9
29AH20160617, OVIDE/BOCATS,17,1,6,20160626,1134,41.836,-14.4771,5336,3999.8,2,2.5312,34.9088,2,34.908,2,243.8,2,243.6,2,41.95,2,21.66,2,1.49,2,2345.4,2,7.7428,2,25,-999,9,-999,9
29AH20160617, OVIDE/BOCATS,17,1,7,20160626,1134,41.836,-14.4771,5336,3500.1,2,2.6288,34.9229,2,34.9227,2,245.3,2,244.8,2,38.05,2,21,2,1.461,2,2342.4,2,7.7407,2,25,-999,9,-999,9
29AH20160617, OVIDE/BOCATS,17,1,8,20160626,1134,41.836,-14.4771,5336,3259.5,2,2.7146,34.9322,2,34.9326,2,246.8,2,246.4,2,36.09,2,20.72,2,1.415,2,2338.9,2,7.7398,2,25,-999,9,-999,9
29AH20160617, OVIDE/BOCATS,17,1,9,20160626,1134,41.836,-14.4771,5336,2999.5,2,2.8485,34.9449,2,34.9453,2,248.7,2,251.7,4,32.5,2,20.3,2,1.391,2,2334.3,2,7.7382,2,25,0.1122,2,-999,9
29AH20160617, OVIDE/BOCATS,17,1,10,20160626,1134,41.836,-14.4771,5336,2748.7,2,3.0328,34.9601,2,34.9621,2,250.7,2,250.3,2,29,2,19.73,2,1.344,2,2329.4,2,7.7371,2,25,-999,9,-999,9
29AH20160617, OVIDE/BOCATS,17,1,11,20160626,1134,41.836,-14.4771,5336,2499,2,3.2777,34.9754,2,34.9755,2,253.7,2,253.6,2,24.23,2,19.08,2,1.293,2,2322.4,2,7.738,2,25,-999,9,-999,9
29AH20160617, OVIDE/BOCATS,17,1,12,20160626,1134,41.836,-14.4771,5336,2200.2,2,3.6091,34.9882,2,34.9886,2,258.4,2,258.5,2,18.8,2,18.35,2,1.234,2,2314.3,2,7.7334,2,25,-999,9,-999,9
29AH20160617, OVIDE/BOCATS,17,1,13,20160626,1134,41.836,-14.4771,5336,1999.7,2,3.9574,35.0157,2,35.0156,2,256.8,2,257.1,2,15.91,2,17.99,2,1.203,2,2312.6,2,7.7304,2,25,0.9718,2,-999,9
29AH20160617, OVIDE/BOCATS,17,1,14,20160626,1134,41.836,-14.4771,5336,1800.2,2,4.6059,35.0985,2,35.1001,2,250.6,2,250.5,2,13.94,2,17.86,2,1.183,2,2318.2,2,7.7306,2,25,-999,9,-999,9
29AH20160617, OVIDE/BOCATS,17,1,15,20160626,1134,41.836,-14.4771,5336,1599.9,2,5.6263,35.2474,2,35.2502,2,238.7,2,238.7,2,12.54,2,17.38,2,1.153,2,2327.8,2,7.7361,2,25,-999,9,-999,9
29AH20160617, OVIDE/BOCATS,17,1,16,20160626,1134,41.836,-14.4771,5336,1400.7,2,7.5879,35.5727,2,35.5708,2,216,2,215.8,2,11.41,2,17.06,2,1.111,2,2344.9,2,7.7523,2,25,1.0655,2,0.4919,2
29AH20160617, OVIDE/BOCATS,17,1,17,20160626,1134,41.836,-14.4771,5336,1200.9,2,9.5019,35.8889,2,35.8902,2,196.1,2,197.1,2,10.29,2,16.62,2,1.055,2,2368,2,7.7712,2,25,0.9837,2,0.5378,2
29AH20160617, OVIDE/BOCATS,17,1,18,20160626,1134,41.836,-14.4771,5336,1000.6,2,10.4571,35.9609,2,35.9627,2,185.6,2,185.5,2,9.47,2,16.4,2,1.038,2,2372.8,2,7.7744,2,25,0.9851,2,0.5167,2
29AH20160617, OVIDE/BOCATS,17,1,19,20160626,1134,41.836,-14.4771,5336,899.8,2,10.6804,35.9022,2,35.9015,2,183.1,2,181.7,2,8.96,2,16.31,2,1.107,2,2365.4,2,7.7775,2,25,-999,9,-999,9
29AH20160617, OVIDE/BOCATS,17,1,20,20160626,1134,41.836,-14.4771,5336,799.8,2,10.9168,35.8426,2,35.8433,2,185.1,2,185.7,2,8.36,2,15.97,2,1.008,2,2360.7,2,7.7761,2,25,1.0534,2,0.6695,2
29AH20160617, OVIDE/BOCATS,17,1,21,20160626,1134,41.836,-14.4771,5336,700.3,2,10.826,35.6894,2,35.6885,2,187.6,2,188.7,2,7.73,2,15.92,2,0.997,2,2347.2,2,7.7715,2,25,-999,9,-999,9
29AH20160617, OVIDE/BOCATS,17,1,22,20160626,1134,41.836,-14.4771,5336,600.1,2,10.9929,35.6092,2,35.6106,2,202.3,2,202.7,2,6.36,2,14.56,2,0.905,2,2335.1,2,7.7819,2,25,1.4232,2,1.2552,2
29AH20160617, OVIDE/BOCATS,17,1,23,20160626,1134,41.836,-14.4771,5336,500.6,2,11.3157,35.6021,2,35.6028,2,217.9,2,217.8,2,4.94,2,12.73,2,0.801,2,-999,9,7.7979,2,25,1.5554,2,1.4781,2
29AH20160617, OVIDE/BOCATS,17,1,24,20160626,1134,41.836,-14.4771,5336,399.5,2,11.4799,35.5792,2,35.5797,2,229.6,2,230.2,2,4.1,2,11.34,2,0.711,2,2333.9,2,7.8089,2,25,1.6358,2,1.7684,2
29AH20160617, OVIDE/BOCATS,17,1,25,20160626,1134,41.836,-14.4771,5336,301.6,2,11.8127,35.6047,2,35.6045,2,229.8,2,230.1,2,3.66,2,10.4,2,0.65,2,-999,9,7.8196,2,25,-999,9,-999,9
29AH20160617, OVIDE/BOCATS,17,1,26,20160626,1134,41.836,-14.4771,5336,199.5,2,12.3572,35.6442,2,35.6438,2,236.6,2,237.8,2,2.64,2,8,2,0.516,2,2336.4,2,7.8428,2,25,1.6371,2,2.0169,2
29AH20160617, OVIDE/BOCATS,17,1,27,20160626,1134,41.836,-14.4771,5336,149.9,2,12.5673,35.6501,2,35.6513,2,244.5,2,244.7,2,1.86,2,5.97,2,0.412,2,-999,9,7.8634,2,25,-999,9,-999,9
29AH20160617, OVIDE/BOCATS,17,1,28,20160626,1134,41.836,-14.4771,5336,99.1,2,12.9952,35.6967,2,35.6967,2,245.7,2,245.1,2,1.45,2,4.57,2,0.322,2,2343.6,2,7.8762,2,25,-999,9,-999,9
29AH20160617, OVIDE/BOCATS,17,1,29,20160626,1134,41.836,-14.4771,5336,49.9,2,14.0393,35.6883,2,35.6894,2,266.7,2,271.1,4,0.63,2,0.24,2,0.093,2,-999,9,7.9439,2,25,-999,9,-999,9
29AH20160617, OVIDE/BOCATS,17,1,30,20160626,1134,41.836,-14.4771,5336,3.8,2,18.1754,35.727,2,35.7274,2,243.3,2,249.6,4,0.46,2,0,2,0.037,2,2349.9,2,7.9798,2,25,1.3086,2,1.6968,2
29AH20160617, OVIDE/BOCATS,18,1,3,20160626,1912,42.2804,-15.0625,5308,5403.1,2,2.5683,34.8946,2,34.8937,2,243.3,2,243.6,2,46.09,2,22.4,2,1.485,2,-999,9,7.7446,2,25,-999,9,-999,9
29AH20160617, OVIDE/BOCATS,18,1,4,20160626,1912,42.2804,-15.0625,5308,4899,2,2.5108,34.8959,2,34.8966,2,243,2,243,2,45.93,2,22.31,2,1.486,2,-999,9,7.7431,2,25,-999,9,-999,9
29AH20160617, OVIDE/BOCATS,18,1,5,20160626,1912,42.2804,-15.0625,5308,4499.5,2,2.4916,34.8991,2,34.8993,2,243.2,2,243.1,2,45.15,2,22.16,2,1.467,2,-999,9,7.7425,2,25,-999,9,-999,9
29AH20160617, OVIDE/BOCATS,18,1,6,20160626,1912,42.2804,-15.0625,5308,3997.6,2,2.5191,34.9077,2,34.907,2,243.4,2,243.4,2,43.5,2,22,2,1.458,2,-999,9,7.7424,2,25,-999,9,-999,9
29AH20160617, OVIDE/BOCATS,18,1,7,20160626,1912,42.2804,-15.0625,5308,3499.7,2,2.6271,34.9227,2,34.9219,2,244.7,2,244.4,2,39.85,2,21.4,2,1.41,2,-999,9,7.7427,2,25,-999,9,-999,9
29AH20160617, OVIDE/BOCATS,18,1,8,20160626,1912,42.2804,-15.0625,5308,3000.7,2,2.8602,34.9453,2,34.9459,2,248.3,2,247.9,2,33.32,2,20.4,2,1.34,2,-999,9,7.7427,2,25,-999,9,-999,9
29AH20160617, OVIDE/BOCATS,18,1,9,20160626,1912,42.2804,-15.0625,5308,2749.8,2,3.0608,34.9608,2,34.9617,2,250.8,2,250.3,2,29.28,2,19.68,2,1.308,2,-999,9,7.7437,2,25,-999,9,-999,9
29AH20160617, OVIDE/BOCATS,18,1,10,20160626,1912,42.2804,-15.0625,5308,2500.3,2,3.2563,34.9634,2,34.9626,2,257.1,2,257.3,2,22.84,2,18.71,2,1.217,2,-999,9,7.7392,2,25,-999,9,-999,9
29AH20160617, OVIDE/BOCATS,18,1,11,20160626,1912,42.2804,-15.0625,5308,2249,2,3.4444,34.9558,2,34.9565,2,263.4,2,263.7,2,17.33,2,18.02,2,1.159,2,-999,9,7.7348,2,25,-999,9,-999,9
29AH20160617, OVIDE/BOCATS,18,1,12,20160626,1912,42.2804,-15.0625,5308,2001.1,2,3.8434,34.9818,2,34.9835,2,262.5,2,262.8,2,14.59,2,17.84,2,1.138,2,-999,9,7.7335,2,25,-999,9,-999,9
29AH20160617, OVIDE/BOCATS,18,1,13,20160626,1912,42.2804,-15.0625,5308,1800,2,4.2389,35.0147,2,35.0155,2,259.2,2,259.1,2,13.17,2,17.76,2,1.128,2,-999,9,7.7276,2,25,-999,9,-999,9
29AH20160617, OVIDE/BOCATS,18,1,14,20160626,1912,42.2804,-15.0625,5308,1600.8,2,4.9189,35.1061,2,35.1076,2,251.3,2,251.2,2,12.06,2,17.72,2,1.124,2,-999,9,7.7289,2,25,-999,9,-999,9
29AH20160617, OVIDE/BOCATS,18,1,15,20160626,1912,42.2804,-15.0625,5308,1400.9,2,7.137,35.4733,2,35.4752,2,220.4,2,219.9,2,11.47,2,17.41,2,1.084,2,-999,9,7.7494,2,25,-999,9,-999,9
29AH20160617, OVIDE/BOCATS,18,1,16,20160626,1912,42.2804,-15.0625,5308,1299.6,2,8.0066,35.5992,2,35.6002,2,209.2,2,208.6,2,11.05,2,17.3,2,1.062,2,-999,9,7.7529,2,25,-999,9,-999,9
29AH20160617, OVIDE/BOCATS,18,1,17,20160626,1912,42.2804,-15.0625,5308,1200.2,2,8.8386,35.7246,2,35.7235,2,199.2,2,197.9,2,10.57,2,17.12,2,1.051,2,-999,9,7.7623,2,25,-999,9,-999,9
29AH20160617, OVIDE/BOCATS,18,1,18,20160626,1912,42.2804,-15.0625,5308,1099.4,2,9.251,35.7419,2,35.7438,2,192.7,2,192,2,10.43,2,17.24,2,1.043,2,-999,9,7.7627,2,25,-999,9,-999,9
29AH20160617, OVIDE/BOCATS,18,1,19,20160626,1912,42.2804,-15.0625,5308,1001.2,2,9.4574,35.7131,2,35.7128,2,189.7,2,188.1,2,10.16,2,17.39,2,1.046,2,-999,9,7.76,2,25,-999,9,-999,9
29AH20160617, OVIDE/BOCATS,18,1,20,20160626,1912,42.2804,-15.0625,5308,899.9,2,9.4835,35.5742,2,35.5737,2,187.8,2,187,2,9.91,2,17.65,2,1.065,2,-999,9,7.7508,2,25,-999,9,-999,9
29AH20160617, OVIDE/BOCATS,18,1,21,20160626,1912,42.2804,-15.0625,5308,749.2,2,10.4059,35.5575,2,35.5569,2,191.4,2,189.8,2,8.27,2,16.45,2,0.976,2,-999,9,7.7635,2,25,-999,9,-999,9
29AH20160617, OVIDE/BOCATS,18,1,22,20160626,1912,42.2804,-15.0625,5308,650,2,10.7599,35.5339,2,35.5331,2,205,2,203.5,2,6.89,2,14.91,2,0.878,2,-999,9,7.7778,2,25,-999,9,-999,9
29AH20160617, OVIDE/BOCATS,18,1,23,20160626,1912,42.2804,-15.0625,5308,499.6,2,11.3375,35.5496,2,35.5474,2,222.6,2,221.2,2,4.98,2,12.48,2,0.716,2,-999,9,7.8037,2,25,-999,9,-999,9
29AH20160617, OVIDE/BOCATS,18,1,24,20160626,1912,42.2804,-15.0625,5308,400.9,2,11.8004,35.6009,2,35.6004,2,223,2,223.6,2,4.24,2,11.44,2,0.638,2,-999,9,7.8174,2,25,-999,9,-999,9
29AH20160617, OVIDE/BOCATS,18,1,25,20160626,1912,42.2804,-15.0625,5308,350.2,2,12.0055,35.6261,2,35.625,2,222.2,2,222.5,2,4.07,2,11.16,2,0.638,2,-999,9,7.8193,2,25,-999,9,-999,9
29AH20160617, OVIDE/BOCATS,18,1,26,20160626,1912,42.2804,-15.0625,5308,250,2,12.3439,35.6283,2,35.6003,4,235.4,2,235.4,2,3.1,2,8.9,2,0.5,2,-999,9,7.8431,2,25,-999,9,-999,9
29AH20160617, OVIDE/BOCATS,18,1,27,20160626,1912,42.2804,-15.0625,5308,151.2,2,12.7642,35.6568,2,35.6563,2,245,2,244.8,2,2.24,2,6.92,2,0.385,2,-999,9,7.8649,2,25,-999,9,-999,9
29AH20160617, OVIDE/BOCATS,18,1,28,20160626,1912,42.2804,-15.0625,5308,100.7,2,13.1203,35.6942,2,35.6949,2,241.9,2,241.8,2,1.88,2,5.98,2,0.334,2,-999,9,7.8695,2,25,-999,9,-999,9
29AH20160617, OVIDE/BOCATS,18,1,29,20160626,1912,42.2804,-15.0625,5308,49.5,2,13.7682,35.6907,2,35.6897,2,245.9,2,246,2,0.95,2,3.66,2,0.233,2,-999,9,7.8978,2,25,-999,9,-999,9
29AH20160617, OVIDE/BOCATS,18,1,30,20160626,1912,42.2804,-15.0625,5308,5.2,2,18.0497,35.7382,2,35.7384,2,243.3,2,244,2,0.31,2,0.05,2,0.007,2,-999,9,7.9783,2,25,-999,9,-999,9