BOTTLE,20230622CCHSIOENA
EXPOCODE,SECT_ID,STNNBR,CASTNO,SAMPNO,BTLNBR,BTLNBR_FLAG_W,DATE,TIME,LATITUDE,LONGITUDE,DEPTH,CTDPRS,CTDTMP,CTDSAL,CTDSAL_FLAG_W,SALNTY,SALNTY_FLAG_W,CTDOXY,CTDOXY_FLAG_W,OXYGEN,OXYGEN_FLAG_W,SILCAT,SILCAT_FLAG_W,PHSPHT,PHSPHT_FLAG_W,CFC-11,CFC-11_FLAG_W,CFC-12,CFC-12_FLAG_W,CFC113,CFC113_FLAG_W,TCARBN,TCARBN_FLAG_W,ALKALI,ALKALI_FLAG_W,FLUOR,FLUOR_FLAG_W,NO2+NO3,NO2+NO3_FLAG_W,PAR,PAR_FLAG_W
,,,,,,,,,,,METERS,DBAR,ITS-90,PSS-78,,PSS-78,,UMOL/KG,,UMOL/KG,,UMOL/KG,,UMOL/KG,,PMOL/KG,,PMOL/KG,,PMOL/KG,,UMOL/KG,,UMOL/KG,,MG/M^3,,UMOL/KG,,VOLTS,
09AR20071216,       CASO,      67,          1,         24,         24,2,20080109,       0101,   -63.8997,   150.0007,       3639,    10.6,   0.1076,  33.7457,2,  33.7466,2,   341.94,2,  341.94,2,    41.2,2,    1.85,2,   6.3449,2,   3.2240,2,   0.5062,2,  2162.1,6,  2281.7,2,  -0.217,2,   27.91,2,      3.719,2
09AR20071216,       CASO,      67,          1,         23,         23,2,20080109,       0101,   -63.8997,   150.0007,       3639,    41.2,  -0.0970,  33.7549,2,-999.0000,9,   322.49,2, -999.00,9,  -999.0,9, -999.00,9,-999.0000,9,-999.0000,9,-999.0000,9,  -999.0,9,  -999.0,9,   0.152,2, -999.00,9,      2.908,2
09AR20071216,       CASO,      67,          1,         22,         22,2,20080109,       0101,   -63.8997,   150.0007,       3639,    41.2,  -0.0975,  33.7548,2,-999.0000,9,   322.49,2, -999.00,9,  -999.0,9, -999.00,9,-999.0000,9,-999.0000,9,-999.0000,9,  -999.0,9,  -999.0,9,   0.145,2, -999.00,9,      2.909,2
09AR20071216,       CASO,      67,          1,         21,         21,2,20080109,       0101,   -63.8997,   150.0007,       3639,    41.0,  -0.1013,  33.7552,2,  33.7794,2,   322.49,2,  337.06,2,    41.9,2,    1.88,2,   6.1520,2,   3.1477,2,   0.4662,2,  2164.4,2,  2287.7,6,   0.139,2,   27.94,2,      2.936,2
09AR20071216,       CASO,      67,          1,         20,         20,2,20080109,       0101,   -63.8997,   150.0007,       3639,    90.8,   1.6542,  34.5363,2,  34.5356,2,   184.04,2,  183.00,2,    77.3,2,    2.37,2,-999.0000,9,-999.0000,9,-999.0000,9,  -999.0,9,  -999.0,9,   0.689,2,   34.53,2,      1.929,2
09AR20071216,       CASO,      67,          1,         19,         19,2,20080109,       0101,   -63.8997,   150.0007,       3639,   150.0,   1.8761,  34.6068,2,  34.6072,2,   176.18,2,  175.83,2,    81.1,2,    2.33,2,-999.0000,9,-999.0000,9,-999.0000,9,  -999.0,9,  -999.0,9,  -0.009,2,   33.97,2,      1.073,2
09AR20071216,       CASO,      67,          1,         18,         18,2,20080109,       0101,   -63.8997,   150.0007,       3639,   251.0,   1.9231,  34.6627,2,  34.6631,2,   178.22,2,  178.47,2,    83.7,2,    2.26,2,-999.0000,9,-999.0000,9,-999.0000,9,  -999.0,9,  -999.0,9,  -0.026,2,   32.95,2,      0.001,2
09AR20071216,       CASO,      67,          1,         17,         17,2,20080109,       0101,   -63.8997,   150.0007,       3639,   350.7,   1.8442,  34.6882,2,  34.6878,2,   182.68,2,  183.42,2,    85.2,2,    2.23,2,-999.0000,9,-999.0000,9,-999.0000,9,  -999.0,9,  -999.0,9,  -0.025,2,   32.19,2,      0.001,2
09AR20071216,       CASO,      67,          1,         16,         16,2,20080109,       0101,   -63.8997,   150.0007,       3639,   451.9,   1.8142,  34.7082,2,  34.7084,2,   186.33,2,  186.98,2,    86.8,2,    2.19,2,-999.0000,9,-999.0000,9,-999.0000,9,  -999.0,9,  -999.0,9,  -0.026,2,   31.60,2,      0.001,2
09AR20071216,       CASO,      67,          1,         15,         15,2,20080109,       0101,   -63.8997,   150.0007,       3639,   600.5,   1.7715,  34.7286,2,  34.7288,2,   190.95,2,  190.41,2,    88.9,2,    2.16,2,   0.3093,2,   0.1534,2,   0.0213,2,  2250.6,2,  2351.6,6,  -0.028,2,   30.89,2,      0.001,2
09AR20071216,       CASO,      67,          1,         14,         14,2,20080109,       0101,   -63.8997,   150.0007,       3639,   750.2,   1.6528,  34.7355,2,  34.7361,2,   195.21,2,  194.14,2,    91.8,2,    2.14,2,-999.0000,9,-999.0000,9,-999.0000,9,  -999.0,9,  -999.0,9,  -0.030,2,   30.52,2,      0.001,2
09AR20071216,       CASO,      67,          1,         13,         13,2,20080109,       0101,   -63.8997,   150.0007,       3639,   900.7,   1.5507,  34.7382,2,  34.7392,2,   197.77,2,  198.18,2,    94.9,2,    2.13,2,-999.0000,9,-999.0000,9,-999.0000,9,  -999.0,9,  -999.0,9,  -0.030,2,   30.48,2,      0.001,2
09AR20071216,       CASO,      67,          1,         12,         12,2,20080109,       0101,   -63.8997,   150.0007,       3639,  1100.5,   1.3642,  34.7342,2,  34.7343,2,   200.71,2,  200.57,2,   100.3,2,    2.15,2,-999.0000,9,-999.0000,9,-999.0000,9,  -999.0,9,  -999.0,9,  -0.028,2,   30.86,2,      0.001,2
09AR20071216,       CASO,      67,          1,         11,         11,2,20080109,       0101,   -63.8997,   150.0007,       3639,  1300.5,   1.2053,  34.7281,2,  34.7286,2,   202.58,2,  204.78,2,   104.6,2,    2.16,2,   0.2160,2,   0.1078,2,   0.0110,2,  2253.1,2,  2362.5,2,  -0.033,2,   31.06,2,      0.001,2
09AR20071216,       CASO,      67,          1,         10,         10,2,20080109,       0101,   -63.8997,   150.0007,       3639,  1499.4,   1.0368,  34.7203,2,  34.7204,2,   204.99,2,  204.13,2,   109.9,2,    2.18,2,-999.0000,9,-999.0000,9,-999.0000,9,  -999.0,9,  -999.0,9,  -0.034,2,   31.40,2,      0.001,2
09AR20071216,       CASO,      67,          1,          9,          9,2,20080109,       0101,   -63.8997,   150.0007,       3639,  1701.2,   0.8520,  34.7099,2,  34.7100,2,   207.59,2,  207.39,2,   114.3,2,    2.21,2,-999.0000,9,-999.0000,9,-999.0000,9,  -999.0,9,  -999.0,9,  -0.034,2,   31.61,2,      0.001,2
09AR20071216,       CASO,      67,          1,          8,          8,2,20080109,       0101,   -63.8997,   150.0007,       3639,  1902.8,   0.7098,  34.7028,2,  34.7029,2,   209.63,2,  209.22,2,   118.3,2,    2.22,2,-999.0000,9,-999.0000,9,-999.0000,9,  -999.0,9,  -999.0,9,  -0.038,2,   31.81,2,      0.001,2
09AR20071216,       CASO,      67,          1,          7,          7,2,20080109,       0101,   -63.8997,   150.0007,       3639,  2100.3,   0.5708,  34.6962,2,  34.6954,2,   212.14,2,  212.04,2,   121.4,2,    2.24,2,   0.3344,2,   0.1645,2,   0.0152,2,    2259,2,  2365.6,2,  -0.033,2,   32.03,2,      0.001,2
09AR20071216,       CASO,      67,          1,          6,          6,2,20080109,       0101,   -63.8997,   150.0007,       3639,  2401.0,   0.3832,  34.6880,2,  34.6876,2,   216.32,2,  216.64,2,   124.9,2,    2.26,2,-999.0000,9,-999.0000,9,-999.0000,9,  -999.0,9,  -999.0,9,  -0.035,2,   32.15,2,      0.001,2
09AR20071216,       CASO,      67,          1,          5,          5,2,20080109,       0101,   -63.8997,   150.0007,       3639,  2700.5,   0.2535,  34.6839,2,  34.6831,2,   220.42,2,  220.90,2,   127.6,2,    2.27,2,   0.5413,2,   0.2662,2,   0.0276,2,  2259.2,2,  2362.7,2,  -0.040,2,   32.19,2,      0.001,2
09AR20071216,       CASO,      67,          1,          4,          4,2,20080109,       0101,   -63.8997,   150.0007,       3639,  2999.6,   0.1344,  34.6796,2,  34.6794,2,   224.46,2,  224.20,2,   128.2,2,    2.26,2,-999.0000,9,-999.0000,9,-999.0000,9,  -999.0,9,  -999.0,9,  -0.036,2,   32.10,2,      0.001,2
09AR20071216,       CASO,      67,          1,          3,          3,2,20080109,       0101,   -63.8997,   150.0007,       3639,  3302.3,   0.0439,  34.6753,2,  34.6746,2,   228.61,2,  226.98,2,   128.2,2,    2.26,2,   1.0210,2,   0.4997,2,   0.0582,2,  2257.2,2,    2362,2,  -0.041,2,   32.13,2,      0.001,2
09AR20071216,       CASO,      67,          1,          2,          2,2,20080109,       0101,   -63.8997,   150.0007,       3639,  3551.6,  -0.0260,  34.6721,2,  34.6715,2,   232.14,2,  231.37,2,   121.9,2,    2.25,2,   1.4198,2,   0.7147,2,   0.0889,2,  2257.7,2,  2360.5,6,  -0.040,2,   31.95,2,      0.001,2
09AR20071216,       CASO,      67,          1,          1,          1,2,20080109,       0101,   -63.8997,   150.0007,       3639,  3696.7,  -0.1239,  34.6729,2,  34.6719,2,   235.26,2,  235.93,2,   115.9,2,    2.23,2,   1.9668,2,   1.0048,2,   0.1315,2,  2256.4,6,  2357.9,2,  -0.038,2,   31.74,2,      0.001,2
09AR20071216,       CASO,      68,          1,         24,         24,2,20080109,       0609,   -64.3020,   149.9997,       3561,    10.9,  -0.0349,  33.5710,2,  33.5880,2,   344.50,2,  343.46,2,    38.1,2,    1.82,2,   6.3565,2,   3.2553,2,   0.4921,2,  2148.4,6,  2270.8,2,   0.267,2,   27.19,2,      2.855,2
09AR20071216,       CASO,      68,          1,         23,         23,2,20080109,       0609,   -64.3020,   149.9997,       3561,    35.2,  -0.1920,  33.6888,2,-999.0000,9,   341.68,2, -999.00,9,  -999.0,9, -999.00,9,-999.0000,9,-999.0000,9,-999.0000,9,  -999.0,9,  -999.0,9,   0.495,2, -999.00,9,      2.278,2
09AR20071216,       CASO,      68,          1,         22,         22,2,20080109,       0609,   -64.3020,   149.9997,       3561,    35.2,  -0.1917,  33.6888,2,-999.0000,9,   341.68,2, -999.00,9,  -999.0,9, -999.00,9,-999.0000,9,-999.0000,9,-999.0000,9,  -999.0,9,  -999.0,9,   0.488,2, -999.00,9,      2.277,2
09AR20071216,       CASO,      68,          1,         21,         21,2,20080109,       0609,   -64.3020,   149.9997,       3561,    34.8,  -0.1914,  33.6885,2,  33.6888,2,   342.21,2,  343.82,2,    38.6,2,    1.84,2,   6.3559,2,   3.2353,2,   0.4902,2,  2154.7,2,  2276.8,6,   0.488,2,   27.01,2,      2.234,2
09AR20071216,       CASO,      68,          1,         20,         20,2,20080109,       0609,   -64.3020,   149.9997,       3561,    56.1,  -0.6682,  33.9996,2,  33.9986,2,   311.26,2,  310.65,2,    46.3,2,    2.02,2,   4.9198,2,   2.5596,2,   0.3863,2,  2182.7,2,  2295.9,2,   0.767,2,   28.69,2,      1.855,2
09AR20071216,       CASO,      68,          1,         19,         19,2,20080109,       0609,   -64.3020,   149.9997,       3561,    90.9,   1.4580,  34.5172,2,  34.5038,2,   212.51,2,  196.82,2,    75.3,2,    2.29,2,   1.3782,2,   0.7204,2,   0.0970,2,  2244.5,2,  2326.4,2,   1.247,2,   32.79,2,      1.134,2
09AR20071216,       CASO,      68,          1,         18,         18,2,20080109,       0609,   -64.3020,   149.9997,       3561,   148.8,   1.7663,  34.6237,2,  34.6231,2,   182.90,2,  181.65,2,    81.2,2,    2.29,2,   0.7987,2,   0.4104,2,   0.0595,2,  2252.6,2,  2336.9,2,  -0.009,2,   32.36,2,      0.169,2
09AR20071216,       CASO,      68,          1,         17,         17,2,20080109,       0609,   -64.3020,   149.9997,       3561,   251.3,   1.6935,  34.6553,2,  34.6546,2,   181.07,2,  185.38,2,    83.5,2,    2.26,2,   0.7419,2,   0.3771,2,   0.0534,2,  -999.0,9,  2341.7,2,  -0.027,2,   31.68,2,      0.001,2
09AR20071216,       CASO,      68,          1,         16,         16,2,20080109,       0609,   -64.3020,   149.9997,       3561,   350.6,   1.8741,  34.7003,2,  34.7004,2,   183.71,2,  183.72,2,    85.4,2,    2.22,2,   0.4084,2,   0.2062,2,   0.0260,2,  2251.3,2,  2344.3,2,  -0.023,2,   31.83,3,      0.001,2
09AR20071216,       CASO,      68,          1,         15,         15,2,20080109,       0609,   -64.3020,   149.9997,       3561,   500.2,   1.6883,  34.7079,2,  34.7082,2,   191.10,2,  190.50,2,    87.6,2,    2.19,2,   0.4853,2,   0.2427,2,   0.0323,2,  2250.2,2,  2342.4,2,  -0.029,2,   31.99,3,      0.001,2
09AR20071216,       CASO,      68,          1,         14,         14,2,20080109,       0609,   -64.3020,   149.9997,       3561,   704.0,   1.5890,  34.7268,2,  34.7268,2,   196.25,2,  195.66,2,    91.7,2,    2.17,2,   0.3701,2,   0.1853,2,   0.0229,2,  2248.2,2,  2350.3,2,  -0.028,2,   31.76,3,      0.001,2
09AR20071216,       CASO,      68,          1,         13,         13,2,20080109,       0609,   -64.3020,   149.9997,       3561,   901.5,   1.5067,  34.7384,2,  34.7384,2,   199.95,2,  198.48,2,    96.4,2,    2.15,2,   0.2265,2,   0.1087,2,   0.0121,2,  2249.2,2,  2352.2,2,  -0.032,2,   31.12,2,      0.001,2
09AR20071216,       CASO,      68,          1,         12,         12,2,20080109,       0609,   -64.3020,   149.9997,       3561,  1099.5,   1.2801,  34.7277,2,  34.7268,2,   202.70,2,  202.09,2,   100.6,2,    2.17,2,   0.3325,2,   0.1661,2,   0.0219,2,  2251.4,6,  2350.6,2,  -0.027,2,   31.20,2,      0.001,2
09AR20071216,       CASO,      68,          1,         11,         11,2,20080109,       0609,   -64.3020,   149.9997,       3561,  1302.1,   1.0921,  34.7198,2,  34.7196,2,   204.52,2,  204.66,2,   106.3,2,    2.19,2,-999.0000,9,-999.0000,9,-999.0000,9,  -999.0,9,  -999.0,9,  -0.033,2,   31.51,2,      0.001,2
09AR20071216,       CASO,      68,          1,         10,         10,2,20080109,       0609,   -64.3020,   149.9997,       3561,  1498.3,   0.9631,  34.7164,2,  34.7160,2,   206.38,2,  208.34,2,   111.7,2,    2.21,2,   0.2852,2,   0.1453,2,   0.0184,2,    2255,2,  2356.7,6,  -0.036,2,   31.50,2,      0.001,2
09AR20071216,       CASO,      68,          1,          9,          9,2,20080109,       0609,   -64.3020,   149.9997,       3561,  1701.7,   0.7811,  34.7057,2,  34.7054,2,   208.50,2,  207.78,2,   115.5,2,    2.22,2,   0.3121,2,   0.1532,2,   0.0192,2,  2256.8,2,    2359,2,  -0.037,2,   31.73,2,      0.001,2
09AR20071216,       CASO,      68,          1,          8,          8,2,20080109,       0609,   -64.3020,   149.9997,       3561,  1900.3,   0.6281,  34.6989,2,  34.6990,2,   210.83,2,  211.00,2,   120.2,2,    2.26,2,   0.3220,2,   0.1621,2,   0.0150,2,  2259.3,2,  2354.8,2,  -0.038,2,   31.96,2,      0.001,2
09AR20071216,       CASO,      68,          1,          7,          7,2,20080109,       0609,   -64.3020,   149.9997,       3561,  2102.3,   0.4879,  34.6920,2,  34.6917,2,   213.35,2,  213.60,2,   122.4,2,    2.26,2,   0.4133,2,   0.2039,2,   0.0225,2,  2258.1,2,  2357.3,2,  -0.036,2,   32.11,2,      0.001,2
09AR20071216,       CASO,      68,          1,          6,          6,2,20080109,       0609,   -64.3020,   149.9997,       3561,  2395.9,   0.3207,  34.6859,2,  34.6856,2,   217.45,2,  218.12,2,   125.5,2,    2.26,2,   0.5052,2,   0.2539,2,   0.0294,2,  2260.2,2,  2361.3,2,  -0.035,2,   32.08,2,      0.001,2
09AR20071216,       CASO,      68,          1,          5,          5,2,20080109,       0609,   -64.3020,   149.9997,       3561,  2699.2,   0.2001,  34.6822,2,  34.6817,2,   221.73,2,  221.38,2,   128.1,2,    2.26,2,-999.0000,9,-999.0000,9,-999.0000,9,  -999.0,9,  -999.0,9,  -0.041,2,   32.19,2,      0.001,2
09AR20071216,       CASO,      68,          1,          4,          4,2,20080109,       0609,   -64.3020,   149.9997,       3561,  3001.4,   0.0703,  34.6773,2,  34.6768,2,   226.51,2,  226.59,2,   127.5,2,    2.26,2,   0.9083,2,   0.4495,2,   0.0522,2,  2256.5,2,    2356,2,  -0.040,2,   32.03,2,      0.001,2
09AR20071216,       CASO,      68,          1,          3,          3,2,20080109,       0609,   -64.3020,   149.9997,       3561,  3299.6,  -0.0454,  34.6722,2,  34.6711,2,   231.29,2,  230.76,2,   124.4,2,    2.26,2,   1.3692,2,   0.6885,2,   0.0914,2,  2256.8,2,  2353.8,2,  -0.041,2,   31.83,2,      0.001,2
09AR20071216,       CASO,      68,          1,          2,          2,2,20080109,       0609,   -64.3020,   149.9997,       3561,  3550.5,  -0.1452,  34.6714,2,  34.6705,2,   235.15,2,  236.10,2,   114.0,2,    2.24,2,   1.9707,2,   1.0062,2,   0.1415,2,  2255.8,2,  2353.3,6,  -0.039,2,   31.98,2,      0.001,2
09AR20071216,       CASO,      68,          1,          1,          1,2,20080109,       0609,   -64.3020,   149.9997,       3561,  3584.4,  -0.1574,  34.6731,2,  34.6721,2,   235.68,2,  236.67,2,   110.3,2,    2.23,2,   2.0753,2,   1.0682,2,   0.1491,2,  2255.7,2,  2353.7,2,  -0.042,2,   31.74,2,      0.001,2