BOTTLE,20230622CCHSIOENA
EXPOCODE,SECT_ID,STNNBR,CASTNO,SAMPNO,BTLNBR,BTLNBR_FLAG_W,DATE,TIME,LATITUDE,LONGITUDE,DEPTH,CTDPRS,CTDTMP,CTDSAL,CTDSAL_FLAG_W,SALNTY,SALNTY_FLAG_W,CTDOXY,CTDOXY_FLAG_W,OXYGEN,OXYGEN_FLAG_W,SILCAT,SILCAT_FLAG_W,PHSPHT,PHSPHT_FLAG_W,CFC-11,CFC-11_FLAG_W,CFC-12,CFC-12_FLAG_W,CFC113,CFC113_FLAG_W,TCARBN,TCARBN_FLAG_W,ALKALI,ALKALI_FLAG_W,FLUOR,FLUOR_FLAG_W,NO2+NO3,NO2+NO3_FLAG_W,PAR,PAR_FLAG_W
,,,,,,,,,,,METERS,DBAR,ITS-90,PSS-78,,PSS-78,,UMOL/KG,,UMOL/KG,,UMOL/KG,,UMOL/KG,,PMOL/KG,,PMOL/KG,,PMOL/KG,,UMOL/KG,,UMOL/KG,,MG/M^3,,UMOL/KG,,VOLTS,
09AR20071216,       CASO,      59,          1,         24,         24,2,20080107,       0157,   -63.8008,   143.3763,       3771,    10.5,   0.8109,  33.6882,2,  33.6894,2,   353.44,2,  352.75,2,    22.8,2,    1.47,2,   6.3846,2,   3.1922,2,   0.5136,2,  2134.7,6,    2284,2,   0.788,2,   24.40,2,      3.004,2
09AR20071216,       CASO,      59,          1,         23,         23,2,20080107,       0157,   -63.8008,   143.3763,       3771,    10.4,   0.7922,  33.6883,2,-999.0000,9,   353.44,2, -999.00,9,  -999.0,9, -999.00,9,-999.0000,9,-999.0000,9,-999.0000,9,  -999.0,9,  -999.0,9,   1.192,2, -999.00,9,      3.047,2
09AR20071216,       CASO,      59,          1,         22,         22,2,20080107,       0157,   -63.8008,   143.3763,       3771,    10.5,   0.7832,  33.6882,2,-999.0000,9,   353.44,2, -999.00,9,  -999.0,9, -999.00,9,-999.0000,9,-999.0000,9,-999.0000,9,  -999.0,9,  -999.0,9,   1.356,2, -999.00,9,      3.063,2
09AR20071216,       CASO,      59,          1,         21,         21,2,20080107,       0157,   -63.8008,   143.3763,       3771,    34.6,   0.6214,  33.6936,2,  33.6973,2,   353.04,2,  353.27,2,    23.9,2,    1.52,2,   6.3740,2,   3.2038,2,   0.5085,2,  2133.5,3,  2283.6,6,   4.662,2,   24.64,2,      2.112,2
09AR20071216,       CASO,      59,          1,         20,         20,2,20080107,       0157,   -63.8008,   143.3763,       3771,    55.3,  -1.0944,  34.1221,2,  34.1145,2,   294.94,2,  295.05,2,    50.6,2,    2.17,2,   4.6460,2,   2.3749,2,   0.3716,2,  2202.4,2,  2307.8,2,   0.766,2,   30.88,2,      1.395,2
09AR20071216,       CASO,      59,          1,         19,         19,2,20080107,       0157,   -63.8008,   143.3763,       3771,    85.0,   1.1376,  34.4545,2,  34.4498,2,   220.24,2,  204.87,2,    71.7,2,    2.39,2,   1.9998,2,   1.0432,2,   0.1512,2,  2247.4,2,  2327.7,2,   0.239,2,   34.20,2,      0.850,2
09AR20071216,       CASO,      59,          1,         18,         18,2,20080107,       0157,   -63.8008,   143.3763,       3771,   109.8,   1.6477,  34.5445,2,  34.5434,2,   185.60,2,  183.30,2,    77.7,2,    2.40,2,   1.2500,2,   0.6381,2,   0.0900,2,  2254.7,2,  2335.2,2,   0.049,2,   34.34,2,      0.362,2
09AR20071216,       CASO,      59,          1,         17,         17,2,20080107,       0157,   -63.8008,   143.3763,       3771,   181.8,   1.8591,  34.6211,2,  34.6206,2,   178.64,2,  178.22,2,    81.5,2,    2.34,2,   0.7805,2,   0.3898,2,   0.0614,2,  2257.7,2,  2341.5,2,  -0.008,2,   33.68,2,      0.001,2
09AR20071216,       CASO,      59,          1,         16,         16,2,20080107,       0157,   -63.8008,   143.3763,       3771,   300.6,   1.8949,  34.6742,2,  34.6752,2,   180.57,2,  180.38,2,    84.1,2,    2.27,2,   0.5200,2,   0.2626,2,   0.0365,2,  2254.7,2,  2344.7,2,  -0.018,2,   32.87,2,      0.001,2
09AR20071216,       CASO,      59,          1,         15,         15,2,20080107,       0157,   -63.8008,   143.3763,       3771,   401.2,   1.8906,  34.7024,2,  34.7030,2,   184.40,2,  183.51,2,    85.4,2,    2.24,2,   0.4013,2,   0.2038,2,   0.0270,2,  2254.8,2,    2347,2,  -0.023,2,   32.12,2,      0.001,2
09AR20071216,       CASO,      59,          1,         14,         14,2,20080107,       0157,   -63.8008,   143.3763,       3771,   601.4,   1.8064,  34.7321,2,  34.7331,2,   191.17,2,  193.67,2,    88.2,2,    2.17,2,   0.2605,2,   0.1313,2,   0.0204,2,  2250.6,2,  2350.1,2,  -0.018,2,   31.25,2,      0.001,2
09AR20071216,       CASO,      59,          1,         13,         13,2,20080107,       0157,   -63.8008,   143.3763,       3771,   800.1,   1.6229,  34.7357,2,  34.7375,2,   196.54,2,  196.58,2,    92.4,2,    2.15,2,   0.2624,2,   0.1314,2,   0.0192,2,    2251,2,  2355.6,2,  -0.030,2,   31.06,2,      0.001,2
09AR20071216,       CASO,      59,          1,         12,         12,2,20080107,       0157,   -63.8008,   143.3763,       3771,   999.8,   1.4519,  34.7366,2,  34.7388,2,   199.87,2,  199.57,2,    97.9,2,    2.17,2,   0.2270,2,   0.1094,2,   0.0183,2,  2251.9,6,  2357.9,2,  -0.030,2,   31.29,2,      0.001,2
09AR20071216,       CASO,      59,          1,         11,         11,2,20080107,       0157,   -63.8008,   143.3763,       3771,  1201.5,   1.2942,  34.7316,2,  34.7332,2,   202.39,2,  202.05,2,   102.5,2,    2.18,2,   0.2197,2,   0.1136,2,   0.0146,2,  2254.6,2,  2358.8,6,  -0.029,2,   31.47,2,      0.001,2
09AR20071216,       CASO,      59,          1,         10,         10,2,20080107,       0157,   -63.8008,   143.3763,       3771,  1401.5,   1.1460,  34.7268,2,  34.7289,2,   204.14,2,  203.39,2,   108.1,2,    2.20,2,   0.2201,2,   0.1118,2,   0.0142,2,  2255.5,2,  2360.7,2,  -0.028,2,   31.83,2,      0.001,2
09AR20071216,       CASO,      59,          1,          9,          9,2,20080107,       0157,   -63.8008,   143.3763,       3771,  1603.1,   0.9657,  34.7167,2,  34.7180,2,   206.19,2,  205.82,2,   112.7,2,    2.25,2,   0.2296,2,   0.1179,2,   0.0146,2,  2257.5,2,  2362.7,6,  -0.032,2,   32.28,2,      0.001,2
09AR20071216,       CASO,      59,          1,          8,          8,2,20080107,       0157,   -63.8008,   143.3763,       3771,  1801.3,   0.8024,  34.7076,2,  34.7095,2,   208.81,2,  208.52,2,   117.2,2,    2.26,2,   0.2654,2,   0.1402,2,   0.0156,2,  2258.6,2,  2362.6,2,  -0.032,2,   32.43,2,      0.001,2
09AR20071216,       CASO,      59,          1,          7,          7,2,20080107,       0157,   -63.8008,   143.3763,       3771,  2000.5,   0.6392,  34.6991,2,  34.7003,2,   211.24,2,  210.69,2,   121.1,2,    2.28,2,   0.3261,2,   0.1649,2,   0.0181,2,  2259.1,2,  2364.6,2,  -0.034,2,   32.69,2,      0.001,2
09AR20071216,       CASO,      59,          1,          6,          6,2,20080107,       0157,   -63.8008,   143.3763,       3771,  2299.5,   0.4641,  34.6924,2,  34.6940,2,   215.28,2,  215.12,2,   126.5,2,    2.29,2,   0.3421,2,   0.1711,2,   0.0185,2,  2260.3,2,  2362.5,2,  -0.036,2,   32.76,2,      0.001,2
09AR20071216,       CASO,      59,          1,          5,          5,2,20080107,       0157,   -63.8008,   143.3763,       3771,  2701.3,   0.2516,  34.6831,2,  34.6846,2,   221.10,2,  221.38,2,   128.8,2,    2.30,2,   0.5881,2,   0.2870,2,   0.0315,2,  2259.8,2,  2363.7,2,  -0.038,2,   32.80,2,      0.001,2
09AR20071216,       CASO,      59,          1,          4,          4,2,20080107,       0157,   -63.8008,   143.3763,       3771,  3098.5,   0.1114,  34.6779,2,  34.6792,2,   225.41,2,  225.37,2,   129.8,2,    2.29,2,   0.8128,2,   0.4074,2,   0.0453,2,  2258.8,2,  2361.3,2,  -0.037,2,   32.76,2,      0.001,2
09AR20071216,       CASO,      59,          1,          3,          3,2,20080107,       0157,   -63.8008,   143.3763,       3771,  3500.0,  -0.0477,  34.6696,2,  34.6712,2,   231.17,2,  232.15,2,   129.4,2,    2.29,2,   1.3260,2,   0.6551,2,   0.0809,2,  2259.5,3,  -999.0,9,  -0.040,2,   32.59,2,      0.001,2
09AR20071216,       CASO,      59,          1,          2,          2,2,20080107,       0157,   -63.8008,   143.3763,       3771,  3773.1,  -0.2582,  34.6556,2,  34.6568,2,   242.63,2,  241.83,2,   113.9,2,    2.26,2,   2.2371,2,   1.1433,2,   0.1667,2,  2255.5,2,  2353.1,2,  -0.042,2,   32.28,2,      0.001,2
09AR20071216,       CASO,      59,          1,          1,          1,2,20080107,       0157,   -63.8008,   143.3763,       3771,  3822.2,  -0.2904,  34.6537,2,  34.6549,2,   244.47,2,  244.79,2,   111.3,2,    2.24,2,   2.3728,2,   1.2207,2,   0.1717,2,  2254.7,6,  2349.4,2,  -0.041,2,   32.18,2,      0.001,2
09AR20071216,       CASO,      60,          1,         24,         24,2,20080107,       0818,   -63.2095,   143.4972,       3964,    10.9,   1.0187,  33.6564,2,  33.6571,2,   342.08,2,  341.94,2,    29.9,2,    1.78,2,   6.4466,2,   3.3513,2,   0.5000,2,  2149.7,6,  2274.8,2,   0.479,2,   25.85,3,      2.155,2
09AR20071216,       CASO,      60,          1,         23,         23,2,20080107,       0818,   -63.2095,   143.4972,       3964,    31.6,   0.9122,  33.6670,2,-999.0000,9,   341.15,2, -999.00,9,  -999.0,9, -999.00,9,-999.0000,9,-999.0000,9,-999.0000,9,  -999.0,9,  -999.0,9,   0.598,2, -999.00,9,      1.784,2
09AR20071216,       CASO,      60,          1,         22,         22,2,20080107,       0818,   -63.2095,   143.4972,       3964,    31.5,   0.9258,  33.6662,2,-999.0000,9,   341.15,2, -999.00,9,  -999.0,9, -999.00,9,-999.0000,9,-999.0000,9,-999.0000,9,  -999.0,9,  -999.0,9,   0.580,2, -999.00,9,      1.778,2
09AR20071216,       CASO,      60,          1,         21,         21,2,20080107,       0818,   -63.2095,   143.4972,       3964,    31.2,   0.9297,  33.6669,2,  33.6706,2,   341.15,2,  341.89,2,    28.6,2,    1.81,2,   6.8757,2,   3.3257,2,   0.5457,2,    2150,2,  2275.4,6,   0.575,2,   25.67,3,      1.792,2
09AR20071216,       CASO,      60,          1,         20,         20,2,20080107,       0818,   -63.2095,   143.4972,       3964,    64.8,  -0.5949,  34.0716,2,  34.0657,2,   314.42,2,  312.63,2,    45.7,2,    2.07,2,   5.3957,2,   2.6887,2,   0.4126,2,  2192.1,2,  2300.2,2,   1.022,2,   28.30,3,      1.199,2
09AR20071216,       CASO,      60,          1,         19,         19,2,20080107,       0818,   -63.2095,   143.4972,       3964,    85.7,   0.5853,  34.3294,2,  34.3268,2,   237.46,2,  241.26,2,    63.3,2,    2.28,2,-999.0000,9,-999.0000,9,-999.0000,9,  -999.0,9,  -999.0,9,   1.472,2,   31.32,3,      0.764,2
09AR20071216,       CASO,      60,          1,         18,         18,2,20080107,       0818,   -63.2095,   143.4972,       3964,   121.2,   1.5100,  34.5062,2,  34.5046,2,   190.04,2,  190.39,2,    76.1,2,    2.39,2,   1.6156,2,   0.8461,2,   0.1155,2,  2256.3,2,  2327.7,2,   0.316,2,   33.58,3,      0.001,2
09AR20071216,       CASO,      60,          1,         17,         17,2,20080107,       0818,   -63.2095,   143.4972,       3964,   201.7,   1.7406,  34.5980,2,  34.5975,2,   179.48,2,  181.18,2,    81.7,2,    2.32,2,   1.0557,2,   0.5191,2,   0.0000,3,    2257,2,  2334.7,2,  -0.024,2,   33.40,3,      0.001,2
09AR20071216,       CASO,      60,          1,         16,         16,2,20080107,       0818,   -63.2095,   143.4972,       3964,   403.0,   1.8540,  34.6876,2,  34.6880,2,   185.04,2,  183.12,2,    85.2,2,    2.24,2,   0.4926,2,   0.2478,2,   0.0310,2,    2256,2,  2341.5,2,  -0.028,2,   32.57,3,      0.001,2
09AR20071216,       CASO,      60,          1,         15,         15,2,20080107,       0818,   -63.2095,   143.4972,       3964,   600.9,   1.8080,  34.7217,2,  34.7214,2,   192.50,2,  189.50,2,    88.4,2,    2.18,2,   0.3690,2,   0.1787,2,   0.0239,2,    2253,2,  2346.2,2,  -0.030,2,   31.56,3,      0.001,2
09AR20071216,       CASO,      60,          1,         14,         14,2,20080107,       0818,   -63.2095,   143.4972,       3964,   797.9,   1.6843,  34.7356,2,  34.7359,2,   197.12,2,  195.27,2,    92.5,2,    2.15,2,   0.2730,2,   0.1324,2,   0.0188,2,  2252.3,2,  2348.5,2,  -0.030,2,   31.22,3,      0.001,2
09AR20071216,       CASO,      60,          1,         13,         13,2,20080107,       0818,   -63.2095,   143.4972,       3964,  1001.5,   1.5143,  34.7362,2,  34.7378,2,   200.28,2,  198.83,2,    96.3,2,    2.14,2,   0.2562,2,   0.1260,2,   0.0140,2,  2251.9,2,  2351.4,2,  -0.031,2,   31.05,3,      0.001,2
09AR20071216,       CASO,      60,          1,         12,         12,2,20080107,       0818,   -63.2095,   143.4972,       3964,  1204.3,   1.3571,  34.7331,2,  34.7337,2,   202.07,2,  201.14,2,   100.7,2,    2.16,2,   0.2477,2,   0.1235,2,   0.0174,2,  2252.6,6,  2353.7,2,  -0.034,2,   31.13,3,      0.001,2
09AR20071216,       CASO,      60,          1,         11,         11,2,20080107,       0818,   -63.2095,   143.4972,       3964,  1400.0,   1.2305,  34.7317,2,  34.7321,2,   203.28,2,  202.56,2,   106.4,2,    2.18,2,   0.1463,2,   0.0692,2,   0.0113,2,    2256,2,  2355.9,6,  -0.030,2,   31.22,3,      0.001,2
09AR20071216,       CASO,      60,          1,         10,         10,2,20080107,       0818,   -63.2095,   143.4972,       3964,  1700.9,   1.0265,  34.7203,2,  34.7206,2,   204.99,2,  204.69,2,   111.0,2,    2.19,2,   0.2106,2,   0.1047,2,   0.0122,2,  2260.1,2,  2356.5,2,  -0.031,2,   31.63,3,      0.001,2
09AR20071216,       CASO,      60,          1,          9,          9,2,20080107,       0818,   -63.2095,   143.4972,       3964,  1999.6,   0.7844,  34.7073,2,  34.7070,2,   207.46,2,  208.60,2,   116.9,2,    2.23,2,   0.2568,2,   0.1241,2,   0.0159,2,  2260.7,2,  2358.2,2,  -0.037,2,   31.88,3,      0.001,2
09AR20071216,       CASO,      60,          1,          8,          8,2,20080107,       0818,   -63.2095,   143.4972,       3964,  2297.9,   0.5920,  34.6971,2,  34.6972,2,   212.19,2,  211.74,2,   121.5,2,    2.25,2,   0.3374,2,   0.1544,2,   0.0147,2,  2262.2,2,  2356.6,2,  -0.036,2,   32.29,3,      0.001,2
09AR20071216,       CASO,      60,          1,          7,          7,2,20080107,       0818,   -63.2095,   143.4972,       3964,  2598.8,   0.4142,  34.6894,2,  34.6892,2,   216.79,2,  216.16,2,   126.4,2,    2.30,2,   0.4209,2,   0.2001,2,   0.0258,2,  2261.6,2,  2358.6,6,  -0.040,2,   32.29,3,      0.001,2
09AR20071216,       CASO,      60,          1,          6,          6,2,20080107,       0818,   -63.2095,   143.4972,       3964,  2900.5,   0.2649,  34.6829,2,  34.6827,2,   221.97,2,  220.37,2,   127.3,2,    2.29,2,   0.6209,2,   0.3069,2,   0.0359,2,    2262,2,  2356.3,2,  -0.036,2,   32.22,3,      0.001,2
09AR20071216,       CASO,      60,          1,          5,          5,2,20080107,       0818,   -63.2095,   143.4972,       3964,  3201.1,   0.1568,  34.6786,2,  34.6780,2,   225.25,2,  224.76,2,   127.3,2,    2.29,2,-999.0000,9,-999.0000,9,-999.0000,9,  -999.0,9,  -999.0,9,  -0.038,2,   32.13,3,      0.001,2
09AR20071216,       CASO,      60,          1,          4,          4,2,20080107,       0818,   -63.2095,   143.4972,       3964,  3498.1,   0.0666,  34.6750,2,  34.6740,2,   229.14,2,  227.81,2,   129.2,2,    2.29,2,   0.9758,2,   0.4813,2,   0.0619,2,  2263.4,2,  2356.1,2,  -0.038,2,   32.38,3,      0.001,2
09AR20071216,       CASO,      60,          1,          3,          3,2,20080107,       0818,   -63.2095,   143.4972,       3964,  3802.6,  -0.0329,  34.6688,2,  34.6680,2,   231.93,2,  232.63,2,   127.6,2,    2.28,2,   1.1519,2,   0.5584,2,   0.0759,2,  2259.1,2,  2354.2,2,  -0.039,2,   32.21,3,      0.001,2
09AR20071216,       CASO,      60,          1,          2,          2,2,20080107,       0818,   -63.2095,   143.4972,       3964,  3950.8,  -0.1464,  34.6607,2,  34.6605,2,   238.13,2,  237.62,2,   122.7,2,    2.26,2,   1.8775,2,   0.9492,2,   0.1307,2,  2257.4,2,  2352.7,6,  -0.042,2,   32.62,3,      0.001,2
09AR20071216,       CASO,      60,          1,          1,          1,2,20080107,       0818,   -63.2095,   143.4972,       3964,  4020.8,  -0.3236,  34.6460,2,  34.6450,2,   247.76,2,  249.27,2,   108.9,2,    2.23,2,   2.4634,2,   1.2701,2,   0.1850,2,  2253.2,6,  2348.9,2,  -0.040,2,   31.70,3,      0.001,2