BOTTLE,20230622CCHSIOENA
EXPOCODE,SECT_ID,STNNBR,CASTNO,SAMPNO,BTLNBR,BTLNBR_FLAG_W,DATE,TIME,LATITUDE,LONGITUDE,DEPTH,CTDPRS,CTDTMP,CTDSAL,CTDSAL_FLAG_W,SALNTY,SALNTY_FLAG_W,CTDOXY,CTDOXY_FLAG_W,OXYGEN,OXYGEN_FLAG_W,SILCAT,SILCAT_FLAG_W,PHSPHT,PHSPHT_FLAG_W,CFC-11,CFC-11_FLAG_W,CFC-12,CFC-12_FLAG_W,CFC113,CFC113_FLAG_W,TCARBN,TCARBN_FLAG_W,ALKALI,ALKALI_FLAG_W,FLUOR,FLUOR_FLAG_W,NO2+NO3,NO2+NO3_FLAG_W,PAR,PAR_FLAG_W
,,,,,,,,,,,METERS,DBAR,ITS-90,PSS-78,,PSS-78,,UMOL/KG,,UMOL/KG,,UMOL/KG,,UMOL/KG,,PMOL/KG,,PMOL/KG,,PMOL/KG,,UMOL/KG,,UMOL/KG,,MG/M^3,,UMOL/KG,,VOLTS,
09AR20071216,    CEAMARC,      87,          1,         24,         24,2,20080113,       0618,   -66.5670,   141.3153,        171,     5.8,  -0.3155,  34.3940,2,  34.3941,2,   353.74,3,  370.27,2,    59.1,2,    1.45,2,   6.0972,2,   3.0599,2,   0.4973,2,  2181.7,6,  2337.6,6,   2.645,2,   23.06,2,      3.670,2
09AR20071216,    CEAMARC,      87,          1,         23,         23,2,20080113,       0618,   -66.5670,   141.3153,        171,     5.8,  -0.3140,  34.3938,2,-999.0000,9,   353.74,3, -999.00,9,  -999.0,9, -999.00,9,-999.0000,9,-999.0000,9,-999.0000,9,  -999.0,9,  -999.0,9,   2.789,2, -999.00,9,      3.686,2
09AR20071216,    CEAMARC,      87,          1,         22,         22,2,20080113,       0618,   -66.5670,   141.3153,        171,     5.8,  -0.3156,  34.3940,2,-999.0000,9,   353.74,3, -999.00,9,  -999.0,9, -999.00,9,-999.0000,9,-999.0000,9,-999.0000,9,  -999.0,9,  -999.0,9,   2.678,2, -999.00,9,      3.681,2
09AR20071216,    CEAMARC,      87,          1,         21,         21,2,20080113,       0618,   -66.5670,   141.3153,        171,     5.8,  -0.3164,  34.3940,2,-999.0000,9,   353.74,3, -999.00,9,  -999.0,9, -999.00,9,-999.0000,9,-999.0000,9,-999.0000,9,  -999.0,9,  -999.0,9,   2.583,2, -999.00,9,      3.686,2
09AR20071216,    CEAMARC,      87,          1,         20,         20,2,20080113,       0618,   -66.5670,   141.3153,        171,    39.5,  -0.7033,  34.4081,2,  34.4089,2,   359.32,2,  356.92,2,    62.0,2,    1.61,2,   5.8521,2,   2.9886,2,   0.4684,2,  2192.9,2,  2339.3,2,   6.850,2,   24.20,2,      1.362,2
09AR20071216,    CEAMARC,      87,          1,         19,         19,2,20080113,       0618,   -66.5670,   141.3153,        171,    39.5,  -0.7040,  34.4082,2,-999.0000,9,   359.32,2, -999.00,9,  -999.0,9, -999.00,9,-999.0000,9,-999.0000,9,-999.0000,9,  -999.0,9,  -999.0,9,   6.588,2, -999.00,9,      1.361,2
09AR20071216,    CEAMARC,      87,          1,         18,         18,2,20080113,       0618,   -66.5670,   141.3153,        171,    39.4,  -0.7072,  34.4081,2,-999.0000,9,   359.32,2, -999.00,9,  -999.0,9, -999.00,9,-999.0000,9,-999.0000,9,-999.0000,9,  -999.0,9,  -999.0,9,   6.731,2, -999.00,9,      1.363,2
09AR20071216,    CEAMARC,      87,          1,         17,         17,2,20080113,       0618,   -66.5670,   141.3153,        171,    39.5,  -0.7084,  34.4082,2,-999.0000,9,   359.32,2, -999.00,9,  -999.0,9, -999.00,9,-999.0000,9,-999.0000,9,-999.0000,9,  -999.0,9,  -999.0,9,   6.792,2, -999.00,9,      1.361,2
09AR20071216,    CEAMARC,      87,          1,         16,         16,2,20080113,       0618,   -66.5670,   141.3153,        171,    39.4,  -0.7125,  34.4080,2,-999.0000,9,   359.32,2, -999.00,9,  -999.0,9, -999.00,9,-999.0000,9,-999.0000,9,-999.0000,9,  -999.0,9,  -999.0,9,   6.400,2, -999.00,9,      1.360,2
09AR20071216,    CEAMARC,      87,          1,         15,         15,2,20080113,       0618,   -66.5670,   141.3153,        171,    39.4,  -0.7141,  34.4080,2,-999.0000,9,   359.32,2, -999.00,9,  -999.0,9, -999.00,9,-999.0000,9,-999.0000,9,-999.0000,9,  -999.0,9,  -999.0,9,   6.410,2, -999.00,9,      1.359,2
09AR20071216,    CEAMARC,      87,          1,         14,         14,2,20080113,       0618,   -66.5670,   141.3153,        171,    79.6,  -1.1702,  34.4344,2,  34.4344,2,   337.87,2,  339.74,2,    67.8,2,    1.84,2,   5.7397,2,   2.8819,2,   0.4611,2,  2212.4,2,    2335,2,   2.513,2,   26.14,2,      0.001,2
09AR20071216,    CEAMARC,      87,          1,         13,         13,2,20080113,       0618,   -66.5670,   141.3153,        171,    79.5,  -1.1721,  34.4344,2,-999.0000,9,   337.87,2, -999.00,9,  -999.0,9, -999.00,9,-999.0000,9,-999.0000,9,-999.0000,9,  -999.0,9,  -999.0,9,   2.581,2, -999.00,9,      0.001,2
09AR20071216,    CEAMARC,      87,          1,         12,         12,2,20080113,       0618,   -66.5670,   141.3153,        171,    79.5,  -1.1667,  34.4340,2,-999.0000,9,   337.87,2, -999.00,9,  -999.0,9, -999.00,9,-999.0000,9,-999.0000,9,-999.0000,9,  -999.0,9,  -999.0,9,   2.732,2, -999.00,9,      0.001,2
09AR20071216,    CEAMARC,      87,          1,         11,         11,2,20080113,       0618,   -66.5670,   141.3153,        171,    79.5,  -1.1744,  34.4344,2,-999.0000,9,   337.87,2, -999.00,9,  -999.0,9, -999.00,9,-999.0000,9,-999.0000,9,-999.0000,9,  -999.0,9,  -999.0,9,   2.764,2, -999.00,9,      0.001,2
09AR20071216,    CEAMARC,      87,          1,         10,         10,2,20080113,       0618,   -66.5670,   141.3153,        171,    99.0,  -1.2437,  34.4476,2,-999.0000,9,   332.26,2, -999.00,9,  -999.0,9, -999.00,9,-999.0000,9,-999.0000,9,-999.0000,9,  -999.0,9,  -999.0,9,   2.154,2, -999.00,9,      0.001,2
09AR20071216,    CEAMARC,      87,          1,          9,          9,2,20080113,       0618,   -66.5670,   141.3153,        171,    99.1,  -1.2408,  34.4479,2,-999.0000,9,   332.54,2, -999.00,9,  -999.0,9, -999.00,9,-999.0000,9,-999.0000,9,-999.0000,9,  -999.0,9,  -999.0,9,   2.073,2, -999.00,9,      0.001,2
09AR20071216,    CEAMARC,      87,          1,          8,          8,2,20080113,       0618,   -66.5670,   141.3153,        171,    99.0,  -1.2493,  34.4477,2,-999.0000,9,   332.26,2, -999.00,9,  -999.0,9, -999.00,9,-999.0000,9,-999.0000,9,-999.0000,9,  -999.0,9,  -999.0,9,   1.802,2, -999.00,9,      0.001,2
09AR20071216,    CEAMARC,      87,          1,          7,          7,2,20080113,       0618,   -66.5670,   141.3153,        171,    98.9,  -1.2545,  34.4473,2,-999.0000,9,   332.26,2, -999.00,9,  -999.0,9, -999.00,9,-999.0000,9,-999.0000,9,-999.0000,9,  -999.0,9,  -999.0,9,   2.520,2, -999.00,9,      0.001,2
09AR20071216,    CEAMARC,      87,          1,          6,          6,2,20080113,       0618,   -66.5670,   141.3153,        171,   120.1,  -1.2910,  34.4608,2,  34.4615,2,   342.10,2,  340.77,2,    69.8,2,    1.87,2,   5.5485,2,   2.8845,2,   0.4449,2,  2217.4,2,  2340.5,2,   1.444,2,   26.71,2,      0.001,2
09AR20071216,    CEAMARC,      87,          1,          5,          5,2,20080113,       0618,   -66.5670,   141.3153,        171,   120.0,  -1.2928,  34.4610,2,-999.0000,9,   342.10,2, -999.00,9,  -999.0,9, -999.00,9,-999.0000,9,-999.0000,9,-999.0000,9,  -999.0,9,  -999.0,9,   1.507,2, -999.00,9,      0.001,2
09AR20071216,    CEAMARC,      87,          1,          4,          4,2,20080113,       0618,   -66.5670,   141.3153,        171,   120.0,  -1.2918,  34.4610,2,-999.0000,9,   342.10,2, -999.00,9,  -999.0,9, -999.00,9,-999.0000,9,-999.0000,9,-999.0000,9,  -999.0,9,  -999.0,9,   1.576,2, -999.00,9,      0.001,2
09AR20071216,    CEAMARC,      87,          1,          3,          3,2,20080113,       0618,   -66.5670,   141.3153,        171,   119.9,  -1.2947,  34.4612,2,-999.0000,9,   342.10,2, -999.00,9,  -999.0,9, -999.00,9,-999.0000,9,-999.0000,9,-999.0000,9,  -999.0,9,  -999.0,9,   1.515,2, -999.00,9,      0.001,2
09AR20071216,    CEAMARC,      87,          1,          2,          2,2,20080113,       0618,   -66.5670,   141.3153,        171,   161.9,  -1.5286,  34.4766,2,  34.4758,2,   333.75,2,  331.46,2,    73.4,2,    1.96,2,   5.5497,2,   2.8181,2,   0.4622,2,  2223.9,2,  2337.2,2,   0.775,2,   27.95,2,      0.001,2
09AR20071216,    CEAMARC,      87,          1,          1,          1,2,20080113,       0618,   -66.5670,   141.3153,        171,   161.8,  -1.5293,  34.4768,2,-999.0000,9,   333.75,2, -999.00,9,  -999.0,9, -999.00,9,-999.0000,9,-999.0000,9,-999.0000,9,  -999.0,9,  -999.0,9,   0.761,2, -999.00,9,      0.001,2
09AR20071216,    CEAMARC,      88,          1,         24,         24,2,20080113,       1118,   -66.5638,   140.8653,        308,     5.3,  -0.6601,  34.1145,2,  34.1173,2,   363.30,2,  363.52,2,    62.4,2,    1.53,2,   5.5934,2,   2.8460,2,   0.4446,2,  2169.9,6,  2314.2,6,   7.503,2,   24.54,2,      2.291,2
09AR20071216,    CEAMARC,      88,          1,         23,         23,2,20080113,       1118,   -66.5638,   140.8653,        308,     5.2,  -0.6595,  34.1146,2,-999.0000,9,   363.30,2, -999.00,9,  -999.0,9, -999.00,9,-999.0000,9,-999.0000,9,-999.0000,9,  -999.0,9,  -999.0,9,   7.441,2, -999.00,9,      2.303,2
09AR20071216,    CEAMARC,      88,          1,         22,         22,2,20080113,       1118,   -66.5638,   140.8653,        308,     4.9,  -0.6593,  34.1148,2,-999.0000,9,  -999.00,5, -999.00,9,  -999.0,9, -999.00,9,-999.0000,9,-999.0000,9,-999.0000,9,  -999.0,9,  -999.0,9,   7.441,2, -999.00,9,      2.305,2
09AR20071216,    CEAMARC,      88,          1,         21,         21,2,20080113,       1118,   -66.5638,   140.8653,        308,     5.3,  -0.6600,  34.1148,2,-999.0000,9,   363.30,2, -999.00,9,  -999.0,9, -999.00,9,-999.0000,9,-999.0000,9,-999.0000,9,  -999.0,9,  -999.0,9,   7.542,2, -999.00,9,      2.287,2
09AR20071216,    CEAMARC,      88,          1,         20,         20,2,20080113,       1118,   -66.5638,   140.8653,        308,    19.4,  -0.6662,  34.1174,2,-999.0000,9,   364.29,2, -999.00,9,  -999.0,9, -999.00,9,-999.0000,9,-999.0000,9,-999.0000,9,  -999.0,9,  -999.0,9,   8.035,2, -999.00,9,      1.150,2
09AR20071216,    CEAMARC,      88,          1,         19,         19,2,20080113,       1118,   -66.5638,   140.8653,        308,    19.4,  -0.6612,  34.1158,2,-999.0000,9,   364.29,2, -999.00,9,  -999.0,9, -999.00,9,-999.0000,9,-999.0000,9,-999.0000,9,  -999.0,9,  -999.0,9,   7.807,2, -999.00,9,      1.142,2
09AR20071216,    CEAMARC,      88,          1,         18,         18,2,20080113,       1118,   -66.5638,   140.8653,        308,    24.3,  -0.9209,  34.1529,2,  34.1526,2,   364.58,2,  350.77,2,    63.6,2,    1.61,2,   5.3975,2,   2.7666,2,   0.4358,2,  2177.8,2,    2317,2,   7.475,2,   25.49,2,      0.883,2
09AR20071216,    CEAMARC,      88,          1,         17,         17,2,20080113,       1118,   -66.5638,   140.8653,        308,    24.3,  -0.9439,  34.1551,2,-999.0000,9,   364.58,2, -999.00,9,  -999.0,9, -999.00,9,-999.0000,9,-999.0000,9,-999.0000,9,  -999.0,9,  -999.0,9,   7.411,2, -999.00,9,      0.894,2
09AR20071216,    CEAMARC,      88,          1,         16,         16,2,20080113,       1118,   -66.5638,   140.8653,        308,    24.4,  -0.9717,  34.1577,2,-999.0000,9,   364.58,2, -999.00,9,  -999.0,9, -999.00,9,-999.0000,9,-999.0000,9,-999.0000,9,  -999.0,9,  -999.0,9,   7.369,2, -999.00,9,      0.897,2
09AR20071216,    CEAMARC,      88,          1,         15,         15,2,20080113,       1118,   -66.5638,   140.8653,        308,    24.3,  -0.9782,  34.1583,2,-999.0000,9,   364.58,2, -999.00,9,  -999.0,9, -999.00,9,-999.0000,9,-999.0000,9,-999.0000,9,  -999.0,9,  -999.0,9,   7.512,2, -999.00,9,      0.911,2
09AR20071216,    CEAMARC,      88,          1,         14,         14,2,20080113,       1118,   -66.5638,   140.8653,        308,    24.3,  -1.0018,  34.1617,2,-999.0000,9,   364.58,2, -999.00,9,  -999.0,9, -999.00,9,-999.0000,9,-999.0000,9,-999.0000,9,  -999.0,9,  -999.0,9,   7.307,2, -999.00,9,      0.906,2
09AR20071216,    CEAMARC,      88,          1,         13,         13,2,20080113,       1118,   -66.5638,   140.8653,        308,    24.3,  -0.9610,  34.1569,2,-999.0000,9,   364.58,2, -999.00,9,  -999.0,9, -999.00,9,-999.0000,9,-999.0000,9,-999.0000,9,  -999.0,9,  -999.0,9,   7.655,2, -999.00,9,      0.896,2
09AR20071216,    CEAMARC,      88,          1,         12,         12,2,20080113,       1118,   -66.5638,   140.8653,        308,    50.0,  -1.3796,  34.3416,2,-999.0000,9,   318.13,2, -999.00,9,  -999.0,9, -999.00,9,-999.0000,9,-999.0000,9,-999.0000,9,  -999.0,9,  -999.0,9,   1.430,2, -999.00,9,      0.001,2
09AR20071216,    CEAMARC,      88,          1,         11,         11,2,20080113,       1118,   -66.5638,   140.8653,        308,    50.0,  -1.3817,  34.3430,2,-999.0000,9,   318.13,2, -999.00,9,  -999.0,9, -999.00,9,-999.0000,9,-999.0000,9,-999.0000,9,  -999.0,9,  -999.0,9,   1.443,2, -999.00,9,      0.001,2
09AR20071216,    CEAMARC,      88,          1,         10,         10,2,20080113,       1118,   -66.5638,   140.8653,        308,    50.0,  -1.3936,  34.3505,2,  34.3484,2,   318.13,2,  317.64,2,    71.2,2,    1.97,2,   4.8921,2,   2.5108,2,   0.3952,2,  2215.2,2,  2326.3,2,   1.313,2,   29.29,2,      0.001,2
09AR20071216,    CEAMARC,      88,          1,          9,          9,2,20080113,       1118,   -66.5638,   140.8653,        308,    49.8,  -1.3969,  34.3525,2,-999.0000,9,   318.13,2, -999.00,9,  -999.0,9, -999.00,9,-999.0000,9,-999.0000,9,-999.0000,9,  -999.0,9,  -999.0,9,   1.243,2, -999.00,9,      0.001,2
09AR20071216,    CEAMARC,      88,          1,          8,          8,2,20080113,       1118,   -66.5638,   140.8653,        308,   155.4,  -1.5927,  34.4608,2,  34.4640,2,   305.42,2,  305.26,2,    75.1,2,    2.06,2,   4.6163,2,   2.3727,2,   0.3686,2,  2228.4,2,  2332.9,2,   0.307,2,   30.38,2,      0.001,2
09AR20071216,    CEAMARC,      88,          1,          7,          7,2,20080113,       1118,   -66.5638,   140.8653,        308,   155.2,  -1.6015,  34.4635,2,-999.0000,9,   305.42,2, -999.00,9,  -999.0,9, -999.00,9,-999.0000,9,-999.0000,9,-999.0000,9,  -999.0,9,  -999.0,9,   0.306,2, -999.00,9,      0.001,2
09AR20071216,    CEAMARC,      88,          1,          6,          6,2,20080113,       1118,   -66.5638,   140.8653,        308,   200.7,  -1.7511,  34.5111,2,-999.0000,9,   318.19,2, -999.00,9,    76.3,2,    2.05,2,   5.2171,2,   2.6412,2,   0.4453,2,  -999.0,9,  -999.0,9,   0.240,2,   30.03,2,      0.001,2
09AR20071216,    CEAMARC,      88,          1,          5,          5,2,20080113,       1118,   -66.5638,   140.8653,        308,   200.7,  -1.7519,  34.5115,2,  34.5128,2,   318.19,2,  319.64,2,  -999.0,9, -999.00,9,-999.0000,9,-999.0000,9,-999.0000,9,  2230.1,2,  2334.5,2,   0.250,2, -999.00,9,      0.001,2
09AR20071216,    CEAMARC,      88,          1,          4,          4,2,20080113,       1118,   -66.5638,   140.8653,        308,   259.7,  -1.7624,  34.5169,2,  34.5168,2,   321.53,2,  320.33,2,    76.8,2,    2.06,2,   5.1268,2,   2.6656,2,   0.4188,2,  2232.4,2,  2335.4,6,   0.157,2,   30.07,2,      0.001,2
09AR20071216,    CEAMARC,      88,          1,          3,          3,2,20080113,       1118,   -66.5638,   140.8653,        308,   259.8,  -1.7626,  34.5169,2,-999.0000,9,   321.53,2, -999.00,9,  -999.0,9, -999.00,9,-999.0000,9,-999.0000,9,-999.0000,9,  -999.0,9,  -999.0,9,   0.151,2, -999.00,9,      0.001,2
09AR20071216,    CEAMARC,      88,          1,          2,          2,2,20080113,       1118,   -66.5638,   140.8653,        308,   298.0,  -1.7660,  34.5185,2,  34.5187,2,   320.79,2,  320.68,2,    76.5,2,    2.06,2,   5.2730,2,   2.6736,2,   0.4287,2,  2232.4,2,  2335.5,2,   0.158,2,   29.86,2,      0.001,2
09AR20071216,    CEAMARC,      88,          1,          1,          1,2,20080113,       1118,   -66.5638,   140.8653,        308,   297.9,  -1.7663,  34.5186,2,-999.0000,9,   320.79,2, -999.00,9,  -999.0,9, -999.00,9,-999.0000,9,-999.0000,9,-999.0000,9,  -999.0,9,  -999.0,9,   0.151,2, -999.00,9,      0.001,2