BOTTLE,20230622CCHSIOENA
EXPOCODE,SECT_ID,STNNBR,CASTNO,SAMPNO,BTLNBR,BTLNBR_FLAG_W,DATE,TIME,LATITUDE,LONGITUDE,DEPTH,CTDPRS,CTDTMP,CTDSAL,CTDSAL_FLAG_W,SALNTY,SALNTY_FLAG_W,CTDOXY,CTDOXY_FLAG_W,OXYGEN,OXYGEN_FLAG_W,SILCAT,SILCAT_FLAG_W,PHSPHT,PHSPHT_FLAG_W,CFC-11,CFC-11_FLAG_W,CFC-12,CFC-12_FLAG_W,CFC113,CFC113_FLAG_W,TCARBN,TCARBN_FLAG_W,ALKALI,ALKALI_FLAG_W,FLUOR,FLUOR_FLAG_W,NO2+NO3,NO2+NO3_FLAG_W,PAR,PAR_FLAG_W
,,,,,,,,,,,METERS,DBAR,ITS-90,PSS-78,,PSS-78,,UMOL/KG,,UMOL/KG,,UMOL/KG,,UMOL/KG,,PMOL/KG,,PMOL/KG,,PMOL/KG,,UMOL/KG,,UMOL/KG,,MG/M^3,,UMOL/KG,,VOLTS,
09AR20071216,    CEAMARC,      21,          1,         24,         24,2,20071228,       1809,   -66.8782,   142.6620,        412,     2.8,  -1.0096,  34.4595,2,  34.4601,2,  -999.00,5,  354.55,2,    69.1,2,    1.81,2,   5.8460,2,   2.9861,2,   0.4476,2,  2202.9,6,  2337.6,6,   2.332,2,   28.94,2,      3.433,2
09AR20071216,    CEAMARC,      21,          1,         23,         23,2,20071228,       1809,   -66.8782,   142.6620,        412,     2.9,  -1.0020,  34.4593,2,-999.0000,9,  -999.00,5, -999.00,9,  -999.0,9, -999.00,9,-999.0000,9,-999.0000,9,-999.0000,9,  -999.0,9,  -999.0,9,   2.315,2, -999.00,9,      3.440,2
09AR20071216,    CEAMARC,      21,          1,         22,         22,2,20071228,       1809,   -66.8782,   142.6620,        412,     2.8,  -1.0054,  34.4592,2,-999.0000,9,  -999.00,5, -999.00,9,  -999.0,9, -999.00,9,-999.0000,9,-999.0000,9,-999.0000,9,  -999.0,9,  -999.0,9,   2.556,2, -999.00,9,      3.415,2
09AR20071216,    CEAMARC,      21,          1,         21,         21,2,20071228,       1809,   -66.8782,   142.6620,        412,     2.8,  -1.0022,  34.4592,2,-999.0000,9,  -999.00,5, -999.00,9,  -999.0,9, -999.00,9,-999.0000,9,-999.0000,9,-999.0000,9,  -999.0,9,  -999.0,9,   3.175,2, -999.00,9,      3.406,2
09AR20071216,    CEAMARC,      21,          1,         20,         20,2,20071228,       1809,   -66.8782,   142.6620,        412,    29.9,  -1.2292,  34.4644,2,-999.0000,9,   348.97,2, -999.00,9,  -999.0,9, -999.00,9,-999.0000,9,-999.0000,9,-999.0000,9,  -999.0,9,  -999.0,9,   4.951,2, -999.00,9,      1.525,2
09AR20071216,    CEAMARC,      21,          1,         19,         19,2,20071228,       1809,   -66.8782,   142.6620,        412,    30.0,  -1.2301,  34.4644,2,-999.0000,9,   348.97,2, -999.00,9,  -999.0,9, -999.00,9,-999.0000,9,-999.0000,9,-999.0000,9,  -999.0,9,  -999.0,9,   4.754,2, -999.00,9,      1.515,2
09AR20071216,    CEAMARC,      21,          1,         18,         18,2,20071228,       1809,   -66.8782,   142.6620,        412,    30.0,  -1.2334,  34.4643,2,-999.0000,9,   348.97,2, -999.00,9,  -999.0,9, -999.00,9,-999.0000,9,-999.0000,9,-999.0000,9,  -999.0,9,  -999.0,9,   4.857,2, -999.00,9,      1.502,2
09AR20071216,    CEAMARC,      21,          1,         17,         17,2,20071228,       1809,   -66.8782,   142.6620,        412,    30.0,  -1.2305,  34.4643,2,-999.0000,9,   348.97,2, -999.00,9,  -999.0,9, -999.00,9,-999.0000,9,-999.0000,9,-999.0000,9,  -999.0,9,  -999.0,9,   5.253,2, -999.00,9,      1.497,2
09AR20071216,    CEAMARC,      21,          1,         16,         16,2,20071228,       1809,   -66.8782,   142.6620,        412,    30.0,  -1.2329,  34.4645,2,  34.4650,2,   348.97,2,  345.07,2,    70.7,2,    1.90,2,   5.9055,2,   2.9618,2,   0.4451,2,  2210.5,2,    2335,2,   4.961,2,   29.65,2,      1.502,2
09AR20071216,    CEAMARC,      21,          1,         15,         15,2,20071228,       1809,   -66.8782,   142.6620,        412,    30.0,  -1.2311,  34.4644,2,-999.0000,9,   348.97,2, -999.00,9,  -999.0,9, -999.00,9,-999.0000,9,-999.0000,9,-999.0000,9,  -999.0,9,  -999.0,9,   5.435,2, -999.00,9,      1.505,2
09AR20071216,    CEAMARC,      21,          1,         14,         14,2,20071228,       1809,   -66.8782,   142.6620,        412,    60.5,  -1.2471,  34.4690,2,  34.4695,2,   342.82,2,  344.94,2,    71.0,2,    1.89,2,   5.7916,2,   2.8934,2,   0.4404,2,  2210.6,2,  2333.9,2,   5.275,2,   29.85,2,      0.001,2
09AR20071216,    CEAMARC,      21,          1,         13,         13,2,20071228,       1809,   -66.8782,   142.6620,        412,    60.3,  -1.2499,  34.4689,2,-999.0000,9,   342.82,2, -999.00,9,  -999.0,9, -999.00,9,-999.0000,9,-999.0000,9,-999.0000,9,  -999.0,9,  -999.0,9,   5.041,2, -999.00,9,      0.001,2
09AR20071216,    CEAMARC,      21,          1,         12,         12,2,20071228,       1809,   -66.8782,   142.6620,        412,    98.7,  -1.3052,  34.4693,2,  34.4695,2,   340.38,2,  340.33,2,    71.6,2,    1.93,2,   5.8004,2,   2.9292,2,   0.4468,2,  2213.1,2,  2334.3,6,   4.107,2,   30.01,2,      0.001,2
09AR20071216,    CEAMARC,      21,          1,         11,         11,2,20071228,       1809,   -66.8782,   142.6620,        412,    98.7,  -1.3119,  34.4693,2,-999.0000,9,   340.38,2, -999.00,9,  -999.0,9, -999.00,9,-999.0000,9,-999.0000,9,-999.0000,9,  -999.0,9,  -999.0,9,   3.715,2, -999.00,9,      0.001,2
09AR20071216,    CEAMARC,      21,          1,         10,         10,2,20071228,       1809,   -66.8782,   142.6620,        412,   149.1,  -1.4599,  34.4717,2,  34.4725,2,   334.53,2,  332.82,2,    73.3,2,    2.02,2,   5.6823,2,   2.8628,2,   0.4168,2,    2220,2,  2333.4,2,   1.885,2,   30.78,2,      0.001,2
09AR20071216,    CEAMARC,      21,          1,          9,          9,2,20071228,       1809,   -66.8782,   142.6620,        412,   148.9,  -1.4718,  34.4720,2,-999.0000,9,   335.73,2, -999.00,9,  -999.0,9, -999.00,9,-999.0000,9,-999.0000,9,-999.0000,9,  -999.0,9,  -999.0,9,   1.851,2, -999.00,9,      0.001,2
09AR20071216,    CEAMARC,      21,          1,          8,          8,2,20071228,       1809,   -66.8782,   142.6620,        412,   199.8,  -1.7021,  34.4785,2,  34.4785,2,   322.81,2,  322.51,2,    75.8,2,    2.10,2,   5.4814,2,   2.7544,2,   0.4245,2,    2226,2,  2333.6,2,   0.544,2,   31.66,2,      0.001,2
09AR20071216,    CEAMARC,      21,          1,          7,          7,2,20071228,       1809,   -66.8782,   142.6620,        412,   199.6,  -1.7019,  34.4785,2,-999.0000,9,   322.81,2, -999.00,9,  -999.0,9, -999.00,9,-999.0000,9,-999.0000,9,-999.0000,9,  -999.0,9,  -999.0,9,   0.525,2, -999.00,9,      0.001,2
09AR20071216,    CEAMARC,      21,          1,          6,          6,2,20071228,       1809,   -66.8782,   142.6620,        412,   249.8,  -1.7217,  34.4979,2,  34.4972,2,   326.11,2,  327.54,2,    75.8,2,    2.10,2,   5.4369,2,   2.8549,2,   0.4242,2,  2226.8,2,  2336.2,2,   0.272,2,   31.80,2,      0.001,2
09AR20071216,    CEAMARC,      21,          1,          5,          5,2,20071228,       1809,   -66.8782,   142.6620,        412,   249.7,  -1.7252,  34.4981,2,-999.0000,9,   326.11,2, -999.00,9,  -999.0,9, -999.00,9,-999.0000,9,-999.0000,9,-999.0000,9,  -999.0,9,  -999.0,9,   0.290,2, -999.00,9,      0.001,2
09AR20071216,    CEAMARC,      21,          1,          4,          4,2,20071228,       1809,   -66.8782,   142.6620,        412,   349.1,  -1.7977,  34.5091,2,  34.5115,2,   321.93,2,  318.94,2,    77.3,2,    2.12,2,   5.3632,6,   2.7245,6,   0.4118,6,  2229.8,2,  2339.7,2,   0.133,2,   32.12,2,      0.001,2
09AR20071216,    CEAMARC,      21,          1,          3,          3,2,20071228,       1809,   -66.8782,   142.6620,        412,   349.2,  -1.7980,  34.5093,2,-999.0000,9,   321.93,2, -999.00,9,  -999.0,9, -999.00,9,-999.0000,9,-999.0000,9,-999.0000,9,  -999.0,9,  -999.0,9,   0.132,2, -999.00,9,      0.001,2
09AR20071216,    CEAMARC,      21,          1,          2,          2,2,20071228,       1809,   -66.8782,   142.6620,        412,   421.5,  -1.8152,  34.5194,2,  34.5197,2,   323.53,2,  323.63,2,    77.5,2,    2.13,2,   5.4228,2,   2.7351,2,   0.3902,2,    2231,6,  2334.9,6,   0.097,2,   31.25,3,      0.001,2
09AR20071216,    CEAMARC,      21,          1,          1,          1,2,20071228,       1809,   -66.8782,   142.6620,        412,   421.6,  -1.8155,  34.5196,2,-999.0000,9,   323.53,2, -999.00,9,  -999.0,9, -999.00,9,-999.0000,9,-999.0000,9,-999.0000,9,  -999.0,9,  -999.0,9,   0.098,2, -999.00,9,      0.001,2
09AR20071216,    CEAMARC,      22,          1,         24,         24,2,20071229,       0012,   -66.7570,   143.2887,        169,     4.0,  -0.8353,  34.3434,2,  34.3431,2,  -999.00,5,  356.80,2,    58.5,2,    1.64,2,   5.9336,2,   3.0606,2,   0.4596,2,  2188.2,2,  2321.3,2,   1.037,2,   27.06,2,      4.009,2
09AR20071216,    CEAMARC,      22,          1,         23,         23,2,20071229,       0012,   -66.7570,   143.2887,        169,     4.0,  -0.8687,  34.3436,2,-999.0000,9,  -999.00,5, -999.00,9,  -999.0,9, -999.00,9,-999.0000,9,-999.0000,9,-999.0000,9,  -999.0,9,  -999.0,9,   1.581,2, -999.00,9,      3.955,2
09AR20071216,    CEAMARC,      22,          1,         22,         22,2,20071229,       0012,   -66.7570,   143.2887,        169,     3.9,  -0.8095,  34.3425,2,-999.0000,9,  -999.00,5, -999.00,9,  -999.0,9, -999.00,9,-999.0000,9,-999.0000,9,-999.0000,9,  -999.0,9,  -999.0,9,   1.031,2, -999.00,9,      3.866,2
09AR20071216,    CEAMARC,      22,          1,         21,         21,2,20071229,       0012,   -66.7570,   143.2887,        169,     4.0,  -0.8022,  34.3419,2,-999.0000,9,  -999.00,5, -999.00,9,  -999.0,9, -999.00,9,-999.0000,9,-999.0000,9,-999.0000,9,  -999.0,9,  -999.0,9,   0.851,2, -999.00,9,      3.999,2
09AR20071216,    CEAMARC,      22,          1,         20,         20,2,20071229,       0012,   -66.7570,   143.2887,        169,    30.1,  -1.0842,  34.3680,2,-999.0000,9,   344.86,2, -999.00,9,  -999.0,9, -999.00,9,-999.0000,9,-999.0000,9,-999.0000,9,  -999.0,9,  -999.0,9,   6.395,2, -999.00,9,      2.296,2
09AR20071216,    CEAMARC,      22,          1,         19,         19,2,20071229,       0012,   -66.7570,   143.2887,        169,    30.1,  -1.0860,  34.3683,2,-999.0000,9,   344.86,2, -999.00,9,  -999.0,9, -999.00,9,-999.0000,9,-999.0000,9,-999.0000,9,  -999.0,9,  -999.0,9,   6.106,2, -999.00,9,      2.306,2
09AR20071216,    CEAMARC,      22,          1,         18,         18,2,20071229,       0012,   -66.7570,   143.2887,        169,    30.0,  -1.0747,  34.3681,2,-999.0000,9,   344.86,2, -999.00,9,  -999.0,9, -999.00,9,-999.0000,9,-999.0000,9,-999.0000,9,  -999.0,9,  -999.0,9,   6.436,2, -999.00,9,      2.318,2
09AR20071216,    CEAMARC,      22,          1,         17,         17,2,20071229,       0012,   -66.7570,   143.2887,        169,    29.9,  -1.0810,  34.3690,2,-999.0000,9,   344.86,2, -999.00,9,  -999.0,9, -999.00,9,-999.0000,9,-999.0000,9,-999.0000,9,  -999.0,9,  -999.0,9,   6.524,2, -999.00,9,      2.325,2
09AR20071216,    CEAMARC,      22,          1,         16,         16,2,20071229,       0012,   -66.7570,   143.2887,        169,    29.9,  -1.0882,  34.3700,2,-999.0000,9,   344.86,2, -999.00,9,  -999.0,9, -999.00,9,-999.0000,9,-999.0000,9,-999.0000,9,  -999.0,9,  -999.0,9,   6.370,2, -999.00,9,      2.337,2
09AR20071216,    CEAMARC,      22,          1,         15,         15,2,20071229,       0012,   -66.7570,   143.2887,        169,    29.9,  -1.0976,  34.3710,2,-999.0000,9,   344.86,2, -999.00,9,  -999.0,9, -999.00,9,-999.0000,9,-999.0000,9,-999.0000,9,  -999.0,9,  -999.0,9,   6.253,2, -999.00,9,      2.356,2
09AR20071216,    CEAMARC,      22,          1,         14,         14,2,20071229,       0012,   -66.7570,   143.2887,        169,    30.0,  -1.1111,  34.3714,2,-999.0000,9,   344.86,2, -999.00,9,  -999.0,9, -999.00,9,-999.0000,9,-999.0000,9,-999.0000,9,  -999.0,9,  -999.0,9,   6.045,2, -999.00,9,      2.355,2
09AR20071216,    CEAMARC,      22,          1,         13,         13,2,20071229,       0012,   -66.7570,   143.2887,        169,    29.9,  -1.1110,  34.3716,2,-999.0000,9,   344.86,2, -999.00,9,  -999.0,9, -999.00,9,-999.0000,9,-999.0000,9,-999.0000,9,  -999.0,9,  -999.0,9,   6.127,2, -999.00,9,      2.350,2
09AR20071216,    CEAMARC,      22,          1,         12,         12,2,20071229,       0012,   -66.7570,   143.2887,        169,    29.9,  -1.1090,  34.3715,2,-999.0000,9,   344.86,2, -999.00,9,  -999.0,9, -999.00,9,-999.0000,9,-999.0000,9,-999.0000,9,  -999.0,9,  -999.0,9,   6.002,2, -999.00,9,      2.343,2
09AR20071216,    CEAMARC,      22,          1,         11,         11,2,20071229,       0012,   -66.7570,   143.2887,        169,    30.0,  -1.1043,  34.3713,2,-999.0000,9,   344.86,2, -999.00,9,  -999.0,9, -999.00,9,-999.0000,9,-999.0000,9,-999.0000,9,  -999.0,9,  -999.0,9,   5.885,2, -999.00,9,      2.324,2
09AR20071216,    CEAMARC,      22,          1,         10,         10,2,20071229,       0012,   -66.7570,   143.2887,        169,    30.0,  -1.0992,  34.3705,2,  34.3701,2,   344.86,2,  342.36,2,    62.5,2,    1.79,2,   5.8012,6,   2.9466,6,   0.4510,6,  2201.1,2,  2328.7,2,   6.152,2,   28.20,2,      2.311,2
09AR20071216,    CEAMARC,      22,          1,          9,          9,2,20071229,       0012,   -66.7570,   143.2887,        169,    29.9,  -1.0967,  34.3703,2,-999.0000,9,   344.86,2, -999.00,9,  -999.0,9, -999.00,9,-999.0000,9,-999.0000,9,-999.0000,9,  -999.0,9,  -999.0,9,   6.173,2, -999.00,9,      2.314,2
09AR20071216,    CEAMARC,      22,          1,          8,          8,2,20071229,       0012,   -66.7570,   143.2887,        169,    49.9,  -1.1494,  34.3786,2,  34.3760,2,   339.36,2,  341.49,2,    63.4,2,    1.82,2,   5.5668,2,   2.9572,2,   0.4279,2,    2203,2,  2328.2,2,   6.016,2,   28.12,2,      1.223,2
09AR20071216,    CEAMARC,      22,          1,          7,          7,2,20071229,       0012,   -66.7570,   143.2887,        169,    49.9,  -1.1315,  34.3760,2,-999.0000,9,   339.36,2, -999.00,9,  -999.0,9, -999.00,9,-999.0000,9,-999.0000,9,-999.0000,9,  -999.0,9,  -999.0,9,   5.899,2, -999.00,9,      1.217,2
09AR20071216,    CEAMARC,      22,          1,          6,          6,2,20071229,       0012,   -66.7570,   143.2887,        169,    89.3,  -1.4814,  34.4464,2,  34.4466,2,   326.09,2,  327.52,2,    72.2,2,    2.00,2,   5.4478,2,   2.7599,2,   0.4153,2,    2220,2,  2330.1,2,   2.254,2,   30.10,2,      0.001,2
09AR20071216,    CEAMARC,      22,          1,          5,          5,2,20071229,       0012,   -66.7570,   143.2887,        169,    89.3,  -1.4811,  34.4463,2,-999.0000,9,   326.09,2, -999.00,9,  -999.0,9, -999.00,9,-999.0000,9,-999.0000,9,-999.0000,9,  -999.0,9,  -999.0,9,   2.215,2, -999.00,9,      0.001,2
09AR20071216,    CEAMARC,      22,          1,          4,          4,2,20071229,       0012,   -66.7570,   143.2887,        169,   129.2,  -1.6113,  34.4711,2,  34.4705,2,   321.45,2,  319.90,2,    75.2,2,    2.07,2,   5.1951,2,   2.6862,2,   0.4045,2,  2224.9,2,  2333.3,2,   1.387,2,   31.30,2,      0.001,2
09AR20071216,    CEAMARC,      22,          1,          3,          3,2,20071229,       0012,   -66.7570,   143.2887,        169,   128.9,  -1.6115,  34.4710,2,-999.0000,9,   321.55,2, -999.00,9,  -999.0,9, -999.00,9,-999.0000,9,-999.0000,9,-999.0000,9,  -999.0,9,  -999.0,9,   1.359,2, -999.00,9,      0.001,2
09AR20071216,    CEAMARC,      22,          1,          2,          2,2,20071229,       0012,   -66.7570,   143.2887,        169,   148.8,  -1.6151,  34.4721,2,  34.4734,2,   320.82,2,  319.51,2,    75.8,2,    2.09,2,-999.0000,9,-999.0000,9,-999.0000,9,  2225.7,6,  2331.7,6,   1.322,2,   31.78,2,      0.001,2
09AR20071216,    CEAMARC,      22,          1,          1,          1,2,20071229,       0012,   -66.7570,   143.2887,        169,   148.9,  -1.6207,  34.4732,2,-999.0000,9,   320.82,2, -999.00,9,  -999.0,9, -999.00,9,   5.2231,2,   2.6785,2,   0.4122,2,  -999.0,9,  -999.0,9,   1.297,2, -999.00,9,      0.001,2