BOTTLE,20230622CCHSIOENA
EXPOCODE,SECT_ID,STNNBR,CASTNO,SAMPNO,BTLNBR,BTLNBR_FLAG_W,DATE,TIME,LATITUDE,LONGITUDE,DEPTH,CTDPRS,CTDTMP,CTDSAL,CTDSAL_FLAG_W,SALNTY,SALNTY_FLAG_W,CTDOXY,CTDOXY_FLAG_W,OXYGEN,OXYGEN_FLAG_W,SILCAT,SILCAT_FLAG_W,PHSPHT,PHSPHT_FLAG_W,CFC-11,CFC-11_FLAG_W,CFC-12,CFC-12_FLAG_W,CFC113,CFC113_FLAG_W,TCARBN,TCARBN_FLAG_W,ALKALI,ALKALI_FLAG_W,FLUOR,FLUOR_FLAG_W,NO2+NO3,NO2+NO3_FLAG_W,PAR,PAR_FLAG_W
,,,,,,,,,,,METERS,DBAR,ITS-90,PSS-78,,PSS-78,,UMOL/KG,,UMOL/KG,,UMOL/KG,,UMOL/KG,,PMOL/KG,,PMOL/KG,,PMOL/KG,,UMOL/KG,,UMOL/KG,,MG/M^3,,UMOL/KG,,VOLTS,
09AR20071216,    ICEBERG,     115,          1,         24,         24,2,20080119,       0824,   -65.5352,   140.7058,       1027,     3.0,   0.8135,  33.5897,2,  33.5919,2,  -999.00,5, -999.00,9,    39.5,2,    1.78,2,-999.0000,9,-999.0000,9,-999.0000,9,  -999.0,9,  -999.0,9,   0.191,2,   26.88,2,      3.377,2
09AR20071216,    ICEBERG,     115,          1,         23,         23,2,20080119,       0824,   -65.5352,   140.7058,       1027,     3.0,   0.8078,  33.5902,2,-999.0000,9,  -999.00,5, -999.00,9,  -999.0,9, -999.00,9,-999.0000,9,-999.0000,9,-999.0000,9,  -999.0,9,  -999.0,9,   0.215,2, -999.00,9,      3.361,2
09AR20071216,    ICEBERG,     115,          1,         22,         22,2,20080119,       0824,   -65.5352,   140.7058,       1027,     3.0,   0.8062,  33.5903,2,-999.0000,9,  -999.00,5, -999.00,9,  -999.0,9, -999.00,9,-999.0000,9,-999.0000,9,-999.0000,9,  -999.0,9,  -999.0,9,   0.240,2, -999.00,9,      3.332,2
09AR20071216,    ICEBERG,     115,          1,         21,         21,2,20080119,       0824,   -65.5352,   140.7058,       1027,     3.0,   0.7933,  33.5915,2,-999.0000,9,  -999.00,5, -999.00,9,  -999.0,9, -999.00,9,-999.0000,9,-999.0000,9,-999.0000,9,  -999.0,9,  -999.0,9,   0.277,2, -999.00,9,      3.299,2
09AR20071216,    ICEBERG,     115,          1,         20,         20,2,20080119,       0824,   -65.5352,   140.7058,       1027,    25.0,   0.4051,  33.6638,2,  33.6669,2,  -999.00,5, -999.00,9,    39.6,2,    1.78,2,-999.0000,9,-999.0000,9,-999.0000,9,  -999.0,9,  -999.0,9,   0.923,2,   26.63,2,      2.593,2
09AR20071216,    ICEBERG,     115,          1,         19,         19,2,20080119,       0824,   -65.5352,   140.7058,       1027,    25.1,   0.4032,  33.6642,2,-999.0000,9,  -999.00,5, -999.00,9,  -999.0,9, -999.00,9,-999.0000,9,-999.0000,9,-999.0000,9,  -999.0,9,  -999.0,9,   0.935,2, -999.00,9,      2.613,2
09AR20071216,    ICEBERG,     115,          1,         18,         18,2,20080119,       0824,   -65.5352,   140.7058,       1027,    25.1,   0.3865,  33.6689,2,-999.0000,9,  -999.00,5, -999.00,9,  -999.0,9, -999.00,9,-999.0000,9,-999.0000,9,-999.0000,9,  -999.0,9,  -999.0,9,   0.988,2, -999.00,9,      2.665,2
09AR20071216,    ICEBERG,     115,          1,         17,         17,2,20080119,       0824,   -65.5352,   140.7058,       1027,    24.9,   0.3733,  33.6721,2,-999.0000,9,  -999.00,5, -999.00,9,  -999.0,9, -999.00,9,-999.0000,9,-999.0000,9,-999.0000,9,  -999.0,9,  -999.0,9,   0.981,2, -999.00,9,      2.681,2
09AR20071216,    ICEBERG,     115,          1,         16,         16,2,20080119,       0824,   -65.5352,   140.7058,       1027,    70.3,  -1.4766,  34.1869,2,  34.1868,2,  -999.00,5, -999.00,9,    52.3,2,    1.96,2,-999.0000,9,-999.0000,9,-999.0000,9,  -999.0,9,  -999.0,9,   1.794,2,   28.69,2,      1.680,2
09AR20071216,    ICEBERG,     115,          1,         15,         15,2,20080119,       0824,   -65.5352,   140.7058,       1027,    70.2,  -1.4764,  34.1868,2,-999.0000,9,  -999.00,5, -999.00,9,  -999.0,9, -999.00,9,-999.0000,9,-999.0000,9,-999.0000,9,  -999.0,9,  -999.0,9,   1.837,2, -999.00,9,      1.651,2
09AR20071216,    ICEBERG,     115,          1,         14,         14,2,20080119,       0824,   -65.5352,   140.7058,       1027,    70.2,  -1.4757,  34.1865,2,-999.0000,9,  -999.00,5, -999.00,9,  -999.0,9, -999.00,9,-999.0000,9,-999.0000,9,-999.0000,9,  -999.0,9,  -999.0,9,   1.848,2, -999.00,9,      1.636,2
09AR20071216,    ICEBERG,     115,          1,         13,         13,2,20080119,       0824,   -65.5352,   140.7058,       1027,    70.1,  -1.4748,  34.1860,2,-999.0000,9,  -999.00,5, -999.00,9,  -999.0,9, -999.00,9,-999.0000,9,-999.0000,9,-999.0000,9,  -999.0,9,  -999.0,9,   1.773,2, -999.00,9,      1.621,2
09AR20071216,    ICEBERG,     115,          1,         12,         12,2,20080119,       0824,   -65.5352,   140.7058,       1027,   150.8,  -1.1811,  34.3892,2,  34.3870,2,  -999.00,5, -999.00,9,    69.6,2,    2.13,2,-999.0000,9,-999.0000,9,-999.0000,9,  -999.0,9,  -999.0,9,   0.352,2,   30.95,2,      0.001,2
09AR20071216,    ICEBERG,     115,          1,         11,         11,2,20080119,       0824,   -65.5352,   140.7058,       1027,   150.7,  -1.2310,  34.3823,2,-999.0000,9,  -999.00,5, -999.00,9,  -999.0,9, -999.00,9,-999.0000,9,-999.0000,9,-999.0000,9,  -999.0,9,  -999.0,9,   0.316,2, -999.00,9,      0.001,2
09AR20071216,    ICEBERG,     115,          1,         10,         10,2,20080119,       0824,   -65.5352,   140.7058,       1027,   150.6,  -1.2073,  34.3838,2,-999.0000,9,  -999.00,5, -999.00,9,  -999.0,9, -999.00,9,-999.0000,9,-999.0000,9,-999.0000,9,  -999.0,9,  -999.0,9,   0.331,2, -999.00,9,      0.001,2
09AR20071216,    ICEBERG,     115,          1,          9,          9,2,20080119,       0824,   -65.5352,   140.7058,       1027,   150.5,  -1.1937,  34.3854,2,-999.0000,9,  -999.00,5, -999.00,9,  -999.0,9, -999.00,9,-999.0000,9,-999.0000,9,-999.0000,9,  -999.0,9,  -999.0,9,   0.325,2, -999.00,9,      0.001,2
09AR20071216,    ICEBERG,     115,          1,          8,          8,2,20080119,       0824,   -65.5352,   140.7058,       1027,   199.1,  -1.2820,  34.4300,2,  34.4301,2,  -999.00,5, -999.00,9,    74.0,2,    2.14,2,-999.0000,9,-999.0000,9,-999.0000,9,  -999.0,9,  -999.0,9,   0.059,2,   31.07,2,      0.001,2
09AR20071216,    ICEBERG,     115,          1,          7,          7,2,20080119,       0824,   -65.5352,   140.7058,       1027,   199.1,  -1.2745,  34.4307,2,-999.0000,9,  -999.00,5, -999.00,9,  -999.0,9, -999.00,9,-999.0000,9,-999.0000,9,-999.0000,9,  -999.0,9,  -999.0,9,   0.056,2, -999.00,9,      0.001,2
09AR20071216,    ICEBERG,     115,          1,          6,          6,2,20080119,       0824,   -65.5352,   140.7058,       1027,   199.2,  -1.2700,  34.4312,2,-999.0000,9,  -999.00,5, -999.00,9,  -999.0,9, -999.00,9,-999.0000,9,-999.0000,9,-999.0000,9,  -999.0,9,  -999.0,9,   0.059,2, -999.00,9,      0.001,2
09AR20071216,    ICEBERG,     115,          1,          5,          5,2,20080119,       0824,   -65.5352,   140.7058,       1027,   199.2,  -1.2613,  34.4319,2,-999.0000,9,  -999.00,5, -999.00,9,  -999.0,9, -999.00,9,-999.0000,9,-999.0000,9,-999.0000,9,  -999.0,9,  -999.0,9,   0.061,2, -999.00,9,      0.001,2
09AR20071216,    ICEBERG,     115,          1,          4,          4,2,20080119,       0824,   -65.5352,   140.7058,       1027,   301.5,  -0.6827,  34.5197,2,  34.5189,2,  -999.00,5, -999.00,9,    81.8,2,    2.16,2,-999.0000,9,-999.0000,9,-999.0000,9,  -999.0,9,  -999.0,9,  -0.034,2,   31.27,2,      0.001,2
09AR20071216,    ICEBERG,     115,          1,          3,          3,2,20080119,       0824,   -65.5352,   140.7058,       1027,   301.5,  -0.6836,  34.5196,2,-999.0000,9,  -999.00,5, -999.00,9,  -999.0,9, -999.00,9,-999.0000,9,-999.0000,9,-999.0000,9,  -999.0,9,  -999.0,9,  -0.031,2, -999.00,9,      0.001,2
09AR20071216,    ICEBERG,     115,          1,          2,          2,2,20080119,       0824,   -65.5352,   140.7058,       1027,   301.3,  -0.6826,  34.5195,2,-999.0000,9,  -999.00,5, -999.00,9,  -999.0,9, -999.00,9,-999.0000,9,-999.0000,9,-999.0000,9,  -999.0,9,  -999.0,9,  -0.032,2, -999.00,9,      0.001,2
09AR20071216,    ICEBERG,     115,          1,          1,          1,2,20080119,       0824,   -65.5352,   140.7058,       1027,   301.3,  -0.6854,  34.5190,2,-999.0000,9,  -999.00,5, -999.00,9,  -999.0,9, -999.00,9,-999.0000,9,-999.0000,9,-999.0000,9,  -999.0,9,  -999.0,9,  -0.033,2, -999.00,9,      0.001,2
09AR20071216,    ICEBERG,     116,          1,         24,         24,2,20080119,       0924,   -65.5482,   140.6863,        965,     3.7,   0.9100,  33.6186,2,  33.6212,2,  -999.00,5, -999.00,9,    39.3,2,    1.80,2,-999.0000,9,-999.0000,9,-999.0000,9,  -999.0,9,  -999.0,9,   0.522,2,   26.69,2,      3.061,2
09AR20071216,    ICEBERG,     116,          1,         23,         23,2,20080119,       0924,   -65.5482,   140.6863,        965,     3.8,   0.9103,  33.6183,2,-999.0000,9,  -999.00,5, -999.00,9,  -999.0,9, -999.00,9,-999.0000,9,-999.0000,9,-999.0000,9,  -999.0,9,  -999.0,9,   0.521,2, -999.00,9,      3.033,2
09AR20071216,    ICEBERG,     116,          1,         22,         22,2,20080119,       0924,   -65.5482,   140.6863,        965,     3.9,   0.8913,  33.6200,2,-999.0000,9,  -999.00,5, -999.00,9,  -999.0,9, -999.00,9,-999.0000,9,-999.0000,9,-999.0000,9,  -999.0,9,  -999.0,9,   0.539,2, -999.00,9,      3.031,2
09AR20071216,    ICEBERG,     116,          1,         21,         21,2,20080119,       0924,   -65.5482,   140.6863,        965,     3.7,   0.8516,  33.6268,2,-999.0000,9,  -999.00,5, -999.00,9,  -999.0,9, -999.00,9,-999.0000,9,-999.0000,9,-999.0000,9,  -999.0,9,  -999.0,9,   0.596,2, -999.00,9,      3.068,2
09AR20071216,    ICEBERG,     116,          1,         20,         20,2,20080119,       0924,   -65.5482,   140.6863,        965,    24.1,   0.1219,  33.6827,2,  33.6811,2,  -999.00,5, -999.00,9,    39.9,2,    1.79,2,-999.0000,9,-999.0000,9,-999.0000,9,  -999.0,9,  -999.0,9,   1.401,2,   26.57,2,      2.416,2
09AR20071216,    ICEBERG,     116,          1,         19,         19,2,20080119,       0924,   -65.5482,   140.6863,        965,    24.1,   0.1354,  33.6795,2,-999.0000,9,  -999.00,5, -999.00,9,  -999.0,9, -999.00,9,-999.0000,9,-999.0000,9,-999.0000,9,  -999.0,9,  -999.0,9,   1.387,2, -999.00,9,      2.432,2
09AR20071216,    ICEBERG,     116,          1,         18,         18,2,20080119,       0924,   -65.5482,   140.6863,        965,    90.5,  -1.5778,  34.2570,2,  34.2583,2,  -999.00,5, -999.00,9,    56.6,2,    2.05,2,-999.0000,9,-999.0000,9,-999.0000,9,  -999.0,9,  -999.0,9,   1.549,2,   29.06,2,      0.908,2
09AR20071216,    ICEBERG,     116,          1,         17,         17,2,20080119,       0924,   -65.5482,   140.6863,        965,    90.3,  -1.5848,  34.2581,2,-999.0000,9,  -999.00,5, -999.00,9,  -999.0,9, -999.00,9,-999.0000,9,-999.0000,9,-999.0000,9,  -999.0,9,  -999.0,9,   1.565,2, -999.00,9,      0.918,2
09AR20071216,    ICEBERG,     116,          1,         16,         16,2,20080119,       0924,   -65.5482,   140.6863,        965,    90.5,  -1.5873,  34.2581,2,-999.0000,9,  -999.00,5, -999.00,9,  -999.0,9, -999.00,9,-999.0000,9,-999.0000,9,-999.0000,9,  -999.0,9,  -999.0,9,   1.614,2, -999.00,9,      0.928,2
09AR20071216,    ICEBERG,     116,          1,         15,         15,2,20080119,       0924,   -65.5482,   140.6863,        965,    90.5,  -1.5900,  34.2593,2,-999.0000,9,  -999.00,5, -999.00,9,  -999.0,9, -999.00,9,-999.0000,9,-999.0000,9,-999.0000,9,  -999.0,9,  -999.0,9,   1.517,2, -999.00,9,      0.959,2
09AR20071216,    ICEBERG,     116,          1,         14,         14,2,20080119,       0924,   -65.5482,   140.6863,        965,   134.3,  -0.9334,  34.4067,2,  34.4031,2,  -999.00,5, -999.00,9,    68.7,2,    2.16,2,-999.0000,9,-999.0000,9,-999.0000,9,  -999.0,9,  -999.0,9,   0.400,2,   31.11,2,      0.022,2
09AR20071216,    ICEBERG,     116,          1,         13,         13,2,20080119,       0924,   -65.5482,   140.6863,        965,   134.3,  -0.9303,  34.4100,2,-999.0000,9,  -999.00,5, -999.00,9,  -999.0,9, -999.00,9,-999.0000,9,-999.0000,9,-999.0000,9,  -999.0,9,  -999.0,9,   0.384,2, -999.00,9,      0.002,2
09AR20071216,    ICEBERG,     116,          1,         12,         12,2,20080119,       0924,   -65.5482,   140.6863,        965,   200.2,  -1.2018,  34.4537,2,  34.4540,2,  -999.00,5, -999.00,9,    74.0,2,    2.15,2,-999.0000,9,-999.0000,9,-999.0000,9,  -999.0,9,  -999.0,9,   0.030,2,   30.80,2,      0.001,2
09AR20071216,    ICEBERG,     116,          1,         11,         11,2,20080119,       0924,   -65.5482,   140.6863,        965,   200.2,  -1.2035,  34.4535,2,-999.0000,9,  -999.00,5, -999.00,9,  -999.0,9, -999.00,9,-999.0000,9,-999.0000,9,-999.0000,9,  -999.0,9,  -999.0,9,   0.036,2, -999.00,9,      0.001,2
09AR20071216,    ICEBERG,     116,          1,         10,         10,2,20080119,       0924,   -65.5482,   140.6863,        965,   200.2,  -1.2130,  34.4533,2,-999.0000,9,  -999.00,5, -999.00,9,  -999.0,9, -999.00,9,-999.0000,9,-999.0000,9,-999.0000,9,  -999.0,9,  -999.0,9,   0.030,2, -999.00,9,      0.001,2
09AR20071216,    ICEBERG,     116,          1,          9,          9,2,20080119,       0924,   -65.5482,   140.6863,        965,   200.1,  -1.2152,  34.4535,2,-999.0000,9,  -999.00,5, -999.00,9,  -999.0,9, -999.00,9,-999.0000,9,-999.0000,9,-999.0000,9,  -999.0,9,  -999.0,9,   0.019,2, -999.00,9,      0.001,2
09AR20071216,    ICEBERG,     116,          1,          8,          8,2,20080119,       0924,   -65.5482,   140.6863,        965,   250.5,  -0.9981,  34.4907,2,  34.4911,2,  -999.00,5, -999.00,9,    78.4,2,    2.16,2,-999.0000,9,-999.0000,9,-999.0000,9,  -999.0,9,  -999.0,9,  -0.027,2,   30.69,2,      0.001,2
09AR20071216,    ICEBERG,     116,          1,          7,          7,2,20080119,       0924,   -65.5482,   140.6863,        965,   250.6,  -0.9988,  34.4906,2,-999.0000,9,  -999.00,5, -999.00,9,  -999.0,9, -999.00,9,-999.0000,9,-999.0000,9,-999.0000,9,  -999.0,9,  -999.0,9,  -0.029,2, -999.00,9,      0.001,2
09AR20071216,    ICEBERG,     116,          1,          6,          6,2,20080119,       0924,   -65.5482,   140.6863,        965,   250.6,  -1.0055,  34.4898,2,-999.0000,9,  -999.00,5, -999.00,9,  -999.0,9, -999.00,9,-999.0000,9,-999.0000,9,-999.0000,9,  -999.0,9,  -999.0,9,  -0.029,2, -999.00,9,      0.001,2
09AR20071216,    ICEBERG,     116,          1,          5,          5,2,20080119,       0924,   -65.5482,   140.6863,        965,   250.7,  -1.0031,  34.4903,2,-999.0000,9,  -999.00,5, -999.00,9,  -999.0,9, -999.00,9,-999.0000,9,-999.0000,9,-999.0000,9,  -999.0,9,  -999.0,9,  -0.026,2, -999.00,9,      0.001,2
09AR20071216,    ICEBERG,     116,          1,          4,          4,2,20080119,       0924,   -65.5482,   140.6863,        965,   302.2,  -0.6972,  34.5237,2,  34.5213,2,  -999.00,5, -999.00,9,    81.5,2,    2.16,2,-999.0000,9,-999.0000,9,-999.0000,9,  -999.0,9,  -999.0,9,  -0.037,2,   30.75,2,      0.001,2
09AR20071216,    ICEBERG,     116,          1,          3,          3,2,20080119,       0924,   -65.5482,   140.6863,        965,   301.9,  -0.7076,  34.5224,2,-999.0000,9,  -999.00,5, -999.00,9,  -999.0,9, -999.00,9,-999.0000,9,-999.0000,9,-999.0000,9,  -999.0,9,  -999.0,9,  -0.036,2, -999.00,9,      0.001,2
09AR20071216,    ICEBERG,     116,          1,          2,          2,2,20080119,       0924,   -65.5482,   140.6863,        965,   301.0,  -0.7340,  34.5192,2,-999.0000,9,  -999.00,5, -999.00,9,  -999.0,9, -999.00,9,-999.0000,9,-999.0000,9,-999.0000,9,  -999.0,9,  -999.0,9,  -0.032,2, -999.00,9,      0.001,2
09AR20071216,    ICEBERG,     116,          1,          1,          1,2,20080119,       0924,   -65.5482,   140.6863,        965,   300.6,  -0.7392,  34.5187,2,-999.0000,9,  -999.00,5, -999.00,9,  -999.0,9, -999.00,9,-999.0000,9,-999.0000,9,-999.0000,9,  -999.0,9,  -999.0,9,  -0.035,2, -999.00,9,      0.001,2