BOTTLE,20230622CCHSIOENA
EXPOCODE,SECT_ID,STNNBR,CASTNO,SAMPNO,BTLNBR,BTLNBR_FLAG_W,DATE,TIME,LATITUDE,LONGITUDE,DEPTH,CTDPRS,CTDTMP,CTDSAL,CTDSAL_FLAG_W,SALNTY,SALNTY_FLAG_W,CTDOXY,CTDOXY_FLAG_W,OXYGEN,OXYGEN_FLAG_W,SILCAT,SILCAT_FLAG_W,PHSPHT,PHSPHT_FLAG_W,CFC-11,CFC-11_FLAG_W,CFC-12,CFC-12_FLAG_W,CFC113,CFC113_FLAG_W,TCARBN,TCARBN_FLAG_W,ALKALI,ALKALI_FLAG_W,FLUOR,FLUOR_FLAG_W,NO2+NO3,NO2+NO3_FLAG_W,PAR,PAR_FLAG_W
,,,,,,,,,,,METERS,DBAR,ITS-90,PSS-78,,PSS-78,,UMOL/KG,,UMOL/KG,,UMOL/KG,,UMOL/KG,,PMOL/KG,,PMOL/KG,,PMOL/KG,,UMOL/KG,,UMOL/KG,,MG/M^3,,UMOL/KG,,VOLTS,
09AR20071216,       CASO,      75,          1,         24,         24,2,20080110,       2101,   -65.7935,   146.6165,       2009,    11.0,  -1.3057,  33.9003,2,  33.9061,2,   389.99,2,  391.27,2,    71.3,2,    1.54,2,   5.9591,2,   3.1013,2,   0.4750,2,  2127.1,6,  2312.8,2,  28.708,2,   19.69,2,      2.916,2
09AR20071216,       CASO,      75,          1,         23,         23,2,20080110,       2101,   -65.7935,   146.6165,       2009,    11.0,  -1.3059,  33.8973,2,-999.0000,9,   384.06,2, -999.00,9,  -999.0,9, -999.00,9,-999.0000,9,-999.0000,9,-999.0000,9,  -999.0,9,  -999.0,9,  28.455,2, -999.00,9,      2.964,2
09AR20071216,       CASO,      75,          1,         22,         22,2,20080110,       2101,   -65.7935,   146.6165,       2009,    11.0,  -1.3055,  33.9048,2,-999.0000,9,   384.06,2, -999.00,9,  -999.0,9, -999.00,9,-999.0000,9,-999.0000,9,-999.0000,9,  -999.0,9,  -999.0,9,  27.845,2, -999.00,9,      2.980,2
09AR20071216,       CASO,      75,          1,         21,         21,2,20080110,       2101,   -65.7935,   146.6165,       2009,    11.0,  -1.3051,  33.9099,2,-999.0000,9,   389.99,2, -999.00,9,  -999.0,9, -999.00,9,-999.0000,9,-999.0000,9,-999.0000,9,  -999.0,9,  -999.0,9,  28.376,2, -999.00,9,      3.038,2
09AR20071216,       CASO,      75,          1,         20,         20,2,20080110,       2101,   -65.7935,   146.6165,       2009,    40.0,  -1.5292,  34.2315,2,-999.0000,9,   332.42,2, -999.00,9,  -999.0,9, -999.00,9,-999.0000,9,-999.0000,9,-999.0000,9,  -999.0,9,  -999.0,9,   7.403,2, -999.00,9,      0.644,2
09AR20071216,       CASO,      75,          1,         19,         19,2,20080110,       2101,   -65.7935,   146.6165,       2009,    39.9,  -1.5274,  34.2315,2,  34.2589,2,   332.42,2,  335.83,2,    74.7,2,    1.94,2,   5.3843,2,   2.8492,2,   0.4577,2,  2201.7,3,  2326.5,6,   7.504,2,   26.89,2,      0.654,2
09AR20071216,       CASO,      75,          1,         18,         18,2,20080110,       2101,   -65.7935,   146.6165,       2009,    90.0,  -1.7874,  34.3547,2,-999.0000,9,   306.43,2, -999.00,9,  -999.0,9, -999.00,9,-999.0000,9,-999.0000,9,-999.0000,9,  -999.0,9,  -999.0,9,   0.383,2, -999.00,9,      0.001,2
09AR20071216,       CASO,      75,          1,         17,         17,2,20080110,       2101,   -65.7935,   146.6165,       2009,    90.0,  -1.7891,  34.3551,2,  34.3564,2,   306.43,2,  308.21,2,    76.3,2,    2.03,2,   4.8768,2,   2.5526,2,   0.3702,2,  -999.0,9,  2327.1,2,   0.403,2,   29.57,2,      0.001,2
09AR20071216,       CASO,      75,          1,         16,         16,2,20080110,       2101,   -65.7935,   146.6165,       2009,   149.9,  -1.8253,  34.3747,2,  34.3754,2,   297.36,2,  301.03,2,    77.2,2,    2.05,2,   4.7384,2,   2.4688,2,   0.3683,2,  2226.4,2,  2331.8,2,   0.116,2,   29.82,2,      0.001,2
09AR20071216,       CASO,      75,          1,         15,         15,2,20080110,       2101,   -65.7935,   146.6165,       2009,   251.9,  -1.5921,  34.4151,2,  34.4154,2,   295.33,2,  288.55,2,    80.5,2,    2.08,2,   4.2572,2,   2.2653,2,   0.3345,2,  2227.7,2,  2331.3,2,   0.021,2,   30.17,2,      0.001,2
09AR20071216,       CASO,      75,          1,         14,         14,2,20080110,       2101,   -65.7935,   146.6165,       2009,   349.1,  -1.1999,  34.4573,2,  34.4572,2,   276.50,2,  270.99,2,    83.3,2,    2.10,2,   3.5864,2,   1.9201,2,   0.2561,2,  2232.3,2,  2336.4,2,   0.009,2,   30.78,2,      0.001,2
09AR20071216,       CASO,      75,          1,         13,         13,2,20080110,       2101,   -65.7935,   146.6165,       2009,   449.9,  -0.3418,  34.5608,2,  34.5599,2,   241.40,2,  242.77,2,    90.9,2,    2.15,2,   2.5796,2,   1.3630,2,   0.2062,2,    2244,2,  2344.2,2,  -0.027,2,   31.30,2,      0.001,2
09AR20071216,       CASO,      75,          1,         12,         12,2,20080110,       2101,   -65.7935,   146.6165,       2009,   599.5,   0.1104,  34.6203,2,  34.6209,2,   225.87,2,  226.21,2,    98.2,2,    2.18,2,   1.7570,2,   0.9281,2,   0.1354,2,  -999.0,9,  2351.2,2,  -0.028,2,   31.82,2,      0.001,2
09AR20071216,       CASO,      75,          1,         11,         11,2,20080110,       2101,   -65.7935,   146.6165,       2009,   751.1,   0.2161,  34.6495,2,  34.6499,2,   221.99,2,  219.99,2,   104.8,2,    2.21,2,   1.3971,2,   0.7241,2,   0.0990,2,  2254.2,2,    2353,2,  -0.032,2,   31.95,2,      0.001,2
09AR20071216,       CASO,      75,          1,         10,         10,2,20080110,       2101,   -65.7935,   146.6165,       2009,   900.6,   0.2490,  34.6636,2,  34.6641,2,   219.47,2,  221.94,2,   109.8,2,    2.22,2,   1.2119,2,   0.6260,2,   0.0866,2,  2256.4,2,    2358,2,  -0.038,2,   32.22,2,      0.001,2
09AR20071216,       CASO,      75,          1,          9,          9,2,20080110,       2101,   -65.7935,   146.6165,       2009,  1100.5,   0.2167,  34.6731,2,  34.6737,2,   219.70,2,  218.08,2,   112.9,2,    2.23,2,   1.1299,2,   0.5827,2,   0.0789,2,    2257,2,  2359.4,2,  -0.035,2,   32.17,2,      0.001,2
09AR20071216,       CASO,      75,          1,          8,          8,2,20080110,       2101,   -65.7935,   146.6165,       2009,  1300.8,   0.1650,  34.6757,2,  34.6760,2,   221.05,2,  219.99,2,   113.6,2,    2.24,2,   1.1427,2,   0.5915,2,   0.0724,2,  2253.6,2,  2356.8,2,  -0.037,2,   32.17,2,      0.001,2
09AR20071216,       CASO,      75,          1,          7,          7,2,20080110,       2101,   -65.7935,   146.6165,       2009,  1499.9,   0.0448,  34.6739,2,  34.6739,2,   224.60,2,  226.24,2,   111.4,2,    2.23,2,   1.3838,2,   0.7146,2,   0.0880,2,  2259.6,2,  2356.8,2,  -0.038,2,   32.04,2,      0.001,2
09AR20071216,       CASO,      75,          1,          6,          6,2,20080110,       2101,   -65.7935,   146.6165,       2009,  1699.5,  -0.0273,  34.6714,2,  34.6715,2,   227.69,2,  227.15,2,   109.5,2,    2.22,2,   1.5815,2,   0.8227,2,   0.1177,2,  2278.7,3,  2357.1,6,  -0.037,2,   31.99,2,      0.001,2
09AR20071216,       CASO,      75,          1,          5,          5,2,20080110,       2101,   -65.7935,   146.6165,       2009,  1800.1,  -0.1183,  34.6628,2,  34.6625,2,   232.77,2,  232.58,2,   107.0,2,    2.21,2,   1.7583,2,   0.9174,2,   0.1149,2,  2254.3,2,    2359,2,  -0.037,2,   31.82,2,      0.001,2
09AR20071216,       CASO,      75,          1,          4,          4,2,20080110,       2101,   -65.7935,   146.6165,       2009,  1950.3,  -0.2106,  34.6589,2,-999.0000,9,   233.00,2, -999.00,9,  -999.0,9, -999.00,9,-999.0000,9,-999.0000,9,-999.0000,9,  -999.0,9,  -999.0,9,  -0.036,2, -999.00,9,      0.001,2
09AR20071216,       CASO,      75,          1,          3,          3,2,20080110,       2101,   -65.7935,   146.6165,       2009,  1950.3,  -0.1847,  34.6616,2,  34.6623,2,   233.00,2,  234.11,2,   106.0,2,    2.20,2,   1.9092,2,   1.0016,2,   0.1392,2,  2254.3,2,  2355.7,6,  -0.033,2,   31.69,2,      0.001,2
09AR20071216,       CASO,      75,          1,          2,          2,2,20080110,       2101,   -65.7935,   146.6165,       2009,  1995.2,  -0.4060,  34.6359,2,-999.0000,9,   245.53,2, -999.00,9,  -999.0,9, -999.00,9,-999.0000,9,-999.0000,9,-999.0000,9,  -999.0,9,  -999.0,9,  -0.033,2, -999.00,9,      0.001,2
09AR20071216,       CASO,      75,          1,          1,          1,2,20080110,       2101,   -65.7935,   146.6165,       2009,  1994.9,  -0.4072,  34.6358,2,  34.6370,2,   245.54,2,  244.71,2,   101.3,2,    2.18,2,   2.3275,2,   1.2242,2,   0.1671,2,  2255.6,2,    2353,2,  -0.032,2,   31.56,2,      0.001,2
09AR20071216,       CASO,      76,          1,         24,         24,2,20080110,       2331,   -65.8288,   146.5912,       1398,     8.5,  -1.2955,  33.9271,2,  33.9284,2,   391.98,2,  391.78,2,    72.0,2,    1.55,2,   5.8239,2,   3.0713,2,   0.4253,2,  2138.6,6,  2308.5,6,  16.753,2,   19.94,2,      3.493,2
09AR20071216,       CASO,      76,          1,         23,         23,2,20080110,       2331,   -65.8288,   146.5912,       1398,     8.5,  -1.2913,  33.9254,2,-999.0000,9,   391.98,2, -999.00,9,  -999.0,9, -999.00,9,-999.0000,9,-999.0000,9,-999.0000,9,  -999.0,9,  -999.0,9,  17.004,2, -999.00,9,      3.542,2
09AR20071216,       CASO,      76,          1,         22,         22,2,20080110,       2331,   -65.8288,   146.5912,       1398,     8.5,  -1.2878,  33.9236,2,-999.0000,9,   391.98,2, -999.00,9,  -999.0,9, -999.00,9,-999.0000,9,-999.0000,9,-999.0000,9,  -999.0,9,  -999.0,9,  15.698,2, -999.00,9,      3.513,2
09AR20071216,       CASO,      76,          1,         21,         21,2,20080110,       2331,   -65.8288,   146.5912,       1398,    49.7,  -1.7186,  34.3229,2,-999.0000,9,   331.27,2, -999.00,9,  -999.0,9, -999.00,9,-999.0000,9,-999.0000,9,-999.0000,9,  -999.0,9,  -999.0,9,   1.462,2, -999.00,9,      0.688,2
09AR20071216,       CASO,      76,          1,         20,         20,2,20080110,       2331,   -65.8288,   146.5912,       1398,    49.7,  -1.7173,  34.3222,2,-999.0000,9,   331.27,2, -999.00,9,  -999.0,9, -999.00,9,-999.0000,9,-999.0000,9,-999.0000,9,  -999.0,9,  -999.0,9,   1.624,2, -999.00,9,      0.661,2
09AR20071216,       CASO,      76,          1,         19,         19,2,20080110,       2331,   -65.8288,   146.5912,       1398,    50.0,  -1.7086,  34.3177,2,  34.3008,2,   331.27,2,  321.86,2,    76.4,2,    2.00,2,-999.0000,9,-999.0000,9,-999.0000,9,  -999.0,9,  -999.0,9,   2.022,2,   28.74,2,      0.689,2
09AR20071216,       CASO,      76,          1,         18,         18,2,20080110,       2331,   -65.8288,   146.5912,       1398,   100.1,  -1.7797,  34.3530,2,  34.3521,2,   307.53,2,  307.07,2,    76.4,2,    2.04,2,-999.0000,9,-999.0000,9,-999.0000,9,  -999.0,9,  -999.0,9,   0.373,2,   29.72,2,      0.001,2
09AR20071216,       CASO,      76,          1,         17,         17,2,20080110,       2331,   -65.8288,   146.5912,       1398,   149.8,  -1.8155,  34.3738,2,  34.3735,2,   301.72,2,  301.12,2,    77.3,2,    2.05,2,-999.0000,9,-999.0000,9,-999.0000,9,  -999.0,9,  -999.0,9,   0.108,2,   29.88,2,      0.001,2
09AR20071216,       CASO,      76,          1,         16,         16,2,20080110,       2331,   -65.8288,   146.5912,       1398,   199.8,  -1.7802,  34.3809,2,  34.3801,2,   299.88,2,  301.07,2,    77.3,2,    2.05,2,-999.0000,9,-999.0000,9,-999.0000,9,  -999.0,9,  -999.0,9,   0.079,2,   29.86,2,      0.001,2
09AR20071216,       CASO,      76,          1,         15,         15,2,20080110,       2331,   -65.8288,   146.5912,       1398,   300.9,  -1.3311,  34.4431,2,  34.4466,2,   277.58,2,  275.03,2,    82.7,2,    2.10,2,-999.0000,9,-999.0000,9,-999.0000,9,  -999.0,9,  -999.0,9,   0.001,2,   30.49,2,      0.001,2
09AR20071216,       CASO,      76,          1,         14,         14,2,20080110,       2331,   -65.8288,   146.5912,       1398,   401.0,  -0.5594,  34.5338,2,  34.5334,2,   240.97,2,  247.72,2,    88.7,2,    2.14,2,-999.0000,9,-999.0000,9,-999.0000,9,  -999.0,9,  -999.0,9,  -0.017,2,   30.87,2,      0.001,2
09AR20071216,       CASO,      76,          1,         13,         13,2,20080110,       2331,   -65.8288,   146.5912,       1398,   500.7,  -0.0550,  34.5981,2,  34.5995,2,   228.38,2,  230.78,2,    94.8,2,    2.17,2,-999.0000,9,-999.0000,9,-999.0000,9,  -999.0,9,  -999.0,9,  -0.029,2,   31.20,2,      0.001,2
09AR20071216,       CASO,      76,          1,         12,         12,2,20080110,       2331,   -65.8288,   146.5912,       1398,   601.1,   0.1700,  34.6317,2,  34.6319,2,   223.68,2,  222.51,2,    99.2,2,    2.18,2,-999.0000,9,-999.0000,9,-999.0000,9,  -999.0,9,  -999.0,9,  -0.034,2,   31.67,2,      0.001,2
09AR20071216,       CASO,      76,          1,         11,         11,2,20080110,       2331,   -65.8288,   146.5912,       1398,   699.5,   0.2292,  34.6497,2,  34.6499,2,   221.07,2,  221.17,2,   104.3,2,    2.20,2,-999.0000,9,-999.0000,9,-999.0000,9,  -999.0,9,  -999.0,9,  -0.039,2,   31.83,2,      0.001,2
09AR20071216,       CASO,      76,          1,         10,         10,2,20080110,       2331,   -65.8288,   146.5912,       1398,   900.4,   0.2302,  34.6667,2,-999.0000,9,   219.91,2, -999.00,9,  -999.0,9, -999.00,9,-999.0000,9,-999.0000,9,-999.0000,9,  -999.0,9,  -999.0,9,  -0.034,2, -999.00,9,      0.001,2
09AR20071216,       CASO,      76,          1,          9,          9,2,20080110,       2331,   -65.8288,   146.5912,       1398,   900.4,   0.2298,  34.6667,2,  34.6666,2,   219.91,2,  218.47,2,   110.6,2,    2.22,2,-999.0000,9,-999.0000,9,-999.0000,9,  -999.0,9,  -999.0,9,  -0.036,2,   32.08,2,      0.001,2
09AR20071216,       CASO,      76,          1,          8,          8,2,20080110,       2331,   -65.8288,   146.5912,       1398,  1100.5,   0.1935,  34.6754,2,-999.0000,9,   219.24,2, -999.00,9,  -999.0,9, -999.00,9,-999.0000,9,-999.0000,9,-999.0000,9,  -999.0,9,  -999.0,9,  -0.033,2, -999.00,9,      0.001,2
09AR20071216,       CASO,      76,          1,          7,          7,2,20080110,       2331,   -65.8288,   146.5912,       1398,  1100.5,   0.1931,  34.6752,2,  34.6748,2,   219.24,2,  219.30,2,   113.0,2,    2.24,2,   1.1061,2,   0.5724,2,   0.0744,2,  2250.2,2,  2352.4,2,  -0.036,2,   32.16,2,      0.001,2
09AR20071216,       CASO,      76,          1,          6,          6,2,20080110,       2331,   -65.8288,   146.5912,       1398,  1300.2,   0.0402,  34.6697,2,-999.0000,9,   230.08,2, -999.00,9,  -999.0,9, -999.00,9,-999.0000,9,-999.0000,9,-999.0000,9,  -999.0,9,  -999.0,9,  -0.037,2, -999.00,9,      0.001,2
09AR20071216,       CASO,      76,          1,          5,          5,2,20080110,       2331,   -65.8288,   146.5912,       1398,  1299.9,   0.0161,  34.6667,2,  34.6680,2,   230.08,2,  225.85,2,   111.2,2,    2.23,2,   1.3844,2,   0.7243,2,   0.0900,2,  2257.4,2,  2351.8,2,  -0.039,2,   32.10,2,      0.001,2
09AR20071216,       CASO,      76,          1,          4,          4,2,20080110,       2331,   -65.8288,   146.5912,       1398,  1426.2,  -0.4878,  34.6227,2,-999.0000,9,   246.65,2, -999.00,9,  -999.0,9, -999.00,9,-999.0000,9,-999.0000,9,-999.0000,9,  -999.0,9,  -999.0,9,  -0.038,2, -999.00,9,      0.001,2
09AR20071216,       CASO,      76,          1,          3,          3,2,20080110,       2331,   -65.8288,   146.5912,       1398,  1426.1,  -0.4981,  34.6216,2,  34.6211,2,   246.65,2,  249.66,2,    99.2,2,    2.18,2,   2.4336,2,   1.3084,2,   0.1688,2,  2266.3,2,  2346.8,6,  -0.024,2,   31.50,2,      0.001,2
09AR20071216,       CASO,      76,          1,          2,          2,2,20080110,       2331,   -65.8288,   146.5912,       1398,  1475.4,  -0.5116,  34.6198,2,-999.0000,9,   248.96,2, -999.00,9,  -999.0,9, -999.00,9,-999.0000,9,-999.0000,9,-999.0000,9,  -999.0,9,  -999.0,9,  -0.035,2, -999.00,9,      0.001,2
09AR20071216,       CASO,      76,          1,          1,          1,2,20080110,       2331,   -65.8288,   146.5912,       1398,  1475.3,  -0.5113,  34.6199,2,  34.6203,2,   248.96,2,  249.62,2,    98.5,2,    2.18,2,   2.5130,2,   1.3268,2,   0.1751,2,  2252.2,2,  2344.8,2,  -0.030,2,   31.49,2,      0.001,2