BOTTLE,20230622CCHSIOENA
EXPOCODE,SECT_ID,STNNBR,CASTNO,SAMPNO,BTLNBR,BTLNBR_FLAG_W,DATE,TIME,LATITUDE,LONGITUDE,DEPTH,CTDPRS,CTDTMP,CTDSAL,CTDSAL_FLAG_W,SALNTY,SALNTY_FLAG_W,CTDOXY,CTDOXY_FLAG_W,OXYGEN,OXYGEN_FLAG_W,SILCAT,SILCAT_FLAG_W,PHSPHT,PHSPHT_FLAG_W,CFC-11,CFC-11_FLAG_W,CFC-12,CFC-12_FLAG_W,CFC113,CFC113_FLAG_W,TCARBN,TCARBN_FLAG_W,ALKALI,ALKALI_FLAG_W,FLUOR,FLUOR_FLAG_W,NO2+NO3,NO2+NO3_FLAG_W,PAR,PAR_FLAG_W
,,,,,,,,,,,METERS,DBAR,ITS-90,PSS-78,,PSS-78,,UMOL/KG,,UMOL/KG,,UMOL/KG,,UMOL/KG,,PMOL/KG,,PMOL/KG,,PMOL/KG,,UMOL/KG,,UMOL/KG,,MG/M^3,,UMOL/KG,,VOLTS,
09AR20071216,    CEAMARC,     109,          1,         24,         24,2,20080117,       2234,   -65.6853,   140.5315,        770,     8.8,   0.7089,  33.6181,2,-999.0000,9,   351.99,2, -999.00,9,  -999.0,9, -999.00,9,-999.0000,9,-999.0000,9,-999.0000,9,  -999.0,9,  -999.0,9,   0.201,2, -999.00,9,      2.873,2
09AR20071216,    CEAMARC,     109,          1,         23,         23,2,20080117,       2234,   -65.6853,   140.5315,        770,     8.9,   0.7029,  33.6186,2,-999.0000,9,   351.99,2, -999.00,9,  -999.0,9, -999.00,9,-999.0000,9,-999.0000,9,-999.0000,9,  -999.0,9,  -999.0,9,   0.222,2, -999.00,9,      2.863,2
09AR20071216,    CEAMARC,     109,          1,         22,         22,2,20080117,       2234,   -65.6853,   140.5315,        770,     8.9,   0.6658,  33.6192,2,-999.0000,9,   351.99,2, -999.00,9,  -999.0,9, -999.00,9,-999.0000,9,-999.0000,9,-999.0000,9,  -999.0,9,  -999.0,9,   0.238,2, -999.00,9,      2.858,2
09AR20071216,    CEAMARC,     109,          1,         21,         21,2,20080117,       2234,   -65.6853,   140.5315,        770,     9.2,   0.6638,  33.6191,2,-999.0000,9,   351.16,2, -999.00,9,  -999.0,9, -999.00,9,-999.0000,9,-999.0000,9,-999.0000,9,  -999.0,9,  -999.0,9,   0.243,2, -999.00,9,      2.822,2
09AR20071216,    CEAMARC,     109,          1,         20,         20,2,20080117,       2234,   -65.6853,   140.5315,        770,     8.7,   0.6487,  33.6196,2,  33.6218,2,   351.99,2,  348.89,2,    40.5,2,    1.70,2,   6.3540,2,   3.2694,2,   0.5189,2,  2144.5,6,  2279.4,2,   0.229,2,   26.35,2,      2.873,2
09AR20071216,    CEAMARC,     109,          1,         19,         19,2,20080117,       2234,   -65.6853,   140.5315,        770,     9.0,   0.6097,  33.6208,2,-999.0000,9,   351.99,2, -999.00,9,  -999.0,9, -999.00,9,-999.0000,9,-999.0000,9,-999.0000,9,  -999.0,9,  -999.0,9,   0.244,2, -999.00,9,      2.861,2
09AR20071216,    CEAMARC,     109,          1,         18,         18,2,20080117,       2234,   -65.6853,   140.5315,        770,    25.2,   0.1992,  33.6397,2,  33.6401,2,   352.50,2,  351.15,2,    40.9,2,    1.72,2,   6.3309,2,   3.2586,2,   0.5046,2,  2146.1,2,  2280.1,6,   0.666,2,   26.48,2,      2.565,2
09AR20071216,    CEAMARC,     109,          1,         17,         17,2,20080117,       2234,   -65.6853,   140.5315,        770,    25.1,   0.1796,  33.6411,2,-999.0000,9,   352.50,2, -999.00,9,  -999.0,9, -999.00,9,-999.0000,9,-999.0000,9,-999.0000,9,  -999.0,9,  -999.0,9,   0.750,2, -999.00,9,      2.578,2
09AR20071216,    CEAMARC,     109,          1,         16,         16,2,20080117,       2234,   -65.6853,   140.5315,        770,    59.3,  -1.5643,  34.2243,2,  34.2264,2,   331.41,2,  331.19,2,    54.5,2,    1.96,2,   5.4082,2,   2.7638,2,   0.4446,2,  2197.7,2,    2320,2,   1.640,2,   28.90,2,      2.040,2
09AR20071216,    CEAMARC,     109,          1,         15,         15,2,20080117,       2234,   -65.6853,   140.5315,        770,    59.0,  -1.5496,  34.2318,2,-999.0000,9,   331.41,2, -999.00,9,  -999.0,9, -999.00,9,-999.0000,9,-999.0000,9,-999.0000,9,  -999.0,9,  -999.0,9,   1.478,2, -999.00,9,      2.070,2
09AR20071216,    CEAMARC,     109,          1,         14,         14,2,20080117,       2234,   -65.6853,   140.5315,        770,    99.5,  -1.5319,  34.3374,2,  34.3370,2,   317.91,2,  319.20,2,    64.1,2,    2.01,2,   5.3386,2,   2.7255,2,   0.4261,2,  2211.4,2,  2327.3,6,   0.442,2,   29.02,2,      1.163,2
09AR20071216,    CEAMARC,     109,          1,         13,         13,2,20080117,       2234,   -65.6853,   140.5315,        770,    99.2,  -1.5270,  34.3378,2,-999.0000,9,   317.91,2, -999.00,9,  -999.0,9, -999.00,9,-999.0000,9,-999.0000,9,-999.0000,9,  -999.0,9,  -999.0,9,   0.459,2, -999.00,9,      1.161,2
09AR20071216,    CEAMARC,     109,          1,         12,         12,2,20080117,       2234,   -65.6853,   140.5315,        770,   150.3,  -1.5001,  34.4133,2,  34.4136,2,   302.71,2,  300.89,2,    71.0,2,    2.07,2,   4.6544,2,   2.4146,2,   0.3904,2,  2223.5,2,  2332.1,2,   0.167,2,   30.20,2,      0.272,2
09AR20071216,    CEAMARC,     109,          1,         11,         11,2,20080117,       2234,   -65.6853,   140.5315,        770,   149.7,  -1.4987,  34.4137,2,-999.0000,9,   302.71,2, -999.00,9,  -999.0,9, -999.00,9,-999.0000,9,-999.0000,9,-999.0000,9,  -999.0,9,  -999.0,9,   0.159,2, -999.00,9,      0.278,2
09AR20071216,    CEAMARC,     109,          1,         10,         10,2,20080117,       2234,   -65.6853,   140.5315,        770,   201.0,  -1.3211,  34.4523,2,  34.4523,2,   284.87,2,  283.80,2,    75.4,2,    2.11,2,   4.1177,2,   2.1280,2,   0.3405,2,  -999.0,9,  2333.7,2,   0.038,2,   30.81,2,      0.001,2
09AR20071216,    CEAMARC,     109,          1,          9,          9,2,20080117,       2234,   -65.6853,   140.5315,        770,   201.0,  -1.3205,  34.4525,2,-999.0000,9,   284.14,2, -999.00,9,  -999.0,9, -999.00,9,-999.0000,9,-999.0000,9,-999.0000,9,  2226.6,2,  -999.0,9,   0.046,2, -999.00,9,      0.001,2
09AR20071216,    CEAMARC,     109,          1,          8,          8,2,20080117,       2234,   -65.6853,   140.5315,        770,   350.1,  -0.0203,  34.5945,2,  34.5948,2,   235.79,2,  235.82,2,    90.5,2,    2.16,2,   2.1777,2,   1.1308,2,   0.1590,2,  2244.3,2,  2346.5,2,  -0.035,2,   31.30,2,      0.001,2
09AR20071216,    CEAMARC,     109,          1,          7,          7,2,20080117,       2234,   -65.6853,   140.5315,        770,   349.9,  -0.0005,  34.5971,2,-999.0000,9,   235.79,2, -999.00,9,  -999.0,9, -999.00,9,-999.0000,9,-999.0000,9,-999.0000,9,  -999.0,9,  -999.0,9,  -0.034,2, -999.00,9,      0.001,2
09AR20071216,    CEAMARC,     109,          1,          6,          6,2,20080117,       2234,   -65.6853,   140.5315,        770,   501.5,  -0.1140,  34.6186,2,  34.6199,2,   235.50,2,  235.03,2,    98.1,2,    2.19,2,   2.0786,2,   1.0675,2,   0.1585,2,  2247.8,2,  2351.3,6,  -0.026,2,   31.39,2,      0.001,2
09AR20071216,    CEAMARC,     109,          1,          5,          5,2,20080117,       2234,   -65.6853,   140.5315,        770,   501.8,  -0.1127,  34.6187,2,-999.0000,9,   235.50,2, -999.00,9,  -999.0,9, -999.00,9,-999.0000,9,-999.0000,9,-999.0000,9,  -999.0,9,  -999.0,9,  -0.028,2, -999.00,9,      0.001,2
09AR20071216,    CEAMARC,     109,          1,          4,          4,2,20080117,       2234,   -65.6853,   140.5315,        770,   660.2,  -0.8686,  34.5941,2,  34.5952,2,   264.06,2,  266.70,2,    90.8,2,    2.15,2,   3.1581,6,   1.6622,6,   0.2530,6,  2242.7,2,  2347.3,2,  -0.020,2,   31.08,2,      0.001,2
09AR20071216,    CEAMARC,     109,          1,          3,          3,2,20080117,       2234,   -65.6853,   140.5315,        770,   660.5,  -0.8529,  34.5950,2,-999.0000,9,   264.06,2, -999.00,9,  -999.0,9, -999.00,9,-999.0000,9,-999.0000,9,-999.0000,9,  -999.0,9,  -999.0,9,  -0.018,2, -999.00,9,      0.001,2
09AR20071216,    CEAMARC,     109,          1,          2,          2,2,20080117,       2234,   -65.6853,   140.5315,        770,   769.2,  -1.0325,  34.5911,2,  34.5915,2,   276.03,2,  274.31,2,    88.5,2,    2.14,2,   3.5440,2,   1.8318,2,   0.2797,2,  2241.2,2,  2348.4,2,  -0.023,2,   30.98,2,      0.001,2
09AR20071216,    CEAMARC,     109,          1,          1,          1,2,20080117,       2234,   -65.6853,   140.5315,        770,   769.8,  -1.0365,  34.5907,2,-999.0000,9,   276.03,2, -999.00,9,  -999.0,9, -999.00,9,-999.0000,9,-999.0000,9,-999.0000,9,  -999.0,9,  -999.0,9,  -0.024,2, -999.00,9,      0.001,2
09AR20071216,    CEAMARC,     110,          1,         24,         24,2,20080118,       0331,   -65.6953,   140.5717,        452,    10.5,   0.6919,  33.6076,2,  33.6126,2,   361.78,2,  363.43,2,    40.1,2,    1.68,2,   6.2906,2,   3.2542,2,   0.5195,2,  2152.8,2,  2273.9,2,   0.305,2,   26.10,2,      2.967,2
09AR20071216,    CEAMARC,     110,          1,         23,         23,2,20080118,       0331,   -65.6953,   140.5717,        452,    10.4,   0.7313,  33.6087,2,-999.0000,9,   361.78,2, -999.00,9,  -999.0,9, -999.00,9,-999.0000,9,-999.0000,9,-999.0000,9,  -999.0,9,  -999.0,9,   0.250,2, -999.00,9,      2.974,2
09AR20071216,    CEAMARC,     110,          1,         22,         22,2,20080118,       0331,   -65.6953,   140.5717,        452,    10.5,   0.7724,  33.6107,2,-999.0000,9,   361.78,2, -999.00,9,  -999.0,9, -999.00,9,-999.0000,9,-999.0000,9,-999.0000,9,  -999.0,9,  -999.0,9,   0.225,2, -999.00,9,      2.976,2
09AR20071216,    CEAMARC,     110,          1,         21,         21,2,20080118,       0331,   -65.6953,   140.5717,        452,    10.4,   0.8022,  33.6108,2,-999.0000,9,   361.78,2, -999.00,9,  -999.0,9, -999.00,9,-999.0000,9,-999.0000,9,-999.0000,9,  -999.0,9,  -999.0,9,   0.219,2, -999.00,9,      3.020,2
09AR20071216,    CEAMARC,     110,          1,         20,         20,2,20080118,       0331,   -65.6953,   140.5717,        452,    31.2,  -0.3375,  33.9005,2,  33.8871,2,   352.13,2,  351.89,2,    46.8,2,    1.76,2,   5.9869,2,   3.1369,2,   0.4946,2,  2161.8,2,  2291.5,6,   1.233,2,   26.13,3,      2.625,2
09AR20071216,    CEAMARC,     110,          1,         19,         19,2,20080118,       0331,   -65.6953,   140.5717,        452,    31.2,  -0.3217,  33.8777,2,-999.0000,9,   352.13,2, -999.00,9,  -999.0,9, -999.00,9,-999.0000,9,-999.0000,9,-999.0000,9,  -999.0,9,  -999.0,9,   1.261,2, -999.00,9,      2.613,2
09AR20071216,    CEAMARC,     110,          1,         18,         18,2,20080118,       0331,   -65.6953,   140.5717,        452,    31.0,  -0.2688,  33.8399,2,-999.0000,9,   352.13,2, -999.00,9,  -999.0,9, -999.00,9,-999.0000,9,-999.0000,9,-999.0000,9,  -999.0,9,  -999.0,9,   1.321,2, -999.00,9,      2.636,2
09AR20071216,    CEAMARC,     110,          1,         17,         17,2,20080118,       0331,   -65.6953,   140.5717,        452,    31.1,  -0.2804,  33.8513,2,-999.0000,9,   352.13,2, -999.00,9,  -999.0,9, -999.00,9,-999.0000,9,-999.0000,9,-999.0000,9,  -999.0,9,  -999.0,9,   1.311,2, -999.00,9,      2.642,2
09AR20071216,    CEAMARC,     110,          1,         16,         16,2,20080118,       0331,   -65.6953,   140.5717,        452,    60.8,  -1.6047,  34.2198,2,-999.0000,9,   331.38,2, -999.00,9,  -999.0,9, -999.00,9,-999.0000,9,-999.0000,9,-999.0000,9,  -999.0,9,  -999.0,9,   1.757,2, -999.00,9,      2.061,2
09AR20071216,    CEAMARC,     110,          1,         15,         15,2,20080118,       0331,   -65.6953,   140.5717,        452,    60.9,  -1.6061,  34.2202,2,-999.0000,9,   331.38,2, -999.00,9,  -999.0,9, -999.00,9,-999.0000,9,-999.0000,9,-999.0000,9,  -999.0,9,  -999.0,9,   1.751,2, -999.00,9,      2.068,2
09AR20071216,    CEAMARC,     110,          1,         14,         14,2,20080118,       0331,   -65.6953,   140.5717,        452,    61.1,  -1.6136,  34.2226,2,  34.2221,2,   330.38,2,  329.27,2,    52.3,2,    1.97,2,   5.4418,2,   2.7957,2,   0.4409,2,  2197.7,2,  2311.1,2,   1.678,2,   28.87,2,      2.062,2
09AR20071216,    CEAMARC,     110,          1,         13,         13,2,20080118,       0331,   -65.6953,   140.5717,        452,    60.9,  -1.6215,  34.2251,2,-999.0000,9,   331.38,2, -999.00,9,  -999.0,9, -999.00,9,-999.0000,9,-999.0000,9,-999.0000,9,  -999.0,9,  -999.0,9,   1.704,2, -999.00,9,      2.057,2
09AR20071216,    CEAMARC,     110,          1,         12,         12,2,20080118,       0331,   -65.6953,   140.5717,        452,    99.6,  -1.7054,  34.3402,2,  34.3394,2,   310.17,2,  311.33,2,    62.0,2,    2.06,2,   5.0766,2,   2.6036,2,   0.4184,2,  2215.9,2,  2317.8,6,   0.385,2,   30.13,2,      1.274,2
09AR20071216,    CEAMARC,     110,          1,         11,         11,2,20080118,       0331,   -65.6953,   140.5717,        452,    99.4,  -1.7054,  34.3403,2,-999.0000,9,   310.17,2, -999.00,9,  -999.0,9, -999.00,9,-999.0000,9,-999.0000,9,-999.0000,9,  -999.0,9,  -999.0,9,   0.343,2, -999.00,9,      1.265,2
09AR20071216,    CEAMARC,     110,          1,         10,         10,2,20080118,       0331,   -65.6953,   140.5717,        452,   199.3,  -1.2695,  34.4646,2,-999.0000,9,   283.20,2, -999.00,9,  -999.0,9, -999.00,9,-999.0000,9,-999.0000,9,-999.0000,9,  2230.6,2,  -999.0,9,   0.013,2, -999.00,9,      0.001,2
09AR20071216,    CEAMARC,     110,          1,          9,          9,2,20080118,       0331,   -65.6953,   140.5717,        452,   199.1,  -1.2650,  34.4654,2,  34.4648,2,   283.20,2,  282.28,2,    75.8,2,    2.10,2,   4.0364,6,   2.0850,6,   0.3299,6,  -999.0,9,    2329,2,   0.015,2,   30.83,2,      0.001,2
09AR20071216,    CEAMARC,     110,          1,          8,          8,2,20080118,       0331,   -65.6953,   140.5717,        452,   300.3,  -0.6748,  34.5374,2,  34.5373,2,   257.25,2,  257.89,2,    84.8,2,    2.14,2,   3.0393,2,   1.5891,2,   0.2398,2,  2238.7,2,  2335.6,2,  -0.014,2,   31.09,2,      0.001,2
09AR20071216,    CEAMARC,     110,          1,          7,          7,2,20080118,       0331,   -65.6953,   140.5717,        452,   300.0,  -0.6716,  34.5375,2,-999.0000,9,   257.25,2, -999.00,9,  -999.0,9, -999.00,9,-999.0000,9,-999.0000,9,-999.0000,9,  -999.0,9,  -999.0,9,  -0.007,2, -999.00,9,      0.001,2
09AR20071216,    CEAMARC,     110,          1,          6,          6,2,20080118,       0331,   -65.6953,   140.5717,        452,   376.0,  -0.5071,  34.5737,2,  34.6087,4,   254.29,2,  253.07,2,    89.9,2,    2.15,2,   2.7297,2,   1.4333,2,   0.2091,2,  2242.3,2,  2340.5,2,  -0.011,2,   31.16,2,      0.001,2
09AR20071216,    CEAMARC,     110,          1,          5,          5,2,20080118,       0331,   -65.6953,   140.5717,        452,   375.5,  -0.5037,  34.5749,2,-999.0000,9,   254.29,2, -999.00,9,  -999.0,9, -999.00,9,-999.0000,9,-999.0000,9,-999.0000,9,  -999.0,9,  -999.0,9,  -0.005,2, -999.00,9,      0.001,2
09AR20071216,    CEAMARC,     110,          1,          4,          4,2,20080118,       0331,   -65.6953,   140.5717,        452,   398.9,  -0.9937,  34.5514,2,  34.5521,2,   276.36,2,  275.62,2,    84.5,2,    2.12,2,   3.6490,2,   1.8926,2,   0.2920,2,  2234.9,2,  2338.4,2,   0.048,2,   30.71,2,      0.001,2
09AR20071216,    CEAMARC,     110,          1,          3,          3,2,20080118,       0331,   -65.6953,   140.5717,        452,   398.8,  -1.0264,  34.5503,2,-999.0000,9,   276.36,2, -999.00,9,  -999.0,9, -999.00,9,-999.0000,9,-999.0000,9,-999.0000,9,  -999.0,9,  -999.0,9,   0.046,2, -999.00,9,      0.001,2
09AR20071216,    CEAMARC,     110,          1,          2,          2,2,20080118,       0331,   -65.6953,   140.5717,        452,   434.8,  -1.0663,  34.5839,2,-999.0000,9,   273.49,2, -999.00,9,  -999.0,9, -999.00,9,-999.0000,9,-999.0000,9,-999.0000,9,  -999.0,9,  -999.0,9,  -0.015,2, -999.00,9,      0.001,2
09AR20071216,    CEAMARC,     110,          1,          1,          1,2,20080118,       0331,   -65.6953,   140.5717,        452,   434.1,  -1.0828,  34.5839,2,  34.5821,2,   273.49,2,  275.04,2,    87.8,2,    2.14,2,   3.5838,2,   1.8508,2,   0.2829,2,  2242.9,2,    2327,2,  -0.016,2,   30.92,2,      0.001,2