BOTTLE,20230622CCHSIOENA
EXPOCODE,SECT_ID,STNNBR,CASTNO,SAMPNO,BTLNBR,BTLNBR_FLAG_W,DATE,TIME,LATITUDE,LONGITUDE,DEPTH,CTDPRS,CTDTMP,CTDSAL,CTDSAL_FLAG_W,SALNTY,SALNTY_FLAG_W,CTDOXY,CTDOXY_FLAG_W,OXYGEN,OXYGEN_FLAG_W,SILCAT,SILCAT_FLAG_W,PHSPHT,PHSPHT_FLAG_W,CFC-11,CFC-11_FLAG_W,CFC-12,CFC-12_FLAG_W,CFC113,CFC113_FLAG_W,TCARBN,TCARBN_FLAG_W,ALKALI,ALKALI_FLAG_W,FLUOR,FLUOR_FLAG_W,NO2+NO3,NO2+NO3_FLAG_W,PAR,PAR_FLAG_W
,,,,,,,,,,,METERS,DBAR,ITS-90,PSS-78,,PSS-78,,UMOL/KG,,UMOL/KG,,UMOL/KG,,UMOL/KG,,PMOL/KG,,PMOL/KG,,PMOL/KG,,UMOL/KG,,UMOL/KG,,MG/M^3,,UMOL/KG,,VOLTS,
09AR20071216,    CEAMARC,      99,          1,         24,         24,2,20080115,       0723,   -66.1432,   139.2610,        633,     5.9,  -1.3394,  33.1930,2,-999.0000,9,   356.77,2, -999.00,9,  -999.0,9, -999.00,9,-999.0000,9,-999.0000,9,-999.0000,9,  -999.0,9,  -999.0,9,   0.412,2, -999.00,9,      3.620,2
09AR20071216,    CEAMARC,      99,          1,         23,         23,2,20080115,       0723,   -66.1432,   139.2610,        633,     6.0,  -1.3620,  33.2012,2,-999.0000,9,   356.77,2, -999.00,9,  -999.0,9, -999.00,9,-999.0000,9,-999.0000,9,-999.0000,9,  -999.0,9,  -999.0,9,   0.307,2, -999.00,9,      3.596,2
09AR20071216,    CEAMARC,      99,          1,         22,         22,2,20080115,       0723,   -66.1432,   139.2610,        633,     6.0,  -1.3499,  33.1957,2,-999.0000,9,   356.77,2, -999.00,9,  -999.0,9, -999.00,9,-999.0000,9,-999.0000,9,-999.0000,9,  -999.0,9,  -999.0,9,   0.354,2, -999.00,9,      3.572,2
09AR20071216,    CEAMARC,      99,          1,         21,         21,2,20080115,       0723,   -66.1432,   139.2610,        633,     5.9,  -1.3719,  33.1959,2,-999.0000,9,   356.77,2,  361.59,2,    51.3,2,    1.67,2,   5.9731,6,   3.0698,6,   0.4811,6,  2113.2,6,  2254.5,2,   0.428,2,   24.22,2,      3.628,2
09AR20071216,    CEAMARC,      99,          1,         20,         20,2,20080115,       0723,   -66.1432,   139.2610,        633,    24.4,  -1.3630,  33.9859,2,-999.0000,9,   348.69,2, -999.00,9,  -999.0,9, -999.00,9,-999.0000,9,-999.0000,9,-999.0000,9,  -999.0,9,  -999.0,9,   1.150,2, -999.00,9,      2.649,2
09AR20071216,    CEAMARC,      99,          1,         19,         19,2,20080115,       0723,   -66.1432,   139.2610,        633,    24.3,  -1.3630,  33.9895,2,  33.9585,2,   348.69,2,  349.55,2,    59.7,2,    1.82,2,   0.0000,4,   0.0000,4,   0.0000,4,  2168.7,2,  2305.8,6,   1.027,2,   25.99,2,      2.644,2
09AR20071216,    CEAMARC,      99,          1,         18,         18,2,20080115,       0723,   -66.1432,   139.2610,        633,    24.4,  -1.3625,  33.9907,2,-999.0000,9,   348.69,2, -999.00,9,  -999.0,9, -999.00,9,-999.0000,9,-999.0000,9,-999.0000,9,  -999.0,9,  -999.0,9,   1.048,2, -999.00,9,      2.669,2
09AR20071216,    CEAMARC,      99,          1,         17,         17,2,20080115,       0723,   -66.1432,   139.2610,        633,    24.3,  -1.3613,  33.9944,2,-999.0000,9,   348.69,2, -999.00,9,  -999.0,9, -999.00,9,-999.0000,9,-999.0000,9,-999.0000,9,  -999.0,9,  -999.0,9,   1.066,2, -999.00,9,      2.679,2
09AR20071216,    CEAMARC,      99,          1,         16,         16,2,20080115,       0723,   -66.1432,   139.2610,        633,    50.2,  -1.4063,  34.2778,2,-999.0000,9,   339.10,2, -999.00,9,  -999.0,9, -999.00,9,-999.0000,9,-999.0000,9,-999.0000,9,  -999.0,9,  -999.0,9,   1.007,2, -999.00,9,      1.780,2
09AR20071216,    CEAMARC,      99,          1,         15,         15,2,20080115,       0723,   -66.1432,   139.2610,        633,    50.1,  -1.4083,  34.2761,2,  34.2763,2,   339.10,2,  332.17,2,    65.7,2,    1.94,2,   5.2709,2,   2.7181,2,   0.4019,2,  2201.9,2,  2321.9,2,   1.013,2,   27.87,2,      1.786,2
09AR20071216,    CEAMARC,      99,          1,         14,         14,2,20080115,       0723,   -66.1432,   139.2610,        633,   100.3,  -1.4735,  34.4240,2,-999.0000,9,   303.47,2, -999.00,9,  -999.0,9, -999.00,9,-999.0000,9,-999.0000,9,-999.0000,9,  -999.0,9,  -999.0,9,   0.188,2, -999.00,9,      0.566,2
09AR20071216,    CEAMARC,      99,          1,         13,         13,2,20080115,       0723,   -66.1432,   139.2610,        633,   100.4,  -1.4735,  34.4237,2,  34.4221,2,   303.47,2,  305.62,2,    73.9,2,    2.11,2,   4.5664,2,   2.3942,2,   0.3571,2,  2222.3,2,  2334.4,2,   0.200,2,   30.26,2,      0.568,2
09AR20071216,    CEAMARC,      99,          1,         12,         12,2,20080115,       0723,   -66.1432,   139.2610,        633,   142.8,  -1.3951,  34.4706,2,-999.0000,9,   297.82,2, -999.00,9,  -999.0,9, -999.00,9,-999.0000,9,-999.0000,9,-999.0000,9,  -999.0,9,  -999.0,9,   0.153,2, -999.00,9,      0.001,2
09AR20071216,    CEAMARC,      99,          1,         11,         11,2,20080115,       0723,   -66.1432,   139.2610,        633,   142.7,  -1.3967,  34.4700,2,  34.4697,2,   297.82,2,  298.44,2,    76.6,2,    2.12,2,   4.4544,2,   2.2938,2,   0.3470,2,  2229.7,2,  2333.6,2,   0.156,2,   30.31,2,      0.001,2
09AR20071216,    CEAMARC,      99,          1,         10,         10,2,20080115,       0723,   -66.1432,   139.2610,        633,   211.7,  -1.2744,  34.5140,2,-999.0000,9,   290.27,2, -999.00,9,  -999.0,9, -999.00,9,-999.0000,9,-999.0000,9,-999.0000,9,  -999.0,9,  -999.0,9,   0.070,2, -999.00,9,      0.001,2
09AR20071216,    CEAMARC,      99,          1,          9,          9,2,20080115,       0723,   -66.1432,   139.2610,        633,   211.7,  -1.2775,  34.5138,2,  34.5126,2,   290.27,2,  290.05,2,    79.7,2,    2.14,2,   4.0633,2,   2.1217,2,   0.3186,2,  2233.2,2,  2340.8,6,   0.079,2,   30.65,2,      0.001,2
09AR20071216,    CEAMARC,      99,          1,          8,          8,2,20080115,       0723,   -66.1432,   139.2610,        633,   327.5,  -1.3793,  34.5351,2,-999.0000,9,   293.53,2, -999.00,9,  -999.0,9, -999.00,9,-999.0000,9,-999.0000,9,-999.0000,9,  -999.0,9,  -999.0,9,   0.066,2, -999.00,9,      0.001,2
09AR20071216,    CEAMARC,      99,          1,          7,          7,2,20080115,       0723,   -66.1432,   139.2610,        633,   327.7,  -1.3571,  34.5361,2,  34.5352,2,   293.53,2,  294.43,2,    80.8,2,    2.14,2,   4.2293,2,   2.1840,2,   0.3263,2,  2236.1,2,  2339.3,2,   0.062,2,   30.90,2,      0.001,2
09AR20071216,    CEAMARC,      99,          1,          6,          6,2,20080115,       0723,   -66.1432,   139.2610,        633,   449.6,  -1.7163,  34.5307,2,-999.0000,9,   302.74,2, -999.00,9,  -999.0,9, -999.00,9,-999.0000,9,-999.0000,9,-999.0000,9,  -999.0,9,  -999.0,9,  -0.020,2, -999.00,9,      0.001,2
09AR20071216,    CEAMARC,      99,          1,          5,          5,2,20080115,       0723,   -66.1432,   139.2610,        633,   449.3,  -1.7254,  34.5301,2,  34.5299,2,   302.74,2,  305.03,2,    76.3,2,    2.13,2,   4.7659,2,   2.4742,2,   0.3675,2,  2234.4,2,  2340.6,2,  -0.023,2,   30.87,2,      0.001,2
09AR20071216,    CEAMARC,      99,          1,          4,          4,2,20080115,       0723,   -66.1432,   139.2610,        633,   580.8,  -1.7918,  34.5448,2,-999.0000,9,   306.38,2, -999.00,9,  -999.0,9, -999.00,9,-999.0000,9,-999.0000,9,-999.0000,9,  -999.0,9,  -999.0,9,  -0.028,2, -999.00,9,      0.001,2
09AR20071216,    CEAMARC,      99,          1,          3,          3,2,20080115,       0723,   -66.1432,   139.2610,        633,   580.9,  -1.7917,  34.5448,2,  34.5707,4,   306.38,2,  305.77,2,    76.0,2,    2.14,2,   4.8373,2,   2.4512,2,   0.4034,2,  2232.3,2,  2338.4,6,  -0.027,2,   30.59,2,      0.001,2
09AR20071216,    CEAMARC,      99,          1,          2,          2,2,20080115,       0723,   -66.1432,   139.2610,        633,   626.8,  -1.7830,  34.5626,2,-999.0000,9,   304.30,2, -999.00,9,  -999.0,9, -999.00,9,-999.0000,9,-999.0000,9,-999.0000,9,  -999.0,9,  -999.0,9,  -0.029,2, -999.00,9,      0.001,2
09AR20071216,    CEAMARC,      99,          1,          1,          1,2,20080115,       0723,   -66.1432,   139.2610,        633,   626.9,  -1.7831,  34.5623,2,  34.5626,2,   304.30,2,  305.37,2,    77.1,2,    2.15,2,   4.9163,2,   2.5279,2,   0.3617,2,  2236.7,6,    2342,2,  -0.026,2,   30.60,2,      0.001,2
09AR20071216,    CEAMARC,     100,          1,         24,         24,2,20080115,       1054,   -66.1672,   139.7017,        380,     5.2,   0.0267,  33.5128,2,  33.5179,2,   359.41,2,  359.09,2,    52.0,2,    1.66,2,   6.0895,2,   3.1243,2,   0.4609,2,  2132.2,6,  2269.4,6,   2.844,2,   24.69,2,      2.396,2
09AR20071216,    CEAMARC,     100,          1,         23,         23,2,20080115,       1054,   -66.1672,   139.7017,        380,     5.1,   0.1860,  33.5076,2,-999.0000,9,   359.41,2, -999.00,9,  -999.0,9, -999.00,9,-999.0000,9,-999.0000,9,-999.0000,9,  -999.0,9,  -999.0,9,   2.798,2, -999.00,9,      2.401,2
09AR20071216,    CEAMARC,     100,          1,         22,         22,2,20080115,       1054,   -66.1672,   139.7017,        380,     5.1,   0.0960,  33.5099,2,-999.0000,9,   359.41,2, -999.00,9,  -999.0,9, -999.00,9,-999.0000,9,-999.0000,9,-999.0000,9,  -999.0,9,  -999.0,9,   2.846,2, -999.00,9,      2.399,2
09AR20071216,    CEAMARC,     100,          1,         21,         21,2,20080115,       1054,   -66.1672,   139.7017,        380,     5.1,   0.0581,  33.5131,2,-999.0000,9,   359.41,2, -999.00,9,  -999.0,9, -999.00,9,-999.0000,9,-999.0000,9,-999.0000,9,  -999.0,9,  -999.0,9,   2.854,2, -999.00,9,      2.403,2
09AR20071216,    CEAMARC,     100,          1,         20,         20,2,20080115,       1054,   -66.1672,   139.7017,        380,    24.7,  -0.6709,  33.9490,2,  33.9375,2,   347.43,2,  346.57,2,    61.6,2,    1.82,2,-999.0000,9,-999.0000,9,-999.0000,9,  -999.0,9,  -999.0,9,   2.438,2,   26.18,2,      1.449,2
09AR20071216,    CEAMARC,     100,          1,         19,         19,2,20080115,       1054,   -66.1672,   139.7017,        380,    24.8,  -0.6774,  33.9403,2,-999.0000,9,   347.43,2, -999.00,9,  -999.0,9, -999.00,9,-999.0000,9,-999.0000,9,-999.0000,9,  -999.0,9,  -999.0,9,   2.423,2, -999.00,9,      1.454,2
09AR20071216,    CEAMARC,     100,          1,         18,         18,2,20080115,       1054,   -66.1672,   139.7017,        380,    50.4,  -1.2764,  34.2736,2,-999.0000,9,   320.08,2, -999.00,9,  -999.0,9, -999.00,9,-999.0000,9,-999.0000,9,-999.0000,9,  -999.0,9,  -999.0,9,   2.063,2, -999.00,9,      0.601,2
09AR20071216,    CEAMARC,     100,          1,         17,         17,2,20080115,       1054,   -66.1672,   139.7017,        380,    50.4,  -1.2762,  34.2730,2,-999.0000,9,   320.08,2, -999.00,9,  -999.0,9, -999.00,9,-999.0000,9,-999.0000,9,-999.0000,9,  -999.0,9,  -999.0,9,   2.003,2, -999.00,9,      0.601,2
09AR20071216,    CEAMARC,     100,          1,         16,         16,2,20080115,       1054,   -66.1672,   139.7017,        380,    50.3,  -1.2766,  34.2737,2,  34.2718,2,   320.08,2,  321.26,2,    70.1,2,    2.01,2,   4.8973,2,   2.5406,2,   0.3751,2,  2203.3,2,  2318.4,2,   2.075,2,   28.42,2,      0.602,2
09AR20071216,    CEAMARC,     100,          1,         15,         15,2,20080115,       1054,   -66.1672,   139.7017,        380,    50.4,  -1.2767,  34.2733,2,-999.0000,9,   320.08,2, -999.00,9,  -999.0,9, -999.00,9,-999.0000,9,-999.0000,9,-999.0000,9,  -999.0,9,  -999.0,9,   2.153,2, -999.00,9,      0.599,2
09AR20071216,    CEAMARC,     100,          1,         14,         14,2,20080115,       1054,   -66.1672,   139.7017,        380,    99.9,  -1.3809,  34.4256,2,-999.0000,9,   305.76,2, -999.00,9,  -999.0,9, -999.00,9,-999.0000,9,-999.0000,9,-999.0000,9,  -999.0,9,  -999.0,9,   0.480,2, -999.00,9,      0.001,2
09AR20071216,    CEAMARC,     100,          1,         13,         13,2,20080115,       1054,   -66.1672,   139.7017,        380,    99.9,  -1.3818,  34.4260,2,-999.0000,9,   305.76,2, -999.00,9,  -999.0,9, -999.00,9,-999.0000,9,-999.0000,9,-999.0000,9,  -999.0,9,  -999.0,9,   0.439,2, -999.00,9,      0.001,2
09AR20071216,    CEAMARC,     100,          1,         12,         12,2,20080115,       1054,   -66.1672,   139.7017,        380,   100.0,  -1.3804,  34.4255,2,  34.4262,2,   305.76,2,  304.06,2,    75.9,2,    2.09,2,   4.6174,2,   2.3883,2,   0.3587,2,    2219,2,  2328.5,6,   0.448,2,   29.90,2,      0.001,2
09AR20071216,    CEAMARC,     100,          1,         11,         11,2,20080115,       1054,   -66.1672,   139.7017,        380,   100.1,  -1.3817,  34.4278,2,-999.0000,9,   305.76,2, -999.00,9,  -999.0,9, -999.00,9,-999.0000,9,-999.0000,9,-999.0000,9,  -999.0,9,  -999.0,9,   0.374,2, -999.00,9,      0.001,2
09AR20071216,    CEAMARC,     100,          1,         10,         10,2,20080115,       1054,   -66.1672,   139.7017,        380,   220.9,  -1.2492,  34.5046,2,-999.0000,9,   287.89,2, -999.00,9,  -999.0,9, -999.00,9,-999.0000,9,-999.0000,9,-999.0000,9,  -999.0,9,  -999.0,9,   0.138,2, -999.00,9,      0.001,2
09AR20071216,    CEAMARC,     100,          1,          9,          9,2,20080115,       1054,   -66.1672,   139.7017,        380,   220.9,  -1.2468,  34.5049,2,-999.0000,9,   287.89,2, -999.00,9,  -999.0,9, -999.00,9,-999.0000,9,-999.0000,9,-999.0000,9,  -999.0,9,  -999.0,9,   0.146,2, -999.00,9,      0.001,2
09AR20071216,    CEAMARC,     100,          1,          8,          8,2,20080115,       1054,   -66.1672,   139.7017,        380,   220.9,  -1.2505,  34.5042,2,  34.5044,2,   287.89,2,  289.22,2,    79.9,2,    2.13,2,   4.0276,2,   2.1090,2,   0.3191,2,  2226.6,2,  2335.1,2,   0.125,2,   30.48,2,      0.001,2
09AR20071216,    CEAMARC,     100,          1,          7,          7,2,20080115,       1054,   -66.1672,   139.7017,        380,   220.9,  -1.2479,  34.5045,2,-999.0000,9,   287.89,2, -999.00,9,  -999.0,9, -999.00,9,-999.0000,9,-999.0000,9,-999.0000,9,  -999.0,9,  -999.0,9,   0.121,2, -999.00,9,      0.001,2
09AR20071216,    CEAMARC,     100,          1,          6,          6,2,20080115,       1054,   -66.1672,   139.7017,        380,   340.6,  -1.1893,  34.5520,2,-999.0000,9,   285.04,2, -999.00,9,  -999.0,9, -999.00,9,-999.0000,9,-999.0000,9,-999.0000,9,  -999.0,9,  -999.0,9,   0.036,2, -999.00,9,      0.001,2
09AR20071216,    CEAMARC,     100,          1,          5,          5,2,20080115,       1054,   -66.1672,   139.7017,        380,   340.7,  -1.1893,  34.5520,2,-999.0000,9,   285.04,2, -999.00,9,  -999.0,9, -999.00,9,-999.0000,9,-999.0000,9,-999.0000,9,  -999.0,9,  -999.0,9,   0.037,2, -999.00,9,      0.001,2
09AR20071216,    CEAMARC,     100,          1,          4,          4,2,20080115,       1054,   -66.1672,   139.7017,        380,   340.7,  -1.1892,  34.5520,2,  34.5521,2,   285.04,2,  284.35,2,    84.1,2,    2.14,2,-999.0000,9,-999.0000,9,-999.0000,9,  -999.0,9,  -999.0,9,   0.041,2,   31.06,2,      0.001,2
09AR20071216,    CEAMARC,     100,          1,          3,          3,2,20080115,       1054,   -66.1672,   139.7017,        380,   340.6,  -1.1893,  34.5521,2,-999.0000,9,   285.04,2, -999.00,9,  -999.0,9, -999.00,9,-999.0000,9,-999.0000,9,-999.0000,9,  -999.0,9,  -999.0,9,   0.033,2, -999.00,9,      0.001,2
09AR20071216,    CEAMARC,     100,          1,          2,          2,2,20080115,       1054,   -66.1672,   139.7017,        380,   379.6,  -1.1547,  34.5716,2,-999.0000,9,   282.12,2, -999.00,9,  -999.0,9, -999.00,9,   3.7408,2,   1.9487,2,   0.2983,2,  -999.0,9,  -999.0,9,   0.019,2, -999.00,9,      0.001,2
09AR20071216,    CEAMARC,     100,          1,          1,          1,2,20080115,       1054,   -66.1672,   139.7017,        380,   379.5,  -1.1546,  34.5715,2,  34.5718,2,   282.12,2,  282.43,2,    86.5,2,    2.16,2,-999.0000,9,-999.0000,9,-999.0000,9,  2238.4,2,  2338.3,2,   0.016,2,   31.18,2,      0.001,2