BOTTLE,20230622CCHSIOENA
EXPOCODE,SECT_ID,STNNBR,CASTNO,SAMPNO,BTLNBR,BTLNBR_FLAG_W,DATE,TIME,LATITUDE,LONGITUDE,DEPTH,CTDPRS,CTDTMP,CTDSAL,CTDSAL_FLAG_W,SALNTY,SALNTY_FLAG_W,CTDOXY,CTDOXY_FLAG_W,OXYGEN,OXYGEN_FLAG_W,SILCAT,SILCAT_FLAG_W,PHSPHT,PHSPHT_FLAG_W,CFC-11,CFC-11_FLAG_W,CFC-12,CFC-12_FLAG_W,CFC113,CFC113_FLAG_W,TCARBN,TCARBN_FLAG_W,ALKALI,ALKALI_FLAG_W,FLUOR,FLUOR_FLAG_W,NO2+NO3,NO2+NO3_FLAG_W,PAR,PAR_FLAG_W
,,,,,,,,,,,METERS,DBAR,ITS-90,PSS-78,,PSS-78,,UMOL/KG,,UMOL/KG,,UMOL/KG,,UMOL/KG,,PMOL/KG,,PMOL/KG,,PMOL/KG,,UMOL/KG,,UMOL/KG,,MG/M^3,,UMOL/KG,,VOLTS,
09AR20071216,    CEAMARC,       7,          1,         24,         24,2,20071224,       1018,   -65.9928,   143.6378,        424,     7.2,  -1.2993,  34.1659,2,-999.0000,9,   350.54,2, -999.00,9,  -999.0,9, -999.00,9,-999.0000,9,-999.0000,9,-999.0000,9,  -999.0,9,  -999.0,9,   2.109,2, -999.00,9,      2.399,2
09AR20071216,    CEAMARC,       7,          1,         23,         23,2,20071224,       1018,   -65.9928,   143.6378,        424,     7.1,  -1.3093,  34.1708,2,-999.0000,9,   350.54,2, -999.00,9,  -999.0,9, -999.00,9,-999.0000,9,-999.0000,9,-999.0000,9,  -999.0,9,  -999.0,9,   2.252,2, -999.00,9,      2.404,2
09AR20071216,    CEAMARC,       7,          1,         22,         22,2,20071224,       1018,   -65.9928,   143.6378,        424,     7.1,  -1.3232,  34.1779,2,-999.0000,9,   350.54,2, -999.00,9,  -999.0,9, -999.00,9,-999.0000,9,-999.0000,9,-999.0000,9,  -999.0,9,  -999.0,9,   2.090,2, -999.00,9,      2.402,2
09AR20071216,    CEAMARC,       7,          1,         21,         21,2,20071224,       1018,   -65.9928,   143.6378,        424,     7.0,  -1.3229,  34.1769,2,  34.1627,2,   350.54,2,  348.76,2,    56.8,2,    1.87,2,   5.8956,2,   3.0019,2,   0.4767,2,  2187.1,6,    2312,6,   2.200,2,   27.91,2,      2.388,2
09AR20071216,    CEAMARC,       7,          1,         20,         20,2,20071224,       1018,   -65.9928,   143.6378,        424,    29.5,  -1.4271,  34.2346,2,  34.2462,2,   342.89,2,  332.00,2,    59.7,2,    1.98,2,   5.5279,2,   2.8226,2,   0.4435,2,  2201.6,2,  2319.5,2,   2.096,2,   29.01,2,      1.639,2
09AR20071216,    CEAMARC,       7,          1,         19,         19,2,20071224,       1018,   -65.9928,   143.6378,        424,    59.6,  -1.6198,  34.3206,2,-999.0000,9,   320.01,2, -999.00,9,  -999.0,9, -999.00,9,-999.0000,9,-999.0000,9,-999.0000,9,  -999.0,9,  -999.0,9,   1.461,2, -999.00,9,      0.880,2
09AR20071216,    CEAMARC,       7,          1,         18,         18,2,20071224,       1018,   -65.9928,   143.6378,        424,    59.5,  -1.6165,  34.3235,2,  34.3214,2,   320.01,2,  318.95,2,    63.5,2,    2.05,2,-999.0000,9,-999.0000,9,-999.0000,9,  -999.0,9,  -999.0,9,   1.374,2,   29.56,2,      0.875,2
09AR20071216,    CEAMARC,       7,          1,         17,         17,2,20071224,       1018,   -65.9928,   143.6378,        424,    65.6,  -1.6115,  34.3404,2,-999.0000,9,   325.53,2, -999.00,9,  -999.0,9, -999.00,9,-999.0000,9,-999.0000,9,-999.0000,9,  -999.0,9,  -999.0,9,   1.444,2, -999.00,9,      0.753,2
09AR20071216,    CEAMARC,       7,          1,         16,         16,2,20071224,       1018,   -65.9928,   143.6378,        424,    65.6,  -1.6155,  34.3414,2,-999.0000,9,   325.53,2, -999.00,9,  -999.0,9, -999.00,9,-999.0000,9,-999.0000,9,-999.0000,9,  -999.0,9,  -999.0,9,   1.334,2, -999.00,9,      0.760,2
09AR20071216,    CEAMARC,       7,          1,         15,         15,2,20071224,       1018,   -65.9928,   143.6378,        424,    65.8,  -1.6190,  34.3434,2,-999.0000,9,   325.53,2, -999.00,9,  -999.0,9, -999.00,9,-999.0000,9,-999.0000,9,-999.0000,9,  -999.0,9,  -999.0,9,   1.190,2, -999.00,9,      0.768,2
09AR20071216,    CEAMARC,       7,          1,         14,         14,2,20071224,       1018,   -65.9928,   143.6378,        424,    65.6,  -1.6065,  34.3403,2,  34.3337,2,   325.53,2,  315.81,2,    64.6,2,    2.06,2,   4.8615,2,   2.6345,2,   0.3595,2,    2213,2,  2318.8,6,   1.482,2,   29.62,2,      0.792,2
09AR20071216,    CEAMARC,       7,          1,         13,         13,2,20071224,       1018,   -65.9928,   143.6378,        424,    99.3,  -1.5569,  34.4170,2,-999.0000,9,   292.44,2, -999.00,9,  -999.0,9, -999.00,9,-999.0000,9,-999.0000,9,-999.0000,9,  -999.0,9,  -999.0,9,   0.177,2, -999.00,9,      0.007,2
09AR20071216,    CEAMARC,       7,          1,         12,         12,2,20071224,       1018,   -65.9928,   143.6378,        424,    99.5,  -1.5544,  34.4181,2,  34.4172,2,   292.44,2,  292.55,2,    72.0,2,    2.14,2,   4.5230,2,   2.2944,2,   0.3987,2,  2223.5,2,  2327.2,2,   0.165,2,   30.69,2,      0.032,2
09AR20071216,    CEAMARC,       7,          1,         11,         11,2,20071224,       1018,   -65.9928,   143.6378,        424,   139.1,  -1.0787,  34.4837,2,-999.0000,9,   273.28,2, -999.00,9,  -999.0,9, -999.00,9,-999.0000,9,-999.0000,9,-999.0000,9,  -999.0,9,  -999.0,9,  -0.005,2, -999.00,9,      0.001,2
09AR20071216,    CEAMARC,       7,          1,         10,         10,2,20071224,       1018,   -65.9928,   143.6378,        424,   139.1,  -1.0821,  34.4835,2,  34.4813,2,   273.28,2,  271.16,2,    79.6,2,    2.16,2,   3.8443,2,   1.9290,2,   0.3266,2,  2232.2,2,  2330.5,2,  -0.002,2,   30.91,2,      0.001,2
09AR20071216,    CEAMARC,       7,          1,          9,          9,2,20071224,       1018,   -65.9928,   143.6378,        424,   188.7,  -0.7142,  34.5336,2,-999.0000,9,   264.13,2, -999.00,9,  -999.0,9, -999.00,9,-999.0000,9,-999.0000,9,-999.0000,9,  -999.0,9,  -999.0,9,  -0.006,2, -999.00,9,      0.001,2
09AR20071216,    CEAMARC,       7,          1,          8,          8,2,20071224,       1018,   -65.9928,   143.6378,        424,   188.5,  -0.7399,  34.5325,2,  34.5289,2,   264.13,2,  264.93,2,    84.7,2,    2.16,2,   3.2816,2,   1.7505,2,   0.2546,2,  2238.5,2,    2331,2,  -0.005,2,   30.90,2,      0.001,2
09AR20071216,    CEAMARC,       7,          1,          7,          7,2,20071224,       1018,   -65.9928,   143.6378,        424,   239.7,  -1.6287,  34.5316,2,-999.0000,9,   304.48,2, -999.00,9,  -999.0,9, -999.00,9,-999.0000,9,-999.0000,9,-999.0000,9,  -999.0,9,  -999.0,9,   0.075,2, -999.00,9,      0.001,2
09AR20071216,    CEAMARC,       7,          1,          6,          6,2,20071224,       1018,   -65.9928,   143.6378,        424,   239.3,  -1.6270,  34.5314,2,  34.5309,2,   304.48,2,  306.29,2,    78.6,2,    2.12,2,   4.8626,6,   2.4598,6,   0.3990,6,  2232.8,2,    2337,2,   0.066,2,   30.31,2,      0.001,2
09AR20071216,    CEAMARC,       7,          1,          5,          5,2,20071224,       1018,   -65.9928,   143.6378,        424,   299.8,  -1.8891,  34.5630,2,-999.0000,9,   315.75,2, -999.00,9,  -999.0,9, -999.00,9,-999.0000,9,-999.0000,9,-999.0000,9,  -999.0,9,  -999.0,9,  -0.010,2, -999.00,9,      0.001,2
09AR20071216,    CEAMARC,       7,          1,          4,          4,2,20071224,       1018,   -65.9928,   143.6378,        424,   299.8,  -1.8893,  34.5629,2,  34.5622,2,   315.75,2,  315.40,2,    77.4,2,    2.12,2,   5.1205,2,   2.6547,2,   0.3900,2,  2221.7,3,  2335.3,2,  -0.014,2,   30.10,2,      0.001,2
09AR20071216,    CEAMARC,       7,          1,          3,          3,2,20071224,       1018,   -65.9928,   143.6378,        424,   373.2,  -1.8865,  34.6062,2,-999.0000,9,   313.13,2, -999.00,9,  -999.0,9, -999.00,9,-999.0000,9,-999.0000,9,-999.0000,9,  -999.0,9,  -999.0,9,  -0.019,2, -999.00,9,      0.001,2
09AR20071216,    CEAMARC,       7,          1,          2,          2,2,20071224,       1018,   -65.9928,   143.6378,        424,   373.1,  -1.8865,  34.6061,2,  34.6048,2,   313.13,2,  311.79,2,    77.7,2,    2.12,2,   4.9386,2,   2.5768,2,   0.3816,2,  2239.1,2,  2341.6,2,  -0.016,2,   30.13,2,      0.001,2
09AR20071216,    CEAMARC,       7,          1,          1,          1,2,20071224,       1018,   -65.9928,   143.6378,        424,   417.3,  -1.8899,  34.6259,2,  34.6248,2,   314.81,2, -999.00,9,    78.3,2,    2.13,2,   5.1761,2,   2.6062,2,   0.4305,2,  2234.1,2,  2340.4,6,  -0.023,2,   30.51,2,      0.001,2
09AR20071216,    CEAMARC,       8,          1,         24,         24,2,20071224,       1817,   -66.3625,   143.6975,        584,     4.5,  -0.1288,  34.3103,2,-999.0000,9,   379.36,2, -999.00,9,  -999.0,9, -999.00,9,-999.0000,9,-999.0000,9,-999.0000,9,  -999.0,9,  -999.0,9,   9.160,2, -999.00,9,      2.734,2
09AR20071216,    CEAMARC,       8,          1,         23,         23,2,20071224,       1817,   -66.3625,   143.6975,        584,     4.6,  -0.1297,  34.3104,2,-999.0000,9,   379.36,2, -999.00,9,  -999.0,9, -999.00,9,-999.0000,9,-999.0000,9,-999.0000,9,  -999.0,9,  -999.0,9,   9.331,2, -999.00,9,      2.725,2
09AR20071216,    CEAMARC,       8,          1,         22,         22,2,20071224,       1817,   -66.3625,   143.6975,        584,     4.5,  -0.1352,  34.3109,2,-999.0000,9,   379.36,2, -999.00,9,  -999.0,9, -999.00,9,-999.0000,9,-999.0000,9,-999.0000,9,  -999.0,9,  -999.0,9,   9.694,2, -999.00,9,      2.717,2
09AR20071216,    CEAMARC,       8,          1,         21,         21,2,20071224,       1817,   -66.3625,   143.6975,        584,     4.6,  -0.1362,  34.3109,2,  34.3110,2,   379.36,2,  377.86,2,    49.7,2,    1.41,2,   6.4228,2,   3.1615,2,   0.5911,2,    2170,2,  2327.3,6,   9.946,2,   24.19,2,      2.686,2
09AR20071216,    CEAMARC,       8,          1,         20,         20,2,20071224,       1817,   -66.3625,   143.6975,        584,    23.4,  -0.8485,  34.3333,2,-999.0000,9,   364.59,2, -999.00,9,  -999.0,9, -999.00,9,-999.0000,9,-999.0000,9,-999.0000,9,  -999.0,9,  -999.0,9,  13.753,2, -999.00,9,      1.122,2
09AR20071216,    CEAMARC,       8,          1,         19,         19,2,20071224,       1817,   -66.3625,   143.6975,        584,    23.5,  -0.8804,  34.3360,2,  34.3390,2,   364.59,2,  362.63,2,    55.9,2,    1.67,2,   6.5112,2,   3.0630,2,   0.5960,2,  2188.7,2,  2326.6,2,  11.932,2,   26.62,3,      1.101,2
09AR20071216,    CEAMARC,       8,          1,         18,         18,2,20071224,       1817,   -66.3625,   143.6975,        584,    49.5,  -1.4705,  34.3908,2,-999.0000,9,   336.52,2, -999.00,9,  -999.0,9, -999.00,9,-999.0000,9,-999.0000,9,-999.0000,9,  -999.0,9,  -999.0,9,   3.140,2, -999.00,9,      0.001,2
09AR20071216,    CEAMARC,       8,          1,         17,         17,2,20071224,       1817,   -66.3625,   143.6975,        584,    49.9,  -1.4705,  34.3915,2,  34.3942,2,   336.52,2,  333.74,2,    67.0,2,    2.03,2,   5.5713,6,   2.7909,6,   0.4616,6,  2213.8,2,  2327.7,2,   3.142,2,   29.51,2,      0.001,2
09AR20071216,    CEAMARC,       8,          1,         16,         16,2,20071224,       1817,   -66.3625,   143.6975,        584,    79.4,  -1.6420,  34.4291,2,-999.0000,9,   312.96,2, -999.00,9,  -999.0,9, -999.00,9,-999.0000,9,-999.0000,9,-999.0000,9,  -999.0,9,  -999.0,9,   0.278,2, -999.00,9,      0.001,2
09AR20071216,    CEAMARC,       8,          1,         15,         15,2,20071224,       1817,   -66.3625,   143.6975,        584,    79.4,  -1.6425,  34.4291,2,  34.4330,2,   312.96,2,  299.63,2,    74.6,2,    2.15,2,   4.8808,2,   2.4638,2,   0.4207,2,  2227.2,2,  2328.3,2,   0.255,2,   31.37,3,      0.001,2
09AR20071216,    CEAMARC,       8,          1,         14,         14,2,20071224,       1817,   -66.3625,   143.6975,        584,   114.4,  -1.6138,  34.4595,2,-999.0000,9,   292.76,2, -999.00,9,  -999.0,9, -999.00,9,-999.0000,9,-999.0000,9,-999.0000,9,  -999.0,9,  -999.0,9,   0.183,2, -999.00,9,      0.001,2
09AR20071216,    CEAMARC,       8,          1,         13,         13,2,20071224,       1817,   -66.3625,   143.6975,        584,   114.4,  -1.6136,  34.4596,2,  34.4583,2,   292.76,2,  307.48,2,    77.4,2,    2.14,2,   5.1021,2,   2.4601,2,   0.5009,2,  2229.5,2,  2331.3,2,   0.174,2,   31.00,2,      0.001,2
09AR20071216,    CEAMARC,       8,          1,         12,         12,2,20071224,       1817,   -66.3625,   143.6975,        584,   170.2,  -1.0850,  34.5258,2,-999.0000,9,   279.50,2, -999.00,9,  -999.0,9, -999.00,9,-999.0000,9,-999.0000,9,-999.0000,9,  -999.0,9,  -999.0,9,   0.008,2, -999.00,9,      0.001,2
09AR20071216,    CEAMARC,       8,          1,         11,         11,2,20071224,       1817,   -66.3625,   143.6975,        584,   169.8,  -1.0712,  34.5270,2,  34.5211,2,   279.50,2,  280.10,2,    83.6,2,    2.19,2,   3.8720,2,   1.8991,2,   0.3590,2,  2237.2,2,  2334.9,2,  -0.002,2,   31.72,2,      0.001,2
09AR20071216,    CEAMARC,       8,          1,         10,         10,2,20071224,       1817,   -66.3625,   143.6975,        584,   252.1,  -1.9028,  34.5468,2,-999.0000,9,   307.46,2, -999.00,9,  -999.0,9, -999.00,9,-999.0000,9,-999.0000,9,-999.0000,9,  -999.0,9,  -999.0,9,  -0.032,2, -999.00,9,      0.001,2
09AR20071216,    CEAMARC,       8,          1,          9,          9,2,20071224,       1817,   -66.3625,   143.6975,        584,   251.1,  -1.9019,  34.5452,2,  34.5442,2,   307.46,2,  309.37,2,    79.3,2,    2.16,2,   5.0121,2,   2.5539,2,   0.4058,2,  2235.3,2,  2338.2,2,  -0.032,2,   31.56,2,      0.001,2
09AR20071216,    CEAMARC,       8,          1,          8,          8,2,20071224,       1817,   -66.3625,   143.6975,        584,   349.2,  -1.9112,  34.5889,2,-999.0000,9,   308.75,2, -999.00,9,  -999.0,9, -999.00,9,-999.0000,9,-999.0000,9,-999.0000,9,  -999.0,9,  -999.0,9,  -0.027,2, -999.00,9,      0.001,2
09AR20071216,    CEAMARC,       8,          1,          7,          7,2,20071224,       1817,   -66.3625,   143.6975,        584,   349.2,  -1.9121,  34.5884,2,  34.5881,2,   308.75,2,  309.19,2,    78.7,2,    2.18,2,   5.1175,2,   2.4351,2,   0.4435,2,  2237.5,2,  2338.3,2,  -0.027,2,   31.94,2,      0.001,2
09AR20071216,    CEAMARC,       8,          1,          6,          6,2,20071224,       1817,   -66.3625,   143.6975,        584,   450.6,  -1.8978,  34.6274,2,  34.6272,2,   310.76,2,  310.48,2,  -999.0,9, -999.00,9,-999.0000,9,-999.0000,9,-999.0000,9,  2240.3,2,  2341.5,2,  -0.024,2, -999.00,9,      0.001,2
09AR20071216,    CEAMARC,       8,          1,          5,          5,2,20071224,       1817,   -66.3625,   143.6975,        584,   450.6,  -1.8978,  34.6274,2,-999.0000,9,   310.76,2, -999.00,9,    78.1,2,    2.17,2,   5.2326,2,   2.5603,2,   0.4918,2,  -999.0,9,  -999.0,9,  -0.024,2,   31.79,2,      0.001,2
09AR20071216,    CEAMARC,       8,          1,          4,          4,2,20071224,       1817,   -66.3625,   143.6975,        584,   549.5,  -1.9053,  34.6628,2,-999.0000,9,   311.44,2, -999.00,9,  -999.0,9, -999.00,9,-999.0000,9,-999.0000,9,-999.0000,9,  -999.0,9,  -999.0,9,  -0.021,2, -999.00,9,      0.001,2
09AR20071216,    CEAMARC,       8,          1,          3,          3,2,20071224,       1817,   -66.3625,   143.6975,        584,   549.5,  -1.9055,  34.6630,2,  34.6619,2,   311.44,2,  309.82,2,    78.1,2,    2.17,2,   5.1672,2,   2.5193,2,   0.4830,2,  2243.7,3,  2344.9,6,  -0.031,2,   31.67,2,      0.001,2
09AR20071216,    CEAMARC,       8,          1,          2,          2,2,20071224,       1817,   -66.3625,   143.6975,        584,   575.5,  -1.9055,  34.6657,2,-999.0000,9,   311.64,2, -999.00,9,  -999.0,9, -999.00,9,-999.0000,9,-999.0000,9,-999.0000,9,  -999.0,9,  -999.0,9,  -0.027,2, -999.00,9,      0.001,2
09AR20071216,    CEAMARC,       8,          1,          1,          1,2,20071224,       1817,   -66.3625,   143.6975,        584,   575.2,  -1.9054,  34.6658,2,  34.6648,2,   311.64,2,  310.21,2,    78.2,2,    2.16,2,   5.0323,2,   2.6018,2,   0.4041,2,  2237.6,6,    2344,6,  -0.027,2,   31.78,2,      0.001,2