BOTTLE,20230622CCHSIOENA
EXPOCODE,SECT_ID,STNNBR,CASTNO,SAMPNO,BTLNBR,BTLNBR_FLAG_W,DATE,TIME,LATITUDE,LONGITUDE,DEPTH,CTDPRS,CTDTMP,CTDSAL,CTDSAL_FLAG_W,SALNTY,SALNTY_FLAG_W,CTDOXY,CTDOXY_FLAG_W,OXYGEN,OXYGEN_FLAG_W,SILCAT,SILCAT_FLAG_W,PHSPHT,PHSPHT_FLAG_W,CFC-11,CFC-11_FLAG_W,CFC-12,CFC-12_FLAG_W,CFC113,CFC113_FLAG_W,TCARBN,TCARBN_FLAG_W,ALKALI,ALKALI_FLAG_W,FLUOR,FLUOR_FLAG_W,NO2+NO3,NO2+NO3_FLAG_W,PAR,PAR_FLAG_W
,,,,,,,,,,,METERS,DBAR,ITS-90,PSS-78,,PSS-78,,UMOL/KG,,UMOL/KG,,UMOL/KG,,UMOL/KG,,PMOL/KG,,PMOL/KG,,PMOL/KG,,UMOL/KG,,UMOL/KG,,MG/M^3,,UMOL/KG,,VOLTS,
09AR20071216,    CEAMARC,      49,          1,         24,         24,2,20080104,       2222,   -65.8448,   142.9830,        418,    10.2,  -0.5194,  34.1552,2,-999.0000,9,   346.86,2, -999.00,9,  -999.0,9, -999.00,9,-999.0000,9,-999.0000,9,-999.0000,9,  -999.0,9,  -999.0,9,   1.168,2, -999.00,9,      3.117,2
09AR20071216,    CEAMARC,      49,          1,         23,         23,2,20080104,       2222,   -65.8448,   142.9830,        418,    10.0,  -0.5196,  34.1553,2,-999.0000,9,   346.86,2, -999.00,9,  -999.0,9, -999.00,9,-999.0000,9,-999.0000,9,-999.0000,9,  -999.0,9,  -999.0,9,   1.142,2, -999.00,9,      3.136,2
09AR20071216,    CEAMARC,      49,          1,         22,         22,2,20080104,       2222,   -65.8448,   142.9830,        418,    10.2,  -0.5196,  34.1553,2,-999.0000,9,   346.86,2, -999.00,9,  -999.0,9, -999.00,9,-999.0000,9,-999.0000,9,-999.0000,9,  -999.0,9,  -999.0,9,   1.146,2, -999.00,9,      3.129,2
09AR20071216,    CEAMARC,      49,          1,         21,         21,2,20080104,       2222,   -65.8448,   142.9830,        418,    10.2,  -0.5190,  34.1553,2,  34.1563,2,   346.86,2,  344.90,2,    52.2,2,    1.71,2,   5.6937,6,   2.8344,6,   0.4582,6,  2186.2,6,  2307.1,6,   1.069,2,   27.01,2,      3.126,2
09AR20071216,    CEAMARC,      49,          1,         20,         20,2,20080104,       2222,   -65.8448,   142.9830,        418,    32.5,  -0.5359,  34.1602,2,-999.0000,9,   342.01,2, -999.00,9,  -999.0,9, -999.00,9,-999.0000,9,-999.0000,9,-999.0000,9,  -999.0,9,  -999.0,9,   2.408,2, -999.00,9,      2.405,2
09AR20071216,    CEAMARC,      49,          1,         19,         19,2,20080104,       2222,   -65.8448,   142.9830,        418,    32.8,  -0.5358,  34.1602,2,-999.0000,9,   342.01,2, -999.00,9,  -999.0,9, -999.00,9,-999.0000,9,-999.0000,9,-999.0000,9,  -999.0,9,  -999.0,9,   2.377,2, -999.00,9,      2.406,2
09AR20071216,    CEAMARC,      49,          1,         18,         18,2,20080104,       2222,   -65.8448,   142.9830,        418,    32.6,  -0.5364,  34.1602,2,-999.0000,9,   342.01,2, -999.00,9,  -999.0,9, -999.00,9,-999.0000,9,-999.0000,9,-999.0000,9,  -999.0,9,  -999.0,9,   2.320,2, -999.00,9,      2.412,2
09AR20071216,    CEAMARC,      49,          1,         17,         17,2,20080104,       2222,   -65.8448,   142.9830,        418,    32.4,  -0.5368,  34.1602,2,-999.0000,9,   342.01,2, -999.00,9,  -999.0,9, -999.00,9,-999.0000,9,-999.0000,9,-999.0000,9,  -999.0,9,  -999.0,9,   2.317,2, -999.00,9,      2.415,2
09AR20071216,    CEAMARC,      49,          1,         16,         16,2,20080104,       2222,   -65.8448,   142.9830,        418,    32.4,  -0.5372,  34.1603,2,-999.0000,9,   342.01,2, -999.00,9,  -999.0,9, -999.00,9,-999.0000,9,-999.0000,9,-999.0000,9,  -999.0,9,  -999.0,9,   2.339,2, -999.00,9,      2.412,2
09AR20071216,    CEAMARC,      49,          1,         15,         15,2,20080104,       2222,   -65.8448,   142.9830,        418,    32.7,  -0.5368,  34.1603,2,-999.0000,9,   342.01,2, -999.00,9,  -999.0,9, -999.00,9,-999.0000,9,-999.0000,9,-999.0000,9,  -999.0,9,  -999.0,9,   2.399,2, -999.00,9,      2.400,2
09AR20071216,    CEAMARC,      49,          1,         14,         14,2,20080104,       2222,   -65.8448,   142.9830,        418,    32.3,  -0.5386,  34.1599,2,  34.1604,2,   342.01,2,  343.56,2,    52.6,2,    1.71,2,   5.9109,2,   2.8939,2,   0.4390,2,    2186,2,  2308.2,2,   2.353,2,   26.98,2,      2.423,2
09AR20071216,    CEAMARC,      49,          1,         13,         13,2,20080104,       2222,   -65.8448,   142.9830,        418,    32.5,  -0.5381,  34.1599,2,-999.0000,9,   342.01,2, -999.00,9,  -999.0,9, -999.00,9,-999.0000,9,-999.0000,9,-999.0000,9,  -999.0,9,  -999.0,9,   2.357,2, -999.00,9,      2.429,2
09AR20071216,    CEAMARC,      49,          1,         12,         12,2,20080104,       2222,   -65.8448,   142.9830,        418,    74.3,  -1.5174,  34.3111,2,  34.3074,2,   296.26,2,  310.90,2,    65.4,2,    1.99,2,   4.7101,2,   2.3905,2,   0.3742,2,  2213.7,2,  2319.5,6,   1.611,2,   29.31,2,      1.292,2
09AR20071216,    CEAMARC,      49,          1,         11,         11,2,20080104,       2222,   -65.8448,   142.9830,        418,    74.5,  -1.5198,  34.3116,2,-999.0000,9,   296.26,2, -999.00,9,  -999.0,9, -999.00,9,-999.0000,9,-999.0000,9,-999.0000,9,  -999.0,9,  -999.0,9,   1.596,2, -999.00,9,      1.279,2
09AR20071216,    CEAMARC,      49,          1,         10,         10,2,20080104,       2222,   -65.8448,   142.9830,        418,   123.7,  -1.5856,  34.4026,2,  34.4029,2,   289.46,2,  289.94,2,    76.4,2,    2.09,2,   4.6619,2,   2.3195,2,   0.3515,2,  2227.5,2,    2325,2,   0.118,2,   30.48,2,      0.272,2
09AR20071216,    CEAMARC,      49,          1,          9,          9,2,20080104,       2222,   -65.8448,   142.9830,        418,   123.8,  -1.5853,  34.4027,2,-999.0000,9,   289.46,2, -999.00,9,  -999.0,9, -999.00,9,-999.0000,9,-999.0000,9,-999.0000,9,  -999.0,9,  -999.0,9,   0.139,2, -999.00,9,      0.261,2
09AR20071216,    CEAMARC,      49,          1,          8,          8,2,20080104,       2222,   -65.8448,   142.9830,        418,   199.7,  -1.4378,  34.4432,2,  34.4436,2,   282.65,2,  283.24,2,    77.6,2,    2.12,2,   4.3124,2,   2.1614,2,   0.3378,2,  2233.1,2,  2324.9,2,   0.031,2,   31.00,2,      0.001,2
09AR20071216,    CEAMARC,      49,          1,          7,          7,2,20080104,       2222,   -65.8448,   142.9830,        418,   199.9,  -1.4386,  34.4429,2,-999.0000,9,   282.65,2, -999.00,9,  -999.0,9, -999.00,9,-999.0000,9,-999.0000,9,-999.0000,9,  -999.0,9,  -999.0,9,   0.032,2, -999.00,9,      0.001,2
09AR20071216,    CEAMARC,      49,          1,          6,          6,2,20080104,       2222,   -65.8448,   142.9830,        418,   298.6,  -0.5106,  34.5238,2,  34.5219,2,   252.67,2,  251.21,2,    85.0,2,    2.16,2,   2.7531,2,   1.4794,2,   0.2158,2,  2243.1,2,  2334.4,2,  -0.034,2,   31.46,2,      0.001,2
09AR20071216,    CEAMARC,      49,          1,          5,          5,2,20080104,       2222,   -65.8448,   142.9830,        418,   298.7,  -0.5209,  34.5228,2,-999.0000,9,   252.67,2, -999.00,9,  -999.0,9, -999.00,9,-999.0000,9,-999.0000,9,-999.0000,9,  -999.0,9,  -999.0,9,  -0.031,2, -999.00,9,      0.001,2
09AR20071216,    CEAMARC,      49,          1,          4,          4,2,20080104,       2222,   -65.8448,   142.9830,        418,   371.7,  -0.0754,  34.5803,2,  34.5805,2,   235.20,2,  236.00,2,    90.9,2,    2.18,2,   2.3314,2,   1.2152,2,   0.1733,2,  2246.2,2,  2332.3,2,  -0.032,2,   31.57,2,      0.001,2
09AR20071216,    CEAMARC,      49,          1,          3,          3,2,20080104,       2222,   -65.8448,   142.9830,        418,   371.9,  -0.0752,  34.5803,2,-999.0000,9,   235.20,2, -999.00,9,  -999.0,9, -999.00,9,-999.0000,9,-999.0000,9,-999.0000,9,  -999.0,9,  -999.0,9,  -0.030,2, -999.00,9,      0.001,2
09AR20071216,    CEAMARC,      49,          1,          2,          2,2,20080104,       2222,   -65.8448,   142.9830,        418,   416.8,  -1.8145,  34.6515,2,  34.6488,2,   303.87,2,  304.14,2,    81.1,2,    2.14,2,   4.9738,2,   2.4712,2,   0.3722,2,  2243.5,2,    2342,2,  -0.031,2,   30.79,2,      0.001,2
09AR20071216,    CEAMARC,      49,          1,          1,          1,2,20080104,       2222,   -65.8448,   142.9830,        418,   416.7,  -1.7984,  34.6510,2,-999.0000,9,   303.87,2, -999.00,9,  -999.0,9, -999.00,9,-999.0000,9,-999.0000,9,-999.0000,9,  -999.0,9,  -999.0,9,  -0.033,2, -999.00,9,      0.001,2
09AR20071216,    CEAMARC,      50,          1,         24,         24,2,20080105,       0145,   -65.8053,   142.9773,        976,     9.8,  -0.6647,  34.0319,2,-999.0000,9,   349.21,2, -999.00,9,  -999.0,9, -999.00,9,-999.0000,9,-999.0000,9,-999.0000,9,  -999.0,9,  -999.0,9,  -0.009,2, -999.00,9,      3.415,2
09AR20071216,    CEAMARC,      50,          1,         23,         23,2,20080105,       0145,   -65.8053,   142.9773,        976,     9.9,  -0.6582,  34.0314,2,-999.0000,9,   349.21,2, -999.00,9,  -999.0,9, -999.00,9,-999.0000,9,-999.0000,9,-999.0000,9,  -999.0,9,  -999.0,9,  -0.011,2, -999.00,9,      3.412,2
09AR20071216,    CEAMARC,      50,          1,         22,         22,2,20080105,       0145,   -65.8053,   142.9773,        976,     9.9,  -0.6523,  34.0311,2,-999.0000,9,   349.21,2, -999.00,9,  -999.0,9, -999.00,9,-999.0000,9,-999.0000,9,-999.0000,9,  -999.0,9,  -999.0,9,  -0.011,2, -999.00,9,      3.398,2
09AR20071216,    CEAMARC,      50,          1,         21,         21,2,20080105,       0145,   -65.8053,   142.9773,        976,     9.7,  -0.6534,  34.0308,2,  34.0303,2,   349.21,2,  349.64,2,    47.0,2,    1.71,2,   5.5074,2,   2.7510,2,   0.4531,2,  2173.2,6,  2302.1,6,  -0.010,2,   26.79,2,      3.412,2
09AR20071216,    CEAMARC,      50,          1,         20,         20,2,20080105,       0145,   -65.8053,   142.9773,        976,    49.5,  -1.2845,  34.2441,2,-999.0000,9,   323.28,2, -999.00,9,  -999.0,9, -999.00,9,-999.0000,9,-999.0000,9,-999.0000,9,  -999.0,9,  -999.0,9,   1.937,2, -999.00,9,      2.291,2
09AR20071216,    CEAMARC,      50,          1,         19,         19,2,20080105,       0145,   -65.8053,   142.9773,        976,    49.3,  -1.2831,  34.2431,2,-999.0000,9,   323.28,2, -999.00,9,  -999.0,9, -999.00,9,-999.0000,9,-999.0000,9,-999.0000,9,  -999.0,9,  -999.0,9,   1.945,2, -999.00,9,      2.297,2
09AR20071216,    CEAMARC,      50,          1,         18,         18,2,20080105,       0145,   -65.8053,   142.9773,        976,    49.4,  -1.2813,  34.2416,2,  34.2407,2,   323.28,2,  323.61,2,    58.1,2,    1.92,2,   5.1063,2,   2.5575,2,   0.4170,2,  2199.2,2,    2317,2,   1.915,2,   28.50,2,      2.314,2
09AR20071216,    CEAMARC,      50,          1,         17,         17,2,20080105,       0145,   -65.8053,   142.9773,        976,    99.8,  -1.3815,  34.4212,2,  34.4195,2,   284.19,2,  282.20,2,    76.5,2,    2.12,2,   4.2579,2,   2.1630,2,   0.3225,2,  2228.1,2,  2327.2,2,   0.092,2,   30.59,2,      1.314,2
09AR20071216,    CEAMARC,      50,          1,         16,         16,2,20080105,       0145,   -65.8053,   142.9773,        976,   149.7,  -1.1983,  34.4531,2,  34.4528,2,   277.48,2,  275.98,2,    79.4,2,    2.12,2,   3.7438,2,   1.9165,2,   0.2938,2,  2231.8,2,    2331,2,  -0.005,2,   30.81,2,      0.493,2
09AR20071216,    CEAMARC,      50,          1,         15,         15,2,20080105,       0145,   -65.8053,   142.9773,        976,   200.0,  -1.4496,  34.4531,2,  34.4524,2,   281.20,2,  283.85,2,    77.8,2,    2.12,2,   4.2109,2,   2.1569,2,   0.3213,2,  2230.2,2,  2330.4,2,  -0.009,2,   30.95,2,      0.001,2
09AR20071216,    CEAMARC,      50,          1,         14,         14,2,20080105,       0145,   -65.8053,   142.9773,        976,   300.4,  -0.2456,  34.5600,2,-999.0000,9,   240.40,2, -999.00,9,  -999.0,9, -999.00,9,-999.0000,9,-999.0000,9,-999.0000,9,  -999.0,9,  -999.0,9,  -0.035,2, -999.00,9,      0.001,2
09AR20071216,    CEAMARC,      50,          1,         13,         13,2,20080105,       0145,   -65.8053,   142.9773,        976,   300.3,  -0.2453,  34.5598,2,  34.5593,2,   240.40,2,  239.91,2,    88.5,2,    2.17,2,   2.3815,2,   1.2741,2,   0.1791,2,  2242.1,2,  2338.4,2,  -0.033,2,   31.32,2,      0.001,2
09AR20071216,    CEAMARC,      50,          1,         12,         12,2,20080105,       0145,   -65.8053,   142.9773,        976,   449.5,   0.4767,  34.6594,2,-999.0000,9,   215.57,2, -999.00,9,  -999.0,9, -999.00,9,-999.0000,9,-999.0000,9,-999.0000,9,  -999.0,9,  -999.0,9,  -0.037,2, -999.00,9,      0.001,2
09AR20071216,    CEAMARC,      50,          1,         11,         11,2,20080105,       0145,   -65.8053,   142.9773,        976,   449.2,   0.4766,  34.6594,2,  34.6593,2,   215.57,2,  214.52,2,   102.1,2,    2.21,2,   1.4599,2,   0.7362,2,   0.1156,2,  2242.2,2,  2349.6,2,  -0.038,2,   31.85,2,      0.001,2
09AR20071216,    CEAMARC,      50,          1,         10,         10,2,20080105,       0145,   -65.8053,   142.9773,        976,   600.0,   0.0194,  34.6362,2,-999.0000,9,   228.07,2, -999.00,9,  -999.0,9, -999.00,9,-999.0000,9,-999.0000,9,-999.0000,9,  -999.0,9,  -999.0,9,  -0.029,2, -999.00,9,      0.001,2
09AR20071216,    CEAMARC,      50,          1,          9,          9,2,20080105,       0145,   -65.8053,   142.9773,        976,   599.9,   0.0363,  34.6379,2,  34.6364,2,   228.07,2,  230.07,2,   103.1,2,    2.20,2,   1.6413,2,   0.8898,2,   0.1162,2,  2251.7,2,  2348.9,2,  -0.032,2,   31.93,2,      0.001,2
09AR20071216,    CEAMARC,      50,          1,          8,          8,2,20080105,       0145,   -65.8053,   142.9773,        976,   702.5,  -0.2480,  34.6191,2,-999.0000,9,   244.39,2, -999.00,9,  -999.0,9, -999.00,9,-999.0000,9,-999.0000,9,-999.0000,9,  -999.0,9,  -999.0,9,  -0.027,2, -999.00,9,      0.001,2
09AR20071216,    CEAMARC,      50,          1,          7,          7,2,20080105,       0145,   -65.8053,   142.9773,        976,   702.2,  -0.2501,  34.6189,2,  34.6203,2,   244.39,2,  241.07,2,   101.1,2,    2.20,2,   1.8981,2,   1.0253,2,   0.1470,2,  2249.4,2,  2347.3,6,  -0.029,2,   31.70,2,      0.001,2
09AR20071216,    CEAMARC,      50,          1,          6,          6,2,20080105,       0145,   -65.8053,   142.9773,        976,   803.1,  -0.3701,  34.6123,2,-999.0000,9,   240.78,2, -999.00,9,  -999.0,9, -999.00,9,-999.0000,9,-999.0000,9,-999.0000,9,  -999.0,9,  -999.0,9,  -0.027,2, -999.00,9,      0.001,2
09AR20071216,    CEAMARC,      50,          1,          5,          5,2,20080105,       0145,   -65.8053,   142.9773,        976,   802.9,  -0.3894,  34.6107,2,  34.6115,2,   241.62,2,  248.32,2,    99.8,2,    2.19,2,   2.2251,2,   1.1884,2,   0.1752,2,  2247.9,2,  2347.9,2,  -0.024,2,   31.52,2,      0.001,2
09AR20071216,    CEAMARC,      50,          1,          4,          4,2,20080105,       0145,   -65.8053,   142.9773,        976,   932.1,  -0.7107,  34.5919,2,-999.0000,9,   262.98,2, -999.00,9,  -999.0,9, -999.00,9,-999.0000,9,-999.0000,9,-999.0000,9,  -999.0,9,  -999.0,9,  -0.026,2, -999.00,9,      0.001,2
09AR20071216,    CEAMARC,      50,          1,          3,          3,2,20080105,       0145,   -65.8053,   142.9773,        976,   932.0,  -0.7120,  34.5902,2,  34.5913,2,   262.98,2,  259.49,2,    92.9,2,    2.16,2,   2.8703,2,   1.4877,2,   0.2337,2,  2242.1,2,    2346,2,  -0.031,2,   31.39,2,      0.001,2
09AR20071216,    CEAMARC,      50,          1,          2,          2,2,20080105,       0145,   -65.8053,   142.9773,        976,   988.0,  -0.9161,  34.5858,2,-999.0000,9,   269.13,2, -999.00,9,  -999.0,9, -999.00,9,-999.0000,9,-999.0000,9,-999.0000,9,  -999.0,9,  -999.0,9,  -0.020,2, -999.00,9,      0.001,2
09AR20071216,    CEAMARC,      50,          1,          1,          1,2,20080105,       0145,   -65.8053,   142.9773,        976,   987.6,  -0.9074,  34.5863,2,  34.5868,2,   269.13,2,  268.44,2,    88.4,2,    2.15,2,   3.3991,6,   1.7822,6,   0.2555,6,  2241.4,2,  2341.9,6,  -0.023,2,   31.35,2,      0.001,2