BOTTLE,20230622CCHSIOENA
EXPOCODE,SECT_ID,STNNBR,CASTNO,SAMPNO,BTLNBR,BTLNBR_FLAG_W,DATE,TIME,LATITUDE,LONGITUDE,DEPTH,CTDPRS,CTDTMP,CTDSAL,CTDSAL_FLAG_W,SALNTY,SALNTY_FLAG_W,CTDOXY,CTDOXY_FLAG_W,OXYGEN,OXYGEN_FLAG_W,SILCAT,SILCAT_FLAG_W,PHSPHT,PHSPHT_FLAG_W,CFC-11,CFC-11_FLAG_W,CFC-12,CFC-12_FLAG_W,CFC113,CFC113_FLAG_W,TCARBN,TCARBN_FLAG_W,ALKALI,ALKALI_FLAG_W,FLUOR,FLUOR_FLAG_W,NO2+NO3,NO2+NO3_FLAG_W,PAR,PAR_FLAG_W
,,,,,,,,,,,METERS,DBAR,ITS-90,PSS-78,,PSS-78,,UMOL/KG,,UMOL/KG,,UMOL/KG,,UMOL/KG,,PMOL/KG,,PMOL/KG,,PMOL/KG,,UMOL/KG,,UMOL/KG,,MG/M^3,,UMOL/KG,,VOLTS,
09AR20071216,    CEAMARC,       9,          1,         24,         24,2,20071225,       0025,   -66.3297,   143.2857,        685,     4.0,  -0.5499,  34.2264,2,  34.2311,2,   371.18,2,  371.05,2,    49.0,2,    1.48,2,   6.4632,2,   3.1804,2,   0.5960,2,  2175.6,6,  2320.8,6,   2.327,2,   24.91,2,      3.432,2
09AR20071216,    CEAMARC,       9,          1,         23,         23,2,20071225,       0025,   -66.3297,   143.2857,        685,    23.9,  -0.9978,  34.2466,2,-999.0000,9,   366.65,2, -999.00,9,  -999.0,9, -999.00,9,-999.0000,9,-999.0000,9,-999.0000,9,  -999.0,9,  -999.0,9,  10.512,2, -999.00,9,      2.106,2
09AR20071216,    CEAMARC,       9,          1,         22,         22,2,20071225,       0025,   -66.3297,   143.2857,        685,    24.1,  -0.9813,  34.2483,2,-999.0000,9,   366.65,2, -999.00,9,  -999.0,9, -999.00,9,-999.0000,9,-999.0000,9,-999.0000,9,  -999.0,9,  -999.0,9,   9.332,2, -999.00,9,      2.101,2
09AR20071216,    CEAMARC,       9,          1,         21,         21,2,20071225,       0025,   -66.3297,   143.2857,        685,    24.0,  -1.0100,  34.2459,2,  34.2436,2,   366.65,2, -999.00,9,    49.9,2,    1.62,2,   6.1943,2,   3.1130,2,   0.5201,2,  2179.9,2,    2320,2,   9.547,2,   25.39,2,      2.123,2
09AR20071216,    CEAMARC,       9,          1,         20,         20,2,20071225,       0025,   -66.3297,   143.2857,        685,    48.8,  -1.3571,  34.3035,2,-999.0000,9,   347.78,2, -999.00,9,  -999.0,9, -999.00,9,-999.0000,9,-999.0000,9,-999.0000,9,  -999.0,9,  -999.0,9,   3.978,2, -999.00,9,      0.907,2
09AR20071216,    CEAMARC,       9,          1,         19,         19,2,20071225,       0025,   -66.3297,   143.2857,        685,    48.8,  -1.3705,  34.3009,2,  34.3004,2,   347.78,2,  337.08,2,    57.6,2,    1.90,2,   5.7974,2,   2.9963,2,   0.4936,2,    2202,3,  2320.9,2,   4.052,2,   27.19,2,      0.919,2
09AR20071216,    CEAMARC,       9,          1,         18,         18,2,20071225,       0025,   -66.3297,   143.2857,        685,    79.8,  -1.6988,  34.3831,2,-999.0000,9,   320.38,2, -999.00,9,  -999.0,9, -999.00,9,-999.0000,9,-999.0000,9,-999.0000,9,  -999.0,9,  -999.0,9,   0.773,2, -999.00,9,      0.001,2
09AR20071216,    CEAMARC,       9,          1,         17,         17,2,20071225,       0025,   -66.3297,   143.2857,        685,    79.8,  -1.6994,  34.3841,2,  34.3850,2,   320.38,2,  316.15,2,    68.5,2,    2.11,2,   5.2292,2,   2.6443,2,   0.4182,2,  2221.8,2,  2325.2,2,   0.759,2,   29.96,2,      0.001,2
09AR20071216,    CEAMARC,       9,          1,         16,         16,2,20071225,       0025,   -66.3297,   143.2857,        685,   120.1,  -1.3413,  34.4486,2,-999.0000,9,   289.73,2, -999.00,9,  -999.0,9, -999.00,9,-999.0000,9,-999.0000,9,-999.0000,9,  -999.0,9,  -999.0,9,   0.016,2, -999.00,9,      0.001,2
09AR20071216,    CEAMARC,       9,          1,         15,         15,2,20071225,       0025,   -66.3297,   143.2857,        685,   118.9,  -1.3435,  34.4486,2,  34.4476,2,   295.64,2,  280.28,2,    78.6,2,    2.18,2,   4.1064,2,   2.1116,2,   0.3687,2,  2233.6,2,  2329.6,2,   0.014,2,   31.15,2,      0.001,2
09AR20071216,    CEAMARC,       9,          1,         14,         14,2,20071225,       0025,   -66.3297,   143.2857,        685,   173.8,  -0.9686,  34.5007,2,-999.0000,9,   268.84,2, -999.00,9,  -999.0,9, -999.00,9,-999.0000,9,-999.0000,9,-999.0000,9,  -999.0,9,  -999.0,9,  -0.015,2, -999.00,9,      0.001,2
09AR20071216,    CEAMARC,       9,          1,         13,         13,2,20071225,       0025,   -66.3297,   143.2857,        685,   173.8,  -0.9640,  34.5009,2,  34.4995,2,   268.84,2,  268.20,2,    83.2,2,    2.19,2,   3.7559,2,   1.8610,2,   0.3510,2,  2238.2,2,  2336.1,2,  -0.012,2,   31.27,2,      0.001,2
09AR20071216,    CEAMARC,       9,          1,         12,         12,2,20071225,       0025,   -66.3297,   143.2857,        685,   243.2,  -1.7121,  34.5243,2,-999.0000,9,   309.08,2, -999.00,9,  -999.0,9, -999.00,9,-999.0000,9,-999.0000,9,-999.0000,9,  -999.0,9,  -999.0,9,   0.061,2, -999.00,9,      0.001,2
09AR20071216,    CEAMARC,       9,          1,         11,         11,2,20071225,       0025,   -66.3297,   143.2857,        685,   242.4,  -1.7082,  34.5236,2,  34.5226,2,   309.11,2,  311.50,2,    77.7,2,    2.17,2,   4.8331,2,   2.5654,2,   0.3525,2,  2234.7,2,    2335,2,   0.047,2,   31.20,2,      0.001,2
09AR20071216,    CEAMARC,       9,          1,         10,         10,2,20071225,       0025,   -66.3297,   143.2857,        685,   298.3,  -1.8802,  34.5613,2,  34.5615,2,   308.60,2,  312.63,2,    78.0,2,    2.15,2,   5.1657,2,   2.6079,2,   0.4625,2,  2238.1,2,  2336.1,2,  -0.012,2,   31.10,2,      0.001,2
09AR20071216,    CEAMARC,       9,          1,          9,          9,2,20071225,       0025,   -66.3297,   143.2857,        685,   299.2,  -1.8804,  34.5615,2,-999.0000,9,   309.22,2, -999.00,9,  -999.0,9, -999.00,9,-999.0000,9,-999.0000,9,-999.0000,9,  -999.0,9,  -999.0,9,  -0.017,2, -999.00,9,      0.001,2
09AR20071216,    CEAMARC,       9,          1,          8,          8,2,20071225,       0025,   -66.3297,   143.2857,        685,   400.9,  -1.8983,  34.5999,2,-999.0000,9,   311.38,2, -999.00,9,  -999.0,9, -999.00,9,-999.0000,9,-999.0000,9,-999.0000,9,  -999.0,9,  -999.0,9,  -0.026,2, -999.00,9,      0.001,2
09AR20071216,    CEAMARC,       9,          1,          7,          7,2,20071225,       0025,   -66.3297,   143.2857,        685,   400.0,  -1.8982,  34.6002,2,  34.6036,2,   311.38,2,  311.05,2,    78.0,2,    2.17,2,   5.2113,2,   2.5617,2,   0.4712,2,  2238.8,2,    2341,2,  -0.028,2,   31.14,2,      0.001,2
09AR20071216,    CEAMARC,       9,          1,          6,          6,2,20071225,       0025,   -66.3297,   143.2857,        685,   501.5,  -1.8953,  34.6286,2,-999.0000,9,   311.56,2, -999.00,9,  -999.0,9, -999.00,9,-999.0000,9,-999.0000,9,-999.0000,9,  -999.0,9,  -999.0,9,  -0.031,2, -999.00,9,      0.001,2
09AR20071216,    CEAMARC,       9,          1,          5,          5,2,20071225,       0025,   -66.3297,   143.2857,        685,   501.7,  -1.8957,  34.6295,2,  34.6293,2,   311.56,2,  311.13,2,    78.0,2,    2.15,2,   5.0157,6,   2.5600,6,   0.4144,6,  2240.5,2,  2342.6,2,  -0.032,2,   31.11,2,      0.001,2
09AR20071216,    CEAMARC,       9,          1,          4,          4,2,20071225,       0025,   -66.3297,   143.2857,        685,   598.2,  -1.8986,  34.6565,2,-999.0000,9,   312.08,2, -999.00,9,  -999.0,9, -999.00,9,-999.0000,9,-999.0000,9,-999.0000,9,  -999.0,9,  -999.0,9,  -0.022,2, -999.00,9,      0.001,2
09AR20071216,    CEAMARC,       9,          1,          3,          3,2,20071225,       0025,   -66.3297,   143.2857,        685,   598.3,  -1.8986,  34.6570,2,  34.6570,2,   312.08,2,  311.04,2,    78.0,2,    2.15,2,   5.0971,2,   2.5734,2,   0.4383,2,  2241.8,2,  2345.2,2,  -0.027,2,   31.01,2,      0.001,2
09AR20071216,    CEAMARC,       9,          1,          2,          2,2,20071225,       0025,   -66.3297,   143.2857,        685,   672.0,  -1.8940,  34.6745,2,-999.0000,9,   313.21,2, -999.00,9,  -999.0,9, -999.00,9,-999.0000,9,-999.0000,9,-999.0000,9,  -999.0,9,  -999.0,9,  -0.025,2, -999.00,9,      0.001,2
09AR20071216,    CEAMARC,       9,          1,          1,          1,2,20071225,       0025,   -66.3297,   143.2857,        685,   671.6,  -1.8940,  34.6745,2,  34.6744,2,   313.21,2,  311.46,2,    79.3,2,    2.16,2,   5.1132,2,   2.6107,2,   0.4380,2,  2244.5,6,  2345.3,6,  -0.023,2,   31.01,2,      0.001,2
09AR20071216,    CEAMARC,      10,          1,         24,         24,2,20071225,       0637,   -66.3373,   142.9862,        649,     6.5,  -0.6399,  34.3308,2,  34.3206,2,   371.67,2,  380.66,2,    51.7,2,    1.40,2,   6.4115,6,   3.1697,6,   0.5234,6,  2171.2,2,  2328.7,6,  12.611,2,   24.39,2,      2.937,2
09AR20071216,    CEAMARC,      10,          1,         23,         23,2,20071225,       0637,   -66.3373,   142.9862,        649,     6.3,  -0.5316,  34.3185,2,-999.0000,9,   371.67,2, -999.00,9,  -999.0,9, -999.00,9,-999.0000,9,-999.0000,9,-999.0000,9,  -999.0,9,  -999.0,9,  10.099,2, -999.00,9,      2.966,2
09AR20071216,    CEAMARC,      10,          1,         22,         22,2,20071225,       0637,   -66.3373,   142.9862,        649,     6.4,  -0.4252,  34.3003,2,-999.0000,9,   371.67,2, -999.00,9,  -999.0,9, -999.00,9,-999.0000,9,-999.0000,9,-999.0000,9,  -999.0,9,  -999.0,9,   8.795,2, -999.00,9,      2.956,2
09AR20071216,    CEAMARC,      10,          1,         21,         21,2,20071225,       0637,   -66.3373,   142.9862,        649,     6.4,  -0.6046,  34.3279,2,-999.0000,9,   371.67,2, -999.00,9,  -999.0,9, -999.00,9,-999.0000,9,-999.0000,9,-999.0000,9,  -999.0,9,  -999.0,9,  11.916,2, -999.00,9,      2.961,2
09AR20071216,    CEAMARC,      10,          1,         20,         20,2,20071225,       0637,   -66.3373,   142.9862,        649,    19.3,  -0.9246,  34.3561,2,  34.3533,2,   370.94,2,  371.57,2,    55.7,2,    1.54,2,   6.1722,2,   3.1525,2,   0.4778,2,  2184.8,2,    2329,2,  14.269,2,   25.47,2,      1.861,2
09AR20071216,    CEAMARC,      10,          1,         19,         19,2,20071225,       0637,   -66.3373,   142.9862,        649,    19.3,  -0.9083,  34.3545,2,-999.0000,9,   370.94,2, -999.00,9,  -999.0,9, -999.00,9,-999.0000,9,-999.0000,9,-999.0000,9,  -999.0,9,  -999.0,9,  14.389,2, -999.00,9,      1.855,2
09AR20071216,    CEAMARC,      10,          1,         18,         18,2,20071225,       0637,   -66.3373,   142.9862,        649,    49.2,  -1.2677,  34.3945,2,  34.3946,2,   338.84,2, -999.00,9,    64.7,2,    1.87,2,   5.8742,2,   2.9755,2,   0.4296,2,  2094.6,3,  2329.5,2,   4.764,2,   28.39,2,      0.113,2
09AR20071216,    CEAMARC,      10,          1,         17,         17,2,20071225,       0637,   -66.3373,   142.9862,        649,    49.0,  -1.2649,  34.3943,2,-999.0000,9,   338.84,2, -999.00,9,  -999.0,9, -999.00,9,-999.0000,9,-999.0000,9,-999.0000,9,  -999.0,9,  -999.0,9,   4.757,2, -999.00,9,      0.132,2
09AR20071216,    CEAMARC,      10,          1,         16,         16,2,20071225,       0637,   -66.3373,   142.9862,        649,   100.1,  -1.6152,  34.4514,2,  34.4501,2,   317.39,2,  310.39,2,    76.0,2,    2.12,2,   4.9147,2,   2.5511,2,   0.3929,2,  2167.7,3,  2331.4,2,   0.237,2,   31.05,2,      0.001,2
09AR20071216,    CEAMARC,      10,          1,         15,         15,2,20071225,       0637,   -66.3373,   142.9862,        649,    99.8,  -1.6149,  34.4509,2,-999.0000,9,   317.39,2, -999.00,9,  -999.0,9, -999.00,9,-999.0000,9,-999.0000,9,-999.0000,9,  -999.0,9,  -999.0,9,   0.247,2, -999.00,9,      0.001,2
09AR20071216,    CEAMARC,      10,          1,         14,         14,2,20071225,       0637,   -66.3373,   142.9862,        649,   151.0,  -1.6887,  34.4824,2,  34.4807,2,   302.79,2,  305.31,2,    78.4,2,    2.14,2,   4.8682,2,   2.4463,2,   0.3893,2,  2229.4,2,  2331.8,2,   0.086,2,   31.19,2,      0.001,2
09AR20071216,    CEAMARC,      10,          1,         13,         13,2,20071225,       0637,   -66.3373,   142.9862,        649,   150.8,  -1.6357,  34.4814,2,-999.0000,9,   302.98,2, -999.00,9,  -999.0,9, -999.00,9,-999.0000,9,-999.0000,9,-999.0000,9,  -999.0,9,  -999.0,9,   0.099,2, -999.00,9,      0.001,2
09AR20071216,    CEAMARC,      10,          1,         12,         12,2,20071225,       0637,   -66.3373,   142.9862,        649,   200.5,  -1.8806,  34.4947,2,  34.4942,2,   306.55,2,  309.55,2,    78.4,2,    2.15,2,   5.0006,2,   2.5364,2,   0.3936,2,  2231.7,2,  2331.7,2,  -0.006,2,   31.11,2,      0.001,2
09AR20071216,    CEAMARC,      10,          1,         11,         11,2,20071225,       0637,   -66.3373,   142.9862,        649,   200.3,  -1.8739,  34.4945,2,-999.0000,9,   306.55,2, -999.00,9,  -999.0,9, -999.00,9,-999.0000,9,-999.0000,9,-999.0000,9,  -999.0,9,  -999.0,9,  -0.009,2, -999.00,9,      0.001,2
09AR20071216,    CEAMARC,      10,          1,         10,         10,2,20071225,       0637,   -66.3373,   142.9862,        649,   300.4,  -1.8786,  34.5275,2,  34.5267,2,   308.65,2,  310.63,2,    78.1,2,    2.14,2,   4.9449,2,   2.5522,2,   0.3912,2,  2232.8,2,  2337.3,2,  -0.014,2,   31.05,2,      0.001,2
09AR20071216,    CEAMARC,      10,          1,          9,          9,2,20071225,       0637,   -66.3373,   142.9862,        649,   300.5,  -1.8789,  34.5274,2,-999.0000,9,   308.65,2, -999.00,9,  -999.0,9, -999.00,9,-999.0000,9,-999.0000,9,-999.0000,9,  -999.0,9,  -999.0,9,  -0.013,2, -999.00,9,      0.001,2
09AR20071216,    CEAMARC,      10,          1,          8,          8,2,20071225,       0637,   -66.3373,   142.9862,        649,   402.3,  -1.8797,  34.5577,2,  34.5566,2,   312.26,2,  314.06,2,    77.7,2,    2.15,2,   5.2799,2,   2.6080,2,   0.4382,2,    2174,3,    2339,2,   0.009,2,   31.24,2,      0.001,2
09AR20071216,    CEAMARC,      10,          1,          7,          7,2,20071225,       0637,   -66.3373,   142.9862,        649,   402.0,  -1.8790,  34.5571,2,-999.0000,9,   312.26,2, -999.00,9,  -999.0,9, -999.00,9,-999.0000,9,-999.0000,9,-999.0000,9,  -999.0,9,  -999.0,9,   0.013,2, -999.00,9,      0.001,2
09AR20071216,    CEAMARC,      10,          1,          6,          6,2,20071225,       0637,   -66.3373,   142.9862,        649,   482.5,  -1.8876,  34.5900,2,  34.5891,2,   313.71,2,  315.06,2,    77.7,2,    2.15,2,   5.1455,2,   2.6352,2,   0.3865,2,  2227.6,2,  2340.7,2,  -0.020,2,   31.10,2,      0.001,2
09AR20071216,    CEAMARC,      10,          1,          5,          5,2,20071225,       0637,   -66.3373,   142.9862,        649,   482.1,  -1.8877,  34.5897,2,-999.0000,9,   313.71,2, -999.00,9,  -999.0,9, -999.00,9,-999.0000,9,-999.0000,9,-999.0000,9,  -999.0,9,  -999.0,9,  -0.011,2, -999.00,9,      0.001,2
09AR20071216,    CEAMARC,      10,          1,          4,          4,2,20071225,       0637,   -66.3373,   142.9862,        649,   583.5,  -1.8965,  34.6381,2,  34.6381,2,   312.17,2,  309.78,2,    77.7,2,    2.15,2,   5.0281,2,   2.5687,2,   0.3601,2,  2238.2,2,  2343.3,2,  -0.029,2,   30.88,2,      0.001,2
09AR20071216,    CEAMARC,      10,          1,          3,          3,2,20071225,       0637,   -66.3373,   142.9862,        649,   583.5,  -1.8967,  34.6381,2,-999.0000,9,   312.17,2, -999.00,9,  -999.0,9, -999.00,9,-999.0000,9,-999.0000,9,-999.0000,9,  -999.0,9,  -999.0,9,  -0.032,2, -999.00,9,      0.001,2
09AR20071216,    CEAMARC,      10,          1,          2,          2,2,20071225,       0637,   -66.3373,   142.9862,        649,   637.6,  -1.8919,  34.6585,2,  34.6590,2,   313.24,2,  311.60,2,    78.3,2,    2.14,2,   5.0053,2,   2.5875,2,   0.3838,2,  2242.7,2,  2343.5,6,  -0.028,2,   30.95,2,      0.001,2
09AR20071216,    CEAMARC,      10,          1,          1,          1,2,20071225,       0637,   -66.3373,   142.9862,        649,   638.6,  -1.8919,  34.6589,2,-999.0000,9,   313.24,2, -999.00,9,  -999.0,9, -999.00,9,-999.0000,9,-999.0000,9,-999.0000,9,  -999.0,9,  -999.0,9,  -0.019,2, -999.00,9,      0.001,2