BOTTLE,20230622CCHSIOENA
EXPOCODE,SECT_ID,STNNBR,CASTNO,SAMPNO,BTLNBR,BTLNBR_FLAG_W,DATE,TIME,LATITUDE,LONGITUDE,DEPTH,CTDPRS,CTDTMP,CTDSAL,CTDSAL_FLAG_W,SALNTY,SALNTY_FLAG_W,CTDOXY,CTDOXY_FLAG_W,OXYGEN,OXYGEN_FLAG_W,SILCAT,SILCAT_FLAG_W,PHSPHT,PHSPHT_FLAG_W,CFC-11,CFC-11_FLAG_W,CFC-12,CFC-12_FLAG_W,CFC113,CFC113_FLAG_W,TCARBN,TCARBN_FLAG_W,ALKALI,ALKALI_FLAG_W,FLUOR,FLUOR_FLAG_W,NO2+NO3,NO2+NO3_FLAG_W,PAR,PAR_FLAG_W
,,,,,,,,,,,METERS,DBAR,ITS-90,PSS-78,,PSS-78,,UMOL/KG,,UMOL/KG,,UMOL/KG,,UMOL/KG,,PMOL/KG,,PMOL/KG,,PMOL/KG,,UMOL/KG,,UMOL/KG,,MG/M^3,,UMOL/KG,,VOLTS,
09AR20071216,       SR03,     123,          1,         24,         24,2,20080119,       2335,   -65.4307,   139.8512,       1812,     9.8,   0.6203,  33.6087,2,-999.0000,9,   346.85,2, -999.00,9,  -999.0,9, -999.00,9,-999.0000,9,-999.0000,9,-999.0000,9,  -999.0,9,  -999.0,9,   0.601,2, -999.00,9,      3.045,2
09AR20071216,       SR03,     123,          1,         23,         23,2,20080119,       2335,   -65.4307,   139.8512,       1812,     9.8,   0.6304,  33.6074,2,-999.0000,9,   346.85,2, -999.00,9,  -999.0,9, -999.00,9,-999.0000,9,-999.0000,9,-999.0000,9,  -999.0,9,  -999.0,9,   0.649,2, -999.00,9,      3.036,2
09AR20071216,       SR03,     123,          1,         22,         22,2,20080119,       2335,   -65.4307,   139.8512,       1812,     9.8,   0.6256,  33.6085,2,-999.0000,9,   346.85,2, -999.00,9,  -999.0,9, -999.00,9,-999.0000,9,-999.0000,9,-999.0000,9,  -999.0,9,  -999.0,9,   0.660,2, -999.00,9,      3.034,2
09AR20071216,       SR03,     123,          1,         21,         21,2,20080119,       2335,   -65.4307,   139.8512,       1812,     9.7,   0.5998,  33.6126,2,  33.6130,2,   346.85,2,  346.76,2,    38.1,2,    1.77,2,   6.3019,2,   3.2257,2,   0.5090,2,  2148.4,6,  2273.7,2,   0.684,2,   27.12,2,      3.036,2
09AR20071216,       SR03,     123,          1,         20,         20,2,20080119,       2335,   -65.4307,   139.8512,       1812,    30.5,   0.1396,  33.6814,2,  33.6768,2,   343.14,2,  346.82,2,    38.9,2,    1.80,2,   6.3611,2,   3.2428,2,   0.5407,2,  2151.9,2,  2277.9,6,   1.390,2,   27.19,2,      2.542,2
09AR20071216,       SR03,     123,          1,         19,         19,2,20080119,       2335,   -65.4307,   139.8512,       1812,    30.4,  -0.0311,  33.7118,2,-999.0000,9,   343.14,2, -999.00,9,  -999.0,9, -999.00,9,-999.0000,9,-999.0000,9,-999.0000,9,  -999.0,9,  -999.0,9,   1.470,2, -999.00,9,      2.552,2
09AR20071216,       SR03,     123,          1,         18,         18,2,20080119,       2335,   -65.4307,   139.8512,       1812,    59.0,  -1.3531,  34.1684,2,  34.1667,2,   332.70,2,  319.16,2,    50.2,2,    2.01,2,   5.1029,2,   2.6203,2,   0.4054,2,  2194.6,2,  2310.4,6,   1.392,2,   29.24,2,      1.865,2
09AR20071216,       SR03,     123,          1,         17,         17,2,20080119,       2335,   -65.4307,   139.8512,       1812,    59.1,  -1.3514,  34.1720,2,-999.0000,9,   328.14,2, -999.00,9,  -999.0,9, -999.00,9,-999.0000,9,-999.0000,9,-999.0000,9,  -999.0,9,  -999.0,9,   1.317,2, -999.00,9,      1.849,2
09AR20071216,       SR03,     123,          1,         16,         16,2,20080119,       2335,   -65.4307,   139.8512,       1812,   100.6,  -1.3012,  34.3804,2,  34.3807,2,   287.65,2,  285.34,2,    67.4,2,    2.16,2,   4.1331,2,   2.1416,2,   0.3444,2,  2221.1,2,    2323,2,   0.480,2,   31.11,2,      0.961,2
09AR20071216,       SR03,     123,          1,         15,         15,2,20080119,       2335,   -65.4307,   139.8512,       1812,   100.6,  -1.2997,  34.3801,2,-999.0000,9,   287.65,2, -999.00,9,  -999.0,9, -999.00,9,-999.0000,9,-999.0000,9,-999.0000,9,  -999.0,9,  -999.0,9,   0.484,2, -999.00,9,      0.961,2
09AR20071216,       SR03,     123,          1,         14,         14,2,20080119,       2335,   -65.4307,   139.8512,       1812,   150.0,  -1.2522,  34.4435,2,  34.4434,2,   276.31,2,  277.46,2,    73.9,2,    2.18,2,   3.7894,2,   1.9659,2,   0.3050,2,  2227.8,2,  2329.9,2,   0.076,2,   31.67,2,      0.185,2
09AR20071216,       SR03,     123,          1,         13,         13,2,20080119,       2335,   -65.4307,   139.8512,       1812,   149.9,  -1.2496,  34.4441,2,-999.0000,9,   276.31,2, -999.00,9,  -999.0,9, -999.00,9,-999.0000,9,-999.0000,9,-999.0000,9,  -999.0,9,  -999.0,9,   0.070,2, -999.00,9,      0.197,2
09AR20071216,       SR03,     123,          1,         12,         12,2,20080119,       2335,   -65.4307,   139.8512,       1812,   199.6,  -0.9977,  34.4816,2,  34.4819,2,   264.39,2,  265.98,2,    78.0,2,    2.19,2,   3.6071,2,   1.8616,2,   0.2860,2,  2239.1,2,  2332.1,2,  -0.012,2,   31.74,2,      0.001,2
09AR20071216,       SR03,     123,          1,         11,         11,2,20080119,       2335,   -65.4307,   139.8512,       1812,   199.3,  -1.0011,  34.4814,2,-999.0000,9,   264.39,2, -999.00,9,  -999.0,9, -999.00,9,-999.0000,9,-999.0000,9,-999.0000,9,  -999.0,9,  -999.0,9,  -0.006,2, -999.00,9,      0.001,2
09AR20071216,       SR03,     123,          1,         10,         10,2,20080119,       2335,   -65.4307,   139.8512,       1812,   299.5,  -0.0998,  34.5772,2,  34.5799,2,   234.24,2,  235.38,2,    88.0,2,    2.22,2,   2.3551,2,   1.2170,2,   0.1825,2,  2245.7,2,  2340.2,2,  -0.044,2,   31.90,2,      0.001,2
09AR20071216,       SR03,     123,          1,          9,          9,2,20080119,       2335,   -65.4307,   139.8512,       1812,   400.7,   0.5776,  34.6525,2,  34.6525,2,   215.94,2,  215.43,2,    94.2,2,    2.22,2,-999.0000,9,-999.0000,9,-999.0000,9,  2250.7,2,  2344.7,2,  -0.038,2,   31.87,2,      0.001,2
09AR20071216,       SR03,     123,          1,          8,          8,2,20080119,       2335,   -65.4307,   139.8512,       1812,   599.6,   0.4830,  34.6663,2,  34.6672,2,   212.59,2,  213.12,2,   104.5,2,    2.26,2,   0.9849,2,   0.5163,2,   0.0642,2,  2252.2,2,  2352.2,2,  -0.036,2,   32.19,2,      0.001,2
09AR20071216,       SR03,     123,          1,          7,          7,2,20080119,       2335,   -65.4307,   139.8512,       1812,   800.1,   0.3245,  34.6652,2,  34.6654,2,   215.71,2,  215.99,2,   108.6,2,    2.26,2,-999.0000,9,-999.0000,9,-999.0000,9,  2266.1,3,  2354.1,2,  -0.038,2,   32.46,2,      0.001,2
09AR20071216,       SR03,     123,          1,          6,          6,2,20080119,       2335,   -65.4307,   139.8512,       1812,   999.4,   0.1936,  34.6710,2,  34.6715,2,   218.43,2,  218.29,2,   113.7,2,    2.29,2,   1.0749,2,   0.5474,2,   0.0743,2,  2251.8,2,  2355.2,2,  -0.037,2,   32.57,2,      0.001,2
09AR20071216,       SR03,     123,          1,          5,          5,2,20080119,       2335,   -65.4307,   139.8512,       1812,  1199.2,   0.1716,  34.6724,2,  34.6725,2,   219.51,2,  221.08,2,   114.3,2,    2.28,2,   1.0992,2,   0.5583,2,   0.0736,2,  2255.3,2,  2354.9,2,  -0.040,2,   32.37,2,      0.001,2
09AR20071216,       SR03,     123,          1,          4,          4,2,20080119,       2335,   -65.4307,   139.8512,       1812,  1399.2,  -0.1030,  34.6588,2,  34.6593,2,   233.08,2,  230.37,2,   108.5,2,    2.26,2,   1.5993,2,   0.8246,2,   0.1138,2,  2252.6,2,  2350.2,2,  -0.044,2,   32.23,2,      0.001,2
09AR20071216,       SR03,     123,          1,          3,          3,2,20080119,       2335,   -65.4307,   139.8512,       1812,  1599.0,  -0.2590,  34.6509,2,  34.6505,2,   237.00,2,  238.50,2,   104.8,2,    2.25,2,   1.9205,2,   0.9967,2,   0.1476,2,  2252.4,2,  2350.2,2,  -0.036,2,   31.99,2,      0.001,2
09AR20071216,       SR03,     123,          1,          2,          2,2,20080119,       2335,   -65.4307,   139.8512,       1812,  1751.5,  -0.2455,  34.6512,2,  34.6509,2,   238.30,2,  238.19,2,   104.6,2,    2.25,2,   1.9347,2,   1.0127,2,   0.1317,2,  2251.5,2,    2351,6,  -0.038,2,   31.88,2,      0.001,2
09AR20071216,       SR03,     123,          1,          1,          1,2,20080119,       2335,   -65.4307,   139.8512,       1812,  1843.0,  -0.3782,  34.6445,2,  34.6442,2,   243.69,2,  243.45,2,   101.6,2,    2.23,2,   2.2631,2,   1.1683,2,   0.1688,2,  2249.3,6,    2349,2,  -0.036,2,   31.74,2,      0.001,2
09AR20071216,       SR03,     124,          1,         24,         24,2,20080120,       0157,   -65.3983,   139.8593,       2405,     9.4,   0.6872,  33.6342,2,  33.6354,2,   347.38,2,  346.81,2,    38.7,2,    1.78,2,   6.2131,2,   2.9939,2,   0.5255,2,  2157.1,6,  2276.3,2,   0.621,2,   26.77,2,      3.128,2
09AR20071216,       SR03,     124,          1,         23,         23,2,20080120,       0157,   -65.3983,   139.8593,       2405,     9.5,   0.6875,  33.6342,2,-999.0000,9,   347.38,2, -999.00,9,  -999.0,9, -999.00,9,-999.0000,9,-999.0000,9,-999.0000,9,  -999.0,9,  -999.0,9,   0.618,2, -999.00,9,      3.123,2
09AR20071216,       SR03,     124,          1,         22,         22,2,20080120,       0157,   -65.3983,   139.8593,       2405,     9.3,   0.6860,  33.6337,2,-999.0000,9,   347.38,2, -999.00,9,  -999.0,9, -999.00,9,-999.0000,9,-999.0000,9,-999.0000,9,  -999.0,9,  -999.0,9,   0.614,2, -999.00,9,      3.147,2
09AR20071216,       SR03,     124,          1,         21,         21,2,20080120,       0157,   -65.3983,   139.8593,       2405,     9.2,   0.6883,  33.6346,2,-999.0000,9,   347.38,2, -999.00,9,  -999.0,9, -999.00,9,-999.0000,9,-999.0000,9,-999.0000,9,  -999.0,9,  -999.0,9,   0.445,2, -999.00,9,      3.158,2
09AR20071216,       SR03,     124,          1,         20,         20,2,20080120,       0157,   -65.3983,   139.8593,       2405,    29.7,  -0.6828,  33.8726,2,  33.8023,4,   346.18,2,  345.42,2,    40.2,2,    1.83,2,   5.9808,2,   3.1147,2,   0.4900,2,  2164.2,2,  2284.7,6,   1.350,2,   26.53,3,      2.570,2
09AR20071216,       SR03,     124,          1,         19,         19,2,20080120,       0157,   -65.3983,   139.8593,       2405,    29.7,  -0.5686,  33.8485,2,-999.0000,9,   346.18,2, -999.00,9,  -999.0,9, -999.00,9,-999.0000,9,-999.0000,9,-999.0000,9,  -999.0,9,  -999.0,9,   1.385,2, -999.00,9,      2.567,2
09AR20071216,       SR03,     124,          1,         18,         18,2,20080120,       0157,   -65.3983,   139.8593,       2405,    58.3,  -1.3803,  34.1512,2,  34.1443,2,   325.24,2,  325.94,2,    48.7,2,    1.99,2,   5.2608,2,   2.7136,2,   0.4243,2,  2200.4,2,    2308,6,   1.526,2,   28.15,2,      1.904,2
09AR20071216,       SR03,     124,          1,         17,         17,2,20080120,       0157,   -65.3983,   139.8593,       2405,    99.8,  -1.4948,  34.3708,2,  34.3721,2,   294.57,2,  294.99,2,    67.0,2,    2.15,2,   4.4536,2,   2.3142,2,   0.3590,2,  2221.7,2,    2322,2,   0.430,2,   31.00,2,      1.000,2
09AR20071216,       SR03,     124,          1,         16,         16,2,20080120,       0157,   -65.3983,   139.8593,       2405,   200.4,  -0.6479,  34.5102,2,  34.5107,2,   260.48,2,  254.64,2,    81.3,2,    2.21,2,   3.1126,2,   1.6281,2,   0.2263,2,  2238.1,2,    2334,2,  -0.024,2,   32.35,2,      0.001,2
09AR20071216,       SR03,     124,          1,         15,         15,2,20080120,       0157,   -65.3983,   139.8593,       2405,   349.3,  -0.2174,  34.5722,2,  34.5723,2,   235.85,2,  240.77,2,    89.2,2,    2.23,2,   2.3723,2,   1.2515,2,   0.1784,2,  2243.5,2,  2338.9,2,  -0.038,2,   32.30,2,      0.001,2
09AR20071216,       SR03,     124,          1,         14,         14,2,20080120,       0157,   -65.3983,   139.8593,       2405,   502.0,   0.6403,  34.6702,2,  34.6709,2,   213.99,2,  213.86,2,    99.8,2,    2.26,2,   1.0447,2,   0.5395,2,   0.0702,2,  2263.9,3,  2353.7,2,  -0.035,2,   32.36,2,      0.001,2
09AR20071216,       SR03,     124,          1,         13,         13,2,20080120,       0157,   -65.3983,   139.8593,       2405,   648.3,   0.4987,  34.6694,2,  34.6693,2,   213.38,2,  212.82,2,   105.5,2,    2.27,2,   0.9783,2,   0.5053,2,   0.0654,2,  2257.1,2,  2355.9,2,  -0.033,2,   32.64,2,      0.001,2
09AR20071216,       SR03,     124,          1,         12,         12,2,20080120,       0157,   -65.3983,   139.8593,       2405,   802.1,   0.5515,  34.6848,2,  34.6848,2,   210.62,2,  210.86,2,   111.7,2,    2.26,2,   0.6709,2,   0.3470,2,   0.0436,2,  2258.7,2,  2351.8,2,  -0.035,2,   32.94,2,      0.001,2
09AR20071216,       SR03,     124,          1,         11,         11,2,20080120,       0157,   -65.3983,   139.8593,       2405,   998.9,   0.3084,  34.6732,2,  34.6731,2,   217.63,2,  215.86,2,   112.9,2,    2.28,2,   0.9258,2,   0.4822,2,   0.0575,2,  2263.7,2,  2353.7,2,  -0.035,2,   33.44,3,      0.001,2
09AR20071216,       SR03,     124,          1,         10,         10,2,20080120,       0157,   -65.3983,   139.8593,       2405,  1200.9,   0.1132,  34.6645,2,  34.6644,2,   222.23,2,  223.81,2,   111.3,2,    2.26,2,   1.2182,2,   0.6340,2,   0.0812,2,    2260,2,  2355.8,2,  -0.035,2,   31.95,3,      0.001,2
09AR20071216,       SR03,     124,          1,          9,          9,2,20080120,       0157,   -65.3983,   139.8593,       2405,  1396.9,   0.0675,  34.6682,2,  34.6684,2,   223.69,2,  225.03,2,   111.9,2,    2.27,2,   1.2315,2,   0.6383,2,   0.0000,3,  2258.8,2,  2354.9,2,  -0.040,2,   31.59,3,      0.001,2
09AR20071216,       SR03,     124,          1,          8,          8,2,20080120,       0157,   -65.3983,   139.8593,       2405,  1602.0,  -0.0249,  34.6691,2,  34.6689,2,   226.20,2,  227.37,2,   110.6,2,    2.26,2,   1.4289,2,   0.7336,2,   0.0990,2,  2262.2,2,    2354,2,  -0.039,2,   31.19,3,      0.001,2
09AR20071216,       SR03,     124,          1,          7,          7,2,20080120,       0157,   -65.3983,   139.8593,       2405,  1899.0,  -0.3136,  34.6477,2,-999.0000,9,   241.21,2, -999.00,9,  -999.0,9, -999.00,9,-999.0000,9,-999.0000,9,-999.0000,9,  -999.0,9,  -999.0,9,  -0.041,2, -999.00,9,      0.001,2
09AR20071216,       SR03,     124,          1,          6,          6,2,20080120,       0157,   -65.3983,   139.8593,       2405,  1899.4,  -0.3134,  34.6477,2,  34.6474,2,   241.52,2,  242.66,2,   103.2,2,    2.25,2,   2.0984,2,   1.0998,2,   0.1469,2,    2254,2,  2350.8,2,  -0.040,2,   31.35,3,      0.001,2
09AR20071216,       SR03,     124,          1,          5,          5,2,20080120,       0157,   -65.3983,   139.8593,       2405,  2103.1,  -0.4409,  34.6393,2,  34.6391,2,   248.45,2,  246.80,2,   100.6,2,    2.23,2,   2.4076,2,   1.2544,2,   0.1799,2,    2252,2,    2349,2,  -0.039,2,   32.18,2,      0.001,2
09AR20071216,       SR03,     124,          1,          4,          4,2,20080120,       0157,   -65.3983,   139.8593,       2405,  2298.3,  -0.4431,  34.6385,2,  34.6381,2,   249.19,2,  248.62,2,   100.3,2,    2.26,2,   2.4244,2,   1.2761,2,   0.1770,2,  2250.3,2,  2347.4,6,  -0.041,2,   32.33,2,      0.001,2
09AR20071216,       SR03,     124,          1,          3,          3,2,20080120,       0157,   -65.3983,   139.8593,       2405,  2298.5,  -0.4456,  34.6384,2,-999.0000,9,   249.19,2, -999.00,9,  -999.0,9, -999.00,9,-999.0000,9,-999.0000,9,-999.0000,9,  -999.0,9,  -999.0,9,  -0.038,2, -999.00,9,      0.001,2
09AR20071216,       SR03,     124,          1,          2,          2,2,20080120,       0157,   -65.3983,   139.8593,       2405,  2357.5,  -0.4371,  34.6386,2,  34.6378,2,   249.67,2,  250.01,2,    99.9,2,    2.25,2,   2.4464,2,   1.2813,2,   0.1839,2,  2251.1,6,  2347.5,2,  -0.036,2,   32.27,2,      0.001,2
09AR20071216,       SR03,     124,          1,          1,          1,2,20080120,       0157,   -65.3983,   139.8593,       2405,  2357.2,  -0.4402,  34.6385,2,-999.0000,9,   249.67,2, -999.00,9,  -999.0,9, -999.00,9,-999.0000,9,-999.0000,9,-999.0000,9,  -999.0,9,  -999.0,9,  -0.036,2, -999.00,9,      0.001,2