BOTTLE,20230622CCHSIOENA
EXPOCODE,SECT_ID,STNNBR,CASTNO,SAMPNO,BTLNBR,BTLNBR_FLAG_W,DATE,TIME,LATITUDE,LONGITUDE,DEPTH,CTDPRS,CTDTMP,CTDSAL,CTDSAL_FLAG_W,SALNTY,SALNTY_FLAG_W,CTDOXY,CTDOXY_FLAG_W,OXYGEN,OXYGEN_FLAG_W,SILCAT,SILCAT_FLAG_W,PHSPHT,PHSPHT_FLAG_W,CFC-11,CFC-11_FLAG_W,CFC-12,CFC-12_FLAG_W,CFC113,CFC113_FLAG_W,TCARBN,TCARBN_FLAG_W,ALKALI,ALKALI_FLAG_W,FLUOR,FLUOR_FLAG_W,NO2+NO3,NO2+NO3_FLAG_W,PAR,PAR_FLAG_W
,,,,,,,,,,,METERS,DBAR,ITS-90,PSS-78,,PSS-78,,UMOL/KG,,UMOL/KG,,UMOL/KG,,UMOL/KG,,PMOL/KG,,PMOL/KG,,PMOL/KG,,UMOL/KG,,UMOL/KG,,MG/M^3,,UMOL/KG,,VOLTS,
09AR20071216,    CEAMARC,       5,          1,         24,         24,2,20071223,       1722,   -65.9798,   143.0577,        461,     3.6,  -0.7414,  34.3113,2,  34.3131,2,   359.80,3,  373.98,2,    54.0,2,    1.50,2,   6.6651,2,   3.1806,2,   0.5521,2,  2177.2,2,  2326.7,6,   8.473,2,   25.25,2,      3.014,2
09AR20071216,    CEAMARC,       5,          1,         23,         23,2,20071223,       1722,   -65.9798,   143.0577,        461,    24.2,  -0.9837,  34.3423,2,-999.0000,9,   357.97,3, -999.00,9,  -999.0,9, -999.00,9,-999.0000,9,-999.0000,9,-999.0000,9,  -999.0,9,  -999.0,9,   4.481,2, -999.00,9,      1.445,2
09AR20071216,    CEAMARC,       5,          1,         22,         22,2,20071223,       1722,   -65.9798,   143.0577,        461,    24.2,  -0.9818,  34.3422,2,-999.0000,9,   357.97,3, -999.00,9,  -999.0,9, -999.00,9,-999.0000,9,-999.0000,9,-999.0000,9,  -999.0,9,  -999.0,9,   5.321,2, -999.00,9,      1.430,2
09AR20071216,    CEAMARC,       5,          1,         21,         21,2,20071223,       1722,   -65.9798,   143.0577,        461,    24.2,  -0.9885,  34.3427,2,  34.3507,2,   357.97,3,  358.15,2,    57.5,2,    1.79,2,   6.2760,6,   3.1595,6,   0.5619,6,  2195.2,2,  2329.2,2,   2.890,2,   26.65,2,      1.408,2
09AR20071216,    CEAMARC,       5,          1,         20,         20,2,20071223,       1722,   -65.9798,   143.0577,        461,    49.1,  -1.2115,  34.3883,2,-999.0000,9,   350.48,2, -999.00,9,  -999.0,9, -999.00,9,-999.0000,9,-999.0000,9,-999.0000,9,  -999.0,9,  -999.0,9,   3.047,2, -999.00,9,      0.251,2
09AR20071216,    CEAMARC,       5,          1,         19,         19,2,20071223,       1722,   -65.9798,   143.0577,        461,    49.1,  -1.2568,  34.3899,2,  34.3935,2,   350.48,2,  342.96,2,  -999.0,9, -999.00,9,   6.2006,2,   3.0161,2,   0.5720,2,  2209.1,2,  2330.8,2,   2.726,2, -999.00,9,      0.264,2
09AR20071216,    CEAMARC,       5,          1,         18,         18,2,20071223,       1722,   -65.9798,   143.0577,        461,    73.8,  -1.6826,  34.4405,2,-999.0000,9,   317.61,2, -999.00,9,    64.2,2,    1.94,2,-999.0000,9,-999.0000,9,-999.0000,9,  -999.0,9,  -999.0,9,   0.502,2,   28.27,2,      0.001,2
09AR20071216,    CEAMARC,       5,          1,         17,         17,2,20071223,       1722,   -65.9798,   143.0577,        461,    73.8,  -1.6802,  34.4414,2,  34.4448,2,   317.61,2,  313.39,2,  -999.0,9, -999.00,9,   5.4103,2,   2.6425,2,   0.4714,2,  2229.2,2,  2331.4,2,   0.558,2, -999.00,9,      0.001,2
09AR20071216,    CEAMARC,       5,          1,         16,         16,2,20071223,       1722,   -65.9798,   143.0577,        461,    88.5,  -1.5301,  34.4698,2,-999.0000,9,   298.04,2, -999.00,9,  -999.0,9, -999.00,9,-999.0000,9,-999.0000,9,-999.0000,9,  -999.0,9,  -999.0,9,   0.137,2, -999.00,9,      0.001,2
09AR20071216,    CEAMARC,       5,          1,         15,         15,2,20071223,       1722,   -65.9798,   143.0577,        461,    88.5,  -1.5298,  34.4697,2,  34.4717,2,   298.04,2,  297.57,2,  -999.0,9, -999.00,9,   4.5017,2,   2.2985,2,   0.4104,2,    2232,2,  2332.6,6,   0.138,2, -999.00,9,      0.001,2
09AR20071216,    CEAMARC,       5,          1,         14,         14,2,20071223,       1722,   -65.9798,   143.0577,        461,   149.0,  -1.8289,  34.5327,2,-999.0000,9,   307.84,2, -999.00,9,  -999.0,9, -999.00,9,-999.0000,9,-999.0000,9,-999.0000,9,  -999.0,9,  -999.0,9,   0.034,2, -999.00,9,      0.001,2
09AR20071216,    CEAMARC,       5,          1,         13,         13,2,20071223,       1722,   -65.9798,   143.0577,        461,   148.9,  -1.8284,  34.5327,2,  34.5326,2,   307.49,2,  310.59,2,    77.6,2,    2.15,2,   5.3045,2,   2.6261,2,   0.4663,2,  2234.8,2,  2336.2,2,   0.022,2,   31.30,2,      0.001,2
09AR20071216,    CEAMARC,       5,          1,         12,         12,2,20071223,       1722,   -65.9798,   143.0577,        461,   197.8,  -1.8708,  34.5557,2,-999.0000,9,   310.06,2, -999.00,9,  -999.0,9, -999.00,9,-999.0000,9,-999.0000,9,-999.0000,9,  -999.0,9,  -999.0,9,   0.027,2, -999.00,9,      0.001,2
09AR20071216,    CEAMARC,       5,          1,         11,         11,2,20071223,       1722,   -65.9798,   143.0577,        461,   197.8,  -1.8705,  34.5556,2,  34.5569,2,   310.06,2,  310.84,2,    78.0,2,    2.14,2,   5.3001,2,   2.5633,2,   0.5186,2,  2236.5,2,  2338.6,2,   0.007,2,   31.34,2,      0.001,2
09AR20071216,    CEAMARC,       5,          1,         10,         10,2,20071223,       1722,   -65.9798,   143.0577,        461,   248.4,  -1.9016,  34.5836,2,  34.5844,2,   307.62,2,  310.36,2,  -999.0,9, -999.00,9,   5.2381,2,   2.5791,2,   0.4762,2,    2237,2,  2339.6,2,  -0.013,2, -999.00,9,      0.001,2
09AR20071216,    CEAMARC,       5,          1,          9,          9,2,20071223,       1722,   -65.9798,   143.0577,        461,   248.2,  -1.9018,  34.5834,2,-999.0000,9,   307.62,2, -999.00,9,    78.3,2,    2.16,2,-999.0000,9,-999.0000,9,-999.0000,9,  -999.0,9,  -999.0,9,  -0.020,2,   31.29,2,      0.001,2
09AR20071216,    CEAMARC,       5,          1,          8,          8,2,20071223,       1722,   -65.9798,   143.0577,        461,   299.3,  -1.8980,  34.6021,2,  34.6009,2,   313.61,2,  314.31,2,    78.2,2,    2.15,2,   5.3449,2,   2.6409,2,   0.4756,2,  2238.6,2,  2341.6,2,  -0.025,2,   31.29,2,      0.001,2
09AR20071216,    CEAMARC,       5,          1,          7,          7,2,20071223,       1722,   -65.9798,   143.0577,        461,   298.6,  -1.8981,  34.6023,2,-999.0000,9,   313.30,2, -999.00,9,  -999.0,9, -999.00,9,-999.0000,9,-999.0000,9,-999.0000,9,  -999.0,9,  -999.0,9,  -0.024,2, -999.00,9,      0.001,2
09AR20071216,    CEAMARC,       5,          1,          6,          6,2,20071223,       1722,   -65.9798,   143.0577,        461,   349.5,  -1.9050,  34.6193,2,  34.6189,2,   309.05,2,  308.74,2,  -999.0,9, -999.00,9,   5.2456,2,   2.5834,2,   0.4831,2,  2239.7,2,  2341.9,2,  -0.025,2, -999.00,9,      0.001,2
09AR20071216,    CEAMARC,       5,          1,          5,          5,2,20071223,       1722,   -65.9798,   143.0577,        461,   349.6,  -1.9050,  34.6193,2,-999.0000,9,   309.05,2, -999.00,9,    77.9,2,    2.15,2,-999.0000,9,-999.0000,9,-999.0000,9,  -999.0,9,  -999.0,9,  -0.025,2,   31.19,2,      0.001,2
09AR20071216,    CEAMARC,       5,          1,          4,          4,2,20071223,       1722,   -65.9798,   143.0577,        461,   400.6,  -1.9034,  34.6329,2,-999.0000,9,   308.93,2, -999.00,9,  -999.0,9, -999.00,9,-999.0000,9,-999.0000,9,-999.0000,9,  -999.0,9,  -999.0,9,  -0.026,2, -999.00,9,      0.001,2
09AR20071216,    CEAMARC,       5,          1,          3,          3,2,20071223,       1722,   -65.9798,   143.0577,        461,   400.0,  -1.9033,  34.6330,2,  34.6366,2,   308.93,2, -999.00,9,    78.2,2,    2.15,2,-999.0000,9,-999.0000,9,-999.0000,9,  -999.0,9,  -999.0,9,  -0.029,2,   31.48,2,      0.001,2
09AR20071216,    CEAMARC,       5,          1,          2,          2,2,20071223,       1722,   -65.9798,   143.0577,        461,   450.6,  -1.8930,  34.6482,2,-999.0000,9,   311.89,2, -999.00,9,  -999.0,9, -999.00,9,-999.0000,9,-999.0000,9,-999.0000,9,  -999.0,9,  -999.0,9,  -0.022,2, -999.00,9,      0.001,2
09AR20071216,    CEAMARC,       5,          1,          1,          1,2,20071223,       1722,   -65.9798,   143.0577,        461,   450.8,  -1.8930,  34.6481,2,  34.6480,2,   311.89,2,  311.34,2,    79.2,2,    2.16,2,   5.2766,2,   2.6029,2,   0.4899,2,  2242.3,6,  2344.3,6,  -0.020,2,   31.81,2,      0.001,2
09AR20071216,    CEAMARC,       6,          1,         24,         24,2,20071224,       0157,   -66.0033,   143.3313,        460,     4.9,  -1.2844,  33.9705,2,-999.0000,9,  -999.00,5, -999.00,9,  -999.0,9, -999.00,9,-999.0000,9,-999.0000,9,-999.0000,9,  -999.0,9,  -999.0,9,   0.185,2, -999.00,9,      3.657,2
09AR20071216,    CEAMARC,       6,          1,         23,         23,2,20071224,       0157,   -66.0033,   143.3313,        460,     5.0,  -1.2850,  33.9700,2,-999.0000,9,  -999.00,5, -999.00,9,  -999.0,9, -999.00,9,-999.0000,9,-999.0000,9,-999.0000,9,  -999.0,9,  -999.0,9,   0.168,2, -999.00,9,      3.656,2
09AR20071216,    CEAMARC,       6,          1,         22,         22,2,20071224,       0157,   -66.0033,   143.3313,        460,     5.0,  -1.2897,  33.9682,2,-999.0000,9,  -999.00,5, -999.00,9,  -999.0,9, -999.00,9,-999.0000,9,-999.0000,9,-999.0000,9,  -999.0,9,  -999.0,9,   0.164,2, -999.00,9,      3.658,2
09AR20071216,    CEAMARC,       6,          1,         21,         21,2,20071224,       0157,   -66.0033,   143.3313,        460,    19.0,  -0.9008,  34.2853,2,  34.2888,2,   364.10,2,  363.68,2,    59.6,2,    1.69,2,   6.1189,2,   3.0311,2,   0.4856,2,  2183.9,2,  2323.3,6,   2.226,2,   25.38,3,      2.909,2
09AR20071216,    CEAMARC,       6,          1,         20,         20,2,20071224,       0157,   -66.0033,   143.3313,        460,    19.0,  -0.9041,  34.2873,2,-999.0000,9,   364.10,2, -999.00,9,  -999.0,9, -999.00,9,-999.0000,9,-999.0000,9,-999.0000,9,  -999.0,9,  -999.0,9,   2.266,2, -999.00,9,      2.907,2
09AR20071216,    CEAMARC,       6,          1,         19,         19,2,20071224,       0157,   -66.0033,   143.3313,        460,    19.0,  -0.9048,  34.2884,2,-999.0000,9,   364.10,2, -999.00,9,  -999.0,9, -999.00,9,-999.0000,9,-999.0000,9,-999.0000,9,  -999.0,9,  -999.0,9,   2.269,2, -999.00,9,      2.909,2
09AR20071216,    CEAMARC,       6,          1,         18,         18,2,20071224,       0157,   -66.0033,   143.3313,        460,    19.0,  -0.9061,  34.2892,2,-999.0000,9,   364.10,2, -999.00,9,  -999.0,9, -999.00,9,-999.0000,9,-999.0000,9,-999.0000,9,  -999.0,9,  -999.0,9,   2.452,2, -999.00,9,      2.904,2
09AR20071216,    CEAMARC,       6,          1,         17,         17,2,20071224,       0157,   -66.0033,   143.3313,        460,    19.0,  -0.9115,  34.2894,2,-999.0000,9,   364.10,2, -999.00,9,  -999.0,9, -999.00,9,-999.0000,9,-999.0000,9,-999.0000,9,  -999.0,9,  -999.0,9,   2.043,2, -999.00,9,      2.920,2
09AR20071216,    CEAMARC,       6,          1,         16,         16,2,20071224,       0157,   -66.0033,   143.3313,        460,    40.4,  -1.1588,  34.3485,2,  34.3478,2,   344.64,2,  346.50,2,    62.0,2,    1.86,2,   6.0073,2,   3.0175,2,   0.5043,2,  2202.4,3,  2327.6,2,   2.211,2,   26.90,3,      2.116,2
09AR20071216,    CEAMARC,       6,          1,         15,         15,2,20071224,       0157,   -66.0033,   143.3313,        460,    80.0,  -1.5037,  34.4268,2,-999.0000,9,   319.74,2, -999.00,9,  -999.0,9, -999.00,9,-999.0000,9,-999.0000,9,-999.0000,9,  -999.0,9,  -999.0,9,   0.885,2, -999.00,9,      1.151,2
09AR20071216,    CEAMARC,       6,          1,         14,         14,2,20071224,       0157,   -66.0033,   143.3313,        460,    79.9,  -1.5062,  34.4290,2,  34.4282,2,   319.74,2,  317.40,2,    71.7,2,    2.04,2,   5.1969,2,   2.6618,2,   0.4116,2,  2222.3,2,  2330.2,2,   0.847,2,   29.14,3,      1.117,2
09AR20071216,    CEAMARC,       6,          1,         13,         13,2,20071224,       0157,   -66.0033,   143.3313,        460,   120.1,  -0.9619,  34.5033,2,-999.0000,9,   264.08,2, -999.00,9,  -999.0,9, -999.00,9,-999.0000,9,-999.0000,9,-999.0000,9,  -999.0,9,  -999.0,9,   0.053,2, -999.00,9,      0.261,2
09AR20071216,    CEAMARC,       6,          1,         12,         12,2,20071224,       0157,   -66.0033,   143.3313,        460,   120.0,  -0.9528,  34.5044,2,  34.5032,2,   264.08,2,  267.11,2,    82.2,2,    2.13,2,   3.4142,2,   1.7929,2,   0.2546,2,  2241.9,3,  2334.8,2,   0.050,2,   30.93,3,      0.269,2
09AR20071216,    CEAMARC,       6,          1,         11,         11,2,20071224,       0157,   -66.0033,   143.3313,        460,   190.8,  -0.5919,  34.5555,2,  34.5532,2,   262.12,2,  254.71,2,    87.7,2,    2.15,2,   2.3187,2,   1.2271,2,   0.1738,2,  2209.8,3,    2339,2,  -0.003,2,   31.56,3,      0.001,2
09AR20071216,    CEAMARC,       6,          1,         10,         10,2,20071224,       0157,   -66.0033,   143.3313,        460,   228.6,  -0.1176,  34.6318,2,  34.6282,2,   234.69,2,  236.50,2,    99.3,2,    2.18,2,   1.9796,2,   1.0343,2,   0.1530,2,  2222.1,3,  2346.6,6,  -0.023,2,   31.54,3,      0.001,2
09AR20071216,    CEAMARC,       6,          1,          9,          9,2,20071224,       0157,   -66.0033,   143.3313,        460,   228.0,  -0.1451,  34.6296,2,-999.0000,9,   234.69,2, -999.00,9,  -999.0,9, -999.00,9,-999.0000,9,-999.0000,9,-999.0000,9,  -999.0,9,  -999.0,9,  -0.023,2, -999.00,9,      0.001,2
09AR20071216,    CEAMARC,       6,          1,          8,          8,2,20071224,       0157,   -66.0033,   143.3313,        460,   281.1,  -1.1139,  34.6035,2,  34.5989,2,   289.79,2, -999.00,9,    85.5,2,    2.12,2,   3.8839,2,   1.9804,2,   0.3191,2,  2245.1,2,  2341.7,2,  -0.019,2,   30.97,3,      0.001,2
09AR20071216,    CEAMARC,       6,          1,          7,          7,2,20071224,       0157,   -66.0033,   143.3313,        460,   280.8,  -1.1222,  34.6019,2,-999.0000,9,   288.85,2, -999.00,9,  -999.0,9, -999.00,9,-999.0000,9,-999.0000,9,-999.0000,9,  -999.0,9,  -999.0,9,  -0.016,2, -999.00,9,      0.001,2
09AR20071216,    CEAMARC,       6,          1,          6,          6,2,20071224,       0157,   -66.0033,   143.3313,        460,   358.6,  -1.8839,  34.6543,2,  34.6536,2,   307.18,2,  307.61,2,    78.5,2,    2.09,2,   4.9720,2,   2.5560,2,   0.3981,2,    2150,3,  2344.4,2,  -0.027,2,   30.60,3,      0.001,2
09AR20071216,    CEAMARC,       6,          1,          5,          5,2,20071224,       0157,   -66.0033,   143.3313,        460,   358.7,  -1.8841,  34.6542,2,-999.0000,9,   307.18,2, -999.00,9,  -999.0,9, -999.00,9,-999.0000,9,-999.0000,9,-999.0000,9,  -999.0,9,  -999.0,9,  -0.025,2, -999.00,9,      0.001,2
09AR20071216,    CEAMARC,       6,          1,          4,          4,2,20071224,       0157,   -66.0033,   143.3313,        460,   400.7,  -1.8829,  34.6555,2,-999.0000,9,   308.43,2, -999.00,9,  -999.0,9, -999.00,9,-999.0000,9,-999.0000,9,-999.0000,9,  -999.0,9,  -999.0,9,  -0.028,2, -999.00,9,      0.001,2
09AR20071216,    CEAMARC,       6,          1,          3,          3,2,20071224,       0157,   -66.0033,   143.3313,        460,   400.9,  -1.8828,  34.6554,2,  34.6550,2,   308.43,2,  308.82,2,    78.5,2,    2.10,2,   4.9395,2,   2.5662,2,   0.3653,2,  2243.4,2,    2343,2,  -0.029,2,   30.77,3,      0.001,2
09AR20071216,    CEAMARC,       6,          1,          2,          2,2,20071224,       0157,   -66.0033,   143.3313,        460,   458.0,  -1.8811,  34.6559,2,-999.0000,9,   308.62,2, -999.00,9,  -999.0,9, -999.00,9,-999.0000,9,-999.0000,9,-999.0000,9,  -999.0,9,  -999.0,9,  -0.029,2, -999.00,9,      0.001,2
09AR20071216,    CEAMARC,       6,          1,          1,          1,2,20071224,       0157,   -66.0033,   143.3313,        460,   457.5,  -1.8811,  34.6559,2,  34.6554,2,   308.62,2,  307.96,2,    79.1,2,    2.11,2,   5.0088,6,   2.5440,6,   0.3961,6,  2243.8,2,  2344.5,6,  -0.024,2,   30.85,3,      0.001,2