BOTTLE,20230622CCHSIOENA
EXPOCODE,SECT_ID,STNNBR,CASTNO,SAMPNO,BTLNBR,BTLNBR_FLAG_W,DATE,TIME,LATITUDE,LONGITUDE,DEPTH,CTDPRS,CTDTMP,CTDSAL,CTDSAL_FLAG_W,SALNTY,SALNTY_FLAG_W,CTDOXY,CTDOXY_FLAG_W,OXYGEN,OXYGEN_FLAG_W,SILCAT,SILCAT_FLAG_W,PHSPHT,PHSPHT_FLAG_W,CFC-11,CFC-11_FLAG_W,CFC-12,CFC-12_FLAG_W,CFC113,CFC113_FLAG_W,TCARBN,TCARBN_FLAG_W,ALKALI,ALKALI_FLAG_W,FLUOR,FLUOR_FLAG_W,NO2+NO3,NO2+NO3_FLAG_W,PAR,PAR_FLAG_W
,,,,,,,,,,,METERS,DBAR,ITS-90,PSS-78,,PSS-78,,UMOL/KG,,UMOL/KG,,UMOL/KG,,UMOL/KG,,PMOL/KG,,PMOL/KG,,PMOL/KG,,UMOL/KG,,UMOL/KG,,MG/M^3,,UMOL/KG,,VOLTS,
09AR20071216,       SR03,     119,          1,         24,         24,2,20080119,       1617,   -65.8013,   139.8520,        209,     9.6,   0.6049,  33.6308,2,-999.0000,9,   349.61,2, -999.00,9,  -999.0,9, -999.00,9,-999.0000,9,-999.0000,9,-999.0000,9,  -999.0,9,  -999.0,9,   2.459,2, -999.00,9,      1.322,2
09AR20071216,       SR03,     119,          1,         23,         23,2,20080119,       1617,   -65.8013,   139.8520,        209,     9.6,   0.6028,  33.6316,2,-999.0000,9,   349.61,2, -999.00,9,  -999.0,9, -999.00,9,-999.0000,9,-999.0000,9,-999.0000,9,  -999.0,9,  -999.0,9,   2.452,2, -999.00,9,      1.319,2
09AR20071216,       SR03,     119,          1,         22,         22,2,20080119,       1617,   -65.8013,   139.8520,        209,     9.5,   0.6003,  33.6317,2,-999.0000,9,   349.61,2, -999.00,9,  -999.0,9, -999.00,9,-999.0000,9,-999.0000,9,-999.0000,9,  -999.0,9,  -999.0,9,   2.453,2, -999.00,9,      1.321,2
09AR20071216,       SR03,     119,          1,         21,         21,2,20080119,       1617,   -65.8013,   139.8520,        209,     9.6,   0.6025,  33.6317,2,-999.0000,9,   349.61,2, -999.00,9,  -999.0,9, -999.00,9,-999.0000,9,-999.0000,9,-999.0000,9,  -999.0,9,  -999.0,9,   2.459,2, -999.00,9,      1.316,2
09AR20071216,       SR03,     119,          1,         20,         20,2,20080119,       1617,   -65.8013,   139.8520,        209,     9.4,   0.5682,  33.6423,2,-999.0000,9,   349.61,2, -999.00,9,  -999.0,9, -999.00,9,-999.0000,9,-999.0000,9,-999.0000,9,  -999.0,9,  -999.0,9,   2.433,2, -999.00,9,      1.206,2
09AR20071216,       SR03,     119,          1,         19,         19,2,20080119,       1617,   -65.8013,   139.8520,        209,     9.5,   0.5426,  33.6493,2,-999.0000,9,   349.61,2, -999.00,9,  -999.0,9, -999.00,9,-999.0000,9,-999.0000,9,-999.0000,9,  -999.0,9,  -999.0,9,   2.509,2, -999.00,9,      1.227,2
09AR20071216,       SR03,     119,          1,         18,         18,2,20080119,       1617,   -65.8013,   139.8520,        209,     9.6,   0.4564,  33.6716,2,-999.0000,9,   349.61,2, -999.00,9,  -999.0,9, -999.00,9,-999.0000,9,-999.0000,9,-999.0000,9,  -999.0,9,  -999.0,9,   2.605,2, -999.00,9,      1.220,2
09AR20071216,       SR03,     119,          1,         17,         17,2,20080119,       1617,   -65.8013,   139.8520,        209,     9.7,   0.4583,  33.6712,2,-999.0000,9,   349.61,2, -999.00,9,  -999.0,9, -999.00,9,-999.0000,9,-999.0000,9,-999.0000,9,  -999.0,9,  -999.0,9,   2.601,2, -999.00,9,      1.215,2
09AR20071216,       SR03,     119,          1,         16,         16,2,20080119,       1617,   -65.8013,   139.8520,        209,     9.6,   0.4385,  33.6763,2,-999.0000,9,   349.61,2, -999.00,9,  -999.0,9, -999.00,9,-999.0000,9,-999.0000,9,-999.0000,9,  -999.0,9,  -999.0,9,   2.611,2, -999.00,9,      1.214,2
09AR20071216,       SR03,     119,          1,         15,         15,2,20080119,       1617,   -65.8013,   139.8520,        209,     9.6,   0.5019,  33.6590,2,-999.0000,9,   349.61,2, -999.00,9,  -999.0,9, -999.00,9,-999.0000,9,-999.0000,9,-999.0000,9,  -999.0,9,  -999.0,9,   2.567,2, -999.00,9,      1.210,2
09AR20071216,       SR03,     119,          1,         14,         14,2,20080119,       1617,   -65.8013,   139.8520,        209,     9.6,   0.5588,  33.6433,2,-999.0000,9,   349.61,2, -999.00,9,  -999.0,9, -999.00,9,-999.0000,9,-999.0000,9,-999.0000,9,  -999.0,9,  -999.0,9,   2.538,2, -999.00,9,      1.222,2
09AR20071216,       SR03,     119,          1,         13,         13,2,20080119,       1617,   -65.8013,   139.8520,        209,     9.5,   0.5505,  33.6454,2,-999.0000,9,   349.61,2, -999.00,9,  -999.0,9, -999.00,9,-999.0000,9,-999.0000,9,-999.0000,9,  -999.0,9,  -999.0,9,   2.519,2, -999.00,9,      1.236,2
09AR20071216,       SR03,     119,          1,         12,         12,2,20080119,       1617,   -65.8013,   139.8520,        209,     9.4,   0.5632,  33.6406,2,  33.7304,4,   349.61,2,  349.54,2,    47.9,2,    1.71,2,   5.9497,2,   3.1241,6,   0.4999,2,  2150.5,6,  2283.2,2,   2.479,2,   25.29,2,      1.266,2
09AR20071216,       SR03,     119,          1,         11,         11,2,20080119,       1617,   -65.8013,   139.8520,        209,     9.5,   0.5396,  33.6471,2,-999.0000,9,   349.61,2, -999.00,9,  -999.0,9, -999.00,9,-999.0000,9,-999.0000,9,-999.0000,9,  -999.0,9,  -999.0,9,   2.576,2, -999.00,9,      1.268,2
09AR20071216,       SR03,     119,          1,         10,         10,2,20080119,       1617,   -65.8013,   139.8520,        209,    29.3,  -0.5736,  33.9761,2,  33.9937,2,   341.85,2,  342.25,2,    54.6,2,    1.83,2,-999.0000,9,-999.0000,9,-999.0000,9,  -999.0,9,  -999.0,9,   3.079,2,   26.38,2,      0.455,2
09AR20071216,       SR03,     119,          1,          9,          9,2,20080119,       1617,   -65.8013,   139.8520,        209,    29.3,  -0.5783,  33.9770,2,-999.0000,9,   341.85,2, -999.00,9,  -999.0,9, -999.00,9,-999.0000,9,-999.0000,9,-999.0000,9,  -999.0,9,  -999.0,9,   3.052,2, -999.00,9,      0.469,2
09AR20071216,       SR03,     119,          1,          8,          8,2,20080119,       1617,   -65.8013,   139.8520,        209,    29.5,  -0.5799,  33.9772,2,-999.0000,9,   341.85,2, -999.00,9,  -999.0,9, -999.00,9,-999.0000,9,-999.0000,9,-999.0000,9,  -999.0,9,  -999.0,9,   3.037,2, -999.00,9,      0.451,2
09AR20071216,       SR03,     119,          1,          7,          7,2,20080119,       1617,   -65.8013,   139.8520,        209,    59.7,  -1.2571,  34.3013,2,  34.3172,2,   316.99,2,  315.65,2,    65.9,2,    2.00,2,-999.0000,9,-999.0000,9,-999.0000,9,  -999.0,9,  -999.0,9,   1.674,2,   28.69,2,      0.001,2
09AR20071216,       SR03,     119,          1,          6,          6,2,20080119,       1617,   -65.8013,   139.8520,        209,    99.7,  -1.2058,  34.4640,2,  34.4650,2,   284.85,2,  285.11,2,    76.7,2,    2.12,2,   3.8728,2,   2.1182,2,   0.2871,2,  2228.6,2,    2331,6,   0.246,2,   30.24,2,      0.001,2
09AR20071216,       SR03,     119,          1,          5,          5,2,20080119,       1617,   -65.8013,   139.8520,        209,    99.5,  -1.2062,  34.4640,2,-999.0000,9,   284.85,2, -999.00,9,  -999.0,9, -999.00,9,-999.0000,9,-999.0000,9,-999.0000,9,  -999.0,9,  -999.0,9,   0.251,2, -999.00,9,      0.001,2
09AR20071216,       SR03,     119,          1,          4,          4,2,20080119,       1617,   -65.8013,   139.8520,        209,   150.2,  -1.0254,  34.5189,2,  34.5203,2,   276.36,2,  276.19,2,    82.1,2,    2.14,2,   3.6929,2,   1.9439,2,   0.3008,2,  2239.1,2,  2334.3,2,   0.086,2,   30.61,2,      0.001,2
09AR20071216,       SR03,     119,          1,          3,          3,2,20080119,       1617,   -65.8013,   139.8520,        209,   150.1,  -1.0237,  34.5194,2,-999.0000,9,   276.36,2, -999.00,9,  -999.0,9, -999.00,9,-999.0000,9,-999.0000,9,-999.0000,9,  -999.0,9,  -999.0,9,   0.087,2, -999.00,9,      0.001,2
09AR20071216,       SR03,     119,          1,          2,          2,2,20080119,       1617,   -65.8013,   139.8520,        209,   200.0,  -0.8943,  34.5570,2,  34.5585,2,   269.49,2,  269.14,2,    86.5,2,    2.18,2,   3.3429,2,   1.7520,2,   0.2743,2,  2242.2,2,  2340.6,2,   0.024,2,   30.85,2,      0.001,2
09AR20071216,       SR03,     119,          1,          1,          1,2,20080119,       1617,   -65.8013,   139.8520,        209,   200.0,  -0.8917,  34.5573,2,-999.0000,9,   269.49,2, -999.00,9,  -999.0,9, -999.00,9,-999.0000,9,-999.0000,9,-999.0000,9,  -999.0,9,  -999.0,9,   0.027,2, -999.00,9,      0.001,2
09AR20071216,       SR03,     120,          1,         24,         24,2,20080119,       1731,   -65.7060,   139.8503,        300,     9.0,   0.2003,  33.6442,2,-999.0000,9,  -999.00,5, -999.00,9,  -999.0,9, -999.00,9,-999.0000,9,-999.0000,9,-999.0000,9,  -999.0,9,  -999.0,9,   2.050,2, -999.00,9,      2.108,2
09AR20071216,       SR03,     120,          1,         23,         23,2,20080119,       1731,   -65.7060,   139.8503,        300,     9.0,   0.1993,  33.6446,2,-999.0000,9,  -999.00,5, -999.00,9,  -999.0,9, -999.00,9,-999.0000,9,-999.0000,9,-999.0000,9,  -999.0,9,  -999.0,9,   2.003,2, -999.00,9,      2.106,2
09AR20071216,       SR03,     120,          1,         22,         22,2,20080119,       1731,   -65.7060,   139.8503,        300,     8.8,   0.1952,  33.6467,2,-999.0000,9,  -999.00,5, -999.00,9,  -999.0,9, -999.00,9,-999.0000,9,-999.0000,9,-999.0000,9,  -999.0,9,  -999.0,9,   2.011,2, -999.00,9,      2.115,2
09AR20071216,       SR03,     120,          1,         21,         21,2,20080119,       1731,   -65.7060,   139.8503,        300,     9.3,   0.1947,  33.6470,2,-999.0000,9,   349.40,2, -999.00,9,  -999.0,9, -999.00,9,-999.0000,9,-999.0000,9,-999.0000,9,  -999.0,9,  -999.0,9,   2.059,2, -999.00,9,      2.103,2
09AR20071216,       SR03,     120,          1,         20,         20,2,20080119,       1731,   -65.7060,   139.8503,        300,     9.2,   0.1970,  33.6458,2,-999.0000,9,   349.40,2, -999.00,9,  -999.0,9, -999.00,9,-999.0000,9,-999.0000,9,-999.0000,9,  -999.0,9,  -999.0,9,   2.065,2, -999.00,9,      2.100,2
09AR20071216,       SR03,     120,          1,         19,         19,2,20080119,       1731,   -65.7060,   139.8503,        300,     9.1,   0.1982,  33.6452,2,-999.0000,9,   349.40,2, -999.00,9,  -999.0,9, -999.00,9,-999.0000,9,-999.0000,9,-999.0000,9,  -999.0,9,  -999.0,9,   2.054,2, -999.00,9,      2.099,2
09AR20071216,       SR03,     120,          1,         18,         18,2,20080119,       1731,   -65.7060,   139.8503,        300,     9.3,   0.1983,  33.6445,2,-999.0000,9,   349.40,2, -999.00,9,  -999.0,9, -999.00,9,-999.0000,9,-999.0000,9,-999.0000,9,  -999.0,9,  -999.0,9,   2.073,2, -999.00,9,      2.080,2
09AR20071216,       SR03,     120,          1,         17,         17,2,20080119,       1731,   -65.7060,   139.8503,        300,     9.1,   0.1970,  33.6448,2,-999.0000,9,   349.40,2, -999.00,9,  -999.0,9, -999.00,9,-999.0000,9,-999.0000,9,-999.0000,9,  -999.0,9,  -999.0,9,   2.063,2, -999.00,9,      2.083,2
09AR20071216,       SR03,     120,          1,         16,         16,2,20080119,       1731,   -65.7060,   139.8503,        300,     9.3,   0.1943,  33.6457,2,-999.0000,9,   349.40,2, -999.00,9,  -999.0,9, -999.00,9,-999.0000,9,-999.0000,9,-999.0000,9,  -999.0,9,  -999.0,9,   2.088,2, -999.00,9,      2.076,2
09AR20071216,       SR03,     120,          1,         15,         15,2,20080119,       1731,   -65.7060,   139.8503,        300,     9.2,   0.1858,  33.6485,2,-999.0000,9,   349.40,2, -999.00,9,  -999.0,9, -999.00,9,-999.0000,9,-999.0000,9,-999.0000,9,  -999.0,9,  -999.0,9,   2.105,2, -999.00,9,      2.081,2
09AR20071216,       SR03,     120,          1,         14,         14,2,20080119,       1731,   -65.7060,   139.8503,        300,     9.2,   0.1842,  33.6491,2,-999.0000,9,   349.40,2, -999.00,9,  -999.0,9, -999.00,9,-999.0000,9,-999.0000,9,-999.0000,9,  -999.0,9,  -999.0,9,   2.077,2, -999.00,9,      2.082,2
09AR20071216,       SR03,     120,          1,         13,         13,2,20080119,       1731,   -65.7060,   139.8503,        300,     9.3,   0.1807,  33.6505,2,-999.0000,9,   349.40,2, -999.00,9,  -999.0,9, -999.00,9,-999.0000,9,-999.0000,9,-999.0000,9,  -999.0,9,  -999.0,9,   2.085,2, -999.00,9,      2.077,2
09AR20071216,       SR03,     120,          1,         12,         12,2,20080119,       1731,   -65.7060,   139.8503,        300,     9.4,   0.1558,  33.6597,2,  33.6807,2,   349.40,2,  350.32,2,    47.4,2,    1.73,2,   5.8940,2,   3.1428,2,   0.4329,2,  2147.9,6,  2280.6,2,   2.145,2,   25.57,2,      2.026,2
09AR20071216,       SR03,     120,          1,         11,         11,2,20080119,       1731,   -65.7060,   139.8503,        300,     9.4,   0.1493,  33.6624,2,-999.0000,9,   349.40,2, -999.00,9,  -999.0,9, -999.00,9,-999.0000,9,-999.0000,9,-999.0000,9,  -999.0,9,  -999.0,9,   2.130,2, -999.00,9,      1.997,2
09AR20071216,       SR03,     120,          1,         10,         10,2,20080119,       1731,   -65.7060,   139.8503,        300,    50.1,  -1.2845,  34.2753,2,  34.2679,2,   319.64,2,  320.18,2,    62.6,2,    2.00,2,   5.1262,2,   2.6287,2,   0.4299,2,  2201.9,2,  2318.4,6,   1.451,2,   28.63,2,      0.678,2
09AR20071216,       SR03,     120,          1,          9,          9,2,20080119,       1731,   -65.7060,   139.8503,        300,    50.2,  -1.2859,  34.2733,2,-999.0000,9,   319.64,2, -999.00,9,  -999.0,9, -999.00,9,-999.0000,9,-999.0000,9,-999.0000,9,  -999.0,9,  -999.0,9,   1.478,2, -999.00,9,      0.679,2
09AR20071216,       SR03,     120,          1,          8,          8,2,20080119,       1731,   -65.7060,   139.8503,        300,    99.9,  -1.3378,  34.4395,2,  34.4397,2,   288.32,2,  286.46,2,    73.7,2,    2.12,2,   4.1152,2,   2.1799,2,   0.3226,2,  2223.9,2,  2329.3,2,   0.133,2,   30.48,2,      0.001,2
09AR20071216,       SR03,     120,          1,          7,          7,2,20080119,       1731,   -65.7060,   139.8503,        300,   100.1,  -1.3377,  34.4396,2,-999.0000,9,   288.32,2, -999.00,9,  -999.0,9, -999.00,9,-999.0000,9,-999.0000,9,-999.0000,9,  -999.0,9,  -999.0,9,   0.142,2, -999.00,9,      0.001,2
09AR20071216,       SR03,     120,          1,          6,          6,2,20080119,       1731,   -65.7060,   139.8503,        300,   149.2,  -1.2933,  34.4654,2,  34.4660,2,   286.57,2,  287.41,2,    76.5,2,    2.12,2,   4.0556,2,   2.1518,2,   0.3527,2,  2228.8,2,  2333.3,2,   0.157,2,   30.51,2,      0.001,2
09AR20071216,       SR03,     120,          1,          5,          5,2,20080119,       1731,   -65.7060,   139.8503,        300,   149.3,  -1.2930,  34.4654,2,-999.0000,9,   286.57,2, -999.00,9,  -999.0,9, -999.00,9,-999.0000,9,-999.0000,9,-999.0000,9,  -999.0,9,  -999.0,9,   0.150,2, -999.00,9,      0.001,2
09AR20071216,       SR03,     120,          1,          4,          4,2,20080119,       1731,   -65.7060,   139.8503,        300,   202.4,  -1.2755,  34.4981,2,  34.4993,2,   287.33,2,  288.14,2,    78.7,2,    2.12,2,   4.1383,6,   2.1656,6,   0.3423,6,  2229.8,2,  2334.8,2,   0.112,2,   30.45,2,      0.001,2
09AR20071216,       SR03,     120,          1,          3,          3,2,20080119,       1731,   -65.7060,   139.8503,        300,   202.2,  -1.2744,  34.4982,2,-999.0000,9,   287.33,2, -999.00,9,  -999.0,9, -999.00,9,-999.0000,9,-999.0000,9,-999.0000,9,  -999.0,9,  -999.0,9,   0.100,2, -999.00,9,      0.001,2
09AR20071216,       SR03,     120,          1,          2,          2,2,20080119,       1731,   -65.7060,   139.8503,        300,   287.1,  -1.0850,  34.5471,2,  34.5446,2,   277.30,2,  277.14,2,    83.4,2,    2.16,2,   3.7312,2,   1.9439,2,   0.2989,2,  2233.8,2,  2340.4,2,   0.025,2,   30.83,2,      0.001,2
09AR20071216,       SR03,     120,          1,          1,          1,2,20080119,       1731,   -65.7060,   139.8503,        300,   287.1,  -1.0863,  34.5470,2,-999.0000,9,   277.30,2, -999.00,9,  -999.0,9, -999.00,9,-999.0000,9,-999.0000,9,-999.0000,9,  -999.0,9,  -999.0,9,   0.022,2, -999.00,9,      0.001,2