BOTTLE,20230622CCHSIOENA
EXPOCODE,SECT_ID,STNNBR,CASTNO,SAMPNO,BTLNBR,BTLNBR_FLAG_W,DATE,TIME,LATITUDE,LONGITUDE,DEPTH,CTDPRS,CTDTMP,CTDSAL,CTDSAL_FLAG_W,SALNTY,SALNTY_FLAG_W,CTDOXY,CTDOXY_FLAG_W,OXYGEN,OXYGEN_FLAG_W,SILCAT,SILCAT_FLAG_W,PHSPHT,PHSPHT_FLAG_W,CFC-11,CFC-11_FLAG_W,CFC-12,CFC-12_FLAG_W,CFC113,CFC113_FLAG_W,TCARBN,TCARBN_FLAG_W,ALKALI,ALKALI_FLAG_W,FLUOR,FLUOR_FLAG_W,NO2+NO3,NO2+NO3_FLAG_W,PAR,PAR_FLAG_W
,,,,,,,,,,,METERS,DBAR,ITS-90,PSS-78,,PSS-78,,UMOL/KG,,UMOL/KG,,UMOL/KG,,UMOL/KG,,PMOL/KG,,PMOL/KG,,PMOL/KG,,UMOL/KG,,UMOL/KG,,MG/M^3,,UMOL/KG,,VOLTS,
09AR20071216,    CEAMARC,      95,          1,         24,         24,2,20080114,       1619,   -66.3310,   140.6635,        167,    11.5,  -0.5706,  34.1615,2,-999.0000,9,   353.23,2, -999.00,9,  -999.0,9, -999.00,9,-999.0000,9,-999.0000,9,-999.0000,9,  -999.0,9,  -999.0,9,   5.829,2, -999.00,9,      1.305,2
09AR20071216,    CEAMARC,      95,          1,         23,         23,2,20080114,       1619,   -66.3310,   140.6635,        167,    11.6,  -0.5698,  34.1618,2,-999.0000,9,   353.23,2, -999.00,9,  -999.0,9, -999.00,9,-999.0000,9,-999.0000,9,-999.0000,9,  -999.0,9,  -999.0,9,   5.805,2, -999.00,9,      1.303,2
09AR20071216,    CEAMARC,      95,          1,         22,         22,2,20080114,       1619,   -66.3310,   140.6635,        167,    11.6,  -0.5697,  34.1616,2,-999.0000,9,   353.23,2, -999.00,9,  -999.0,9, -999.00,9,-999.0000,9,-999.0000,9,-999.0000,9,  -999.0,9,  -999.0,9,   5.804,2, -999.00,9,      1.303,2
09AR20071216,    CEAMARC,      95,          1,         21,         21,2,20080114,       1619,   -66.3310,   140.6635,        167,    11.5,  -0.5693,  34.1616,2,-999.0000,9,   353.23,2, -999.00,9,  -999.0,9, -999.00,9,-999.0000,9,-999.0000,9,-999.0000,9,  -999.0,9,  -999.0,9,   5.923,2, -999.00,9,      1.316,2
09AR20071216,    CEAMARC,      95,          1,         20,         20,2,20080114,       1619,   -66.3310,   140.6635,        167,    11.5,  -0.5691,  34.1616,2,-999.0000,9,   353.23,2, -999.00,9,  -999.0,9, -999.00,9,-999.0000,9,-999.0000,9,-999.0000,9,  -999.0,9,  -999.0,9,   5.851,2, -999.00,9,      1.318,2
09AR20071216,    CEAMARC,      95,          1,         19,         19,2,20080114,       1619,   -66.3310,   140.6635,        167,    11.6,  -0.5692,  34.1619,2,-999.0000,9,   353.23,2, -999.00,9,  -999.0,9, -999.00,9,-999.0000,9,-999.0000,9,-999.0000,9,  -999.0,9,  -999.0,9,   5.938,2, -999.00,9,      1.314,2
09AR20071216,    CEAMARC,      95,          1,         18,         18,2,20080114,       1619,   -66.3310,   140.6635,        167,    11.6,  -0.5667,  34.1622,2,-999.0000,9,   353.23,2, -999.00,9,  -999.0,9, -999.00,9,-999.0000,9,-999.0000,9,-999.0000,9,  -999.0,9,  -999.0,9,   5.789,2, -999.00,9,      1.307,2
09AR20071216,    CEAMARC,      95,          1,         17,         17,2,20080114,       1619,   -66.3310,   140.6635,        167,    11.6,  -0.5683,  34.1616,2,-999.0000,9,   353.23,2, -999.00,9,  -999.0,9, -999.00,9,-999.0000,9,-999.0000,9,-999.0000,9,  -999.0,9,  -999.0,9,   5.755,2, -999.00,9,      1.303,2
09AR20071216,    CEAMARC,      95,          1,         16,         16,2,20080114,       1619,   -66.3310,   140.6635,        167,    11.6,  -0.5681,  34.1617,2,-999.0000,9,   353.23,2, -999.00,9,  -999.0,9, -999.00,9,-999.0000,9,-999.0000,9,-999.0000,9,  -999.0,9,  -999.0,9,   5.799,2, -999.00,9,      1.309,2
09AR20071216,    CEAMARC,      95,          1,         15,         15,2,20080114,       1619,   -66.3310,   140.6635,        167,    11.5,  -0.5636,  34.1636,2,-999.0000,9,   353.23,2, -999.00,9,  -999.0,9, -999.00,9,-999.0000,9,-999.0000,9,-999.0000,9,  -999.0,9,  -999.0,9,   5.691,2, -999.00,9,      1.309,2
09AR20071216,    CEAMARC,      95,          1,         14,         14,2,20080114,       1619,   -66.3310,   140.6635,        167,    11.6,  -0.5582,  34.1658,2,-999.0000,9,   353.23,2, -999.00,9,  -999.0,9, -999.00,9,-999.0000,9,-999.0000,9,-999.0000,9,  -999.0,9,  -999.0,9,   5.606,2, -999.00,9,      1.304,2
09AR20071216,    CEAMARC,      95,          1,         13,         13,2,20080114,       1619,   -66.3310,   140.6635,        167,    11.5,  -0.5584,  34.1654,2,-999.0000,9,   353.23,2, -999.00,9,  -999.0,9, -999.00,9,-999.0000,9,-999.0000,9,-999.0000,9,  -999.0,9,  -999.0,9,   5.622,2, -999.00,9,      1.298,2
09AR20071216,    CEAMARC,      95,          1,         12,         12,2,20080114,       1619,   -66.3310,   140.6635,        167,    11.5,  -0.5666,  34.1615,2,  34.1623,2,   353.23,2,  353.25,2,    64.1,2,    1.65,2,   5.6375,2,   2.9069,2,   0.4527,2,  2176.4,6,  2319.4,2,   5.770,2,   26.48,3,      1.290,2
09AR20071216,    CEAMARC,      95,          1,         11,         11,2,20080114,       1619,   -66.3310,   140.6635,        167,    11.5,  -0.5662,  34.1609,2,-999.0000,9,   353.23,2, -999.00,9,  -999.0,9, -999.00,9,-999.0000,9,-999.0000,9,-999.0000,9,  -999.0,9,  -999.0,9,   5.809,2, -999.00,9,      1.250,2
09AR20071216,    CEAMARC,      95,          1,         10,         10,2,20080114,       1619,   -66.3310,   140.6635,        167,    29.2,  -0.9276,  34.2573,2,  34.2552,2,   344.43,2,  341.92,2,    66.2,2,    1.76,2,   5.3285,6,   2.7788,6,   0.4370,6,  2190.4,2,  2326.2,6,   4.775,2,   27.11,3,      0.135,2
09AR20071216,    CEAMARC,      95,          1,          9,          9,2,20080114,       1619,   -66.3310,   140.6635,        167,    29.3,  -0.9488,  34.2609,2,-999.0000,9,   344.43,2, -999.00,9,  -999.0,9, -999.00,9,-999.0000,9,-999.0000,9,-999.0000,9,  -999.0,9,  -999.0,9,   4.761,2, -999.00,9,      0.138,2
09AR20071216,    CEAMARC,      95,          1,          8,          8,2,20080114,       1619,   -66.3310,   140.6635,        167,    59.4,  -1.4286,  34.3843,2,  34.3844,2,   311.66,2,  312.89,2,    72.8,2,    2.03,2,   4.7917,2,   2.5288,2,   0.3756,2,    2218,2,  2331.2,2,   0.845,2,   30.55,3,      0.001,2
09AR20071216,    CEAMARC,      95,          1,          7,          7,2,20080114,       1619,   -66.3310,   140.6635,        167,    59.2,  -1.4300,  34.3852,2,-999.0000,9,   311.66,2, -999.00,9,  -999.0,9, -999.00,9,-999.0000,9,-999.0000,9,-999.0000,9,  -999.0,9,  -999.0,9,   0.807,2, -999.00,9,      0.001,2
09AR20071216,    CEAMARC,      95,          1,          6,          6,2,20080114,       1619,   -66.3310,   140.6635,        167,    90.4,  -1.4498,  34.4052,2,  34.4076,2,   309.59,2,  307.97,2,    74.0,2,    2.05,2,   4.8012,2,   2.5126,2,   0.3793,2,  2221.7,2,  2331.6,6,   0.578,2,   30.83,3,      0.001,2
09AR20071216,    CEAMARC,      95,          1,          5,          5,2,20080114,       1619,   -66.3310,   140.6635,        167,    90.2,  -1.4489,  34.4052,2,-999.0000,9,   309.59,2, -999.00,9,  -999.0,9, -999.00,9,-999.0000,9,-999.0000,9,-999.0000,9,  -999.0,9,  -999.0,9,   0.578,2, -999.00,9,      0.001,2
09AR20071216,    CEAMARC,      95,          1,          4,          4,2,20080114,       1619,   -66.3310,   140.6635,        167,   130.6,  -1.3787,  34.4449,2,  34.4458,2,   301.83,2,  299.58,2,    76.7,2,    2.07,2,   4.5176,2,   2.3647,2,   0.3672,2,  2226.3,2,  2334.6,2,   0.369,2,   30.27,3,      0.001,2
09AR20071216,    CEAMARC,      95,          1,          3,          3,2,20080114,       1619,   -66.3310,   140.6635,        167,   130.5,  -1.3760,  34.4468,2,-999.0000,9,   301.83,2, -999.00,9,  -999.0,9, -999.00,9,-999.0000,9,-999.0000,9,-999.0000,9,  -999.0,9,  -999.0,9,   0.346,2, -999.00,9,      0.001,2
09AR20071216,    CEAMARC,      95,          1,          2,          2,2,20080114,       1619,   -66.3310,   140.6635,        167,   159.9,  -1.3620,  34.4625,2,  34.4613,2,   296.67,2,  297.62,2,    77.3,2,    2.09,2,   4.4003,2,   2.3041,2,   0.3448,2,  2228.4,2,  2337.5,2,   0.262,2,   30.05,3,      0.001,2
09AR20071216,    CEAMARC,      95,          1,          1,          1,2,20080114,       1619,   -66.3310,   140.6635,        167,   160.0,  -1.3620,  34.4636,2,-999.0000,9,   296.67,2, -999.00,9,  -999.0,9, -999.00,9,-999.0000,9,-999.0000,9,-999.0000,9,  -999.0,9,  -999.0,9,   0.250,2, -999.00,9,      0.001,2
09AR20071216,    CEAMARC,      96,          1,         24,         24,2,20080114,       1846,   -66.1622,   140.6617,        222,     9.6,  -0.8358,  34.1444,2,-999.0000,9,   338.96,2, -999.00,9,  -999.0,9, -999.00,9,-999.0000,9,-999.0000,9,-999.0000,9,  -999.0,9,  -999.0,9,   3.582,2, -999.00,9,      2.306,2
09AR20071216,    CEAMARC,      96,          1,         23,         23,2,20080114,       1846,   -66.1622,   140.6617,        222,     9.7,  -0.8327,  34.1450,2,-999.0000,9,   338.96,2, -999.00,9,  -999.0,9, -999.00,9,-999.0000,9,-999.0000,9,-999.0000,9,  -999.0,9,  -999.0,9,   3.536,2, -999.00,9,      2.308,2
09AR20071216,    CEAMARC,      96,          1,         22,         22,2,20080114,       1846,   -66.1622,   140.6617,        222,     9.9,  -0.8373,  34.1444,2,-999.0000,9,   338.96,2, -999.00,9,  -999.0,9, -999.00,9,-999.0000,9,-999.0000,9,-999.0000,9,  -999.0,9,  -999.0,9,   3.437,2, -999.00,9,      2.290,2
09AR20071216,    CEAMARC,      96,          1,         21,         21,2,20080114,       1846,   -66.1622,   140.6617,        222,     9.7,  -0.8418,  34.1436,2,-999.0000,9,   338.96,2, -999.00,9,  -999.0,9, -999.00,9,-999.0000,9,-999.0000,9,-999.0000,9,  -999.0,9,  -999.0,9,   3.461,2, -999.00,9,      2.295,2
09AR20071216,    CEAMARC,      96,          1,         20,         20,2,20080114,       1846,   -66.1622,   140.6617,        222,    10.0,  -0.8452,  34.1433,2,-999.0000,9,   338.96,2, -999.00,9,  -999.0,9, -999.00,9,-999.0000,9,-999.0000,9,-999.0000,9,  -999.0,9,  -999.0,9,   3.515,2, -999.00,9,      2.254,2
09AR20071216,    CEAMARC,      96,          1,         19,         19,2,20080114,       1846,   -66.1622,   140.6617,        222,     9.8,  -0.8491,  34.1426,2,-999.0000,9,   338.96,2, -999.00,9,  -999.0,9, -999.00,9,-999.0000,9,-999.0000,9,-999.0000,9,  -999.0,9,  -999.0,9,   3.516,2, -999.00,9,      2.267,2
09AR20071216,    CEAMARC,      96,          1,         18,         18,2,20080114,       1846,   -66.1622,   140.6617,        222,     9.8,  -0.8502,  34.1424,2,-999.0000,9,   338.96,2, -999.00,9,  -999.0,9, -999.00,9,-999.0000,9,-999.0000,9,-999.0000,9,  -999.0,9,  -999.0,9,   3.478,2, -999.00,9,      2.283,2
09AR20071216,    CEAMARC,      96,          1,         17,         17,2,20080114,       1846,   -66.1622,   140.6617,        222,     9.8,  -0.8497,  34.1424,2,-999.0000,9,   338.96,2, -999.00,9,  -999.0,9, -999.00,9,-999.0000,9,-999.0000,9,-999.0000,9,  -999.0,9,  -999.0,9,   3.511,2, -999.00,9,      2.300,2
09AR20071216,    CEAMARC,      96,          1,         16,         16,2,20080114,       1846,   -66.1622,   140.6617,        222,     9.9,  -0.8487,  34.1427,2,-999.0000,9,   338.96,2, -999.00,9,  -999.0,9, -999.00,9,-999.0000,9,-999.0000,9,-999.0000,9,  -999.0,9,  -999.0,9,   3.574,2, -999.00,9,      2.304,2
09AR20071216,    CEAMARC,      96,          1,         15,         15,2,20080114,       1846,   -66.1622,   140.6617,        222,    10.1,  -0.8491,  34.1427,2,-999.0000,9,   338.96,2, -999.00,9,  -999.0,9, -999.00,9,-999.0000,9,-999.0000,9,-999.0000,9,  -999.0,9,  -999.0,9,   3.542,2, -999.00,9,      2.286,2
09AR20071216,    CEAMARC,      96,          1,         14,         14,2,20080114,       1846,   -66.1622,   140.6617,        222,    10.1,  -0.8495,  34.1426,2,-999.0000,9,   338.96,2, -999.00,9,  -999.0,9, -999.00,9,-999.0000,9,-999.0000,9,-999.0000,9,  -999.0,9,  -999.0,9,   3.592,2, -999.00,9,      2.282,2
09AR20071216,    CEAMARC,      96,          1,         13,         13,2,20080114,       1846,   -66.1622,   140.6617,        222,    10.1,  -0.8498,  34.1425,2,-999.0000,9,   338.96,2, -999.00,9,  -999.0,9, -999.00,9,-999.0000,9,-999.0000,9,-999.0000,9,  -999.0,9,  -999.0,9,   3.637,2, -999.00,9,      2.278,2
09AR20071216,    CEAMARC,      96,          1,         12,         12,2,20080114,       1846,   -66.1622,   140.6617,        222,    10.1,  -0.8514,  34.1423,2,  34.1440,2,   338.96,2,  341.73,2,    67.2,2,    1.80,2,   5.4230,2,   2.7993,2,   0.4410,2,  2186.9,6,  2312.5,2,   3.616,2,   27.71,3,      2.257,2
09AR20071216,    CEAMARC,      96,          1,         11,         11,2,20080114,       1846,   -66.1622,   140.6617,        222,    10.1,  -0.8522,  34.1424,2,-999.0000,9,   338.96,2, -999.00,9,  -999.0,9, -999.00,9,-999.0000,9,-999.0000,9,-999.0000,9,  -999.0,9,  -999.0,9,   3.704,2, -999.00,9,      2.268,2
09AR20071216,    CEAMARC,      96,          1,         10,         10,2,20080114,       1846,   -66.1622,   140.6617,        222,    24.0,  -0.9095,  34.1550,2,  34.1590,2,   337.43,2,  333.90,2,    67.5,2,    1.80,2,   5.3016,2,   2.7649,2,   0.4219,2,  2186.4,2,  2313.8,6,   3.615,2,   27.72,3,      1.575,2
09AR20071216,    CEAMARC,      96,          1,          9,          9,2,20080114,       1846,   -66.1622,   140.6617,        222,    23.8,  -0.9183,  34.1572,2,-999.0000,9,   337.43,2, -999.00,9,  -999.0,9, -999.00,9,-999.0000,9,-999.0000,9,-999.0000,9,  -999.0,9,  -999.0,9,   3.869,2, -999.00,9,      1.584,2
09AR20071216,    CEAMARC,      96,          1,          8,          8,2,20080114,       1846,   -66.1622,   140.6617,        222,    69.0,  -1.3122,  34.3481,2,  34.3472,2,   311.39,2,  310.47,2,    73.6,2,    2.01,2,   4.7155,2,   2.4500,2,   0.3705,2,  2223.5,2,  2327.4,2,   1.117,2,   29.73,3,      0.002,2
09AR20071216,    CEAMARC,      96,          1,          7,          7,2,20080114,       1846,   -66.1622,   140.6617,        222,    69.0,  -1.3126,  34.3483,2,-999.0000,9,   311.39,2, -999.00,9,  -999.0,9, -999.00,9,-999.0000,9,-999.0000,9,-999.0000,9,  -999.0,9,  -999.0,9,   1.138,2, -999.00,9,      0.001,2
09AR20071216,    CEAMARC,      96,          1,          6,          6,2,20080114,       1846,   -66.1622,   140.6617,        222,   122.2,  -1.3103,  34.4310,2,  34.4315,2,   297.88,2,  299.06,2,    76.9,2,    2.07,2,   4.4306,2,   2.3138,2,   0.3629,2,    2223,2,  2330.2,6,   0.380,2,   30.05,3,      0.001,2
09AR20071216,    CEAMARC,      96,          1,          5,          5,2,20080114,       1846,   -66.1622,   140.6617,        222,   121.9,  -1.3100,  34.4312,2,-999.0000,9,   297.88,2, -999.00,9,  -999.0,9, -999.00,9,-999.0000,9,-999.0000,9,-999.0000,9,  -999.0,9,  -999.0,9,   0.340,2, -999.00,9,      0.001,2
09AR20071216,    CEAMARC,      96,          1,          4,          4,2,20080114,       1846,   -66.1622,   140.6617,        222,   157.9,  -1.3940,  34.5141,2,  34.5138,2,   289.27,2,  288.70,2,    80.3,2,    2.12,2,   4.2338,2,   2.2054,2,   0.3376,2,  2235.8,2,  2335.8,2,   0.054,2,   30.77,3,      0.001,2
09AR20071216,    CEAMARC,      96,          1,          3,          3,2,20080114,       1846,   -66.1622,   140.6617,        222,   157.9,  -1.3938,  34.5139,2,-999.0000,9,   289.27,2, -999.00,9,  -999.0,9, -999.00,9,-999.0000,9,-999.0000,9,-999.0000,9,  -999.0,9,  -999.0,9,   0.060,2, -999.00,9,      0.001,2
09AR20071216,    CEAMARC,      96,          1,          2,          2,2,20080114,       1846,   -66.1622,   140.6617,        222,   208.0,  -1.2331,  34.5432,2,  34.5438,2,   282.73,2,  281.61,2,    85.1,2,    2.14,2,   3.8377,6,   2.0254,6,   0.2988,6,  2251.6,2,  2339.3,2,   0.003,2,   31.58,3,      0.001,2
09AR20071216,    CEAMARC,      96,          1,          1,          1,2,20080114,       1846,   -66.1622,   140.6617,        222,   207.9,  -1.2345,  34.5431,2,-999.0000,9,   282.73,2, -999.00,9,  -999.0,9, -999.00,9,-999.0000,9,-999.0000,9,-999.0000,9,  -999.0,9,  -999.0,9,   0.003,2, -999.00,9,      0.001,2