BOTTLE,20230622CCHSIOENA
EXPOCODE,SECT_ID,STNNBR,CASTNO,SAMPNO,BTLNBR,BTLNBR_FLAG_W,DATE,TIME,LATITUDE,LONGITUDE,DEPTH,CTDPRS,CTDTMP,CTDSAL,CTDSAL_FLAG_W,SALNTY,SALNTY_FLAG_W,CTDOXY,CTDOXY_FLAG_W,OXYGEN,OXYGEN_FLAG_W,SILCAT,SILCAT_FLAG_W,PHSPHT,PHSPHT_FLAG_W,CFC-11,CFC-11_FLAG_W,CFC-12,CFC-12_FLAG_W,CFC113,CFC113_FLAG_W,TCARBN,TCARBN_FLAG_W,ALKALI,ALKALI_FLAG_W,FLUOR,FLUOR_FLAG_W,NO2+NO3,NO2+NO3_FLAG_W,PAR,PAR_FLAG_W
,,,,,,,,,,,METERS,DBAR,ITS-90,PSS-78,,PSS-78,,UMOL/KG,,UMOL/KG,,UMOL/KG,,UMOL/KG,,PMOL/KG,,PMOL/KG,,PMOL/KG,,UMOL/KG,,UMOL/KG,,MG/M^3,,UMOL/KG,,VOLTS,
09AR20071216,       CASO,      63,          1,         24,         24,2,20080108,       0247,   -63.0542,   146.4783,       3921,    10.3,   0.8487,  33.7321,2,  33.7333,2,   344.57,2,  343.40,2,    27.9,2,    1.70,2,   6.4112,2,   3.2188,2,   0.5089,2,  2145.3,3,  2285.1,2,  -0.107,2,   26.49,2,      3.411,2
09AR20071216,       CASO,      63,          1,         23,         23,2,20080108,       0247,   -63.0542,   146.4783,       3921,    39.6,   0.5025,  33.7322,2,-999.0000,9,   344.21,2, -999.00,9,  -999.0,9, -999.00,9,-999.0000,9,-999.0000,9,-999.0000,9,  -999.0,9,  -999.0,9,   0.802,2, -999.00,9,      2.678,2
09AR20071216,       CASO,      63,          1,         22,         22,2,20080108,       0247,   -63.0542,   146.4783,       3921,    39.6,   0.5014,  33.7323,2,-999.0000,9,   344.21,2, -999.00,9,  -999.0,9, -999.00,9,-999.0000,9,-999.0000,9,-999.0000,9,  -999.0,9,  -999.0,9,   0.821,2, -999.00,9,      2.663,2
09AR20071216,       CASO,      63,          1,         21,         21,2,20080108,       0247,   -63.0542,   146.4783,       3921,    39.7,   0.4987,  33.7323,2,  33.7329,2,   344.21,2,  343.17,2,    28.4,2,    1.73,2,   6.4018,2,   3.2245,2,   0.4999,2,  2150.7,3,  2285.7,6,   0.792,2,   26.36,2,      2.684,2
09AR20071216,       CASO,      63,          1,         20,         20,2,20080108,       0247,   -63.0542,   146.4783,       3921,    58.8,  -0.9163,  33.9563,2,  33.9503,2,   321.25,2,  322.09,2,    39.9,2,    2.08,2,   5.7863,2,   2.8970,2,   0.4597,2,  2177.4,3,  2298.5,2,   0.730,2,   29.95,2,      2.332,2
09AR20071216,       CASO,      63,          1,         19,         19,2,20080108,       0247,   -63.0542,   146.4783,       3921,   101.1,   1.5333,  34.4302,2,  34.4307,2,   200.78,2,  197.63,2,    69.3,2,    2.43,2,   1.9266,2,   0.9957,2,   0.1485,2,  2245.8,3,  2324.9,2,   0.283,2,   35.64,2,      1.507,2
09AR20071216,       CASO,      63,          1,         18,         18,2,20080108,       0247,   -63.0542,   146.4783,       3921,   249.9,   2.0624,  34.6191,2,  34.6191,2,   174.53,2,  174.75,2,    79.5,2,    2.36,2,   0.6416,2,   0.3243,2,   0.0414,2,  2255.3,3,  2337.1,2,  -0.020,2,   34.58,2,      0.001,2
09AR20071216,       CASO,      63,          1,         17,         17,2,20080108,       0247,   -63.0542,   146.4783,       3921,   400.2,   2.0507,  34.6818,2,  34.6817,2,   178.27,2,  179.38,2,    82.3,2,    2.26,2,   0.3916,2,   0.1960,2,   0.0246,2,  2251.3,3,  2347.4,2,  -0.023,2,   33.23,2,      0.001,2
09AR20071216,       CASO,      63,          1,         16,         16,2,20080108,       0247,   -63.0542,   146.4783,       3921,   597.7,   1.8987,  34.7141,2,  34.7145,2,   185.24,2,  187.54,2,    84.8,2,    2.22,2,   0.3618,2,   0.1813,2,   0.0288,2,  2243.3,3,    2349,2,  -0.022,2,   31.71,2,      0.001,2
09AR20071216,       CASO,      63,          1,         15,         15,2,20080108,       0247,   -63.0542,   146.4783,       3921,   800.9,   1.7878,  34.7343,2,  34.7353,2,   192.18,2,  191.98,2,    87.3,2,    2.16,2,   0.2464,2,   0.1240,2,   0.0162,2,  2247.8,4,  2353.5,2,  -0.028,2,   30.71,2,      0.001,2
09AR20071216,       CASO,      63,          1,         14,         14,2,20080108,       0247,   -63.0542,   146.4783,       3921,   999.0,   1.6511,  34.7406,2,  34.7410,2,   196.56,2,  198.23,2,    91.5,2,    2.15,2,   0.2044,2,   0.1033,2,   0.0152,2,  2246.8,4,  2347.5,2,  -0.027,2,   30.38,2,      0.001,2
09AR20071216,       CASO,      63,          1,         13,         13,2,20080108,       0247,   -63.0542,   146.4783,       3921,  1198.2,   1.4665,  34.7386,2,  34.7394,2,   200.35,2,  200.05,2,    97.6,2,    2.17,2,   0.1855,2,   0.0927,2,   0.0106,2,  2250.6,3,  2362.1,2,  -0.031,2,   31.10,2,      0.001,2
09AR20071216,       CASO,      63,          1,         12,         12,2,20080108,       0247,   -63.0542,   146.4783,       3921,  1402.3,   1.2968,  34.7330,2,  34.7337,2,   203.05,2,  202.26,2,   103.8,2,    2.20,2,   0.1888,2,   0.0941,2,   0.0105,2,  2253.8,6,  2361.4,2,  -0.030,2,   31.90,2,      0.001,2
09AR20071216,       CASO,      63,          1,         11,         11,2,20080108,       0247,   -63.0542,   146.4783,       3921,  1599.5,   1.1394,  34.7259,2,  34.7262,2,   204.17,2,  203.92,2,   107.7,2,    2.22,2,   0.1806,2,   0.0870,2,   0.0066,2,  2252.3,3,  2362.6,6,  -0.032,2,   32.14,2,      0.001,2
09AR20071216,       CASO,      63,          1,         10,         10,2,20080108,       0247,   -63.0542,   146.4783,       3921,  1797.5,   0.9815,  34.7180,2,  34.7178,2,   206.01,2,  205.87,2,   112.6,2,    2.25,2,   0.1922,2,   0.1002,2,   0.0084,2,  2255.6,3,  2366.1,2,  -0.033,2,   32.33,2,      0.001,2
09AR20071216,       CASO,      63,          1,          9,          9,2,20080108,       0247,   -63.0542,   146.4783,       3921,  2002.3,   0.8333,  34.7102,2,  34.7104,2,   208.31,2,  207.51,2,   116.5,2,    2.26,2,   0.2156,6,   0.1089,6,   0.0092,6,    2256,3,  2360.9,6,  -0.037,2,   32.36,2,      0.001,2
09AR20071216,       CASO,      63,          1,          8,          8,2,20080108,       0247,   -63.0542,   146.4783,       3921,  2198.2,   0.6748,  34.7022,2,  34.7023,2,   210.86,2,  211.12,2,   120.7,2,    2.28,2,   0.2497,2,   0.1228,2,   0.0136,2,  2257.8,3,  2364.7,2,  -0.035,2,   32.68,2,      0.001,2
09AR20071216,       CASO,      63,          1,          7,          7,2,20080108,       0247,   -63.0542,   146.4783,       3921,  2501.9,   0.4823,  34.6929,2,  34.6927,2,   214.94,2,  215.12,2,   124.6,2,    2.30,2,   0.3441,2,   0.1703,2,   0.0174,2,  2256.4,3,  2361.3,2,  -0.036,2,   32.80,2,      0.001,2
09AR20071216,       CASO,      63,          1,          6,          6,2,20080108,       0247,   -63.0542,   146.4783,       3921,  2799.4,   0.2993,  34.6842,2,  34.6835,2,   219.68,2,  220.37,2,   125.4,2,    2.28,2,   0.5671,2,   0.2768,2,   0.0287,2,  2257.2,3,  2356.5,2,  -0.036,2,   32.59,2,      0.001,2
09AR20071216,       CASO,      63,          1,          5,          5,2,20080108,       0247,   -63.0542,   146.4783,       3921,  3099.9,   0.1862,  34.6812,2,  34.6803,2,   223.59,2,  223.46,2,   130.7,2,    2.32,2,   0.6309,2,   0.3072,2,   0.0296,2,  2257.4,3,  2358.9,2,  -0.038,2,   33.25,2,      0.001,2
09AR20071216,       CASO,      63,          1,          4,          4,2,20080108,       0247,   -63.0542,   146.4783,       3921,  3403.2,   0.0774,  34.6760,2,  34.6758,2,   228.01,2,  228.46,2,   129.4,2,    2.31,2,   0.9334,2,   0.4585,2,   0.0524,2,  2256.8,3,  2359.8,6,  -0.040,2,   33.16,2,      0.001,2
09AR20071216,       CASO,      63,          1,          3,          3,2,20080108,       0247,   -63.0542,   146.4783,       3921,  3701.9,  -0.0465,  34.6690,2,  34.6682,2,   233.44,2,  233.28,2,   125.2,2,    2.31,2,   1.4420,2,   0.7146,2,   0.0894,2,  2255.3,4,  2364.4,2,  -0.042,2,   33.01,2,      0.001,2
09AR20071216,       CASO,      63,          1,          2,          2,2,20080108,       0247,   -63.0542,   146.4783,       3921,  3920.7,  -0.1773,  34.6585,2,  34.6580,2,   239.16,2,  238.93,2,   117.2,2,    2.28,2,   1.9853,2,   1.0174,2,   0.1360,2,  2255.5,3,  2357.4,6,  -0.041,2,   32.67,2,      0.001,2
09AR20071216,       CASO,      63,          1,          1,          1,2,20080108,       0247,   -63.0542,   146.4783,       3921,  3977.1,  -0.2007,  34.6622,2,  34.6613,2,   239.77,2,  239.97,2,   115.1,2,    2.27,2,   2.2355,2,   1.1491,2,   0.1535,2,  2254.4,6,    2358,2,  -0.042,2,   32.47,2,      0.001,2
09AR20071216,       CASO,      64,          1,         24,         24,2,20080108,       0936,   -63.1742,   147.8515,       3882,    10.1,   0.6453,  33.6979,2,  33.6985,2,   350.11,2,  350.35,2,    27.9,2,    1.68,2,   6.2559,2,   3.1780,2,   0.4889,2,  2146.8,6,  2279.1,6,   2.265,2,   26.82,2,      1.010,2
09AR20071216,       CASO,      64,          1,         23,         23,2,20080108,       0936,   -63.1742,   147.8515,       3882,    10.1,   0.6370,  33.6979,2,-999.0000,9,   350.11,2, -999.00,9,  -999.0,9, -999.00,9,-999.0000,9,-999.0000,9,-999.0000,9,  -999.0,9,  -999.0,9,   2.243,2, -999.00,9,      1.019,2
09AR20071216,       CASO,      64,          1,         22,         22,2,20080108,       0936,   -63.1742,   147.8515,       3882,    10.0,   0.6349,  33.6977,2,-999.0000,9,   350.11,2, -999.00,9,  -999.0,9, -999.00,9,-999.0000,9,-999.0000,9,-999.0000,9,  -999.0,9,  -999.0,9,   2.275,2, -999.00,9,      1.029,2
09AR20071216,       CASO,      64,          1,         21,         21,2,20080108,       0936,   -63.1742,   147.8515,       3882,    44.5,   0.4268,  33.6968,2,  33.6977,2,   349.71,2,  348.18,2,    27.9,2,    1.69,2,   6.3062,2,   3.1766,2,   0.4896,2,  2146.8,3,  2280.1,6,   2.601,2,   26.74,2,      0.011,2
09AR20071216,       CASO,      64,          1,         20,         20,2,20080108,       0936,   -63.1742,   147.8515,       3882,    65.0,  -0.5232,  34.1634,2,  34.1631,2,   307.70,2,  279.61,2,    52.4,2,    2.22,2,   4.2345,2,   2.1922,2,   0.3424,2,  2206.9,3,    2319,2,   1.472,2,   32.44,2,      0.001,2
09AR20071216,       CASO,      64,          1,         19,         19,2,20080108,       0936,   -63.1742,   147.8515,       3882,    98.4,   1.4174,  34.4857,2,  34.4807,2,   191.66,2,  193.18,2,    73.1,2,    2.42,2,   1.6747,2,   0.8736,2,   0.1228,2,  2249.7,3,  2324.7,2,   0.243,2,   35.81,2,      0.001,2
09AR20071216,       CASO,      64,          1,         18,         18,2,20080108,       0936,   -63.1742,   147.8515,       3882,   248.9,   1.8874,  34.6360,2,  34.6352,2,   177.57,2,  177.26,2,    81.6,2,    2.33,2,   0.8298,2,   0.4224,2,   0.0587,2,  2284.9,3,  2339.8,2,  -0.022,2,   34.50,2,      0.001,2
09AR20071216,       CASO,      64,          1,         17,         17,2,20080108,       0936,   -63.1742,   147.8515,       3882,   404.7,   1.8999,  34.6929,2,  34.6907,2,   182.83,2,  182.55,2,    83.6,2,    2.25,2,   0.4439,2,   0.2185,2,   0.0364,2,  2254.2,3,    2341,2,  -0.024,2,   33.15,2,      0.001,2
09AR20071216,       CASO,      64,          1,         16,         16,2,20080108,       0936,   -63.1742,   147.8515,       3882,   597.4,   1.8359,  34.7244,2,  34.7249,2,   189.19,2, -999.00,9,    85.8,2,    2.19,2,   0.3919,2,   0.1987,2,   0.0282,2,    2251,3,  2346.4,2,  -0.027,2,   32.03,2,      0.001,2
09AR20071216,       CASO,      64,          1,         15,         15,2,20080108,       0936,   -63.1742,   147.8515,       3882,   799.9,   1.6920,  34.7373,2,  34.7372,2,   195.05,2,  194.71,2,    89.1,2,    2.15,2,   0.2354,2,   0.1171,2,   0.0158,2,  2258.7,3,  2347.8,2,  -0.022,2,   31.29,2,      0.001,2
09AR20071216,       CASO,      64,          1,         14,         14,2,20080108,       0936,   -63.1742,   147.8515,       3882,  1000.9,   1.5355,  34.7388,2,  34.7392,2,   198.68,2,  198.05,2,    93.0,2,    2.15,2,   0.2185,2,   0.1098,2,   0.0146,2,  2250.6,3,  2350.7,2,  -0.032,2,   30.80,2,      0.001,2
09AR20071216,       CASO,      64,          1,         13,         13,2,20080108,       0936,   -63.1742,   147.8515,       3882,  1198.9,   1.3636,  34.7346,2,  34.7359,2,   201.03,2, -999.00,9,    99.1,2,    2.18,2,-999.0000,9,-999.0000,9,-999.0000,9,  -999.0,9,  -999.0,9,  -0.031,2,   31.33,2,      0.001,2
09AR20071216,       CASO,      64,          1,         12,         12,2,20080108,       0936,   -63.1742,   147.8515,       3882,  1396.6,   1.1972,  34.7278,2,  34.7282,2,   202.97,2,  203.13,2,   104.5,2,    2.20,2,   0.2140,2,   0.1028,2,   0.0118,2,  2255.5,6,  2357.1,2,  -0.034,2,   32.08,2,      0.001,2
09AR20071216,       CASO,      64,          1,         11,         11,2,20080108,       0936,   -63.1742,   147.8515,       3882,  1599.5,   1.0341,  34.7200,2,  34.7202,2,   205.36,2,  205.56,2,   109.1,2,    2.22,2,   0.2402,2,   0.1186,2,   0.0114,2,  2249.8,3,  2357.4,6,  -0.033,2,   32.30,2,      0.001,2
09AR20071216,       CASO,      64,          1,         10,         10,2,20080108,       0936,   -63.1742,   147.8515,       3882,  1801.0,   0.8772,  34.7125,2,  34.7119,2,   207.61,2,  207.35,2,   114.5,2,    2.25,2,   0.2583,2,   0.1243,2,   0.0129,2,  2261.1,3,  2353.6,2,  -0.034,2,   32.64,2,      0.001,2
09AR20071216,       CASO,      64,          1,          9,          9,2,20080108,       0936,   -63.1742,   147.8515,       3882,  2000.2,   0.7545,  34.7058,2,  34.7058,2,   209.91,2,  210.82,2,   117.4,2,    2.26,2,   0.2526,2,   0.1294,2,   0.0138,2,  2258.7,3,  2353.7,2,  -0.036,2,   32.78,2,      0.001,2
09AR20071216,       CASO,      64,          1,          8,          8,2,20080108,       0936,   -63.1742,   147.8515,       3882,  2198.1,   0.6043,  34.6987,2,  34.6984,2,   212.42,2,  213.25,2,   121.4,2,    2.28,2,   0.2781,2,   0.1347,2,   0.0164,2,  2262.4,3,  2360.3,2,  -0.037,2,   33.00,2,      0.001,2
09AR20071216,       CASO,      64,          1,          7,          7,2,20080108,       0936,   -63.1742,   147.8515,       3882,  2499.6,   0.4118,  34.6898,2,  34.6894,2,   216.77,2,  217.29,2,   125.2,2,    2.30,2,   0.4264,2,   0.2127,2,   0.0206,2,  2261.3,3,  2356.4,2,  -0.036,2,   33.14,2,      0.001,2
09AR20071216,       CASO,      64,          1,          6,          6,2,20080108,       0936,   -63.1742,   147.8515,       3882,  2799.6,   0.2763,  34.6850,2,  34.6844,2,   220.71,2,  220.81,2,   128.8,2,    2.30,2,   0.4985,2,   0.2419,2,   0.0243,2,  2259.9,3,    2356,2,  -0.040,2,   33.19,2,      0.001,2
09AR20071216,       CASO,      64,          1,          5,          5,2,20080108,       0936,   -63.1742,   147.8515,       3882,  3102.8,   0.1627,  34.6804,2,  34.6799,2,   224.69,2,  224.20,2,   128.7,2,    2.29,2,   0.6879,2,   0.3376,2,   0.0399,2,  2261.7,3,    2356,2,  -0.041,2,   32.50,2,      0.001,2
09AR20071216,       CASO,      64,          1,          4,          4,2,20080108,       0936,   -63.1742,   147.8515,       3882,  3399.6,   0.0480,  34.6750,2,  34.6737,2,   229.53,2,  227.89,2,   126.3,2,    2.28,2,   1.0031,2,   0.4920,2,   0.0542,2,  2262.6,3,  2355.9,2,  -0.040,2,   31.98,2,      0.001,2
09AR20071216,       CASO,      64,          1,          3,          3,2,20080108,       0936,   -63.1742,   147.8515,       3882,  3697.5,  -0.0593,  34.6681,2,  34.6676,2,   234.60,2,  236.14,2,   122.5,2,    2.27,2,   1.4567,2,   0.7320,2,   0.0960,2,  2259.6,3,  2353.4,2,  -0.043,2,   31.46,2,      0.001,2
09AR20071216,       CASO,      64,          1,          2,          2,2,20080108,       0936,   -63.1742,   147.8515,       3882,  3891.6,  -0.1745,  34.6604,2,  34.6599,2,   238.97,2,  238.71,2,   116.7,2,    2.25,2,   1.9986,2,   1.0128,2,   0.1452,2,  2252.9,3,  2350.4,6,  -0.043,2,   31.64,2,      0.001,2
09AR20071216,       CASO,      64,          1,          1,          1,2,20080108,       0936,   -63.1742,   147.8515,       3882,  3939.1,  -0.1971,  34.6621,2,  34.6611,2,   239.66,2,  240.14,2,   115.3,2,    2.26,2,   2.2060,2,   1.1271,2,   0.1563,2,  2260.4,6,  2353.5,2,  -0.044,2,   32.04,2,      0.001,2