BOTTLE,20230622CCHSIOENA
EXPOCODE,SECT_ID,STNNBR,CASTNO,SAMPNO,BTLNBR,BTLNBR_FLAG_W,DATE,TIME,LATITUDE,LONGITUDE,DEPTH,CTDPRS,CTDTMP,CTDSAL,CTDSAL_FLAG_W,SALNTY,SALNTY_FLAG_W,CTDOXY,CTDOXY_FLAG_W,OXYGEN,OXYGEN_FLAG_W,SILCAT,SILCAT_FLAG_W,PHSPHT,PHSPHT_FLAG_W,CFC-11,CFC-11_FLAG_W,CFC-12,CFC-12_FLAG_W,CFC113,CFC113_FLAG_W,TCARBN,TCARBN_FLAG_W,ALKALI,ALKALI_FLAG_W,FLUOR,FLUOR_FLAG_W,NO2+NO3,NO2+NO3_FLAG_W,PAR,PAR_FLAG_W
,,,,,,,,,,,METERS,DBAR,ITS-90,PSS-78,,PSS-78,,UMOL/KG,,UMOL/KG,,UMOL/KG,,UMOL/KG,,PMOL/KG,,PMOL/KG,,PMOL/KG,,UMOL/KG,,UMOL/KG,,MG/M^3,,UMOL/KG,,VOLTS,
09AR20071216,       SAZC,       3,          1,         24,         24,2,20071219,       0352,   -53.7568,   141.8592,       2962,  1000.4,   2.3556,  34.6526,2,  34.6513,2,  -999.00,5, -999.00,9,  -999.0,9, -999.00,9,   0.3422,2,   0.1662,2,   0.0234,2,  -999.0,9,  -999.0,9,  -0.028,2, -999.00,9,      0.001,2
09AR20071216,       SAZC,       3,          1,         23,         23,2,20071219,       0352,   -53.7568,   141.8592,       2962,  1000.5,   2.3558,  34.6525,2,-999.0000,9,  -999.00,5, -999.00,9,  -999.0,9, -999.00,9,-999.0000,9,-999.0000,9,-999.0000,9,  -999.0,9,  -999.0,9,  -0.029,2, -999.00,9,      0.001,2
09AR20071216,       SAZC,       3,          1,         22,         22,2,20071219,       0352,   -53.7568,   141.8592,       2962,  1000.2,   2.3558,  34.6524,2,-999.0000,9,  -999.00,5, -999.00,9,  -999.0,9, -999.00,9,-999.0000,9,-999.0000,9,-999.0000,9,  -999.0,9,  -999.0,9,  -0.027,2, -999.00,9,      0.001,2
09AR20071216,       SAZC,       3,          1,         21,         21,2,20071219,       0352,   -53.7568,   141.8592,       2962,  1000.2,   2.3558,  34.6525,2,-999.0000,9,  -999.00,5, -999.00,9,  -999.0,9, -999.00,9,-999.0000,9,-999.0000,9,-999.0000,9,  -999.0,9,  -999.0,9,  -0.025,2, -999.00,9,      0.001,2
09AR20071216,       SAZC,       3,          1,         20,         20,2,20071219,       0352,   -53.7568,   141.8592,       2962,   999.8,   2.3562,  34.6520,2,  34.6501,2,  -999.00,5, -999.00,9,  -999.0,9, -999.00,9,   0.3441,2,   0.1679,2,   0.0214,2,  -999.0,9,  -999.0,9,  -0.027,2, -999.00,9,      0.001,2
09AR20071216,       SAZC,       3,          1,         19,         19,2,20071219,       0352,   -53.7568,   141.8592,       2962,   999.1,   2.3567,  34.6515,2,-999.0000,9,  -999.00,5, -999.00,9,  -999.0,9, -999.00,9,-999.0000,9,-999.0000,9,-999.0000,9,  -999.0,9,  -999.0,9,  -0.029,2, -999.00,9,      0.001,2
09AR20071216,       SAZC,       3,          1,         18,         18,2,20071219,       0352,   -53.7568,   141.8592,       2962,   998.5,   2.3563,  34.6519,2,  34.6505,2,  -999.00,5, -999.00,9,  -999.0,9, -999.00,9,   0.3478,2,   0.1687,2,   0.0000,3,  -999.0,9,  -999.0,9,  -0.024,2, -999.00,9,      0.001,2
09AR20071216,       SAZC,       3,          1,         17,         17,2,20071219,       0352,   -53.7568,   141.8592,       2962,   997.9,   2.3562,  34.6521,2,  34.6501,2,  -999.00,5, -999.00,9,  -999.0,9, -999.00,9,-999.0000,9,-999.0000,9,-999.0000,9,  -999.0,9,  -999.0,9,  -0.025,2, -999.00,9,      0.001,2
09AR20071216,       SAZC,       3,          1,         16,         16,2,20071219,       0352,   -53.7568,   141.8592,       2962,   998.0,   2.3560,  34.6521,2,  34.6505,2,  -999.00,5, -999.00,9,  -999.0,9, -999.00,9,   0.3380,2,   0.1644,2,   0.0169,2,  -999.0,9,  -999.0,9,  -0.026,2, -999.00,9,      0.001,2
09AR20071216,       SAZC,       3,          1,         15,         15,2,20071219,       0352,   -53.7568,   141.8592,       2962,   998.0,   2.3561,  34.6521,2,-999.0000,9,  -999.00,5, -999.00,9,  -999.0,9, -999.00,9,-999.0000,9,-999.0000,9,-999.0000,9,  -999.0,9,  -999.0,9,  -0.027,2, -999.00,9,      0.001,2
09AR20071216,       SAZC,       3,          1,         14,         14,2,20071219,       0352,   -53.7568,   141.8592,       2962,   998.0,   2.3559,  34.6523,2,  34.6511,2,  -999.00,5, -999.00,9,  -999.0,9, -999.00,9,   0.3360,2,   0.1644,2,   0.0231,2,  -999.0,9,  -999.0,9,  -0.025,2, -999.00,9,      0.001,2
09AR20071216,       SAZC,       3,          1,         13,         13,2,20071219,       0352,   -53.7568,   141.8592,       2962,   998.4,   2.3558,  34.6524,2,-999.0000,9,  -999.00,5, -999.00,9,  -999.0,9, -999.00,9,-999.0000,9,-999.0000,9,-999.0000,9,  -999.0,9,  -999.0,9,  -0.025,2, -999.00,9,      0.001,2
09AR20071216,       SAZC,       3,          1,         12,         12,2,20071219,       0352,   -53.7568,   141.8592,       2962,   998.8,   2.3557,  34.6526,2,  34.6517,2,  -999.00,5, -999.00,9,  -999.0,9, -999.00,9,   0.3385,2,   0.1732,2,   0.0245,2,  -999.0,9,  -999.0,9,  -0.028,2, -999.00,9,      0.001,2
09AR20071216,       SAZC,       3,          1,         11,         11,2,20071219,       0352,   -53.7568,   141.8592,       2962,   999.2,   2.3556,  34.6527,2,-999.0000,9,  -999.00,5, -999.00,9,  -999.0,9, -999.00,9,-999.0000,9,-999.0000,9,-999.0000,9,  -999.0,9,  -999.0,9,  -0.027,2, -999.00,9,      0.001,2
09AR20071216,       SAZC,       3,          1,         10,         10,2,20071219,       0352,   -53.7568,   141.8592,       2962,   999.4,   2.3558,  34.6525,2,  34.6517,2,  -999.00,5, -999.00,9,  -999.0,9, -999.00,9,   0.3423,2,   0.1664,2,   0.0000,3,  -999.0,9,  -999.0,9,  -0.024,2, -999.00,9,      0.001,2
09AR20071216,       SAZC,       3,          1,          9,          9,2,20071219,       0352,   -53.7568,   141.8592,       2962,   999.2,   2.3557,  34.6525,2,-999.0000,9,  -999.00,5, -999.00,9,  -999.0,9, -999.00,9,-999.0000,9,-999.0000,9,-999.0000,9,  -999.0,9,  -999.0,9,  -0.030,2, -999.00,9,      0.001,2
09AR20071216,       SAZC,       3,          1,          8,          8,2,20071219,       0352,   -53.7568,   141.8592,       2962,   999.3,   2.3557,  34.6525,2,  34.6517,2,  -999.00,5, -999.00,9,  -999.0,9, -999.00,9,   0.3379,2,   0.1670,2,   0.0197,2,  -999.0,9,  -999.0,9,  -0.028,2, -999.00,9,      0.001,2
09AR20071216,       SAZC,       3,          1,          7,          7,2,20071219,       0352,   -53.7568,   141.8592,       2962,   999.1,   2.3556,  34.6526,2,-999.0000,9,  -999.00,5, -999.00,9,  -999.0,9, -999.00,9,-999.0000,9,-999.0000,9,-999.0000,9,  -999.0,9,  -999.0,9,  -0.025,2, -999.00,9,      0.001,2
09AR20071216,       SAZC,       3,          1,          6,          6,2,20071219,       0352,   -53.7568,   141.8592,       2962,   999.1,   2.3554,  34.6527,2,  34.6517,2,  -999.00,5, -999.00,9,  -999.0,9, -999.00,9,   0.3398,6,   0.1666,6,   0.0130,6,  -999.0,9,  -999.0,9,  -0.027,2, -999.00,9,      0.001,2
09AR20071216,       SAZC,       3,          1,          5,          5,2,20071219,       0352,   -53.7568,   141.8592,       2962,   999.1,   2.3555,  34.6526,2,-999.0000,9,  -999.00,5, -999.00,9,  -999.0,9, -999.00,9,-999.0000,9,-999.0000,9,-999.0000,9,  -999.0,9,  -999.0,9,  -0.025,2, -999.00,9,      0.001,2
09AR20071216,       SAZC,       3,          1,          4,          4,2,20071219,       0352,   -53.7568,   141.8592,       2962,   999.3,   2.3557,  34.6525,2,  34.6517,2,  -999.00,5, -999.00,9,  -999.0,9, -999.00,9,   0.3361,6,   0.1630,6,   0.0222,6,  -999.0,9,  -999.0,9,  -0.024,2, -999.00,9,      0.001,2
09AR20071216,       SAZC,       3,          1,          3,          3,2,20071219,       0352,   -53.7568,   141.8592,       2962,  1000.0,   2.3552,  34.6529,2,-999.0000,9,  -999.00,5, -999.00,9,  -999.0,9, -999.00,9,-999.0000,9,-999.0000,9,-999.0000,9,  -999.0,9,  -999.0,9,  -0.027,2, -999.00,9,      0.001,2
09AR20071216,       SAZC,       3,          1,          2,          2,2,20071219,       0352,   -53.7568,   141.8592,       2962,  1000.5,   2.3549,  34.6533,2,  34.6523,2,  -999.00,5, -999.00,9,  -999.0,9, -999.00,9,-999.0000,9,-999.0000,9,-999.0000,9,  -999.0,9,  -999.0,9,  -0.026,2, -999.00,9,      0.001,2
09AR20071216,       SAZC,       3,          1,          1,          1,2,20071219,       0352,   -53.7568,   141.8592,       2962,  1000.6,   2.3549,  34.6535,2,-999.0000,9,  -999.00,5, -999.00,9,  -999.0,9, -999.00,9,-999.0000,9,-999.0000,9,-999.0000,9,  -999.0,9,  -999.0,9,  -0.026,2, -999.00,9,      0.001,2
09AR20071216,    CEAMARC,       4,          1,         24,         24,2,20071222,       2313,   -66.0047,   142.6593,        443,     3.5,  -0.6745,  34.2444,2,-999.0000,9,   380.79,2,  380.78,2,    54.4,2,    1.43,2,   5.6575,3,   2.8584,3,   0.5975,3,  2166.3,6,  2324.6,6,   3.201,2,   25.20,3,      3.771,2
09AR20071216,    CEAMARC,       4,          1,         23,         23,2,20071222,       2313,   -66.0047,   142.6593,        443,    24.3,  -1.0094,  34.3716,2,-999.0000,9,   368.39,2, -999.00,9,  -999.0,9, -999.00,9,-999.0000,9,-999.0000,9,-999.0000,9,  -999.0,9,  -999.0,9,  13.344,2, -999.00,9,      1.901,2
09AR20071216,    CEAMARC,       4,          1,         22,         22,2,20071222,       2313,   -66.0047,   142.6593,        443,    24.3,  -1.0098,  34.3719,2,-999.0000,9,   368.39,2, -999.00,9,  -999.0,9, -999.00,9,-999.0000,9,-999.0000,9,-999.0000,9,  -999.0,9,  -999.0,9,  13.178,2, -999.00,9,      1.903,2
09AR20071216,    CEAMARC,       4,          1,         21,         21,2,20071222,       2313,   -66.0047,   142.6593,        443,    24.4,  -1.0061,  34.3688,2,  34.3703,2,   368.39,2,  367.78,2,    59.2,2,    1.62,2,   6.6270,2,   3.1344,2,   0.6382,2,  2188.5,2,  2332.3,2,  12.981,2,   26.74,3,      1.900,2
09AR20071216,    CEAMARC,       4,          1,         20,         20,2,20071222,       2313,   -66.0047,   142.6593,        443,    48.8,  -1.5142,  34.4402,2,-999.0000,9,   339.06,2, -999.00,9,  -999.0,9, -999.00,9,-999.0000,9,-999.0000,9,-999.0000,9,  -999.0,9,  -999.0,9,   3.112,2, -999.00,9,      0.490,2
09AR20071216,    CEAMARC,       4,          1,         19,         19,2,20071222,       2313,   -66.0047,   142.6593,        443,    48.7,  -1.5291,  34.4415,2,  34.4417,2,   339.06,2,  339.21,2,    69.4,2,    1.94,2,   5.6992,2,   2.7337,2,   0.6145,2,    2215,2,  2333.4,6,   2.798,2,   29.56,3,      0.507,2
09AR20071216,    CEAMARC,       4,          1,         18,         18,2,20071222,       2313,   -66.0047,   142.6593,        443,    75.0,  -1.7281,  34.4696,2,-999.0000,9,   321.75,2, -999.00,9,  -999.0,9, -999.00,9,-999.0000,9,-999.0000,9,-999.0000,9,  -999.0,9,  -999.0,9,   0.382,2, -999.00,9,      0.001,2
09AR20071216,    CEAMARC,       4,          1,         17,         17,2,20071222,       2313,   -66.0047,   142.6593,        443,    74.9,  -1.7254,  34.4713,2,  34.4720,2,   321.07,2,  321.29,2,    74.5,2,    2.06,2,-999.0000,9,-999.0000,9,-999.0000,9,  -999.0,9,  -999.0,9,   0.391,2,   30.76,3,      0.001,2
09AR20071216,    CEAMARC,       4,          1,         16,         16,2,20071222,       2313,   -66.0047,   142.6593,        443,   100.2,  -1.7547,  34.5044,2,-999.0000,9,   319.73,2, -999.00,9,  -999.0,9, -999.00,9,-999.0000,9,-999.0000,9,-999.0000,9,  -999.0,9,  -999.0,9,   0.690,2, -999.00,9,      0.001,2
09AR20071216,    CEAMARC,       4,          1,         15,         15,2,20071222,       2313,   -66.0047,   142.6593,        443,   100.2,  -1.7511,  34.5031,2,  34.5056,2,   319.73,2,  319.55,2,    75.1,2,    2.06,2,   5.4405,2,   2.6775,2,   0.5044,2,  2228.6,2,  2333.7,2,   0.761,2,   30.67,3,      0.001,2
09AR20071216,    CEAMARC,       4,          1,         14,         14,2,20071222,       2313,   -66.0047,   142.6593,        443,   150.7,  -1.8294,  34.5287,2,-999.0000,9,   317.38,2, -999.00,9,  -999.0,9, -999.00,9,-999.0000,9,-999.0000,9,-999.0000,9,  -999.0,9,  -999.0,9,   0.244,2, -999.00,9,      0.001,2
09AR20071216,    CEAMARC,       4,          1,         13,         13,2,20071222,       2313,   -66.0047,   142.6593,        443,   150.8,  -1.8294,  34.5286,2,  34.5295,2,   317.38,2,  317.72,2,    76.3,2,    2.10,2,   5.2859,2,   2.5922,2,   0.5552,2,  2231.8,2,  2338.5,2,   0.236,2,   31.00,3,      0.001,2
09AR20071216,    CEAMARC,       4,          1,         12,         12,2,20071222,       2313,   -66.0047,   142.6593,        443,   200.5,  -1.8682,  34.5563,2,-999.0000,9,   314.86,2, -999.00,9,  -999.0,9, -999.00,9,-999.0000,9,-999.0000,9,-999.0000,9,  -999.0,9,  -999.0,9,   0.090,2, -999.00,9,      0.001,2
09AR20071216,    CEAMARC,       4,          1,         11,         11,2,20071222,       2313,   -66.0047,   142.6593,        443,   200.3,  -1.8680,  34.5562,2,  34.5566,2,   314.86,2,  315.88,2,    77.2,2,    2.11,2,   5.1884,3,   2.6786,3,   0.5324,3,  2233.9,2,  2339.1,2,   0.091,2,   31.20,3,      0.001,2
09AR20071216,    CEAMARC,       4,          1,         10,         10,2,20071222,       2313,   -66.0047,   142.6593,        443,   249.6,  -1.8797,  34.5751,2,-999.0000,9,   314.64,2, -999.00,9,  -999.0,9, -999.00,9,-999.0000,9,-999.0000,9,-999.0000,9,  -999.0,9,  -999.0,9,   0.057,2, -999.00,9,      0.001,2
09AR20071216,    CEAMARC,       4,          1,          9,          9,2,20071222,       2313,   -66.0047,   142.6593,        443,   249.6,  -1.8801,  34.5757,2,  34.5760,2,   314.64,2,  314.53,2,    77.8,2,    2.11,2,-999.0000,9,-999.0000,9,-999.0000,9,  -999.0,9,  -999.0,9,   0.034,2,   31.01,3,      0.001,2
09AR20071216,    CEAMARC,       4,          1,          8,          8,2,20071222,       2313,   -66.0047,   142.6593,        443,   300.6,  -1.8822,  34.5842,2,  34.5842,2,   314.59,2,  315.14,2,    77.8,2,    2.12,2,   5.3644,2,   2.6295,2,   0.4716,2,    2236,2,  2340.3,2,   0.028,2,   30.90,3,      0.001,2
09AR20071216,    CEAMARC,       4,          1,          7,          7,2,20071222,       2313,   -66.0047,   142.6593,        443,   300.4,  -1.8823,  34.5843,2,-999.0000,9,   314.59,2, -999.00,9,  -999.0,9, -999.00,9,-999.0000,9,-999.0000,9,-999.0000,9,  -999.0,9,  -999.0,9,   0.022,2, -999.00,9,      0.001,2
09AR20071216,    CEAMARC,       4,          1,          6,          6,2,20071222,       2313,   -66.0047,   142.6593,        443,   350.5,  -1.8859,  34.5904,2,-999.0000,9,   314.60,2, -999.00,9,  -999.0,9, -999.00,9,-999.0000,9,-999.0000,9,-999.0000,9,  -999.0,9,  -999.0,9,   0.005,2, -999.00,9,      0.001,2
09AR20071216,    CEAMARC,       4,          1,          5,          5,2,20071222,       2313,   -66.0047,   142.6593,        443,   350.3,  -1.8862,  34.5904,2,  34.5921,2,   314.60,2,  314.74,2,    77.7,2,    2.11,2,-999.0000,9,-999.0000,9,-999.0000,9,  -999.0,9,  -999.0,9,   0.008,2,   30.78,3,      0.001,2
09AR20071216,    CEAMARC,       4,          1,          4,          4,2,20071222,       2313,   -66.0047,   142.6593,        443,   400.6,  -1.8825,  34.5958,2,-999.0000,9,   315.06,2, -999.00,9,  -999.0,9, -999.00,9,-999.0000,9,-999.0000,9,-999.0000,9,  -999.0,9,  -999.0,9,   0.037,2, -999.00,9,      0.001,2
09AR20071216,    CEAMARC,       4,          1,          3,          3,2,20071222,       2313,   -66.0047,   142.6593,        443,   400.6,  -1.8823,  34.5959,2,  34.5956,2,   315.06,2,  315.09,2,    77.7,2,    2.11,2,   5.1234,3,   2.5046,3,   0.5628,3,    2238,2,  2341.7,2,   0.010,2,   30.94,3,      0.001,2
09AR20071216,    CEAMARC,       4,          1,          2,          2,2,20071222,       2313,   -66.0047,   142.6593,        443,   433.0,  -1.8816,  34.5964,2,-999.0000,9,   315.02,2, -999.00,9,  -999.0,9, -999.00,9,-999.0000,9,-999.0000,9,-999.0000,9,  -999.0,9,  -999.0,9,   0.021,2, -999.00,9,      0.001,2
09AR20071216,    CEAMARC,       4,          1,          1,          1,2,20071222,       2313,   -66.0047,   142.6593,        443,   433.1,  -1.8816,  34.5964,2,  34.5964,2,   315.02,2,  315.09,2,    78.0,2,    2.12,2,   5.3980,2,   2.6174,2,   0.5468,2,  2237.6,6,  2340.7,6,   0.009,2,   30.82,3,      0.001,2