BOTTLE,20230622CCHSIOENA
EXPOCODE,SECT_ID,STNNBR,CASTNO,SAMPNO,BTLNBR,BTLNBR_FLAG_W,DATE,TIME,LATITUDE,LONGITUDE,DEPTH,CTDPRS,CTDTMP,CTDSAL,CTDSAL_FLAG_W,SALNTY,SALNTY_FLAG_W,CTDOXY,CTDOXY_FLAG_W,OXYGEN,OXYGEN_FLAG_W,SILCAT,SILCAT_FLAG_W,PHSPHT,PHSPHT_FLAG_W,CFC-11,CFC-11_FLAG_W,CFC-12,CFC-12_FLAG_W,CFC113,CFC113_FLAG_W,TCARBN,TCARBN_FLAG_W,ALKALI,ALKALI_FLAG_W,FLUOR,FLUOR_FLAG_W,NO2+NO3,NO2+NO3_FLAG_W,PAR,PAR_FLAG_W
,,,,,,,,,,,METERS,DBAR,ITS-90,PSS-78,,PSS-78,,UMOL/KG,,UMOL/KG,,UMOL/KG,,UMOL/KG,,PMOL/KG,,PMOL/KG,,PMOL/KG,,UMOL/KG,,UMOL/KG,,MG/M^3,,UMOL/KG,,VOLTS,
09AR20071216,    ICEBERG,     113,          1,         24,         24,2,20080119,       0552,   -65.5778,   140.8933,       1270,     2.8,   1.3988,  33.5988,2,  33.5995,2,  -999.00,5, -999.00,9,    40.3,2,    1.70,2,-999.0000,9,-999.0000,9,-999.0000,9,  -999.0,9,  -999.0,9,  -0.073,2,   26.55,2,      3.609,2
09AR20071216,    ICEBERG,     113,          1,         23,         23,2,20080119,       0552,   -65.5778,   140.8933,       1270,     2.7,   1.3996,  33.5987,2,-999.0000,9,  -999.00,5, -999.00,9,  -999.0,9, -999.00,9,-999.0000,9,-999.0000,9,-999.0000,9,  -999.0,9,  -999.0,9,  -0.083,2, -999.00,9,      3.734,2
09AR20071216,    ICEBERG,     113,          1,         22,         22,2,20080119,       0552,   -65.5778,   140.8933,       1270,     2.9,   1.4050,  33.5986,2,-999.0000,9,  -999.00,5, -999.00,9,  -999.0,9, -999.00,9,-999.0000,9,-999.0000,9,-999.0000,9,  -999.0,9,  -999.0,9,  -0.088,2, -999.00,9,      3.700,2
09AR20071216,    ICEBERG,     113,          1,         21,         21,2,20080119,       0552,   -65.5778,   140.8933,       1270,     2.8,   1.3970,  33.5988,2,-999.0000,9,  -999.00,5, -999.00,9,  -999.0,9, -999.00,9,-999.0000,9,-999.0000,9,-999.0000,9,  -999.0,9,  -999.0,9,  -0.075,2, -999.00,9,      3.613,2
09AR20071216,    ICEBERG,     113,          1,         20,         20,2,20080119,       0552,   -65.5778,   140.8933,       1270,    19.2,   0.9668,  33.6157,2,  33.6335,2,  -999.00,5, -999.00,9,    39.6,2,    1.74,2,-999.0000,9,-999.0000,9,-999.0000,9,  -999.0,9,  -999.0,9,   0.286,2,   26.54,2,      2.975,2
09AR20071216,    ICEBERG,     113,          1,         19,         19,2,20080119,       0552,   -65.5778,   140.8933,       1270,    19.3,   0.5934,  33.6390,2,-999.0000,9,  -999.00,5, -999.00,9,  -999.0,9, -999.00,9,-999.0000,9,-999.0000,9,-999.0000,9,  -999.0,9,  -999.0,9,   0.358,2, -999.00,9,      2.996,2
09AR20071216,    ICEBERG,     113,          1,         18,         18,2,20080119,       0552,   -65.5778,   140.8933,       1270,    19.3,   0.4561,  33.6538,2,-999.0000,9,  -999.00,5, -999.00,9,  -999.0,9, -999.00,9,-999.0000,9,-999.0000,9,-999.0000,9,  -999.0,9,  -999.0,9,   0.358,2, -999.00,9,      3.187,2
09AR20071216,    ICEBERG,     113,          1,         17,         17,2,20080119,       0552,   -65.5778,   140.8933,       1270,    19.3,   0.3980,  33.6561,2,-999.0000,9,  -999.00,5, -999.00,9,  -999.0,9, -999.00,9,-999.0000,9,-999.0000,9,-999.0000,9,  -999.0,9,  -999.0,9,   0.340,2, -999.00,9,      3.237,2
09AR20071216,    ICEBERG,     113,          1,         16,         16,2,20080119,       0552,   -65.5778,   140.8933,       1270,    59.6,  -1.3308,  34.0902,2,  34.0850,2,  -999.00,5, -999.00,9,    46.7,2,    1.89,2,-999.0000,9,-999.0000,9,-999.0000,9,  -999.0,9,  -999.0,9,   1.847,2,   27.86,2,      2.131,2
09AR20071216,    ICEBERG,     113,          1,         15,         15,2,20080119,       0552,   -65.5778,   140.8933,       1270,    59.6,  -1.3435,  34.0964,2,-999.0000,9,  -999.00,5, -999.00,9,  -999.0,9, -999.00,9,-999.0000,9,-999.0000,9,-999.0000,9,  -999.0,9,  -999.0,9,   1.816,2, -999.00,9,      2.285,2
09AR20071216,    ICEBERG,     113,          1,         14,         14,2,20080119,       0552,   -65.5778,   140.8933,       1270,    59.6,  -1.3581,  34.1032,2,-999.0000,9,  -999.00,5, -999.00,9,  -999.0,9, -999.00,9,-999.0000,9,-999.0000,9,-999.0000,9,  -999.0,9,  -999.0,9,   1.818,2, -999.00,9,      2.149,2
09AR20071216,    ICEBERG,     113,          1,         13,         13,2,20080119,       0552,   -65.5778,   140.8933,       1270,    59.6,  -1.3644,  34.1058,2,-999.0000,9,  -999.00,5, -999.00,9,  -999.0,9, -999.00,9,-999.0000,9,-999.0000,9,-999.0000,9,  -999.0,9,  -999.0,9,   1.796,2, -999.00,9,      2.086,2
09AR20071216,    ICEBERG,     113,          1,         12,         12,2,20080119,       0552,   -65.5778,   140.8933,       1270,    99.4,  -1.4426,  34.3600,2,  34.3601,2,  -999.00,5, -999.00,9,    72.1,2,    2.12,2,-999.0000,9,-999.0000,9,-999.0000,9,  -999.0,9,  -999.0,9,   0.174,2,   31.01,2,      1.309,2
09AR20071216,    ICEBERG,     113,          1,         11,         11,2,20080119,       0552,   -65.5778,   140.8933,       1270,    99.2,  -1.4440,  34.3600,2,-999.0000,9,  -999.00,5, -999.00,9,  -999.0,9, -999.00,9,-999.0000,9,-999.0000,9,-999.0000,9,  -999.0,9,  -999.0,9,   0.159,2, -999.00,9,      1.290,2
09AR20071216,    ICEBERG,     113,          1,         10,         10,2,20080119,       0552,   -65.5778,   140.8933,       1270,    99.4,  -1.4458,  34.3594,2,-999.0000,9,  -999.00,5, -999.00,9,  -999.0,9, -999.00,9,-999.0000,9,-999.0000,9,-999.0000,9,  -999.0,9,  -999.0,9,   0.167,2, -999.00,9,      1.178,2
09AR20071216,    ICEBERG,     113,          1,          9,          9,2,20080119,       0552,   -65.5778,   140.8933,       1270,    99.3,  -1.4457,  34.3591,2,-999.0000,9,  -999.00,5, -999.00,9,  -999.0,9, -999.00,9,-999.0000,9,-999.0000,9,-999.0000,9,  -999.0,9,  -999.0,9,   0.180,2, -999.00,9,      1.170,2
09AR20071216,    ICEBERG,     113,          1,          8,          8,2,20080119,       0552,   -65.5778,   140.8933,       1270,   199.3,  -1.3879,  34.4214,2,  34.4213,2,  -999.00,5, -999.00,9,    72.6,2,    2.12,2,-999.0000,9,-999.0000,9,-999.0000,9,  -999.0,9,  -999.0,9,   0.101,2,   31.00,2,      0.001,2
09AR20071216,    ICEBERG,     113,          1,          7,          7,2,20080119,       0552,   -65.5778,   140.8933,       1270,   199.2,  -1.3874,  34.4214,2,-999.0000,9,  -999.00,5, -999.00,9,  -999.0,9, -999.00,9,-999.0000,9,-999.0000,9,-999.0000,9,  -999.0,9,  -999.0,9,   0.085,2, -999.00,9,      0.001,2
09AR20071216,    ICEBERG,     113,          1,          6,          6,2,20080119,       0552,   -65.5778,   140.8933,       1270,   199.0,  -1.3853,  34.4216,2,-999.0000,9,  -999.00,5, -999.00,9,  -999.0,9, -999.00,9,-999.0000,9,-999.0000,9,-999.0000,9,  -999.0,9,  -999.0,9,   0.085,2, -999.00,9,      0.001,2
09AR20071216,    ICEBERG,     113,          1,          5,          5,2,20080119,       0552,   -65.5778,   140.8933,       1270,   199.3,  -1.3857,  34.4216,2,-999.0000,9,  -999.00,5, -999.00,9,  -999.0,9, -999.00,9,-999.0000,9,-999.0000,9,-999.0000,9,  -999.0,9,  -999.0,9,   0.081,2, -999.00,9,      0.001,2
09AR20071216,    ICEBERG,     113,          1,          4,          4,2,20080119,       0552,   -65.5778,   140.8933,       1270,   300.5,  -0.7945,  34.5112,2,  34.5105,2,  -999.00,5, -999.00,9,    81.4,2,    2.16,2,-999.0000,9,-999.0000,9,-999.0000,9,  -999.0,9,  -999.0,9,  -0.035,2,   31.12,2,      0.001,2
09AR20071216,    ICEBERG,     113,          1,          3,          3,2,20080119,       0552,   -65.5778,   140.8933,       1270,   300.4,  -0.7950,  34.5111,2,-999.0000,9,  -999.00,5, -999.00,9,  -999.0,9, -999.00,9,-999.0000,9,-999.0000,9,-999.0000,9,  -999.0,9,  -999.0,9,  -0.032,2, -999.00,9,      0.001,2
09AR20071216,    ICEBERG,     113,          1,          2,          2,2,20080119,       0552,   -65.5778,   140.8933,       1270,   300.5,  -0.7933,  34.5112,2,-999.0000,9,  -999.00,5, -999.00,9,  -999.0,9, -999.00,9,-999.0000,9,-999.0000,9,-999.0000,9,  -999.0,9,  -999.0,9,  -0.035,2, -999.00,9,      0.001,2
09AR20071216,    ICEBERG,     113,          1,          1,          1,2,20080119,       0552,   -65.5778,   140.8933,       1270,   300.5,  -0.7926,  34.5115,2,-999.0000,9,  -999.00,5, -999.00,9,  -999.0,9, -999.00,9,-999.0000,9,-999.0000,9,-999.0000,9,  -999.0,9,  -999.0,9,  -0.033,2, -999.00,9,      0.001,2
09AR20071216,    ICEBERG,     114,          1,         24,         24,2,20080119,       0707,   -65.5512,   140.8043,       1004,     3.8,   1.0389,  33.5698,2,  33.5708,2,  -999.00,5, -999.00,9,    40.4,2,    1.74,2,-999.0000,9,-999.0000,9,-999.0000,9,  -999.0,9,  -999.0,9,   0.028,2,   26.42,2,      3.491,2
09AR20071216,    ICEBERG,     114,          1,         23,         23,2,20080119,       0707,   -65.5512,   140.8043,       1004,     3.7,   1.0408,  33.5698,2,-999.0000,9,  -999.00,5, -999.00,9,  -999.0,9, -999.00,9,-999.0000,9,-999.0000,9,-999.0000,9,  -999.0,9,  -999.0,9,   0.036,2, -999.00,9,      3.508,2
09AR20071216,    ICEBERG,     114,          1,         22,         22,2,20080119,       0707,   -65.5512,   140.8043,       1004,     3.7,   1.0335,  33.5695,2,-999.0000,9,  -999.00,5, -999.00,9,  -999.0,9, -999.00,9,-999.0000,9,-999.0000,9,-999.0000,9,  -999.0,9,  -999.0,9,   0.037,2, -999.00,9,      3.514,2
09AR20071216,    ICEBERG,     114,          1,         21,         21,2,20080119,       0707,   -65.5512,   140.8043,       1004,     3.7,   1.0391,  33.5699,2,-999.0000,9,  -999.00,5, -999.00,9,  -999.0,9, -999.00,9,-999.0000,9,-999.0000,9,-999.0000,9,  -999.0,9,  -999.0,9,   0.012,2, -999.00,9,      3.555,2
09AR20071216,    ICEBERG,     114,          1,         20,         20,2,20080119,       0707,   -65.5512,   140.8043,       1004,    24.7,   0.4909,  33.6275,2,  33.6288,2,  -999.00,5, -999.00,9,    40.4,2,    1.73,2,-999.0000,9,-999.0000,9,-999.0000,9,  -999.0,9,  -999.0,9,   0.824,2,   26.36,2,      2.734,2
09AR20071216,    ICEBERG,     114,          1,         19,         19,2,20080119,       0707,   -65.5512,   140.8043,       1004,    24.7,   0.5248,  33.6284,2,-999.0000,9,  -999.00,5, -999.00,9,  -999.0,9, -999.00,9,-999.0000,9,-999.0000,9,-999.0000,9,  -999.0,9,  -999.0,9,   0.771,2, -999.00,9,      2.732,2
09AR20071216,    ICEBERG,     114,          1,         18,         18,2,20080119,       0707,   -65.5512,   140.8043,       1004,    50.7,  -1.1430,  34.0287,2,-999.0000,9,  -999.00,5, -999.00,9,    44.7,2,    1.90,2,-999.0000,9,-999.0000,9,-999.0000,9,  -999.0,9,  -999.0,9,   1.177,2,   27.82,2,      2.116,2
09AR20071216,    ICEBERG,     114,          1,         17,         17,2,20080119,       0707,   -65.5512,   140.8043,       1004,    50.7,  -1.1368,  34.0251,2,-999.0000,9,  -999.00,5, -999.00,9,  -999.0,9, -999.00,9,-999.0000,9,-999.0000,9,-999.0000,9,  -999.0,9,  -999.0,9,   1.178,2, -999.00,9,      2.101,2
09AR20071216,    ICEBERG,     114,          1,         16,         16,2,20080119,       0707,   -65.5512,   140.8043,       1004,   100.4,  -1.4154,  34.3503,2,  34.3478,2,  -999.00,5, -999.00,9,    70.5,2,    2.09,2,-999.0000,9,-999.0000,9,-999.0000,9,  -999.0,9,  -999.0,9,   0.360,2,   30.47,2,      1.086,2
09AR20071216,    ICEBERG,     114,          1,         15,         15,2,20080119,       0707,   -65.5512,   140.8043,       1004,   100.4,  -1.4178,  34.3487,2,-999.0000,9,  -999.00,5, -999.00,9,  -999.0,9, -999.00,9,-999.0000,9,-999.0000,9,-999.0000,9,  -999.0,9,  -999.0,9,   0.351,2, -999.00,9,      1.124,2
09AR20071216,    ICEBERG,     114,          1,         14,         14,2,20080119,       0707,   -65.5512,   140.8043,       1004,   100.4,  -1.4204,  34.3474,2,-999.0000,9,  -999.00,5, -999.00,9,  -999.0,9, -999.00,9,-999.0000,9,-999.0000,9,-999.0000,9,  -999.0,9,  -999.0,9,   0.373,2, -999.00,9,      1.026,2
09AR20071216,    ICEBERG,     114,          1,         13,         13,2,20080119,       0707,   -65.5512,   140.8043,       1004,   100.5,  -1.4179,  34.3484,2,-999.0000,9,  -999.00,5, -999.00,9,  -999.0,9, -999.00,9,-999.0000,9,-999.0000,9,-999.0000,9,  -999.0,9,  -999.0,9,   0.375,2, -999.00,9,      1.015,2
09AR20071216,    ICEBERG,     114,          1,         12,         12,2,20080119,       0707,   -65.5512,   140.8043,       1004,   174.5,  -1.4942,  34.3923,2,  34.3923,2,  -999.00,5, -999.00,9,    69.9,2,    2.12,2,-999.0000,9,-999.0000,9,-999.0000,9,  -999.0,9,  -999.0,9,   0.130,2,   31.05,2,      0.001,2
09AR20071216,    ICEBERG,     114,          1,         11,         11,2,20080119,       0707,   -65.5512,   140.8043,       1004,   174.5,  -1.4944,  34.3923,2,-999.0000,9,  -999.00,5, -999.00,9,  -999.0,9, -999.00,9,-999.0000,9,-999.0000,9,-999.0000,9,  -999.0,9,  -999.0,9,   0.128,2, -999.00,9,      0.001,2
09AR20071216,    ICEBERG,     114,          1,         10,         10,2,20080119,       0707,   -65.5512,   140.8043,       1004,   174.4,  -1.4942,  34.3924,2,-999.0000,9,  -999.00,5, -999.00,9,  -999.0,9, -999.00,9,-999.0000,9,-999.0000,9,-999.0000,9,  -999.0,9,  -999.0,9,   0.126,2, -999.00,9,      0.001,2
09AR20071216,    ICEBERG,     114,          1,          9,          9,2,20080119,       0707,   -65.5512,   140.8043,       1004,   174.4,  -1.4934,  34.3924,2,-999.0000,9,  -999.00,5, -999.00,9,  -999.0,9, -999.00,9,-999.0000,9,-999.0000,9,-999.0000,9,  -999.0,9,  -999.0,9,   0.136,2, -999.00,9,      0.001,2
09AR20071216,    ICEBERG,     114,          1,          8,          8,2,20080119,       0707,   -65.5512,   140.8043,       1004,   250.1,  -0.6851,  34.4909,2,  34.4911,2,  -999.00,5, -999.00,9,    77.0,2,    2.15,2,-999.0000,9,-999.0000,9,-999.0000,9,  -999.0,9,  -999.0,9,   0.024,2,   31.50,2,      0.001,2
09AR20071216,    ICEBERG,     114,          1,          7,          7,2,20080119,       0707,   -65.5512,   140.8043,       1004,   250.0,  -0.6863,  34.4910,2,-999.0000,9,  -999.00,5, -999.00,9,  -999.0,9, -999.00,9,-999.0000,9,-999.0000,9,-999.0000,9,  -999.0,9,  -999.0,9,   0.021,2, -999.00,9,      0.001,2
09AR20071216,    ICEBERG,     114,          1,          6,          6,2,20080119,       0707,   -65.5512,   140.8043,       1004,   250.1,  -0.6867,  34.4908,2,-999.0000,9,  -999.00,5, -999.00,9,  -999.0,9, -999.00,9,-999.0000,9,-999.0000,9,-999.0000,9,  -999.0,9,  -999.0,9,   0.029,2, -999.00,9,      0.001,2
09AR20071216,    ICEBERG,     114,          1,          5,          5,2,20080119,       0707,   -65.5512,   140.8043,       1004,   250.2,  -0.6861,  34.4911,2,-999.0000,9,  -999.00,5, -999.00,9,  -999.0,9, -999.00,9,-999.0000,9,-999.0000,9,-999.0000,9,  -999.0,9,  -999.0,9,   0.024,2, -999.00,9,      0.001,2
09AR20071216,    ICEBERG,     114,          1,          4,          4,2,20080119,       0707,   -65.5512,   140.8043,       1004,   301.4,  -0.7883,  34.5090,2,  34.5073,2,  -999.00,5, -999.00,9,    80.2,2,    2.14,2,-999.0000,9,-999.0000,9,-999.0000,9,  -999.0,9,  -999.0,9,  -0.028,2,   31.30,2,      0.001,2
09AR20071216,    ICEBERG,     114,          1,          3,          3,2,20080119,       0707,   -65.5512,   140.8043,       1004,   301.4,  -0.7926,  34.5085,2,-999.0000,9,  -999.00,5, -999.00,9,  -999.0,9, -999.00,9,-999.0000,9,-999.0000,9,-999.0000,9,  -999.0,9,  -999.0,9,  -0.025,2, -999.00,9,      0.001,2
09AR20071216,    ICEBERG,     114,          1,          2,          2,2,20080119,       0707,   -65.5512,   140.8043,       1004,   301.3,  -0.7939,  34.5084,2,-999.0000,9,  -999.00,5, -999.00,9,  -999.0,9, -999.00,9,-999.0000,9,-999.0000,9,-999.0000,9,  -999.0,9,  -999.0,9,  -0.028,2, -999.00,9,      0.001,2
09AR20071216,    ICEBERG,     114,          1,          1,          1,2,20080119,       0707,   -65.5512,   140.8043,       1004,   301.2,  -0.7956,  34.5079,2,-999.0000,9,  -999.00,5, -999.00,9,  -999.0,9, -999.00,9,-999.0000,9,-999.0000,9,-999.0000,9,  -999.0,9,  -999.0,9,  -0.031,2, -999.00,9,      0.001,2