BOTTLE,20230622CCHSIOENA
EXPOCODE,SECT_ID,STNNBR,CASTNO,SAMPNO,BTLNBR,BTLNBR_FLAG_W,DATE,TIME,LATITUDE,LONGITUDE,DEPTH,CTDPRS,CTDTMP,CTDSAL,CTDSAL_FLAG_W,SALNTY,SALNTY_FLAG_W,CTDOXY,CTDOXY_FLAG_W,OXYGEN,OXYGEN_FLAG_W,SILCAT,SILCAT_FLAG_W,PHSPHT,PHSPHT_FLAG_W,CFC-11,CFC-11_FLAG_W,CFC-12,CFC-12_FLAG_W,CFC113,CFC113_FLAG_W,TCARBN,TCARBN_FLAG_W,ALKALI,ALKALI_FLAG_W,FLUOR,FLUOR_FLAG_W,NO2+NO3,NO2+NO3_FLAG_W,PAR,PAR_FLAG_W
,,,,,,,,,,,METERS,DBAR,ITS-90,PSS-78,,PSS-78,,UMOL/KG,,UMOL/KG,,UMOL/KG,,UMOL/KG,,PMOL/KG,,PMOL/KG,,PMOL/KG,,UMOL/KG,,UMOL/KG,,MG/M^3,,UMOL/KG,,VOLTS,
09AR20071216,       SR03,     127,          1,         24,         24,2,20080120,       1447,   -64.5498,   139.8523,       3048,    10.0,   0.9488,  33.6194,2,  33.6198,2,   342.70,2,  342.82,2,    36.0,2,    1.88,2,   6.2952,2,   3.2830,2,   0.5012,2,  2147.7,6,  2271.7,2,   0.410,2,   27.41,2,      0.947,2
09AR20071216,       SR03,     127,          1,         23,         23,2,20080120,       1447,   -64.5498,   139.8523,       3048,    10.0,   0.9483,  33.6198,2,-999.0000,9,   342.70,2, -999.00,9,  -999.0,9, -999.00,9,-999.0000,9,-999.0000,9,-999.0000,9,  -999.0,9,  -999.0,9,   0.402,2, -999.00,9,      0.945,2
09AR20071216,       SR03,     127,          1,         22,         22,2,20080120,       1447,   -64.5498,   139.8523,       3048,    10.1,   0.9488,  33.6195,2,-999.0000,9,   342.70,2, -999.00,9,  -999.0,9, -999.00,9,-999.0000,9,-999.0000,9,-999.0000,9,  -999.0,9,  -999.0,9,   0.391,2, -999.00,9,      0.950,2
09AR20071216,       SR03,     127,          1,         21,         21,2,20080120,       1447,   -64.5498,   139.8523,       3048,    30.5,   0.9383,  33.6205,2,  33.6208,2,   342.82,2,  342.46,2,    36.0,2,    1.87,2,   6.4004,2,   3.2942,2,   0.5381,2,  2147.2,2,  2270.4,6,   0.415,2,   27.39,2,      0.499,2
09AR20071216,       SR03,     127,          1,         20,         20,2,20080120,       1447,   -64.5498,   139.8523,       3048,    60.4,  -1.3376,  34.0194,2,-999.0000,9,   337.37,2,  335.76,2,    41.1,2,    1.96,2,-999.0000,9,-999.0000,9,-999.0000,9,  2176.6,2,  2298.2,2,   0.922,2,   28.32,2,      0.002,2
09AR20071216,       SR03,     127,          1,         19,         19,2,20080120,       1447,   -64.5498,   139.8523,       3048,    99.8,  -0.1375,  34.3553,2,  34.3472,2,   263.50,2,  262.63,2,    62.9,2,    2.19,2,-999.0000,9,-999.0000,9,-999.0000,9,  2221.7,2,  2319.1,2,   1.185,2,   31.57,2,      0.001,2
09AR20071216,       SR03,     127,          1,         18,         18,2,20080120,       1447,   -64.5498,   139.8523,       3048,   149.8,   0.3380,  34.5203,2,-999.0000,9,   223.97,2,  230.18,2,    76.5,2,    2.24,2,   2.3455,2,   1.2273,2,   0.1882,2,  2239.9,2,  2331.3,6,   0.071,2,   32.27,2,      0.001,2
09AR20071216,       SR03,     127,          1,         17,         17,2,20080120,       1447,   -64.5498,   139.8523,       3048,   199.7,   1.1667,  34.6303,2,  34.6303,2,   203.27,2,  203.46,2,    82.8,2,    2.24,2,-999.0000,9,-999.0000,9,-999.0000,9,  2247.2,2,  2338.4,2,  -0.030,2,   32.38,2,      0.001,2
09AR20071216,       SR03,     127,          1,         16,         16,2,20080120,       1447,   -64.5498,   139.8523,       3048,   302.1,   1.4344,  34.6905,2,  34.6911,2,   198.70,2,  196.80,2,    86.8,2,    2.20,2,   0.7497,2,   0.3831,2,   0.0496,2,  2250.1,2,  2343.9,2,  -0.032,2,   31.77,2,      0.001,2
09AR20071216,       SR03,     127,          1,         15,         15,2,20080120,       1447,   -64.5498,   139.8523,       3048,   399.4,   1.4155,  34.7084,2,  34.7078,2,   200.56,2,  200.75,2,    89.6,2,    2.18,2,-999.0000,9,-999.0000,9,-999.0000,9,  2250.1,2,    2346,2,  -0.032,2,   31.46,2,      0.001,2
09AR20071216,       SR03,     127,          1,         14,         14,2,20080120,       1447,   -64.5498,   139.8523,       3048,   499.1,   1.3597,  34.7145,2,  34.7139,2,   203.95,2,  201.23,2,    91.6,2,    2.17,2,-999.0000,9,-999.0000,9,-999.0000,9,  2248.6,2,  2348.4,2,  -0.031,2,   31.20,2,      0.001,2
09AR20071216,       SR03,     127,          1,         13,         13,2,20080120,       1447,   -64.5498,   139.8523,       3048,   597.8,   1.2065,  34.7107,2,-999.0000,9,   202.78,2,  204.52,2,    94.7,2,    2.18,2,-999.0000,9,-999.0000,9,-999.0000,9,  2247.3,2,  2349.7,2,  -0.033,2,   31.16,2,      0.001,2
09AR20071216,       SR03,     127,          1,         12,         12,2,20080120,       1447,   -64.5498,   139.8523,       3048,   751.4,   1.1436,  34.7158,2,  34.7160,2,   205.42,2,  203.53,2,    99.5,2,    2.19,2,   0.4690,2,   0.2348,2,   0.0294,2,  2250.3,6,  2356.1,2,  -0.035,2,   31.40,2,      0.001,2
09AR20071216,       SR03,     127,          1,         11,         11,2,20080120,       1447,   -64.5498,   139.8523,       3048,   900.0,   1.0497,  34.7170,2,-999.0000,9,   205.86,2,  205.17,2,   104.3,2,    2.20,2,-999.0000,9,-999.0000,9,-999.0000,9,  2252.2,2,  2353.3,6,  -0.032,2,   31.38,2,      0.001,2
09AR20071216,       SR03,     127,          1,         10,         10,2,20080120,       1447,   -64.5498,   139.8523,       3048,  1100.9,   0.8581,  34.7081,2,  34.7078,2,   207.81,2,  207.78,2,   110.1,2,    2.24,2,-999.0000,9,-999.0000,9,-999.0000,9,  2254.7,2,  2354.7,2,  -0.033,2,   31.72,2,      0.001,2
09AR20071216,       SR03,     127,          1,          9,          9,2,20080120,       1447,   -64.5498,   139.8523,       3048,  1302.0,   0.6759,  34.6992,2,-999.0000,9,   209.29,2,  210.04,2,   115.0,2,    2.26,2,   0.4184,2,   0.2110,2,   0.0259,2,  2256.5,2,  2355.5,6,  -0.038,2,   31.96,2,      0.001,2
09AR20071216,       SR03,     127,          1,          8,          8,2,20080120,       1447,   -64.5498,   139.8523,       3048,  1500.0,   0.5614,  34.6951,2,  34.6950,2,   211.55,2,  211.86,2,   119.0,2,    2.26,2,-999.0000,9,-999.0000,9,-999.0000,9,  2256.5,2,  2356.2,2,  -0.037,2,   32.12,2,      0.001,2
09AR20071216,       SR03,     127,          1,          7,          7,2,20080120,       1447,   -64.5498,   139.8523,       3048,  1751.2,   0.3804,  34.6876,2,-999.0000,9,   214.84,2,  214.56,2,   121.3,2,    2.27,2,   0.5361,2,   0.2712,2,   0.0264,2,  2258.6,2,  2354.8,2,  -0.038,2,   32.15,2,      0.001,2
09AR20071216,       SR03,     127,          1,          6,          6,2,20080120,       1447,   -64.5498,   139.8523,       3048,  2002.3,   0.2248,  34.6824,2,  34.6823,2,   219.09,2,  219.29,2,   122.3,2,    2.27,2,-999.0000,9,-999.0000,9,-999.0000,9,  2258.2,2,  2354.2,6,  -0.036,2,   32.10,2,      0.001,2
09AR20071216,       SR03,     127,          1,          5,          5,2,20080120,       1447,   -64.5498,   139.8523,       3048,  2250.8,   0.0964,  34.6778,2,-999.0000,9,   223.72,2,  223.94,2,   118.6,2,    2.26,2,   1.0589,2,   0.5329,2,   0.0650,2,  2256.5,2,    2354,2,  -0.038,2,   32.13,2,      0.001,2
09AR20071216,       SR03,     127,          1,          4,          4,2,20080120,       1447,   -64.5498,   139.8523,       3048,  2502.0,  -0.0388,  34.6719,2,  34.6719,2,   229.75,2,  229.55,2,   122.2,2,    2.27,2,   1.1576,2,   0.5754,2,   0.0000,3,  2256.1,2,  2354.5,2,  -0.040,2,   32.12,2,      0.001,2
09AR20071216,       SR03,     127,          1,          3,          3,2,20080120,       1447,   -64.5498,   139.8523,       3048,  2750.8,  -0.2026,  34.6622,2,  34.6615,2,   235.98,2,  235.45,2,   115.0,2,    2.25,2,   1.6930,2,   0.8782,2,   0.0983,2,  2253.8,2,  2348.8,2,  -0.041,2,   31.82,2,      0.001,2
09AR20071216,       SR03,     127,          1,          2,          2,2,20080120,       1447,   -64.5498,   139.8523,       3048,  3001.2,  -0.3821,  34.6503,2,  34.6495,2,   245.32,2,  244.84,2,   101.9,2,    2.21,2,   2.4319,2,   1.2576,2,   0.1734,2,  2251.8,2,  2346.9,6,  -0.045,2,   31.44,2,      0.001,2
09AR20071216,       SR03,     127,          1,          1,          1,2,20080120,       1447,   -64.5498,   139.8523,       3048,  3088.6,  -0.4194,  34.6462,2,  34.6450,2,   248.08,2,  247.84,2,   101.2,2,    2.21,2,   2.5115,2,   1.2980,2,   0.1832,2,  2250.4,6,  2346.2,2,  -0.042,2,   31.30,2,      0.001,2
09AR20071216,       SR03,     128,          1,         24,         24,2,20080120,       1927,   -64.2102,   139.8460,       3496,    10.2,   1.0455,  33.6774,2,  33.6780,2,   340.51,2,  340.81,2,    36.8,2,    1.85,2,   6.0340,2,   3.1946,2,   0.4652,2,  2154.5,6,  2275.6,2,   0.104,2,   27.57,2,      2.986,2
09AR20071216,       SR03,     128,          1,         23,         23,2,20080120,       1927,   -64.2102,   139.8460,       3496,    10.1,   1.0463,  33.6774,2,-999.0000,9,   340.51,2, -999.00,9,  -999.0,9, -999.00,9,-999.0000,9,-999.0000,9,-999.0000,9,  -999.0,9,  -999.0,9,   0.095,2, -999.00,9,      2.991,2
09AR20071216,       SR03,     128,          1,         22,         22,2,20080120,       1927,   -64.2102,   139.8460,       3496,    10.1,   1.0475,  33.6774,2,-999.0000,9,   340.51,2, -999.00,9,  -999.0,9, -999.00,9,-999.0000,9,-999.0000,9,-999.0000,9,  -999.0,9,  -999.0,9,   0.097,2, -999.00,9,      2.991,2
09AR20071216,       SR03,     128,          1,         21,         21,2,20080120,       1927,   -64.2102,   139.8460,       3496,    29.4,   1.0403,  33.6763,2,  33.6831,2,   340.22,2,  339.50,2,    36.7,2,    1.86,2,   6.1391,2,   3.2189,2,   0.4947,2,  2158.4,2,    2276,6,   0.258,2,   27.61,2,      2.637,2
09AR20071216,       SR03,     128,          1,         20,         20,2,20080120,       1927,   -64.2102,   139.8460,       3496,    70.3,  -1.1141,  34.1571,2,  34.1817,2,   301.70,2,  302.04,2,    50.9,2,    2.04,2,   4.7178,2,   2.4608,2,   0.3644,2,  2202.2,2,    2309,2,   0.595,2,   29.87,2,      2.016,2
09AR20071216,       SR03,     128,          1,         19,         19,2,20080120,       1927,   -64.2102,   139.8460,       3496,    99.2,  -0.0392,  34.3895,2,  34.3931,2,   253.05,2,  252.72,2,    66.0,2,    2.17,2,   3.1657,2,   1.6638,2,   0.2403,2,  2230.4,2,  2322.2,2,   1.045,2,   31.70,2,      1.446,2
09AR20071216,       SR03,     128,          1,         18,         18,2,20080120,       1927,   -64.2102,   139.8460,       3496,   150.9,   0.9152,  34.5516,2,  34.5509,2,   210.84,2,  211.33,2,    77.9,2,    2.26,2,   1.8051,2,   0.9510,2,   0.1316,2,  2249.5,2,  2332.8,6,   0.240,2,   32.94,2,      0.416,2
09AR20071216,       SR03,     128,          1,         17,         17,2,20080120,       1927,   -64.2102,   139.8460,       3496,   200.6,   1.2205,  34.6186,2,  34.6174,2,   201.03,2,  200.50,2,    82.3,2,    2.23,2,   1.2574,2,   0.6568,2,   0.0842,2,  2251.3,2,  2337.3,2,  -0.012,2,   32.50,2,      0.001,2
09AR20071216,       SR03,     128,          1,         16,         16,2,20080120,       1927,   -64.2102,   139.8460,       3496,   301.2,   1.4318,  34.6760,2,  34.6733,2,   199.50,2,  198.71,2,    85.8,2,    2.19,2,   0.8683,2,   0.4473,2,   0.0639,2,  2249.1,3,  2344.2,2,  -0.032,2,   31.97,2,      0.001,2
09AR20071216,       SR03,     128,          1,         15,         15,2,20080120,       1927,   -64.2102,   139.8460,       3496,   399.9,   1.3783,  34.6902,2,  34.6905,2,   196.90,2,  198.71,2,    88.0,2,    2.17,2,   0.7494,2,   0.3810,2,   0.0465,2,  2248.5,3,  2344.3,2,  -0.030,2,   31.53,2,      0.001,2
09AR20071216,       SR03,     128,          1,         14,         14,2,20080120,       1927,   -64.2102,   139.8460,       3496,   500.1,   1.3628,  34.7028,2,  34.7025,2,   201.20,2,  201.53,2,    89.8,2,    2.16,2,   0.6679,2,   0.3397,2,   0.0437,2,  2254.4,2,  2347.7,2,  -0.033,2,   31.14,2,      0.001,2
09AR20071216,       SR03,     128,          1,         13,         13,2,20080120,       1927,   -64.2102,   139.8460,       3496,   652.1,   1.3160,  34.7155,2,  34.7151,2,   201.06,2,  203.05,2,    93.6,2,    2.14,2,   0.5228,2,   0.2685,2,   0.0301,2,  2252.1,2,  2349.4,2,  -0.032,2,   30.83,2,      0.001,2
09AR20071216,       SR03,     128,          1,         12,         12,2,20080120,       1927,   -64.2102,   139.8460,       3496,   800.9,   1.3267,  34.7308,2,  34.7308,2,   201.91,2,  201.35,2,    98.3,2,    2.15,2,   0.2915,2,   0.1438,2,   0.0164,2,  2253.1,6,  2355.5,2,  -0.035,2,   30.82,2,      0.001,2
09AR20071216,       SR03,     128,          1,         11,         11,2,20080120,       1927,   -64.2102,   139.8460,       3496,   999.8,   1.2060,  34.7309,2,  34.7306,2,   206.03,2,  203.53,2,   104.0,2,    2.15,2,   0.1819,2,   0.0885,2,   0.0096,2,  2257.3,2,  2354.8,6,  -0.034,2,   30.67,2,      0.001,2
09AR20071216,       SR03,     128,          1,         10,         10,2,20080120,       1927,   -64.2102,   139.8460,       3496,  1200.2,   0.9430,  34.7101,2,  34.7102,2,   206.86,2,  206.91,2,   106.8,2,    2.23,2,   0.3939,2,   0.2002,2,   0.0218,2,  2258.9,2,  2355.5,2,  -0.035,2,   31.58,2,      0.001,2
09AR20071216,       SR03,     128,          1,          9,          9,2,20080120,       1927,   -64.2102,   139.8460,       3496,  1456.6,   0.7932,  34.7079,2,  34.7078,2,   209.22,2,  209.13,2,   114.7,2,    2.26,2,   0.2835,2,   0.1402,2,   0.0172,2,  2258.9,2,  2357.6,6,  -0.034,2,   31.74,2,      0.001,2
09AR20071216,       SR03,     128,          1,          8,          8,2,20080120,       1927,   -64.2102,   139.8460,       3496,  1697.5,   0.6273,  34.7004,2,  34.7007,2,   212.47,2,  212.21,2,   120.0,2,    2.27,2,   0.2997,2,   0.1469,2,   0.0144,2,  2260.9,2,  2358.6,2,  -0.037,2,   31.93,2,      0.001,2
09AR20071216,       SR03,     128,          1,          7,          7,2,20080120,       1927,   -64.2102,   139.8460,       3496,  1999.7,   0.4069,  34.6892,2,  34.6878,2,   217.12,2,  217.47,2,   122.9,2,    2.28,2,   0.4598,2,   0.2313,2,   0.0219,2,  2260.1,2,  2356.9,2,  -0.036,2,   32.29,2,      0.001,2
09AR20071216,       SR03,     128,          1,          6,          6,2,20080120,       1927,   -64.2102,   139.8460,       3496,  2298.4,   0.2388,  34.6818,2,  34.6819,2,   222.02,2,  221.38,2,   122.6,2,    2.29,2,   0.7067,2,   0.3506,2,   0.0355,2,  2260.2,2,  2356.2,6,  -0.037,2,   32.28,2,      0.001,2
09AR20071216,       SR03,     128,          1,          5,          5,2,20080120,       1927,   -64.2102,   139.8460,       3496,  2599.7,   0.1062,  34.6784,2,  34.6778,2,   225.70,2,  226.29,2,   121.5,2,    2.28,2,-999.0000,9,-999.0000,9,-999.0000,9,  2261.5,2,  2355.6,2,  -0.041,2,   32.30,2,      0.001,2
09AR20071216,       SR03,     128,          1,          4,          4,2,20080120,       1927,   -64.2102,   139.8460,       3496,  2899.7,  -0.0205,  34.6717,2,  34.6711,2,   230.27,2,  229.97,2,   122.2,2,    2.28,2,   1.2210,2,   0.6131,2,   0.0732,2,  2258.4,2,  2356.2,2,  -0.041,2,   32.16,2,      0.001,2
09AR20071216,       SR03,     128,          1,          3,          3,2,20080120,       1927,   -64.2102,   139.8460,       3496,  3198.6,  -0.2087,  34.6633,2,  34.6621,2,   238.93,2,  239.40,2,   106.1,2,    2.26,2,   2.0930,2,   1.0792,2,   0.1485,2,  2256.9,2,  2351.2,2,  -0.044,2,   31.84,2,      0.001,2
09AR20071216,       SR03,     128,          1,          2,          2,2,20080120,       1927,   -64.2102,   139.8460,       3496,  3398.9,  -0.3580,  34.6496,2,  34.6485,2,   247.04,2,  247.14,2,   101.2,2,    2.24,2,   2.4430,2,   1.2760,2,   0.1731,2,  2252.6,2,  2349.1,6,  -0.042,2,   31.70,2,      0.001,2
09AR20071216,       SR03,     128,          1,          1,          1,2,20080120,       1927,   -64.2102,   139.8460,       3496,  3547.6,  -0.4598,  34.6411,2,  34.6399,2,   253.81,2,  253.53,2,   100.0,2,    2.23,2,   2.6407,2,   1.3790,2,   0.1941,2,  2253.4,6,  2350.2,2,  -0.044,2,   31.60,2,      0.001,2