BOTTLE,20230622CCHSIOENA
EXPOCODE,SECT_ID,STNNBR,CASTNO,SAMPNO,BTLNBR,BTLNBR_FLAG_W,DATE,TIME,LATITUDE,LONGITUDE,DEPTH,CTDPRS,CTDTMP,CTDSAL,CTDSAL_FLAG_W,SALNTY,SALNTY_FLAG_W,CTDOXY,CTDOXY_FLAG_W,OXYGEN,OXYGEN_FLAG_W,SILCAT,SILCAT_FLAG_W,PHSPHT,PHSPHT_FLAG_W,CFC-11,CFC-11_FLAG_W,CFC-12,CFC-12_FLAG_W,CFC113,CFC113_FLAG_W,TCARBN,TCARBN_FLAG_W,ALKALI,ALKALI_FLAG_W,FLUOR,FLUOR_FLAG_W,NO2+NO3,NO2+NO3_FLAG_W,PAR,PAR_FLAG_W
,,,,,,,,,,,METERS,DBAR,ITS-90,PSS-78,,PSS-78,,UMOL/KG,,UMOL/KG,,UMOL/KG,,UMOL/KG,,PMOL/KG,,PMOL/KG,,PMOL/KG,,UMOL/KG,,UMOL/KG,,MG/M^3,,UMOL/KG,,VOLTS,
09AR20071216,    CEAMARC,      27,          1,         24,         24,2,20071230,       0049,   -67.0432,   144.6667,        178,     9.2,  -1.8216,  34.4626,2,-999.0000,9,   313.35,2, -999.00,9,  -999.0,9, -999.00,9,-999.0000,9,-999.0000,9,-999.0000,9,  2226.7,2,  -999.0,9,  -0.224,2, -999.00,9,      3.869,2
09AR20071216,    CEAMARC,      27,          1,         23,         23,2,20071230,       0049,   -67.0432,   144.6667,        178,     9.3,  -1.8152,  34.4627,2,-999.0000,9,   313.35,2, -999.00,9,  -999.0,9, -999.00,9,-999.0000,9,-999.0000,9,-999.0000,9,  -999.0,9,  -999.0,9,  -0.210,2, -999.00,9,      3.855,2
09AR20071216,    CEAMARC,      27,          1,         22,         22,2,20071230,       0049,   -67.0432,   144.6667,        178,     9.2,  -1.8156,  34.4626,2,-999.0000,9,   313.35,2, -999.00,9,  -999.0,9, -999.00,9,-999.0000,9,-999.0000,9,-999.0000,9,  -999.0,9,  -999.0,9,  -0.221,2, -999.00,9,      3.828,2
09AR20071216,    CEAMARC,      27,          1,         21,         21,2,20071230,       0049,   -67.0432,   144.6667,        178,     9.1,  -1.8154,  34.4627,2,  34.4626,2,   313.35,2,  315.43,2,    78.5,2,    2.23,2,   5.4533,2,   2.7200,4,   0.4442,2,  -999.0,9,  2333.4,2,  -0.225,2,   34.02,3,      3.830,2
09AR20071216,    CEAMARC,      27,          1,         20,         20,2,20071230,       0049,   -67.0432,   144.6667,        178,    40.4,  -1.8234,  34.4624,2,-999.0000,9,   314.12,2, -999.00,9,  -999.0,9, -999.00,9,-999.0000,9,-999.0000,9,-999.0000,9,  -999.0,9,  -999.0,9,  -0.017,2, -999.00,9,      3.130,2
09AR20071216,    CEAMARC,      27,          1,         19,         19,2,20071230,       0049,   -67.0432,   144.6667,        178,    40.3,  -1.8237,  34.4625,2,-999.0000,9,   314.12,2, -999.00,9,  -999.0,9, -999.00,9,-999.0000,9,-999.0000,9,-999.0000,9,  -999.0,9,  -999.0,9,  -0.012,2, -999.00,9,      3.121,2
09AR20071216,    CEAMARC,      27,          1,         18,         18,2,20071230,       0049,   -67.0432,   144.6667,        178,    40.4,  -1.8245,  34.4624,2,-999.0000,9,   314.12,2, -999.00,9,  -999.0,9, -999.00,9,-999.0000,9,-999.0000,9,-999.0000,9,  -999.0,9,  -999.0,9,  -0.038,2, -999.00,9,      3.123,2
09AR20071216,    CEAMARC,      27,          1,         17,         17,2,20071230,       0049,   -67.0432,   144.6667,        178,    40.4,  -1.8237,  34.4623,2,-999.0000,9,   314.12,2, -999.00,9,  -999.0,9, -999.00,9,-999.0000,9,-999.0000,9,-999.0000,9,  -999.0,9,  -999.0,9,  -0.049,2, -999.00,9,      3.147,2
09AR20071216,    CEAMARC,      27,          1,         16,         16,2,20071230,       0049,   -67.0432,   144.6667,        178,    40.4,  -1.8226,  34.4622,2,-999.0000,9,   314.12,2, -999.00,9,  -999.0,9, -999.00,9,-999.0000,9,-999.0000,9,-999.0000,9,  -999.0,9,  -999.0,9,  -0.038,2, -999.00,9,      3.139,2
09AR20071216,    CEAMARC,      27,          1,         15,         15,2,20071230,       0049,   -67.0432,   144.6667,        178,    40.3,  -1.8227,  34.4623,2,-999.0000,9,   314.12,2, -999.00,9,  -999.0,9, -999.00,9,-999.0000,9,-999.0000,9,-999.0000,9,  -999.0,9,  -999.0,9,  -0.037,2, -999.00,9,      3.138,2
09AR20071216,    CEAMARC,      27,          1,         14,         14,2,20071230,       0049,   -67.0432,   144.6667,        178,    40.3,  -1.8245,  34.4623,2,-999.0000,9,   314.12,2, -999.00,9,  -999.0,9, -999.00,9,-999.0000,9,-999.0000,9,-999.0000,9,  -999.0,9,  -999.0,9,  -0.030,2, -999.00,9,      3.135,2
09AR20071216,    CEAMARC,      27,          1,         13,         13,2,20071230,       0049,   -67.0432,   144.6667,        178,    40.3,  -1.8249,  34.4625,2,-999.0000,9,   314.12,2, -999.00,9,  -999.0,9, -999.00,9,-999.0000,9,-999.0000,9,-999.0000,9,  -999.0,9,  -999.0,9,  -0.039,2, -999.00,9,      3.128,2
09AR20071216,    CEAMARC,      27,          1,         12,         12,2,20071230,       0049,   -67.0432,   144.6667,        178,    40.3,  -1.8231,  34.4625,2,-999.0000,9,   314.12,2, -999.00,9,  -999.0,9, -999.00,9,-999.0000,9,-999.0000,9,-999.0000,9,  -999.0,9,  -999.0,9,  -0.045,2, -999.00,9,      3.138,2
09AR20071216,    CEAMARC,      27,          1,         11,         11,2,20071230,       0049,   -67.0432,   144.6667,        178,    40.4,  -1.8241,  34.4627,2,-999.0000,9,   314.12,2, -999.00,9,  -999.0,9, -999.00,9,-999.0000,9,-999.0000,9,-999.0000,9,  -999.0,9,  -999.0,9,  -0.047,2, -999.00,9,      3.134,2
09AR20071216,    CEAMARC,      27,          1,         10,         10,2,20071230,       0049,   -67.0432,   144.6667,        178,    40.4,  -1.8236,  34.4627,2,-999.0000,9,   314.12,2, -999.00,9,  -999.0,9, -999.00,9,-999.0000,9,-999.0000,9,-999.0000,9,  -999.0,9,  -999.0,9,  -0.041,2, -999.00,9,      3.132,2
09AR20071216,    CEAMARC,      27,          1,          9,          9,2,20071230,       0049,   -67.0432,   144.6667,        178,    40.3,  -1.8215,  34.4627,2,-999.0000,9,   314.12,2, -999.00,9,  -999.0,9, -999.00,9,-999.0000,9,-999.0000,9,-999.0000,9,  -999.0,9,  -999.0,9,  -0.042,2, -999.00,9,      3.139,2
09AR20071216,    CEAMARC,      27,          1,          8,          8,2,20071230,       0049,   -67.0432,   144.6667,        178,    40.2,  -1.8190,  34.4626,2,  34.4621,2,   314.12,2,  312.04,2,    78.8,2,    2.23,2,   5.2699,2,   2.6660,2,   0.4069,2,  2226.9,2,  2330.6,2,  -0.049,2,   34.09,3,      3.174,2
09AR20071216,    CEAMARC,      27,          1,          7,          7,2,20071230,       0049,   -67.0432,   144.6667,        178,    40.1,  -1.8189,  34.4627,2,-999.0000,9,   314.12,2, -999.00,9,  -999.0,9, -999.00,9,-999.0000,9,-999.0000,9,-999.0000,9,  -999.0,9,  -999.0,9,  -0.051,2, -999.00,9,      3.189,2
09AR20071216,    CEAMARC,      27,          1,          6,          6,2,20071230,       0049,   -67.0432,   144.6667,        178,    89.7,  -1.8139,  34.4640,2,  34.4640,2,   313.85,2,  315.78,2,    78.2,2,    2.22,2,   5.1475,2,   2.6357,2,   0.4064,2,  2224.9,3,  2329.6,6,   0.561,2,   33.82,3,      2.295,2
09AR20071216,    CEAMARC,      27,          1,          5,          5,2,20071230,       0049,   -67.0432,   144.6667,        178,    89.6,  -1.8152,  34.4640,2,-999.0000,9,   313.85,2, -999.00,9,  -999.0,9, -999.00,9,-999.0000,9,-999.0000,9,-999.0000,9,  -999.0,9,  -999.0,9,   0.558,2, -999.00,9,      2.312,2
09AR20071216,    CEAMARC,      27,          1,          4,          4,2,20071230,       0049,   -67.0432,   144.6667,        178,   129.5,  -1.8795,  34.4699,2,  34.4691,2,   311.15,2,  312.00,2,    78.8,2,    2.23,2,   5.1630,6,   2.6222,6,   0.3969,6,    2227,2,  2331.1,2,   0.320,2,   33.88,3,      1.598,2
09AR20071216,    CEAMARC,      27,          1,          3,          3,2,20071230,       0049,   -67.0432,   144.6667,        178,   129.5,  -1.8785,  34.4700,2,-999.0000,9,   311.15,2, -999.00,9,  -999.0,9, -999.00,9,-999.0000,9,-999.0000,9,-999.0000,9,  -999.0,9,  -999.0,9,   0.278,2, -999.00,9,      1.592,2
09AR20071216,    CEAMARC,      27,          1,          2,          2,2,20071230,       0049,   -67.0432,   144.6667,        178,   167.7,  -1.9026,  34.4718,2,  34.4709,2,   310.63,2,  310.77,2,    78.8,2,    2.24,2,   5.1796,2,   2.6169,2,   0.4026,2,  2227.7,6,  2330.6,6,   0.195,2,   34.00,3,      1.060,2
09AR20071216,    CEAMARC,      27,          1,          1,          1,2,20071230,       0049,   -67.0432,   144.6667,        178,   167.8,  -1.9004,  34.4716,2,-999.0000,9,   310.63,2, -999.00,9,  -999.0,9, -999.00,9,-999.0000,9,-999.0000,9,-999.0000,9,  -999.0,9,  -999.0,9,   0.216,2, -999.00,9,      1.061,2
09AR20071216,    CEAMARC,      28,          1,         24,         24,2,20071230,       0727,   -67.0310,   145.1993,       1209,     5.1,  -1.4962,  34.4067,2,  34.3970,2,   328.17,3,  332.36,2,    69.5,2,    1.97,2,   5.4149,2,   2.7412,2,   0.4120,2,  2209.3,6,  2327.7,2,   0.413,2,   30.65,3,      3.578,2
09AR20071216,    CEAMARC,      28,          1,         23,         23,2,20071230,       0727,   -67.0310,   145.1993,       1209,     5.1,  -1.4648,  34.4032,2,-999.0000,9,   328.17,3, -999.00,9,  -999.0,9, -999.00,9,-999.0000,9,-999.0000,9,-999.0000,9,  -999.0,9,  2328.5,2,   0.448,2, -999.00,9,      3.649,2
09AR20071216,    CEAMARC,      28,          1,         22,         22,2,20071230,       0727,   -67.0310,   145.1993,       1209,     5.1,  -1.2751,  34.3969,2,-999.0000,9,   328.17,3, -999.00,9,  -999.0,9, -999.00,9,-999.0000,9,-999.0000,9,-999.0000,9,  -999.0,9,  -999.0,9,   0.514,2, -999.00,9,      3.626,2
09AR20071216,    CEAMARC,      28,          1,         21,         21,2,20071230,       0727,   -67.0310,   145.1993,       1209,     5.1,  -1.2722,  34.3985,2,-999.0000,9,   328.17,3, -999.00,9,  -999.0,9, -999.00,9,-999.0000,9,-999.0000,9,-999.0000,9,  -999.0,9,  -999.0,9,   0.535,2, -999.00,9,      3.647,2
09AR20071216,    CEAMARC,      28,          1,         20,         20,2,20071230,       0727,   -67.0310,   145.1993,       1209,    24.7,  -1.5654,  34.4203,2,  34.4207,2,   329.17,2,  304.67,2,    76.0,2,    2.17,2,   4.8835,2,   2.4360,2,   0.4095,2,  2222.7,2,  2330.3,2,   0.674,2,   32.77,3,      2.704,2
09AR20071216,    CEAMARC,      28,          1,         19,         19,2,20071230,       0727,   -67.0310,   145.1993,       1209,    40.3,  -1.5771,  34.4258,2,  34.4264,2,   314.96,2,  304.19,2,    76.3,2,    2.19,2,   4.7594,2,   2.4474,2,   0.3715,2,  2222.9,2,  2333.1,2,   0.659,2,   33.05,3,      2.292,2
09AR20071216,    CEAMARC,      28,          1,         18,         18,2,20071230,       0727,   -67.0310,   145.1993,       1209,    99.5,  -1.6289,  34.4332,2,  34.4330,2,   304.35,2,  303.54,2,    77.8,2,    2.21,2,   4.7563,2,   2.4230,2,   0.3504,2,  2225.7,2,  2332.1,2,   0.381,2,   33.23,3,      1.086,2
09AR20071216,    CEAMARC,      28,          1,         17,         17,2,20071230,       0727,   -67.0310,   145.1993,       1209,   150.2,  -1.6089,  34.4371,2,  34.4374,2,   303.38,2,  303.19,2,    77.9,2,    2.21,2,   4.7001,2,   2.4399,2,   0.3658,2,  2225.7,2,  2327.7,2,   0.357,2,   33.28,3,      0.139,2
09AR20071216,    CEAMARC,      28,          1,         16,         16,2,20071230,       0727,   -67.0310,   145.1993,       1209,   225.8,  -1.7109,  34.4446,2,-999.0000,9,   314.46,2, -999.00,9,  -999.0,9, -999.00,9,-999.0000,9,-999.0000,9,-999.0000,9,  -999.0,9,  -999.0,9,   0.638,2, -999.00,9,      0.001,2
09AR20071216,    CEAMARC,      28,          1,         15,         15,2,20071230,       0727,   -67.0310,   145.1993,       1209,   225.9,  -1.7106,  34.4446,2,  34.4448,2,   314.46,2,  315.13,2,    77.0,2,    2.20,2,   5.1143,2,   2.6206,2,   0.3781,2,  2224.5,2,    2330,2,   0.711,2,   33.07,3,      0.001,2
09AR20071216,    CEAMARC,      28,          1,         14,         14,2,20071230,       0727,   -67.0310,   145.1993,       1209,   310.9,  -1.5908,  34.4705,2,-999.0000,9,   299.89,2, -999.00,9,  -999.0,9, -999.00,9,-999.0000,9,-999.0000,9,-999.0000,9,  -999.0,9,  -999.0,9,   0.191,2, -999.00,9,      0.001,2
09AR20071216,    CEAMARC,      28,          1,         13,         13,2,20071230,       0727,   -67.0310,   145.1993,       1209,   310.9,  -1.5927,  34.4711,2,  34.4725,2,   299.89,2,  299.09,2,    79.5,2,    2.23,2,   4.5977,2,   2.3850,2,   0.3417,2,  2230.1,2,    2330,2,   0.183,2,   33.67,3,      0.001,2
09AR20071216,    CEAMARC,      28,          1,         12,         12,2,20071230,       0727,   -67.0310,   145.1993,       1209,   380.8,  -1.8237,  34.5130,2,  34.5156,2,   308.58,2,  308.08,2,    78.9,2,    2.25,2,   5.1172,2,   2.5567,2,   0.4102,2,  2233.4,2,  2333.9,6,   0.023,2,   33.89,3,      0.001,2
09AR20071216,    CEAMARC,      28,          1,         11,         11,2,20071230,       0727,   -67.0310,   145.1993,       1209,   500.8,  -1.9274,  34.6134,2,  34.6134,2,   307.55,2,  306.88,2,    78.3,2,    2.26,2,   4.8789,2,   2.5560,2,   0.3716,2,  2237.7,2,  2341.9,2,  -0.035,2,   34.04,3,      0.001,2
09AR20071216,    CEAMARC,      28,          1,         10,         10,2,20071230,       0727,   -67.0310,   145.1993,       1209,   650.7,  -1.9215,  34.6597,2,-999.0000,9,   309.19,2, -999.00,9,  -999.0,9, -999.00,9,-999.0000,9,-999.0000,9,-999.0000,9,  -999.0,9,  -999.0,9,  -0.038,2, -999.00,9,      0.001,2
09AR20071216,    CEAMARC,      28,          1,          9,          9,2,20071230,       0727,   -67.0310,   145.1993,       1209,   650.6,  -1.9216,  34.6596,2,  34.6591,2,   309.19,2,  308.56,2,    77.7,2,    2.26,2,   5.1032,2,   2.5659,2,   0.3810,2,  2240.5,2,  2342.4,2,  -0.040,2,   34.09,3,      0.001,2
09AR20071216,    CEAMARC,      28,          1,          8,          8,2,20071230,       0727,   -67.0310,   145.1993,       1209,   800.7,  -1.9002,  34.6867,2,  34.6860,2,   310.16,2,  310.38,2,    77.4,2,    2.25,2,   5.1570,2,   2.5992,2,   0.4113,2,  2244.4,2,  2343.5,2,  -0.045,2,   34.29,3,      0.001,2
09AR20071216,    CEAMARC,      28,          1,          7,          7,2,20071230,       0727,   -67.0310,   145.1993,       1209,   800.0,  -1.9005,  34.6866,2,-999.0000,9,   310.16,2, -999.00,9,  -999.0,9, -999.00,9,-999.0000,9,-999.0000,9,-999.0000,9,  -999.0,9,  -999.0,9,  -0.042,2, -999.00,9,      0.001,2
09AR20071216,    CEAMARC,      28,          1,          6,          6,2,20071230,       0727,   -67.0310,   145.1993,       1209,   950.9,  -1.8907,  34.7047,2,  34.7043,2,   311.89,2,  311.94,2,    77.8,2,    2.25,2,   5.1183,2,   2.6016,2,   0.3863,2,  2243.3,2,  2346.6,2,  -0.043,2,   34.27,3,      0.001,2
09AR20071216,    CEAMARC,      28,          1,          5,          5,2,20071230,       0727,   -67.0310,   145.1993,       1209,   950.6,  -1.8907,  34.7045,2,-999.0000,9,   311.89,2, -999.00,9,  -999.0,9, -999.00,9,-999.0000,9,-999.0000,9,-999.0000,9,  -999.0,9,  -999.0,9,  -0.044,2, -999.00,9,      0.001,2
09AR20071216,    CEAMARC,      28,          1,          4,          4,2,20071230,       0727,   -67.0310,   145.1993,       1209,  1101.6,  -1.8845,  34.7272,2,-999.0000,9,   313.16,2, -999.00,9,  -999.0,9, -999.00,9,-999.0000,9,-999.0000,9,-999.0000,9,  -999.0,9,  -999.0,9,  -0.047,2, -999.00,9,      0.001,2
09AR20071216,    CEAMARC,      28,          1,          3,          3,2,20071230,       0727,   -67.0310,   145.1993,       1209,  1101.9,  -1.8846,  34.7271,2,  34.7265,2,   313.16,2,  313.41,2,    78.4,2,    2.27,2,   5.1928,2,   2.6532,2,   0.3964,2,  2244.8,2,  2346.5,2,  -0.044,2,   34.81,3,      0.001,2
09AR20071216,    CEAMARC,      28,          1,          2,          2,2,20071230,       0727,   -67.0310,   145.1993,       1209,  1208.7,  -1.8808,  34.7376,2,-999.0000,9,   313.96,2, -999.00,9,  -999.0,9, -999.00,9,-999.0000,9,-999.0000,9,-999.0000,9,  -999.0,9,  -999.0,9,  -0.042,2, -999.00,9,      0.001,2
09AR20071216,    CEAMARC,      28,          1,          1,          1,2,20071230,       0727,   -67.0310,   145.1993,       1209,  1208.4,  -1.8808,  34.7375,2,  34.7369,2,   313.96,2,  313.93,2,    78.8,2,    2.26,2,   5.3258,2,   2.6639,2,   0.4230,2,  2246.8,6,  2350.6,6,  -0.042,2,   34.55,3,      0.001,2