BOTTLE,20230622CCHSIOENA
EXPOCODE,SECT_ID,STNNBR,CASTNO,SAMPNO,BTLNBR,BTLNBR_FLAG_W,DATE,TIME,LATITUDE,LONGITUDE,DEPTH,CTDPRS,CTDTMP,CTDSAL,CTDSAL_FLAG_W,SALNTY,SALNTY_FLAG_W,CTDOXY,CTDOXY_FLAG_W,OXYGEN,OXYGEN_FLAG_W,SILCAT,SILCAT_FLAG_W,PHSPHT,PHSPHT_FLAG_W,CFC-11,CFC-11_FLAG_W,CFC-12,CFC-12_FLAG_W,CFC113,CFC113_FLAG_W,TCARBN,TCARBN_FLAG_W,ALKALI,ALKALI_FLAG_W,FLUOR,FLUOR_FLAG_W,NO2+NO3,NO2+NO3_FLAG_W,PAR,PAR_FLAG_W
,,,,,,,,,,,METERS,DBAR,ITS-90,PSS-78,,PSS-78,,UMOL/KG,,UMOL/KG,,UMOL/KG,,UMOL/KG,,PMOL/KG,,PMOL/KG,,PMOL/KG,,UMOL/KG,,UMOL/KG,,MG/M^3,,UMOL/KG,,VOLTS,
09AR20071216,  POLYNYA-C,      47,          1,         24,         24,2,20080104,       1530,   -66.1790,   143.1628,        569,     5.2,  -0.5113,  34.1850,2,-999.0000,9,   346.72,2, -999.00,9,  -999.0,9, -999.00,9,-999.0000,9,-999.0000,9,-999.0000,9,  -999.0,9,  -999.0,9,   2.284,2, -999.00,9,      1.523,2
09AR20071216,  POLYNYA-C,      47,          1,         23,         23,2,20080104,       1530,   -66.1790,   143.1628,        569,     5.1,  -0.5105,  34.1847,2,-999.0000,9,   346.72,2, -999.00,9,  -999.0,9, -999.00,9,-999.0000,9,-999.0000,9,-999.0000,9,  -999.0,9,  -999.0,9,   2.277,2, -999.00,9,      1.535,2
09AR20071216,  POLYNYA-C,      47,          1,         22,         22,2,20080104,       1530,   -66.1790,   143.1628,        569,     5.1,  -0.5109,  34.1849,2,-999.0000,9,   346.72,2, -999.00,9,  -999.0,9, -999.00,9,-999.0000,9,-999.0000,9,-999.0000,9,  -999.0,9,  -999.0,9,   2.226,2, -999.00,9,      1.530,2
09AR20071216,  POLYNYA-C,      47,          1,         21,         21,2,20080104,       1530,   -66.1790,   143.1628,        569,     5.4,  -0.5106,  34.1850,2,  34.1856,2,   346.72,2,  346.90,2,    53.8,2,    1.72,2,   6.3485,2,   3.1269,2,   0.4863,2,  2185.5,6,  2311.7,6,   2.211,2,   28.15,2,      1.515,2
09AR20071216,  POLYNYA-C,      47,          1,         20,         20,2,20080104,       1530,   -66.1790,   143.1628,        569,    40.9,  -0.5547,  34.1960,2,-999.0000,9,   347.58,2, -999.00,9,  -999.0,9, -999.00,9,-999.0000,9,-999.0000,9,-999.0000,9,  -999.0,9,  -999.0,9,   2.382,2, -999.00,9,      0.277,2
09AR20071216,  POLYNYA-C,      47,          1,         19,         19,2,20080104,       1530,   -66.1790,   143.1628,        569,    40.8,  -0.5543,  34.1959,2,-999.0000,9,   347.58,2, -999.00,9,  -999.0,9, -999.00,9,-999.0000,9,-999.0000,9,-999.0000,9,  -999.0,9,  -999.0,9,   2.397,2, -999.00,9,      0.281,2
09AR20071216,  POLYNYA-C,      47,          1,         18,         18,2,20080104,       1530,   -66.1790,   143.1628,        569,    41.0,  -0.5543,  34.1958,2,-999.0000,9,   347.81,2, -999.00,9,  -999.0,9, -999.00,9,-999.0000,9,-999.0000,9,-999.0000,9,  -999.0,9,  -999.0,9,   2.355,2, -999.00,9,      0.286,2
09AR20071216,  POLYNYA-C,      47,          1,         17,         17,2,20080104,       1530,   -66.1790,   143.1628,        569,    41.1,  -0.5531,  34.1956,2,-999.0000,9,   347.81,2, -999.00,9,  -999.0,9, -999.00,9,-999.0000,9,-999.0000,9,-999.0000,9,  -999.0,9,  -999.0,9,   2.403,2, -999.00,9,      0.289,2
09AR20071216,  POLYNYA-C,      47,          1,         16,         16,2,20080104,       1530,   -66.1790,   143.1628,        569,    41.1,  -0.5525,  34.1953,2,-999.0000,9,   347.81,2, -999.00,9,  -999.0,9, -999.00,9,-999.0000,9,-999.0000,9,-999.0000,9,  -999.0,9,  -999.0,9,   2.345,2, -999.00,9,      0.284,2
09AR20071216,  POLYNYA-C,      47,          1,         15,         15,2,20080104,       1530,   -66.1790,   143.1628,        569,    41.0,  -0.5533,  34.1953,2,-999.0000,9,   347.58,2, -999.00,9,  -999.0,9, -999.00,9,-999.0000,9,-999.0000,9,-999.0000,9,  -999.0,9,  -999.0,9,   2.401,2, -999.00,9,      0.292,2
09AR20071216,  POLYNYA-C,      47,          1,         14,         14,2,20080104,       1530,   -66.1790,   143.1628,        569,    41.0,  -0.5561,  34.1955,2,  34.1958,2,   347.81,2,  348.03,2,    53.7,2,    1.70,2,   6.3594,2,   3.1063,2,   0.5112,2,  2185.4,2,  2314.9,2,   2.379,2,   28.07,2,      0.272,2
09AR20071216,  POLYNYA-C,      47,          1,         13,         13,2,20080104,       1530,   -66.1790,   143.1628,        569,    41.0,  -0.5570,  34.1955,2,-999.0000,9,   347.81,2, -999.00,9,  -999.0,9, -999.00,9,-999.0000,9,-999.0000,9,-999.0000,9,  -999.0,9,  -999.0,9,   2.460,2, -999.00,9,      0.266,2
09AR20071216,  POLYNYA-C,      47,          1,         12,         12,2,20080104,       1530,   -66.1790,   143.1628,        569,    80.1,  -1.6780,  34.3987,2,  34.3988,2,   319.13,2,  297.85,2,    74.2,2,    2.08,2,   4.7764,2,   2.4266,2,   0.3829,2,  2224.7,2,  2324.7,6,   0.513,2,   32.54,2,      0.001,2
09AR20071216,  POLYNYA-C,      47,          1,         11,         11,2,20080104,       1530,   -66.1790,   143.1628,        569,    80.0,  -1.6783,  34.3984,2,-999.0000,9,   319.13,2, -999.00,9,  -999.0,9, -999.00,9,-999.0000,9,-999.0000,9,-999.0000,9,  -999.0,9,  -999.0,9,   0.607,2, -999.00,9,      0.001,2
09AR20071216,  POLYNYA-C,      47,          1,         10,         10,2,20080104,       1530,   -66.1790,   143.1628,        569,   201.0,  -0.9459,  34.5284,2,  34.5287,2,   269.58,2,  269.36,2,    85.1,2,    2.13,2,   3.3068,2,   1.7293,2,   0.2681,2,  2238.3,2,    2328,2,  -0.007,2,   33.24,2,      0.001,2
09AR20071216,  POLYNYA-C,      47,          1,          9,          9,2,20080104,       1530,   -66.1790,   143.1628,        569,   200.9,  -0.9462,  34.5284,2,-999.0000,9,   269.58,2, -999.00,9,  -999.0,9, -999.00,9,-999.0000,9,-999.0000,9,-999.0000,9,  -999.0,9,  -999.0,9,  -0.009,2, -999.00,9,      0.001,2
09AR20071216,  POLYNYA-C,      47,          1,          8,          8,2,20080104,       1530,   -66.1790,   143.1628,        569,   301.8,  -1.8297,  34.5651,2,  34.5654,2,   308.88,2,  308.02,2,    78.7,2,    2.11,2,   5.0521,2,   2.5243,2,   0.4047,2,  2236.2,2,    2341,2,  -0.029,2,   32.85,2,      0.001,2
09AR20071216,  POLYNYA-C,      47,          1,          7,          7,2,20080104,       1530,   -66.1790,   143.1628,        569,   301.6,  -1.8297,  34.5651,2,-999.0000,9,   308.88,2, -999.00,9,  -999.0,9, -999.00,9,-999.0000,9,-999.0000,9,-999.0000,9,  -999.0,9,  -999.0,9,  -0.025,2, -999.00,9,      0.001,2
09AR20071216,  POLYNYA-C,      47,          1,          6,          6,2,20080104,       1530,   -66.1790,   143.1628,        569,   400.4,  -1.9048,  34.6095,2,-999.0000,9,   308.91,2, -999.00,9,  -999.0,9, -999.00,9,-999.0000,9,-999.0000,9,-999.0000,9,  -999.0,9,  -999.0,9,  -0.037,2, -999.00,9,      0.001,2
09AR20071216,  POLYNYA-C,      47,          1,          5,          5,2,20080104,       1530,   -66.1790,   143.1628,        569,   400.4,  -1.9049,  34.6096,2,  34.6099,2,   308.91,2,  309.40,2,    78.7,2,    2.10,2,   5.0490,2,   2.5397,2,   0.3890,2,  2238.9,2,  2335.7,2,  -0.034,2,   32.85,2,      0.001,2
09AR20071216,  POLYNYA-C,      47,          1,          4,          4,2,20080104,       1530,   -66.1790,   143.1628,        569,   499.4,  -1.9025,  34.6374,2,  34.6378,2,   310.70,2,  310.17,2,    78.5,2,    2.11,2,   5.0991,2,   2.5494,2,   0.3835,2,  2241.8,2,  2338.1,2,  -0.038,2,   32.66,2,      0.001,2
09AR20071216,  POLYNYA-C,      47,          1,          3,          3,2,20080104,       1530,   -66.1790,   143.1628,        569,   499.4,  -1.9025,  34.6374,2,-999.0000,9,   310.70,2, -999.00,9,  -999.0,9, -999.00,9,-999.0000,9,-999.0000,9,-999.0000,9,  -999.0,9,  -999.0,9,  -0.036,2, -999.00,9,      0.001,2
09AR20071216,  POLYNYA-C,      47,          1,          2,          2,2,20080104,       1530,   -66.1790,   143.1628,        569,   561.7,  -1.8979,  34.6567,2,  34.6576,2,   311.45,2,  310.95,2,    79.5,2,    2.13,2,   5.0976,2,   2.5580,2,   0.4066,2,  2243.1,2,  2344.3,2,  -0.033,2,   32.80,2,      0.001,2
09AR20071216,  POLYNYA-C,      47,          1,          1,          1,2,20080104,       1530,   -66.1790,   143.1628,        569,   561.5,  -1.8979,  34.6565,2,-999.0000,9,   311.45,2, -999.00,9,  -999.0,9, -999.00,9,-999.0000,9,-999.0000,9,-999.0000,9,  -999.0,9,  -999.0,9,  -0.030,2, -999.00,9,      0.001,2
09AR20071216,  POLYNYA-E,      48,          1,         24,         24,2,20080104,       1706,   -66.1783,   143.4768,        529,     4.5,  -0.7137,  34.2634,2,-999.0000,9,  -999.00,5, -999.00,9,  -999.0,9, -999.00,9,-999.0000,9,-999.0000,9,-999.0000,9,  -999.0,9,  -999.0,9,   4.220,2, -999.00,9,      2.324,2
09AR20071216,  POLYNYA-E,      48,          1,         23,         23,2,20080104,       1706,   -66.1783,   143.4768,        529,     4.7,  -0.7136,  34.2633,2,-999.0000,9,  -999.00,5, -999.00,9,  -999.0,9, -999.00,9,-999.0000,9,-999.0000,9,-999.0000,9,  -999.0,9,  -999.0,9,   4.107,2, -999.00,9,      2.329,2
09AR20071216,  POLYNYA-E,      48,          1,         22,         22,2,20080104,       1706,   -66.1783,   143.4768,        529,     4.6,  -0.7139,  34.2633,2,-999.0000,9,  -999.00,5, -999.00,9,  -999.0,9, -999.00,9,-999.0000,9,-999.0000,9,-999.0000,9,  -999.0,9,  -999.0,9,   4.098,2, -999.00,9,      2.358,2
09AR20071216,  POLYNYA-E,      48,          1,         21,         21,2,20080104,       1706,   -66.1783,   143.4768,        529,     4.7,  -0.7122,  34.2632,2,  34.2636,2,  -999.00,5,  348.09,2,    56.0,2,    1.66,2,   6.1542,2,   3.0322,2,   0.4790,2,  2188.3,6,  2320.2,6,   4.024,2,   26.14,2,      2.363,2
09AR20071216,  POLYNYA-E,      48,          1,         20,         20,2,20080104,       1706,   -66.1783,   143.4768,        529,     4.9,  -0.7146,  34.2631,2,-999.0000,9,  -999.00,5, -999.00,9,  -999.0,9, -999.00,9,-999.0000,9,-999.0000,9,-999.0000,9,  -999.0,9,  -999.0,9,   4.052,2, -999.00,9,      2.351,2
09AR20071216,  POLYNYA-E,      48,          1,         19,         19,2,20080104,       1706,   -66.1783,   143.4768,        529,     4.8,  -0.7165,  34.2629,2,-999.0000,9,  -999.00,5, -999.00,9,  -999.0,9, -999.00,9,-999.0000,9,-999.0000,9,-999.0000,9,  -999.0,9,  -999.0,9,   4.100,2, -999.00,9,      2.349,2
09AR20071216,  POLYNYA-E,      48,          1,         18,         18,2,20080104,       1706,   -66.1783,   143.4768,        529,     4.7,  -0.7170,  34.2630,2,-999.0000,9,  -999.00,5, -999.00,9,  -999.0,9, -999.00,9,-999.0000,9,-999.0000,9,-999.0000,9,  -999.0,9,  -999.0,9,   4.063,2, -999.00,9,      2.364,2
09AR20071216,  POLYNYA-E,      48,          1,         17,         17,2,20080104,       1706,   -66.1783,   143.4768,        529,     4.7,  -0.7173,  34.2628,2,-999.0000,9,  -999.00,5, -999.00,9,  -999.0,9, -999.00,9,-999.0000,9,-999.0000,9,-999.0000,9,  -999.0,9,  -999.0,9,   4.116,2, -999.00,9,      2.361,2
09AR20071216,  POLYNYA-E,      48,          1,         16,         16,2,20080104,       1706,   -66.1783,   143.4768,        529,    80.1,  -1.6766,  34.4014,2,-999.0000,9,   302.34,2, -999.00,9,  -999.0,9, -999.00,9,-999.0000,9,-999.0000,9,-999.0000,9,  -999.0,9,  -999.0,9,   0.278,2, -999.00,9,      0.001,2
09AR20071216,  POLYNYA-E,      48,          1,         15,         15,2,20080104,       1706,   -66.1783,   143.4768,        529,    80.3,  -1.6763,  34.4015,2,-999.0000,9,   302.34,2, -999.00,9,  -999.0,9, -999.00,9,-999.0000,9,-999.0000,9,-999.0000,9,  -999.0,9,  -999.0,9,   0.382,2, -999.00,9,      0.001,2
09AR20071216,  POLYNYA-E,      48,          1,         14,         14,2,20080104,       1706,   -66.1783,   143.4768,        529,    80.2,  -1.6761,  34.4018,2,-999.0000,9,   302.34,2, -999.00,9,  -999.0,9, -999.00,9,-999.0000,9,-999.0000,9,-999.0000,9,  -999.0,9,  -999.0,9,   0.298,2, -999.00,9,      0.001,2
09AR20071216,  POLYNYA-E,      48,          1,         13,         13,2,20080104,       1706,   -66.1783,   143.4768,        529,    79.9,  -1.6758,  34.4016,2,-999.0000,9,   302.34,2, -999.00,9,  -999.0,9, -999.00,9,-999.0000,9,-999.0000,9,-999.0000,9,  -999.0,9,  -999.0,9,   0.276,2, -999.00,9,      0.001,2
09AR20071216,  POLYNYA-E,      48,          1,         12,         12,2,20080104,       1706,   -66.1783,   143.4768,        529,    80.0,  -1.6750,  34.4017,2,-999.0000,9,   302.34,2, -999.00,9,  -999.0,9, -999.00,9,-999.0000,9,-999.0000,9,-999.0000,9,  -999.0,9,  -999.0,9,   0.285,2, -999.00,9,      0.001,2
09AR20071216,  POLYNYA-E,      48,          1,         11,         11,2,20080104,       1706,   -66.1783,   143.4768,        529,    80.0,  -1.6742,  34.4022,2,-999.0000,9,   302.34,2, -999.00,9,  -999.0,9, -999.00,9,-999.0000,9,-999.0000,9,-999.0000,9,  -999.0,9,  -999.0,9,   0.240,2, -999.00,9,      0.001,2
09AR20071216,  POLYNYA-E,      48,          1,         10,         10,2,20080104,       1706,   -66.1783,   143.4768,        529,    80.3,  -1.6747,  34.4023,2,-999.0000,9,   302.34,2, -999.00,9,  -999.0,9, -999.00,9,-999.0000,9,-999.0000,9,-999.0000,9,  -999.0,9,  -999.0,9,   0.270,2, -999.00,9,      0.001,2
09AR20071216,  POLYNYA-E,      48,          1,          9,          9,2,20080104,       1706,   -66.1783,   143.4768,        529,    80.2,  -1.6727,  34.4025,2,  34.4029,2,   302.34,2,  302.19,2,    75.0,2,    2.10,2,   4.9907,2,   2.5142,2,   0.3810,2,  2226.2,2,  2327.8,2,   0.246,2,   32.90,2,      0.001,2
09AR20071216,  POLYNYA-E,      48,          1,          8,          8,2,20080104,       1706,   -66.1783,   143.4768,        529,   200.4,  -1.5476,  34.4871,2,-999.0000,9,   294.14,2, -999.00,9,  -999.0,9, -999.00,9,-999.0000,9,-999.0000,9,-999.0000,9,  -999.0,9,  -999.0,9,   0.021,2, -999.00,9,      0.001,2
09AR20071216,  POLYNYA-E,      48,          1,          7,          7,2,20080104,       1706,   -66.1783,   143.4768,        529,   199.7,  -1.5541,  34.4870,2,  34.4875,2,   294.14,2,  296.00,2,    81.4,2,    2.13,2,   4.6542,2,   2.3304,2,   0.3648,2,  2232.6,2,  2333.8,6,   0.027,2,   33.11,2,      0.001,2
09AR20071216,  POLYNYA-E,      48,          1,          6,          6,2,20080104,       1706,   -66.1783,   143.4768,        529,   250.4,  -1.6183,  34.5060,2,-999.0000,9,   303.06,2, -999.00,9,  -999.0,9, -999.00,9,-999.0000,9,-999.0000,9,-999.0000,9,  -999.0,9,  -999.0,9,   0.013,2, -999.00,9,      0.001,2
09AR20071216,  POLYNYA-E,      48,          1,          5,          5,2,20080104,       1706,   -66.1783,   143.4768,        529,   250.6,  -1.6549,  34.5042,2,  34.5020,2,   303.06,2,  301.87,2,    81.0,2,    2.11,2,   4.8582,2,   2.4344,2,   0.3765,2,    2233,2,  2333.6,2,  -0.013,2,   33.01,2,      0.001,2
09AR20071216,  POLYNYA-E,      48,          1,          4,          4,2,20080104,       1706,   -66.1783,   143.4768,        529,   376.2,  -1.8847,  34.5922,2,-999.0000,9,   307.11,2, -999.00,9,  -999.0,9, -999.00,9,-999.0000,9,-999.0000,9,-999.0000,9,  -999.0,9,  -999.0,9,  -0.036,2, -999.00,9,      0.001,2
09AR20071216,  POLYNYA-E,      48,          1,          3,          3,2,20080104,       1706,   -66.1783,   143.4768,        529,   375.4,  -1.8818,  34.5913,2,  34.5911,2,   307.11,2,  306.71,2,    79.5,2,    2.10,2,   4.8923,2,   2.4555,2,   0.3911,2,  2238.8,2,  2341.4,2,  -0.034,2,   32.92,2,      0.001,2
09AR20071216,  POLYNYA-E,      48,          1,          2,          2,2,20080104,       1706,   -66.1783,   143.4768,        529,   522.8,  -1.8988,  34.6741,2,-999.0000,9,   311.02,2, -999.00,9,  -999.0,9, -999.00,9,-999.0000,9,-999.0000,9,-999.0000,9,  -999.0,9,  -999.0,9,  -0.038,2, -999.00,9,      0.001,2
09AR20071216,  POLYNYA-E,      48,          1,          1,          1,2,20080104,       1706,   -66.1783,   143.4768,        529,   522.8,  -1.8988,  34.6741,2,  34.6743,2,   311.02,2,  310.99,2,    80.3,2,    2.12,2,   5.2164,2,   2.6025,2,   0.3870,2,  2244.7,2,  2345.3,2,  -0.035,2,   32.82,2,      0.001,2