BOTTLE,20230622CCHSIOENA
EXPOCODE,SECT_ID,STNNBR,CASTNO,SAMPNO,BTLNBR,BTLNBR_FLAG_W,DATE,TIME,LATITUDE,LONGITUDE,DEPTH,CTDPRS,CTDTMP,CTDSAL,CTDSAL_FLAG_W,SALNTY,SALNTY_FLAG_W,CTDOXY,CTDOXY_FLAG_W,OXYGEN,OXYGEN_FLAG_W,SILCAT,SILCAT_FLAG_W,PHSPHT,PHSPHT_FLAG_W,CFC-11,CFC-11_FLAG_W,CFC-12,CFC-12_FLAG_W,CFC113,CFC113_FLAG_W,TCARBN,TCARBN_FLAG_W,ALKALI,ALKALI_FLAG_W,FLUOR,FLUOR_FLAG_W,NO2+NO3,NO2+NO3_FLAG_W,PAR,PAR_FLAG_W
,,,,,,,,,,,METERS,DBAR,ITS-90,PSS-78,,PSS-78,,UMOL/KG,,UMOL/KG,,UMOL/KG,,UMOL/KG,,PMOL/KG,,PMOL/KG,,PMOL/KG,,UMOL/KG,,UMOL/KG,,MG/M^3,,UMOL/KG,,VOLTS,
09AR20071216,       CASO,      77,          1,         24,         24,2,20080111,       0148,   -65.8727,   146.5775,        897,    10.9,  -1.1036,  34.0071,2,  34.0072,2,   385.54,2,  384.63,2,    70.5,2,    1.52,2,   5.8238,2,   3.0448,2,   0.4613,2,  2135.4,6,  2319.9,2,  29.788,2,   20.32,2,      2.649,2
09AR20071216,       CASO,      77,          1,         23,         23,2,20080111,       0148,   -65.8727,   146.5775,        897,    25.6,  -1.1496,  34.0117,2,-999.0000,9,   380.58,2, -999.00,9,  -999.0,9, -999.00,9,-999.0000,9,-999.0000,9,-999.0000,9,  -999.0,9,  -999.0,9,  32.241,2, -999.00,9,      1.350,2
09AR20071216,       CASO,      77,          1,         22,         22,2,20080111,       0148,   -65.8727,   146.5775,        897,    25.6,  -1.1553,  34.0097,2,-999.0000,9,   380.58,2, -999.00,9,  -999.0,9, -999.00,9,-999.0000,9,-999.0000,9,-999.0000,9,  -999.0,9,  -999.0,9,  32.521,2, -999.00,9,      1.294,2
09AR20071216,       CASO,      77,          1,         21,         21,2,20080111,       0148,   -65.8727,   146.5775,        897,    25.5,  -1.1274,  34.0092,2,  34.0095,2,   380.58,2,  383.66,2,    70.5,2,    1.52,2,   5.7643,2,   3.0607,2,   0.4297,2,  2136.8,2,  2317.8,6,  32.023,2,   20.51,2,      1.262,2
09AR20071216,       CASO,      77,          1,         20,         20,2,20080111,       0148,   -65.8727,   146.5775,        897,    45.2,  -1.6697,  34.3033,2,  34.3051,2,   323.61,2,  320.34,2,    75.6,2,    1.99,2,-999.0000,9,-999.0000,9,-999.0000,9,  -999.0,9,  -999.0,9,   2.856,2,   28.64,2,      0.320,2
09AR20071216,       CASO,      77,          1,         19,         19,2,20080111,       0148,   -65.8727,   146.5775,        897,    45.3,  -1.6739,  34.3057,2,-999.0000,9,   323.61,2, -999.00,9,  -999.0,9, -999.00,9,-999.0000,9,-999.0000,9,-999.0000,9,  -999.0,9,  -999.0,9,   2.471,2, -999.00,9,      0.520,2
09AR20071216,       CASO,      77,          1,         18,         18,2,20080111,       0148,   -65.8727,   146.5775,        897,    99.6,  -1.7746,  34.3522,2,  34.3519,2,   305.28,2,  306.50,2,    76.2,2,    2.04,2,   4.8212,2,   2.5369,2,   0.3794,2,  2217.9,2,  2328.9,6,   0.540,2,   29.72,2,      0.001,2
09AR20071216,       CASO,      77,          1,         17,         17,2,20080111,       0148,   -65.8727,   146.5775,        897,    99.5,  -1.7747,  34.3522,2,-999.0000,9,   305.28,2, -999.00,9,  -999.0,9, -999.00,9,-999.0000,9,-999.0000,9,-999.0000,9,  -999.0,9,  -999.0,9,   0.452,2, -999.00,9,      0.001,2
09AR20071216,       CASO,      77,          1,         16,         16,2,20080111,       0148,   -65.8727,   146.5775,        897,   199.8,  -1.8019,  34.3771,2,  34.3772,2,   296.39,2,  298.60,2,    77.1,2,    2.06,2,   4.5918,2,   2.4184,2,   0.3681,2,  2223.1,2,  2329.2,2,   0.093,2,   29.87,2,      0.001,2
09AR20071216,       CASO,      77,          1,         15,         15,2,20080111,       0148,   -65.8727,   146.5775,        897,   199.7,  -1.8023,  34.3768,2,-999.0000,9,   296.39,2, -999.00,9,  -999.0,9, -999.00,9,-999.0000,9,-999.0000,9,-999.0000,9,  -999.0,9,  -999.0,9,   0.104,2, -999.00,9,      0.001,2
09AR20071216,       CASO,      77,          1,         14,         14,2,20080111,       0148,   -65.8727,   146.5775,        897,   301.1,  -1.5307,  34.4188,2,  34.4185,2,   284.84,2,  282.07,2,    80.9,2,    2.10,2,   4.0234,2,   2.1317,2,   0.3045,2,    2228,2,  2331.2,2,   0.010,2,   30.38,2,      0.001,2
09AR20071216,       CASO,      77,          1,         13,         13,2,20080111,       0148,   -65.8727,   146.5775,        897,   300.8,  -1.5265,  34.4192,2,-999.0000,9,   284.92,2, -999.00,9,  -999.0,9, -999.00,9,-999.0000,9,-999.0000,9,-999.0000,9,  -999.0,9,  -999.0,9,   0.009,2, -999.00,9,      0.001,2
09AR20071216,       CASO,      77,          1,         12,         12,2,20080111,       0148,   -65.8727,   146.5775,        897,   400.3,  -0.6739,  34.5203,2,  34.5173,2,   245.66,2,  251.46,2,    87.6,2,    2.14,2,   2.9174,2,   1.5445,2,   0.2299,2,  2239.3,2,  2340.9,2,  -0.013,2,   30.78,2,      0.001,2
09AR20071216,       CASO,      77,          1,         11,         11,2,20080111,       0148,   -65.8727,   146.5775,        897,   400.0,  -0.6763,  34.5196,2,-999.0000,9,   245.66,2, -999.00,9,  -999.0,9, -999.00,9,-999.0000,9,-999.0000,9,-999.0000,9,  -999.0,9,  -999.0,9,  -0.009,2, -999.00,9,      0.001,2
09AR20071216,       CASO,      77,          1,         10,         10,2,20080111,       0148,   -65.8727,   146.5775,        897,   500.3,   0.0150,  34.6052,2,  34.6050,2,   230.14,2,  227.73,2,    95.2,2,    2.17,2,   1.9334,2,   1.0184,2,   0.1508,2,  2248.9,2,  2349.2,2,  -0.023,2,   31.23,2,      0.001,2
09AR20071216,       CASO,      77,          1,          9,          9,2,20080111,       0148,   -65.8727,   146.5775,        897,   500.4,   0.0099,  34.6046,2,-999.0000,9,   230.14,2, -999.00,9,  -999.0,9, -999.00,9,-999.0000,9,-999.0000,9,-999.0000,9,  -999.0,9,  -999.0,9,  -0.019,2, -999.00,9,      0.001,2
09AR20071216,       CASO,      77,          1,          8,          8,2,20080111,       0148,   -65.8727,   146.5775,        897,   600.6,   0.0504,  34.6285,2,  34.6276,2,   228.40,2,  227.73,2,  -999.0,9, -999.00,9,   1.7236,2,   0.9064,2,   0.1253,2,  2251.6,2,  2347.9,2,  -0.033,2, -999.00,9,      0.001,2
09AR20071216,       CASO,      77,          1,          7,          7,2,20080111,       0148,   -65.8727,   146.5775,        897,   600.3,   0.0509,  34.6286,2,-999.0000,9,   228.40,2, -999.00,9,   100.0,2,    2.19,2,-999.0000,9,-999.0000,9,-999.0000,9,  -999.0,9,  -999.0,9,  -0.033,2,   31.79,2,      0.001,2
09AR20071216,       CASO,      77,          1,          6,          6,2,20080111,       0148,   -65.8727,   146.5775,        897,   750.1,   0.0874,  34.6522,2,  34.6517,2,   225.72,2,  224.77,2,   106.3,2,    2.21,2,   1.4546,2,   0.7529,2,   0.1068,2,  2254.3,2,  2352.8,2,  -0.038,2,   31.93,2,      0.001,2
09AR20071216,       CASO,      77,          1,          5,          5,2,20080111,       0148,   -65.8727,   146.5775,        897,   750.3,   0.0846,  34.6524,2,-999.0000,9,   225.72,2, -999.00,9,  -999.0,9, -999.00,9,-999.0000,9,-999.0000,9,-999.0000,9,  -999.0,9,  -999.0,9,  -0.033,2, -999.00,9,      0.001,2
09AR20071216,       CASO,      77,          1,          4,          4,2,20080111,       0148,   -65.8727,   146.5775,        897,   840.8,  -0.1005,  34.6446,2,  34.6435,2,   228.77,2,  231.46,2,   105.6,2,    2.21,2,   1.7001,2,   0.8968,2,   0.1251,2,  2252.3,2,  2353.6,6,  -0.033,2,   31.90,2,      0.001,2
09AR20071216,       CASO,      77,          1,          3,          3,2,20080111,       0148,   -65.8727,   146.5775,        897,   840.8,  -0.1195,  34.6430,2,-999.0000,9,   228.77,2, -999.00,9,  -999.0,9, -999.00,9,-999.0000,9,-999.0000,9,-999.0000,9,  -999.0,9,  -999.0,9,  -0.034,2, -999.00,9,      0.001,2
09AR20071216,       CASO,      77,          1,          2,          2,2,20080111,       0148,   -65.8727,   146.5775,        897,   895.0,  -0.3515,  34.6252,2,  34.6250,2,   243.83,2,  241.98,2,   101.5,2,    2.20,2,   2.1504,2,   1.1448,2,   0.1604,2,  2250.5,6,  2352.8,2,  -0.031,2,   31.78,2,      0.001,2
09AR20071216,       CASO,      77,          1,          1,          1,2,20080111,       0148,   -65.8727,   146.5775,        897,   894.8,  -0.3442,  34.6259,2,-999.0000,9,   243.83,2, -999.00,9,  -999.0,9, -999.00,9,-999.0000,9,-999.0000,9,-999.0000,9,  -999.0,9,  -999.0,9,  -0.029,2, -999.00,9,      0.001,2
09AR20071216,       CASO,      78,          1,         24,         24,2,20080111,       0402,   -65.9158,   146.5672,        518,    10.3,  -0.7465,  34.1283,2,-999.0000,9,   383.33,2, -999.00,9,  -999.0,9, -999.00,9,-999.0000,9,-999.0000,9,-999.0000,9,  -999.0,9,  -999.0,9,   8.899,2, -999.00,9,      2.420,2
09AR20071216,       CASO,      78,          1,         23,         23,2,20080111,       0402,   -65.9158,   146.5672,        518,    10.3,  -0.7491,  34.1283,2,-999.0000,9,   383.33,2, -999.00,9,  -999.0,9, -999.00,9,-999.0000,9,-999.0000,9,-999.0000,9,  -999.0,9,  -999.0,9,  15.054,2, -999.00,9,      2.418,2
09AR20071216,       CASO,      78,          1,         22,         22,2,20080111,       0402,   -65.9158,   146.5672,        518,    10.3,  -0.7586,  34.1286,2,-999.0000,9,   383.33,2, -999.00,9,  -999.0,9, -999.00,9,-999.0000,9,-999.0000,9,-999.0000,9,  -999.0,9,  -999.0,9,  25.399,2, -999.00,9,      2.400,2
09AR20071216,       CASO,      78,          1,         21,         21,2,20080111,       0402,   -65.9158,   146.5672,        518,    10.3,  -0.7740,  34.1280,2,  34.1273,2,   383.33,2,  385.59,2,    69.1,2,    1.45,2,   5.8676,2,   3.0324,2,   0.4620,2,  2134.6,6,  2321.9,2,  28.231,2,   19.09,3,      2.419,2
09AR20071216,       CASO,      78,          1,         20,         20,2,20080111,       0402,   -65.9158,   146.5672,        518,    19.7,  -0.8086,  34.1257,2,  34.1265,2,   382.21,2,  383.21,2,    70.0,2,    1.46,2,-999.0000,9,-999.0000,9,-999.0000,9,  -999.0,9,  -999.0,9,  33.381,2,   20.12,3,      1.689,2
09AR20071216,       CASO,      78,          1,         19,         19,2,20080111,       0402,   -65.9158,   146.5672,        518,    35.7,  -1.4759,  34.2584,2,-999.0000,9,   380.34,2, -999.00,9,  -999.0,9, -999.00,9,-999.0000,9,-999.0000,9,-999.0000,9,  -999.0,9,  -999.0,9,  12.037,2, -999.00,9,      0.634,2
09AR20071216,       CASO,      78,          1,         18,         18,2,20080111,       0402,   -65.9158,   146.5672,        518,    35.7,  -1.4800,  34.2597,2,-999.0000,9,   380.34,2, -999.00,9,  -999.0,9, -999.00,9,-999.0000,9,-999.0000,9,-999.0000,9,  -999.0,9,  -999.0,9,  12.146,2, -999.00,9,      0.755,2
09AR20071216,       CASO,      78,          1,         17,         17,2,20080111,       0402,   -65.9158,   146.5672,        518,    35.7,  -1.4832,  34.2606,2,-999.0000,9,   380.34,2, -999.00,9,  -999.0,9, -999.00,9,-999.0000,9,-999.0000,9,-999.0000,9,  -999.0,9,  -999.0,9,  12.024,2, -999.00,9,      0.760,2
09AR20071216,       CASO,      78,          1,         16,         16,2,20080111,       0402,   -65.9158,   146.5672,        518,    35.7,  -1.4852,  34.2612,2,-999.0000,9,   380.34,2, -999.00,9,  -999.0,9, -999.00,9,-999.0000,9,-999.0000,9,-999.0000,9,  -999.0,9,  -999.0,9,  12.025,2, -999.00,9,      0.640,2
09AR20071216,       CASO,      78,          1,         15,         15,2,20080111,       0402,   -65.9158,   146.5672,        518,    35.7,  -1.4883,  34.2622,2,  34.2630,2,   380.34,2,  335.48,2,    74.4,2,    1.91,2,   4.7231,2,   2.4297,2,   0.4644,2,  2195.9,2,  2323.3,6,  11.637,2,   27.62,3,      0.554,2
09AR20071216,       CASO,      78,          1,         14,         14,2,20080111,       0402,   -65.9158,   146.5672,        518,    35.6,  -1.4928,  34.2637,2,-999.0000,9,   380.34,2, -999.00,9,  -999.0,9, -999.00,9,-999.0000,9,-999.0000,9,-999.0000,9,  -999.0,9,  -999.0,9,  11.374,2, -999.00,9,      0.645,2
09AR20071216,       CASO,      78,          1,         13,         13,2,20080111,       0402,   -65.9158,   146.5672,        518,    50.2,  -1.6342,  34.3224,2,  34.3249,2,   349.47,2,  319.60,2,    76.0,2,    2.00,2,-999.0000,9,-999.0000,9,-999.0000,9,  -999.0,9,  -999.0,9,   2.523,2,   29.73,3,      0.010,2
09AR20071216,       CASO,      78,          1,         12,         12,2,20080111,       0402,   -65.9158,   146.5672,        518,    70.3,  -1.6967,  34.3376,2,-999.0000,9,   317.19,2, -999.00,9,  -999.0,9, -999.00,9,-999.0000,9,-999.0000,9,-999.0000,9,  -999.0,9,  -999.0,9,   1.227,2, -999.00,9,      0.001,2
09AR20071216,       CASO,      78,          1,         11,         11,2,20080111,       0402,   -65.9158,   146.5672,        518,    70.2,  -1.6965,  34.3376,2,  34.3390,2,   317.19,2,  313.12,2,    76.3,2,    2.01,2,   5.0864,2,   2.6060,2,   0.4195,2,  2215.9,2,  2324.5,2,   1.205,2,   30.19,3,      0.001,2
09AR20071216,       CASO,      78,          1,         10,         10,2,20080111,       0402,   -65.9158,   146.5672,        518,   149.9,  -1.8026,  34.3699,2,-999.0000,9,   298.37,2, -999.00,9,  -999.0,9, -999.00,9,-999.0000,9,-999.0000,9,-999.0000,9,  -999.0,9,  -999.0,9,   0.120,2, -999.00,9,      0.001,2
09AR20071216,       CASO,      78,          1,          9,          9,2,20080111,       0402,   -65.9158,   146.5672,        518,   149.9,  -1.8046,  34.3695,2,  34.3680,2,   298.37,2,  301.28,2,    77.5,2,    2.05,2,   4.6883,2,   2.4674,2,   0.3656,2,    2221,2,  2326.4,6,   0.100,2,   30.80,3,      0.001,2
09AR20071216,       CASO,      78,          1,          8,          8,2,20080111,       0402,   -65.9158,   146.5672,        518,   241.0,  -1.7349,  34.3909,2,-999.0000,9,   295.58,2, -999.00,9,  -999.0,9, -999.00,9,-999.0000,9,-999.0000,9,-999.0000,9,  -999.0,9,  -999.0,9,   0.033,2, -999.00,9,      0.001,2
09AR20071216,       CASO,      78,          1,          7,          7,2,20080111,       0402,   -65.9158,   146.5672,        518,   240.9,  -1.7348,  34.3909,2,  34.3897,2,   295.20,2,  295.64,2,    78.8,2,    2.06,2,-999.0000,9,-999.0000,9,-999.0000,9,  -999.0,9,  -999.0,9,   0.038,2,   30.87,3,      0.001,2
09AR20071216,       CASO,      78,          1,          6,          6,2,20080111,       0402,   -65.9158,   146.5672,        518,   350.1,  -1.6696,  34.4207,2,-999.0000,9,   297.70,2, -999.00,9,  -999.0,9, -999.00,9,-999.0000,9,-999.0000,9,-999.0000,9,  -999.0,9,  -999.0,9,   0.040,2, -999.00,9,      0.001,2
09AR20071216,       CASO,      78,          1,          5,          5,2,20080111,       0402,   -65.9158,   146.5672,        518,   350.3,  -1.6693,  34.4209,2,  34.4182,2,   297.70,2,  297.71,2,    79.4,2,    2.07,2,   4.5262,2,   2.3669,2,   0.3643,2,  2225.9,2,  2328.9,2,   0.035,2,   30.86,3,      0.001,2
09AR20071216,       CASO,      78,          1,          4,          4,2,20080111,       0402,   -65.9158,   146.5672,        518,   469.9,  -1.6687,  34.4928,2,-999.0000,9,   300.50,2, -999.00,9,  -999.0,9, -999.00,9,-999.0000,9,-999.0000,9,-999.0000,9,  -999.0,9,  -999.0,9,   0.139,2, -999.00,9,      0.001,2
09AR20071216,       CASO,      78,          1,          3,          3,2,20080111,       0402,   -65.9158,   146.5672,        518,   469.7,  -1.6665,  34.4934,2,  34.4936,2,   300.50,2,  302.47,2,    80.3,2,    2.08,2,   4.8366,2,   2.4608,2,   0.3786,2,  2230.2,2,  2333.4,6,   0.153,2,   30.80,3,      0.001,2
09AR20071216,       CASO,      78,          1,          2,          2,2,20080111,       0402,   -65.9158,   146.5672,        518,   518.6,  -1.4348,  34.5240,2,-999.0000,9,   297.39,2, -999.00,9,  -999.0,9, -999.00,9,-999.0000,9,-999.0000,9,-999.0000,9,  -999.0,9,  -999.0,9,   0.065,2, -999.00,9,      0.001,2
09AR20071216,       CASO,      78,          1,          1,          1,2,20080111,       0402,   -65.9158,   146.5672,        518,   518.9,  -1.4920,  34.5179,2,  34.5154,2,   297.39,2,  295.08,2,    82.5,2,    2.09,2,   4.3152,2,   2.2577,2,   0.3358,2,  2233.3,6,  2335.3,2,   0.102,2,   30.79,3,      0.001,2