BOTTLE,20230622CCHSIOENA
EXPOCODE,SECT_ID,STNNBR,CASTNO,SAMPNO,BTLNBR,BTLNBR_FLAG_W,DATE,TIME,LATITUDE,LONGITUDE,DEPTH,CTDPRS,CTDTMP,CTDSAL,CTDSAL_FLAG_W,SALNTY,SALNTY_FLAG_W,CTDOXY,CTDOXY_FLAG_W,OXYGEN,OXYGEN_FLAG_W,SILCAT,SILCAT_FLAG_W,PHSPHT,PHSPHT_FLAG_W,CFC-11,CFC-11_FLAG_W,CFC-12,CFC-12_FLAG_W,CFC113,CFC113_FLAG_W,TCARBN,TCARBN_FLAG_W,ALKALI,ALKALI_FLAG_W,FLUOR,FLUOR_FLAG_W,NO2+NO3,NO2+NO3_FLAG_W,PAR,PAR_FLAG_W
,,,,,,,,,,,METERS,DBAR,ITS-90,PSS-78,,PSS-78,,UMOL/KG,,UMOL/KG,,UMOL/KG,,UMOL/KG,,PMOL/KG,,PMOL/KG,,PMOL/KG,,UMOL/KG,,UMOL/KG,,MG/M^3,,UMOL/KG,,VOLTS,
09AR20071216,    ICEBERG,     117,          1,         24,         24,2,20080119,       1033,   -65.5642,   140.6623,        912,     4.0,   1.0260,  33.6124,2,  33.6132,2,  -999.00,5, -999.00,9,    40.5,2,    1.74,2,-999.0000,9,-999.0000,9,-999.0000,9,  -999.0,9,  -999.0,9,   1.400,2,   26.26,2,      2.368,2
09AR20071216,    ICEBERG,     117,          1,         23,         23,2,20080119,       1033,   -65.5642,   140.6623,        912,     4.0,   1.0263,  33.6124,2,-999.0000,9,  -999.00,5, -999.00,9,  -999.0,9, -999.00,9,-999.0000,9,-999.0000,9,-999.0000,9,  -999.0,9,  -999.0,9,   1.402,2, -999.00,9,      2.362,2
09AR20071216,    ICEBERG,     117,          1,         22,         22,2,20080119,       1033,   -65.5642,   140.6623,        912,     4.0,   1.0238,  33.6124,2,-999.0000,9,  -999.00,5, -999.00,9,  -999.0,9, -999.00,9,-999.0000,9,-999.0000,9,-999.0000,9,  -999.0,9,  -999.0,9,   1.403,2, -999.00,9,      2.359,2
09AR20071216,    ICEBERG,     117,          1,         21,         21,2,20080119,       1033,   -65.5642,   140.6623,        912,     4.1,   1.0225,  33.6124,2,-999.0000,9,  -999.00,5, -999.00,9,  -999.0,9, -999.00,9,-999.0000,9,-999.0000,9,-999.0000,9,  -999.0,9,  -999.0,9,   1.383,2, -999.00,9,      2.330,2
09AR20071216,    ICEBERG,     117,          1,         20,         20,2,20080119,       1033,   -65.5642,   140.6623,        912,    25.2,   0.5025,  33.6589,2,  33.6553,2,  -999.00,5, -999.00,9,    39.9,2,    1.76,2,-999.0000,9,-999.0000,9,-999.0000,9,  -999.0,9,  -999.0,9,   1.441,2,   26.49,2,      1.566,2
09AR20071216,    ICEBERG,     117,          1,         19,         19,2,20080119,       1033,   -65.5642,   140.6623,        912,    25.2,   0.5288,  33.6577,2,-999.0000,9,  -999.00,5, -999.00,9,  -999.0,9, -999.00,9,-999.0000,9,-999.0000,9,-999.0000,9,  -999.0,9,  -999.0,9,   1.409,2, -999.00,9,      1.567,2
09AR20071216,    ICEBERG,     117,          1,         18,         18,2,20080119,       1033,   -65.5642,   140.6623,        912,    25.2,   0.5595,  33.6561,2,-999.0000,9,  -999.00,5, -999.00,9,  -999.0,9, -999.00,9,-999.0000,9,-999.0000,9,-999.0000,9,  -999.0,9,  -999.0,9,   1.364,2, -999.00,9,      1.587,2
09AR20071216,    ICEBERG,     117,          1,         17,         17,2,20080119,       1033,   -65.5642,   140.6623,        912,    25.2,   0.5759,  33.6551,2,-999.0000,9,  -999.00,5, -999.00,9,  -999.0,9, -999.00,9,-999.0000,9,-999.0000,9,-999.0000,9,  -999.0,9,  -999.0,9,   1.331,2, -999.00,9,      1.576,2
09AR20071216,    ICEBERG,     117,          1,         16,         16,2,20080119,       1033,   -65.5642,   140.6623,        912,    79.9,  -1.5569,  34.2381,2,  34.2403,2,  -999.00,5, -999.00,9,    55.4,2,    2.02,2,-999.0000,9,-999.0000,9,-999.0000,9,  -999.0,9,  -999.0,9,   1.710,2,   28.99,2,      0.405,2
09AR20071216,    ICEBERG,     117,          1,         15,         15,2,20080119,       1033,   -65.5642,   140.6623,        912,    80.2,  -1.5574,  34.2386,2,-999.0000,9,  -999.00,5, -999.00,9,  -999.0,9, -999.00,9,-999.0000,9,-999.0000,9,-999.0000,9,  -999.0,9,  -999.0,9,   1.766,2, -999.00,9,      0.404,2
09AR20071216,    ICEBERG,     117,          1,         14,         14,2,20080119,       1033,   -65.5642,   140.6623,        912,    80.1,  -1.5576,  34.2392,2,-999.0000,9,  -999.00,5, -999.00,9,  -999.0,9, -999.00,9,-999.0000,9,-999.0000,9,-999.0000,9,  -999.0,9,  -999.0,9,   1.742,2, -999.00,9,      0.404,2
09AR20071216,    ICEBERG,     117,          1,         13,         13,2,20080119,       1033,   -65.5642,   140.6623,        912,    80.1,  -1.5576,  34.2398,2,-999.0000,9,  -999.00,5, -999.00,9,  -999.0,9, -999.00,9,-999.0000,9,-999.0000,9,-999.0000,9,  -999.0,9,  -999.0,9,   1.755,2, -999.00,9,      0.411,2
09AR20071216,    ICEBERG,     117,          1,         12,         12,2,20080119,       1033,   -65.5642,   140.6623,        912,   149.8,  -1.6449,  34.3866,2,  34.3860,2,  -999.00,5, -999.00,9,  -999.0,9, -999.00,9,-999.0000,9,-999.0000,9,-999.0000,9,  -999.0,9,  -999.0,9,   0.170,2, -999.00,9,      0.001,2
09AR20071216,    ICEBERG,     117,          1,         11,         11,2,20080119,       1033,   -65.5642,   140.6623,        912,   149.9,  -1.6445,  34.3867,2,-999.0000,9,  -999.00,5, -999.00,9,    65.8,2,    2.12,2,-999.0000,9,-999.0000,9,-999.0000,9,  -999.0,9,  -999.0,9,   0.165,2,   30.57,2,      0.001,2
09AR20071216,    ICEBERG,     117,          1,         10,         10,2,20080119,       1033,   -65.5642,   140.6623,        912,   150.0,  -1.6450,  34.3865,2,-999.0000,9,  -999.00,5, -999.00,9,  -999.0,9, -999.00,9,-999.0000,9,-999.0000,9,-999.0000,9,  -999.0,9,  -999.0,9,   0.140,2, -999.00,9,      0.001,2
09AR20071216,    ICEBERG,     117,          1,          9,          9,2,20080119,       1033,   -65.5642,   140.6623,        912,   149.9,  -1.6452,  34.3865,2,-999.0000,9,  -999.00,5, -999.00,9,  -999.0,9, -999.00,9,-999.0000,9,-999.0000,9,-999.0000,9,  -999.0,9,  -999.0,9,   0.179,2, -999.00,9,      0.001,2
09AR20071216,    ICEBERG,     117,          1,          8,          8,2,20080119,       1033,   -65.5642,   140.6623,        912,   250.3,  -1.1242,  34.4774,2,  34.4773,2,  -999.00,5, -999.00,9,    76.9,2,    2.16,2,-999.0000,9,-999.0000,9,-999.0000,9,  -999.0,9,  -999.0,9,  -0.026,2,   30.81,2,      0.001,2
09AR20071216,    ICEBERG,     117,          1,          7,          7,2,20080119,       1033,   -65.5642,   140.6623,        912,   250.6,  -1.1242,  34.4775,2,-999.0000,9,  -999.00,5, -999.00,9,  -999.0,9, -999.00,9,-999.0000,9,-999.0000,9,-999.0000,9,  -999.0,9,  -999.0,9,  -0.032,2, -999.00,9,      0.001,2
09AR20071216,    ICEBERG,     117,          1,          6,          6,2,20080119,       1033,   -65.5642,   140.6623,        912,   250.3,  -1.1245,  34.4773,2,-999.0000,9,  -999.00,5, -999.00,9,  -999.0,9, -999.00,9,-999.0000,9,-999.0000,9,-999.0000,9,  -999.0,9,  -999.0,9,  -0.024,2, -999.00,9,      0.001,2
09AR20071216,    ICEBERG,     117,          1,          5,          5,2,20080119,       1033,   -65.5642,   140.6623,        912,   250.4,  -1.1241,  34.4774,2,-999.0000,9,  -999.00,5, -999.00,9,  -999.0,9, -999.00,9,-999.0000,9,-999.0000,9,-999.0000,9,  -999.0,9,  -999.0,9,  -0.026,2, -999.00,9,      0.001,2
09AR20071216,    ICEBERG,     117,          1,          4,          4,2,20080119,       1033,   -65.5642,   140.6623,        912,   301.7,  -0.7062,  34.5218,2,  34.5215,2,  -999.00,5, -999.00,9,    81.9,2,    2.17,2,-999.0000,9,-999.0000,9,-999.0000,9,  -999.0,9,  -999.0,9,  -0.039,2,   30.92,2,      0.001,2
09AR20071216,    ICEBERG,     117,          1,          3,          3,2,20080119,       1033,   -65.5642,   140.6623,        912,   301.7,  -0.7083,  34.5215,2,-999.0000,9,  -999.00,5, -999.00,9,  -999.0,9, -999.00,9,-999.0000,9,-999.0000,9,-999.0000,9,  -999.0,9,  -999.0,9,  -0.037,2, -999.00,9,      0.001,2
09AR20071216,    ICEBERG,     117,          1,          2,          2,2,20080119,       1033,   -65.5642,   140.6623,        912,   300.8,  -0.7116,  34.5211,2,-999.0000,9,  -999.00,5, -999.00,9,  -999.0,9, -999.00,9,-999.0000,9,-999.0000,9,-999.0000,9,  -999.0,9,  -999.0,9,  -0.038,2, -999.00,9,      0.001,2
09AR20071216,    ICEBERG,     117,          1,          1,          1,2,20080119,       1033,   -65.5642,   140.6623,        912,   300.6,  -0.7132,  34.5207,2,-999.0000,9,  -999.00,5, -999.00,9,  -999.0,9, -999.00,9,-999.0000,9,-999.0000,9,-999.0000,9,  -999.0,9,  -999.0,9,  -0.036,2, -999.00,9,      0.001,2
09AR20071216,    ICEBERG,     118,          1,         24,         24,2,20080119,       1131,   -65.5803,   140.6400,        971,     4.3,   0.9649,  33.6201,2,  33.6208,2,  -999.00,5, -999.00,9,    40.5,2,    1.76,2,-999.0000,9,-999.0000,9,-999.0000,9,  -999.0,9,  -999.0,9,   1.338,2,   26.36,2,      2.018,2
09AR20071216,    ICEBERG,     118,          1,         23,         23,2,20080119,       1131,   -65.5803,   140.6400,        971,     4.4,   0.9505,  33.6211,2,-999.0000,9,  -999.00,5, -999.00,9,  -999.0,9, -999.00,9,-999.0000,9,-999.0000,9,-999.0000,9,  -999.0,9,  -999.0,9,   1.343,2, -999.00,9,      2.017,2
09AR20071216,    ICEBERG,     118,          1,         22,         22,2,20080119,       1131,   -65.5803,   140.6400,        971,     4.3,   0.9564,  33.6214,2,-999.0000,9,  -999.00,5, -999.00,9,  -999.0,9, -999.00,9,-999.0000,9,-999.0000,9,-999.0000,9,  -999.0,9,  -999.0,9,   1.337,2, -999.00,9,      2.012,2
09AR20071216,    ICEBERG,     118,          1,         21,         21,2,20080119,       1131,   -65.5803,   140.6400,        971,     4.3,   0.8426,  33.6291,2,-999.0000,9,  -999.00,5, -999.00,9,  -999.0,9, -999.00,9,-999.0000,9,-999.0000,9,-999.0000,9,  -999.0,9,  -999.0,9,   1.304,2, -999.00,9,      2.025,2
09AR20071216,    ICEBERG,     118,          1,         20,         20,2,20080119,       1131,   -65.5803,   140.6400,        971,    24.4,   0.1659,  33.6667,2,  33.6723,2,  -999.00,5, -999.00,9,    42.3,2,    1.78,2,-999.0000,9,-999.0000,9,-999.0000,9,  -999.0,9,  -999.0,9,   1.761,2,   26.13,2,      1.351,2
09AR20071216,    ICEBERG,     118,          1,         19,         19,2,20080119,       1131,   -65.5803,   140.6400,        971,    24.3,   0.1607,  33.6699,2,-999.0000,9,  -999.00,5, -999.00,9,  -999.0,9, -999.00,9,-999.0000,9,-999.0000,9,-999.0000,9,  -999.0,9,  -999.0,9,   1.776,2, -999.00,9,      1.337,2
09AR20071216,    ICEBERG,     118,          1,         18,         18,2,20080119,       1131,   -65.5803,   140.6400,        971,    24.4,   0.1016,  33.6857,2,-999.0000,9,  -999.00,5, -999.00,9,  -999.0,9, -999.00,9,-999.0000,9,-999.0000,9,-999.0000,9,  -999.0,9,  -999.0,9,   1.777,2, -999.00,9,      1.333,2
09AR20071216,    ICEBERG,     118,          1,         17,         17,2,20080119,       1131,   -65.5803,   140.6400,        971,    24.5,   0.1090,  33.6831,2,-999.0000,9,  -999.00,5, -999.00,9,  -999.0,9, -999.00,9,-999.0000,9,-999.0000,9,-999.0000,9,  -999.0,9,  -999.0,9,   1.811,2, -999.00,9,      1.339,2
09AR20071216,    ICEBERG,     118,          1,         16,         16,2,20080119,       1131,   -65.5803,   140.6400,        971,    89.9,  -1.6923,  34.2958,2,  34.2945,2,  -999.00,5, -999.00,9,    57.6,2,    2.08,2,-999.0000,9,-999.0000,9,-999.0000,9,  -999.0,9,  -999.0,9,   0.931,2,   29.85,2,      0.001,2
09AR20071216,    ICEBERG,     118,          1,         15,         15,2,20080119,       1131,   -65.5803,   140.6400,        971,    89.7,  -1.6921,  34.2951,2,-999.0000,9,  -999.00,5, -999.00,9,  -999.0,9, -999.00,9,-999.0000,9,-999.0000,9,-999.0000,9,  -999.0,9,  -999.0,9,   0.866,2, -999.00,9,      0.001,2
09AR20071216,    ICEBERG,     118,          1,         14,         14,2,20080119,       1131,   -65.5803,   140.6400,        971,    89.6,  -1.6926,  34.2957,2,-999.0000,9,  -999.00,5, -999.00,9,  -999.0,9, -999.00,9,-999.0000,9,-999.0000,9,-999.0000,9,  -999.0,9,  -999.0,9,   0.867,2, -999.00,9,      0.001,2
09AR20071216,    ICEBERG,     118,          1,         13,         13,2,20080119,       1131,   -65.5803,   140.6400,        971,    89.9,  -1.6925,  34.2953,2,-999.0000,9,  -999.00,5, -999.00,9,  -999.0,9, -999.00,9,-999.0000,9,-999.0000,9,-999.0000,9,  -999.0,9,  -999.0,9,   0.912,2, -999.00,9,      0.001,2
09AR20071216,    ICEBERG,     118,          1,         12,         12,2,20080119,       1131,   -65.5803,   140.6400,        971,   151.4,  -1.5847,  34.3997,2,  34.3999,2,  -999.00,5, -999.00,9,    67.5,2,    2.13,2,-999.0000,9,-999.0000,9,-999.0000,9,  -999.0,9,  -999.0,9,   0.126,2,   30.79,2,      0.001,2
09AR20071216,    ICEBERG,     118,          1,         11,         11,2,20080119,       1131,   -65.5803,   140.6400,        971,   151.1,  -1.5847,  34.3998,2,-999.0000,9,  -999.00,5, -999.00,9,  -999.0,9, -999.00,9,-999.0000,9,-999.0000,9,-999.0000,9,  -999.0,9,  -999.0,9,   0.129,2, -999.00,9,      0.001,2
09AR20071216,    ICEBERG,     118,          1,         10,         10,2,20080119,       1131,   -65.5803,   140.6400,        971,   150.9,  -1.5838,  34.4001,2,-999.0000,9,  -999.00,5, -999.00,9,  -999.0,9, -999.00,9,-999.0000,9,-999.0000,9,-999.0000,9,  -999.0,9,  -999.0,9,   0.134,2, -999.00,9,      0.001,2
09AR20071216,    ICEBERG,     118,          1,          9,          9,2,20080119,       1131,   -65.5803,   140.6400,        971,   151.0,  -1.5824,  34.4006,2,-999.0000,9,  -999.00,5, -999.00,9,  -999.0,9, -999.00,9,-999.0000,9,-999.0000,9,-999.0000,9,  -999.0,9,  -999.0,9,   0.139,2, -999.00,9,      0.001,2
09AR20071216,    ICEBERG,     118,          1,          8,          8,2,20080119,       1131,   -65.5803,   140.6400,        971,   250.0,  -1.0731,  34.4833,2,  34.4821,2,  -999.00,5, -999.00,9,    77.6,2,    2.17,2,-999.0000,9,-999.0000,9,-999.0000,9,  -999.0,9,  -999.0,9,  -0.028,2,   31.02,2,      0.001,2
09AR20071216,    ICEBERG,     118,          1,          7,          7,2,20080119,       1131,   -65.5803,   140.6400,        971,   250.0,  -1.0895,  34.4815,2,-999.0000,9,  -999.00,5, -999.00,9,  -999.0,9, -999.00,9,-999.0000,9,-999.0000,9,-999.0000,9,  -999.0,9,  -999.0,9,  -0.027,2, -999.00,9,      0.001,2
09AR20071216,    ICEBERG,     118,          1,          6,          6,2,20080119,       1131,   -65.5803,   140.6400,        971,   249.9,  -1.1002,  34.4801,2,-999.0000,9,  -999.00,5, -999.00,9,  -999.0,9, -999.00,9,-999.0000,9,-999.0000,9,-999.0000,9,  -999.0,9,  -999.0,9,  -0.015,2, -999.00,9,      0.001,2
09AR20071216,    ICEBERG,     118,          1,          5,          5,2,20080119,       1131,   -65.5803,   140.6400,        971,   249.9,  -1.1033,  34.4795,2,-999.0000,9,  -999.00,5, -999.00,9,  -999.0,9, -999.00,9,-999.0000,9,-999.0000,9,-999.0000,9,  -999.0,9,  -999.0,9,  -0.024,2, -999.00,9,      0.001,2
09AR20071216,    ICEBERG,     118,          1,          4,          4,2,20080119,       1131,   -65.5803,   140.6400,        971,   299.9,  -0.7133,  34.5205,2,  34.5216,2,  -999.00,5, -999.00,9,    82.0,2,    2.18,2,-999.0000,9,-999.0000,9,-999.0000,9,  -999.0,9,  -999.0,9,  -0.037,2,   31.17,2,      0.001,2
09AR20071216,    ICEBERG,     118,          1,          3,          3,2,20080119,       1131,   -65.5803,   140.6400,        971,   299.9,  -0.7035,  34.5212,2,-999.0000,9,  -999.00,5, -999.00,9,  -999.0,9, -999.00,9,-999.0000,9,-999.0000,9,-999.0000,9,  -999.0,9,  -999.0,9,  -0.038,2, -999.00,9,      0.001,2
09AR20071216,    ICEBERG,     118,          1,          2,          2,2,20080119,       1131,   -65.5803,   140.6400,        971,   299.7,  -0.6977,  34.5220,2,-999.0000,9,  -999.00,5, -999.00,9,  -999.0,9, -999.00,9,-999.0000,9,-999.0000,9,-999.0000,9,  -999.0,9,  -999.0,9,  -0.037,2, -999.00,9,      0.001,2
09AR20071216,    ICEBERG,     118,          1,          1,          1,2,20080119,       1131,   -65.5803,   140.6400,        971,   299.8,  -0.7015,  34.5214,2,-999.0000,9,  -999.00,5, -999.00,9,  -999.0,9, -999.00,9,-999.0000,9,-999.0000,9,-999.0000,9,  -999.0,9,  -999.0,9,  -0.033,2, -999.00,9,      0.001,2