BOTTLE,20230622CCHSIOENA
EXPOCODE,SECT_ID,STNNBR,CASTNO,SAMPNO,BTLNBR,BTLNBR_FLAG_W,DATE,TIME,LATITUDE,LONGITUDE,DEPTH,CTDPRS,CTDTMP,CTDSAL,CTDSAL_FLAG_W,SALNTY,SALNTY_FLAG_W,CTDOXY,CTDOXY_FLAG_W,OXYGEN,OXYGEN_FLAG_W,SILCAT,SILCAT_FLAG_W,PHSPHT,PHSPHT_FLAG_W,CFC-11,CFC-11_FLAG_W,CFC-12,CFC-12_FLAG_W,CFC113,CFC113_FLAG_W,TCARBN,TCARBN_FLAG_W,ALKALI,ALKALI_FLAG_W,FLUOR,FLUOR_FLAG_W,NO2+NO3,NO2+NO3_FLAG_W,PAR,PAR_FLAG_W
,,,,,,,,,,,METERS,DBAR,ITS-90,PSS-78,,PSS-78,,UMOL/KG,,UMOL/KG,,UMOL/KG,,UMOL/KG,,PMOL/KG,,PMOL/KG,,PMOL/KG,,UMOL/KG,,UMOL/KG,,MG/M^3,,UMOL/KG,,VOLTS,
09AR20071216,    CEAMARC,      13,          1,         24,         24,2,20071226,       2033,   -66.3437,   141.9847,        257,     9.2,  -1.6363,  34.3906,2,-999.0000,9,   334.11,2, -999.00,9,  -999.0,9, -999.00,9,-999.0000,9,-999.0000,9,-999.0000,9,  -999.0,9,  -999.0,9,   1.962,2, -999.00,9,      3.156,2
09AR20071216,    CEAMARC,      13,          1,         23,         23,2,20071226,       2033,   -66.3437,   141.9847,        257,     9.1,  -1.6385,  34.3907,2,-999.0000,9,   334.11,2, -999.00,9,  -999.0,9, -999.00,9,-999.0000,9,-999.0000,9,-999.0000,9,  -999.0,9,  -999.0,9,   2.614,2, -999.00,9,      3.134,2
09AR20071216,    CEAMARC,      13,          1,         22,         22,2,20071226,       2033,   -66.3437,   141.9847,        257,     9.1,  -1.6385,  34.3909,2,-999.0000,9,   334.11,2, -999.00,9,  -999.0,9, -999.00,9,-999.0000,9,-999.0000,9,-999.0000,9,  -999.0,9,  -999.0,9,   2.635,2, -999.00,9,      3.126,2
09AR20071216,    CEAMARC,      13,          1,         21,         21,2,20071226,       2033,   -66.3437,   141.9847,        257,     9.1,  -1.6389,  34.3906,2,  34.3899,2,   334.11,2,  334.23,2,    71.3,2,    1.92,2,-999.0000,9,-999.0000,9,-999.0000,9,  2211.5,6,  2329.8,6,   2.772,2,   27.96,2,      3.096,2
09AR20071216,    CEAMARC,      13,          1,         20,         20,2,20071226,       2033,   -66.3437,   141.9847,        257,    30.4,  -1.6381,  34.3917,2,-999.0000,9,   333.46,2, -999.00,9,  -999.0,9, -999.00,9,-999.0000,9,-999.0000,9,-999.0000,9,  -999.0,9,  -999.0,9,   3.539,2, -999.00,9,      2.153,2
09AR20071216,    CEAMARC,      13,          1,         19,         19,2,20071226,       2033,   -66.3437,   141.9847,        257,    30.4,  -1.6390,  34.3918,2,-999.0000,9,   333.46,2, -999.00,9,  -999.0,9, -999.00,9,   5.4732,2,   2.7518,2,   0.5041,2,  -999.0,9,  -999.0,9,   3.641,2, -999.00,9,      2.166,2
09AR20071216,    CEAMARC,      13,          1,         18,         18,2,20071226,       2033,   -66.3437,   141.9847,        257,    30.4,  -1.6398,  34.3917,2,-999.0000,9,   333.46,2, -999.00,9,  -999.0,9, -999.00,9,-999.0000,9,-999.0000,9,-999.0000,9,  -999.0,9,  -999.0,9,   3.601,2, -999.00,9,      2.187,2
09AR20071216,    CEAMARC,      13,          1,         17,         17,2,20071226,       2033,   -66.3437,   141.9847,        257,    30.4,  -1.6403,  34.3919,2,-999.0000,9,   333.46,2, -999.00,9,  -999.0,9, -999.00,9,-999.0000,9,-999.0000,9,-999.0000,9,  -999.0,9,  -999.0,9,   3.514,2, -999.00,9,      2.199,2
09AR20071216,    CEAMARC,      13,          1,         16,         16,2,20071226,       2033,   -66.3437,   141.9847,        257,    30.3,  -1.6413,  34.3921,2,-999.0000,9,   333.46,2, -999.00,9,  -999.0,9, -999.00,9,-999.0000,9,-999.0000,9,-999.0000,9,  -999.0,9,  -999.0,9,   3.634,2, -999.00,9,      2.215,2
09AR20071216,    CEAMARC,      13,          1,         15,         15,2,20071226,       2033,   -66.3437,   141.9847,        257,    30.4,  -1.6411,  34.3920,2,-999.0000,9,   333.46,2, -999.00,9,  -999.0,9, -999.00,9,-999.0000,9,-999.0000,9,-999.0000,9,  -999.0,9,  -999.0,9,   3.514,2, -999.00,9,      2.218,2
09AR20071216,    CEAMARC,      13,          1,         14,         14,2,20071226,       2033,   -66.3437,   141.9847,        257,    30.4,  -1.6413,  34.3922,2,-999.0000,9,   333.46,2, -999.00,9,  -999.0,9, -999.00,9,-999.0000,9,-999.0000,9,-999.0000,9,  -999.0,9,  -999.0,9,   3.576,2, -999.00,9,      2.263,2
09AR20071216,    CEAMARC,      13,          1,         13,         13,2,20071226,       2033,   -66.3437,   141.9847,        257,    30.4,  -1.6413,  34.3921,2,-999.0000,9,   333.46,2, -999.00,9,  -999.0,9, -999.00,9,-999.0000,9,-999.0000,9,-999.0000,9,  -999.0,9,  -999.0,9,   3.617,2, -999.00,9,      2.260,2
09AR20071216,    CEAMARC,      13,          1,         12,         12,2,20071226,       2033,   -66.3437,   141.9847,        257,    30.4,  -1.6411,  34.3921,2,-999.0000,9,   333.46,2, -999.00,9,  -999.0,9, -999.00,9,-999.0000,9,-999.0000,9,-999.0000,9,  -999.0,9,  -999.0,9,   3.525,2, -999.00,9,      2.239,2
09AR20071216,    CEAMARC,      13,          1,         11,         11,2,20071226,       2033,   -66.3437,   141.9847,        257,    30.2,  -1.6410,  34.3923,2,  34.3911,2,   333.46,2,  334.27,2,    71.3,2,    1.93,2,   5.4743,2,   2.7540,2,   0.5160,2,  2210.2,2,  2326.9,2,   3.481,2,   27.95,2,      2.253,2
09AR20071216,    CEAMARC,      13,          1,         10,         10,2,20071226,       2033,   -66.3437,   141.9847,        257,    59.8,  -1.6527,  34.4110,2,-999.0000,9,   329.88,2, -999.00,9,  -999.0,9, -999.00,9,-999.0000,9,-999.0000,9,-999.0000,9,  -999.0,9,  -999.0,9,   2.873,2, -999.00,9,      0.813,2
09AR20071216,    CEAMARC,      13,          1,          9,          9,2,20071226,       2033,   -66.3437,   141.9847,        257,    59.5,  -1.6521,  34.4110,2,  34.4105,2,   329.88,2,  328.36,2,    72.2,2,    1.97,2,   5.2199,2,   2.7005,2,   0.4505,2,  2213.4,3,  2326.6,2,   3.102,2,   28.94,2,      0.828,2
09AR20071216,    CEAMARC,      13,          1,          8,          8,2,20071226,       2033,   -66.3437,   141.9847,        257,    89.9,  -1.6927,  34.4691,2,-999.0000,9,   320.07,2, -999.00,9,  -999.0,9, -999.00,9,-999.0000,9,-999.0000,9,-999.0000,9,  -999.0,9,  -999.0,9,   1.368,2, -999.00,9,      0.001,2
09AR20071216,    CEAMARC,      13,          1,          7,          7,2,20071226,       2033,   -66.3437,   141.9847,        257,    89.9,  -1.6922,  34.4686,2,  34.4672,2,   320.07,2,  319.82,2,    74.0,2,    2.06,2,   5.1152,2,   2.6221,2,   0.4562,2,  2221.1,2,  2331.2,2,   1.244,2,   29.87,2,      0.001,2
09AR20071216,    CEAMARC,      13,          1,          6,          6,2,20071226,       2033,   -66.3437,   141.9847,        257,   140.5,  -1.7336,  34.5008,2,-999.0000,9,   313.45,2, -999.00,9,  -999.0,9, -999.00,9,-999.0000,9,-999.0000,9,-999.0000,9,  -999.0,9,  -999.0,9,   0.500,2, -999.00,9,      0.001,2
09AR20071216,    CEAMARC,      13,          1,          5,          5,2,20071226,       2033,   -66.3437,   141.9847,        257,   140.0,  -1.7331,  34.5004,2,  34.4993,2,   313.45,2,  313.94,2,    75.5,2,    2.11,2,   5.1058,2,   2.5454,2,   0.4836,2,    2230,3,  2331.4,2,   0.481,2,   30.26,2,      0.001,2
09AR20071216,    CEAMARC,      13,          1,          4,          4,2,20071226,       2033,   -66.3437,   141.9847,        257,   189.9,  -1.7330,  34.5103,2,-999.0000,9,   312.08,2, -999.00,9,  -999.0,9, -999.00,9,-999.0000,9,-999.0000,9,-999.0000,9,  -999.0,9,  -999.0,9,   0.308,2, -999.00,9,      0.001,2
09AR20071216,    CEAMARC,      13,          1,          3,          3,2,20071226,       2033,   -66.3437,   141.9847,        257,   190.2,  -1.7334,  34.5108,2,  34.5109,2,   312.08,2,  312.03,2,    76.2,2,    2.13,2,   0.0000,4,   0.0000,4,   0.0000,4,  2228.5,2,  2334.1,2,   0.328,2,   30.49,2,      0.001,2
09AR20071216,    CEAMARC,      13,          1,          2,          2,2,20071226,       2033,   -66.3437,   141.9847,        257,   244.6,  -1.7061,  34.5316,2,-999.0000,9,   307.81,2, -999.00,9,  -999.0,9, -999.00,9,-999.0000,9,-999.0000,9,-999.0000,9,  -999.0,9,  -999.0,9,   0.114,2, -999.00,9,      0.001,2
09AR20071216,    CEAMARC,      13,          1,          1,          1,2,20071226,       2033,   -66.3437,   141.9847,        257,   244.2,  -1.7053,  34.5322,2,  34.5299,2,   307.81,2,  307.55,2,    77.6,2,    2.13,2,   4.9550,6,   2.4973,6,   0.4482,6,  2234.4,2,  2332.4,2,   0.105,2,   30.49,2,      0.001,2
09AR20071216,    CEAMARC,      14,          1,         24,         24,2,20071227,       0050,   -66.5675,   142.0027,        310,     7.5,  -1.1005,  34.4407,2,-999.0000,9,   352.50,2, -999.00,9,  -999.0,9, -999.00,9,-999.0000,9,-999.0000,9,-999.0000,9,  -999.0,9,  -999.0,9,   1.700,2, -999.00,9,      3.777,2
09AR20071216,    CEAMARC,      14,          1,         23,         23,2,20071227,       0050,   -66.5675,   142.0027,        310,     7.5,  -1.0995,  34.4410,2,-999.0000,9,   352.50,2, -999.00,9,  -999.0,9, -999.00,9,-999.0000,9,-999.0000,9,-999.0000,9,  -999.0,9,  -999.0,9,   1.347,2, -999.00,9,      3.715,2
09AR20071216,    CEAMARC,      14,          1,         22,         22,2,20071227,       0050,   -66.5675,   142.0027,        310,     7.5,  -1.1039,  34.4412,2,-999.0000,9,   352.50,2, -999.00,9,  -999.0,9, -999.00,9,-999.0000,9,-999.0000,9,-999.0000,9,  -999.0,9,  -999.0,9,   1.539,2, -999.00,9,      3.780,2
09AR20071216,    CEAMARC,      14,          1,         21,         21,2,20071227,       0050,   -66.5675,   142.0027,        310,     7.5,  -1.1130,  34.4413,2,-999.0000,9,   352.50,2,  352.69,2,    67.1,2,    1.76,2,   5.8678,2,   2.9622,2,   0.5690,2,  2201.8,2,  2333.8,2,   1.723,2,   26.62,2,      3.768,2
09AR20071216,    CEAMARC,      14,          1,         20,         20,2,20071227,       0050,   -66.5675,   142.0027,        310,    29.7,  -1.3127,  34.4571,2,-999.0000,9,   344.64,2, -999.00,9,  -999.0,9, -999.00,9,-999.0000,9,-999.0000,9,-999.0000,9,  -999.0,9,  -999.0,9,   5.710,2, -999.00,9,      2.303,2
09AR20071216,    CEAMARC,      14,          1,         19,         19,2,20071227,       0050,   -66.5675,   142.0027,        310,    29.6,  -1.3076,  34.4567,2,-999.0000,9,   344.64,2, -999.00,9,  -999.0,9, -999.00,9,-999.0000,9,-999.0000,9,-999.0000,9,  -999.0,9,  -999.0,9,   5.651,2, -999.00,9,      2.336,2
09AR20071216,    CEAMARC,      14,          1,         18,         18,2,20071227,       0050,   -66.5675,   142.0027,        310,    29.7,  -1.3333,  34.4587,2,-999.0000,9,   344.64,2, -999.00,9,  -999.0,9, -999.00,9,-999.0000,9,-999.0000,9,-999.0000,9,  -999.0,9,  -999.0,9,   5.499,2, -999.00,9,      2.348,2
09AR20071216,    CEAMARC,      14,          1,         17,         17,2,20071227,       0050,   -66.5675,   142.0027,        310,    29.8,  -1.3211,  34.4577,2,-999.0000,9,   344.64,2, -999.00,9,  -999.0,9, -999.00,9,-999.0000,9,-999.0000,9,-999.0000,9,  -999.0,9,  -999.0,9,   5.778,2, -999.00,9,      2.348,2
09AR20071216,    CEAMARC,      14,          1,         16,         16,2,20071227,       0050,   -66.5675,   142.0027,        310,    29.7,  -1.3239,  34.4579,2,-999.0000,9,   344.64,2, -999.00,9,  -999.0,9, -999.00,9,-999.0000,9,-999.0000,9,-999.0000,9,  -999.0,9,  -999.0,9,   5.772,2, -999.00,9,      2.353,2
09AR20071216,    CEAMARC,      14,          1,         15,         15,2,20071227,       0050,   -66.5675,   142.0027,        310,    29.7,  -1.3071,  34.4566,2,-999.0000,9,   344.64,2, -999.00,9,  -999.0,9, -999.00,9,-999.0000,9,-999.0000,9,-999.0000,9,  -999.0,9,  -999.0,9,   5.815,2, -999.00,9,      2.358,2
09AR20071216,    CEAMARC,      14,          1,         14,         14,2,20071227,       0050,   -66.5675,   142.0027,        310,    29.8,  -1.3157,  34.4574,2,-999.0000,9,   344.64,2, -999.00,9,  -999.0,9, -999.00,9,-999.0000,9,-999.0000,9,-999.0000,9,  -999.0,9,  -999.0,9,   5.556,2, -999.00,9,      2.336,2
09AR20071216,    CEAMARC,      14,          1,         13,         13,2,20071227,       0050,   -66.5675,   142.0027,        310,    29.8,  -1.3320,  34.4588,2,-999.0000,9,   344.64,2,  342.85,2,    70.1,2,    1.87,2,   5.7603,2,   2.9001,2,   0.5060,2,  2212.3,2,  2333.9,2,   5.580,2,   27.84,2,      2.368,2
09AR20071216,    CEAMARC,      14,          1,         12,         12,2,20071227,       0050,   -66.5675,   142.0027,        310,    60.7,  -1.4935,  34.4737,2,-999.0000,9,   335.93,2, -999.00,9,  -999.0,9, -999.00,9,-999.0000,9,-999.0000,9,-999.0000,9,  -999.0,9,  -999.0,9,   3.614,2, -999.00,9,      1.065,2
09AR20071216,    CEAMARC,      14,          1,         11,         11,2,20071227,       0050,   -66.5675,   142.0027,        310,    60.6,  -1.5054,  34.4755,2,-999.0000,9,   335.93,2,  334.72,2,    72.0,2,    1.95,2,   5.0437,2,   2.6242,2,   0.5039,2,  2219.1,2,  2335.3,6,   3.527,2,   28.60,2,      1.063,2
09AR20071216,    CEAMARC,      14,          1,         10,         10,2,20071227,       0050,   -66.5675,   142.0027,        310,    99.5,  -1.7042,  34.5083,2,-999.0000,9,   322.80,2, -999.00,9,  -999.0,9, -999.00,9,-999.0000,9,-999.0000,9,-999.0000,9,  -999.0,9,  -999.0,9,   1.298,2, -999.00,9,      0.001,2
09AR20071216,    CEAMARC,      14,          1,          9,          9,2,20071227,       0050,   -66.5675,   142.0027,        310,    99.6,  -1.7023,  34.5075,2,-999.0000,9,   322.80,2,  324.98,2,    75.0,2,    2.07,2,   5.3499,2,   2.7455,2,   0.5101,2,    2228,2,  2335.5,2,   1.211,2,   29.70,2,      0.001,2
09AR20071216,    CEAMARC,      14,          1,          8,          8,2,20071227,       0050,   -66.5675,   142.0027,        310,   149.3,  -1.7709,  34.5237,2,-999.0000,9,   321.47,2, -999.00,9,  -999.0,9, -999.00,9,-999.0000,9,-999.0000,9,-999.0000,9,  -999.0,9,  -999.0,9,   0.613,2, -999.00,9,      0.001,2
09AR20071216,    CEAMARC,      14,          1,          7,          7,2,20071227,       0050,   -66.5675,   142.0027,        310,   149.5,  -1.7926,  34.5237,2,-999.0000,9,   321.47,2,  321.07,2,    76.5,2,    2.10,2,   5.4136,2,   2.7287,2,   0.5234,2,  2231.6,2,    2338,2,   0.496,2,   30.03,2,      0.001,2
09AR20071216,    CEAMARC,      14,          1,          6,          6,2,20071227,       0050,   -66.5675,   142.0027,        310,   201.1,  -1.8433,  34.5383,2,-999.0000,9,   320.77,2,  318.98,2,  -999.0,9, -999.00,9,   5.2418,2,   2.6610,2,   0.4907,2,    2234,2,  2337.9,2,   0.115,2, -999.00,9,      0.001,2
09AR20071216,    CEAMARC,      14,          1,          5,          5,2,20071227,       0050,   -66.5675,   142.0027,        310,   201.1,  -1.8439,  34.5386,2,-999.0000,9,   320.77,2, -999.00,9,    77.4,2,    2.12,2,-999.0000,9,-999.0000,9,-999.0000,9,  -999.0,9,  -999.0,9,   0.126,2,   30.25,2,      0.001,2
09AR20071216,    CEAMARC,      14,          1,          4,          4,2,20071227,       0050,   -66.5675,   142.0027,        310,   248.8,  -1.8638,  34.5626,2,-999.0000,9,   321.92,2, -999.00,9,  -999.0,9, -999.00,9,-999.0000,9,-999.0000,9,-999.0000,9,  -999.0,9,  -999.0,9,   0.034,2, -999.00,9,      0.001,2
09AR20071216,    CEAMARC,      14,          1,          3,          3,2,20071227,       0050,   -66.5675,   142.0027,        310,   248.9,  -1.8636,  34.5644,2,-999.0000,9,   321.92,2,  321.71,2,    78.0,2,    2.14,2,   5.2787,2,   2.6969,2,   0.5029,2,  2238.8,3,  2341.8,2,   0.032,2,   30.66,2,      0.001,2
09AR20071216,    CEAMARC,      14,          1,          2,          2,2,20071227,       0050,   -66.5675,   142.0027,        310,   297.2,  -1.8623,  34.5669,2,-999.0000,9,   321.90,2, -999.00,9,  -999.0,9, -999.00,9,-999.0000,9,-999.0000,9,-999.0000,9,  -999.0,9,  -999.0,9,   0.043,2, -999.00,9,      0.001,2
09AR20071216,    CEAMARC,      14,          1,          1,          1,2,20071227,       0050,   -66.5675,   142.0027,        310,   296.3,  -1.8624,  34.5671,2,-999.0000,9,   322.04,2,  323.05,2,    78.3,2,    2.15,2,   5.4312,6,   2.7610,6,   0.5017,6,  2240.6,2,  2338.1,6,   0.048,2,   30.79,2,      0.001,2