BOTTLE,20230622CCHSIOENA
EXPOCODE,SECT_ID,STNNBR,CASTNO,SAMPNO,BTLNBR,BTLNBR_FLAG_W,DATE,TIME,LATITUDE,LONGITUDE,DEPTH,CTDPRS,CTDTMP,CTDSAL,CTDSAL_FLAG_W,SALNTY,SALNTY_FLAG_W,CTDOXY,CTDOXY_FLAG_W,OXYGEN,OXYGEN_FLAG_W,SILCAT,SILCAT_FLAG_W,PHSPHT,PHSPHT_FLAG_W,CFC-11,CFC-11_FLAG_W,CFC-12,CFC-12_FLAG_W,CFC113,CFC113_FLAG_W,TCARBN,TCARBN_FLAG_W,ALKALI,ALKALI_FLAG_W,FLUOR,FLUOR_FLAG_W,NO2+NO3,NO2+NO3_FLAG_W,PAR,PAR_FLAG_W
,,,,,,,,,,,METERS,DBAR,ITS-90,PSS-78,,PSS-78,,UMOL/KG,,UMOL/KG,,UMOL/KG,,UMOL/KG,,PMOL/KG,,PMOL/KG,,PMOL/KG,,UMOL/KG,,UMOL/KG,,MG/M^3,,UMOL/KG,,VOLTS,
09AR20071216,    CEAMARC,     103,          1,         24,         24,2,20080115,       2031,   -66.0022,   139.6660,        212,     9.9,  -0.3969,  33.4453,2,-999.0000,9,   361.54,2, -999.00,9,  -999.0,9, -999.00,9,-999.0000,9,-999.0000,9,-999.0000,9,  -999.0,9,  -999.0,9,   3.081,2, -999.00,9,      2.372,2
09AR20071216,    CEAMARC,     103,          1,         23,         23,2,20080115,       2031,   -66.0022,   139.6660,        212,     9.9,  -0.3961,  33.4435,2,-999.0000,9,   361.54,2, -999.00,9,  -999.0,9, -999.00,9,-999.0000,9,-999.0000,9,-999.0000,9,  -999.0,9,  -999.0,9,   3.077,2, -999.00,9,      2.359,2
09AR20071216,    CEAMARC,     103,          1,         22,         22,2,20080115,       2031,   -66.0022,   139.6660,        212,     9.9,  -0.3957,  33.4422,2,-999.0000,9,   361.54,2, -999.00,9,  -999.0,9, -999.00,9,-999.0000,9,-999.0000,9,-999.0000,9,  -999.0,9,  -999.0,9,   3.105,2, -999.00,9,      2.340,2
09AR20071216,    CEAMARC,     103,          1,         21,         21,2,20080115,       2031,   -66.0022,   139.6660,        212,     9.9,  -0.3950,  33.4397,2,-999.0000,9,   361.54,2, -999.00,9,  -999.0,9, -999.00,9,-999.0000,9,-999.0000,9,-999.0000,9,  -999.0,9,  -999.0,9,   3.148,2, -999.00,9,      2.330,2
09AR20071216,    CEAMARC,     103,          1,         20,         20,2,20080115,       2031,   -66.0022,   139.6660,        212,     9.9,  -0.3953,  33.4399,2,-999.0000,9,   361.54,2, -999.00,9,  -999.0,9, -999.00,9,-999.0000,9,-999.0000,9,-999.0000,9,  -999.0,9,  -999.0,9,   3.158,2, -999.00,9,      2.327,2
09AR20071216,    CEAMARC,     103,          1,         19,         19,2,20080115,       2031,   -66.0022,   139.6660,        212,     9.8,  -0.3959,  33.4422,2,-999.0000,9,   361.54,2, -999.00,9,  -999.0,9, -999.00,9,-999.0000,9,-999.0000,9,-999.0000,9,  -999.0,9,  -999.0,9,   3.109,2, -999.00,9,      2.328,2
09AR20071216,    CEAMARC,     103,          1,         18,         18,2,20080115,       2031,   -66.0022,   139.6660,        212,     9.8,  -0.3964,  33.4442,2,-999.0000,9,   361.54,2, -999.00,9,  -999.0,9, -999.00,9,-999.0000,9,-999.0000,9,-999.0000,9,  -999.0,9,  -999.0,9,   3.036,2, -999.00,9,      2.330,2
09AR20071216,    CEAMARC,     103,          1,         17,         17,2,20080115,       2031,   -66.0022,   139.6660,        212,     9.9,  -0.3967,  33.4445,2,-999.0000,9,   361.54,2, -999.00,9,  -999.0,9, -999.00,9,-999.0000,9,-999.0000,9,-999.0000,9,  -999.0,9,  -999.0,9,   2.989,2, -999.00,9,      2.338,2
09AR20071216,    CEAMARC,     103,          1,         16,         16,2,20080115,       2031,   -66.0022,   139.6660,        212,     9.8,  -0.3976,  33.4472,2,-999.0000,9,   361.54,2, -999.00,9,  -999.0,9, -999.00,9,-999.0000,9,-999.0000,9,-999.0000,9,  -999.0,9,  -999.0,9,   2.987,2, -999.00,9,      2.353,2
09AR20071216,    CEAMARC,     103,          1,         15,         15,2,20080115,       2031,   -66.0022,   139.6660,        212,     9.9,  -0.3983,  33.4491,2,-999.0000,9,   361.54,2, -999.00,9,  -999.0,9, -999.00,9,-999.0000,9,-999.0000,9,-999.0000,9,  -999.0,9,  -999.0,9,   2.997,2, -999.00,9,      2.374,2
09AR20071216,    CEAMARC,     103,          1,         14,         14,2,20080115,       2031,   -66.0022,   139.6660,        212,     9.9,  -0.3972,  33.4450,2,-999.0000,9,   361.54,2, -999.00,9,  -999.0,9, -999.00,9,-999.0000,9,-999.0000,9,-999.0000,9,  -999.0,9,  -999.0,9,   3.004,2, -999.00,9,      2.379,2
09AR20071216,    CEAMARC,     103,          1,         13,         13,2,20080115,       2031,   -66.0022,   139.6660,        212,     9.9,  -0.3925,  33.4308,2,-999.0000,9,   361.54,2, -999.00,9,  -999.0,9, -999.00,9,-999.0000,9,-999.0000,9,-999.0000,9,  -999.0,9,  -999.0,9,   3.050,2, -999.00,9,      2.383,2
09AR20071216,    CEAMARC,     103,          1,         12,         12,2,20080115,       2031,   -66.0022,   139.6660,        212,     9.7,  -0.2994,  33.3352,2,  34.1578,4,   361.54,2,  361.57,2,    47.0,2,    1.72,2,   5.9494,2,   3.1450,6,   0.4695,6,  2136.3,6,  2278.4,2,   2.827,2,   24.87,2,      2.422,2
09AR20071216,    CEAMARC,     103,          1,         11,         11,2,20080115,       2031,   -66.0022,   139.6660,        212,     9.5,  -0.3332,  33.3652,2,-999.0000,9,   361.54,2, -999.00,9,  -999.0,9, -999.00,9,-999.0000,9,-999.0000,9,-999.0000,9,  -999.0,9,  -999.0,9,   2.895,2, -999.00,9,      2.450,2
09AR20071216,    CEAMARC,     103,          1,         10,         10,2,20080115,       2031,   -66.0022,   139.6660,        212,    31.0,  -1.3581,  34.1743,2,  34.1882,2,   343.45,2,  337.68,2,    59.9,2,    1.94,2,   5.4117,2,   2.7586,2,   0.4465,2,    2193,3,  2318.3,6,   2.661,2,   27.99,2,      1.589,2
09AR20071216,    CEAMARC,     103,          1,          9,          9,2,20080115,       2031,   -66.0022,   139.6660,        212,    30.9,  -1.3602,  34.1752,2,-999.0000,9,   343.45,2, -999.00,9,  -999.0,9, -999.00,9,-999.0000,9,-999.0000,9,-999.0000,9,  -999.0,9,  -999.0,9,   2.641,2, -999.00,9,      1.601,2
09AR20071216,    CEAMARC,     103,          1,          8,          8,2,20080115,       2031,   -66.0022,   139.6660,        212,    70.2,  -1.5939,  34.3703,2,  34.3862,2,   310.17,2,  308.28,2,    70.1,2,    2.10,2,   4.6403,2,   2.4761,2,   0.3813,2,  2221.4,3,  2329.8,2,   0.483,2,   30.12,2,      0.468,2
09AR20071216,    CEAMARC,     103,          1,          7,          7,2,20080115,       2031,   -66.0022,   139.6660,        212,    70.2,  -1.5971,  34.3696,2,-999.0000,9,   310.17,2, -999.00,9,  -999.0,9, -999.00,9,-999.0000,9,-999.0000,9,-999.0000,9,  -999.0,9,  -999.0,9,   0.465,2, -999.00,9,      0.472,2
09AR20071216,    CEAMARC,     103,          1,          6,          6,2,20080115,       2031,   -66.0022,   139.6660,        212,   100.5,  -1.3022,  34.4451,2,  34.4442,2,   300.62,2,  298.58,2,    75.9,2,    2.11,2,   4.4818,2,   2.2978,2,   0.3646,2,  2225.9,3,  2334.2,2,   0.427,2,   30.10,2,      0.001,2
09AR20071216,    CEAMARC,     103,          1,          5,          5,2,20080115,       2031,   -66.0022,   139.6660,        212,   100.3,  -1.3008,  34.4451,2,-999.0000,9,   300.62,2, -999.00,9,  -999.0,9, -999.00,9,-999.0000,9,-999.0000,9,-999.0000,9,  -999.0,9,  -999.0,9,   0.429,2, -999.00,9,      0.001,2
09AR20071216,    CEAMARC,     103,          1,          4,          4,2,20080115,       2031,   -66.0022,   139.6660,        212,   148.5,  -1.3053,  34.4676,2,  34.4660,2,   296.69,2,  296.57,2,    77.7,2,    2.13,2,   4.4323,2,   2.2963,2,   0.3624,2,  2229.7,3,  2334.7,2,   0.294,2,   30.38,2,      0.001,2
09AR20071216,    CEAMARC,     103,          1,          3,          3,2,20080115,       2031,   -66.0022,   139.6660,        212,   148.6,  -1.3082,  34.4663,2,-999.0000,9,   296.69,2, -999.00,9,  -999.0,9, -999.00,9,-999.0000,9,-999.0000,9,-999.0000,9,  -999.0,9,  -999.0,9,   0.289,2, -999.00,9,      0.001,2
09AR20071216,    CEAMARC,     103,          1,          2,          2,2,20080115,       2031,   -66.0022,   139.6660,        212,   204.0,  -1.2785,  34.4918,2,  34.4919,2,   293.12,2,  291.70,2,  -999.0,9, -999.00,9,   4.3001,2,   2.1976,2,   0.3491,2,  2231.4,3,  2336.5,2,   0.183,2, -999.00,9,      0.001,2
09AR20071216,    CEAMARC,     103,          1,          1,          1,2,20080115,       2031,   -66.0022,   139.6660,        212,   203.8,  -1.2772,  34.4923,2,-999.0000,9,   293.12,2, -999.00,9,  -999.0,9, -999.00,9,-999.0000,9,-999.0000,9,-999.0000,9,  -999.0,9,  -999.0,9,   0.154,2, -999.00,9,      0.001,2
09AR20071216,    CEAMARC,     104,          1,         24,         24,2,20080115,       2206,   -66.0008,   139.3318,        461,     9.4,  -0.5487,  33.1600,2,-999.0000,9,   356.86,2, -999.00,9,  -999.0,9, -999.00,9,-999.0000,9,-999.0000,9,-999.0000,9,  -999.0,9,  -999.0,9,   1.804,2, -999.00,9,      2.657,2
09AR20071216,    CEAMARC,     104,          1,         23,         23,2,20080115,       2206,   -66.0008,   139.3318,        461,     9.4,  -0.5709,  33.1657,2,-999.0000,9,   356.86,2, -999.00,9,  -999.0,9, -999.00,9,-999.0000,9,-999.0000,9,-999.0000,9,  -999.0,9,  -999.0,9,   1.911,2, -999.00,9,      2.663,2
09AR20071216,    CEAMARC,     104,          1,         22,         22,2,20080115,       2206,   -66.0008,   139.3318,        461,     9.6,  -0.5813,  33.1699,2,-999.0000,9,   356.86,2, -999.00,9,  -999.0,9, -999.00,9,-999.0000,9,-999.0000,9,-999.0000,9,  -999.0,9,  -999.0,9,   1.925,2, -999.00,9,      2.658,2
09AR20071216,    CEAMARC,     104,          1,         21,         21,2,20080115,       2206,   -66.0008,   139.3318,        461,     9.4,  -0.5824,  33.1709,2,-999.0000,9,   356.86,2, -999.00,9,  -999.0,9, -999.00,9,-999.0000,9,-999.0000,9,-999.0000,9,  -999.0,9,  -999.0,9,   1.909,2, -999.00,9,      2.669,2
09AR20071216,    CEAMARC,     104,          1,         20,         20,2,20080115,       2206,   -66.0008,   139.3318,        461,     9.5,  -0.5751,  33.1735,2,-999.0000,9,   356.86,2, -999.00,9,  -999.0,9, -999.00,9,-999.0000,9,-999.0000,9,-999.0000,9,  -999.0,9,  -999.0,9,   1.872,2, -999.00,9,      2.660,2
09AR20071216,    CEAMARC,     104,          1,         19,         19,2,20080115,       2206,   -66.0008,   139.3318,        461,     9.4,  -0.5812,  33.1786,2,-999.0000,9,   356.86,2, -999.00,9,  -999.0,9, -999.00,9,-999.0000,9,-999.0000,9,-999.0000,9,  -999.0,9,  -999.0,9,   1.856,2, -999.00,9,      2.666,2
09AR20071216,    CEAMARC,     104,          1,         18,         18,2,20080115,       2206,   -66.0008,   139.3318,        461,     9.4,  -0.5919,  33.1877,2,-999.0000,9,   356.86,2, -999.00,9,  -999.0,9, -999.00,9,-999.0000,9,-999.0000,9,-999.0000,9,  -999.0,9,  -999.0,9,   1.874,2, -999.00,9,      2.670,2
09AR20071216,    CEAMARC,     104,          1,         17,         17,2,20080115,       2206,   -66.0008,   139.3318,        461,     9.4,  -0.5911,  33.1922,2,-999.0000,9,   356.86,2, -999.00,9,  -999.0,9, -999.00,9,-999.0000,9,-999.0000,9,-999.0000,9,  -999.0,9,  -999.0,9,   1.858,2, -999.00,9,      2.672,2
09AR20071216,    CEAMARC,     104,          1,         16,         16,2,20080115,       2206,   -66.0008,   139.3318,        461,     9.5,  -0.5533,  33.1639,2,  33.4373,2,   356.86,2,  354.57,2,    52.4,2,    1.78,2,   6.0693,2,   3.1297,2,   0.4917,2,  2132.8,6,  2266.8,2,   1.920,2,   24.65,2,      2.669,2
09AR20071216,    CEAMARC,     104,          1,         15,         15,2,20080115,       2206,   -66.0008,   139.3318,        461,     9.4,  -0.5862,  33.1778,2,-999.0000,9,   356.86,2, -999.00,9,  -999.0,9, -999.00,9,-999.0000,9,-999.0000,9,-999.0000,9,  -999.0,9,  -999.0,9,   1.877,2, -999.00,9,      2.677,2
09AR20071216,    CEAMARC,     104,          1,         14,         14,2,20080115,       2206,   -66.0008,   139.3318,        461,    34.3,  -1.3807,  34.2105,2,  34.2003,2,   344.10,2,  341.88,2,    62.0,2,    1.97,2,   5.5837,2,   2.8606,2,   0.4426,2,  2194.1,2,  2317.2,6,   1.975,2,   27.36,2,      1.794,2
09AR20071216,    CEAMARC,     104,          1,         13,         13,2,20080115,       2206,   -66.0008,   139.3318,        461,    34.3,  -1.3873,  34.2084,2,-999.0000,9,   344.10,2, -999.00,9,  -999.0,9, -999.00,9,-999.0000,9,-999.0000,9,-999.0000,9,  -999.0,9,  -999.0,9,   2.073,2, -999.00,9,      1.785,2
09AR20071216,    CEAMARC,     104,          1,         12,         12,2,20080115,       2206,   -66.0008,   139.3318,        461,    69.6,  -1.5738,  34.3808,2,  34.3799,2,   310.94,2,  311.89,2,    70.5,2,    2.10,2,   5.0112,2,   2.6017,2,   0.3860,2,  2220.5,2,  2325.7,2,   0.491,2,   29.95,2,      0.943,2
09AR20071216,    CEAMARC,     104,          1,         11,         11,2,20080115,       2206,   -66.0008,   139.3318,        461,    69.7,  -1.5734,  34.3806,2,-999.0000,9,   310.94,2, -999.00,9,  -999.0,9, -999.00,9,-999.0000,9,-999.0000,9,-999.0000,9,  -999.0,9,  -999.0,9,   0.484,2, -999.00,9,      0.945,2
09AR20071216,    CEAMARC,     104,          1,         10,         10,2,20080115,       2206,   -66.0008,   139.3318,        461,   109.6,  -1.6172,  34.4288,2,  34.4289,2,   302.75,2,  300.37,2,    73.8,2,    2.14,2,   4.8781,6,   2.5198,6,   0.3710,6,  2228.5,2,  2326.8,2,   0.083,2,   30.64,2,      0.219,2
09AR20071216,    CEAMARC,     104,          1,          9,          9,2,20080115,       2206,   -66.0008,   139.3318,        461,   109.7,  -1.6172,  34.4288,2,-999.0000,9,   302.75,2, -999.00,9,  -999.0,9, -999.00,9,-999.0000,9,-999.0000,9,-999.0000,9,  -999.0,9,  -999.0,9,   0.087,2, -999.00,9,      0.215,2
09AR20071216,    CEAMARC,     104,          1,          8,          8,2,20080115,       2206,   -66.0008,   139.3318,        461,   161.2,  -1.5346,  34.4656,2,  34.4654,2,   295.54,2,  299.75,2,    75.7,2,    2.14,2,   4.5860,2,   2.3632,2,   0.3625,2,  2230.9,2,  2331.5,2,   0.024,2,   31.08,2,      0.001,2
09AR20071216,    CEAMARC,     104,          1,          7,          7,2,20080115,       2206,   -66.0008,   139.3318,        461,   161.0,  -1.5271,  34.4659,2,-999.0000,9,   295.54,2, -999.00,9,  -999.0,9, -999.00,9,-999.0000,9,-999.0000,9,-999.0000,9,  -999.0,9,  -999.0,9,   0.017,2, -999.00,9,      0.001,2
09AR20071216,    CEAMARC,     104,          1,          6,          6,2,20080115,       2206,   -66.0008,   139.3318,        461,   260.2,  -1.4420,  34.5128,2,  34.5128,2,   294.69,2,  294.39,2,    79.0,2,    2.16,2,   4.4306,2,   2.3027,2,   0.3499,2,  2235.8,2,  2334.1,2,   0.019,2,   31.15,2,      0.001,2
09AR20071216,    CEAMARC,     104,          1,          5,          5,2,20080115,       2206,   -66.0008,   139.3318,        461,   260.2,  -1.4467,  34.5124,2,-999.0000,9,   294.69,2, -999.00,9,  -999.0,9, -999.00,9,-999.0000,9,-999.0000,9,-999.0000,9,  -999.0,9,  -999.0,9,   0.018,2, -999.00,9,      0.001,2
09AR20071216,    CEAMARC,     104,          1,          4,          4,2,20080115,       2206,   -66.0008,   139.3318,        461,   380.7,  -1.3470,  34.5531,2,  34.5530,2,   290.43,2,  287.69,2,    82.7,2,    2.18,2,   4.0134,2,   2.1155,2,   0.3159,2,  2237.4,2,  2336.7,2,  -0.018,2,   31.38,2,      0.001,2
09AR20071216,    CEAMARC,     104,          1,          3,          3,2,20080115,       2206,   -66.0008,   139.3318,        461,   380.9,  -1.3513,  34.5529,2,-999.0000,9,   290.43,2, -999.00,9,  -999.0,9, -999.00,9,-999.0000,9,-999.0000,9,-999.0000,9,  -999.0,9,  -999.0,9,  -0.013,2, -999.00,9,      0.001,2
09AR20071216,    CEAMARC,     104,          1,          2,          2,2,20080115,       2206,   -66.0008,   139.3318,        461,   451.8,  -1.7798,  34.5589,2,  34.5572,2,   308.67,2,  309.94,2,    77.8,2,    2.15,2,   4.8973,2,   2.5386,2,   0.3776,2,  2237.9,2,  2338.6,2,  -0.031,2,   31.19,2,      0.001,2
09AR20071216,    CEAMARC,     104,          1,          1,          1,2,20080115,       2206,   -66.0008,   139.3318,        461,   451.5,  -1.7804,  34.5589,2,-999.0000,9,   308.67,2, -999.00,9,  -999.0,9, -999.00,9,-999.0000,9,-999.0000,9,-999.0000,9,  -999.0,9,  -999.0,9,  -0.029,2, -999.00,9,      0.001,2