BOTTLE,20230622CCHSIOENA
EXPOCODE,SECT_ID,STNNBR,CASTNO,SAMPNO,BTLNBR,BTLNBR_FLAG_W,DATE,TIME,LATITUDE,LONGITUDE,DEPTH,CTDPRS,CTDTMP,CTDSAL,CTDSAL_FLAG_W,SALNTY,SALNTY_FLAG_W,CTDOXY,CTDOXY_FLAG_W,OXYGEN,OXYGEN_FLAG_W,SILCAT,SILCAT_FLAG_W,PHSPHT,PHSPHT_FLAG_W,CFC-11,CFC-11_FLAG_W,CFC-12,CFC-12_FLAG_W,CFC113,CFC113_FLAG_W,TCARBN,TCARBN_FLAG_W,ALKALI,ALKALI_FLAG_W,FLUOR,FLUOR_FLAG_W,NO2+NO3,NO2+NO3_FLAG_W,PAR,PAR_FLAG_W
,,,,,,,,,,,METERS,DBAR,ITS-90,PSS-78,,PSS-78,,UMOL/KG,,UMOL/KG,,UMOL/KG,,UMOL/KG,,PMOL/KG,,PMOL/KG,,PMOL/KG,,UMOL/KG,,UMOL/KG,,MG/M^3,,UMOL/KG,,VOLTS,
09AR20071216,    CEAMARC,      37,          1,         24,         24,2,20080102,       1810,   -66.7505,   144.3265,        887,   888.7,  -1.8928,  34.6870,2,-999.0000,9,  -999.00,5, -999.00,9,  -999.0,9, -999.00,9,-999.0000,9,-999.0000,9,-999.0000,9,  -999.0,9,  -999.0,9,  -0.038,2, -999.00,9,      0.001,2
09AR20071216,    CEAMARC,      37,          1,         23,         23,2,20080102,       1810,   -66.7505,   144.3265,        887,   888.7,  -1.8927,  34.6872,2,-999.0000,9,  -999.00,5, -999.00,9,  -999.0,9, -999.00,9,-999.0000,9,-999.0000,9,-999.0000,9,  -999.0,9,  -999.0,9,  -0.042,2, -999.00,9,      0.001,2
09AR20071216,    CEAMARC,      37,          1,         22,         22,2,20080102,       1810,   -66.7505,   144.3265,        887,   888.8,  -1.8926,  34.6873,2,-999.0000,9,  -999.00,5, -999.00,9,  -999.0,9, -999.00,9,-999.0000,9,-999.0000,9,-999.0000,9,  -999.0,9,  -999.0,9,  -0.043,2, -999.00,9,      0.001,2
09AR20071216,    CEAMARC,      37,          1,         21,         21,2,20080102,       1810,   -66.7505,   144.3265,        887,   888.7,  -1.8926,  34.6874,2,-999.0000,9,  -999.00,5, -999.00,9,  -999.0,9, -999.00,9,-999.0000,9,-999.0000,9,-999.0000,9,  -999.0,9,  -999.0,9,  -0.042,2, -999.00,9,      0.001,2
09AR20071216,    CEAMARC,      37,          1,         20,         20,2,20080102,       1810,   -66.7505,   144.3265,        887,   888.4,  -1.8925,  34.6871,2,-999.0000,9,  -999.00,5, -999.00,9,  -999.0,9, -999.00,9,-999.0000,9,-999.0000,9,-999.0000,9,  -999.0,9,  -999.0,9,  -0.042,2, -999.00,9,      0.001,2
09AR20071216,    CEAMARC,      37,          1,         19,         19,2,20080102,       1810,   -66.7505,   144.3265,        887,   888.3,  -1.8923,  34.6870,2,-999.0000,9,  -999.00,5, -999.00,9,  -999.0,9, -999.00,9,-999.0000,9,-999.0000,9,-999.0000,9,  -999.0,9,  -999.0,9,  -0.041,2, -999.00,9,      0.001,2
09AR20071216,    CEAMARC,      37,          1,         18,         18,2,20080102,       1810,   -66.7505,   144.3265,        887,   888.4,  -1.8923,  34.6871,2,-999.0000,9,  -999.00,5, -999.00,9,  -999.0,9, -999.00,9,-999.0000,9,-999.0000,9,-999.0000,9,  -999.0,9,  -999.0,9,  -0.040,2, -999.00,9,      0.001,2
09AR20071216,    CEAMARC,      37,          1,         17,         17,2,20080102,       1810,   -66.7505,   144.3265,        887,   888.8,  -1.8926,  34.6871,2,-999.0000,9,  -999.00,5, -999.00,9,  -999.0,9, -999.00,9,-999.0000,9,-999.0000,9,-999.0000,9,  -999.0,9,  -999.0,9,  -0.040,2, -999.00,9,      0.001,2
09AR20071216,    CEAMARC,      37,          1,         16,         16,2,20080102,       1810,   -66.7505,   144.3265,        887,   888.7,  -1.8925,  34.6870,2,-999.0000,9,  -999.00,5, -999.00,9,  -999.0,9, -999.00,9,-999.0000,9,-999.0000,9,-999.0000,9,  -999.0,9,  -999.0,9,  -0.041,2, -999.00,9,      0.001,2
09AR20071216,    CEAMARC,      37,          1,         15,         15,2,20080102,       1810,   -66.7505,   144.3265,        887,   888.7,  -1.8926,  34.6870,2,-999.0000,9,  -999.00,5, -999.00,9,  -999.0,9, -999.00,9,-999.0000,9,-999.0000,9,-999.0000,9,  -999.0,9,  -999.0,9,  -0.040,2, -999.00,9,      0.001,2
09AR20071216,    CEAMARC,      37,          1,         14,         14,2,20080102,       1810,   -66.7505,   144.3265,        887,   888.8,  -1.8927,  34.6872,2,-999.0000,9,  -999.00,5, -999.00,9,  -999.0,9, -999.00,9,-999.0000,9,-999.0000,9,-999.0000,9,  -999.0,9,  -999.0,9,  -0.039,2, -999.00,9,      0.001,2
09AR20071216,    CEAMARC,      37,          1,         13,         13,2,20080102,       1810,   -66.7505,   144.3265,        887,   888.6,  -1.8927,  34.6870,2,-999.0000,9,  -999.00,5, -999.00,9,  -999.0,9, -999.00,9,-999.0000,9,-999.0000,9,-999.0000,9,  -999.0,9,  -999.0,9,  -0.038,2, -999.00,9,      0.001,2
09AR20071216,    CEAMARC,      37,          1,         12,         12,2,20080102,       1810,   -66.7505,   144.3265,        887,   888.7,  -1.8928,  34.6868,2,-999.0000,9,  -999.00,5, -999.00,9,  -999.0,9, -999.00,9,-999.0000,9,-999.0000,9,-999.0000,9,  -999.0,9,  -999.0,9,  -0.043,2, -999.00,9,      0.001,2
09AR20071216,    CEAMARC,      37,          1,         11,         11,2,20080102,       1810,   -66.7505,   144.3265,        887,   888.4,  -1.8929,  34.6866,2,-999.0000,9,  -999.00,5, -999.00,9,  -999.0,9, -999.00,9,-999.0000,9,-999.0000,9,-999.0000,9,  -999.0,9,  -999.0,9,  -0.038,2, -999.00,9,      0.001,2
09AR20071216,    CEAMARC,      37,          1,         10,         10,2,20080102,       1810,   -66.7505,   144.3265,        887,   888.4,  -1.8928,  34.6868,2,-999.0000,9,  -999.00,5, -999.00,9,  -999.0,9, -999.00,9,-999.0000,9,-999.0000,9,-999.0000,9,  -999.0,9,  -999.0,9,  -0.040,2, -999.00,9,      0.001,2
09AR20071216,    CEAMARC,      37,          1,          9,          9,2,20080102,       1810,   -66.7505,   144.3265,        887,   888.3,  -1.8928,  34.6869,2,-999.0000,9,  -999.00,5, -999.00,9,  -999.0,9, -999.00,9,-999.0000,9,-999.0000,9,-999.0000,9,  -999.0,9,  -999.0,9,  -0.042,2, -999.00,9,      0.001,2
09AR20071216,    CEAMARC,      37,          1,          8,          8,2,20080102,       1810,   -66.7505,   144.3265,        887,   888.2,  -1.8929,  34.6869,2,-999.0000,9,  -999.00,5, -999.00,9,  -999.0,9, -999.00,9,-999.0000,9,-999.0000,9,-999.0000,9,  -999.0,9,  -999.0,9,  -0.042,2, -999.00,9,      0.001,2
09AR20071216,    CEAMARC,      37,          1,          7,          7,2,20080102,       1810,   -66.7505,   144.3265,        887,   888.0,  -1.8929,  34.6868,2,-999.0000,9,  -999.00,5, -999.00,9,  -999.0,9, -999.00,9,-999.0000,9,-999.0000,9,-999.0000,9,  -999.0,9,  -999.0,9,  -0.038,2, -999.00,9,      0.001,2
09AR20071216,    CEAMARC,      37,          1,          6,          6,2,20080102,       1810,   -66.7505,   144.3265,        887,   887.9,  -1.8931,  34.6864,2,-999.0000,9,  -999.00,5, -999.00,9,  -999.0,9, -999.00,9,-999.0000,9,-999.0000,9,-999.0000,9,  -999.0,9,  -999.0,9,  -0.038,2, -999.00,9,      0.001,2
09AR20071216,    CEAMARC,      37,          1,          5,          5,2,20080102,       1810,   -66.7505,   144.3265,        887,   887.5,  -1.8929,  34.6866,2,-999.0000,9,  -999.00,5, -999.00,9,  -999.0,9, -999.00,9,-999.0000,9,-999.0000,9,-999.0000,9,  -999.0,9,  -999.0,9,  -0.042,2, -999.00,9,      0.001,2
09AR20071216,    CEAMARC,      37,          1,          4,          4,2,20080102,       1810,   -66.7505,   144.3265,        887,   887.2,  -1.8929,  34.6867,2,-999.0000,9,  -999.00,5, -999.00,9,  -999.0,9, -999.00,9,-999.0000,9,-999.0000,9,-999.0000,9,  -999.0,9,  -999.0,9,  -0.037,2, -999.00,9,      0.001,2
09AR20071216,    CEAMARC,      37,          1,          3,          3,2,20080102,       1810,   -66.7505,   144.3265,        887,   886.7,  -1.8929,  34.6867,2,-999.0000,9,  -999.00,5, -999.00,9,  -999.0,9, -999.00,9,-999.0000,9,-999.0000,9,-999.0000,9,  -999.0,9,  -999.0,9,  -0.043,2, -999.00,9,      0.001,2
09AR20071216,    CEAMARC,      37,          1,          2,          2,2,20080102,       1810,   -66.7505,   144.3265,        887,   886.3,  -1.8931,  34.6867,2,-999.0000,9,  -999.00,5, -999.00,9,  -999.0,9, -999.00,9,-999.0000,9,-999.0000,9,-999.0000,9,  -999.0,9,  -999.0,9,  -0.038,2, -999.00,9,      0.001,2
09AR20071216,    CEAMARC,      37,          1,          1,          1,2,20080102,       1810,   -66.7505,   144.3265,        887,   885.7,  -1.8931,  34.6866,2,  34.6864,2,  -999.00,5,  311.51,2,    79.2,2,    2.12,2,-999.0000,9,-999.0000,9,-999.0000,9,  -999.0,9,  2346.7,2,  -0.041,2,   31.31,2,      0.001,2
09AR20071216,    CEAMARC,      38,          1,         24,         24,2,20080102,       2253,   -66.5597,   144.6658,        569,     9.4,  -0.9679,  34.3093,2,  34.3098,2,  -999.00,5,  344.12,2,    60.3,2,    1.66,2,   5.7775,2,   2.9555,2,   0.4621,2,  2192.8,6,    2323,6,   2.473,2,   26.45,2,      3.597,2
09AR20071216,    CEAMARC,      38,          1,         23,         23,2,20080102,       2253,   -66.5597,   144.6658,        569,     9.5,  -0.9663,  34.3094,2,-999.0000,9,  -999.00,5, -999.00,9,  -999.0,9, -999.00,9,-999.0000,9,-999.0000,9,-999.0000,9,  -999.0,9,  -999.0,9,   2.775,2, -999.00,9,      3.585,2
09AR20071216,    CEAMARC,      38,          1,         22,         22,2,20080102,       2253,   -66.5597,   144.6658,        569,     9.5,  -0.9667,  34.3094,2,-999.0000,9,  -999.00,5, -999.00,9,  -999.0,9, -999.00,9,-999.0000,9,-999.0000,9,-999.0000,9,  -999.0,9,  -999.0,9,   2.511,2, -999.00,9,      3.582,2
09AR20071216,    CEAMARC,      38,          1,         21,         21,2,20080102,       2253,   -66.5597,   144.6658,        569,     9.5,  -0.9643,  34.3092,2,-999.0000,9,  -999.00,5, -999.00,9,  -999.0,9, -999.00,9,-999.0000,9,-999.0000,9,-999.0000,9,  -999.0,9,  -999.0,9,   2.601,2, -999.00,9,      3.572,2
09AR20071216,    CEAMARC,      38,          1,         20,         20,2,20080102,       2253,   -66.5597,   144.6658,        569,    50.0,  -1.1983,  34.3296,2,-999.0000,9,  -999.00,5, -999.00,9,  -999.0,9, -999.00,9,-999.0000,9,-999.0000,9,-999.0000,9,  -999.0,9,  -999.0,9,   5.388,2, -999.00,9,      1.258,2
09AR20071216,    CEAMARC,      38,          1,         19,         19,2,20080102,       2253,   -66.5597,   144.6658,        569,    50.0,  -1.1993,  34.3297,2,-999.0000,9,  -999.00,5, -999.00,9,  -999.0,9, -999.00,9,-999.0000,9,-999.0000,9,-999.0000,9,  -999.0,9,  -999.0,9,   5.417,2, -999.00,9,      1.262,2
09AR20071216,    CEAMARC,      38,          1,         18,         18,2,20080102,       2253,   -66.5597,   144.6658,        569,    50.1,  -1.2031,  34.3302,2,-999.0000,9,  -999.00,5, -999.00,9,  -999.0,9, -999.00,9,-999.0000,9,-999.0000,9,-999.0000,9,  -999.0,9,  -999.0,9,   5.656,2, -999.00,9,      1.261,2
09AR20071216,    CEAMARC,      38,          1,         17,         17,2,20080102,       2253,   -66.5597,   144.6658,        569,    50.1,  -1.2055,  34.3305,2,-999.0000,9,  -999.00,5, -999.00,9,  -999.0,9, -999.00,9,-999.0000,9,-999.0000,9,-999.0000,9,  -999.0,9,  -999.0,9,   5.501,2, -999.00,9,      1.260,2
09AR20071216,    CEAMARC,      38,          1,         16,         16,2,20080102,       2253,   -66.5597,   144.6658,        569,    50.0,  -1.2014,  34.3298,2,  34.3317,2,  -999.00,5, -999.00,9,    63.3,2,    1.77,2,   5.5251,2,   2.8129,2,   0.4292,2,  2201.3,2,  2324.4,2,   5.702,2,   26.84,2,      1.260,2
09AR20071216,    CEAMARC,      38,          1,         15,         15,2,20080102,       2253,   -66.5597,   144.6658,        569,    49.9,  -1.2116,  34.3314,2,-999.0000,9,  -999.00,5, -999.00,9,  -999.0,9, -999.00,9,-999.0000,9,-999.0000,9,-999.0000,9,  -999.0,9,  -999.0,9,   5.426,2, -999.00,9,      1.268,2
09AR20071216,    CEAMARC,      38,          1,         14,         14,2,20080102,       2253,   -66.5597,   144.6658,        569,    99.4,  -1.6698,  34.3953,2,  34.3960,2,   302.63,2,  300.29,2,    72.7,2,    2.06,2,   4.8039,2,   2.4485,2,   0.3704,2,  2224.3,2,  2326.8,2,   0.331,2,   29.11,2,      0.001,2
09AR20071216,    CEAMARC,      38,          1,         13,         13,2,20080102,       2253,   -66.5597,   144.6658,        569,    99.4,  -1.6651,  34.3966,2,-999.0000,9,   302.63,2, -999.00,9,  -999.0,9, -999.00,9,-999.0000,9,-999.0000,9,-999.0000,9,  -999.0,9,  -999.0,9,   0.289,2, -999.00,9,      0.001,2
09AR20071216,    CEAMARC,      38,          1,         12,         12,2,20080102,       2253,   -66.5597,   144.6658,        569,   149.8,  -1.5810,  34.4225,2,  34.4227,2,   296.00,2,  298.15,2,    76.3,2,    2.07,2,   4.4315,2,   2.3677,2,   0.3439,2,  2227.9,2,  2327.8,2,   0.155,2,   29.59,2,      0.001,2
09AR20071216,    CEAMARC,      38,          1,         11,         11,2,20080102,       2253,   -66.5597,   144.6658,        569,   149.7,  -1.5777,  34.4231,2,-999.0000,9,   296.00,2, -999.00,9,  -999.0,9, -999.00,9,-999.0000,9,-999.0000,9,-999.0000,9,  -999.0,9,  -999.0,9,   0.139,2, -999.00,9,      0.001,2
09AR20071216,    CEAMARC,      38,          1,         10,         10,2,20080102,       2253,   -66.5597,   144.6658,        569,   219.4,  -1.1646,  34.4868,2,  34.4868,2,   281.62,2,  278.10,2,    82.1,2,    2.12,2,   3.9354,2,   2.0370,2,   0.2994,2,  2234.2,2,  2334.1,2,  -0.011,2,   31.22,2,      0.001,2
09AR20071216,    CEAMARC,      38,          1,          9,          9,2,20080102,       2253,   -66.5597,   144.6658,        569,   219.4,  -1.1608,  34.4868,2,-999.0000,9,   281.62,2, -999.00,9,  -999.0,9, -999.00,9,-999.0000,9,-999.0000,9,-999.0000,9,  -999.0,9,  -999.0,9,  -0.001,2, -999.00,9,      0.001,2
09AR20071216,    CEAMARC,      38,          1,          8,          8,2,20080102,       2253,   -66.5597,   144.6658,        569,   299.8,  -1.2438,  34.5422,2,  34.5424,2,   284.31,2,  284.31,2,    84.0,2,    2.13,2,   4.0272,2,   2.0927,2,   0.2951,2,  2237.7,2,  2336.7,2,  -0.008,2,   31.55,2,      0.001,2
09AR20071216,    CEAMARC,      38,          1,          7,          7,2,20080102,       2253,   -66.5597,   144.6658,        569,   299.6,  -1.2489,  34.5428,2,-999.0000,9,   284.31,2, -999.00,9,  -999.0,9, -999.00,9,-999.0000,9,-999.0000,9,-999.0000,9,  -999.0,9,  -999.0,9,  -0.013,2, -999.00,9,      0.001,2
09AR20071216,    CEAMARC,      38,          1,          6,          6,2,20080102,       2253,   -66.5597,   144.6658,        569,   400.6,  -1.9433,  34.6266,2,  34.6270,2,   310.59,2,  309.70,2,    78.5,2,    2.10,2,   5.0562,2,   2.5732,2,   0.3793,2,    2239,2,  2342.4,2,  -0.039,2,   31.22,2,      0.001,2
09AR20071216,    CEAMARC,      38,          1,          5,          5,2,20080102,       2253,   -66.5597,   144.6658,        569,   400.0,  -1.9430,  34.6268,2,-999.0000,9,   310.59,2, -999.00,9,  -999.0,9, -999.00,9,-999.0000,9,-999.0000,9,-999.0000,9,  -999.0,9,  -999.0,9,  -0.042,2, -999.00,9,      0.001,2
09AR20071216,    CEAMARC,      38,          1,          4,          4,2,20080102,       2253,   -66.5597,   144.6658,        569,   497.9,  -1.9093,  34.6693,2,  34.6692,2,   311.84,2,  311.08,2,    78.2,2,    2.09,2,   5.0523,6,   2.5970,6,   0.3766,6,    2242,2,  2343.9,2,  -0.037,2,   31.14,2,      0.001,2
09AR20071216,    CEAMARC,      38,          1,          3,          3,2,20080102,       2253,   -66.5597,   144.6658,        569,   498.0,  -1.9094,  34.6695,2,-999.0000,9,   311.84,2, -999.00,9,  -999.0,9, -999.00,9,-999.0000,9,-999.0000,9,-999.0000,9,  -999.0,9,  -999.0,9,  -0.040,2, -999.00,9,      0.001,2
09AR20071216,    CEAMARC,      38,          1,          2,          2,2,20080102,       2253,   -66.5597,   144.6658,        569,   556.4,  -1.9030,  34.6894,2,  34.6896,2,   312.76,2,  311.68,2,    79.2,2,    2.11,2,   5.0066,2,   2.6001,2,   0.3713,2,  2243.8,6,  2347.8,6,  -0.040,2,   31.14,2,      0.001,2
09AR20071216,    CEAMARC,      38,          1,          1,          1,2,20080102,       2253,   -66.5597,   144.6658,        569,   556.5,  -1.9030,  34.6895,2,-999.0000,9,   312.76,2, -999.00,9,  -999.0,9, -999.00,9,-999.0000,9,-999.0000,9,-999.0000,9,  -999.0,9,  -999.0,9,  -0.042,2, -999.00,9,      0.001,2