BOTTLE,20230622CCHSIOENA
EXPOCODE,SECT_ID,STNNBR,CASTNO,SAMPNO,BTLNBR,BTLNBR_FLAG_W,DATE,TIME,LATITUDE,LONGITUDE,DEPTH,CTDPRS,CTDTMP,CTDSAL,CTDSAL_FLAG_W,SALNTY,SALNTY_FLAG_W,CTDOXY,CTDOXY_FLAG_W,OXYGEN,OXYGEN_FLAG_W,SILCAT,SILCAT_FLAG_W,PHSPHT,PHSPHT_FLAG_W,CFC-11,CFC-11_FLAG_W,CFC-12,CFC-12_FLAG_W,CFC113,CFC113_FLAG_W,TCARBN,TCARBN_FLAG_W,ALKALI,ALKALI_FLAG_W,FLUOR,FLUOR_FLAG_W,NO2+NO3,NO2+NO3_FLAG_W,PAR,PAR_FLAG_W
,,,,,,,,,,,METERS,DBAR,ITS-90,PSS-78,,PSS-78,,UMOL/KG,,UMOL/KG,,UMOL/KG,,UMOL/KG,,PMOL/KG,,PMOL/KG,,PMOL/KG,,UMOL/KG,,UMOL/KG,,MG/M^3,,UMOL/KG,,VOLTS,
09AR20071216,    CEAMARC,     105,          1,         24,         24,2,20080116,       0556,   -65.4867,   139.2183,        409,     5.0,   0.4725,  33.6357,2,  33.6341,2,   352.16,2,  351.32,2,    39.5,2,    1.71,2,   6.3085,2,   3.2651,2,   0.4989,2,  2143.5,6,  2279.8,6,  -0.011,2,   26.57,2,      3.869,2
09AR20071216,    CEAMARC,     105,          1,         23,         23,2,20080116,       0556,   -65.4867,   139.2183,        409,     4.9,   0.4674,  33.6383,2,-999.0000,9,   352.16,2, -999.00,9,  -999.0,9, -999.00,9,-999.0000,9,-999.0000,9,-999.0000,9,  -999.0,9,  -999.0,9,  -0.018,2, -999.00,9,      3.815,2
09AR20071216,    CEAMARC,     105,          1,         22,         22,2,20080116,       0556,   -65.4867,   139.2183,        409,     5.0,   0.4641,  33.6394,2,-999.0000,9,   352.16,2, -999.00,9,  -999.0,9, -999.00,9,-999.0000,9,-999.0000,9,-999.0000,9,  -999.0,9,  -999.0,9,  -0.015,2, -999.00,9,      3.868,2
09AR20071216,    CEAMARC,     105,          1,         21,         21,2,20080116,       0556,   -65.4867,   139.2183,        409,     5.0,   0.4529,  33.6449,2,-999.0000,9,   352.16,2, -999.00,9,  -999.0,9, -999.00,9,-999.0000,9,-999.0000,9,-999.0000,9,  -999.0,9,  -999.0,9,  -0.044,2, -999.00,9,      3.951,2
09AR20071216,    CEAMARC,     105,          1,         20,         20,2,20080116,       0556,   -65.4867,   139.2183,        409,    24.3,   0.4366,  33.6540,2,-999.0000,9,   349.93,2, -999.00,9,  -999.0,9, -999.00,9,-999.0000,9,-999.0000,9,-999.0000,9,  -999.0,9,  -999.0,9,   0.795,2, -999.00,9,      3.168,2
09AR20071216,    CEAMARC,     105,          1,         19,         19,2,20080116,       0556,   -65.4867,   139.2183,        409,    24.2,   0.4374,  33.6542,2,-999.0000,9,   349.93,2, -999.00,9,  -999.0,9, -999.00,9,-999.0000,9,-999.0000,9,-999.0000,9,  -999.0,9,  -999.0,9,   0.813,2, -999.00,9,      3.165,2
09AR20071216,    CEAMARC,     105,          1,         18,         18,2,20080116,       0556,   -65.4867,   139.2183,        409,    24.4,   0.4365,  33.6545,2,-999.0000,9,   349.93,2, -999.00,9,  -999.0,9, -999.00,9,-999.0000,9,-999.0000,9,-999.0000,9,  -999.0,9,  -999.0,9,   0.813,2, -999.00,9,      3.198,2
09AR20071216,    CEAMARC,     105,          1,         17,         17,2,20080116,       0556,   -65.4867,   139.2183,        409,    24.3,   0.4373,  33.6543,2,-999.0000,9,   349.93,2, -999.00,9,  -999.0,9, -999.00,9,-999.0000,9,-999.0000,9,-999.0000,9,  -999.0,9,  -999.0,9,   0.790,2, -999.00,9,      3.206,2
09AR20071216,    CEAMARC,     105,          1,         16,         16,2,20080116,       0556,   -65.4867,   139.2183,        409,    24.3,   0.4355,  33.6557,2,  33.6782,2,   349.93,2,  350.84,2,    40.1,2,    1.74,2,   6.2181,2,   3.2411,2,   0.5039,2,  2148.2,2,  2278.9,6,   0.914,2,   26.76,2,      3.152,2
09AR20071216,    CEAMARC,     105,          1,         15,         15,2,20080116,       0556,   -65.4867,   139.2183,        409,    24.3,   0.4421,  33.6555,2,-999.0000,9,   349.93,2, -999.00,9,  -999.0,9, -999.00,9,-999.0000,9,-999.0000,9,-999.0000,9,  -999.0,9,  -999.0,9,   0.940,2, -999.00,9,      3.137,2
09AR20071216,    CEAMARC,     105,          1,         14,         14,2,20080116,       0556,   -65.4867,   139.2183,        409,    70.4,  -1.6010,  34.2536,2,  34.2518,2,   322.61,2,  323.39,2,    57.8,2,    2.02,2,   5.1616,2,   2.7027,2,   0.3990,2,  2203.2,2,  2319.3,2,   1.215,2,   29.82,2,      1.568,2
09AR20071216,    CEAMARC,     105,          1,         13,         13,2,20080116,       0556,   -65.4867,   139.2183,        409,    70.5,  -1.6018,  34.2543,2,-999.0000,9,   322.61,2, -999.00,9,  -999.0,9, -999.00,9,-999.0000,9,-999.0000,9,-999.0000,9,  -999.0,9,  -999.0,9,   1.201,2, -999.00,9,      1.505,2
09AR20071216,    CEAMARC,     105,          1,         12,         12,2,20080116,       0556,   -65.4867,   139.2183,        409,   149.7,  -1.4311,  34.4282,2,  34.4287,2,   301.64,2,  301.62,2,    72.6,2,    2.07,2,   4.5548,2,   2.4048,2,   0.3452,2,  2223.4,2,  2333.8,2,   0.200,2,   30.33,2,      0.072,2
09AR20071216,    CEAMARC,     105,          1,         11,         11,2,20080116,       0556,   -65.4867,   139.2183,        409,   149.7,  -1.4292,  34.4294,2,-999.0000,9,   301.64,2, -999.00,9,  -999.0,9, -999.00,9,-999.0000,9,-999.0000,9,-999.0000,9,  -999.0,9,  -999.0,9,   0.234,2, -999.00,9,      0.150,2
09AR20071216,    CEAMARC,     105,          1,         10,         10,2,20080116,       0556,   -65.4867,   139.2183,        409,   249.6,  -0.9662,  34.5227,2,-999.0000,9,   279.41,2, -999.00,9,  -999.0,9, -999.00,9,-999.0000,9,-999.0000,9,-999.0000,9,  -999.0,9,  -999.0,9,   0.064,2, -999.00,9,      0.001,2
09AR20071216,    CEAMARC,     105,          1,          9,          9,2,20080116,       0556,   -65.4867,   139.2183,        409,   249.8,  -0.9662,  34.5229,2,-999.0000,9,   279.41,2, -999.00,9,  -999.0,9, -999.00,9,-999.0000,9,-999.0000,9,-999.0000,9,  -999.0,9,  -999.0,9,   0.072,2, -999.00,9,      0.001,2
09AR20071216,    CEAMARC,     105,          1,          8,          8,2,20080116,       0556,   -65.4867,   139.2183,        409,   249.8,  -0.9638,  34.5234,2,  34.5224,2,   279.41,2,  277.36,2,    82.2,2,    2.12,2,   3.5626,6,   1.8950,6,   0.2823,6,  2233.1,3,  2338.9,2,   0.064,2,   30.94,2,      0.001,2
09AR20071216,    CEAMARC,     105,          1,          7,          7,2,20080116,       0556,   -65.4867,   139.2183,        409,   249.8,  -0.9609,  34.5240,2,-999.0000,9,   279.41,2, -999.00,9,  -999.0,9, -999.00,9,-999.0000,9,-999.0000,9,-999.0000,9,  -999.0,9,  -999.0,9,   0.068,2, -999.00,9,      0.001,2
09AR20071216,    CEAMARC,     105,          1,          6,          6,2,20080116,       0556,   -65.4867,   139.2183,        409,   350.8,  -0.1348,  34.6233,2,-999.0000,9,   238.40,2, -999.00,9,  -999.0,9, -999.00,9,-999.0000,9,-999.0000,9,-999.0000,9,  -999.0,9,  -999.0,9,  -0.017,2, -999.00,9,      0.001,2
09AR20071216,    CEAMARC,     105,          1,          5,          5,2,20080116,       0556,   -65.4867,   139.2183,        409,   351.0,  -0.1342,  34.6232,2,-999.0000,9,   238.40,2, -999.00,9,  -999.0,9, -999.00,9,-999.0000,9,-999.0000,9,-999.0000,9,  -999.0,9,  -999.0,9,  -0.014,2, -999.00,9,      0.001,2
09AR20071216,    CEAMARC,     105,          1,          4,          4,2,20080116,       0556,   -65.4867,   139.2183,        409,   350.8,  -0.1369,  34.6231,2,  34.6238,2,   238.40,2,  237.42,2,    96.8,2,    2.18,2,   2.0291,2,   1.0723,2,   0.1536,2,  2246.4,2,  2351.1,2,  -0.015,2,   31.55,2,      0.001,2
09AR20071216,    CEAMARC,     105,          1,          3,          3,2,20080116,       0556,   -65.4867,   139.2183,        409,   350.8,  -0.1349,  34.6233,2,-999.0000,9,   238.40,2, -999.00,9,  -999.0,9, -999.00,9,-999.0000,9,-999.0000,9,-999.0000,9,  -999.0,9,  -999.0,9,  -0.012,2, -999.00,9,      0.001,2
09AR20071216,    CEAMARC,     105,          1,          2,          2,2,20080116,       0556,   -65.4867,   139.2183,        409,   396.5,  -0.3598,  34.6077,2,  34.6077,2,   248.08,2,  249.54,2,    93.7,2,    2.16,2,   2.4028,2,   1.2714,2,   0.1841,2,  2244.2,2,  2348.6,2,  -0.012,2,   31.04,2,      0.001,2
09AR20071216,    CEAMARC,     105,          1,          1,          1,2,20080116,       0556,   -65.4867,   139.2183,        409,   396.5,  -0.3533,  34.6082,2,-999.0000,9,   248.08,2, -999.00,9,  -999.0,9, -999.00,9,-999.0000,9,-999.0000,9,-999.0000,9,  -999.0,9,  -999.0,9,  -0.012,2, -999.00,9,      0.001,2
09AR20071216,    CEAMARC,     106,          1,         24,         24,2,20080116,       1007,   -65.4398,   139.2892,       1188,     5.8,   0.6659,  33.6873,2,  33.6884,2,   350.24,2,  349.14,2,    39.3,2,    1.75,2,   6.3394,2,   3.2352,2,   0.4892,2,  2149.8,6,  2278.1,2,   1.050,2,   26.33,2,      2.758,2
09AR20071216,    CEAMARC,     106,          1,         23,         23,2,20080116,       1007,   -65.4398,   139.2892,       1188,     5.8,   0.6658,  33.6874,2,-999.0000,9,   350.24,2, -999.00,9,  -999.0,9, -999.00,9,-999.0000,9,-999.0000,9,-999.0000,9,  -999.0,9,  -999.0,9,   1.046,2, -999.00,9,      2.760,2
09AR20071216,    CEAMARC,     106,          1,         22,         22,2,20080116,       1007,   -65.4398,   139.2892,       1188,     5.8,   0.6660,  33.6873,2,-999.0000,9,   350.24,2, -999.00,9,  -999.0,9, -999.00,9,-999.0000,9,-999.0000,9,-999.0000,9,  -999.0,9,  -999.0,9,   1.047,2, -999.00,9,      2.767,2
09AR20071216,    CEAMARC,     106,          1,         21,         21,2,20080116,       1007,   -65.4398,   139.2892,       1188,     5.8,   0.6669,  33.6872,2,-999.0000,9,   350.24,2, -999.00,9,  -999.0,9, -999.00,9,-999.0000,9,-999.0000,9,-999.0000,9,  -999.0,9,  -999.0,9,   1.038,2, -999.00,9,      2.758,2
09AR20071216,    CEAMARC,     106,          1,         20,         20,2,20080116,       1007,   -65.4398,   139.2892,       1188,    24.8,   0.4426,  33.6898,2,  33.6923,2,   350.93,2,  352.48,2,    39.4,2,    1.76,2,   6.3038,2,   3.2321,2,   0.4784,2,  2152.9,2,  2276.9,6,   1.229,2,   25.97,3,      2.067,2
09AR20071216,    CEAMARC,     106,          1,         19,         19,2,20080116,       1007,   -65.4398,   139.2892,       1188,    24.8,   0.4534,  33.6895,2,-999.0000,9,   350.93,2, -999.00,9,  -999.0,9, -999.00,9,-999.0000,9,-999.0000,9,-999.0000,9,  -999.0,9,  -999.0,9,   1.252,2, -999.00,9,      2.054,2
09AR20071216,    CEAMARC,     106,          1,         18,         18,2,20080116,       1007,   -65.4398,   139.2892,       1188,    50.0,  -1.3438,  34.0738,2,  34.0676,2,   358.85,2,  360.30,2,    48.0,2,    1.83,2,   4.9839,3,   2.5816,3,   0.4546,3,  2173.3,2,  2304.6,6,   3.278,2,   25.60,3,      1.394,2
09AR20071216,    CEAMARC,     106,          1,         17,         17,2,20080116,       1007,   -65.4398,   139.2892,       1188,    50.0,  -1.3374,  34.0714,2,-999.0000,9,   358.85,2, -999.00,9,  -999.0,9, -999.00,9,-999.0000,9,-999.0000,9,-999.0000,9,  -999.0,9,  -999.0,9,   3.244,2, -999.00,9,      1.399,2
09AR20071216,    CEAMARC,     106,          1,         16,         16,2,20080116,       1007,   -65.4398,   139.2892,       1188,    99.6,  -1.6744,  34.3295,2,  34.3296,2,   317.48,2,  313.73,2,    64.2,2,    2.07,2,   5.4843,2,   2.7525,2,   0.4275,2,  2211.2,2,  2321.5,2,   0.533,2,   30.16,2,      0.002,2
09AR20071216,    CEAMARC,     106,          1,         15,         15,2,20080116,       1007,   -65.4398,   139.2892,       1188,   198.5,  -1.4993,  34.4331,2,  34.4330,2,   300.72,2,  296.07,2,    73.5,2,    2.12,2,   4.6033,2,   2.3763,2,   0.3642,2,  2224.9,2,  2325.2,2,  -0.009,2,   31.43,2,      0.001,2
09AR20071216,    CEAMARC,     106,          1,         14,         14,2,20080116,       1007,   -65.4398,   139.2892,       1188,   198.4,  -1.4996,  34.4333,2,-999.0000,9,   300.72,2, -999.00,9,  -999.0,9, -999.00,9,-999.0000,9,-999.0000,9,-999.0000,9,  -999.0,9,  -999.0,9,  -0.009,2, -999.00,9,      0.001,2
09AR20071216,    CEAMARC,     106,          1,         13,         13,2,20080116,       1007,   -65.4398,   139.2892,       1188,   300.6,  -1.0232,  34.4970,2,  34.4967,2,   273.97,2,  278.80,2,    78.4,2,    2.13,2,   3.7388,2,   1.9432,2,   0.2802,2,  2232.3,2,  2331.3,2,  -0.033,2,   31.66,2,      0.001,2
09AR20071216,    CEAMARC,     106,          1,         12,         12,2,20080116,       1007,   -65.4398,   139.2892,       1188,   450.2,  -0.6623,  34.5587,2,  34.5595,2,   258.86,2,  263.50,2,    87.2,2,    2.15,2,   3.0590,2,   1.6003,2,   0.2369,2,  2237.9,2,  2339.7,2,   0.018,2,   31.75,2,      0.001,2
09AR20071216,    CEAMARC,     106,          1,         11,         11,2,20080116,       1007,   -65.4398,   139.2892,       1188,   600.0,  -0.4674,  34.6030,2,  34.6034,2,   250.99,2,  248.93,2,    93.1,2,    2.16,2,   2.5537,2,   1.3457,2,   0.1894,2,  2243.8,2,  2344.3,2,  -0.011,2,   31.56,2,      0.001,2
09AR20071216,    CEAMARC,     106,          1,         10,         10,2,20080116,       1007,   -65.4398,   139.2892,       1188,   600.1,  -0.4715,  34.6028,2,-999.0000,9,   250.99,2, -999.00,9,  -999.0,9, -999.00,9,-999.0000,9,-999.0000,9,-999.0000,9,  -999.0,9,  -999.0,9,  -0.014,2, -999.00,9,      0.001,2
09AR20071216,    CEAMARC,     106,          1,          9,          9,2,20080116,       1007,   -65.4398,   139.2892,       1188,   701.0,  -0.1061,  34.6411,2,  34.6411,2,   234.43,2,  233.94,2,   102.9,2,    2.19,2,   1.7635,2,   0.9223,2,   0.1292,2,  2251.2,2,  2348.2,6,  -0.023,2,   31.85,2,      0.001,2
09AR20071216,    CEAMARC,     106,          1,          8,          8,2,20080116,       1007,   -65.4398,   139.2892,       1188,   799.6,  -0.3694,  34.6236,2,  34.6244,2,   255.52,2,  245.45,2,    97.1,2,    2.17,2,   2.2990,2,   1.2085,2,   0.1715,2,  2247.4,2,  2346.9,2,  -0.021,2,   32.09,2,      0.001,2
09AR20071216,    CEAMARC,     106,          1,          7,          7,2,20080116,       1007,   -65.4398,   139.2892,       1188,   799.5,  -0.3677,  34.6238,2,-999.0000,9,   255.52,2, -999.00,9,  -999.0,9, -999.00,9,-999.0000,9,-999.0000,9,-999.0000,9,  -999.0,9,  -999.0,9,  -0.027,2, -999.00,9,      0.001,2
09AR20071216,    CEAMARC,     106,          1,          6,          6,2,20080116,       1007,   -65.4398,   139.2892,       1188,  1000.6,  -0.7308,  34.6014,2,  34.6019,2,   261.84,2,  260.88,2,    89.9,2,    2.13,2,   3.0386,2,   1.5872,2,   0.2349,2,  2242.5,2,  2342.4,2,  -0.019,2,   30.22,3,      0.001,2
09AR20071216,    CEAMARC,     106,          1,          5,          5,2,20080116,       1007,   -65.4398,   139.2892,       1188,  1000.5,  -0.7343,  34.6012,2,-999.0000,9,   261.84,2, -999.00,9,  -999.0,9, -999.00,9,-999.0000,9,-999.0000,9,-999.0000,9,  -999.0,9,  -999.0,9,  -0.022,2, -999.00,9,      0.001,2
09AR20071216,    CEAMARC,     106,          1,          4,          4,2,20080116,       1007,   -65.4398,   139.2892,       1188,  1201.1,  -0.7346,  34.6006,2,  34.6009,2,   261.40,2,  261.10,2,    90.5,2,    2.15,2,   3.0675,2,   1.6043,2,   0.2321,2,  2243.9,2,  2341.7,6,  -0.018,2,   30.92,3,      0.001,2
09AR20071216,    CEAMARC,     106,          1,          3,          3,2,20080116,       1007,   -65.4398,   139.2892,       1188,  1201.0,  -0.7325,  34.6008,2,-999.0000,9,   261.40,2, -999.00,9,  -999.0,9, -999.00,9,-999.0000,9,-999.0000,9,-999.0000,9,  -999.0,9,  -999.0,9,  -0.020,2, -999.00,9,      0.001,2
09AR20071216,    CEAMARC,     106,          1,          2,          2,2,20080116,       1007,   -65.4398,   139.2892,       1188,  1239.4,  -0.7423,  34.5992,2,  34.5997,2,   261.17,2,  263.97,2,    90.5,2,    2.16,2,   3.0637,2,   1.6085,2,   0.2349,2,  2242.4,6,  2341.8,2,  -0.022,2,   31.82,2,      0.001,2
09AR20071216,    CEAMARC,     106,          1,          1,          1,2,20080116,       1007,   -65.4398,   139.2892,       1188,  1239.1,  -0.7440,  34.5992,2,-999.0000,9,   261.17,2, -999.00,9,  -999.0,9, -999.00,9,-999.0000,9,-999.0000,9,-999.0000,9,  -999.0,9,  -999.0,9,  -0.018,2, -999.00,9,      0.001,2