BOTTLE,20230622CCHSIOENA
EXPOCODE,SECT_ID,STNNBR,CASTNO,SAMPNO,BTLNBR,BTLNBR_FLAG_W,DATE,TIME,LATITUDE,LONGITUDE,DEPTH,CTDPRS,CTDTMP,CTDSAL,CTDSAL_FLAG_W,SALNTY,SALNTY_FLAG_W,CTDOXY,CTDOXY_FLAG_W,OXYGEN,OXYGEN_FLAG_W,SILCAT,SILCAT_FLAG_W,PHSPHT,PHSPHT_FLAG_W,CFC-11,CFC-11_FLAG_W,CFC-12,CFC-12_FLAG_W,CFC113,CFC113_FLAG_W,TCARBN,TCARBN_FLAG_W,ALKALI,ALKALI_FLAG_W,FLUOR,FLUOR_FLAG_W,NO2+NO3,NO2+NO3_FLAG_W,PAR,PAR_FLAG_W
,,,,,,,,,,,METERS,DBAR,ITS-90,PSS-78,,PSS-78,,UMOL/KG,,UMOL/KG,,UMOL/KG,,UMOL/KG,,PMOL/KG,,PMOL/KG,,PMOL/KG,,UMOL/KG,,UMOL/KG,,MG/M^3,,UMOL/KG,,VOLTS,
09AR20071216,    CEAMARC,      17,          1,         24,         24,2,20071227,       1853,   -66.5608,   143.0055,        846,     2.9,  -1.0023,  34.3689,2,  34.3698,2,  -999.00,5,  347.97,2,    62.6,2,    1.76,2,   5.8927,2,   2.9454,2,   0.5218,2,    2197,6,  2325.5,2,   2.597,2,   26.76,2,      3.605,2
09AR20071216,    CEAMARC,      17,          1,         23,         23,2,20071227,       1853,   -66.5608,   143.0055,        846,    38.7,  -0.9765,  34.3860,2,-999.0000,9,   346.05,2, -999.00,9,  -999.0,9, -999.00,9,-999.0000,9,-999.0000,9,-999.0000,9,  -999.0,9,  -999.0,9,   7.865,2, -999.00,9,      1.151,2
09AR20071216,    CEAMARC,      17,          1,         22,         22,2,20071227,       1853,   -66.5608,   143.0055,        846,    38.7,  -0.9755,  34.3857,2,-999.0000,9,   346.05,2, -999.00,9,  -999.0,9, -999.00,9,-999.0000,9,-999.0000,9,-999.0000,9,  -999.0,9,  -999.0,9,   7.737,2, -999.00,9,      1.157,2
09AR20071216,    CEAMARC,      17,          1,         21,         21,2,20071227,       1853,   -66.5608,   143.0055,        846,    38.7,  -0.9746,  34.3843,2,  34.3843,2,   346.05,2,  345.53,2,  -999.0,9, -999.00,9,   5.9275,2,   2.9076,2,   0.5380,2,  2199.2,2,  2323.4,2,   8.168,2, -999.00,9,      1.144,2
09AR20071216,    CEAMARC,      17,          1,         20,         20,2,20071227,       1853,   -66.5608,   143.0055,        846,    90.4,  -1.1184,  34.3973,2,  34.3982,2,   323.63,2,  334.40,2,    66.9,2,    1.86,2,   5.6203,6,   2.7800,6,   0.5243,6,  2206.3,2,  2326.6,2,   5.894,2,   27.52,2,      0.001,2
09AR20071216,    CEAMARC,      17,          1,         19,         19,2,20071227,       1853,   -66.5608,   143.0055,        846,    90.3,  -1.1194,  34.3974,2,-999.0000,9,   323.63,2, -999.00,9,  -999.0,9, -999.00,9,-999.0000,9,-999.0000,9,-999.0000,9,  -999.0,9,  -999.0,9,   5.890,2, -999.00,9,      0.001,2
09AR20071216,    CEAMARC,      17,          1,         18,         18,2,20071227,       1853,   -66.5608,   143.0055,        846,   150.1,  -1.5557,  34.4514,2,  34.4523,2,   311.22,2,  309.70,2,    75.8,2,    2.09,2,   5.0551,2,   2.5432,2,   0.4428,2,  2225.8,2,  2327.7,2,   1.048,2,   29.75,2,      0.001,2
09AR20071216,    CEAMARC,      17,          1,         17,         17,2,20071227,       1853,   -66.5608,   143.0055,        846,   149.9,  -1.5589,  34.4511,2,-999.0000,9,   311.22,2, -999.00,9,  -999.0,9, -999.00,9,-999.0000,9,-999.0000,9,-999.0000,9,  -999.0,9,  -999.0,9,   1.025,2, -999.00,9,      0.001,2
09AR20071216,    CEAMARC,      17,          1,         16,         16,2,20071227,       1853,   -66.5608,   143.0055,        846,   200.2,  -1.8302,  34.4970,2,  34.4972,2,   308.91,2,  310.52,2,    78.2,2,    2.12,2,   4.9347,2,   2.5330,2,   0.4123,2,  2231.3,2,  2326.7,2,   0.178,2,   29.81,2,      0.001,2
09AR20071216,    CEAMARC,      17,          1,         15,         15,2,20071227,       1853,   -66.5608,   143.0055,        846,   200.0,  -1.8358,  34.4962,2,-999.0000,9,   308.91,2, -999.00,9,  -999.0,9, -999.00,9,-999.0000,9,-999.0000,9,-999.0000,9,  -999.0,9,  -999.0,9,   0.168,2, -999.00,9,      0.001,2
09AR20071216,    CEAMARC,      17,          1,         14,         14,2,20071227,       1853,   -66.5608,   143.0055,        846,   300.1,  -1.8933,  34.5330,2,  34.5324,2,   308.80,2,  310.24,2,    78.8,2,    2.14,2,   5.0800,2,   2.5297,2,   0.4564,2,  2234.2,2,  2330.5,2,  -0.013,2,   30.25,2,      0.001,2
09AR20071216,    CEAMARC,      17,          1,         13,         13,2,20071227,       1853,   -66.5608,   143.0055,        846,   299.9,  -1.8934,  34.5329,2,-999.0000,9,   308.80,2, -999.00,9,  -999.0,9, -999.00,9,-999.0000,9,-999.0000,9,-999.0000,9,  -999.0,9,  -999.0,9,  -0.011,2, -999.00,9,      0.001,2
09AR20071216,    CEAMARC,      17,          1,         12,         12,2,20071227,       1853,   -66.5608,   143.0055,        846,   398.1,  -1.8698,  34.5536,2,  34.5526,2,   310.07,2,  311.10,2,    78.5,2,    2.14,2,   5.1839,2,   2.5628,2,   0.4996,2,  2235.4,2,    2333,2,   0.068,2,   30.43,2,      0.001,2
09AR20071216,    CEAMARC,      17,          1,         11,         11,2,20071227,       1853,   -66.5608,   143.0055,        846,   398.1,  -1.8698,  34.5536,2,-999.0000,9,   310.07,2, -999.00,9,  -999.0,9, -999.00,9,-999.0000,9,-999.0000,9,-999.0000,9,  -999.0,9,  -999.0,9,   0.068,2, -999.00,9,      0.001,2
09AR20071216,    CEAMARC,      17,          1,         10,         10,2,20071227,       1853,   -66.5608,   143.0055,        846,   501.0,  -1.8775,  34.5646,2,  34.5642,2,   310.23,2,  311.58,2,    78.8,2,    2.16,2,   5.0800,2,   2.5736,2,   0.4265,2,  2235.8,2,  2334.5,2,   0.150,2,   31.31,2,      0.001,2
09AR20071216,    CEAMARC,      17,          1,          9,          9,2,20071227,       1853,   -66.5608,   143.0055,        846,   501.0,  -1.8775,  34.5645,2,-999.0000,9,   310.23,2, -999.00,9,  -999.0,9, -999.00,9,-999.0000,9,-999.0000,9,-999.0000,9,  -999.0,9,  -999.0,9,   0.021,2, -999.00,9,      0.001,2
09AR20071216,    CEAMARC,      17,          1,          8,          8,2,20071227,       1853,   -66.5608,   143.0055,        846,   598.4,  -1.8933,  34.6031,2,  34.6030,2,   309.47,2,  310.40,2,    79.1,2,    2.14,2,   4.8492,2,   2.5958,2,   0.4000,2,  2240.5,2,  2335.5,2,  -0.024,2,   31.24,2,      0.001,2
09AR20071216,    CEAMARC,      17,          1,          7,          7,2,20071227,       1853,   -66.5608,   143.0055,        846,   598.5,  -1.8931,  34.6026,2,-999.0000,9,   309.47,2, -999.00,9,  -999.0,9, -999.00,9,-999.0000,9,-999.0000,9,-999.0000,9,  -999.0,9,  -999.0,9,  -0.028,2, -999.00,9,      0.001,2
09AR20071216,    CEAMARC,      17,          1,          6,          6,2,20071227,       1853,   -66.5608,   143.0055,        846,   700.0,  -1.8874,  34.6384,2,  34.6380,2,   310.40,2,  311.04,2,    78.2,2,    2.14,2,   5.0527,2,   2.5192,2,   0.4537,2,    2241,2,    2344,2,  -0.022,2,   30.36,3,      0.001,2
09AR20071216,    CEAMARC,      17,          1,          5,          5,2,20071227,       1853,   -66.5608,   143.0055,        846,   699.8,  -1.8875,  34.6387,2,-999.0000,9,   310.40,2, -999.00,9,  -999.0,9, -999.00,9,-999.0000,9,-999.0000,9,-999.0000,9,  -999.0,9,  -999.0,9,  -0.028,2, -999.00,9,      0.001,2
09AR20071216,    CEAMARC,      17,          1,          4,          4,2,20071227,       1853,   -66.5608,   143.0055,        846,   800.7,  -1.8892,  34.6766,2,  34.6762,2,   310.28,2,  309.99,2,    79.5,2,    2.16,2,-999.0000,9,-999.0000,9,-999.0000,9,  2243.8,2,  2343.7,2,  -0.019,2,   31.19,2,      0.001,2
09AR20071216,    CEAMARC,      17,          1,          3,          3,2,20071227,       1853,   -66.5608,   143.0055,        846,   800.6,  -1.8892,  34.6764,2,-999.0000,9,   310.28,2, -999.00,9,  -999.0,9, -999.00,9,   5.1115,6,   2.5501,6,   0.4748,6,  -999.0,9,  -999.0,9,  -0.022,2, -999.00,9,      0.001,2
09AR20071216,    CEAMARC,      17,          1,          2,          2,2,20071227,       1853,   -66.5608,   143.0055,        846,   837.3,  -1.8875,  34.6768,2,  34.6762,2,   310.54,2,  310.56,2,    79.4,2,    2.16,2,-999.0000,9,-999.0000,9,-999.0000,9,  -999.0,9,  -999.0,9,  -0.018,2,   31.26,2,      0.001,2
09AR20071216,    CEAMARC,      17,          1,          1,          1,2,20071227,       1853,   -66.5608,   143.0055,        846,   837.3,  -1.8877,  34.6769,2,-999.0000,9,   310.54,2, -999.00,9,  -999.0,9, -999.00,9,   5.0066,2,   2.6061,2,   0.4318,2,  2244.4,6,  2341.4,6,  -0.025,2, -999.00,9,      0.001,2
09AR20071216,    CEAMARC,      18,          1,         24,         24,2,20071228,       0229,   -66.5575,   143.3272,        804,     5.8,  -0.6550,  34.3684,2,  34.3695,2,   357.67,2,  360.01,2,    59.9,2,    1.64,2,   6.0945,2,   3.1319,2,   0.4439,2,  2188.2,6,  2330.7,6,   1.503,2,   26.06,2,      2.727,2
09AR20071216,    CEAMARC,      18,          1,         23,         23,2,20071228,       0229,   -66.5575,   143.3272,        804,     5.8,  -0.5974,  34.3682,2,-999.0000,9,   357.67,2, -999.00,9,  -999.0,9, -999.00,9,-999.0000,9,-999.0000,9,-999.0000,9,  -999.0,9,  -999.0,9,   1.542,2, -999.00,9,      2.716,2
09AR20071216,    CEAMARC,      18,          1,         22,         22,2,20071228,       0229,   -66.5575,   143.3272,        804,     5.9,  -0.5424,  34.3690,2,-999.0000,9,   357.67,2, -999.00,9,  -999.0,9, -999.00,9,-999.0000,9,-999.0000,9,-999.0000,9,  -999.0,9,  -999.0,9,   1.782,2, -999.00,9,      2.695,2
09AR20071216,    CEAMARC,      18,          1,         21,         21,2,20071228,       0229,   -66.5575,   143.3272,        804,     5.8,  -0.5342,  34.3681,2,-999.0000,9,   357.67,2, -999.00,9,  -999.0,9, -999.00,9,-999.0000,9,-999.0000,9,-999.0000,9,  -999.0,9,  -999.0,9,   1.707,2, -999.00,9,      2.714,2
09AR20071216,    CEAMARC,      18,          1,         20,         20,2,20071228,       0229,   -66.5575,   143.3272,        804,    39.7,  -0.8386,  34.3668,2,  34.3699,2,   356.72,2,  355.84,2,    60.6,2,    1.68,2,   6.0197,2,   3.0814,2,   0.4523,2,  2192.2,2,  2327.9,2,   9.470,2,   26.86,2,      1.036,2
09AR20071216,    CEAMARC,      18,          1,         19,         19,2,20071228,       0229,   -66.5575,   143.3272,        804,    75.5,  -1.0844,  34.3845,2,  34.3866,2,   347.73,2,  346.19,2,    64.5,2,    1.82,2,   5.8776,2,   2.9889,2,   0.4398,2,  2201.6,2,  2329.8,2,   7.754,2,   27.88,2,      0.001,2
09AR20071216,    CEAMARC,      18,          1,         18,         18,2,20071228,       0229,   -66.5575,   143.3272,        804,    89.6,  -1.2204,  34.4043,2,-999.0000,9,   339.75,2, -999.00,9,  -999.0,9, -999.00,9,-999.0000,9,-999.0000,9,-999.0000,9,  -999.0,9,  -999.0,9,   4.951,2, -999.00,9,      0.001,2
09AR20071216,    CEAMARC,      18,          1,         17,         17,2,20071228,       0229,   -66.5575,   143.3272,        804,   110.3,  -1.5303,  34.4456,2,  34.4503,2,   317.77,2,  308.14,2,    75.8,2,    2.11,2,   4.9935,2,   2.5513,2,   0.3744,2,  2227.9,2,  2331.6,2,   1.318,2,   31.05,2,      0.001,2
09AR20071216,    CEAMARC,      18,          1,         16,         16,2,20071228,       0229,   -66.5575,   143.3272,        804,   148.2,  -1.3059,  34.4868,2,  34.4866,2,   283.48,2,  281.63,2,    81.6,2,    2.20,2,   3.9951,2,   2.1013,2,   0.2837,2,  2235.3,2,  2332.5,2,   0.001,2,   32.95,2,      0.001,2
09AR20071216,    CEAMARC,      18,          1,         15,         15,2,20071228,       0229,   -66.5575,   143.3272,        804,   148.2,  -1.3018,  34.4863,2,-999.0000,9,   283.48,2, -999.00,9,  -999.0,9, -999.00,9,-999.0000,9,-999.0000,9,-999.0000,9,  -999.0,9,  -999.0,9,   0.004,2, -999.00,9,      0.001,2
09AR20071216,    CEAMARC,      18,          1,         14,         14,2,20071228,       0229,   -66.5575,   143.3272,        804,   199.8,  -1.6194,  34.4922,2,  34.4932,2,   304.31,2,  306.91,2,    78.2,2,    2.15,2,   4.8183,2,   2.4754,2,   0.3545,2,    2232,2,  2333.7,2,   0.500,2,   31.56,2,      0.001,2
09AR20071216,    CEAMARC,      18,          1,         13,         13,2,20071228,       0229,   -66.5575,   143.3272,        804,   249.6,  -1.7356,  34.5049,2,  34.5056,2,   314.44,2,  312.77,2,    77.8,2,    2.15,2,   4.9654,2,   2.6079,2,   0.3517,2,  2230.7,2,  2332.6,2,   0.499,2,   31.86,2,      0.001,2
09AR20071216,    CEAMARC,      18,          1,         12,         12,2,20071228,       0229,   -66.5575,   143.3272,        804,   249.5,  -1.7387,  34.5053,2,-999.0000,9,   314.44,2, -999.00,9,  -999.0,9, -999.00,9,-999.0000,9,-999.0000,9,-999.0000,9,  -999.0,9,  -999.0,9,   0.522,2, -999.00,9,      0.001,2
09AR20071216,    CEAMARC,      18,          1,         11,         11,2,20071228,       0229,   -66.5575,   143.3272,        804,   324.4,  -1.8560,  34.5216,2,  34.5226,2,   309.87,2,  308.77,2,    79.1,2,    2.16,2,   5.0401,2,   2.5502,2,   0.3840,2,  2234.6,2,    2336,2,   0.074,2,   31.67,2,      0.001,2
09AR20071216,    CEAMARC,      18,          1,         10,         10,2,20071228,       0229,   -66.5575,   143.3272,        804,   401.1,  -1.8958,  34.5395,2,  34.5395,2,   306.27,2,  310.15,2,    79.0,2,    2.16,2,   4.9426,2,   2.5473,2,   0.3450,2,  2233.8,2,  2337.5,2,  -0.022,2,   31.67,2,      0.001,2
09AR20071216,    CEAMARC,      18,          1,          9,          9,2,20071228,       0229,   -66.5575,   143.3272,        804,   400.7,  -1.8969,  34.5397,2,-999.0000,9,   306.38,2, -999.00,9,  -999.0,9, -999.00,9,-999.0000,9,-999.0000,9,-999.0000,9,  -999.0,9,  -999.0,9,  -0.028,2, -999.00,9,      0.001,2
09AR20071216,    CEAMARC,      18,          1,          8,          8,2,20071228,       0229,   -66.5575,   143.3272,        804,   501.6,  -1.8922,  34.5649,2,  34.5636,2,   310.74,2,  310.63,2,    78.4,2,    2.16,2,   5.0159,2,   2.5830,2,   0.3702,2,    2239,2,  2337.7,2,  -0.015,2,   31.22,2,      0.001,2
09AR20071216,    CEAMARC,      18,          1,          7,          7,2,20071228,       0229,   -66.5575,   143.3272,        804,   501.4,  -1.8933,  34.5642,2,-999.0000,9,   310.74,2, -999.00,9,  -999.0,9, -999.00,9,-999.0000,9,-999.0000,9,-999.0000,9,  -999.0,9,  -999.0,9,  -0.018,2, -999.00,9,      0.001,2
09AR20071216,    CEAMARC,      18,          1,          6,          6,2,20071228,       0229,   -66.5575,   143.3272,        804,   651.4,  -1.8912,  34.6198,2,  34.6203,2,   308.65,2,  308.66,2,    77.7,2,    2.16,2,   4.8945,2,   2.5741,2,   0.3518,2,  2241.7,2,  2342.7,2,  -0.028,2,   30.78,2,      0.001,2
09AR20071216,    CEAMARC,      18,          1,          5,          5,2,20071228,       0229,   -66.5575,   143.3272,        804,   651.4,  -1.8912,  34.6198,2,-999.0000,9,   308.65,2, -999.00,9,  -999.0,9, -999.00,9,-999.0000,9,-999.0000,9,-999.0000,9,  -999.0,9,  -999.0,9,  -0.030,2, -999.00,9,      0.001,2
09AR20071216,    CEAMARC,      18,          1,          4,          4,2,20071228,       0229,   -66.5575,   143.3272,        804,   751.3,  -1.8925,  34.6499,2,  34.6493,2,   309.71,2,  309.17,2,    78.3,2,    2.17,2,   4.9963,6,   2.5682,6,   0.3730,6,  2243.9,2,  2342.5,6,  -0.025,2,   30.96,2,      0.001,2
09AR20071216,    CEAMARC,      18,          1,          3,          3,2,20071228,       0229,   -66.5575,   143.3272,        804,   751.3,  -1.8925,  34.6499,2,-999.0000,9,   309.71,2, -999.00,9,  -999.0,9, -999.00,9,-999.0000,9,-999.0000,9,-999.0000,9,  -999.0,9,  -999.0,9,  -0.016,2, -999.00,9,      0.001,2
09AR20071216,    CEAMARC,      18,          1,          2,          2,2,20071228,       0229,   -66.5575,   143.3272,        804,   801.5,  -1.8912,  34.6776,2,-999.0000,9,   310.59,2, -999.00,9,  -999.0,9, -999.00,9,-999.0000,9,-999.0000,9,-999.0000,9,  -999.0,9,  -999.0,9,  -0.034,2, -999.00,9,      0.001,2
09AR20071216,    CEAMARC,      18,          1,          1,          1,2,20071228,       0229,   -66.5575,   143.3272,        804,   800.6,  -1.8912,  34.6773,2,  34.6766,2,   310.65,2,  310.56,2,    79.2,2,    2.17,2,   5.0881,2,   2.6026,2,   0.3724,2,  2245.2,6,  2344.4,6,  -0.034,2,   31.56,2,      0.001,2