BOTTLE,20230622CCHSIOENA
EXPOCODE,SECT_ID,STNNBR,CASTNO,SAMPNO,BTLNBR,BTLNBR_FLAG_W,DATE,TIME,LATITUDE,LONGITUDE,DEPTH,CTDPRS,CTDTMP,CTDSAL,CTDSAL_FLAG_W,SALNTY,SALNTY_FLAG_W,CTDOXY,CTDOXY_FLAG_W,OXYGEN,OXYGEN_FLAG_W,SILCAT,SILCAT_FLAG_W,PHSPHT,PHSPHT_FLAG_W,CFC-11,CFC-11_FLAG_W,CFC-12,CFC-12_FLAG_W,CFC113,CFC113_FLAG_W,TCARBN,TCARBN_FLAG_W,ALKALI,ALKALI_FLAG_W,FLUOR,FLUOR_FLAG_W,NO2+NO3,NO2+NO3_FLAG_W,PAR,PAR_FLAG_W
,,,,,,,,,,,METERS,DBAR,ITS-90,PSS-78,,PSS-78,,UMOL/KG,,UMOL/KG,,UMOL/KG,,UMOL/KG,,PMOL/KG,,PMOL/KG,,PMOL/KG,,UMOL/KG,,UMOL/KG,,MG/M^3,,UMOL/KG,,VOLTS,
09AR20071216,    CEAMARC,      93,          1,         24,         24,2,20080114,       0809,   -66.3858,   140.4520,        674,     9.5,  -0.6834,  33.9604,2,  33.9432,2,   364.53,2,  363.95,2,    60.7,2,    1.56,2,   5.6895,2,   2.9226,2,   0.4402,2,  2157.9,6,  2307.5,6,   4.597,2,   24.06,2,      2.967,2
09AR20071216,    CEAMARC,      93,          1,         23,         23,2,20080114,       0809,   -66.3858,   140.4520,        674,     9.8,  -0.6964,  33.9673,2,-999.0000,9,   364.53,2, -999.00,9,  -999.0,9, -999.00,9,-999.0000,9,-999.0000,9,-999.0000,9,  -999.0,9,  -999.0,9,   4.694,2, -999.00,9,      2.968,2
09AR20071216,    CEAMARC,      93,          1,         22,         22,2,20080114,       0809,   -66.3858,   140.4520,        674,    10.0,  -0.6911,  33.9667,2,-999.0000,9,   364.53,2, -999.00,9,  -999.0,9, -999.00,9,-999.0000,9,-999.0000,9,-999.0000,9,  -999.0,9,  -999.0,9,   4.669,2, -999.00,9,      2.876,2
09AR20071216,    CEAMARC,      93,          1,         21,         21,2,20080114,       0809,   -66.3858,   140.4520,        674,    10.0,  -0.6908,  33.9707,2,-999.0000,9,   364.53,2, -999.00,9,  -999.0,9, -999.00,9,-999.0000,9,-999.0000,9,-999.0000,9,  -999.0,9,  -999.0,9,   4.731,2, -999.00,9,      2.953,2
09AR20071216,    CEAMARC,      93,          1,         20,         20,2,20080114,       0809,   -66.3858,   140.4520,        674,    20.1,  -0.9583,  34.0486,2,  34.0406,2,   369.01,2,  364.31,2,    62.2,2,    1.59,2,   5.6184,2,   2.8992,2,   0.4375,2,  2164.7,2,  2314.7,2,   6.523,2,   24.25,2,      2.185,2
09AR20071216,    CEAMARC,      93,          1,         19,         19,2,20080114,       0809,   -66.3858,   140.4520,        674,    19.8,  -0.9689,  34.0469,2,-999.0000,9,   369.01,2, -999.00,9,  -999.0,9, -999.00,9,-999.0000,9,-999.0000,9,-999.0000,9,  -999.0,9,  -999.0,9,   6.898,2, -999.00,9,      2.216,2
09AR20071216,    CEAMARC,      93,          1,         18,         18,2,20080114,       0809,   -66.3858,   140.4520,        674,    40.0,  -1.1794,  34.3202,2,  34.3180,2,   349.45,2,  350.03,2,    66.4,2,    1.76,2,-999.0000,9,-999.0000,9,-999.0000,9,  -999.0,9,  -999.0,9,   4.696,2,   25.74,2,      0.932,2
09AR20071216,    CEAMARC,      93,          1,         17,         17,2,20080114,       0809,   -66.3858,   140.4520,        674,    40.1,  -1.1807,  34.3191,2,-999.0000,9,   349.45,2, -999.00,9,  -999.0,9, -999.00,9,-999.0000,9,-999.0000,9,-999.0000,9,  -999.0,9,  -999.0,9,   4.440,2, -999.00,9,      0.918,2
09AR20071216,    CEAMARC,      93,          1,         16,         16,2,20080114,       0809,   -66.3858,   140.4520,        674,    84.6,  -1.4793,  34.4336,2,  34.4330,2,   321.82,2,  323.40,2,    71.3,2,    1.97,2,   5.1266,2,   2.6563,2,   0.4020,2,  2220.5,3,    2331,2,   1.171,2,   28.57,2,      0.001,2
09AR20071216,    CEAMARC,      93,          1,         15,         15,2,20080114,       0809,   -66.3858,   140.4520,        674,    84.5,  -1.4788,  34.4334,2,-999.0000,9,   321.82,2, -999.00,9,  -999.0,9, -999.00,9,-999.0000,9,-999.0000,9,-999.0000,9,  -999.0,9,  -999.0,9,   1.168,2, -999.00,9,      0.001,2
09AR20071216,    CEAMARC,      93,          1,         14,         14,2,20080114,       0809,   -66.3858,   140.4520,        674,   159.0,  -1.3982,  34.4645,2,  34.4644,2,   335.96,2,  334.86,2,    71.3,2,    1.92,2,   5.4464,2,   2.7770,2,   0.4317,2,  2217.7,2,  2341.1,2,   1.379,2,   27.68,2,      0.001,2
09AR20071216,    CEAMARC,      93,          1,         13,         13,2,20080114,       0809,   -66.3858,   140.4520,        674,   158.6,  -1.3992,  34.4645,2,-999.0000,9,   335.96,2, -999.00,9,  -999.0,9, -999.00,9,-999.0000,9,-999.0000,9,-999.0000,9,  -999.0,9,  -999.0,9,   1.441,2, -999.00,9,      0.001,2
09AR20071216,    CEAMARC,      93,          1,         12,         12,2,20080114,       0809,   -66.3858,   140.4520,        674,   198.0,  -1.5128,  34.4681,2,  33.6112,4,   329.24,2,  328.52,2,    71.9,2,    1.97,2,   5.2813,6,   2.7256,6,   0.4046,6,    2222,2,  2337.8,2,   1.065,2,   27.85,2,      0.001,2
09AR20071216,    CEAMARC,      93,          1,         11,         11,2,20080114,       0809,   -66.3858,   140.4520,        674,   198.5,  -1.5139,  34.4682,2,-999.0000,9,   329.24,2, -999.00,9,  -999.0,9, -999.00,9,-999.0000,9,-999.0000,9,-999.0000,9,  -999.0,9,  -999.0,9,   0.969,2, -999.00,9,      0.001,2
09AR20071216,    CEAMARC,      93,          1,         10,         10,2,20080114,       0809,   -66.3858,   140.4520,        674,   302.4,  -1.5981,  34.4835,2,  34.4828,2,   325.22,2,  322.56,2,    72.8,2,    1.99,2,   5.2089,2,   2.6861,2,   0.4044,2,  2224.9,2,    2341,2,   0.725,2,   28.30,2,      0.001,2
09AR20071216,    CEAMARC,      93,          1,          9,          9,2,20080114,       0809,   -66.3858,   140.4520,        674,   300.7,  -1.5985,  34.4825,2,-999.0000,9,   325.19,2, -999.00,9,  -999.0,9, -999.00,9,-999.0000,9,-999.0000,9,-999.0000,9,  -999.0,9,  -999.0,9,   0.723,2, -999.00,9,      0.001,2
09AR20071216,    CEAMARC,      93,          1,          8,          8,2,20080114,       0809,   -66.3858,   140.4520,        674,   399.4,  -1.7640,  34.4918,2,  34.4919,2,   312.50,2,  314.52,2,    74.7,2,    2.06,2,   4.9638,2,   2.5977,2,   0.3757,2,  2229.8,2,  2333.9,2,   0.136,2,   29.59,2,      0.001,2
09AR20071216,    CEAMARC,      93,          1,          7,          7,2,20080114,       0809,   -66.3858,   140.4520,        674,   399.7,  -1.7643,  34.4918,2,-999.0000,9,   312.50,2, -999.00,9,  -999.0,9, -999.00,9,-999.0000,9,-999.0000,9,-999.0000,9,  -999.0,9,  -999.0,9,   0.114,2, -999.00,9,      0.001,2
09AR20071216,    CEAMARC,      93,          1,          6,          6,2,20080114,       0809,   -66.3858,   140.4520,        674,   519.8,  -1.3430,  34.5400,2,  34.5399,2,   294.10,2,  290.99,2,    82.3,2,    2.10,2,   4.1390,2,   2.1596,2,   0.3371,2,  2237.1,2,    2344,2,   0.059,2,   31.15,2,      0.001,2
09AR20071216,    CEAMARC,      93,          1,          5,          5,2,20080114,       0809,   -66.3858,   140.4520,        674,   519.9,  -1.3429,  34.5399,2,-999.0000,9,   294.10,2, -999.00,9,  -999.0,9, -999.00,9,-999.0000,9,-999.0000,9,-999.0000,9,  -999.0,9,  -999.0,9,   0.058,2, -999.00,9,      0.001,2
09AR20071216,    CEAMARC,      93,          1,          4,          4,2,20080114,       0809,   -66.3858,   140.4520,        674,   621.6,  -1.3888,  34.5477,2,  34.5479,2,   292.70,2,  291.43,2,    82.3,2,    2.12,2,   4.1476,2,   2.1746,2,   0.3431,2,    2238,2,  2340.2,2,   0.029,2,   31.07,2,      0.001,2
09AR20071216,    CEAMARC,      93,          1,          3,          3,2,20080114,       0809,   -66.3858,   140.4520,        674,   622.3,  -1.3908,  34.5479,2,-999.0000,9,   292.70,2, -999.00,9,  -999.0,9, -999.00,9,-999.0000,9,-999.0000,9,-999.0000,9,  -999.0,9,  -999.0,9,   0.030,2, -999.00,9,      0.001,2
09AR20071216,    CEAMARC,      93,          1,          2,          2,2,20080114,       0809,   -66.3858,   140.4520,        674,   666.7,  -1.5790,  34.5560,2,-999.0000,9,   298.23,2, -999.00,9,  -999.0,9, -999.00,9,-999.0000,9,-999.0000,9,-999.0000,9,  -999.0,9,  -999.0,9,   0.001,2, -999.00,9,      0.001,2
09AR20071216,    CEAMARC,      93,          1,          1,          1,2,20080114,       0809,   -66.3858,   140.4520,        674,   667.0,  -1.5705,  34.5561,2,  34.5564,2,   298.23,2,  301.94,2,    80.4,2,    2.11,2,   4.4920,2,   2.3397,2,   0.3443,2,  2238.8,2,  2342.6,2,  -0.009,2,   31.22,2,      0.001,2
09AR20071216,    CEAMARC,      94,          1,         24,         24,2,20080114,       1315,   -66.3425,   140.4803,        412,     9.0,  -1.2895,  33.6077,2,  33.6184,2,   365.55,2,  364.57,2,    57.3,2,    1.60,2,   5.7311,2,   3.0069,2,   0.4808,2,  2136.6,6,  2280.3,6,   5.174,2,   24.01,3,      1.172,2
09AR20071216,    CEAMARC,      94,          1,         23,         23,2,20080114,       1315,   -66.3425,   140.4803,        412,     8.7,  -1.2944,  33.6138,2,-999.0000,9,   365.55,2, -999.00,9,  -999.0,9, -999.00,9,-999.0000,9,-999.0000,9,-999.0000,9,  -999.0,9,  -999.0,9,   5.259,2, -999.00,9,      1.198,2
09AR20071216,    CEAMARC,      94,          1,         22,         22,2,20080114,       1315,   -66.3425,   140.4803,        412,     8.8,  -1.3017,  33.6210,2,-999.0000,9,   365.55,2, -999.00,9,  -999.0,9, -999.00,9,-999.0000,9,-999.0000,9,-999.0000,9,  -999.0,9,  -999.0,9,   5.152,2, -999.00,9,      1.189,2
09AR20071216,    CEAMARC,      94,          1,         21,         21,2,20080114,       1315,   -66.3425,   140.4803,        412,     8.9,  -1.3874,  33.6937,2,-999.0000,9,   365.55,2, -999.00,9,  -999.0,9, -999.00,9,-999.0000,9,-999.0000,9,-999.0000,9,  -999.0,9,  -999.0,9,   5.345,2, -999.00,9,      1.175,2
09AR20071216,    CEAMARC,      94,          1,         20,         20,2,20080114,       1315,   -66.3425,   140.4803,        412,    29.9,  -1.1569,  34.1485,2,  34.1434,2,   341.05,2,  342.25,2,    66.0,2,    1.79,2,   5.2729,2,   2.7524,2,   0.4308,2,  2182.5,2,  2316.1,2,   5.266,2,   27.19,3,      0.001,2
09AR20071216,    CEAMARC,      94,          1,         19,         19,2,20080114,       1315,   -66.3425,   140.4803,        412,    30.1,  -1.1574,  34.1502,2,-999.0000,9,   341.05,2, -999.00,9,  -999.0,9, -999.00,9,-999.0000,9,-999.0000,9,-999.0000,9,  -999.0,9,  -999.0,9,   5.361,2, -999.00,9,      0.001,2
09AR20071216,    CEAMARC,      94,          1,         18,         18,2,20080114,       1315,   -66.3425,   140.4803,        412,    76.3,  -1.3462,  34.4248,2,  34.4221,2,   301.51,2,  300.28,2,    76.6,2,    2.07,2,   4.4446,6,   2.3282,6,   0.3621,6,  2224.1,2,  2330.9,6,   0.355,2,   31.25,3,      0.001,2
09AR20071216,    CEAMARC,      94,          1,         17,         17,2,20080114,       1315,   -66.3425,   140.4803,        412,    76.4,  -1.3461,  34.4240,2,-999.0000,9,   301.51,2, -999.00,9,  -999.0,9, -999.00,9,-999.0000,9,-999.0000,9,-999.0000,9,  -999.0,9,  -999.0,9,   0.353,2, -999.00,9,      0.001,2
09AR20071216,    CEAMARC,      94,          1,         16,         16,2,20080114,       1315,   -66.3425,   140.4803,        412,    99.3,  -1.3052,  34.4581,2,  34.4577,2,   296.86,2,  297.37,2,    78.8,2,    2.10,2,   4.2754,2,   2.2604,2,   0.3215,2,  2227.8,2,  2331.8,2,   0.268,2,   31.43,3,      0.001,2
09AR20071216,    CEAMARC,      94,          1,         15,         15,2,20080114,       1315,   -66.3425,   140.4803,        412,    99.8,  -1.3083,  34.4592,2,-999.0000,9,   296.86,2, -999.00,9,  -999.0,9, -999.00,9,-999.0000,9,-999.0000,9,-999.0000,9,  -999.0,9,  -999.0,9,   0.246,2, -999.00,9,      0.001,2
09AR20071216,    CEAMARC,      94,          1,         14,         14,2,20080114,       1315,   -66.3425,   140.4803,        412,   147.9,  -1.5432,  34.4727,2,  34.4726,2,   322.32,2,  324.56,2,    73.8,2,    2.02,2,   5.2797,2,   2.7565,2,   0.4226,2,  2221.4,2,  2334.9,2,   0.789,2,   30.02,3,      0.001,2
09AR20071216,    CEAMARC,      94,          1,         13,         13,2,20080114,       1315,   -66.3425,   140.4803,        412,   147.7,  -1.5439,  34.4734,2,-999.0000,9,   322.32,2, -999.00,9,  -999.0,9, -999.00,9,-999.0000,9,-999.0000,9,-999.0000,9,  -999.0,9,  -999.0,9,   0.719,2, -999.00,9,      0.001,2
09AR20071216,    CEAMARC,      94,          1,         12,         12,2,20080114,       1315,   -66.3425,   140.4803,        412,   147.4,  -1.5443,  34.4737,2,-999.0000,9,   322.32,2, -999.00,9,  -999.0,9, -999.00,9,-999.0000,9,-999.0000,9,-999.0000,9,  -999.0,9,  -999.0,9,   0.748,2, -999.00,9,      0.001,2
09AR20071216,    CEAMARC,      94,          1,         11,         11,2,20080114,       1315,   -66.3425,   140.4803,        412,   147.2,  -1.5448,  34.4738,2,-999.0000,9,   322.32,2, -999.00,9,  -999.0,9, -999.00,9,-999.0000,9,-999.0000,9,-999.0000,9,  -999.0,9,  -999.0,9,   0.701,2, -999.00,9,      0.001,2
09AR20071216,    CEAMARC,      94,          1,         10,         10,2,20080114,       1315,   -66.3425,   140.4803,        412,   274.1,  -1.6670,  34.4930,2,  34.4928,2,   312.57,2,  311.91,2,    75.4,2,    2.09,2,   4.8311,2,   2.5511,2,   0.3955,2,  2228.1,2,  2334.1,2,   0.233,2,   30.98,3,      0.001,2
09AR20071216,    CEAMARC,      94,          1,          9,          9,2,20080114,       1315,   -66.3425,   140.4803,        412,   274.3,  -1.6655,  34.4934,2,-999.0000,9,   312.57,2, -999.00,9,  -999.0,9, -999.00,9,-999.0000,9,-999.0000,9,-999.0000,9,  -999.0,9,  -999.0,9,   0.237,2, -999.00,9,      0.001,2
09AR20071216,    CEAMARC,      94,          1,          8,          8,2,20080114,       1315,   -66.3425,   140.4803,        412,   274.9,  -1.6663,  34.4936,2,-999.0000,9,   312.57,2, -999.00,9,  -999.0,9, -999.00,9,-999.0000,9,-999.0000,9,-999.0000,9,  -999.0,9,  -999.0,9,   0.254,2, -999.00,9,      0.001,2
09AR20071216,    CEAMARC,      94,          1,          7,          7,2,20080114,       1315,   -66.3425,   140.4803,        412,   274.9,  -1.6659,  34.4935,2,-999.0000,9,   312.57,2, -999.00,9,  -999.0,9, -999.00,9,-999.0000,9,-999.0000,9,-999.0000,9,  -999.0,9,  -999.0,9,   0.280,2, -999.00,9,      0.001,2
09AR20071216,    CEAMARC,      94,          1,          6,          6,2,20080114,       1315,   -66.3425,   140.4803,        412,   350.4,  -1.3195,  34.5180,2,  34.5183,2,   292.10,2,  292.00,2,    80.8,2,    2.10,2,   4.2392,2,   2.2431,2,   0.3201,2,  2232.3,2,  2337.8,2,   0.075,2,   30.98,3,      0.001,2
09AR20071216,    CEAMARC,      94,          1,          5,          5,2,20080114,       1315,   -66.3425,   140.4803,        412,   350.2,  -1.3180,  34.5181,2,-999.0000,9,   292.10,2, -999.00,9,  -999.0,9, -999.00,9,-999.0000,9,-999.0000,9,-999.0000,9,  -999.0,9,  -999.0,9,   0.076,2, -999.00,9,      0.001,2
09AR20071216,    CEAMARC,      94,          1,          4,          4,2,20080114,       1315,   -66.3425,   140.4803,        412,   350.5,  -1.3174,  34.5182,2,-999.0000,9,   292.10,2, -999.00,9,  -999.0,9, -999.00,9,-999.0000,9,-999.0000,9,-999.0000,9,  -999.0,9,  -999.0,9,   0.083,2, -999.00,9,      0.001,2
09AR20071216,    CEAMARC,      94,          1,          3,          3,2,20080114,       1315,   -66.3425,   140.4803,        412,   350.7,  -1.3189,  34.5181,2,-999.0000,9,   292.10,2, -999.00,9,  -999.0,9, -999.00,9,-999.0000,9,-999.0000,9,-999.0000,9,  -999.0,9,  -999.0,9,   0.071,2, -999.00,9,      0.001,2
09AR20071216,    CEAMARC,      94,          1,          2,          2,2,20080114,       1315,   -66.3425,   140.4803,        412,   400.7,  -1.3013,  34.5190,2,  34.5189,2,   292.63,2,  293.00,2,    80.7,2,    2.10,2,   4.0922,2,   2.1913,2,   0.3510,2,  2235.3,2,  2340.4,2,   0.076,2,   30.68,3,      0.001,2
09AR20071216,    CEAMARC,      94,          1,          1,          1,2,20080114,       1315,   -66.3425,   140.4803,        412,   400.4,  -1.3024,  34.5188,2,-999.0000,9,   292.63,2, -999.00,9,  -999.0,9, -999.00,9,-999.0000,9,-999.0000,9,-999.0000,9,  -999.0,9,  -999.0,9,   0.064,2, -999.00,9,      0.001,2