BOTTLE,20230622CCHSIOENA
EXPOCODE,SECT_ID,STNNBR,CASTNO,SAMPNO,BTLNBR,BTLNBR_FLAG_W,DATE,TIME,LATITUDE,LONGITUDE,DEPTH,CTDPRS,CTDTMP,CTDSAL,CTDSAL_FLAG_W,SALNTY,SALNTY_FLAG_W,CTDOXY,CTDOXY_FLAG_W,OXYGEN,OXYGEN_FLAG_W,SILCAT,SILCAT_FLAG_W,PHSPHT,PHSPHT_FLAG_W,CFC-11,CFC-11_FLAG_W,CFC-12,CFC-12_FLAG_W,CFC113,CFC113_FLAG_W,TCARBN,TCARBN_FLAG_W,ALKALI,ALKALI_FLAG_W,FLUOR,FLUOR_FLAG_W,NO2+NO3,NO2+NO3_FLAG_W,PAR,PAR_FLAG_W
,,,,,,,,,,,METERS,DBAR,ITS-90,PSS-78,,PSS-78,,UMOL/KG,,UMOL/KG,,UMOL/KG,,UMOL/KG,,PMOL/KG,,PMOL/KG,,PMOL/KG,,UMOL/KG,,UMOL/KG,,MG/M^3,,UMOL/KG,,VOLTS,
09AR20071216,    CEAMARC,      25,          1,         24,         24,2,20071229,       1600,   -66.8767,   144.0682,        602,     8.8,  -0.7784,  34.3847,2,  34.3850,2,   361.66,2,  362.09,2,    60.1,2,    1.55,2,   5.7109,2,   3.0239,2,   0.4227,2,  2188.9,6,  2327.5,6,  12.035,2,   25.77,2,      1.291,2
09AR20071216,    CEAMARC,      25,          1,         23,         23,2,20071229,       1600,   -66.8767,   144.0682,        602,     8.9,  -0.7779,  34.3848,2,-999.0000,9,   361.66,2, -999.00,9,  -999.0,9, -999.00,9,-999.0000,9,-999.0000,9,-999.0000,9,  -999.0,9,  -999.0,9,  11.802,2, -999.00,9,      1.288,2
09AR20071216,    CEAMARC,      25,          1,         22,         22,2,20071229,       1600,   -66.8767,   144.0682,        602,     8.9,  -0.7774,  34.3848,2,-999.0000,9,   361.66,2, -999.00,9,  -999.0,9, -999.00,9,-999.0000,9,-999.0000,9,-999.0000,9,  -999.0,9,  -999.0,9,  11.626,2, -999.00,9,      1.283,2
09AR20071216,    CEAMARC,      25,          1,         21,         21,2,20071229,       1600,   -66.8767,   144.0682,        602,     8.8,  -0.7815,  34.3850,2,-999.0000,9,   361.66,2, -999.00,9,  -999.0,9, -999.00,9,-999.0000,9,-999.0000,9,-999.0000,9,  -999.0,9,  -999.0,9,  11.798,2, -999.00,9,      1.285,2
09AR20071216,    CEAMARC,      25,          1,         20,         20,2,20071229,       1600,   -66.8767,   144.0682,        602,    19.1,  -0.7731,  34.3844,2,-999.0000,9,   361.36,2, -999.00,9,  -999.0,9, -999.00,9,-999.0000,9,-999.0000,9,-999.0000,9,  -999.0,9,  -999.0,9,  11.623,2, -999.00,9,      0.456,2
09AR20071216,    CEAMARC,      25,          1,         19,         19,2,20071229,       1600,   -66.8767,   144.0682,        602,    19.2,  -0.7780,  34.3847,2,-999.0000,9,   361.36,2, -999.00,9,  -999.0,9, -999.00,9,-999.0000,9,-999.0000,9,-999.0000,9,  -999.0,9,  -999.0,9,  11.759,2, -999.00,9,      0.447,2
09AR20071216,    CEAMARC,      25,          1,         18,         18,2,20071229,       1600,   -66.8767,   144.0682,        602,    19.2,  -0.7846,  34.3847,2,  34.3850,2,   361.36,2,  362.57,2,    61.1,2,    1.56,2,   6.0570,2,   2.9778,2,   0.4955,2,  2188.8,2,    2332,2,  11.767,2,   25.76,2,      0.427,2
09AR20071216,    CEAMARC,      25,          1,         17,         17,2,20071229,       1600,   -66.8767,   144.0682,        602,    19.3,  -0.7814,  34.3846,2,-999.0000,9,   361.36,2, -999.00,9,  -999.0,9, -999.00,9,-999.0000,9,-999.0000,9,-999.0000,9,  -999.0,9,  -999.0,9,  12.010,2, -999.00,9,      0.428,2
09AR20071216,    CEAMARC,      25,          1,         16,         16,2,20071229,       1600,   -66.8767,   144.0682,        602,    45.3,  -1.0640,  34.3945,2,  34.3946,2,   345.19,2,  342.05,2,    62.0,2,    1.75,2,   5.7931,2,   2.9047,2,   0.4813,2,  2199.5,2,  2329.5,2,   9.991,2,   26.91,2,      0.001,2
09AR20071216,    CEAMARC,      25,          1,         15,         15,2,20071229,       1600,   -66.8767,   144.0682,        602,    45.3,  -1.0691,  34.3947,2,-999.0000,9,   345.19,2, -999.00,9,  -999.0,9, -999.00,9,-999.0000,9,-999.0000,9,-999.0000,9,  -999.0,9,  -999.0,9,   9.809,2, -999.00,9,      0.001,2
09AR20071216,    CEAMARC,      25,          1,         14,         14,2,20071229,       1600,   -66.8767,   144.0682,        602,    98.9,  -1.5235,  34.4547,2,  34.4542,2,   324.29,2,  318.96,2,    73.5,2,    2.03,2,   4.9685,2,   2.6467,2,   0.3772,2,  2222.7,2,  2330.8,2,   1.519,2,   30.20,2,      0.001,2
09AR20071216,    CEAMARC,      25,          1,         13,         13,2,20071229,       1600,   -66.8767,   144.0682,        602,    98.8,  -1.5198,  34.4545,2,-999.0000,9,   324.29,2, -999.00,9,  -999.0,9, -999.00,9,-999.0000,9,-999.0000,9,-999.0000,9,  -999.0,9,  -999.0,9,   1.533,2, -999.00,9,      0.001,2
09AR20071216,    CEAMARC,      25,          1,         12,         12,2,20071229,       1600,   -66.8767,   144.0682,        602,   151.0,  -1.6947,  34.4760,2,  34.4754,2,   312.48,2,  316.95,2,    74.7,2,    2.06,2,   4.9770,2,   2.6283,2,   0.3821,2,    2226,2,  2331.8,6,   0.638,2,   30.83,2,      0.001,2
09AR20071216,    CEAMARC,      25,          1,         11,         11,2,20071229,       1600,   -66.8767,   144.0682,        602,   150.6,  -1.6923,  34.4758,2,-999.0000,9,   312.48,2, -999.00,9,  -999.0,9, -999.00,9,-999.0000,9,-999.0000,9,-999.0000,9,  -999.0,9,  -999.0,9,   0.644,2, -999.00,9,      0.001,2
09AR20071216,    CEAMARC,      25,          1,         10,         10,2,20071229,       1600,   -66.8767,   144.0682,        602,   250.6,  -1.8981,  34.4873,2,  34.4873,2,   307.61,2,  310.29,2,    77.6,2,    2.11,2,   4.9257,2,   2.5843,2,   0.4035,2,  2231.3,2,  2331.1,2,   0.037,2,   31.26,2,      0.001,2
09AR20071216,    CEAMARC,      25,          1,          9,          9,2,20071229,       1600,   -66.8767,   144.0682,        602,   250.5,  -1.8979,  34.4875,2,-999.0000,9,   307.61,2, -999.00,9,  -999.0,9, -999.00,9,-999.0000,9,-999.0000,9,-999.0000,9,  -999.0,9,  -999.0,9,   0.031,2, -999.00,9,      0.001,2
09AR20071216,    CEAMARC,      25,          1,          8,          8,2,20071229,       1600,   -66.8767,   144.0682,        602,   349.3,  -1.8992,  34.4984,2,  34.4983,2,   307.92,2,  310.60,2,    75.6,2,    2.10,2,   5.1555,2,   2.5418,2,   0.4217,2,  2231.9,2,  2334.1,2,   0.006,2,   31.36,2,      0.001,2
09AR20071216,    CEAMARC,      25,          1,          7,          7,2,20071229,       1600,   -66.8767,   144.0682,        602,   349.4,  -1.8997,  34.4984,2,-999.0000,9,   307.92,2, -999.00,9,  -999.0,9, -999.00,9,-999.0000,9,-999.0000,9,-999.0000,9,  -999.0,9,  -999.0,9,   0.016,2, -999.00,9,      0.001,2
09AR20071216,    CEAMARC,      25,          1,          6,          6,2,20071229,       1600,   -66.8767,   144.0682,        602,   449.7,  -1.9000,  34.5146,2,  34.5136,2,   309.61,2,  308.47,2,    77.3,2,    2.12,2,   4.9415,6,   2.5322,6,   0.3846,6,  2232.4,2,  2334.6,2,  -0.017,2,   31.35,2,      0.001,2
09AR20071216,    CEAMARC,      25,          1,          5,          5,2,20071229,       1600,   -66.8767,   144.0682,        602,   449.8,  -1.9001,  34.5146,2,-999.0000,9,   309.61,2, -999.00,9,  -999.0,9, -999.00,9,-999.0000,9,-999.0000,9,-999.0000,9,  -999.0,9,  -999.0,9,  -0.018,2, -999.00,9,      0.001,2
09AR20071216,    CEAMARC,      25,          1,          4,          4,2,20071229,       1600,   -66.8767,   144.0682,        602,   549.2,  -1.8998,  34.5237,2,  34.5230,2,   311.05,2,  310.03,2,    75.9,2,    2.12,2,   5.1301,2,   2.5610,2,   0.4134,2,  2232.7,2,  2333.6,2,  -0.024,2,   31.12,2,      0.001,2
09AR20071216,    CEAMARC,      25,          1,          3,          3,2,20071229,       1600,   -66.8767,   144.0682,        602,   549.3,  -1.8999,  34.5239,2,-999.0000,9,   311.05,2, -999.00,9,  -999.0,9, -999.00,9,-999.0000,9,-999.0000,9,-999.0000,9,  -999.0,9,  -999.0,9,  -0.021,2, -999.00,9,      0.001,2
09AR20071216,    CEAMARC,      25,          1,          2,          2,2,20071229,       1600,   -66.8767,   144.0682,        602,   604.5,  -1.9003,  34.5289,2,  34.5287,2,   311.78,2,  311.25,2,    76.4,2,    2.11,2,-999.0000,9,-999.0000,9,-999.0000,9,  2233.8,6,  2335.1,6,  -0.026,2,   31.22,2,      0.001,2
09AR20071216,    CEAMARC,      25,          1,          1,          1,2,20071229,       1600,   -66.8767,   144.0682,        602,   604.5,  -1.9005,  34.5294,2,-999.0000,9,   311.78,2, -999.00,9,  -999.0,9, -999.00,9,   4.9661,2,   2.5775,2,   0.3952,2,  -999.0,9,  -999.0,9,  -0.018,2, -999.00,9,      0.001,2
09AR20071216,    CEAMARC,      26,          1,         24,         24,2,20071229,       2047,   -66.9428,   144.6568,        326,     9.3,  -1.5615,  34.4409,2,  34.4413,2,   327.45,2,  327.13,2,    75.5,2,    2.10,2,   5.6253,2,   2.7515,2,   0.4859,2,  2220.1,6,  2330.4,6,   2.137,2,   32.36,3,      2.783,2
09AR20071216,    CEAMARC,      26,          1,         23,         23,2,20071229,       2047,   -66.9428,   144.6568,        326,     9.3,  -1.5645,  34.4409,2,-999.0000,9,   327.45,2, -999.00,9,  -999.0,9, -999.00,9,-999.0000,9,-999.0000,9,-999.0000,9,  -999.0,9,  -999.0,9,   2.096,2, -999.00,9,      2.767,2
09AR20071216,    CEAMARC,      26,          1,         22,         22,2,20071229,       2047,   -66.9428,   144.6568,        326,     9.3,  -1.5657,  34.4411,2,-999.0000,9,   327.45,2, -999.00,9,  -999.0,9, -999.00,9,-999.0000,9,-999.0000,9,-999.0000,9,  -999.0,9,  -999.0,9,   2.082,2, -999.00,9,      2.761,2
09AR20071216,    CEAMARC,      26,          1,         21,         21,2,20071229,       2047,   -66.9428,   144.6568,        326,     9.3,  -1.5691,  34.4413,2,-999.0000,9,   327.45,2, -999.00,9,  -999.0,9, -999.00,9,-999.0000,9,-999.0000,9,-999.0000,9,  -999.0,9,  -999.0,9,   2.112,2, -999.00,9,      2.756,2
09AR20071216,    CEAMARC,      26,          1,         20,         20,2,20071229,       2047,   -66.9428,   144.6568,        326,    39.2,  -1.6347,  34.4455,2,-999.0000,9,   321.87,2, -999.00,9,  -999.0,9, -999.00,9,-999.0000,9,-999.0000,9,-999.0000,9,  -999.0,9,  -999.0,9,   1.784,2, -999.00,9,      1.850,2
09AR20071216,    CEAMARC,      26,          1,         19,         19,2,20071229,       2047,   -66.9428,   144.6568,        326,    39.2,  -1.6447,  34.4461,2,-999.0000,9,   321.87,2, -999.00,9,  -999.0,9, -999.00,9,-999.0000,9,-999.0000,9,-999.0000,9,  -999.0,9,  -999.0,9,   1.714,2, -999.00,9,      1.857,2
09AR20071216,    CEAMARC,      26,          1,         18,         18,2,20071229,       2047,   -66.9428,   144.6568,        326,    39.2,  -1.6479,  34.4462,2,-999.0000,9,   321.87,2, -999.00,9,  -999.0,9, -999.00,9,-999.0000,9,-999.0000,9,-999.0000,9,  -999.0,9,  -999.0,9,   1.660,2, -999.00,9,      1.860,2
09AR20071216,    CEAMARC,      26,          1,         17,         17,2,20071229,       2047,   -66.9428,   144.6568,        326,    39.2,  -1.6435,  34.4460,2,-999.0000,9,   321.87,2, -999.00,9,  -999.0,9, -999.00,9,-999.0000,9,-999.0000,9,-999.0000,9,  -999.0,9,  -999.0,9,   1.708,2, -999.00,9,      1.858,2
09AR20071216,    CEAMARC,      26,          1,         16,         16,2,20071229,       2047,   -66.9428,   144.6568,        326,    39.2,  -1.6420,  34.4459,2,-999.0000,9,   321.87,2, -999.00,9,  -999.0,9, -999.00,9,-999.0000,9,-999.0000,9,-999.0000,9,  -999.0,9,  -999.0,9,   1.693,2, -999.00,9,      1.852,2
09AR20071216,    CEAMARC,      26,          1,         15,         15,2,20071229,       2047,   -66.9428,   144.6568,        326,    39.2,  -1.6399,  34.4456,2,-999.0000,9,   321.87,2, -999.00,9,  -999.0,9, -999.00,9,-999.0000,9,-999.0000,9,-999.0000,9,  -999.0,9,  -999.0,9,   1.876,2, -999.00,9,      1.838,2
09AR20071216,    CEAMARC,      26,          1,         14,         14,2,20071229,       2047,   -66.9428,   144.6568,        326,    39.2,  -1.6382,  34.4454,2,-999.0000,9,   321.87,2, -999.00,9,  -999.0,9, -999.00,9,-999.0000,9,-999.0000,9,-999.0000,9,  -999.0,9,  -999.0,9,   1.741,2, -999.00,9,      1.828,2
09AR20071216,    CEAMARC,      26,          1,         13,         13,2,20071229,       2047,   -66.9428,   144.6568,        326,    39.2,  -1.6420,  34.4458,2,-999.0000,9,   321.87,2, -999.00,9,  -999.0,9, -999.00,9,-999.0000,9,-999.0000,9,-999.0000,9,  -999.0,9,  -999.0,9,   1.664,2, -999.00,9,      1.823,2
09AR20071216,    CEAMARC,      26,          1,         12,         12,2,20071229,       2047,   -66.9428,   144.6568,        326,    39.1,  -1.6760,  34.4484,2,-999.0000,9,   321.87,2, -999.00,9,  -999.0,9, -999.00,9,-999.0000,9,-999.0000,9,-999.0000,9,  -999.0,9,  -999.0,9,   1.325,2, -999.00,9,      1.832,2
09AR20071216,    CEAMARC,      26,          1,         11,         11,2,20071229,       2047,   -66.9428,   144.6568,        326,    39.1,  -1.6788,  34.4486,2,-999.0000,9,   321.87,2, -999.00,9,  -999.0,9, -999.00,9,-999.0000,9,-999.0000,9,-999.0000,9,  -999.0,9,  -999.0,9,   1.327,2, -999.00,9,      1.830,2
09AR20071216,    CEAMARC,      26,          1,         10,         10,2,20071229,       2047,   -66.9428,   144.6568,        326,    39.1,  -1.6862,  34.4488,2,  34.4472,2,   321.87,2,  322.65,2,    76.4,2,    2.13,2,   5.3118,6,   2.7045,6,   0.4228,6,  2221.5,2,  2332.5,2,   1.339,2,   32.62,3,      1.821,2
09AR20071216,    CEAMARC,      26,          1,          9,          9,2,20071229,       2047,   -66.9428,   144.6568,        326,    39.0,  -1.6649,  34.4474,2,-999.0000,9,   321.87,2, -999.00,9,  -999.0,9, -999.00,9,-999.0000,9,-999.0000,9,-999.0000,9,  -999.0,9,  -999.0,9,   1.404,2, -999.00,9,      1.819,2
09AR20071216,    CEAMARC,      26,          1,          8,          8,2,20071229,       2047,   -66.9428,   144.6568,        326,    99.3,  -1.9235,  34.4630,2,  34.4630,2,   310.92,2,  310.95,2,    78.8,2,    2.23,2,   5.2687,2,   2.5949,2,   0.4298,2,  2230.4,3,    2333,2,  -0.017,2,   33.65,3,      0.680,2
09AR20071216,    CEAMARC,      26,          1,          7,          7,2,20071229,       2047,   -66.9428,   144.6568,        326,    99.3,  -1.9241,  34.4632,2,-999.0000,9,   310.92,2, -999.00,9,  -999.0,9, -999.00,9,-999.0000,9,-999.0000,9,-999.0000,9,  -999.0,9,  -999.0,9,  -0.019,2, -999.00,9,      0.678,2
09AR20071216,    CEAMARC,      26,          1,          6,          6,2,20071229,       2047,   -66.9428,   144.6568,        326,   149.4,  -1.8754,  34.4673,2,  34.4675,2,   311.05,2,  311.69,2,    78.5,2,    2.22,2,   5.1708,2,   2.5938,2,   0.4064,2,  2226.2,2,  2333.5,2,   0.227,2,   33.69,3,      0.001,2
09AR20071216,    CEAMARC,      26,          1,          5,          5,2,20071229,       2047,   -66.9428,   144.6568,        326,   149.3,  -1.8867,  34.4676,2,-999.0000,9,   311.05,2, -999.00,9,  -999.0,9, -999.00,9,-999.0000,9,-999.0000,9,-999.0000,9,  -999.0,9,  -999.0,9,   0.201,2, -999.00,9,      0.001,2
09AR20071216,    CEAMARC,      26,          1,          4,          4,2,20071229,       2047,   -66.9428,   144.6568,        326,   259.9,  -1.9437,  34.4775,2,  34.4787,2,   309.26,2,  308.95,2,    78.8,2,    2.23,2,   4.8551,2,   2.5305,2,   0.3580,2,  2228.2,2,    2332,2,  -0.023,2,   33.73,3,      0.001,2
09AR20071216,    CEAMARC,      26,          1,          3,          3,2,20071229,       2047,   -66.9428,   144.6568,        326,   259.9,  -1.9439,  34.4775,2,-999.0000,9,   309.26,2, -999.00,9,  -999.0,9, -999.00,9,-999.0000,9,-999.0000,9,-999.0000,9,  -999.0,9,  -999.0,9,  -0.017,2, -999.00,9,      0.001,2
09AR20071216,    CEAMARC,      26,          1,          2,          2,2,20071229,       2047,   -66.9428,   144.6568,        326,   317.8,  -1.9367,  34.4819,2,  34.4824,2,   309.42,2,  309.34,2,    78.4,2,    2.23,2,   5.1175,2,   2.5617,2,   0.4143,2,  2228.2,2,  2334.8,2,  -0.009,2,   32.95,3,      0.001,2
09AR20071216,    CEAMARC,      26,          1,          1,          1,2,20071229,       2047,   -66.9428,   144.6568,        326,   317.6,  -1.9352,  34.4821,2,-999.0000,9,   309.42,2, -999.00,9,  -999.0,9, -999.00,9,-999.0000,9,-999.0000,9,-999.0000,9,  -999.0,9,  -999.0,9,  -0.006,2, -999.00,9,      0.001,2