BOTTLE,20230622CCHSIOENA
EXPOCODE,SECT_ID,STNNBR,CASTNO,SAMPNO,BTLNBR,BTLNBR_FLAG_W,DATE,TIME,LATITUDE,LONGITUDE,DEPTH,CTDPRS,CTDTMP,CTDSAL,CTDSAL_FLAG_W,SALNTY,SALNTY_FLAG_W,CTDOXY,CTDOXY_FLAG_W,OXYGEN,OXYGEN_FLAG_W,SILCAT,SILCAT_FLAG_W,PHSPHT,PHSPHT_FLAG_W,CFC-11,CFC-11_FLAG_W,CFC-12,CFC-12_FLAG_W,CFC113,CFC113_FLAG_W,TCARBN,TCARBN_FLAG_W,ALKALI,ALKALI_FLAG_W,FLUOR,FLUOR_FLAG_W,NO2+NO3,NO2+NO3_FLAG_W,PAR,PAR_FLAG_W
,,,,,,,,,,,METERS,DBAR,ITS-90,PSS-78,,PSS-78,,UMOL/KG,,UMOL/KG,,UMOL/KG,,UMOL/KG,,PMOL/KG,,PMOL/KG,,PMOL/KG,,UMOL/KG,,UMOL/KG,,MG/M^3,,UMOL/KG,,VOLTS,
09AR20071216,    CEAMARC,      33,          1,         24,         24,2,20071231,       0414,   -66.7383,   144.9785,        636,     4.2,  -0.5718,  34.2622,2,-999.0000,9,  -999.00,5, -999.00,9,  -999.0,9, -999.00,9,-999.0000,9,-999.0000,9,-999.0000,9,  2176.6,2,  -999.0,9,   2.374,2, -999.00,9,      3.472,2
09AR20071216,    CEAMARC,      33,          1,         23,         23,2,20071231,       0414,   -66.7383,   144.9785,        636,     4.2,  -0.5742,  34.2623,2,-999.0000,9,  -999.00,5, -999.00,9,  -999.0,9, -999.00,9,-999.0000,9,-999.0000,9,-999.0000,9,  -999.0,9,  -999.0,9,   2.662,2, -999.00,9,      3.484,2
09AR20071216,    CEAMARC,      33,          1,         22,         22,2,20071231,       0414,   -66.7383,   144.9785,        636,     4.1,  -0.5768,  34.2625,2,-999.0000,9,  -999.00,5, -999.00,9,  -999.0,9, -999.00,9,-999.0000,9,-999.0000,9,-999.0000,9,  -999.0,9,  -999.0,9,   2.594,2, -999.00,9,      3.473,2
09AR20071216,    CEAMARC,      33,          1,         21,         21,2,20071231,       0414,   -66.7383,   144.9785,        636,     4.1,  -0.5781,  34.2624,2,  34.2616,2,  -999.00,5,  366.69,2,    50.9,2,    1.39,2,   5.9741,2,   3.0164,2,   0.4929,2,  -999.0,9,  2323.2,2,   3.090,2,   24.16,2,      3.499,2
09AR20071216,    CEAMARC,      33,          1,         20,         20,2,20071231,       0414,   -66.7383,   144.9785,        636,    40.5,  -1.5493,  34.3496,2,-999.0000,9,  -999.00,5, -999.00,9,  -999.0,9, -999.00,9,-999.0000,9,-999.0000,9,-999.0000,9,  -999.0,9,  -999.0,9,   3.517,2, -999.00,9,      1.230,2
09AR20071216,    CEAMARC,      33,          1,         19,         19,2,20071231,       0414,   -66.7383,   144.9785,        636,    40.5,  -1.5531,  34.3496,2,  34.3492,2,  -999.00,5,  319.51,2,    66.5,2,    1.94,2,   5.1931,6,   2.6462,6,   0.3926,6,  2214.4,2,  2322.4,2,   3.696,2,   28.69,2,      1.231,2
09AR20071216,    CEAMARC,      33,          1,         18,         18,2,20071231,       0414,   -66.7383,   144.9785,        636,    50.9,  -1.4327,  34.3766,2,-999.0000,9,  -999.00,5, -999.00,9,  -999.0,9, -999.00,9,-999.0000,9,-999.0000,9,-999.0000,9,  -999.0,9,  -999.0,9,   3.839,2, -999.00,9,      0.753,2
09AR20071216,    CEAMARC,      33,          1,         17,         17,2,20071231,       0414,   -66.7383,   144.9785,        636,    50.8,  -1.4339,  34.3768,2,-999.0000,9,  -999.00,5, -999.00,9,  -999.0,9, -999.00,9,-999.0000,9,-999.0000,9,-999.0000,9,  -999.0,9,  -999.0,9,   3.779,2, -999.00,9,      0.766,2
09AR20071216,    CEAMARC,      33,          1,         16,         16,2,20071231,       0414,   -66.7383,   144.9785,        636,    50.7,  -1.4379,  34.3764,2,-999.0000,9,  -999.00,5, -999.00,9,  -999.0,9, -999.00,9,-999.0000,9,-999.0000,9,-999.0000,9,  -999.0,9,  -999.0,9,   3.803,2, -999.00,9,      0.764,2
09AR20071216,    CEAMARC,      33,          1,         15,         15,2,20071231,       0414,   -66.7383,   144.9785,        636,    50.4,  -1.4454,  34.3759,2,-999.0000,9,  -999.00,5, -999.00,9,  -999.0,9, -999.00,9,-999.0000,9,-999.0000,9,-999.0000,9,  -999.0,9,  -999.0,9,   3.749,2, -999.00,9,      0.771,2
09AR20071216,    CEAMARC,      33,          1,         14,         14,2,20071231,       0414,   -66.7383,   144.9785,        636,   100.6,  -1.6104,  34.4131,2,-999.0000,9,   305.59,2, -999.00,9,  -999.0,9, -999.00,9,-999.0000,9,-999.0000,9,-999.0000,9,  -999.0,9,  -999.0,9,   0.029,2, -999.00,9,      0.001,2
09AR20071216,    CEAMARC,      33,          1,         13,         13,2,20071231,       0414,   -66.7383,   144.9785,        636,   100.7,  -1.6084,  34.4135,2,  34.4115,2,   305.59,2,  293.06,2,    76.9,2,    2.09,2,   4.5153,2,   2.3130,2,   0.3335,2,  2219.2,2,  2328.1,2,   0.027,2,   30.36,2,      0.001,2
09AR20071216,    CEAMARC,      33,          1,         12,         12,2,20071231,       0414,   -66.7383,   144.9785,        636,   151.0,  -1.4746,  34.4420,2,-999.0000,9,   289.22,2, -999.00,9,  -999.0,9, -999.00,9,-999.0000,9,-999.0000,9,-999.0000,9,  -999.0,9,  -999.0,9,   0.031,2, -999.00,9,      0.001,2
09AR20071216,    CEAMARC,      33,          1,         11,         11,2,20071231,       0414,   -66.7383,   144.9785,        636,   151.0,  -1.4748,  34.4417,2,  34.4411,2,   289.52,2,  287.98,2,    77.7,2,    2.09,2,   4.2693,2,   2.2264,2,   0.3363,2,  2231.2,2,  2329.9,2,   0.025,2,   30.56,2,      0.001,2
09AR20071216,    CEAMARC,      33,          1,         10,         10,2,20071231,       0414,   -66.7383,   144.9785,        636,   231.2,  -1.8244,  34.4547,2,-999.0000,9,   312.58,2, -999.00,9,  -999.0,9, -999.00,9,-999.0000,9,-999.0000,9,-999.0000,9,  -999.0,9,  -999.0,9,   0.060,2, -999.00,9,      0.001,2
09AR20071216,    CEAMARC,      33,          1,          9,          9,2,20071231,       0414,   -66.7383,   144.9785,        636,   231.3,  -1.8078,  34.4552,2,  34.4556,2,   312.58,2,  312.87,2,    77.6,2,    2.06,2,   5.1890,2,   2.6027,2,   0.4051,2,  2230.8,2,  2332.5,2,   0.084,2,   30.10,2,      0.001,2
09AR20071216,    CEAMARC,      33,          1,          8,          8,2,20071231,       0414,   -66.7383,   144.9785,        636,   349.7,  -1.3477,  34.5352,2,-999.0000,9,   284.93,2, -999.00,9,  -999.0,9, -999.00,9,-999.0000,9,-999.0000,9,-999.0000,9,  -999.0,9,  -999.0,9,  -0.020,2, -999.00,9,      0.001,2
09AR20071216,    CEAMARC,      33,          1,          7,          7,2,20071231,       0414,   -66.7383,   144.9785,        636,   349.5,  -1.3508,  34.5339,2,  34.5318,2,   284.93,2,  284.35,2,    82.3,2,    2.11,2,   3.9739,2,   2.1080,2,   0.3198,2,  2233.1,2,  2336.7,2,  -0.017,2,   30.59,2,      0.001,2
09AR20071216,    CEAMARC,      33,          1,          6,          6,2,20071231,       0414,   -66.7383,   144.9785,        636,   422.1,  -1.8904,  34.6043,2,-999.0000,9,   308.86,2, -999.00,9,  -999.0,9, -999.00,9,-999.0000,9,-999.0000,9,-999.0000,9,  -999.0,9,  -999.0,9,  -0.023,2, -999.00,9,      0.001,2
09AR20071216,    CEAMARC,      33,          1,          5,          5,2,20071231,       0414,   -66.7383,   144.9785,        636,   422.1,  -1.8957,  34.6036,2,  34.5322,4,   308.86,2,  308.22,2,    78.3,2,    2.09,2,   4.9861,2,   2.5125,2,   0.4143,2,  2239.7,2,  2342.8,2,  -0.025,2,   30.54,2,      0.001,2
09AR20071216,    CEAMARC,      33,          1,          4,          4,2,20071231,       0414,   -66.7383,   144.9785,        636,   533.1,  -1.8995,  34.6604,2,-999.0000,9,   310.27,2, -999.00,9,  -999.0,9, -999.00,9,-999.0000,9,-999.0000,9,-999.0000,9,  -999.0,9,  -999.0,9,  -0.033,2, -999.00,9,      0.001,2
09AR20071216,    CEAMARC,      33,          1,          3,          3,2,20071231,       0414,   -66.7383,   144.9785,        636,   532.7,  -1.8995,  34.6602,2,  34.6009,4,   310.26,2,  309.91,2,    78.4,2,    2.10,2,   5.0541,2,   2.5629,2,   0.3863,2,  2240.4,2,  2346.8,2,  -0.030,2,   30.54,2,      0.001,2
09AR20071216,    CEAMARC,      33,          1,          2,          2,2,20071231,       0414,   -66.7383,   144.9785,        636,   633.2,  -1.8936,  34.6832,2,-999.0000,9,   310.15,2, -999.00,9,  -999.0,9, -999.00,9,-999.0000,9,-999.0000,9,-999.0000,9,  -999.0,9,  -999.0,9,  -0.036,2, -999.00,9,      0.001,2
09AR20071216,    CEAMARC,      33,          1,          1,          1,2,20071231,       0414,   -66.7383,   144.9785,        636,   632.7,  -1.8936,  34.6832,2,  34.6823,2,   310.15,2, -999.00,9,    79.5,2,    2.09,2,   5.1116,2,   2.5839,2,   0.3836,2,  2246.4,6,  2348.2,6,  -0.035,2,   30.61,2,      0.001,2
09AR20071216,    CEAMARC,      34,          1,         24,         24,2,20071231,       0831,   -66.7482,   144.6697,        822,     5.1,  -0.3750,  34.2630,2,  34.2767,2,   363.61,2,  363.57,2,    51.3,2,    1.35,2,   6.2732,2,   3.0652,2,   0.5141,2,  2176.2,6,  2322.7,6,   8.345,2,   24.63,2,      2.682,2
09AR20071216,    CEAMARC,      34,          1,         23,         23,2,20071231,       0831,   -66.7482,   144.6697,        822,     5.0,  -0.3877,  34.2665,2,-999.0000,9,   363.60,2, -999.00,9,  -999.0,9, -999.00,9,-999.0000,9,-999.0000,9,-999.0000,9,  -999.0,9,  -999.0,9,   8.551,2, -999.00,9,      2.688,2
09AR20071216,    CEAMARC,      34,          1,         22,         22,2,20071231,       0831,   -66.7482,   144.6697,        822,     5.0,  -0.3939,  34.2681,2,-999.0000,9,   363.61,2, -999.00,9,  -999.0,9, -999.00,9,-999.0000,9,-999.0000,9,-999.0000,9,  -999.0,9,  -999.0,9,   8.665,2, -999.00,9,      2.680,2
09AR20071216,    CEAMARC,      34,          1,         21,         21,2,20071231,       0831,   -66.7482,   144.6697,        822,     5.1,  -0.4260,  34.2771,2,-999.0000,9,   363.61,2, -999.00,9,  -999.0,9, -999.00,9,-999.0000,9,-999.0000,9,-999.0000,9,  -999.0,9,  -999.0,9,   8.786,2, -999.00,9,      2.659,2
09AR20071216,    CEAMARC,      34,          1,         20,         20,2,20071231,       0831,   -66.7482,   144.6697,        822,    26.3,  -0.7948,  34.3462,2,  34.3462,2,   363.04,2,  355.63,2,    57.7,2,    1.52,2,   5.9684,2,   2.9627,2,   0.4638,2,  2189.7,2,  2328.7,2,  10.397,2,   25.72,2,      1.158,2
09AR20071216,    CEAMARC,      34,          1,         19,         19,2,20071231,       0831,   -66.7482,   144.6697,        822,    26.2,  -0.7891,  34.3454,2,-999.0000,9,   363.04,2, -999.00,9,  -999.0,9, -999.00,9,-999.0000,9,-999.0000,9,-999.0000,9,  -999.0,9,  -999.0,9,  10.552,2, -999.00,9,      1.149,2
09AR20071216,    CEAMARC,      34,          1,         18,         18,2,20071231,       0831,   -66.7482,   144.6697,        822,    40.8,  -1.0824,  34.3701,2,  34.3705,2,   349.16,2,  344.06,2,    63.0,2,    1.70,2,   5.8820,2,   2.8749,2,   0.4581,2,  2199.5,2,  2327.1,2,   7.574,2,   27.24,2,      0.246,2
09AR20071216,    CEAMARC,      34,          1,         17,         17,2,20071231,       0831,   -66.7482,   144.6697,        822,    40.7,  -1.0829,  34.3700,2,-999.0000,9,   349.16,2, -999.00,9,  -999.0,9, -999.00,9,-999.0000,9,-999.0000,9,-999.0000,9,  -999.0,9,  -999.0,9,   7.407,2, -999.00,9,      0.240,2
09AR20071216,    CEAMARC,      34,          1,         16,         16,2,20071231,       0831,   -66.7482,   144.6697,        822,    81.2,  -1.6042,  34.4176,2,  34.4174,2,   318.28,2,  309.71,2,    74.5,2,    2.05,2,   4.9588,2,   2.5423,2,   0.3843,2,  2222.3,2,  2330.4,2,   0.593,2,   30.13,2,      0.001,2
09AR20071216,    CEAMARC,      34,          1,         15,         15,2,20071231,       0831,   -66.7482,   144.6697,        822,    81.1,  -1.6015,  34.4176,2,-999.0000,9,   318.28,2, -999.00,9,  -999.0,9, -999.00,9,-999.0000,9,-999.0000,9,-999.0000,9,  -999.0,9,  -999.0,9,   0.537,2, -999.00,9,      0.001,2
09AR20071216,    CEAMARC,      34,          1,         14,         14,2,20071231,       0831,   -66.7482,   144.6697,        822,   201.4,  -1.7489,  34.4474,2,  34.4474,2,   309.35,2,  311.36,2,    77.5,2,    2.07,2,   5.0860,2,   2.5572,2,   0.3920,2,  2232.4,2,  2329.9,2,   0.192,2,   30.45,2,      0.001,2
09AR20071216,    CEAMARC,      34,          1,         13,         13,2,20071231,       0831,   -66.7482,   144.6697,        822,   201.6,  -1.7504,  34.4474,2,-999.0000,9,   309.35,2, -999.00,9,  -999.0,9, -999.00,9,-999.0000,9,-999.0000,9,-999.0000,9,  -999.0,9,  -999.0,9,   0.175,2, -999.00,9,      0.001,2
09AR20071216,    CEAMARC,      34,          1,         12,         12,2,20071231,       0831,   -66.7482,   144.6697,        822,   300.3,  -1.7028,  34.4884,2,  34.4893,2,   309.80,2,  304.91,2,    79.1,2,    2.10,2,   4.8479,2,   2.4729,2,   0.3740,2,  2230.2,2,  2332.2,6,   0.051,2,   30.76,2,      0.001,2
09AR20071216,    CEAMARC,      34,          1,         11,         11,2,20071231,       0831,   -66.7482,   144.6697,        822,   300.4,  -1.7079,  34.4890,2,-999.0000,9,   309.80,2, -999.00,9,  -999.0,9, -999.00,9,-999.0000,9,-999.0000,9,-999.0000,9,  -999.0,9,  -999.0,9,   0.047,2, -999.00,9,      0.001,2
09AR20071216,    CEAMARC,      34,          1,         10,         10,2,20071231,       0831,   -66.7482,   144.6697,        822,   401.7,  -1.8531,  34.5646,2,  34.5638,2,   307.23,2,  307.37,2,    78.7,2,    2.11,2,   4.9572,2,   2.5001,2,   0.3894,2,  2235.3,2,    2338,2,  -0.019,2,   30.79,2,      0.001,2
09AR20071216,    CEAMARC,      34,          1,          9,          9,2,20071231,       0831,   -66.7482,   144.6697,        822,   401.8,  -1.8530,  34.5646,2,-999.0000,9,   307.23,2, -999.00,9,  -999.0,9, -999.00,9,-999.0000,9,-999.0000,9,-999.0000,9,  -999.0,9,  -999.0,9,  -0.022,2, -999.00,9,      0.001,2
09AR20071216,    CEAMARC,      34,          1,          8,          8,2,20071231,       0831,   -66.7482,   144.6697,        822,   500.9,  -1.9480,  34.6189,2,  34.6203,2,   307.47,2,  309.09,2,    78.1,2,    2.12,2,   4.9366,2,   2.5077,2,   0.3847,2,  2237.8,2,  2342.5,2,  -0.040,2,   31.15,3,      0.001,2
09AR20071216,    CEAMARC,      34,          1,          7,          7,2,20071231,       0831,   -66.7482,   144.6697,        822,   500.9,  -1.9481,  34.6189,2,-999.0000,9,   307.47,2, -999.00,9,  -999.0,9, -999.00,9,-999.0000,9,-999.0000,9,-999.0000,9,  -999.0,9,  -999.0,9,  -0.039,2, -999.00,9,      0.001,2
09AR20071216,    CEAMARC,      34,          1,          6,          6,2,20071231,       0831,   -66.7482,   144.6697,        822,   600.2,  -1.9424,  34.6487,2,  34.6488,2,   308.34,2,  309.30,2,    77.8,2,    2.11,2,   5.1157,2,   2.5698,2,   0.4074,2,  2239.6,2,  2341.6,2,  -0.040,2,   30.64,2,      0.001,2
09AR20071216,    CEAMARC,      34,          1,          5,          5,2,20071231,       0831,   -66.7482,   144.6697,        822,   600.1,  -1.9400,  34.6487,2,-999.0000,9,   308.34,2, -999.00,9,  -999.0,9, -999.00,9,-999.0000,9,-999.0000,9,-999.0000,9,  -999.0,9,  -999.0,9,  -0.041,2, -999.00,9,      0.001,2
09AR20071216,    CEAMARC,      34,          1,          4,          4,2,20071231,       0831,   -66.7482,   144.6697,        822,   702.1,  -1.9022,  34.6746,2,  34.6748,2,   310.10,2,  309.77,2,    77.7,2,    2.12,2,   5.1271,2,   2.5654,2,   0.4027,2,  2239.2,2,  2346.7,2,  -0.035,2,   30.71,2,      0.001,2
09AR20071216,    CEAMARC,      34,          1,          3,          3,2,20071231,       0831,   -66.7482,   144.6697,        822,   701.6,  -1.9016,  34.6751,2,-999.0000,9,   310.10,2, -999.00,9,  -999.0,9, -999.00,9,-999.0000,9,-999.0000,9,-999.0000,9,  -999.0,9,  -999.0,9,  -0.038,2, -999.00,9,      0.001,2
09AR20071216,    CEAMARC,      34,          1,          2,          2,2,20071231,       0831,   -66.7482,   144.6697,        822,   825.3,  -1.8936,  34.6957,2,  34.6950,2,   311.47,2,  310.89,2,    78.3,2,    2.11,2,   5.1007,6,   2.6070,6,   0.3716,6,  2245.3,6,  2346.3,6,  -0.040,2,   30.61,2,      0.001,2
09AR20071216,    CEAMARC,      34,          1,          1,          1,2,20071231,       0831,   -66.7482,   144.6697,        822,   824.7,  -1.8937,  34.6956,2,-999.0000,9,   311.49,2, -999.00,9,  -999.0,9, -999.00,9,-999.0000,9,-999.0000,9,-999.0000,9,  -999.0,9,  -999.0,9,  -0.042,2, -999.00,9,      0.001,2