BOTTLE,20230622CCHSIOENA
EXPOCODE,SECT_ID,STNNBR,CASTNO,SAMPNO,BTLNBR,BTLNBR_FLAG_W,DATE,TIME,LATITUDE,LONGITUDE,DEPTH,CTDPRS,CTDTMP,CTDSAL,CTDSAL_FLAG_W,SALNTY,SALNTY_FLAG_W,CTDOXY,CTDOXY_FLAG_W,OXYGEN,OXYGEN_FLAG_W,SILCAT,SILCAT_FLAG_W,PHSPHT,PHSPHT_FLAG_W,CFC-11,CFC-11_FLAG_W,CFC-12,CFC-12_FLAG_W,CFC113,CFC113_FLAG_W,TCARBN,TCARBN_FLAG_W,ALKALI,ALKALI_FLAG_W,FLUOR,FLUOR_FLAG_W,NO2+NO3,NO2+NO3_FLAG_W,PAR,PAR_FLAG_W
,,,,,,,,,,,METERS,DBAR,ITS-90,PSS-78,,PSS-78,,UMOL/KG,,UMOL/KG,,UMOL/KG,,UMOL/KG,,PMOL/KG,,PMOL/KG,,PMOL/KG,,UMOL/KG,,UMOL/KG,,MG/M^3,,UMOL/KG,,VOLTS,
09AR20071216,    CEAMARC,      19,          1,         24,         24,2,20071228,       0726,   -66.6642,   143.0237,        597,     5.6,  -0.6335,  34.3893,2,-999.0000,9,   361.47,2, -999.00,9,  -999.0,9, -999.00,9,-999.0000,9,-999.0000,9,-999.0000,9,  -999.0,9,  -999.0,9,   1.683,2, -999.00,9,      2.671,2
09AR20071216,    CEAMARC,      19,          1,         23,         23,2,20071228,       0726,   -66.6642,   143.0237,        597,     5.6,  -0.6695,  34.3901,2,-999.0000,9,   361.47,2, -999.00,9,  -999.0,9, -999.00,9,-999.0000,9,-999.0000,9,-999.0000,9,  -999.0,9,  -999.0,9,   1.759,2, -999.00,9,      2.665,2
09AR20071216,    CEAMARC,      19,          1,         22,         22,2,20071228,       0726,   -66.6642,   143.0237,        597,     5.7,  -0.6050,  34.3892,2,-999.0000,9,   361.47,2, -999.00,9,  -999.0,9, -999.00,9,-999.0000,9,-999.0000,9,-999.0000,9,  -999.0,9,  -999.0,9,   1.585,2, -999.00,9,      2.661,2
09AR20071216,    CEAMARC,      19,          1,         21,         21,2,20071228,       0726,   -66.6642,   143.0237,        597,     5.7,  -0.6541,  34.3898,2,  34.3874,2,   361.47,2,  357.49,2,    61.1,2,    1.63,2,   6.1415,6,   3.0759,6,   0.4830,6,  2191.5,6,  2328.3,6,   1.642,2,   25.78,2,      2.662,2
09AR20071216,    CEAMARC,      19,          1,         20,         20,2,20071228,       0726,   -66.6642,   143.0237,        597,    40.0,  -1.0234,  34.3931,2,-999.0000,9,   346.56,2, -999.00,9,  -999.0,9, -999.00,9,-999.0000,9,-999.0000,9,-999.0000,9,  -999.0,9,  -999.0,9,   8.612,2, -999.00,9,      0.794,2
09AR20071216,    CEAMARC,      19,          1,         19,         19,2,20071228,       0726,   -66.6642,   143.0237,        597,    40.1,  -1.0245,  34.3933,2,-999.0000,9,   346.56,2, -999.00,9,  -999.0,9, -999.00,9,-999.0000,9,-999.0000,9,-999.0000,9,  -999.0,9,  -999.0,9,   8.433,2, -999.00,9,      0.789,2
09AR20071216,    CEAMARC,      19,          1,         18,         18,2,20071228,       0726,   -66.6642,   143.0237,        597,    40.0,  -1.0252,  34.3931,2,-999.0000,9,   346.56,2, -999.00,9,  -999.0,9, -999.00,9,-999.0000,9,-999.0000,9,-999.0000,9,  -999.0,9,  -999.0,9,   8.428,2, -999.00,9,      0.787,2
09AR20071216,    CEAMARC,      19,          1,         17,         17,2,20071228,       0726,   -66.6642,   143.0237,        597,    40.0,  -1.0253,  34.3932,2,-999.0000,9,   346.56,2, -999.00,9,  -999.0,9, -999.00,9,-999.0000,9,-999.0000,9,-999.0000,9,  -999.0,9,  -999.0,9,   8.431,2, -999.00,9,      0.785,2
09AR20071216,    CEAMARC,      19,          1,         16,         16,2,20071228,       0726,   -66.6642,   143.0237,        597,    40.1,  -1.0261,  34.3931,2,  34.3933,2,   346.56,2,  353.18,2,    62.6,2,    1.72,2,   5.8746,2,   3.0082,2,   0.4476,2,  2196.7,2,    2329,2,   8.484,2,   25.98,2,      0.779,2
09AR20071216,    CEAMARC,      19,          1,         15,         15,2,20071228,       0726,   -66.6642,   143.0237,        597,    79.9,  -1.4095,  34.4377,2,-999.0000,9,   343.58,2, -999.00,9,  -999.0,9, -999.00,9,-999.0000,9,-999.0000,9,-999.0000,9,  -999.0,9,  -999.0,9,   3.478,2, -999.00,9,      0.001,2
09AR20071216,    CEAMARC,      19,          1,         14,         14,2,20071228,       0726,   -66.6642,   143.0237,        597,    79.9,  -1.4106,  34.4377,2,  34.4423,2,   343.58,2,  330.61,2,    70.1,2,    1.96,2,   5.4041,2,   2.8293,2,   0.3924,2,  2216.6,2,  2328.2,2,   3.361,2,   27.57,2,      0.001,2
09AR20071216,    CEAMARC,      19,          1,         13,         13,2,20071228,       0726,   -66.6642,   143.0237,        597,   101.0,  -1.6072,  34.4697,2,-999.0000,9,   329.57,2, -999.00,9,  -999.0,9, -999.00,9,-999.0000,9,-999.0000,9,-999.0000,9,  -999.0,9,  -999.0,9,   0.755,2, -999.00,9,      0.001,2
09AR20071216,    CEAMARC,      19,          1,         12,         12,2,20071228,       0726,   -66.6642,   143.0237,        597,   100.9,  -1.6102,  34.4702,2,  34.4732,2,   329.57,2,  308.70,2,    76.7,2,    2.09,2,   4.8806,2,   2.4982,2,   0.3727,2,  2227.8,2,  2329.7,2,   0.657,2,   29.13,2,      0.001,2
09AR20071216,    CEAMARC,      19,          1,         11,         11,2,20071228,       0726,   -66.6642,   143.0237,        597,   151.5,  -1.7802,  34.4857,2,-999.0000,9,   312.29,2, -999.00,9,  -999.0,9, -999.00,9,-999.0000,9,-999.0000,9,-999.0000,9,  -999.0,9,  -999.0,9,   0.063,2, -999.00,9,      0.001,2
09AR20071216,    CEAMARC,      19,          1,         10,         10,2,20071228,       0726,   -66.6642,   143.0237,        597,   151.4,  -1.7851,  34.4863,2,  34.4848,2,   312.29,2,  307.26,2,    78.6,2,    2.12,2,   5.0312,2,   2.5167,2,   0.3927,2,  2229.5,2,  2331.1,2,   0.065,2,   30.60,2,      0.001,2
09AR20071216,    CEAMARC,      19,          1,          9,          9,2,20071228,       0726,   -66.6642,   143.0237,        597,   250.5,  -1.8457,  34.5089,2,-999.0000,9,   309.11,2, -999.00,9,  -999.0,9, -999.00,9,-999.0000,9,-999.0000,9,-999.0000,9,  -999.0,9,  -999.0,9,   0.012,2, -999.00,9,      0.001,2
09AR20071216,    CEAMARC,      19,          1,          8,          8,2,20071228,       0726,   -66.6642,   143.0237,        597,   249.4,  -1.8437,  34.5070,2,  34.5101,2,   309.11,2,  308.42,2,    79.2,2,    2.14,2,   4.9930,2,   2.5560,2,   0.3759,2,  2232.2,2,  2333.1,2,   0.007,2,   30.96,2,      0.001,2
09AR20071216,    CEAMARC,      19,          1,          7,          7,2,20071228,       0726,   -66.6642,   143.0237,        597,   351.6,  -1.8831,  34.5377,2,  34.5387,2,   309.20,2,  311.50,2,    78.2,2,    2.13,2,   5.0841,2,   2.6011,2,   0.3883,2,  2231.9,2,  2334.7,2,   0.007,2,   30.73,2,      0.001,2
09AR20071216,    CEAMARC,      19,          1,          6,          6,2,20071228,       0726,   -66.6642,   143.0237,        597,   351.5,  -1.8840,  34.5401,2,-999.0000,9,   309.20,2, -999.00,9,  -999.0,9, -999.00,9,-999.0000,9,-999.0000,9,-999.0000,9,  -999.0,9,  -999.0,9,   0.007,2, -999.00,9,      0.001,2
09AR20071216,    CEAMARC,      19,          1,          5,          5,2,20071228,       0726,   -66.6642,   143.0237,        597,   447.5,  -1.8786,  34.5437,2,-999.0000,9,   309.72,2, -999.00,9,  -999.0,9, -999.00,9,-999.0000,9,-999.0000,9,-999.0000,9,  -999.0,9,  -999.0,9,   0.010,2, -999.00,9,      0.001,2
09AR20071216,    CEAMARC,      19,          1,          4,          4,2,20071228,       0726,   -66.6642,   143.0237,        597,   447.8,  -1.8812,  34.5461,2,  34.5497,2,   309.72,2,  310.72,2,    78.5,2,    2.12,2,   5.1409,2,   2.5790,2,   0.4042,2,  2233.5,2,  2336.5,2,  -0.002,2,   30.72,2,      0.001,2
09AR20071216,    CEAMARC,      19,          1,          3,          3,2,20071228,       0726,   -66.6642,   143.0237,        597,   554.7,  -1.8806,  34.5495,2,  34.5501,2,   310.33,2,  310.33,2,    78.2,2,    2.13,2,   5.0464,2,   2.5721,2,   0.3846,2,  2234.5,2,    2336,6,  -0.001,2,   30.52,2,      0.001,2
09AR20071216,    CEAMARC,      19,          1,          2,          2,2,20071228,       0726,   -66.6642,   143.0237,        597,   554.0,  -1.8805,  34.5494,2,-999.0000,9,   310.33,2, -999.00,9,  -999.0,9, -999.00,9,-999.0000,9,-999.0000,9,-999.0000,9,  -999.0,9,  -999.0,9,  -0.005,2, -999.00,9,      0.001,2
09AR20071216,    CEAMARC,      19,          1,          1,          1,2,20071228,       0726,   -66.6642,   143.0237,        597,   617.4,  -1.8811,  34.5654,2,  34.5648,2,   310.80,2,  309.46,2,    78.2,2,    2.11,2,   5.1169,2,   2.5727,2,   0.4053,2,  2234.6,6,  2336.6,6,  -0.012,2,   30.29,2,      0.001,2
09AR20071216,    CEAMARC,      20,          1,         24,         24,2,20071228,       1249,   -66.7487,   142.6637,        685,     5.1,  -0.7643,  34.4076,2,  34.3799,4,   356.88,2,  358.70,2,    63.1,2,    1.66,2,   6.0516,2,   3.0567,2,   0.4590,2,  2192.7,6,    2334,6,   7.328,2,   27.25,2,      2.218,2
09AR20071216,    CEAMARC,      20,          1,         23,         23,2,20071228,       1249,   -66.7487,   142.6637,        685,     5.1,  -0.7331,  34.4081,2,-999.0000,9,   356.88,2, -999.00,9,  -999.0,9, -999.00,9,-999.0000,9,-999.0000,9,-999.0000,9,  -999.0,9,  -999.0,9,   7.394,2, -999.00,9,      2.223,2
09AR20071216,    CEAMARC,      20,          1,         22,         22,2,20071228,       1249,   -66.7487,   142.6637,        685,     5.1,  -0.7230,  34.4081,2,-999.0000,9,   356.88,2, -999.00,9,  -999.0,9, -999.00,9,-999.0000,9,-999.0000,9,-999.0000,9,  -999.0,9,  -999.0,9,   7.432,2, -999.00,9,      2.216,2
09AR20071216,    CEAMARC,      20,          1,         21,         21,2,20071228,       1249,   -66.7487,   142.6637,        685,     5.1,  -0.7171,  34.4080,2,-999.0000,9,   356.88,2, -999.00,9,  -999.0,9, -999.00,9,-999.0000,9,-999.0000,9,-999.0000,9,  -999.0,9,  -999.0,9,   7.299,2, -999.00,9,      2.216,2
09AR20071216,    CEAMARC,      20,          1,         20,         20,2,20071228,       1249,   -66.7487,   142.6637,        685,    20.5,  -0.9485,  34.4072,2,-999.0000,9,   356.19,2, -999.00,9,  -999.0,9, -999.00,9,-999.0000,9,-999.0000,9,-999.0000,9,  -999.0,9,  -999.0,9,   9.201,2, -999.00,9,      0.887,2
09AR20071216,    CEAMARC,      20,          1,         19,         19,2,20071228,       1249,   -66.7487,   142.6637,        685,    20.5,  -0.9450,  34.4073,2,  34.4089,2,   356.19,2, -999.00,9,    63.7,2,    1.74,2,   5.9651,2,   3.0190,2,   0.4456,2,  2194.1,2,  2330.9,2,   9.159,2,   27.64,2,      0.876,2
09AR20071216,    CEAMARC,      20,          1,         18,         18,2,20071228,       1249,   -66.7487,   142.6637,        685,    20.5,  -0.9325,  34.4072,2,-999.0000,9,   356.19,2, -999.00,9,  -999.0,9, -999.00,9,-999.0000,9,-999.0000,9,-999.0000,9,  -999.0,9,  -999.0,9,   9.158,2, -999.00,9,      0.892,2
09AR20071216,    CEAMARC,      20,          1,         17,         17,2,20071228,       1249,   -66.7487,   142.6637,        685,    49.8,  -1.1040,  34.4163,2,  34.4162,2,   348.25,2, -999.00,9,    65.7,2,    1.80,2,   5.8804,2,   2.9874,2,   0.4411,2,  2202.3,2,  2332.2,2,   7.160,2,   28.36,2,      0.001,2
09AR20071216,    CEAMARC,      20,          1,         16,         16,2,20071228,       1249,   -66.7487,   142.6637,        685,    49.8,  -1.1177,  34.4171,2,-999.0000,9,   348.25,2, -999.00,9,  -999.0,9, -999.00,9,-999.0000,9,-999.0000,9,-999.0000,9,  -999.0,9,  -999.0,9,   7.024,2, -999.00,9,      0.001,2
09AR20071216,    CEAMARC,      20,          1,         15,         15,2,20071228,       1249,   -66.7487,   142.6637,        685,    99.3,  -1.2289,  34.4320,2,  34.4330,2,   340.43,2,  341.22,2,    68.2,2,    1.86,2,   5.7969,6,   2.9140,6,   0.4524,6,  2207.4,2,  2331.6,6,   5.795,2,   28.89,2,      0.001,2
09AR20071216,    CEAMARC,      20,          1,         14,         14,2,20071228,       1249,   -66.7487,   142.6637,        685,    99.4,  -1.2282,  34.4316,2,-999.0000,9,   340.43,2, -999.00,9,  -999.0,9, -999.00,9,-999.0000,9,-999.0000,9,-999.0000,9,  -999.0,9,  -999.0,9,   5.244,2, -999.00,9,      0.001,2
09AR20071216,    CEAMARC,      20,          1,         13,         13,2,20071228,       1249,   -66.7487,   142.6637,        685,   160.1,  -1.5892,  34.4795,2,  34.4795,2,   326.15,2,  326.07,2,    73.8,2,    2.03,2,   5.3333,2,   2.7855,2,   0.4000,2,  2221.2,2,  2335.6,2,   2.102,2,   30.60,2,      0.001,2
09AR20071216,    CEAMARC,      20,          1,         12,         12,2,20071228,       1249,   -66.7487,   142.6637,        685,   160.0,  -1.5887,  34.4794,2,-999.0000,9,   326.15,2, -999.00,9,  -999.0,9, -999.00,9,-999.0000,9,-999.0000,9,-999.0000,9,  -999.0,9,  -999.0,9,   2.163,2, -999.00,9,      0.001,2
09AR20071216,    CEAMARC,      20,          1,         11,         11,2,20071228,       1249,   -66.7487,   142.6637,        685,   209.2,  -1.7731,  34.5154,2,  34.5162,2,   318.35,2,  317.28,2,    76.5,2,    2.10,2,   5.3226,2,   2.6813,2,   0.4101,2,  2230.1,2,  2338.6,2,   0.736,2,   31.26,2,      0.001,2
09AR20071216,    CEAMARC,      20,          1,         10,         10,2,20071228,       1249,   -66.7487,   142.6637,        685,   209.1,  -1.7760,  34.5164,2,-999.0000,9,   318.35,2, -999.00,9,  -999.0,9, -999.00,9,-999.0000,9,-999.0000,9,-999.0000,9,  -999.0,9,  -999.0,9,   0.605,2, -999.00,9,      0.001,2
09AR20071216,    CEAMARC,      20,          1,          9,          9,2,20071228,       1249,   -66.7487,   142.6637,        685,   299.9,  -1.8125,  34.5308,2,  34.5301,2,   316.64,2,  317.37,2,    77.1,2,    2.12,2,   5.3170,2,   2.6700,2,   0.4161,2,  2230.5,2,  2336.3,2,   0.364,2,   31.21,2,      0.001,2
09AR20071216,    CEAMARC,      20,          1,          8,          8,2,20071228,       1249,   -66.7487,   142.6637,        685,   299.5,  -1.8096,  34.5300,2,-999.0000,9,   316.64,2, -999.00,9,  -999.0,9, -999.00,9,-999.0000,9,-999.0000,9,-999.0000,9,  -999.0,9,  -999.0,9,   0.431,2, -999.00,9,      0.001,2
09AR20071216,    CEAMARC,      20,          1,          7,          7,2,20071228,       1249,   -66.7487,   142.6637,        685,   401.9,  -1.8585,  34.5523,2,  34.5517,2,   315.32,2,  316.76,2,    77.8,2,    2.13,2,   5.2841,2,   2.6646,2,   0.3991,2,  2232.6,2,  2337.3,2,   0.089,2,   31.30,2,      0.001,2
09AR20071216,    CEAMARC,      20,          1,          6,          6,2,20071228,       1249,   -66.7487,   142.6637,        685,   401.4,  -1.8573,  34.5513,2,-999.0000,9,   315.32,2, -999.00,9,  -999.0,9, -999.00,9,-999.0000,9,-999.0000,9,-999.0000,9,  -999.0,9,  -999.0,9,   0.100,2, -999.00,9,      0.001,2
09AR20071216,    CEAMARC,      20,          1,          5,          5,2,20071228,       1249,   -66.7487,   142.6637,        685,   498.9,  -1.8620,  34.5612,2,  34.5611,2,   316.04,2,  315.36,2,    78.1,2,    2.13,2,   5.2317,2,   2.6879,2,   0.4062,2,  2233.3,2,  2338.9,2,   0.047,2,   31.16,2,      0.001,2
09AR20071216,    CEAMARC,      20,          1,          4,          4,2,20071228,       1249,   -66.7487,   142.6637,        685,   499.1,  -1.8620,  34.5612,2,-999.0000,9,   315.99,2, -999.00,9,  -999.0,9, -999.00,9,-999.0000,9,-999.0000,9,-999.0000,9,  -999.0,9,  -999.0,9,   0.043,2, -999.00,9,      0.001,2
09AR20071216,    CEAMARC,      20,          1,          3,          3,2,20071228,       1249,   -66.7487,   142.6637,        685,   600.2,  -1.8631,  34.5664,2,  34.5670,2,   316.32,2,  316.75,2,    77.7,2,    2.11,2,   5.3207,2,   2.6853,2,   0.4064,2,  2233.9,2,  2341.9,2,   0.028,2,   31.06,2,      0.001,2
09AR20071216,    CEAMARC,      20,          1,          2,          2,2,20071228,       1249,   -66.7487,   142.6637,        685,   600.0,  -1.8631,  34.5665,2,-999.0000,9,   316.32,2, -999.00,9,  -999.0,9, -999.00,9,-999.0000,9,-999.0000,9,-999.0000,9,  -999.0,9,  -999.0,9,   0.027,2, -999.00,9,      0.001,2
09AR20071216,    CEAMARC,      20,          1,          1,          1,2,20071228,       1249,   -66.7487,   142.6637,        685,   711.1,  -1.8610,  34.5698,2,  34.5697,2,   316.43,2,  315.84,2,    77.7,2,    2.12,2,   5.3244,2,   2.6869,2,   0.4066,2,  2233.4,6,  2339.8,6,   0.023,2,   30.73,2,      0.001,2