BOTTLE,20230622CCHSIOENA
EXPOCODE,SECT_ID,STNNBR,CASTNO,SAMPNO,BTLNBR,BTLNBR_FLAG_W,DATE,TIME,LATITUDE,LONGITUDE,DEPTH,CTDPRS,CTDTMP,CTDSAL,CTDSAL_FLAG_W,SALNTY,SALNTY_FLAG_W,CTDOXY,CTDOXY_FLAG_W,OXYGEN,OXYGEN_FLAG_W,SILCAT,SILCAT_FLAG_W,PHSPHT,PHSPHT_FLAG_W,CFC-11,CFC-11_FLAG_W,CFC-12,CFC-12_FLAG_W,CFC113,CFC113_FLAG_W,TCARBN,TCARBN_FLAG_W,ALKALI,ALKALI_FLAG_W,FLUOR,FLUOR_FLAG_W,NO2+NO3,NO2+NO3_FLAG_W,PAR,PAR_FLAG_W
,,,,,,,,,,,METERS,DBAR,ITS-90,PSS-78,,PSS-78,,UMOL/KG,,UMOL/KG,,UMOL/KG,,UMOL/KG,,PMOL/KG,,PMOL/KG,,PMOL/KG,,UMOL/KG,,UMOL/KG,,MG/M^3,,UMOL/KG,,VOLTS,
09AR20071216,       CASO,      65,          1,         24,         24,2,20080108,       1542,   -63.3103,   149.2168,       3768,     8.5,   0.2410,  33.7569,2,  33.7577,2,   339.94,2,  340.77,2,    31.1,2,    1.69,2,   6.2578,2,   3.2300,2,   0.4904,2,  2153.6,6,  2285.5,2,   1.008,2,   25.88,2,      2.482,2
09AR20071216,       CASO,      65,          1,         23,         23,2,20080108,       1542,   -63.3103,   149.2168,       3768,     8.4,   0.2408,  33.7583,2,-999.0000,9,   339.94,2, -999.00,9,  -999.0,9, -999.00,9,-999.0000,9,-999.0000,9,-999.0000,9,  -999.0,9,  -999.0,9,   0.989,2, -999.00,9,      2.491,2
09AR20071216,       CASO,      65,          1,         22,         22,2,20080108,       1542,   -63.3103,   149.2168,       3768,     8.2,   0.2428,  33.7564,2,-999.0000,9,   339.94,2, -999.00,9,  -999.0,9, -999.00,9,-999.0000,9,-999.0000,9,-999.0000,9,  -999.0,9,  -999.0,9,   0.931,2, -999.00,9,      2.489,2
09AR20071216,       CASO,      65,          1,         21,         21,2,20080108,       1542,   -63.3103,   149.2168,       3768,    40.1,   0.2668,  33.7750,2,  33.7898,2,   336.43,2,  337.11,2,    32.2,2,    1.73,2,   6.1072,2,   3.1626,2,   0.4590,2,  2157.2,2,    2294,6,   1.190,2,   26.23,2,      1.748,2
09AR20071216,       CASO,      65,          1,         20,         20,2,20080108,       1542,   -63.3103,   149.2168,       3768,    64.9,  -0.6003,  34.1367,2,  34.1410,2,   280.16,2,  279.14,2,    52.5,2,    2.16,2,   4.2503,2,   2.1982,2,   0.3276,2,  2207.9,2,  2309.8,2,   1.181,2,   31.00,2,      1.187,2
09AR20071216,       CASO,      65,          1,         19,         19,2,20080108,       1542,   -63.3103,   149.2168,       3768,    99.4,   1.4297,  34.4928,2,  34.4993,2,   188.54,2,  188.10,2,    74.6,2,    2.36,2,   1.5100,2,   0.7827,2,   0.1086,2,  2250.8,2,  2331.2,2,   0.233,2,   34.74,2,      0.459,2
09AR20071216,       CASO,      65,          1,         18,         18,2,20080108,       1542,   -63.3103,   149.2168,       3768,   199.9,   1.9460,  34.6120,2,  34.6121,2,   173.76,2,  174.91,2,    80.7,2,    2.31,2,   0.7542,2,   0.3777,2,   0.0518,2,  2256.8,2,  2337.7,2,  -0.017,2,   34.04,2,      0.001,2
09AR20071216,       CASO,      65,          1,         17,         17,2,20080108,       1542,   -63.3103,   149.2168,       3768,   301.0,   1.9565,  34.6628,2,  34.6631,2,   177.34,2,  179.25,2,    82.9,2,    2.25,2,   0.6450,2,   0.3942,2,   0.0410,2,    2254,2,  2343.3,2,  -0.025,2,   33.09,2,      0.001,2
09AR20071216,       CASO,      65,          1,         16,         16,2,20080108,       1542,   -63.3103,   149.2168,       3768,   448.5,   1.9138,  34.7026,2,  34.7041,2,   183.82,2,  183.33,2,    84.7,2,    2.18,2,-999.0000,9,-999.0000,9,-999.0000,9,  -999.0,9,  -999.0,9,  -0.026,2,   31.90,2,      0.001,2
09AR20071216,       CASO,      65,          1,         15,         15,2,20080108,       1542,   -63.3103,   149.2168,       3768,   599.3,   1.8367,  34.7261,2,  34.7262,2,   190.26,2,  188.41,2,    87.3,2,    2.13,2,   0.3983,2,   0.2369,2,   0.0258,2,  2249.8,2,  2352.4,2,  -0.027,2,   31.22,2,      0.001,2
09AR20071216,       CASO,      65,          1,         14,         14,2,20080108,       1542,   -63.3103,   149.2168,       3768,   749.3,   1.7578,  34.7386,2,  34.7386,2,   195.02,2,  193.93,2,    89.7,2,    2.11,2,-999.0000,9,-999.0000,9,-999.0000,9,  -999.0,9,  -999.0,9,  -0.029,2,   30.67,2,      0.001,2
09AR20071216,       CASO,      65,          1,         13,         13,2,20080108,       1542,   -63.3103,   149.2168,       3768,   899.5,   1.6610,  34.7444,2,  34.7447,2,   198.93,2,  196.23,2,    92.8,2,    2.09,2,   0.2355,2,   0.1163,2,   0.0129,2,  2249.8,6,  2361.4,2,  -0.032,2,   30.41,2,      0.001,2
09AR20071216,       CASO,      65,          1,         12,         12,2,20080108,       1542,   -63.3103,   149.2168,       3768,  1101.2,   1.4672,  34.7383,2,  34.7386,2,   200.62,2,  198.66,2,    97.5,2,    2.11,2,-999.0000,9,-999.0000,9,-999.0000,9,  -999.0,9,  -999.0,9,  -0.031,2,   30.90,2,      0.001,2
09AR20071216,       CASO,      65,          1,         11,         11,2,20080108,       1542,   -63.3103,   149.2168,       3768,  1299.8,   1.2918,  34.7324,2,  34.7329,2,   202.13,2,  201.44,2,   102.6,2,    2.13,2,   0.2109,2,   0.1067,2,   0.0117,2,  2253.8,2,  2358.2,6,  -0.037,2,   31.05,2,      0.001,2
09AR20071216,       CASO,      65,          1,         10,         10,2,20080108,       1542,   -63.3103,   149.2168,       3768,  1499.3,   1.1355,  34.7258,2,  34.7265,2,   203.14,2,  203.35,2,   107.2,2,    2.15,2,-999.0000,9,-999.0000,9,-999.0000,9,  -999.0,9,  -999.0,9,  -0.035,2,   31.26,2,      0.001,2
09AR20071216,       CASO,      65,          1,          9,          9,2,20080108,       1542,   -63.3103,   149.2168,       3768,  1701.3,   0.9780,  34.7180,2,  34.7180,2,   205.36,2,  205.96,2,   112.3,2,    2.18,2,   0.2058,2,   0.1021,2,   0.0103,2,  2255.5,2,  2363.8,2,  -0.034,2,   31.54,2,      0.001,2
09AR20071216,       CASO,      65,          1,          8,          8,2,20080108,       1542,   -63.3103,   149.2168,       3768,  1952.1,   0.7849,  34.7080,2,  34.7080,2,   208.04,2,  207.83,2,   117.9,2,    2.21,2,   0.2542,2,   0.1288,2,   0.0131,2,    2260,2,  2365.3,2,  -0.030,2,   31.90,2,      0.001,2
09AR20071216,       CASO,      65,          1,          7,          7,2,20080108,       1542,   -63.3103,   149.2168,       3768,  2199.4,   0.6037,  34.6983,2,  34.6982,2,   211.38,2,  210.82,2,   122.0,2,    2.24,2,   0.3177,2,   0.1944,2,   0.0162,2,  2259.5,2,    2362,2,  -0.038,2,   32.18,2,      0.001,2
09AR20071216,       CASO,      65,          1,          6,          6,2,20080108,       1542,   -63.3103,   149.2168,       3768,  2449.5,   0.4386,  34.6908,2,  34.6907,2,   214.89,2,  215.47,2,   125.2,2,    2.25,2,   0.4013,2,   0.1972,2,   0.0210,2,  2261.1,2,  2362.4,2,  -0.036,2,   32.21,2,      0.001,2
09AR20071216,       CASO,      65,          1,          5,          5,2,20080108,       1542,   -63.3103,   149.2168,       3768,  2701.1,   0.3136,  34.6862,2,  34.6856,2,   218.55,2,  218.20,2,   128.1,2,    2.24,2,   0.4593,2,   0.2212,2,   0.0201,2,  2259.5,2,  2367.5,2,  -0.037,2,   32.27,2,      0.001,2
09AR20071216,       CASO,      65,          1,          4,          4,2,20080108,       1542,   -63.3103,   149.2168,       3768,  2998.8,   0.1911,  34.6811,2,  34.6803,2,   222.39,2, -999.00,9,   128.7,2,    2.25,2,   0.6635,2,   0.3265,2,   0.0353,2,    2259,2,  2361.3,2,  -0.037,2,   32.26,2,      0.001,2
09AR20071216,       CASO,      65,          1,          3,          3,2,20080108,       1542,   -63.3103,   149.2168,       3768,  3300.1,   0.0813,  34.6763,2,  34.6756,2,   226.91,2,  226.46,2,   127.3,2,    2.24,2,   0.9318,2,   0.4569,2,   0.0516,2,  2259.8,2,  2361.2,2,  -0.038,2,   32.08,2,      0.001,2
09AR20071216,       CASO,      65,          1,          2,          2,2,20080108,       1542,   -63.3103,   149.2168,       3768,  3600.3,  -0.0307,  34.6702,2,  34.6693,2,   232.11,2,  231.24,2,   126.0,2,    2.23,2,   1.3503,2,   0.6748,2,   0.0864,2,    2258,2,  2358.5,6,  -0.039,2,   32.11,2,      0.001,2
09AR20071216,       CASO,      65,          1,          1,          1,2,20080108,       1542,   -63.3103,   149.2168,       3768,  3744.5,  -0.0777,  34.6677,2,  34.6672,2,   234.02,2,  234.97,2,   124.1,2,    2.23,2,   1.5841,2,   0.8009,2,   0.0976,2,  2257.2,6,    2359,2,  -0.041,2,   31.84,2,      0.001,2
09AR20071216,       CASO,      66,          1,         24,         24,2,20080108,       2023,   -63.4972,   150.0060,       3703,     8.7,   0.2820,  33.7805,2,  33.7804,2,   338.76,2,  338.15,2,    34.7,2,    1.76,2,   6.1367,2,   3.1777,2,   0.4937,2,  2155.7,6,  2285.7,2,   0.014,2,   26.78,2,      3.148,2
09AR20071216,       CASO,      66,          1,         23,         23,2,20080108,       2023,   -63.4972,   150.0060,       3703,     8.8,   0.2817,  33.7803,2,-999.0000,9,   338.76,2, -999.00,9,  -999.0,9, -999.00,9,-999.0000,9,-999.0000,9,-999.0000,9,  -999.0,9,  -999.0,9,   0.009,2, -999.00,9,      3.160,2
09AR20071216,       CASO,      66,          1,         22,         22,2,20080108,       2023,   -63.4972,   150.0060,       3703,     8.8,   0.2824,  33.7805,2,-999.0000,9,   338.76,2, -999.00,9,  -999.0,9, -999.00,9,-999.0000,9,-999.0000,9,-999.0000,9,  -999.0,9,  -999.0,9,  -0.009,2, -999.00,9,      3.175,2
09AR20071216,       CASO,      66,          1,         21,         21,2,20080108,       2023,   -63.4972,   150.0060,       3703,    39.8,   0.1857,  33.7827,2,  33.7835,2,   337.12,2,  338.06,2,    35.1,2,    1.77,2,   6.1322,2,   3.1513,2,   0.4892,2,  2157.3,2,  2283.1,6,   0.497,2,   26.69,2,      2.704,2
09AR20071216,       CASO,      66,          1,         20,         20,2,20080108,       2023,   -63.4972,   150.0060,       3703,    90.0,   1.5914,  34.4833,2,  34.4891,2,   190.89,2,  188.49,2,    73.1,2,    2.39,2,   1.5724,2,   0.8004,2,   0.1138,2,  2249.5,2,  2324.3,2,   0.267,2,   35.04,2,      1.802,2
09AR20071216,       CASO,      66,          1,         19,         19,2,20080108,       2023,   -63.4972,   150.0060,       3703,   151.9,   1.9332,  34.5711,2,  34.5701,2,   175.97,2,  177.05,2,    77.8,2,    2.36,2,   0.9661,2,   0.4887,2,   0.0706,2,  2255.5,2,    2331,2,  -0.016,2,   34.69,2,      0.870,2
09AR20071216,       CASO,      66,          1,         18,         18,2,20080108,       2023,   -63.4972,   150.0060,       3703,   198.3,   1.9930,  34.6092,2,  34.6099,2,   175.11,2,  174.35,2,    80.0,2,    2.32,2,   0.7378,2,   0.3713,2,   0.0499,2,  2256.3,2,  2336.6,6,  -0.025,2,   34.12,2,      0.191,2
09AR20071216,       CASO,      66,          1,         17,         17,2,20080108,       2023,   -63.4972,   150.0060,       3703,   299.5,   2.0281,  34.6568,2,  34.6568,2,   176.93,2,  176.77,2,    81.2,2,    2.26,2,   0.4859,2,   0.2402,2,   0.0295,2,  2253.2,2,  2337.7,2,  -0.024,2,   33.05,2,      0.001,2
09AR20071216,       CASO,      66,          1,         16,         16,2,20080108,       2023,   -63.4972,   150.0060,       3703,   448.7,   1.9116,  34.6955,2,  34.6954,2,   183.01,2,  182.95,2,    84.1,2,    2.21,2,   0.4160,2,   0.2101,2,   0.0256,2,  2251.4,2,  2337.8,2,  -0.027,2,   31.98,2,      0.001,2
09AR20071216,       CASO,      66,          1,         15,         15,2,20080108,       2023,   -63.4972,   150.0060,       3703,   600.1,   1.8709,  34.7220,2,  34.7219,2,   188.26,2,  187.28,2,    86.3,2,    2.16,2,   0.4253,2,   0.2091,2,   0.0258,2,  2250.7,2,  2344.5,2,  -0.025,2,   31.30,2,      0.001,2
09AR20071216,       CASO,      66,          1,         14,         14,2,20080108,       2023,   -63.4972,   150.0060,       3703,   749.5,   1.7621,  34.7333,2,  34.7341,2,   192.41,2,  192.10,2,    89.1,2,    2.13,2,   0.2557,2,   0.1271,2,   0.0146,2,  2250.9,2,  2346.7,2,  -0.027,2,   31.16,2,      0.001,2
09AR20071216,       CASO,      66,          1,         13,         13,2,20080108,       2023,   -63.4972,   150.0060,       3703,   901.5,   1.6503,  34.7383,2,  34.7396,2,   195.76,2,  196.10,2,    92.0,2,    2.12,2,   0.2733,2,   0.1577,2,   0.0193,2,    2249,2,  2350.6,2,  -0.030,2,   30.94,2,      0.001,2
09AR20071216,       CASO,      66,          1,         12,         12,2,20080108,       2023,   -63.4972,   150.0060,       3703,  1099.3,   1.4779,  34.7387,2,  34.7341,2,   199.60,2, -999.00,9,  -999.0,9, -999.00,9,   0.2643,2,   0.1351,2,   0.0137,2,  2249.7,6,  2348.1,2,  -0.031,2, -999.00,9,      0.001,2
09AR20071216,       CASO,      66,          1,         11,         11,2,20080108,       2023,   -63.4972,   150.0060,       3703,  1301.5,   1.3081,  34.7330,2,  34.7333,2,   201.77,2,  201.14,2,   102.0,2,    2.13,2,   0.1981,2,   0.1003,2,   0.0090,2,  2252.6,2,  2354.8,6,  -0.032,2,   31.14,2,      0.001,2
09AR20071216,       CASO,      66,          1,         10,         10,2,20080108,       2023,   -63.4972,   150.0060,       3703,  1500.8,   1.1372,  34.7261,2,  34.7268,2,   203.51,2,  203.39,2,   107.4,2,    2.16,2,   0.1777,2,   0.0855,2,   0.0093,2,  2253.9,2,  2356.6,2,  -0.033,2,   31.36,2,      0.001,2
09AR20071216,       CASO,      66,          1,          9,          9,2,20080108,       2023,   -63.4972,   150.0060,       3703,  1702.7,   0.9866,  34.7189,2,  34.7192,2,   205.48,2,  206.17,2,   112.5,2,    2.19,2,   0.1856,2,   0.0932,2,   0.0088,2,  2255.1,2,  2357.3,2,  -0.035,2,   31.57,2,      0.001,2
09AR20071216,       CASO,      66,          1,          8,          8,2,20080108,       2023,   -63.4972,   150.0060,       3703,  1896.9,   0.8319,  34.7113,2,  34.7115,2,   207.57,2,  208.60,2,   116.9,2,    2.21,2,   0.2133,2,   0.1067,2,   0.0000,3,  2258.9,2,  2358.1,2,  -0.033,2,   31.89,2,      0.001,2
09AR20071216,       CASO,      66,          1,          7,          7,2,20080108,       2023,   -63.4972,   150.0060,       3703,  2101.1,   0.6739,  34.7022,2,  34.7023,2,   210.01,2,  209.52,2,   120.2,2,    2.23,2,   0.2460,2,   0.1198,2,   0.0122,2,  2259.3,2,  2357.3,2,  -0.036,2,   32.01,2,      0.001,2
09AR20071216,       CASO,      66,          1,          6,          6,2,20080108,       2023,   -63.4972,   150.0060,       3703,  2401.8,   0.4676,  34.6924,2,  34.6923,2,   214.20,2,  213.82,2,   125.2,2,    2.25,2,   0.3551,2,   0.1746,2,   0.0150,2,  2257.1,2,  2357.4,2,  -0.035,2,   32.38,2,      0.001,2
09AR20071216,       CASO,      66,          1,          5,          5,2,20080108,       2023,   -63.4972,   150.0060,       3703,  2699.5,   0.3047,  34.6858,2,  34.6862,2,   218.18,2,  218.77,2,   127.8,2,    2.25,2,   0.0000,4,   0.0000,4,   0.0000,4,  2258.1,2,  2355.9,2,  -0.038,2,   32.28,2,      0.001,2
09AR20071216,       CASO,      66,          1,          4,          4,2,20080108,       2023,   -63.4972,   150.0060,       3703,  2998.9,   0.1867,  34.6814,2,  34.6803,2,   222.52,2,  222.11,2,   130.1,2,    2.26,2,   0.6337,2,   0.3055,2,   0.0367,2,  2254.4,2,  2356.1,2,  -0.040,2,   32.27,2,      0.001,2
09AR20071216,       CASO,      66,          1,          3,          3,2,20080108,       2023,   -63.4972,   150.0060,       3703,  3299.2,   0.0630,  34.6757,2,  34.6748,2,   227.07,2,  226.54,2,   126.5,2,    2.25,2,   1.0029,2,   0.5010,2,   0.0532,2,  2257.4,2,  2355.3,6,  -0.039,2,   32.86,2,      0.001,2
09AR20071216,       CASO,      66,          1,          2,          2,2,20080108,       2023,   -63.4972,   150.0060,       3703,  3599.3,  -0.0575,  34.6703,2,  34.6693,2,   232.27,2,  232.84,2,   123.0,2,    2.24,2,   1.5092,2,   0.7633,2,   0.0945,2,  2256.1,2,  2354.5,6,  -0.043,2,   32.34,2,      0.001,2
09AR20071216,       CASO,      66,          1,          1,          1,2,20080108,       2023,   -63.4972,   150.0060,       3703,  3757.7,  -0.1534,  34.6729,2,  34.6717,2,   235.11,2,  235.01,2,   115.4,2,    2.23,2,   0.0000,4,   0.0000,4,   0.0000,4,  2256.5,6,  2351.1,2,  -0.039,2,   32.08,2,      0.001,2