BOTTLE,20230622CCHSIOENA
EXPOCODE,SECT_ID,STNNBR,CASTNO,SAMPNO,BTLNBR,BTLNBR_FLAG_W,DATE,TIME,LATITUDE,LONGITUDE,DEPTH,CTDPRS,CTDTMP,CTDSAL,CTDSAL_FLAG_W,SALNTY,SALNTY_FLAG_W,CTDOXY,CTDOXY_FLAG_W,OXYGEN,OXYGEN_FLAG_W,SILCAT,SILCAT_FLAG_W,PHSPHT,PHSPHT_FLAG_W,CFC-11,CFC-11_FLAG_W,CFC-12,CFC-12_FLAG_W,CFC113,CFC113_FLAG_W,TCARBN,TCARBN_FLAG_W,ALKALI,ALKALI_FLAG_W,FLUOR,FLUOR_FLAG_W,NO2+NO3,NO2+NO3_FLAG_W,PAR,PAR_FLAG_W
,,,,,,,,,,,METERS,DBAR,ITS-90,PSS-78,,PSS-78,,UMOL/KG,,UMOL/KG,,UMOL/KG,,UMOL/KG,,PMOL/KG,,PMOL/KG,,PMOL/KG,,UMOL/KG,,UMOL/KG,,MG/M^3,,UMOL/KG,,VOLTS,
09AR20071216,    CEAMARC,     101,          1,         24,         24,2,20080115,       1357,   -66.1757,   139.9982,        153,    10.0,  -0.0105,  34.0828,2,-999.0000,9,   341.94,2, -999.00,9,  -999.0,9, -999.00,9,-999.0000,9,-999.0000,9,-999.0000,9,  -999.0,9,  -999.0,9,   1.918,2, -999.00,9,      0.811,2
09AR20071216,    CEAMARC,     101,          1,         23,         23,2,20080115,       1357,   -66.1757,   139.9982,        153,    10.0,   0.0344,  34.0807,2,-999.0000,9,   341.94,2, -999.00,9,  -999.0,9, -999.00,9,-999.0000,9,-999.0000,9,-999.0000,9,  -999.0,9,  -999.0,9,   1.820,2, -999.00,9,      0.826,2
09AR20071216,    CEAMARC,     101,          1,         22,         22,2,20080115,       1357,   -66.1757,   139.9982,        153,    10.0,  -0.0102,  34.0838,2,-999.0000,9,   341.94,2, -999.00,9,  -999.0,9, -999.00,9,-999.0000,9,-999.0000,9,-999.0000,9,  -999.0,9,  -999.0,9,   1.833,2, -999.00,9,      0.835,2
09AR20071216,    CEAMARC,     101,          1,         21,         21,2,20080115,       1357,   -66.1757,   139.9982,        153,     9.9,   0.0147,  34.0820,2,-999.0000,9,   341.94,2, -999.00,9,  -999.0,9, -999.00,9,-999.0000,9,-999.0000,9,-999.0000,9,  -999.0,9,  -999.0,9,   1.781,2, -999.00,9,      0.841,2
09AR20071216,    CEAMARC,     101,          1,         20,         20,2,20080115,       1357,   -66.1757,   139.9982,        153,    10.0,  -0.0465,  34.0869,2,-999.0000,9,   341.94,2, -999.00,9,  -999.0,9, -999.00,9,-999.0000,9,-999.0000,9,-999.0000,9,  -999.0,9,  -999.0,9,   1.845,2, -999.00,9,      0.840,2
09AR20071216,    CEAMARC,     101,          1,         19,         19,2,20080115,       1357,   -66.1757,   139.9982,        153,     9.9,  -0.0581,  34.0856,2,-999.0000,9,   341.94,2, -999.00,9,  -999.0,9, -999.00,9,-999.0000,9,-999.0000,9,-999.0000,9,  -999.0,9,  -999.0,9,   1.811,2, -999.00,9,      0.846,2
09AR20071216,    CEAMARC,     101,          1,         18,         18,2,20080115,       1357,   -66.1757,   139.9982,        153,    10.0,  -0.0939,  34.0908,2,-999.0000,9,   341.94,2, -999.00,9,  -999.0,9, -999.00,9,-999.0000,9,-999.0000,9,-999.0000,9,  -999.0,9,  -999.0,9,   1.765,2, -999.00,9,      0.844,2
09AR20071216,    CEAMARC,     101,          1,         17,         17,2,20080115,       1357,   -66.1757,   139.9982,        153,     9.9,  -0.0469,  34.0876,2,-999.0000,9,   341.94,2, -999.00,9,  -999.0,9, -999.00,9,-999.0000,9,-999.0000,9,-999.0000,9,  -999.0,9,  -999.0,9,   1.829,2, -999.00,9,      0.846,2
09AR20071216,    CEAMARC,     101,          1,         16,         16,2,20080115,       1357,   -66.1757,   139.9982,        153,     9.9,   0.0537,  34.0791,2,-999.0000,9,   341.94,2, -999.00,9,  -999.0,9, -999.00,9,-999.0000,9,-999.0000,9,-999.0000,9,  -999.0,9,  -999.0,9,   1.781,2, -999.00,9,      0.853,2
09AR20071216,    CEAMARC,     101,          1,         15,         15,2,20080115,       1357,   -66.1757,   139.9982,        153,    10.0,   0.0760,  34.0771,2,-999.0000,9,   341.94,2, -999.00,9,  -999.0,9, -999.00,9,-999.0000,9,-999.0000,9,-999.0000,9,  -999.0,9,  -999.0,9,   1.793,2, -999.00,9,      0.857,2
09AR20071216,    CEAMARC,     101,          1,         14,         14,2,20080115,       1357,   -66.1757,   139.9982,        153,    10.0,   0.1071,  34.0747,2,-999.0000,9,   341.94,2, -999.00,9,  -999.0,9, -999.00,9,-999.0000,9,-999.0000,9,-999.0000,9,  -999.0,9,  -999.0,9,   1.773,2, -999.00,9,      0.850,2
09AR20071216,    CEAMARC,     101,          1,         13,         13,2,20080115,       1357,   -66.1757,   139.9982,        153,    10.1,   0.1164,  34.0738,2,-999.0000,9,   341.94,2, -999.00,9,  -999.0,9, -999.00,9,-999.0000,9,-999.0000,9,-999.0000,9,  -999.0,9,  -999.0,9,   1.788,2, -999.00,9,      0.849,2
09AR20071216,    CEAMARC,     101,          1,         12,         12,2,20080115,       1357,   -66.1757,   139.9982,        153,    10.0,   0.1395,  34.0718,2,-999.0000,9,   341.94,2, -999.00,9,  -999.0,9, -999.00,9,-999.0000,9,-999.0000,9,-999.0000,9,  -999.0,9,  -999.0,9,   1.821,2, -999.00,9,      0.846,2
09AR20071216,    CEAMARC,     101,          1,         11,         11,2,20080115,       1357,   -66.1757,   139.9982,        153,    10.0,   0.1332,  34.0717,2,-999.0000,9,   341.94,2, -999.00,9,  -999.0,9, -999.00,9,-999.0000,9,-999.0000,9,-999.0000,9,  -999.0,9,  -999.0,9,   1.782,2, -999.00,9,      0.851,2
09AR20071216,    CEAMARC,     101,          1,         10,         10,2,20080115,       1357,   -66.1757,   139.9982,        153,    10.0,   0.1431,  34.0699,2,  34.0737,2,   341.94,2,  338.07,2,    63.6,2,    1.85,2,   5.5013,2,   2.8677,2,   0.4471,2,  2182.6,6,  2312.2,6,   1.814,2,   26.99,2,      0.857,2
09AR20071216,    CEAMARC,     101,          1,          9,          9,2,20080115,       1357,   -66.1757,   139.9982,        153,    10.0,   0.1261,  34.0712,2,-999.0000,9,   341.94,2, -999.00,9,  -999.0,9, -999.00,9,-999.0000,9,-999.0000,9,-999.0000,9,  -999.0,9,  -999.0,9,   1.818,2, -999.00,9,      0.855,2
09AR20071216,    CEAMARC,     101,          1,          8,          8,2,20080115,       1357,   -66.1757,   139.9982,        153,    30.9,  -0.9282,  34.2045,2,  34.2044,2,   331.81,2,  331.93,2,    68.1,2,    1.96,2,   5.0795,2,   2.6625,2,   0.4000,2,  2194.7,2,  2318.4,2,   2.108,2,   27.70,2,      0.071,2
09AR20071216,    CEAMARC,     101,          1,          7,          7,2,20080115,       1357,   -66.1757,   139.9982,        153,    30.9,  -0.9313,  34.2051,2,-999.0000,9,   331.81,2, -999.00,9,  -999.0,9, -999.00,9,-999.0000,9,-999.0000,9,-999.0000,9,  -999.0,9,  -999.0,9,   2.189,2, -999.00,9,      0.087,2
09AR20071216,    CEAMARC,     101,          1,          6,          6,2,20080115,       1357,   -66.1757,   139.9982,        153,    69.7,  -1.2652,  34.3777,2,  34.3788,2,   307.94,2,  306.38,2,    74.8,2,    2.06,2,   4.4971,2,   2.3671,2,   0.3573,2,  2218.4,2,  2333.3,2,   0.978,2,   29.63,2,      0.001,2
09AR20071216,    CEAMARC,     101,          1,          5,          5,2,20080115,       1357,   -66.1757,   139.9982,        153,    69.7,  -1.2677,  34.3810,2,-999.0000,9,   307.94,2, -999.00,9,  -999.0,9, -999.00,9,-999.0000,9,-999.0000,9,-999.0000,9,  -999.0,9,  -999.0,9,   0.914,2, -999.00,9,      0.001,2
09AR20071216,    CEAMARC,     101,          1,          4,          4,2,20080115,       1357,   -66.1757,   139.9982,        153,   110.5,  -1.3010,  34.4247,2,-999.0000,9,   299.18,2,  300.71,2,    76.8,2,    2.10,2,   4.2527,2,   2.2642,2,   0.3384,2,  2224.9,2,  2333.1,2,   0.384,2,   30.07,2,      0.001,2
09AR20071216,    CEAMARC,     101,          1,          3,          3,2,20080115,       1357,   -66.1757,   139.9982,        153,   110.4,  -1.3010,  34.4248,2,-999.0000,9,   299.18,2, -999.00,9,  -999.0,9, -999.00,9,-999.0000,9,-999.0000,9,-999.0000,9,  -999.0,9,  -999.0,9,   0.439,2, -999.00,9,      0.001,2
09AR20071216,    CEAMARC,     101,          1,          2,          2,2,20080115,       1357,   -66.1757,   139.9982,        153,   143.8,  -1.3048,  34.4304,2,-999.0000,9,   300.03,2,  299.32,2,    77.1,2,    2.11,2,   4.3433,6,   2.2816,6,   0.3397,6,  2224.8,2,  2333.9,2,   0.392,2,   30.36,2,      0.001,2
09AR20071216,    CEAMARC,     101,          1,          1,          1,2,20080115,       1357,   -66.1757,   139.9982,        153,   143.5,  -1.3044,  34.4298,2,-999.0000,9,   300.03,2, -999.00,9,  -999.0,9, -999.00,9,-999.0000,9,-999.0000,9,-999.0000,9,  -999.0,9,  -999.0,9,   0.385,2, -999.00,9,      0.001,2
09AR20071216,    CEAMARC,     102,          1,         24,         24,2,20080115,       1700,   -66.0012,   139.9988,        194,    10.7,  -0.0110,  33.9068,2,-999.0000,9,   350.67,2, -999.00,9,  -999.0,9, -999.00,9,-999.0000,9,-999.0000,9,-999.0000,9,  -999.0,9,  -999.0,9,   2.279,2, -999.00,9,      1.665,2
09AR20071216,    CEAMARC,     102,          1,         23,         23,2,20080115,       1700,   -66.0012,   139.9988,        194,    10.6,  -0.0559,  33.9056,2,-999.0000,9,   350.67,2, -999.00,9,  -999.0,9, -999.00,9,-999.0000,9,-999.0000,9,-999.0000,9,  -999.0,9,  -999.0,9,   2.358,2, -999.00,9,      1.673,2
09AR20071216,    CEAMARC,     102,          1,         22,         22,2,20080115,       1700,   -66.0012,   139.9988,        194,    10.7,  -0.1257,  33.9028,2,-999.0000,9,   350.67,2, -999.00,9,  -999.0,9, -999.00,9,-999.0000,9,-999.0000,9,-999.0000,9,  -999.0,9,  -999.0,9,   2.353,2, -999.00,9,      1.672,2
09AR20071216,    CEAMARC,     102,          1,         21,         21,2,20080115,       1700,   -66.0012,   139.9988,        194,    10.5,   0.0772,  33.9073,2,-999.0000,9,   350.67,2, -999.00,9,  -999.0,9, -999.00,9,-999.0000,9,-999.0000,9,-999.0000,9,  -999.0,9,  -999.0,9,   2.099,2, -999.00,9,      1.682,2
09AR20071216,    CEAMARC,     102,          1,         20,         20,2,20080115,       1700,   -66.0012,   139.9988,        194,    10.6,   0.1446,  33.9092,2,-999.0000,9,   350.67,2, -999.00,9,  -999.0,9, -999.00,9,-999.0000,9,-999.0000,9,-999.0000,9,  -999.0,9,  -999.0,9,   2.023,2, -999.00,9,      1.675,2
09AR20071216,    CEAMARC,     102,          1,         19,         19,2,20080115,       1700,   -66.0012,   139.9988,        194,    10.5,   0.1553,  33.9102,2,-999.0000,9,   350.67,2, -999.00,9,  -999.0,9, -999.00,9,-999.0000,9,-999.0000,9,-999.0000,9,  -999.0,9,  -999.0,9,   1.973,2, -999.00,9,      1.681,2
09AR20071216,    CEAMARC,     102,          1,         18,         18,2,20080115,       1700,   -66.0012,   139.9988,        194,    10.7,   0.1298,  33.9101,2,-999.0000,9,   350.67,2, -999.00,9,  -999.0,9, -999.00,9,-999.0000,9,-999.0000,9,-999.0000,9,  -999.0,9,  -999.0,9,   2.053,2, -999.00,9,      1.671,2
09AR20071216,    CEAMARC,     102,          1,         17,         17,2,20080115,       1700,   -66.0012,   139.9988,        194,    10.5,   0.0110,  33.9079,2,-999.0000,9,   350.67,2, -999.00,9,  -999.0,9, -999.00,9,-999.0000,9,-999.0000,9,-999.0000,9,  -999.0,9,  -999.0,9,   2.184,2, -999.00,9,      1.672,2
09AR20071216,    CEAMARC,     102,          1,         16,         16,2,20080115,       1700,   -66.0012,   139.9988,        194,    10.6,  -0.1274,  33.9046,2,-999.0000,9,   350.67,2, -999.00,9,  -999.0,9, -999.00,9,-999.0000,9,-999.0000,9,-999.0000,9,  -999.0,9,  -999.0,9,   2.283,2, -999.00,9,      1.654,2
09AR20071216,    CEAMARC,     102,          1,         15,         15,2,20080115,       1700,   -66.0012,   139.9988,        194,    10.5,  -0.0647,  33.9069,2,-999.0000,9,   350.67,2, -999.00,9,  -999.0,9, -999.00,9,-999.0000,9,-999.0000,9,-999.0000,9,  -999.0,9,  -999.0,9,   2.227,2, -999.00,9,      1.657,2
09AR20071216,    CEAMARC,     102,          1,         14,         14,2,20080115,       1700,   -66.0012,   139.9988,        194,    10.6,  -0.0593,  33.9076,2,-999.0000,9,   350.67,2, -999.00,9,  -999.0,9, -999.00,9,-999.0000,9,-999.0000,9,-999.0000,9,  -999.0,9,  -999.0,9,   2.269,2, -999.00,9,      1.651,2
09AR20071216,    CEAMARC,     102,          1,         13,         13,2,20080115,       1700,   -66.0012,   139.9988,        194,    10.6,  -0.0560,  33.9070,2,-999.0000,9,   350.67,2, -999.00,9,  -999.0,9, -999.00,9,-999.0000,9,-999.0000,9,-999.0000,9,  -999.0,9,  -999.0,9,   2.311,2, -999.00,9,      1.656,2
09AR20071216,    CEAMARC,     102,          1,         12,         12,2,20080115,       1700,   -66.0012,   139.9988,        194,    10.6,  -0.0618,  33.9074,2,-999.0000,9,   350.67,2, -999.00,9,  -999.0,9, -999.00,9,-999.0000,9,-999.0000,9,-999.0000,9,  -999.0,9,  -999.0,9,   2.330,2, -999.00,9,      1.654,2
09AR20071216,    CEAMARC,     102,          1,         11,         11,2,20080115,       1700,   -66.0012,   139.9988,        194,    10.6,  -0.0676,  33.9070,2,-999.0000,9,   350.67,2, -999.00,9,  -999.0,9, -999.00,9,-999.0000,9,-999.0000,9,-999.0000,9,  -999.0,9,  -999.0,9,   2.315,2, -999.00,9,      1.659,2
09AR20071216,    CEAMARC,     102,          1,         10,         10,2,20080115,       1700,   -66.0012,   139.9988,        194,    10.6,  -0.1642,  33.9047,2,  33.9397,2,   350.67,2,  349.77,2,    57.9,2,    1.78,2,   5.8865,2,   3.0135,2,   0.4694,2,  2167.6,6,  2297.8,2,   2.393,2,   25.98,2,      1.665,2
09AR20071216,    CEAMARC,     102,          1,          9,          9,2,20080115,       1700,   -66.0012,   139.9988,        194,    10.6,  -0.1102,  33.9061,2,-999.0000,9,   350.67,2, -999.00,9,  -999.0,9, -999.00,9,-999.0000,9,-999.0000,9,-999.0000,9,  -999.0,9,  -999.0,9,   2.350,2, -999.00,9,      1.657,2
09AR20071216,    CEAMARC,     102,          1,          8,          8,2,20080115,       1700,   -66.0012,   139.9988,        194,    44.0,  -1.3548,  34.3705,2,  34.3698,2,   314.89,2,  314.55,2,    71.9,2,    2.04,2,   4.6588,2,   2.4618,2,   0.3812,2,  2213.1,2,  2327.4,6,   1.656,2,   29.12,2,      0.429,2
09AR20071216,    CEAMARC,     102,          1,          7,          7,2,20080115,       1700,   -66.0012,   139.9988,        194,    44.0,  -1.3548,  34.3699,2,-999.0000,9,   314.89,2, -999.00,9,  -999.0,9, -999.00,9,-999.0000,9,-999.0000,9,-999.0000,9,  -999.0,9,  -999.0,9,   1.714,2, -999.00,9,      0.428,2
09AR20071216,    CEAMARC,     102,          1,          6,          6,2,20080115,       1700,   -66.0012,   139.9988,        194,    89.2,  -1.3993,  34.4606,2,  34.4599,2,   301.83,2,  301.53,2,    76.7,2,    2.10,2,   4.5572,2,   2.3432,2,   0.3738,2,  2224.9,2,  2331.6,2,   0.455,2,   29.81,2,      0.001,2
09AR20071216,    CEAMARC,     102,          1,          5,          5,2,20080115,       1700,   -66.0012,   139.9988,        194,    89.1,  -1.3991,  34.4608,2,-999.0000,9,   301.83,2, -999.00,9,  -999.0,9, -999.00,9,-999.0000,9,-999.0000,9,-999.0000,9,  -999.0,9,  -999.0,9,   0.505,2, -999.00,9,      0.001,2
09AR20071216,    CEAMARC,     102,          1,          4,          4,2,20080115,       1700,   -66.0012,   139.9988,        194,   139.4,  -1.3905,  34.5018,2,  34.5007,2,   297.49,2,  297.96,2,    79.5,2,    2.13,2,-999.0000,9,-999.0000,9,-999.0000,9,  -999.0,9,  -999.0,9,   0.174,2,   30.50,2,      0.001,2
09AR20071216,    CEAMARC,     102,          1,          3,          3,2,20080115,       1700,   -66.0012,   139.9988,        194,   139.4,  -1.3896,  34.5020,2,-999.0000,9,   297.49,2, -999.00,9,  -999.0,9, -999.00,9,-999.0000,9,-999.0000,9,-999.0000,9,  -999.0,9,  -999.0,9,   0.202,2, -999.00,9,      0.001,2
09AR20071216,    CEAMARC,     102,          1,          2,          2,2,20080115,       1700,   -66.0012,   139.9988,        194,   184.0,  -1.3921,  34.5215,2,  34.5205,2,   295.47,2,  295.17,2,    81.3,2,    2.14,2,   4.3762,6,   2.2563,6,   0.3521,6,  2223.4,2,  2336.5,2,   0.078,2,   30.74,2,      0.001,2
09AR20071216,    CEAMARC,     102,          1,          1,          1,2,20080115,       1700,   -66.0012,   139.9988,        194,   183.8,  -1.3934,  34.5213,2,-999.0000,9,   295.47,2, -999.00,9,  -999.0,9, -999.00,9,-999.0000,9,-999.0000,9,-999.0000,9,  -999.0,9,  -999.0,9,   0.079,2, -999.00,9,      0.001,2