BOTTLE,20230622CCHSIOENA
EXPOCODE,SECT_ID,STNNBR,CASTNO,SAMPNO,BTLNBR,BTLNBR_FLAG_W,DATE,TIME,LATITUDE,LONGITUDE,DEPTH,CTDPRS,CTDTMP,CTDSAL,CTDSAL_FLAG_W,SALNTY,SALNTY_FLAG_W,CTDOXY,CTDOXY_FLAG_W,OXYGEN,OXYGEN_FLAG_W,SILCAT,SILCAT_FLAG_W,PHSPHT,PHSPHT_FLAG_W,CFC-11,CFC-11_FLAG_W,CFC-12,CFC-12_FLAG_W,CFC113,CFC113_FLAG_W,TCARBN,TCARBN_FLAG_W,ALKALI,ALKALI_FLAG_W,FLUOR,FLUOR_FLAG_W,NO2+NO3,NO2+NO3_FLAG_W,PAR,PAR_FLAG_W
,,,,,,,,,,,METERS,DBAR,ITS-90,PSS-78,,PSS-78,,UMOL/KG,,UMOL/KG,,UMOL/KG,,UMOL/KG,,PMOL/KG,,PMOL/KG,,PMOL/KG,,UMOL/KG,,UMOL/KG,,MG/M^3,,UMOL/KG,,VOLTS,
09AR20071216,       CASO,      55,          1,         24,         24,2,20080106,       0725,   -65.2498,   143.0367,       3023,     5.5,   0.0735,  33.7816,2,  33.7759,2,   350.09,2,  349.58,2,    40.4,2,    1.77,2,   0.0000,4,   0.0000,4,   0.0000,4,  2159.7,6,  2284.3,2,   0.603,2,   27.40,2,      2.462,2
09AR20071216,       CASO,      55,          1,         23,         23,2,20080106,       0725,   -65.2498,   143.0367,       3023,    24.9,   0.1246,  33.8186,2,-999.0000,9,   348.98,2, -999.00,9,  -999.0,9, -999.00,9,-999.0000,9,-999.0000,9,-999.0000,9,  -999.0,9,  -999.0,9,   0.525,2, -999.00,9,      1.957,2
09AR20071216,       CASO,      55,          1,         22,         22,2,20080106,       0725,   -65.2498,   143.0367,       3023,    24.8,   0.1183,  33.8167,2,-999.0000,9,   348.98,2, -999.00,9,  -999.0,9, -999.00,9,-999.0000,9,-999.0000,9,-999.0000,9,  -999.0,9,  -999.0,9,   0.520,2, -999.00,9,      1.960,2
09AR20071216,       CASO,      55,          1,         21,         21,2,20080106,       0725,   -65.2498,   143.0367,       3023,    25.1,   0.0915,  33.7937,2,  33.7968,2,   348.25,2,  349.84,2,    40.6,2,    1.80,2,   6.4994,2,   3.2763,2,   0.5173,2,  2161.5,2,  2287.5,6,   0.580,2,   27.35,2,      1.927,2
09AR20071216,       CASO,      55,          1,         20,         20,2,20080106,       0725,   -65.2498,   143.0367,       3023,    60.6,  -1.4217,  34.1218,2,  34.1197,2,   331.39,2,  332.56,2,    48.9,2,    1.95,2,   5.4945,2,   2.7663,2,   0.4314,2,    2188,2,  2309.3,2,   1.378,2,   28.69,2,      1.254,2
09AR20071216,       CASO,      55,          1,         19,         19,2,20080106,       0725,   -65.2498,   143.0367,       3023,    60.5,  -1.4239,  34.1221,2,-999.0000,9,   331.39,2, -999.00,9,    48.8,2,    1.94,2,-999.0000,9,-999.0000,9,-999.0000,9,  -999.0,9,  -999.0,9,   1.399,2,   28.68,2,      1.265,2
09AR20071216,       CASO,      55,          1,         18,         18,2,20080106,       0725,   -65.2498,   143.0367,       3023,   101.0,  -0.8491,  34.4019,2,  34.4005,2,   270.82,2,  269.26,2,    68.6,2,    2.17,2,   3.7271,2,   1.9198,2,   0.2978,2,  2228.5,2,  2320.4,2,   0.598,2,   31.35,2,      0.317,2
09AR20071216,       CASO,      55,          1,         17,         17,2,20080106,       0725,   -65.2498,   143.0367,       3023,   191.1,   0.0340,  34.5484,2,  34.5481,2,   237.76,2,  237.08,2,    82.6,2,    2.21,2,   2.4607,2,   1.2914,2,   0.1921,2,  2243.5,2,  2333.2,2,  -0.020,2,   31.83,2,      0.001,2
09AR20071216,       CASO,      55,          1,         16,         16,2,20080106,       0725,   -65.2498,   143.0367,       3023,   302.6,   0.5359,  34.6189,2,  34.6172,2,   236.47,2,  225.61,2,    87.0,2,    2.19,2,   0.0000,4,   0.0000,4,   0.0000,4,  2247.2,2,  2341.4,2,  -0.032,2,   31.65,2,      0.001,2
09AR20071216,       CASO,      55,          1,         15,         15,2,20080106,       0725,   -65.2498,   143.0367,       3023,   451.6,   0.5773,  34.6449,2,  34.6456,2,   218.66,2,  219.56,2,    92.4,2,    2.19,2,   1.4052,2,   0.7343,2,   0.1082,2,  2249.2,2,  2345.9,2,  -0.031,2,   31.34,2,      0.001,2
09AR20071216,       CASO,      55,          1,         14,         14,2,20080106,       0725,   -65.2498,   143.0367,       3023,   650.9,   0.7196,  34.6788,2,  34.6780,2,   210.51,2,  212.56,2,   100.9,2,    2.22,2,   0.0000,4,   0.0000,4,   0.0000,4,  2253.3,2,  2353.7,6,  -0.032,2,   31.82,2,      0.001,2
09AR20071216,       CASO,      55,          1,         13,         13,2,20080106,       0725,   -65.2498,   143.0367,       3023,   851.5,   0.7302,  34.6929,2,  34.6350,4,   208.73,2, -999.00,9,  -999.0,9, -999.00,9,-999.0000,9,-999.0000,9,-999.0000,9,  -999.0,9,  -999.0,9,  -0.033,2, -999.00,9,      0.001,2
09AR20071216,       CASO,      55,          1,         12,         12,2,20080106,       0725,   -65.2498,   143.0367,       3023,   999.4,   0.6475,  34.6930,2,  34.6933,2,   209.45,2,  208.00,2,   112.9,2,    2.25,2,   0.5607,2,   0.2864,2,   0.0432,2,  2259.3,6,  2357.3,2,  -0.032,2,   32.34,2,      0.001,2
09AR20071216,       CASO,      55,          1,         11,         11,2,20080106,       0725,   -65.2498,   143.0367,       3023,  1200.4,   0.5425,  34.6907,2,  34.6909,2,   211.04,2,  211.25,2,   116.5,2,    2.26,2,   0.5357,2,   0.2705,2,   0.0362,2,  2262.1,2,  2359.2,2,  -0.036,2,   32.34,2,      0.001,2
09AR20071216,       CASO,      55,          1,         10,         10,2,20080106,       0725,   -65.2498,   143.0367,       3023,  1401.4,   0.3981,  34.6846,2,  34.6847,2,   213.38,2,  213.25,2,   117.3,2,    2.25,2,   0.7208,2,   0.3656,2,   0.0443,2,  2261.4,3,  2356.1,2,  -0.037,2,   32.41,2,      0.001,2
09AR20071216,       CASO,      55,          1,          9,          9,2,20080106,       0725,   -65.2498,   143.0367,       3023,  1598.8,   0.3150,  34.6845,2,  34.6837,2,   214.83,2, -999.00,9,  -999.0,9, -999.00,9,-999.0000,9,-999.0000,9,-999.0000,9,  -999.0,9,  -999.0,9,  -0.035,2, -999.00,9,      0.001,2
09AR20071216,       CASO,      55,          1,          8,          8,2,20080106,       0725,   -65.2498,   143.0367,       3023,  1799.5,   0.2386,  34.6834,2,  34.6831,2,   217.45,2,  219.21,2,   118.3,2,    2.26,2,   0.8801,2,   0.4534,2,   0.0639,2,  2259.7,2,  2356.6,2,  -0.039,2,   32.36,2,      0.001,2
09AR20071216,       CASO,      55,          1,          7,          7,2,20080106,       0725,   -65.2498,   143.0367,       3023,  2001.9,   0.1571,  34.6824,2,  34.6823,2,   221.28,2,  220.46,2,   117.0,2,    2.26,2,   1.0181,2,   0.5200,2,   0.0702,2,  2259.7,2,    2358,2,  -0.038,2,   32.30,2,      0.001,2
09AR20071216,       CASO,      55,          1,          6,          6,2,20080106,       0725,   -65.2498,   143.0367,       3023,  2202.4,   0.0831,  34.6798,2,  34.6794,2,   225.25,2,  225.85,2,   117.0,2,    2.26,2,   1.1535,2,   0.5856,2,   0.0869,2,  2256.9,2,  2357.7,2,  -0.036,2,   32.24,2,      0.001,2
09AR20071216,       CASO,      55,          1,          5,          5,2,20080106,       0725,   -65.2498,   143.0367,       3023,  2399.0,   0.0059,  34.6762,2,  34.6756,2,   229.59,2,  228.37,2,   120.6,2,    2.26,2,   1.1755,2,   0.5878,2,   0.0000,3,  2258.8,2,    2360,2,  -0.040,2,   32.31,2,      0.001,2
09AR20071216,       CASO,      55,          1,          4,          4,2,20080106,       0725,   -65.2498,   143.0367,       3023,  2599.5,  -0.0784,  34.6743,2,  34.6739,2,   234.05,2,  233.11,2,   108.8,2,    2.24,2,   1.7181,2,   0.8900,2,   0.1195,2,  2259.1,2,  2351.9,2,  -0.038,2,   32.01,2,      0.001,2
09AR20071216,       CASO,      55,          1,          3,          3,2,20080106,       0725,   -65.2498,   143.0367,       3023,  2799.5,  -0.1751,  34.6727,2,  34.6717,2,   238.11,2,  238.50,2,   107.2,2,    2.24,2,   2.0216,2,   1.0338,2,   0.1389,2,  2255.4,2,  2353.4,2,  -0.041,2,   31.96,2,      0.001,2
09AR20071216,       CASO,      55,          1,          2,          2,2,20080106,       0725,   -65.2498,   143.0367,       3023,  3003.2,  -0.3512,  34.6531,2,  34.6529,2,   241.94,2,  240.93,2,   102.8,2,    2.21,2,   2.4367,2,   1.2478,2,   0.1907,2,  2253.5,2,  2347.3,6,  -0.040,2,   31.79,2,      0.001,2
09AR20071216,       CASO,      55,          1,          1,          1,2,20080106,       0725,   -65.2498,   143.0367,       3023,  3059.7,  -0.2951,  34.6631,2,  34.6621,2,   244.32,2,  247.31,2,   103.4,2,    2.22,2,   2.3720,2,   1.2122,2,   0.1656,2,  2255.1,6,  2351.6,2,  -0.039,2,   31.65,2,      0.001,2
09AR20071216,       CASO,      56,          1,         24,         24,2,20080106,       1150,   -65.0103,   143.4938,       3256,     5.2,   0.1325,  33.8160,2,  34.3543,4,   353.93,2,  353.18,2,    37.7,2,    1.84,2,   6.5712,2,   3.2785,2,   0.4907,2,    2163,6,  2286.3,2,   0.511,2,   28.10,2,      1.007,2
09AR20071216,       CASO,      56,          1,         23,         23,2,20080106,       1150,   -65.0103,   143.4938,       3256,    29.4,  -0.0649,  33.8141,2,-999.0000,9,   350.79,2, -999.00,9,  -999.0,9, -999.00,9,-999.0000,9,-999.0000,9,-999.0000,9,  -999.0,9,  -999.0,9,   0.617,2, -999.00,9,      0.343,2
09AR20071216,       CASO,      56,          1,         22,         22,2,20080106,       1150,   -65.0103,   143.4938,       3256,    29.4,  -0.0613,  33.8141,2,-999.0000,9,   350.79,2, -999.00,9,  -999.0,9, -999.00,9,-999.0000,9,-999.0000,9,-999.0000,9,  -999.0,9,  -999.0,9,   0.610,2, -999.00,9,      0.338,2
09AR20071216,       CASO,      56,          1,         21,         21,2,20080106,       1150,   -65.0103,   143.4938,       3256,    29.4,  -0.0558,  33.8141,2,  33.8150,2,   350.79,2,  350.36,2,    37.8,2,    1.85,2,   6.4898,2,   3.2770,2,   0.4835,2,  2162.5,2,  2285.1,6,   0.610,2,   28.03,2,      0.314,2
09AR20071216,       CASO,      56,          1,         20,         20,2,20080106,       1150,   -65.0103,   143.4938,       3256,    60.1,  -1.4389,  34.1498,2,  34.1488,2,   313.50,2,  313.55,2,    49.7,2,    2.05,2,   5.0823,2,   2.6142,2,   0.4141,2,  2197.3,2,  2306.8,2,   0.770,2,   29.92,2,      0.001,2
09AR20071216,       CASO,      56,          1,         19,         19,2,20080106,       1150,   -65.0103,   143.4938,       3256,   100.3,   0.1785,  34.4544,2,  34.4548,2,   236.24,2,  235.15,2,    73.2,2,    2.27,2,-999.0000,9,-999.0000,9,-999.0000,9,  -999.0,9,  -999.0,9,   0.412,2,   32.82,2,      0.001,2
09AR20071216,       CASO,      56,          1,         18,         18,2,20080106,       1150,   -65.0103,   143.4938,       3256,   150.5,   1.1683,  34.6178,2,  34.6166,2,   201.06,2,  201.59,2,    84.0,2,    2.26,2,   1.4222,2,   0.7334,2,   0.1073,2,  2250.7,2,  2336.5,2,  -0.019,2,   32.90,2,      0.001,2
09AR20071216,       CASO,      56,          1,         17,         17,2,20080106,       1150,   -65.0103,   143.4938,       3256,   200.1,   1.4247,  34.6666,2,  34.6650,2,   193.82,2,  194.72,2,    86.9,2,    2.26,2,-999.0000,9,-999.0000,9,-999.0000,9,  -999.0,9,  -999.0,9,  -0.033,2,   32.59,2,      0.001,2
09AR20071216,       CASO,      56,          1,         16,         16,2,20080106,       1150,   -65.0103,   143.4938,       3256,   400.0,   1.4288,  34.7111,2,  34.7115,2,   198.93,2,  198.14,2,    91.7,2,    2.21,2,   0.5986,2,   0.3016,2,   0.0380,2,  2251.3,2,  2346.1,2,  -0.030,2,   31.56,2,      0.001,2
09AR20071216,       CASO,      56,          1,         15,         15,2,20080106,       1150,   -65.0103,   143.4938,       3256,   597.8,   1.2703,  34.7187,2,  34.7188,2,   203.26,2,  203.18,2,    97.3,2,    2.19,2,-999.0000,9,-999.0000,9,-999.0000,9,  -999.0,9,  -999.0,9,  -0.029,2,   31.33,2,      0.001,2
09AR20071216,       CASO,      56,          1,         14,         14,2,20080106,       1150,   -65.0103,   143.4938,       3256,   801.6,   1.1206,  34.7188,2,  34.7188,2,   205.36,2,  204.43,2,   103.5,2,    2.21,2,-999.0000,9,-999.0000,9,-999.0000,9,  -999.0,9,  -999.0,9,  -0.033,2,   31.34,2,      0.001,2
09AR20071216,       CASO,      56,          1,         13,         13,2,20080106,       1150,   -65.0103,   143.4938,       3256,   999.2,   0.9623,  34.7132,2,  34.7133,2,   206.95,2,  209.08,2,   108.9,2,    2.24,2,-999.0000,9,-999.0000,9,-999.0000,9,  -999.0,9,  -999.0,9,  -0.034,2,   31.45,2,      0.001,2
09AR20071216,       CASO,      56,          1,         12,         12,2,20080106,       1150,   -65.0103,   143.4938,       3256,  1199.3,   0.8018,  34.7066,2,  34.7062,2,   209.28,2,  208.00,2,   113.7,2,    2.26,2,-999.0000,9,-999.0000,9,-999.0000,9,  -999.0,9,  -999.0,9,  -0.035,2,   31.98,2,      0.001,2
09AR20071216,       CASO,      56,          1,         11,         11,2,20080106,       1150,   -65.0103,   143.4938,       3256,  1399.2,   0.6120,  34.6960,2,  34.6956,2,   211.72,2,  210.52,2,   117.9,2,    2.26,2,-999.0000,9,-999.0000,9,-999.0000,9,  -999.0,9,  -999.0,9,  -0.036,2,   32.26,2,      0.001,2
09AR20071216,       CASO,      56,          1,         10,         10,2,20080106,       1150,   -65.0103,   143.4938,       3256,  1600.9,   0.4869,  34.6919,2,  34.6917,2,   214.60,2,  214.47,2,   121.3,2,    2.28,2,-999.0000,9,-999.0000,9,-999.0000,9,  -999.0,9,  -999.0,9,  -0.036,2,   32.32,2,      0.001,2
09AR20071216,       CASO,      56,          1,          9,          9,2,20080106,       1150,   -65.0103,   143.4938,       3256,  1797.4,   0.3624,  34.6877,2,  34.6872,2,   217.40,2,  217.55,2,   124.6,2,    2.29,2,-999.0000,9,-999.0000,9,-999.0000,9,  -999.0,9,  -999.0,9,  -0.037,2,   32.57,2,      0.001,2
09AR20071216,       CASO,      56,          1,          8,          8,2,20080106,       1150,   -65.0103,   143.4938,       3256,  2000.3,   0.2704,  34.6852,2,  34.6852,2,   220.43,2,  222.85,2,   127.1,2,    2.31,2,-999.0000,9,-999.0000,9,-999.0000,9,  -999.0,9,  -999.0,9,  -0.035,2,   32.41,2,      0.001,2
09AR20071216,       CASO,      56,          1,          7,          7,2,20080106,       1150,   -65.0103,   143.4938,       3256,  2200.4,   0.1816,  34.6817,2,  34.6813,2,   222.88,2,  223.42,2,   125.5,2,    2.30,2,-999.0000,9,-999.0000,9,-999.0000,9,  -999.0,9,  -999.0,9,  -0.039,2,   32.42,2,      0.001,2
09AR20071216,       CASO,      56,          1,          6,          6,2,20080106,       1150,   -65.0103,   143.4938,       3256,  2399.3,   0.1024,  34.6790,2,  34.6782,2,   225.93,2,  224.60,2,   125.2,2,    2.30,2,-999.0000,9,-999.0000,9,-999.0000,9,  -999.0,9,  -999.0,9,  -0.037,2,   32.30,2,      0.001,2
09AR20071216,       CASO,      56,          1,          5,          5,2,20080106,       1150,   -65.0103,   143.4938,       3256,  2600.8,   0.0214,  34.6757,2,  34.6744,2,   228.99,2,  230.63,2,   125.7,2,    2.30,2,-999.0000,9,-999.0000,9,-999.0000,9,  -999.0,9,  -999.0,9,  -0.039,2,   32.31,2,      0.001,2
09AR20071216,       CASO,      56,          1,          4,          4,2,20080106,       1150,   -65.0103,   143.4938,       3256,  2797.4,  -0.0660,  34.6723,2,  34.6715,2,   232.41,2,  231.10,2,   121.5,2,    2.28,2,-999.0000,9,-999.0000,9,-999.0000,9,  -999.0,9,  -999.0,9,  -0.040,2,   32.08,2,      0.001,2
09AR20071216,       CASO,      56,          1,          3,          3,2,20080106,       1150,   -65.0103,   143.4938,       3256,  2996.3,  -0.1293,  34.6717,2,  34.6701,2,   236.01,2,  236.06,2,   113.1,2,    2.25,2,   1.9399,2,   0.9788,2,   0.1346,2,  2257.1,2,  2353.6,6,  -0.041,2,   31.81,2,      0.001,2
09AR20071216,       CASO,      56,          1,          2,          2,2,20080106,       1150,   -65.0103,   143.4938,       3256,  3254.3,  -0.2327,  34.6699,2,  34.6688,2,   240.42,2,  238.84,2,   106.7,2,    2.24,2,   2.2304,2,   1.1594,2,   0.1621,2,  2256.8,2,  2351.4,6,  -0.038,2,   31.57,2,      0.001,2
09AR20071216,       CASO,      56,          1,          1,          1,2,20080106,       1150,   -65.0103,   143.4938,       3256,  3315.4,  -0.2423,  34.6682,2,  34.6668,2,   240.99,2,  242.06,2,   106.7,2,    2.24,2,   2.3079,2,   1.1810,2,   0.1572,2,  2256.3,6,  2350.2,2,  -0.038,2,   31.82,2,      0.001,2