BOTTLE,20230622CCHSIOENA
EXPOCODE,SECT_ID,STNNBR,CASTNO,SAMPNO,BTLNBR,BTLNBR_FLAG_W,DATE,TIME,LATITUDE,LONGITUDE,DEPTH,CTDPRS,CTDTMP,CTDSAL,CTDSAL_FLAG_W,SALNTY,SALNTY_FLAG_W,CTDOXY,CTDOXY_FLAG_W,OXYGEN,OXYGEN_FLAG_W,SILCAT,SILCAT_FLAG_W,PHSPHT,PHSPHT_FLAG_W,CFC-11,CFC-11_FLAG_W,CFC-12,CFC-12_FLAG_W,CFC113,CFC113_FLAG_W,TCARBN,TCARBN_FLAG_W,ALKALI,ALKALI_FLAG_W,FLUOR,FLUOR_FLAG_W,NO2+NO3,NO2+NO3_FLAG_W,PAR,PAR_FLAG_W
,,,,,,,,,,,METERS,DBAR,ITS-90,PSS-78,,PSS-78,,UMOL/KG,,UMOL/KG,,UMOL/KG,,UMOL/KG,,PMOL/KG,,PMOL/KG,,PMOL/KG,,UMOL/KG,,UMOL/KG,,MG/M^3,,UMOL/KG,,VOLTS,
09AR20071216,       CASO,      57,          1,         24,         24,2,20080106,       1534,   -64.7847,   143.6487,       3405,     7.9,   0.2470,  33.7284,2,  33.7294,2,   353.01,2,  350.34,2,    32.0,2,    1.71,2,   6.4639,2,   3.2515,2,   0.5005,2,  2147.3,6,    2280,2,   1.553,2,   26.57,2,      1.848,2
09AR20071216,       CASO,      57,          1,         23,         23,2,20080106,       1534,   -64.7847,   143.6487,       3405,     7.8,   0.2472,  33.7284,2,-999.0000,9,   353.01,2, -999.00,9,  -999.0,9, -999.00,9,-999.0000,9,-999.0000,9,-999.0000,9,  -999.0,9,  -999.0,9,   1.573,2, -999.00,9,      1.844,2
09AR20071216,       CASO,      57,          1,         22,         22,2,20080106,       1534,   -64.7847,   143.6487,       3405,     7.8,   0.2470,  33.7286,2,-999.0000,9,   353.01,2, -999.00,9,  -999.0,9, -999.00,9,-999.0000,9,-999.0000,9,-999.0000,9,  -999.0,9,  -999.0,9,   1.555,2, -999.00,9,      1.835,2
09AR20071216,       CASO,      57,          1,         21,         21,2,20080106,       1534,   -64.7847,   143.6487,       3405,    29.2,   0.1210,  33.7336,2,  33.7317,2,   349.01,2,  351.81,2,    31.9,2,    1.72,2,   6.5032,2,   3.2667,2,   0.5389,2,  2150.4,2,  2280.1,6,   1.760,2,   26.53,2,      1.472,2
09AR20071216,       CASO,      57,          1,         20,         20,2,20080106,       1534,   -64.7847,   143.6487,       3405,    59.8,  -1.5635,  34.0846,2,  34.0712,2,   318.49,2,  317.66,2,    44.8,2,    2.08,2,   5.4145,2,   2.7231,2,   0.4274,2,  2190.9,2,  2302.3,2,   1.918,2,   29.77,2,      0.545,2
09AR20071216,       CASO,      57,          1,         19,         19,2,20080106,       1534,   -64.7847,   143.6487,       3405,    99.5,  -0.1982,  34.3570,2,  34.3478,2,   253.75,2,  255.67,2,    64.5,2,    2.23,2,   3.3802,2,   1.7733,2,   0.2587,2,  2227.6,3,  2319.4,2,   0.544,2,   32.09,2,      0.001,2
09AR20071216,       CASO,      57,          1,         18,         18,2,20080106,       1534,   -64.7847,   143.6487,       3405,   150.1,   1.0605,  34.5849,2,  34.5860,2,   205.50,2,  205.46,2,    81.6,2,    2.29,2,   1.5115,2,   0.7885,2,   0.1147,2,  2249.4,2,  2337.2,2,   0.010,2,   32.72,2,      0.001,2
09AR20071216,       CASO,      57,          1,         17,         17,2,20080106,       1534,   -64.7847,   143.6487,       3405,   200.9,   1.2938,  34.6427,2,  34.6440,2,   198.56,2,  198.54,2,    85.1,2,    2.26,2,   1.0633,2,   0.5491,2,   0.0781,2,  2251.7,2,  2339.6,2,  -0.019,2,   32.18,2,      0.001,2
09AR20071216,       CASO,      57,          1,         16,         16,2,20080106,       1534,   -64.7847,   143.6487,       3405,   300.2,   1.4932,  34.6882,2,  34.6892,2,   196.47,2,  194.15,2,    88.1,2,    2.23,2,   0.7189,2,   0.3657,2,   0.0513,2,  2252.5,2,    2344,2,  -0.024,2,   31.75,2,      0.001,2
09AR20071216,       CASO,      57,          1,         15,         15,2,20080106,       1534,   -64.7847,   143.6487,       3405,   400.5,   1.4926,  34.7115,2,  34.7119,2,   197.43,2,  197.44,2,    90.6,2,    2.20,2,   0.6561,2,   0.3304,2,   0.0477,2,    2251,2,    2349,6,  -0.025,2,   31.16,2,      0.001,2
09AR20071216,       CASO,      57,          1,         14,         14,2,20080106,       1534,   -64.7847,   143.6487,       3405,   552.3,   1.3870,  34.7224,2,  34.7227,2,   200.24,2,  200.84,2,    94.8,2,    2.18,2,   0.5538,2,   0.2909,2,   0.0376,2,  2250.8,2,    2349,2,  -0.030,2,   31.09,2,      0.001,2
09AR20071216,       CASO,      57,          1,         13,         13,2,20080106,       1534,   -64.7847,   143.6487,       3405,   699.5,   1.3112,  34.7276,2,  34.7280,2,   202.83,2,  201.14,2,    99.0,2,    2.19,2,   0.3268,2,   0.1625,2,   0.0241,2,  2252.9,6,  2354.2,2,  -0.031,2,   30.90,3,      0.001,2
09AR20071216,       CASO,      57,          1,         12,         12,2,20080106,       1534,   -64.7847,   143.6487,       3405,   899.8,   1.1093,  34.7191,2,  34.7204,2,   204.87,2,  205.26,2,   103.8,2,    2.21,2,   0.4183,2,   0.2104,2,   0.0327,2,  2253.6,2,    2355,2,  -0.033,2,   30.94,3,      0.001,2
09AR20071216,       CASO,      57,          1,         11,         11,2,20080106,       1534,   -64.7847,   143.6487,       3405,  1100.6,   0.9991,  34.7182,2,  34.7190,2,   205.74,2,  207.13,2,   109.6,2,    2.23,2,   0.2696,2,   0.1383,2,   0.0187,2,  2256.4,2,  2358.1,6,  -0.034,2,   31.06,3,      0.001,2
09AR20071216,       CASO,      57,          1,         10,         10,2,20080106,       1534,   -64.7847,   143.6487,       3405,  1298.6,   0.8165,  34.7079,2,  34.7076,2,   208.10,2,  208.43,2,   113.4,2,    2.25,2,   0.3455,2,   0.1747,2,   0.0212,2,  2258.5,2,  2357.6,2,  -0.036,2,   30.96,3,      0.001,2
09AR20071216,       CASO,      57,          1,          9,          9,2,20080106,       1534,   -64.7847,   143.6487,       3405,  1500.7,   0.6538,  34.7000,2,  34.7000,2,   210.42,2,  209.87,2,   118.0,2,    2.26,2,   0.3587,2,   0.1806,2,   0.0251,2,  2258.1,2,  2356.5,2,  -0.032,2,   30.99,3,      0.001,2
09AR20071216,       CASO,      57,          1,          8,          8,2,20080106,       1534,   -64.7847,   143.6487,       3405,  1748.8,   0.5003,  34.6941,2,  34.6943,2,   213.06,2,  212.99,2,   124.5,2,    2.31,2,   0.3404,2,   0.1662,2,   0.0200,2,  2261.1,2,  2361.8,2,  -0.035,2,   32.75,2,      0.001,2
09AR20071216,       CASO,      57,          1,          7,          7,2,20080106,       1534,   -64.7847,   143.6487,       3405,  1999.2,   0.3733,  34.6889,2,  34.6888,2,   216.99,2,  216.99,2,   126.8,2,    2.32,2,   0.4287,2,   0.2133,2,   0.0252,2,  2255.7,3,  2357.9,2,  -0.035,2,   32.72,2,      0.001,2
09AR20071216,       CASO,      57,          1,          6,          6,2,20080106,       1534,   -64.7847,   143.6487,       3405,  2249.0,   0.2313,  34.6834,2,  34.6833,2,   220.22,2,  219.68,2,   128.4,2,    2.32,2,   0.5888,2,   0.2920,2,   0.0335,2,  2256.8,2,  2357.1,2,  -0.036,2,   32.76,2,      0.001,2
09AR20071216,       CASO,      57,          1,          5,          5,2,20080106,       1534,   -64.7847,   143.6487,       3405,  2499.2,   0.1336,  34.6797,2,  34.6796,2,   223.89,2,  223.81,2,   127.8,2,    2.31,2,   0.7672,2,   0.3817,2,   0.0436,2,  2259.3,2,  2355.6,2,  -0.036,2,   32.65,2,      0.001,2
09AR20071216,       CASO,      57,          1,          4,          4,2,20080106,       1534,   -64.7847,   143.6487,       3405,  2749.7,   0.0173,  34.6751,2,  34.6746,2,   227.91,2,  228.89,2,   122.9,2,    2.31,2,   1.1515,2,   0.5775,2,   0.0711,2,    2259,2,  2356.8,6,  -0.038,2,   32.54,2,      0.001,2
09AR20071216,       CASO,      57,          1,          3,          3,2,20080106,       1534,   -64.7847,   143.6487,       3405,  2999.1,  -0.0770,  34.6707,2,  34.6713,2,   231.92,2,  232.19,2,   121.9,2,    2.29,2,   1.4331,2,   0.7222,2,   0.0973,2,  2256.8,2,  2353.7,2,  -0.038,2,   32.34,2,      0.001,2
09AR20071216,       CASO,      57,          1,          2,          2,2,20080106,       1534,   -64.7847,   143.6487,       3405,  3249.4,  -0.1510,  34.6736,2,  34.6737,2,   236.58,2,  236.71,2,   106.8,2,    2.26,2,   2.0626,2,   1.0586,2,   0.1478,2,  2256.4,2,  2351.9,6,  -0.038,2,   32.16,2,      0.001,2
09AR20071216,       CASO,      57,          1,          1,          1,2,20080106,       1534,   -64.7847,   143.6487,       3405,  3459.0,  -0.2160,  34.6713,2,  34.6701,2,   239.46,2,  239.01,2,   106.4,2,    2.26,2,   2.2753,2,   1.1712,2,   0.1598,2,  2255.6,6,  2350.7,2,  -0.038,2,   32.16,2,      0.001,2
09AR20071216,       CASO,      58,          1,         24,         24,2,20080106,       2020,   -64.3908,   143.2972,       3574,    11.0,   0.8287,  33.7907,2,  33.7919,2,   341.78,2,  342.55,2,    35.3,2,    1.86,2,   6.5040,2,   3.2778,2,   0.5031,2,  2165.4,6,  2282.3,2,  -0.119,2,   28.08,2,      3.573,2
09AR20071216,       CASO,      58,          1,         23,         23,2,20080106,       2020,   -64.3908,   143.2972,       3574,    11.1,   0.8285,  33.7905,2,-999.0000,9,   341.83,2, -999.00,9,  -999.0,9, -999.00,9,-999.0000,9,-999.0000,9,-999.0000,9,  -999.0,9,  -999.0,9,  -0.122,2, -999.00,9,      3.604,2
09AR20071216,       CASO,      58,          1,         22,         22,2,20080106,       2020,   -64.3908,   143.2972,       3574,    11.1,   0.8298,  33.7901,2,-999.0000,9,   341.83,2, -999.00,9,  -999.0,9, -999.00,9,-999.0000,9,-999.0000,9,-999.0000,9,  -999.0,9,  -999.0,9,  -0.121,2, -999.00,9,      3.580,2
09AR20071216,       CASO,      58,          1,         21,         21,2,20080106,       2020,   -64.3908,   143.2972,       3574,    50.0,  -0.9707,  33.8668,2,-999.0000,9,   345.75,2,  345.54,2,    39.6,2,    1.92,2,   6.3801,2,   3.1810,2,   0.5028,2,  2172.8,2,  2288.1,2,   0.475,2,   28.68,2,      2.582,2
09AR20071216,       CASO,      58,          1,         20,         20,2,20080106,       2020,   -64.3908,   143.2972,       3574,   100.4,   0.0267,  34.3777,2,  34.3988,2,   268.04,2,  248.85,2,    67.2,2,    2.24,2,   3.1135,2,   1.6381,2,   0.2375,2,  2230.9,2,  2321.5,6,   1.171,2,   32.35,2,      1.203,2
09AR20071216,       CASO,      58,          1,         19,         19,2,20080106,       2020,   -64.3908,   143.2972,       3574,   150.1,   1.1902,  34.5717,2,  34.5711,2,   197.17,2,  199.86,2,    79.4,2,    2.29,2,   1.5345,2,   0.8011,2,   0.1151,2,  2248.1,2,  2332.9,2,   0.164,2,   33.54,2,      0.235,2
09AR20071216,       CASO,      58,          1,         18,         18,2,20080106,       2020,   -64.3908,   143.2972,       3574,   199.4,   1.5493,  34.6382,2,  34.6395,2,   191.47,2,  188.47,2,    83.5,2,    2.28,2,-999.0000,9,-999.0000,9,-999.0000,9,  -999.0,9,  -999.0,9,  -0.014,2,   33.21,2,      0.001,2
09AR20071216,       CASO,      58,          1,         17,         17,2,20080106,       2020,   -64.3908,   143.2972,       3574,   299.6,   1.5521,  34.6716,2,  34.6731,2,   192.62,2,  192.46,2,    85.7,2,    2.25,2,   0.7534,2,   0.3891,2,   0.0549,2,  2250.3,2,    2342,2,  -0.029,2,   32.24,2,      0.001,2
09AR20071216,       CASO,      58,          1,         16,         16,2,20080106,       2020,   -64.3908,   143.2972,       3574,   401.0,   1.4723,  34.6903,2,  34.6903,2,   196.51,2,  196.19,2,    87.7,2,    2.22,2,-999.0000,9,-999.0000,9,-999.0000,9,  -999.0,9,  -999.0,9,  -0.032,2,   31.70,2,      0.001,2
09AR20071216,       CASO,      58,          1,         15,         15,2,20080106,       2020,   -64.3908,   143.2972,       3574,   599.8,   1.4101,  34.7140,2,  34.7147,2,   199.48,2,  200.10,2,    92.4,2,    2.20,2,   0.5543,2,   0.2836,2,   0.0348,2,  2249.5,2,  2347.7,2,  -0.031,2,   31.28,2,      0.001,2
09AR20071216,       CASO,      58,          1,         14,         14,2,20080106,       2020,   -64.3908,   143.2972,       3574,   800.4,   1.2527,  34.7161,2,  34.7178,2,   202.84,2,  202.27,2,    96.9,2,    2.21,2,-999.0000,9,-999.0000,9,-999.0000,9,  -999.0,9,  -999.0,9,  -0.032,2,   31.20,2,      0.001,2
09AR20071216,       CASO,      58,          1,         13,         13,2,20080106,       2020,   -64.3908,   143.2972,       3574,   999.0,   1.2053,  34.7256,2,  34.7265,2,   202.94,2,  202.57,2,  -999.0,9, -999.00,9,   0.3395,2,   0.1737,2,   0.0261,2,  2253.4,2,  2352.9,2,  -0.032,2, -999.00,9,      0.001,2
09AR20071216,       CASO,      58,          1,         12,         12,2,20080106,       2020,   -64.3908,   143.2972,       3574,  1200.0,   1.0769,  34.7223,2,  34.7229,2,   203.84,2,  204.00,2,   108.5,2,    2.23,2,-999.0000,9,-999.0000,9,-999.0000,9,  -999.0,9,  -999.0,9,  -0.033,2,   31.52,2,      0.001,2
09AR20071216,       CASO,      58,          1,         11,         11,2,20080106,       2020,   -64.3908,   143.2972,       3574,  1400.0,   0.9013,  34.7112,2,  34.7125,2,   207.20,2,  206.56,2,   112.3,2,    2.25,2,   0.3014,2,   0.1552,2,   0.0214,2,    2256,2,  2355.3,2,  -0.033,2,   31.80,2,      0.001,2
09AR20071216,       CASO,      58,          1,         10,         10,2,20080106,       2020,   -64.3908,   143.2972,       3574,  1600.5,   0.7487,  34.7028,2,  34.7035,2,   208.43,2,  208.08,2,   115.5,2,    2.26,2,-999.0000,9,-999.0000,9,-999.0000,9,  -999.0,9,  -999.0,9,  -0.041,2,   31.88,2,      0.001,2
09AR20071216,       CASO,      58,          1,          9,          9,2,20080106,       2020,   -64.3908,   143.2972,       3574,  1799.5,   0.5810,  34.6938,2,  34.6953,2,   211.14,2,  212.73,2,   118.8,2,    2.29,2,   0.5903,2,   0.3005,2,   0.0382,2,  2256.4,2,  2356.7,2,  -0.037,2,   32.17,2,      0.001,2
09AR20071216,       CASO,      58,          1,          8,          8,2,20080106,       2020,   -64.3908,   143.2972,       3574,  2000.0,   0.4269,  34.6844,2,  34.6847,2,   214.41,2,  213.69,2,   118.2,2,    2.30,2,-999.0000,9,-999.0000,9,-999.0000,9,  -999.0,9,  -999.0,9,  -0.038,2,   32.25,2,      0.001,2
09AR20071216,       CASO,      58,          1,          7,          7,2,20080106,       2020,   -64.3908,   143.2972,       3574,  2199.1,   0.3408,  34.6838,2,  34.6839,2,   216.63,2,  216.90,2,   120.2,2,    2.29,2,   0.7590,2,   0.3863,2,   0.0466,2,  2258.7,2,  2356.1,2,  -0.035,2,   32.25,2,      0.001,2
09AR20071216,       CASO,      58,          1,          6,          6,2,20080106,       2020,   -64.3908,   143.2972,       3574,  2399.9,   0.2567,  34.6822,2,  34.6821,2,   219.97,2,  218.82,2,   121.5,2,    2.31,2,-999.0000,9,-999.0000,9,-999.0000,9,  -999.0,9,  -999.0,9,  -0.040,2,   32.23,2,      0.001,2
09AR20071216,       CASO,      58,          1,          5,          5,2,20080106,       2020,   -64.3908,   143.2972,       3574,  2698.9,   0.1540,  34.6798,2,  34.6794,2,   222.99,2,  222.55,2,   124.5,2,    2.30,2,   0.8585,2,   0.4334,2,   0.0477,2,  2261.5,2,  2355.1,6,  -0.039,2,   32.28,2,      0.001,2
09AR20071216,       CASO,      58,          1,          4,          4,2,20080106,       2020,   -64.3908,   143.2972,       3574,  3001.1,   0.0252,  34.6751,2,  34.6743,2,   227.81,2,  228.72,2,   123.6,2,    2.30,2,   1.1785,2,   0.5873,2,   0.0820,2,  2253.8,2,  2353.8,2,  -0.037,2,   32.36,2,      0.001,2
09AR20071216,       CASO,      58,          1,          3,          3,2,20080106,       2020,   -64.3908,   143.2972,       3574,  3301.2,  -0.1036,  34.6715,2,  34.6709,2,   234.45,2,  235.01,2,   109.8,2,    2.27,2,   1.8972,2,   0.9823,2,   0.1332,2,  2254.3,2,  2352.4,2,  -0.042,2,   32.14,2,      0.001,2
09AR20071216,       CASO,      58,          1,          2,          2,2,20080106,       2020,   -64.3908,   143.2972,       3574,  3581.9,  -0.3378,  34.6520,2,  34.6509,2,   244.75,2,  245.66,2,   104.1,2,    2.26,2,   2.4833,2,   1.2843,2,   0.1814,2,  2251.1,2,  2349.4,6,  -0.043,2,   31.90,2,      0.001,2
09AR20071216,       CASO,      58,          1,          1,          1,2,20080106,       2020,   -64.3908,   143.2972,       3574,  3636.1,  -0.3649,  34.6489,2,  34.6482,2,   248.99,2,  248.19,2,   103.5,2,    2.26,2,   2.5322,2,   1.3176,2,   0.1780,2,  2250.7,6,    2348,2,  -0.043,2,   31.84,2,      0.001,2