BOTTLE,20230622CCHSIOENA
EXPOCODE,SECT_ID,STNNBR,CASTNO,SAMPNO,BTLNBR,BTLNBR_FLAG_W,DATE,TIME,LATITUDE,LONGITUDE,DEPTH,CTDPRS,CTDTMP,CTDSAL,CTDSAL_FLAG_W,SALNTY,SALNTY_FLAG_W,CTDOXY,CTDOXY_FLAG_W,OXYGEN,OXYGEN_FLAG_W,SILCAT,SILCAT_FLAG_W,PHSPHT,PHSPHT_FLAG_W,CFC-11,CFC-11_FLAG_W,CFC-12,CFC-12_FLAG_W,CFC113,CFC113_FLAG_W,TCARBN,TCARBN_FLAG_W,ALKALI,ALKALI_FLAG_W,FLUOR,FLUOR_FLAG_W,NO2+NO3,NO2+NO3_FLAG_W,PAR,PAR_FLAG_W
,,,,,,,,,,,METERS,DBAR,ITS-90,PSS-78,,PSS-78,,UMOL/KG,,UMOL/KG,,UMOL/KG,,UMOL/KG,,PMOL/KG,,PMOL/KG,,PMOL/KG,,UMOL/KG,,UMOL/KG,,MG/M^3,,UMOL/KG,,VOLTS,
09AR20071216,    CEAMARC,      51,          1,         24,         24,2,20080105,       0558,   -65.7695,   142.9582,       1646,     8.1,  -0.7113,  34.0480,2,  34.0465,2,   348.83,2,  349.76,2,    47.5,2,    1.76,2,   6.0135,2,   3.0087,2,   0.4533,2,  2177.6,6,  2299.6,6,   0.175,2,   27.13,2,      3.339,2
09AR20071216,    CEAMARC,      51,          1,         23,         23,2,20080105,       0558,   -65.7695,   142.9582,       1646,     8.0,  -0.7094,  34.0475,2,-999.0000,9,   348.83,2, -999.00,9,  -999.0,9, -999.00,9,-999.0000,9,-999.0000,9,-999.0000,9,  -999.0,9,  -999.0,9,   0.141,2, -999.00,9,      3.382,2
09AR20071216,    CEAMARC,      51,          1,         22,         22,2,20080105,       0558,   -65.7695,   142.9582,       1646,     8.0,  -0.7068,  34.0469,2,-999.0000,9,   348.83,2, -999.00,9,  -999.0,9, -999.00,9,-999.0000,9,-999.0000,9,-999.0000,9,  -999.0,9,  -999.0,9,   0.122,2, -999.00,9,      3.423,2
09AR20071216,    CEAMARC,      51,          1,         21,         21,2,20080105,       0558,   -65.7695,   142.9582,       1646,    23.5,  -0.8511,  34.0881,2,  34.0845,2,   346.79,2,  344.61,2,    48.2,2,    1.79,2,   5.8333,2,   2.9530,2,   0.4603,2,  2180.4,2,  2304.9,2,   1.085,2,   27.37,2,      2.881,2
09AR20071216,    CEAMARC,      51,          1,         20,         20,2,20080105,       0558,   -65.7695,   142.9582,       1646,    49.2,  -1.4129,  34.2356,2,-999.0000,9,   313.81,2, -999.00,9,  -999.0,9, -999.00,9,-999.0000,9,-999.0000,9,-999.0000,9,  -999.0,9,  -999.0,9,   1.638,2, -999.00,9,      2.135,2
09AR20071216,    CEAMARC,      51,          1,         19,         19,2,20080105,       0558,   -65.7695,   142.9582,       1646,    49.3,  -1.4156,  34.2365,2,  34.2368,2,   313.81,2,  320.28,2,    56.7,2,    1.98,2,   5.2384,2,   2.6279,2,   0.4110,2,  2202.7,2,  2313.5,2,   1.628,2,   29.03,2,      2.104,2
09AR20071216,    CEAMARC,      51,          1,         18,         18,2,20080105,       0558,   -65.7695,   142.9582,       1646,    98.9,  -1.6430,  34.3746,2,  34.3723,2,   297.69,2,  294.77,2,    72.3,2,    2.10,2,   4.6205,2,   2.3687,2,   0.3509,2,  2222.8,2,    2323,2,   0.510,2,   30.50,2,      0.919,2
09AR20071216,    CEAMARC,      51,          1,         17,         17,2,20080105,       0558,   -65.7695,   142.9582,       1646,   199.8,  -1.0310,  34.4670,2,  34.4666,2,   267.57,2,  267.77,2,    81.0,2,    2.14,2,   3.6848,2,   1.9032,2,   0.2878,2,  2235.8,2,  2326.9,2,  -0.023,2,   31.11,2,      0.001,2
09AR20071216,    CEAMARC,      51,          1,         16,         16,2,20080105,       0558,   -65.7695,   142.9582,       1646,   299.4,  -0.0656,  34.5811,2,  34.5805,2,   235.89,2,  234.60,2,    90.1,2,    2.18,2,   2.2098,2,   1.1585,2,   0.1741,2,    2246,2,  2337.4,2,  -0.031,2,   32.03,2,      0.001,2
09AR20071216,    CEAMARC,      51,          1,         15,         15,2,20080105,       0558,   -65.7695,   142.9582,       1646,   399.6,   0.2794,  34.6314,2,  34.6591,4,   223.24,2,  221.65,2,    96.9,2,    2.19,2,   1.5745,6,   0.8259,6,   0.1278,6,  2251.1,2,  2342.6,2,  -0.036,2,   32.07,2,      0.001,2
09AR20071216,    CEAMARC,      51,          1,         14,         14,2,20080105,       0558,   -65.7695,   142.9582,       1646,   499.9,   0.6984,  34.6800,2,  34.6799,2,   208.36,2,  209.47,2,   103.8,2,    2.23,2,   0.8679,2,   0.4496,2,   0.0657,2,  2256.6,2,    2348,6,  -0.034,2,   32.37,2,      0.001,2
09AR20071216,    CEAMARC,      51,          1,         13,         13,2,20080105,       0558,   -65.7695,   142.9582,       1646,   599.6,   0.5478,  34.6735,2,  34.6735,2,   210.76,2,  210.74,2,   106.1,2,    2.23,2,   0.9469,2,   0.4918,2,   0.0696,2,  2255.7,2,  2346.1,2,  -0.035,2,   32.37,2,      0.001,2
09AR20071216,    CEAMARC,      51,          1,         12,         12,2,20080105,       0558,   -65.7695,   142.9582,       1646,   751.0,   0.5079,  34.6838,2,  34.6835,2,   211.27,2,  211.30,2,   112.7,2,    2.24,2,   0.7418,2,   0.3835,2,   0.0563,2,  2260.1,2,  2350.3,2,  -0.036,2,   32.56,2,      0.001,2
09AR20071216,    CEAMARC,      51,          1,         11,         11,2,20080105,       0558,   -65.7695,   142.9582,       1646,   900.2,   0.3308,  34.6758,2,  34.6778,2,   215.57,2,  214.60,2,   113.6,2,    2.26,2,   0.9564,2,   0.4936,2,   0.0717,2,  2259.7,2,  2351.9,2,  -0.036,2,   32.49,2,      0.001,2
09AR20071216,    CEAMARC,      51,          1,         10,         10,2,20080105,       0558,   -65.7695,   142.9582,       1646,  1049.8,   0.2414,  34.6731,2,  34.6731,2,   216.27,2,  218.42,2,   113.9,2,    2.26,2,   1.0016,2,   0.5198,2,   0.0755,2,  2258.7,2,  2354.5,2,  -0.036,2,   32.54,2,      0.001,2
09AR20071216,    CEAMARC,      51,          1,          9,          9,2,20080105,       0558,   -65.7695,   142.9582,       1646,  1200.5,   0.1981,  34.6769,2,  34.6768,2,   219.03,2,  220.20,2,   115.6,2,    2.26,2,   0.9921,2,   0.5088,2,   0.0738,2,  2260.6,2,  2354.2,2,  -0.032,2,   32.52,2,      0.001,2
09AR20071216,    CEAMARC,      51,          1,          8,          8,2,20080105,       0558,   -65.7695,   142.9582,       1646,  1349.6,   0.1242,  34.6749,2,  34.6748,2,   222.12,2,  222.29,2,   115.0,2,    2.25,2,   1.1380,2,   0.5849,2,   0.0866,2,  2262.2,2,  2350.6,2,  -0.036,2,   32.51,2,      0.001,2
09AR20071216,    CEAMARC,      51,          1,          7,          7,2,20080105,       0558,   -65.7695,   142.9582,       1646,  1499.5,  -0.0500,  34.6625,2,  34.6623,2,   232.97,2,  229.55,2,   110.4,2,    2.23,2,   1.5642,2,   0.8018,2,   0.1269,2,  -999.0,9,  2351.3,2,  -0.036,2,   32.20,2,      0.001,2
09AR20071216,    CEAMARC,      51,          1,          6,          6,2,20080105,       0558,   -65.7695,   142.9582,       1646,  1499.4,  -0.0538,  34.6619,2,-999.0000,9,   232.97,2, -999.00,9,  -999.0,9, -999.00,9,-999.0000,9,-999.0000,9,-999.0000,9,  -999.0,9,  -999.0,9,  -0.038,2, -999.00,9,      0.001,2
09AR20071216,    CEAMARC,      51,          1,          5,          5,2,20080105,       0558,   -65.7695,   142.9582,       1646,  1499.4,  -0.0538,  34.6620,2,-999.0000,9,   232.97,2, -999.00,9,  -999.0,9, -999.00,9,-999.0000,9,-999.0000,9,-999.0000,9,  2256.4,2,  -999.0,9,  -0.035,2, -999.00,9,      0.001,2
09AR20071216,    CEAMARC,      51,          1,          4,          4,2,20080105,       0558,   -65.7695,   142.9582,       1646,  1619.6,  -0.1473,  34.6526,2,-999.0000,9,   235.24,2, -999.00,9,  -999.0,9, -999.00,9,-999.0000,9,-999.0000,9,-999.0000,9,  -999.0,9,  -999.0,9,  -0.036,2, -999.00,9,      0.001,2
09AR20071216,    CEAMARC,      51,          1,          3,          3,2,20080105,       0558,   -65.7695,   142.9582,       1646,  1619.6,  -0.1482,  34.6525,2,  34.6517,2,   235.24,2,  233.76,2,   107.4,2,    2.22,2,   1.7567,2,   0.9311,2,   0.1350,2,  2256.6,2,  2351.6,2,  -0.034,2,   32.08,2,      0.001,2
09AR20071216,    CEAMARC,      51,          1,          2,          2,2,20080105,       0558,   -65.7695,   142.9582,       1646,  1691.3,  -0.3013,  34.6347,2,-999.0000,9,   241.93,2, -999.00,9,  -999.0,9, -999.00,9,-999.0000,9,-999.0000,9,-999.0000,9,  -999.0,9,  -999.0,9,  -0.036,2, -999.00,9,      0.001,2
09AR20071216,    CEAMARC,      51,          1,          1,          1,2,20080105,       0558,   -65.7695,   142.9582,       1646,  1691.3,  -0.3013,  34.6348,2,  34.6340,2,   241.93,2,  243.37,2,   103.9,2,    2.20,2,   2.0960,2,   1.0981,2,   0.1594,2,  2252.9,6,  2351.1,2,  -0.033,2,   31.86,2,      0.001,2
09AR20071216,    CEAMARC,      52,          1,         24,         24,2,20080105,       1907,   -65.7232,   142.9572,       2079,     6.7,  -0.5148,  34.0452,2,  34.0520,2,   349.57,2,  349.28,2,    48.0,2,    1.74,2,   6.0415,2,   3.0525,2,   0.4777,2,  2177.1,6,    2303,6,   0.614,2,   26.85,2,      3.018,2
09AR20071216,    CEAMARC,      52,          1,         23,         23,2,20080105,       1907,   -65.7232,   142.9572,       2079,     6.7,  -0.5152,  34.0586,2,-999.0000,9,   349.57,2, -999.00,9,  -999.0,9, -999.00,9,-999.0000,9,-999.0000,9,-999.0000,9,  -999.0,9,  -999.0,9,   0.706,2, -999.00,9,      3.015,2
09AR20071216,    CEAMARC,      52,          1,         22,         22,2,20080105,       1907,   -65.7232,   142.9572,       2079,     6.7,  -0.5296,  34.0501,2,-999.0000,9,   349.57,2, -999.00,9,  -999.0,9, -999.00,9,-999.0000,9,-999.0000,9,-999.0000,9,  -999.0,9,  -999.0,9,   0.779,2, -999.00,9,      3.012,2
09AR20071216,    CEAMARC,      52,          1,         21,         21,2,20080105,       1907,   -65.7232,   142.9572,       2079,    49.6,  -1.3286,  34.2019,2,  34.1997,2,   332.76,2,  334.45,2,    54.2,2,    1.92,2,   5.2677,2,   2.7018,2,   0.4239,2,  2194.9,2,  2311.2,2,   2.358,2,   27.96,2,      1.795,2
09AR20071216,    CEAMARC,      52,          1,         20,         20,2,20080105,       1907,   -65.7232,   142.9572,       2079,    99.4,  -1.5442,  34.3969,2,  34.3962,2,   289.62,2,  288.81,2,    74.6,2,    2.10,2,   4.3613,2,   2.2628,2,   0.3472,2,  2225.9,2,    2328,2,   0.227,2,   30.19,2,      0.691,2
09AR20071216,    CEAMARC,      52,          1,         19,         19,2,20080105,       1907,   -65.7232,   142.9572,       2079,   150.1,  -1.3573,  34.4326,2,  34.4332,2,   281.38,2,  281.29,2,    78.0,2,    2.14,2,   4.1325,2,   2.1261,2,   0.3509,2,  2229.7,2,  2327.9,2,   0.020,2,   30.30,3,      0.001,2
09AR20071216,    CEAMARC,      52,          1,         18,         18,2,20080105,       1907,   -65.7232,   142.9572,       2079,   198.4,  -0.9563,  34.4724,2,  34.4732,2,   269.17,2,  267.90,2,    81.1,2,    2.14,2,   3.4595,2,   1.8165,2,   0.2805,2,  2236.1,2,  2329.8,2,  -0.014,2,   30.41,3,      0.001,2
09AR20071216,    CEAMARC,      52,          1,         17,         17,2,20080105,       1907,   -65.7232,   142.9572,       2079,   299.1,  -0.2494,  34.5549,2,  34.5560,2,   239.44,2,  242.60,2,    87.8,2,    2.17,2,   2.6122,2,   1.3562,2,   0.2121,2,  2244.7,2,  2337.8,2,  -0.030,2,   30.60,3,      0.001,2
09AR20071216,    CEAMARC,      52,          1,         16,         16,2,20080105,       1907,   -65.7232,   142.9572,       2079,   399.6,   0.2335,  34.6199,2,  34.6213,2,   224.28,2,  223.13,2,    94.3,2,    2.18,2,   1.6490,2,   0.8725,2,   0.1252,2,  2250.6,2,  2343.5,2,  -0.034,2,   30.87,3,      0.001,2
09AR20071216,    CEAMARC,      52,          1,         15,         15,2,20080105,       1907,   -65.7232,   142.9572,       2079,   499.2,   0.6663,  34.6737,2,  34.6744,2,   210.85,2,  208.91,2,   101.2,2,    2.20,2,   0.9438,2,   0.4913,2,   0.0736,2,  2256.1,2,  2348.7,2,  -0.033,2,   30.95,3,      0.001,2
09AR20071216,    CEAMARC,      52,          1,         14,         14,2,20080105,       1907,   -65.7232,   142.9572,       2079,   598.7,   0.4927,  34.6658,2,  34.6662,2,   213.37,2,  213.08,2,   104.7,2,    2.23,2,   1.1906,2,   0.6070,2,   0.0912,2,  2256.9,2,  2351.2,2,  -0.036,2,   32.00,2,      0.001,2
09AR20071216,    CEAMARC,      52,          1,         13,         13,2,20080105,       1907,   -65.7232,   142.9572,       2079,   700.0,   0.4052,  34.6652,2,  34.6654,2,   214.45,2,  215.08,2,   107.8,2,    2.25,2,   1.1195,2,   0.5763,2,   0.0825,2,  2257.2,2,  2351.9,2,  -0.034,2,   32.31,2,      0.001,2
09AR20071216,    CEAMARC,      52,          1,         12,         12,2,20080105,       1907,   -65.7232,   142.9572,       2079,   800.8,   0.3836,  34.6699,2,  34.6705,2,   215.05,2,  214.74,2,   110.6,2,    2.26,2,   1.0350,2,   0.5324,2,   0.0774,2,  2258.8,2,  2353.5,6,  -0.038,2,   32.30,2,      0.001,2
09AR20071216,    CEAMARC,      52,          1,         11,         11,2,20080105,       1907,   -65.7232,   142.9572,       2079,   948.3,   0.3140,  34.6742,2,  34.6756,2,   215.79,2,  216.78,2,   113.7,2,    2.26,2,   1.0237,2,   0.5278,2,   0.0808,2,  2259.4,2,  2353.1,2,  -0.036,2,   32.33,2,      0.001,2
09AR20071216,    CEAMARC,      52,          1,         10,         10,2,20080105,       1907,   -65.7232,   142.9572,       2079,  1099.9,   0.2219,  34.6726,2,  34.6725,2,   219.79,2,  221.73,2,   114.4,2,    2.26,2,   1.0866,2,   0.5557,2,   0.0775,2,  2259.1,2,  2352.7,2,  -0.038,2,   32.21,2,      0.001,2
09AR20071216,    CEAMARC,      52,          1,          9,          9,2,20080105,       1907,   -65.7232,   142.9572,       2079,  1300.3,   0.1523,  34.6732,2,  34.6731,2,   222.56,2,  222.68,2,   114.7,2,    2.26,2,   1.1331,2,   0.5783,2,   0.0829,2,  2258.5,2,  2356.2,2,  -0.035,2,   32.16,2,      0.001,2
09AR20071216,    CEAMARC,      52,          1,          8,          8,2,20080105,       1907,   -65.7232,   142.9572,       2079,  1498.9,  -0.0998,  34.6508,2,  34.6527,2,   233.14,2,  232.67,2,   108.1,2,    2.24,2,   1.6565,2,   0.8568,2,   0.1244,2,  2255.1,2,  2350.4,2,  -0.036,2,   31.71,2,      0.001,2
09AR20071216,    CEAMARC,      52,          1,          7,          7,2,20080105,       1907,   -65.7232,   142.9572,       2079,  1698.4,  -0.0254,  34.6677,2,-999.0000,9,   225.52,2, -999.00,9,  -999.0,9, -999.00,9,-999.0000,9,-999.0000,9,-999.0000,9,  -999.0,9,  -999.0,9,  -0.034,2, -999.00,9,      0.001,2
09AR20071216,    CEAMARC,      52,          1,          6,          6,2,20080105,       1907,   -65.7232,   142.9572,       2079,  1822.4,  -0.1959,  34.6510,2,-999.0000,9,   236.87,2, -999.00,9,  -999.0,9, -999.00,9,-999.0000,9,-999.0000,9,-999.0000,9,  -999.0,9,  -999.0,9,  -0.034,2, -999.00,9,      0.001,2
09AR20071216,    CEAMARC,      52,          1,          5,          5,2,20080105,       1907,   -65.7232,   142.9572,       2079,  1821.8,  -0.1939,  34.6513,2,  34.6515,2,   236.87,2,  236.19,2,   105.8,2,    2.22,2,   1.8969,2,   0.9892,2,   0.1448,2,  2254.7,2,  2352.3,2,  -0.036,2,   31.43,2,      0.001,2
09AR20071216,    CEAMARC,      52,          1,          4,          4,2,20080105,       1907,   -65.7232,   142.9572,       2079,  1969.9,  -0.2590,  34.6457,2,-999.0000,9,   239.20,2, -999.00,9,  -999.0,9, -999.00,9,-999.0000,9,-999.0000,9,-999.0000,9,  -999.0,9,  -999.0,9,  -0.038,2, -999.00,9,      0.001,2
09AR20071216,    CEAMARC,      52,          1,          3,          3,2,20080105,       1907,   -65.7232,   142.9572,       2079,  1970.0,  -0.2589,  34.6457,2,  34.6458,2,   239.20,2,  239.58,2,   104.0,2,    2.21,2,   2.0584,2,   1.0709,2,   0.1564,2,  2253.3,6,  2350.4,2,  -0.037,2,   30.94,2,      0.001,2
09AR20071216,    CEAMARC,      52,          1,          2,          2,2,20080105,       1907,   -65.7232,   142.9572,       2079,  2016.8,  -0.2648,  34.6451,2,-999.0000,9,   239.54,2, -999.00,9,  -999.0,9, -999.00,9,-999.0000,9,-999.0000,9,-999.0000,9,  -999.0,9,  -999.0,9,  -0.036,2, -999.00,9,      0.001,2
09AR20071216,    CEAMARC,      52,          1,          1,          1,2,20080105,       1907,   -65.7232,   142.9572,       2079,  2016.6,  -0.2648,  34.6451,2,  34.6450,2,   239.54,2,  240.67,2,   103.3,2,    2.20,2,   2.1112,2,   1.0858,2,   0.1634,2,  2253.6,2,  2349.5,6,  -0.036,2,   30.62,2,      0.001,2