BOTTLE,20230622CCHSIOENA
EXPOCODE,SECT_ID,STNNBR,CASTNO,SAMPNO,BTLNBR,BTLNBR_FLAG_W,DATE,TIME,LATITUDE,LONGITUDE,DEPTH,CTDPRS,CTDTMP,CTDSAL,CTDSAL_FLAG_W,SALNTY,SALNTY_FLAG_W,CTDOXY,CTDOXY_FLAG_W,OXYGEN,OXYGEN_FLAG_W,SILCAT,SILCAT_FLAG_W,PHSPHT,PHSPHT_FLAG_W,CFC-11,CFC-11_FLAG_W,CFC-12,CFC-12_FLAG_W,CFC113,CFC113_FLAG_W,TCARBN,TCARBN_FLAG_W,ALKALI,ALKALI_FLAG_W,FLUOR,FLUOR_FLAG_W,NO2+NO3,NO2+NO3_FLAG_W,PAR,PAR_FLAG_W
,,,,,,,,,,,METERS,DBAR,ITS-90,PSS-78,,PSS-78,,UMOL/KG,,UMOL/KG,,UMOL/KG,,UMOL/KG,,PMOL/KG,,PMOL/KG,,PMOL/KG,,UMOL/KG,,UMOL/KG,,MG/M^3,,UMOL/KG,,VOLTS,
09AR20071216,    CEAMARC,      39,          1,         24,         24,2,20080103,       0300,   -66.5663,   144.9758,        455,     5.1,  -0.7011,  34.2576,2,  34.2585,2,   350.11,2,  349.49,2,    57.1,2,    1.60,2,   5.9229,2,   3.0247,2,   0.4631,2,  2188.3,6,  2318.9,6,   0.701,2,   26.12,2,      2.873,2
09AR20071216,    CEAMARC,      39,          1,         23,         23,2,20080103,       0300,   -66.5663,   144.9758,        455,     5.2,  -0.6764,  34.2590,2,-999.0000,9,   350.11,2, -999.00,9,  -999.0,9, -999.00,9,-999.0000,9,-999.0000,9,-999.0000,9,  -999.0,9,  -999.0,9,   0.809,2, -999.00,9,      2.865,2
09AR20071216,    CEAMARC,      39,          1,         22,         22,2,20080103,       0300,   -66.5663,   144.9758,        455,     5.4,  -0.7074,  34.2574,2,-999.0000,9,   350.11,2, -999.00,9,  -999.0,9, -999.00,9,-999.0000,9,-999.0000,9,-999.0000,9,  -999.0,9,  -999.0,9,   0.719,2, -999.00,9,      2.833,2
09AR20071216,    CEAMARC,      39,          1,         21,         21,2,20080103,       0300,   -66.5663,   144.9758,        455,     5.3,  -0.6195,  34.2609,2,-999.0000,9,   350.11,2, -999.00,9,  -999.0,9, -999.00,9,-999.0000,9,-999.0000,9,-999.0000,9,  -999.0,9,  -999.0,9,   0.826,2, -999.00,9,      2.841,2
09AR20071216,    CEAMARC,      39,          1,         20,         20,2,20080103,       0300,   -66.5663,   144.9758,        455,    39.8,  -0.7746,  34.2640,2,  34.2642,2,   349.55,2,  351.35,2,    57.4,2,    1.59,2,   6.0031,2,   3.0226,2,   0.4934,2,  2186.9,2,  2323.7,2,   6.371,2,   25.88,2,      1.776,2
09AR20071216,    CEAMARC,      39,          1,         19,         19,2,20080103,       0300,   -66.5663,   144.9758,        455,    39.7,  -0.7768,  34.2639,2,-999.0000,9,   349.55,2, -999.00,9,  -999.0,9, -999.00,9,-999.0000,9,-999.0000,9,-999.0000,9,  -999.0,9,  -999.0,9,   6.233,2, -999.00,9,      1.764,2
09AR20071216,    CEAMARC,      39,          1,         18,         18,2,20080103,       0300,   -66.5663,   144.9758,        455,    49.4,  -0.8218,  34.2658,2,-999.0000,9,   347.65,2, -999.00,9,  -999.0,9, -999.00,9,-999.0000,9,-999.0000,9,-999.0000,9,  -999.0,9,  -999.0,9,   6.785,2, -999.00,9,      1.389,2
09AR20071216,    CEAMARC,      39,          1,         17,         17,2,20080103,       0300,   -66.5663,   144.9758,        455,    49.3,  -0.8183,  34.2650,2,-999.0000,9,   347.65,2, -999.00,9,  -999.0,9, -999.00,9,-999.0000,9,-999.0000,9,-999.0000,9,  -999.0,9,  -999.0,9,   6.523,2, -999.00,9,      1.403,2
09AR20071216,    CEAMARC,      39,          1,         16,         16,2,20080103,       0300,   -66.5663,   144.9758,        455,    79.7,  -1.5142,  34.4089,2,  34.4089,2,   319.41,2,  319.53,2,    73.5,2,    1.96,2,   5.0180,2,   2.6270,2,   0.4090,2,  2217.4,2,  2329.9,2,   1.952,2,   28.54,3,      0.198,2
09AR20071216,    CEAMARC,      39,          1,         15,         15,2,20080103,       0300,   -66.5663,   144.9758,        455,    79.9,  -1.5143,  34.4089,2,-999.0000,9,   319.41,2, -999.00,9,  -999.0,9, -999.00,9,-999.0000,9,-999.0000,9,-999.0000,9,  -999.0,9,  -999.0,9,   2.092,2, -999.00,9,      0.183,2
09AR20071216,    CEAMARC,      39,          1,         14,         14,2,20080103,       0300,   -66.5663,   144.9758,        455,    99.9,  -1.5073,  34.4198,2,-999.0000,9,   320.98,2, -999.00,9,  -999.0,9, -999.00,9,-999.0000,9,-999.0000,9,-999.0000,9,  -999.0,9,  -999.0,9,   1.276,2, -999.00,9,      0.001,2
09AR20071216,    CEAMARC,      39,          1,         13,         13,2,20080103,       0300,   -66.5663,   144.9758,        455,    99.8,  -1.5076,  34.4195,2,  34.4197,2,   320.98,2,  320.14,2,    74.5,2,    1.98,2,   5.1080,2,   2.6188,2,   0.3865,2,  2218.8,2,  2326.6,2,   1.242,2,   28.36,3,      0.001,2
09AR20071216,    CEAMARC,      39,          1,         12,         12,2,20080103,       0300,   -66.5663,   144.9758,        455,   150.3,  -1.6557,  34.4318,2,  34.4317,2,   316.61,2,  316.00,2,    74.8,2,    2.03,2,   5.1502,2,   2.6175,2,   0.4073,2,  2224.4,2,  2330.1,6,   0.571,2,   28.77,3,      0.001,2
09AR20071216,    CEAMARC,      39,          1,         11,         11,2,20080103,       0300,   -66.5663,   144.9758,        455,   150.5,  -1.6479,  34.4324,2,-999.0000,9,   316.61,2, -999.00,9,  -999.0,9, -999.00,9,-999.0000,9,-999.0000,9,-999.0000,9,  -999.0,9,  -999.0,9,   0.689,2, -999.00,9,      0.001,2
09AR20071216,    CEAMARC,      39,          1,         10,         10,2,20080103,       0300,   -66.5663,   144.9758,        455,   200.7,  -1.7433,  34.4458,2,  34.4458,2,   312.14,2,  313.22,2,    76.5,2,    2.05,2,   4.8155,2,   2.5857,2,   0.3927,2,  2226.6,2,  2332.4,2,   0.192,2,   28.69,3,      0.001,2
09AR20071216,    CEAMARC,      39,          1,          9,          9,2,20080103,       0300,   -66.5663,   144.9758,        455,   200.9,  -1.7458,  34.4458,2,-999.0000,9,   312.14,2, -999.00,9,  -999.0,9, -999.00,9,-999.0000,9,-999.0000,9,-999.0000,9,  -999.0,9,  -999.0,9,   0.170,2, -999.00,9,      0.001,2
09AR20071216,    CEAMARC,      39,          1,          8,          8,2,20080103,       0300,   -66.5663,   144.9758,        455,   300.2,  -1.2756,  34.5050,2,  34.5050,2,   289.12,2,  284.92,2,    82.3,2,    2.13,2,   3.9163,2,   2.0724,2,   0.2962,2,  2235.2,2,  2332.7,2,   0.220,2,   30.96,2,      0.001,2
09AR20071216,    CEAMARC,      39,          1,          7,          7,2,20080103,       0300,   -66.5663,   144.9758,        455,   300.1,  -1.2738,  34.5053,2,-999.0000,9,   289.12,2, -999.00,9,  -999.0,9, -999.00,9,-999.0000,9,-999.0000,9,-999.0000,9,  -999.0,9,  -999.0,9,   0.174,2, -999.00,9,      0.001,2
09AR20071216,    CEAMARC,      39,          1,          6,          6,2,20080103,       0300,   -66.5663,   144.9758,        455,   339.9,  -1.5262,  34.5419,2,  34.5377,2,   293.09,2,  297.51,2,    81.3,2,    2.11,2,   4.5027,2,   2.3437,2,   0.3575,2,  2235.6,2,  2339.5,2,   0.032,2,   30.73,2,      0.001,2
09AR20071216,    CEAMARC,      39,          1,          5,          5,2,20080103,       0300,   -66.5663,   144.9758,        455,   339.8,  -1.5312,  34.5412,2,-999.0000,9,   293.09,2, -999.00,9,  -999.0,9, -999.00,9,-999.0000,9,-999.0000,9,-999.0000,9,  -999.0,9,  -999.0,9,   0.031,2, -999.00,9,      0.001,2
09AR20071216,    CEAMARC,      39,          1,          4,          4,2,20080103,       0300,   -66.5663,   144.9758,        455,   400.3,  -1.8318,  34.6311,2,  34.6279,2,   305.84,2,  305.09,2,    79.1,2,    2.10,2,   4.8987,2,   2.5028,2,   0.3912,2,  2240.3,2,    2342,2,  -0.026,2,   30.62,2,      0.001,2
09AR20071216,    CEAMARC,      39,          1,          3,          3,2,20080103,       0300,   -66.5663,   144.9758,        455,   400.3,  -1.8336,  34.6290,2,-999.0000,9,   305.84,2, -999.00,9,  -999.0,9, -999.00,9,-999.0000,9,-999.0000,9,-999.0000,9,  -999.0,9,  -999.0,9,  -0.023,2, -999.00,9,      0.001,2
09AR20071216,    CEAMARC,      39,          1,          2,          2,2,20080103,       0300,   -66.5663,   144.9758,        455,   452.0,  -1.8932,  34.6657,2,  34.6660,2,   310.54,2,  309.60,2,    79.1,2,    2.11,2,   4.9972,2,   2.5708,2,   0.3892,2,  2243.4,6,    2344,6,  -0.034,2,   30.64,2,      0.001,2
09AR20071216,    CEAMARC,      39,          1,          1,          1,2,20080103,       0300,   -66.5663,   144.9758,        455,   452.7,  -1.8932,  34.6658,2,-999.0000,9,   310.54,2, -999.00,9,  -999.0,9, -999.00,9,-999.0000,9,-999.0000,9,-999.0000,9,  -999.0,9,  -999.0,9,  -0.033,2, -999.00,9,      0.001,2
09AR20071216,    CEAMARC,      40,          1,         24,         24,2,20080103,       0652,   -66.5562,   145.3305,        399,     4.9,  -0.6757,  34.2325,2,-999.0000,9,   352.65,2, -999.00,9,  -999.0,9, -999.00,9,-999.0000,9,-999.0000,9,-999.0000,9,  -999.0,9,  -999.0,9,   0.822,2, -999.00,9,      2.803,2
09AR20071216,    CEAMARC,      40,          1,         23,         23,2,20080103,       0652,   -66.5562,   145.3305,        399,     4.9,  -0.6829,  34.2325,2,-999.0000,9,   352.65,2, -999.00,9,  -999.0,9, -999.00,9,-999.0000,9,-999.0000,9,-999.0000,9,  -999.0,9,  -999.0,9,   0.880,2, -999.00,9,      2.803,2
09AR20071216,    CEAMARC,      40,          1,         22,         22,2,20080103,       0652,   -66.5562,   145.3305,        399,     4.8,  -0.6775,  34.2324,2,-999.0000,9,   352.65,2, -999.00,9,  -999.0,9, -999.00,9,-999.0000,9,-999.0000,9,-999.0000,9,  -999.0,9,  -999.0,9,   0.872,2, -999.00,9,      2.809,2
09AR20071216,    CEAMARC,      40,          1,         21,         21,2,20080103,       0652,   -66.5562,   145.3305,        399,     4.9,  -0.6756,  34.2325,2,  34.2328,2,   352.65,2,  352.84,2,    57.6,2,    1.60,2,   5.8497,2,   2.9882,2,   0.4588,2,  2186.6,6,  2317.3,6,   0.909,2,   26.18,2,      2.806,2
09AR20071216,    CEAMARC,      40,          1,         20,         20,2,20080103,       0652,   -66.5562,   145.3305,        399,    39.3,  -1.0472,  34.2714,2,-999.0000,9,   342.01,2, -999.00,9,  -999.0,9, -999.00,9,-999.0000,9,-999.0000,9,-999.0000,9,  -999.0,9,  -999.0,9,   5.139,2, -999.00,9,      1.317,2
09AR20071216,    CEAMARC,      40,          1,         19,         19,2,20080103,       0652,   -66.5562,   145.3305,        399,    39.2,  -1.0480,  34.2716,2,-999.0000,9,   342.01,2, -999.00,9,  -999.0,9, -999.00,9,-999.0000,9,-999.0000,9,-999.0000,9,  -999.0,9,  -999.0,9,   5.265,2, -999.00,9,      1.316,2
09AR20071216,    CEAMARC,      40,          1,         18,         18,2,20080103,       0652,   -66.5562,   145.3305,        399,    39.3,  -1.0485,  34.2723,2,-999.0000,9,   342.01,2, -999.00,9,  -999.0,9, -999.00,9,-999.0000,9,-999.0000,9,-999.0000,9,  -999.0,9,  -999.0,9,   5.082,2, -999.00,9,      1.316,2
09AR20071216,    CEAMARC,      40,          1,         17,         17,2,20080103,       0652,   -66.5562,   145.3305,        399,    39.2,  -1.0579,  34.2746,2,-999.0000,9,   342.01,2, -999.00,9,  -999.0,9, -999.00,9,-999.0000,9,-999.0000,9,-999.0000,9,  -999.0,9,  -999.0,9,   5.072,2, -999.00,9,      1.316,2
09AR20071216,    CEAMARC,      40,          1,         16,         16,2,20080103,       0652,   -66.5562,   145.3305,        399,    39.3,  -1.0604,  34.2760,2,-999.0000,9,   342.01,2, -999.00,9,  -999.0,9, -999.00,9,-999.0000,9,-999.0000,9,-999.0000,9,  -999.0,9,  -999.0,9,   5.023,2, -999.00,9,      1.314,2
09AR20071216,    CEAMARC,      40,          1,         15,         15,2,20080103,       0652,   -66.5562,   145.3305,        399,    39.4,  -1.0630,  34.2844,2,-999.0000,9,   342.01,2, -999.00,9,  -999.0,9, -999.00,9,-999.0000,9,-999.0000,9,-999.0000,9,  -999.0,9,  -999.0,9,   5.137,2, -999.00,9,      1.308,2
09AR20071216,    CEAMARC,      40,          1,         14,         14,2,20080103,       0652,   -66.5562,   145.3305,        399,    39.5,  -1.0618,  34.2838,2,-999.0000,9,   342.01,2, -999.00,9,  -999.0,9, -999.00,9,-999.0000,9,-999.0000,9,-999.0000,9,  -999.0,9,  -999.0,9,   5.240,2, -999.00,9,      1.306,2
09AR20071216,    CEAMARC,      40,          1,         13,         13,2,20080103,       0652,   -66.5562,   145.3305,        399,    39.5,  -1.0632,  34.2853,2,  34.2830,2,   342.01,2,  341.56,2,    60.2,2,    1.73,2,   5.5789,2,   2.8694,2,   0.4255,2,  2194.5,2,  2321.2,2,   5.316,2,   27.06,2,      1.308,2
09AR20071216,    CEAMARC,      40,          1,         12,         12,2,20080103,       0652,   -66.5562,   145.3305,        399,    80.1,  -1.4571,  34.3875,2,-999.0000,9,   318.61,2, -999.00,9,  -999.0,9, -999.00,9,-999.0000,9,-999.0000,9,-999.0000,9,  -999.0,9,  -999.0,9,   1.759,2, -999.00,9,      0.001,2
09AR20071216,    CEAMARC,      40,          1,         11,         11,2,20080103,       0652,   -66.5562,   145.3305,        399,    79.9,  -1.4560,  34.3872,2,  34.3878,2,   318.61,2,  318.19,2,    71.2,2,    1.97,2,   5.0251,2,   2.6149,2,   0.3869,2,  2219.2,2,    2327,2,   1.627,2,   29.01,2,      0.001,2
09AR20071216,    CEAMARC,      40,          1,         10,         10,2,20080103,       0652,   -66.5562,   145.3305,        399,   151.7,  -1.5446,  34.4166,2,-999.0000,9,   310.75,2, -999.00,9,  -999.0,9, -999.00,9,-999.0000,9,-999.0000,9,-999.0000,9,  -999.0,9,  -999.0,9,   0.614,2, -999.00,9,      0.001,2
09AR20071216,    CEAMARC,      40,          1,          9,          9,2,20080103,       0652,   -66.5562,   145.3305,        399,   151.5,  -1.5439,  34.4165,2,  34.4164,2,   310.75,2,  311.05,2,    74.4,2,    2.03,2,   4.9262,2,   2.5368,2,   0.3661,2,  2223.2,2,  2328.5,6,   0.616,2,   29.57,2,      0.001,2
09AR20071216,    CEAMARC,      40,          1,          8,          8,2,20080103,       0652,   -66.5562,   145.3305,        399,   229.9,  -1.0868,  34.5002,2,-999.0000,9,   275.22,2, -999.00,9,  -999.0,9, -999.00,9,-999.0000,9,-999.0000,9,-999.0000,9,  -999.0,9,  -999.0,9,   0.021,2, -999.00,9,      0.001,2
09AR20071216,    CEAMARC,      40,          1,          7,          7,2,20080103,       0652,   -66.5562,   145.3305,        399,   229.7,  -0.9872,  34.5050,2,  34.5028,2,   275.22,2,  273.15,2,    83.5,2,    2.12,2,   3.5716,6,   1.8969,6,   0.2712,6,    2237,2,    2332,2,   0.012,2,   30.79,2,      0.001,2
09AR20071216,    CEAMARC,      40,          1,          6,          6,2,20080103,       0652,   -66.5562,   145.3305,        399,   276.8,  -1.2746,  34.5134,2,-999.0000,9,   286.86,2, -999.00,9,  -999.0,9, -999.00,9,-999.0000,9,-999.0000,9,-999.0000,9,  -999.0,9,  -999.0,9,   0.046,2, -999.00,9,      0.001,2
09AR20071216,    CEAMARC,      40,          1,          5,          5,2,20080103,       0652,   -66.5562,   145.3305,        399,   276.9,  -1.2751,  34.5131,2,  34.5121,2,   286.86,2,  286.36,2,    82.5,2,    2.11,2,   3.9973,2,   2.0960,2,   0.3068,2,  2235.7,2,  2336.2,2,   0.040,2,   30.45,2,      0.001,2
09AR20071216,    CEAMARC,      40,          1,          4,          4,2,20080103,       0652,   -66.5562,   145.3305,        399,   341.5,  -1.5298,  34.5841,2,-999.0000,9,   292.91,2, -999.00,9,  -999.0,9, -999.00,9,-999.0000,9,-999.0000,9,-999.0000,9,  -999.0,9,  -999.0,9,  -0.018,2, -999.00,9,      0.001,2
09AR20071216,    CEAMARC,      40,          1,          3,          3,2,20080103,       0652,   -66.5562,   145.3305,        399,   341.7,  -1.5248,  34.5832,2,  34.5811,2,   292.91,2,  292.94,2,    81.5,2,    2.11,2,   4.3211,2,   2.2586,2,   0.3243,2,  2240.7,2,  2338.6,2,  -0.017,2,   30.45,2,      0.001,2
09AR20071216,    CEAMARC,      40,          1,          2,          2,2,20080103,       0652,   -66.5562,   145.3305,        399,   391.3,  -1.8366,  34.6620,2,-999.0000,9,   307.78,2, -999.00,9,  -999.0,9, -999.00,9,-999.0000,9,-999.0000,9,-999.0000,9,  -999.0,9,  -999.0,9,  -0.030,2, -999.00,9,      0.001,2
09AR20071216,    CEAMARC,      40,          1,          1,          1,2,20080103,       0652,   -66.5562,   145.3305,        399,   391.0,  -1.8352,  34.6618,2,  34.6603,2,   307.78,2,  307.48,2,    79.6,2,    2.11,2,   4.9545,2,   2.5185,2,   0.3876,2,  2244.1,6,  2343.3,6,  -0.033,2,   30.27,2,      0.001,2