BOTTLE,20230622CCHSIOENA
EXPOCODE,SECT_ID,STNNBR,CASTNO,SAMPNO,BTLNBR,BTLNBR_FLAG_W,DATE,TIME,LATITUDE,LONGITUDE,DEPTH,CTDPRS,CTDTMP,CTDSAL,CTDSAL_FLAG_W,SALNTY,SALNTY_FLAG_W,CTDOXY,CTDOXY_FLAG_W,OXYGEN,OXYGEN_FLAG_W,SILCAT,SILCAT_FLAG_W,PHSPHT,PHSPHT_FLAG_W,CFC-11,CFC-11_FLAG_W,CFC-12,CFC-12_FLAG_W,CFC113,CFC113_FLAG_W,TCARBN,TCARBN_FLAG_W,ALKALI,ALKALI_FLAG_W,FLUOR,FLUOR_FLAG_W,NO2+NO3,NO2+NO3_FLAG_W,PAR,PAR_FLAG_W
,,,,,,,,,,,METERS,DBAR,ITS-90,PSS-78,,PSS-78,,UMOL/KG,,UMOL/KG,,UMOL/KG,,UMOL/KG,,PMOL/KG,,PMOL/KG,,PMOL/KG,,UMOL/KG,,UMOL/KG,,MG/M^3,,UMOL/KG,,VOLTS,
09AR20071216,    CEAMARC,      45,          1,         24,         24,2,20080104,       0831,   -66.1558,   143.3320,        527,     5.9,  -0.5143,  34.1596,2,-999.0000,9,   348.71,2, -999.00,9,  -999.0,9, -999.00,9,-999.0000,9,-999.0000,9,-999.0000,9,  -999.0,9,  -999.0,9,   1.631,2, -999.00,9,      2.795,2
09AR20071216,    CEAMARC,      45,          1,         23,         23,2,20080104,       0831,   -66.1558,   143.3320,        527,     5.9,  -0.5132,  34.1595,2,-999.0000,9,   348.71,2, -999.00,9,  -999.0,9, -999.00,9,-999.0000,9,-999.0000,9,-999.0000,9,  -999.0,9,  -999.0,9,   1.602,2, -999.00,9,      2.795,2
09AR20071216,    CEAMARC,      45,          1,         22,         22,2,20080104,       0831,   -66.1558,   143.3320,        527,     6.0,  -0.5140,  34.1597,2,-999.0000,9,   348.71,2, -999.00,9,  -999.0,9, -999.00,9,-999.0000,9,-999.0000,9,-999.0000,9,  -999.0,9,  -999.0,9,   1.626,2, -999.00,9,      2.791,2
09AR20071216,    CEAMARC,      45,          1,         21,         21,2,20080104,       0831,   -66.1558,   143.3320,        527,     6.0,  -0.5178,  34.1593,2,  34.1598,2,   348.71,2,  348.39,2,    53.2,2,    1.70,2,   6.1482,2,   3.1219,2,   0.5123,2,  2182.9,6,  2310.6,6,   1.612,2,   27.19,2,      2.793,2
09AR20071216,    CEAMARC,      45,          1,         20,         20,2,20080104,       0831,   -66.1558,   143.3320,        527,    40.1,  -0.5093,  34.1630,2,-999.0000,9,   347.87,2, -999.00,9,  -999.0,9, -999.00,9,-999.0000,9,-999.0000,9,-999.0000,9,  -999.0,9,  -999.0,9,   2.109,2, -999.00,9,      1.720,2
09AR20071216,    CEAMARC,      45,          1,         19,         19,2,20080104,       0831,   -66.1558,   143.3320,        527,    40.1,  -0.5089,  34.1632,2,-999.0000,9,   347.87,2, -999.00,9,  -999.0,9, -999.00,9,-999.0000,9,-999.0000,9,-999.0000,9,  -999.0,9,  -999.0,9,   2.115,2, -999.00,9,      1.712,2
09AR20071216,    CEAMARC,      45,          1,         18,         18,2,20080104,       0831,   -66.1558,   143.3320,        527,    40.2,  -0.5074,  34.1636,2,-999.0000,9,   347.87,2, -999.00,9,  -999.0,9, -999.00,9,-999.0000,9,-999.0000,9,-999.0000,9,  -999.0,9,  -999.0,9,   2.121,2, -999.00,9,      1.707,2
09AR20071216,    CEAMARC,      45,          1,         17,         17,2,20080104,       0831,   -66.1558,   143.3320,        527,    40.2,  -0.5066,  34.1640,2,  34.1655,2,   347.87,2,  348.03,2,    53.4,2,    1.69,2,   6.0394,2,   3.1196,2,   0.4885,2,  2184.3,2,  2314.9,2,   2.131,2,   27.23,2,      1.715,2
09AR20071216,    CEAMARC,      45,          1,         16,         16,2,20080104,       0831,   -66.1558,   143.3320,        527,    59.8,  -1.3700,  34.3503,2,-999.0000,9,   322.82,2, -999.00,9,  -999.0,9, -999.00,9,-999.0000,9,-999.0000,9,-999.0000,9,  -999.0,9,  -999.0,9,   2.493,2, -999.00,9,      1.168,2
09AR20071216,    CEAMARC,      45,          1,         15,         15,2,20080104,       0831,   -66.1558,   143.3320,        527,    60.1,  -1.3707,  34.3497,2,  34.3470,2,   322.82,2,  330.67,2,    64.2,2,    1.93,2,   5.4313,2,   2.7543,2,   0.4477,2,  2209.2,2,  2323.8,6,   2.419,2,   28.91,2,      1.162,2
09AR20071216,    CEAMARC,      45,          1,         14,         14,2,20080104,       0831,   -66.1558,   143.3320,        527,   105.1,  -1.5814,  34.4389,2,-999.0000,9,   307.97,2, -999.00,9,  -999.0,9, -999.00,9,-999.0000,9,-999.0000,9,-999.0000,9,  -999.0,9,  -999.0,9,   0.216,2, -999.00,9,      0.066,2
09AR20071216,    CEAMARC,      45,          1,         13,         13,2,20080104,       0831,   -66.1558,   143.3320,        527,   105.0,  -1.5756,  34.4387,2,  34.4387,2,   307.97,2,  301.19,2,    76.0,2,    2.10,2,   4.6644,2,   2.4116,2,   0.3954,2,  2228.6,2,  2331.8,2,   0.162,2,   31.23,2,      0.087,2
09AR20071216,    CEAMARC,      45,          1,         12,         12,2,20080104,       0831,   -66.1558,   143.3320,        527,   156.0,  -0.9903,  34.5242,2,-999.0000,9,   292.00,2, -999.00,9,  -999.0,9, -999.00,9,-999.0000,9,-999.0000,9,-999.0000,9,  -999.0,9,  -999.0,9,   0.003,2, -999.00,9,      0.001,2
09AR20071216,    CEAMARC,      45,          1,         11,         11,2,20080104,       0831,   -66.1558,   143.3320,        527,   155.6,  -0.9757,  34.5247,2,  34.5232,2,   292.00,2,  269.80,2,    84.5,2,    2.14,2,   3.5446,2,   1.8581,2,   0.2998,2,  2239.3,2,    2336,2,  -0.003,2,   31.74,2,      0.001,2
09AR20071216,    CEAMARC,      45,          1,         10,         10,2,20080104,       0831,   -66.1558,   143.3320,        527,   200.8,  -1.3708,  34.5374,2,-999.0000,9,   307.60,2, -999.00,9,  -999.0,9, -999.00,9,-999.0000,9,-999.0000,9,-999.0000,9,  -999.0,9,  -999.0,9,  -0.005,2, -999.00,9,      0.001,2
09AR20071216,    CEAMARC,      45,          1,          9,          9,2,20080104,       0831,   -66.1558,   143.3320,        527,   200.6,  -1.4114,  34.5371,2,  34.5379,2,   307.60,2,  292.70,2,    81.3,2,    2.11,2,   4.1814,6,   2.2094,6,   0.3456,6,  2236.7,2,  2336.6,2,   0.002,2,   31.35,2,      0.001,2
09AR20071216,    CEAMARC,      45,          1,          8,          8,2,20080104,       0831,   -66.1558,   143.3320,        527,   220.0,  -1.6118,  34.5420,2,-999.0000,9,   295.73,2, -999.00,9,  -999.0,9, -999.00,9,-999.0000,9,-999.0000,9,-999.0000,9,  -999.0,9,  -999.0,9,   0.002,2, -999.00,9,      0.001,2
09AR20071216,    CEAMARC,      45,          1,          7,          7,2,20080104,       0831,   -66.1558,   143.3320,        527,   219.9,  -1.6066,  34.5419,2,  34.5426,2,   295.73,2,  300.55,2,    79.7,2,    2.10,2,   4.5793,2,   2.3800,2,   0.3637,2,  2235.7,2,  2336.6,2,  -0.007,2,   31.28,2,      0.001,2
09AR20071216,    CEAMARC,      45,          1,          6,          6,2,20080104,       0831,   -66.1558,   143.3320,        527,   350.3,  -1.9150,  34.6114,2,-999.0000,9,   311.83,2, -999.00,9,  -999.0,9, -999.00,9,-999.0000,9,-999.0000,9,-999.0000,9,  -999.0,9,  -999.0,9,  -0.038,2, -999.00,9,      0.001,2
09AR20071216,    CEAMARC,      45,          1,          5,          5,2,20080104,       0831,   -66.1558,   143.3320,        527,   350.3,  -1.9151,  34.6114,2,  34.6119,2,   311.83,2,  308.92,2,    78.0,2,    2.09,2,   4.8413,2,   2.5030,2,   0.4004,2,  2239.7,2,  2339.5,6,  -0.037,2,   31.12,2,      0.001,2
09AR20071216,    CEAMARC,      45,          1,          4,          4,2,20080104,       0831,   -66.1558,   143.3320,        527,   449.8,  -1.8994,  34.6422,2,-999.0000,9,   311.06,2, -999.00,9,  -999.0,9, -999.00,9,-999.0000,9,-999.0000,9,-999.0000,9,  -999.0,9,  -999.0,9,  -0.031,2, -999.00,9,      0.001,2
09AR20071216,    CEAMARC,      45,          1,          3,          3,2,20080104,       0831,   -66.1558,   143.3320,        527,   450.1,  -1.8993,  34.6424,2,  34.6431,2,   311.06,2,  309.52,2,    78.0,2,    2.09,2,   5.0188,2,   2.5562,2,   0.3937,2,  2240.8,2,  2345.9,2,  -0.035,2,   31.01,2,      0.001,2
09AR20071216,    CEAMARC,      45,          1,          2,          2,2,20080104,       0831,   -66.1558,   143.3320,        527,   525.6,  -1.9010,  34.6576,2,-999.0000,9,   307.64,2, -999.00,9,  -999.0,9, -999.00,9,-999.0000,9,-999.0000,9,-999.0000,9,  -999.0,9,  -999.0,9,  -0.035,2, -999.00,9,      0.001,2
09AR20071216,    CEAMARC,      45,          1,          1,          1,2,20080104,       0831,   -66.1558,   143.3320,        527,   525.0,  -1.9009,  34.6576,2,  34.6584,2,   307.59,2,  310.21,2,    79.0,2,    2.11,2,   4.8940,2,   2.5492,2,   0.4000,2,  2242.9,6,  2346.9,6,  -0.033,2,   31.04,2,      0.001,2
09AR20071216,  POLYNYA-W,      46,          1,         24,         24,2,20080104,       1351,   -66.1692,   142.9258,        533,     5.8,  -0.4497,  34.2095,2,-999.0000,9,   349.56,2, -999.00,9,  -999.0,9, -999.00,9,-999.0000,9,-999.0000,9,-999.0000,9,  -999.0,9,  -999.0,9,   2.462,2, -999.00,9,      1.110,2
09AR20071216,  POLYNYA-W,      46,          1,         23,         23,2,20080104,       1351,   -66.1692,   142.9258,        533,     6.1,  -0.4519,  34.2094,2,-999.0000,9,   349.56,2, -999.00,9,  -999.0,9, -999.00,9,-999.0000,9,-999.0000,9,-999.0000,9,  -999.0,9,  -999.0,9,   2.598,2, -999.00,9,      1.093,2
09AR20071216,  POLYNYA-W,      46,          1,         22,         22,2,20080104,       1351,   -66.1692,   142.9258,        533,     5.9,  -0.4523,  34.2095,2,-999.0000,9,   349.56,2, -999.00,9,  -999.0,9, -999.00,9,-999.0000,9,-999.0000,9,-999.0000,9,  -999.0,9,  -999.0,9,   2.613,2, -999.00,9,      1.110,2
09AR20071216,  POLYNYA-W,      46,          1,         21,         21,2,20080104,       1351,   -66.1692,   142.9258,        533,     5.9,  -0.4526,  34.2096,2,  34.2101,2,   349.56,2,  351.28,2,    52.1,2,    1.67,2,   6.2028,6,   3.1554,6,   0.4947,6,    2184,6,  2315.3,6,   2.671,2,   27.48,2,      1.113,2
09AR20071216,  POLYNYA-W,      46,          1,         20,         20,2,20080104,       1351,   -66.1692,   142.9258,        533,    49.8,  -0.5116,  34.2163,2,  34.2162,2,   349.48,2,  349.76,2,    52.8,2,    1.68,2,   6.2343,2,   3.1155,2,   0.4870,2,  2184.6,2,  2318.2,2,   2.668,2,   27.63,2,      0.001,2
09AR20071216,  POLYNYA-W,      46,          1,         19,         19,2,20080104,       1351,   -66.1692,   142.9258,        533,    50.0,  -0.5237,  34.2182,2,-999.0000,9,   349.48,2, -999.00,9,  -999.0,9, -999.00,9,-999.0000,9,-999.0000,9,-999.0000,9,  -999.0,9,  -999.0,9,   2.610,2, -999.00,9,      0.001,2
09AR20071216,  POLYNYA-W,      46,          1,         18,         18,2,20080104,       1351,   -66.1692,   142.9258,        533,    49.8,  -0.5346,  34.2201,2,-999.0000,9,   349.48,2, -999.00,9,  -999.0,9, -999.00,9,-999.0000,9,-999.0000,9,-999.0000,9,  -999.0,9,  -999.0,9,   2.562,2, -999.00,9,      0.001,2
09AR20071216,  POLYNYA-W,      46,          1,         17,         17,2,20080104,       1351,   -66.1692,   142.9258,        533,    50.0,  -0.5059,  34.2151,2,-999.0000,9,   349.48,2, -999.00,9,  -999.0,9, -999.00,9,-999.0000,9,-999.0000,9,-999.0000,9,  -999.0,9,  -999.0,9,   2.530,2, -999.00,9,      0.001,2
09AR20071216,  POLYNYA-W,      46,          1,         16,         16,2,20080104,       1351,   -66.1692,   142.9258,        533,    49.9,  -0.5143,  34.2165,2,-999.0000,9,   349.48,2, -999.00,9,  -999.0,9, -999.00,9,-999.0000,9,-999.0000,9,-999.0000,9,  -999.0,9,  -999.0,9,   2.510,2, -999.00,9,      0.001,2
09AR20071216,  POLYNYA-W,      46,          1,         15,         15,2,20080104,       1351,   -66.1692,   142.9258,        533,    50.1,  -0.5158,  34.2165,2,-999.0000,9,   349.48,2, -999.00,9,  -999.0,9, -999.00,9,-999.0000,9,-999.0000,9,-999.0000,9,  -999.0,9,  -999.0,9,   2.480,2, -999.00,9,      0.001,2
09AR20071216,  POLYNYA-W,      46,          1,         14,         14,2,20080104,       1351,   -66.1692,   142.9258,        533,    49.8,  -0.5138,  34.2163,2,-999.0000,9,   349.48,2, -999.00,9,  -999.0,9, -999.00,9,-999.0000,9,-999.0000,9,-999.0000,9,  -999.0,9,  -999.0,9,   2.606,2, -999.00,9,      0.001,2
09AR20071216,  POLYNYA-W,      46,          1,         13,         13,2,20080104,       1351,   -66.1692,   142.9258,        533,    49.9,  -0.5456,  34.2223,2,-999.0000,9,   349.48,2, -999.00,9,  -999.0,9, -999.00,9,-999.0000,9,-999.0000,9,-999.0000,9,  -999.0,9,  -999.0,9,   2.497,2, -999.00,9,      0.001,2
09AR20071216,  POLYNYA-W,      46,          1,         12,         12,2,20080104,       1351,   -66.1692,   142.9258,        533,   100.3,  -1.4754,  34.4239,2,  34.4221,2,   321.43,2,  321.09,2,    71.8,2,    2.01,2,   5.3196,2,   2.7085,2,   0.4318,2,  2220.4,2,  2330.5,6,   0.865,2, -999.00,9,      0.001,2
09AR20071216,  POLYNYA-W,      46,          1,         11,         11,2,20080104,       1351,   -66.1692,   142.9258,        533,   100.4,  -1.4781,  34.4229,2,-999.0000,9,   321.43,2, -999.00,9,  -999.0,9, -999.00,9,-999.0000,9,-999.0000,9,-999.0000,9,  -999.0,9,  -999.0,9,   0.816,2, -999.00,9,      0.001,2
09AR20071216,  POLYNYA-W,      46,          1,         10,         10,2,20080104,       1351,   -66.1692,   142.9258,        533,   149.5,  -1.6282,  34.4757,2,  34.4762,2,   305.44,2,  305.48,2,    78.4,2,    2.09,2,   4.8437,2,   2.4717,2,   0.3884,2,  2230.5,2,  2332.5,2,   0.212,2,   32.19,2,      0.001,2
09AR20071216,  POLYNYA-W,      46,          1,          9,          9,2,20080104,       1351,   -66.1692,   142.9258,        533,   149.3,  -1.6293,  34.4757,2,-999.0000,9,   305.44,2, -999.00,9,  -999.0,9, -999.00,9,-999.0000,9,-999.0000,9,-999.0000,9,  -999.0,9,  -999.0,9,   0.216,2, -999.00,9,      0.001,2
09AR20071216,  POLYNYA-W,      46,          1,          8,          8,2,20080104,       1351,   -66.1692,   142.9258,        533,   249.8,  -1.8742,  34.5091,2,  34.5093,2,   309.65,2,  310.64,2,    78.7,2,    2.08,2,   5.0162,2,   2.5692,2,   0.4035,2,  2233.3,2,  2334.8,2,  -0.004,2,   31.51,2,      0.001,2
09AR20071216,  POLYNYA-W,      46,          1,          7,          7,2,20080104,       1351,   -66.1692,   142.9258,        533,   249.9,  -1.8745,  34.5091,2,-999.0000,9,   309.65,2, -999.00,9,  -999.0,9, -999.00,9,-999.0000,9,-999.0000,9,-999.0000,9,  -999.0,9,  -999.0,9,  -0.006,2, -999.00,9,      0.001,2
09AR20071216,  POLYNYA-W,      46,          1,          6,          6,2,20080104,       1351,   -66.1692,   142.9258,        533,   350.2,  -1.8921,  34.5451,2,  34.5454,2,   311.55,2,  310.68,2,    78.4,2,    2.09,2,   4.8758,2,   2.5719,2,   0.3978,2,  2234.8,2,  2337.2,2,  -0.028,2,   31.50,2,      0.001,2
09AR20071216,  POLYNYA-W,      46,          1,          5,          5,2,20080104,       1351,   -66.1692,   142.9258,        533,   350.1,  -1.8924,  34.5452,2,-999.0000,9,   311.55,2, -999.00,9,  -999.0,9, -999.00,9,-999.0000,9,-999.0000,9,-999.0000,9,  -999.0,9,  -999.0,9,  -0.025,2, -999.00,9,      0.001,2
09AR20071216,  POLYNYA-W,      46,          1,          4,          4,2,20080104,       1351,   -66.1692,   142.9258,        533,   450.0,  -1.8932,  34.5837,2,  34.5836,2,   309.44,2,  308.93,2,    78.4,2,    2.09,2,   4.7736,2,   2.4949,2,   0.3739,2,    2237,2,  2340.7,2,  -0.037,2,   31.50,2,      0.001,2
09AR20071216,  POLYNYA-W,      46,          1,          3,          3,2,20080104,       1351,   -66.1692,   142.9258,        533,   450.0,  -1.8933,  34.5836,2,-999.0000,9,   309.44,2, -999.00,9,  -999.0,9, -999.00,9,-999.0000,9,-999.0000,9,-999.0000,9,  -999.0,9,  -999.0,9,  -0.035,2, -999.00,9,      0.001,2
09AR20071216,  POLYNYA-W,      46,          1,          2,          2,2,20080104,       1351,   -66.1692,   142.9258,        533,   529.2,  -1.8885,  34.6161,2,  34.6164,2,   312.02,2,  311.53,2,    78.7,2,    2.09,2,   5.0118,2,   2.5790,2,   0.3936,2,  2239.5,2,  2340.8,2,  -0.022,2,   31.48,2,      0.001,2
09AR20071216,  POLYNYA-W,      46,          1,          1,          1,2,20080104,       1351,   -66.1692,   142.9258,        533,   529.3,  -1.8888,  34.6160,2,-999.0000,9,   312.02,2, -999.00,9,  -999.0,9, -999.00,9,-999.0000,9,-999.0000,9,-999.0000,9,  -999.0,9,  -999.0,9,  -0.024,2, -999.00,9,      0.001,2