BOTTLE,20230622CCHSIOENA
EXPOCODE,SECT_ID,STNNBR,CASTNO,SAMPNO,BTLNBR,BTLNBR_FLAG_W,DATE,TIME,LATITUDE,LONGITUDE,DEPTH,CTDPRS,CTDTMP,CTDSAL,CTDSAL_FLAG_W,SALNTY,SALNTY_FLAG_W,CTDOXY,CTDOXY_FLAG_W,OXYGEN,OXYGEN_FLAG_W,SILCAT,SILCAT_FLAG_W,PHSPHT,PHSPHT_FLAG_W,CFC-11,CFC-11_FLAG_W,CFC-12,CFC-12_FLAG_W,CFC113,CFC113_FLAG_W,TCARBN,TCARBN_FLAG_W,ALKALI,ALKALI_FLAG_W,FLUOR,FLUOR_FLAG_W,NO2+NO3,NO2+NO3_FLAG_W,PAR,PAR_FLAG_W
,,,,,,,,,,,METERS,DBAR,ITS-90,PSS-78,,PSS-78,,UMOL/KG,,UMOL/KG,,UMOL/KG,,UMOL/KG,,PMOL/KG,,PMOL/KG,,PMOL/KG,,UMOL/KG,,UMOL/KG,,MG/M^3,,UMOL/KG,,VOLTS,
09AR20071216,    CEAMARC,      15,          1,         24,         24,2,20071227,       0645,   -66.5575,   142.3173,        365,     6.1,  -1.2747,  34.4380,2,-999.0000,9,   347.72,2, -999.00,9,  -999.0,9, -999.00,9,-999.0000,9,-999.0000,9,-999.0000,9,  -999.0,9,  -999.0,9,   3.750,2, -999.00,9,      3.065,2
09AR20071216,    CEAMARC,      15,          1,         23,         23,2,20071227,       0645,   -66.5575,   142.3173,        365,     6.2,  -1.2584,  34.4366,2,-999.0000,9,   347.72,2, -999.00,9,  -999.0,9, -999.00,9,-999.0000,9,-999.0000,9,-999.0000,9,  -999.0,9,  -999.0,9,   3.412,2, -999.00,9,      3.092,2
09AR20071216,    CEAMARC,      15,          1,         22,         22,2,20071227,       0645,   -66.5575,   142.3173,        365,     6.1,  -1.2778,  34.4382,2,-999.0000,9,   347.72,2, -999.00,9,  -999.0,9, -999.00,9,-999.0000,9,-999.0000,9,-999.0000,9,  -999.0,9,  -999.0,9,   3.681,2, -999.00,9,      3.065,2
09AR20071216,    CEAMARC,      15,          1,         21,         21,2,20071227,       0645,   -66.5575,   142.3173,        365,     6.1,  -1.2769,  34.4381,2,  34.4381,2,   347.72,2,  347.69,2,    69.0,2,    1.81,2,   5.6738,2,   2.9899,2,   0.4060,6,  2204.9,2,  2332.3,2,   3.745,2,   27.11,2,      3.083,2
09AR20071216,    CEAMARC,      15,          1,         20,         20,2,20071227,       0645,   -66.5575,   142.3173,        365,    25.5,  -1.4885,  34.4686,2,  34.4679,2,   333.83,2,  336.12,2,    72.1,2,    1.94,2,   5.5217,2,   2.8180,2,   0.4287,2,  2217.6,2,  2333.1,2,   4.081,2,   28.71,2,      1.893,2
09AR20071216,    CEAMARC,      15,          1,         19,         19,2,20071227,       0645,   -66.5575,   142.3173,        365,    50.3,  -1.5191,  34.4795,2,  34.4791,2,   332.49,2,  334.77,2,    73.2,2,    1.99,2,   5.6036,2,   2.8206,2,   0.4543,2,  2217.3,2,  2331.5,2,   3.103,2,   29.04,2,      0.943,2
09AR20071216,    CEAMARC,      15,          1,         18,         18,2,20071227,       0645,   -66.5575,   142.3173,        365,   102.1,  -1.5372,  34.4820,2,  34.4821,2,   331.29,2,  328.46,2,    73.5,2,    2.00,2,   5.6281,2,   2.8337,2,   0.4447,2,  2219.8,2,  2331.7,2,   2.987,2,   29.28,2,      0.001,2
09AR20071216,    CEAMARC,      15,          1,         17,         17,2,20071227,       0645,   -66.5575,   142.3173,        365,   149.9,  -1.7198,  34.5063,2,  34.5060,2,   331.16,2,  325.55,2,    76.3,2,    2.08,2,   5.3475,2,   2.7729,2,   0.4225,2,  2228.5,2,  2332.8,2,   1.126,2,   30.16,2,      0.001,2
09AR20071216,    CEAMARC,      15,          1,         16,         16,2,20071227,       0645,   -66.5575,   142.3173,        365,   175.3,  -1.8021,  34.5226,2,  34.5228,2,   323.25,2,  321.15,2,    77.4,2,    2.12,2,   5.2157,2,   2.7185,2,   0.4324,2,  2230.8,2,  2335.9,2,   0.438,2,   30.75,2,      0.001,2
09AR20071216,    CEAMARC,      15,          1,         15,         15,2,20071227,       0645,   -66.5575,   142.3173,        365,   201.3,  -1.8400,  34.5374,2,  34.5375,2,   319.48,2,  320.32,2,    78.0,2,    2.13,2,   5.2474,2,   2.7220,2,   0.4010,2,  2233.7,2,  2336.4,2,   0.160,2,   30.70,2,      0.001,2
09AR20071216,    CEAMARC,      15,          1,         14,         14,2,20071227,       0645,   -66.5575,   142.3173,        365,   250.8,  -1.8478,  34.5447,2,  34.5444,2,   319.66,2,  320.85,2,    77.7,2,    2.13,2,   5.4393,2,   2.7515,2,   0.4295,2,  2233.5,2,  2336.2,2,   0.080,2,   30.58,2,      0.001,2
09AR20071216,    CEAMARC,      15,          1,         13,         13,2,20071227,       0645,   -66.5575,   142.3173,        365,   326.0,  -1.8558,  34.5516,2,-999.0000,9,   319.90,2, -999.00,9,  -999.0,9, -999.00,9,-999.0000,9,-999.0000,9,-999.0000,9,  -999.0,9,  -999.0,9,   0.047,2, -999.00,9,      0.001,2
09AR20071216,    CEAMARC,      15,          1,         12,         12,2,20071227,       0645,   -66.5575,   142.3173,        365,   326.1,  -1.8558,  34.5516,2,-999.0000,9,   319.90,2, -999.00,9,  -999.0,9, -999.00,9,-999.0000,9,-999.0000,9,-999.0000,9,  -999.0,9,  -999.0,9,   0.058,2, -999.00,9,      0.001,2
09AR20071216,    CEAMARC,      15,          1,         11,         11,2,20071227,       0645,   -66.5575,   142.3173,        365,   326.0,  -1.8558,  34.5517,2,-999.0000,9,   319.90,2, -999.00,9,  -999.0,9, -999.00,9,-999.0000,9,-999.0000,9,-999.0000,9,  -999.0,9,  -999.0,9,   0.043,2, -999.00,9,      0.001,2
09AR20071216,    CEAMARC,      15,          1,         10,         10,2,20071227,       0645,   -66.5575,   142.3173,        365,   325.9,  -1.8559,  34.5517,2,-999.0000,9,   319.90,2, -999.00,9,  -999.0,9, -999.00,9,-999.0000,9,-999.0000,9,-999.0000,9,  -999.0,9,  -999.0,9,   0.059,2, -999.00,9,      0.001,2
09AR20071216,    CEAMARC,      15,          1,          9,          9,2,20071227,       0645,   -66.5575,   142.3173,        365,   325.8,  -1.8558,  34.5518,2,-999.0000,9,   319.90,2, -999.00,9,  -999.0,9, -999.00,9,-999.0000,9,-999.0000,9,-999.0000,9,  -999.0,9,  -999.0,9,   0.041,2, -999.00,9,      0.001,2
09AR20071216,    CEAMARC,      15,          1,          8,          8,2,20071227,       0645,   -66.5575,   142.3173,        365,   325.9,  -1.8559,  34.5518,2,-999.0000,9,   319.90,2, -999.00,9,  -999.0,9, -999.00,9,-999.0000,9,-999.0000,9,-999.0000,9,  -999.0,9,  -999.0,9,   0.055,2, -999.00,9,      0.001,2
09AR20071216,    CEAMARC,      15,          1,          7,          7,2,20071227,       0645,   -66.5575,   142.3173,        365,   325.9,  -1.8559,  34.5517,2,-999.0000,9,   319.90,2, -999.00,9,  -999.0,9, -999.00,9,-999.0000,9,-999.0000,9,-999.0000,9,  -999.0,9,  -999.0,9,   0.045,2, -999.00,9,      0.001,2
09AR20071216,    CEAMARC,      15,          1,          6,          6,2,20071227,       0645,   -66.5575,   142.3173,        365,   325.7,  -1.8558,  34.5517,2,-999.0000,9,   319.90,2, -999.00,9,  -999.0,9, -999.00,9,-999.0000,9,-999.0000,9,-999.0000,9,  -999.0,9,  -999.0,9,   0.050,2, -999.00,9,      0.001,2
09AR20071216,    CEAMARC,      15,          1,          5,          5,2,20071227,       0645,   -66.5575,   142.3173,        365,   325.6,  -1.8558,  34.5517,2,-999.0000,9,   319.90,2, -999.00,9,  -999.0,9, -999.00,9,-999.0000,9,-999.0000,9,-999.0000,9,  -999.0,9,  -999.0,9,   0.048,2, -999.00,9,      0.001,2
09AR20071216,    CEAMARC,      15,          1,          4,          4,2,20071227,       0645,   -66.5575,   142.3173,        365,   325.6,  -1.8557,  34.5516,2,-999.0000,9,   319.90,2, -999.00,9,  -999.0,9, -999.00,9,-999.0000,9,-999.0000,9,-999.0000,9,  -999.0,9,  -999.0,9,   0.052,2, -999.00,9,      0.001,2
09AR20071216,    CEAMARC,      15,          1,          3,          3,2,20071227,       0645,   -66.5575,   142.3173,        365,   325.9,  -1.8558,  34.5518,2,  34.5515,2,   319.90,2,  319.79,2,    77.7,2,    2.14,2,   5.2719,2,   2.7188,2,   0.4037,2,    2234,2,  2337.5,6,   0.046,2,   30.71,2,      0.001,2
09AR20071216,    CEAMARC,      15,          1,          2,          2,2,20071227,       0645,   -66.5575,   142.3173,        365,   355.0,  -1.8552,  34.5519,2,  34.5517,2,   320.16,2,  319.88,2,    77.6,2,    2.11,2,   5.4434,2,   2.7144,2,   0.4282,2,  2234.9,2,  2336.4,6,   0.064,2,   30.49,2,      0.001,2
09AR20071216,    CEAMARC,      15,          1,          1,          1,2,20071227,       0645,   -66.5575,   142.3173,        365,   354.4,  -1.8551,  34.5519,2,-999.0000,9,   320.15,2, -999.00,9,  -999.0,9, -999.00,9,-999.0000,9,-999.0000,9,-999.0000,9,  -999.0,9,  -999.0,9,   0.050,2, -999.00,9,      0.001,2
09AR20071216,    CEAMARC,      16,          1,         24,         24,2,20071227,       1157,   -66.5688,   142.6490,        396,     6.6,  -1.2605,  34.4473,2,  34.4468,2,   345.20,2,  345.21,2,  -999.0,9, -999.00,9,   5.6563,6,   2.9174,6,   0.4283,6,  2206.7,6,  2333.1,6,   5.792,2, -999.00,9,      2.023,2
09AR20071216,    CEAMARC,      16,          1,         23,         23,2,20071227,       1157,   -66.5688,   142.6490,        396,     6.6,  -1.2627,  34.4473,2,-999.0000,9,   345.20,2, -999.00,9,  -999.0,9, -999.00,9,-999.0000,9,-999.0000,9,-999.0000,9,  -999.0,9,  -999.0,9,   5.739,2, -999.00,9,      2.021,2
09AR20071216,    CEAMARC,      16,          1,         22,         22,2,20071227,       1157,   -66.5688,   142.6490,        396,     6.5,  -1.2618,  34.4473,2,-999.0000,9,   345.20,2, -999.00,9,  -999.0,9, -999.00,9,-999.0000,9,-999.0000,9,-999.0000,9,  -999.0,9,  -999.0,9,   5.860,2, -999.00,9,      2.022,2
09AR20071216,    CEAMARC,      16,          1,         21,         21,2,20071227,       1157,   -66.5688,   142.6490,        396,     6.6,  -1.2647,  34.4474,2,-999.0000,9,   345.20,2, -999.00,9,    69.5,2,    1.84,2,-999.0000,9,-999.0000,9,-999.0000,9,  -999.0,9,  -999.0,9,   5.757,2,   27.51,2,      2.016,2
09AR20071216,    CEAMARC,      16,          1,         20,         20,2,20071227,       1157,   -66.5688,   142.6490,        396,    24.9,  -1.3067,  34.4532,2,  34.4526,2,   341.09,2,  342.08,2,    70.1,2,    1.87,2,   5.6930,2,   2.8834,2,   0.4395,2,  2210.3,2,  2333.7,2,   5.514,2,   27.79,2,      0.939,2
09AR20071216,    CEAMARC,      16,          1,         19,         19,2,20071227,       1157,   -66.5688,   142.6490,        396,    25.0,  -1.3067,  34.4530,2,-999.0000,9,   341.09,2, -999.00,9,  -999.0,9, -999.00,9,-999.0000,9,-999.0000,9,-999.0000,9,  -999.0,9,  -999.0,9,   5.439,2, -999.00,9,      0.938,2
09AR20071216,    CEAMARC,      16,          1,         18,         18,2,20071227,       1157,   -66.5688,   142.6490,        396,    24.9,  -1.3122,  34.4539,2,-999.0000,9,   341.09,2, -999.00,9,  -999.0,9, -999.00,9,-999.0000,9,-999.0000,9,-999.0000,9,  -999.0,9,  -999.0,9,   5.360,2, -999.00,9,      0.941,2
09AR20071216,    CEAMARC,      16,          1,         17,         17,2,20071227,       1157,   -66.5688,   142.6490,        396,    24.8,  -1.3217,  34.4550,2,-999.0000,9,   341.09,2, -999.00,9,  -999.0,9, -999.00,9,-999.0000,9,-999.0000,9,-999.0000,9,  -999.0,9,  -999.0,9,   5.231,2, -999.00,9,      0.945,2
09AR20071216,    CEAMARC,      16,          1,         16,         16,2,20071227,       1157,   -66.5688,   142.6490,        396,    24.9,  -1.3128,  34.4539,2,-999.0000,9,   341.09,2, -999.00,9,  -999.0,9, -999.00,9,-999.0000,9,-999.0000,9,-999.0000,9,  -999.0,9,  -999.0,9,   5.338,2, -999.00,9,      0.944,2
09AR20071216,    CEAMARC,      16,          1,         15,         15,2,20071227,       1157,   -66.5688,   142.6490,        396,    24.9,  -1.3162,  34.4541,2,-999.0000,9,   341.09,2, -999.00,9,  -999.0,9, -999.00,9,-999.0000,9,-999.0000,9,-999.0000,9,  -999.0,9,  -999.0,9,   5.437,2, -999.00,9,      0.953,2
09AR20071216,    CEAMARC,      16,          1,         14,         14,2,20071227,       1157,   -66.5688,   142.6490,        396,    50.0,  -1.4046,  34.4653,2,  34.4650,2,   335.95,2,  337.12,2,    71.1,2,    1.93,2,   5.5906,2,   2.8479,2,   0.4200,2,  2214.1,2,  2333.4,2,   4.347,2,   28.11,2,      0.001,2
09AR20071216,    CEAMARC,      16,          1,         13,         13,2,20071227,       1157,   -66.5688,   142.6490,        396,    49.7,  -1.4127,  34.4664,2,-999.0000,9,   335.95,2, -999.00,9,  -999.0,9, -999.00,9,-999.0000,9,-999.0000,9,-999.0000,9,  -999.0,9,  -999.0,9,   4.361,2, -999.00,9,      0.001,2
09AR20071216,    CEAMARC,      16,          1,         12,         12,2,20071227,       1157,   -66.5688,   142.6490,        396,    70.3,  -1.4811,  34.4750,2,  34.4748,2,   334.47,2,  334.16,2,    71.7,2,    1.95,2,   5.5533,2,   2.8039,2,   0.4465,2,  2217.6,2,  2331.6,2,   3.682,2,   28.22,2,      0.001,2
09AR20071216,    CEAMARC,      16,          1,         11,         11,2,20071227,       1157,   -66.5688,   142.6490,        396,    70.2,  -1.4769,  34.4744,2,-999.0000,9,   334.47,2, -999.00,9,  -999.0,9, -999.00,9,-999.0000,9,-999.0000,9,-999.0000,9,  -999.0,9,  -999.0,9,   3.473,2, -999.00,9,      0.001,2
09AR20071216,    CEAMARC,      16,          1,         10,         10,2,20071227,       1157,   -66.5688,   142.6490,        396,   101.0,  -1.5349,  34.4832,2,  34.4830,2,   330.84,2,  330.33,2,    72.3,2,    1.96,2,   5.4875,2,   2.7914,2,   0.4273,2,  2218.9,2,  2329.4,2,   3.157,2,   28.16,3,      0.001,2
09AR20071216,    CEAMARC,      16,          1,          9,          9,2,20071227,       1157,   -66.5688,   142.6490,        396,   100.8,  -1.5361,  34.4835,2,-999.0000,9,   331.01,2, -999.00,9,  -999.0,9, -999.00,9,-999.0000,9,-999.0000,9,-999.0000,9,  -999.0,9,  -999.0,9,   3.107,2, -999.00,9,      0.001,2
09AR20071216,    CEAMARC,      16,          1,          8,          8,2,20071227,       1157,   -66.5688,   142.6490,        396,   149.5,  -1.6005,  34.4924,2,  34.4930,2,   328.47,2,  326.55,2,    72.8,2,    1.99,2,   5.3308,2,   2.7509,2,   0.4031,2,  2223.7,2,  2332.3,2,   2.501,2,   28.03,3,      0.001,2
09AR20071216,    CEAMARC,      16,          1,          7,          7,2,20071227,       1157,   -66.5688,   142.6490,        396,   149.0,  -1.6172,  34.4965,2,-999.0000,9,   328.47,2, -999.00,9,  -999.0,9, -999.00,9,-999.0000,9,-999.0000,9,-999.0000,9,  -999.0,9,  -999.0,9,   2.647,2, -999.00,9,      0.001,2
09AR20071216,    CEAMARC,      16,          1,          6,          6,2,20071227,       1157,   -66.5688,   142.6490,        396,   231.1,  -1.7686,  34.5326,2,  34.5315,2,   320.58,2,  320.36,2,    76.2,2,    2.09,2,   5.2000,6,   2.7092,6,   0.4020,6,  2231.2,2,  2335.6,2,   0.780,2,   29.30,3,      0.001,2
09AR20071216,    CEAMARC,      16,          1,          5,          5,2,20071227,       1157,   -66.5688,   142.6490,        396,   229.0,  -1.7700,  34.5328,2,-999.0000,9,   320.70,2, -999.00,9,  -999.0,9, -999.00,9,-999.0000,9,-999.0000,9,-999.0000,9,  -999.0,9,  -999.0,9,   0.736,2, -999.00,9,      0.001,2
09AR20071216,    CEAMARC,      16,          1,          4,          4,2,20071227,       1157,   -66.5688,   142.6490,        396,   302.4,  -1.8652,  34.5607,2,  34.5597,2,   318.08,2,  318.75,2,    78.0,2,    2.14,2,   5.2706,2,   2.7105,2,   0.4008,2,  2234.5,2,    2338,2,   0.022,2,   30.98,2,      0.001,2
09AR20071216,    CEAMARC,      16,          1,          3,          3,2,20071227,       1157,   -66.5688,   142.6490,        396,   303.1,  -1.8644,  34.5597,2,-999.0000,9,   318.12,2, -999.00,9,  -999.0,9, -999.00,9,-999.0000,9,-999.0000,9,-999.0000,9,  -999.0,9,  -999.0,9,   0.023,2, -999.00,9,      0.001,2
09AR20071216,    CEAMARC,      16,          1,          2,          2,2,20071227,       1157,   -66.5688,   142.6490,        396,   379.4,  -1.8581,  34.5670,2,  34.5683,2,   319.88,2,  319.10,2,    77.9,2,    2.13,2,   5.1845,2,   2.7058,2,   0.4102,2,  2237.5,6,  2337.9,6,   0.072,2,   31.12,2,      0.001,2
09AR20071216,    CEAMARC,      16,          1,          1,          1,2,20071227,       1157,   -66.5688,   142.6490,        396,   380.0,  -1.8569,  34.5691,2,-999.0000,9,   319.88,2, -999.00,9,  -999.0,9, -999.00,9,-999.0000,9,-999.0000,9,-999.0000,9,  -999.0,9,  -999.0,9,   0.080,2, -999.00,9,      0.001,2