BOTTLE,20230622CCHSIOENA
EXPOCODE,SECT_ID,STNNBR,CASTNO,SAMPNO,BTLNBR,BTLNBR_FLAG_W,DATE,TIME,LATITUDE,LONGITUDE,DEPTH,CTDPRS,CTDTMP,CTDSAL,CTDSAL_FLAG_W,SALNTY,SALNTY_FLAG_W,CTDOXY,CTDOXY_FLAG_W,OXYGEN,OXYGEN_FLAG_W,SILCAT,SILCAT_FLAG_W,PHSPHT,PHSPHT_FLAG_W,CFC-11,CFC-11_FLAG_W,CFC-12,CFC-12_FLAG_W,CFC113,CFC113_FLAG_W,TCARBN,TCARBN_FLAG_W,ALKALI,ALKALI_FLAG_W,FLUOR,FLUOR_FLAG_W,NO2+NO3,NO2+NO3_FLAG_W,PAR,PAR_FLAG_W
,,,,,,,,,,,METERS,DBAR,ITS-90,PSS-78,,PSS-78,,UMOL/KG,,UMOL/KG,,UMOL/KG,,UMOL/KG,,PMOL/KG,,PMOL/KG,,PMOL/KG,,UMOL/KG,,UMOL/KG,,MG/M^3,,UMOL/KG,,VOLTS,
09AR20071216,       SR03,     129,          1,         24,         24,2,20080121,       0021,   -63.8657,   139.8447,       3696,     9.8,   1.8268,  33.8501,2,  33.8507,2,   336.28,2,  337.91,2,    24.0,2,    1.80,2,   5.8900,2,   3.2019,2,   0.4513,2,  2155.4,6,  2287.2,2,  -0.129,2,   26.99,2,      3.359,2
09AR20071216,       SR03,     129,          1,         23,         23,2,20080121,       0021,   -63.8657,   139.8447,       3696,    44.7,   1.7068,  33.8524,2,-999.0000,9,   336.11,2, -999.00,9,  -999.0,9, -999.00,9,-999.0000,9,-999.0000,9,-999.0000,9,  -999.0,9,  -999.0,9,   0.303,2, -999.00,9,      2.776,2
09AR20071216,       SR03,     129,          1,         22,         22,2,20080121,       0021,   -63.8657,   139.8447,       3696,    44.8,   1.7056,  33.8524,2,-999.0000,9,   336.11,2, -999.00,9,  -999.0,9, -999.00,9,-999.0000,9,-999.0000,9,-999.0000,9,  -999.0,9,  -999.0,9,   0.298,2, -999.00,9,      2.780,2
09AR20071216,       SR03,     129,          1,         21,         21,2,20080121,       0021,   -63.8657,   139.8447,       3696,    44.8,   1.7047,  33.8521,2,  33.8535,2,   336.11,2,  335.29,2,    23.0,2,    1.81,2,-999.0000,9,-999.0000,9,-999.0000,9,  2156.1,2,  2286.4,6,   0.284,2,   26.87,2,      2.798,2
09AR20071216,       SR03,     129,          1,         20,         20,2,20080121,       0021,   -63.8657,   139.8447,       3696,    79.6,  -0.7172,  34.1037,2,  34.1056,2,   328.15,2,  323.88,2,    46.5,2,    2.02,2,   5.3439,2,   2.8652,2,   0.4129,2,  2189.7,2,  2304.2,2,   1.767,2,   29.55,2,      2.234,2
09AR20071216,       SR03,     129,          1,         19,         19,2,20080121,       0021,   -63.8657,   139.8447,       3696,   100.1,   0.1488,  34.2982,2,  34.2996,2,   248.41,2,  256.69,2,    61.4,2,    2.25,2,   3.5326,2,   1.9188,2,   0.2564,2,  2224.1,2,  2312.6,2,   1.628,2,   32.44,2,      1.748,2
09AR20071216,       SR03,     129,          1,         18,         18,2,20080121,       0021,   -63.8657,   139.8447,       3696,   148.5,   1.5105,  34.5378,2,  34.5362,2,   190.84,2,  191.35,2,    77.4,2,    2.36,2,   1.4107,2,   0.7239,2,   0.0997,2,  2252.7,2,  2327.7,6,   0.176,2,   34.26,2,      0.799,2
09AR20071216,       SR03,     129,          1,         17,         17,2,20080121,       0021,   -63.8657,   139.8447,       3696,   199.6,   1.6671,  34.6026,2,  34.5964,2,   187.05,2,  185.34,2,    81.2,2,    2.32,2,   1.0105,2,   0.5143,2,   0.0738,2,  -999.0,9,    2333,2,  -0.007,2,   33.82,2,      0.016,2
09AR20071216,       SR03,     129,          1,         16,         16,2,20080121,       0021,   -63.8657,   139.8447,       3696,   349.9,   1.6531,  34.6655,2,  34.6654,2,   188.96,2,  187.37,2,    85.3,2,    2.25,2,-999.0000,9,-999.0000,9,-999.0000,9,  2255.1,2,  2341.2,2,  -0.026,2,   32.69,2,      0.001,2
09AR20071216,       SR03,     129,          1,         15,         15,2,20080121,       0021,   -63.8657,   139.8447,       3696,   499.0,   1.8475,  34.7252,2,  34.7251,2,   191.99,2,  190.02,2,    86.9,2,    2.16,2,   0.2910,2,   0.1448,2,   0.0160,2,  2251.7,2,  2344.5,2,  -0.032,2,   31.28,2,      0.001,2
09AR20071216,       SR03,     129,          1,         14,         14,2,20080121,       0021,   -63.8657,   139.8447,       3696,   699.4,   1.7048,  34.7393,2,  34.7396,2,   198.10,2,  194.53,2,    90.7,2,    2.13,2,-999.0000,9,-999.0000,9,-999.0000,9,  2249.7,2,  2347.5,2,  -0.030,2,   30.80,2,      0.001,2
09AR20071216,       SR03,     129,          1,         13,         13,2,20080121,       0021,   -63.8657,   139.8447,       3696,   849.9,   1.5521,  34.7389,2,  34.7390,2,   200.72,2,  199.66,2,    94.1,2,    2.12,2,   0.2223,2,   0.1147,2,   0.0152,2,  2249.2,2,  2348.6,2,  -0.031,2,   30.54,2,      0.001,2
09AR20071216,       SR03,     129,          1,         12,         12,2,20080121,       0021,   -63.8657,   139.8447,       3696,  1000.2,   1.3998,  34.7350,2,  34.7355,2,   202.25,2,  205.65,2,    98.3,2,    2.14,2,   0.2416,2,   0.1161,2,   0.0119,2,  2251.5,6,    2351,2,  -0.032,2,   30.93,2,      0.001,2
09AR20071216,       SR03,     129,          1,         11,         11,2,20080121,       0021,   -63.8657,   139.8447,       3696,  1201.9,   1.2558,  34.7324,2,  34.7323,2,   204.42,2,  204.09,2,   103.4,2,    2.16,2,-999.0000,9,-999.0000,9,-999.0000,9,  2253.2,2,  2353.4,6,  -0.030,2,   31.15,2,      0.001,2
09AR20071216,       SR03,     129,          1,         10,         10,2,20080121,       0021,   -63.8657,   139.8447,       3696,  1399.6,   1.0707,  34.7240,2,  34.7243,2,   205.93,2,  205.08,2,   108.7,2,    2.18,2,   0.1839,2,   0.0861,2,   0.0125,2,  2256.4,2,  2354.1,2,  -0.033,2,   31.32,2,      0.001,2
09AR20071216,       SR03,     129,          1,          9,          9,2,20080121,       0021,   -63.8657,   139.8447,       3696,  1599.8,   0.9181,  34.7165,2,  34.7162,2,   207.87,2,  209.69,2,   113.7,2,    2.21,2,   0.1850,2,   0.0904,2,   0.0103,2,  2258.2,2,    2357,6,  -0.032,2,   31.57,2,      0.001,2
09AR20071216,       SR03,     129,          1,          8,          8,2,20080121,       0021,   -63.8657,   139.8447,       3696,  1800.5,   0.7407,  34.7068,2,  34.7074,2,   209.67,2,  211.04,2,   118.5,2,    2.23,2,   0.2217,2,   0.1067,2,   0.0104,2,    2253,2,  2357.5,2,  -0.034,2,   31.74,2,      0.001,2
09AR20071216,       SR03,     129,          1,          7,          7,2,20080121,       0021,   -63.8657,   139.8447,       3696,  2099.6,   0.5281,  34.6962,2,  34.6962,2,   214.44,2,  212.25,2,   123.3,2,    2.26,2,   0.2969,2,   0.1418,2,   0.0076,2,  2259.4,2,  2357.3,2,  -0.033,2,   31.99,2,      0.001,2
09AR20071216,       SR03,     129,          1,          6,          6,2,20080121,       0021,   -63.8657,   139.8447,       3696,  2400.0,   0.3153,  34.6859,2,  34.6858,2,   219.41,2,  219.47,2,   124.9,2,    2.26,2,   0.5147,2,   0.2516,2,   0.0269,2,  2259.3,2,  2357.2,2,  -0.043,2,   32.12,2,      0.001,2
09AR20071216,       SR03,     129,          1,          5,          5,2,20080121,       0021,   -63.8657,   139.8447,       3696,  2698.9,   0.1832,  34.6813,2,  34.6807,2,   222.39,2,  223.20,2,   126.7,2,    2.26,2,   0.6644,2,   0.3264,2,   0.0337,2,  2259.9,2,  2355.6,2,  -0.042,2,   31.94,2,      0.001,2
09AR20071216,       SR03,     129,          1,          4,          4,2,20080121,       0021,   -63.8657,   139.8447,       3696,  3000.9,   0.0660,  34.6760,2,  34.6758,2,   226.71,2,  227.68,2,   126.0,2,    2.26,2,   0.9129,2,   0.4518,2,   0.0450,2,  2257.8,2,  2355.2,2,  -0.036,2,   31.93,2,      0.001,2
09AR20071216,       SR03,     129,          1,          3,          3,2,20080121,       0021,   -63.8657,   139.8447,       3696,  3299.7,  -0.0630,  34.6696,2,  34.6689,2,   232.14,2,  232.58,2,   124.8,2,    2.25,2,   1.2808,2,   0.6502,2,   0.0627,2,  2258.5,2,  2351.6,2,  -0.043,2,   31.76,2,      0.001,2
09AR20071216,       SR03,     129,          1,          2,          2,2,20080121,       0021,   -63.8657,   139.8447,       3696,  3601.6,  -0.2708,  34.6522,2,  34.6517,2,   243.73,2,  244.19,2,   109.3,2,    2.22,2,   2.2045,2,   1.1304,2,   0.1292,2,  2253.9,2,  2349.6,6,  -0.042,2,   31.33,2,      0.001,2
09AR20071216,       SR03,     129,          1,          1,          1,2,20080121,       0021,   -63.8657,   139.8447,       3696,  3753.5,  -0.4192,  34.6419,2,  34.6411,2,   252.41,2,  252.05,2,   100.1,2,    2.19,2,   2.5707,2,   1.3868,2,   0.1739,2,  2250.6,6,  2349.8,2,  -0.042,2,   31.23,2,      0.001,2
09AR20071216,       SR03,     130,          1,         24,         24,2,20080121,       0603,   -63.3518,   139.8345,       3776,    10.3,   1.4828,  33.7224,2,  33.7231,2,   336.72,2,  336.71,2,  -999.0,9, -999.00,9,   6.0080,2,   3.1880,2,   0.4802,2,  2148.9,6,    2280,2,   0.233,2, -999.00,9,      3.005,2
09AR20071216,       SR03,     130,          1,         23,         23,2,20080121,       0603,   -63.3518,   139.8345,       3776,    50.6,  -0.2914,  34.0550,2,-999.0000,9,   340.17,2, -999.00,9,  -999.0,9, -999.00,9,-999.0000,9,-999.0000,9,-999.0000,9,  -999.0,9,  -999.0,9,   2.026,2, -999.00,9,      2.149,2
09AR20071216,       SR03,     130,          1,         22,         22,2,20080121,       0603,   -63.3518,   139.8345,       3776,    50.6,  -0.2946,  34.0546,2,-999.0000,9,   340.17,2, -999.00,9,  -999.0,9, -999.00,9,-999.0000,9,-999.0000,9,-999.0000,9,  -999.0,9,  -999.0,9,   2.047,2, -999.00,9,      2.149,2
09AR20071216,       SR03,     130,          1,         21,         21,2,20080121,       0603,   -63.3518,   139.8345,       3776,    50.5,  -0.2310,  34.0319,2,  34.0076,2,   340.17,2,  308.82,2,  -999.0,9, -999.00,9,   4.9196,2,   2.5693,2,   0.4111,2,  2183.3,2,    2297,6,   1.938,2, -999.00,9,      2.151,2
09AR20071216,       SR03,     130,          1,         20,         20,2,20080121,       0603,   -63.3518,   139.8345,       3776,    73.1,   0.0589,  34.2826,2,  34.2796,2,   330.30,2,  254.13,2,    60.1,2,    2.22,2,   3.3798,2,   1.7891,2,   0.2572,2,  2221.1,2,    2314,2,   0.770,2,   31.63,2,      1.538,2
09AR20071216,       SR03,     130,          1,         19,         19,2,20080121,       0603,   -63.3518,   139.8345,       3776,   148.8,   1.1471,  34.5228,2,  34.5250,2,   203.63,2,  204.13,2,    76.0,2,    2.30,2,   1.6371,2,   0.8553,2,   0.1119,2,  2247.2,2,  2330.1,2,   0.063,2,   33.14,2,      0.059,2
09AR20071216,       SR03,     130,          1,         18,         18,2,20080121,       0603,   -63.3518,   139.8345,       3776,   248.8,   1.4366,  34.6190,2,  34.6193,2,   188.74,2,  195.64,2,    81.4,2,    2.26,2,   1.0643,2,   0.5556,2,   0.0000,4,  2252.1,2,  2336.1,6,  -0.020,2,   32.64,2,      0.001,2
09AR20071216,       SR03,     130,          1,         17,         17,2,20080121,       0603,   -63.3518,   139.8345,       3776,   350.4,   1.7716,  34.6862,2,  34.6852,2,   187.17,2,  188.81,2,    84.9,2,    2.23,2,   0.5485,2,   0.2776,2,   0.0346,2,  2253.9,2,  2342.2,2,  -0.027,2,   32.09,2,      0.001,2
09AR20071216,       SR03,     130,          1,         16,         16,2,20080121,       0603,   -63.3518,   139.8345,       3776,   449.5,   1.6179,  34.6902,2,  34.6907,2,   191.79,2,  193.67,2,    86.2,2,    2.20,2,   0.6200,6,   0.3170,6,   0.0373,2,  2251.5,2,  2343.4,2,  -0.028,2,   31.80,2,      0.001,2
09AR20071216,       SR03,     130,          1,         15,         15,2,20080121,       0603,   -63.3518,   139.8345,       3776,   599.2,   1.6468,  34.7219,2,  34.7219,2,   196.31,2,  193.28,2,    89.0,2,    2.16,2,   0.4121,2,   0.2083,2,   0.0226,2,    2250,2,  2345.6,2,  -0.022,2,   31.04,2,      0.001,2
09AR20071216,       SR03,     130,          1,         14,         14,2,20080121,       0603,   -63.3518,   139.8345,       3776,   799.9,   1.5580,  34.7354,2,  34.7365,2,   199.41,2,  198.88,2,    93.2,2,    2.15,2,   0.2692,2,   0.1342,2,   0.0157,2,  2249.9,2,  2350.7,2,  -0.027,2,   31.10,2,      0.001,2
09AR20071216,       SR03,     130,          1,         13,         13,2,20080121,       0603,   -63.3518,   139.8345,       3776,   998.5,   1.4177,  34.7364,2,  34.7363,2,   202.05,2,  201.53,2,    98.3,2,    2.16,2,   0.2187,2,   0.1076,2,   0.0124,2,  2250.7,2,  2352.3,2,  -0.031,2,   30.98,2,      0.001,2
09AR20071216,       SR03,     130,          1,         12,         12,2,20080121,       0603,   -63.3518,   139.8345,       3776,  1198.6,   1.2182,  34.7268,2,  34.7266,2,   204.78,2,  205.22,2,   102.5,2,    2.18,2,   0.2713,2,   0.1358,2,   0.0150,2,  2253.1,6,  2354.2,2,  -0.035,2,   31.55,2,      0.001,2
09AR20071216,       SR03,     130,          1,         11,         11,2,20080121,       0603,   -63.3518,   139.8345,       3776,  1401.8,   1.0769,  34.7229,2,  34.7229,2,   206.63,2,  207.92,2,   108.9,2,    2.21,2,   0.2084,2,   0.1050,2,   0.0078,2,  2255.6,2,    2357,6,  -0.036,2,   31.74,2,      0.001,2
09AR20071216,       SR03,     130,          1,         10,         10,2,20080121,       0603,   -63.3518,   139.8345,       3776,  1599.2,   0.9199,  34.7161,2,  34.7164,2,   209.21,2,  208.48,2,   114.4,2,    2.23,2,   0.1921,2,   0.0924,2,   0.0095,2,  2258.8,2,  2358.2,2,  -0.034,2,   32.18,2,      0.001,2
09AR20071216,       SR03,     130,          1,          9,          9,2,20080121,       0603,   -63.3518,   139.8345,       3776,  1800.3,   0.7618,  34.7084,2,  34.7076,2,   211.81,2,  209.64,2,   119.2,2,    2.25,2,   0.2076,2,   0.1036,2,   0.0099,2,  2259.2,2,  2359.6,6,  -0.036,2,   32.25,2,      0.001,2
09AR20071216,       SR03,     130,          1,          8,          8,2,20080121,       0603,   -63.3518,   139.8345,       3776,  1997.1,   0.5898,  34.6969,2,  34.6976,2,   213.61,2,  213.64,2,   120.5,2,    2.26,2,   0.3625,2,   0.1801,2,   0.0177,2,  2255.1,3,  2357.9,2,  -0.033,2,   32.34,2,      0.001,2
09AR20071216,       SR03,     130,          1,          7,          7,2,20080121,       0603,   -63.3518,   139.8345,       3776,  2299.8,   0.4185,  34.6914,2,  34.6970,2,   217.10,2,  216.55,2,   125.9,2,    2.27,2,   0.3680,2,   0.1755,2,   0.0175,2,  2258.6,2,  2357.6,2,  -0.036,2,   32.57,2,      0.001,2
09AR20071216,       SR03,     130,          1,          6,          6,2,20080121,       0603,   -63.3518,   139.8345,       3776,  2598.6,   0.2616,  34.6842,2,  34.6843,2,   220.75,2,  221.38,2,   126.2,2,    2.28,2,   0.5413,2,   0.2686,2,   0.0239,2,  2258.6,2,  2358.6,2,  -0.039,2,   32.63,2,      0.001,2
09AR20071216,       SR03,     130,          1,          5,          5,2,20080121,       0603,   -63.3518,   139.8345,       3776,  2898.1,   0.1488,  34.6803,2,  34.6799,2,   224.23,2,  225.50,2,   129.2,2,    2.29,2,   0.6971,2,   0.3452,2,   0.0333,2,  2261.5,2,  2356.4,2,  -0.040,2,   32.63,2,      0.001,2
09AR20071216,       SR03,     130,          1,          4,          4,2,20080121,       0603,   -63.3518,   139.8345,       3776,  3199.3,   0.0370,  34.6746,2,  34.6740,2,   228.22,2,  228.76,2,   127.5,2,    2.28,2,   1.0142,2,   0.5036,2,   0.0529,2,  2257.6,2,  2355.9,2,  -0.041,2,   32.21,2,      0.001,2
09AR20071216,       SR03,     130,          1,          3,          3,2,20080121,       0603,   -63.3518,   139.8345,       3776,  3502.2,  -0.0909,  34.6668,2,  34.6660,2,   233.86,2,  233.58,2,   123.2,2,    2.26,2,   1.4952,2,   0.7664,2,   0.0889,2,  2255.7,2,  2352.6,2,  -0.040,2,   32.09,2,      0.001,2
09AR20071216,       SR03,     130,          1,          2,          2,2,20080121,       0603,   -63.3518,   139.8345,       3776,  3798.8,  -0.4140,  34.6409,2,  34.6399,2,   249.49,2,  250.22,2,   103.8,2,    2.21,2,   2.6229,2,   1.3673,2,   0.2035,2,  2249.5,2,  2348.6,6,  -0.045,2,   32.05,2,      0.001,2
09AR20071216,       SR03,     130,          1,          1,          1,2,20080121,       0603,   -63.3518,   139.8345,       3776,  3830.0,  -0.4198,  34.6414,2,  34.6407,2,   250.48,2,  251.49,2,   102.5,2,    2.20,2,   2.6050,2,   1.3791,2,   0.1734,2,  2248.6,6,  2347.9,2,  -0.043,2,   31.97,2,      0.001,2