BOTTLE,20230622CCHSIOENA
EXPOCODE,SECT_ID,STNNBR,CASTNO,SAMPNO,BTLNBR,BTLNBR_FLAG_W,DATE,TIME,LATITUDE,LONGITUDE,DEPTH,CTDPRS,CTDTMP,CTDSAL,CTDSAL_FLAG_W,SALNTY,SALNTY_FLAG_W,CTDOXY,CTDOXY_FLAG_W,OXYGEN,OXYGEN_FLAG_W,SILCAT,SILCAT_FLAG_W,PHSPHT,PHSPHT_FLAG_W,CFC-11,CFC-11_FLAG_W,CFC-12,CFC-12_FLAG_W,CFC113,CFC113_FLAG_W,TCARBN,TCARBN_FLAG_W,ALKALI,ALKALI_FLAG_W,FLUOR,FLUOR_FLAG_W,NO2+NO3,NO2+NO3_FLAG_W,PAR,PAR_FLAG_W
,,,,,,,,,,,METERS,DBAR,ITS-90,PSS-78,,PSS-78,,UMOL/KG,,UMOL/KG,,UMOL/KG,,UMOL/KG,,PMOL/KG,,PMOL/KG,,PMOL/KG,,UMOL/KG,,UMOL/KG,,MG/M^3,,UMOL/KG,,VOLTS,
09AR20071216,       CASO,      73,          1,         24,         24,2,20080110,       1339,   -65.3260,   146.9112,       2926,    11.5,  -0.1533,  33.6507,2,-999.0000,9,   353.38,2,  351.87,2,    35.5,2,    1.55,2,   6.2521,2,   3.2977,2,   0.5308,2,  2146.4,6,    2279,2,   1.496,2,   25.99,2,      1.058,2
09AR20071216,       CASO,      73,          1,         23,         23,2,20080110,       1339,   -65.3260,   146.9112,       2926,    11.4,  -0.1514,  33.6500,2,-999.0000,9,   353.38,2, -999.00,9,  -999.0,9, -999.00,9,-999.0000,9,-999.0000,9,-999.0000,9,  -999.0,9,  -999.0,9,   1.473,2, -999.00,9,      1.046,2
09AR20071216,       CASO,      73,          1,         22,         22,2,20080110,       1339,   -65.3260,   146.9112,       2926,    11.0,  -0.1549,  33.6505,2,-999.0000,9,   353.38,2, -999.00,9,  -999.0,9, -999.00,9,-999.0000,9,-999.0000,9,-999.0000,9,  -999.0,9,  -999.0,9,   1.472,2, -999.00,9,      1.031,2
09AR20071216,       CASO,      73,          1,         21,         21,2,20080110,       1339,   -65.3260,   146.9112,       2926,    26.2,  -0.4604,  33.7834,2,  33.7817,2,   354.93,2,  353.48,2,    37.5,2,    1.64,2,   6.0047,2,   3.0826,2,   0.4045,2,  2155.4,2,  2287.3,6,   2.092,2,   26.36,2,      0.641,2
09AR20071216,       CASO,      73,          1,         20,         20,2,20080110,       1339,   -65.3260,   146.9112,       2926,    49.2,  -1.3532,  34.1955,2,  34.1849,2,   325.32,2,  328.68,2,    52.7,2,    1.95,2,-999.0000,9,-999.0000,9,-999.0000,9,  -999.0,9,  -999.0,9,   4.716,2,   28.20,2,      0.001,2
09AR20071216,       CASO,      73,          1,         19,         19,2,20080110,       1339,   -65.3260,   146.9112,       2926,    99.7,  -1.2782,  34.3978,2,  34.4001,2,   276.62,2,  278.51,2,    72.2,2,    2.14,2,   0.7389,3,   0.3800,3,   0.0474,3,  2229.7,3,  2329.7,2,   0.263,2,   30.80,2,      0.001,2
09AR20071216,       CASO,      73,          1,         18,         18,2,20080110,       1339,   -65.3260,   146.9112,       2926,   147.3,  -0.7402,  34.4653,2,  34.4652,2,   269.65,2,  260.60,2,    78.0,2,    2.17,2,   3.4027,2,   1.7876,2,   0.2701,2,    2235,2,    2335,2,   0.056,2,   31.18,2,      0.001,2
09AR20071216,       CASO,      73,          1,         17,         17,2,20080110,       1339,   -65.3260,   146.9112,       2926,   199.1,  -0.1613,  34.5304,2,  34.5301,2,   255.80,2,  241.21,2,    82.1,2,    2.18,2,   2.6536,2,   1.4086,2,   0.1951,2,  2240.9,2,  2338.4,2,  -0.005,2,   31.34,2,      0.001,2
09AR20071216,       CASO,      73,          1,         16,         16,2,20080110,       1339,   -65.3260,   146.9112,       2926,   300.4,   1.2028,  34.6741,2,  34.6744,2,   205.05,2,  202.49,2,    87.0,2,    2.19,2,   0.8005,2,   0.4176,2,   0.0581,2,  2250.2,2,  2347.2,2,  -0.025,2,   31.38,2,      0.001,2
09AR20071216,       CASO,      73,          1,         15,         15,2,20080110,       1339,   -65.3260,   146.9112,       2926,   401.3,   1.2719,  34.6983,2,  34.6988,2,   198.99,2,  201.88,2,    90.1,2,    2.18,2,-999.0000,9,-999.0000,9,-999.0000,9,    2253,2,    2348,6,  -0.030,2,   31.25,2,      0.001,2
09AR20071216,       CASO,      73,          1,         14,         14,2,20080110,       1339,   -65.3260,   146.9112,       2926,   550.3,   1.0652,  34.6954,2,-999.0000,9,   205.17,2,  206.35,2,    94.1,2,    2.17,2,   0.8523,2,   0.4306,2,   0.0543,2,  2251.6,2,  2353.5,2,  -0.033,2,   31.20,2,      0.001,2
09AR20071216,       CASO,      73,          1,         13,         13,2,20080110,       1339,   -65.3260,   146.9112,       2926,   700.6,   0.8964,  34.6922,2,-999.0000,9,   205.52,2, -999.00,9,  -999.0,9, -999.00,9,-999.0000,9,-999.0000,9,-999.0000,9,  -999.0,9,  -999.0,9,  -0.031,2, -999.00,9,      0.001,2
09AR20071216,       CASO,      73,          1,         12,         12,2,20080110,       1339,   -65.3260,   146.9112,       2926,   850.2,   1.0167,  34.7163,2,  34.7174,2,   204.18,2,  206.83,2,   106.0,2,    2.20,2,   0.3564,2,   0.1759,2,   0.0176,2,  2256.2,6,  2360.8,2,  -0.031,2,   31.40,2,      0.001,2
09AR20071216,       CASO,      73,          1,         11,         11,2,20080110,       1339,   -65.3260,   146.9112,       2926,  1000.2,   0.8575,  34.7073,2,  34.7078,2,   204.67,2,  205.70,2,   111.3,2,    2.23,2,   0.4195,2,   0.2085,2,   0.0236,2,  2256.6,2,  2359.5,6,  -0.033,2,   31.92,2,      0.001,2
09AR20071216,       CASO,      73,          1,         10,         10,2,20080110,       1339,   -65.3260,   146.9112,       2926,  1201.2,   0.7259,  34.7041,2,  34.7051,2,   207.81,2,  208.08,2,   115.0,2,    2.23,2,   0.3044,2,   0.1703,2,   0.0186,2,  2258.5,2,  2361.5,2,  -0.036,2,   31.96,2,      0.001,2
09AR20071216,       CASO,      73,          1,          9,          9,2,20080110,       1339,   -65.3260,   146.9112,       2926,  1399.2,   0.5421,  34.6943,2,  34.6945,2,   210.79,2,  211.17,2,   118.4,2,    2.26,2,   0.4172,2,   0.2115,2,   0.0289,2,  2259.8,2,  2364.3,2,  -0.032,2,   32.17,2,      0.001,2
09AR20071216,       CASO,      73,          1,          8,          8,2,20080110,       1339,   -65.3260,   146.9112,       2926,  1600.0,   0.4168,  34.6901,2,  34.6903,2,   213.35,2,  214.42,2,   121.5,2,    2.27,2,   0.4192,2,   0.2155,2,   0.0287,2,  2260.1,2,  2359.1,2,  -0.037,2,   32.21,2,      0.001,2
09AR20071216,       CASO,      73,          1,          7,          7,2,20080110,       1339,   -65.3260,   146.9112,       2926,  1801.3,   0.2839,  34.6847,2,  34.6850,2,   217.25,2,  213.60,2,   122.5,2,    2.28,2,-999.0000,9,-999.0000,9,-999.0000,9,  -999.0,9,  -999.0,9,  -0.037,2,   32.34,2,      0.001,2
09AR20071216,       CASO,      73,          1,          6,          6,2,20080110,       1339,   -65.3260,   146.9112,       2926,  2000.7,   0.2001,  34.6835,2,  34.6847,2,   219.27,2,  219.55,2,   120.0,2,    2.26,2,   0.8259,2,   0.4213,2,   0.0557,2,  2262.8,2,  2361.1,2,  -0.040,2,   32.29,2,      0.001,2
09AR20071216,       CASO,      73,          1,          5,          5,2,20080110,       1339,   -65.3260,   146.9112,       2926,  2201.0,   0.1013,  34.6790,2,  34.6790,2,   223.19,2,  223.42,2,   115.2,2,    2.26,2,   1.1639,2,   0.5803,2,   0.0739,2,  2258.2,2,  2355.9,2,  -0.039,2,   32.12,2,      0.001,2
09AR20071216,       CASO,      73,          1,          4,          4,2,20080110,       1339,   -65.3260,   146.9112,       2926,  2450.4,  -0.0036,  34.6754,2,  34.6756,2,   227.20,2,  227.59,2,   123.4,2,    2.27,2,   1.0727,2,   0.5313,2,   0.0570,2,  2255.5,2,  2356.3,2,  -0.041,2,   32.24,2,      0.001,2
09AR20071216,       CASO,      73,          1,          3,          3,2,20080110,       1339,   -65.3260,   146.9112,       2926,  2700.7,  -0.1308,  34.6718,2,  34.6709,2,   233.49,2,  232.93,2,   110.2,2,    2.24,2,   1.7615,2,   0.9101,2,   0.1165,2,    2256,2,  2358.3,6,  -0.040,2,   31.78,2,      0.001,2
09AR20071216,       CASO,      73,          1,          2,          2,2,20080110,       1339,   -65.3260,   146.9112,       2926,  2903.3,  -0.2312,  34.6738,2,  34.6739,2,   237.64,2,  237.14,2,   103.3,2,    2.23,2,   2.1824,2,   1.1114,2,   0.1345,2,  2255.6,2,  2355.1,6,  -0.040,2,   31.82,2,      0.001,2
09AR20071216,       CASO,      73,          1,          1,          1,2,20080110,       1339,   -65.3260,   146.9112,       2926,  2965.4,  -0.2270,  34.6742,2,  34.6737,2,   237.44,2,  237.19,2,   104.0,2,    2.22,2,   2.1734,2,   1.1459,2,   0.1630,2,  2257.9,2,  2354.6,2,  -0.042,2,   31.86,2,      0.001,2
09AR20071216,       CASO,      74,          1,         24,         24,2,20080110,       1719,   -65.6303,   146.9182,       2663,     8.9,  -0.8063,  33.4315,2,  33.4322,2,   357.24,2,  355.62,2,    43.7,2,    1.62,2,   6.3587,2,   3.3312,2,   0.4978,2,  2131.4,6,  2261.6,2,   1.217,2,   26.21,2,      2.736,2
09AR20071216,       CASO,      74,          1,         23,         23,2,20080110,       1719,   -65.6303,   146.9182,       2663,     8.9,  -0.8053,  33.4316,2,-999.0000,9,   357.24,2, -999.00,9,  -999.0,9, -999.00,9,-999.0000,9,-999.0000,9,-999.0000,9,  -999.0,9,  -999.0,9,   1.125,2, -999.00,9,      2.759,2
09AR20071216,       CASO,      74,          1,         22,         22,2,20080110,       1719,   -65.6303,   146.9182,       2663,     8.9,  -0.8045,  33.4313,2,-999.0000,9,   357.24,2, -999.00,9,  -999.0,9, -999.00,9,-999.0000,9,-999.0000,9,-999.0000,9,  -999.0,9,  -999.0,9,   1.071,2, -999.00,9,      2.770,2
09AR20071216,       CASO,      74,          1,         21,         21,2,20080110,       1719,   -65.6303,   146.9182,       2663,    30.4,  -0.9846,  34.0622,2,-999.0000,9,   363.70,2, -999.00,9,  -999.0,9, -999.00,9,-999.0000,9,-999.0000,9,-999.0000,9,  -999.0,9,  -999.0,9,   5.907,2, -999.00,9,      1.917,2
09AR20071216,       CASO,      74,          1,         20,         20,2,20080110,       1719,   -65.6303,   146.9182,       2663,    30.6,  -0.9693,  34.0531,2,  34.0246,2,   363.70,2,  364.93,2,    50.1,2,    1.69,3,-999.0000,9,-999.0000,9,-999.0000,9,  -999.0,9,  -999.0,9,   5.381,2,   25.33,3,      1.935,2
09AR20071216,       CASO,      74,          1,         19,         19,2,20080110,       1719,   -65.6303,   146.9182,       2663,    60.3,  -1.5845,  34.2421,2,  34.2399,2,   331.06,2,  332.22,2,    70.6,2,    1.95,2,-999.0000,9,-999.0000,9,-999.0000,9,  -999.0,9,  -999.0,9,   8.752,2,   27.15,2,      0.317,2
09AR20071216,       CASO,      74,          1,         18,         18,2,20080110,       1719,   -65.6303,   146.9182,       2663,   101.4,  -1.8111,  34.3597,2,  34.3605,2,   302.11,2,  302.25,2,    76.2,2,    2.08,2,-999.0000,9,-999.0000,9,-999.0000,9,  -999.0,9,  -999.0,9,   0.289,2,   30.04,2,      0.001,2
09AR20071216,       CASO,      74,          1,         17,         17,2,20080110,       1719,   -65.6303,   146.9182,       2663,   150.5,  -1.8290,  34.3795,2,  34.3817,2,   299.13,2,  298.33,2,  -999.0,9, -999.00,9,   4.7663,2,   2.5042,2,   0.3957,2,  1964.8,4,    2326,6,   0.077,2, -999.00,9,      0.001,2
09AR20071216,       CASO,      74,          1,         16,         16,2,20080110,       1719,   -65.6303,   146.9182,       2663,   200.9,  -1.7976,  34.3928,2,  34.3935,2,   295.47,2,  294.51,2,    77.7,2,    2.09,2,-999.0000,9,-999.0000,9,-999.0000,9,  -999.0,9,  -999.0,9,   0.056,2,   30.28,2,      0.001,2
09AR20071216,       CASO,      74,          1,         15,         15,2,20080110,       1719,   -65.6303,   146.9182,       2663,   299.8,  -1.4441,  34.4312,2,  34.4315,2,   277.04,2,  278.98,2,    81.7,2,    2.12,2,   4.0074,2,   2.1165,2,   0.3194,2,  2232.1,2,  2330.9,2,   0.048,2,   30.70,2,      0.001,2
09AR20071216,       CASO,      74,          1,         14,         14,2,20080110,       1719,   -65.6303,   146.9182,       2663,   399.8,  -0.7453,  34.5065,2,  34.5070,2,   250.61,2,  254.42,2,    86.1,2,    2.16,2,-999.0000,9,-999.0000,9,-999.0000,9,  -999.0,9,  -999.0,9,   0.019,2,   30.95,2,      0.001,2
09AR20071216,       CASO,      74,          1,         13,         13,2,20080110,       1719,   -65.6303,   146.9182,       2663,   500.3,  -0.0112,  34.5992,2,  34.5993,2,   231.02,2,  229.39,2,    94.2,2,    2.20,2,-999.0000,9,-999.0000,9,-999.0000,9,  -999.0,9,  -999.0,9,  -0.024,2,   31.41,2,      0.001,2
09AR20071216,       CASO,      74,          1,         12,         12,2,20080110,       1719,   -65.6303,   146.9182,       2663,   601.7,   0.5366,  34.6612,2,  34.6617,2,   213.12,2,  213.70,2,   100.1,2,    2.21,2,-999.0000,9,-999.0000,9,-999.0000,9,  -999.0,9,  -999.0,9,  -0.023,2,   31.66,2,      0.001,2
09AR20071216,       CASO,      74,          1,         11,         11,2,20080110,       1719,   -65.6303,   146.9182,       2663,   750.4,   0.5126,  34.6710,2,  34.6707,2,   211.80,2,  212.22,2,   105.8,2,    2.23,2,-999.0000,9,-999.0000,9,-999.0000,9,  -999.0,9,  -999.0,9,  -0.028,2,   31.59,2,      0.001,2
09AR20071216,       CASO,      74,          1,         10,         10,2,20080110,       1719,   -65.6303,   146.9182,       2663,   948.8,   0.5067,  34.6816,2,  34.6817,2,   210.32,2,  211.30,2,  -999.0,9, -999.00,9,-999.0000,9,-999.0000,9,-999.0000,9,  -999.0,9,  -999.0,9,  -0.032,2, -999.00,9,      0.001,2
09AR20071216,       CASO,      74,          1,          9,          9,2,20080110,       1719,   -65.6303,   146.9182,       2663,  1150.0,   0.3779,  34.6787,2,  34.6784,2,   214.71,2,  214.26,2,   113.3,2,    2.26,2,-999.0000,9,-999.0000,9,-999.0000,9,  -999.0,9,  -999.0,9,  -0.034,2,   31.81,2,      0.001,2
09AR20071216,       CASO,      74,          1,          8,          8,2,20080110,       1719,   -65.6303,   146.9182,       2663,  1349.8,   0.2875,  34.6788,2,  34.6788,2,   216.98,2,  216.25,2,   114.2,2,    2.27,2,-999.0000,9,-999.0000,9,-999.0000,9,  -999.0,9,  -999.0,9,  -0.034,2,   31.92,2,      0.001,2
09AR20071216,       CASO,      74,          1,          7,          7,2,20080110,       1719,   -65.6303,   146.9182,       2663,  1550.6,   0.2314,  34.6817,2,  34.6813,2,   218.67,2,  218.08,2,   116.5,2,    2.28,2,-999.0000,9,-999.0000,9,-999.0000,9,  -999.0,9,  -999.0,9,  -0.037,2,   31.83,2,      0.001,2
09AR20071216,       CASO,      74,          1,          6,          6,2,20080110,       1719,   -65.6303,   146.9182,       2663,  1750.4,   0.1319,  34.6791,2,  34.6792,2,   221.27,2,  221.25,2,   112.7,2,    2.26,2,-999.0000,9,-999.0000,9,-999.0000,9,  -999.0,9,  -999.0,9,  -0.035,2,   31.70,2,      0.001,2
09AR20071216,       CASO,      74,          1,          5,          5,2,20080110,       1719,   -65.6303,   146.9182,       2663,  1999.6,   0.0141,  34.6715,2,  34.6709,2,   227.13,2,  227.98,2,   108.2,2,    2.24,2,-999.0000,9,-999.0000,9,-999.0000,9,  -999.0,9,  -999.0,9,  -0.037,2,   31.74,2,      0.001,2
09AR20071216,       CASO,      74,          1,          4,          4,2,20080110,       1719,   -65.6303,   146.9182,       2663,  2249.3,  -0.0753,  34.6753,2,  34.6740,2,   229.26,2,  229.85,2,   111.0,2,    2.25,2,-999.0000,9,-999.0000,9,-999.0000,9,  -999.0,9,  -999.0,9,  -0.038,2,   31.73,2,      0.001,2
09AR20071216,       CASO,      74,          1,          3,          3,2,20080110,       1719,   -65.6303,   146.9182,       2663,  2499.6,  -0.2147,  34.6704,2,  34.6697,2,   235.07,2,  235.15,2,   111.9,2,    2.25,2,   1.9805,2,   1.0091,2,   0.1377,2,  2257.3,2,  2353.1,6,  -0.039,2,   31.73,2,      0.001,2
09AR20071216,       CASO,      74,          1,          2,          2,2,20080110,       1719,   -65.6303,   146.9182,       2663,  2654.2,  -0.2454,  34.6748,2,  34.6735,2,   237.05,2,  236.88,2,   104.4,2,    2.24,2,   2.2547,2,   1.1801,2,   0.1567,2,  2257.4,2,    2351,2,  -0.041,2,   31.50,2,      0.001,2
09AR20071216,       CASO,      74,          1,          1,          1,2,20080110,       1719,   -65.6303,   146.9182,       2663,  2708.0,  -0.2421,  34.6749,2,  34.6740,2,   237.13,2,  237.44,2,   104.4,2,    2.23,2,   2.2585,2,   1.1666,2,   0.1623,2,  2257.4,2,  2355.5,2,  -0.040,2,   31.50,2,      0.001,2