BOTTLE,20230622CCHSIOENA
EXPOCODE,SECT_ID,STNNBR,CASTNO,SAMPNO,BTLNBR,BTLNBR_FLAG_W,DATE,TIME,LATITUDE,LONGITUDE,DEPTH,CTDPRS,CTDTMP,CTDSAL,CTDSAL_FLAG_W,SALNTY,SALNTY_FLAG_W,CTDOXY,CTDOXY_FLAG_W,OXYGEN,OXYGEN_FLAG_W,SILCAT,SILCAT_FLAG_W,PHSPHT,PHSPHT_FLAG_W,CFC-11,CFC-11_FLAG_W,CFC-12,CFC-12_FLAG_W,CFC113,CFC113_FLAG_W,TCARBN,TCARBN_FLAG_W,ALKALI,ALKALI_FLAG_W,FLUOR,FLUOR_FLAG_W,NO2+NO3,NO2+NO3_FLAG_W,PAR,PAR_FLAG_W
,,,,,,,,,,,METERS,DBAR,ITS-90,PSS-78,,PSS-78,,UMOL/KG,,UMOL/KG,,UMOL/KG,,UMOL/KG,,PMOL/KG,,PMOL/KG,,PMOL/KG,,UMOL/KG,,UMOL/KG,,MG/M^3,,UMOL/KG,,VOLTS,
09AR20071216,       CASO,      71,          1,         24,         24,2,20080110,       0046,   -65.3952,   149.4973,       3037,     9.5,  -1.6436,  33.5925,2,  33.5954,2,   337.62,2,  340.83,2,    49.6,2,    1.83,2,   5.9026,2,   2.9611,2,   0.4626,2,  2155.4,6,  2276.9,2,   0.004,2,   27.85,2,      3.483,2
09AR20071216,       CASO,      71,          1,         23,         23,2,20080110,       0046,   -65.3952,   149.4973,       3037,    40.2,  -1.7223,  34.0518,2,-999.0000,9,   311.51,2, -999.00,9,  -999.0,9, -999.00,9,-999.0000,9,-999.0000,9,-999.0000,9,  -999.0,9,  -999.0,9,   0.315,2, -999.00,9,      2.674,2
09AR20071216,       CASO,      71,          1,         22,         22,2,20080110,       0046,   -65.3952,   149.4973,       3037,    39.9,  -1.7223,  34.0501,2,-999.0000,9,   311.51,2, -999.00,9,  -999.0,9, -999.00,9,-999.0000,9,-999.0000,9,-999.0000,9,  -999.0,9,  -999.0,9,   0.319,2, -999.00,9,      2.678,2
09AR20071216,       CASO,      71,          1,         21,         21,2,20080110,       0046,   -65.3952,   149.4973,       3037,    40.7,  -1.7201,  34.0463,2,  34.0483,2,   311.51,2,  307.41,2,    51.9,2,    2.04,2,   4.3811,2,   2.2501,2,   0.4296,2,  2195.8,2,    2302,6,   0.379,2,   30.16,2,      2.677,2
09AR20071216,       CASO,      71,          1,         20,         20,2,20080110,       0046,   -65.3952,   149.4973,       3037,    89.7,  -1.3731,  34.2718,2,  34.2702,2,   282.63,2,  284.19,2,    59.4,2,    2.13,2,   4.3272,2,   2.2458,2,   0.3369,2,    2218,2,    2314,2,   0.554,2,   31.34,2,      1.848,2
09AR20071216,       CASO,      71,          1,         19,         19,2,20080110,       0046,   -65.3952,   149.4973,       3037,   150.2,   0.0130,  34.5028,2,  34.5019,2,   241.74,2,  237.00,2,    78.7,2,    2.20,2,-999.0000,9,-999.0000,9,-999.0000,9,  -999.0,9,  -999.0,9,  -0.003,2,   32.03,2,      0.943,2
09AR20071216,       CASO,      71,          1,         18,         18,2,20080110,       0046,   -65.3952,   149.4973,       3037,   198.4,   0.2220,  34.5489,2,  34.5483,2,   224.73,2,  229.88,2,    82.4,2,    2.20,2,   2.1937,2,   1.1886,2,   0.1502,2,  2243.9,2,  2338.6,6,  -0.034,2,   31.93,2,      0.290,2
09AR20071216,       CASO,      71,          1,         17,         17,2,20080110,       0046,   -65.3952,   149.4973,       3037,   299.9,   0.7000,  34.6182,2,  34.6150,2,   211.64,2,  216.18,2,    85.9,2,    2.19,2,   1.5821,2,   0.8337,2,   0.1234,2,  2253.3,2,    2341,2,  -0.033,2,   31.76,2,      0.001,2
09AR20071216,       CASO,      71,          1,         16,         16,2,20080110,       0046,   -65.3952,   149.4973,       3037,   400.5,   0.9402,  34.6624,2,  34.6619,2,   210.78,2,  209.57,2,    89.7,2,    2.17,2,   1.1561,2,   0.6015,2,   0.0814,2,  2250.9,2,  2347.2,2,  -0.030,2,   31.37,2,      0.001,2
09AR20071216,       CASO,      71,          1,         15,         15,2,20080110,       0046,   -65.3952,   149.4973,       3037,   550.7,   1.0192,  34.6906,2,  34.6901,2,   209.89,2,  206.87,2,    95.4,2,    2.16,2,   0.8150,2,   0.4158,2,   0.0589,2,  2252.9,2,  2351.1,2,  -0.036,2,   31.27,2,      0.001,2
09AR20071216,       CASO,      71,          1,         14,         14,2,20080110,       0046,   -65.3952,   149.4973,       3037,   698.8,   1.1369,  34.7159,2,  34.7164,2,   204.99,2,  203.74,2,   100.2,2,    2.16,2,   0.4360,2,   0.2187,2,   0.0259,2,  2253.3,2,  2357.5,2,  -0.035,2,   31.09,2,      0.001,2
09AR20071216,       CASO,      71,          1,         13,         13,2,20080110,       0046,   -65.3952,   149.4973,       3037,   849.0,   1.0548,  34.7176,2,  34.7172,2,   204.74,2,  204.13,2,   104.8,2,    2.16,2,   0.3524,2,   0.1751,2,   0.0207,2,  2254.4,2,  2358.2,2,  -0.032,2,   31.04,2,      0.001,2
09AR20071216,       CASO,      71,          1,         12,         12,2,20080110,       0046,   -65.3952,   149.4973,       3037,  1000.8,   0.9328,  34.7132,2,  34.7125,2,   206.24,2,  206.61,2,   109.6,2,    2.19,2,-999.0000,9,-999.0000,9,-999.0000,9,  -999.0,9,  -999.0,9,  -0.034,2,   31.65,2,      0.001,2
09AR20071216,       CASO,      71,          1,         11,         11,2,20080110,       0046,   -65.3952,   149.4973,       3037,  1200.7,   0.7987,  34.7089,2,  34.7084,2,   208.05,2,  207.35,2,   115.1,2,    2.20,2,   0.2842,2,   0.1426,2,   0.0177,2,  2256.6,2,  2361.1,2,  -0.036,2,   31.93,2,      0.001,2
09AR20071216,       CASO,      71,          1,         10,         10,2,20080110,       0046,   -65.3952,   149.4973,       3037,  1403.2,   0.6375,  34.7006,2,  34.7013,2,   210.17,2,  209.73,2,   118.6,2,    2.23,2,-999.0000,9,-999.0000,9,-999.0000,9,  -999.0,9,  -999.0,9,  -0.037,2,   32.06,2,      0.001,2
09AR20071216,       CASO,      71,          1,          9,          9,2,20080110,       0046,   -65.3952,   149.4973,       3037,  1599.9,   0.4492,  34.6896,2,  34.6896,2,   211.78,2,  212.34,2,   119.6,2,    2.24,2,   0.5424,2,   0.2760,2,   0.0303,2,  2259.9,3,  2362.5,2,  -0.042,2,   32.25,2,      0.001,2
09AR20071216,       CASO,      71,          1,          8,          8,2,20080110,       0046,   -65.3952,   149.4973,       3037,  1802.7,   0.3365,  34.6866,2,  34.6872,2,   215.26,2,  214.82,2,   121.1,2,    2.25,2,-999.0000,9,-999.0000,9,-999.0000,9,  -999.0,9,  -999.0,9,  -0.036,2,   32.24,2,      0.001,2
09AR20071216,       CASO,      71,          1,          7,          7,2,20080110,       0046,   -65.3952,   149.4973,       3037,  1999.3,   0.2499,  34.6844,2,  34.6841,2,   218.00,2,  217.64,2,   121.4,2,    2.25,2,   0.7449,2,   0.3687,2,   0.0481,2,  2259.1,2,  2361.5,2,  -0.035,2,   32.23,2,      0.001,2
09AR20071216,       CASO,      71,          1,          6,          6,2,20080110,       0046,   -65.3952,   149.4973,       3037,  2200.6,   0.1664,  34.6818,2,  34.6819,2,   220.76,2,  220.94,2,   121.4,2,    2.25,2,-999.0000,9,-999.0000,9,-999.0000,9,  -999.0,9,  -999.0,9,  -0.041,2,   32.14,2,      0.001,2
09AR20071216,       CASO,      71,          1,          5,          5,2,20080110,       0046,   -65.3952,   149.4973,       3037,  2399.0,   0.0734,  34.6795,2,  34.6792,2,   224.30,2,  224.94,2,   120.2,2,    2.24,2,   1.1688,2,   0.5607,2,   0.0926,2,  2264.8,2,  2356.7,2,  -0.041,2,   32.09,2,      0.001,2
09AR20071216,       CASO,      71,          1,          4,          4,2,20080110,       0046,   -65.3952,   149.4973,       3037,  2649.6,  -0.0310,  34.6753,2,  34.6748,2,   228.67,2,  228.63,2,   119.5,2,    2.24,2,-999.0000,9,-999.0000,9,-999.0000,9,  -999.0,9,  -999.0,9,  -0.039,2,   32.04,2,      0.001,2
09AR20071216,       CASO,      71,          1,          3,          3,2,20080110,       0046,   -65.3952,   149.4973,       3037,  2898.8,  -0.1669,  34.6746,2,  34.6740,2,   234.96,2,  235.15,2,   103.9,2,    2.20,2,   2.1044,2,   1.0761,2,   0.1695,2,  2257.5,2,  2355.7,6,  -0.039,2,   31.57,2,      0.001,2
09AR20071216,       CASO,      71,          1,          2,          2,2,20080110,       0046,   -65.3952,   149.4973,       3037,  3021.7,  -0.2414,  34.6710,2,  34.6707,2,   237.59,2,  238.58,2,   101.9,2,    2.19,2,   2.3176,2,   1.1861,2,   0.1642,2,  2222.6,3,  2354.3,6,  -0.040,2,   31.51,2,      0.001,2
09AR20071216,       CASO,      71,          1,          1,          1,2,20080110,       0046,   -65.3952,   149.4973,       3037,  3080.2,  -0.2348,  34.6713,2,  34.6707,2,   238.24,2,  238.01,2,   101.9,2,    2.17,2,   2.2848,2,   1.1858,2,   0.1652,2,  2255.6,2,  2352.9,2,  -0.041,2,   31.46,2,      0.001,2
09AR20071216,       CASO,      72,          1,         24,         24,2,20080110,       0601,   -65.5750,   148.8838,       2647,     4.6,  -1.4493,  33.6817,2,  33.6829,2,   338.34,2,  339.06,2,    51.7,2,    1.81,2,   5.6726,2,   2.9092,2,   0.4501,2,  2080.6,2,  2277.3,2,   0.743,2,   28.01,2,      3.183,2
09AR20071216,       CASO,      72,          1,         23,         23,2,20080110,       0601,   -65.5750,   148.8838,       2647,    25.0,  -1.6502,  33.8233,2,-999.0000,9,   328.30,2, -999.00,9,  -999.0,9, -999.00,9,-999.0000,9,-999.0000,9,-999.0000,9,  -999.0,9,  -999.0,9,   2.095,2, -999.00,9,      2.450,2
09AR20071216,       CASO,      72,          1,         22,         22,2,20080110,       0601,   -65.5750,   148.8838,       2647,    25.0,  -1.6433,  33.9042,2,-999.0000,9,   328.30,2, -999.00,9,  -999.0,9, -999.00,9,-999.0000,9,-999.0000,9,-999.0000,9,  -999.0,9,  -999.0,9,   2.095,2, -999.00,9,      2.464,2
09AR20071216,       CASO,      72,          1,         21,         21,2,20080110,       0601,   -65.5750,   148.8838,       2647,    25.1,  -1.6407,  33.9398,2,  33.9614,2,   325.60,2,  325.43,2,    55.2,2,    1.90,2,   5.1946,2,   2.6680,2,   0.4062,2,  2156.7,2,  2296.4,6,   2.107,2,   28.68,2,      2.471,2
09AR20071216,       CASO,      72,          1,         20,         20,2,20080110,       0601,   -65.5750,   148.8838,       2647,    50.5,  -1.7321,  34.2269,2,  34.2242,2,   309.68,2,  309.28,2,    61.5,2,    2.02,2,   4.8023,2,   2.4850,2,   0.3728,2,  2199.5,2,  2313.7,2,   1.536,2,   29.74,2,      1.769,2
09AR20071216,       CASO,      72,          1,         19,         19,2,20080110,       0601,   -65.5750,   148.8838,       2647,   101.0,  -1.5951,  34.3310,2,  34.3306,2,   292.52,2,  293.65,2,    68.3,2,    2.09,2,   4.6130,2,   2.3597,2,   0.3680,2,  2221.5,2,  2319.5,2,   0.458,2,   30.63,2,      0.734,2
09AR20071216,       CASO,      72,          1,         18,         18,2,20080110,       0601,   -65.5750,   148.8838,       2647,   201.0,  -1.0316,  34.4424,2,  34.4409,2,   271.38,2,  269.47,2,    78.7,2,    2.15,2,-999.0000,9,-999.0000,9,-999.0000,9,  -999.0,9,  -999.0,9,  -0.032,2,   31.19,2,      0.001,2
09AR20071216,       CASO,      72,          1,         17,         17,2,20080110,       0601,   -65.5750,   148.8838,       2647,   300.2,  -0.3288,  34.5278,2,  34.5266,2,   241.63,2,  243.99,2,    84.3,2,    2.17,2,   2.7081,2,   1.4190,2,   0.2072,2,  2253.8,2,  2336.3,2,  -0.035,2,   31.70,2,      0.001,2
09AR20071216,       CASO,      72,          1,         16,         16,2,20080110,       0601,   -65.5750,   148.8838,       2647,   399.9,   0.1084,  34.5998,2,  34.5991,2,   228.59,2,  226.08,2,    92.4,2,    2.22,2,-999.0000,9,-999.0000,9,-999.0000,9,  -999.0,9,  -999.0,9,  -0.034,2,   31.70,2,      0.001,2
09AR20071216,       CASO,      72,          1,         15,         15,2,20080110,       0601,   -65.5750,   148.8838,       2647,   501.0,   0.7225,  34.6718,2,  34.6717,2,   209.95,2,  206.87,2,    98.9,2,    2.23,2,   0.9466,2,   0.4870,2,   0.0629,2,  2267.7,2,  2346.8,2,  -0.032,2,   31.91,2,      0.001,2
09AR20071216,       CASO,      72,          1,         14,         14,2,20080110,       0601,   -65.5750,   148.8838,       2647,   600.1,   0.8388,  34.6920,2,  34.6915,2,   203.73,2,  202.57,2,   104.2,2,    2.24,2,   0.6625,2,   0.3350,2,   0.0468,2,  2266.6,2,  2353.1,2,  -0.034,2,   32.13,2,      0.001,2
09AR20071216,       CASO,      72,          1,         13,         13,2,20080110,       0601,   -65.5750,   148.8838,       2647,   700.3,   0.8359,  34.6988,2,  34.6992,2,   201.87,2,  201.87,2,   107.9,2,    2.24,2,   0.4866,2,   0.2472,2,   0.0308,2,  2259.6,2,  2354.2,2,  -0.038,2,   32.30,2,      0.001,2
09AR20071216,       CASO,      72,          1,         12,         12,2,20080110,       0601,   -65.5750,   148.8838,       2647,   800.5,   0.7050,  34.6906,2,  34.6911,2,   201.74,2,  205.08,2,   108.8,2,    2.25,2,   0.5995,2,   0.3058,2,   0.0392,2,  2261.7,2,  2353.8,2,  -0.030,2,   32.39,2,      0.001,2
09AR20071216,       CASO,      72,          1,         11,         11,2,20080110,       0601,   -65.5750,   148.8838,       2647,   900.6,   0.6682,  34.6927,2,  34.6925,2,   204.06,2,  206.56,2,   111.3,2,    2.25,2,   0.5557,2,   0.2845,2,   0.0330,2,  2260.7,2,  2355.7,2,  -0.034,2,   32.35,2,      0.001,2
09AR20071216,       CASO,      72,          1,         10,         10,2,20080110,       0601,   -65.5750,   148.8838,       2647,  1100.4,   0.5855,  34.6941,2,  34.6945,2,   206.16,2,  207.30,2,   116.3,2,    2.26,2,   0.4687,2,   0.2378,2,   0.0323,2,    2261,2,  2356.8,2,  -0.033,2,   32.54,2,      0.001,2
09AR20071216,       CASO,      72,          1,          9,          9,2,20080110,       0601,   -65.5750,   148.8838,       2647,  1300.6,   0.4273,  34.6861,2,  34.6866,2,   212.61,2,  212.39,2,   116.9,2,    2.26,2,-999.0000,9,-999.0000,9,-999.0000,9,  -999.0,9,  -999.0,9,  -0.038,2,   32.58,2,      0.001,2
09AR20071216,       CASO,      72,          1,          8,          8,2,20080110,       0601,   -65.5750,   148.8838,       2647,  1500.5,   0.2639,  34.6775,2,  34.6776,2,   217.03,2,  217.47,2,   114.7,2,    2.27,2,   0.9310,2,   0.4771,2,   0.0668,2,  2250.8,2,  2356.4,2,  -0.035,2,   32.66,2,      0.001,2
09AR20071216,       CASO,      72,          1,          7,          7,2,20080110,       0601,   -65.5750,   148.8838,       2647,  1700.1,   0.2219,  34.6831,2,  34.6833,2,   218.23,2,  218.17,2,   119.5,2,    2.26,2,   0.7861,2,   0.3959,2,   0.0493,2,  2257.1,2,  2355.8,6,  -0.038,2,   32.63,2,      0.001,2
09AR20071216,       CASO,      72,          1,          6,          6,2,20080110,       0601,   -65.5750,   148.8838,       2647,  1901.4,   0.1339,  34.6814,2,  34.6821,2,   221.56,2,  221.11,2,   114.7,2,    2.27,2,-999.0000,9,-999.0000,9,-999.0000,9,  -999.0,9,  -999.0,9,  -0.037,2,   32.51,2,      0.001,2
09AR20071216,       CASO,      72,          1,          5,          5,2,20080110,       0601,   -65.5750,   148.8838,       2647,  2100.5,   0.0407,  34.6788,2,  34.6790,2,   224.20,2,  224.59,2,   117.0,2,    2.26,2,   1.1774,2,   0.5877,2,   0.0772,2,  2262.3,2,  2354.9,2,  -0.039,2,   32.47,2,      0.001,2
09AR20071216,       CASO,      72,          1,          4,          4,2,20080110,       0601,   -65.5750,   148.8838,       2647,  2299.3,  -0.0439,  34.6760,2,  34.6762,2,   228.01,2,  228.46,2,   117.0,2,    2.26,2,   1.3469,2,   0.6773,2,   0.0900,2,    2247,2,  2355.3,2,  -0.043,2,   32.29,2,      0.001,2
09AR20071216,       CASO,      72,          1,          3,          3,2,20080110,       0601,   -65.5750,   148.8838,       2647,  2501.3,  -0.1470,  34.6772,2,  34.6786,2,   232.65,2,  232.84,2,   104.7,2,    2.21,2,   1.9971,2,   1.0200,2,   0.1430,2,  2267.1,2,  2354.9,2,  -0.038,2,   31.91,2,      0.001,2
09AR20071216,       CASO,      72,          1,          2,          2,2,20080110,       0601,   -65.5750,   148.8838,       2647,  2632.6,  -0.2839,  34.6713,2,  34.6713,2,   238.11,2,  238.66,2,   101.0,2,    2.22,2,   2.3267,2,   1.1968,2,   0.1644,2,  2180.5,4,  2350.4,6,  -0.041,2,   31.79,2,      0.001,2
09AR20071216,       CASO,      72,          1,          1,          1,2,20080110,       0601,   -65.5750,   148.8838,       2647,  2687.6,  -0.2737,  34.6733,2,  34.6735,2,   237.73,2,  237.71,2,   101.6,2,    2.22,2,   2.3102,2,   1.1889,2,   0.1635,2,    2259,6,  2349.2,2,  -0.037,2,   31.62,2,      0.001,2