BOTTLE,20230622CCHSIOENA
EXPOCODE,SECT_ID,STNNBR,CASTNO,SAMPNO,BTLNBR,BTLNBR_FLAG_W,DATE,TIME,LATITUDE,LONGITUDE,DEPTH,CTDPRS,CTDTMP,CTDSAL,CTDSAL_FLAG_W,SALNTY,SALNTY_FLAG_W,CTDOXY,CTDOXY_FLAG_W,OXYGEN,OXYGEN_FLAG_W,SILCAT,SILCAT_FLAG_W,PHSPHT,PHSPHT_FLAG_W,CFC-11,CFC-11_FLAG_W,CFC-12,CFC-12_FLAG_W,CFC113,CFC113_FLAG_W,TCARBN,TCARBN_FLAG_W,ALKALI,ALKALI_FLAG_W,FLUOR,FLUOR_FLAG_W,NO2+NO3,NO2+NO3_FLAG_W,PAR,PAR_FLAG_W
,,,,,,,,,,,METERS,DBAR,ITS-90,PSS-78,,PSS-78,,UMOL/KG,,UMOL/KG,,UMOL/KG,,UMOL/KG,,PMOL/KG,,PMOL/KG,,PMOL/KG,,UMOL/KG,,UMOL/KG,,MG/M^3,,UMOL/KG,,VOLTS,
09AR20071216,    CEAMARC,      35,          1,         24,         24,2,20071231,       1853,   -66.7587,   144.3448,        891,     8.1,  -0.8874,  34.3699,2,  34.3703,2,   356.37,2,  356.19,2,    60.3,2,    1.56,2,   5.6885,6,   2.9427,6,   0.4574,6,  2191.3,6,  2329.4,6,   8.431,2,   25.85,2,      2.489,2
09AR20071216,    CEAMARC,      35,          1,         23,         23,2,20071231,       1853,   -66.7587,   144.3448,        891,     7.9,  -0.8859,  34.3700,2,-999.0000,9,   356.37,2, -999.00,9,  -999.0,9, -999.00,9,-999.0000,9,-999.0000,9,-999.0000,9,  -999.0,9,  -999.0,9,   8.440,2, -999.00,9,      2.564,2
09AR20071216,    CEAMARC,      35,          1,         22,         22,2,20071231,       1853,   -66.7587,   144.3448,        891,     8.1,  -0.8855,  34.3698,2,-999.0000,9,   356.37,2, -999.00,9,  -999.0,9, -999.00,9,-999.0000,9,-999.0000,9,-999.0000,9,  -999.0,9,  -999.0,9,   8.363,2, -999.00,9,      2.529,2
09AR20071216,    CEAMARC,      35,          1,         21,         21,2,20071231,       1853,   -66.7587,   144.3448,        891,     8.2,  -0.8868,  34.3699,2,-999.0000,9,   356.37,2, -999.00,9,  -999.0,9, -999.00,9,-999.0000,9,-999.0000,9,-999.0000,9,  -999.0,9,  -999.0,9,   8.462,2, -999.00,9,      2.479,2
09AR20071216,    CEAMARC,      35,          1,         20,         20,2,20071231,       1853,   -66.7587,   144.3448,        891,    60.2,  -0.9058,  34.3712,2,  34.3717,2,   355.42,2,  355.32,2,    60.6,2,    1.58,2,   5.9525,2,   2.9589,2,   0.4484,2,  2191.5,2,  2328.6,2,   9.161,2,   25.91,2,      0.001,2
09AR20071216,    CEAMARC,      35,          1,         19,         19,2,20071231,       1853,   -66.7587,   144.3448,        891,    99.2,  -1.4310,  34.4114,2,  34.4125,2,   329.95,2,  328.36,2,    71.0,2,    1.93,2,   5.4796,2,   2.7564,2,   0.4242,2,  2214.3,2,  2329.3,2,   2.344,2,   28.81,2,      0.001,2
09AR20071216,    CEAMARC,      35,          1,         18,         18,2,20071231,       1853,   -66.7587,   144.3448,        891,   150.8,  -1.6469,  34.4357,2,-999.0000,9,   315.14,2, -999.00,9,  -999.0,9, -999.00,9,-999.0000,9,-999.0000,9,-999.0000,9,  -999.0,9,  -999.0,9,   0.494,2, -999.00,9,      0.001,2
09AR20071216,    CEAMARC,      35,          1,         17,         17,2,20071231,       1853,   -66.7587,   144.3448,        891,   150.5,  -1.6473,  34.4358,2,  34.4366,2,   315.14,2,  316.00,2,    75.3,2,    2.05,2,   5.3133,2,   2.6594,2,   0.4157,2,  2222.6,2,  2331.4,2,   0.498,2,   30.07,2,      0.001,2
09AR20071216,    CEAMARC,      35,          1,         16,         16,2,20071231,       1853,   -66.7587,   144.3448,        891,   249.0,  -1.7599,  34.4737,2,-999.0000,9,   310.61,2, -999.00,9,  -999.0,9, -999.00,9,-999.0000,9,-999.0000,9,-999.0000,9,  -999.0,9,  -999.0,9,   0.079,2, -999.00,9,      0.001,2
09AR20071216,    CEAMARC,      35,          1,         15,         15,2,20071231,       1853,   -66.7587,   144.3448,        891,   248.9,  -1.7620,  34.4737,2,  34.4738,2,   310.61,2,  308.57,2,    78.6,2,    2.10,2,   5.0130,2,   2.5434,2,   0.3833,2,  2228.3,2,  2333.6,6,   0.087,2,   30.56,2,      0.001,2
09AR20071216,    CEAMARC,      35,          1,         14,         14,2,20071231,       1853,   -66.7587,   144.3448,        891,   352.4,  -1.8427,  34.4889,2,-999.0000,9,   308.04,2, -999.00,9,  -999.0,9, -999.00,9,-999.0000,9,-999.0000,9,-999.0000,9,  -999.0,9,  -999.0,9,  -0.001,2, -999.00,9,      0.001,2
09AR20071216,    CEAMARC,      35,          1,         13,         13,2,20071231,       1853,   -66.7587,   144.3448,        891,   351.9,  -1.8460,  34.4892,2,  34.4891,2,   308.04,2,  308.47,2,    78.9,2,    2.11,2,   5.0392,2,   2.5653,2,   0.4092,2,  2229.4,2,  2332.9,2,  -0.007,2,   30.71,2,      0.001,2
09AR20071216,    CEAMARC,      35,          1,         12,         12,2,20071231,       1853,   -66.7587,   144.3448,        891,   447.7,  -1.8606,  34.5213,2,-999.0000,9,   308.19,2, -999.00,9,  -999.0,9, -999.00,9,-999.0000,9,-999.0000,9,-999.0000,9,  -999.0,9,  -999.0,9,  -0.029,2, -999.00,9,      0.001,2
09AR20071216,    CEAMARC,      35,          1,         11,         11,2,20071231,       1853,   -66.7587,   144.3448,        891,   448.5,  -1.8606,  34.5234,2,  34.5220,2,   308.19,2,  307.38,2,    79.2,2,    2.11,2,   5.0995,2,   2.5417,2,   0.3924,2,  2231.6,2,  2335.5,2,  -0.029,2,   30.77,2,      0.001,2
09AR20071216,    CEAMARC,      35,          1,         10,         10,2,20071231,       1853,   -66.7587,   144.3448,        891,   550.8,  -1.8878,  34.5558,2,-999.0000,9,   308.45,2, -999.00,9,  -999.0,9, -999.00,9,-999.0000,9,-999.0000,9,-999.0000,9,  -999.0,9,  -999.0,9,  -0.029,2, -999.00,9,      0.001,2
09AR20071216,    CEAMARC,      35,          1,          9,          9,2,20071231,       1853,   -66.7587,   144.3448,        891,   550.8,  -1.8800,  34.5575,2,  34.5575,2,   308.45,2,  308.02,2,    78.6,2,    2.11,2,   5.0361,2,   2.5216,2,   0.3837,2,  2241.9,3,  2340.6,2,  -0.026,2,   30.68,2,      0.001,2
09AR20071216,    CEAMARC,      35,          1,          8,          8,2,20071231,       1853,   -66.7587,   144.3448,        891,   652.7,  -1.9014,  34.6130,2,-999.0000,9,   308.09,2, -999.00,9,  -999.0,9, -999.00,9,-999.0000,9,-999.0000,9,-999.0000,9,  -999.0,9,  -999.0,9,  -0.037,2, -999.00,9,      0.001,2
09AR20071216,    CEAMARC,      35,          1,          7,          7,2,20071231,       1853,   -66.7587,   144.3448,        891,   651.4,  -1.9002,  34.6104,2,  34.6095,2,   308.09,2,  308.27,2,    77.9,2,    2.12,2,   5.0995,2,   2.5509,2,   0.4093,2,    2237,2,  2341.8,2,  -0.035,2,   30.87,2,      0.001,2
09AR20071216,    CEAMARC,      35,          1,          6,          6,2,20071231,       1853,   -66.7587,   144.3448,        891,   749.2,  -1.9024,  34.6647,2,-999.0000,9,   309.04,2, -999.00,9,  -999.0,9, -999.00,9,-999.0000,9,-999.0000,9,-999.0000,9,  -999.0,9,  -999.0,9,  -0.037,2, -999.00,9,      0.001,2
09AR20071216,    CEAMARC,      35,          1,          5,          5,2,20071231,       1853,   -66.7587,   144.3448,        891,   749.7,  -1.9024,  34.6643,2,  34.6644,2,   309.04,2,  309.43,2,    77.6,2,    2.11,2,   4.4720,2,   2.2841,2,   0.3357,2,  2240.3,2,  2345.7,2,  -0.041,2,   30.90,2,      0.001,2
09AR20071216,    CEAMARC,      35,          1,          4,          4,2,20071231,       1853,   -66.7587,   144.3448,        891,   830.2,  -1.8974,  34.6808,2,-999.0000,9,   310.17,2, -999.00,9,  -999.0,9, -999.00,9,-999.0000,9,-999.0000,9,-999.0000,9,  -999.0,9,  -999.0,9,  -0.039,2, -999.00,9,      0.001,2
09AR20071216,    CEAMARC,      35,          1,          3,          3,2,20071231,       1853,   -66.7587,   144.3448,        891,   829.9,  -1.8976,  34.6806,2,  34.6807,2,   310.17,2,  310.65,2,    77.6,2,    2.11,2,   5.1558,2,   2.6070,2,   0.3887,2,  2241.9,2,  2350.4,2,  -0.041,2,   30.56,2,      0.001,2
09AR20071216,    CEAMARC,      35,          1,          2,          2,2,20071231,       1853,   -66.7587,   144.3448,        891,   888.8,  -1.8942,  34.6857,2,-999.0000,9,   310.74,2, -999.00,9,  -999.0,9, -999.00,9,-999.0000,9,-999.0000,9,-999.0000,9,  -999.0,9,  -999.0,9,  -0.041,2, -999.00,9,      0.001,2
09AR20071216,    CEAMARC,      35,          1,          1,          1,2,20071231,       1853,   -66.7587,   144.3448,        891,   888.3,  -1.8942,  34.6856,2,  34.6850,2,   310.74,2,  311.16,2,    77.9,2,    2.11,2,   5.0477,2,   2.5530,2,   0.3812,2,  2242.4,6,  2346.1,6,  -0.040,2,   30.99,2,      0.001,2
09AR20071216,    CEAMARC,      36,          1,         24,         24,2,20080102,       0500,   -66.6075,   144.1483,        816,     4.2,  -0.9789,  34.3088,2,  34.3096,2,  -999.00,5,  345.68,2,    59.6,2,    1.62,2,   5.5716,2,   2.9363,2,   0.4482,2,  2192.3,6,  2323.3,6,   3.996,2,   26.84,2,      3.349,2
09AR20071216,    CEAMARC,      36,          1,         23,         23,2,20080102,       0500,   -66.6075,   144.1483,        816,     4.3,  -0.9786,  34.3050,2,-999.0000,9,  -999.00,5, -999.00,9,  -999.0,9, -999.00,9,-999.0000,9,-999.0000,9,-999.0000,9,  -999.0,9,  -999.0,9,   3.942,2, -999.00,9,      3.138,2
09AR20071216,    CEAMARC,      36,          1,         22,         22,2,20080102,       0500,   -66.6075,   144.1483,        816,     4.6,  -0.9796,  34.3088,2,-999.0000,9,  -999.00,5, -999.00,9,  -999.0,9, -999.00,9,-999.0000,9,-999.0000,9,-999.0000,9,  -999.0,9,  -999.0,9,   4.572,2, -999.00,9,      3.224,2
09AR20071216,    CEAMARC,      36,          1,         21,         21,2,20080102,       0500,   -66.6075,   144.1483,        816,     4.6,  -0.9778,  34.3088,2,-999.0000,9,  -999.00,5, -999.00,9,  -999.0,9, -999.00,9,-999.0000,9,-999.0000,9,-999.0000,9,  -999.0,9,  -999.0,9,   4.152,2, -999.00,9,      3.273,2
09AR20071216,    CEAMARC,      36,          1,         20,         20,2,20080102,       0500,   -66.6075,   144.1483,        816,    39.8,  -0.9855,  34.3092,2,  34.3096,2,   345.76,2,  346.21,2,    59.6,2,    1.63,2,   5.7626,2,   2.9201,2,   0.4529,2,  2192.5,2,  2323.1,2,   7.043,2,   26.69,2,      1.183,2
09AR20071216,    CEAMARC,      36,          1,         19,         19,2,20080102,       0500,   -66.6075,   144.1483,        816,    49.8,  -0.9837,  34.3091,2,-999.0000,9,   345.90,2, -999.00,9,  -999.0,9, -999.00,9,-999.0000,9,-999.0000,9,-999.0000,9,  -999.0,9,  -999.0,9,   7.213,2, -999.00,9,      0.632,2
09AR20071216,    CEAMARC,      36,          1,         18,         18,2,20080102,       0500,   -66.6075,   144.1483,        816,    60.4,  -1.0070,  34.3131,2,  34.3124,2,   345.52,2,  344.94,2,    59.9,2,    1.63,2,   5.7623,2,   2.9350,2,   0.4882,2,  2195.9,2,    2323,2,   7.143,2,   26.77,2,      0.089,2
09AR20071216,    CEAMARC,      36,          1,         17,         17,2,20080102,       0500,   -66.6075,   144.1483,        816,    60.3,  -0.9970,  34.3108,2,-999.0000,9,   345.52,2, -999.00,9,  -999.0,9, -999.00,9,-999.0000,9,-999.0000,9,-999.0000,9,  -999.0,9,  -999.0,9,   6.793,2, -999.00,9,      0.096,2
09AR20071216,    CEAMARC,      36,          1,         16,         16,2,20080102,       0500,   -66.6075,   144.1483,        816,   109.2,  -1.5685,  34.4437,2,  34.4438,2,   315.04,2,  320.79,2,    74.6,2,    1.99,2,   4.9786,2,   2.6552,2,   0.4143,2,  2223.1,2,  2332.4,2,   1.509,2,   29.68,2,      0.001,2
09AR20071216,    CEAMARC,      36,          1,         15,         15,2,20080102,       0500,   -66.6075,   144.1483,        816,   109.8,  -1.5746,  34.4445,2,-999.0000,9,   315.04,2, -999.00,9,  -999.0,9, -999.00,9,-999.0000,9,-999.0000,9,-999.0000,9,  -999.0,9,  -999.0,9,   1.512,2, -999.00,9,      0.001,2
09AR20071216,    CEAMARC,      36,          1,         14,         14,2,20080102,       0500,   -66.6075,   144.1483,        816,   150.4,  -1.6713,  34.4597,2,  34.4603,2,   314.52,2,  308.61,2,    77.8,2,    2.07,2,   4.7634,2,   2.5079,2,   0.3693,2,  2228.7,2,    2331,2,   0.177,2,   30.58,2,      0.001,2
09AR20071216,    CEAMARC,      36,          1,         13,         13,2,20080102,       0500,   -66.6075,   144.1483,        816,   150.1,  -1.6707,  34.4598,2,-999.0000,9,   314.52,2, -999.00,9,  -999.0,9, -999.00,9,-999.0000,9,-999.0000,9,-999.0000,9,  -999.0,9,  -999.0,9,   0.163,2, -999.00,9,      0.001,2
09AR20071216,    CEAMARC,      36,          1,         12,         12,2,20080102,       0500,   -66.6075,   144.1483,        816,   251.4,  -1.8296,  34.4771,2,  34.4777,2,   307.89,2,  310.35,2,    78.8,2,    2.08,2,   4.9248,2,   2.5453,2,   0.3961,2,  2230.6,2,    2331,6,   0.007,2,   30.59,2,      0.001,2
09AR20071216,    CEAMARC,      36,          1,         11,         11,2,20080102,       0500,   -66.6075,   144.1483,        816,   250.9,  -1.8290,  34.4771,2,-999.0000,9,   307.86,2, -999.00,9,  -999.0,9, -999.00,9,-999.0000,9,-999.0000,9,-999.0000,9,  -999.0,9,  -999.0,9,   0.006,2, -999.00,9,      0.001,2
09AR20071216,    CEAMARC,      36,          1,         10,         10,2,20080102,       0500,   -66.6075,   144.1483,        816,   349.4,  -1.8767,  34.5058,2,  34.5062,2,   307.22,2,  309.16,2,    79.2,2,    2.08,2,   4.8249,6,   2.5351,6,   0.3819,6,  2230.9,2,  2334.6,2,  -0.027,2,   30.67,2,      0.001,2
09AR20071216,    CEAMARC,      36,          1,          9,          9,2,20080102,       0500,   -66.6075,   144.1483,        816,   349.5,  -1.8768,  34.5056,2,-999.0000,9,   307.22,2, -999.00,9,  -999.0,9, -999.00,9,-999.0000,9,-999.0000,9,-999.0000,9,  -999.0,9,  -999.0,9,  -0.028,2, -999.00,9,      0.001,2
09AR20071216,    CEAMARC,      36,          1,          8,          8,2,20080102,       0500,   -66.6075,   144.1483,        816,   450.4,  -1.8897,  34.5464,2,  34.5467,2,   309.19,2,  308.02,2,    78.8,2,    2.08,2,   4.8918,2,   2.5303,2,   0.3753,2,  2242.2,3,  2337.5,2,  -0.033,2,   30.67,2,      0.001,2
09AR20071216,    CEAMARC,      36,          1,          7,          7,2,20080102,       0500,   -66.6075,   144.1483,        816,   450.3,  -1.8896,  34.5465,2,-999.0000,9,   309.19,2, -999.00,9,  -999.0,9, -999.00,9,-999.0000,9,-999.0000,9,-999.0000,9,  -999.0,9,  -999.0,9,  -0.038,2, -999.00,9,      0.001,2
09AR20071216,    CEAMARC,      36,          1,          6,          6,2,20080102,       0500,   -66.6075,   144.1483,        816,   599.8,  -1.9127,  34.6257,2,  34.6266,2,   308.84,2,  309.31,2,    77.8,2,    2.09,2,   4.8591,2,   2.5390,2,   0.3652,2,  2237.9,2,  2341.9,2,  -0.037,2,   30.59,2,      0.001,2
09AR20071216,    CEAMARC,      36,          1,          5,          5,2,20080102,       0500,   -66.6075,   144.1483,        816,   599.5,  -1.9126,  34.6260,2,-999.0000,9,   308.84,2, -999.00,9,  -999.0,9, -999.00,9,-999.0000,9,-999.0000,9,-999.0000,9,  -999.0,9,  -999.0,9,  -0.039,2, -999.00,9,      0.001,2
09AR20071216,    CEAMARC,      36,          1,          4,          4,2,20080102,       0500,   -66.6075,   144.1483,        816,   756.1,  -1.8948,  34.6784,2,  34.6790,2,   311.86,2,  310.86,2,    78.2,2,    2.09,2,   4.9944,2,   2.5851,2,   0.3795,2,  2241.9,2,  2344.9,2,  -0.035,2,   30.67,2,      0.001,2
09AR20071216,    CEAMARC,      36,          1,          3,          3,2,20080102,       0500,   -66.6075,   144.1483,        816,   755.8,  -1.8949,  34.6785,2,-999.0000,9,   311.86,2, -999.00,9,  -999.0,9, -999.00,9,-999.0000,9,-999.0000,9,-999.0000,9,  -999.0,9,  -999.0,9,  -0.030,2, -999.00,9,      0.001,2
09AR20071216,    CEAMARC,      36,          1,          2,          2,2,20080102,       0500,   -66.6075,   144.1483,        816,   817.0,  -1.8944,  34.6941,2,-999.0000,9,   312.75,2, -999.00,9,  -999.0,9, -999.00,9,-999.0000,9,-999.0000,9,-999.0000,9,  -999.0,9,  -999.0,9,  -0.042,2, -999.00,9,      0.001,2
09AR20071216,    CEAMARC,      36,          1,          1,          1,2,20080102,       0500,   -66.6075,   144.1483,        816,   815.9,  -1.8944,  34.6941,2,  34.6950,2,   312.72,2,  312.16,2,    78.5,2,    2.09,2,   4.9903,2,   2.6027,2,   0.3546,2,  2242.2,6,  2346.8,6,  -0.041,2,   30.59,2,      0.001,2