BOTTLE,20230622CCHSIOENA
EXPOCODE,SECT_ID,STNNBR,CASTNO,SAMPNO,BTLNBR,BTLNBR_FLAG_W,DATE,TIME,LATITUDE,LONGITUDE,DEPTH,CTDPRS,CTDTMP,CTDSAL,CTDSAL_FLAG_W,SALNTY,SALNTY_FLAG_W,CTDOXY,CTDOXY_FLAG_W,OXYGEN,OXYGEN_FLAG_W,SILCAT,SILCAT_FLAG_W,PHSPHT,PHSPHT_FLAG_W,CFC-11,CFC-11_FLAG_W,CFC-12,CFC-12_FLAG_W,CFC113,CFC113_FLAG_W,TCARBN,TCARBN_FLAG_W,ALKALI,ALKALI_FLAG_W,FLUOR,FLUOR_FLAG_W,NO2+NO3,NO2+NO3_FLAG_W,PAR,PAR_FLAG_W
,,,,,,,,,,,METERS,DBAR,ITS-90,PSS-78,,PSS-78,,UMOL/KG,,UMOL/KG,,UMOL/KG,,UMOL/KG,,PMOL/KG,,PMOL/KG,,PMOL/KG,,UMOL/KG,,UMOL/KG,,MG/M^3,,UMOL/KG,,VOLTS,
09AR20071216,       SR03,     121,          1,         24,         24,2,20080119,       1906,   -65.5660,   139.8503,        874,     9.6,   0.7878,  33.6585,2,-999.0000,9,   346.92,2, -999.00,9,  -999.0,9, -999.00,9,-999.0000,9,-999.0000,9,-999.0000,9,  -999.0,9,  -999.0,9,   1.882,2, -999.00,9,      2.797,2
09AR20071216,       SR03,     121,          1,         23,         23,2,20080119,       1906,   -65.5660,   139.8503,        874,     9.7,   0.7876,  33.6584,2,-999.0000,9,   346.92,2, -999.00,9,  -999.0,9, -999.00,9,-999.0000,9,-999.0000,9,-999.0000,9,  -999.0,9,  -999.0,9,   1.888,2, -999.00,9,      2.801,2
09AR20071216,       SR03,     121,          1,         22,         22,2,20080119,       1906,   -65.5660,   139.8503,        874,     9.7,   0.7868,  33.6585,2,-999.0000,9,   346.92,2, -999.00,9,  -999.0,9, -999.00,9,-999.0000,9,-999.0000,9,-999.0000,9,  -999.0,9,  -999.0,9,   1.934,2, -999.00,9,      2.789,2
09AR20071216,       SR03,     121,          1,         21,         21,2,20080119,       1906,   -65.5660,   139.8503,        874,     9.6,   0.7852,  33.6584,2,-999.0000,9,   346.92,2, -999.00,9,  -999.0,9, -999.00,9,-999.0000,9,-999.0000,9,-999.0000,9,  -999.0,9,  -999.0,9,   1.900,2, -999.00,9,      2.787,2
09AR20071216,       SR03,     121,          1,         20,         20,2,20080119,       1906,   -65.5660,   139.8503,        874,     9.6,   0.7849,  33.6580,2,  33.6639,2,   346.92,2,  347.02,2,    42.2,2,    1.74,2,   6.2827,2,   3.2264,2,   0.4865,2,  2145.2,6,    2281,2,   1.869,2,   25.67,2,      2.713,2
09AR20071216,       SR03,     121,          1,         19,         19,2,20080119,       1906,   -65.5660,   139.8503,        874,     9.7,   0.7775,  33.6587,2,-999.0000,9,   346.92,2, -999.00,9,  -999.0,9, -999.00,9,-999.0000,9,-999.0000,9,-999.0000,9,  -999.0,9,  -999.0,9,   1.879,2, -999.00,9,      2.696,2
09AR20071216,       SR03,     121,          1,         18,         18,2,20080119,       1906,   -65.5660,   139.8503,        874,    49.0,  -1.2067,  34.1277,2,  34.1318,2,   339.35,2,  339.65,2,    53.2,2,    1.91,2,   5.5203,2,   2.8421,2,   0.4324,2,  2185.4,2,  2310.4,6,   2.328,2,   27.48,2,      1.412,2
09AR20071216,       SR03,     121,          1,         17,         17,2,20080119,       1906,   -65.5660,   139.8503,        874,    48.9,  -1.1950,  34.1270,2,-999.0000,9,   339.35,2, -999.00,9,  -999.0,9, -999.00,9,-999.0000,9,-999.0000,9,-999.0000,9,  -999.0,9,  -999.0,9,   2.398,2, -999.00,9,      1.427,2
09AR20071216,       SR03,     121,          1,         16,         16,2,20080119,       1906,   -65.5660,   139.8503,        874,   100.1,  -1.5791,  34.3099,2,  34.3106,2,   317.15,2,  317.00,2,    61.2,2,    2.06,2,   5.1881,2,   2.6792,2,   0.4014,2,  2209.4,2,  2318.9,6,   0.711,2,   29.43,2,      0.032,2
09AR20071216,       SR03,     121,          1,         15,         15,2,20080119,       1906,   -65.5660,   139.8503,        874,   100.1,  -1.5806,  34.3091,2,-999.0000,9,   317.15,2, -999.00,9,  -999.0,9, -999.00,9,-999.0000,9,-999.0000,9,-999.0000,9,  -999.0,9,  -999.0,9,   0.752,2, -999.00,9,      0.020,2
09AR20071216,       SR03,     121,          1,         14,         14,2,20080119,       1906,   -65.5660,   139.8503,        874,   149.6,  -1.5320,  34.4038,2,  34.4040,2,   300.14,2,  301.06,2,    69.0,2,    2.11,2,   4.6714,2,   2.4529,2,   0.3585,2,  2221.2,2,  2329.2,2,   0.151,2,   30.25,2,      0.001,2
09AR20071216,       SR03,     121,          1,         13,         13,2,20080119,       1906,   -65.5660,   139.8503,        874,   149.2,  -1.5315,  34.4041,2,-999.0000,9,   300.14,2, -999.00,9,  -999.0,9, -999.00,9,-999.0000,9,-999.0000,9,-999.0000,9,  -999.0,9,  -999.0,9,   0.146,2, -999.00,9,      0.001,2
09AR20071216,       SR03,     121,          1,         12,         12,2,20080119,       1906,   -65.5660,   139.8503,        874,   199.2,  -1.4545,  34.4311,2,  34.4325,2,   290.32,2,  290.15,2,    71.9,2,    2.13,2,-999.0000,9,-999.0000,9,-999.0000,9,  2225.7,2,  2329.3,2,   0.095,2,   30.59,2,      0.001,2
09AR20071216,       SR03,     121,          1,         11,         11,2,20080119,       1906,   -65.5660,   139.8503,        874,   199.4,  -1.4519,  34.4312,2,-999.0000,9,   290.32,2, -999.00,9,  -999.0,9, -999.00,9,-999.0000,9,-999.0000,9,-999.0000,9,  -999.0,9,  -999.0,9,   0.092,2, -999.00,9,      0.001,2
09AR20071216,       SR03,     121,          1,         10,         10,2,20080119,       1906,   -65.5660,   139.8503,        874,   348.3,  -0.4734,  34.5619,2,  34.5620,2,   250.69,2,  250.07,2,    86.8,2,    2.19,2,   2.8548,2,   1.4853,2,   0.2162,2,    2239,2,  2339.2,2,  -0.009,2,   31.24,2,      0.001,2
09AR20071216,       SR03,     121,          1,          9,          9,2,20080119,       1906,   -65.5660,   139.8503,        874,   348.5,  -0.4710,  34.5623,2,-999.0000,9,   250.69,2, -999.00,9,  -999.0,9, -999.00,9,-999.0000,9,-999.0000,9,-999.0000,9,  -999.0,9,  -999.0,9,  -0.011,2, -999.00,9,      0.001,2
09AR20071216,       SR03,     121,          1,          8,          8,2,20080119,       1906,   -65.5660,   139.8503,        874,   499.0,  -0.3233,  34.6192,2,  34.6195,2,   240.81,2,  241.89,2,    96.4,2,    2.21,2,-999.0000,9,-999.0000,9,-999.0000,9,  2246.5,2,  2347.5,2,  -0.027,2,   31.48,2,      0.001,2
09AR20071216,       SR03,     121,          1,          7,          7,2,20080119,       1906,   -65.5660,   139.8503,        874,   498.6,  -0.3222,  34.6192,2,-999.0000,9,   240.81,2, -999.00,9,  -999.0,9, -999.00,9,-999.0000,9,-999.0000,9,-999.0000,9,  -999.0,9,  -999.0,9,  -0.025,2, -999.00,9,      0.001,2
09AR20071216,       SR03,     121,          1,          6,          6,2,20080119,       1906,   -65.5660,   139.8503,        874,   661.8,  -0.5115,  34.6123,2,  34.6124,2,   250.45,2,  251.88,2,    94.1,2,    2.21,2,   2.6412,2,   1.3880,2,   0.1970,2,  2245.4,2,  2345.9,2,  -0.025,2,   31.34,2,      0.001,2
09AR20071216,       SR03,     121,          1,          5,          5,2,20080119,       1906,   -65.5660,   139.8503,        874,   661.1,  -0.5123,  34.6123,2,-999.0000,9,   250.45,2, -999.00,9,  -999.0,9, -999.00,9,-999.0000,9,-999.0000,9,-999.0000,9,  -999.0,9,  -999.0,9,  -0.025,2, -999.00,9,      0.001,2
09AR20071216,       SR03,     121,          1,          4,          4,2,20080119,       1906,   -65.5660,   139.8503,        874,   818.3,  -0.6460,  34.6088,2,  34.6095,2,   255.60,2,  255.36,2,    92.8,2,    2.19,2,   2.8443,2,   1.4844,2,   0.2091,2,  2245.9,2,    2345,2,  -0.027,2,   31.19,2,      0.001,2
09AR20071216,       SR03,     121,          1,          3,          3,2,20080119,       1906,   -65.5660,   139.8503,        874,   818.3,  -0.6461,  34.6088,2,-999.0000,9,   255.60,2, -999.00,9,  -999.0,9, -999.00,9,-999.0000,9,-999.0000,9,-999.0000,9,  -999.0,9,  -999.0,9,  -0.031,2, -999.00,9,      0.001,2
09AR20071216,       SR03,     121,          1,          2,          2,2,20080119,       1906,   -65.5660,   139.8503,        874,   903.7,  -0.7498,  34.6034,2,  34.6042,2,   261.22,2,  261.61,2,    91.0,2,    2.18,2,   3.0014,2,   1.5715,2,   0.2240,2,  2244.4,2,  2344.4,2,  -0.025,2,   31.01,2,      0.001,2
09AR20071216,       SR03,     121,          1,          1,          1,2,20080119,       1906,   -65.5660,   139.8503,        874,   903.4,  -0.7503,  34.6035,2,-999.0000,9,   261.22,2, -999.00,9,  -999.0,9, -999.00,9,-999.0000,9,-999.0000,9,-999.0000,9,  -999.0,9,  -999.0,9,  -0.025,2, -999.00,9,      0.001,2
09AR20071216,       SR03,     122,          1,         24,         24,2,20080119,       2140,   -65.5272,   139.8483,       1265,     9.9,   0.7417,  33.6506,2,-999.0000,9,   344.70,2, -999.00,9,  -999.0,9, -999.00,9,-999.0000,9,-999.0000,9,-999.0000,9,  -999.0,9,  -999.0,9,   0.488,2, -999.00,9,      3.064,2
09AR20071216,       SR03,     122,          1,         23,         23,2,20080119,       2140,   -65.5272,   139.8483,       1265,    10.1,   0.7399,  33.6506,2,-999.0000,9,   344.70,2, -999.00,9,  -999.0,9, -999.00,9,-999.0000,9,-999.0000,9,-999.0000,9,  -999.0,9,  -999.0,9,   0.489,2, -999.00,9,      3.053,2
09AR20071216,       SR03,     122,          1,         22,         22,2,20080119,       2140,   -65.5272,   139.8483,       1265,    10.0,   0.7403,  33.6504,2,-999.0000,9,   344.70,2, -999.00,9,  -999.0,9, -999.00,9,-999.0000,9,-999.0000,9,-999.0000,9,  -999.0,9,  -999.0,9,   0.476,2, -999.00,9,      3.084,2
09AR20071216,       SR03,     122,          1,         21,         21,2,20080119,       2140,   -65.5272,   139.8483,       1265,    10.0,   0.7417,  33.6502,2,-999.0000,9,   344.70,2, -999.00,9,  -999.0,9, -999.00,9,-999.0000,9,-999.0000,9,-999.0000,9,  -999.0,9,  -999.0,9,   0.531,2, -999.00,9,      3.101,2
09AR20071216,       SR03,     122,          1,         20,         20,2,20080119,       2140,   -65.5272,   139.8483,       1265,    10.1,   0.7387,  33.6498,2,  33.6538,2,   344.70,2,  343.50,2,    38.9,2,    1.82,2,   6.3549,2,   3.2610,2,   0.5127,2,  2192.1,2,  2276.6,6,   0.494,2,   26.76,2,      3.138,2
09AR20071216,       SR03,     122,          1,         19,         19,2,20080119,       2140,   -65.5272,   139.8483,       1265,    51.1,  -1.4048,  34.1980,2,  34.1903,2,   327.83,2,  334.28,2,    54.1,2,    1.98,2,   5.5528,2,   2.8353,2,   0.4411,2,  2153.9,3,  2312.1,2,   1.477,2,   28.06,2,      2.104,2
09AR20071216,       SR03,     122,          1,         18,         18,2,20080119,       2140,   -65.5272,   139.8483,       1265,   100.3,  -1.4787,  34.3640,2,  34.3648,2,   316.41,2,  293.99,2,    64.9,2,    2.14,2,   4.5261,2,   2.3330,2,   0.3854,2,  2221.1,2,  2323.9,6,   0.444,2,   30.60,2,      1.011,2
09AR20071216,       SR03,     122,          1,         17,         17,2,20080119,       2140,   -65.5272,   139.8483,       1265,   151.5,  -1.4466,  34.4384,2,  34.4374,2,   292.69,2,  283.89,2,    71.8,2,    2.15,2,   4.0396,2,   2.1654,2,   0.0000,3,  2229.6,2,  2327.4,2,   0.009,2,   30.99,2,      0.236,2
09AR20071216,       SR03,     122,          1,         16,         16,2,20080119,       2140,   -65.5272,   139.8483,       1265,   197.2,  -1.2933,  34.4591,2,  34.4593,2,   273.58,2,  276.15,2,    74.5,2,    2.16,2,   3.9296,2,   2.0426,2,   0.3016,2,  2232.7,2,  2329.8,2,  -0.012,2,   31.07,2,      0.001,2
09AR20071216,       SR03,     122,          1,         15,         15,2,20080119,       2140,   -65.5272,   139.8483,       1265,   196.9,  -1.2957,  34.4589,2,-999.0000,9,   274.27,2, -999.00,9,  -999.0,9, -999.00,9,-999.0000,9,-999.0000,9,-999.0000,9,  -999.0,9,  -999.0,9,  -0.010,2, -999.00,9,      0.001,2
09AR20071216,       SR03,     122,          1,         14,         14,2,20080119,       2140,   -65.5272,   139.8483,       1265,   300.7,  -0.3559,  34.5606,2,  34.5607,2,   242.28,2,  243.08,2,    86.4,2,    2.20,2,   2.4881,2,   1.3230,2,   0.1957,2,  2243.6,2,  2338.9,2,  -0.038,2,   31.23,2,      0.001,2
09AR20071216,       SR03,     122,          1,         13,         13,2,20080119,       2140,   -65.5272,   139.8483,       1265,   301.0,  -0.3561,  34.5609,2,-999.0000,9,   242.07,2, -999.00,9,  -999.0,9, -999.00,9,-999.0000,9,-999.0000,9,-999.0000,9,  -999.0,9,  -999.0,9,  -0.039,2, -999.00,9,      0.001,2
09AR20071216,       SR03,     122,          1,         12,         12,2,20080119,       2140,   -65.5272,   139.8483,       1265,   450.8,   0.2870,  34.6432,2,  34.6436,2,   220.00,2,  219.13,2,    98.8,2,    2.22,2,   1.4203,2,   0.7460,2,   0.0829,2,    2250,2,  2349.7,2,  -0.038,2,   31.57,2,      0.001,2
09AR20071216,       SR03,     122,          1,         11,         11,2,20080119,       2140,   -65.5272,   139.8483,       1265,   450.7,   0.2879,  34.6433,2,-999.0000,9,   220.00,2, -999.00,9,  -999.0,9, -999.00,9,-999.0000,9,-999.0000,9,-999.0000,9,  -999.0,9,  -999.0,9,  -0.040,2, -999.00,9,      0.001,2
09AR20071216,       SR03,     122,          1,         10,         10,2,20080119,       2140,   -65.5272,   139.8483,       1265,   599.9,   0.3973,  34.6700,2,  34.6721,2,   212.36,2,  213.43,2,   107.5,2,    2.26,2,   0.9930,2,   0.5061,2,   0.0687,2,  2255.2,2,  2352.9,2,  -0.036,2,   31.79,2,      0.001,2
09AR20071216,       SR03,     122,          1,          9,          9,2,20080119,       2140,   -65.5272,   139.8483,       1265,   599.9,   0.3973,  34.6700,2,-999.0000,9,   212.36,2, -999.00,9,  -999.0,9, -999.00,9,-999.0000,9,-999.0000,9,-999.0000,9,  -999.0,9,  -999.0,9,  -0.035,2, -999.00,9,      0.001,2
09AR20071216,       SR03,     122,          1,          8,          8,2,20080119,       2140,   -65.5272,   139.8483,       1265,   800.6,   0.0787,  34.6572,2,  34.6552,2,   224.30,2,  225.55,2,   106.5,2,    2.25,2,   1.4279,2,   0.7377,2,   0.0998,2,  2254.9,2,  2353.1,2,  -0.036,2,   31.73,2,      0.001,2
09AR20071216,       SR03,     122,          1,          7,          7,2,20080119,       2140,   -65.5272,   139.8483,       1265,   800.7,   0.0396,  34.6541,2,-999.0000,9,   224.30,2, -999.00,9,  -999.0,9, -999.00,9,-999.0000,9,-999.0000,9,-999.0000,9,  -999.0,9,  -999.0,9,  -0.031,2, -999.00,9,      0.001,2
09AR20071216,       SR03,     122,          1,          6,          6,2,20080119,       2140,   -65.5272,   139.8483,       1265,  1002.0,  -0.5254,  34.6163,2,  34.6168,2,   252.00,2,  251.37,2,    94.0,2,    2.20,2,   2.5772,2,   1.3479,2,   0.2088,2,  2250.1,2,  2346.4,2,  -0.030,2,   31.18,2,      0.001,2
09AR20071216,       SR03,     122,          1,          5,          5,2,20080119,       2140,   -65.5272,   139.8483,       1265,  1001.6,  -0.5255,  34.6164,2,-999.0000,9,   252.00,2, -999.00,9,  -999.0,9, -999.00,9,-999.0000,9,-999.0000,9,-999.0000,9,  -999.0,9,  -999.0,9,  -0.032,2, -999.00,9,      0.001,2
09AR20071216,       SR03,     122,          1,          4,          4,2,20080119,       2140,   -65.5272,   139.8483,       1265,  1201.1,  -0.6554,  34.6127,2,  34.6127,2,   259.09,2,  256.92,2,    92.7,2,    2.19,2,   2.8754,2,   1.5105,2,   0.2018,2,    2253,2,  2346.2,6,  -0.031,2,   31.35,2,      0.001,2
09AR20071216,       SR03,     122,          1,          3,          3,2,20080119,       2140,   -65.5272,   139.8483,       1265,  1200.1,  -0.6642,  34.6121,2,-999.0000,9,   259.05,2, -999.00,9,  -999.0,9, -999.00,9,-999.0000,9,-999.0000,9,-999.0000,9,  -999.0,9,  -999.0,9,  -0.030,2, -999.00,9,      0.001,2
09AR20071216,       SR03,     122,          1,          2,          2,2,20080119,       2140,   -65.5272,   139.8483,       1265,  1276.0,  -0.7956,  34.6019,2,  34.6025,2,   264.10,2,  264.66,2,    90.3,2,    2.18,2,   3.1043,2,   1.6214,2,   0.2499,2,  2253.9,2,  2345.2,2,  -0.027,2,   31.36,2,      0.001,2
09AR20071216,       SR03,     122,          1,          1,          1,2,20080119,       2140,   -65.5272,   139.8483,       1265,  1275.4,  -0.7962,  34.6022,2,-999.0000,9,   264.10,2, -999.00,9,  -999.0,9, -999.00,9,-999.0000,9,-999.0000,9,-999.0000,9,  -999.0,9,  -999.0,9,  -0.026,2, -999.00,9,      0.001,2