BOTTLE,20230622CCHSIOENA
EXPOCODE,SECT_ID,STNNBR,CASTNO,SAMPNO,BTLNBR,BTLNBR_FLAG_W,DATE,TIME,LATITUDE,LONGITUDE,DEPTH,CTDPRS,CTDTMP,CTDSAL,CTDSAL_FLAG_W,SALNTY,SALNTY_FLAG_W,CTDOXY,CTDOXY_FLAG_W,OXYGEN,OXYGEN_FLAG_W,SILCAT,SILCAT_FLAG_W,PHSPHT,PHSPHT_FLAG_W,CFC-11,CFC-11_FLAG_W,CFC-12,CFC-12_FLAG_W,CFC113,CFC113_FLAG_W,TCARBN,TCARBN_FLAG_W,ALKALI,ALKALI_FLAG_W,FLUOR,FLUOR_FLAG_W,NO2+NO3,NO2+NO3_FLAG_W,PAR,PAR_FLAG_W
,,,,,,,,,,,METERS,DBAR,ITS-90,PSS-78,,PSS-78,,UMOL/KG,,UMOL/KG,,UMOL/KG,,UMOL/KG,,PMOL/KG,,PMOL/KG,,PMOL/KG,,UMOL/KG,,UMOL/KG,,MG/M^3,,UMOL/KG,,VOLTS,
09AR20071216,    CEAMARC,      11,          1,         24,         24,2,20071226,       1304,   -66.3292,   142.6400,        381,     9.8,  -1.1785,  34.3092,2,-999.0000,9,   359.11,2, -999.00,9,  -999.0,9, -999.00,9,-999.0000,9,-999.0000,9,-999.0000,9,  -999.0,9,  -999.0,9,  10.462,2, -999.00,9,      0.752,2
09AR20071216,    CEAMARC,      11,          1,         23,         23,2,20071226,       1304,   -66.3292,   142.6400,        381,     9.7,  -1.1763,  34.3102,2,-999.0000,9,   359.11,2, -999.00,9,  -999.0,9, -999.00,9,-999.0000,9,-999.0000,9,-999.0000,9,  -999.0,9,  -999.0,9,  10.832,2, -999.00,9,      0.775,2
09AR20071216,    CEAMARC,      11,          1,         22,         22,2,20071226,       1304,   -66.3292,   142.6400,        381,     9.7,  -1.1758,  34.3102,2,-999.0000,9,   359.11,2, -999.00,9,  -999.0,9, -999.00,9,-999.0000,9,-999.0000,9,-999.0000,9,  -999.0,9,  -999.0,9,  10.598,2, -999.00,9,      0.773,2
09AR20071216,    CEAMARC,      11,          1,         21,         21,2,20071226,       1304,   -66.3292,   142.6400,        381,     9.7,  -1.1755,  34.3101,2,-999.0000,9,   359.11,2, -999.00,9,  -999.0,9, -999.00,9,-999.0000,9,-999.0000,9,-999.0000,9,  -999.0,9,  -999.0,9,  10.941,2, -999.00,9,      0.779,2
09AR20071216,    CEAMARC,      11,          1,         20,         20,2,20071226,       1304,   -66.3292,   142.6400,        381,     9.7,  -1.1757,  34.3103,2,-999.0000,9,   359.11,2, -999.00,9,  -999.0,9, -999.00,9,-999.0000,9,-999.0000,9,-999.0000,9,  -999.0,9,  -999.0,9,  10.936,2, -999.00,9,      0.761,2
09AR20071216,    CEAMARC,      11,          1,         19,         19,2,20071226,       1304,   -66.3292,   142.6400,        381,     9.7,  -1.1770,  34.3102,2,-999.0000,9,   359.11,2, -999.00,9,  -999.0,9, -999.00,9,-999.0000,9,-999.0000,9,-999.0000,9,  -999.0,9,  -999.0,9,  10.855,2, -999.00,9,      0.747,2
09AR20071216,    CEAMARC,      11,          1,         18,         18,2,20071226,       1304,   -66.3292,   142.6400,        381,     9.7,  -1.1770,  34.3105,2,-999.0000,9,   359.11,2, -999.00,9,  -999.0,9, -999.00,9,-999.0000,9,-999.0000,9,-999.0000,9,  -999.0,9,  -999.0,9,  10.823,2, -999.00,9,      0.734,2
09AR20071216,    CEAMARC,      11,          1,         17,         17,2,20071226,       1304,   -66.3292,   142.6400,        381,     9.7,  -1.1759,  34.3096,2,  34.3110,2,   359.11,2,  362.19,2,    63.5,2,    1.64,2,   5.8069,2,   3.0211,2,   0.4604,2,  2184.9,2,  2326.8,2,  10.871,2,   24.95,2,      0.747,2
09AR20071216,    CEAMARC,      11,          1,         16,         16,2,20071226,       1304,   -66.3292,   142.6400,        381,    31.2,  -1.2223,  34.3545,2,-999.0000,9,   355.42,2, -999.00,9,  -999.0,9, -999.00,9,-999.0000,9,-999.0000,9,-999.0000,9,  -999.0,9,  -999.0,9,   7.834,2, -999.00,9,      0.001,2
09AR20071216,    CEAMARC,      11,          1,         15,         15,2,20071226,       1304,   -66.3292,   142.6400,        381,    31.1,  -1.2218,  34.3540,2,  34.3525,2,   355.42,2,  353.32,2,    66.2,2,    1.76,2,   5.8182,2,   2.9708,2,   0.4715,2,  2193.9,2,  2325.9,2,   7.890,2,   26.57,2,      0.001,2
09AR20071216,    CEAMARC,      11,          1,         14,         14,2,20071226,       1304,   -66.3292,   142.6400,        381,    59.6,  -1.4458,  34.4311,2,-999.0000,9,   346.52,2, -999.00,9,  -999.0,9, -999.00,9,-999.0000,9,-999.0000,9,-999.0000,9,  -999.0,9,  -999.0,9,   4.306,2, -999.00,9,      0.001,2
09AR20071216,    CEAMARC,      11,          1,         13,         13,2,20071226,       1304,   -66.3292,   142.6400,        381,    59.7,  -1.4311,  34.4304,2,  34.4328,2,   346.52,2,  335.17,2,    70.8,2,    1.94,2,   5.4320,2,   2.7926,2,   0.4469,2,  2209.6,2,    2332,2,   4.869,2,   28.71,2,      0.001,2
09AR20071216,    CEAMARC,      11,          1,         12,         12,2,20071226,       1304,   -66.3292,   142.6400,        381,    80.4,  -1.6361,  34.4765,2,-999.0000,9,   329.27,2, -999.00,9,  -999.0,9, -999.00,9,-999.0000,9,-999.0000,9,-999.0000,9,  -999.0,9,  -999.0,9,   2.070,2, -999.00,9,      0.001,2
09AR20071216,    CEAMARC,      11,          1,         11,         11,2,20071226,       1304,   -66.3292,   142.6400,        381,    80.0,  -1.6300,  34.4749,2,  34.4707,2,   329.27,2,  326.12,2,    73.2,2,    2.02,2,   5.0624,2,   2.7104,2,   0.3839,2,  2220.9,3,  2332.2,2,   2.168,2,   29.77,2,      0.001,2
09AR20071216,    CEAMARC,      11,          1,         10,         10,2,20071226,       1304,   -66.3292,   142.6400,        381,   159.3,  -1.7482,  34.5031,2,-999.0000,9,   316.41,2, -999.00,9,  -999.0,9, -999.00,9,-999.0000,9,-999.0000,9,-999.0000,9,  -999.0,9,  -999.0,9,   0.698,2, -999.00,9,      0.001,2
09AR20071216,    CEAMARC,      11,          1,          9,          9,2,20071226,       1304,   -66.3292,   142.6400,        381,   159.4,  -1.7500,  34.5035,2,  34.5024,2,   316.41,2,  316.68,2,    75.8,2,    2.11,2,   5.1347,2,   2.6523,2,   0.3961,2,  2227.3,2,  2334.2,2,   0.700,2,   30.51,2,      0.001,2
09AR20071216,    CEAMARC,      11,          1,          8,          8,2,20071226,       1304,   -66.3292,   142.6400,        381,   220.0,  -1.7898,  34.5201,2,-999.0000,9,   314.56,2, -999.00,9,  -999.0,9, -999.00,9,-999.0000,9,-999.0000,9,-999.0000,9,  -999.0,9,  -999.0,9,   0.547,2, -999.00,9,      0.001,2
09AR20071216,    CEAMARC,      11,          1,          7,          7,2,20071226,       1304,   -66.3292,   142.6400,        381,   219.9,  -1.7907,  34.5205,2,  34.5193,2,   314.56,2,  316.89,2,    76.3,2,    2.10,2,   5.0759,2,   2.6387,2,   0.4023,2,  2229.5,3,    2332,2,   0.485,2,   30.38,2,      0.001,2
09AR20071216,    CEAMARC,      11,          1,          6,          6,2,20071226,       1304,   -66.3292,   142.6400,        381,   279.6,  -1.8207,  34.5356,2,  34.5307,2,   314.79,2,  315.89,2,    76.8,2,    2.12,2,   5.1077,6,   2.6471,6,   0.4110,6,  2231.4,2,  2336.5,2,   0.300,2,   30.50,2,      0.001,2
09AR20071216,    CEAMARC,      11,          1,          5,          5,2,20071226,       1304,   -66.3292,   142.6400,        381,   279.5,  -1.8110,  34.5321,2,-999.0000,9,   314.79,2, -999.00,9,  -999.0,9, -999.00,9,-999.0000,9,-999.0000,9,-999.0000,9,  -999.0,9,  -999.0,9,   0.366,2, -999.00,9,      0.001,2
09AR20071216,    CEAMARC,      11,          1,          4,          4,2,20071226,       1304,   -66.3292,   142.6400,        381,   326.9,  -1.8301,  34.5398,2,-999.0000,9,   314.67,2, -999.00,9,  -999.0,9, -999.00,9,-999.0000,9,-999.0000,9,-999.0000,9,  -999.0,9,  -999.0,9,   0.279,2, -999.00,9,      0.001,2
09AR20071216,    CEAMARC,      11,          1,          3,          3,2,20071226,       1304,   -66.3292,   142.6400,        381,   326.6,  -1.8297,  34.5397,2,  34.5389,2,   314.67,2,  314.93,2,    78.1,2,    2.13,2,   5.0599,2,   2.6408,2,   0.3923,2,  2231.4,3,  2338.7,2,   0.272,2,   31.15,2,      0.001,2
09AR20071216,    CEAMARC,      11,          1,          2,          2,2,20071226,       1304,   -66.3292,   142.6400,        381,   374.5,  -1.8521,  34.5513,2,-999.0000,9,   315.15,2, -999.00,9,  -999.0,9, -999.00,9,-999.0000,9,-999.0000,9,-999.0000,9,  -999.0,9,  -999.0,9,   0.139,2, -999.00,9,      0.001,2
09AR20071216,    CEAMARC,      11,          1,          1,          1,2,20071226,       1304,   -66.3292,   142.6400,        381,   373.8,  -1.8509,  34.5507,2,  34.5491,2,   315.15,2,  315.28,2,    78.3,2,    2.15,2,   4.8702,2,   2.6232,2,   0.3722,2,  2230.4,6,  2336.5,6,   0.151,2,   31.04,2,      0.001,2
09AR20071216,    CEAMARC,      12,          1,         24,         24,2,20071226,       1738,   -66.3378,   142.2938,        216,     7.4,  -1.4980,  34.4080,2,-999.0000,9,   339.51,2, -999.00,9,  -999.0,9, -999.00,9,-999.0000,9,-999.0000,9,-999.0000,9,  -999.0,9,  -999.0,9,   4.602,2, -999.00,9,      2.216,2
09AR20071216,    CEAMARC,      12,          1,         23,         23,2,20071226,       1738,   -66.3378,   142.2938,        216,     7.4,  -1.4983,  34.4080,2,-999.0000,9,   339.51,2, -999.00,9,  -999.0,9, -999.00,9,-999.0000,9,-999.0000,9,-999.0000,9,  -999.0,9,  -999.0,9,   4.581,2, -999.00,9,      2.261,2
09AR20071216,    CEAMARC,      12,          1,         22,         22,2,20071226,       1738,   -66.3378,   142.2938,        216,     7.5,  -1.4973,  34.4079,2,-999.0000,9,   339.51,2, -999.00,9,  -999.0,9, -999.00,9,-999.0000,9,-999.0000,9,-999.0000,9,  -999.0,9,  -999.0,9,   4.689,2, -999.00,9,      2.221,2
09AR20071216,    CEAMARC,      12,          1,         21,         21,2,20071226,       1738,   -66.3378,   142.2938,        216,     7.6,  -1.5006,  34.4082,2,  34.4070,2,   339.51,2,  337.40,2,    70.3,2,    1.87,2,   5.4204,6,   2.7789,6,   0.4590,6,  2207.4,2,  2330.5,2,   4.467,2,   27.64,2,      2.205,2
09AR20071216,    CEAMARC,      12,          1,         20,         20,2,20071226,       1738,   -66.3378,   142.2938,        216,    24.5,  -1.5138,  34.4101,2,-999.0000,9,   334.48,2, -999.00,9,  -999.0,9, -999.00,9,-999.0000,9,-999.0000,9,-999.0000,9,  -999.0,9,  -999.0,9,   4.767,2, -999.00,9,      1.270,2
09AR20071216,    CEAMARC,      12,          1,         19,         19,2,20071226,       1738,   -66.3378,   142.2938,        216,    24.5,  -1.5135,  34.4099,2,-999.0000,9,   334.48,2, -999.00,9,  -999.0,9, -999.00,9,-999.0000,9,-999.0000,9,-999.0000,9,  -999.0,9,  -999.0,9,   5.082,2, -999.00,9,      1.287,2
09AR20071216,    CEAMARC,      12,          1,         18,         18,2,20071226,       1738,   -66.3378,   142.2938,        216,    24.6,  -1.5104,  34.4096,2,-999.0000,9,   334.48,2, -999.00,9,  -999.0,9, -999.00,9,-999.0000,9,-999.0000,9,-999.0000,9,  -999.0,9,  -999.0,9,   4.839,2, -999.00,9,      1.252,2
09AR20071216,    CEAMARC,      12,          1,         17,         17,2,20071226,       1738,   -66.3378,   142.2938,        216,    24.6,  -1.5093,  34.4093,2,-999.0000,9,   334.48,2, -999.00,9,  -999.0,9, -999.00,9,-999.0000,9,-999.0000,9,-999.0000,9,  -999.0,9,  -999.0,9,   4.838,2, -999.00,9,      1.259,2
09AR20071216,    CEAMARC,      12,          1,         16,         16,2,20071226,       1738,   -66.3378,   142.2938,        216,    24.6,  -1.5076,  34.4094,2,-999.0000,9,   334.48,2, -999.00,9,  -999.0,9, -999.00,9,-999.0000,9,-999.0000,9,-999.0000,9,  -999.0,9,  -999.0,9,   4.887,2, -999.00,9,      1.256,2
09AR20071216,    CEAMARC,      12,          1,         15,         15,2,20071226,       1738,   -66.3378,   142.2938,        216,    24.4,  -1.5061,  34.4092,2,-999.0000,9,   334.48,2, -999.00,9,  -999.0,9, -999.00,9,-999.0000,9,-999.0000,9,-999.0000,9,  -999.0,9,  -999.0,9,   4.793,2, -999.00,9,      1.266,2
09AR20071216,    CEAMARC,      12,          1,         14,         14,2,20071226,       1738,   -66.3378,   142.2938,        216,    24.6,  -1.5073,  34.4094,2,-999.0000,9,   334.48,2, -999.00,9,  -999.0,9, -999.00,9,-999.0000,9,-999.0000,9,-999.0000,9,  -999.0,9,  -999.0,9,   4.825,2, -999.00,9,      1.251,2
09AR20071216,    CEAMARC,      12,          1,         13,         13,2,20071226,       1738,   -66.3378,   142.2938,        216,    24.6,  -1.5087,  34.4096,2,-999.0000,9,   334.48,2, -999.00,9,  -999.0,9, -999.00,9,-999.0000,9,-999.0000,9,-999.0000,9,  -999.0,9,  -999.0,9,   4.835,2, -999.00,9,      1.256,2
09AR20071216,    CEAMARC,      12,          1,         12,         12,2,20071226,       1738,   -66.3378,   142.2938,        216,    24.2,  -1.5070,  34.4090,2,-999.0000,9,   334.48,2, -999.00,9,  -999.0,9, -999.00,9,-999.0000,9,-999.0000,9,-999.0000,9,  -999.0,9,  -999.0,9,   4.637,2, -999.00,9,      1.253,2
09AR20071216,    CEAMARC,      12,          1,         11,         11,2,20071226,       1738,   -66.3378,   142.2938,        216,    24.6,  -1.5054,  34.4087,2,  34.4084,2,   334.48,2,  337.83,2,    70.6,2,    1.86,2,   5.5402,2,   2.7743,2,   0.5246,2,  2209.7,2,  2332.4,6,   5.056,2,   27.68,2,      1.233,2
09AR20071216,    CEAMARC,      12,          1,         10,         10,2,20071226,       1738,   -66.3378,   142.2938,        216,    49.8,  -1.5502,  34.4152,2,-999.0000,9,   330.01,2, -999.00,9,  -999.0,9, -999.00,9,-999.0000,9,-999.0000,9,-999.0000,9,  -999.0,9,  -999.0,9,   3.806,2, -999.00,9,      0.017,2
09AR20071216,    CEAMARC,      12,          1,          9,          9,2,20071226,       1738,   -66.3378,   142.2938,        216,    49.7,  -1.5406,  34.4139,2,  34.4142,2,   330.01,2,  335.61,2,    70.9,2,    1.89,2,   5.1255,2,   2.7517,2,   0.4015,2,  2212.2,2,  2330.9,2,   4.368,2,   27.92,2,      0.001,2
09AR20071216,    CEAMARC,      12,          1,          8,          8,2,20071226,       1738,   -66.3378,   142.2938,        216,    81.1,  -1.6082,  34.4252,2,-999.0000,9,   332.11,2, -999.00,9,  -999.0,9, -999.00,9,-999.0000,9,-999.0000,9,-999.0000,9,  -999.0,9,  -999.0,9,   2.892,2, -999.00,9,      0.001,2
09AR20071216,    CEAMARC,      12,          1,          7,          7,2,20071226,       1738,   -66.3378,   142.2938,        216,    80.8,  -1.6112,  34.4262,2,  34.4256,2,   331.89,2,  330.39,2,    72.4,2,    1.95,2,   5.4065,2,   2.6902,2,   0.5282,2,  2217.4,2,  2332.6,2,   3.159,2,   28.58,2,      0.001,2
09AR20071216,    CEAMARC,      12,          1,          6,          6,2,20071226,       1738,   -66.3378,   142.2938,        216,   120.9,  -1.6552,  34.4593,2,-999.0000,9,   322.23,2, -999.00,9,  -999.0,9, -999.00,9,-999.0000,9,-999.0000,9,-999.0000,9,  -999.0,9,  -999.0,9,   1.850,2, -999.00,9,      0.001,2
09AR20071216,    CEAMARC,      12,          1,          5,          5,2,20071226,       1738,   -66.3378,   142.2938,        216,   120.7,  -1.6560,  34.4590,2,  34.4587,2,   322.23,2,  322.74,2,    73.6,2,    2.02,2,   5.3005,2,   2.6472,2,   0.4835,2,  2223.4,2,  2332.9,2,   1.949,2,   29.51,2,      0.001,2
09AR20071216,    CEAMARC,      12,          1,          4,          4,2,20071226,       1738,   -66.3378,   142.2938,        216,   169.6,  -1.7015,  34.4823,2,-999.0000,9,   317.57,2, -999.00,9,  -999.0,9, -999.00,9,-999.0000,9,-999.0000,9,-999.0000,9,  -999.0,9,  -999.0,9,   1.015,2, -999.00,9,      0.001,2
09AR20071216,    CEAMARC,      12,          1,          3,          3,2,20071226,       1738,   -66.3378,   142.2938,        216,   170.1,  -1.7045,  34.4840,2,  34.4823,2,   317.57,2,  317.38,2,    74.9,2,    2.07,2,   5.0005,2,   2.6170,2,   0.4096,2,  2228.3,2,    2335,2,   0.954,2,   30.02,2,      0.001,2
09AR20071216,    CEAMARC,      12,          1,          2,          2,2,20071226,       1738,   -66.3378,   142.2938,        216,   202.3,  -1.7203,  34.4938,2,-999.0000,9,   315.35,2, -999.00,9,  -999.0,9, -999.00,9,-999.0000,9,-999.0000,9,-999.0000,9,  -999.0,9,  -999.0,9,   0.565,2, -999.00,9,      0.001,2
09AR20071216,    CEAMARC,      12,          1,          1,          1,2,20071226,       1738,   -66.3378,   142.2938,        216,   201.6,  -1.7199,  34.4934,2,  34.4913,2,   315.35,2,  314.47,2,    74.8,2,    2.08,2,   5.0071,2,   2.5358,2,   0.4855,2,  2231.4,6,  2334.7,6,   0.622,2,   29.81,3,      0.001,2