BOTTLE,20230622CCHSIOENA
EXPOCODE,SECT_ID,STNNBR,CASTNO,SAMPNO,BTLNBR,BTLNBR_FLAG_W,DATE,TIME,LATITUDE,LONGITUDE,DEPTH,CTDPRS,CTDTMP,CTDSAL,CTDSAL_FLAG_W,SALNTY,SALNTY_FLAG_W,CTDOXY,CTDOXY_FLAG_W,OXYGEN,OXYGEN_FLAG_W,SILCAT,SILCAT_FLAG_W,PHSPHT,PHSPHT_FLAG_W,CFC-11,CFC-11_FLAG_W,CFC-12,CFC-12_FLAG_W,CFC113,CFC113_FLAG_W,TCARBN,TCARBN_FLAG_W,ALKALI,ALKALI_FLAG_W,FLUOR,FLUOR_FLAG_W,NO2+NO3,NO2+NO3_FLAG_W,PAR,PAR_FLAG_W
,,,,,,,,,,,METERS,DBAR,ITS-90,PSS-78,,PSS-78,,UMOL/KG,,UMOL/KG,,UMOL/KG,,UMOL/KG,,PMOL/KG,,PMOL/KG,,PMOL/KG,,UMOL/KG,,UMOL/KG,,MG/M^3,,UMOL/KG,,VOLTS,
09AR20071216,    CEAMARC,      23,          1,         24,         24,2,20071229,       0348,   -66.6893,   143.6707,        739,     6.6,  -0.1505,  34.2375,2,-999.0000,9,   364.70,2, -999.00,9,  -999.0,9, -999.00,9,-999.0000,9,-999.0000,9,-999.0000,9,    2175,3,  -999.0,9,   0.354,2, -999.00,9,      3.703,2
09AR20071216,    CEAMARC,      23,          1,         23,         23,2,20071229,       0348,   -66.6893,   143.6707,        739,     6.6,  -0.1332,  34.2372,2,-999.0000,9,   364.70,2, -999.00,9,  -999.0,9, -999.00,9,-999.0000,9,-999.0000,9,-999.0000,9,  -999.0,9,  -999.0,9,   0.276,2, -999.00,9,      3.709,2
09AR20071216,    CEAMARC,      23,          1,         22,         22,2,20071229,       0348,   -66.6893,   143.6707,        739,     6.7,  -0.1291,  34.2371,2,-999.0000,9,   364.70,2, -999.00,9,  -999.0,9, -999.00,9,-999.0000,9,-999.0000,9,-999.0000,9,  -999.0,9,  -999.0,9,   0.244,2, -999.00,9,      3.733,2
09AR20071216,    CEAMARC,      23,          1,         21,         21,2,20071229,       0348,   -66.6893,   143.6707,        739,     6.6,  -0.1420,  34.2370,2,  34.2379,2,   364.70,2,  363.02,2,    49.0,2, -999.00,9,   6.3239,2,   3.1917,2,   0.5170,2,  2173.5,2,  2320.6,6,   0.218,2,   26.40,2,      3.678,2
09AR20071216,    CEAMARC,      23,          1,         20,         20,2,20071229,       0348,   -66.6893,   143.6707,        739,    30.8,  -0.7057,  34.2425,2,  34.2430,2,   361.93,2,  362.61,2,    49.0,2,    1.51,2,   6.3085,2,   3.1451,2,   0.4771,2,  2173.7,2,    2317,2,   8.754,2,   26.31,2,      2.276,2
09AR20071216,    CEAMARC,      23,          1,         19,         19,2,20071229,       0348,   -66.6893,   143.6707,        739,    49.3,  -1.4121,  34.3303,2,-999.0000,9,   317.88,2, -999.00,9,  -999.0,9, -999.00,9,-999.0000,9,-999.0000,9,-999.0000,9,  -999.0,9,  -999.0,9,   6.315,2, -999.00,9,      1.110,2
09AR20071216,    CEAMARC,      23,          1,         18,         18,2,20071229,       0348,   -66.6893,   143.6707,        739,    49.3,  -1.5260,  34.3553,2,  34.3694,4,   317.88,2,  322.68,2,    65.8,2,    2.02,2,   5.3218,2,   2.7241,2,   0.4099,2,  2211.3,2,  2322.8,6,   4.288,2,   30.18,2,      1.139,2
09AR20071216,    CEAMARC,      23,          1,         17,         17,2,20071229,       0348,   -66.6893,   143.6707,        739,   101.2,  -1.5472,  34.4304,2,  34.4297,2,   313.75,2,  312.44,2,    73.6,2,    2.09,2,   5.0628,2,   2.6004,2,   0.3986,2,  2222.3,2,  2327.5,2,   1.306,2,   31.10,2,      0.001,2
09AR20071216,    CEAMARC,      23,          1,         16,         16,2,20071229,       0348,   -66.6893,   143.6707,        739,   134.1,  -1.7206,  34.4501,2,  34.4505,2,   299.41,2,  314.04,2,    76.1,2,    2.14,2,   5.0705,2,   2.6261,2,   0.4074,2,  2225.7,2,  2332.5,6,   0.282,2,   31.49,2,      0.001,2
09AR20071216,    CEAMARC,      23,          1,         15,         15,2,20071229,       0348,   -66.6893,   143.6707,        739,   159.4,  -1.5937,  34.4631,2,  34.4617,2,   314.12,2,  304.01,2,    77.2,2,    2.16,2,   4.7654,6,   2.4836,6,   0.3788,6,  2227.4,2,  2329.8,6,   0.177,2,   31.71,2,      0.001,2
09AR20071216,    CEAMARC,      23,          1,         14,         14,2,20071229,       0348,   -66.6893,   143.6707,        739,   201.0,  -1.8376,  34.4771,2,-999.0000,9,   313.05,2, -999.00,9,  -999.0,9, -999.00,9,-999.0000,9,-999.0000,9,-999.0000,9,  -999.0,9,  -999.0,9,   0.030,2, -999.00,9,      0.001,2
09AR20071216,    CEAMARC,      23,          1,         13,         13,2,20071229,       0348,   -66.6893,   143.6707,        739,   200.7,  -1.8356,  34.4774,2,  34.4777,2,   313.05,2,  310.12,2,    77.9,2,    2.15,2,   5.0705,2,   2.5772,2,   0.4044,2,  2230.3,2,  2332.4,2,   0.039,2,   31.71,2,      0.001,2
09AR20071216,    CEAMARC,      23,          1,         12,         12,2,20071229,       0348,   -66.6893,   143.6707,        739,   298.1,  -1.8309,  34.5179,2,-999.0000,9,   309.40,2, -999.00,9,  -999.0,9, -999.00,9,-999.0000,9,-999.0000,9,-999.0000,9,  -999.0,9,  -999.0,9,  -0.020,2, -999.00,9,      0.001,2
09AR20071216,    CEAMARC,      23,          1,         11,         11,2,20071229,       0348,   -66.6893,   143.6707,        739,   298.3,  -1.8298,  34.5198,2,  34.5189,2,   309.40,2,  307.90,2,    78.2,2,    2.16,2,   4.9254,2,   2.5337,2,   0.3810,2,  2234.9,2,  2337.1,2,  -0.017,2,   32.02,2,      0.001,2
09AR20071216,    CEAMARC,      23,          1,         10,         10,2,20071229,       0348,   -66.6893,   143.6707,        739,   401.0,  -1.8994,  34.5632,2,-999.0000,9,   310.23,2, -999.00,9,  -999.0,9, -999.00,9,-999.0000,9,-999.0000,9,-999.0000,9,  -999.0,9,  -999.0,9,  -0.033,2, -999.00,9,      0.001,2
09AR20071216,    CEAMARC,      23,          1,          9,          9,2,20071229,       0348,   -66.6893,   143.6707,        739,   401.1,  -1.9009,  34.5626,2,  34.5617,2,   310.23,2,  308.63,2,    77.9,2,    2.17,2,   4.8952,2,   2.5705,2,   0.3773,2,  2236.9,2,  2337.9,2,  -0.029,2,   32.17,2,      0.001,2
09AR20071216,    CEAMARC,      23,          1,          8,          8,2,20071229,       0348,   -66.6893,   143.6707,        739,   502.8,  -1.8995,  34.6035,2,-999.0000,9,   308.74,2, -999.00,9,  -999.0,9, -999.00,9,-999.0000,9,-999.0000,9,-999.0000,9,  -999.0,9,  -999.0,9,  -0.032,2, -999.00,9,      0.001,2
09AR20071216,    CEAMARC,      23,          1,          7,          7,2,20071229,       0348,   -66.6893,   143.6707,        739,   502.0,  -1.8994,  34.6032,2,  34.6030,2,   308.74,2,  308.14,2,    77.6,2,    2.17,2,   5.0190,2,   2.5670,2,   0.3747,2,  2238.1,2,  2339.1,2,  -0.031,2,   31.83,2,      0.001,2
09AR20071216,    CEAMARC,      23,          1,          6,          6,2,20071229,       0348,   -66.6893,   143.6707,        739,   599.7,  -1.9063,  34.6369,2,-999.0000,9,   308.08,2, -999.00,9,  -999.0,9, -999.00,9,-999.0000,9,-999.0000,9,-999.0000,9,  -999.0,9,  -999.0,9,  -0.036,2, -999.00,9,      0.001,2
09AR20071216,    CEAMARC,      23,          1,          5,          5,2,20071229,       0348,   -66.6893,   143.6707,        739,   599.7,  -1.9063,  34.6368,2,  34.6358,2,   308.08,2,  307.79,2,    77.3,2,    2.18,2,   5.0042,2,   2.5609,2,   0.3804,2,    2240,2,  2341.5,2,  -0.039,2,   31.79,2,      0.001,2
09AR20071216,    CEAMARC,      23,          1,          4,          4,2,20071229,       0348,   -66.6893,   143.6707,        739,   692.6,  -1.9077,  34.6463,2,-999.0000,9,   307.57,2, -999.00,9,  -999.0,9, -999.00,9,-999.0000,9,-999.0000,9,-999.0000,9,  -999.0,9,  -999.0,9,  -0.034,2, -999.00,9,      0.001,2
09AR20071216,    CEAMARC,      23,          1,          3,          3,2,20071229,       0348,   -66.6893,   143.6707,        739,   692.2,  -1.9078,  34.6462,2,  34.6460,2,   307.57,2,  308.05,2,    77.3,2,    2.17,2,   5.0776,2,   2.5792,2,   0.3985,2,  2239.4,2,  2341.2,2,  -0.036,2,   31.83,2,      0.001,2
09AR20071216,    CEAMARC,      23,          1,          2,          2,2,20071229,       0348,   -66.6893,   143.6707,        739,   738.5,  -1.9009,  34.6629,2,-999.0000,9,   308.18,2, -999.00,9,  -999.0,9, -999.00,9,-999.0000,9,-999.0000,9,-999.0000,9,  -999.0,9,  -999.0,9,  -0.038,2, -999.00,9,      0.001,2
09AR20071216,    CEAMARC,      23,          1,          1,          1,2,20071229,       0348,   -66.6893,   143.6707,        739,   737.8,  -1.9008,  34.6631,2,  34.6621,2,   308.18,2,  309.35,2,    77.9,2,    2.16,2,   5.0149,2,   2.5874,2,   0.3710,2,  2242.1,6,  2343.3,6,  -0.036,2,   32.18,2,      0.001,2
09AR20071216,    CEAMARC,      24,          1,         24,         24,2,20071229,       1007,   -66.7523,   143.9860,        596,     5.2,  -0.7995,  34.3639,2,  34.3639,2,   353.73,2,  353.93,2,    60.7,2,    1.73,2,   5.8963,2,   2.9872,2,   0.4630,2,  2195.9,6,  2326.6,6,   6.518,2,   27.77,3,      2.476,2
09AR20071216,    CEAMARC,      24,          1,         23,         23,2,20071229,       1007,   -66.7523,   143.9860,        596,     5.2,  -0.8001,  34.3642,2,-999.0000,9,   353.73,2, -999.00,9,  -999.0,9, -999.00,9,-999.0000,9,-999.0000,9,-999.0000,9,  -999.0,9,  -999.0,9,   6.623,2, -999.00,9,      2.471,2
09AR20071216,    CEAMARC,      24,          1,         22,         22,2,20071229,       1007,   -66.7523,   143.9860,        596,     5.2,  -0.7966,  34.3641,2,-999.0000,9,   353.73,2, -999.00,9,  -999.0,9, -999.00,9,-999.0000,9,-999.0000,9,-999.0000,9,  -999.0,9,  -999.0,9,   6.475,2, -999.00,9,      2.462,2
09AR20071216,    CEAMARC,      24,          1,         21,         21,2,20071229,       1007,   -66.7523,   143.9860,        596,     5.2,  -0.8007,  34.3639,2,-999.0000,9,   353.73,2, -999.00,9,  -999.0,9, -999.00,9,-999.0000,9,-999.0000,9,-999.0000,9,  -999.0,9,  -999.0,9,   6.657,2, -999.00,9,      2.448,2
09AR20071216,    CEAMARC,      24,          1,         20,         20,2,20071229,       1007,   -66.7523,   143.9860,        596,    21.1,  -1.1924,  34.3820,2,  34.3723,2,   350.19,2,  348.53,2,    62.9,2,    1.80,2,   5.7462,2,   2.9217,2,   0.4475,2,  2202.9,2,  2328.8,2,   8.195,2,   28.67,3,      1.374,2
09AR20071216,    CEAMARC,      24,          1,         19,         19,2,20071229,       1007,   -66.7523,   143.9860,        596,    21.1,  -1.2190,  34.3782,2,-999.0000,9,   350.19,2, -999.00,9,  -999.0,9, -999.00,9,-999.0000,9,-999.0000,9,-999.0000,9,  -999.0,9,  -999.0,9,   8.211,2, -999.00,9,      1.366,2
09AR20071216,    CEAMARC,      24,          1,         18,         18,2,20071229,       1007,   -66.7523,   143.9860,        596,    21.2,  -1.2116,  34.3750,2,-999.0000,9,   350.19,2, -999.00,9,  -999.0,9, -999.00,9,-999.0000,9,-999.0000,9,-999.0000,9,  -999.0,9,  -999.0,9,   8.412,2, -999.00,9,      1.353,2
09AR20071216,    CEAMARC,      24,          1,         17,         17,2,20071229,       1007,   -66.7523,   143.9860,        596,    21.2,  -1.0804,  34.3717,2,-999.0000,9,   350.19,2, -999.00,9,  -999.0,9, -999.00,9,-999.0000,9,-999.0000,9,-999.0000,9,  -999.0,9,  -999.0,9,   7.767,2, -999.00,9,      1.350,2
09AR20071216,    CEAMARC,      24,          1,         16,         16,2,20071229,       1007,   -66.7523,   143.9860,        596,    21.2,  -1.0302,  34.3703,2,-999.0000,9,   350.19,2, -999.00,9,  -999.0,9, -999.00,9,-999.0000,9,-999.0000,9,-999.0000,9,  -999.0,9,  -999.0,9,   7.601,2, -999.00,9,      1.347,2
09AR20071216,    CEAMARC,      24,          1,         15,         15,2,20071229,       1007,   -66.7523,   143.9860,        596,    21.2,  -1.0582,  34.3708,2,-999.0000,9,   350.19,2, -999.00,9,  -999.0,9, -999.00,9,-999.0000,9,-999.0000,9,-999.0000,9,  -999.0,9,  -999.0,9,   7.745,2, -999.00,9,      1.354,2
09AR20071216,    CEAMARC,      24,          1,         14,         14,2,20071229,       1007,   -66.7523,   143.9860,        596,    48.8,  -1.2880,  34.3900,2,  34.3894,2,   341.70,2,  339.92,2,    66.5,2,    1.93,2,   5.5466,2,   2.9039,2,   0.4515,2,  2207.1,2,  2329.2,2,   5.700,2,   30.64,3,      0.001,2
09AR20071216,    CEAMARC,      24,          1,         13,         13,2,20071229,       1007,   -66.7523,   143.9860,        596,    48.9,  -1.2888,  34.3899,2,-999.0000,9,   341.70,2, -999.00,9,  -999.0,9, -999.00,9,-999.0000,9,-999.0000,9,-999.0000,9,  -999.0,9,  -999.0,9,   5.800,2, -999.00,9,      0.001,2
09AR20071216,    CEAMARC,      24,          1,         12,         12,2,20071229,       1007,   -66.7523,   143.9860,        596,    74.6,  -1.6251,  34.4196,2,  34.4189,2,   304.96,2,  303.72,2,    75.9,2,    2.23,2,   4.7569,2,   2.4587,2,   0.3680,2,  2225.8,2,  2328.2,2,   0.323,2,   34.13,3,      0.001,2
09AR20071216,    CEAMARC,      24,          1,         11,         11,2,20071229,       1007,   -66.7523,   143.9860,        596,    74.6,  -1.6253,  34.4198,2,-999.0000,9,   304.96,2, -999.00,9,  -999.0,9, -999.00,9,-999.0000,9,-999.0000,9,-999.0000,9,  -999.0,9,  -999.0,9,   0.317,2, -999.00,9,      0.001,2
09AR20071216,    CEAMARC,      24,          1,         10,         10,2,20071229,       1007,   -66.7523,   143.9860,        596,   151.0,  -1.6330,  34.4456,2,  34.4456,2,   309.43,2,  307.96,2,    76.7,2,    2.22,2,   4.9679,2,   2.5225,2,   0.4101,2,  2227.7,2,    2331,2,   0.246,2,   34.03,3,      0.001,2
09AR20071216,    CEAMARC,      24,          1,          9,          9,2,20071229,       1007,   -66.7523,   143.9860,        596,   150.7,  -1.6342,  34.4456,2,-999.0000,9,   309.99,2, -999.00,9,  -999.0,9, -999.00,9,-999.0000,9,-999.0000,9,-999.0000,9,  -999.0,9,  -999.0,9,   0.258,2, -999.00,9,      0.001,2
09AR20071216,    CEAMARC,      24,          1,          8,          8,2,20071229,       1007,   -66.7523,   143.9860,        596,   251.4,  -1.8091,  34.4698,2,  34.4695,2,   312.46,2,  314.35,2,    78.2,2,    2.21,2,   5.1075,6,   2.6033,6,   0.4077,6,  2229.5,2,  2328.1,2,   0.333,2,   33.92,3,      0.001,2
09AR20071216,    CEAMARC,      24,          1,          7,          7,2,20071229,       1007,   -66.7523,   143.9860,        596,   250.9,  -1.8137,  34.4699,2,-999.0000,9,   312.56,2, -999.00,9,  -999.0,9, -999.00,9,-999.0000,9,-999.0000,9,-999.0000,9,  -999.0,9,  -999.0,9,   0.328,2, -999.00,9,      0.001,2
09AR20071216,    CEAMARC,      24,          1,          6,          6,2,20071229,       1007,   -66.7523,   143.9860,        596,   351.5,  -1.8666,  34.4949,2,  34.4956,2,   310.46,2,  311.17,2,    79.1,2,    2.23,2,   5.0670,2,   2.5832,2,   0.4013,2,  2232.6,2,  2328.6,6,  -0.011,2,   34.08,3,      0.001,2
09AR20071216,    CEAMARC,      24,          1,          5,          5,2,20071229,       1007,   -66.7523,   143.9860,        596,   351.2,  -1.8628,  34.4954,2,-999.0000,9,   310.46,2, -999.00,9,  -999.0,9, -999.00,9,-999.0000,9,-999.0000,9,-999.0000,9,  -999.0,9,  -999.0,9,  -0.005,2, -999.00,9,      0.001,2
09AR20071216,    CEAMARC,      24,          1,          4,          4,2,20071229,       1007,   -66.7523,   143.9860,        596,   450.0,  -1.8557,  34.5460,2,  34.5458,2,   307.99,2,  308.72,2,    78.8,2,    2.24,2,   4.9241,2,   2.5108,2,   0.3806,2,  2235.8,2,  2330.7,2,  -0.027,2,   34.14,3,      0.001,2
09AR20071216,    CEAMARC,      24,          1,          3,          3,2,20071229,       1007,   -66.7523,   143.9860,        596,   449.9,  -1.8559,  34.5460,2,-999.0000,9,   307.99,2, -999.00,9,  -999.0,9, -999.00,9,-999.0000,9,-999.0000,9,-999.0000,9,  -999.0,9,  -999.0,9,  -0.024,2, -999.00,9,      0.001,2
09AR20071216,    CEAMARC,      24,          1,          2,          2,2,20071229,       1007,   -66.7523,   143.9860,        596,   515.7,  -1.8917,  34.5740,2,  34.5746,2,   312.02,2,  310.97,2,    78.8,2,    2.24,2,   4.9215,2,   2.5353,2,   0.3666,2,  2238.8,2,  2339.4,6,  -0.032,2,   34.13,3,      0.001,2
09AR20071216,    CEAMARC,      24,          1,          1,          1,2,20071229,       1007,   -66.7523,   143.9860,        596,   515.5,  -1.8920,  34.5750,2,-999.0000,9,   312.02,2, -999.00,9,  -999.0,9, -999.00,9,-999.0000,9,-999.0000,9,-999.0000,9,  2241.4,3,  -999.0,9,  -0.032,2, -999.00,9,      0.001,2