BOTTLE,20230622CCHSIOENA
EXPOCODE,SECT_ID,STNNBR,CASTNO,SAMPNO,BTLNBR,BTLNBR_FLAG_W,DATE,TIME,LATITUDE,LONGITUDE,DEPTH,CTDPRS,CTDTMP,CTDSAL,CTDSAL_FLAG_W,SALNTY,SALNTY_FLAG_W,CTDOXY,CTDOXY_FLAG_W,OXYGEN,OXYGEN_FLAG_W,SILCAT,SILCAT_FLAG_W,PHSPHT,PHSPHT_FLAG_W,CFC-11,CFC-11_FLAG_W,CFC-12,CFC-12_FLAG_W,CFC113,CFC113_FLAG_W,TCARBN,TCARBN_FLAG_W,ALKALI,ALKALI_FLAG_W,FLUOR,FLUOR_FLAG_W,NO2+NO3,NO2+NO3_FLAG_W,PAR,PAR_FLAG_W
,,,,,,,,,,,METERS,DBAR,ITS-90,PSS-78,,PSS-78,,UMOL/KG,,UMOL/KG,,UMOL/KG,,UMOL/KG,,PMOL/KG,,PMOL/KG,,PMOL/KG,,UMOL/KG,,UMOL/KG,,MG/M^3,,UMOL/KG,,VOLTS,
09AR20071216,    CEAMARC,      89,          1,         24,         24,2,20080113,       1724,   -66.5338,   140.0507,        175,    10.3,  -1.1259,  34.3533,2,  34.3539,2,   349.99,2,  351.97,2,    67.3,2,    1.75,2,   5.7281,2,   2.8896,2,   0.4809,2,  2194.4,6,  2333.8,6,   3.447,2,   25.59,2,      2.027,2
09AR20071216,    CEAMARC,      89,          1,         23,         23,2,20080113,       1724,   -66.5338,   140.0507,        175,    10.3,  -1.1233,  34.3534,2,-999.0000,9,   349.99,2, -999.00,9,  -999.0,9, -999.00,9,-999.0000,9,-999.0000,9,-999.0000,9,  -999.0,9,  -999.0,9,   3.673,2, -999.00,9,      2.023,2
09AR20071216,    CEAMARC,      89,          1,         22,         22,2,20080113,       1724,   -66.5338,   140.0507,        175,    10.2,  -1.1230,  34.3532,2,-999.0000,9,   349.99,2, -999.00,9,  -999.0,9, -999.00,9,-999.0000,9,-999.0000,9,-999.0000,9,  -999.0,9,  -999.0,9,   3.530,2, -999.00,9,      2.021,2
09AR20071216,    CEAMARC,      89,          1,         21,         21,2,20080113,       1724,   -66.5338,   140.0507,        175,    10.1,  -1.1219,  34.3539,2,-999.0000,9,   349.99,2, -999.00,9,  -999.0,9, -999.00,9,-999.0000,9,-999.0000,9,-999.0000,9,  -999.0,9,  -999.0,9,   3.492,2, -999.00,9,      2.036,2
09AR20071216,    CEAMARC,      89,          1,         20,         20,2,20080113,       1724,   -66.5338,   140.0507,        175,    29.6,  -1.1059,  34.3694,2,-999.0000,9,   350.98,2, -999.00,9,  -999.0,9, -999.00,9,-999.0000,9,-999.0000,9,-999.0000,9,  -999.0,9,  -999.0,9,   3.826,2, -999.00,9,      0.963,2
09AR20071216,    CEAMARC,      89,          1,         19,         19,2,20080113,       1724,   -66.5338,   140.0507,        175,    29.5,  -1.1062,  34.3703,2,-999.0000,9,   350.98,2, -999.00,9,  -999.0,9, -999.00,9,-999.0000,9,-999.0000,9,-999.0000,9,  -999.0,9,  -999.0,9,   3.729,2, -999.00,9,      0.964,2
09AR20071216,    CEAMARC,      89,          1,         18,         18,2,20080113,       1724,   -66.5338,   140.0507,        175,    29.7,  -1.1048,  34.3685,2,-999.0000,9,   350.98,2, -999.00,9,  -999.0,9, -999.00,9,-999.0000,9,-999.0000,9,-999.0000,9,  -999.0,9,  -999.0,9,   3.751,2, -999.00,9,      0.959,2
09AR20071216,    CEAMARC,      89,          1,         17,         17,2,20080113,       1724,   -66.5338,   140.0507,        175,    29.6,  -1.1008,  34.3696,2,-999.0000,9,   350.98,2, -999.00,9,  -999.0,9, -999.00,9,-999.0000,9,-999.0000,9,-999.0000,9,  -999.0,9,  -999.0,9,   3.915,2, -999.00,9,      0.961,2
09AR20071216,    CEAMARC,      89,          1,         16,         16,2,20080113,       1724,   -66.5338,   140.0507,        175,    29.7,  -1.1008,  34.3697,2,-999.0000,9,   350.98,2, -999.00,9,  -999.0,9, -999.00,9,-999.0000,9,-999.0000,9,-999.0000,9,  -999.0,9,  -999.0,9,   3.880,2, -999.00,9,      0.954,2
09AR20071216,    CEAMARC,      89,          1,         15,         15,2,20080113,       1724,   -66.5338,   140.0507,        175,    29.7,  -1.1030,  34.3697,2,-999.0000,9,   350.98,2, -999.00,9,  -999.0,9, -999.00,9,-999.0000,9,-999.0000,9,-999.0000,9,  -999.0,9,  -999.0,9,   3.910,2, -999.00,9,      0.949,2
09AR20071216,    CEAMARC,      89,          1,         14,         14,2,20080113,       1724,   -66.5338,   140.0507,        175,    29.7,  -1.1056,  34.3694,2,-999.0000,9,   350.98,2, -999.00,9,  -999.0,9, -999.00,9,-999.0000,9,-999.0000,9,-999.0000,9,  -999.0,9,  -999.0,9,   3.840,2, -999.00,9,      0.949,2
09AR20071216,    CEAMARC,      89,          1,         13,         13,2,20080113,       1724,   -66.5338,   140.0507,        175,    29.6,  -1.1078,  34.3653,2,-999.0000,9,   350.98,2, -999.00,9,  -999.0,9, -999.00,9,-999.0000,9,-999.0000,9,-999.0000,9,  -999.0,9,  -999.0,9,   4.198,2, -999.00,9,      0.947,2
09AR20071216,    CEAMARC,      89,          1,         12,         12,2,20080113,       1724,   -66.5338,   140.0507,        175,    29.7,  -1.1037,  34.3685,2,-999.0000,9,   350.98,2, -999.00,9,  -999.0,9, -999.00,9,-999.0000,9,-999.0000,9,-999.0000,9,  -999.0,9,  -999.0,9,   3.987,2, -999.00,9,      0.937,2
09AR20071216,    CEAMARC,      89,          1,         11,         11,2,20080113,       1724,   -66.5338,   140.0507,        175,    29.5,  -1.1038,  34.3688,2,-999.0000,9,   350.98,2, -999.00,9,  -999.0,9, -999.00,9,-999.0000,9,-999.0000,9,-999.0000,9,  -999.0,9,  -999.0,9,   3.976,2, -999.00,9,      0.953,2
09AR20071216,    CEAMARC,      89,          1,         10,         10,2,20080113,       1724,   -66.5338,   140.0507,        175,    29.6,  -1.1041,  34.3710,2,  34.3701,2,   350.98,2,  350.66,2,    67.9,2,    1.76,2,   5.6219,2,   2.8677,2,   0.4300,2,  2197.5,2,  2333.9,2,   4.013,2,   26.30,2,      0.970,2
09AR20071216,    CEAMARC,      89,          1,          9,          9,2,20080113,       1724,   -66.5338,   140.0507,        175,    29.5,  -1.1031,  34.3716,2,-999.0000,9,   350.98,2, -999.00,9,  -999.0,9, -999.00,9,-999.0000,9,-999.0000,9,-999.0000,9,  -999.0,9,  -999.0,9,   4.100,2, -999.00,9,      0.964,2
09AR20071216,    CEAMARC,      89,          1,          8,          8,2,20080113,       1724,   -66.5338,   140.0507,        175,    60.8,  -1.2437,  34.4011,2,  34.4015,2,   344.80,2,  343.01,2,    69.7,2,    1.83,2,   5.2833,2,   2.8026,2,   0.4519,2,  2202.4,2,  2332.4,2,   3.933,2,   27.28,2,      0.001,2
09AR20071216,    CEAMARC,      89,          1,          7,          7,2,20080113,       1724,   -66.5338,   140.0507,        175,    60.7,  -1.2374,  34.4008,2,-999.0000,9,   344.80,2, -999.00,9,  -999.0,9, -999.00,9,-999.0000,9,-999.0000,9,-999.0000,9,  -999.0,9,  -999.0,9,   3.919,2, -999.00,9,      0.001,2
09AR20071216,    CEAMARC,      89,          1,          6,          6,2,20080113,       1724,   -66.5338,   140.0507,        175,    99.7,  -1.3503,  34.4192,2,  34.4191,2,   336.78,2,  335.83,2,    70.3,2,    1.88,2,   5.5294,2,   2.8071,2,   0.4737,2,    2208,2,  2336.8,6,   2.506,2,   27.87,2,      0.001,2
09AR20071216,    CEAMARC,      89,          1,          5,          5,2,20080113,       1724,   -66.5338,   140.0507,        175,    99.7,  -1.3477,  34.4194,2,-999.0000,9,   336.78,2, -999.00,9,  -999.0,9, -999.00,9,-999.0000,9,-999.0000,9,-999.0000,9,  -999.0,9,  -999.0,9,   2.210,2, -999.00,9,      0.001,2
09AR20071216,    CEAMARC,      89,          1,          4,          4,2,20080113,       1724,   -66.5338,   140.0507,        175,   151.1,  -1.4812,  34.4291,2,  34.4291,2,   330.48,2,  330.82,2,    71.2,2,    1.93,2,   5.2219,2,   2.7297,2,   0.4268,2,  2214.7,2,  2334.2,2,   1.452,2,   28.35,2,      0.001,2
09AR20071216,    CEAMARC,      89,          1,          3,          3,2,20080113,       1724,   -66.5338,   140.0507,        175,   151.2,  -1.4825,  34.4295,2,-999.0000,9,   330.48,2, -999.00,9,  -999.0,9, -999.00,9,-999.0000,9,-999.0000,9,-999.0000,9,  -999.0,9,  -999.0,9,   1.445,2, -999.00,9,      0.001,2
09AR20071216,    CEAMARC,      89,          1,          2,          2,2,20080113,       1724,   -66.5338,   140.0507,        175,   180.4,  -1.4786,  34.4397,2,  34.4393,2,   329.38,2,  329.65,2,    71.5,2,    1.94,2,   5.3281,6,   2.7477,6,   0.4394,6,  2214.1,2,  2329.6,2,   1.365,2,   28.35,2,      0.001,2
09AR20071216,    CEAMARC,      89,          1,          1,          1,2,20080113,       1724,   -66.5338,   140.0507,        175,   180.5,  -1.4841,  34.4399,2,-999.0000,9,   329.38,2, -999.00,9,  -999.0,9, -999.00,9,-999.0000,9,-999.0000,9,-999.0000,9,  -999.0,9,  -999.0,9,   1.482,2, -999.00,9,      0.001,2
09AR20071216,    CEAMARC,      90,          1,         24,         24,2,20080113,       2017,   -66.4362,   140.5330,       1169,  1171.8,  -1.7754,  34.5572,2,-999.0000,9,  -999.00,5, -999.00,9,  -999.0,9, -999.00,9,-999.0000,9,-999.0000,9,-999.0000,9,  -999.0,9,  -999.0,9,  -0.026,2, -999.00,9,      0.001,2
09AR20071216,    CEAMARC,      90,          1,         23,         23,2,20080113,       2017,   -66.4362,   140.5330,       1169,  1172.2,  -1.7757,  34.5573,2,-999.0000,9,  -999.00,5, -999.00,9,  -999.0,9, -999.00,9,-999.0000,9,-999.0000,9,-999.0000,9,  -999.0,9,  -999.0,9,  -0.031,2, -999.00,9,      0.001,2
09AR20071216,    CEAMARC,      90,          1,         22,         22,2,20080113,       2017,   -66.4362,   140.5330,       1169,  1171.9,  -1.7757,  34.5574,2,-999.0000,9,  -999.00,5, -999.00,9,  -999.0,9, -999.00,9,-999.0000,9,-999.0000,9,-999.0000,9,  -999.0,9,  -999.0,9,  -0.028,2, -999.00,9,      0.001,2
09AR20071216,    CEAMARC,      90,          1,         21,         21,2,20080113,       2017,   -66.4362,   140.5330,       1169,  1171.7,  -1.7757,  34.5574,2,-999.0000,9,  -999.00,5, -999.00,9,  -999.0,9, -999.00,9,-999.0000,9,-999.0000,9,-999.0000,9,  -999.0,9,  -999.0,9,  -0.027,2, -999.00,9,      0.001,2
09AR20071216,    CEAMARC,      90,          1,         20,         20,2,20080113,       2017,   -66.4362,   140.5330,       1169,  1171.5,  -1.7759,  34.5574,2,-999.0000,9,  -999.00,5, -999.00,9,  -999.0,9, -999.00,9,-999.0000,9,-999.0000,9,-999.0000,9,  -999.0,9,  -999.0,9,  -0.030,2, -999.00,9,      0.001,2
09AR20071216,    CEAMARC,      90,          1,         19,         19,2,20080113,       2017,   -66.4362,   140.5330,       1169,  1171.6,  -1.7760,  34.5575,2,-999.0000,9,  -999.00,5, -999.00,9,  -999.0,9, -999.00,9,-999.0000,9,-999.0000,9,-999.0000,9,  -999.0,9,  -999.0,9,  -0.028,2, -999.00,9,      0.001,2
09AR20071216,    CEAMARC,      90,          1,         18,         18,2,20080113,       2017,   -66.4362,   140.5330,       1169,  1171.3,  -1.7756,  34.5574,2,-999.0000,9,  -999.00,5, -999.00,9,  -999.0,9, -999.00,9,-999.0000,9,-999.0000,9,-999.0000,9,  -999.0,9,  -999.0,9,  -0.030,2, -999.00,9,      0.001,2
09AR20071216,    CEAMARC,      90,          1,         17,         17,2,20080113,       2017,   -66.4362,   140.5330,       1169,  1171.4,  -1.7758,  34.5573,2,-999.0000,9,  -999.00,5, -999.00,9,  -999.0,9, -999.00,9,-999.0000,9,-999.0000,9,-999.0000,9,  -999.0,9,  -999.0,9,  -0.030,2, -999.00,9,      0.001,2
09AR20071216,    CEAMARC,      90,          1,         16,         16,2,20080113,       2017,   -66.4362,   140.5330,       1169,  1171.1,  -1.7761,  34.5575,2,-999.0000,9,  -999.00,5, -999.00,9,  -999.0,9, -999.00,9,-999.0000,9,-999.0000,9,-999.0000,9,  -999.0,9,  -999.0,9,  -0.032,2, -999.00,9,      0.001,2
09AR20071216,    CEAMARC,      90,          1,         15,         15,2,20080113,       2017,   -66.4362,   140.5330,       1169,  1171.1,  -1.7760,  34.5574,2,-999.0000,9,  -999.00,5, -999.00,9,  -999.0,9, -999.00,9,-999.0000,9,-999.0000,9,-999.0000,9,  -999.0,9,  -999.0,9,  -0.029,2, -999.00,9,      0.001,2
09AR20071216,    CEAMARC,      90,          1,         14,         14,2,20080113,       2017,   -66.4362,   140.5330,       1169,  1170.8,  -1.7759,  34.5576,2,-999.0000,9,  -999.00,5, -999.00,9,  -999.0,9, -999.00,9,-999.0000,9,-999.0000,9,-999.0000,9,  -999.0,9,  -999.0,9,  -0.027,2, -999.00,9,      0.001,2
09AR20071216,    CEAMARC,      90,          1,         13,         13,2,20080113,       2017,   -66.4362,   140.5330,       1169,  1171.1,  -1.7760,  34.5575,2,-999.0000,9,  -999.00,5, -999.00,9,  -999.0,9, -999.00,9,-999.0000,9,-999.0000,9,-999.0000,9,  -999.0,9,  -999.0,9,  -0.026,2, -999.00,9,      0.001,2
09AR20071216,    CEAMARC,      90,          1,         12,         12,2,20080113,       2017,   -66.4362,   140.5330,       1169,  1171.1,  -1.7760,  34.5575,2,-999.0000,9,  -999.00,5, -999.00,9,  -999.0,9, -999.00,9,-999.0000,9,-999.0000,9,-999.0000,9,  -999.0,9,  -999.0,9,  -0.028,2, -999.00,9,      0.001,2
09AR20071216,    CEAMARC,      90,          1,         11,         11,2,20080113,       2017,   -66.4362,   140.5330,       1169,  1171.0,  -1.7764,  34.5576,2,-999.0000,9,  -999.00,5, -999.00,9,  -999.0,9, -999.00,9,-999.0000,9,-999.0000,9,-999.0000,9,  -999.0,9,  -999.0,9,  -0.028,2, -999.00,9,      0.001,2
09AR20071216,    CEAMARC,      90,          1,         10,         10,2,20080113,       2017,   -66.4362,   140.5330,       1169,  1170.8,  -1.7764,  34.5575,2,-999.0000,9,  -999.00,5, -999.00,9,  -999.0,9, -999.00,9,-999.0000,9,-999.0000,9,-999.0000,9,  -999.0,9,  -999.0,9,  -0.030,2, -999.00,9,      0.001,2
09AR20071216,    CEAMARC,      90,          1,          9,          9,2,20080113,       2017,   -66.4362,   140.5330,       1169,  1170.5,  -1.7764,  34.5576,2,-999.0000,9,  -999.00,5, -999.00,9,  -999.0,9, -999.00,9,-999.0000,9,-999.0000,9,-999.0000,9,  -999.0,9,  -999.0,9,  -0.027,2, -999.00,9,      0.001,2
09AR20071216,    CEAMARC,      90,          1,          8,          8,2,20080113,       2017,   -66.4362,   140.5330,       1169,  1170.5,  -1.7763,  34.5575,2,-999.0000,9,  -999.00,5, -999.00,9,  -999.0,9, -999.00,9,-999.0000,9,-999.0000,9,-999.0000,9,  -999.0,9,  -999.0,9,  -0.026,2, -999.00,9,      0.001,2
09AR20071216,    CEAMARC,      90,          1,          7,          7,2,20080113,       2017,   -66.4362,   140.5330,       1169,  1170.3,  -1.7764,  34.5576,2,-999.0000,9,  -999.00,5, -999.00,9,  -999.0,9, -999.00,9,-999.0000,9,-999.0000,9,-999.0000,9,  -999.0,9,  -999.0,9,  -0.026,2, -999.00,9,      0.001,2
09AR20071216,    CEAMARC,      90,          1,          6,          6,2,20080113,       2017,   -66.4362,   140.5330,       1169,  1169.8,  -1.7763,  34.5575,2,-999.0000,9,  -999.00,5, -999.00,9,  -999.0,9, -999.00,9,-999.0000,9,-999.0000,9,-999.0000,9,  -999.0,9,  -999.0,9,  -0.029,2, -999.00,9,      0.001,2
09AR20071216,    CEAMARC,      90,          1,          5,          5,2,20080113,       2017,   -66.4362,   140.5330,       1169,  1169.3,  -1.7765,  34.5577,2,-999.0000,9,  -999.00,5, -999.00,9,  -999.0,9, -999.00,9,-999.0000,9,-999.0000,9,-999.0000,9,  -999.0,9,  -999.0,9,  -0.027,2, -999.00,9,      0.001,2
09AR20071216,    CEAMARC,      90,          1,          4,          4,2,20080113,       2017,   -66.4362,   140.5330,       1169,  1169.1,  -1.7766,  34.5578,2,-999.0000,9,  -999.00,5, -999.00,9,  -999.0,9, -999.00,9,-999.0000,9,-999.0000,9,-999.0000,9,  -999.0,9,  -999.0,9,  -0.027,2, -999.00,9,      0.001,2
09AR20071216,    CEAMARC,      90,          1,          3,          3,2,20080113,       2017,   -66.4362,   140.5330,       1169,  1169.0,  -1.7766,  34.5578,2,-999.0000,9,  -999.00,5, -999.00,9,  -999.0,9, -999.00,9,-999.0000,9,-999.0000,9,-999.0000,9,  -999.0,9,  -999.0,9,  -0.024,2, -999.00,9,      0.001,2
09AR20071216,    CEAMARC,      90,          1,          2,          2,2,20080113,       2017,   -66.4362,   140.5330,       1169,  1169.0,  -1.7764,  34.5577,2,-999.0000,9,  -999.00,5, -999.00,9,  -999.0,9, -999.00,9,-999.0000,9,-999.0000,9,-999.0000,9,  -999.0,9,  -999.0,9,  -0.030,2, -999.00,9,      0.001,2
09AR20071216,    CEAMARC,      90,          1,          1,          1,2,20080113,       2017,   -66.4362,   140.5330,       1169,  1168.3,  -1.7766,  34.5578,2,  34.5569,2,  -999.00,5,  305.85,2,    76.9,2,    2.09,2,-999.0000,9,-999.0000,9,-999.0000,9,  -999.0,9,  -999.0,9,  -0.025,2,   30.30,2,      0.001,2