BOTTLE,20230622CCHSIOENA
EXPOCODE,SECT_ID,STNNBR,CASTNO,SAMPNO,BTLNBR,BTLNBR_FLAG_W,DATE,TIME,LATITUDE,LONGITUDE,DEPTH,CTDPRS,CTDTMP,CTDSAL,CTDSAL_FLAG_W,SALNTY,SALNTY_FLAG_W,CTDOXY,CTDOXY_FLAG_W,OXYGEN,OXYGEN_FLAG_W,SILCAT,SILCAT_FLAG_W,PHSPHT,PHSPHT_FLAG_W,CFC-11,CFC-11_FLAG_W,CFC-12,CFC-12_FLAG_W,CFC113,CFC113_FLAG_W,TCARBN,TCARBN_FLAG_W,ALKALI,ALKALI_FLAG_W,FLUOR,FLUOR_FLAG_W,NO2+NO3,NO2+NO3_FLAG_W,PAR,PAR_FLAG_W
,,,,,,,,,,,METERS,DBAR,ITS-90,PSS-78,,PSS-78,,UMOL/KG,,UMOL/KG,,UMOL/KG,,UMOL/KG,,PMOL/KG,,PMOL/KG,,PMOL/KG,,UMOL/KG,,UMOL/KG,,MG/M^3,,UMOL/KG,,VOLTS,
09AR20071216,    CEAMARC,      91,          1,         24,         24,2,20080113,       2347,   -66.4367,   140.5350,       1144,     9.9,  -0.7927,  34.1646,2,  34.1657,2,   349.80,2,  349.90,2,    64.2,2,    1.66,2,   5.3595,2,   2.7607,2,   0.4365,2,  2176.4,6,  2318.7,2,   1.072,2,   25.93,2,      3.553,2
09AR20071216,    CEAMARC,      91,          1,         23,         23,2,20080113,       2347,   -66.4367,   140.5350,       1144,     9.9,  -0.7910,  34.1644,2,-999.0000,9,   349.80,2, -999.00,9,  -999.0,9, -999.00,9,-999.0000,9,-999.0000,9,-999.0000,9,  -999.0,9,  -999.0,9,   0.973,2, -999.00,9,      3.543,2
09AR20071216,    CEAMARC,      91,          1,         22,         22,2,20080113,       2347,   -66.4367,   140.5350,       1144,     9.6,  -0.7919,  34.1648,2,-999.0000,9,   349.80,2, -999.00,9,  -999.0,9, -999.00,9,-999.0000,9,-999.0000,9,-999.0000,9,  -999.0,9,  -999.0,9,   1.234,2, -999.00,9,      3.555,2
09AR20071216,    CEAMARC,      91,          1,         21,         21,2,20080113,       2347,   -66.4367,   140.5350,       1144,    49.6,  -1.4785,  34.3736,2,-999.0000,9,   333.85,2, -999.00,9,  -999.0,9, -999.00,9,-999.0000,9,-999.0000,9,-999.0000,9,  -999.0,9,  -999.0,9,   0.593,2, -999.00,9,      1.542,2
09AR20071216,    CEAMARC,      91,          1,         20,         20,2,20080113,       2347,   -66.4367,   140.5350,       1144,    49.6,  -1.4766,  34.3724,2,  34.3658,2,   333.85,2,  314.89,2,    72.1,2,    2.02,2,   4.9702,2,   2.5153,2,   0.3912,2,  2214.7,2,  2330.1,6,   0.644,2,   29.68,2,      1.539,2
09AR20071216,    CEAMARC,      91,          1,         19,         19,2,20080113,       2347,   -66.4367,   140.5350,       1144,    99.8,  -1.6215,  34.4322,2,  34.4325,2,   309.17,2,  310.53,2,    73.2,2,    2.06,2,   4.9377,2,   2.5184,2,   0.3949,2,  2221.7,2,  2332.2,6,   0.251,2,   30.27,2,      0.141,2
09AR20071216,    CEAMARC,      91,          1,         18,         18,2,20080113,       2347,   -66.4367,   140.5350,       1144,   150.4,  -1.4965,  34.4654,2,  34.4654,2,   326.46,2,  327.25,2,    72.9,2,    1.96,2,   4.9528,2,   2.6571,6,   0.4258,6,  2216.8,2,  2336.9,2,   1.103,2,   28.83,2,      0.001,2
09AR20071216,    CEAMARC,      91,          1,         17,         17,2,20080113,       2347,   -66.4367,   140.5350,       1144,   150.3,  -1.4961,  34.4654,2,-999.0000,9,   326.46,2, -999.00,9,  -999.0,9, -999.00,9,-999.0000,9,-999.0000,9,-999.0000,9,  -999.0,9,  -999.0,9,   1.061,2, -999.00,9,      0.001,2
09AR20071216,    CEAMARC,      91,          1,         16,         16,2,20080113,       2347,   -66.4367,   140.5350,       1144,   198.1,  -1.6337,  34.4806,2,  34.4830,2,   321.48,2,  319.60,2,    74.2,2,    2.01,2,   5.1624,2,   2.6102,2,   0.4312,2,  2222.9,2,  2336.9,2,   0.498,2,   29.62,2,      0.001,2
09AR20071216,    CEAMARC,      91,          1,         15,         15,2,20080113,       2347,   -66.4367,   140.5350,       1144,   198.2,  -1.6319,  34.4805,2,-999.0000,9,   321.48,2, -999.00,9,  -999.0,9, -999.00,9,-999.0000,9,-999.0000,9,-999.0000,9,  -999.0,9,  -999.0,9,   0.498,2, -999.00,9,      0.001,2
09AR20071216,    CEAMARC,      91,          1,         14,         14,2,20080113,       2347,   -66.4367,   140.5350,       1144,   300.5,  -1.7363,  34.4915,2,  34.4919,2,   315.76,2,  314.82,2,    74.8,2,    2.04,2,   5.0751,2,   2.5825,2,   0.4310,2,  2223.8,2,  2336.1,2,   0.278,2,   30.08,2,      0.001,2
09AR20071216,    CEAMARC,      91,          1,         13,         13,2,20080113,       2347,   -66.4367,   140.5350,       1144,   300.1,  -1.7367,  34.4915,2,-999.0000,9,   315.76,2, -999.00,9,  -999.0,9, -999.00,9,-999.0000,9,-999.0000,9,-999.0000,9,  -999.0,9,  -999.0,9,   0.254,2, -999.00,9,      0.001,2
09AR20071216,    CEAMARC,      91,          1,         12,         12,2,20080113,       2347,   -66.4367,   140.5350,       1144,   451.2,  -1.7171,  34.5035,2,  34.5036,2,   316.01,2,  317.34,2,    75.4,2,    2.05,2,   5.1715,2,   2.6362,2,   0.4324,2,  2226.3,2,  2337.6,2,   0.263,2,   30.07,2,      0.001,2
09AR20071216,    CEAMARC,      91,          1,         11,         11,2,20080113,       2347,   -66.4367,   140.5350,       1144,   451.0,  -1.7172,  34.5037,2,-999.0000,9,   316.01,2, -999.00,9,  -999.0,9, -999.00,9,-999.0000,9,-999.0000,9,-999.0000,9,  -999.0,9,  -999.0,9,   0.249,2, -999.00,9,      0.001,2
09AR20071216,    CEAMARC,      91,          1,         10,         10,2,20080113,       2347,   -66.4367,   140.5350,       1144,   601.1,  -1.7267,  34.5147,2,  34.5146,2,   311.07,2,  310.81,2,    76.3,2,    2.07,2,   4.9163,2,   2.5096,2,   0.3995,2,  2229.1,2,  2338.2,2,   0.085,2,   30.74,2,      0.001,2
09AR20071216,    CEAMARC,      91,          1,          9,          9,2,20080113,       2347,   -66.4367,   140.5350,       1144,   600.8,  -1.7266,  34.5146,2,-999.0000,9,   311.40,2, -999.00,9,  -999.0,9, -999.00,9,-999.0000,9,-999.0000,9,-999.0000,9,  -999.0,9,  -999.0,9,   0.089,2, -999.00,9,      0.001,2
09AR20071216,    CEAMARC,      91,          1,          8,          8,2,20080113,       2347,   -66.4367,   140.5350,       1144,   751.1,  -1.7130,  34.5309,2,  34.5305,2,   304.86,2,  304.34,2,    76.9,2,    2.09,2,   4.7873,2,   2.4754,2,   0.4001,2,  2232.4,2,  2337.6,2,  -0.017,2,   30.99,2,      0.001,2
09AR20071216,    CEAMARC,      91,          1,          7,          7,2,20080113,       2347,   -66.4367,   140.5350,       1144,   751.2,  -1.7126,  34.5309,2,-999.0000,9,   304.86,2, -999.00,9,  -999.0,9, -999.00,9,-999.0000,9,-999.0000,9,-999.0000,9,  -999.0,9,  -999.0,9,  -0.011,2, -999.00,9,      0.001,2
09AR20071216,    CEAMARC,      91,          1,          6,          6,2,20080113,       2347,   -66.4367,   140.5350,       1144,   901.0,  -1.7760,  34.5504,2,  34.5493,2,   305.24,2,  307.07,2,    76.6,2,    2.09,2,   5.0207,2,   2.5404,2,   0.0000,4,  2232.3,2,  2340.8,2,  -0.037,2,   30.99,2,      0.001,2
09AR20071216,    CEAMARC,      91,          1,          5,          5,2,20080113,       2347,   -66.4367,   140.5350,       1144,   901.3,  -1.7754,  34.5497,2,-999.0000,9,   305.24,2, -999.00,9,  -999.0,9, -999.00,9,-999.0000,9,-999.0000,9,-999.0000,9,  -999.0,9,  -999.0,9,  -0.030,2, -999.00,9,      0.001,2
09AR20071216,    CEAMARC,      91,          1,          4,          4,2,20080113,       2347,   -66.4367,   140.5350,       1144,  1051.6,  -1.7765,  34.5552,2,  34.5550,2,   305.27,2,  304.55,2,    76.9,2,    2.07,2,   4.8673,2,   2.4973,2,   0.3975,2,  2233.6,2,  2339.3,6,  -0.033,2,   30.62,2,      0.001,2
09AR20071216,    CEAMARC,      91,          1,          3,          3,2,20080113,       2347,   -66.4367,   140.5350,       1144,  1050.4,  -1.7769,  34.5553,2,-999.0000,9,   305.25,2, -999.00,9,  -999.0,9, -999.00,9,-999.0000,9,-999.0000,9,-999.0000,9,  -999.0,9,  -999.0,9,  -0.030,2, -999.00,9,      0.001,2
09AR20071216,    CEAMARC,      91,          1,          2,          2,2,20080113,       2347,   -66.4367,   140.5350,       1144,  1174.6,  -1.7753,  34.5571,2,  34.5887,4,   304.73,2,  304.59,2,    76.9,2,    2.10,2,   4.9799,2,   2.5343,2,   0.4171,2,  2234.5,6,  2341.3,2,  -0.027,2,   30.19,2,      0.001,2
09AR20071216,    CEAMARC,      91,          1,          1,          1,2,20080113,       2347,   -66.4367,   140.5350,       1144,  1174.8,  -1.7750,  34.5569,2,-999.0000,9,   304.73,2, -999.00,9,  -999.0,9, -999.00,9,-999.0000,9,-999.0000,9,-999.0000,9,  -999.0,9,  -999.0,9,  -0.029,2, -999.00,9,      0.001,2
09AR20071216,    CEAMARC,      92,          1,         24,         24,2,20080114,       0205,   -66.4370,   140.5358,       1140,  1179.3,  -1.7717,  34.5553,2,-999.0000,9,  -999.00,5, -999.00,9,  -999.0,9, -999.00,9,-999.0000,9,-999.0000,9,-999.0000,9,  -999.0,9,  -999.0,9,  -0.035,2, -999.00,9,      0.001,2
09AR20071216,    CEAMARC,      92,          1,         23,         23,2,20080114,       0205,   -66.4370,   140.5358,       1140,  1179.4,  -1.7719,  34.5554,2,-999.0000,9,  -999.00,5, -999.00,9,  -999.0,9, -999.00,9,-999.0000,9,-999.0000,9,-999.0000,9,  -999.0,9,  -999.0,9,  -0.034,2, -999.00,9,      0.001,2
09AR20071216,    CEAMARC,      92,          1,         22,         22,2,20080114,       0205,   -66.4370,   140.5358,       1140,  1179.5,  -1.7720,  34.5554,2,-999.0000,9,  -999.00,5, -999.00,9,  -999.0,9, -999.00,9,-999.0000,9,-999.0000,9,-999.0000,9,  -999.0,9,  -999.0,9,  -0.032,2, -999.00,9,      0.001,2
09AR20071216,    CEAMARC,      92,          1,         21,         21,2,20080114,       0205,   -66.4370,   140.5358,       1140,  1179.2,  -1.7723,  34.5556,2,-999.0000,9,  -999.00,5, -999.00,9,  -999.0,9, -999.00,9,-999.0000,9,-999.0000,9,-999.0000,9,  -999.0,9,  -999.0,9,  -0.026,2, -999.00,9,      0.001,2
09AR20071216,    CEAMARC,      92,          1,         20,         20,2,20080114,       0205,   -66.4370,   140.5358,       1140,  1178.7,  -1.7723,  34.5556,2,-999.0000,9,  -999.00,5, -999.00,9,  -999.0,9, -999.00,9,-999.0000,9,-999.0000,9,-999.0000,9,  -999.0,9,  -999.0,9,  -0.032,2, -999.00,9,      0.001,2
09AR20071216,    CEAMARC,      92,          1,         19,         19,2,20080114,       0205,   -66.4370,   140.5358,       1140,  1178.2,  -1.7722,  34.5554,2,-999.0000,9,  -999.00,5, -999.00,9,  -999.0,9, -999.00,9,-999.0000,9,-999.0000,9,-999.0000,9,  -999.0,9,  -999.0,9,  -0.030,2, -999.00,9,      0.001,2
09AR20071216,    CEAMARC,      92,          1,         18,         18,2,20080114,       0205,   -66.4370,   140.5358,       1140,  1177.9,  -1.7722,  34.5556,2,-999.0000,9,  -999.00,5, -999.00,9,  -999.0,9, -999.00,9,-999.0000,9,-999.0000,9,-999.0000,9,  -999.0,9,  -999.0,9,  -0.032,2, -999.00,9,      0.001,2
09AR20071216,    CEAMARC,      92,          1,         17,         17,2,20080114,       0205,   -66.4370,   140.5358,       1140,  1177.2,  -1.7722,  34.5557,2,-999.0000,9,  -999.00,5, -999.00,9,  -999.0,9, -999.00,9,-999.0000,9,-999.0000,9,-999.0000,9,  -999.0,9,  -999.0,9,  -0.031,2, -999.00,9,      0.001,2
09AR20071216,    CEAMARC,      92,          1,         16,         16,2,20080114,       0205,   -66.4370,   140.5358,       1140,  1177.7,  -1.7724,  34.5557,2,-999.0000,9,  -999.00,5, -999.00,9,  -999.0,9, -999.00,9,-999.0000,9,-999.0000,9,-999.0000,9,  -999.0,9,  -999.0,9,  -0.029,2, -999.00,9,      0.001,2
09AR20071216,    CEAMARC,      92,          1,         15,         15,2,20080114,       0205,   -66.4370,   140.5358,       1140,  1177.8,  -1.7724,  34.5556,2,-999.0000,9,  -999.00,5, -999.00,9,  -999.0,9, -999.00,9,-999.0000,9,-999.0000,9,-999.0000,9,  -999.0,9,  -999.0,9,  -0.030,2, -999.00,9,      0.001,2
09AR20071216,    CEAMARC,      92,          1,         14,         14,2,20080114,       0205,   -66.4370,   140.5358,       1140,  1177.4,  -1.7729,  34.5560,2,-999.0000,9,  -999.00,5, -999.00,9,  -999.0,9, -999.00,9,-999.0000,9,-999.0000,9,-999.0000,9,  -999.0,9,  -999.0,9,  -0.029,2, -999.00,9,      0.001,2
09AR20071216,    CEAMARC,      92,          1,         13,         13,2,20080114,       0205,   -66.4370,   140.5358,       1140,  1177.1,  -1.7730,  34.5560,2,-999.0000,9,  -999.00,5, -999.00,9,  -999.0,9, -999.00,9,-999.0000,9,-999.0000,9,-999.0000,9,  -999.0,9,  -999.0,9,  -0.030,2, -999.00,9,      0.001,2
09AR20071216,    CEAMARC,      92,          1,         12,         12,2,20080114,       0205,   -66.4370,   140.5358,       1140,  1176.9,  -1.7731,  34.5562,2,-999.0000,9,  -999.00,5, -999.00,9,  -999.0,9, -999.00,9,-999.0000,9,-999.0000,9,-999.0000,9,  -999.0,9,  -999.0,9,  -0.032,2, -999.00,9,      0.001,2
09AR20071216,    CEAMARC,      92,          1,         11,         11,2,20080114,       0205,   -66.4370,   140.5358,       1140,  1177.0,  -1.7731,  34.5561,2,-999.0000,9,  -999.00,5, -999.00,9,  -999.0,9, -999.00,9,-999.0000,9,-999.0000,9,-999.0000,9,  -999.0,9,  -999.0,9,  -0.029,2, -999.00,9,      0.001,2
09AR20071216,    CEAMARC,      92,          1,         10,         10,2,20080114,       0205,   -66.4370,   140.5358,       1140,  1177.2,  -1.7728,  34.5560,2,-999.0000,9,  -999.00,5, -999.00,9,  -999.0,9, -999.00,9,-999.0000,9,-999.0000,9,-999.0000,9,  -999.0,9,  -999.0,9,  -0.031,2, -999.00,9,      0.001,2
09AR20071216,    CEAMARC,      92,          1,          9,          9,2,20080114,       0205,   -66.4370,   140.5358,       1140,  1177.4,  -1.7728,  34.5559,2,-999.0000,9,  -999.00,5, -999.00,9,  -999.0,9, -999.00,9,-999.0000,9,-999.0000,9,-999.0000,9,  -999.0,9,  -999.0,9,  -0.029,2, -999.00,9,      0.001,2
09AR20071216,    CEAMARC,      92,          1,          8,          8,2,20080114,       0205,   -66.4370,   140.5358,       1140,  1176.7,  -1.7728,  34.5559,2,-999.0000,9,  -999.00,5, -999.00,9,  -999.0,9, -999.00,9,-999.0000,9,-999.0000,9,-999.0000,9,  -999.0,9,  -999.0,9,  -0.031,2, -999.00,9,      0.001,2
09AR20071216,    CEAMARC,      92,          1,          7,          7,2,20080114,       0205,   -66.4370,   140.5358,       1140,  1176.7,  -1.7725,  34.5557,2,-999.0000,9,  -999.00,5, -999.00,9,  -999.0,9, -999.00,9,-999.0000,9,-999.0000,9,-999.0000,9,  -999.0,9,  -999.0,9,  -0.033,2, -999.00,9,      0.001,2
09AR20071216,    CEAMARC,      92,          1,          6,          6,2,20080114,       0205,   -66.4370,   140.5358,       1140,  1176.8,  -1.7728,  34.5559,2,-999.0000,9,  -999.00,5, -999.00,9,  -999.0,9, -999.00,9,-999.0000,9,-999.0000,9,-999.0000,9,  -999.0,9,  -999.0,9,  -0.032,2, -999.00,9,      0.001,2
09AR20071216,    CEAMARC,      92,          1,          5,          5,2,20080114,       0205,   -66.4370,   140.5358,       1140,  1176.7,  -1.7726,  34.5558,2,-999.0000,9,  -999.00,5, -999.00,9,  -999.0,9, -999.00,9,-999.0000,9,-999.0000,9,-999.0000,9,  -999.0,9,  -999.0,9,  -0.033,2, -999.00,9,      0.001,2
09AR20071216,    CEAMARC,      92,          1,          4,          4,2,20080114,       0205,   -66.4370,   140.5358,       1140,  1176.9,  -1.7725,  34.5558,2,-999.0000,9,  -999.00,5, -999.00,9,  -999.0,9, -999.00,9,-999.0000,9,-999.0000,9,-999.0000,9,  -999.0,9,  -999.0,9,  -0.033,2, -999.00,9,      0.001,2
09AR20071216,    CEAMARC,      92,          1,          3,          3,2,20080114,       0205,   -66.4370,   140.5358,       1140,  1176.7,  -1.7729,  34.5559,2,-999.0000,9,  -999.00,5, -999.00,9,  -999.0,9, -999.00,9,-999.0000,9,-999.0000,9,-999.0000,9,  -999.0,9,  -999.0,9,  -0.031,2, -999.00,9,      0.001,2
09AR20071216,    CEAMARC,      92,          1,          2,          2,2,20080114,       0205,   -66.4370,   140.5358,       1140,  1176.2,  -1.7730,  34.5559,2,-999.0000,9,  -999.00,5, -999.00,9,  -999.0,9, -999.00,9,-999.0000,9,-999.0000,9,-999.0000,9,  -999.0,9,  -999.0,9,  -0.028,2, -999.00,9,      0.001,2
09AR20071216,    CEAMARC,      92,          1,          1,          1,2,20080114,       0205,   -66.4370,   140.5358,       1140,  1181.5,  -1.7738,  34.5566,2,  34.5560,2,  -999.00,5,  306.59,2,    77.8,2,    2.12,2,-999.0000,9,-999.0000,9,-999.0000,9,  -999.0,9,  -999.0,9,  -0.032,2,   31.25,2,      0.001,2