BOTTLE,20230622CCHSIOENA
EXPOCODE,SECT_ID,STNNBR,CASTNO,SAMPNO,BTLNBR,BTLNBR_FLAG_W,DATE,TIME,LATITUDE,LONGITUDE,DEPTH,CTDPRS,CTDTMP,CTDSAL,CTDSAL_FLAG_W,SALNTY,SALNTY_FLAG_W,CTDOXY,CTDOXY_FLAG_W,OXYGEN,OXYGEN_FLAG_W,SILCAT,SILCAT_FLAG_W,PHSPHT,PHSPHT_FLAG_W,CFC-11,CFC-11_FLAG_W,CFC-12,CFC-12_FLAG_W,CFC113,CFC113_FLAG_W,TCARBN,TCARBN_FLAG_W,ALKALI,ALKALI_FLAG_W,FLUOR,FLUOR_FLAG_W,NO2+NO3,NO2+NO3_FLAG_W,PAR,PAR_FLAG_W
,,,,,,,,,,,METERS,DBAR,ITS-90,PSS-78,,PSS-78,,UMOL/KG,,UMOL/KG,,UMOL/KG,,UMOL/KG,,PMOL/KG,,PMOL/KG,,PMOL/KG,,UMOL/KG,,UMOL/KG,,MG/M^3,,UMOL/KG,,VOLTS,
09AR20071216,    CEAMARC,     107,          1,         24,         24,2,20080116,       1733,   -65.4698,   139.3442,        754,     9.7,   0.4275,  33.6155,2,  33.6206,2,   351.72,2,  352.15,2,    39.7,2,    1.70,2,   6.3554,2,   3.2730,2,   0.5097,2,  2140.8,2,  2279.1,2,   2.171,2,   25.89,2,      2.174,2
09AR20071216,    CEAMARC,     107,          1,         23,         23,2,20080116,       1733,   -65.4698,   139.3442,        754,     9.7,   0.4136,  33.6210,2,-999.0000,9,   351.72,2, -999.00,9,  -999.0,9, -999.00,9,-999.0000,9,-999.0000,9,-999.0000,9,  -999.0,9,  -999.0,9,   2.186,2, -999.00,9,      2.175,2
09AR20071216,    CEAMARC,     107,          1,         22,         22,2,20080116,       1733,   -65.4698,   139.3442,        754,     9.7,   0.4234,  33.6178,2,-999.0000,9,   351.72,2, -999.00,9,  -999.0,9, -999.00,9,-999.0000,9,-999.0000,9,-999.0000,9,  -999.0,9,  -999.0,9,   2.182,2, -999.00,9,      2.171,2
09AR20071216,    CEAMARC,     107,          1,         21,         21,2,20080116,       1733,   -65.4698,   139.3442,        754,     9.7,   0.4384,  33.6122,2,-999.0000,9,   351.72,2, -999.00,9,  -999.0,9, -999.00,9,-999.0000,9,-999.0000,9,-999.0000,9,  -999.0,9,  -999.0,9,   2.190,2, -999.00,9,      2.169,2
09AR20071216,    CEAMARC,     107,          1,         20,         20,2,20080116,       1733,   -65.4698,   139.3442,        754,    29.1,   0.5517,  33.6791,2,  33.6645,2,   349.51,2,  349.01,2,    40.0,2,    1.74,2,   6.1982,2,   3.2264,2,   0.4669,2,  2150.4,2,  2282.6,6,   1.635,2,   26.47,2,      1.568,2
09AR20071216,    CEAMARC,     107,          1,         19,         19,2,20080116,       1733,   -65.4698,   139.3442,        754,    29.1,   0.5353,  33.6748,2,-999.0000,9,   349.51,2, -999.00,9,  -999.0,9, -999.00,9,-999.0000,9,-999.0000,9,-999.0000,9,  -999.0,9,  -999.0,9,   1.680,2, -999.00,9,      1.569,2
09AR20071216,    CEAMARC,     107,          1,         18,         18,2,20080116,       1733,   -65.4698,   139.3442,        754,    59.9,  -1.5441,  34.1914,2,  34.1896,2,   334.56,2,  331.24,2,    52.2,2,    1.97,2,   5.3015,6,   2.7862,6,   0.4297,6,  2191.4,2,  2316.2,2,   1.622,2,   28.70,2,      0.699,2
09AR20071216,    CEAMARC,     107,          1,         17,         17,2,20080116,       1733,   -65.4698,   139.3442,        754,    59.9,  -1.5442,  34.1914,2,-999.0000,9,   334.56,2, -999.00,9,  -999.0,9, -999.00,9,-999.0000,9,-999.0000,9,-999.0000,9,  -999.0,9,  -999.0,9,   1.544,2, -999.00,9,      0.701,2
09AR20071216,    CEAMARC,     107,          1,         16,         16,2,20080116,       1733,   -65.4698,   139.3442,        754,    99.7,  -1.6626,  34.3347,2,  34.3353,2,   305.19,2,  306.51,2,    62.5,2,    2.08,2,   4.9369,2,   2.5308,2,   0.3843,2,  2219.1,4,  2323.5,2,   0.414,2,   30.12,2,      0.001,2
09AR20071216,    CEAMARC,     107,          1,         15,         15,2,20080116,       1733,   -65.4698,   139.3442,        754,    99.5,  -1.6625,  34.3345,2,-999.0000,9,   305.19,2, -999.00,9,  -999.0,9, -999.00,9,-999.0000,9,-999.0000,9,-999.0000,9,  -999.0,9,  -999.0,9,   0.403,2, -999.00,9,      0.001,2
09AR20071216,    CEAMARC,     107,          1,         14,         14,2,20080116,       1733,   -65.4698,   139.3442,        754,   150.1,  -1.4687,  34.4137,2,  34.4136,2,   287.13,2,  286.98,2,    70.2,2,    2.11,2,   4.3264,2,   2.2510,2,   0.3363,2,  2222.3,2,  2330.7,2,   0.116,2,   30.54,2,      0.001,2
09AR20071216,    CEAMARC,     107,          1,         13,         13,2,20080116,       1733,   -65.4698,   139.3442,        754,   150.0,  -1.4671,  34.4142,2,-999.0000,9,   287.13,2, -999.00,9,  -999.0,9, -999.00,9,-999.0000,9,-999.0000,9,-999.0000,9,  -999.0,9,  -999.0,9,   0.118,2, -999.00,9,      0.001,2
09AR20071216,    CEAMARC,     107,          1,         12,         12,2,20080116,       1733,   -65.4698,   139.3442,        754,   200.1,  -1.4243,  34.4480,2,  34.4483,2,   286.27,2,  287.24,2,    73.6,2,    2.11,2,   4.4290,2,   2.2866,2,   0.3424,2,  2224.6,2,  2334.8,6,   0.000,2,   30.26,3,      0.001,2
09AR20071216,    CEAMARC,     107,          1,         11,         11,2,20080116,       1733,   -65.4698,   139.3442,        754,   200.1,  -1.4239,  34.4481,2,-999.0000,9,   286.27,2, -999.00,9,  -999.0,9, -999.00,9,-999.0000,9,-999.0000,9,-999.0000,9,  -999.0,9,  -999.0,9,  -0.001,2, -999.00,9,      0.001,2
09AR20071216,    CEAMARC,     107,          1,         10,         10,2,20080116,       1733,   -65.4698,   139.3442,        754,   300.4,  -1.0445,  34.5056,2,  34.5056,2,   275.84,2, -999.00,9,    79.9,2,    2.11,2,   3.7660,2,   1.9910,2,   0.3049,2,  2236.2,3,  2339.8,2,   0.057,2,   29.61,3,      0.001,2
09AR20071216,    CEAMARC,     107,          1,          9,          9,2,20080116,       1733,   -65.4698,   139.3442,        754,   300.2,  -1.0436,  34.5057,2,-999.0000,9,   275.84,2, -999.00,9,  -999.0,9, -999.00,9,-999.0000,9,-999.0000,9,-999.0000,9,  -999.0,9,  -999.0,9,   0.059,2, -999.00,9,      0.001,2
09AR20071216,    CEAMARC,     107,          1,          8,          8,2,20080116,       1733,   -65.4698,   139.3442,        754,   399.8,  -0.2522,  34.6036,2,  34.6025,2,   243.24,2,  242.72,2,    92.7,2,    2.14,2,   2.3122,2,   1.2124,2,   0.1695,2,  2243.3,2,  2347.5,2,  -0.003,2,   30.02,3,      0.001,2
09AR20071216,    CEAMARC,     107,          1,          7,          7,2,20080116,       1733,   -65.4698,   139.3442,        754,   399.7,  -0.2515,  34.6038,2,-999.0000,9,   243.24,2, -999.00,9,  -999.0,9, -999.00,9,-999.0000,9,-999.0000,9,-999.0000,9,  -999.0,9,  -999.0,9,  -0.007,2, -999.00,9,      0.001,2
09AR20071216,    CEAMARC,     107,          1,          6,          6,2,20080116,       1733,   -65.4698,   139.3442,        754,   499.7,  -0.5904,  34.5968,2,  34.5970,2,   253.55,2,  254.84,2,    90.8,2,    2.14,2,   2.8374,2,   1.4827,2,   0.2162,2,  2243.1,2,  2347.4,2,  -0.013,2,   30.35,3,      0.001,2
09AR20071216,    CEAMARC,     107,          1,          5,          5,2,20080116,       1733,   -65.4698,   139.3442,        754,   498.5,  -0.5889,  34.5970,2,-999.0000,9,   251.68,2, -999.00,9,  -999.0,9, -999.00,9,-999.0000,9,-999.0000,9,-999.0000,9,  -999.0,9,  -999.0,9,  -0.012,2, -999.00,9,      0.001,2
09AR20071216,    CEAMARC,     107,          1,          4,          4,2,20080116,       1733,   -65.4698,   139.3442,        754,   650.5,  -0.4856,  34.6161,2,  34.6166,2,   249.52,2,  248.58,2,    95.2,2,    2.17,2,   2.5671,2,   1.3506,2,   0.1909,2,    2244,2,  2350.6,6,  -0.024,2,   31.47,2,      0.001,2
09AR20071216,    CEAMARC,     107,          1,          3,          3,2,20080116,       1733,   -65.4698,   139.3442,        754,   650.0,  -0.4853,  34.6159,2,-999.0000,9,   249.52,2, -999.00,9,  -999.0,9, -999.00,9,-999.0000,9,-999.0000,9,-999.0000,9,  -999.0,9,  -999.0,9,  -0.023,2, -999.00,9,      0.001,2
09AR20071216,    CEAMARC,     107,          1,          2,          2,2,20080116,       1733,   -65.4698,   139.3442,        754,   745.8,  -0.4456,  34.6214,2,  34.6217,2,   247.68,2,  248.19,2,    96.1,2,    2.17,2,   2.4838,2,   1.2993,2,   0.1940,2,  2244.7,6,  2348.8,2,  -0.024,2,   31.28,2,      0.001,2
09AR20071216,    CEAMARC,     107,          1,          1,          1,2,20080116,       1733,   -65.4698,   139.3442,        754,   745.6,  -0.4448,  34.6216,2,-999.0000,9,   247.68,2, -999.00,9,  -999.0,9, -999.00,9,-999.0000,9,-999.0000,9,-999.0000,9,  -999.0,9,  -999.0,9,  -0.027,2, -999.00,9,      0.001,2
09AR20071216,    CEAMARC,     108,          1,         24,         24,2,20080117,       1304,   -65.6477,   140.4388,       1161,     4.5,   0.7487,  33.6413,2,  33.6428,2,   345.86,2,  347.33,2,    40.6,2,    1.72,2,   6.3844,2,   3.2963,2,   0.5081,2,  2148.6,6,    2276,2,   1.303,2,   26.33,2,      0.626,2
09AR20071216,    CEAMARC,     108,          1,         23,         23,2,20080117,       1304,   -65.6477,   140.4388,       1161,     4.5,   0.7490,  33.6410,2,-999.0000,9,   345.86,2, -999.00,9,  -999.0,9, -999.00,9,-999.0000,9,-999.0000,9,-999.0000,9,  -999.0,9,  -999.0,9,   1.273,2, -999.00,9,      0.612,2
09AR20071216,    CEAMARC,     108,          1,         22,         22,2,20080117,       1304,   -65.6477,   140.4388,       1161,     4.4,   0.7513,  33.6406,2,-999.0000,9,   345.86,2, -999.00,9,  -999.0,9, -999.00,9,-999.0000,9,-999.0000,9,-999.0000,9,  -999.0,9,  -999.0,9,   1.256,2, -999.00,9,      0.604,2
09AR20071216,    CEAMARC,     108,          1,         21,         21,2,20080117,       1304,   -65.6477,   140.4388,       1161,     4.5,   0.7567,  33.6404,2,-999.0000,9,   345.86,2, -999.00,9,  -999.0,9, -999.00,9,-999.0000,9,-999.0000,9,-999.0000,9,  -999.0,9,  -999.0,9,   1.280,2, -999.00,9,      0.601,2
09AR20071216,    CEAMARC,     108,          1,         20,         20,2,20080117,       1304,   -65.6477,   140.4388,       1161,    29.3,  -0.5740,  33.8305,2,  33.8502,2,   348.19,2,  349.91,2,    42.7,2,    1.79,2,   5.9856,2,   3.1180,2,   0.4851,2,  2163.1,2,  2289.7,6,   2.022,2,   26.84,2,      0.001,2
09AR20071216,    CEAMARC,     108,          1,         19,         19,2,20080117,       1304,   -65.6477,   140.4388,       1161,    58.4,  -1.4722,  34.1864,2,  34.1845,2,   334.72,2,  334.41,2,    52.1,2,    1.92,2,   4.9984,2,   2.5998,2,   0.4164,2,  2192.7,2,  2312.2,2,   1.923,2,   28.26,2,      0.001,2
09AR20071216,    CEAMARC,     108,          1,         18,         18,2,20080117,       1304,   -65.6477,   140.4388,       1161,   100.5,  -1.5830,  34.3201,2,  34.3192,2,   314.98,2,  317.99,2,    61.8,2,    2.03,2,   5.2063,2,   2.6921,2,   0.4174,2,  2212.3,2,  2321.7,6,   0.607,2,   29.31,2,      0.001,2
09AR20071216,    CEAMARC,     108,          1,         17,         17,2,20080117,       1304,   -65.6477,   140.4388,       1161,    99.7,  -1.5871,  34.3190,2,-999.0000,9,   314.98,2, -999.00,9,  -999.0,9, -999.00,9,-999.0000,9,-999.0000,9,-999.0000,9,  -999.0,9,  -999.0,9,   0.621,2, -999.00,9,      0.001,2
09AR20071216,    CEAMARC,     108,          1,         16,         16,2,20080117,       1304,   -65.6477,   140.4388,       1161,   200.2,  -1.3081,  34.4524,2,  34.4521,2,   285.81,2,  283.02,2,    75.3,2,    2.11,2,   4.0104,2,   2.1083,2,   0.3335,2,  2229.8,2,  2328.6,2,   0.033,2,   30.84,2,      0.001,2
09AR20071216,    CEAMARC,     108,          1,         15,         15,2,20080117,       1304,   -65.6477,   140.4388,       1161,   299.2,  -0.5815,  34.5338,2,  34.5334,2,   252.90,2,  253.33,2,    84.1,2,    2.15,2,   2.9371,2,   1.5403,2,   0.2316,2,  2238.1,2,  2334.3,2,  -0.035,2,   31.24,2,      0.001,2
09AR20071216,    CEAMARC,     108,          1,         14,         14,2,20080117,       1304,   -65.6477,   140.4388,       1161,   400.9,   0.0238,  34.6014,2,  34.6003,2,   234.04,2,  232.21,2,    92.0,2,    2.18,2,   2.1178,2,   1.0991,2,   0.1643,2,  2245.6,2,  2341.7,2,  -0.034,2,   31.38,2,      0.001,2
09AR20071216,    CEAMARC,     108,          1,         13,         13,2,20080117,       1304,   -65.6477,   140.4388,       1161,   401.0,   0.0255,  34.6013,2,-999.0000,9,   233.51,2, -999.00,9,  -999.0,9, -999.00,9,-999.0000,9,-999.0000,9,-999.0000,9,  -999.0,9,  -999.0,9,  -0.035,2, -999.00,9,      0.001,2
09AR20071216,    CEAMARC,     108,          1,         12,         12,2,20080117,       1304,   -65.6477,   140.4388,       1161,   550.8,   0.1954,  34.6369,2,  34.6374,2,   223.02,2,  223.52,2,   100.6,2,    2.20,2,   1.4991,2,   0.7796,2,   0.1113,2,    2253,2,    2346,2,  -0.037,2,   31.64,2,      0.001,2
09AR20071216,    CEAMARC,     108,          1,         11,         11,2,20080117,       1304,   -65.6477,   140.4388,       1161,   550.8,   0.1959,  34.6369,2,-999.0000,9,   223.02,2, -999.00,9,  -999.0,9, -999.00,9,-999.0000,9,-999.0000,9,-999.0000,9,  -999.0,9,  -999.0,9,  -0.038,2, -999.00,9,      0.001,2
09AR20071216,    CEAMARC,     108,          1,         10,         10,2,20080117,       1304,   -65.6477,   140.4388,       1161,   750.7,   0.2375,  34.6644,2,  34.6646,2,   218.70,2,  219.81,2,   109.7,2,    2.21,2,   1.1477,2,   0.5886,2,   0.0806,2,  2254.3,2,  2350.2,2,  -0.036,2,   31.82,2,      0.001,2
09AR20071216,    CEAMARC,     108,          1,          9,          9,2,20080117,       1304,   -65.6477,   140.4388,       1161,   750.8,   0.2367,  34.6643,2,-999.0000,9,   218.70,2, -999.00,9,  -999.0,9, -999.00,9,-999.0000,9,-999.0000,9,-999.0000,9,  -999.0,9,  -999.0,9,  -0.039,2, -999.00,9,      0.001,2
09AR20071216,    CEAMARC,     108,          1,          8,          8,2,20080117,       1304,   -65.6477,   140.4388,       1161,   849.4,  -0.1395,  34.6489,2,  34.6495,2,   234.15,2,  234.84,2,   105.2,2,    2.21,2,   1.7711,2,   0.9220,2,   0.1274,2,  2252.4,2,    2351,2,  -0.031,2,   31.65,2,      0.001,2
09AR20071216,    CEAMARC,     108,          1,          7,          7,2,20080117,       1304,   -65.6477,   140.4388,       1161,   849.4,  -0.1395,  34.6489,2,-999.0000,9,   234.15,2, -999.00,9,  -999.0,9, -999.00,9,-999.0000,9,-999.0000,9,-999.0000,9,  -999.0,9,  -999.0,9,  -0.032,2, -999.00,9,      0.001,2
09AR20071216,    CEAMARC,     108,          1,          6,          6,2,20080117,       1304,   -65.6477,   140.4388,       1161,  1000.4,  -0.3739,  34.6416,2,-999.0000,9,   242.00,2, -999.00,9,  -999.0,9, -999.00,9,-999.0000,9,-999.0000,9,-999.0000,9,  -999.0,9,  -999.0,9,  -0.035,2, -999.00,9,      0.001,2
09AR20071216,    CEAMARC,     108,          1,          5,          5,2,20080117,       1304,   -65.6477,   140.4388,       1161,  1000.8,  -0.3748,  34.6413,2,  34.6413,2,   242.00,2,  243.37,2,   102.4,2,    2.20,2,   2.1152,2,   1.1156,2,   0.1618,2,    2251,2,    2350,2,  -0.037,2,   31.43,2,      0.001,2
09AR20071216,    CEAMARC,     108,          1,          4,          4,2,20080117,       1304,   -65.6477,   140.4388,       1161,  1148.3,  -0.4309,  34.6387,2,  34.6389,2,   246.70,2,  245.92,2,   101.4,2,    2.19,2,   2.2539,2,   1.1878,2,   0.1726,2,  2249.8,2,    2346,6,  -0.036,2,   31.47,2,      0.001,2
09AR20071216,    CEAMARC,     108,          1,          3,          3,2,20080117,       1304,   -65.6477,   140.4388,       1161,  1148.5,  -0.4298,  34.6386,2,-999.0000,9,   246.70,2, -999.00,9,  -999.0,9, -999.00,9,-999.0000,9,-999.0000,9,-999.0000,9,  -999.0,9,  -999.0,9,  -0.037,2, -999.00,9,      0.001,2
09AR20071216,    CEAMARC,     108,          1,          2,          2,2,20080117,       1304,   -65.6477,   140.4388,       1161,  1186.5,  -0.4487,  34.6378,2,  34.6384,2,   246.43,2,  247.23,2,   100.7,2,    2.19,2,   2.3270,2,   1.2184,2,   0.1721,2,  2249.6,6,  2348.2,2,  -0.036,2,   31.39,2,      0.001,2
09AR20071216,    CEAMARC,     108,          1,          1,          1,2,20080117,       1304,   -65.6477,   140.4388,       1161,  1186.0,  -0.4496,  34.6376,2,-999.0000,9,   246.43,2, -999.00,9,  -999.0,9, -999.00,9,-999.0000,9,-999.0000,9,-999.0000,9,  -999.0,9,  -999.0,9,  -0.037,2, -999.00,9,      0.001,2