BOTTLE,20230622CCHSIOENA
EXPOCODE,SECT_ID,STNNBR,CASTNO,SAMPNO,BTLNBR,BTLNBR_FLAG_W,DATE,TIME,LATITUDE,LONGITUDE,DEPTH,CTDPRS,CTDTMP,CTDSAL,CTDSAL_FLAG_W,SALNTY,SALNTY_FLAG_W,CTDOXY,CTDOXY_FLAG_W,OXYGEN,OXYGEN_FLAG_W,SILCAT,SILCAT_FLAG_W,PHSPHT,PHSPHT_FLAG_W,CFC-11,CFC-11_FLAG_W,CFC-12,CFC-12_FLAG_W,CFC113,CFC113_FLAG_W,TCARBN,TCARBN_FLAG_W,ALKALI,ALKALI_FLAG_W,FLUOR,FLUOR_FLAG_W,NO2+NO3,NO2+NO3_FLAG_W,PAR,PAR_FLAG_W
,,,,,,,,,,,METERS,DBAR,ITS-90,PSS-78,,PSS-78,,UMOL/KG,,UMOL/KG,,UMOL/KG,,UMOL/KG,,PMOL/KG,,PMOL/KG,,PMOL/KG,,UMOL/KG,,UMOL/KG,,MG/M^3,,UMOL/KG,,VOLTS,
09AR20071216,       CASO,      79,          1,         24,         24,2,20080111,       0612,   -66.0378,   146.5218,        282,     5.3,  -0.1929,  34.2421,2,  34.2428,2,   367.63,2,  368.36,2,    52.3,2, -999.00,9,   6.0104,2,   3.0796,2,   0.4727,2,  2159.6,6,  2328.2,2,   3.414,2,   22.11,3,      2.601,2
09AR20071216,       CASO,      79,          1,         23,         23,2,20080111,       0612,   -66.0378,   146.5218,        282,     5.1,  -0.1856,  34.2422,2,-999.0000,9,   367.63,2, -999.00,9,  -999.0,9, -999.00,9,-999.0000,9,-999.0000,9,-999.0000,9,  -999.0,9,  -999.0,9,   3.609,2, -999.00,9,      2.620,2
09AR20071216,       CASO,      79,          1,         22,         22,2,20080111,       0612,   -66.0378,   146.5218,        282,     5.1,  -0.1970,  34.2420,2,-999.0000,9,   367.63,2, -999.00,9,  -999.0,9, -999.00,9,-999.0000,9,-999.0000,9,-999.0000,9,  -999.0,9,  -999.0,9,   4.071,2, -999.00,9,      2.623,2
09AR20071216,       CASO,      79,          1,         21,         21,2,20080111,       0612,   -66.0378,   146.5218,        282,     5.2,  -0.2106,  34.2426,2,-999.0000,9,   367.63,2, -999.00,9,  -999.0,9, -999.00,9,-999.0000,9,-999.0000,9,-999.0000,9,  -999.0,9,  -999.0,9,   8.052,2, -999.00,9,      2.619,2
09AR20071216,       CASO,      79,          1,         20,         20,2,20080111,       0612,   -66.0378,   146.5218,        282,    35.0,  -0.2715,  34.2642,2,  34.2579,2,   367.04,2,  366.27,2,    52.8,2, -999.00,9,   6.0285,2,   3.1036,2,   0.4679,2,  2162.8,2,  2331.1,6,  15.641,2,   22.54,3,      0.411,2
09AR20071216,       CASO,      79,          1,         19,         19,2,20080111,       0612,   -66.0378,   146.5218,        282,    35.0,  -0.2681,  34.2628,2,-999.0000,9,   367.04,2, -999.00,9,  -999.0,9, -999.00,9,-999.0000,9,-999.0000,9,-999.0000,9,  -999.0,9,  -999.0,9,  15.225,2, -999.00,9,      0.461,2
09AR20071216,       CASO,      79,          1,         18,         18,2,20080111,       0612,   -66.0378,   146.5218,        282,    34.9,  -0.2653,  34.2615,2,-999.0000,9,   367.04,2, -999.00,9,  -999.0,9, -999.00,9,-999.0000,9,-999.0000,9,-999.0000,9,  -999.0,9,  -999.0,9,  15.967,2, -999.00,9,      0.447,2
09AR20071216,       CASO,      79,          1,         17,         17,2,20080111,       0612,   -66.0378,   146.5218,        282,    34.8,  -0.2617,  34.2597,2,-999.0000,9,   367.04,2, -999.00,9,  -999.0,9, -999.00,9,-999.0000,9,-999.0000,9,-999.0000,9,  -999.0,9,  -999.0,9,  15.066,2, -999.00,9,      0.423,2
09AR20071216,       CASO,      79,          1,         16,         16,2,20080111,       0612,   -66.0378,   146.5218,        282,    35.0,  -0.2548,  34.2558,2,-999.0000,9,   366.64,2, -999.00,9,  -999.0,9, -999.00,9,-999.0000,9,-999.0000,9,-999.0000,9,  -999.0,9,  -999.0,9,  15.453,2, -999.00,9,      0.463,2
09AR20071216,       CASO,      79,          1,         15,         15,2,20080111,       0612,   -66.0378,   146.5218,        282,    35.0,  -0.2531,  34.2541,2,-999.0000,9,   367.04,2, -999.00,9,  -999.0,9, -999.00,9,-999.0000,9,-999.0000,9,-999.0000,9,  -999.0,9,  -999.0,9,  14.911,2, -999.00,9,      0.542,2
09AR20071216,       CASO,      79,          1,         14,         14,2,20080111,       0612,   -66.0378,   146.5218,        282,   100.0,  -1.5806,  34.4015,2,-999.0000,9,   311.64,2, -999.00,9,  -999.0,9, -999.00,9,-999.0000,9,-999.0000,9,-999.0000,9,  -999.0,9,  -999.0,9,   0.673,2, -999.00,9,      0.001,2
09AR20071216,       CASO,      79,          1,         13,         13,2,20080111,       0612,   -66.0378,   146.5218,        282,   100.1,  -1.5817,  34.4016,2,-999.0000,9,   311.64,2, -999.00,9,  -999.0,9, -999.00,9,-999.0000,9,-999.0000,9,-999.0000,9,  -999.0,9,  -999.0,9,   0.762,2, -999.00,9,      0.001,2
09AR20071216,       CASO,      79,          1,         12,         12,2,20080111,       0612,   -66.0378,   146.5218,        282,   100.1,  -1.5869,  34.4015,2,  34.4007,2,   311.64,2,  310.93,2,    75.3,2,    2.04,2,   4.9221,2,   2.5620,2,   0.3910,2,  2221.4,2,  2333.6,6,   0.736,2,   30.74,3,      0.001,2
09AR20071216,       CASO,      79,          1,         11,         11,2,20080111,       0612,   -66.0378,   146.5218,        282,   100.1,  -1.5849,  34.4005,2,-999.0000,9,   311.64,2, -999.00,9,  -999.0,9, -999.00,9,-999.0000,9,-999.0000,9,-999.0000,9,  -999.0,9,  -999.0,9,   0.865,2, -999.00,9,      0.001,2
09AR20071216,       CASO,      79,          1,         10,         10,2,20080111,       0612,   -66.0378,   146.5218,        282,   141.6,  -1.5524,  34.4223,2,-999.0000,9,   309.54,2, -999.00,9,  -999.0,9, -999.00,9,-999.0000,9,-999.0000,9,-999.0000,9,  -999.0,9,  -999.0,9,   0.571,2, -999.00,9,      0.001,2
09AR20071216,       CASO,      79,          1,          9,          9,2,20080111,       0612,   -66.0378,   146.5218,        282,   141.5,  -1.5522,  34.4224,2,-999.0000,9,   309.54,2, -999.00,9,  -999.0,9, -999.00,9,-999.0000,9,-999.0000,9,-999.0000,9,  -999.0,9,  -999.0,9,   0.761,2, -999.00,9,      0.001,2
09AR20071216,       CASO,      79,          1,          8,          8,2,20080111,       0612,   -66.0378,   146.5218,        282,   141.4,  -1.5527,  34.4221,2,  34.4215,2,   309.54,2,  306.36,2,    76.8,2,    2.07,2,   4.4538,3,   2.3269,3,   0.3427,3,    2222,2,  2332.3,2,   0.538,2,   30.99,3,      0.001,2
09AR20071216,       CASO,      79,          1,          7,          7,2,20080111,       0612,   -66.0378,   146.5218,        282,   141.4,  -1.5519,  34.4225,2,-999.0000,9,   309.54,2, -999.00,9,  -999.0,9, -999.00,9,-999.0000,9,-999.0000,9,-999.0000,9,  -999.0,9,  -999.0,9,   0.636,2, -999.00,9,      0.001,2
09AR20071216,       CASO,      79,          1,          6,          6,2,20080111,       0612,   -66.0378,   146.5218,        282,   174.9,  -1.5166,  34.4462,2,-999.0000,9,   290.32,2, -999.00,9,  -999.0,9, -999.00,9,   4.4375,2,   2.2845,2,   0.3556,2,  -999.0,9,  -999.0,9,   0.185,2, -999.00,9,      0.001,2
09AR20071216,       CASO,      79,          1,          5,          5,2,20080111,       0612,   -66.0378,   146.5218,        282,   175.0,  -1.5075,  34.4453,2,  34.4440,2,   291.11,2,  292.15,2,    80.4,2,    2.09,2,-999.0000,9,-999.0000,9,-999.0000,9,  2228.1,2,  2335.2,2,   0.201,2,   31.33,3,      0.001,2
09AR20071216,       CASO,      79,          1,          4,          4,2,20080111,       0612,   -66.0378,   146.5218,        282,   228.6,  -1.7028,  34.4808,2,  34.4805,2,   309.75,2,  309.78,2,    79.4,2,    2.09,2,   4.7881,2,   2.4858,2,   0.3860,2,    2229,2,  2339.5,6,   0.201,2,   31.35,3,      0.001,2
09AR20071216,       CASO,      79,          1,          3,          3,2,20080111,       0612,   -66.0378,   146.5218,        282,   228.5,  -1.7063,  34.4813,2,-999.0000,9,   309.75,2, -999.00,9,  -999.0,9, -999.00,9,-999.0000,9,-999.0000,9,-999.0000,9,  -999.0,9,  -999.0,9,   0.212,2, -999.00,9,      0.001,2
09AR20071216,       CASO,      79,          1,          2,          2,2,20080111,       0612,   -66.0378,   146.5218,        282,   274.0,  -1.7041,  34.5016,2,  34.5020,2,   304.23,2,  304.17,2,    80.6,2,    2.09,2,   4.7792,2,   2.4537,2,   0.3850,2,  2232.2,6,  2338.5,2,   0.149,2,   31.69,3,      0.001,2
09AR20071216,       CASO,      79,          1,          1,          1,2,20080111,       0612,   -66.0378,   146.5218,        282,   277.0,  -1.7037,  34.5021,2,-999.0000,9,   304.13,2, -999.00,9,  -999.0,9, -999.00,9,-999.0000,9,-999.0000,9,-999.0000,9,  -999.0,9,  -999.0,9,   0.126,2, -999.00,9,      0.001,2
09AR20071216,    CEAMARC,      80,          1,         24,         24,2,20080112,       0343,   -65.9172,   143.9967,        364,    10.1,   0.0470,  34.1133,2,  34.1126,2,   353.90,2,  351.92,2,    52.8,2,    1.58,2,   5.9114,2,   3.0901,2,   0.4619,2,  2177.5,6,  2311.9,2,   0.027,2,   26.30,3,      3.412,2
09AR20071216,    CEAMARC,      80,          1,         23,         23,2,20080112,       0343,   -65.9172,   143.9967,        364,    10.1,  -0.1588,  34.1118,2,-999.0000,9,   353.90,2, -999.00,9,  -999.0,9, -999.00,9,-999.0000,9,-999.0000,9,-999.0000,9,  -999.0,9,  -999.0,9,   0.055,2, -999.00,9,      3.384,2
09AR20071216,    CEAMARC,      80,          1,         22,         22,2,20080112,       0343,   -65.9172,   143.9967,        364,    10.0,  -0.1672,  34.1119,2,-999.0000,9,   353.90,2, -999.00,9,  -999.0,9, -999.00,9,-999.0000,9,-999.0000,9,-999.0000,9,  -999.0,9,  -999.0,9,   0.049,2, -999.00,9,      3.468,2
09AR20071216,    CEAMARC,      80,          1,         21,         21,2,20080112,       0343,   -65.9172,   143.9967,        364,    10.1,  -0.1703,  34.1117,2,-999.0000,9,   353.90,2, -999.00,9,  -999.0,9, -999.00,9,-999.0000,9,-999.0000,9,-999.0000,9,  -999.0,9,  -999.0,9,   0.097,2, -999.00,9,      3.312,2
09AR20071216,    CEAMARC,      80,          1,         20,         20,2,20080112,       0343,   -65.9172,   143.9967,        364,    10.2,  -0.1714,  34.1117,2,-999.0000,9,   353.90,2, -999.00,9,  -999.0,9, -999.00,9,-999.0000,9,-999.0000,9,-999.0000,9,  -999.0,9,  -999.0,9,   0.108,2, -999.00,9,      3.267,2
09AR20071216,    CEAMARC,      80,          1,         19,         19,2,20080112,       0343,   -65.9172,   143.9967,        364,    25.0,  -0.2335,  34.1162,2,-999.0000,9,   356.69,2, -999.00,9,  -999.0,9, -999.00,9,-999.0000,9,-999.0000,9,-999.0000,9,  -999.0,9,  -999.0,9,   0.835,2, -999.00,9,      2.849,2
09AR20071216,    CEAMARC,      80,          1,         18,         18,2,20080112,       0343,   -65.9172,   143.9967,        364,    25.1,  -0.2322,  34.1154,2,  34.1160,2,   356.69,2,  347.88,2,    53.2,2,    1.59,2,   6.0749,2,   3.0913,2,   0.4807,2,  2177.5,2,  2308.7,6,   0.811,2,   26.87,3,      2.837,2
09AR20071216,    CEAMARC,      80,          1,         17,         17,2,20080112,       0343,   -65.9172,   143.9967,        364,    24.9,  -0.2396,  34.1171,2,-999.0000,9,   356.60,2, -999.00,9,  -999.0,9, -999.00,9,-999.0000,9,-999.0000,9,-999.0000,9,  -999.0,9,  -999.0,9,   0.896,2, -999.00,9,      2.773,2
09AR20071216,    CEAMARC,      80,          1,         16,         16,2,20080112,       0343,   -65.9172,   143.9967,        364,    24.9,  -0.2471,  34.1187,2,-999.0000,9,   356.60,2, -999.00,9,  -999.0,9, -999.00,9,-999.0000,9,-999.0000,9,-999.0000,9,  -999.0,9,  -999.0,9,   0.939,2, -999.00,9,      2.772,2
09AR20071216,    CEAMARC,      80,          1,         15,         15,2,20080112,       0343,   -65.9172,   143.9967,        364,    60.5,  -1.1916,  34.2851,2,-999.0000,9,   334.63,2, -999.00,9,  -999.0,9, -999.00,9,-999.0000,9,-999.0000,9,-999.0000,9,  -999.0,9,  -999.0,9,   4.806,2, -999.00,9,      1.601,2
09AR20071216,    CEAMARC,      80,          1,         14,         14,2,20080112,       0343,   -65.9172,   143.9967,        364,    60.3,  -1.1776,  34.2835,2,-999.0000,9,   334.63,2, -999.00,9,  -999.0,9, -999.00,9,-999.0000,9,-999.0000,9,-999.0000,9,  -999.0,9,  -999.0,9,   4.420,2, -999.00,9,      1.591,2
09AR20071216,    CEAMARC,      80,          1,         13,         13,2,20080112,       0343,   -65.9172,   143.9967,        364,    60.3,  -1.1787,  34.2837,2,-999.0000,9,   334.63,2, -999.00,9,  -999.0,9, -999.00,9,-999.0000,9,-999.0000,9,-999.0000,9,  -999.0,9,  -999.0,9,   4.457,2, -999.00,9,      1.587,2
09AR20071216,    CEAMARC,      80,          1,         12,         12,2,20080112,       0343,   -65.9172,   143.9967,        364,    60.4,  -1.1787,  34.2835,2,  34.2849,2,   334.63,2,  335.95,2,    64.1,2,    1.80,2,   5.4502,2,   2.7857,2,   0.4373,2,  2197.5,2,  2321.9,6,   4.478,2,   28.32,3,      1.586,2
09AR20071216,    CEAMARC,      80,          1,         11,         11,2,20080112,       0343,   -65.9172,   143.9967,        364,    60.3,  -1.1774,  34.2831,2,-999.0000,9,   334.63,2, -999.00,9,  -999.0,9, -999.00,9,-999.0000,9,-999.0000,9,-999.0000,9,  -999.0,9,  -999.0,9,   4.649,2, -999.00,9,      1.578,2
09AR20071216,    CEAMARC,      80,          1,         10,         10,2,20080112,       0343,   -65.9172,   143.9967,        364,   119.6,  -1.6904,  34.3709,2,  34.3705,2,   304.30,2,  298.73,2,    74.5,2,    2.06,2,   4.7939,2,   2.4445,2,   0.3527,2,  2222.3,2,  2325.5,2,   0.526,2,   31.22,3,      0.001,2
09AR20071216,    CEAMARC,      80,          1,          9,          9,2,20080112,       0343,   -65.9172,   143.9967,        364,   119.5,  -1.6927,  34.3704,2,-999.0000,9,   304.30,2, -999.00,9,  -999.0,9, -999.00,9,-999.0000,9,-999.0000,9,-999.0000,9,  -999.0,9,  -999.0,9,   0.625,2, -999.00,9,      0.001,2
09AR20071216,    CEAMARC,      80,          1,          8,          8,2,20080112,       0343,   -65.9172,   143.9967,        364,   181.2,  -1.4628,  34.4117,2,  34.4119,2,   285.57,2,  286.03,2,    77.7,2,    2.09,2,   4.1027,2,   2.1859,2,   0.3297,2,  2227.8,2,  2326.2,2,   0.071,2,   31.79,3,      0.001,2
09AR20071216,    CEAMARC,      80,          1,          7,          7,2,20080112,       0343,   -65.9172,   143.9967,        364,   181.3,  -1.4548,  34.4120,2,-999.0000,9,   285.57,2, -999.00,9,  -999.0,9, -999.00,9,-999.0000,9,-999.0000,9,-999.0000,9,  -999.0,9,  -999.0,9,   0.062,2, -999.00,9,      0.001,2
09AR20071216,    CEAMARC,      80,          1,          6,          6,2,20080112,       0343,   -65.9172,   143.9967,        364,   249.4,  -0.9840,  34.4662,2,-999.0000,9,   267.07,2, -999.00,9,  -999.0,9, -999.00,9,   3.6416,2,   1.8483,2,   0.2781,2,  -999.0,9,  -999.0,9,   0.007,2, -999.00,9,      0.001,2
09AR20071216,    CEAMARC,      80,          1,          5,          5,2,20080112,       0343,   -65.9172,   143.9967,        364,   249.8,  -0.9824,  34.4664,2,  34.4670,2,   267.07,2,  265.99,2,    81.5,2,    2.12,2,-999.0000,9,-999.0000,9,-999.0000,9,  2235.1,2,  2331.2,2,   0.012,2,   31.99,3,      0.001,2
09AR20071216,    CEAMARC,      80,          1,          4,          4,2,20080112,       0343,   -65.9172,   143.9967,        364,   317.6,  -1.0417,  34.4990,2,  34.4993,2,   271.75,2,  271.23,2,    83.5,2,    2.13,2,   3.6070,2,   1.9033,2,   0.2882,2,  2237.4,2,  2334.3,2,   0.004,2,   31.59,3,      0.001,2
09AR20071216,    CEAMARC,      80,          1,          3,          3,2,20080112,       0343,   -65.9172,   143.9967,        364,   317.8,  -1.0440,  34.4988,2,-999.0000,9,   271.75,2, -999.00,9,  -999.0,9, -999.00,9,-999.0000,9,-999.0000,9,-999.0000,9,  -999.0,9,  -999.0,9,   0.002,2, -999.00,9,      0.001,2
09AR20071216,    CEAMARC,      80,          1,          2,          2,2,20080112,       0343,   -65.9172,   143.9967,        364,   360.0,  -1.0575,  34.4996,2,  34.4995,2,   272.52,2,  273.06,2,    83.9,2,    2.11,2,   3.7480,6,   1.9180,6,   0.2810,6,  2235.2,2,  2335.2,2,   0.003,2,   31.40,3,      0.001,2
09AR20071216,    CEAMARC,      80,          1,          1,          1,2,20080112,       0343,   -65.9172,   143.9967,        364,   359.6,  -1.0604,  34.4992,2,-999.0000,9,   272.52,2, -999.00,9,  -999.0,9, -999.00,9,-999.0000,9,-999.0000,9,-999.0000,9,  -999.0,9,  -999.0,9,   0.005,2, -999.00,9,      0.001,2