BOTTLE,20230622CCHSIOENA
EXPOCODE,SECT_ID,STNNBR,CASTNO,SAMPNO,BTLNBR,BTLNBR_FLAG_W,DATE,TIME,LATITUDE,LONGITUDE,DEPTH,CTDPRS,CTDTMP,CTDSAL,CTDSAL_FLAG_W,SALNTY,SALNTY_FLAG_W,CTDOXY,CTDOXY_FLAG_W,OXYGEN,OXYGEN_FLAG_W,SILCAT,SILCAT_FLAG_W,PHSPHT,PHSPHT_FLAG_W,CFC-11,CFC-11_FLAG_W,CFC-12,CFC-12_FLAG_W,CFC113,CFC113_FLAG_W,TCARBN,TCARBN_FLAG_W,ALKALI,ALKALI_FLAG_W,FLUOR,FLUOR_FLAG_W,NO2+NO3,NO2+NO3_FLAG_W,PAR,PAR_FLAG_W
,,,,,,,,,,,METERS,DBAR,ITS-90,PSS-78,,PSS-78,,UMOL/KG,,UMOL/KG,,UMOL/KG,,UMOL/KG,,PMOL/KG,,PMOL/KG,,PMOL/KG,,UMOL/KG,,UMOL/KG,,MG/M^3,,UMOL/KG,,VOLTS,
09AR20071216,    CEAMARC,      81,          1,         24,         24,2,20080112,       0727,   -65.8773,   144.0882,        787,     5.0,   0.1902,  34.1365,2,-999.0000,9,   349.15,2, -999.00,9,  -999.0,9, -999.00,9,-999.0000,9,-999.0000,9,-999.0000,9,  -999.0,9,  -999.0,9,   0.222,2, -999.00,9,      3.444,2
09AR20071216,    CEAMARC,      81,          1,         23,         23,2,20080112,       0727,   -65.8773,   144.0882,        787,     4.9,   0.1401,  34.1363,2,-999.0000,9,   349.15,2, -999.00,9,  -999.0,9, -999.00,9,-999.0000,9,-999.0000,9,-999.0000,9,  -999.0,9,  -999.0,9,   0.213,2, -999.00,9,      3.467,2
09AR20071216,    CEAMARC,      81,          1,         22,         22,2,20080112,       0727,   -65.8773,   144.0882,        787,     4.9,   0.1047,  34.1355,2,-999.0000,9,   349.15,2, -999.00,9,  -999.0,9, -999.00,9,-999.0000,9,-999.0000,9,-999.0000,9,  -999.0,9,  -999.0,9,   0.196,2, -999.00,9,      3.461,2
09AR20071216,    CEAMARC,      81,          1,         21,         21,2,20080112,       0727,   -65.8773,   144.0882,        787,     4.9,   0.1059,  34.1353,2,  34.1363,2,   349.15,2,  348.27,2,    54.6,2,    1.64,2,   6.0378,2,   3.1251,2,   0.4749,2,  2178.4,6,  2314.9,2,   0.211,2,   25.73,2,      3.464,2
09AR20071216,    CEAMARC,      81,          1,         20,         20,2,20080112,       0727,   -65.8773,   144.0882,        787,    24.3,  -0.2673,  34.1450,2,-999.0000,9,   348.81,2, -999.00,9,  -999.0,9, -999.00,9,-999.0000,9,-999.0000,9,-999.0000,9,  -999.0,9,  -999.0,9,   1.992,2, -999.00,9,      2.657,2
09AR20071216,    CEAMARC,      81,          1,         19,         19,2,20080112,       0727,   -65.8773,   144.0882,        787,    24.4,  -0.2550,  34.1418,2,  34.1404,2,   348.81,2,  349.61,2,    54.7,2,    1.66,2,-999.0000,9,-999.0000,9,-999.0000,9,  -999.0,9,  -999.0,9,   1.900,2,   25.66,2,      2.647,2
09AR20071216,    CEAMARC,      81,          1,         18,         18,2,20080112,       0727,   -65.8773,   144.0882,        787,    50.0,  -1.1584,  34.2609,2,-999.0000,9,   336.67,2, -999.00,9,  -999.0,9, -999.00,9,-999.0000,9,-999.0000,9,-999.0000,9,  -999.0,9,  -999.0,9,   3.071,2, -999.00,9,      1.734,2
09AR20071216,    CEAMARC,      81,          1,         17,         17,2,20080112,       0727,   -65.8773,   144.0882,        787,    49.9,  -1.1396,  34.2594,2,  34.2604,2,   336.67,2,  335.96,2,    63.8,2,    1.84,2,   5.4257,2,   2.7868,2,   0.4444,2,  2192.5,2,  2322.3,6,   2.993,2,   26.92,2,      1.743,2
09AR20071216,    CEAMARC,      81,          1,         16,         16,2,20080112,       0727,   -65.8773,   144.0882,        787,    99.6,  -1.6951,  34.3628,2,-999.0000,9,   300.51,2, -999.00,9,  -999.0,9, -999.00,9,-999.0000,9,-999.0000,9,-999.0000,9,  -999.0,9,  -999.0,9,   0.467,2, -999.00,9,      0.361,2
09AR20071216,    CEAMARC,      81,          1,         15,         15,2,20080112,       0727,   -65.8773,   144.0882,        787,    99.6,  -1.6966,  34.3630,2,  34.3627,2,   300.51,2,  300.77,2,    74.5,2,    2.07,2,   4.8202,2,   2.4864,2,   0.3828,2,  2221.2,2,  2329.1,2,   0.425,2,   29.90,2,      0.349,2
09AR20071216,    CEAMARC,      81,          1,         14,         14,2,20080112,       0727,   -65.8773,   144.0882,        787,   153.1,  -1.7735,  34.3836,2,-999.0000,9,   295.39,2, -999.00,9,  -999.0,9, -999.00,9,-999.0000,9,-999.0000,9,-999.0000,9,  -999.0,9,  -999.0,9,   0.138,2, -999.00,9,      0.001,2
09AR20071216,    CEAMARC,      81,          1,         13,         13,2,20080112,       0727,   -65.8773,   144.0882,        787,   152.9,  -1.7730,  34.3836,2,  34.3835,2,   295.46,2,  295.85,2,    77.2,2,    2.09,2,   4.6100,2,   2.4190,2,   0.3750,2,  2221.8,2,  2329.2,2,   0.145,2,   30.41,2,      0.001,2
09AR20071216,    CEAMARC,      81,          1,         12,         12,2,20080112,       0727,   -65.8773,   144.0882,        787,   260.8,  -1.5887,  34.4139,2,-999.0000,9,   288.02,2, -999.00,9,  -999.0,9, -999.00,9,-999.0000,9,-999.0000,9,-999.0000,9,  -999.0,9,  -999.0,9,   0.061,2, -999.00,9,      0.001,2
09AR20071216,    CEAMARC,      81,          1,         11,         11,2,20080112,       0727,   -65.8773,   144.0882,        787,   260.7,  -1.5868,  34.4143,2,  34.4140,2,   288.02,2,  289.11,2,    79.4,2,    2.10,2,   4.4352,2,   2.2943,2,   0.3337,2,  2226.4,2,  2332.4,2,   0.067,2,   30.59,2,      0.001,2
09AR20071216,    CEAMARC,      81,          1,         10,         10,2,20080112,       0727,   -65.8773,   144.0882,        787,   350.6,  -1.0757,  34.4818,2,-999.0000,9,   272.74,2, -999.00,9,  -999.0,9, -999.00,9,-999.0000,9,-999.0000,9,-999.0000,9,  -999.0,9,  -999.0,9,   0.022,2, -999.00,9,      0.001,2
09AR20071216,    CEAMARC,      81,          1,          9,          9,2,20080112,       0727,   -65.8773,   144.0882,        787,   350.7,  -1.0782,  34.4812,2,  34.4811,2,   272.74,2,  270.51,2,    84.0,2,    2.13,2,   3.7066,2,   1.9259,2,   0.2784,2,  2239.1,3,  2336.1,2,   0.027,2,   31.00,2,      0.001,2
09AR20071216,    CEAMARC,      81,          1,          8,          8,2,20080112,       0727,   -65.8773,   144.0882,        787,   452.0,  -0.9657,  34.5115,2,-999.0000,9,   270.57,2, -999.00,9,  -999.0,9, -999.00,9,-999.0000,9,-999.0000,9,-999.0000,9,  -999.0,9,  -999.0,9,   0.022,2, -999.00,9,      0.001,2
09AR20071216,    CEAMARC,      81,          1,          7,          7,2,20080112,       0727,   -65.8773,   144.0882,        787,   451.7,  -0.9687,  34.5111,2,  34.5115,2,   270.57,2,  268.23,2,    84.6,2,    2.14,2,   3.5756,2,   1.8603,2,   0.2788,2,  2234.8,2,  2339.8,6,   0.017,2,   30.90,2,      0.001,2
09AR20071216,    CEAMARC,      81,          1,          6,          6,2,20080112,       0727,   -65.8773,   144.0882,        787,   599.9,  -0.6437,  34.5708,2,-999.0000,9,   248.08,2, -999.00,9,  -999.0,9, -999.00,9,-999.0000,9,-999.0000,9,-999.0000,9,  -999.0,9,  -999.0,9,   0.004,2, -999.00,9,      0.001,2
09AR20071216,    CEAMARC,      81,          1,          5,          5,2,20080112,       0727,   -65.8773,   144.0882,        787,   600.1,  -0.6262,  34.5720,2,  34.5720,2,   248.08,2,  254.28,2,    92.3,2,    2.16,2,   2.8507,2,   1.4958,2,   0.2167,2,  2242.8,2,  2345.4,2,   0.003,2,   31.13,2,      0.001,2
09AR20071216,    CEAMARC,      81,          1,          4,          4,2,20080112,       0727,   -65.8773,   144.0882,        787,   749.7,  -0.4854,  34.5928,2,  34.5923,2,   249.58,2,  248.41,2,    96.6,2,    2.16,2,   2.5925,2,   1.3529,2,   0.1920,2,  -999.0,9,  2348.1,6,  -0.006,2,   30.99,2,      0.001,2
09AR20071216,    CEAMARC,      81,          1,          3,          3,2,20080112,       0727,   -65.8773,   144.0882,        787,   749.2,  -0.4850,  34.5929,2,-999.0000,9,   249.58,2, -999.00,9,  -999.0,9,    2.15,2,-999.0000,9,-999.0000,9,-999.0000,9,  2245.1,2,  -999.0,9,  -0.009,2,   31.08,2,      0.001,2
09AR20071216,    CEAMARC,      81,          1,          2,          2,2,20080112,       0727,   -65.8773,   144.0882,        787,   791.7,  -0.6046,  34.5866,2,-999.0000,9,   251.54,2, -999.00,9,  -999.0,9, -999.00,9,-999.0000,9,-999.0000,9,-999.0000,9,  -999.0,9,  -999.0,9,  -0.003,2, -999.00,9,      0.001,2
09AR20071216,    CEAMARC,      81,          1,          1,          1,2,20080112,       0727,   -65.8773,   144.0882,        787,   792.0,  -0.5746,  34.5887,2,  34.5907,2,   251.54,2,  250.63,2,  -999.0,9,    2.18,2,   2.6860,2,   1.3973,2,   0.2010,2,  2242.4,6,  2348.3,2,  -0.008,2,   32.85,3,      0.001,2
09AR20071216,    CEAMARC,      82,          1,         24,         24,2,20080112,       1142,   -65.8647,   144.1038,       1104,     5.3,   0.1666,  34.1491,2,  34.1469,2,   350.72,2,  349.87,2,    54.5,2,    1.65,2,   6.0307,2,   3.0937,2,   0.4548,2,  2184.8,2,  2315.6,2,   1.915,2,   24.54,2,      1.875,2
09AR20071216,    CEAMARC,      82,          1,         23,         23,2,20080112,       1142,   -65.8647,   144.1038,       1104,     5.3,   0.3094,  34.1439,2,-999.0000,9,   350.72,2, -999.00,9,  -999.0,9, -999.00,9,-999.0000,9,-999.0000,9,-999.0000,9,  -999.0,9,  -999.0,9,   1.893,2, -999.00,9,      1.876,2
09AR20071216,    CEAMARC,      82,          1,         22,         22,2,20080112,       1142,   -65.8647,   144.1038,       1104,     5.3,   0.2839,  34.1456,2,-999.0000,9,   350.72,2, -999.00,9,  -999.0,9, -999.00,9,-999.0000,9,-999.0000,9,-999.0000,9,  -999.0,9,  -999.0,9,   1.910,2, -999.00,9,      1.884,2
09AR20071216,    CEAMARC,      82,          1,         21,         21,2,20080112,       1142,   -65.8647,   144.1038,       1104,     5.2,   0.0911,  34.1516,2,-999.0000,9,   350.72,2, -999.00,9,  -999.0,9, -999.00,9,-999.0000,9,-999.0000,9,-999.0000,9,  -999.0,9,  -999.0,9,   1.942,2, -999.00,9,      1.897,2
09AR20071216,    CEAMARC,      82,          1,         20,         20,2,20080112,       1142,   -65.8647,   144.1038,       1104,    39.6,  -0.5210,  34.2110,2,  34.2085,2,   356.12,2,  351.50,2,    57.6,2,    1.66,2,   5.8560,2,   3.0245,2,   0.4511,2,  2181.4,2,  2318.4,6,   3.127,2,   23.90,2,      0.648,2
09AR20071216,    CEAMARC,      82,          1,         19,         19,2,20080112,       1142,   -65.8647,   144.1038,       1104,    39.5,  -0.5020,  34.2082,2,-999.0000,9,   356.12,2, -999.00,9,  -999.0,9, -999.00,9,-999.0000,9,-999.0000,9,-999.0000,9,  -999.0,9,  -999.0,9,   3.124,2, -999.00,9,      0.657,2
09AR20071216,    CEAMARC,      82,          1,         18,         18,2,20080112,       1142,   -65.8647,   144.1038,       1104,   119.5,  -1.6507,  34.3584,2,  34.3582,2,   305.82,2,  305.73,2,    73.0,2,    2.06,2,   4.9213,2,   2.5497,2,   0.3907,2,  2222.8,2,  2325.2,2,   0.451,2,   29.25,2,      0.001,2
09AR20071216,    CEAMARC,      82,          1,         17,         17,2,20080112,       1142,   -65.8647,   144.1038,       1104,   119.5,  -1.6511,  34.3583,2,-999.0000,9,   305.82,2, -999.00,9,  -999.0,9, -999.00,9,-999.0000,9,-999.0000,9,-999.0000,9,  -999.0,9,  -999.0,9,   0.477,2, -999.00,9,      0.001,2
09AR20071216,    CEAMARC,      82,          1,         16,         16,2,20080112,       1142,   -65.8647,   144.1038,       1104,   199.6,  -1.8028,  34.3853,2,  34.3850,2,   299.45,2,  297.85,2,    76.5,2,    2.08,2,   4.6368,2,   2.4270,2,   0.3847,2,  2225.7,2,  2325.6,2,   0.093,2,   30.67,2,      0.001,2
09AR20071216,    CEAMARC,      82,          1,         15,         15,2,20080112,       1142,   -65.8647,   144.1038,       1104,   199.7,  -1.8029,  34.3854,2,-999.0000,9,   299.45,2, -999.00,9,  -999.0,9, -999.00,9,-999.0000,9,-999.0000,9,-999.0000,9,  -999.0,9,  -999.0,9,   0.084,2, -999.00,9,      0.001,2
09AR20071216,    CEAMARC,      82,          1,         14,         14,2,20080112,       1142,   -65.8647,   144.1038,       1104,   339.9,  -1.2792,  34.4505,2,  34.4505,2,   275.40,2,  281.20,2,    81.6,2,    2.12,2,   3.9905,2,   2.0803,2,   0.2976,2,  2231.1,2,  2331.6,2,   0.057,2,   30.98,2,      0.001,2
09AR20071216,    CEAMARC,      82,          1,         13,         13,2,20080112,       1142,   -65.8647,   144.1038,       1104,   479.0,  -0.7171,  34.5294,2,-999.0000,9,   257.57,2, -999.00,9,  -999.0,9, -999.00,9,-999.0000,9,-999.0000,9,-999.0000,9,  -999.0,9,  -999.0,9,   0.011,2, -999.00,9,      0.001,2
09AR20071216,    CEAMARC,      82,          1,         12,         12,2,20080112,       1142,   -65.8647,   144.1038,       1104,   479.1,  -0.7217,  34.5293,2,  34.5289,2,   257.57,2,  260.25,2,    87.9,2,    2.16,2,   3.0799,6,   1.6349,6,   0.2318,6,  2242.4,2,  2335.8,2,   0.011,2,   31.32,2,      0.001,2
09AR20071216,    CEAMARC,      82,          1,         11,         11,2,20080112,       1142,   -65.8647,   144.1038,       1104,   600.7,  -0.8854,  34.5525,2,-999.0000,9,   266.82,2, -999.00,9,  -999.0,9, -999.00,9,-999.0000,9,-999.0000,9,-999.0000,9,  -999.0,9,  -999.0,9,   0.005,2, -999.00,9,      0.001,2
09AR20071216,    CEAMARC,      82,          1,         10,         10,2,20080112,       1142,   -65.8647,   144.1038,       1104,   600.8,  -0.8858,  34.5525,2,  34.5526,2,   266.82,2,  265.41,2,    89.3,2,    2.15,2,   3.2930,2,   1.7278,2,   0.2439,2,  2241.5,2,  2339.5,6,   0.005,2,   31.31,2,      0.001,2
09AR20071216,    CEAMARC,      82,          1,          9,          9,2,20080112,       1142,   -65.8647,   144.1038,       1104,   719.0,   0.1514,  34.6499,2,-999.0000,9,   228.15,2, -999.00,9,  -999.0,9, -999.00,9,-999.0000,9,-999.0000,9,-999.0000,9,  -999.0,9,  -999.0,9,  -0.029,2, -999.00,9,      0.001,2
09AR20071216,    CEAMARC,      82,          1,          8,          8,2,20080112,       1142,   -65.8647,   144.1038,       1104,   719.2,   0.1505,  34.6499,2,  34.6499,2,   228.55,2,  223.51,2,   107.3,2,    2.23,2,   1.4121,2,   0.7366,2,   0.0986,2,  2254.6,3,  2350.2,6,  -0.024,2,   31.90,2,      0.001,2
09AR20071216,    CEAMARC,      82,          1,          7,          7,2,20080112,       1142,   -65.8647,   144.1038,       1104,   847.5,  -0.5271,  34.5977,2,  34.5971,2,   254.02,2,  250.37,2,    98.0,2,    2.17,2,   2.5379,2,   1.3494,2,   0.1980,2,  2245.4,2,  2345.8,2,  -0.008,2,   31.33,2,      0.001,2
09AR20071216,    CEAMARC,      82,          1,          6,          6,2,20080112,       1142,   -65.8647,   144.1038,       1104,   979.7,   0.2036,  34.6725,2,-999.0000,9,   231.32,2, -999.00,9,  -999.0,9, -999.00,9,-999.0000,9,-999.0000,9,-999.0000,9,  -999.0,9,  -999.0,9,  -0.032,2, -999.00,9,      0.001,2
09AR20071216,    CEAMARC,      82,          1,          5,          5,2,20080112,       1142,   -65.8647,   144.1038,       1104,   979.9,   0.1828,  34.6705,2,  34.6574,2,   231.32,2,  226.24,2,   110.3,2,    2.22,2,   1.3526,2,   0.7134,2,   0.0954,2,  -999.0,9,  2350.8,6,  -0.031,2,   31.87,2,      0.001,2
09AR20071216,    CEAMARC,      82,          1,          4,          4,2,20080112,       1142,   -65.8647,   144.1038,       1104,  1122.0,  -0.2766,  34.6293,2,  34.6297,2,   239.08,2,  240.41,2,   104.7,2,    2.19,2,-999.0000,9,-999.0000,9,-999.0000,9,  -999.0,9,  -999.0,9,  -0.024,2,   31.45,2,      0.001,2
09AR20071216,    CEAMARC,      82,          1,          3,          3,2,20080112,       1142,   -65.8647,   144.1038,       1104,  1121.9,  -0.2817,  34.6289,2,-999.0000,9,   239.08,2, -999.00,9,  -999.0,9, -999.00,9,-999.0000,9,-999.0000,9,-999.0000,9,  -999.0,9,  -999.0,9,  -0.019,2, -999.00,9,      0.001,2
09AR20071216,    CEAMARC,      82,          1,          2,          2,2,20080112,       1142,   -65.8647,   144.1038,       1104,  1146.8,  -0.3326,  34.6249,2,  34.6250,2,   241.59,2,  243.80,2,   104.1,2,    2.19,2,   2.0947,2,   1.1213,2,   0.1541,2,  2251.1,6,  2348.9,2,  -0.017,2,   31.86,2,      0.001,2
09AR20071216,    CEAMARC,      82,          1,          1,          1,2,20080112,       1142,   -65.8647,   144.1038,       1104,  1146.9,  -0.3279,  34.6252,2,-999.0000,9,   241.59,2, -999.00,9,  -999.0,9, -999.00,9,-999.0000,9,-999.0000,9,-999.0000,9,  -999.0,9,  -999.0,9,  -0.017,2, -999.00,9,      0.001,2