BOTTLE,20230622CCHSIOENA
EXPOCODE,SECT_ID,STNNBR,CASTNO,SAMPNO,BTLNBR,BTLNBR_FLAG_W,DATE,TIME,LATITUDE,LONGITUDE,DEPTH,CTDPRS,CTDTMP,CTDSAL,CTDSAL_FLAG_W,SALNTY,SALNTY_FLAG_W,CTDOXY,CTDOXY_FLAG_W,OXYGEN,OXYGEN_FLAG_W,SILCAT,SILCAT_FLAG_W,PHSPHT,PHSPHT_FLAG_W,CFC-11,CFC-11_FLAG_W,CFC-12,CFC-12_FLAG_W,CFC113,CFC113_FLAG_W,TCARBN,TCARBN_FLAG_W,ALKALI,ALKALI_FLAG_W,FLUOR,FLUOR_FLAG_W,NO2+NO3,NO2+NO3_FLAG_W,PAR,PAR_FLAG_W
,,,,,,,,,,,METERS,DBAR,ITS-90,PSS-78,,PSS-78,,UMOL/KG,,UMOL/KG,,UMOL/KG,,UMOL/KG,,PMOL/KG,,PMOL/KG,,PMOL/KG,,UMOL/KG,,UMOL/KG,,MG/M^3,,UMOL/KG,,VOLTS,
09AR20071216,    CEAMARC,      41,          1,         24,         24,2,20080103,       1306,   -66.3355,   144.9955,        378,     4.5,  -0.4952,  34.2045,2,  34.2082,2,   346.03,2,  346.93,2,    54.7,2,    1.66,2,   5.9670,2,   3.0293,2,   0.4836,2,  2186.4,6,  2315.3,6,   3.469,2,   27.52,2,      2.084,2
09AR20071216,    CEAMARC,      41,          1,         23,         23,2,20080103,       1306,   -66.3355,   144.9955,        378,     4.5,  -0.4917,  34.2087,2,-999.0000,9,   346.03,2, -999.00,9,  -999.0,9, -999.00,9,-999.0000,9,-999.0000,9,-999.0000,9,  -999.0,9,  -999.0,9,   3.414,2, -999.00,9,      2.083,2
09AR20071216,    CEAMARC,      41,          1,         22,         22,2,20080103,       1306,   -66.3355,   144.9955,        378,     4.5,  -0.4917,  34.2087,2,-999.0000,9,   346.03,2, -999.00,9,  -999.0,9, -999.00,9,-999.0000,9,-999.0000,9,-999.0000,9,  -999.0,9,  -999.0,9,   3.415,2, -999.00,9,      2.083,2
09AR20071216,    CEAMARC,      41,          1,         21,         21,2,20080103,       1306,   -66.3355,   144.9955,        378,     4.5,  -0.4920,  34.2098,2,-999.0000,9,   346.03,2, -999.00,9,  -999.0,9, -999.00,9,-999.0000,9,-999.0000,9,-999.0000,9,  -999.0,9,  -999.0,9,   3.392,2, -999.00,9,      2.078,2
09AR20071216,    CEAMARC,      41,          1,         20,         20,2,20080103,       1306,   -66.3355,   144.9955,        378,    20.1,  -0.7467,  34.2213,2,  34.2209,2,   349.35,2,  349.23,2,    53.5,2,    1.65,2,   6.0474,6,   3.0660,6,   0.4845,6,    2184,2,  2319.4,2,   3.472,2,   27.02,2,      1.212,2
09AR20071216,    CEAMARC,      41,          1,         19,         19,2,20080103,       1306,   -66.3355,   144.9955,        378,    20.2,  -0.7442,  34.2206,2,-999.0000,9,   349.35,2, -999.00,9,  -999.0,9, -999.00,9,-999.0000,9,-999.0000,9,-999.0000,9,  -999.0,9,  -999.0,9,   3.425,2, -999.00,9,      1.226,2
09AR20071216,    CEAMARC,      41,          1,         18,         18,2,20080103,       1306,   -66.3355,   144.9955,        378,    40.1,  -0.7130,  34.2338,2,-999.0000,9,   350.50,2, -999.00,9,  -999.0,9, -999.00,9,-999.0000,9,-999.0000,9,-999.0000,9,  -999.0,9,  -999.0,9,   4.548,2, -999.00,9,      0.457,2
09AR20071216,    CEAMARC,      41,          1,         17,         17,2,20080103,       1306,   -66.3355,   144.9955,        378,    40.1,  -0.7136,  34.2337,2,-999.0000,9,   350.50,2, -999.00,9,  -999.0,9, -999.00,9,-999.0000,9,-999.0000,9,-999.0000,9,  -999.0,9,  -999.0,9,   4.561,2, -999.00,9,      0.467,2
09AR20071216,    CEAMARC,      41,          1,         16,         16,2,20080103,       1306,   -66.3355,   144.9955,        378,    40.1,  -0.7133,  34.2335,2,  34.2346,2,   350.50,2,  349.49,2,    52.6,2,    1.63,2,   6.1609,2,   3.0580,2,   0.4892,2,  2183.5,2,  2317.3,2,   4.596,2,   26.64,2,      0.465,2
09AR20071216,    CEAMARC,      41,          1,         15,         15,2,20080103,       1306,   -66.3355,   144.9955,        378,    60.1,  -0.9264,  34.2686,2,-999.0000,9,   338.55,2, -999.00,9,  -999.0,9, -999.00,9,-999.0000,9,-999.0000,9,-999.0000,9,  -999.0,9,  -999.0,9,   3.962,2, -999.00,9,      0.001,2
09AR20071216,    CEAMARC,      41,          1,         14,         14,2,20080103,       1306,   -66.3355,   144.9955,        378,    60.0,  -0.9263,  34.2679,2,-999.0000,9,   338.55,2, -999.00,9,  -999.0,9, -999.00,9,-999.0000,9,-999.0000,9,-999.0000,9,  -999.0,9,  -999.0,9,   4.181,2, -999.00,9,      0.001,2
09AR20071216,    CEAMARC,      41,          1,         13,         13,2,20080103,       1306,   -66.3355,   144.9955,        378,    79.6,  -1.6227,  34.3736,2,-999.0000,9,   316.18,2, -999.00,9,  -999.0,9, -999.00,9,-999.0000,9,-999.0000,9,-999.0000,9,  -999.0,9,  -999.0,9,   1.664,2, -999.00,9,      0.001,2
09AR20071216,    CEAMARC,      41,          1,         12,         12,2,20080103,       1306,   -66.3355,   144.9955,        378,    79.7,  -1.6272,  34.3750,2,-999.0000,9,   316.18,2, -999.00,9,  -999.0,9, -999.00,9,-999.0000,9,-999.0000,9,-999.0000,9,  -999.0,9,  -999.0,9,   1.585,2, -999.00,9,      0.001,2
09AR20071216,    CEAMARC,      41,          1,         11,         11,2,20080103,       1306,   -66.3355,   144.9955,        378,    79.6,  -1.6260,  34.3747,2,  34.3745,2,   316.18,2,  317.11,2,    68.2,2,    2.06,2,   5.0674,2,   2.6226,2,   0.3904,2,  2216.3,2,  2325.3,2,   1.712,2,   30.27,2,      0.001,2
09AR20071216,    CEAMARC,      41,          1,         10,         10,2,20080103,       1306,   -66.3355,   144.9955,        378,   139.4,  -1.4333,  34.4712,2,  34.4723,2,   296.52,2,  293.97,2,    77.6,2,    2.09,2,   4.2354,2,   2.2482,2,   0.3281,2,  2229.9,2,  2333.2,2,   0.142,2,   31.02,2,      0.001,2
09AR20071216,    CEAMARC,      41,          1,          9,          9,2,20080103,       1306,   -66.3355,   144.9955,        378,   139.4,  -1.4320,  34.4720,2,-999.0000,9,   296.52,2, -999.00,9,  -999.0,9, -999.00,9,-999.0000,9,-999.0000,9,-999.0000,9,  -999.0,9,  -999.0,9,   0.148,2, -999.00,9,      0.001,2
09AR20071216,    CEAMARC,      41,          1,          8,          8,2,20080103,       1306,   -66.3355,   144.9955,        378,   200.8,  -1.1337,  34.5380,2,  34.5383,2,   276.07,2,  276.96,2,    84.3,2,    2.13,2,   3.9752,2,   1.9985,2,   0.3303,2,  2237.3,2,  2339.2,2,  -0.003,2,   31.25,2,      0.001,2
09AR20071216,    CEAMARC,      41,          1,          7,          7,2,20080103,       1306,   -66.3355,   144.9955,        378,   200.7,  -1.1324,  34.5380,2,-999.0000,9,   276.07,2, -999.00,9,  -999.0,9, -999.00,9,-999.0000,9,-999.0000,9,-999.0000,9,  -999.0,9,  -999.0,9,   0.004,2, -999.00,9,      0.001,2
09AR20071216,    CEAMARC,      41,          1,          6,          6,2,20080103,       1306,   -66.3355,   144.9955,        378,   251.4,  -1.5398,  34.5878,2,  34.5868,2,   292.89,2,  292.81,2,    81.7,2,    2.13,2,   4.3376,2,   2.2705,2,   0.3391,2,  2237.7,2,  2342.9,6,  -0.016,2,   31.11,2,      0.001,2
09AR20071216,    CEAMARC,      41,          1,          5,          5,2,20080103,       1306,   -66.3355,   144.9955,        378,   251.2,  -1.5449,  34.5884,2,-999.0000,9,   292.89,2, -999.00,9,  -999.0,9, -999.00,9,-999.0000,9,-999.0000,9,-999.0000,9,  -999.0,9,  -999.0,9,  -0.023,2, -999.00,9,      0.001,2
09AR20071216,    CEAMARC,      41,          1,          4,          4,2,20080103,       1306,   -66.3355,   144.9955,        378,   331.6,  -1.8903,  34.6593,2,  34.6605,2,   308.21,2,  309.00,2,    79.0,2,    2.11,2,   4.8474,2,   2.5720,2,   0.3814,2,  2241.3,2,  2343.1,2,  -0.018,2,   30.98,2,      0.001,2
09AR20071216,    CEAMARC,      41,          1,          3,          3,2,20080103,       1306,   -66.3355,   144.9955,        378,   331.7,  -1.8904,  34.6602,2,-999.0000,9,   308.21,2, -999.00,9,  -999.0,9, -999.00,9,-999.0000,9,-999.0000,9,-999.0000,9,  -999.0,9,  -999.0,9,  -0.016,2, -999.00,9,      0.001,2
09AR20071216,    CEAMARC,      41,          1,          2,          2,2,20080103,       1306,   -66.3355,   144.9955,        378,   379.0,  -1.8897,  34.6742,2,  34.6743,2,   308.82,2,  309.17,2,    79.8,2,    2.12,2,   5.0096,2,   2.5606,2,   0.3912,2,  2241.8,2,  2344.9,2,  -0.032,2,   30.89,2,      0.001,2
09AR20071216,    CEAMARC,      41,          1,          1,          1,2,20080103,       1306,   -66.3355,   144.9955,        378,   379.0,  -1.8896,  34.6741,2,-999.0000,9,   308.82,2, -999.00,9,  -999.0,9, -999.00,9,-999.0000,9,-999.0000,9,-999.0000,9,  -999.0,9,  -999.0,9,  -0.028,2, -999.00,9,      0.001,2
09AR20071216,    CEAMARC,      42,          1,         24,         24,2,20080103,       1619,   -66.3323,   144.6588,        414,     9.4,  -0.4032,  34.1413,2,  34.1418,2,   352.22,2,  351.69,2,    52.4,2,    1.57,2,   5.8746,2,   3.0140,2,   0.4673,2,  2177.8,2,  2310.1,6,   4.249,2,   26.44,2,      2.039,2
09AR20071216,    CEAMARC,      42,          1,         23,         23,2,20080103,       1619,   -66.3323,   144.6588,        414,     9.3,  -0.3977,  34.1414,2,-999.0000,9,   352.22,2, -999.00,9,  -999.0,9, -999.00,9,-999.0000,9,-999.0000,9,-999.0000,9,  -999.0,9,  -999.0,9,   4.157,2, -999.00,9,      2.047,2
09AR20071216,    CEAMARC,      42,          1,         22,         22,2,20080103,       1619,   -66.3323,   144.6588,        414,     9.3,  -0.4011,  34.1414,2,-999.0000,9,   352.22,2, -999.00,9,  -999.0,9, -999.00,9,-999.0000,9,-999.0000,9,-999.0000,9,  -999.0,9,  -999.0,9,   4.164,2, -999.00,9,      2.051,2
09AR20071216,    CEAMARC,      42,          1,         21,         21,2,20080103,       1619,   -66.3323,   144.6588,        414,     9.5,  -0.4067,  34.1412,2,-999.0000,9,   352.22,2, -999.00,9,  -999.0,9, -999.00,9,-999.0000,9,-999.0000,9,-999.0000,9,  -999.0,9,  -999.0,9,   4.252,2, -999.00,9,      2.040,2
09AR20071216,    CEAMARC,      42,          1,         20,         20,2,20080103,       1619,   -66.3323,   144.6588,        414,    29.2,  -0.6505,  34.1398,2,-999.0000,9,   351.88,2, -999.00,9,  -999.0,9, -999.00,9,-999.0000,9,-999.0000,9,-999.0000,9,  -999.0,9,  -999.0,9,   4.868,2, -999.00,9,      1.162,2
09AR20071216,    CEAMARC,      42,          1,         19,         19,2,20080103,       1619,   -66.3323,   144.6588,        414,    29.2,  -0.6521,  34.1399,2,-999.0000,9,   351.88,2, -999.00,9,  -999.0,9, -999.00,9,-999.0000,9,-999.0000,9,-999.0000,9,  -999.0,9,  -999.0,9,   4.986,2, -999.00,9,      1.166,2
09AR20071216,    CEAMARC,      42,          1,         18,         18,2,20080103,       1619,   -66.3323,   144.6588,        414,    29.2,  -0.6539,  34.1399,2,-999.0000,9,   351.88,2, -999.00,9,  -999.0,9, -999.00,9,-999.0000,9,-999.0000,9,-999.0000,9,  -999.0,9,  -999.0,9,   4.816,2, -999.00,9,      1.172,2
09AR20071216,    CEAMARC,      42,          1,         17,         17,2,20080103,       1619,   -66.3323,   144.6588,        414,    29.2,  -0.6549,  34.1397,2,-999.0000,9,   351.88,2, -999.00,9,  -999.0,9, -999.00,9,-999.0000,9,-999.0000,9,-999.0000,9,  -999.0,9,  -999.0,9,   4.930,2, -999.00,9,      1.172,2
09AR20071216,    CEAMARC,      42,          1,         16,         16,2,20080103,       1619,   -66.3323,   144.6588,        414,    29.2,  -0.6557,  34.1397,2,-999.0000,9,   351.88,2, -999.00,9,  -999.0,9, -999.00,9,-999.0000,9,-999.0000,9,-999.0000,9,  -999.0,9,  -999.0,9,   5.059,2, -999.00,9,      1.167,2
09AR20071216,    CEAMARC,      42,          1,         15,         15,2,20080103,       1619,   -66.3323,   144.6588,        414,    29.2,  -0.6555,  34.1394,2,-999.0000,9,   351.88,2, -999.00,9,  -999.0,9, -999.00,9,-999.0000,9,-999.0000,9,-999.0000,9,  -999.0,9,  -999.0,9,   5.092,2, -999.00,9,      1.164,2
09AR20071216,    CEAMARC,      42,          1,         14,         14,2,20080103,       1619,   -66.3323,   144.6588,        414,    29.1,  -0.6583,  34.1406,2,  34.1438,2,   351.88,2,  351.12,2,    53.0,2,    1.61,2,   5.9021,2,   2.9909,2,   0.4795,2,  2178.4,3,  2310.5,2,   4.775,2,   26.41,2,      1.169,2
09AR20071216,    CEAMARC,      42,          1,         13,         13,2,20080103,       1619,   -66.3323,   144.6588,        414,    29.1,  -0.6910,  34.1481,2,-999.0000,9,   351.88,2, -999.00,9,  -999.0,9, -999.00,9,-999.0000,9,-999.0000,9,-999.0000,9,  -999.0,9,  -999.0,9,   5.036,2, -999.00,9,      1.165,2
09AR20071216,    CEAMARC,      42,          1,         12,         12,2,20080103,       1619,   -66.3323,   144.6588,        414,    59.0,  -1.4058,  34.3416,2,  34.3408,2,   331.09,2,  332.54,2,    63.3,2,    1.89,2,   5.4357,2,   2.7486,2,   0.4285,2,  2176.8,3,  2323.2,2,   4.513,2,   28.09,2,      0.001,2
09AR20071216,    CEAMARC,      42,          1,         11,         11,2,20080103,       1619,   -66.3323,   144.6588,        414,    59.0,  -1.4343,  34.3475,2,-999.0000,9,   332.59,2, -999.00,9,  -999.0,9, -999.00,9,-999.0000,9,-999.0000,9,-999.0000,9,  -999.0,9,  -999.0,9,   4.638,2, -999.00,9,      0.001,2
09AR20071216,    CEAMARC,      42,          1,         10,         10,2,20080103,       1619,   -66.3323,   144.6588,        414,    99.2,  -1.6584,  34.4057,2,  34.4060,2,   305.71,2,  303.14,2,    73.5,2,    2.09,2,   4.5553,2,   2.4167,2,   0.3649,2,    2223,2,  2326.5,2,   0.386,2,   30.26,2,      0.001,2
09AR20071216,    CEAMARC,      42,          1,          9,          9,2,20080103,       1619,   -66.3323,   144.6588,        414,    99.0,  -1.6502,  34.4067,2,-999.0000,9,   305.71,2, -999.00,9,  -999.0,9, -999.00,9,-999.0000,9,-999.0000,9,-999.0000,9,  -999.0,9,  -999.0,9,   0.303,2, -999.00,9,      0.001,2
09AR20071216,    CEAMARC,      42,          1,          8,          8,2,20080103,       1619,   -66.3323,   144.6588,        414,   164.8,  -1.3053,  34.4577,2,  34.4576,2,   279.61,2,  280.77,2,    79.5,2,    2.11,2,   4.0856,2,   2.1036,2,   0.3192,2,  2230.9,2,  2330.6,2,   0.007,2,   30.65,2,      0.001,2
09AR20071216,    CEAMARC,      42,          1,          7,          7,2,20080103,       1619,   -66.3323,   144.6588,        414,   164.6,  -1.3057,  34.4578,2,-999.0000,9,   279.61,2, -999.00,9,  -999.0,9, -999.00,9,-999.0000,9,-999.0000,9,-999.0000,9,  -999.0,9,  -999.0,9,   0.005,2, -999.00,9,      0.001,2
09AR20071216,    CEAMARC,      42,          1,          6,          6,2,20080103,       1619,   -66.3323,   144.6588,        414,   249.8,  -1.0992,  34.5458,2,  34.5471,2,   278.99,2,  278.22,2,    84.6,2,    2.14,2,   3.7419,2,   1.9943,2,   0.2642,2,  2237.2,2,    2337,2,   0.011,2,   31.20,2,      0.001,2
09AR20071216,    CEAMARC,      42,          1,          5,          5,2,20080103,       1619,   -66.3323,   144.6588,        414,   249.7,  -1.0974,  34.5457,2,-999.0000,9,   278.99,2, -999.00,9,  -999.0,9, -999.00,9,-999.0000,9,-999.0000,9,-999.0000,9,  -999.0,9,  -999.0,9,   0.007,2, -999.00,9,      0.001,2
09AR20071216,    CEAMARC,      42,          1,          4,          4,2,20080103,       1619,   -66.3323,   144.6588,        414,   351.5,  -1.8965,  34.6565,2,  34.6570,2,   307.46,2,  308.17,2,    78.8,2,    2.11,2,   5.0196,2,   2.5731,2,   0.3881,2,  2241.3,2,  2343.7,2,  -0.034,2,   30.96,2,      0.001,2
09AR20071216,    CEAMARC,      42,          1,          3,          3,2,20080103,       1619,   -66.3323,   144.6588,        414,   351.3,  -1.8964,  34.6563,2,-999.0000,9,   307.46,2, -999.00,9,  -999.0,9, -999.00,9,-999.0000,9,-999.0000,9,-999.0000,9,  -999.0,9,  -999.0,9,  -0.032,2, -999.00,9,      0.001,2
09AR20071216,    CEAMARC,      42,          1,          2,          2,2,20080103,       1619,   -66.3323,   144.6588,        414,   407.4,  -1.8974,  34.6784,2,  34.6772,2,   309.31,2,  309.29,2,    79.9,2,    2.13,2,   4.9907,6,   2.5603,6,   0.3783,6,  2242.1,2,  2344.5,2,  -0.036,2,   31.23,2,      0.001,2
09AR20071216,    CEAMARC,      42,          1,          1,          1,2,20080103,       1619,   -66.3323,   144.6588,        414,   407.4,  -1.8979,  34.6786,2,-999.0000,9,   309.31,2, -999.00,9,  -999.0,9, -999.00,9,-999.0000,9,-999.0000,9,-999.0000,9,  -999.0,9,  -999.0,9,  -0.038,2, -999.00,9,      0.001,2