BOTTLE,20230622CCHSIOENA
EXPOCODE,SECT_ID,STNNBR,CASTNO,SAMPNO,BTLNBR,BTLNBR_FLAG_W,DATE,TIME,LATITUDE,LONGITUDE,DEPTH,CTDPRS,CTDTMP,CTDSAL,CTDSAL_FLAG_W,SALNTY,SALNTY_FLAG_W,CTDOXY,CTDOXY_FLAG_W,OXYGEN,OXYGEN_FLAG_W,SILCAT,SILCAT_FLAG_W,PHSPHT,PHSPHT_FLAG_W,CFC-11,CFC-11_FLAG_W,CFC-12,CFC-12_FLAG_W,CFC113,CFC113_FLAG_W,TCARBN,TCARBN_FLAG_W,ALKALI,ALKALI_FLAG_W,FLUOR,FLUOR_FLAG_W,NO2+NO3,NO2+NO3_FLAG_W,PAR,PAR_FLAG_W
,,,,,,,,,,,METERS,DBAR,ITS-90,PSS-78,,PSS-78,,UMOL/KG,,UMOL/KG,,UMOL/KG,,UMOL/KG,,PMOL/KG,,PMOL/KG,,PMOL/KG,,UMOL/KG,,UMOL/KG,,MG/M^3,,UMOL/KG,,VOLTS,
09AR20071216,    CEAMARC,      83,          1,         24,         24,2,20080112,       1758,   -65.9980,   142.3373,        231,     4.6,  -0.8592,  34.3459,2,  34.3280,2,  -999.00,5,  337.51,2,    66.0,2,    1.86,2,   0.0000,4,   0.0000,4,   0.0000,4,  2200.7,6,  2328.5,2,   1.638,2,   28.11,2,      2.603,2
09AR20071216,    CEAMARC,      83,          1,         23,         23,2,20080112,       1758,   -65.9980,   142.3373,        231,     4.6,  -0.8632,  34.3459,2,-999.0000,9,  -999.00,5, -999.00,9,  -999.0,9, -999.00,9,-999.0000,9,-999.0000,9,-999.0000,9,  -999.0,9,  -999.0,9,   1.676,2, -999.00,9,      2.596,2
09AR20071216,    CEAMARC,      83,          1,         22,         22,2,20080112,       1758,   -65.9980,   142.3373,        231,     4.6,  -0.6655,  34.3128,2,-999.0000,9,  -999.00,5, -999.00,9,  -999.0,9, -999.00,9,-999.0000,9,-999.0000,9,-999.0000,9,  -999.0,9,  -999.0,9,   1.735,2, -999.00,9,      2.602,2
09AR20071216,    CEAMARC,      83,          1,         21,         21,2,20080112,       1758,   -65.9980,   142.3373,        231,     4.5,  -0.6261,  34.3066,2,-999.0000,9,  -999.00,5, -999.00,9,  -999.0,9, -999.00,9,-999.0000,9,-999.0000,9,-999.0000,9,  -999.0,9,  -999.0,9,   1.716,2, -999.00,9,      2.615,2
09AR20071216,    CEAMARC,      83,          1,         20,         20,2,20080112,       1758,   -65.9980,   142.3373,        231,    30.1,  -1.1287,  34.3939,2,-999.0000,9,   321.12,2, -999.00,9,  -999.0,9, -999.00,9,-999.0000,9,-999.0000,9,-999.0000,9,  -999.0,9,  -999.0,9,   1.599,2, -999.00,9,      1.761,2
09AR20071216,    CEAMARC,      83,          1,         19,         19,2,20080112,       1758,   -65.9980,   142.3373,        231,    30.1,  -1.1292,  34.3942,2,-999.0000,9,   321.12,2, -999.00,9,  -999.0,9, -999.00,9,-999.0000,9,-999.0000,9,-999.0000,9,  -999.0,9,  -999.0,9,   1.497,2, -999.00,9,      1.764,2
09AR20071216,    CEAMARC,      83,          1,         18,         18,2,20080112,       1758,   -65.9980,   142.3373,        231,    30.0,  -1.1284,  34.3937,2,-999.0000,9,   321.12,2, -999.00,9,  -999.0,9, -999.00,9,-999.0000,9,-999.0000,9,-999.0000,9,  -999.0,9,  -999.0,9,   1.516,2, -999.00,9,      1.766,2
09AR20071216,    CEAMARC,      83,          1,         17,         17,2,20080112,       1758,   -65.9980,   142.3373,        231,    30.2,  -1.1292,  34.3936,2,-999.0000,9,   321.12,2, -999.00,9,  -999.0,9, -999.00,9,-999.0000,9,-999.0000,9,-999.0000,9,  -999.0,9,  -999.0,9,   1.660,2, -999.00,9,      1.762,2
09AR20071216,    CEAMARC,      83,          1,         16,         16,2,20080112,       1758,   -65.9980,   142.3373,        231,    30.1,  -1.1260,  34.3934,2,-999.0000,9,   321.12,2, -999.00,9,  -999.0,9, -999.00,9,-999.0000,9,-999.0000,9,-999.0000,9,  -999.0,9,  -999.0,9,   1.549,2, -999.00,9,      1.762,2
09AR20071216,    CEAMARC,      83,          1,         15,         15,2,20080112,       1758,   -65.9980,   142.3373,        231,    30.0,  -1.1263,  34.3942,2,-999.0000,9,   321.12,2, -999.00,9,  -999.0,9, -999.00,9,-999.0000,9,-999.0000,9,-999.0000,9,  -999.0,9,  -999.0,9,   1.435,2, -999.00,9,      1.766,2
09AR20071216,    CEAMARC,      83,          1,         14,         14,2,20080112,       1758,   -65.9980,   142.3373,        231,    30.0,  -1.1260,  34.3948,2,-999.0000,9,   321.12,2, -999.00,9,  -999.0,9, -999.00,9,-999.0000,9,-999.0000,9,-999.0000,9,  -999.0,9,  -999.0,9,   1.463,2, -999.00,9,      1.764,2
09AR20071216,    CEAMARC,      83,          1,         13,         13,2,20080112,       1758,   -65.9980,   142.3373,        231,    29.9,  -1.1236,  34.3948,2,-999.0000,9,   321.12,2, -999.00,9,  -999.0,9, -999.00,9,-999.0000,9,-999.0000,9,-999.0000,9,  -999.0,9,  -999.0,9,   1.457,2, -999.00,9,      1.768,2
09AR20071216,    CEAMARC,      83,          1,         12,         12,2,20080112,       1758,   -65.9980,   142.3373,        231,    30.0,  -1.1374,  34.3978,2,  34.4035,2,   321.12,2,  321.93,2,    70.6,2,    1.96,2,   5.3552,2,   2.7086,2,   0.4423,2,    2212,2,  2333.3,6,   1.414,2,   29.18,2,      1.781,2
09AR20071216,    CEAMARC,      83,          1,         11,         11,2,20080112,       1758,   -65.9980,   142.3373,        231,    30.1,  -1.1396,  34.3978,2,-999.0000,9,   321.12,2, -999.00,9,  -999.0,9, -999.00,9,-999.0000,9,-999.0000,9,-999.0000,9,  -999.0,9,  -999.0,9,   1.532,2, -999.00,9,      1.779,2
09AR20071216,    CEAMARC,      83,          1,         10,         10,2,20080112,       1758,   -65.9980,   142.3373,        231,    69.7,  -1.3446,  34.4428,2,  34.4430,2,   315.66,2,  316.35,2,    73.6,2,    2.03,2,   0.0000,4,   0.0000,4,   0.0000,4,  2218.1,2,    2334,2,   1.005,2,   29.78,2,      0.746,2
09AR20071216,    CEAMARC,      83,          1,          9,          9,2,20080112,       1758,   -65.9980,   142.3373,        231,    69.8,  -1.3449,  34.4429,2,-999.0000,9,   315.66,2, -999.00,9,  -999.0,9, -999.00,9,-999.0000,9,-999.0000,9,-999.0000,9,  -999.0,9,  -999.0,9,   0.966,2, -999.00,9,      0.745,2
09AR20071216,    CEAMARC,      83,          1,          8,          8,2,20080112,       1758,   -65.9980,   142.3373,        231,   100.7,  -1.4240,  34.4650,2,  34.4660,2,   312.21,2,  313.05,2,    75.5,2,    2.07,2,   4.9075,2,   2.5213,2,   0.4004,2,  2222.1,2,  2338.1,2,   0.680,2,   30.04,2,      0.005,2
09AR20071216,    CEAMARC,      83,          1,          7,          7,2,20080112,       1758,   -65.9980,   142.3373,        231,   100.7,  -1.4246,  34.4652,2,-999.0000,9,   312.21,2, -999.00,9,  -999.0,9, -999.00,9,-999.0000,9,-999.0000,9,-999.0000,9,  -999.0,9,  -999.0,9,   0.627,2, -999.00,9,      0.007,2
09AR20071216,    CEAMARC,      83,          1,          6,          6,2,20080112,       1758,   -65.9980,   142.3373,        231,   139.7,  -1.4547,  34.4846,2,  34.4846,2,   308.94,2,  308.87,2,    76.9,2,    2.09,2,   4.6564,2,   2.4365,2,   0.3766,2,  2227.5,2,  2337.8,6,   0.446,2,   30.27,2,      0.001,2
09AR20071216,    CEAMARC,      83,          1,          5,          5,2,20080112,       1758,   -65.9980,   142.3373,        231,   139.7,  -1.4523,  34.4847,2,-999.0000,9,   308.94,2, -999.00,9,  -999.0,9, -999.00,9,-999.0000,9,-999.0000,9,-999.0000,9,  -999.0,9,  -999.0,9,   0.491,2, -999.00,9,      0.001,2
09AR20071216,    CEAMARC,      83,          1,          4,          4,2,20080112,       1758,   -65.9980,   142.3373,        231,   180.1,  -1.4235,  34.4971,2,  34.4969,2,   305.22,2,  304.43,2,    78.2,2,    2.11,2,   0.0000,4,   0.0000,4,   0.0000,4,    2230,2,  2337.7,2,   0.348,2,   30.75,2,      0.001,2
09AR20071216,    CEAMARC,      83,          1,          3,          3,2,20080112,       1758,   -65.9980,   142.3373,        231,   180.1,  -1.4231,  34.4972,2,-999.0000,9,   305.22,2, -999.00,9,  -999.0,9, -999.00,9,-999.0000,9,-999.0000,9,-999.0000,9,  -999.0,9,  -999.0,9,   0.320,2, -999.00,9,      0.001,2
09AR20071216,    CEAMARC,      83,          1,          2,          2,2,20080112,       1758,   -65.9980,   142.3373,        231,   219.6,  -1.3831,  34.5108,2,  34.5103,2,   301.29,2,  301.65,2,    79.4,2,    2.12,2,   0.0000,4,   0.0000,4,   0.0000,4,  2230.6,2,  2339.1,2,   0.184,2,   30.60,2,      0.001,2
09AR20071216,    CEAMARC,      83,          1,          1,          1,2,20080112,       1758,   -65.9980,   142.3373,        231,   219.6,  -1.3833,  34.5107,2,-999.0000,9,   301.29,2, -999.00,9,  -999.0,9, -999.00,9,-999.0000,9,-999.0000,9,-999.0000,9,  -999.0,9,  -999.0,9,   0.201,2, -999.00,9,      0.001,2
09AR20071216,    CEAMARC,      84,          1,         24,         24,2,20080112,       2044,   -65.9968,   141.9457,        239,     3.5,   0.0493,  34.1035,2,  34.1068,2,   355.46,2,  356.31,2,    58.2,2,    1.65,2,   6.1878,2,   3.1073,2,   0.5054,2,  2175.6,6,    2313,2,   0.907,2,   25.76,2,      2.895,2
09AR20071216,    CEAMARC,      84,          1,         23,         23,2,20080112,       2044,   -65.9968,   141.9457,        239,     3.4,   0.0444,  34.1034,2,-999.0000,9,   355.46,2, -999.00,9,  -999.0,9, -999.00,9,-999.0000,9,-999.0000,9,-999.0000,9,  -999.0,9,  -999.0,9,   0.974,2, -999.00,9,      2.907,2
09AR20071216,    CEAMARC,      84,          1,         22,         22,2,20080112,       2044,   -65.9968,   141.9457,        239,     3.3,   0.0517,  34.1038,2,-999.0000,9,   355.46,2, -999.00,9,  -999.0,9, -999.00,9,-999.0000,9,-999.0000,9,-999.0000,9,  -999.0,9,  -999.0,9,   0.891,2, -999.00,9,      2.909,2
09AR20071216,    CEAMARC,      84,          1,         21,         21,2,20080112,       2044,   -65.9968,   141.9457,        239,     3.4,   0.0522,  34.1043,2,-999.0000,9,   355.46,2, -999.00,9,  -999.0,9, -999.00,9,-999.0000,9,-999.0000,9,-999.0000,9,  -999.0,9,  -999.0,9,   0.872,2, -999.00,9,      2.903,2
09AR20071216,    CEAMARC,      84,          1,         20,         20,2,20080112,       2044,   -65.9968,   141.9457,        239,    23.9,  -0.5334,  34.1652,2,-999.0000,9,   346.37,2, -999.00,9,  -999.0,9, -999.00,9,-999.0000,9,-999.0000,9,-999.0000,9,  -999.0,9,  -999.0,9,   2.037,2, -999.00,9,      2.056,2
09AR20071216,    CEAMARC,      84,          1,         19,         19,2,20080112,       2044,   -65.9968,   141.9457,        239,    23.9,  -0.5326,  34.1650,2,-999.0000,9,   346.37,2, -999.00,9,  -999.0,9, -999.00,9,-999.0000,9,-999.0000,9,-999.0000,9,  -999.0,9,  -999.0,9,   1.976,2, -999.00,9,      2.052,2
09AR20071216,    CEAMARC,      84,          1,         18,         18,2,20080112,       2044,   -65.9968,   141.9457,        239,    23.9,  -0.5319,  34.1647,2,-999.0000,9,   346.37,2, -999.00,9,  -999.0,9, -999.00,9,-999.0000,9,-999.0000,9,-999.0000,9,  -999.0,9,  -999.0,9,   1.956,2, -999.00,9,      2.049,2
09AR20071216,    CEAMARC,      84,          1,         17,         17,2,20080112,       2044,   -65.9968,   141.9457,        239,    24.0,  -0.5320,  34.1649,2,-999.0000,9,   346.37,2, -999.00,9,  -999.0,9, -999.00,9,-999.0000,9,-999.0000,9,-999.0000,9,  -999.0,9,  -999.0,9,   1.973,2, -999.00,9,      2.052,2
09AR20071216,    CEAMARC,      84,          1,         16,         16,2,20080112,       2044,   -65.9968,   141.9457,        239,    23.9,  -0.5304,  34.1647,2,-999.0000,9,   346.37,2, -999.00,9,  -999.0,9, -999.00,9,-999.0000,9,-999.0000,9,-999.0000,9,  -999.0,9,  -999.0,9,   1.978,2, -999.00,9,      2.058,2
09AR20071216,    CEAMARC,      84,          1,         15,         15,2,20080112,       2044,   -65.9968,   141.9457,        239,    23.9,  -0.5300,  34.1646,2,-999.0000,9,   346.37,2, -999.00,9,  -999.0,9, -999.00,9,-999.0000,9,-999.0000,9,-999.0000,9,  -999.0,9,  -999.0,9,   2.008,2, -999.00,9,      2.051,2
09AR20071216,    CEAMARC,      84,          1,         14,         14,2,20080112,       2044,   -65.9968,   141.9457,        239,    23.9,  -0.5306,  34.1648,2,-999.0000,9,   346.37,2, -999.00,9,  -999.0,9, -999.00,9,-999.0000,9,-999.0000,9,-999.0000,9,  -999.0,9,  -999.0,9,   2.047,2, -999.00,9,      2.047,2
09AR20071216,    CEAMARC,      84,          1,         13,         13,2,20080112,       2044,   -65.9968,   141.9457,        239,    23.8,  -0.5304,  34.1647,2,-999.0000,9,   346.37,2, -999.00,9,  -999.0,9, -999.00,9,-999.0000,9,-999.0000,9,-999.0000,9,  -999.0,9,  -999.0,9,   2.035,2, -999.00,9,      2.054,2
09AR20071216,    CEAMARC,      84,          1,         12,         12,2,20080112,       2044,   -65.9968,   141.9457,        239,    23.9,  -0.5256,  34.1634,2,-999.0000,9,   346.37,2, -999.00,9,  -999.0,9, -999.00,9,-999.0000,9,-999.0000,9,-999.0000,9,  -999.0,9,  -999.0,9,   1.997,2, -999.00,9,      2.049,2
09AR20071216,    CEAMARC,      84,          1,         11,         11,2,20080112,       2044,   -65.9968,   141.9457,        239,    23.7,  -0.5276,  34.1636,2,  34.1651,2,   346.37,2,  346.82,2,    59.3,2,    1.78,2,   5.9975,2,   3.0028,2,   0.4699,2,  2185.6,2,  2312.5,6,   2.049,2,   26.94,2,      2.048,2
09AR20071216,    CEAMARC,      84,          1,         10,         10,2,20080112,       2044,   -65.9968,   141.9457,        239,    60.0,  -1.2651,  34.3843,2,-999.0000,9,   319.28,2, -999.00,9,  -999.0,9, -999.00,9,-999.0000,9,-999.0000,9,-999.0000,9,  -999.0,9,  -999.0,9,   1.866,2, -999.00,9,      1.114,2
09AR20071216,    CEAMARC,      84,          1,          9,          9,2,20080112,       2044,   -65.9968,   141.9457,        239,    60.0,  -1.2632,  34.3785,2,  34.3801,2,   319.28,2,  317.63,2,    70.0,2,    1.97,2,   4.9860,6,   2.5562,6,   0.4163,6,  2211.6,2,  2327.6,6,   2.061,2,   29.11,2,      1.111,2
09AR20071216,    CEAMARC,      84,          1,          8,          8,2,20080112,       2044,   -65.9968,   141.9457,        239,    90.6,  -1.2952,  34.4649,2,-999.0000,9,   298.46,2, -999.00,9,  -999.0,9, -999.00,9,-999.0000,9,-999.0000,9,-999.0000,9,  -999.0,9,  -999.0,9,   0.749,2, -999.00,9,      0.350,2
09AR20071216,    CEAMARC,      84,          1,          7,          7,2,20080112,       2044,   -65.9968,   141.9457,        239,    90.6,  -1.2956,  34.4648,2,  34.4660,2,   298.46,2,  299.92,2,    76.2,2,    2.08,2,   4.6226,2,   2.3457,2,   0.3493,2,  2225.7,2,  2332.4,2,   0.771,2,   30.26,2,      0.326,2
09AR20071216,    CEAMARC,      84,          1,          6,          6,2,20080112,       2044,   -65.9968,   141.9457,        239,   140.6,  -1.2747,  34.5344,2,-999.0000,9,   291.51,2, -999.00,9,  -999.0,9, -999.00,9,-999.0000,9,-999.0000,9,-999.0000,9,  -999.0,9,  -999.0,9,   0.157,2, -999.00,9,      0.001,2
09AR20071216,    CEAMARC,      84,          1,          5,          5,2,20080112,       2044,   -65.9968,   141.9457,        239,   140.4,  -1.2748,  34.5341,2,  34.5334,2,   291.51,2,  292.00,2,  -999.0,9, -999.00,9,   4.0067,2,   2.1019,2,   0.3251,2,  2235.5,2,  2337.5,2,   0.123,2, -999.00,9,      0.001,2
09AR20071216,    CEAMARC,      84,          1,          4,          4,2,20080112,       2044,   -65.9968,   141.9457,        239,   190.1,  -1.2973,  34.5408,2,-999.0000,9,   291.91,2, -999.00,9,  -999.0,9, -999.00,9,-999.0000,9,-999.0000,9,-999.0000,9,  -999.0,9,  -999.0,9,   0.097,2, -999.00,9,      0.001,2
09AR20071216,    CEAMARC,      84,          1,          3,          3,2,20080112,       2044,   -65.9968,   141.9457,        239,   190.1,  -1.2969,  34.5409,2,  34.5405,2,   291.91,2,  289.69,2,    81.6,2,    2.12,2,   4.2546,2,   2.1774,2,   0.3373,2,  2233.8,2,    2338,2,   0.101,2,   30.98,2,      0.001,2
09AR20071216,    CEAMARC,      84,          1,          2,          2,2,20080112,       2044,   -65.9968,   141.9457,        239,   230.8,  -1.2942,  34.5427,2,-999.0000,9,   291.99,2, -999.00,9,  -999.0,9, -999.00,9,-999.0000,9,-999.0000,9,-999.0000,9,  -999.0,9,  -999.0,9,   0.096,2, -999.00,9,      0.001,2
09AR20071216,    CEAMARC,      84,          1,          1,          1,2,20080112,       2044,   -65.9968,   141.9457,        239,   230.7,  -1.2950,  34.5430,2,  34.5426,2,   291.99,2,  293.21,2,    82.6,2,    2.14,2,   4.1006,2,   2.1315,2,   0.3366,2,  -999.0,9,    2338,2,   0.079,2,   30.86,2,      0.001,2