BOTTLE,20230622CCHSIOENA
EXPOCODE,SECT_ID,STNNBR,CASTNO,SAMPNO,BTLNBR,BTLNBR_FLAG_W,DATE,TIME,LATITUDE,LONGITUDE,DEPTH,CTDPRS,CTDTMP,CTDSAL,CTDSAL_FLAG_W,SALNTY,SALNTY_FLAG_W,CTDOXY,CTDOXY_FLAG_W,OXYGEN,OXYGEN_FLAG_W,SILCAT,SILCAT_FLAG_W,PHSPHT,PHSPHT_FLAG_W,CFC-11,CFC-11_FLAG_W,CFC-12,CFC-12_FLAG_W,CFC113,CFC113_FLAG_W,TCARBN,TCARBN_FLAG_W,ALKALI,ALKALI_FLAG_W,FLUOR,FLUOR_FLAG_W,NO2+NO3,NO2+NO3_FLAG_W,PAR,PAR_FLAG_W
,,,,,,,,,,,METERS,DBAR,ITS-90,PSS-78,,PSS-78,,UMOL/KG,,UMOL/KG,,UMOL/KG,,UMOL/KG,,PMOL/KG,,PMOL/KG,,PMOL/KG,,UMOL/KG,,UMOL/KG,,MG/M^3,,UMOL/KG,,VOLTS,
09AR20071216,    CEAMARC,      43,          1,         24,         24,2,20080103,       1917,   -66.3338,   144.3273,        450,     7.2,  -0.5221,  34.2410,2,  34.2411,2,   347.30,2,  349.88,2,    52.8,2,    1.63,2,   6.1266,2,   3.0540,2,   0.4865,2,  2184.8,3,  2317.6,6,   2.461,2,   27.28,2,      2.785,2
09AR20071216,    CEAMARC,      43,          1,         23,         23,2,20080103,       1917,   -66.3338,   144.3273,        450,     7.2,  -0.5191,  34.2411,2,-999.0000,9,   347.30,2, -999.00,9,  -999.0,9, -999.00,9,-999.0000,9,-999.0000,9,-999.0000,9,  -999.0,9,  -999.0,9,   2.507,2, -999.00,9,      2.780,2
09AR20071216,    CEAMARC,      43,          1,         22,         22,2,20080103,       1917,   -66.3338,   144.3273,        450,     7.2,  -0.5242,  34.2410,2,-999.0000,9,   347.30,2, -999.00,9,  -999.0,9, -999.00,9,-999.0000,9,-999.0000,9,-999.0000,9,  -999.0,9,  -999.0,9,   2.584,2, -999.00,9,      2.772,2
09AR20071216,    CEAMARC,      43,          1,         21,         21,2,20080103,       1917,   -66.3338,   144.3273,        450,     7.1,  -0.5222,  34.2408,2,-999.0000,9,   347.30,2, -999.00,9,  -999.0,9, -999.00,9,-999.0000,9,-999.0000,9,-999.0000,9,  -999.0,9,  -999.0,9,   2.736,2, -999.00,9,      2.774,2
09AR20071216,    CEAMARC,      43,          1,         20,         20,2,20080103,       1917,   -66.3338,   144.3273,        450,    43.1,  -0.6708,  34.2429,2,-999.0000,9,   346.31,2, -999.00,9,  -999.0,9, -999.00,9,-999.0000,9,-999.0000,9,-999.0000,9,  -999.0,9,  -999.0,9,   4.772,2, -999.00,9,      1.237,2
09AR20071216,    CEAMARC,      43,          1,         19,         19,2,20080103,       1917,   -66.3338,   144.3273,        450,    43.1,  -0.6692,  34.2430,2,-999.0000,9,   346.31,2, -999.00,9,  -999.0,9, -999.00,9,-999.0000,9,-999.0000,9,-999.0000,9,  -999.0,9,  -999.0,9,   4.785,2, -999.00,9,      1.229,2
09AR20071216,    CEAMARC,      43,          1,         18,         18,2,20080103,       1917,   -66.3338,   144.3273,        450,    43.0,  -0.6694,  34.2430,2,-999.0000,9,   346.47,2, -999.00,9,  -999.0,9, -999.00,9,-999.0000,9,-999.0000,9,-999.0000,9,  -999.0,9,  -999.0,9,   4.807,2, -999.00,9,      1.224,2
09AR20071216,    CEAMARC,      43,          1,         17,         17,2,20080103,       1917,   -66.3338,   144.3273,        450,    43.0,  -0.6692,  34.2426,2,-999.0000,9,   346.47,2, -999.00,9,  -999.0,9, -999.00,9,-999.0000,9,-999.0000,9,-999.0000,9,  -999.0,9,  -999.0,9,   4.718,2, -999.00,9,      1.217,2
09AR20071216,    CEAMARC,      43,          1,         16,         16,2,20080103,       1917,   -66.3338,   144.3273,        450,    43.0,  -0.6675,  34.2425,2,-999.0000,9,   346.31,2, -999.00,9,  -999.0,9, -999.00,9,-999.0000,9,-999.0000,9,-999.0000,9,  -999.0,9,  -999.0,9,   4.564,2, -999.00,9,      1.206,2
09AR20071216,    CEAMARC,      43,          1,         15,         15,2,20080103,       1917,   -66.3338,   144.3273,        450,    43.0,  -0.6661,  34.2422,2,-999.0000,9,   346.31,2, -999.00,9,  -999.0,9, -999.00,9,-999.0000,9,-999.0000,9,-999.0000,9,  -999.0,9,  -999.0,9,   4.697,2, -999.00,9,      1.202,2
09AR20071216,    CEAMARC,      43,          1,         14,         14,2,20080103,       1917,   -66.3338,   144.3273,        450,    43.0,  -0.6634,  34.2419,2,-999.0000,9,   346.47,2, -999.00,9,  -999.0,9, -999.00,9,-999.0000,9,-999.0000,9,-999.0000,9,  -999.0,9,  -999.0,9,   4.744,2, -999.00,9,      1.199,2
09AR20071216,    CEAMARC,      43,          1,         13,         13,2,20080103,       1917,   -66.3338,   144.3273,        450,    42.9,  -0.6656,  34.2424,2,  34.2589,4,   346.47,2,  344.93,2,    55.0,2,    1.72,2,   5.7509,2,   2.9498,2,   0.4453,2,  2186.3,4,  2322.1,2,   4.683,2,   27.73,2,      1.188,2
09AR20071216,    CEAMARC,      43,          1,         12,         12,2,20080103,       1917,   -66.3338,   144.3273,        450,    99.3,  -1.6397,  34.4225,2,-999.0000,9,   305.46,2, -999.00,9,  -999.0,9, -999.00,9,-999.0000,9,-999.0000,9,-999.0000,9,  -999.0,9,  -999.0,9,   0.239,2, -999.00,9,      0.001,2
09AR20071216,    CEAMARC,      43,          1,         11,         11,2,20080103,       1917,   -66.3338,   144.3273,        450,    99.3,  -1.6346,  34.4228,2,  34.4242,2,   305.46,2,  304.32,2,    74.5,2,    2.12,2,   4.6975,6,   2.4431,6,   0.3669,6,  2226.1,4,  2330.2,2,   0.229,2,   31.59,2,      0.001,2
09AR20071216,    CEAMARC,      43,          1,         10,         10,2,20080103,       1917,   -66.3338,   144.3273,        450,   148.2,  -1.3432,  34.4675,2,-999.0000,9,   284.70,2, -999.00,9,  -999.0,9, -999.00,9,-999.0000,9,-999.0000,9,-999.0000,9,  -999.0,9,  -999.0,9,   0.068,2, -999.00,9,      0.001,2
09AR20071216,    CEAMARC,      43,          1,          9,          9,2,20080103,       1917,   -66.3338,   144.3273,        450,   148.0,  -1.3435,  34.4677,2,  34.4683,2,   284.70,2,  286.67,2,    79.3,2,    2.14,2,   4.3359,2,   2.2168,2,   0.3417,2,  2227.6,3,  2331.9,2,   0.076,2,   31.99,2,      0.001,2
09AR20071216,    CEAMARC,      43,          1,          8,          8,2,20080103,       1917,   -66.3338,   144.3273,        450,   201.0,  -1.1392,  34.5146,2,-999.0000,9,   283.74,2, -999.00,9,  -999.0,9, -999.00,9,-999.0000,9,-999.0000,9,-999.0000,9,  -999.0,9,  -999.0,9,   0.033,2, -999.00,9,      0.001,2
09AR20071216,    CEAMARC,      43,          1,          7,          7,2,20080103,       1917,   -66.3338,   144.3273,        450,   200.0,  -1.1395,  34.5129,2,  34.5117,2,   283.74,2,  280.92,2,    82.5,2,    2.14,2,   3.9315,2,   2.0436,2,   0.2895,2,  2233.2,4,  2331.7,2,   0.041,2,   31.43,3,      0.001,2
09AR20071216,    CEAMARC,      43,          1,          6,          6,2,20080103,       1917,   -66.3338,   144.3273,        450,   298.9,  -1.6004,  34.5974,2,-999.0000,9,   297.15,2, -999.00,9,  -999.0,9, -999.00,9,-999.0000,9,-999.0000,9,-999.0000,9,  -999.0,9,  -999.0,9,  -0.026,2, -999.00,9,      0.001,2
09AR20071216,    CEAMARC,      43,          1,          5,          5,2,20080103,       1917,   -66.3338,   144.3273,        450,   299.0,  -1.5982,  34.5969,2,  34.6017,2,   297.88,2,  297.02,2,    81.0,2,    2.14,2,   4.4771,2,   2.3231,2,   0.3208,2,    2238,3,  2337.9,2,  -0.029,2,   31.64,2,      0.001,2
09AR20071216,    CEAMARC,      43,          1,          4,          4,2,20080103,       1917,   -66.3338,   144.3273,        450,   401.6,  -1.8855,  34.6721,2,-999.0000,9,   307.39,2, -999.00,9,  -999.0,9, -999.00,9,-999.0000,9,-999.0000,9,-999.0000,9,  -999.0,9,  -999.0,9,  -0.028,2, -999.00,9,      0.001,2
09AR20071216,    CEAMARC,      43,          1,          3,          3,2,20080103,       1917,   -66.3338,   144.3273,        450,   401.6,  -1.8858,  34.6722,2,  34.6719,2,   307.39,2,  308.95,2,    79.8,2,    2.13,2,   5.1166,2,   2.5518,2,   0.3978,2,  2239.6,4,  2340.8,2,  -0.026,2,   31.77,2,      0.001,2
09AR20071216,    CEAMARC,      43,          1,          2,          2,2,20080103,       1917,   -66.3338,   144.3273,        450,   442.3,  -1.8953,  34.6762,2,-999.0000,9,   308.82,2, -999.00,9,  -999.0,9, -999.00,9,-999.0000,9,-999.0000,9,-999.0000,9,  -999.0,9,  -999.0,9,  -0.035,2, -999.00,9,      0.001,2
09AR20071216,    CEAMARC,      43,          1,          1,          1,2,20080103,       1917,   -66.3338,   144.3273,        450,   442.4,  -1.8953,  34.6763,2,  34.6758,2,   308.82,2,  309.26,2,    79.3,2,    2.13,2,   5.0751,2,   2.5721,2,   0.4088,2,  2088.3,4,  2346.6,2,  -0.033,2,   30.95,3,      0.001,2
09AR20071216,    CEAMARC,      44,          1,         24,         24,2,20080103,       2253,   -66.3333,   143.9842,        505,     8.8,  -0.8317,  34.2804,2,  34.2798,2,   344.79,2,  345.65,2,    58.0,2,    1.69,2,   5.8455,2,   2.9630,2,   0.4906,2,  2190.8,6,  2319.4,6,   3.607,2,   27.70,2,      3.023,2
09AR20071216,    CEAMARC,      44,          1,         23,         23,2,20080103,       2253,   -66.3333,   143.9842,        505,     8.8,  -0.8225,  34.2793,2,-999.0000,9,   344.79,2, -999.00,9,  -999.0,9, -999.00,9,-999.0000,9,-999.0000,9,-999.0000,9,  -999.0,9,  -999.0,9,   3.198,2, -999.00,9,      3.036,2
09AR20071216,    CEAMARC,      44,          1,         22,         22,2,20080103,       2253,   -66.3333,   143.9842,        505,     8.9,  -0.8056,  34.2786,2,-999.0000,9,   344.79,2, -999.00,9,  -999.0,9, -999.00,9,-999.0000,9,-999.0000,9,-999.0000,9,  -999.0,9,  -999.0,9,   2.221,2, -999.00,9,      3.023,2
09AR20071216,    CEAMARC,      44,          1,         21,         21,2,20080103,       2253,   -66.3333,   143.9842,        505,     8.7,  -0.7894,  34.2784,2,-999.0000,9,   344.79,2, -999.00,9,  -999.0,9, -999.00,9,-999.0000,9,-999.0000,9,-999.0000,9,  -999.0,9,  -999.0,9,   2.053,2, -999.00,9,      3.024,2
09AR20071216,    CEAMARC,      44,          1,         20,         20,2,20080103,       2253,   -66.3333,   143.9842,        505,    59.7,  -1.5548,  34.4067,2,-999.0000,9,   308.97,2, -999.00,9,  -999.0,9, -999.00,9,-999.0000,9,-999.0000,9,-999.0000,9,  -999.0,9,  -999.0,9,   0.603,2, -999.00,9,      1.111,2
09AR20071216,    CEAMARC,      44,          1,         19,         19,2,20080103,       2253,   -66.3333,   143.9842,        505,    59.8,  -1.5550,  34.4059,2,-999.0000,9,   308.97,2, -999.00,9,  -999.0,9, -999.00,9,-999.0000,9,-999.0000,9,-999.0000,9,  -999.0,9,  -999.0,9,   0.660,2, -999.00,9,      1.110,2
09AR20071216,    CEAMARC,      44,          1,         18,         18,2,20080103,       2253,   -66.3333,   143.9842,        505,    59.9,  -1.5566,  34.4052,2,-999.0000,9,   308.97,2, -999.00,9,  -999.0,9, -999.00,9,-999.0000,9,-999.0000,9,-999.0000,9,  -999.0,9,  -999.0,9,   0.672,2, -999.00,9,      1.110,2
09AR20071216,    CEAMARC,      44,          1,         17,         17,2,20080103,       2253,   -66.3333,   143.9842,        505,    59.9,  -1.5605,  34.4039,2,-999.0000,9,   308.97,2, -999.00,9,  -999.0,9, -999.00,9,-999.0000,9,-999.0000,9,-999.0000,9,  -999.0,9,  -999.0,9,   0.744,2, -999.00,9,      1.117,2
09AR20071216,    CEAMARC,      44,          1,         16,         16,2,20080103,       2253,   -66.3333,   143.9842,        505,    59.8,  -1.5610,  34.4022,2,-999.0000,9,   308.97,2, -999.00,9,  -999.0,9, -999.00,9,-999.0000,9,-999.0000,9,-999.0000,9,  -999.0,9,  -999.0,9,   0.737,2, -999.00,9,      1.115,2
09AR20071216,    CEAMARC,      44,          1,         15,         15,2,20080103,       2253,   -66.3333,   143.9842,        505,    60.0,  -1.5600,  34.4003,2,-999.0000,9,   308.97,2, -999.00,9,  -999.0,9, -999.00,9,-999.0000,9,-999.0000,9,-999.0000,9,  -999.0,9,  -999.0,9,   0.718,2, -999.00,9,      1.110,2
09AR20071216,    CEAMARC,      44,          1,         14,         14,2,20080103,       2253,   -66.3333,   143.9842,        505,    60.2,  -1.5609,  34.3996,2,  34.4005,2,   308.97,2,  307.89,2,    73.6,2,    2.05,2,   5.0031,2,   2.5081,2,   0.4051,2,  2222.1,2,    2326,2,   0.768,2,   30.87,2,      1.114,2
09AR20071216,    CEAMARC,      44,          1,         13,         13,2,20080103,       2253,   -66.3333,   143.9842,        505,    60.1,  -1.5608,  34.3998,2,-999.0000,9,   308.97,2, -999.00,9,  -999.0,9, -999.00,9,-999.0000,9,-999.0000,9,-999.0000,9,  -999.0,9,  -999.0,9,   0.766,2, -999.00,9,      1.118,2
09AR20071216,    CEAMARC,      44,          1,         12,         12,2,20080103,       2253,   -66.3333,   143.9842,        505,    99.8,  -1.5448,  34.4338,2,  34.4344,2,   302.91,2,  301.02,2,    76.5,2,    2.10,2,   4.5205,2,   2.3753,2,   0.3453,2,  2227.1,2,  2327.1,6,   0.428,2,   31.39,2,      0.224,2
09AR20071216,    CEAMARC,      44,          1,         11,         11,2,20080103,       2253,   -66.3333,   143.9842,        505,    99.8,  -1.5412,  34.4347,2,-999.0000,9,   302.91,2, -999.00,9,  -999.0,9, -999.00,9,-999.0000,9,-999.0000,9,-999.0000,9,  -999.0,9,  -999.0,9,   0.305,2, -999.00,9,      0.224,2
09AR20071216,    CEAMARC,      44,          1,         10,         10,2,20080103,       2253,   -66.3333,   143.9842,        505,   166.1,  -1.8643,  34.4589,2,  34.4589,2,   310.72,2,  311.57,2,    79.1,2,    2.10,2,   5.2412,2,   2.6146,2,   0.4273,2,    2228,2,  2331.9,2,  -0.008,2,   31.31,2,      0.001,2
09AR20071216,    CEAMARC,      44,          1,          9,          9,2,20080103,       2253,   -66.3333,   143.9842,        505,   166.0,  -1.8629,  34.4591,2,-999.0000,9,   310.72,2, -999.00,9,  -999.0,9, -999.00,9,-999.0000,9,-999.0000,9,-999.0000,9,  -999.0,9,  -999.0,9,  -0.010,2, -999.00,9,      0.001,2
09AR20071216,    CEAMARC,      44,          1,          8,          8,2,20080103,       2253,   -66.3333,   143.9842,        505,   245.4,  -1.7562,  34.5177,2,  34.5169,2,   301.74,2,  305.51,2,    79.7,2,    2.12,2,   4.8609,2,   2.4872,2,   0.4017,2,  2233.5,2,  2334.3,2,  -0.017,2,   31.61,2,      0.001,2
09AR20071216,    CEAMARC,      44,          1,          7,          7,2,20080103,       2253,   -66.3333,   143.9842,        505,   245.4,  -1.7563,  34.5173,2,-999.0000,9,   301.74,2, -999.00,9,  -999.0,9, -999.00,9,-999.0000,9,-999.0000,9,-999.0000,9,  -999.0,9,  -999.0,9,  -0.014,2, -999.00,9,      0.001,2
09AR20071216,    CEAMARC,      44,          1,          6,          6,2,20080103,       2253,   -66.3333,   143.9842,        505,   351.1,  -1.9206,  34.5834,2,  34.5826,2,   308.57,2,  308.31,2,    79.0,2,    2.12,2,   4.9969,2,   2.5360,2,   0.3881,2,  2236.7,2,  2340.6,2,  -0.040,2,   31.70,2,      0.001,2
09AR20071216,    CEAMARC,      44,          1,          5,          5,2,20080103,       2253,   -66.3333,   143.9842,        505,   350.9,  -1.9204,  34.5835,2,-999.0000,9,   308.61,2, -999.00,9,  -999.0,9, -999.00,9,-999.0000,9,-999.0000,9,-999.0000,9,  -999.0,9,  -999.0,9,  -0.039,2, -999.00,9,      0.001,2
09AR20071216,    CEAMARC,      44,          1,          4,          4,2,20080103,       2253,   -66.3333,   143.9842,        505,   451.0,  -1.8956,  34.6572,2,  34.6574,2,   310.78,2,  310.25,2,    78.7,2,    2.13,2,   5.0700,2,   2.5481,6,   0.3888,6,  2241.3,2,  2344.1,6,  -0.029,2,   31.78,2,      0.001,2
09AR20071216,    CEAMARC,      44,          1,          3,          3,2,20080103,       2253,   -66.3333,   143.9842,        505,   451.2,  -1.8945,  34.6563,2,-999.0000,9,   310.83,2, -999.00,9,  -999.0,9, -999.00,9,-999.0000,9,-999.0000,9,-999.0000,9,  -999.0,9,  -999.0,9,  -0.028,2, -999.00,9,      0.001,2
09AR20071216,    CEAMARC,      44,          1,          2,          2,2,20080103,       2253,   -66.3333,   143.9842,        505,   496.7,  -1.9008,  34.6774,2,  34.6768,2,   312.46,2,  312.60,2,    79.2,2,    2.13,2,   5.1668,2,   2.5868,2,   0.4161,2,  2242.8,2,  2344.3,2,  -0.027,2,   31.81,2,      0.001,2
09AR20071216,    CEAMARC,      44,          1,          1,          1,2,20080103,       2253,   -66.3333,   143.9842,        505,   496.6,  -1.9010,  34.6774,2,-999.0000,9,   312.46,2, -999.00,9,  -999.0,9, -999.00,9,-999.0000,9,-999.0000,9,-999.0000,9,  -999.0,9,  -999.0,9,  -0.032,2, -999.00,9,      0.001,2