BOTTLE,20230622CCHSIOENA
EXPOCODE,SECT_ID,STNNBR,CASTNO,SAMPNO,BTLNBR,BTLNBR_FLAG_W,DATE,TIME,LATITUDE,LONGITUDE,DEPTH,CTDPRS,CTDTMP,CTDSAL,CTDSAL_FLAG_W,SALNTY,SALNTY_FLAG_W,CTDOXY,CTDOXY_FLAG_W,OXYGEN,OXYGEN_FLAG_W,SILCAT,SILCAT_FLAG_W,PHSPHT,PHSPHT_FLAG_W,CFC-11,CFC-11_FLAG_W,CFC-12,CFC-12_FLAG_W,CFC113,CFC113_FLAG_W,TCARBN,TCARBN_FLAG_W,ALKALI,ALKALI_FLAG_W,FLUOR,FLUOR_FLAG_W,NO2+NO3,NO2+NO3_FLAG_W,PAR,PAR_FLAG_W
,,,,,,,,,,,METERS,DBAR,ITS-90,PSS-78,,PSS-78,,UMOL/KG,,UMOL/KG,,UMOL/KG,,UMOL/KG,,PMOL/KG,,PMOL/KG,,PMOL/KG,,UMOL/KG,,UMOL/KG,,MG/M^3,,UMOL/KG,,VOLTS,
09AR20071216,    CEAMARC,      97,          1,         24,         24,2,20080114,       2309,   -66.3467,   139.9478,        612,    10.3,  -1.3883,  33.8309,2,-999.0000,9,   355.08,2, -999.00,9,  -999.0,9, -999.00,9,-999.0000,9,-999.0000,9,-999.0000,9,  -999.0,9,  -999.0,9,   0.630,2, -999.00,9,      3.577,2
09AR20071216,    CEAMARC,      97,          1,         23,         23,2,20080114,       2309,   -66.3467,   139.9478,        612,    10.2,  -1.3876,  33.8272,2,-999.0000,9,   355.08,2, -999.00,9,  -999.0,9, -999.00,9,-999.0000,9,-999.0000,9,-999.0000,9,  -999.0,9,  -999.0,9,   0.671,2, -999.00,9,      3.572,2
09AR20071216,    CEAMARC,      97,          1,         22,         22,2,20080114,       2309,   -66.3467,   139.9478,        612,    10.2,  -1.3848,  33.8112,2,-999.0000,9,   355.08,2, -999.00,9,  -999.0,9, -999.00,9,-999.0000,9,-999.0000,9,-999.0000,9,  -999.0,9,  -999.0,9,   0.665,2, -999.00,9,      3.573,2
09AR20071216,    CEAMARC,      97,          1,         21,         21,2,20080114,       2309,   -66.3467,   139.9478,        612,    10.2,  -1.3820,  33.7969,2,-999.0000,9,   355.08,2, -999.00,9,  -999.0,9, -999.00,9,-999.0000,9,-999.0000,9,-999.0000,9,  -999.0,9,  -999.0,9,   0.719,2, -999.00,9,      3.567,2
09AR20071216,    CEAMARC,      97,          1,         20,         20,2,20080114,       2309,   -66.3467,   139.9478,        612,    10.3,  -1.3799,  33.7898,2,-999.0000,9,   355.08,2, -999.00,9,  -999.0,9, -999.00,9,-999.0000,9,-999.0000,9,-999.0000,9,  -999.0,9,  -999.0,9,   0.800,2, -999.00,9,      3.565,2
09AR20071216,    CEAMARC,      97,          1,         19,         19,2,20080114,       2309,   -66.3467,   139.9478,        612,    10.2,  -1.3765,  33.7769,2,-999.0000,9,   355.08,2, -999.00,9,  -999.0,9, -999.00,9,-999.0000,9,-999.0000,9,-999.0000,9,  -999.0,9,  -999.0,9,   0.795,2, -999.00,9,      3.578,2
09AR20071216,    CEAMARC,      97,          1,         18,         18,2,20080114,       2309,   -66.3467,   139.9478,        612,    10.0,  -1.3819,  33.7991,2,  33.7210,4,   355.08,2,  352.73,2,    60.4,2,    1.74,2,   5.6496,2,   2.9316,2,   0.4562,2,  2152.4,6,  2288.5,2,   0.802,2,   26.79,3,      3.585,2
09AR20071216,    CEAMARC,      97,          1,         17,         17,2,20080114,       2309,   -66.3467,   139.9478,        612,    10.1,  -1.3764,  33.7710,2,-999.0000,9,   355.08,2, -999.00,9,  -999.0,9, -999.00,9,-999.0000,9,-999.0000,9,-999.0000,9,  -999.0,9,  -999.0,9,   0.729,2, -999.00,9,      3.574,2
09AR20071216,    CEAMARC,      97,          1,         16,         16,2,20080114,       2309,   -66.3467,   139.9478,        612,    49.4,  -1.2795,  34.2584,2,  34.2565,2,   346.21,2,  349.52,2,    67.4,2,    1.84,2,   5.5594,2,   2.9073,2,   0.4486,2,  2192.2,2,    2327,6,   2.016,2,   26.81,3,      1.698,2
09AR20071216,    CEAMARC,      97,          1,         15,         15,2,20080114,       2309,   -66.3467,   139.9478,        612,    49.4,  -1.2806,  34.2628,2,-999.0000,9,   346.21,2, -999.00,9,  -999.0,9, -999.00,9,-999.0000,9,-999.0000,9,-999.0000,9,  -999.0,9,  -999.0,9,   2.005,2, -999.00,9,      1.694,2
09AR20071216,    CEAMARC,      97,          1,         14,         14,2,20080114,       2309,   -66.3467,   139.9478,        612,    98.4,  -1.4632,  34.4048,2,  34.4054,2,   308.13,2,  308.59,2,    73.4,2,    2.06,2,   4.8498,2,   2.5343,2,   0.3769,2,  2221.4,2,    2334,2,   0.361,2,   30.91,3,      0.107,2
09AR20071216,    CEAMARC,      97,          1,         13,         13,2,20080114,       2309,   -66.3467,   139.9478,        612,    98.2,  -1.4626,  34.4046,2,-999.0000,9,   308.13,2, -999.00,9,  -999.0,9, -999.00,9,-999.0000,9,-999.0000,9,-999.0000,9,  -999.0,9,  -999.0,9,   0.352,2, -999.00,9,      0.112,2
09AR20071216,    CEAMARC,      97,          1,         12,         12,2,20080114,       2309,   -66.3467,   139.9478,        612,   147.8,  -1.3823,  34.4470,2,  34.4476,2,   300.96,2,  302.49,2,    76.8,2,    2.06,2,   4.4834,6,   2.3700,6,   0.3417,6,  2225.3,2,  2333.8,6,   0.301,2,   30.98,3,      0.001,2
09AR20071216,    CEAMARC,      97,          1,         11,         11,2,20080114,       2309,   -66.3467,   139.9478,        612,   148.1,  -1.3798,  34.4471,2,-999.0000,9,   300.96,2, -999.00,9,  -999.0,9, -999.00,9,-999.0000,9,-999.0000,9,-999.0000,9,  -999.0,9,  -999.0,9,   0.299,2, -999.00,9,      0.001,2
09AR20071216,    CEAMARC,      97,          1,         10,         10,2,20080114,       2309,   -66.3467,   139.9478,        612,   199.9,  -1.3961,  34.4764,2,  34.4756,2,   300.53,2,  299.74,2,    77.7,2,    2.06,2,   4.5210,2,   2.3567,2,   0.3599,2,  2231.7,2,  2337.3,2,   0.185,2,   31.01,3,      0.001,2
09AR20071216,    CEAMARC,      97,          1,          9,          9,2,20080114,       2309,   -66.3467,   139.9478,        612,   200.0,  -1.3964,  34.4764,2,-999.0000,9,   300.53,2, -999.00,9,  -999.0,9, -999.00,9,-999.0000,9,-999.0000,9,-999.0000,9,  -999.0,9,  -999.0,9,   0.165,2, -999.00,9,      0.001,2
09AR20071216,    CEAMARC,      97,          1,          8,          8,2,20080114,       2309,   -66.3467,   139.9478,        612,   301.1,  -1.3016,  34.5198,2,  34.5203,2,   293.90,2,  289.78,2,    81.4,2,    2.10,2,   4.1808,2,   2.1894,2,   0.3296,2,  2235.4,2,  2340.1,2,   0.061,2,   31.53,3,      0.001,2
09AR20071216,    CEAMARC,      97,          1,          7,          7,2,20080114,       2309,   -66.3467,   139.9478,        612,   300.8,  -1.3022,  34.5198,2,-999.0000,9,   294.12,2, -999.00,9,  -999.0,9, -999.00,9,-999.0000,9,-999.0000,9,-999.0000,9,  -999.0,9,  -999.0,9,   0.074,2, -999.00,9,      0.001,2
09AR20071216,    CEAMARC,      97,          1,          6,          6,2,20080114,       2309,   -66.3467,   139.9478,        612,   400.0,  -1.4222,  34.5377,2,  34.5385,2,   291.84,2,  292.78,2,    81.0,2,    2.11,2,   4.2928,2,   2.2657,2,   0.3401,2,  2236.4,2,  2341.7,2,  -0.003,2,   31.41,3,      0.001,2
09AR20071216,    CEAMARC,      97,          1,          5,          5,2,20080114,       2309,   -66.3467,   139.9478,        612,   399.9,  -1.4196,  34.5379,2,-999.0000,9,   291.84,2, -999.00,9,  -999.0,9, -999.00,9,-999.0000,9,-999.0000,9,-999.0000,9,  -999.0,9,  -999.0,9,   0.000,2, -999.00,9,      0.001,2
09AR20071216,    CEAMARC,      97,          1,          4,          4,2,20080114,       2309,   -66.3467,   139.9478,        612,   550.7,  -1.7271,  34.5455,2,  34.5460,2,   304.16,2,  303.16,2,    77.0,2,    2.10,2,   4.8816,2,   2.5311,2,   0.3841,2,  2235.3,2,    2337,2,  -0.029,2,   30.80,3,      0.001,2
09AR20071216,    CEAMARC,      97,          1,          3,          3,2,20080114,       2309,   -66.3467,   139.9478,        612,   550.8,  -1.7273,  34.5454,2,-999.0000,9,   304.16,2, -999.00,9,  -999.0,9, -999.00,9,-999.0000,9,-999.0000,9,-999.0000,9,  -999.0,9,  -999.0,9,  -0.026,2, -999.00,9,      0.001,2
09AR20071216,    CEAMARC,      97,          1,          2,          2,2,20080114,       2309,   -66.3467,   139.9478,        612,   622.4,  -1.7812,  34.5493,2,  34.5501,2,   306.76,2,  307.20,2,    77.3,2,    2.11,2,   4.9389,2,   2.5972,2,   0.3799,2,  2235.9,2,  2337.7,2,  -0.028,2,   31.99,3,      0.001,2
09AR20071216,    CEAMARC,      97,          1,          1,          1,2,20080114,       2309,   -66.3467,   139.9478,        612,   622.4,  -1.7780,  34.5494,2,-999.0000,9,   306.76,2, -999.00,9,  -999.0,9, -999.00,9,-999.0000,9,-999.0000,9,-999.0000,9,  -999.0,9,  -999.0,9,  -0.023,2, -999.00,9,      0.001,2
09AR20071216,    CEAMARC,      98,          1,         24,         24,2,20080115,       0247,   -66.3917,   139.8068,        890,     5.3,  -1.3392,  33.3827,2,  33.3583,2,   359.50,2,  359.98,2,    55.4,2,    1.61,2,   5.8556,2,   3.0173,2,   0.4972,2,  2123.8,6,  2260.7,2,   0.152,2,   24.59,2,      4.000,2
09AR20071216,    CEAMARC,      98,          1,         23,         23,2,20080115,       0247,   -66.3917,   139.8068,        890,     5.3,  -1.3328,  33.3708,2,-999.0000,9,   359.50,2, -999.00,9,  -999.0,9, -999.00,9,-999.0000,9,-999.0000,9,-999.0000,9,  -999.0,9,  -999.0,9,   0.150,2, -999.00,9,      3.999,2
09AR20071216,    CEAMARC,      98,          1,         22,         22,2,20080115,       0247,   -66.3917,   139.8068,        890,     5.3,  -1.3081,  33.3451,2,-999.0000,9,   359.50,2, -999.00,9,  -999.0,9, -999.00,9,-999.0000,9,-999.0000,9,-999.0000,9,  -999.0,9,  -999.0,9,   0.161,2, -999.00,9,      4.009,2
09AR20071216,    CEAMARC,      98,          1,         21,         21,2,20080115,       0247,   -66.3917,   139.8068,        890,     5.3,  -1.3163,  33.3560,2,-999.0000,9,   359.50,2, -999.00,9,  -999.0,9, -999.00,9,-999.0000,9,-999.0000,9,-999.0000,9,  -999.0,9,  -999.0,9,   0.160,2, -999.00,9,      4.019,2
09AR20071216,    CEAMARC,      98,          1,         20,         20,2,20080115,       0247,   -66.3917,   139.8068,        890,    23.9,  -1.0525,  34.3006,2,  34.3000,2,   356.42,2,  355.07,2,    65.8,2,    1.67,2,   5.4824,2,   2.8503,2,   0.4376,2,  2187.7,2,  2324.6,6,   5.703,2,   25.30,2,      2.795,2
09AR20071216,    CEAMARC,      98,          1,         19,         19,2,20080115,       0247,   -66.3917,   139.8068,        890,    23.9,  -1.0533,  34.2987,2,-999.0000,9,   356.42,2, -999.00,9,  -999.0,9, -999.00,9,-999.0000,9,-999.0000,9,-999.0000,9,  -999.0,9,  -999.0,9,   6.172,2, -999.00,9,      2.797,2
09AR20071216,    CEAMARC,      98,          1,         18,         18,2,20080115,       0247,   -66.3917,   139.8068,        890,    44.8,  -1.2763,  34.3725,2,  34.3727,2,   335.77,2,  335.28,2,    69.0,2,    1.86,2,   5.3471,2,   2.7550,2,   0.4343,2,  2208.2,2,  2327.8,2,   2.686,2,   27.50,2,      1.663,2
09AR20071216,    CEAMARC,      98,          1,         17,         17,2,20080115,       0247,   -66.3917,   139.8068,        890,    44.8,  -1.2743,  34.3729,2,-999.0000,9,   335.77,2, -999.00,9,  -999.0,9, -999.00,9,-999.0000,9,-999.0000,9,-999.0000,9,  -999.0,9,  -999.0,9,   2.720,2, -999.00,9,      1.664,2
09AR20071216,    CEAMARC,      98,          1,         16,         16,2,20080115,       0247,   -66.3917,   139.8068,        890,   149.5,  -1.2799,  34.4432,2,  34.4442,2,   337.28,2,  336.99,2,    70.9,2,    1.88,2,   5.5061,2,   2.8380,2,   0.4500,2,  2212.2,2,  2335.1,2,   2.006,2,   27.57,2,      0.001,2
09AR20071216,    CEAMARC,      98,          1,         15,         15,2,20080115,       0247,   -66.3917,   139.8068,        890,   149.5,  -1.2802,  34.4438,2,-999.0000,9,   337.28,2, -999.00,9,  -999.0,9, -999.00,9,-999.0000,9,-999.0000,9,-999.0000,9,  -999.0,9,  -999.0,9,   1.846,2, -999.00,9,      0.001,2
09AR20071216,    CEAMARC,      98,          1,         14,         14,2,20080115,       0247,   -66.3917,   139.8068,        890,   248.9,  -1.5297,  34.4578,2,  34.4574,2,   329.68,2,  330.78,2,    72.7,2,    1.98,2,   5.2531,2,   2.8140,2,   0.4068,2,    2219,2,  2332.5,2,   0.910,2,   28.83,2,      0.001,2
09AR20071216,    CEAMARC,      98,          1,         13,         13,2,20080115,       0247,   -66.3917,   139.8068,        890,   248.6,  -1.5305,  34.4574,2,-999.0000,9,   329.68,2, -999.00,9,  -999.0,9, -999.00,9,-999.0000,9,-999.0000,9,-999.0000,9,  -999.0,9,  -999.0,9,   1.023,2, -999.00,9,      0.001,2
09AR20071216,    CEAMARC,      98,          1,         12,         12,2,20080115,       0247,   -66.3917,   139.8068,        890,   349.6,  -1.5291,  34.4668,2,  34.4670,2,   326.28,2,  326.07,2,    73.1,2,    1.99,2,   5.2013,2,   2.7004,2,   0.4316,2,  2219.4,2,    2335,6,   1.059,2,   28.96,2,      0.001,2
09AR20071216,    CEAMARC,      98,          1,         11,         11,2,20080115,       0247,   -66.3917,   139.8068,        890,   349.4,  -1.5251,  34.4671,2,-999.0000,9,   326.28,2, -999.00,9,  -999.0,9, -999.00,9,-999.0000,9,-999.0000,9,-999.0000,9,  -999.0,9,  -999.0,9,   0.980,2, -999.00,9,      0.001,2
09AR20071216,    CEAMARC,      98,          1,         10,         10,2,20080115,       0247,   -66.3917,   139.8068,        890,   500.8,  -1.6807,  34.4887,2,  34.4891,2,   318.18,2,  316.08,2,    75.0,2,    2.06,2,   4.9976,2,   2.6000,2,   0.4091,2,  2227.1,2,  2333.5,2,   0.431,2,   29.96,2,      0.001,2
09AR20071216,    CEAMARC,      98,          1,          9,          9,2,20080115,       0247,   -66.3917,   139.8068,        890,   500.7,  -1.6807,  34.4888,2,-999.0000,9,   318.18,2, -999.00,9,  -999.0,9, -999.00,9,-999.0000,9,-999.0000,9,-999.0000,9,  -999.0,9,  -999.0,9,   0.431,2, -999.00,9,      0.001,2
09AR20071216,    CEAMARC,      98,          1,          8,          8,2,20080115,       0247,   -66.3917,   139.8068,        890,   649.5,  -1.6825,  34.5102,2,  34.5101,2,   311.20,2,  310.08,2,    76.5,2,    2.09,2,   4.8549,2,   2.5357,2,   0.3975,2,  2230.5,2,  2334.8,2,   0.131,2,   30.44,2,      0.001,2
09AR20071216,    CEAMARC,      98,          1,          7,          7,2,20080115,       0247,   -66.3917,   139.8068,        890,   649.7,  -1.6841,  34.5104,2,-999.0000,9,   311.20,2, -999.00,9,  -999.0,9, -999.00,9,-999.0000,9,-999.0000,9,-999.0000,9,  -999.0,9,  -999.0,9,   0.146,2, -999.00,9,      0.001,2
09AR20071216,    CEAMARC,      98,          1,          6,          6,2,20080115,       0247,   -66.3917,   139.8068,        890,   749.0,  -1.6462,  34.5286,2,  34.5289,2,   301.34,2,  301.86,2,    78.1,2,    2.11,2,   4.6404,2,   2.4039,2,   0.3793,2,  2234.3,2,  2335.5,2,  -0.019,2,   30.74,2,      0.001,2
09AR20071216,    CEAMARC,      98,          1,          5,          5,2,20080115,       0247,   -66.3917,   139.8068,        890,   748.9,  -1.6509,  34.5284,2,-999.0000,9,   301.34,2, -999.00,9,  -999.0,9, -999.00,9,-999.0000,9,-999.0000,9,-999.0000,9,  -999.0,9,  -999.0,9,  -0.021,2, -999.00,9,      0.001,2
09AR20071216,    CEAMARC,      98,          1,          4,          4,2,20080115,       0247,   -66.3917,   139.8068,        890,   849.2,  -1.6878,  34.5487,2,  34.5495,2,   304.09,2,  301.47,2,    78.1,2,    2.10,2,   4.7378,6,   2.4518,6,   0.3943,6,       0,4,  2337.5,6,  -0.018,2,   30.61,2,      0.001,2
09AR20071216,    CEAMARC,      98,          1,          3,          3,2,20080115,       0247,   -66.3917,   139.8068,        890,   849.0,  -1.6899,  34.5487,2,-999.0000,9,   303.20,2, -999.00,9,  -999.0,9, -999.00,9,-999.0000,9,-999.0000,9,-999.0000,9,  -999.0,9,  -999.0,9,  -0.021,2, -999.00,9,      0.001,2
09AR20071216,    CEAMARC,      98,          1,          2,          2,2,20080115,       0247,   -66.3917,   139.8068,        890,   886.4,  -1.7645,  34.5553,2,  34.5552,2,   305.23,2,  305.98,2,    77.8,2,    2.11,2,   4.7968,2,   2.5183,2,   0.3971,2,  2237.1,3,  2336.1,2,  -0.008,2,   30.95,2,      0.001,2
09AR20071216,    CEAMARC,      98,          1,          1,          1,2,20080115,       0247,   -66.3917,   139.8068,        890,   886.3,  -1.7645,  34.5548,2,-999.0000,9,   305.23,2, -999.00,9,  -999.0,9, -999.00,9,-999.0000,9,-999.0000,9,-999.0000,9,  -999.0,9,  -999.0,9,  -0.016,2, -999.00,9,      0.001,2