BOTTLE,20230622CCHSIOENA
EXPOCODE,SECT_ID,STNNBR,CASTNO,SAMPNO,BTLNBR,BTLNBR_FLAG_W,DATE,TIME,LATITUDE,LONGITUDE,DEPTH,CTDPRS,CTDTMP,CTDSAL,CTDSAL_FLAG_W,SALNTY,SALNTY_FLAG_W,CTDOXY,CTDOXY_FLAG_W,OXYGEN,OXYGEN_FLAG_W,SILCAT,SILCAT_FLAG_W,PHSPHT,PHSPHT_FLAG_W,CFC-11,CFC-11_FLAG_W,CFC-12,CFC-12_FLAG_W,CFC113,CFC113_FLAG_W,TCARBN,TCARBN_FLAG_W,ALKALI,ALKALI_FLAG_W,FLUOR,FLUOR_FLAG_W,NO2+NO3,NO2+NO3_FLAG_W,PAR,PAR_FLAG_W
,,,,,,,,,,,METERS,DBAR,ITS-90,PSS-78,,PSS-78,,UMOL/KG,,UMOL/KG,,UMOL/KG,,UMOL/KG,,PMOL/KG,,PMOL/KG,,PMOL/KG,,UMOL/KG,,UMOL/KG,,MG/M^3,,UMOL/KG,,VOLTS,
09AR20071216,    CEAMARC,      85,          1,         24,         24,2,20080112,       2359,   -65.9975,   141.2907,        228,     4.5,   0.0101,  34.0328,2,  34.0428,2,   356.83,2,  356.95,2,    59.5,2,    1.71,2,   6.0600,2,   3.1098,2,   0.4930,2,  2169.8,6,    2311,2,   0.112,2,   25.95,2,      3.751,2
09AR20071216,    CEAMARC,      85,          1,         23,         23,2,20080112,       2359,   -65.9975,   141.2907,        228,     4.5,  -0.0085,  34.0396,2,-999.0000,9,   356.83,2, -999.00,9,  -999.0,9, -999.00,9,-999.0000,9,-999.0000,9,-999.0000,9,  -999.0,9,  -999.0,9,   0.068,2, -999.00,9,      3.738,2
09AR20071216,    CEAMARC,      85,          1,         22,         22,2,20080112,       2359,   -65.9975,   141.2907,        228,     4.6,  -0.0092,  34.0399,2,-999.0000,9,   356.83,2, -999.00,9,  -999.0,9, -999.00,9,-999.0000,9,-999.0000,9,-999.0000,9,  -999.0,9,  -999.0,9,   0.058,2, -999.00,9,      3.731,2
09AR20071216,    CEAMARC,      85,          1,         21,         21,2,20080112,       2359,   -65.9975,   141.2907,        228,     4.4,   0.0065,  34.0346,2,-999.0000,9,   356.83,2, -999.00,9,  -999.0,9, -999.00,9,-999.0000,9,-999.0000,9,-999.0000,9,  -999.0,9,  -999.0,9,   0.064,2, -999.00,9,      3.743,2
09AR20071216,    CEAMARC,      85,          1,         20,         20,2,20080112,       2359,   -65.9975,   141.2907,        228,    24.6,  -0.3147,  34.1307,2,-999.0000,9,   357.57,2, -999.00,9,  -999.0,9, -999.00,9,-999.0000,9,-999.0000,9,-999.0000,9,  -999.0,9,  -999.0,9,   1.895,2, -999.00,9,      2.996,2
09AR20071216,    CEAMARC,      85,          1,         19,         19,2,20080112,       2359,   -65.9975,   141.2907,        228,    24.7,  -0.3053,  34.1281,2,-999.0000,9,   357.57,2, -999.00,9,  -999.0,9, -999.00,9,-999.0000,9,-999.0000,9,-999.0000,9,  -999.0,9,  -999.0,9,   1.689,2, -999.00,9,      2.988,2
09AR20071216,    CEAMARC,      85,          1,         18,         18,2,20080112,       2359,   -65.9975,   141.2907,        228,    24.6,  -0.2961,  34.1247,2,  34.1283,2,   357.57,2,  358.22,2,    60.6,2,    1.69,2,   6.1052,2,   3.0720,2,   0.4764,2,  2173.4,2,  2316.2,6,   1.973,2,   25.63,2,      2.977,2
09AR20071216,    CEAMARC,      85,          1,         17,         17,2,20080112,       2359,   -65.9975,   141.2907,        228,    24.5,  -0.2960,  34.1247,2,-999.0000,9,   357.57,2, -999.00,9,  -999.0,9, -999.00,9,-999.0000,9,-999.0000,9,-999.0000,9,  -999.0,9,  -999.0,9,   1.778,2, -999.00,9,      2.979,2
09AR20071216,    CEAMARC,      85,          1,         16,         16,2,20080112,       2359,   -65.9975,   141.2907,        228,    39.5,  -0.9729,  34.2099,2,-999.0000,9,   342.37,2, -999.00,9,  -999.0,9, -999.00,9,-999.0000,9,-999.0000,9,-999.0000,9,  -999.0,9,  -999.0,9,   4.380,2, -999.00,9,      2.316,2
09AR20071216,    CEAMARC,      85,          1,         15,         15,2,20080112,       2359,   -65.9975,   141.2907,        228,    39.5,  -0.9855,  34.2112,2,-999.0000,9,   342.37,2, -999.00,9,  -999.0,9, -999.00,9,-999.0000,9,-999.0000,9,-999.0000,9,  -999.0,9,  -999.0,9,   4.348,2, -999.00,9,      2.319,2
09AR20071216,    CEAMARC,      85,          1,         14,         14,2,20080112,       2359,   -65.9975,   141.2907,        228,    39.6,  -1.0045,  34.2137,2,-999.0000,9,   342.37,2, -999.00,9,  -999.0,9, -999.00,9,-999.0000,9,-999.0000,9,-999.0000,9,  -999.0,9,  -999.0,9,   4.360,2, -999.00,9,      2.318,2
09AR20071216,    CEAMARC,      85,          1,         13,         13,2,20080112,       2359,   -65.9975,   141.2907,        228,    39.6,  -0.9784,  34.2096,2,-999.0000,9,   342.37,2, -999.00,9,  -999.0,9, -999.00,9,-999.0000,9,-999.0000,9,-999.0000,9,  -999.0,9,  -999.0,9,   4.280,2, -999.00,9,      2.323,2
09AR20071216,    CEAMARC,      85,          1,         12,         12,2,20080112,       2359,   -65.9975,   141.2907,        228,    39.5,  -0.9461,  34.2051,2,-999.0000,9,   342.37,2, -999.00,9,  -999.0,9, -999.00,9,-999.0000,9,-999.0000,9,-999.0000,9,  -999.0,9,  -999.0,9,   4.229,2, -999.00,9,      2.334,2
09AR20071216,    CEAMARC,      85,          1,         11,         11,2,20080112,       2359,   -65.9975,   141.2907,        228,    39.5,  -1.1254,  34.2387,2,-999.0000,9,   342.37,2, -999.00,9,  -999.0,9, -999.00,9,-999.0000,9,-999.0000,9,-999.0000,9,  -999.0,9,  -999.0,9,   4.359,2, -999.00,9,      2.338,2
09AR20071216,    CEAMARC,      85,          1,         10,         10,2,20080112,       2359,   -65.9975,   141.2907,        228,    59.3,  -1.5855,  34.4061,2,  34.4074,2,   317.41,2,  317.19,2,    70.4,2,    2.08,2,   5.0442,2,   2.5733,2,   0.4084,2,  2219.1,2,  2331.9,2,   1.712,2,   29.80,2,      1.472,2
09AR20071216,    CEAMARC,      85,          1,          9,          9,2,20080112,       2359,   -65.9975,   141.2907,        228,    59.3,  -1.5949,  34.4073,2,-999.0000,9,   317.41,2, -999.00,9,  -999.0,9, -999.00,9,-999.0000,9,-999.0000,9,-999.0000,9,  -999.0,9,  -999.0,9,   1.701,2, -999.00,9,      1.474,2
09AR20071216,    CEAMARC,      85,          1,          8,          8,2,20080112,       2359,   -65.9975,   141.2907,        228,    89.7,  -1.5890,  34.4452,2,  34.4460,2,   308.90,2,  308.44,2,    73.1,2,    2.12,2,   4.9152,2,   2.5062,2,   0.4029,2,  2225.5,2,  2334.2,6,   0.872,2,   30.40,2,      0.646,2
09AR20071216,    CEAMARC,      85,          1,          7,          7,2,20080112,       2359,   -65.9975,   141.2907,        228,    89.6,  -1.5887,  34.4458,2,-999.0000,9,   308.90,2, -999.00,9,  -999.0,9, -999.00,9,-999.0000,9,-999.0000,9,-999.0000,9,  -999.0,9,  -999.0,9,   0.765,2, -999.00,9,      0.655,2
09AR20071216,    CEAMARC,      85,          1,          6,          6,2,20080112,       2359,   -65.9975,   141.2907,        228,   139.3,  -1.4258,  34.5169,2,  34.5213,2,   295.74,2,  295.13,2,    80.0,2,    2.17,2,   4.5236,2,   2.3072,2,   0.3728,2,  2234.1,2,  2339.2,2,   0.126,2,   30.92,2,      0.001,2
09AR20071216,    CEAMARC,      85,          1,          5,          5,2,20080112,       2359,   -65.9975,   141.2907,        228,   139.4,  -1.4289,  34.5173,2,-999.0000,9,   295.74,2, -999.00,9,  -999.0,9, -999.00,9,-999.0000,9,-999.0000,9,-999.0000,9,  -999.0,9,  -999.0,9,   0.169,2, -999.00,9,      0.001,2
09AR20071216,    CEAMARC,      85,          1,          4,          4,2,20080112,       2359,   -65.9975,   141.2907,        228,   192.6,  -1.2967,  34.5615,2,  34.5613,2,   284.80,2,  285.91,2,    85.4,2,    2.18,2,   4.1390,2,   2.1160,2,   0.3324,2,  2238.6,2,  2343.6,2,  -0.001,2,   31.10,2,      0.001,2
09AR20071216,    CEAMARC,      85,          1,          3,          3,2,20080112,       2359,   -65.9975,   141.2907,        228,   192.7,  -1.2973,  34.5616,2,-999.0000,9,   284.80,2, -999.00,9,  -999.0,9, -999.00,9,-999.0000,9,-999.0000,9,-999.0000,9,  -999.0,9,  -999.0,9,   0.009,2, -999.00,9,      0.001,2
09AR20071216,    CEAMARC,      85,          1,          2,          2,2,20080112,       2359,   -65.9975,   141.2907,        228,   223.3,  -1.3023,  34.5614,2,  34.5613,2,   284.82,2,  283.87,2,    85.4,2,    2.19,2,   4.1239,6,   2.1177,6,   0.3455,6,  2239.2,2,  2336.2,2,   0.006,2,   30.96,2,      0.001,2
09AR20071216,    CEAMARC,      85,          1,          1,          1,2,20080112,       2359,   -65.9975,   141.2907,        228,   223.5,  -1.3023,  34.5614,2,-999.0000,9,   284.82,2, -999.00,9,  -999.0,9, -999.00,9,-999.0000,9,-999.0000,9,-999.0000,9,  -999.0,9,  -999.0,9,   0.002,2, -999.00,9,      0.001,2
09AR20071216,    CEAMARC,      86,          1,         24,         24,2,20080113,       0318,   -66.3383,   141.3472,        226,     4.8,  -0.1668,  34.3300,2,  34.3310,2,   379.22,2,  376.99,2,    58.3,2,    1.45,2,   5.9314,2,   3.0174,2,   0.4745,2,    2165,6,  2332.2,2,   0.770,2,   22.60,2,      3.808,2
09AR20071216,    CEAMARC,      86,          1,         23,         23,2,20080113,       0318,   -66.3383,   141.3472,        226,     4.9,  -0.1759,  34.3306,2,-999.0000,9,   379.22,2, -999.00,9,  -999.0,9, -999.00,9,-999.0000,9,-999.0000,9,-999.0000,9,  -999.0,9,  -999.0,9,   0.822,2, -999.00,9,      3.777,2
09AR20071216,    CEAMARC,      86,          1,         22,         22,2,20080113,       0318,   -66.3383,   141.3472,        226,     4.8,  -0.1890,  34.3309,2,-999.0000,9,   379.22,2, -999.00,9,  -999.0,9, -999.00,9,-999.0000,9,-999.0000,9,-999.0000,9,  -999.0,9,  -999.0,9,   1.447,2, -999.00,9,      3.769,2
09AR20071216,    CEAMARC,      86,          1,         21,         21,2,20080113,       0318,   -66.3383,   141.3472,        226,     4.9,  -0.2670,  34.3291,2,-999.0000,9,   379.22,2, -999.00,9,  -999.0,9, -999.00,9,-999.0000,9,-999.0000,9,-999.0000,9,  -999.0,9,  -999.0,9,   1.217,2, -999.00,9,      3.728,2
09AR20071216,    CEAMARC,      86,          1,         20,         20,2,20080113,       0318,   -66.3383,   141.3472,        226,    30.1,  -0.6236,  34.3546,2,  34.3549,2,   369.43,2,  372.06,2,    59.4,2,    1.53,2,   5.8086,6,   2.9748,6,   0.4669,6,    2174,2,  2333.3,6,   8.530,2,   22.95,2,      1.910,2
09AR20071216,    CEAMARC,      86,          1,         19,         19,2,20080113,       0318,   -66.3383,   141.3472,        226,    30.0,  -0.6201,  34.3546,2,-999.0000,9,   369.43,2, -999.00,9,  -999.0,9, -999.00,9,-999.0000,9,-999.0000,9,-999.0000,9,  -999.0,9,  -999.0,9,   8.811,2, -999.00,9,      1.870,2
09AR20071216,    CEAMARC,      86,          1,         18,         18,2,20080113,       0318,   -66.3383,   141.3472,        226,    60.2,  -1.4732,  34.4133,2,  34.4115,2,   327.76,2,  325.52,2,    70.5,2,    2.04,2,-999.0000,9,-999.0000,9,-999.0000,9,  -999.0,9,  -999.0,9,   2.075,2,   28.83,2,      0.016,2
09AR20071216,    CEAMARC,      86,          1,         17,         17,2,20080113,       0318,   -66.3383,   141.3472,        226,    60.3,  -1.4743,  34.4133,2,-999.0000,9,   327.76,2, -999.00,9,  -999.0,9, -999.00,9,-999.0000,9,-999.0000,9,-999.0000,9,  -999.0,9,  -999.0,9,   2.033,2, -999.00,9,      0.001,2
09AR20071216,    CEAMARC,      86,          1,         16,         16,2,20080113,       0318,   -66.3383,   141.3472,        226,    60.4,  -1.4772,  34.4139,2,-999.0000,9,   327.76,2, -999.00,9,  -999.0,9, -999.00,9,-999.0000,9,-999.0000,9,-999.0000,9,  -999.0,9,  -999.0,9,   1.870,2, -999.00,9,      0.001,2
09AR20071216,    CEAMARC,      86,          1,         15,         15,2,20080113,       0318,   -66.3383,   141.3472,        226,    60.3,  -1.4787,  34.4143,2,-999.0000,9,   327.76,2, -999.00,9,  -999.0,9, -999.00,9,-999.0000,9,-999.0000,9,-999.0000,9,  -999.0,9,  -999.0,9,   1.952,2, -999.00,9,      0.001,2
09AR20071216,    CEAMARC,      86,          1,         14,         14,2,20080113,       0318,   -66.3383,   141.3472,        226,   108.7,  -1.7140,  34.4887,2,  34.4891,2,   313.13,2,  311.47,2,    75.1,2,    2.15,2,   4.9640,2,   2.5647,2,   0.3805,2,  2228.8,2,  2334.3,2,   0.274,2,   31.17,2,      0.001,2
09AR20071216,    CEAMARC,      86,          1,         13,         13,2,20080113,       0318,   -66.3383,   141.3472,        226,   108.8,  -1.7136,  34.4886,2,-999.0000,9,   313.13,2, -999.00,9,  -999.0,9, -999.00,9,-999.0000,9,-999.0000,9,-999.0000,9,  -999.0,9,  -999.0,9,   0.274,2, -999.00,9,      0.001,2
09AR20071216,    CEAMARC,      86,          1,         12,         12,2,20080113,       0318,   -66.3383,   141.3472,        226,   108.8,  -1.7143,  34.4887,2,-999.0000,9,   313.13,2, -999.00,9,  -999.0,9, -999.00,9,-999.0000,9,-999.0000,9,-999.0000,9,  -999.0,9,  -999.0,9,   0.252,2, -999.00,9,      0.001,2
09AR20071216,    CEAMARC,      86,          1,         11,         11,2,20080113,       0318,   -66.3383,   141.3472,        226,   108.8,  -1.7143,  34.4887,2,-999.0000,9,   313.13,2, -999.00,9,  -999.0,9, -999.00,9,-999.0000,9,-999.0000,9,-999.0000,9,  -999.0,9,  -999.0,9,   0.232,2, -999.00,9,      0.001,2
09AR20071216,    CEAMARC,      86,          1,         10,         10,2,20080113,       0318,   -66.3383,   141.3472,        226,   159.7,  -1.7242,  34.5032,2,  34.5028,2,   305.05,2,  311.68,2,    75.7,2,    2.14,2,   4.9590,2,   2.5717,2,   0.4105,2,  2230.9,2,  2335.1,2,   0.124,2,   31.17,2,      0.001,2
09AR20071216,    CEAMARC,      86,          1,          9,          9,2,20080113,       0318,   -66.3383,   141.3472,        226,   159.5,  -1.7236,  34.5030,2,-999.0000,9,   305.05,2, -999.00,9,  -999.0,9, -999.00,9,-999.0000,9,-999.0000,9,-999.0000,9,  -999.0,9,  -999.0,9,   0.135,2, -999.00,9,      0.001,2
09AR20071216,    CEAMARC,      86,          1,          8,          8,2,20080113,       0318,   -66.3383,   141.3472,        226,   159.3,  -1.7243,  34.5029,2,-999.0000,9,   305.05,2, -999.00,9,  -999.0,9, -999.00,9,-999.0000,9,-999.0000,9,-999.0000,9,  -999.0,9,  -999.0,9,   0.154,2, -999.00,9,      0.001,2
09AR20071216,    CEAMARC,      86,          1,          7,          7,2,20080113,       0318,   -66.3383,   141.3472,        226,   159.2,  -1.7242,  34.5029,2,-999.0000,9,   305.05,2, -999.00,9,  -999.0,9, -999.00,9,-999.0000,9,-999.0000,9,-999.0000,9,  -999.0,9,  -999.0,9,   0.139,2, -999.00,9,      0.001,2
09AR20071216,    CEAMARC,      86,          1,          6,          6,2,20080113,       0318,   -66.3383,   141.3472,        226,   178.4,  -1.6849,  34.5084,2,  34.5089,2,   309.86,2,  304.69,2,    76.9,2,    2.16,2,   4.6190,2,   2.4494,2,   0.3582,2,  2231.3,2,  2335.1,2,   0.108,2,   31.44,2,      0.001,2
09AR20071216,    CEAMARC,      86,          1,          5,          5,2,20080113,       0318,   -66.3383,   141.3472,        226,   178.5,  -1.6835,  34.5084,2,-999.0000,9,   309.86,2, -999.00,9,  -999.0,9, -999.00,9,-999.0000,9,-999.0000,9,-999.0000,9,  -999.0,9,  -999.0,9,   0.124,2, -999.00,9,      0.001,2
09AR20071216,    CEAMARC,      86,          1,          4,          4,2,20080113,       0318,   -66.3383,   141.3472,        226,   178.5,  -1.6782,  34.5078,2,-999.0000,9,   309.86,2, -999.00,9,  -999.0,9, -999.00,9,-999.0000,9,-999.0000,9,-999.0000,9,  -999.0,9,  -999.0,9,   0.108,2, -999.00,9,      0.001,2
09AR20071216,    CEAMARC,      86,          1,          3,          3,2,20080113,       0318,   -66.3383,   141.3472,        226,   178.3,  -1.6829,  34.5088,2,-999.0000,9,   309.86,2, -999.00,9,  -999.0,9, -999.00,9,-999.0000,9,-999.0000,9,-999.0000,9,  -999.0,9,  -999.0,9,   0.114,2, -999.00,9,      0.001,2
09AR20071216,    CEAMARC,      86,          1,          2,          2,2,20080113,       0318,   -66.3383,   141.3472,        226,   217.3,  -1.7700,  34.5282,2,  34.5281,2,   311.02,2,  310.25,2,    77.2,2,    2.17,2,   4.8615,2,   2.5609,2,   0.3828,2,  2234.1,2,  2339.8,2,   0.058,2,   31.27,2,      0.001,2
09AR20071216,    CEAMARC,      86,          1,          1,          1,2,20080113,       0318,   -66.3383,   141.3472,        226,   217.3,  -1.7703,  34.5283,2,-999.0000,9,   311.02,2, -999.00,9,  -999.0,9, -999.00,9,-999.0000,9,-999.0000,9,-999.0000,9,  -999.0,9,  -999.0,9,   0.050,2, -999.00,9,      0.001,2