BOTTLE,20230622CCHSIOENA
EXPOCODE,SECT_ID,STNNBR,CASTNO,SAMPNO,BTLNBR,BTLNBR_FLAG_W,DATE,TIME,LATITUDE,LONGITUDE,DEPTH,CTDPRS,CTDTMP,CTDSAL,CTDSAL_FLAG_W,SALNTY,SALNTY_FLAG_W,CTDOXY,CTDOXY_FLAG_W,OXYGEN,OXYGEN_FLAG_W,SILCAT,SILCAT_FLAG_W,PHSPHT,PHSPHT_FLAG_W,CFC-11,CFC-11_FLAG_W,CFC-12,CFC-12_FLAG_W,CFC113,CFC113_FLAG_W,TCARBN,TCARBN_FLAG_W,ALKALI,ALKALI_FLAG_W,FLUOR,FLUOR_FLAG_W,NO2+NO3,NO2+NO3_FLAG_W,PAR,PAR_FLAG_W
,,,,,,,,,,,METERS,DBAR,ITS-90,PSS-78,,PSS-78,,UMOL/KG,,UMOL/KG,,UMOL/KG,,UMOL/KG,,PMOL/KG,,PMOL/KG,,PMOL/KG,,UMOL/KG,,UMOL/KG,,MG/M^3,,UMOL/KG,,VOLTS,
09AR20071216,    CEAMARC,      31,          1,         24,         24,2,20071230,       1813,   -66.7507,   145.5265,        520,     9.4,  -0.5212,  34.2818,2,  34.2834,2,   337.18,2, -999.00,9,    51.2,2,    1.44,2,   6.2490,2,   3.0986,2,   0.4833,2,  2178.3,6,    2325,6,   8.313,2,   24.81,2,      2.466,2
09AR20071216,    CEAMARC,      31,          1,         23,         23,2,20071230,       1813,   -66.7507,   145.5265,        520,     9.4,  -0.5408,  34.2878,2,-999.0000,9,   337.18,2, -999.00,9,  -999.0,9, -999.00,9,-999.0000,9,-999.0000,9,-999.0000,9,  -999.0,9,  -999.0,9,   7.350,2, -999.00,9,      2.477,2
09AR20071216,    CEAMARC,      31,          1,         22,         22,2,20071230,       1813,   -66.7507,   145.5265,        520,     9.3,  -0.5394,  34.2888,2,-999.0000,9,   337.18,2, -999.00,9,  -999.0,9, -999.00,9,-999.0000,9,-999.0000,9,-999.0000,9,  -999.0,9,  -999.0,9,   7.571,2, -999.00,9,      2.478,2
09AR20071216,    CEAMARC,      31,          1,         21,         21,2,20071230,       1813,   -66.7507,   145.5265,        520,     9.4,  -0.5404,  34.2888,2,-999.0000,9,   337.18,2, -999.00,9,  -999.0,9, -999.00,9,-999.0000,9,-999.0000,9,-999.0000,9,  -999.0,9,  -999.0,9,   7.531,2, -999.00,9,      2.463,2
09AR20071216,    CEAMARC,      31,          1,         20,         20,2,20071230,       1813,   -66.7507,   145.5265,        520,     9.3,  -0.5404,  34.2886,2,-999.0000,9,   337.18,2, -999.00,9,  -999.0,9, -999.00,9,-999.0000,9,-999.0000,9,-999.0000,9,  -999.0,9,  -999.0,9,   7.392,2, -999.00,9,      2.458,2
09AR20071216,    CEAMARC,      31,          1,         19,         19,2,20071230,       1813,   -66.7507,   145.5265,        520,     9.4,  -0.5416,  34.2879,2,-999.0000,9,   337.18,2, -999.00,9,  -999.0,9, -999.00,9,-999.0000,9,-999.0000,9,-999.0000,9,  -999.0,9,  -999.0,9,   7.338,2, -999.00,9,      2.455,2
09AR20071216,    CEAMARC,      31,          1,         18,         18,2,20071230,       1813,   -66.7507,   145.5265,        520,    30.4,  -1.4603,  34.3357,2,-999.0000,9,   331.66,2, -999.00,9,  -999.0,9, -999.00,9,-999.0000,9,-999.0000,9,-999.0000,9,  -999.0,9,  -999.0,9,   5.706,2, -999.00,9,      1.210,2
09AR20071216,    CEAMARC,      31,          1,         17,         17,2,20071230,       1813,   -66.7507,   145.5265,        520,    30.5,  -1.4404,  34.3353,2,  34.3390,2,   331.66,2,  336.63,2,    62.4,2,    1.85,2,   3.2688,2,   1.6899,2,   0.2731,2,  2203.2,2,  2327.8,2,   6.300,2,   27.96,2,      1.217,2
09AR20071216,    CEAMARC,      31,          1,         16,         16,2,20071230,       1813,   -66.7507,   145.5265,        520,    59.9,  -1.6715,  34.3990,2,  34.3984,2,   313.33,2,  313.24,2,    71.3,2,    2.02,2,   5.1327,2,   2.6252,2,   0.3958,2,  2219.2,2,  2330.3,2,   1.236,2,   29.88,2,      0.174,2
09AR20071216,    CEAMARC,      31,          1,         15,         15,2,20071230,       1813,   -66.7507,   145.5265,        520,    59.7,  -1.6756,  34.4000,2,-999.0000,9,   313.33,2, -999.00,9,  -999.0,9, -999.00,9,-999.0000,9,-999.0000,9,-999.0000,9,  -999.0,9,  -999.0,9,   1.093,2, -999.00,9,      0.182,2
09AR20071216,    CEAMARC,      31,          1,         14,         14,2,20071230,       1813,   -66.7507,   145.5265,        520,    90.4,  -1.5849,  34.4271,2,  34.4274,2,   304.65,2,  304.79,2,    75.2,2,    2.05,2,   2.7396,2,   1.4095,2,   0.2226,2,  2225.1,2,  2333.4,2,   0.791,2,   30.32,2,      0.001,2
09AR20071216,    CEAMARC,      31,          1,         13,         13,2,20071230,       1813,   -66.7507,   145.5265,        520,    90.3,  -1.5852,  34.4273,2,-999.0000,9,   304.65,2, -999.00,9,  -999.0,9, -999.00,9,-999.0000,9,-999.0000,9,-999.0000,9,  -999.0,9,  -999.0,9,   0.614,2, -999.00,9,      0.001,2
09AR20071216,    CEAMARC,      31,          1,         12,         12,2,20071230,       1813,   -66.7507,   145.5265,        520,   139.1,  -1.4362,  34.4620,2,  34.4613,2,   293.91,2,  290.41,2,    77.9,2,    2.08,2,   4.2919,2,   2.2378,2,   0.3302,2,  2229.9,2,  2331.3,6,   0.056,2,   30.78,2,      0.001,2
09AR20071216,    CEAMARC,      31,          1,         11,         11,2,20071230,       1813,   -66.7507,   145.5265,        520,   138.9,  -1.4342,  34.4624,2,-999.0000,9,   294.14,2, -999.00,9,  -999.0,9, -999.00,9,-999.0000,9,-999.0000,9,-999.0000,9,  -999.0,9,  -999.0,9,   0.028,2, -999.00,9,      0.001,2
09AR20071216,    CEAMARC,      31,          1,         10,         10,2,20071230,       1813,   -66.7507,   145.5265,        520,   188.8,  -1.2406,  34.5071,2,  34.5052,2,   280.70,2,  281.36,2,    81.9,2,    2.10,2,   3.9902,2,   2.0729,2,   0.2936,2,  2235.7,2,  2335.6,2,   0.000,2,   31.17,2,      0.001,2
09AR20071216,    CEAMARC,      31,          1,          9,          9,2,20071230,       1813,   -66.7507,   145.5265,        520,   188.4,  -1.2454,  34.5061,2,-999.0000,9,   280.70,2, -999.00,9,  -999.0,9, -999.00,9,-999.0000,9,-999.0000,9,-999.0000,9,  -999.0,9,  -999.0,9,  -0.002,2, -999.00,9,      0.001,2
09AR20071216,    CEAMARC,      31,          1,          8,          8,2,20071230,       1813,   -66.7507,   145.5265,        520,   280.6,  -1.7315,  34.6229,2,  34.6254,2,   299.45,2,  300.71,2,    79.8,2,    2.09,2,   4.8252,2,   2.4430,2,   0.3827,2,  2239.9,2,  2343.1,2,  -0.029,2,   31.00,2,      0.001,2
09AR20071216,    CEAMARC,      31,          1,          7,          7,2,20071230,       1813,   -66.7507,   145.5265,        520,   280.6,  -1.7348,  34.6234,2,-999.0000,9,   299.45,2, -999.00,9,  -999.0,9, -999.00,9,-999.0000,9,-999.0000,9,-999.0000,9,  -999.0,9,  -999.0,9,  -0.030,2, -999.00,9,      0.001,2
09AR20071216,    CEAMARC,      31,          1,          6,          6,2,20071230,       1813,   -66.7507,   145.5265,        520,   401.6,  -1.9082,  34.6792,2,  34.6792,2,   310.41,2,  310.16,2,    77.4,2,    2.08,2,   5.0331,2,   2.5859,2,   0.3787,2,  2242.1,2,  2346.8,2,  -0.026,2,   30.65,2,      0.001,2
09AR20071216,    CEAMARC,      31,          1,          5,          5,2,20071230,       1813,   -66.7507,   145.5265,        520,   401.5,  -1.9081,  34.6797,2,-999.0000,9,   310.41,2, -999.00,9,  -999.0,9, -999.00,9,-999.0000,9,-999.0000,9,-999.0000,9,  -999.0,9,  -999.0,9,  -0.028,2, -999.00,9,      0.001,2
09AR20071216,    CEAMARC,      31,          1,          4,          4,2,20071230,       1813,   -66.7507,   145.5265,        520,   490.9,  -1.8969,  34.6977,2,  34.6970,2,   310.93,2,  309.81,2,    78.6,2,    2.09,2,   5.2110,6,   2.6284,6,   0.3984,6,  2244.3,2,  2350.4,2,  -0.032,2,   30.92,2,      0.001,2
09AR20071216,    CEAMARC,      31,          1,          3,          3,2,20071230,       1813,   -66.7507,   145.5265,        520,   490.9,  -1.8968,  34.6976,2,-999.0000,9,   310.93,2, -999.00,9,  -999.0,9, -999.00,9,-999.0000,9,-999.0000,9,-999.0000,9,  -999.0,9,  -999.0,9,  -0.040,2, -999.00,9,      0.001,2
09AR20071216,    CEAMARC,      31,          1,          2,          2,2,20071230,       1813,   -66.7507,   145.5265,        520,   515.0,  -1.8960,  34.6977,2,  34.6972,2,   311.03,2,  310.29,2,    79.0,2,    2.08,2,   5.1501,2,   2.6247,2,   0.3811,2,  2245.1,6,  2350.7,2,  -0.037,2,   30.98,2,      0.001,2
09AR20071216,    CEAMARC,      31,          1,          1,          1,2,20071230,       1813,   -66.7507,   145.5265,        520,   515.1,  -1.8959,  34.6979,2,-999.0000,9,   311.10,2, -999.00,9,  -999.0,9, -999.00,9,-999.0000,9,-999.0000,9,-999.0000,9,  -999.0,9,  -999.0,9,  -0.034,2, -999.00,9,      0.001,2
09AR20071216,    CEAMARC,      32,          1,         24,         24,2,20071230,       2241,   -66.7543,   145.2245,        582,    10.5,  -1.0752,  34.3373,2,  34.3341,2,  -999.00,5,  347.11,2,    59.9,2,    1.67,2,   5.6195,2,   2.8668,2,   0.4720,2,  2195.4,6,  2326.9,6,   5.501,2,   26.45,2,      2.501,2
09AR20071216,    CEAMARC,      32,          1,         23,         23,2,20071230,       2241,   -66.7543,   145.2245,        582,    10.5,  -1.0978,  34.3409,2,-999.0000,9,  -999.00,5, -999.00,9,  -999.0,9, -999.00,9,-999.0000,9,-999.0000,9,-999.0000,9,  -999.0,9,  -999.0,9,   5.711,2, -999.00,9,      2.514,2
09AR20071216,    CEAMARC,      32,          1,         22,         22,2,20071230,       2241,   -66.7543,   145.2245,        582,    10.6,  -1.0724,  34.3353,2,-999.0000,9,  -999.00,5, -999.00,9,  -999.0,9, -999.00,9,-999.0000,9,-999.0000,9,-999.0000,9,  -999.0,9,  -999.0,9,   5.792,2, -999.00,9,      2.516,2
09AR20071216,    CEAMARC,      32,          1,         21,         21,2,20071230,       2241,   -66.7543,   145.2245,        582,    10.6,  -1.1033,  34.3406,2,-999.0000,9,  -999.00,5, -999.00,9,  -999.0,9, -999.00,9,-999.0000,9,-999.0000,9,-999.0000,9,  -999.0,9,  -999.0,9,   5.772,2, -999.00,9,      2.520,2
09AR20071216,    CEAMARC,      32,          1,         20,         20,2,20071230,       2241,   -66.7543,   145.2245,        582,    39.8,  -1.4807,  34.4174,2,-999.0000,9,   327.90,2, -999.00,9,  -999.0,9, -999.00,9,-999.0000,9,-999.0000,9,-999.0000,9,  -999.0,9,  -999.0,9,   3.087,2, -999.00,9,      1.214,2
09AR20071216,    CEAMARC,      32,          1,         19,         19,2,20071230,       2241,   -66.7543,   145.2245,        582,    39.8,  -1.4807,  34.4174,2,-999.0000,9,   327.90,2, -999.00,9,  -999.0,9, -999.00,9,-999.0000,9,-999.0000,9,-999.0000,9,  -999.0,9,  -999.0,9,   2.831,2, -999.00,9,      1.219,2
09AR20071216,    CEAMARC,      32,          1,         18,         18,2,20071230,       2241,   -66.7543,   145.2245,        582,    50.0,  -1.4850,  34.4180,2,-999.0000,9,   323.73,2, -999.00,9,  -999.0,9, -999.00,9,-999.0000,9,-999.0000,9,-999.0000,9,  -999.0,9,  -999.0,9,   2.807,2, -999.00,9,      0.852,2
09AR20071216,    CEAMARC,      32,          1,         17,         17,2,20071230,       2241,   -66.7543,   145.2245,        582,    50.1,  -1.4846,  34.4180,2,-999.0000,9,   323.73,2, -999.00,9,  -999.0,9, -999.00,9,-999.0000,9,-999.0000,9,-999.0000,9,  -999.0,9,  -999.0,9,   2.765,2, -999.00,9,      0.853,2
09AR20071216,    CEAMARC,      32,          1,         16,         16,2,20071230,       2241,   -66.7543,   145.2245,        582,    50.2,  -1.4854,  34.4179,2,  34.4170,2,   323.73,2,  321.66,2,    74.2,2,    1.94,2,   5.1830,2,   2.6163,2,   0.4162,2,  -999.0,9,    2330,2,   2.887,2,   28.75,2,      0.856,2
09AR20071216,    CEAMARC,      32,          1,         15,         15,2,20071230,       2241,   -66.7543,   145.2245,        582,    50.0,  -1.4857,  34.4180,2,-999.0000,9,   323.73,2, -999.00,9,  -999.0,9, -999.00,9,-999.0000,9,-999.0000,9,-999.0000,9,  -999.0,9,  -999.0,9,   2.965,2, -999.00,9,      0.861,2
09AR20071216,    CEAMARC,      32,          1,         14,         14,2,20071230,       2241,   -66.7543,   145.2245,        582,   101.8,  -1.4960,  34.4221,2,  34.4217,2,   320.27,2,  321.79,2,    74.5,2,    1.94,2,   5.3023,2,   2.6485,2,   0.4370,2,  2219.4,2,  2331.6,2,   2.182,2,   28.74,2,      0.001,2
09AR20071216,    CEAMARC,      32,          1,         13,         13,2,20071230,       2241,   -66.7543,   145.2245,        582,   101.3,  -1.4956,  34.4220,2,-999.0000,9,   320.27,2, -999.00,9,  -999.0,9, -999.00,9,-999.0000,9,-999.0000,9,-999.0000,9,  -999.0,9,  -999.0,9,   2.230,2, -999.00,9,      0.001,2
09AR20071216,    CEAMARC,      32,          1,         12,         12,2,20071230,       2241,   -66.7543,   145.2245,        582,   148.3,  -1.5191,  34.4270,2,  34.4268,2,   318.98,2,  320.39,2,    74.8,2,    1.96,2,   5.1942,2,   2.6287,2,   0.3996,2,  2220.3,2,    2331,2,   2.321,2,   28.76,2,      0.001,2
09AR20071216,    CEAMARC,      32,          1,         11,         11,2,20071230,       2241,   -66.7543,   145.2245,        582,   148.7,  -1.5193,  34.4270,2,-999.0000,9,   318.98,2, -999.00,9,  -999.0,9, -999.00,9,-999.0000,9,-999.0000,9,-999.0000,9,  -999.0,9,  -999.0,9,   2.180,2, -999.00,9,      0.001,2
09AR20071216,    CEAMARC,      32,          1,         10,         10,2,20071230,       2241,   -66.7543,   145.2245,        582,   249.3,  -1.5339,  34.4467,2,  34.4474,2,   316.22,2,  318.92,2,    75.9,2,    1.98,2,   5.1370,6,   2.5848,6,   0.4244,6,  2222.5,2,  2332.2,2,   1.786,2,   28.79,2,      0.001,2
09AR20071216,    CEAMARC,      32,          1,          9,          9,2,20071230,       2241,   -66.7543,   145.2245,        582,   249.3,  -1.5339,  34.4475,2,-999.0000,9,   316.22,2, -999.00,9,  -999.0,9, -999.00,9,-999.0000,9,-999.0000,9,-999.0000,9,  -999.0,9,  -999.0,9,   2.353,2, -999.00,9,      0.001,2
09AR20071216,    CEAMARC,      32,          1,          8,          8,2,20071230,       2241,   -66.7543,   145.2245,        582,   353.1,  -1.3988,  34.5597,2,  34.5564,2,   288.54,2,  285.73,2,    81.9,2,    2.09,2,   4.1081,2,   2.1152,2,   0.3399,2,  2241.1,2,  2337.9,2,   0.008,2,   30.77,2,      0.001,2
09AR20071216,    CEAMARC,      32,          1,          7,          7,2,20071230,       2241,   -66.7543,   145.2245,        582,   352.9,  -1.3935,  34.5591,2,-999.0000,9,   287.72,2, -999.00,9,  -999.0,9, -999.00,9,-999.0000,9,-999.0000,9,-999.0000,9,  -999.0,9,  -999.0,9,   0.002,2, -999.00,9,      0.001,2
09AR20071216,    CEAMARC,      32,          1,          6,          6,2,20071230,       2241,   -66.7543,   145.2245,        582,   450.4,  -1.9310,  34.6484,2,  34.6488,2,   312.46,2,  309.00,2,    77.1,2,    2.07,2,   5.1977,2,   2.5628,2,   0.4242,2,  2243.4,2,  2345.7,2,  -0.041,2,   30.52,2,      0.001,2
09AR20071216,    CEAMARC,      32,          1,          5,          5,2,20071230,       2241,   -66.7543,   145.2245,        582,   450.6,  -1.9314,  34.6483,2,-999.0000,9,   312.46,2, -999.00,9,  -999.0,9, -999.00,9,-999.0000,9,-999.0000,9,-999.0000,9,  -999.0,9,  -999.0,9,  -0.039,2, -999.00,9,      0.001,2
09AR20071216,    CEAMARC,      32,          1,          4,          4,2,20071230,       2241,   -66.7543,   145.2245,        582,   532.2,  -1.8962,  34.6778,2,  34.6764,2,   309.94,2,  310.21,2,    77.2,2,    2.08,2,   5.2891,2,   2.6237,2,   0.4253,2,  2244.7,2,  2346.7,2,  -0.026,2,   30.51,2,      0.001,2
09AR20071216,    CEAMARC,      32,          1,          3,          3,2,20071230,       2241,   -66.7543,   145.2245,        582,   532.1,  -1.8962,  34.6777,2,-999.0000,9,   309.94,2, -999.00,9,  -999.0,9, -999.00,9,-999.0000,9,-999.0000,9,-999.0000,9,  -999.0,9,  -999.0,9,  -0.028,2, -999.00,9,      0.001,2
09AR20071216,    CEAMARC,      32,          1,          2,          2,2,20071230,       2241,   -66.7543,   145.2245,        582,   577.9,  -1.8988,  34.6924,2,  34.6917,2,   309.41,2,  311.07,2,    77.4,2,    2.08,2,   5.2888,2,   2.6294,2,   0.4389,2,  2246.3,2,  2347.5,2,  -0.034,2,   30.58,2,      0.001,2
09AR20071216,    CEAMARC,      32,          1,          1,          1,2,20071230,       2241,   -66.7543,   145.2245,        582,   577.8,  -1.8988,  34.6923,2,-999.0000,9,   309.41,2, -999.00,9,  -999.0,9, -999.00,9,-999.0000,9,-999.0000,9,-999.0000,9,  -999.0,9,  -999.0,9,  -0.033,2, -999.00,9,      0.001,2