BOTTLE,20230622CCHSIOENA
EXPOCODE,SECT_ID,STNNBR,CASTNO,SAMPNO,BTLNBR,BTLNBR_FLAG_W,DATE,TIME,LATITUDE,LONGITUDE,DEPTH,CTDPRS,CTDTMP,CTDSAL,CTDSAL_FLAG_W,SALNTY,SALNTY_FLAG_W,CTDOXY,CTDOXY_FLAG_W,OXYGEN,OXYGEN_FLAG_W,SILCAT,SILCAT_FLAG_W,PHSPHT,PHSPHT_FLAG_W,CFC-11,CFC-11_FLAG_W,CFC-12,CFC-12_FLAG_W,CFC113,CFC113_FLAG_W,TCARBN,TCARBN_FLAG_W,ALKALI,ALKALI_FLAG_W,FLUOR,FLUOR_FLAG_W,NO2+NO3,NO2+NO3_FLAG_W,PAR,PAR_FLAG_W
,,,,,,,,,,,METERS,DBAR,ITS-90,PSS-78,,PSS-78,,UMOL/KG,,UMOL/KG,,UMOL/KG,,UMOL/KG,,PMOL/KG,,PMOL/KG,,PMOL/KG,,UMOL/KG,,UMOL/KG,,MG/M^3,,UMOL/KG,,VOLTS,
09AR20071216,       CASO,      61,          1,         24,         24,2,20080107,       1354,   -62.7615,   143.6087,       4088,    10.0,   1.2021,  33.7172,2,  33.7184,2,   347.40,2,  347.66,2,    15.9,2,    1.67,2,   6.4288,2,   3.3098,2,   0.5298,2,  2139.4,6,  2282.7,2,   3.090,2,   25.00,3,      1.413,2
09AR20071216,       CASO,      61,          1,         23,         23,2,20080107,       1354,   -62.7615,   143.6087,       4088,    10.0,   1.2012,  33.7172,2,-999.0000,9,   347.40,2, -999.00,9,  -999.0,9, -999.00,9,-999.0000,9,-999.0000,9,-999.0000,9,  -999.0,9,  -999.0,9,   3.164,2, -999.00,9,      1.412,2
09AR20071216,       CASO,      61,          1,         22,         22,2,20080107,       1354,   -62.7615,   143.6087,       4088,     9.9,   1.1985,  33.7172,2,-999.0000,9,   347.40,2, -999.00,9,  -999.0,9, -999.00,9,-999.0000,9,-999.0000,9,-999.0000,9,  -999.0,9,  -999.0,9,   3.054,2, -999.00,9,      1.406,2
09AR20071216,       CASO,      61,          1,         21,         21,2,20080107,       1354,   -62.7615,   143.6087,       4088,    48.7,   0.8580,  33.7441,2,  33.7446,2,   346.53,2,  346.82,2,    21.3,2,    1.77,2,   6.4998,2,   3.2876,2,   0.5247,2,  2147.3,2,  2283.8,6,   2.395,2,   25.77,3,      0.183,2
09AR20071216,       CASO,      61,          1,         20,         20,2,20080107,       1354,   -62.7615,   143.6087,       4088,    74.1,  -0.7333,  33.8744,2,  33.8797,2,   337.88,2,  337.94,2,    28.5,2,    1.97,2,   6.4027,2,   3.1836,2,   0.5051,2,  2167.9,2,  2292.8,2,   0.665,2,   27.16,3,      0.001,2
09AR20071216,       CASO,      61,          1,         19,         19,2,20080107,       1354,   -62.7615,   143.6087,       4088,   120.4,   1.7099,  34.3724,2,  34.3721,2,   219.48,2,  204.37,2,    65.0,2,    2.40,2,   2.2270,2,   1.1369,2,   0.1582,2,  2239.4,2,    2321,2,   0.004,2,   33.38,3,      0.001,2
09AR20071216,       CASO,      61,          1,         18,         18,2,20080107,       1354,   -62.7615,   143.6087,       4088,   180.3,   1.8095,  34.4518,2,  34.4501,2,   187.36,2,  190.54,2,    71.5,2,    2.43,2,   1.7604,2,   0.8936,2,   0.1222,2,  2247.4,2,  2328.8,2,  -0.021,2,   34.47,3,      0.001,2
09AR20071216,       CASO,      61,          1,         17,         17,2,20080107,       1354,   -62.7615,   143.6087,       4088,   300.0,   2.1296,  34.5884,2,  34.5877,2,   175.09,2,  174.05,2,    79.1,2,    2.37,2,   0.7553,2,   0.3892,2,   0.0494,2,    2255,2,  2336.9,2,  -0.024,2,   34.22,3,      0.001,2
09AR20071216,       CASO,      61,          1,         16,         16,2,20080107,       1354,   -62.7615,   143.6087,       4088,   399.5,   2.1058,  34.6390,2,  34.6389,2,   175.91,2,  175.40,2,    81.6,2,    2.32,2,   0.5400,2,   0.2675,2,   0.0359,2,  2253.3,2,  2340.6,2,  -0.027,2,   33.63,3,      0.001,2
09AR20071216,       CASO,      61,          1,         15,         15,2,20080107,       1354,   -62.7615,   143.6087,       4088,   600.1,   2.0433,  34.6991,2,  34.6992,2,   182.53,2,  181.21,2,    84.5,2,    2.24,2,   0.3255,2,   0.1619,2,   0.0229,2,  2251.8,2,    2348,2,  -0.029,2,   32.29,3,      0.001,2
09AR20071216,       CASO,      61,          1,         14,         14,2,20080107,       1354,   -62.7615,   143.6087,       4088,   799.9,   1.9227,  34.7280,2,  34.7288,2,   188.93,2,  189.15,2,    87.4,2,    2.18,2,   0.2687,2,   0.1329,2,   0.0174,2,  2249.7,2,  2352.6,2,  -0.029,2,   31.29,3,      0.001,2
09AR20071216,       CASO,      61,          1,         13,         13,2,20080107,       1354,   -62.7615,   143.6087,       4088,  1000.5,   1.7968,  34.7428,2,  34.7435,2,   195.66,2,  194.53,2,    90.9,2,    2.15,2,   0.2372,2,   0.1231,2,   0.0183,2,  2247.6,2,  2355.2,2,  -0.030,2,   30.77,3,      0.001,2
09AR20071216,       CASO,      61,          1,         12,         12,2,20080107,       1354,   -62.7615,   143.6087,       4088,  1200.2,   1.6067,  34.7429,2,  34.7439,2,   198.97,2,  200.70,2,    96.0,2,    2.16,2,   0.1875,2,   0.0973,2,   0.0122,2,  2249.5,2,  2352.9,2,  -0.030,2,   30.81,3,      0.001,2
09AR20071216,       CASO,      61,          1,         11,         11,2,20080107,       1354,   -62.7615,   143.6087,       4088,  1403.4,   1.4247,  34.7386,2,  34.7247,2,   201.61,2, -999.00,9,  -999.0,9, -999.00,9,-999.0000,9,-999.0000,9,-999.0000,9,  -999.0,9,  -999.0,9,  -0.030,2, -999.00,9,      0.001,2
09AR20071216,       CASO,      61,          1,         10,         10,2,20080107,       1354,   -62.7615,   143.6087,       4088,  1596.1,   1.2466,  34.7321,2,  34.7323,2,   203.71,2,  203.35,2,   107.3,2,    2.20,2,   0.1457,2,   0.0761,2,   0.0000,3,    2254,2,  2361.4,6,  -0.031,2,   31.27,3,      0.001,2
09AR20071216,       CASO,      61,          1,          9,          9,2,20080107,       1354,   -62.7615,   143.6087,       4088,  1900.4,   0.9660,  34.7176,2,  34.7178,2,   206.65,2,  206.52,2,   114.8,2,    2.23,2,   0.2307,2,   0.1184,2,   0.0128,2,    2257,2,  2361.1,2,  -0.035,2,   31.40,3,      0.001,2
09AR20071216,       CASO,      61,          1,          8,          8,2,20080107,       1354,   -62.7615,   143.6087,       4088,  2198.1,   0.7191,  34.7049,2,  34.7052,2,   210.05,2,  209.73,2,   121.0,2,    2.26,2,   0.2247,6,   0.1123,6,   0.0133,2,  2258.5,2,  2366.9,2,  -0.034,2,   31.63,3,      0.001,2
09AR20071216,       CASO,      61,          1,          7,          7,2,20080107,       1354,   -62.7615,   143.6087,       4088,  2500.5,   0.4779,  34.6932,2,  34.6907,2,   215.69,2, -999.00,9,  -999.0,9, -999.00,9,-999.0000,9,-999.0000,9,-999.0000,9,  -999.0,9,  -999.0,9,  -0.037,2, -999.00,9,      0.001,2
09AR20071216,       CASO,      61,          1,          6,          6,2,20080107,       1354,   -62.7615,   143.6087,       4088,  2801.0,   0.3168,  34.6868,2,  34.6860,2,   220.00,2,  219.38,2,   129.4,2,    2.30,2,   0.4779,2,   0.2317,2,   0.0215,2,  2258.8,2,  2360.7,2,  -0.039,2,   31.96,3,      0.001,2
09AR20071216,       CASO,      61,          1,          5,          5,2,20080107,       1354,   -62.7615,   143.6087,       4088,  3099.9,   0.1751,  34.6806,2,  34.6797,2,   223.72,2,  223.59,2,   129.7,2,    2.30,2,   0.6698,2,   0.3344,2,   0.0387,2,  2258.2,2,  2363.5,2,  -0.041,2,   31.91,3,      0.001,2
09AR20071216,       CASO,      61,          1,          4,          4,2,20080107,       1354,   -62.7615,   143.6087,       4088,  3399.3,   0.0423,  34.6739,2,  34.6733,2,   229.51,2,  229.46,2,   126.7,2,    2.28,2,   1.0487,2,   0.5191,2,   0.0602,2,    2258,2,  2361.2,2,  -0.038,2,   31.63,3,      0.001,2
09AR20071216,       CASO,      61,          1,          3,          3,2,20080107,       1354,   -62.7615,   143.6087,       4088,  3699.9,  -0.0923,  34.6655,2,  34.6644,2,   235.45,2,  235.80,2,   119.3,2,    2.26,2,   1.6157,2,   0.8450,2,   0.1165,2,  2255.3,2,    2358,2,  -0.044,2,   31.16,3,      0.001,2
09AR20071216,       CASO,      61,          1,          2,          2,2,20080107,       1354,   -62.7615,   143.6087,       4088,  3950.4,  -0.2786,  34.6509,2,  34.6495,2,   245.73,2,  244.84,2,   108.2,2,    2.22,2,   2.3331,2,   1.2015,2,   0.1707,2,  2250.4,6,  2357.9,6,  -0.043,2,   30.88,3,      0.001,2
09AR20071216,       CASO,      61,          1,          1,          1,2,20080107,       1354,   -62.7615,   143.6087,       4088,  4155.5,  -0.3678,  34.6414,2,  34.6403,2,   251.73,2,  251.84,2,   103.4,2,    2.21,2,   2.6291,2,   1.3998,2,   0.1928,2,  2249.6,6,  2354.4,2,  -0.043,2,   30.37,3,      0.001,2
09AR20071216,       CASO,      62,          1,         24,         24,2,20080107,       2029,   -62.9042,   145.0545,       3996,    10.6,   0.6699,  33.7247,2,  33.7259,2,   347.70,2,  347.82,2,    25.6,2,    1.64,2,   6.2695,2,   3.1542,2,   0.4966,2,    2144,6,  2281.7,2,   0.540,2,   25.58,3,      3.196,2
09AR20071216,       CASO,      62,          1,         23,         23,2,20080107,       2029,   -62.9042,   145.0545,       3996,    10.6,   0.6640,  33.7246,2,-999.0000,9,   347.70,2, -999.00,9,  -999.0,9, -999.00,9,-999.0000,9,-999.0000,9,-999.0000,9,  -999.0,9,  -999.0,9,   0.604,2, -999.00,9,      3.188,2
09AR20071216,       CASO,      62,          1,         22,         22,2,20080107,       2029,   -62.9042,   145.0545,       3996,    10.6,   0.6547,  33.7246,2,-999.0000,9,   347.70,2, -999.00,9,  -999.0,9, -999.00,9,-999.0000,9,-999.0000,9,-999.0000,9,  -999.0,9,  -999.0,9,   0.897,2, -999.00,9,      3.209,2
09AR20071216,       CASO,      62,          1,         21,         21,2,20080107,       2029,   -62.9042,   145.0545,       3996,    30.8,   0.6439,  33.7242,2,  33.7255,2,   347.53,2,  324.17,2,    25.6,2,    1.66,2,   6.3686,2,   3.1876,2,   0.4948,2,  2143.9,2,    2282,6,   2.895,2,   25.39,3,      2.487,2
09AR20071216,       CASO,      62,          1,         20,         20,2,20080107,       2029,   -62.9042,   145.0545,       3996,    69.7,  -0.4879,  34.1407,2,  34.1255,2,   283.06,2,  287.53,2,    50.3,2,    2.18,2,   4.4188,2,   2.2563,2,   0.3604,2,  2201.1,2,  2303.6,2,   1.236,2,   30.66,3,      1.220,2
09AR20071216,       CASO,      62,          1,         19,         19,2,20080107,       2029,   -62.9042,   145.0545,       3996,   120.2,   1.6131,  34.5280,2,  34.5262,2,   188.26,2,  192.57,2,    75.4,2,    2.38,2,   1.3675,2,   0.6988,2,   0.1001,2,  2252.1,2,  2328.6,2,   0.066,2,   34.21,3,      0.213,2
09AR20071216,       CASO,      62,          1,         18,         18,2,20080107,       2029,   -62.9042,   145.0545,       3996,   180.7,   1.8494,  34.6011,2,  34.6011,2,   181.16,2,  178.74,2,    78.8,2,    2.34,2,   0.8732,2,   0.4394,2,   0.0557,2,  2256.5,2,    2334,2,  -0.015,2,   33.31,3,      0.001,2
09AR20071216,       CASO,      62,          1,         17,         17,2,20080107,       2029,   -62.9042,   145.0545,       3996,   301.0,   1.9215,  34.6626,2,  34.6629,2,   181.15,2,  180.12,2,    82.2,2,    2.27,2,   0.5553,2,   0.2783,2,   0.0364,2,  2256.2,2,  2339.7,6,  -0.021,2,   32.52,3,      0.001,2
09AR20071216,       CASO,      62,          1,         16,         16,2,20080107,       2029,   -62.9042,   145.0545,       3996,   401.4,   1.8923,  34.6927,2,  34.6931,2,   184.06,2,  183.16,2,    84.8,2,    2.26,2,   0.4405,2,   0.2194,2,   0.0327,2,  2252.4,2,  2340.2,2,  -0.026,2,   33.38,2,      0.001,2
09AR20071216,       CASO,      62,          1,         15,         15,2,20080107,       2029,   -62.9042,   145.0545,       3996,   597.8,   1.8128,  34.7247,2,  34.7251,2,   189.66,2,  189.59,2,    87.3,2,    2.19,2,   0.3094,2,   0.1504,2,   0.0208,2,  2249.8,2,  2345.3,2,  -0.026,2,   32.36,2,      0.001,2
09AR20071216,       CASO,      62,          1,         14,         14,2,20080107,       2029,   -62.9042,   145.0545,       3996,   799.5,   1.6675,  34.7346,2,  34.7349,2,   195.39,2,  195.19,2,    90.7,2,    2.17,2,   0.4310,2,   0.2162,2,   0.0267,2,  2250.8,2,  2349.4,2,  -0.030,2,   31.96,2,      0.001,2
09AR20071216,       CASO,      62,          1,         13,         13,2,20080107,       2029,   -62.9042,   145.0545,       3996,  1000.4,   1.5237,  34.7376,2,  34.7382,2,   198.83,2,  199.06,2,    95.1,2,    2.16,2,   0.2731,2,   0.1333,2,   0.0167,2,  2250.2,2,  2353.2,2,  -0.032,2,   31.80,2,      0.001,2
09AR20071216,       CASO,      62,          1,         12,         12,2,20080107,       2029,   -62.9042,   145.0545,       3996,  1199.0,   1.3724,  34.7366,2,  34.7370,2,   201.27,2,  201.44,2,   100.2,2,    2.18,2,   0.2150,2,   0.1043,2,   0.0153,2,  2252.9,6,  2354.3,2,  -0.032,2,   31.81,2,      0.001,2
09AR20071216,       CASO,      62,          1,         11,         11,2,20080107,       2029,   -62.9042,   145.0545,       3996,  1401.3,   1.1880,  34.7279,2,  34.7280,2,   203.32,2,  203.65,2,   105.6,2,    2.21,2,   0.2079,2,   0.1060,2,   0.0119,2,  2253.9,2,  2356.2,6,  -0.030,2,   32.12,2,      0.001,2
09AR20071216,       CASO,      62,          1,         10,         10,2,20080107,       2029,   -62.9042,   145.0545,       3996,  1600.1,   1.0379,  34.7205,2,  34.7215,2,   204.95,2,  205.17,2,   109.7,2,    2.22,2,   0.2190,2,   0.1096,2,   0.0135,2,  2254.4,2,  2356.7,2,  -0.034,2,   32.29,2,      0.001,2
09AR20071216,       CASO,      62,          1,          9,          9,2,20080107,       2029,   -62.9042,   145.0545,       3996,  1801.3,   0.8825,  34.7120,2,  34.7121,2,   206.99,2,  207.39,2,   113.9,2,    2.24,2,   0.2495,2,   0.1274,2,   0.0150,2,  2259.3,2,  2359.2,2,  -0.034,2,   32.51,2,      0.001,2
09AR20071216,       CASO,      62,          1,          8,          8,2,20080107,       2029,   -62.9042,   145.0545,       3996,  2096.4,   0.6732,  34.7017,2,  34.7021,2,   210.21,2,  209.95,2,   119.8,2,    2.27,2,   0.2986,2,   0.1492,2,   0.0167,2,  2257.9,2,  2357.6,2,  -0.034,2,   32.68,2,      0.001,2
09AR20071216,       CASO,      62,          1,          7,          7,2,20080107,       2029,   -62.9042,   145.0545,       3996,  2399.0,   0.4748,  34.6917,2,  34.6911,2,   215.02,2,  214.91,2,   123.0,2,    2.27,2,   0.3967,2,   0.1960,2,   0.0220,2,  2259.7,2,  2357.8,2,  -0.036,2,   32.82,2,      0.001,2
09AR20071216,       CASO,      62,          1,          6,          6,2,20080107,       2029,   -62.9042,   145.0545,       3996,  2699.2,   0.3189,  34.6863,2,  34.6866,2,   218.98,2,  219.90,2,   128.3,2,    2.29,2,   0.4636,6,   0.2245,6,   0.0261,6,  2257.9,2,    2359,6,  -0.034,2,   32.15,3,      0.001,2
09AR20071216,       CASO,      62,          1,          5,          5,2,20080107,       2029,   -62.9042,   145.0545,       3996,  3000.3,   0.2149,  34.6820,2,  34.6813,2,   222.85,2,  222.46,2,   129.2,2,    2.30,2,   0.6571,2,   0.4023,2,   0.0425,2,    2259,2,  2356.7,2,  -0.040,2,   32.13,3,      0.001,2
09AR20071216,       CASO,      62,          1,          4,          4,2,20080107,       2029,   -62.9042,   145.0545,       3996,  3300.7,   0.1142,  34.6778,2,  34.6774,2,   226.72,2,  228.11,2,   130.0,2,    2.29,2,   0.8163,2,   0.4008,2,   0.0462,2,  2259.2,2,  2357.3,2,  -0.040,2,   32.01,3,      0.001,2
09AR20071216,       CASO,      62,          1,          3,          3,2,20080107,       2029,   -62.9042,   145.0545,       3996,  3598.2,   0.0051,  34.6721,2,  34.6711,2,   231.39,2,  230.76,2,   128.0,2,    2.29,2,   1.1999,2,   0.5983,2,   0.0710,2,  2259.1,2,  2355.7,2,  -0.040,2,   31.84,3,      0.001,2
09AR20071216,       CASO,      62,          1,          2,          2,2,20080107,       2029,   -62.9042,   145.0545,       3996,  3898.7,  -0.1081,  34.6634,2,  34.6627,2,   236.93,2,  237.36,2,   120.9,2,    2.27,2,   1.7110,2,   0.8627,2,   0.1192,2,  2255.9,2,    2353,6,  -0.043,2,   31.54,3,      0.001,2
09AR20071216,       CASO,      62,          1,          1,          1,2,20080107,       2029,   -62.9042,   145.0545,       3996,  4060.9,  -0.2830,  34.6490,2,  34.6489,2,   245.09,2,  245.49,2,   111.6,2,    2.25,2,   2.3477,2,   1.2164,2,   0.1704,2,    2254,6,  2350.1,2,  -0.043,2,   31.24,3,      0.001,2