BOTTLE,20230622CCHSIOENA
EXPOCODE,SECT_ID,STNNBR,CASTNO,SAMPNO,BTLNBR,BTLNBR_FLAG_W,DATE,TIME,LATITUDE,LONGITUDE,DEPTH,CTDPRS,CTDTMP,CTDSAL,CTDSAL_FLAG_W,SALNTY,SALNTY_FLAG_W,CTDOXY,CTDOXY_FLAG_W,OXYGEN,OXYGEN_FLAG_W,SILCAT,SILCAT_FLAG_W,PHSPHT,PHSPHT_FLAG_W,CFC-11,CFC-11_FLAG_W,CFC-12,CFC-12_FLAG_W,CFC113,CFC113_FLAG_W,TCARBN,TCARBN_FLAG_W,ALKALI,ALKALI_FLAG_W,FLUOR,FLUOR_FLAG_W,NO2+NO3,NO2+NO3_FLAG_W,PAR,PAR_FLAG_W
,,,,,,,,,,,METERS,DBAR,ITS-90,PSS-78,,PSS-78,,UMOL/KG,,UMOL/KG,,UMOL/KG,,UMOL/KG,,PMOL/KG,,PMOL/KG,,PMOL/KG,,UMOL/KG,,UMOL/KG,,MG/M^3,,UMOL/KG,,VOLTS,
09AR20071216,       CASO,      69,          1,         24,         24,2,20080109,       1119,   -64.5938,   150.0007,       3439,     9.4,   0.2526,  33.5514,2,  33.5548,2,   343.78,2,  343.65,2,    35.0,2,    1.70,2,   6.3646,2,   3.2281,2,   0.5139,2,    2141,6,    2273,2,   0.724,2,   26.80,2,      0.849,2
09AR20071216,       CASO,      69,          1,         23,         23,2,20080109,       1119,   -64.5938,   150.0007,       3439,    33.3,  -0.0180,  33.8670,2,-999.0000,9,   342.96,2, -999.00,9,  -999.0,9, -999.00,9,-999.0000,9,-999.0000,9,-999.0000,9,  -999.0,9,  -999.0,9,   1.320,2, -999.00,9,      0.256,2
09AR20071216,       CASO,      69,          1,         22,         22,2,20080109,       1119,   -64.5938,   150.0007,       3439,    33.4,   0.0610,  33.8297,2,-999.0000,9,   342.96,2, -999.00,9,  -999.0,9, -999.00,9,-999.0000,9,-999.0000,9,-999.0000,9,  -999.0,9,  -999.0,9,   1.270,2, -999.00,9,      0.263,2
09AR20071216,       CASO,      69,          1,         21,         21,2,20080109,       1119,   -64.5938,   150.0007,       3439,    33.4,  -0.0482,  33.8892,2,  33.9579,4,   342.96,2,  320.07,2,    42.2,2,    1.91,2,-999.0000,9,-999.0000,9,-999.0000,9,  -999.0,9,  -999.0,9,   1.334,2,   28.43,2,      0.260,2
09AR20071216,       CASO,      69,          1,         20,         20,2,20080109,       1119,   -64.5938,   150.0007,       3439,    50.1,   0.8509,  34.3935,2,  34.3941,2,   292.12,2,  234.65,2,    65.1,2,    2.22,2,   2.5438,2,   1.3313,2,   0.1963,2,  2225.3,2,  2328.5,6,   2.349,2,   32.29,2,      0.001,2
09AR20071216,       CASO,      69,          1,         19,         19,2,20080109,       1119,   -64.5938,   150.0007,       3439,    91.2,   1.7641,  34.5720,2,  34.5701,2,   186.28,2,  180.83,2,    79.2,2,    2.36,2,-999.0000,9,-999.0000,9,-999.0000,9,  -999.0,9,  -999.0,9,   0.131,2,   34.30,2,      0.001,2
09AR20071216,       CASO,      69,          1,         18,         18,2,20080109,       1119,   -64.5938,   150.0007,       3439,   159.2,   1.8684,  34.6296,2,  34.6297,2,   176.80,2,  177.39,2,    81.9,2,    2.29,2,-999.0000,9,-999.0000,9,-999.0000,9,  -999.0,9,  -999.0,9,  -0.024,2,   33.46,2,      0.001,2
09AR20071216,       CASO,      69,          1,         17,         17,2,20080109,       1119,   -64.5938,   150.0007,       3439,   250.4,   1.8800,  34.6771,2,  34.6760,2,   179.76,2,  182.55,2,    83.9,2,    2.23,2,-999.0000,9,-999.0000,9,-999.0000,9,  -999.0,9,  -999.0,9,  -0.028,2,   32.46,2,      0.001,2
09AR20071216,       CASO,      69,          1,         16,         16,2,20080109,       1119,   -64.5938,   150.0007,       3439,   402.1,   1.8193,  34.7116,2,  34.7111,2,   185.90,2,  187.07,2,    86.3,2,    2.16,2,   0.3821,2,   0.1882,2,   0.0279,2,  2242.7,2,  2348.9,2,  -0.029,2,   31.49,2,      0.001,2
09AR20071216,       CASO,      69,          1,         15,         15,2,20080109,       1119,   -64.5938,   150.0007,       3439,   499.7,   1.7578,  34.7239,2,  34.7239,2,   189.73,2,  190.15,2,    87.9,2,    2.14,2,-999.0000,9,-999.0000,9,-999.0000,9,  -999.0,9,  -999.0,9,  -0.029,2,   31.33,2,      0.001,2
09AR20071216,       CASO,      69,          1,         14,         14,2,20080109,       1119,   -64.5938,   150.0007,       3439,   699.9,   1.4482,  34.7188,2,  34.7198,2,   198.11,2,  198.27,2,    92.2,2,    2.15,2,-999.0000,9,-999.0000,9,-999.0000,9,  -999.0,9,  -999.0,9,  -0.029,2,   31.23,2,      0.001,2
09AR20071216,       CASO,      69,          1,         13,         13,2,20080109,       1119,   -64.5938,   150.0007,       3439,   899.6,   1.4109,  34.7353,2,  34.7365,2,   200.97,2,  200.05,2,    98.0,2,    2.12,2,-999.0000,9,-999.0000,9,-999.0000,9,  -999.0,9,  -999.0,9,  -0.026,2,   30.93,2,      0.001,2
09AR20071216,       CASO,      69,          1,         12,         12,2,20080109,       1119,   -64.5938,   150.0007,       3439,  1100.1,   1.2473,  34.7308,2,  34.7310,2,   202.24,2,  202.26,2,   103.4,2,    2.14,2,-999.0000,9,-999.0000,9,-999.0000,9,  -999.0,9,  -999.0,9,  -0.033,2,   31.13,2,      0.001,2
09AR20071216,       CASO,      69,          1,         11,         11,2,20080109,       1119,   -64.5938,   150.0007,       3439,  1299.1,   1.0672,  34.7228,2,  34.7227,2,   204.42,2,  204.26,2,   109.0,2,    2.18,2,   0.1878,2,   0.0961,2,   0.0095,2,  2252.7,6,  2361.3,2,  -0.032,2,   31.43,2,      0.001,2
09AR20071216,       CASO,      69,          1,         10,         10,2,20080109,       1119,   -64.5938,   150.0007,       3439,  1502.0,   0.9111,  34.7149,2,  34.7151,2,   206.66,2,  206.74,2,   113.5,2,    2.20,2,-999.0000,9,-999.0000,9,-999.0000,9,  -999.0,9,  -999.0,9,  -0.035,2,   31.67,2,      0.001,2
09AR20071216,       CASO,      69,          1,          9,          9,2,20080109,       1119,   -64.5938,   150.0007,       3439,  1705.8,   0.7396,  34.7057,2,  34.7054,2,   208.89,2,  210.43,2,   118.0,2,    2.23,2,-999.0000,9,-999.0000,9,-999.0000,9,  -999.0,9,  -999.0,9,  -0.035,2,   31.90,2,      0.001,2
09AR20071216,       CASO,      69,          1,          8,          8,2,20080109,       1119,   -64.5938,   150.0007,       3439,  1899.4,   0.5885,  34.6978,2,  34.6974,2,   211.97,2,  211.34,2,   121.5,2,    2.24,2,-999.0000,9,-999.0000,9,-999.0000,9,  -999.0,9,  -999.0,9,  -0.036,2,   32.10,2,      0.001,2
09AR20071216,       CASO,      69,          1,          7,          7,2,20080109,       1119,   -64.5938,   150.0007,       3439,  2100.8,   0.4500,  34.6912,2,-999.0000,9,   214.74,2,  214.08,2,   123.8,2,    2.25,2,-999.0000,9,-999.0000,9,-999.0000,9,  -999.0,9,  -999.0,9,  -0.036,2,   32.21,2,      0.001,2
09AR20071216,       CASO,      69,          1,          6,          6,2,20080109,       1119,   -64.5938,   150.0007,       3439,  2400.4,   0.2714,  34.6838,2,  34.6831,2,   219.64,2,  220.25,2,   124.7,2,    2.26,2,   0.6083,2,   0.2988,2,   0.0370,2,  2255.3,2,  2359.7,2,  -0.038,2,   32.24,2,      0.001,2
09AR20071216,       CASO,      69,          1,          5,          5,2,20080109,       1119,   -64.5938,   150.0007,       3439,  2701.7,   0.1598,  34.6809,2,  34.6805,2,   223.45,2,  224.90,2,   128.6,2,    2.25,2,   0.6531,2,   0.3176,2,   0.0385,2,  2255.7,2,  2360.2,6,  -0.037,2,   32.08,2,      0.001,2
09AR20071216,       CASO,      69,          1,          4,          4,2,20080109,       1119,   -64.5938,   150.0007,       3439,  2999.4,   0.0316,  34.6753,2,  34.6744,2,   228.30,2,  229.15,2,   126.9,2,    2.25,2,   1.0687,2,   0.5241,2,   0.0648,2,  2253.5,2,  2362.3,2,  -0.041,2,   31.98,2,      0.001,2
09AR20071216,       CASO,      69,          1,          3,          3,2,20080109,       1119,   -64.5938,   150.0007,       3439,  3297.6,  -0.0992,  34.6689,2,-999.0000,9,   233.84,2, -999.00,9,  -999.0,9, -999.00,9,-999.0000,9,-999.0000,9,-999.0000,9,  -999.0,9,  -999.0,9,  -0.043,2, -999.00,9,      0.001,2
09AR20071216,       CASO,      69,          1,          2,          2,2,20080109,       1119,   -64.5938,   150.0007,       3439,  3430.8,  -0.1406,  34.6709,2,  34.6703,2,   236.19,2,  235.58,2,   113.4,2,    2.22,2,   1.8814,2,   0.9674,2,   0.1264,2,  2252.7,2,  2356.2,6,  -0.040,2,   31.93,2,      0.001,2
09AR20071216,       CASO,      69,          1,          1,          1,2,20080109,       1119,   -64.5938,   150.0007,       3439,  3488.3,  -0.1425,  34.6712,2,  34.6695,2,   236.56,2,  236.63,2,   112.8,2,    2.22,2,   1.9759,2,   0.9981,2,   0.1445,2,  2253.8,2,  2357.9,2,  -0.041,2,   31.92,2,      0.001,2
09AR20071216,       CASO,      70,          1,         24,         24,2,20080109,       1619,   -64.9978,   149.9957,       3270,    10.3,  -1.5270,  33.3485,2,  33.3532,2,   347.54,2,  351.81,2,    44.1,2,    1.76,2,   6.2027,2,   3.1361,2,   0.4999,2,  2134.8,6,  2254.6,2,   1.178,2,   27.40,2,      2.081,2
09AR20071216,       CASO,      70,          1,         23,         23,2,20080109,       1619,   -64.9978,   149.9957,       3270,    10.2,  -1.5271,  33.3466,2,-999.0000,9,   347.54,2, -999.00,9,  -999.0,9, -999.00,9,-999.0000,9,-999.0000,9,-999.0000,9,  -999.0,9,  -999.0,9,   1.181,2, -999.00,9,      2.074,2
09AR20071216,       CASO,      70,          1,         22,         22,2,20080109,       1619,   -64.9978,   149.9957,       3270,    10.2,  -1.5289,  33.3486,2,-999.0000,9,   347.54,2, -999.00,9,  -999.0,9, -999.00,9,-999.0000,9,-999.0000,9,-999.0000,9,  -999.0,9,  -999.0,9,   1.174,2, -999.00,9,      2.061,2
09AR20071216,       CASO,      70,          1,         21,         21,2,20080109,       1619,   -64.9978,   149.9957,       3270,    40.9,  -1.7160,  34.0496,2,  34.0404,2,   319.67,2,  313.36,2,    51.1,2,    2.03,2,   4.9878,2,   2.5651,2,   0.3923,2,  2190.6,2,  2298.6,6,   0.528,2,   28.98,2,      1.430,2
09AR20071216,       CASO,      70,          1,         20,         20,2,20080109,       1619,   -64.9978,   149.9957,       3270,    89.7,  -1.7254,  34.1665,2,  34.1616,2,   292.26,2,  295.95,2,    54.2,2,    2.10,2,   4.5997,2,   2.3964,2,   0.3568,2,  2204.5,2,  2304.7,2,   0.450,2,   30.15,2,      0.567,2
09AR20071216,       CASO,      70,          1,         19,         19,2,20080109,       1619,   -64.9978,   149.9957,       3270,   148.6,  -0.9181,  34.3676,2,  34.3676,2,   259.74,2,  272.83,2,    68.3,2,    2.16,2,   3.8086,2,   1.9713,2,   0.3186,2,  2209.9,2,  2319.5,2,   0.127,2,   31.41,2,      0.001,2
09AR20071216,       CASO,      70,          1,         18,         18,2,20080109,       1619,   -64.9978,   149.9957,       3270,   249.6,  -0.5697,  34.4742,2,  34.4744,2,   264.71,2,  256.43,2,    79.5,2,    2.17,2,   3.1547,2,   1.6637,2,   0.2445,2,  2234.7,2,  2329.6,6,   0.013,2,   32.09,2,      0.001,2
09AR20071216,       CASO,      70,          1,         17,         17,2,20080109,       1619,   -64.9978,   149.9957,       3270,   350.1,  -0.0840,  34.5489,2,  34.5518,2,   233.93,2,  238.35,2,  -999.0,9,    2.16,2,   2.4623,2,   1.2854,2,   0.1812,2,  2242.1,2,  2335.6,2,  -0.034,2,   32.00,2,      0.001,2
09AR20071216,       CASO,      70,          1,         16,         16,2,20080109,       1619,   -64.9978,   149.9957,       3270,   450.2,   0.8977,  34.6591,2,  34.6587,2,   221.33,2,  210.78,2,    90.1,2,    2.17,2,   1.1710,2,   0.6074,2,   0.0936,2,  2247.4,2,  2342.8,2,  -0.032,2,   31.99,2,      0.001,2
09AR20071216,       CASO,      70,          1,         15,         15,2,20080109,       1619,   -64.9978,   149.9957,       3270,   550.5,   1.0354,  34.6904,2,  34.6892,2,   210.22,2,  206.92,2,    94.5,2,    2.18,2,   0.8613,2,   0.4385,2,   0.0581,2,  2248.8,2,  2348.2,2,  -0.030,2,   31.74,2,      0.001,2
09AR20071216,       CASO,      70,          1,         14,         14,2,20080109,       1619,   -64.9978,   149.9957,       3270,   699.8,   1.0304,  34.7027,2,  34.7039,2,   204.38,2,  204.87,2,    99.9,2,    2.17,2,   0.6872,2,   0.3449,2,   0.0444,2,  2254.7,2,    2350,2,  -0.034,2,   31.81,2,      0.001,2
09AR20071216,       CASO,      70,          1,         13,         13,2,20080109,       1619,   -64.9978,   149.9957,       3270,   850.5,   0.9058,  34.6994,2,  34.7004,2,   203.44,2,  204.43,2,   105.8,2,    2.20,2,   0.5544,2,   0.2803,2,   0.0437,2,  2258.1,6,  2352.6,2,  -0.032,2,   32.18,2,      0.001,2
09AR20071216,       CASO,      70,          1,         12,         12,2,20080109,       1619,   -64.9978,   149.9957,       3270,   999.4,   0.7941,  34.6963,2,  34.6972,2,   204.19,2,  205.17,2,   109.3,2,    2.23,2,-999.0000,9,-999.0000,9,-999.0000,9,  -999.0,9,  -999.0,9,  -0.032,2,   32.41,2,      0.001,2
09AR20071216,       CASO,      70,          1,         11,         11,2,20080109,       1619,   -64.9978,   149.9957,       3270,  1201.0,   0.6707,  34.6936,2,  34.6943,2,   208.69,2,  208.82,2,   113.1,2,    2.23,2,   0.5665,2,   0.2893,2,   0.0392,2,  2257.9,2,  2356.3,6,  -0.035,2,   32.45,2,      0.001,2
09AR20071216,       CASO,      70,          1,         10,         10,2,20080109,       1619,   -64.9978,   149.9957,       3270,  1451.3,   0.5229,  34.6898,2,  34.6898,2,   210.77,2,  210.47,2,   117.2,2,    2.26,2,   0.5911,2,   0.2928,2,   0.0433,2,  2259.6,2,  2357.1,2,  -0.037,2,   32.59,2,      0.001,2
09AR20071216,       CASO,      70,          1,          9,          9,2,20080109,       1619,   -64.9978,   149.9957,       3270,  1709.7,   0.4132,  34.6876,2,  34.6880,2,   213.86,2,  213.60,2,   119.8,2,    2.26,2,-999.0000,9,-999.0000,9,-999.0000,9,  -999.0,9,  -999.0,9,  -0.038,2,   32.59,2,      0.001,2
09AR20071216,       CASO,      70,          1,          8,          8,2,20080109,       1619,   -64.9978,   149.9957,       3270,  1949.8,   0.3176,  34.6858,2,  34.6856,2,   217.09,2,  217.25,2,   121.6,2,    2.26,2,   0.6359,2,   0.3186,2,   0.0415,2,  2263.1,2,  2354.2,2,  -0.033,2,   32.58,2,      0.001,2
09AR20071216,       CASO,      70,          1,          7,          7,2,20080109,       1619,   -64.9978,   149.9957,       3270,  2200.2,   0.2185,  34.6826,2,  34.6821,2,   220.71,2,  220.29,2,   122.9,2,    2.26,2,   0.7225,2,   0.3562,2,   0.0454,2,  2261.3,2,  2353.2,2,  -0.041,2,   32.57,2,      0.001,2
09AR20071216,       CASO,      70,          1,          6,          6,2,20080109,       1619,   -64.9978,   149.9957,       3270,  2499.7,   0.1039,  34.6794,2,  34.6790,2,   224.91,2,  224.07,2,   122.6,2,    2.26,2,   0.9042,2,   0.4539,2,   0.0612,2,  2258.1,2,  2353.2,2,  -0.036,2,   32.77,2,      0.001,2
09AR20071216,       CASO,      70,          1,          5,          5,2,20080109,       1619,   -64.9978,   149.9957,       3270,  2752.7,   0.0256,  34.6767,2,  34.6760,2,   228.97,2,  228.67,2,   118.1,2,    2.26,2,   1.2594,2,   0.6340,2,   0.0817,2,    2257,2,  2354.1,2,  -0.041,2,   32.39,2,      0.001,2
09AR20071216,       CASO,      70,          1,          4,          4,2,20080109,       1619,   -64.9978,   149.9957,       3270,  2999.6,  -0.0781,  34.6744,2,  34.6737,2,   233.44,2,  232.41,2,   108.8,2,    2.23,2,   1.7972,2,   0.9196,2,   0.1246,2,  2256.7,2,  2352.6,2,  -0.041,2,   32.10,2,      0.001,2
09AR20071216,       CASO,      70,          1,          3,          3,2,20080109,       1619,   -64.9978,   149.9957,       3270,  3170.1,  -0.1963,  34.6746,2,  34.6733,2,   237.28,2,  236.54,2,   105.9,2,    2.23,2,   2.1454,2,   1.1058,2,   0.1590,2,  2258.2,2,  2351.7,6,  -0.040,2,   31.93,2,      0.001,2
09AR20071216,       CASO,      70,          1,          2,          2,2,20080109,       1619,   -64.9978,   149.9957,       3270,  3273.7,  -0.2162,  34.6760,2,  34.6754,2,   239.02,2,  237.88,2,   103.1,2,    2.22,2,   2.2417,2,   1.1657,2,   0.1615,2,  2255.2,2,  2349.5,6,  -0.041,2,   31.84,2,      0.001,2
09AR20071216,       CASO,      70,          1,          1,          1,2,20080109,       1619,   -64.9978,   149.9957,       3270,  3318.3,  -0.2120,  34.6761,2,  34.6754,2,   239.23,2,  240.88,2,   103.1,2,    2.21,2,   2.2681,2,   1.1624,2,   0.1749,2,  2255.2,6,  2351.3,2,  -0.041,2,   31.80,2,      0.001,2