BOTTLE,20230622CCHSIOENA
EXPOCODE,SECT_ID,STNNBR,CASTNO,SAMPNO,BTLNBR,BTLNBR_FLAG_W,DATE,TIME,LATITUDE,LONGITUDE,DEPTH,CTDPRS,CTDTMP,CTDSAL,CTDSAL_FLAG_W,SALNTY,SALNTY_FLAG_W,CTDOXY,CTDOXY_FLAG_W,OXYGEN,OXYGEN_FLAG_W,SILCAT,SILCAT_FLAG_W,PHSPHT,PHSPHT_FLAG_W,CFC-11,CFC-11_FLAG_W,CFC-12,CFC-12_FLAG_W,CFC113,CFC113_FLAG_W,TCARBN,TCARBN_FLAG_W,ALKALI,ALKALI_FLAG_W,FLUOR,FLUOR_FLAG_W,NO2+NO3,NO2+NO3_FLAG_W,PAR,PAR_FLAG_W
,,,,,,,,,,,METERS,DBAR,ITS-90,PSS-78,,PSS-78,,UMOL/KG,,UMOL/KG,,UMOL/KG,,UMOL/KG,,PMOL/KG,,PMOL/KG,,PMOL/KG,,UMOL/KG,,UMOL/KG,,MG/M^3,,UMOL/KG,,VOLTS,
09AR20071216,    CEAMARC,     111,          1,         24,         24,2,20080118,       1024,   -65.6327,   140.3862,       1404,     9.1,   0.7419,  33.6493,2,  33.6546,2,   343.97,2,  346.24,2,    40.3,2,    1.76,2,   6.2502,2,   3.2348,2,   0.4953,2,    2149,6,  2281.4,2,   1.017,2,   26.59,2,      1.964,2
09AR20071216,    CEAMARC,     111,          1,         23,         23,2,20080118,       1024,   -65.6327,   140.3862,       1404,     9.2,   0.7142,  33.6546,2,-999.0000,9,   343.97,2, -999.00,9,  -999.0,9, -999.00,9,-999.0000,9,-999.0000,9,-999.0000,9,  -999.0,9,  -999.0,9,   0.986,2, -999.00,9,      1.968,2
09AR20071216,    CEAMARC,     111,          1,         22,         22,2,20080118,       1024,   -65.6327,   140.3862,       1404,     9.1,   0.6838,  33.6542,2,-999.0000,9,   343.97,2, -999.00,9,  -999.0,9, -999.00,9,-999.0000,9,-999.0000,9,-999.0000,9,  -999.0,9,  -999.0,9,   1.072,2, -999.00,9,      1.971,2
09AR20071216,    CEAMARC,     111,          1,         21,         21,2,20080118,       1024,   -65.6327,   140.3862,       1404,     9.3,   0.6491,  33.6517,2,-999.0000,9,   343.97,2, -999.00,9,  -999.0,9, -999.00,9,-999.0000,9,-999.0000,9,-999.0000,9,  -999.0,9,  -999.0,9,   1.126,2, -999.00,9,      1.966,2
09AR20071216,    CEAMARC,     111,          1,         20,         20,2,20080118,       1024,   -65.6327,   140.3862,       1404,    24.6,   0.2293,  33.6833,2,  33.6944,2,   346.29,2,  351.09,2,    44.0,2,    1.71,2,   6.2083,2,   3.2148,2,   0.4711,2,  2147.9,2,  2285.7,6,   1.983,2,   26.05,2,      1.551,2
09AR20071216,    CEAMARC,     111,          1,         19,         19,2,20080118,       1024,   -65.6327,   140.3862,       1404,    50.8,  -1.4581,  34.1474,2,  34.0837,4,   340.46,2,  338.99,2,    48.0,2,    1.91,2,   5.5402,2,   2.8688,2,   0.4236,2,  2187.2,2,  2313.3,2,   1.957,2,   28.31,2,      0.861,2
09AR20071216,    CEAMARC,     111,          1,         18,         18,2,20080118,       1024,   -65.6327,   140.3862,       1404,    50.8,  -1.4503,  34.1428,2,-999.0000,9,   340.46,2, -999.00,9,  -999.0,9, -999.00,9,-999.0000,9,-999.0000,9,-999.0000,9,  -999.0,9,  -999.0,9,   1.976,2, -999.00,9,      0.864,2
09AR20071216,    CEAMARC,     111,          1,         17,         17,2,20080118,       1024,   -65.6327,   140.3862,       1404,   100.5,  -1.7037,  34.3368,2,  34.3359,2,   308.60,2,  308.99,2,    61.3,2,    2.07,2,   5.0476,2,   2.5911,2,   0.4121,2,  2214.4,2,  2325.2,2,   0.376,2,   30.54,2,      0.001,2
09AR20071216,    CEAMARC,     111,          1,         16,         16,2,20080118,       1024,   -65.6327,   140.3862,       1404,   100.6,  -1.7021,  34.3371,2,-999.0000,9,   308.60,2, -999.00,9,  -999.0,9, -999.00,9,-999.0000,9,-999.0000,9,-999.0000,9,  -999.0,9,  -999.0,9,   0.355,2, -999.00,9,      0.001,2
09AR20071216,    CEAMARC,     111,          1,         15,         15,2,20080118,       1024,   -65.6327,   140.3862,       1404,   201.5,  -1.1247,  34.4675,2,  34.4660,2,   272.14,2,  273.81,2,    75.7,2,    2.12,2,   3.7425,2,   1.9553,2,   0.3058,2,  2229.7,2,  2334.9,6,  -0.002,2,   31.21,2,      0.001,2
09AR20071216,    CEAMARC,     111,          1,         14,         14,2,20080118,       1024,   -65.6327,   140.3862,       1404,   201.4,  -1.1176,  34.4682,2,-999.0000,9,   272.14,2, -999.00,9,  -999.0,9, -999.00,9,-999.0000,9,-999.0000,9,-999.0000,9,  -999.0,9,  -999.0,9,   0.003,2, -999.00,9,      0.001,2
09AR20071216,    CEAMARC,     111,          1,         13,         13,2,20080118,       1024,   -65.6327,   140.3862,       1404,   299.8,  -0.6722,  34.5249,2,  34.5248,2,   256.05,2,  256.90,2,    82.5,2,    2.15,2,   3.1119,2,   1.6274,2,   0.2431,2,  2236.9,2,  2341.3,2,  -0.034,2,   31.30,2,      0.001,2
09AR20071216,    CEAMARC,     111,          1,         12,         12,2,20080118,       1024,   -65.6327,   140.3862,       1404,   299.5,  -0.6595,  34.5265,2,-999.0000,9,   256.05,2, -999.00,9,  -999.0,9, -999.00,9,-999.0000,9,-999.0000,9,-999.0000,9,  -999.0,9,  -999.0,9,  -0.035,2, -999.00,9,      0.001,2
09AR20071216,    CEAMARC,     111,          1,         11,         11,2,20080118,       1024,   -65.6327,   140.3862,       1404,   401.0,  -0.0539,  34.5970,2,-999.0000,9,   235.41,2, -999.00,9,  -999.0,9, -999.00,9,-999.0000,9,-999.0000,9,-999.0000,9,  -999.0,9,  -999.0,9,  -0.035,2, -999.00,9,      0.001,2
09AR20071216,    CEAMARC,     111,          1,         10,         10,2,20080118,       1024,   -65.6327,   140.3862,       1404,   400.9,  -0.0500,  34.5974,2,  34.5975,2,   235.41,2,  233.64,2,    91.6,2,    2.18,2,   2.0816,2,   1.0868,2,   0.1546,2,  2244.7,2,  2347.3,2,  -0.038,2,   31.57,2,      0.001,2
09AR20071216,    CEAMARC,     111,          1,          9,          9,2,20080118,       1024,   -65.6327,   140.3862,       1404,   501.6,   0.2748,  34.6409,2,  34.6411,2,   223.92,2,  222.82,2,    98.2,2,    2.18,2,   1.4489,2,   0.7612,2,   0.1007,2,  2248.8,2,  2350.3,2,  -0.036,2,   31.70,2,      0.001,2
09AR20071216,    CEAMARC,     111,          1,          8,          8,2,20080118,       1024,   -65.6327,   140.3862,       1404,   676.1,   0.3374,  34.6652,2,  34.6666,2,   216.66,2,  216.69,2,   107.8,2,    2.22,2,   1.0691,2,   0.5510,2,   0.0746,2,  2254.1,2,  2357.7,2,  -0.038,2,   32.11,2,      0.001,2
09AR20071216,    CEAMARC,     111,          1,          7,          7,2,20080118,       1024,   -65.6327,   140.3862,       1404,   801.9,   0.2753,  34.6695,2,-999.0000,9,   218.58,2, -999.00,9,  -999.0,9, -999.00,9,-999.0000,9,-999.0000,9,-999.0000,9,  -999.0,9,  -999.0,9,  -0.031,2, -999.00,9,      0.001,2
09AR20071216,    CEAMARC,     111,          1,          6,          6,2,20080118,       1024,   -65.6327,   140.3862,       1404,   950.3,  -0.0410,  34.6609,2,  34.6619,2,   227.60,2,  228.37,2,   109.3,2,    2.22,2,   1.4621,2,   0.7551,2,   0.1000,2,  2251.6,2,  2357.7,2,  -0.035,2,   31.88,2,      0.001,2
09AR20071216,    CEAMARC,     111,          1,          5,          5,2,20080118,       1024,   -65.6327,   140.3862,       1404,  1149.5,  -0.2538,  34.6494,2,  34.6505,2,   236.39,2,  236.76,2,   105.1,2,    2.20,2,   1.8873,2,   0.9933,2,   0.1321,2,  2250.3,2,  2355.2,6,  -0.038,2,   32.15,2,      0.001,2
09AR20071216,    CEAMARC,     111,          1,          4,          4,2,20080118,       1024,   -65.6327,   140.3862,       1404,  1352.6,  -0.4198,  34.6386,2,  34.6395,2,   245.20,2,  244.97,2,    99.8,2,    2.19,2,-999.0000,9,-999.0000,9,-999.0000,9,  -999.0,9,  -999.0,9,  -0.036,2,   31.51,2,      0.001,2
09AR20071216,    CEAMARC,     111,          1,          3,          3,2,20080118,       1024,   -65.6327,   140.3862,       1404,  1352.4,  -0.4192,  34.6388,2,-999.0000,9,   245.20,2, -999.00,9,  -999.0,9, -999.00,9,-999.0000,9,-999.0000,9,-999.0000,9,  -999.0,9,  -999.0,9,  -0.037,2, -999.00,9,      0.001,2
09AR20071216,    CEAMARC,     111,          1,          2,          2,2,20080118,       1024,   -65.6327,   140.3862,       1404,  1393.7,  -0.4418,  34.6377,2,  34.6381,2,   246.35,2,  247.14,2,    99.8,2,    2.17,2,   2.3210,6,   1.2208,6,   0.1670,6,  2248.1,6,  2352.9,2,  -0.035,2,   31.51,2,      0.001,2
09AR20071216,    CEAMARC,     111,          1,          1,          1,2,20080118,       1024,   -65.6327,   140.3862,       1404,  1393.9,  -0.4427,  34.6376,2,-999.0000,9,   246.35,2, -999.00,9,  -999.0,9, -999.00,9,-999.0000,9,-999.0000,9,-999.0000,9,  -999.0,9,  -999.0,9,  -0.039,2, -999.00,9,      0.001,2
09AR20071216,    ICEBERG,     112,          1,         24,         24,2,20080119,       0424,   -65.5957,   141.1052,       1280,     4.2,   0.8862,  33.5488,2,  33.5470,2,  -999.00,5, -999.00,9,    40.4,2,    1.69,2,-999.0000,9,-999.0000,9,-999.0000,9,  -999.0,9,  -999.0,9,   0.067,2,   26.51,2,      3.005,2
09AR20071216,    ICEBERG,     112,          1,         23,         23,2,20080119,       0424,   -65.5957,   141.1052,       1280,     4.3,   0.8887,  33.5483,2,-999.0000,9,  -999.00,5, -999.00,9,  -999.0,9, -999.00,9,-999.0000,9,-999.0000,9,-999.0000,9,  -999.0,9,  -999.0,9,   0.056,2, -999.00,9,      3.005,2
09AR20071216,    ICEBERG,     112,          1,         22,         22,2,20080119,       0424,   -65.5957,   141.1052,       1280,     4.3,   0.8861,  33.5470,2,-999.0000,9,  -999.00,5, -999.00,9,  -999.0,9, -999.00,9,-999.0000,9,-999.0000,9,-999.0000,9,  -999.0,9,  -999.0,9,   0.045,2, -999.00,9,      2.992,2
09AR20071216,    ICEBERG,     112,          1,         21,         21,2,20080119,       0424,   -65.5957,   141.1052,       1280,     4.2,   0.8877,  33.5489,2,-999.0000,9,  -999.00,5, -999.00,9,  -999.0,9, -999.00,9,-999.0000,9,-999.0000,9,-999.0000,9,  -999.0,9,  -999.0,9,   0.057,2, -999.00,9,      2.990,2
09AR20071216,    ICEBERG,     112,          1,         20,         20,2,20080119,       0424,   -65.5957,   141.1052,       1280,     4.2,   0.8785,  33.5475,2,-999.0000,9,  -999.00,5, -999.00,9,  -999.0,9, -999.00,9,-999.0000,9,-999.0000,9,-999.0000,9,  -999.0,9,  -999.0,9,   0.058,2, -999.00,9,      2.986,2
09AR20071216,    ICEBERG,     112,          1,         19,         19,2,20080119,       0424,   -65.5957,   141.1052,       1280,     3.9,   0.8799,  33.5492,2,-999.0000,9,  -999.00,5, -999.00,9,  -999.0,9, -999.00,9,-999.0000,9,-999.0000,9,-999.0000,9,  -999.0,9,  -999.0,9,   0.059,2, -999.00,9,      3.010,2
09AR20071216,    ICEBERG,     112,          1,         18,         18,2,20080119,       0424,   -65.5957,   141.1052,       1280,    14.4,   0.7311,  33.6171,2,  33.6235,2,  -999.00,5, -999.00,9,    40.3,2,    1.70,2,-999.0000,9,-999.0000,9,-999.0000,9,  -999.0,9,  -999.0,9,   0.224,2,   26.72,2,      2.656,2
09AR20071216,    ICEBERG,     112,          1,         17,         17,2,20080119,       0424,   -65.5957,   141.1052,       1280,    14.5,   0.7323,  33.6155,2,-999.0000,9,  -999.00,5, -999.00,9,  -999.0,9, -999.00,9,-999.0000,9,-999.0000,9,-999.0000,9,  -999.0,9,  -999.0,9,   0.229,2, -999.00,9,      2.653,2
09AR20071216,    ICEBERG,     112,          1,         16,         16,2,20080119,       0424,   -65.5957,   141.1052,       1280,    29.5,  -0.3171,  33.7564,2,  33.7771,2,  -999.00,5, -999.00,9,    42.6,2,    1.74,2,-999.0000,9,-999.0000,9,-999.0000,9,  -999.0,9,  -999.0,9,   0.821,2,   26.84,2,      2.438,2
09AR20071216,    ICEBERG,     112,          1,         15,         15,2,20080119,       0424,   -65.5957,   141.1052,       1280,    29.4,  -0.3178,  33.7573,2,-999.0000,9,  -999.00,5, -999.00,9,  -999.0,9, -999.00,9,-999.0000,9,-999.0000,9,-999.0000,9,  -999.0,9,  -999.0,9,   0.825,2, -999.00,9,      2.441,2
09AR20071216,    ICEBERG,     112,          1,         14,         14,2,20080119,       0424,   -65.5957,   141.1052,       1280,    60.2,  -1.5790,  34.2112,2,  34.2166,2,  -999.00,5, -999.00,9,    52.6,2,    1.97,2,-999.0000,9,-999.0000,9,-999.0000,9,  -999.0,9,  -999.0,9,   1.998,2,   29.16,2,      2.000,2
09AR20071216,    ICEBERG,     112,          1,         13,         13,2,20080119,       0424,   -65.5957,   141.1052,       1280,    60.2,  -1.5847,  34.2136,2,-999.0000,9,  -999.00,5, -999.00,9,  -999.0,9, -999.00,9,-999.0000,9,-999.0000,9,-999.0000,9,  -999.0,9,  -999.0,9,   2.055,2, -999.00,9,      1.999,2
09AR20071216,    ICEBERG,     112,          1,         12,         12,2,20080119,       0424,   -65.5957,   141.1052,       1280,    99.7,  -1.7219,  34.2979,2,  34.2988,2,  -999.00,5, -999.00,9,    58.3,2,    2.05,2,-999.0000,9,-999.0000,9,-999.0000,9,  -999.0,9,  -999.0,9,   0.880,2,   29.96,2,      1.165,2
09AR20071216,    ICEBERG,     112,          1,         11,         11,2,20080119,       0424,   -65.5957,   141.1052,       1280,    99.5,  -1.7218,  34.2978,2,-999.0000,9,  -999.00,5, -999.00,9,  -999.0,9, -999.00,9,-999.0000,9,-999.0000,9,-999.0000,9,  -999.0,9,  -999.0,9,   0.935,2, -999.00,9,      1.166,2
09AR20071216,    ICEBERG,     112,          1,         10,         10,2,20080119,       0424,   -65.5957,   141.1052,       1280,    99.7,  -1.7218,  34.2977,2,-999.0000,9,  -999.00,5, -999.00,9,  -999.0,9, -999.00,9,-999.0000,9,-999.0000,9,-999.0000,9,  -999.0,9,  -999.0,9,   0.919,2, -999.00,9,      1.162,2
09AR20071216,    ICEBERG,     112,          1,          9,          9,2,20080119,       0424,   -65.5957,   141.1052,       1280,    99.5,  -1.7217,  34.2980,2,-999.0000,9,  -999.00,5, -999.00,9,  -999.0,9, -999.00,9,-999.0000,9,-999.0000,9,-999.0000,9,  -999.0,9,  -999.0,9,   0.960,2, -999.00,9,      1.166,2
09AR20071216,    ICEBERG,     112,          1,          8,          8,2,20080119,       0424,   -65.5957,   141.1052,       1280,   200.4,  -1.3733,  34.4397,2,  34.4403,2,  -999.00,5, -999.00,9,    73.2,2,    2.11,2,-999.0000,9,-999.0000,9,-999.0000,9,  -999.0,9,  -999.0,9,   0.085,2,   30.72,2,      0.001,2
09AR20071216,    ICEBERG,     112,          1,          7,          7,2,20080119,       0424,   -65.5957,   141.1052,       1280,   200.2,  -1.3755,  34.4393,2,-999.0000,9,  -999.00,5, -999.00,9,  -999.0,9, -999.00,9,-999.0000,9,-999.0000,9,-999.0000,9,  -999.0,9,  -999.0,9,   0.079,2, -999.00,9,      0.001,2
09AR20071216,    ICEBERG,     112,          1,          6,          6,2,20080119,       0424,   -65.5957,   141.1052,       1280,   200.3,  -1.3737,  34.4399,2,-999.0000,9,  -999.00,5, -999.00,9,  -999.0,9, -999.00,9,-999.0000,9,-999.0000,9,-999.0000,9,  -999.0,9,  -999.0,9,   0.095,2, -999.00,9,      0.001,2
09AR20071216,    ICEBERG,     112,          1,          5,          5,2,20080119,       0424,   -65.5957,   141.1052,       1280,   200.0,  -1.3764,  34.4396,2,-999.0000,9,  -999.00,5, -999.00,9,  -999.0,9, -999.00,9,-999.0000,9,-999.0000,9,-999.0000,9,  -999.0,9,  -999.0,9,   0.090,2, -999.00,9,      0.001,2
09AR20071216,    ICEBERG,     112,          1,          4,          4,2,20080119,       0424,   -65.5957,   141.1052,       1280,   302.2,  -0.7150,  34.5205,2,  34.5209,2,  -999.00,5, -999.00,9,    82.5,2,    2.14,2,-999.0000,9,-999.0000,9,-999.0000,9,  -999.0,9,  -999.0,9,  -0.030,2,   31.20,2,      0.001,2
09AR20071216,    ICEBERG,     112,          1,          3,          3,2,20080119,       0424,   -65.5957,   141.1052,       1280,   302.0,  -0.7148,  34.5206,2,-999.0000,9,  -999.00,5, -999.00,9,  -999.0,9, -999.00,9,-999.0000,9,-999.0000,9,-999.0000,9,  -999.0,9,  -999.0,9,  -0.029,2, -999.00,9,      0.001,2
09AR20071216,    ICEBERG,     112,          1,          2,          2,2,20080119,       0424,   -65.5957,   141.1052,       1280,   301.9,  -0.7131,  34.5205,2,-999.0000,9,  -999.00,5, -999.00,9,  -999.0,9, -999.00,9,-999.0000,9,-999.0000,9,-999.0000,9,  -999.0,9,  -999.0,9,  -0.032,2, -999.00,9,      0.001,2
09AR20071216,    ICEBERG,     112,          1,          1,          1,2,20080119,       0424,   -65.5957,   141.1052,       1280,   301.4,  -0.7082,  34.5211,2,-999.0000,9,  -999.00,5, -999.00,9,  -999.0,9, -999.00,9,-999.0000,9,-999.0000,9,-999.0000,9,  -999.0,9,  -999.0,9,  -0.031,2, -999.00,9,      0.001,2