BOTTLE,20230622CCHSIOENA
EXPOCODE,SECT_ID,STNNBR,CASTNO,SAMPNO,BTLNBR,BTLNBR_FLAG_W,DATE,TIME,LATITUDE,LONGITUDE,DEPTH,CTDPRS,CTDTMP,CTDSAL,CTDSAL_FLAG_W,SALNTY,SALNTY_FLAG_W,CTDOXY,CTDOXY_FLAG_W,OXYGEN,OXYGEN_FLAG_W,SILCAT,SILCAT_FLAG_W,PHSPHT,PHSPHT_FLAG_W,CFC-11,CFC-11_FLAG_W,CFC-12,CFC-12_FLAG_W,CFC113,CFC113_FLAG_W,TCARBN,TCARBN_FLAG_W,ALKALI,ALKALI_FLAG_W,FLUOR,FLUOR_FLAG_W,NO2+NO3,NO2+NO3_FLAG_W,PAR,PAR_FLAG_W
,,,,,,,,,,,METERS,DBAR,ITS-90,PSS-78,,PSS-78,,UMOL/KG,,UMOL/KG,,UMOL/KG,,UMOL/KG,,PMOL/KG,,PMOL/KG,,PMOL/KG,,UMOL/KG,,UMOL/KG,,MG/M^3,,UMOL/KG,,VOLTS,
09AR20071216,    CEAMARC,      29,          1,         24,         24,2,20071230,       1057,   -67.0588,   145.1923,       1315,  1322.5,  -1.8759,  34.7426,2,-999.0000,9,  -999.00,5, -999.00,9,  -999.0,9, -999.00,9,-999.0000,9,-999.0000,9,-999.0000,9,  -999.0,9,  -999.0,9,  -0.040,2, -999.00,9,      0.001,2
09AR20071216,    CEAMARC,      29,          1,         23,         23,2,20071230,       1057,   -67.0588,   145.1923,       1315,  1322.6,  -1.8759,  34.7426,2,-999.0000,9,  -999.00,5, -999.00,9,  -999.0,9, -999.00,9,-999.0000,9,-999.0000,9,-999.0000,9,  -999.0,9,  -999.0,9,  -0.041,2, -999.00,9,      0.001,2
09AR20071216,    CEAMARC,      29,          1,         22,         22,2,20071230,       1057,   -67.0588,   145.1923,       1315,  1322.5,  -1.8760,  34.7426,2,-999.0000,9,  -999.00,5, -999.00,9,  -999.0,9, -999.00,9,-999.0000,9,-999.0000,9,-999.0000,9,  -999.0,9,  -999.0,9,  -0.038,2, -999.00,9,      0.001,2
09AR20071216,    CEAMARC,      29,          1,         21,         21,2,20071230,       1057,   -67.0588,   145.1923,       1315,  1322.3,  -1.8759,  34.7426,2,-999.0000,9,  -999.00,5, -999.00,9,  -999.0,9, -999.00,9,-999.0000,9,-999.0000,9,-999.0000,9,  -999.0,9,  -999.0,9,  -0.036,2, -999.00,9,      0.001,2
09AR20071216,    CEAMARC,      29,          1,         20,         20,2,20071230,       1057,   -67.0588,   145.1923,       1315,  1322.2,  -1.8760,  34.7427,2,-999.0000,9,  -999.00,5, -999.00,9,  -999.0,9, -999.00,9,-999.0000,9,-999.0000,9,-999.0000,9,  -999.0,9,  -999.0,9,  -0.040,2, -999.00,9,      0.001,2
09AR20071216,    CEAMARC,      29,          1,         19,         19,2,20071230,       1057,   -67.0588,   145.1923,       1315,  1322.0,  -1.8760,  34.7427,2,-999.0000,9,  -999.00,5, -999.00,9,  -999.0,9, -999.00,9,-999.0000,9,-999.0000,9,-999.0000,9,  -999.0,9,  -999.0,9,  -0.043,2, -999.00,9,      0.001,2
09AR20071216,    CEAMARC,      29,          1,         18,         18,2,20071230,       1057,   -67.0588,   145.1923,       1315,  1321.9,  -1.8760,  34.7427,2,-999.0000,9,  -999.00,5, -999.00,9,  -999.0,9, -999.00,9,-999.0000,9,-999.0000,9,-999.0000,9,  -999.0,9,  -999.0,9,  -0.040,2, -999.00,9,      0.001,2
09AR20071216,    CEAMARC,      29,          1,         17,         17,2,20071230,       1057,   -67.0588,   145.1923,       1315,  1321.9,  -1.8760,  34.7426,2,-999.0000,9,  -999.00,5, -999.00,9,  -999.0,9, -999.00,9,-999.0000,9,-999.0000,9,-999.0000,9,  -999.0,9,  -999.0,9,  -0.039,2, -999.00,9,      0.001,2
09AR20071216,    CEAMARC,      29,          1,         16,         16,2,20071230,       1057,   -67.0588,   145.1923,       1315,  1321.6,  -1.8760,  34.7426,2,-999.0000,9,  -999.00,5, -999.00,9,  -999.0,9, -999.00,9,-999.0000,9,-999.0000,9,-999.0000,9,  -999.0,9,  -999.0,9,  -0.040,2, -999.00,9,      0.001,2
09AR20071216,    CEAMARC,      29,          1,         15,         15,2,20071230,       1057,   -67.0588,   145.1923,       1315,  1321.6,  -1.8760,  34.7426,2,-999.0000,9,  -999.00,5, -999.00,9,  -999.0,9, -999.00,9,-999.0000,9,-999.0000,9,-999.0000,9,  -999.0,9,  -999.0,9,  -0.036,2, -999.00,9,      0.001,2
09AR20071216,    CEAMARC,      29,          1,         14,         14,2,20071230,       1057,   -67.0588,   145.1923,       1315,  1321.5,  -1.8760,  34.7426,2,-999.0000,9,  -999.00,5, -999.00,9,  -999.0,9, -999.00,9,-999.0000,9,-999.0000,9,-999.0000,9,  -999.0,9,  -999.0,9,  -0.037,2, -999.00,9,      0.001,2
09AR20071216,    CEAMARC,      29,          1,         13,         13,2,20071230,       1057,   -67.0588,   145.1923,       1315,  1321.4,  -1.8760,  34.7426,2,-999.0000,9,  -999.00,5, -999.00,9,  -999.0,9, -999.00,9,-999.0000,9,-999.0000,9,-999.0000,9,  -999.0,9,  -999.0,9,  -0.042,2, -999.00,9,      0.001,2
09AR20071216,    CEAMARC,      29,          1,         12,         12,2,20071230,       1057,   -67.0588,   145.1923,       1315,  1321.3,  -1.8759,  34.7425,2,-999.0000,9,  -999.00,5, -999.00,9,  -999.0,9, -999.00,9,-999.0000,9,-999.0000,9,-999.0000,9,  -999.0,9,  -999.0,9,  -0.035,2, -999.00,9,      0.001,2
09AR20071216,    CEAMARC,      29,          1,         11,         11,2,20071230,       1057,   -67.0588,   145.1923,       1315,  1321.2,  -1.8760,  34.7426,2,-999.0000,9,  -999.00,5, -999.00,9,  -999.0,9, -999.00,9,-999.0000,9,-999.0000,9,-999.0000,9,  -999.0,9,  -999.0,9,  -0.038,2, -999.00,9,      0.001,2
09AR20071216,    CEAMARC,      29,          1,         10,         10,2,20071230,       1057,   -67.0588,   145.1923,       1315,  1321.0,  -1.8760,  34.7425,2,-999.0000,9,  -999.00,5, -999.00,9,  -999.0,9, -999.00,9,-999.0000,9,-999.0000,9,-999.0000,9,  -999.0,9,  -999.0,9,  -0.041,2, -999.00,9,      0.001,2
09AR20071216,    CEAMARC,      29,          1,          9,          9,2,20071230,       1057,   -67.0588,   145.1923,       1315,  1321.0,  -1.8761,  34.7425,2,-999.0000,9,  -999.00,5, -999.00,9,  -999.0,9, -999.00,9,-999.0000,9,-999.0000,9,-999.0000,9,  -999.0,9,  -999.0,9,  -0.040,2, -999.00,9,      0.001,2
09AR20071216,    CEAMARC,      29,          1,          8,          8,2,20071230,       1057,   -67.0588,   145.1923,       1315,  1320.7,  -1.8761,  34.7425,2,-999.0000,9,  -999.00,5, -999.00,9,  -999.0,9, -999.00,9,-999.0000,9,-999.0000,9,-999.0000,9,  -999.0,9,  -999.0,9,  -0.041,2, -999.00,9,      0.001,2
09AR20071216,    CEAMARC,      29,          1,          7,          7,2,20071230,       1057,   -67.0588,   145.1923,       1315,  1320.5,  -1.8761,  34.7425,2,-999.0000,9,  -999.00,5, -999.00,9,  -999.0,9, -999.00,9,-999.0000,9,-999.0000,9,-999.0000,9,  -999.0,9,  -999.0,9,  -0.039,2, -999.00,9,      0.001,2
09AR20071216,    CEAMARC,      29,          1,          6,          6,2,20071230,       1057,   -67.0588,   145.1923,       1315,  1320.5,  -1.8761,  34.7425,2,-999.0000,9,  -999.00,5, -999.00,9,  -999.0,9, -999.00,9,-999.0000,9,-999.0000,9,-999.0000,9,  -999.0,9,  -999.0,9,  -0.038,2, -999.00,9,      0.001,2
09AR20071216,    CEAMARC,      29,          1,          5,          5,2,20071230,       1057,   -67.0588,   145.1923,       1315,  1320.5,  -1.8761,  34.7425,2,-999.0000,9,  -999.00,5, -999.00,9,  -999.0,9, -999.00,9,-999.0000,9,-999.0000,9,-999.0000,9,  -999.0,9,  -999.0,9,  -0.040,2, -999.00,9,      0.001,2
09AR20071216,    CEAMARC,      29,          1,          4,          4,2,20071230,       1057,   -67.0588,   145.1923,       1315,  1320.4,  -1.8761,  34.7424,2,-999.0000,9,  -999.00,5, -999.00,9,  -999.0,9, -999.00,9,-999.0000,9,-999.0000,9,-999.0000,9,  -999.0,9,  -999.0,9,  -0.039,2, -999.00,9,      0.001,2
09AR20071216,    CEAMARC,      29,          1,          3,          3,2,20071230,       1057,   -67.0588,   145.1923,       1315,  1320.2,  -1.8761,  34.7423,2,-999.0000,9,  -999.00,5, -999.00,9,  -999.0,9, -999.00,9,-999.0000,9,-999.0000,9,-999.0000,9,  -999.0,9,  -999.0,9,  -0.038,2, -999.00,9,      0.001,2
09AR20071216,    CEAMARC,      29,          1,          2,          2,2,20071230,       1057,   -67.0588,   145.1923,       1315,  1320.1,  -1.8762,  34.7422,2,-999.0000,9,  -999.00,5, -999.00,9,  -999.0,9, -999.00,9,-999.0000,9,-999.0000,9,-999.0000,9,  -999.0,9,  -999.0,9,  -0.040,2, -999.00,9,      0.001,2
09AR20071216,    CEAMARC,      29,          1,          1,          1,2,20071230,       1057,   -67.0588,   145.1923,       1315,  1320.2,  -1.8762,  34.7420,2,  34.7408,2,  -999.00,5,  318.40,2,    78.3,2,    2.24,2,-999.0000,9,-999.0000,9,-999.0000,9,  -999.0,9,  -999.0,9,  -0.039,2,   33.26,3,      0.001,2
09AR20071216,    CEAMARC,      30,          1,         24,         24,2,20071230,       1536,   -66.8517,   145.3848,        632,     9.5,  -0.9903,  34.3426,2,  34.3449,2,   338.84,2,  339.42,2,    63.7,2,    1.75,2,   5.4530,2,   2.8591,2,   0.4233,2,  2198.5,6,  2326.5,6,   4.569,2,   27.43,2,      2.084,2
09AR20071216,    CEAMARC,      30,          1,         23,         23,2,20071230,       1536,   -66.8517,   145.3848,        632,     9.5,  -1.0051,  34.3442,2,-999.0000,9,   338.84,2, -999.00,9,  -999.0,9, -999.00,9,-999.0000,9,-999.0000,9,-999.0000,9,  -999.0,9,  -999.0,9,   4.421,2, -999.00,9,      2.082,2
09AR20071216,    CEAMARC,      30,          1,         22,         22,2,20071230,       1536,   -66.8517,   145.3848,        632,     9.5,  -0.9959,  34.3430,2,-999.0000,9,   338.84,2, -999.00,9,  -999.0,9, -999.00,9,-999.0000,9,-999.0000,9,-999.0000,9,  -999.0,9,  -999.0,9,   4.568,2, -999.00,9,      2.081,2
09AR20071216,    CEAMARC,      30,          1,         21,         21,2,20071230,       1536,   -66.8517,   145.3848,        632,     9.5,  -0.9966,  34.3431,2,-999.0000,9,   338.84,2, -999.00,9,  -999.0,9, -999.00,9,-999.0000,9,-999.0000,9,-999.0000,9,  -999.0,9,  -999.0,9,   4.358,2, -999.00,9,      2.071,2
09AR20071216,    CEAMARC,      30,          1,         20,         20,2,20071230,       1536,   -66.8517,   145.3848,        632,    40.2,  -1.4429,  34.3872,2,-999.0000,9,   326.80,2, -999.00,9,  -999.0,9, -999.00,9,-999.0000,9,-999.0000,9,-999.0000,9,  -999.0,9,  -999.0,9,   3.434,2, -999.00,9,      0.552,2
09AR20071216,    CEAMARC,      30,          1,         19,         19,2,20071230,       1536,   -66.8517,   145.3848,        632,    40.1,  -1.4476,  34.3869,2,-999.0000,9,   326.80,2, -999.00,9,  -999.0,9, -999.00,9,-999.0000,9,-999.0000,9,-999.0000,9,  -999.0,9,  -999.0,9,   3.480,2, -999.00,9,      0.549,2
09AR20071216,    CEAMARC,      30,          1,         18,         18,2,20071230,       1536,   -66.8517,   145.3848,        632,    40.2,  -1.4483,  34.3869,2,-999.0000,9,   326.80,2, -999.00,9,  -999.0,9, -999.00,9,-999.0000,9,-999.0000,9,-999.0000,9,  -999.0,9,  -999.0,9,   3.397,2, -999.00,9,      0.550,2
09AR20071216,    CEAMARC,      30,          1,         17,         17,2,20071230,       1536,   -66.8517,   145.3848,        632,    40.2,  -1.4461,  34.3865,2,  34.3862,2,   326.80,2,  326.36,2,    70.2,2,    1.87,2,   5.2786,2,   2.7042,2,   0.3973,2,  2211.2,3,    2328,2,   3.754,2,   28.45,2,      0.545,2
09AR20071216,    CEAMARC,      30,          1,         16,         16,2,20071230,       1536,   -66.8517,   145.3848,        632,    89.7,  -1.5207,  34.4131,2,-999.0000,9,   318.10,2, -999.00,9,  -999.0,9, -999.00,9,-999.0000,9,-999.0000,9,-999.0000,9,  -999.0,9,  -999.0,9,   2.468,2, -999.00,9,      0.001,2
09AR20071216,    CEAMARC,      30,          1,         15,         15,2,20071230,       1536,   -66.8517,   145.3848,        632,    89.5,  -1.5202,  34.4132,2,  34.4127,2,   318.10,2,  319.53,2,    73.6,2,    1.93,2,   5.1227,6,   2.6456,6,   0.4089,6,  2217.5,3,  2330.6,2,   2.580,2,   29.00,2,      0.001,2
09AR20071216,    CEAMARC,      30,          1,         14,         14,2,20071230,       1536,   -66.8517,   145.3848,        632,   149.1,  -1.5177,  34.4339,2,-999.0000,9,   324.71,2, -999.00,9,  -999.0,9, -999.00,9,-999.0000,9,-999.0000,9,-999.0000,9,  -999.0,9,  -999.0,9,   3.116,2, -999.00,9,      0.001,2
09AR20071216,    CEAMARC,      30,          1,         13,         13,2,20071230,       1536,   -66.8517,   145.3848,        632,   148.9,  -1.5173,  34.4341,2,  34.4342,2,   324.72,2,  324.00,2,    75.9,2,    1.94,2,   5.3500,2,   2.6904,2,   0.4145,2,  2218.1,3,  2333.4,2,   3.196,2,   28.74,2,      0.001,2
09AR20071216,    CEAMARC,      30,          1,         12,         12,2,20071230,       1536,   -66.8517,   145.3848,        632,   200.9,  -1.5255,  34.4422,2,-999.0000,9,   322.03,2, -999.00,9,  -999.0,9, -999.00,9,-999.0000,9,-999.0000,9,-999.0000,9,  -999.0,9,  -999.0,9,   2.338,2, -999.00,9,      0.001,2
09AR20071216,    CEAMARC,      30,          1,         11,         11,2,20071230,       1536,   -66.8517,   145.3848,        632,   200.5,  -1.5255,  34.4422,2,  34.4423,2,   322.03,2,  321.69,2,    76.3,2,    1.95,2,   5.2302,2,   2.6660,2,   0.3733,2,  2219.5,3,  2331.7,2,   2.250,2,   28.96,2,      0.001,2
09AR20071216,    CEAMARC,      30,          1,         10,         10,2,20071230,       1536,   -66.8517,   145.3848,        632,   300.1,  -1.2691,  34.5136,2,-999.0000,9,   280.64,2, -999.00,9,  -999.0,9, -999.00,9,-999.0000,9,-999.0000,9,-999.0000,9,  -999.0,9,  -999.0,9,  -0.003,2, -999.00,9,      0.001,2
09AR20071216,    CEAMARC,      30,          1,          9,          9,2,20071230,       1536,   -66.8517,   145.3848,        632,   300.0,  -1.2694,  34.5133,2,  34.5134,2,   280.64,2,  280.23,2,    83.0,2,    2.10,2,   3.9851,2,   2.0656,2,   0.3119,2,  2239.3,3,  2337.3,2,   0.013,2,   30.92,2,      0.001,2
09AR20071216,    CEAMARC,      30,          1,          8,          8,2,20071230,       1536,   -66.8517,   145.3848,        632,   401.6,  -1.8964,  34.6268,2,-999.0000,9,   306.75,2, -999.00,9,  -999.0,9, -999.00,9,-999.0000,9,-999.0000,9,-999.0000,9,  -999.0,9,  -999.0,9,  -0.027,2, -999.00,9,      0.001,2
09AR20071216,    CEAMARC,      30,          1,          7,          7,2,20071230,       1536,   -66.8517,   145.3848,        632,   401.2,  -1.8963,  34.6268,2,  34.6266,2,   306.75,2,  306.18,2,    78.2,2,    2.09,2,   4.7906,2,   2.5490,2,   0.3682,2,  2240.5,3,  2341.6,2,  -0.030,2,   30.77,2,      0.001,2
09AR20071216,    CEAMARC,      30,          1,          6,          6,2,20071230,       1536,   -66.8517,   145.3848,        632,   500.0,  -1.8997,  34.6720,2,-999.0000,9,   308.73,2, -999.00,9,  -999.0,9, -999.00,9,-999.0000,9,-999.0000,9,-999.0000,9,  -999.0,9,  -999.0,9,  -0.023,2, -999.00,9,      0.001,2
09AR20071216,    CEAMARC,      30,          1,          5,          5,2,20071230,       1536,   -66.8517,   145.3848,        632,   500.1,  -1.8995,  34.6719,2,  34.6725,2,   308.73,2,  309.56,2,    78.4,2,    2.08,2,   5.1087,2,   2.6036,2,   0.3878,2,  2245.5,3,  2344.9,2,  -0.024,2,   30.84,2,      0.001,2
09AR20071216,    CEAMARC,      30,          1,          4,          4,2,20071230,       1536,   -66.8517,   145.3848,        632,   580.3,  -1.8974,  34.6940,2,-999.0000,9,   310.59,2, -999.00,9,  -999.0,9, -999.00,9,-999.0000,9,-999.0000,9,-999.0000,9,  -999.0,9,  -999.0,9,  -0.018,2, -999.00,9,      0.001,2
09AR20071216,    CEAMARC,      30,          1,          3,          3,2,20071230,       1536,   -66.8517,   145.3848,        632,   580.2,  -1.8974,  34.6941,2,  34.6945,2,   310.59,2,  311.68,2,    78.6,2,    2.09,2,   5.1795,2,   2.6319,2,   0.3946,2,  2245.5,3,  2347.7,6,  -0.014,2,   30.78,2,      0.001,2
09AR20071216,    CEAMARC,      30,          1,          2,          2,2,20071230,       1536,   -66.8517,   145.3848,        632,   623.9,  -1.8974,  34.7025,2,-999.0000,9,   311.11,2, -999.00,9,  -999.0,9, -999.00,9,-999.0000,9,-999.0000,9,-999.0000,9,  -999.0,9,  -999.0,9,  -0.039,2, -999.00,9,      0.001,2
09AR20071216,    CEAMARC,      30,          1,          1,          1,2,20071230,       1536,   -66.8517,   145.3848,        632,   624.0,  -1.8973,  34.7024,2,  34.7000,2,   311.11,2,  310.77,2,    79.1,2,    2.08,2,   5.1739,2,   2.6385,2,   0.3864,2,  2246.1,6,  2349.5,6,  -0.038,2,   30.63,2,      0.001,2