BOTTLE,20230622CCHSIOENA
EXPOCODE,SECT_ID,STNNBR,CASTNO,SAMPNO,BTLNBR,BTLNBR_FLAG_W,DATE,TIME,LATITUDE,LONGITUDE,DEPTH,CTDPRS,CTDTMP,CTDSAL,CTDSAL_FLAG_W,SALNTY,SALNTY_FLAG_W,CTDOXY,CTDOXY_FLAG_W,OXYGEN,OXYGEN_FLAG_W,SILCAT,SILCAT_FLAG_W,PHSPHT,PHSPHT_FLAG_W,CFC-11,CFC-11_FLAG_W,CFC-12,CFC-12_FLAG_W,CFC113,CFC113_FLAG_W,TCARBN,TCARBN_FLAG_W,ALKALI,ALKALI_FLAG_W,FLUOR,FLUOR_FLAG_W,NO2+NO3,NO2+NO3_FLAG_W,PAR,PAR_FLAG_W
,,,,,,,,,,,METERS,DBAR,ITS-90,PSS-78,,PSS-78,,UMOL/KG,,UMOL/KG,,UMOL/KG,,UMOL/KG,,PMOL/KG,,PMOL/KG,,PMOL/KG,,UMOL/KG,,UMOL/KG,,MG/M^3,,UMOL/KG,,VOLTS,
09AR20071216,    CEAMARC,      53,          1,         24,         24,2,20080105,       2352,   -65.6583,   143.0440,       2364,    10.2,  -0.0882,  34.0298,2,  34.0328,2,   345.28,2,  344.94,2,    46.7,2,    1.70,2,   6.2100,2,   3.1349,2,   0.4960,2,  2175.6,6,  2304.5,2,   0.017,2,   26.71,2,      3.535,2
09AR20071216,    CEAMARC,      53,          1,         23,         23,2,20080105,       2352,   -65.6583,   143.0440,       2364,    10.2,  -0.0866,  34.0297,2,-999.0000,9,   345.28,2, -999.00,9,  -999.0,9, -999.00,9,-999.0000,9,-999.0000,9,-999.0000,9,  -999.0,9,  -999.0,9,   0.005,2, -999.00,9,      3.565,2
09AR20071216,    CEAMARC,      53,          1,         22,         22,2,20080105,       2352,   -65.6583,   143.0440,       2364,    10.1,  -0.0817,  34.0287,2,-999.0000,9,   345.28,2, -999.00,9,  -999.0,9, -999.00,9,-999.0000,9,-999.0000,9,-999.0000,9,  -999.0,9,  -999.0,9,   0.010,2, -999.00,9,      3.558,2
09AR20071216,    CEAMARC,      53,          1,         21,         21,2,20080105,       2352,   -65.6583,   143.0440,       2364,    41.1,  -1.2899,  34.2499,2,  34.2463,2,   337.57,2,  326.71,2,    59.3,2,    1.91,2,   5.1526,2,   2.6680,2,   0.4226,2,  2202.8,2,  2318.1,6,   1.568,2,   28.11,2,      2.704,2
09AR20071216,    CEAMARC,      53,          1,         20,         20,2,20080105,       2352,   -65.6583,   143.0440,       2364,    41.0,  -1.2944,  34.2509,2,-999.0000,9,   337.58,2, -999.00,9,  -999.0,9, -999.00,9,-999.0000,9,-999.0000,9,-999.0000,9,  -999.0,9,  -999.0,9,   1.595,2, -999.00,9,      2.707,2
09AR20071216,    CEAMARC,      53,          1,         19,         19,2,20080105,       2352,   -65.6583,   143.0440,       2364,    90.3,  -1.7624,  34.3703,2,  34.3707,2,   301.57,2,  297.86,2,    75.1,2,    2.08,2,   4.7471,2,   2.4216,2,   0.3847,2,  2221.8,2,  2326.7,2,   0.264,2,   30.41,2,      1.611,2
09AR20071216,    CEAMARC,      53,          1,         18,         18,2,20080105,       2352,   -65.6583,   143.0440,       2364,   141.6,  -1.7931,  34.3804,2,  34.3805,2,   297.79,2,  299.20,2,    76.6,2,    2.07,2,   4.7789,2,   2.4453,2,   0.3771,2,  2224.7,2,  2326.3,2,   0.070,2,   30.27,2,      0.838,2
09AR20071216,    CEAMARC,      53,          1,         17,         17,2,20080105,       2352,   -65.6583,   143.0440,       2364,   200.5,  -1.4094,  34.4226,2,  34.4230,2,   278.86,2,  284.02,2,    79.5,2,    2.11,2,   4.1432,2,   2.1359,2,   0.3533,2,  2229.8,2,  2328.5,2,   0.022,2,   30.82,2,      0.002,2
09AR20071216,    CEAMARC,      53,          1,         16,         16,2,20080105,       2352,   -65.6583,   143.0440,       2364,   301.1,  -0.4166,  34.5346,2,  34.5338,2,   245.22,2,  248.08,2,    85.4,2,    2.16,2,   2.7987,2,   1.4610,2,   0.2251,2,    2241,2,  2334.5,2,  -0.032,2,   31.38,2,      0.001,2
09AR20071216,    CEAMARC,      53,          1,         15,         15,2,20080105,       2352,   -65.6583,   143.0440,       2364,   401.7,   0.2508,  34.6124,2,  34.6124,2,   224.36,2,  224.95,2,    92.1,2,    2.18,2,   1.7801,2,   0.9389,2,   0.1377,2,  2247.2,2,  2344.2,2,  -0.036,2,   31.45,2,      0.001,2
09AR20071216,    CEAMARC,      53,          1,         14,         14,2,20080105,       2352,   -65.6583,   143.0440,       2364,   500.6,   0.4216,  34.6475,2,  34.6474,2,   217.68,2,  215.61,2,   100.0,2,    2.21,2,   1.3004,2,   0.6842,2,   0.0933,2,  2253.3,2,  2345.7,2,  -0.033,2,   31.92,2,      0.001,2
09AR20071216,    CEAMARC,      53,          1,         13,         13,2,20080105,       2352,   -65.6583,   143.0440,       2364,   600.4,   0.5333,  34.6677,2,  34.6674,2,   212.70,2,  212.43,2,   104.4,2,    2.22,2,   0.9983,2,   0.5171,2,   0.0710,2,  2257.3,2,  2354.8,2,  -0.037,2,   31.84,2,      0.001,2
09AR20071216,    CEAMARC,      53,          1,         12,         12,2,20080105,       2352,   -65.6583,   143.0440,       2364,   750.6,   0.4054,  34.6681,2,  34.6688,2,   214.50,2,  215.43,2,   108.5,2,    2.24,2,   1.0115,2,   0.5302,2,   0.0765,2,  2258.3,2,  2353.9,6,  -0.033,2,   31.96,2,      0.001,2
09AR20071216,    CEAMARC,      53,          1,         11,         11,2,20080105,       2352,   -65.6583,   143.0440,       2364,   900.9,   0.3534,  34.6723,2,  34.6723,2,   216.09,2,  216.04,2,   111.6,2,    2.25,2,   1.1135,2,   0.5624,2,   0.0849,2,  2259.3,2,  2353.5,2,  -0.035,2,   31.99,2,      0.001,2
09AR20071216,    CEAMARC,      53,          1,         10,         10,2,20080105,       2352,   -65.6583,   143.0440,       2364,  1049.9,   0.3311,  34.6783,2,  34.6782,2,   215.88,2,  215.65,2,   115.1,2,    2.25,2,   0.8568,2,   0.4442,2,   0.0672,2,  2259.4,2,  2356.3,6,  -0.037,2,   32.06,2,      0.001,2
09AR20071216,    CEAMARC,      53,          1,          9,          9,2,20080105,       2352,   -65.6583,   143.0440,       2364,  1199.9,   0.2674,  34.6779,2,  34.6780,2,   217.97,2,  217.90,2,   115.7,2,    2.24,2,   0.9296,2,   0.4752,2,   0.0625,2,  2260.8,2,  2358.2,2,  -0.038,2,   31.89,2,      0.001,2
09AR20071216,    CEAMARC,      53,          1,          8,          8,2,20080105,       2352,   -65.6583,   143.0440,       2364,  1400.1,   0.2145,  34.6807,2,  34.6811,2,   218.95,2,  217.82,2,   116.7,2,    2.23,2,   0.9224,2,   0.4788,2,   0.0598,2,  2260.7,2,    2356,2,  -0.033,2,   31.88,2,      0.001,2
09AR20071216,    CEAMARC,      53,          1,          7,          7,2,20080105,       2352,   -65.6583,   143.0440,       2364,  1600.1,   0.0963,  34.6779,2,  34.6774,2,   222.57,2,  222.68,2,   114.4,2,    2.24,2,   1.1921,2,   0.6073,2,   0.0852,2,  2259.9,2,  2355.4,2,  -0.038,2,   32.07,2,      0.001,2
09AR20071216,    CEAMARC,      53,          1,          6,          6,2,20080105,       2352,   -65.6583,   143.0440,       2364,  1800.7,  -0.0212,  34.6737,2,  34.6733,2,   226.47,2,  227.19,2,   111.2,2,    2.24,2,   1.4491,2,   0.7534,2,   0.1076,2,  2258.6,2,  2355.6,2,  -0.041,2,   31.90,2,      0.001,2
09AR20071216,    CEAMARC,      53,          1,          5,          5,2,20080105,       2352,   -65.6583,   143.0440,       2364,  1999.3,  -0.2467,  34.6505,2,  34.6499,2,   239.46,2,  239.02,2,   103.7,2,    2.21,2,   2.0198,2,   1.0568,2,   0.1461,2,    2255,2,  2352.7,2,  -0.040,2,   31.53,2,      0.001,2
09AR20071216,    CEAMARC,      53,          1,          4,          4,2,20080105,       2352,   -65.6583,   143.0440,       2364,  2099.6,  -0.3509,  34.6418,2,  34.6411,2,   242.88,2,  242.63,2,   101.7,2,    2.18,2,   2.2621,2,   1.1294,2,   0.1735,2,  2252.6,2,  2351.3,2,  -0.040,2,   31.44,2,      0.001,2
09AR20071216,    CEAMARC,      53,          1,          3,          3,2,20080105,       2352,   -65.6583,   143.0440,       2364,  2259.9,  -0.3938,  34.6384,2,  34.6380,2,   245.23,2,  245.01,2,   100.7,2,    2.20,2,   2.3850,2,   1.2374,2,   0.1824,2,  2252.2,3,  -999.0,9,  -0.038,2,   31.38,2,      0.001,2
09AR20071216,    CEAMARC,      53,          1,          2,          2,2,20080105,       2352,   -65.6583,   143.0440,       2364,  2310.3,  -0.3964,  34.6386,2,-999.0000,9,   245.38,2, -999.00,9,  -999.0,9, -999.00,9,-999.0000,9,-999.0000,9,-999.0000,9,  -999.0,9,  -999.0,9,  -0.041,2, -999.00,9,      0.001,2
09AR20071216,    CEAMARC,      53,          1,          1,          1,2,20080105,       2352,   -65.6583,   143.0440,       2364,  2310.6,  -0.3961,  34.6386,2,  34.6378,2,   245.38,2,  245.32,2,   101.0,2,    2.19,2,   2.3935,2,   1.2424,2,   0.1772,2,  2253.8,2,  2349.6,6,  -0.039,2,   31.29,2,      0.001,2
09AR20071216,       CASO,      54,          1,         24,         24,2,20080106,       0321,   -65.5323,   143.1568,       2677,     5.0,  -0.4684,  34.1032,2,  34.0639,4,   347.86,3,  348.23,2,    48.3,2,    1.69,2,   6.0380,2,   3.0675,2,   0.4810,2,  2180.2,6,  2305.3,2,   0.385,2,   27.30,2,      3.503,2
09AR20071216,       CASO,      54,          1,         23,         23,2,20080106,       0321,   -65.5323,   143.1568,       2677,     4.9,  -0.3678,  34.0721,2,-999.0000,9,  -999.00,5, -999.00,9,  -999.0,9, -999.00,9,-999.0000,9,-999.0000,9,-999.0000,9,  -999.0,9,  -999.0,9,   0.647,2, -999.00,9,      3.511,2
09AR20071216,       CASO,      54,          1,         22,         22,2,20080106,       0321,   -65.5323,   143.1568,       2677,     4.9,  -0.3675,  34.0683,2,-999.0000,9,  -999.00,5, -999.00,9,  -999.0,9, -999.00,9,-999.0000,9,-999.0000,9,-999.0000,9,  -999.0,9,  -999.0,9,   0.730,2, -999.00,9,      3.545,2
09AR20071216,       CASO,      54,          1,         21,         21,2,20080106,       0321,   -65.5323,   143.1568,       2677,    30.0,  -0.5876,  34.1142,2,  34.1140,2,   356.10,3,  342.48,2,    50.0,2,    1.75,2,   5.9349,2,   2.9978,2,   0.4510,2,  2183.3,2,  2307.2,6,   2.008,2,   27.41,2,      2.672,2
09AR20071216,       CASO,      54,          1,         20,         20,2,20080106,       0321,   -65.5323,   143.1568,       2677,    30.0,  -0.5931,  34.1148,2,-999.0000,9,   356.10,3, -999.00,9,  -999.0,9, -999.00,9,-999.0000,9,-999.0000,9,-999.0000,9,  -999.0,9,  -999.0,9,   2.044,2, -999.00,9,      2.666,2
09AR20071216,       CASO,      54,          1,         19,         19,2,20080106,       0321,   -65.5323,   143.1568,       2677,    49.4,  -1.3650,  34.1943,2,  34.1999,2,   323.56,2,  332.80,2,    53.2,2,    1.90,2,   5.4188,2,   2.7425,2,   0.4363,2,  2194.3,2,  2313.8,2,   1.875,2,   28.29,2,      2.121,2
09AR20071216,       CASO,      54,          1,         18,         18,2,20080106,       0321,   -65.5323,   143.1568,       2677,    98.9,  -1.7545,  34.3802,2,  34.3805,2,   300.77,2,  298.55,2,    76.2,2,    2.09,2,-999.0000,9,-999.0000,9,-999.0000,9,  2226.2,2,  2324.1,2,   0.176,2,   30.36,2,      1.057,2
09AR20071216,       CASO,      54,          1,         17,         17,2,20080106,       0321,   -65.5323,   143.1568,       2677,   199.8,  -1.5306,  34.4353,2,  34.4338,2,   293.42,2,  291.01,2,    76.5,2,    2.13,2,-999.0000,9,-999.0000,9,-999.0000,9,  2229.2,2,  2328.2,2,   0.046,2,   30.79,2,      0.001,2
09AR20071216,       CASO,      54,          1,         16,         16,2,20080106,       0321,   -65.5323,   143.1568,       2677,   300.3,  -0.6778,  34.5126,2,  34.5124,2,   267.06,2,  258.29,2,    83.4,2,    2.16,2,   3.1932,2,   1.6498,2,   0.2540,2,  2239.8,2,    2333,2,  -0.030,2,   31.30,2,      0.001,2
09AR20071216,       CASO,      54,          1,         15,         15,2,20080106,       0321,   -65.5323,   143.1568,       2677,   451.6,   0.3373,  34.6239,2,  34.6236,2,   222.18,2,  224.82,2,    92.8,2,    2.19,2,-999.0000,9,-999.0000,9,-999.0000,9,  2248.8,2,  2342.7,2,  -0.032,2,   31.42,2,      0.001,2
09AR20071216,       CASO,      54,          1,         14,         14,2,20080106,       0321,   -65.5323,   143.1568,       2677,   598.8,   0.6261,  34.6715,2,  34.6713,2,   210.39,2,  210.69,2,   102.7,2,    2.21,2,   1.0010,2,   0.5175,2,   0.0821,2,  2255.5,2,  2349.4,6,  -0.031,2,   31.73,2,      0.001,2
09AR20071216,       CASO,      54,          1,         13,         13,2,20080106,       0321,   -65.5323,   143.1568,       2677,   798.8,   0.6332,  34.6867,2,  34.6868,2,   209.81,2,  210.47,2,   109.9,2,    2.24,2,-999.0000,9,-999.0000,9,-999.0000,9,  2259.6,6,  2355.3,2,  -0.035,2,   32.01,2,      0.001,2
09AR20071216,       CASO,      54,          1,         12,         12,2,20080106,       0321,   -65.5323,   143.1568,       2677,   999.5,   0.5000,  34.6854,2,  34.6854,2,   211.85,2,  213.77,2,   114.3,2,    2.24,2,   0.6517,2,   0.3340,2,   0.0494,2,  2259.9,2,  2356.2,2,  -0.034,2,   32.17,2,      0.001,2
09AR20071216,       CASO,      54,          1,         11,         11,2,20080106,       0321,   -65.5323,   143.1568,       2677,  1200.6,   0.3699,  34.6803,2,  34.6803,2,   215.19,2,  214.26,2,   115.3,2,    2.26,2,-999.0000,9,-999.0000,9,-999.0000,9,  2260.1,2,  2359.1,2,  -0.036,2,   32.44,2,      0.001,2
09AR20071216,       CASO,      54,          1,         10,         10,2,20080106,       0321,   -65.5323,   143.1568,       2677,  1400.9,   0.3098,  34.6826,2,  34.6825,2,   216.25,2,  215.99,2,   117.4,2,    2.26,2,-999.0000,9,-999.0000,9,-999.0000,9,  2259.8,2,    2356,2,  -0.037,2,   32.59,2,      0.001,2
09AR20071216,       CASO,      54,          1,          9,          9,2,20080106,       0321,   -65.5323,   143.1568,       2677,  1598.7,   0.2272,  34.6822,2,  34.6819,2,   219.10,2,  220.16,2,   117.4,2,    2.26,2,-999.0000,9,-999.0000,9,-999.0000,9,  2260.1,2,    2355,2,  -0.039,2,   32.41,2,      0.001,2
09AR20071216,       CASO,      54,          1,          8,          8,2,20080106,       0321,   -65.5323,   143.1568,       2677,  1800.4,   0.1262,  34.6781,2,  34.6780,2,   222.35,2,  221.94,2,   115.3,2,    2.25,2,-999.0000,9,-999.0000,9,-999.0000,9,  2259.8,2,    2354,2,  -0.037,2,   32.28,2,      0.001,2
09AR20071216,       CASO,      54,          1,          7,          7,2,20080106,       0321,   -65.5323,   143.1568,       2677,  2101.4,   0.0107,  34.6754,2,  34.6750,2,   226.97,2,  227.54,2,   111.1,2,    2.24,2,   1.4783,2,   0.7580,2,   0.1075,2,  2260.1,2,  2353.7,2,  -0.040,2,   32.23,2,      0.001,2
09AR20071216,       CASO,      54,          1,          6,          6,2,20080106,       0321,   -65.5323,   143.1568,       2677,  2300.5,  -0.2140,  34.6598,2,  34.6584,2,   241.05,2,  237.62,2,   106.7,2,    2.21,2,-999.0000,9,-999.0000,9,-999.0000,9,  2255.5,2,  2350.8,2,  -0.039,2,   31.97,2,      0.001,2
09AR20071216,       CASO,      54,          1,          5,          5,2,20080106,       0321,   -65.5323,   143.1568,       2677,  2399.5,  -0.2694,  34.6548,2,  34.6540,2,   242.48,2,  242.10,2,   105.1,2,    2.21,2,-999.0000,9,-999.0000,9,-999.0000,9,  2254.5,2,  2353.7,2,  -0.043,2,   31.81,2,      0.001,2
09AR20071216,       CASO,      54,          1,          4,          4,2,20080106,       0321,   -65.5323,   143.1568,       2677,  2550.1,  -0.3111,  34.6524,2,  34.6517,2,   243.14,2,  242.45,2,   104.2,2,    2.20,2,   2.2162,2,   1.1497,2,   0.1637,2,  2253.8,2,  2351.7,2,  -0.043,2,   31.59,2,      0.001,2
09AR20071216,       CASO,      54,          1,          3,          3,2,20080106,       0321,   -65.5323,   143.1568,       2677,  2651.3,  -0.3403,  34.6495,2,  34.6493,2,   244.90,2,  244.10,2,   103.3,2,    2.21,2,   2.3018,2,   1.1898,2,   0.1686,2,  2253.9,2,  2349.4,6,  -0.042,2,   31.61,2,      0.001,2
09AR20071216,       CASO,      54,          1,          2,          2,2,20080106,       0321,   -65.5323,   143.1568,       2677,  2704.8,  -0.3273,  34.6513,2,  34.6507,2,   243.78,2,  243.63,2,   103.6,2,    2.21,2,   2.3329,2,   1.2033,2,   0.1710,2,  2253.1,6,    2349,2,  -0.036,2,   31.65,2,      0.001,2
09AR20071216,       CASO,      54,          1,          1,          1,2,20080106,       0321,   -65.5323,   143.1568,       2677,  2704.3,  -0.3257,  34.6516,2,-999.0000,9,   243.78,2, -999.00,9,  -999.0,9, -999.00,9,-999.0000,9,-999.0000,9,-999.0000,9,  -999.0,9,  -999.0,9,  -0.039,2, -999.00,9,      0.001,2