BOTTLE,20230606CCHSIOCBG
EXPOCODE,SECT_ID,STNNBR,CASTNO,SAMPNO,BTLNBR,BTLNBR_FLAG_W,DATE,TIME,LATITUDE,LONGITUDE,DEPTH,CTDPRS,CTDTMP,CTDSAL,CTDSAL_FLAG_W,SALNTY,SALNTY_FLAG_W,CTDOXY,CTDOXY_FLAG_W,OXYGEN,OXYGEN_FLAG_W,SILCAT,SILCAT_FLAG_W,NITRAT,NITRAT_FLAG_W,NITRIT,NITRIT_FLAG_W,PHSPHT,PHSPHT_FLAG_W,CFC-11,CFC-11_FLAG_W,CFC-12,CFC-12_FLAG_W,SF6,SF6_FLAG_W,TCARBN,TCARBN_FLAG_W,ALKALI,ALKALI_FLAG_W,PH_SWS,PH_SWS_FLAG_W,PH_TMP,DELC13,DELC13_FLAG_W,DELC14,DELC14_FLAG_W,C14ERR,CCL4,CCL4_FLAG_W,POC,POC_FLAG_W,DOC,DOC_FLAG_W,TDN,TDN_FLAG_W,PON,PON_FLAG_W,N2O,N2O_FLAG_W,D15N_NO3,D15N_NO3_FLAG_W,14C-DOC,14C-DOC_FLAG_W,14C-DOCERR,13C-DOC,13C-DOC_FLAG_W,N2/ARGON_UNSTRIPPED,N2/ARGON_UNSTRIPPED_FLAG_W,N2/ARGON_UNSTRIPPED_ERROR,N2/ARGON,N2/ARGON_FLAG_W,N2/ARGON_ERROR,D15N_N2,D15N_N2_FLAG_W,D15N_N2_ERROR,D15N_NO3_ERROR,D15N_NO2+NO3,D15N_NO2+NO3_FLAG_W,D18O_NO2+NO3,D18O_NO2+NO3_FLAG_W,D18O_NO3,D18O_NO3_FLAG_W,TDP,TDP_FLAG_W,N2O_ALT_1,N2O_ALT_1_FLAG_W,D15N_N2O,D15N_N2O_FLAG_W,D18O_N2O,D18O_N2O_FLAG_W,D15N_ALPHA_N2O,D15N_ALPHA_N2O_FLAG_W
,,,,,,,,,,,METERS,DBAR,ITS-90,PSS-78,,PSS-78,,UMOL/KG,,UMOL/KG,,UMOL/KG,,UMOL/KG,,UMOL/KG,,UMOL/KG,,PMOL/KG,,PMOL/KG,,FMOL/KG,,UMOL/KG,,UMOL/KG,,,,DEG C,/MILLE,,/MILLE,,/MILLE,PMOL/KG,,UG/KG,,UMOL/KG,,UMOL/KG,,UG/KG,,NMOL/KG,,/MILLE,,/MILLE,,/MILLE,/MILLE,,,,,,,,/MILLE,,/MILLE,/MILLE,/MILLE,,/MILLE,,/MILLE,,UMOL/KG,,NMOL/L,,/MILLE,,/MILLE,,/MILLE,
33RO20161119,        P18,     159,          1,          1,      11010,2,20170112,       0612,   -45.5000,  -102.9993,       3693,  3739.1,   1.1998,  34.7092,2,  34.7083,2,    192.2,2,   191.7,2,   121.3,2,    32.2,2,    0.01,2,   2.291,2,-999.0000,9,-999.0000,9,-999.0000,9,  2279.9,6,  2380.6,2,   7.6042,6,    25.00,    0.29,6,  -182.8,6,     3.1,-999.0000,9, -999.00,9,    40.1,2,   33.90,2, -999.00,9,     -999.0,9, -999.00,9,  -999.0,9,     -999.0,     -999.0,9,     -999.0,9,     -999.0,     -999.0,9,     -999.0,     -999.0,9,     -999.0,     -999.0,     -999.0,9,     -999.0,9,     -999.0,9,     -999.0,9,     -999.0,9,     -999.0,9,     -999.0,9,     -999.0,9
33RO20161119,        P18,     159,          1,          2,      11101,2,20170112,       0612,   -45.5000,  -102.9993,       3693,  3393.8,   1.4570,  34.7123,2,  34.7113,2,    186.1,2,   185.7,2,   113.4,2,    32.1,2,    0.01,2,   2.279,2,-999.0000,9,-999.0000,9,-999.0000,9,  2274.0,2,  2374.6,2,   7.5955,2,    25.00,    0.31,2,  -182.9,2,     2.3,-999.0000,9, -999.00,9,    38.0,2,   33.00,2, -999.00,9,     -999.0,9, -999.00,9,  -999.0,9,     -999.0,     -999.0,9,     -999.0,9,     -999.0,     -999.0,9,     -999.0,     -999.0,9,     -999.0,     -999.0,     -999.0,9,     -999.0,9,     -999.0,9,     -999.0,9,     -999.0,9,     -999.0,9,     -999.0,9,     -999.0,9
33RO20161119,        P18,     159,          1,          3,      11102,2,20170112,       0612,   -45.5000,  -102.9993,       3693,  3050.6,   1.6290,  34.7086,2,  34.7160,4,    179.2,2,   178.8,2,   109.9,6,    32.4,6,    0.01,6,   2.305,6,   0.0202,2,   0.0093,2,   0.0000,2,  2276.8,2,  2376.8,6,   7.5882,2,    25.00,    0.30,2,  -185.2,2,     2.2,   1.4803,2, -999.00,9,    37.8,2,   34.80,2, -999.00,9,    19.5051,2, -999.00,9,  -999.0,9,     -999.0,     -999.0,9,     -999.0,9,     -999.0,     -999.0,9,     -999.0,     -999.0,9,     -999.0,     -999.0,     -999.0,9,     -999.0,9,     -999.0,9,     -999.0,9,     -999.0,9,     -999.0,9,     -999.0,9,     -999.0,9
33RO20161119,        P18,     159,          1,          4,      11103,2,20170112,       0612,   -45.5000,  -102.9993,       3693,  2774.5,   1.7444,  34.7032,2,  34.7071,2,    174.2,2,   174.3,2,   107.5,6,    32.7,6,    0.01,6,   2.316,6,   0.0227,2,   0.0109,2,   0.0000,2,  2278.2,2,  2376.6,2,   7.5824,2,    25.00,    0.42,2,  -191.0,2,     2.3,   2.2992,2, -999.00,9,    38.3,2,   37.00,2, -999.00,9,      19.94,2, -999.00,9,  -999.0,9,     -999.0,     -999.0,9,     -999.0,9,     -999.0,     -999.0,9,     -999.0,     -999.0,9,     -999.0,     -999.0,     -999.0,9,     -999.0,9,     -999.0,9,     -999.0,9,     -999.0,9,     -999.0,9,     -999.0,9,     -999.0,9
33RO20161119,        P18,     159,          1,          5,      11104,2,20170112,       0612,   -45.5000,  -102.9993,       3693,  2500.1,   1.9076,  34.6957,2,  34.6965,2,    170.6,2,   170.6,2,   102.5,6,    32.8,6,    0.01,6,   2.321,6,   0.0330,6,   0.0157,6,   0.0174,6,  2276.5,2,  2371.6,2,   7.5777,2,    25.00,    0.39,2,  -183.9,2,     2.4,   2.7084,2, -999.00,9,    39.5,2,   36.10,2, -999.00,9,    20.6506,2, -999.00,9,  -999.0,9,     -999.0,     -999.0,9,     -999.0,9,     -999.0,     -999.0,9,     -999.0,     -999.0,9,     -999.0,     -999.0,     -999.0,9,     -999.0,9,     -999.0,9,     -999.0,9,     -999.0,9,     -999.0,9,     -999.0,9,     -999.0,9
33RO20161119,        P18,     159,          1,          6,      11105,2,20170112,       0612,   -45.5000,  -102.9993,       3693,  2218.6,   2.1399,  34.6757,2,  34.6745,2,    168.3,2,   167.9,2,    93.6,6,    32.9,6,    0.01,6,   2.336,6,-999.0000,9,-999.0000,9,-999.0000,9,  2271.2,2,  2362.0,2,   7.5689,2,    25.00,    0.44,2,  -175.1,2,     2.5,-999.0000,9, -999.00,9,    39.2,2,   35.60,2, -999.00,9,     -999.0,9, -999.00,9,  -999.0,9,     -999.0,     -999.0,9,     -999.0,9,     -999.0,     -999.0,9,     -999.0,     -999.0,9,     -999.0,     -999.0,     -999.0,9,     -999.0,9,     -999.0,9,     -999.0,9,     -999.0,9,     -999.0,9,     -999.0,9,     -999.0,9
33RO20161119,        P18,     159,          1,          7,      11106,2,20170112,       0612,   -45.5000,  -102.9993,       3693,  1937.4,   2.3613,  34.6250,2,  34.6275,2,    161.8,2,   162.6,2,    86.9,2,    33.7,2,    0.01,2,   2.399,2,-999.0000,9,-999.0000,9,-999.0000,9,  2269.5,2,  2356.6,2,   7.5563,2,    25.00,    0.42,2,  -176.2,2,     2.5,-999.0000,9, -999.00,9,    37.0,2,   39.50,2, -999.00,9,     -999.0,9, -999.00,9,  -999.0,9,     -999.0,     -999.0,9,     -999.0,9,     -999.0,     -999.0,9,     -999.0,     -999.0,9,     -999.0,     -999.0,     -999.0,9,     -999.0,9,     -999.0,9,     -999.0,9,     -999.0,9,     -999.0,9,     -999.0,9,     -999.0,9
33RO20161119,        P18,     159,          1,          8,      11107,2,20170112,       0612,   -45.5000,  -102.9993,       3693,  1660.6,   2.6456,  34.5547,2,  34.5526,2,    159.0,2,   160.2,2,    76.5,2,    34.4,2,    0.01,2,   2.452,2,-999.0000,9,-999.0000,9,-999.0000,9,  2261.0,2,  2343.0,2,   7.5436,2,    25.00,    0.44,2,  -158.9,2,     2.4,-999.0000,9, -999.00,9,    38.3,2,   39.10,2, -999.00,9,     -999.0,9, -999.00,9,  -999.0,9,     -999.0,     -999.0,9,     -999.0,9,     -999.0,     -999.0,9,     -999.0,     -999.0,9,     -999.0,     -999.0,     -999.0,9,     -999.0,9,     -999.0,9,     -999.0,9,     -999.0,9,     -999.0,9,     -999.0,9,     -999.0,9
33RO20161119,        P18,     159,          1,          9,      11108,2,20170112,       0612,   -45.5000,  -102.9993,       3693,  1380.2,   3.0840,  34.4657,2,  34.4656,2,    155.0,2,   155.2,2,    65.6,2,    35.4,2,    0.01,2,   2.509,2,   0.2854,2,   0.1392,2,   0.0600,2,  2254.4,6,  2329.1,2,   7.5326,2,    25.00,    0.52,2,  -148.4,2,     2.4,   3.2619,2, -999.00,9,    38.9,2,   40.80,2, -999.00,9,    24.6209,2, -999.00,9,  -999.0,9,     -999.0,     -999.0,9,     -999.0,9,     -999.0,     -999.0,9,     -999.0,     -999.0,9,     -999.0,     -999.0,     -999.0,9,     -999.0,9,     -999.0,9,     -999.0,9,     -999.0,9,     -999.0,9,     -999.0,9,     -999.0,9
33RO20161119,        P18,     159,          1,         10,      11109,2,20170112,       0612,   -45.5000,  -102.9993,       3693,  1216.8,   3.4139,  34.3859,2,  34.4064,4,    176.9,2,   176.1,2,    50.2,2,    33.9,2,    0.01,2,   2.394,2,-999.0000,9,-999.0000,9,-999.0000,9,  2229.1,2,  2313.8,2,   7.5582,2,    25.00,    0.67,2,  -123.2,2,     2.6,-999.0000,9, -999.00,9,    40.3,2,   38.40,2, -999.00,9,     -999.0,9, -999.00,9,  -999.0,9,     -999.0,     -999.0,9,     -999.0,9,     -999.0,     -999.0,9,     -999.0,     -999.0,9,     -999.0,     -999.0,     -999.0,9,     -999.0,9,     -999.0,9,     -999.0,9,     -999.0,9,     -999.0,9,     -999.0,9,     -999.0,9
33RO20161119,        P18,     159,          1,         11,      11110,2,20170112,       0612,   -45.5000,  -102.9993,       3693,  1089.9,   3.7625,  34.3377,2,  34.3367,2,    192.9,2,   193.5,2,    39.8,2,    32.2,2,    0.01,2,   2.262,2,   1.4160,2,   0.6956,2,   0.2703,2,  2209.3,2,  2303.8,6,   7.5824,2,    25.00,    0.87,2,   -93.5,2,     2.3,   3.0821,2, -999.00,9,    39.7,2,   34.60,2, -999.00,9,    20.4686,2, -999.00,9,  -999.0,9,     -999.0,     -999.0,9,     -999.0,9,     -999.0,     -999.0,9,     -999.0,     -999.0,9,     -999.0,     -999.0,     -999.0,9,     -999.0,9,     -999.0,9,     -999.0,9,     -999.0,9,     -999.0,9,     -999.0,9,     -999.0,9
33RO20161119,        P18,     159,          1,         12,      11111,2,20170112,       0612,   -45.5000,  -102.9993,       3693,   969.6,   4.3251,  34.3009,2,  34.3055,2,    205.8,2,   206.0,6,    29.8,2,    30.3,2,    0.01,2,   2.147,2,-999.0000,9,-999.0000,9,-999.0000,9,  2192.4,2,  2149.1,4,   7.6082,2,    25.00,    0.95,2,   -68.7,2,     2.4,-999.0000,9, -999.00,9,    40.5,2,   35.10,2, -999.00,9,     -999.0,9, -999.00,9,  -999.0,9,     -999.0,     -999.0,9,     -999.0,9,     -999.0,     -999.0,9,     -999.0,     -999.0,9,     -999.0,     -999.0,     -999.0,9,     -999.0,9,     -999.0,9,     -999.0,9,     -999.0,9,     -999.0,9,     -999.0,9,     -999.0,9
33RO20161119,        P18,     159,          1,         13,      11112,2,20170112,       0612,   -45.5000,  -102.9993,       3693,   849.9,   4.9243,  34.2759,2,  34.2746,2,    219.2,2,   218.6,2,    21.1,2,    28.2,2,    0.01,2,   1.994,2,   2.6484,2,   1.3535,2,   0.7074,2,  2177.2,2,  2289.8,2,   7.6350,2,    25.00,    1.05,2,   -46.1,2,     2.1,   3.9441,2, -999.00,9,    40.9,2,   29.90,2, -999.00,9,     17.532,2, -999.00,9,  -999.0,9,     -999.0,     -999.0,9,     -999.0,9,     -999.0,     -999.0,9,     -999.0,     -999.0,9,     -999.0,     -999.0,     -999.0,9,     -999.0,9,     -999.0,9,     -999.0,9,     -999.0,9,     -999.0,9,     -999.0,9,     -999.0,9
33RO20161119,        P18,     159,          1,         14,      11113,2,20170112,       0612,   -45.5000,  -102.9993,       3693,   722.2,   5.4582,  34.2583,2,  34.2670,2,    240.0,2,   239.1,2,    13.6,2,    25.4,2,    0.01,2,   1.813,2,-999.0000,9,-999.0000,9,-999.0000,9,  2160.3,2,  2281.2,2,   7.6702,2,    25.00,    1.19,2,   -19.3,2,     2.5,-999.0000,9, -999.00,9,    41.1,2,   28.70,2, -999.00,9,     -999.0,9, -999.00,9,  -999.0,9,     -999.0,     -999.0,9,     -999.0,9,     -999.0,     -999.0,9,     -999.0,     -999.0,9,     -999.0,     -999.0,     -999.0,9,     -999.0,9,     -999.0,9,     -999.0,9,     -999.0,9,     -999.0,9,     -999.0,9,     -999.0,9
33RO20161119,        P18,     159,          1,         15,      11114,2,20170112,       0612,   -45.5000,  -102.9993,       3693,   624.5,   5.8165,  34.2650,2,  34.2644,2,    250.1,2,   251.4,6,    10.1,2,    23.6,2,    0.01,2,   1.696,2,   3.7255,2,   2.0180,2,   1.3947,2,  2149.7,2,  2279.7,2,   7.6904,2,    25.00,    1.20,2,   -14.3,2,     2.8,   3.5867,2, -999.00,9,    40.2,2,   25.20,2, -999.00,9,    14.7239,2, -999.00,9,  -999.0,9,     -999.0,     -999.0,9,     -999.0,9,     -999.0,     -999.0,9,     -999.0,     -999.0,9,     -999.0,     -999.0,     -999.0,9,     -999.0,9,     -999.0,9,     -999.0,9,     -999.0,9,     -999.0,9,     -999.0,9,     -999.0,9
33RO20161119,        P18,     159,          1,         16,      11115,2,20170112,       0612,   -45.5000,  -102.9993,       3693,   517.8,   6.1221,  34.2734,2,  34.2836,4,    259.1,2,   259.2,2,     8.4,2,    22.1,2,    0.01,2,   1.602,2,-999.0000,9,-999.0000,9,-999.0000,9,  2143.6,2,  2278.2,2,   7.7014,2,    25.00,    1.21,2,    -0.9,2,     2.8,-999.0000,9, -999.00,9,    41.9,2,   27.00,2, -999.00,9,     -999.0,9, -999.00,9,  -999.0,9,     -999.0,     -999.0,9,     -999.0,9,     -999.0,     -999.0,9,     -999.0,     -999.0,9,     -999.0,     -999.0,     -999.0,9,     -999.0,9,     -999.0,9,     -999.0,9,     -999.0,9,     -999.0,9,     -999.0,9,     -999.0,9
33RO20161119,        P18,     159,          1,         17,      11116,2,20170112,       0612,   -45.5000,  -102.9993,       3693,   424.6,   6.3677,  34.2840,2,  34.3320,4,    264.9,2,   264.2,2,     7.2,2,    20.8,2,    0.01,2,   1.529,2,   4.0188,2,   2.2312,2,   1.9127,2,  2140.3,2,  2280.7,2,   7.7133,2,    25.00,    1.15,2,     3.5,2,     2.3,   3.4944,2, -999.00,9,    45.2,2,   24.60,2, -999.00,9,    14.3062,2, -999.00,9,  -999.0,9,     -999.0,     -999.0,9,     -999.0,9,     -999.0,     -999.0,9,     -999.0,     -999.0,9,     -999.0,     -999.0,     -999.0,9,     -999.0,9,     -999.0,9,     -999.0,9,     -999.0,9,     -999.0,9,     -999.0,9,     -999.0,9
33RO20161119,        P18,     159,          1,         18,      11117,2,20170112,       0612,   -45.5000,  -102.9993,       3693,   330.1,   6.5839,  34.2946,2,  34.3399,4,    263.3,2,   264.9,2,     6.0,2,    20.3,2,    0.01,2,   1.480,2,-999.0000,9,-999.0000,9,-999.0000,9,  2137.8,2,  2275.7,2,   7.7172,2,    25.00,    1.17,2,     8.8,2,     2.1,-999.0000,9, -999.00,9,    43.5,2,   25.30,2, -999.00,9,     -999.0,9, -999.00,9,  -999.0,9,     -999.0,     -999.0,9,     -999.0,9,     -999.0,     -999.0,9,     -999.0,     -999.0,9,     -999.0,     -999.0,     -999.0,9,     -999.0,9,     -999.0,9,     -999.0,9,     -999.0,9,     -999.0,9,     -999.0,9,     -999.0,9
33RO20161119,        P18,     159,          1,         19,      11083,2,20170112,       0612,   -45.5000,  -102.9993,       3693,   249.0,   6.8299,  34.2987,2,  34.3040,2,    264.8,2,   265.5,2,     5.1,2,    19.4,2,    0.02,2,   1.444,2,   3.9997,2,   2.2629,2,   2.1867,2,  2134.4,2,  2279.1,2,   7.7173,2,    25.00,    1.16,2,     7.4,2,     2.1,   3.4934,2, -999.00,9,    42.5,2,   23.40,2, -999.00,9,    15.9955,2, -999.00,9,  -999.0,9,     -999.0,     -999.0,9,     -999.0,9,     -999.0,     -999.0,9,     -999.0,     -999.0,9,     -999.0,     -999.0,     -999.0,9,     -999.0,9,     -999.0,9,       1.40,3,     -999.0,9,     -999.0,9,     -999.0,9,     -999.0,9
33RO20161119,        P18,     159,          1,         20,      11118,2,20170112,       0612,   -45.5000,  -102.9993,       3693,   179.7,   7.0328,  34.2473,2,  34.2481,2,    264.4,2,   264.3,2,     4.5,2,    18.9,2,    0.02,2,   1.434,2,   4.0210,2,   2.2605,2,   2.3127,2,  2132.0,2,  2272.7,2,   7.7204,2,    25.00,    1.17,2,    13.5,2,     2.5,   0.0465,2, -999.00,9,    46.2,2,   22.80,2, -999.00,9,    17.9891,2, -999.00,9,  -999.0,9,     -999.0,     -999.0,9,     -999.0,9,     -999.0,     -999.0,9,     -999.0,     -999.0,9,     -999.0,     -999.0,     -999.0,9,     -999.0,9,     -999.0,9,       1.38,3,     -999.0,9,     -999.0,9,     -999.0,9,     -999.0,9
33RO20161119,        P18,     159,          1,         21,      11119,2,20170112,       0612,   -45.5000,  -102.9993,       3693,   114.9,   7.9944,  34.1156,2,  34.1169,2,    282.2,2,   283.9,2,     2.0,2,    13.8,2,    0.26,2,   1.171,2,   3.7562,2,   2.1588,2,   2.5647,2,  2100.9,2,  2268.5,6,   7.7832,2,    25.00,    1.39,2,    11.2,2,     2.3,   0.0159,2, -999.00,9,    48.0,2,   17.60,2, -999.00,9,    11.9547,2, -999.00,9,  -999.0,9,     -999.0,     -999.0,9,     -999.0,9,     -999.0,     -999.0,9,     -999.0,     -999.0,9,     -999.0,     -999.0,     -999.0,9,     -999.0,9,     -999.0,9,       1.17,3,     -999.0,9,     -999.0,9,     -999.0,9,     -999.0,9
33RO20161119,        P18,     159,          1,         22,      11120,2,20170112,       0612,   -45.5000,  -102.9993,       3693,    59.9,  10.6108,  34.0307,2,  34.0602,2,    278.5,2,   279.6,2,     1.2,2,    11.9,2,    0.17,2,   1.027,2,   3.3881,2,   1.9688,2,   2.4515,2,  2082.9,2,  2265.5,2,   7.8214,2,    25.00,    1.56,2,     6.2,2,     2.3,   0.0384,2, -999.00,9,    48.5,2,   16.60,2, -999.00,9,    10.4192,2, -999.00,9,  -999.0,9,     -999.0,     -999.0,9,     -999.0,9,     -999.0,     -999.0,9,     -999.0,     -999.0,9,     -999.0,     -999.0,     -999.0,9,     -999.0,9,     -999.0,9,       1.27,2,     -999.0,9,     -999.0,9,     -999.0,9,     -999.0,9
33RO20161119,        P18,     159,          1,         23,      11121,2,20170112,       0612,   -45.5000,  -102.9993,       3693,    25.4,  11.5798,  34.0343,2,  34.0409,2,    275.6,2,   275.5,2,     0.9,2,    11.2,2,    0.19,2,   0.975,2,   3.2355,2,   1.8888,2,   2.3104,2,  2075.3,2,  2260.4,2,   7.8392,2,    25.00,    1.63,2,     9.4,2,     2.0,    0.055,2, -999.00,9,    50.7,2,   15.60,2, -999.00,9,    10.1237,2, -999.00,9,  -999.0,9,     -999.0,     -999.0,9,     -999.0,9,     -999.0,     -999.0,9,     -999.0,     -999.0,9,     -999.0,     -999.0,     -999.0,9,     -999.0,9,     -999.0,9,       1.02,2,     -999.0,9,     -999.0,9,     -999.0,9,     -999.0,9
33RO20161119,        P18,     159,          1,         24,      11122,2,20170112,       0612,   -45.5000,  -102.9993,       3693,     3.2,  11.6123,  34.0349,2,  34.0492,2,    275.2,2,   275.5,2,     0.8,2,    11.2,2,    0.19,2,   0.991,2,   3.2105,2,   1.8833,2,   2.2957,2,  2074.9,6,  2264.7,2,   7.8383,2,    25.00,    1.61,2,     5.8,2,     2.3,   0.0665,2, -999.00,9,    53.3,2,   13.70,2, -999.00,9,     9.9895,2, -999.00,9,  -999.0,9,     -999.0,     -999.0,9,     -999.0,9,     -999.0,     -999.0,9,     -999.0,     -999.0,9,     -999.0,     -999.0,     -999.0,9,     -999.0,9,     -999.0,9,       1.03,2,     -999.0,9,     -999.0,9,     -999.0,9,     -999.0,9