BOTTLE,20230606CCHSIOCBG
EXPOCODE,SECT_ID,STNNBR,CASTNO,SAMPNO,BTLNBR,BTLNBR_FLAG_W,DATE,TIME,LATITUDE,LONGITUDE,DEPTH,CTDPRS,CTDTMP,CTDSAL,CTDSAL_FLAG_W,SALNTY,SALNTY_FLAG_W,CTDOXY,CTDOXY_FLAG_W,OXYGEN,OXYGEN_FLAG_W,SILCAT,SILCAT_FLAG_W,NITRAT,NITRAT_FLAG_W,NITRIT,NITRIT_FLAG_W,PHSPHT,PHSPHT_FLAG_W,CFC-11,CFC-11_FLAG_W,CFC-12,CFC-12_FLAG_W,SF6,SF6_FLAG_W,TCARBN,TCARBN_FLAG_W,ALKALI,ALKALI_FLAG_W,PH_SWS,PH_SWS_FLAG_W,PH_TMP,DELC13,DELC13_FLAG_W,DELC14,DELC14_FLAG_W,C14ERR,CCL4,CCL4_FLAG_W,POC,POC_FLAG_W,DOC,DOC_FLAG_W,TDN,TDN_FLAG_W,PON,PON_FLAG_W,N2O,N2O_FLAG_W,D15N_NO3,D15N_NO3_FLAG_W,14C-DOC,14C-DOC_FLAG_W,14C-DOCERR,13C-DOC,13C-DOC_FLAG_W,N2/ARGON_UNSTRIPPED,N2/ARGON_UNSTRIPPED_FLAG_W,N2/ARGON_UNSTRIPPED_ERROR,N2/ARGON,N2/ARGON_FLAG_W,N2/ARGON_ERROR,D15N_N2,D15N_N2_FLAG_W,D15N_N2_ERROR,D15N_NO3_ERROR,D15N_NO2+NO3,D15N_NO2+NO3_FLAG_W,D18O_NO2+NO3,D18O_NO2+NO3_FLAG_W,D18O_NO3,D18O_NO3_FLAG_W,TDP,TDP_FLAG_W,N2O_ALT_1,N2O_ALT_1_FLAG_W,D15N_N2O,D15N_N2O_FLAG_W,D18O_N2O,D18O_N2O_FLAG_W,D15N_ALPHA_N2O,D15N_ALPHA_N2O_FLAG_W
,,,,,,,,,,,METERS,DBAR,ITS-90,PSS-78,,PSS-78,,UMOL/KG,,UMOL/KG,,UMOL/KG,,UMOL/KG,,UMOL/KG,,UMOL/KG,,PMOL/KG,,PMOL/KG,,FMOL/KG,,UMOL/KG,,UMOL/KG,,,,DEG C,/MILLE,,/MILLE,,/MILLE,PMOL/KG,,UG/KG,,UMOL/KG,,UMOL/KG,,UG/KG,,NMOL/KG,,/MILLE,,/MILLE,,/MILLE,/MILLE,,,,,,,,/MILLE,,/MILLE,/MILLE,/MILLE,,/MILLE,,/MILLE,,UMOL/KG,,NMOL/L,,/MILLE,,/MILLE,,/MILLE,
33RO20161119,        P18,      97,          1,          1,      11010,2,20161216,       2023,   -14.5002,  -103.0001,       3966,  3995.3,   1.8288,  34.6776,2,  34.6790,2,    138.3,2,   137.6,2,   141.8,6,    36.9,6,    0.01,6,   2.569,6,   0.0012,2,   0.0011,2,   0.0000,2,  2338.8,6,  2431.7,2,   7.5638,6,    25.00, -999.00,9,  -999.0,9,  -999.0,        0,2, -999.00,9,    35.2,2,   41.00,2, -999.00,9,    21.2421,2, -999.00,9,  -999.0,9,     -999.0,     -999.0,9,     -999.0,9,     -999.0,     -999.0,9,     -999.0,     -999.0,9,     -999.0,     -999.0,     -999.0,9,     -999.0,9,     -999.0,9,     -999.0,9,     -999.0,9,     -999.0,9,     -999.0,9,     -999.0,9
33RO20161119,        P18,      97,          1,          2,      11101,2,20161216,       2023,   -14.5002,  -103.0001,       3966,  3855.3,   1.8153,  34.6775,2,  34.6802,2,    137.7,2,   138.4,2,   141.5,6,    36.9,6,    0.01,6,   2.567,6,   0.0015,2,   0.0013,2,   0.0000,2,  2339.8,2,  2431.9,2,   7.5644,2,    25.00, -999.00,9,  -999.0,9,  -999.0,    0.009,2, -999.00,9,    36.9,2,   40.80,2, -999.00,9,    21.4193,2, -999.00,9,  -999.0,9,     -999.0,     -999.0,9,     -999.0,9,     -999.0,     -999.0,9,     -999.0,     -999.0,9,     -999.0,     -999.0,     -999.0,9,     -999.0,9,     -999.0,9,     -999.0,9,     -999.0,9,     -999.0,9,     -999.0,9,     -999.0,9
33RO20161119,        P18,      97,          1,          3,      11102,2,20161216,       2023,   -14.5002,  -103.0001,       3966,  3655.0,   1.8005,  34.6775,2,  34.6826,4,    137.4,2,   136.8,2,   140.9,6,    37.0,6,    0.00,6,   2.559,6,   0.0005,2,   0.0000,2,   0.0000,2,  2336.5,2,  2431.8,6,   7.5660,2,    25.00, -999.00,9,  -999.0,9,  -999.0,        0,2, -999.00,9,    36.8,2,   39.70,2, -999.00,9,    21.0332,2, -999.00,9,  -999.0,9,     -999.0,     -999.0,9,     -999.0,9,     -999.0,     -999.0,9,     -999.0,     -999.0,9,     -999.0,     -999.0,     -999.0,9,     -999.0,9,     -999.0,9,     -999.0,9,     -999.0,9,     -999.0,9,     -999.0,9,     -999.0,9
33RO20161119,        P18,      97,          1,          4,      11103,2,20161216,       2023,   -14.5002,  -103.0001,       3966,  3330.3,   1.7933,  34.6777,2,  34.6784,2,    139.2,2,   139.2,2,   137.7,6,    36.7,6,    0.00,6,   2.545,6,   0.0014,6,   0.0009,6,   0.0000,6,  2334.5,2,  2426.7,2,   7.5631,2,    25.00, -999.00,9,  -999.0,9,  -999.0,        0,2, -999.00,9,    35.0,2,   38.60,2, -999.00,9,    20.9143,2, -999.00,9,  -999.0,9,     -999.0,     -999.0,9,     -999.0,9,     -999.0,     -999.0,9,     -999.0,     -999.0,9,     -999.0,     -999.0,     -999.0,9,     -999.0,9,     -999.0,9,     -999.0,9,     -999.0,9,     -999.0,9,     -999.0,9,     -999.0,9
33RO20161119,        P18,      97,          1,          5,      11104,2,20161216,       2023,   -14.5002,  -103.0001,       3966,  3004.2,   1.7966,  34.6777,2,  34.6814,3,    142.7,2,   142.7,2,   132.1,2,    36.3,2,    0.00,2,   2.508,2,   0.0014,2,   0.0012,2,   0.0000,2,  2326.7,2,  2422.0,2,   7.5658,6,    25.00, -999.00,9,  -999.0,9,  -999.0,        0,2, -999.00,9,    36.7,2,   39.20,2, -999.00,9,    20.5318,2, -999.00,9,  -999.0,9,     -999.0,     -999.0,9,     -999.0,9,     -999.0,     -999.0,9,     -999.0,     -999.0,9,     -999.0,     -999.0,     -999.0,9,     -999.0,9,     -999.0,9,     -999.0,9,     -999.0,9,     -999.0,9,     -999.0,9,     -999.0,9
33RO20161119,        P18,      97,          1,          6,      11105,2,20161216,       2023,   -14.5002,  -103.0001,       3966,  2685.5,   1.8135,  34.6746,2,  34.6762,2,    144.8,2,   144.7,2,   128.0,2,    36.1,2,    0.00,2,   2.494,2,   0.0013,2,   0.0013,2,   0.0000,2,  2320.9,2,  2418.6,2,   7.5647,2,    25.00, -999.00,9,  -999.0,9,  -999.0,        0,2, -999.00,9,    35.6,2,   40.60,2, -999.00,9,    20.8478,2, -999.00,9,  -999.0,9,     -999.0,     -999.0,9,     -999.0,9,     -999.0,     -999.0,9,     -999.0,     -999.0,9,     -999.0,     -999.0,     -999.0,9,     -999.0,9,     -999.0,9,     -999.0,9,     -999.0,9,     -999.0,9,     -999.0,9,     -999.0,9
33RO20161119,        P18,      97,          1,          7,      11106,2,20161216,       2023,   -14.5002,  -103.0001,       3966,  2365.5,   1.9232,  34.6632,2,  34.6727,4,    142.5,2,   142.8,2,   122.7,2,    36.3,2,    0.00,2,   2.515,2,   0.0028,2,   0.0008,2,   0.0000,2,  2316.5,2,  2405.3,2,   7.5517,2,    25.00, -999.00,9,  -999.0,9,  -999.0,   0.0079,2, -999.00,9,    35.7,2,   38.60,2, -999.00,9,    21.4549,2, -999.00,9,  -999.0,9,     -999.0,     -999.0,9,     -999.0,9,     -999.0,     -999.0,9,     -999.0,     -999.0,9,     -999.0,     -999.0,     -999.0,9,     -999.0,9,     -999.0,9,     -999.0,9,     -999.0,9,     -999.0,9,     -999.0,9,     -999.0,9
33RO20161119,        P18,      97,          1,          8,      11107,2,20161216,       2023,   -14.5002,  -103.0001,       3966,  2045.2,   2.2122,  34.6420,2,  34.6421,2,    123.6,2,   123.5,2,   122.0,2,    37.8,2,    0.00,2,   2.673,2,   0.0009,2,   0.0000,2,   0.0000,2,  2325.3,6,  2402.1,2,   7.5206,2,    25.00, -999.00,9,  -999.0,9,  -999.0,   0.0284,2, -999.00,9,    34.5,2,   41.30,2, -999.00,9,    23.9877,2, -999.00,9,  -999.0,9,     -999.0,     -999.0,9,     -999.0,9,     -999.0,     -999.0,9,     -999.0,     -999.0,9,     -999.0,     -999.0,     -999.0,9,     -999.0,9,     -999.0,9,     -999.0,9,     -999.0,9,     -999.0,9,     -999.0,9,     -999.0,9
33RO20161119,        P18,      97,          1,          9,      11108,2,20161216,       2023,   -14.5002,  -103.0001,       3966,  1684.7,   2.6872,  34.6106,2,  34.6122,2,    107.5,2,   106.6,2,   113.3,2,    39.2,2,    0.00,2,   2.802,2,   0.0015,2,   0.0019,2,   0.0000,2,  2325.6,2,  2390.3,2,   7.4863,2,    25.00, -999.00,9,  -999.0,9,  -999.0,        0,2, -999.00,9,    34.7,2,   41.30,2, -999.00,9,    26.9911,2, -999.00,9,  -999.0,9,     -999.0,     -999.0,9,     -999.0,9,     -999.0,     -999.0,9,     -999.0,     -999.0,9,     -999.0,     -999.0,     -999.0,9,     -999.0,9,     -999.0,9,     -999.0,9,     -999.0,9,     -999.0,9,     -999.0,9,     -999.0,9
33RO20161119,        P18,      97,          1,         10,      11109,2,20161216,       2023,   -14.5002,  -103.0001,       3966,  1469.3,   3.0558,  34.5909,2,  34.5958,2,     89.5,2,    89.0,2,   106.8,2,    40.7,2,    0.00,2,   2.940,2,   0.0040,2,   0.0025,2,   0.0000,2,  2329.3,2,  2379.4,2,   7.4505,2,    25.00, -999.00,9,  -999.0,9,  -999.0,        0,2, -999.00,9,    36.6,2,   42.20,2, -999.00,9,    30.0285,2, -999.00,9,  -999.0,9,     -999.0,     -999.0,9,     -999.0,9,     -999.0,     -999.0,9,     -999.0,     -999.0,9,     -999.0,     -999.0,     -999.0,9,     -999.0,9,     -999.0,9,     -999.0,9,     -999.0,9,     -999.0,9,     -999.0,9,     -999.0,9
33RO20161119,        P18,      97,          1,         11,      11110,2,20161216,       2023,   -14.5002,  -103.0001,       3966,  1313.1,   3.3847,  34.5726,2,  34.5721,2,     84.2,2,    83.1,6,    98.0,2,    41.2,2,    0.00,2,   2.967,2,   0.0008,2,   0.0010,2,   0.0000,2,  2321.7,2,  2369.4,2,   7.4402,2,    25.00, -999.00,9,  -999.0,9,  -999.0,        0,2, -999.00,9,    40.1,2,   45.90,2, -999.00,9,    31.4527,2, -999.00,9,  -999.0,9,     -999.0,     -999.0,9,     -999.0,9,     -999.0,     -999.0,9,     -999.0,     -999.0,9,     -999.0,     -999.0,     -999.0,9,     -999.0,9,     -999.0,9,     -999.0,9,     -999.0,9,     -999.0,9,     -999.0,9,     -999.0,9
33RO20161119,        P18,      97,          1,         12,      11111,2,20161216,       2023,   -14.5002,  -103.0001,       3966,  1175.1,   3.8120,  34.5526,2,  34.5543,2,     75.5,2,    74.0,2,    88.2,2,    42.0,2,    0.00,2,   3.037,2,   0.0009,6,   0.0008,6,   0.0000,6,  2311.3,2,  2363.3,2,   7.4217,2,    25.00, -999.00,9,  -999.0,9,  -999.0,   0.0192,2, -999.00,9,    39.5,2,   46.30,2, -999.00,9,    33.8825,2, -999.00,9,  -999.0,9,     -999.0,     -999.0,9,     -999.0,9,     -999.0,     -999.0,9,     -999.0,     -999.0,9,     -999.0,     -999.0,     -999.0,9,     -999.0,9,     -999.0,9,     -999.0,9,     -999.0,9,     -999.0,9,     -999.0,9,     -999.0,9
33RO20161119,        P18,      97,          1,         13,      11112,2,20161216,       2023,   -14.5002,  -103.0001,       3966,  1035.4,   4.2772,  34.5329,2,  34.5318,2,     69.6,2,    68.3,2,    76.9,2,    42.6,2,    0.01,2,   3.030,2,   0.0020,2,   0.0019,2,   0.0000,2,  2304.2,2,  2346.6,2,   7.4109,2,    25.00, -999.00,9,  -999.0,9,  -999.0,    0.016,2, -999.00,9,    38.3,2,   46.20,2, -999.00,9,    35.8314,2, -999.00,9,  -999.0,9,     -999.0,     -999.0,9,     -999.0,9,     -999.0,     -999.0,9,     -999.0,     -999.0,9,     -999.0,     -999.0,     -999.0,9,     -999.0,9,     -999.0,9,     -999.0,9,     -999.0,9,     -999.0,9,     -999.0,9,     -999.0,9
33RO20161119,        P18,      97,          1,         14,      11113,2,20161216,       2023,   -14.5002,  -103.0001,       3966,   900.4,   4.8806,  34.5194,2,  34.5190,2,     54.5,2,    53.0,2,    65.6,2,    43.8,2,    0.01,2,   3.097,2,   0.0031,2,   0.0024,2,   0.0000,2,  2299.8,2,  2334.4,2,   7.3846,2,    25.00, -999.00,9,  -999.0,9,  -999.0,   0.0414,2, -999.00,9,    38.7,2,   48.40,2, -999.00,9,    40.2838,2, -999.00,9,  -999.0,9,     -999.0,     -999.0,9,     -999.0,9,     -999.0,     -999.0,9,     -999.0,     -999.0,9,     -999.0,     -999.0,     -999.0,9,     -999.0,9,     -999.0,9,     -999.0,9,     -999.0,9,     -999.0,9,     -999.0,9,     -999.0,9
33RO20161119,        P18,      97,          1,         15,      11114,2,20161216,       2023,   -14.5002,  -103.0001,       3966,   765.3,   5.5658,  34.5116,2,  34.5106,2,     54.2,2,    54.0,2,    53.3,2,    42.9,2,    0.01,2,   3.004,2,   0.0075,2,   0.0045,2,   0.0000,2,  2286.3,2,  2318.3,2,   7.3935,2,    25.00, -999.00,9,  -999.0,9,  -999.0,   0.0684,2, -999.00,9,    39.0,2,   47.70,2, -999.00,9,    42.6496,2, -999.00,9,  -999.0,9,     -999.0,     -999.0,9,     -999.0,9,     -999.0,     -999.0,9,     -999.0,     -999.0,9,     -999.0,     -999.0,     -999.0,9,     -999.0,9,     -999.0,9,     -999.0,9,     -999.0,9,     -999.0,9,     -999.0,9,     -999.0,9
33RO20161119,        P18,      97,          1,         16,      11115,2,20161216,       2023,   -14.5002,  -103.0001,       3966,   635.4,   6.4959,  34.5259,2,  34.5277,2,     59.6,2,    59.7,2,    40.9,2,    40.3,2,    0.01,2,   2.807,2,   0.0344,2,   0.0197,2,   0.0000,2,  2266.1,2,  2308.7,6,   7.4163,2,    25.00, -999.00,9,  -999.0,9,  -999.0,   0.0998,2, -999.00,9,    40.1,2,   43.80,2, -999.00,9,    43.9647,2, -999.00,9,  -999.0,9,     -999.0,     -999.0,9,     -999.0,9,     -999.0,     -999.0,9,     -999.0,     -999.0,9,     -999.0,     -999.0,     -999.0,9,     -999.0,9,     -999.0,9,     -999.0,9,     -999.0,9,     -999.0,9,     -999.0,9,     -999.0,9
33RO20161119,        P18,      97,          1,         17,      11116,2,20161216,       2023,   -14.5002,  -103.0001,       3966,   525.0,   7.3344,  34.5559,2,  34.5685,2,     54.3,2,    52.6,2,    34.6,2,    39.1,2,    0.01,2,   2.742,2,   0.1082,2,   0.0598,2,   0.0000,2,  2262.0,2,  2301.4,2,   7.4163,2,    25.00, -999.00,9,  -999.0,9,  -999.0,   0.0809,2, -999.00,9,    39.9,2,   43.20,2, -999.00,9,    48.4516,2, -999.00,9,  -999.0,9,     -999.0,     -999.0,9,     -999.0,9,     -999.0,     -999.0,9,     -999.0,     -999.0,9,     -999.0,     -999.0,     -999.0,9,     -999.0,9,     -999.0,9,     -999.0,9,     -999.0,9,     -999.0,9,     -999.0,9,     -999.0,9
33RO20161119,        P18,      97,          1,         18,      11117,2,20161216,       2023,   -14.5002,  -103.0001,       3966,   409.8,   8.8918,  34.6044,2,  34.6046,2,     23.6,2,    23.8,6,    27.2,2,    36.6,2,    0.01,2,   2.751,2,   0.3832,2,   0.2037,2,   0.0457,2,  2267.8,2,  2299.2,2,   7.3727,2,    25.00, -999.00,9,  -999.0,9,  -999.0,   0.3705,2, -999.00,9,    40.9,2,   39.80,2, -999.00,9,    55.7214,2, -999.00,9,  -999.0,9,     -999.0,     -999.0,9,     -999.0,9,     -999.0,     -999.0,9,     -999.0,     -999.0,9,     -999.0,     -999.0,     -999.0,9,     -999.0,9,     -999.0,9,     -999.0,9,     -999.0,9,     -999.0,9,     -999.0,9,     -999.0,9
33RO20161119,        P18,      97,          1,         19,      11083,2,20161216,       2023,   -14.5002,  -103.0001,       3966,   324.9,  10.7939,  34.6752,2,  34.6956,2,     15.2,2,    12.9,2,    23.5,2,    28.9,2,    0.01,2,   2.715,2,   0.9287,2,   0.5107,2,   0.1985,2,  2271.7,2,  2294.3,2,   7.3657,2,    25.00, -999.00,9,  -999.0,9,  -999.0,   1.2062,2, -999.00,9,    42.8,2,   31.20,2, -999.00,9,     41.796,2, -999.00,9,  -999.0,9,     -999.0,     -999.0,9,     -999.0,9,     -999.0,     -999.0,9,     -999.0,     -999.0,9,     -999.0,     -999.0,     -999.0,9,     -999.0,9,     -999.0,9,     -999.0,9,     -999.0,9,     -999.0,9,     -999.0,9,     -999.0,9
33RO20161119,        P18,      97,          1,         20,      11118,2,20161216,       2023,   -14.5002,  -103.0001,       3966,   230.0,  13.9981,  34.7721,2,  34.7797,2,    142.2,2,   140.8,2,     5.3,2,    14.6,2,    0.02,2,   1.454,2,   2.5109,2,   1.4755,2,   1.3220,2,  2158.8,2,  2298.5,2,   7.7055,2,    25.00, -999.00,9,  -999.0,9,  -999.0,   1.3817,2, -999.00,9,    49.7,2,   15.50,2, -999.00,9,    25.6091,2, -999.00,9,  -999.0,9,     -999.0,     -999.0,9,     -999.0,9,     -999.0,     -999.0,9,     -999.0,     -999.0,9,     -999.0,     -999.0,     -999.0,9,     -999.0,9,     -999.0,9,     -999.0,9,     -999.0,9,     -999.0,9,     -999.0,9,     -999.0,9
33RO20161119,        P18,      97,          1,         21,      11119,2,20161216,       2023,   -14.5002,  -103.0001,       3966,   144.8,  21.4544,  35.9739,2,  35.9667,2,    204.2,2,   202.7,2,     1.1,2,     0.5,2,    0.87,2,   0.547,2,   1.9167,2,   1.2014,2,   1.5497,2,  2095.0,2,  2378.7,6,   7.9804,2,    25.00, -999.00,9,  -999.0,9,  -999.0,   1.5425,2, -999.00,9,    63.1,2,    5.30,2, -999.00,9,     7.4441,2, -999.00,9,  -999.0,9,     -999.0,     -999.0,9,     -999.0,9,     -999.0,     -999.0,9,     -999.0,     -999.0,9,     -999.0,     -999.0,     -999.0,9,     -999.0,9,     -999.0,9,     -999.0,9,     -999.0,9,     -999.0,9,     -999.0,9,     -999.0,9
33RO20161119,        P18,      97,          1,         22,      11120,2,20161216,       2023,   -14.5002,  -103.0001,       3966,    70.4,  22.4819,  36.1236,2,  36.1339,2,    221.3,2,   220.7,2,     1.1,2,     0.0,2,    0.01,2,   0.383,2,   1.8526,2,   1.1606,2,   1.5484,2,  2076.7,2,  2388.1,2,   8.0271,2,    25.00, -999.00,9,  -999.0,9,  -999.0,   1.4567,2, -999.00,9,    71.9,2,    3.70,2, -999.00,9,     7.0853,2, -999.00,9,  -999.0,9,     -999.0,     -999.0,9,     -999.0,9,     -999.0,     -999.0,9,     -999.0,     -999.0,9,     -999.0,     -999.0,     -999.0,9,     -999.0,9,     -999.0,9,     -999.0,9,     -999.0,9,     -999.0,9,     -999.0,9,     -999.0,9
33RO20161119,        P18,      97,          1,         23,      11121,2,20161216,       2023,   -14.5002,  -103.0001,       3966,    30.3,  23.9536,  35.9127,2,  35.9227,2,    214.1,2,   214.7,2,     1.0,2,     1.6,2,    0.05,2,   0.454,2,   1.7127,2,   1.0915,2,   1.4873,2,  2058.9,2,  2368.8,2,   8.0357,2,    25.00, -999.00,9,  -999.0,9,  -999.0,        0,2, -999.00,9,    74.5,2,    5.40,2, -999.00,9,     6.6987,2, -999.00,9,  -999.0,9,     -999.0,     -999.0,9,     -999.0,9,     -999.0,     -999.0,9,     -999.0,     -999.0,9,     -999.0,     -999.0,     -999.0,9,     -999.0,9,     -999.0,9,     -999.0,9,     -999.0,9,     -999.0,9,     -999.0,9,     -999.0,9
33RO20161119,        P18,      97,          1,         24,      11122,2,20161216,       2023,   -14.5002,  -103.0001,       3966,     2.9,  24.1380,  35.9161,2,  35.9318,2,    211.8,2,   213.7,2,     1.0,2,     1.7,2,    0.05,2,   0.460,2,   1.7083,2,   1.0892,2,   1.4453,2,  2060.6,6,  2369.8,2,   8.0296,2,    25.00, -999.00,9,  -999.0,9,  -999.0,        0,2, -999.00,9,    69.8,2,    6.30,2, -999.00,9,     6.7919,2, -999.00,9,  -999.0,9,     -999.0,     -999.0,9,     -999.0,9,     -999.0,     -999.0,9,     -999.0,     -999.0,9,     -999.0,     -999.0,     -999.0,9,     -999.0,9,     -999.0,9,     -999.0,9,     -999.0,9,     -999.0,9,     -999.0,9,     -999.0,9