BOTTLE,20230606CCHSIOCBG
EXPOCODE,SECT_ID,STNNBR,CASTNO,SAMPNO,BTLNBR,BTLNBR_FLAG_W,DATE,TIME,LATITUDE,LONGITUDE,DEPTH,CTDPRS,CTDTMP,CTDSAL,CTDSAL_FLAG_W,SALNTY,SALNTY_FLAG_W,CTDOXY,CTDOXY_FLAG_W,OXYGEN,OXYGEN_FLAG_W,SILCAT,SILCAT_FLAG_W,NITRAT,NITRAT_FLAG_W,NITRIT,NITRIT_FLAG_W,PHSPHT,PHSPHT_FLAG_W,CFC-11,CFC-11_FLAG_W,CFC-12,CFC-12_FLAG_W,SF6,SF6_FLAG_W,TCARBN,TCARBN_FLAG_W,ALKALI,ALKALI_FLAG_W,PH_SWS,PH_SWS_FLAG_W,PH_TMP,DELC13,DELC13_FLAG_W,DELC14,DELC14_FLAG_W,C14ERR,CCL4,CCL4_FLAG_W,POC,POC_FLAG_W,DOC,DOC_FLAG_W,TDN,TDN_FLAG_W,PON,PON_FLAG_W,N2O,N2O_FLAG_W,D15N_NO3,D15N_NO3_FLAG_W,14C-DOC,14C-DOC_FLAG_W,14C-DOCERR,13C-DOC,13C-DOC_FLAG_W,N2/ARGON_UNSTRIPPED,N2/ARGON_UNSTRIPPED_FLAG_W,N2/ARGON_UNSTRIPPED_ERROR,N2/ARGON,N2/ARGON_FLAG_W,N2/ARGON_ERROR,D15N_N2,D15N_N2_FLAG_W,D15N_N2_ERROR,D15N_NO3_ERROR,D15N_NO2+NO3,D15N_NO2+NO3_FLAG_W,D18O_NO2+NO3,D18O_NO2+NO3_FLAG_W,D18O_NO3,D18O_NO3_FLAG_W,TDP,TDP_FLAG_W,N2O_ALT_1,N2O_ALT_1_FLAG_W,D15N_N2O,D15N_N2O_FLAG_W,D18O_N2O,D18O_N2O_FLAG_W,D15N_ALPHA_N2O,D15N_ALPHA_N2O_FLAG_W
,,,,,,,,,,,METERS,DBAR,ITS-90,PSS-78,,PSS-78,,UMOL/KG,,UMOL/KG,,UMOL/KG,,UMOL/KG,,UMOL/KG,,UMOL/KG,,PMOL/KG,,PMOL/KG,,FMOL/KG,,UMOL/KG,,UMOL/KG,,,,DEG C,/MILLE,,/MILLE,,/MILLE,PMOL/KG,,UG/KG,,UMOL/KG,,UMOL/KG,,UG/KG,,NMOL/KG,,/MILLE,,/MILLE,,/MILLE,/MILLE,,,,,,,,/MILLE,,/MILLE,/MILLE,/MILLE,,/MILLE,,/MILLE,,UMOL/KG,,NMOL/L,,/MILLE,,/MILLE,,/MILLE,
33RO20161119,        P18,      34,          1,          1,      11010,2,20161202,       1634,     7.5000,  -109.9996,       3814,  3842.4,   1.5582,  34.6860,2,  34.6870,2,    140.9,2,   140.6,2,   150.5,6,    37.2,6,    0.01,6,   2.529,6,   0.0053,2,   0.0053,2,   0.1007,2,  2343.9,6,  2434.3,2,   7.5653,2,    25.00, -999.00,9,  -999.0,9,  -999.0,   0.0195,2, -999.00,9,  -999.0,9, -999.00,9, -999.00,9,    21.5063,2, -999.00,9,  -999.0,9,     -999.0,     -999.0,9,     -999.0,9,     -999.0,     -999.0,9,     -999.0,     -999.0,9,     -999.0,     -999.0,     -999.0,9,     -999.0,9,     -999.0,9,     -999.0,9,     -999.0,9,     -999.0,9,     -999.0,9,     -999.0,9
33RO20161119,        P18,      34,          1,          2,      11101,2,20161202,       1634,     7.5000,  -109.9996,       3814,  3565.0,   1.5629,  34.6845,2,  34.6854,2,    137.8,2,   137.3,2,   150.9,6,    37.2,6,    0.02,6,   2.536,6,-999.0000,9,-999.0000,9,-999.0000,9,  2344.9,2,  2432.6,2,   7.5582,2,    25.00, -999.00,9,  -999.0,9,  -999.0,-999.0000,9, -999.00,9,  -999.0,9, -999.00,9, -999.00,9,     -999.0,9, -999.00,9,  -999.0,9,     -999.0,     -999.0,9,     -999.0,9,     -999.0,     -999.0,9,     -999.0,     -999.0,9,     -999.0,     -999.0,     -999.0,9,     -999.0,9,     -999.0,9,     -999.0,9,     -999.0,9,     -999.0,9,     -999.0,9,     -999.0,9
33RO20161119,        P18,      34,          1,          3,      11102,2,20161202,       1634,     7.5000,  -109.9996,       3814,  3288.4,   1.6399,  34.6798,2,  34.6801,2,    128.6,2,   128.3,2,   152.5,6,    37.8,6,    0.02,6,   2.589,6,-999.0000,9,-999.0000,9,-999.0000,9,  2347.5,2,  2432.9,2,   7.5418,6,    25.00, -999.00,9,  -999.0,9,  -999.0,-999.0000,9, -999.00,9,  -999.0,9, -999.00,9, -999.00,9,     -999.0,9, -999.00,9,  -999.0,9,     -999.0,     -999.0,9,     -999.0,9,     -999.0,     -999.0,9,     -999.0,     -999.0,9,     -999.0,     -999.0,     -999.0,9,     -999.0,9,     -999.0,9,     -999.0,9,     -999.0,9,     -999.0,9,     -999.0,9,     -999.0,9
33RO20161119,        P18,      34,          1,          4,      11103,2,20161202,       1634,     7.5000,  -109.9996,       3814,  3023.4,   1.8392,  34.6705,2,  34.6714,2,    112.4,2,   112.2,2,   153.6,6,    38.7,6,    0.02,6,   2.664,6,-999.0000,9,-999.0000,9,-999.0000,9,  2359.2,2,  2431.9,6,   7.5115,2,    25.00, -999.00,9,  -999.0,9,  -999.0,-999.0000,9, -999.00,9,  -999.0,9, -999.00,9, -999.00,9,     -999.0,9, -999.00,9,  -999.0,9,     -999.0,     -999.0,9,     -999.0,9,     -999.0,     -999.0,9,     -999.0,     -999.0,9,     -999.0,     -999.0,     -999.0,9,     -999.0,9,     -999.0,9,     -999.0,9,     -999.0,9,     -999.0,9,     -999.0,9,     -999.0,9
33RO20161119,        P18,      34,          1,          5,      11104,2,20161202,       1634,     7.5000,  -109.9996,       3814,  2720.1,   1.8388,  34.6694,2,  34.6683,2,    109.8,2,   110.4,2,   153.8,2,    38.7,2,    0.02,2,   2.677,2,   0.0056,6,   0.0028,6,   0.0217,6,  2358.8,2,  2431.7,2,   7.5080,2,    25.00, -999.00,9,  -999.0,9,  -999.0,    0.035,2, -999.00,9,  -999.0,9, -999.00,9, -999.00,9,     24.016,2, -999.00,9,  -999.0,9,     -999.0,     -999.0,9,     -999.0,9,     -999.0,     -999.0,9,     -999.0,     -999.0,9,     -999.0,     -999.0,     -999.0,9,     -999.0,9,     -999.0,9,     -999.0,9,     -999.0,9,     -999.0,9,     -999.0,9,     -999.0,9
33RO20161119,        P18,      34,          1,          6,      11105,2,20161202,       1634,     7.5000,  -109.9996,       3814,  2436.7,   1.8479,  34.6674,2,  34.6665,2,    107.6,2,   108.1,2,   153.2,2,    39.0,2,    0.02,2,   2.693,2,-999.0000,9,-999.0000,9,-999.0000,9,  2361.4,2,  2432.5,2,   7.5041,2,    25.00, -999.00,9,  -999.0,9,  -999.0,-999.0000,9, -999.00,9,  -999.0,9, -999.00,9, -999.00,9,     -999.0,9, -999.00,9,  -999.0,9,     -999.0,     -999.0,9,     -999.0,9,     -999.0,     -999.0,9,     -999.0,     -999.0,9,     -999.0,     -999.0,     -999.0,9,     -999.0,9,     -999.0,9,     -999.0,9,     -999.0,9,     -999.0,9,     -999.0,9,     -999.0,9
33RO20161119,        P18,      34,          1,          7,      11106,2,20161202,       1634,     7.5000,  -109.9996,       3814,  2134.6,   2.1211,  34.6508,2,  34.6528,2,     95.6,2,    95.5,2,   146.9,2,    40.1,2,    0.01,2,   2.785,2,   0.0029,2,   0.0020,2,   0.0000,2,  2359.9,6,  2422.7,2,   7.4840,2,    25.00, -999.00,9,  -999.0,9,  -999.0,        0,2, -999.00,9,  -999.0,9, -999.00,9, -999.00,9,    27.2712,2, -999.00,9,  -999.0,9,     -999.0,     -999.0,9,     -999.0,9,     -999.0,     -999.0,9,     -999.0,     -999.0,9,     -999.0,     -999.0,     -999.0,9,     -999.0,9,     -999.0,9,     -999.0,9,     -999.0,9,     -999.0,9,     -999.0,9,     -999.0,9
33RO20161119,        P18,      34,          1,          8,      11107,2,20161202,       1634,     7.5000,  -109.9996,       3814,  1844.2,   2.5133,  34.6302,2,  34.6314,2,     87.0,2,    87.6,2,   136.1,2,    40.6,2,    0.02,2,   2.852,2,   0.0019,2,   0.0005,2,   0.0000,2,  2357.1,2,  2410.6,2,   7.4622,2,    25.00, -999.00,9,  -999.0,9,  -999.0,   0.0168,2, -999.00,9,  -999.0,9, -999.00,9, -999.00,9,    30.2367,2, -999.00,9,  -999.0,9,     -999.0,     -999.0,9,     -999.0,9,     -999.0,     -999.0,9,     -999.0,     -999.0,9,     -999.0,     -999.0,     -999.0,9,     -999.0,9,     -999.0,9,     -999.0,9,     -999.0,9,     -999.0,9,     -999.0,9,     -999.0,9
33RO20161119,        P18,      34,          1,          9,      11108,2,20161202,       1634,     7.5000,  -109.9996,       3814,  1524.6,   3.0236,  34.6096,2,  34.6074,2,     71.5,2,    71.9,2,   124.9,2,    41.7,2,    0.01,2,   2.937,2,   0.0068,2,   0.0054,2,   0.0523,2,  2350.5,2,  2395.7,2,   7.4325,2,    25.00, -999.00,9,  -999.0,9,  -999.0,        0,2, -999.00,9,  -999.0,9, -999.00,9, -999.00,9,    33.6678,2, -999.00,9,  -999.0,9,     -999.0,     -999.0,9,     -999.0,9,     -999.0,     -999.0,9,     -999.0,     -999.0,9,     -999.0,     -999.0,     -999.0,9,     -999.0,9,     -999.0,9,     -999.0,9,     -999.0,9,     -999.0,9,     -999.0,9,     -999.0,9
33RO20161119,        P18,      34,          1,         10,      11109,2,20161202,       1634,     7.5000,  -109.9996,       3814,  1315.2,   3.5318,  34.5919,2,  34.5915,2,     54.7,2,    54.5,2,   114.8,2,    43.0,2,    0.02,2,   3.047,2,-999.0000,9,-999.0000,9,-999.0000,9,  2350.1,2,  2384.0,2,   7.3989,2,    25.00, -999.00,9,  -999.0,9,  -999.0,-999.0000,9, -999.00,9,  -999.0,9, -999.00,9, -999.00,9,     -999.0,9, -999.00,9,  -999.0,9,     -999.0,     -999.0,9,     -999.0,9,     -999.0,     -999.0,9,     -999.0,     -999.0,9,     -999.0,     -999.0,     -999.0,9,     -999.0,9,     -999.0,9,     -999.0,9,     -999.0,9,     -999.0,9,     -999.0,9,     -999.0,9
33RO20161119,        P18,      34,          1,         11,      11110,2,20161202,       1634,     7.5000,  -109.9996,       3814,  1184.8,   3.8782,  34.5804,2,  34.5828,2,     44.3,2,    44.5,2,   108.2,2,    43.7,2,    0.01,2,   3.130,2,-999.0000,9,-999.0000,9,-999.0000,9,  2350.3,2,  2377.4,2,   7.3786,2,    25.00, -999.00,9,  -999.0,9,  -999.0,-999.0000,9, -999.00,9,  -999.0,9, -999.00,9, -999.00,9,     -999.0,9, -999.00,9,  -999.0,9,     -999.0,     -999.0,9,     -999.0,9,     -999.0,     -999.0,9,     -999.0,     -999.0,9,     -999.0,     -999.0,     -999.0,9,     -999.0,9,     -999.0,9,     -999.0,9,     -999.0,9,     -999.0,9,     -999.0,9,     -999.0,9
33RO20161119,        P18,      34,          1,         12,      11111,2,20161202,       1634,     7.5000,  -109.9996,       3814,  1050.6,   4.2878,  34.5736,2,  34.5761,2,     38.8,2,    38.9,2,    98.9,2,    43.9,2,    0.02,2,   3.138,2,-999.0000,9,-999.0000,9,-999.0000,9,  2342.5,2,  2361.3,2,   7.3715,2,    25.00, -999.00,9,  -999.0,9,  -999.0,-999.0000,9, -999.00,9,  -999.0,9, -999.00,9, -999.00,9,     -999.0,9, -999.00,9,  -999.0,9,     -999.0,     -999.0,9,     -999.0,9,     -999.0,     -999.0,9,     -999.0,     -999.0,9,     -999.0,     -999.0,     -999.0,9,     -999.0,9,     -999.0,9,     -999.0,9,     -999.0,9,     -999.0,9,     -999.0,9,     -999.0,9
33RO20161119,        P18,      34,          1,         13,      11112,2,20161202,       1634,     7.5000,  -109.9996,       3814,   930.5,   4.8330,  34.5614,2,  34.5606,2,     24.0,2,    24.9,2,    89.6,2,    44.7,2,    0.01,2,   3.218,2,-999.0000,9,-999.0000,9,-999.0000,9,  2339.6,2,  2353.3,2,   7.3443,2,    25.00, -999.00,9,  -999.0,9,  -999.0,-999.0000,9, -999.00,9,  -999.0,9, -999.00,9, -999.00,9,     -999.0,9, -999.00,9,  -999.0,9,     -999.0,     -999.0,9,     -999.0,9,     -999.0,     -999.0,9,     -999.0,     -999.0,9,     -999.0,     -999.0,     -999.0,9,     -999.0,9,     -999.0,9,     -999.0,9,     -999.0,9,     -999.0,9,     -999.0,9,     -999.0,9
33RO20161119,        P18,      34,          1,         14,      11113,2,20161202,       1634,     7.5000,  -109.9996,       3814,   815.8,   5.4054,  34.5559,2,  34.5549,2,     11.7,2,    11.8,2,    80.7,2,    44.9,2,    0.02,2,   3.255,2,-999.0000,9,-999.0000,9,-999.0000,9,  2336.7,2,  2344.3,2,   7.3232,2,    25.00, -999.00,9,  -999.0,9,  -999.0,-999.0000,9, -999.00,9,  -999.0,9, -999.00,9, -999.00,9,     -999.0,9, -999.00,9,  -999.0,9,     -999.0,     -999.0,9,     -999.0,9,     -999.0,     -999.0,9,     -999.0,     -999.0,9,     -999.0,     -999.0,     -999.0,9,     -999.0,9,     -999.0,9,     -999.0,9,     -999.0,9,     -999.0,9,     -999.0,9,     -999.0,9
33RO20161119,        P18,      34,          1,         15,      11114,2,20161202,       1634,     7.5000,  -109.9996,       3814,   700.5,   6.0993,  34.5605,2,  34.5610,2,      7.3,2,     7.5,2,    70.4,2,    43.8,2,    0.03,2,   3.204,2,   0.0061,2,   0.0034,2,   0.0000,2,  2325.9,2,  2336.1,2,   7.3233,2,    25.00, -999.00,9,  -999.0,9,  -999.0,        0,2, -999.00,9,  -999.0,9, -999.00,9, -999.00,9,    57.9589,2, -999.00,9,  -999.0,9,     -999.0,     -999.0,9,     -999.0,9,     -999.0,     -999.0,9,     -999.0,     -999.0,9,     -999.0,     -999.0,     -999.0,9,     -999.0,9,     -999.0,9,     -999.0,9,     -999.0,9,     -999.0,9,     -999.0,9,     -999.0,9
33RO20161119,        P18,      34,          1,         16,      11115,2,20161202,       1634,     7.5000,  -109.9996,       3814,   581.4,   7.0983,  34.5737,2,  34.5737,2,      3.3,2,     2.9,6,    59.4,2,    40.6,2,    0.02,2,   3.113,2,   0.0126,2,   0.0079,2,   0.0000,2,  2312.6,2,  2326.7,2,   7.3289,2,    25.00, -999.00,9,  -999.0,9,  -999.0,   0.0214,2, -999.00,9,  -999.0,9, -999.00,9, -999.00,9,    61.7788,2, -999.00,9,  -999.0,9,     -999.0,     -999.0,9,     -999.0,9,     -999.0,     -999.0,9,     -999.0,     -999.0,9,     -999.0,     -999.0,     -999.0,9,     -999.0,9,     -999.0,9,     -999.0,9,     -999.0,9,     -999.0,9,     -999.0,9,     -999.0,9
33RO20161119,        P18,      34,          1,         17,      11116,2,20161202,       1634,     7.5000,  -109.9996,       3814,   480.9,   8.5850,  34.6275,2,  34.6272,2,      2.6,2,     3.3,6,    47.4,2,    34.8,2,    0.02,2,   2.931,2,   0.0779,2,   0.0463,2,   0.0000,2,  2299.2,2,  2312.9,6,   7.3474,6,    25.00, -999.00,9,  -999.0,9,  -999.0,   0.0542,2, -999.00,9,  -999.0,9, -999.00,9, -999.00,9,    34.0944,2, -999.00,9,  -999.0,9,     -999.0,     -999.0,9,     -999.0,9,     -999.0,     -999.0,9,     -999.0,     -999.0,9,     -999.0,     -999.0,     -999.0,9,     -999.0,9,     -999.0,9,     -999.0,9,     -999.0,9,     -999.0,9,     -999.0,9,     -999.0,9
33RO20161119,        P18,      34,          1,         18,      11117,2,20161202,       1634,     7.5000,  -109.9996,       3814,   375.6,   9.7186,  34.6833,2,  34.6814,2,     13.7,2,    13.2,2,    35.8,2,    35.2,2,    0.02,2,   2.604,2,   0.3966,2,   0.2177,2,   0.0625,2,  2273.9,2,  2305.6,2,   7.3920,2,    25.00, -999.00,9,  -999.0,9,  -999.0,   0.1197,2, -999.00,9,  -999.0,9, -999.00,9, -999.00,9,    57.2613,2, -999.00,9,  -999.0,9,     -999.0,     -999.0,9,     -999.0,9,     -999.0,     -999.0,9,     -999.0,     -999.0,9,     -999.0,     -999.0,     -999.0,9,     -999.0,9,     -999.0,9,     -999.0,9,     -999.0,9,     -999.0,9,     -999.0,9,     -999.0,9
33RO20161119,        P18,      34,          1,         19,      11083,2,20161202,       1634,     7.5000,  -109.9996,       3814,   284.8,  10.5270,  34.7226,2,  34.7218,2,     28.9,2,    29.2,2,    30.5,2,    33.2,2,    0.01,2,   2.377,2,   0.7458,2,   0.4046,2,   0.1486,2,  2254.0,2,  2299.1,2,   7.4430,2,    25.00, -999.00,9,  -999.0,9,  -999.0,   0.1069,2, -999.00,9,  -999.0,9, -999.00,9, -999.00,9,    54.7827,2, -999.00,9,  -999.0,9,     -999.0,     -999.0,9,     -999.0,9,     -999.0,     -999.0,9,     -999.0,     -999.0,9,     -999.0,     -999.0,     -999.0,9,     -999.0,9,     -999.0,9,     -999.0,9,     -999.0,9,     -999.0,9,     -999.0,9,     -999.0,9
33RO20161119,        P18,      34,          1,         20,      11118,2,20161202,       1634,     7.5000,  -109.9996,       3814,   205.2,  11.3854,  34.7563,2,  34.7792,4,     25.7,2,    25.9,2,    27.5,2,    32.4,2,    0.02,2,   2.308,2,   0.9546,2,   0.5215,2,   0.2676,2,  2248.3,2,  2296.2,2,   7.4558,2,    25.00, -999.00,9,  -999.0,9,  -999.0,   0.1126,2, -999.00,9,  -999.0,9, -999.00,9, -999.00,9,    65.0116,2, -999.00,9,  -999.0,9,     -999.0,     -999.0,9,     -999.0,9,     -999.0,     -999.0,9,     -999.0,     -999.0,9,     -999.0,     -999.0,     -999.0,9,     -999.0,9,     -999.0,9,     -999.0,9,     -999.0,9,     -999.0,9,     -999.0,9,     -999.0,9
33RO20161119,        P18,      34,          1,         21,      11119,2,20161202,       1634,     7.5000,  -109.9996,       3814,   140.2,  12.2634,  34.7922,2,  34.7936,2,     22.4,2,    21.7,2,    25.1,2,    31.7,2,    0.02,2,   2.263,2,   1.1592,2,   0.6428,2,   0.2832,2,  2241.1,2,  2292.1,2,   7.4633,2,    25.00, -999.00,9,  -999.0,9,  -999.0,   0.5845,2, -999.00,9,  -999.0,9, -999.00,9, -999.00,9,    74.8668,2, -999.00,9,  -999.0,9,     -999.0,     -999.0,9,     -999.0,9,     -999.0,     -999.0,9,     -999.0,     -999.0,9,     -999.0,     -999.0,     -999.0,9,     -999.0,9,     -999.0,9,     -999.0,9,     -999.0,9,     -999.0,9,     -999.0,9,     -999.0,9
33RO20161119,        P18,      34,          1,         22,      11120,2,20161202,       1634,     7.5000,  -109.9996,       3814,    70.0,  21.8313,  34.8228,2,  34.8240,2,    151.8,2,   144.6,2,     5.5,2,     9.1,2,    0.79,2,   0.859,2,   1.8686,2,   1.1370,2,   1.1816,2,  2088.5,2,  2291.7,2,   7.8531,2,    25.00, -999.00,9,  -999.0,9,  -999.0,   1.6025,2, -999.00,9,  -999.0,9, -999.00,9, -999.00,9,    22.3121,2, -999.00,9,  -999.0,9,     -999.0,     -999.0,9,     -999.0,9,     -999.0,     -999.0,9,     -999.0,     -999.0,9,     -999.0,     -999.0,     -999.0,9,     -999.0,9,     -999.0,9,     -999.0,9,     -999.0,9,     -999.0,9,     -999.0,9,     -999.0,9
33RO20161119,        P18,      34,          1,         23,      11121,2,20161202,       1634,     7.5000,  -109.9996,       3814,    30.4,  27.5401,  32.7973,2,  32.7640,2,    202.7,2,   203.2,2,     0.7,2,     0.1,2,    0.01,2,   0.127,2,   1.5616,2,   0.9795,2,   1.4050,2,  1855.8,2,  2151.8,2,   8.0870,2,    25.00, -999.00,9,  -999.0,9,  -999.0,   1.8956,2, -999.00,9,  -999.0,9, -999.00,9, -999.00,9,     6.6488,2, -999.00,9,  -999.0,9,     -999.0,     -999.0,9,     -999.0,9,     -999.0,     -999.0,9,     -999.0,     -999.0,9,     -999.0,     -999.0,     -999.0,9,     -999.0,9,     -999.0,9,     -999.0,9,     -999.0,9,     -999.0,9,     -999.0,9,     -999.0,9
33RO20161119,        P18,      34,          1,         24,      11122,2,20161202,       1634,     7.5000,  -109.9996,       3814,     2.9,  27.5221,  32.2248,2,  32.2249,2,    200.0,2,   201.8,2,     0.7,2,     0.0,2,    0.02,2,   0.119,2,   1.5418,2,   0.9783,2,   1.4024,2,  1825.8,6,  2117.8,6,   8.0906,2,    25.00, -999.00,9,  -999.0,9,  -999.0,        0,2, -999.00,9,  -999.0,9, -999.00,9, -999.00,9,     6.3661,2, -999.00,9,  -999.0,9,     -999.0,     -999.0,9,     -999.0,9,     -999.0,     -999.0,9,     -999.0,     -999.0,9,     -999.0,     -999.0,     -999.0,9,     -999.0,9,     -999.0,9,     -999.0,9,     -999.0,9,     -999.0,9,     -999.0,9,     -999.0,9