BOTTLE,20230606CCHSIOCBG
EXPOCODE,SECT_ID,STNNBR,CASTNO,SAMPNO,BTLNBR,BTLNBR_FLAG_W,DATE,TIME,LATITUDE,LONGITUDE,DEPTH,CTDPRS,CTDTMP,CTDSAL,CTDSAL_FLAG_W,SALNTY,SALNTY_FLAG_W,CTDOXY,CTDOXY_FLAG_W,OXYGEN,OXYGEN_FLAG_W,SILCAT,SILCAT_FLAG_W,NITRAT,NITRAT_FLAG_W,NITRIT,NITRIT_FLAG_W,PHSPHT,PHSPHT_FLAG_W,CFC-11,CFC-11_FLAG_W,CFC-12,CFC-12_FLAG_W,SF6,SF6_FLAG_W,TCARBN,TCARBN_FLAG_W,ALKALI,ALKALI_FLAG_W,PH_SWS,PH_SWS_FLAG_W,PH_TMP,DELC13,DELC13_FLAG_W,DELC14,DELC14_FLAG_W,C14ERR,CCL4,CCL4_FLAG_W,POC,POC_FLAG_W,DOC,DOC_FLAG_W,TDN,TDN_FLAG_W,PON,PON_FLAG_W,N2O,N2O_FLAG_W,D15N_NO3,D15N_NO3_FLAG_W,14C-DOC,14C-DOC_FLAG_W,14C-DOCERR,13C-DOC,13C-DOC_FLAG_W,N2/ARGON_UNSTRIPPED,N2/ARGON_UNSTRIPPED_FLAG_W,N2/ARGON_UNSTRIPPED_ERROR,N2/ARGON,N2/ARGON_FLAG_W,N2/ARGON_ERROR,D15N_N2,D15N_N2_FLAG_W,D15N_N2_ERROR,D15N_NO3_ERROR,D15N_NO2+NO3,D15N_NO2+NO3_FLAG_W,D18O_NO2+NO3,D18O_NO2+NO3_FLAG_W,D18O_NO3,D18O_NO3_FLAG_W,TDP,TDP_FLAG_W,N2O_ALT_1,N2O_ALT_1_FLAG_W,D15N_N2O,D15N_N2O_FLAG_W,D18O_N2O,D18O_N2O_FLAG_W,D15N_ALPHA_N2O,D15N_ALPHA_N2O_FLAG_W
,,,,,,,,,,,METERS,DBAR,ITS-90,PSS-78,,PSS-78,,UMOL/KG,,UMOL/KG,,UMOL/KG,,UMOL/KG,,UMOL/KG,,UMOL/KG,,PMOL/KG,,PMOL/KG,,FMOL/KG,,UMOL/KG,,UMOL/KG,,,,DEG C,/MILLE,,/MILLE,,/MILLE,PMOL/KG,,UG/KG,,UMOL/KG,,UMOL/KG,,UG/KG,,NMOL/KG,,/MILLE,,/MILLE,,/MILLE,/MILLE,,,,,,,,/MILLE,,/MILLE,/MILLE,/MILLE,,/MILLE,,/MILLE,,UMOL/KG,,NMOL/L,,/MILLE,,/MILLE,,/MILLE,
33RO20161119,        P18,     141,          1,          1,      11010,2,20170107,       1106,   -36.4996,  -103.0013,       3515,  3532.4,   1.4712,  34.7019,2,  34.7010,2,    180.0,2,   180.6,2,   117.7,2,    33.5,2,    0.00,2,   2.335,2,   0.0047,2,   0.0024,2,   0.0000,2,  2285.4,6,  2383.0,6,   7.5936,2,    25.00, -999.00,9,  -999.0,9,  -999.0,   2.1626,2, -999.00,9,    38.3,2,   34.80,2, -999.00,9,    20.1407,2, -999.00,9,  -999.0,9,     -999.0,     -999.0,9,     -999.0,9,     -999.0,     -999.0,9,     -999.0,     -999.0,9,     -999.0,     -999.0,     -999.0,9,     -999.0,9,     -999.0,9,     -999.0,9,     -999.0,9,     -999.0,9,     -999.0,9,     -999.0,9
33RO20161119,        P18,     141,          1,          2,      11101,2,20170107,       1106,   -36.4996,  -103.0013,       3515,  3290.3,   1.6557,  34.6954,2,  34.6973,2,    172.7,2,   172.6,2,   115.6,2,    33.8,2,    0.00,2,   2.368,2,-999.0000,9,-999.0000,9,-999.0000,9,  2285.7,2,  2382.7,2,   7.5917,2,    25.00, -999.00,9,  -999.0,9,  -999.0,-999.0000,9, -999.00,9,    39.8,2,   34.90,2, -999.00,9,     -999.0,9, -999.00,9,  -999.0,9,     -999.0,     -999.0,9,     -999.0,9,     -999.0,     -999.0,9,     -999.0,     -999.0,9,     -999.0,     -999.0,     -999.0,9,     -999.0,9,     -999.0,9,     -999.0,9,     -999.0,9,     -999.0,9,     -999.0,9,     -999.0,9
33RO20161119,        P18,     141,          1,          3,      11102,2,20170107,       1106,   -36.4996,  -103.0013,       3515,  3050.6,   1.7456,  34.6889,2,  34.6920,2,    168.0,2,   167.8,6,   114.4,6,    34.1,6,    0.00,6,   2.381,6,-999.0000,9,-999.0000,9,-999.0000,9,  2290.2,2,  2380.7,2,   7.5838,2,    25.00, -999.00,9,  -999.0,9,  -999.0,-999.0000,9, -999.00,9,    39.9,2,   35.00,2, -999.00,9,     -999.0,9, -999.00,9,  -999.0,9,     -999.0,     -999.0,9,     -999.0,9,     -999.0,     -999.0,9,     -999.0,     -999.0,9,     -999.0,     -999.0,     -999.0,9,     -999.0,9,     -999.0,9,     -999.0,9,     -999.0,9,     -999.0,9,     -999.0,9,     -999.0,9
33RO20161119,        P18,     141,          1,          4,      11103,2,20170107,       1106,   -36.4996,  -103.0013,       3515,  2775.8,   1.7887,  34.6840,2,  34.6847,2,    164.9,2,   165.4,2,   113.9,6,    34.3,6,    0.00,6,   2.398,6,-999.0000,9,-999.0000,9,-999.0000,9,  2291.3,2,  2381.3,2,   7.5809,2,    25.00, -999.00,9,  -999.0,9,  -999.0,-999.0000,9, -999.00,9,    41.3,2,   34.90,2, -999.00,9,     -999.0,9, -999.00,9,  -999.0,9,     -999.0,     -999.0,9,     -999.0,9,     -999.0,     -999.0,9,     -999.0,     -999.0,9,     -999.0,     -999.0,     -999.0,9,     -999.0,9,     -999.0,9,     -999.0,9,     -999.0,9,     -999.0,9,     -999.0,9,     -999.0,9
33RO20161119,        P18,     141,          1,          5,      11104,2,20170107,       1106,   -36.4996,  -103.0013,       3515,  2499.7,   1.8662,  34.6772,2,  34.6758,2,    163.0,2,   163.2,2,   110.8,6,    34.3,6,    0.00,6,   2.398,6,-999.0000,9,-999.0000,9,-999.0000,9,  2289.5,2,  2378.3,2,   7.5759,2,    25.00, -999.00,9,  -999.0,9,  -999.0,-999.0000,9, -999.00,9,    38.3,2,   35.80,2, -999.00,9,     -999.0,9, -999.00,9,  -999.0,9,     -999.0,     -999.0,9,     -999.0,9,     -999.0,     -999.0,9,     -999.0,     -999.0,9,     -999.0,     -999.0,     -999.0,9,     -999.0,9,     -999.0,9,     -999.0,9,     -999.0,9,     -999.0,9,     -999.0,9,     -999.0,9
33RO20161119,        P18,     141,          1,          6,      11105,2,20170107,       1106,   -36.4996,  -103.0013,       3515,  2220.9,   2.0583,  34.6544,2,  34.6589,4,    158.7,2,   158.6,2,   104.5,6,    34.7,6,    0.00,6,   2.412,6,-999.0000,9,-999.0000,9,-999.0000,9,  2287.7,2,  2369.4,2,   7.5630,2,    25.00, -999.00,9,  -999.0,9,  -999.0,-999.0000,9, -999.00,9,    38.1,2,   38.10,2, -999.00,9,     -999.0,9, -999.00,9,  -999.0,9,     -999.0,     -999.0,9,     -999.0,9,     -999.0,     -999.0,9,     -999.0,     -999.0,9,     -999.0,     -999.0,     -999.0,9,     -999.0,9,     -999.0,9,     -999.0,9,     -999.0,9,     -999.0,9,     -999.0,9,     -999.0,9
33RO20161119,        P18,     141,          1,          7,      11106,2,20170107,       1106,   -36.4996,  -103.0013,       3515,  1935.2,   2.3147,  34.6174,2,  34.6158,2,    146.8,2,   145.5,2,   101.0,2,    35.8,2,    0.00,2,   2.498,2,-999.0000,9,-999.0000,9,-999.0000,9,  2293.1,2,  2369.6,2,   7.5424,2,    25.00, -999.00,9,  -999.0,9,  -999.0,-999.0000,9, -999.00,9,    37.0,2,   37.30,2, -999.00,9,     -999.0,9, -999.00,9,  -999.0,9,     -999.0,     -999.0,9,     -999.0,9,     -999.0,     -999.0,9,     -999.0,     -999.0,9,     -999.0,     -999.0,     -999.0,9,     -999.0,9,     -999.0,9,     -999.0,9,     -999.0,9,     -999.0,9,     -999.0,9,     -999.0,9
33RO20161119,        P18,     141,          1,          8,      11107,2,20170107,       1106,   -36.4996,  -103.0013,       3515,  1659.4,   2.7130,  34.5735,2,  34.5745,2,    132.7,2,   280.6,3,    92.7,2,    37.2,2,    0.00,2,   2.612,2,-999.0000,9,-999.0000,9,-999.0000,9,  2292.5,2,  2360.7,2,   7.5160,2,    25.00, -999.00,9,  -999.0,9,  -999.0,-999.0000,9, -999.00,9,    38.3,2,   41.40,2, -999.00,9,     -999.0,9, -999.00,9,  -999.0,9,     -999.0,     -999.0,9,     -999.0,9,     -999.0,     -999.0,9,     -999.0,     -999.0,9,     -999.0,     -999.0,     -999.0,9,     -999.0,9,     -999.0,9,     -999.0,9,     -999.0,9,     -999.0,9,     -999.0,9,     -999.0,9
33RO20161119,        P18,     141,          1,          9,      11108,2,20170107,       1106,   -36.4996,  -103.0013,       3515,  1379.5,   3.1498,  34.5052,2,  34.5063,2,    127.6,2,   127.4,2,    77.7,2,    37.9,2,    0.00,2,   2.669,2,-999.0000,9,-999.0000,9,-999.0000,9,  2280.9,2,  2341.9,2,   7.4991,2,    25.00, -999.00,9,  -999.0,9,  -999.0,-999.0000,9, -999.00,9,    37.9,2,   40.20,2, -999.00,9,     -999.0,9, -999.00,9,  -999.0,9,     -999.0,     -999.0,9,     -999.0,9,     -999.0,     -999.0,9,     -999.0,     -999.0,9,     -999.0,     -999.0,     -999.0,9,     -999.0,9,     -999.0,9,     -999.0,9,     -999.0,9,     -999.0,9,     -999.0,9,     -999.0,9
33RO20161119,        P18,     141,          1,         10,      11109,2,20170107,       1106,   -36.4996,  -103.0013,       3515,  1221.2,   3.4378,  34.4187,2,  34.4203,2,    151.4,2,   151.1,2,    57.3,2,    36.3,2,    0.00,2,   2.536,2,   0.1104,6,   0.0584,6,   0.0325,6,  2250.6,2,  2319.4,2,   7.5240,2,    25.00, -999.00,9,  -999.0,9,  -999.0,   2.4165,2, -999.00,9,    39.2,2,   38.40,2, -999.00,9,    24.9582,2, -999.00,9,  -999.0,9,     -999.0,     -999.0,9,     -999.0,9,     -999.0,     -999.0,9,     -999.0,     -999.0,9,     -999.0,     -999.0,     -999.0,9,     -999.0,9,     -999.0,9,     -999.0,9,     -999.0,9,     -999.0,9,     -999.0,9,     -999.0,9
33RO20161119,        P18,     141,          1,         11,      11110,2,20170107,       1106,   -36.4996,  -103.0013,       3515,  1089.0,   3.7747,  34.3484,2,  34.3521,2,    175.6,2,   175.2,2,    42.1,2,    34.2,2,    0.00,2,   2.375,2,   0.5461,2,   0.2701,2,   0.0903,2,  2222.8,2,  2302.7,2,   7.5609,2,    25.00, -999.00,9,  -999.0,9,  -999.0,   2.6045,2, -999.00,9,    41.4,2,   36.20,2, -999.00,9,    22.6764,2, -999.00,9,  -999.0,9,     -999.0,     -999.0,9,     -999.0,9,     -999.0,     -999.0,9,     -999.0,     -999.0,9,     -999.0,     -999.0,     -999.0,9,     -999.0,9,     -999.0,9,     -999.0,9,     -999.0,9,     -999.0,9,     -999.0,9,     -999.0,9
33RO20161119,        P18,     141,          1,         12,      11111,2,20170107,       1106,   -36.4996,  -103.0013,       3515,   971.3,   4.3150,  34.2963,2,  34.3022,2,    199.1,2,   198.2,2,    28.8,2,    31.6,2,    0.00,2,   2.191,2,   1.2421,2,   0.5995,2,   0.2028,2,  2197.1,2,  2290.6,2,   7.6015,6,    25.00, -999.00,9,  -999.0,9,  -999.0,   2.5479,2, -999.00,9,    43.7,2,   34.20,2, -999.00,9,    19.7673,2, -999.00,9,  -999.0,9,     -999.0,     -999.0,9,     -999.0,9,     -999.0,     -999.0,9,     -999.0,     -999.0,9,     -999.0,     -999.0,     -999.0,9,     -999.0,9,     -999.0,9,     -999.0,9,     -999.0,9,     -999.0,9,     -999.0,9,     -999.0,9
33RO20161119,        P18,     141,          1,         13,      11112,2,20170107,       1106,   -36.4996,  -103.0013,       3515,   852.3,   4.9965,  34.2638,2,  34.2636,2,    221.6,2,   220.9,2,    17.7,2,    28.6,2,    0.01,2,   1.971,2,   2.4240,2,   1.1968,2,   0.4634,2,  2174.6,2,  2280.4,2,   7.6424,2,    25.00, -999.00,9,  -999.0,9,  -999.0,   2.0287,2, -999.00,9,    41.9,2,   30.90,2, -999.00,9,    17.6331,2, -999.00,9,  -999.0,9,     -999.0,     -999.0,9,     -999.0,9,     -999.0,     -999.0,9,     -999.0,     -999.0,9,     -999.0,     -999.0,     -999.0,9,     -999.0,9,     -999.0,9,     -999.0,9,     -999.0,9,     -999.0,9,     -999.0,9,     -999.0,9
33RO20161119,        P18,     141,          1,         14,      11113,2,20170107,       1106,   -36.4996,  -103.0013,       3515,   736.2,   5.4614,  34.2583,2,  34.2606,2,    237.6,2,   236.9,2,    12.1,2,    26.3,2,    0.01,2,   1.822,2,   3.2999,2,   1.6618,2,   0.7367,2,  2159.8,2,  2273.8,2,   7.6726,2,    25.00, -999.00,9,  -999.0,9,  -999.0,    1.243,2, -999.00,9,    39.6,2,   28.40,2, -999.00,9,    16.4786,2, -999.00,9,  -999.0,9,     -999.0,     -999.0,9,     -999.0,9,     -999.0,     -999.0,9,     -999.0,     -999.0,9,     -999.0,     -999.0,     -999.0,9,     -999.0,9,     -999.0,9,     -999.0,9,     -999.0,9,     -999.0,9,     -999.0,9,     -999.0,9
33RO20161119,        P18,     141,          1,         15,      11114,2,20170107,       1106,   -36.4996,  -103.0013,       3515,   624.9,   5.8337,  34.2688,2,  34.2686,2,    245.1,2,   244.0,2,     9.4,2,    24.7,2,    0.00,2,   1.732,2,   3.7786,2,   1.9320,2,   0.9786,2,  2154.4,2,  2274.0,2,   7.6865,2,    25.00, -999.00,9,  -999.0,9,  -999.0,   1.7218,2, -999.00,9,    40.5,2,   26.90,2, -999.00,9,    15.8688,2, -999.00,9,  -999.0,9,     -999.0,     -999.0,9,     -999.0,9,     -999.0,     -999.0,9,     -999.0,     -999.0,9,     -999.0,     -999.0,     -999.0,9,     -999.0,9,     -999.0,9,     -999.0,9,     -999.0,9,     -999.0,9,     -999.0,9,     -999.0,9
33RO20161119,        P18,     141,          1,         16,      11115,2,20170107,       1106,   -36.4996,  -103.0013,       3515,   519.0,   6.2381,  34.2892,2,  34.2926,2,    244.4,2,   245.0,2,     8.3,2,    23.6,2,    0.00,2,   1.656,2,   4.0182,2,   2.0979,2,   1.2115,2,  2151.2,2,  2274.0,2,   7.6884,2,    25.00, -999.00,9,  -999.0,9,  -999.0,   2.6406,2, -999.00,9,    46.6,3,   27.10,2, -999.00,9,    17.3377,2, -999.00,9,  -999.0,9,     -999.0,     -999.0,9,     -999.0,9,     -999.0,     -999.0,9,     -999.0,     -999.0,9,     -999.0,     -999.0,     -999.0,9,     -999.0,9,     -999.0,9,     -999.0,9,     -999.0,9,     -999.0,9,     -999.0,9,     -999.0,9
33RO20161119,        P18,     141,          1,         17,      11116,2,20170107,       1106,   -36.4996,  -103.0013,       3515,   427.4,   6.6446,  34.2960,2,  34.2960,2,    236.4,2,   237.0,2,     7.6,2,    23.2,2,    0.01,2,   1.634,2,   3.9886,2,   2.1253,2,   1.3625,2,  2150.6,6,  2272.4,2,   7.6798,2,    25.00, -999.00,9,  -999.0,9,  -999.0,   2.6353,2, -999.00,9,    41.6,2,   25.20,2, -999.00,9,    19.7615,2, -999.00,9,  -999.0,9,     -999.0,     -999.0,9,     -999.0,9,     -999.0,     -999.0,9,     -999.0,     -999.0,9,     -999.0,     -999.0,     -999.0,9,     -999.0,9,     -999.0,9,     -999.0,9,     -999.0,9,     -999.0,9,     -999.0,9,     -999.0,9
33RO20161119,        P18,     141,          1,         18,      11117,2,20170107,       1106,   -36.4996,  -103.0013,       3515,   331.9,   7.5132,  34.2307,2,  34.2311,2,    235.0,2,   234.1,2,     4.8,2,    21.4,2,    0.01,2,   1.535,2,   3.9045,2,   2.1607,2,   1.7260,2,  2142.7,2,  2269.0,2,   7.6913,2,    25.00, -999.00,9,  -999.0,9,  -999.0,   2.5027,2, -999.00,9,    46.6,2,   21.30,2, -999.00,9,    23.8539,2, -999.00,9,  -999.0,9,     -999.0,     -999.0,9,     -999.0,9,     -999.0,     -999.0,9,     -999.0,     -999.0,9,     -999.0,     -999.0,     -999.0,9,     -999.0,9,     -999.0,9,     -999.0,9,     -999.0,9,     -999.0,9,     -999.0,9,     -999.0,9
33RO20161119,        P18,     141,          1,         19,      11083,2,20170107,       1106,   -36.4996,  -103.0013,       3515,   251.5,   9.4429,  34.2207,2,  34.2217,2,    234.2,2,   232.7,2,     1.9,2,    16.7,2,    0.01,2,   1.254,2,   3.5824,2,   2.0453,2,   1.9118,2,  2121.6,2,  2266.6,2,   7.7399,2,    25.00, -999.00,9,  -999.0,9,  -999.0,   0.0138,2, -999.00,9,    46.0,2,   18.00,2, -999.00,9,    23.3005,2, -999.00,9,  -999.0,9,     -999.0,     -999.0,9,     -999.0,9,     -999.0,     -999.0,9,     -999.0,     -999.0,9,     -999.0,     -999.0,     -999.0,9,     -999.0,9,     -999.0,9,     -999.0,9,     -999.0,9,     -999.0,9,     -999.0,9,     -999.0,9
33RO20161119,        P18,     141,          1,         20,      11118,2,20170107,       1106,   -36.4996,  -103.0013,       3515,   180.6,  11.8010,  34.1381,2,  34.1358,2,    242.0,2,   238.0,2,     1.1,2,    10.3,2,    0.33,2,   0.903,2,   3.1330,2,   1.8369,2,   2.0773,2,  2086.4,2,  2257.9,2,   7.8124,2,    25.00, -999.00,9,  -999.0,9,  -999.0,   0.0299,2, -999.00,9,    52.0,2,   12.40,2, -999.00,9,    13.7184,2, -999.00,9,  -999.0,9,     -999.0,     -999.0,9,     -999.0,9,     -999.0,     -999.0,9,     -999.0,     -999.0,9,     -999.0,     -999.0,     -999.0,9,     -999.0,9,     -999.0,9,     -999.0,9,     -999.0,9,     -999.0,9,     -999.0,9,     -999.0,9
33RO20161119,        P18,     141,          1,         21,      11119,2,20170107,       1106,   -36.4996,  -103.0013,       3515,   115.7,  13.4116,  34.0912,2,  34.0869,2,    254.2,2,   253.6,2,     0.6,2,     4.1,2,    0.19,2,   0.551,2,   2.8572,2,   1.6929,2,   2.0873,2,  2053.1,2,  2255.6,2,   7.8832,2,    25.00, -999.00,9,  -999.0,9,  -999.0,   0.0267,2, -999.00,9,    57.4,2,    6.80,2, -999.00,9,     9.6743,2, -999.00,9,  -999.0,9,     -999.0,     -999.0,9,     -999.0,9,     -999.0,     -999.0,9,     -999.0,     -999.0,9,     -999.0,     -999.0,     -999.0,9,     -999.0,9,     -999.0,9,     -999.0,9,     -999.0,9,     -999.0,9,     -999.0,9,     -999.0,9
33RO20161119,        P18,     141,          1,         22,      11120,2,20170107,       1106,   -36.4996,  -103.0013,       3515,    59.9,  14.6807,  34.1429,2,  34.1432,2,    266.8,2,   266.8,6,     0.3,2,     1.9,2,    0.07,2,   0.377,2,   2.7668,2,   1.6419,2,   2.0551,2,  2034.5,2,  2258.5,2,   7.9255,6,    25.00, -999.00,9,  -999.0,9,  -999.0,   0.0321,2, -999.00,9,    60.7,2,    4.70,2, -999.00,9,     9.2221,2, -999.00,9,  -999.0,9,     -999.0,     -999.0,9,     -999.0,9,     -999.0,     -999.0,9,     -999.0,     -999.0,9,     -999.0,     -999.0,     -999.0,9,     -999.0,9,     -999.0,9,     -999.0,9,     -999.0,9,     -999.0,9,     -999.0,9,     -999.0,9
33RO20161119,        P18,     141,          1,         23,      11121,2,20170107,       1106,   -36.4996,  -103.0013,       3515,    25.3,  18.3375,  34.0356,2,  34.0356,2,    239.6,2,   240.3,2,     0.3,2,     1.6,2,    0.03,2,   0.354,2,-999.0000,9,-999.0000,9,-999.0000,9,  2026.2,2,  2251.8,2,   7.9281,2,    25.00, -999.00,9,  -999.0,9,  -999.0,-999.0000,9, -999.00,9,    62.7,2,    5.20,2, -999.00,9,     -999.0,9, -999.00,9,  -999.0,9,     -999.0,     -999.0,9,     -999.0,9,     -999.0,     -999.0,9,     -999.0,     -999.0,9,     -999.0,     -999.0,     -999.0,9,     -999.0,9,     -999.0,9,     -999.0,9,     -999.0,9,     -999.0,9,     -999.0,9,     -999.0,9
33RO20161119,        P18,     141,          1,         24,      11122,2,20170107,       1106,   -36.4996,  -103.0013,       3515,     3.7,  19.5798,  34.0306,2,  34.0306,2,    231.8,2,   234.2,2,     0.3,2,     1.6,2,    0.04,2,   0.364,2,   2.2635,2,   1.3720,2,   1.7677,2,  2026.8,6,  2251.0,6,   7.9280,2,    25.00, -999.00,9,  -999.0,9,  -999.0,    0.034,2, -999.00,9,    65.0,2,    4.50,2, -999.00,9,     7.9835,2, -999.00,9,  -999.0,9,     -999.0,     -999.0,9,     -999.0,9,     -999.0,     -999.0,9,     -999.0,     -999.0,9,     -999.0,     -999.0,     -999.0,9,     -999.0,9,     -999.0,9,     -999.0,9,     -999.0,9,     -999.0,9,     -999.0,9,     -999.0,9