BOTTLE,20230606CCHSIOCBG
EXPOCODE,SECT_ID,STNNBR,CASTNO,SAMPNO,BTLNBR,BTLNBR_FLAG_W,DATE,TIME,LATITUDE,LONGITUDE,DEPTH,CTDPRS,CTDTMP,CTDSAL,CTDSAL_FLAG_W,SALNTY,SALNTY_FLAG_W,CTDOXY,CTDOXY_FLAG_W,OXYGEN,OXYGEN_FLAG_W,SILCAT,SILCAT_FLAG_W,NITRAT,NITRAT_FLAG_W,NITRIT,NITRIT_FLAG_W,PHSPHT,PHSPHT_FLAG_W,CFC-11,CFC-11_FLAG_W,CFC-12,CFC-12_FLAG_W,SF6,SF6_FLAG_W,TCARBN,TCARBN_FLAG_W,ALKALI,ALKALI_FLAG_W,PH_SWS,PH_SWS_FLAG_W,PH_TMP,DELC13,DELC13_FLAG_W,DELC14,DELC14_FLAG_W,C14ERR,CCL4,CCL4_FLAG_W,POC,POC_FLAG_W,DOC,DOC_FLAG_W,TDN,TDN_FLAG_W,PON,PON_FLAG_W,N2O,N2O_FLAG_W,D15N_NO3,D15N_NO3_FLAG_W,14C-DOC,14C-DOC_FLAG_W,14C-DOCERR,13C-DOC,13C-DOC_FLAG_W,N2/ARGON_UNSTRIPPED,N2/ARGON_UNSTRIPPED_FLAG_W,N2/ARGON_UNSTRIPPED_ERROR,N2/ARGON,N2/ARGON_FLAG_W,N2/ARGON_ERROR,D15N_N2,D15N_N2_FLAG_W,D15N_N2_ERROR,D15N_NO3_ERROR,D15N_NO2+NO3,D15N_NO2+NO3_FLAG_W,D18O_NO2+NO3,D18O_NO2+NO3_FLAG_W,D18O_NO3,D18O_NO3_FLAG_W,TDP,TDP_FLAG_W,N2O_ALT_1,N2O_ALT_1_FLAG_W,D15N_N2O,D15N_N2O_FLAG_W,D18O_N2O,D18O_N2O_FLAG_W,D15N_ALPHA_N2O,D15N_ALPHA_N2O_FLAG_W
,,,,,,,,,,,METERS,DBAR,ITS-90,PSS-78,,PSS-78,,UMOL/KG,,UMOL/KG,,UMOL/KG,,UMOL/KG,,UMOL/KG,,UMOL/KG,,PMOL/KG,,PMOL/KG,,FMOL/KG,,UMOL/KG,,UMOL/KG,,,,DEG C,/MILLE,,/MILLE,,/MILLE,PMOL/KG,,UG/KG,,UMOL/KG,,UMOL/KG,,UG/KG,,NMOL/KG,,/MILLE,,/MILLE,,/MILLE,/MILLE,,,,,,,,/MILLE,,/MILLE,/MILLE,/MILLE,,/MILLE,,/MILLE,,UMOL/KG,,NMOL/L,,/MILLE,,/MILLE,,/MILLE,
33RO20161119,        P18,      14,          1,          1,      11010,2,20161127,       1034,    17.4997,  -110.0006,       3420,  3486.4,   1.7156,  34.6747,2,  34.6749,2,    120.7,2,   120.5,2,   156.2,6,    38.2,6,    0.01,6,   2.637,6,   0.0076,2,   0.0031,2,   0.0000,2,  2352.7,6,  2446.1,3,   7.5264,2,    25.00, -999.00,9,  -999.0,9,  -999.0,   0.0133,2, -999.00,9,  -999.0,9, -999.00,9, -999.00,9,    22.4562,2, -999.00,9,  -999.0,9,     -999.0,     -999.0,9,     -999.0,9,     -999.0,     -999.0,9,     -999.0,     -999.0,9,     -999.0,     -999.0,     -999.0,9,     -999.0,9,     -999.0,9,     -999.0,9,     -999.0,9,     -999.0,9,     -999.0,9,     -999.0,9
33RO20161119,        P18,      14,          1,          2,      11101,2,20161127,       1034,    17.4997,  -110.0006,       3420,  3109.2,   1.6944,  34.6732,2,  34.6754,2,    118.2,2,   118.6,2,   156.8,6,    38.4,6,    0.01,6,   2.646,6,   0.0067,2,   0.0045,2,   0.0412,2,  2353.4,2,  2432.7,2,   7.5214,6,    25.00, -999.00,9,  -999.0,9,  -999.0,   0.0125,2, -999.00,9,  -999.0,9, -999.00,9, -999.00,9,    22.4674,2, -999.00,9,  -999.0,9,     -999.0,     -999.0,9,     -999.0,9,     -999.0,     -999.0,9,     -999.0,     -999.0,9,     -999.0,     -999.0,     -999.0,9,     -999.0,9,     -999.0,9,     -999.0,9,     -999.0,9,     -999.0,9,     -999.0,9,     -999.0,9
33RO20161119,        P18,      14,          1,          3,      11102,2,20161127,       1034,    17.4997,  -110.0006,       3420,  2810.3,   1.7279,  34.6686,2,  34.6685,2,    113.1,2,   112.6,2,   157.7,6,    38.7,6,    0.01,6,   2.676,6,   0.0054,2,   0.0041,2,   0.0000,2,  2357.2,2,  2430.0,6,   7.5151,2,    25.00, -999.00,9,  -999.0,9,  -999.0,   0.0133,2, -999.00,9,  -999.0,9, -999.00,9, -999.00,9,    23.1864,2, -999.00,9,  -999.0,9,     -999.0,     -999.0,9,     -999.0,9,     -999.0,     -999.0,9,     -999.0,     -999.0,9,     -999.0,     -999.0,     -999.0,9,     -999.0,9,     -999.0,9,     -999.0,9,     -999.0,9,     -999.0,9,     -999.0,9,     -999.0,9
33RO20161119,        P18,      14,          1,          4,      11103,2,20161127,       1034,    17.4997,  -110.0006,       3420,  2534.2,   1.8144,  34.6638,2,  34.6633,2,    106.9,2,   106.3,2,   155.7,6,    39.0,6,    0.01,6,   2.715,6,   0.0053,2,   0.0037,2,   0.0000,2,  2358.7,2,  2410.5,3,   7.5036,2,    25.00, -999.00,9,  -999.0,9,  -999.0,   0.0235,2, -999.00,9,  -999.0,9, -999.00,9, -999.00,9,    24.3549,2, -999.00,9,  -999.0,9,     -999.0,     -999.0,9,     -999.0,9,     -999.0,     -999.0,9,     -999.0,     -999.0,9,     -999.0,     -999.0,     -999.0,9,     -999.0,9,     -999.0,9,     -999.0,9,     -999.0,9,     -999.0,9,     -999.0,9,     -999.0,9
33RO20161119,        P18,      14,          1,          5,      11104,2,20161127,       1034,    17.4997,  -110.0006,       3420,  2261.0,   1.9750,  34.6546,2,  34.6559,2,     96.9,2,    97.1,2,   153.3,2,    39.7,2,    0.01,2,   2.764,2,   0.0041,2,   0.0024,2,   0.0000,2,  2362.2,2,  2422.4,2,   7.4831,2,    25.00, -999.00,9,  -999.0,9,  -999.0,   0.0202,2, -999.00,9,  -999.0,9, -999.00,9, -999.00,9,    25.8465,2, -999.00,9,  -999.0,9,     -999.0,     -999.0,9,     -999.0,9,     -999.0,     -999.0,9,     -999.0,     -999.0,9,     -999.0,     -999.0,     -999.0,9,     -999.0,9,     -999.0,9,     -999.0,9,     -999.0,9,     -999.0,9,     -999.0,9,     -999.0,9
33RO20161119,        P18,      14,          1,          6,      11105,2,20161127,       1034,    17.4997,  -110.0006,       3420,  2015.3,   2.2016,  34.6419,2,  34.6455,2,     85.1,2,    85.0,2,   149.5,2,    40.6,2,    0.01,2,   2.852,2,   0.0039,2,   0.0012,2,   0.0000,2,  2364.0,2,  2424.7,2,   7.4579,2,    25.00, -999.00,9,  -999.0,9,  -999.0,   0.0159,2, -999.00,9,  -999.0,9, -999.00,9, -999.00,9,    28.3371,2, -999.00,9,  -999.0,9,     -999.0,     -999.0,9,     -999.0,9,     -999.0,     -999.0,9,     -999.0,     -999.0,9,     -999.0,     -999.0,     -999.0,9,     -999.0,9,     -999.0,9,     -999.0,9,     -999.0,9,     -999.0,9,     -999.0,9,     -999.0,9
33RO20161119,        P18,      14,          1,          7,      11106,2,20161127,       1034,    17.4997,  -110.0006,       3420,  1750.1,   2.6192,  34.6208,2,  34.6207,2,     65.4,2,    66.0,6,   141.4,2,    41.9,2,    0.01,2,   2.975,2,   0.0046,2,   0.0014,2,   0.0000,2,  2369.2,2,  2409.4,2,   7.4178,2,    25.00, -999.00,9,  -999.0,9,  -999.0,   0.0187,2, -999.00,9,  -999.0,9, -999.00,9, -999.00,9,    32.9025,2, -999.00,9,  -999.0,9,     -999.0,     -999.0,9,     -999.0,9,     -999.0,     -999.0,9,     -999.0,     -999.0,9,     -999.0,     -999.0,     -999.0,9,     -999.0,9,     -999.0,9,     -999.0,9,     -999.0,9,     -999.0,9,     -999.0,9,     -999.0,9
33RO20161119,        P18,      14,          1,          8,      11107,2,20161127,       1034,    17.4997,  -110.0006,       3420,  1485.8,   3.0717,  34.5991,2,  34.6054,2,     46.9,2,    47.7,2,   132.2,2,    43.2,2,    0.01,2,   3.110,2,   0.0056,6,   0.0025,6,   0.0000,6,  2369.7,2,  2397.9,2,   7.3848,2,    25.00, -999.00,9,  -999.0,9,  -999.0,   0.0286,2, -999.00,9,  -999.0,9, -999.00,9, -999.00,9,     37.814,2, -999.00,9,  -999.0,9,     -999.0,     -999.0,9,     -999.0,9,     -999.0,     -999.0,9,     -999.0,     -999.0,9,     -999.0,     -999.0,     -999.0,9,     -999.0,9,     -999.0,9,     -999.0,9,     -999.0,9,     -999.0,9,     -999.0,9,     -999.0,9
33RO20161119,        P18,      14,          1,          9,      11108,2,20161127,       1034,    17.4997,  -110.0006,       3420,  1254.1,   3.6172,  34.5709,2,  34.5704,2,     27.4,2,    27.4,2,   122.5,2,    44.0,2,    0.01,2,   3.248,2,   0.0108,2,   0.0037,2,   0.0413,2,  2371.6,2,  2385.0,2,   7.3427,2,    25.00, -999.00,9,  -999.0,9,  -999.0,   0.0163,2, -999.00,9,  -999.0,9, -999.00,9, -999.00,9,    43.5982,2, -999.00,9,  -999.0,9,     -999.0,     -999.0,9,     -999.0,9,     -999.0,     -999.0,9,     -999.0,     -999.0,9,     -999.0,     -999.0,     -999.0,9,     -999.0,9,     -999.0,9,     -999.0,9,     -999.0,9,     -999.0,9,     -999.0,9,     -999.0,9
33RO20161119,        P18,      14,          1,         10,      11109,2,20161127,       1034,    17.4997,  -110.0006,       3420,  1109.9,   4.1334,  34.5523,2,  34.5596,2,     15.7,2,    16.5,2,   112.2,2,    44.4,2,    0.01,2,   3.309,2,   0.0114,2,   0.0047,2,   0.0000,2,  2365.5,6,  2373.9,2,   7.3206,2,    25.00, -999.00,9,  -999.0,9,  -999.0,   0.0239,2, -999.00,9,  -999.0,9, -999.00,9, -999.00,9,    48.6429,2, -999.00,9,  -999.0,9,     -999.0,     -999.0,9,     -999.0,9,     -999.0,     -999.0,9,     -999.0,     -999.0,9,     -999.0,     -999.0,     -999.0,9,     -999.0,9,     -999.0,9,     -999.0,9,     -999.0,9,     -999.0,9,     -999.0,9,     -999.0,9
33RO20161119,        P18,      14,          1,         11,      11110,2,20161127,       1034,    17.4997,  -110.0006,       3420,   988.3,   4.6138,  34.5401,2,  34.5396,2,      7.9,2,     8.7,2,   102.6,2,    44.5,2,    0.01,2,   3.326,2,   0.0110,2,   0.0056,2,   0.0000,2,  2360.1,2,  2364.9,2,   7.3068,2,    25.00, -999.00,9,  -999.0,9,  -999.0,   0.0375,2, -999.00,9,  -999.0,9, -999.00,9, -999.00,9,    53.5831,2, -999.00,9,  -999.0,9,     -999.0,     -999.0,9,     -999.0,9,     -999.0,     -999.0,9,     -999.0,     -999.0,9,     -999.0,     -999.0,     -999.0,9,     -999.0,9,     -999.0,9,     -999.0,9,     -999.0,9,     -999.0,9,     -999.0,9,     -999.0,9
33RO20161119,        P18,      14,          1,         12,      11111,2,20161127,       1034,    17.4997,  -110.0006,       3420,   875.8,   5.1078,  34.5294,2,  34.5288,2,      4.5,2,     5.6,2,    93.8,2,    43.5,2,    0.01,2,   3.311,2,   0.0127,2,   0.0051,2,   0.0000,2,  2352.6,2,  2356.0,2,   7.3058,2,    25.00, -999.00,9,  -999.0,9,  -999.0,   0.0353,2, -999.00,9,  -999.0,9, -999.00,9, -999.00,9,     56.708,2, -999.00,9,  -999.0,9,     -999.0,     -999.0,9,     -999.0,9,     -999.0,     -999.0,9,     -999.0,     -999.0,9,     -999.0,     -999.0,     -999.0,9,     -999.0,9,     -999.0,9,     -999.0,9,     -999.0,9,     -999.0,9,     -999.0,9,     -999.0,9
33RO20161119,        P18,      14,          1,         13,      11112,2,20161127,       1034,    17.4997,  -110.0006,       3420,   765.3,   5.7060,  34.5315,2,  34.5317,2,      2.5,2,     3.7,6,    83.7,2,    41.9,2,    0.01,2,   3.263,2,   0.0123,2,   0.0071,2,   0.0326,2,  2345.1,2,  2346.7,2,   7.3116,2,    25.00, -999.00,9,  -999.0,9,  -999.0,   0.0209,2, -999.00,9,  -999.0,9, -999.00,9, -999.00,9,    52.9737,2, -999.00,9,  -999.0,9,     -999.0,     -999.0,9,     -999.0,9,     -999.0,     -999.0,9,     -999.0,     -999.0,9,     -999.0,     -999.0,     -999.0,9,     -999.0,9,     -999.0,9,     -999.0,9,     -999.0,9,     -999.0,9,     -999.0,9,     -999.0,9
33RO20161119,        P18,      14,          1,         14,      11113,2,20161127,       1034,    17.4997,  -110.0006,       3420,   659.4,   6.3116,  34.5310,2,  34.5315,2,      2.4,2,     3.0,2,    75.7,2,    39.4,2,    0.02,2,   3.217,2,   0.0180,2,   0.0102,2,   0.0000,2,  2335.4,2,  2339.1,2,   7.3172,2,    25.00, -999.00,9,  -999.0,9,  -999.0,   0.0178,2, -999.00,9,  -999.0,9, -999.00,9, -999.00,9,    43.8611,2, -999.00,9,  -999.0,9,     -999.0,     -999.0,9,     -999.0,9,     -999.0,     -999.0,9,     -999.0,     -999.0,9,     -999.0,     -999.0,     -999.0,9,     -999.0,9,     -999.0,9,     -999.0,9,     -999.0,9,     -999.0,9,     -999.0,9,     -999.0,9
33RO20161119,        P18,      14,          1,         15,      11114,2,20161127,       1034,    17.4997,  -110.0006,       3420,   560.8,   7.0324,  34.5313,2,  34.5321,2,      2.4,2,     1.8,2,    68.1,2,    36.4,2,    0.01,2,   3.156,2,   0.0348,2,   0.0192,2,   0.0000,2,  2324.6,2,  2331.7,2,   7.3234,6,    25.00, -999.00,9,  -999.0,9,  -999.0,        0,2, -999.00,9,  -999.0,9, -999.00,9, -999.00,9,    24.7902,2, -999.00,9,  -999.0,9,     -999.0,     -999.0,9,     -999.0,9,     -999.0,     -999.0,9,     -999.0,     -999.0,9,     -999.0,     -999.0,     -999.0,9,     -999.0,9,     -999.0,9,     -999.0,9,     -999.0,9,     -999.0,9,     -999.0,9,     -999.0,9
33RO20161119,        P18,      14,          1,         16,      11115,2,20161127,       1034,    17.4997,  -110.0006,       3420,   465.2,   8.0686,  34.5449,2,  34.5443,2,      2.3,2,     3.8,2,    57.1,2,    32.2,2,    0.01,2,   3.035,2,   0.1072,2,   0.0612,2,   0.0000,2,  2309.3,2,  2323.5,6,   7.3310,2,    25.00, -999.00,9,  -999.0,9,  -999.0,   0.0364,2, -999.00,9,  -999.0,9, -999.00,9, -999.00,9,    30.2784,2, -999.00,9,  -999.0,9,     -999.0,     -999.0,9,     -999.0,9,     -999.0,     -999.0,9,     -999.0,     -999.0,9,     -999.0,     -999.0,     -999.0,9,     -999.0,9,     -999.0,9,     -999.0,9,     -999.0,9,     -999.0,9,     -999.0,9,     -999.0,9
33RO20161119,        P18,      14,          1,         17,      11116,2,20161127,       1034,    17.4997,  -110.0006,       3420,   374.1,   9.4206,  34.5956,2,  34.5951,2,      2.5,2,     2.5,2,    45.4,2,    28.0,2,    0.01,2,   2.869,2,   0.2529,2,   0.1431,2,   0.0468,2,  2297.5,2,  2314.0,2,   7.3481,2,    25.00, -999.00,9,  -999.0,9,  -999.0,   0.0502,2, -999.00,9,  -999.0,9, -999.00,9, -999.00,9,    22.6149,2, -999.00,9,  -999.0,9,     -999.0,     -999.0,9,     -999.0,9,     -999.0,     -999.0,9,     -999.0,     -999.0,9,     -999.0,     -999.0,     -999.0,9,     -999.0,9,     -999.0,9,     -999.0,9,     -999.0,9,     -999.0,9,     -999.0,9,     -999.0,9
33RO20161119,        P18,      14,          1,         18,      11117,2,20161127,       1034,    17.4997,  -110.0006,       3420,   290.7,  10.6978,  34.6503,2,  34.6503,2,      2.4,2,     2.7,2,    37.3,2,    24.8,2,    0.02,2,   2.731,2,   0.5441,6,   0.3097,6,   0.1266,6,  2287.6,2,  2309.9,2,   7.3630,2,    25.00, -999.00,9,  -999.0,9,  -999.0,   0.0661,2, -999.00,9,  -999.0,9, -999.00,9, -999.00,9,    16.7316,2, -999.00,9,  -999.0,9,     -999.0,     -999.0,9,     -999.0,9,     -999.0,     -999.0,9,     -999.0,     -999.0,9,     -999.0,     -999.0,     -999.0,9,     -999.0,9,     -999.0,9,     -999.0,9,     -999.0,9,     -999.0,9,     -999.0,9,     -999.0,9
33RO20161119,        P18,      14,          1,         19,      11083,2,20161127,       1034,    17.4997,  -110.0006,       3420,   221.1,  11.9816,  34.7407,2,  34.7396,2,      2.4,2,     3.0,2,    32.1,2,    23.0,2,    0.23,2,   2.641,2,   0.7933,2,   0.4782,2,   0.2329,2,  2276.4,2,  2304.6,2,   7.3918,2,    25.00, -999.00,9,  -999.0,9,  -999.0,   0.0491,2, -999.00,9,  -999.0,9, -999.00,9, -999.00,9,    11.7427,2, -999.00,9,  -999.0,9,     -999.0,     -999.0,9,     -999.0,9,     -999.0,     -999.0,9,     -999.0,     -999.0,9,     -999.0,     -999.0,     -999.0,9,     -999.0,9,     -999.0,9,     -999.0,9,     -999.0,9,     -999.0,9,     -999.0,9,     -999.0,9
33RO20161119,        P18,      14,          1,         20,      11118,2,20161127,       1034,    17.4997,  -110.0006,       3420,   154.8,  13.8936,  34.6954,2,  34.6959,2,      8.0,2,     9.9,2,    26.6,2,    23.5,2,    0.02,2,   2.553,2,   1.3474,2,   0.7987,2,   0.5642,2,  2259.0,2,  2297.0,2,   7.4193,2,    25.00, -999.00,9,  -999.0,9,  -999.0,   0.1113,2, -999.00,9,  -999.0,9, -999.00,9, -999.00,9,    34.7957,2, -999.00,9,  -999.0,9,     -999.0,     -999.0,9,     -999.0,9,     -999.0,     -999.0,9,     -999.0,     -999.0,9,     -999.0,     -999.0,     -999.0,9,     -999.0,9,     -999.0,9,     -999.0,9,     -999.0,9,     -999.0,9,     -999.0,9,     -999.0,9
33RO20161119,        P18,      14,          1,         21,      11119,2,20161127,       1034,    17.4997,  -110.0006,       3420,    95.7,  17.3075,  34.3796,2,  34.3798,2,     99.5,2,    85.0,2,    12.7,2,    14.8,2,    0.06,2,   1.655,2,   1.9762,2,   1.1826,2,   1.2221,2,  2167.8,2,  2277.1,2,   7.6388,2,    25.00, -999.00,9,  -999.0,9,  -999.0,   0.4823,2, -999.00,9,  -999.0,9, -999.00,9, -999.00,9,     39.174,2, -999.00,9,  -999.0,9,     -999.0,     -999.0,9,     -999.0,9,     -999.0,     -999.0,9,     -999.0,     -999.0,9,     -999.0,     -999.0,     -999.0,9,     -999.0,9,     -999.0,9,     -999.0,9,     -999.0,9,     -999.0,9,     -999.0,9,     -999.0,9
33RO20161119,        P18,      14,          1,         22,      11120,2,20161127,       1034,    17.4997,  -110.0006,       3420,    50.8,  25.4425,  34.4053,2,  34.4104,2,    219.2,2,   216.5,2,     1.4,2,     0.0,2,    0.01,2,   0.300,2,   1.8476,2,   1.1304,2,   1.5760,2,  2000.4,2,  2281.0,6,   8.0179,2,    25.00, -999.00,9,  -999.0,9,  -999.0,   0.9134,2, -999.00,9,  -999.0,9, -999.00,9, -999.00,9,    10.7672,2, -999.00,9,  -999.0,9,     -999.0,     -999.0,9,     -999.0,9,     -999.0,     -999.0,9,     -999.0,     -999.0,9,     -999.0,     -999.0,     -999.0,9,     -999.0,9,     -999.0,9,     -999.0,9,     -999.0,9,     -999.0,9,     -999.0,9,     -999.0,9
33RO20161119,        P18,      14,          1,         23,      11121,2,20161127,       1034,    17.4997,  -110.0006,       3420,    20.0,  28.9204,  34.3623,2,  34.3652,2,    194.7,2,   195.1,2,     0.9,2,     0.0,2,    0.01,2,   0.223,2,-999.0000,5,-999.0000,5,-999.0000,5,  1961.2,2,  2269.9,2,   8.0718,2,    25.00, -999.00,9,  -999.0,9,  -999.0,   1.6035,2, -999.00,9,  -999.0,9, -999.00,9, -999.00,9,     -999.0,5, -999.00,9,  -999.0,9,     -999.0,     -999.0,9,     -999.0,9,     -999.0,     -999.0,9,     -999.0,     -999.0,9,     -999.0,     -999.0,     -999.0,9,     -999.0,9,     -999.0,9,     -999.0,9,     -999.0,9,     -999.0,9,     -999.0,9,     -999.0,9
33RO20161119,        P18,      14,          1,         24,      11122,2,20161127,       1034,    17.4997,  -110.0006,       3420,     3.2,  28.9896,  33.5520,2,  33.5780,2,    193.7,2,   207.3,3,     0.6,2,     0.0,2,    0.01,2,   0.174,2,   1.4536,2,   0.9202,2,   1.3516,2,  1900.7,6,  2212.3,2,   8.0982,2,    25.00, -999.00,9,  -999.0,9,  -999.0,   0.0221,2, -999.00,9,  -999.0,9, -999.00,9, -999.00,9,     6.1414,2, -999.00,9,  -999.0,9,     -999.0,     -999.0,9,     -999.0,9,     -999.0,     -999.0,9,     -999.0,     -999.0,9,     -999.0,     -999.0,     -999.0,9,     -999.0,9,     -999.0,9,     -999.0,9,     -999.0,9,     -999.0,9,     -999.0,9,     -999.0,9