BOTTLE,20230606CCHSIOCBG
EXPOCODE,SECT_ID,STNNBR,CASTNO,SAMPNO,BTLNBR,BTLNBR_FLAG_W,DATE,TIME,LATITUDE,LONGITUDE,DEPTH,CTDPRS,CTDTMP,CTDSAL,CTDSAL_FLAG_W,SALNTY,SALNTY_FLAG_W,CTDOXY,CTDOXY_FLAG_W,OXYGEN,OXYGEN_FLAG_W,SILCAT,SILCAT_FLAG_W,NITRAT,NITRAT_FLAG_W,NITRIT,NITRIT_FLAG_W,PHSPHT,PHSPHT_FLAG_W,CFC-11,CFC-11_FLAG_W,CFC-12,CFC-12_FLAG_W,SF6,SF6_FLAG_W,TCARBN,TCARBN_FLAG_W,ALKALI,ALKALI_FLAG_W,PH_SWS,PH_SWS_FLAG_W,PH_TMP,DELC13,DELC13_FLAG_W,DELC14,DELC14_FLAG_W,C14ERR,CCL4,CCL4_FLAG_W,POC,POC_FLAG_W,DOC,DOC_FLAG_W,TDN,TDN_FLAG_W,PON,PON_FLAG_W,N2O,N2O_FLAG_W,D15N_NO3,D15N_NO3_FLAG_W,14C-DOC,14C-DOC_FLAG_W,14C-DOCERR,13C-DOC,13C-DOC_FLAG_W,N2/ARGON_UNSTRIPPED,N2/ARGON_UNSTRIPPED_FLAG_W,N2/ARGON_UNSTRIPPED_ERROR,N2/ARGON,N2/ARGON_FLAG_W,N2/ARGON_ERROR,D15N_N2,D15N_N2_FLAG_W,D15N_N2_ERROR,D15N_NO3_ERROR,D15N_NO2+NO3,D15N_NO2+NO3_FLAG_W,D18O_NO2+NO3,D18O_NO2+NO3_FLAG_W,D18O_NO3,D18O_NO3_FLAG_W,TDP,TDP_FLAG_W,N2O_ALT_1,N2O_ALT_1_FLAG_W,D15N_N2O,D15N_N2O_FLAG_W,D18O_N2O,D18O_N2O_FLAG_W,D15N_ALPHA_N2O,D15N_ALPHA_N2O_FLAG_W
,,,,,,,,,,,METERS,DBAR,ITS-90,PSS-78,,PSS-78,,UMOL/KG,,UMOL/KG,,UMOL/KG,,UMOL/KG,,UMOL/KG,,UMOL/KG,,PMOL/KG,,PMOL/KG,,FMOL/KG,,UMOL/KG,,UMOL/KG,,,,DEG C,/MILLE,,/MILLE,,/MILLE,PMOL/KG,,UG/KG,,UMOL/KG,,UMOL/KG,,UG/KG,,NMOL/KG,,/MILLE,,/MILLE,,/MILLE,/MILLE,,,,,,,,/MILLE,,/MILLE,/MILLE,/MILLE,,/MILLE,,/MILLE,,UMOL/KG,,NMOL/L,,/MILLE,,/MILLE,,/MILLE,
33RO20161119,        P18,     139,          1,          1,      11010,2,20170106,       2331,   -35.5010,  -103.0027,       3001,  3146.7,   1.7731,  34.6861,2,  34.6991,4,    167.1,2,   168.0,6,   115.1,6,    34.3,6,    0.01,6,   2.366,6,-999.0000,9,-999.0000,9,-999.0000,9,  2295.6,6,  2389.6,2,   7.5811,6,    25.00,    0.47,2,  -203.1,2,     2.1,-999.0000,9, -999.00,9,    38.9,2,   35.60,2, -999.00,9,     -999.0,9, -999.00,9,  -999.0,9,     -999.0,     -999.0,9,     -999.0,9,     -999.0,     -999.0,9,     -999.0,     -999.0,9,     -999.0,     -999.0,     -999.0,9,     -999.0,9,     -999.0,9,     -999.0,9,     -999.0,9,     -999.0,9,     -999.0,9,     -999.0,9
33RO20161119,        P18,     139,          1,          2,      11101,2,20170106,       2331,   -35.5010,  -103.0027,       3001,  2899.1,   1.7536,  34.6857,2,  34.6856,2,    166.7,2,   166.5,2,   115.2,6,    34.2,6,    0.01,6,   2.365,6,-999.0000,9,-999.0000,9,-999.0000,9,  2293.1,2,  2387.3,6,   7.5822,2,    25.00,    0.47,2,  -200.6,2,     2.5,-999.0000,9, -999.00,9,    38.6,2,   37.90,2, -999.00,9,     -999.0,9, -999.00,9,  -999.0,9,     -999.0,     -999.0,9,     -999.0,9,     -999.0,     -999.0,9,     -999.0,     -999.0,9,     -999.0,     -999.0,     -999.0,9,     -999.0,9,     -999.0,9,     -999.0,9,     -999.0,9,     -999.0,9,     -999.0,9,     -999.0,9
33RO20161119,        P18,     139,          1,          3,      11102,2,20170106,       2331,   -35.5010,  -103.0027,       3001,  2785.4,   1.7481,  34.6850,2,  34.6840,2,    167.0,2,   166.5,2,   115.5,6,    34.4,6,    0.01,6,   2.380,6,-999.0000,9,-999.0000,9,-999.0000,9,  2295.9,2,  2385.4,2,   7.5798,2,    25.00,    0.38,3,  -203.5,2,     1.7,-999.0000,9, -999.00,9,    38.7,2,   37.10,2, -999.00,9,     -999.0,9, -999.00,9,  -999.0,9,     -999.0,     -999.0,9,     -999.0,9,     -999.0,     -999.0,9,     -999.0,     -999.0,9,     -999.0,     -999.0,     -999.0,9,     -999.0,9,     -999.0,9,     -999.0,9,     -999.0,9,     -999.0,9,     -999.0,9,     -999.0,9
33RO20161119,        P18,     139,          1,          4,      11103,2,20170106,       2331,   -35.5010,  -103.0027,       3001,  2525.4,   1.7858,  34.6811,2,  34.6832,2,    165.0,2,   165.3,2,   113.8,6,    34.3,6,    0.01,6,   2.372,6,-999.0000,9,-999.0000,9,-999.0000,9,  2293.4,2,  2380.8,2,   7.5775,2,    25.00,    0.50,2,  -202.0,2,     2.2,-999.0000,9, -999.00,9,    38.1,2,   38.10,2, -999.00,9,     -999.0,9, -999.00,9,  -999.0,9,     -999.0,     -999.0,9,     -999.0,9,     -999.0,     -999.0,9,     -999.0,     -999.0,9,     -999.0,     -999.0,     -999.0,9,     -999.0,9,     -999.0,9,     -999.0,9,     -999.0,9,     -999.0,9,     -999.0,9,     -999.0,9
33RO20161119,        P18,     139,          1,          5,      11104,2,20170106,       2331,   -35.5010,  -103.0027,       3001,  2309.5,   1.9004,  34.6696,2,  34.6742,4,    160.1,2,   160.6,2,   111.0,6,    34.8,6,    0.01,6,   2.395,6,-999.0000,9,-999.0000,9,-999.0000,9,  2294.0,2,  2381.7,2,   7.5692,2,    25.00,    0.30,3,  -207.6,2,     2.0,-999.0000,9, -999.00,9,    36.8,2,   37.60,2, -999.00,9,     -999.0,9, -999.00,9,  -999.0,9,     -999.0,     -999.0,9,     -999.0,9,     -999.0,     -999.0,9,     -999.0,     -999.0,9,     -999.0,     -999.0,     -999.0,9,     -999.0,9,     -999.0,9,     -999.0,9,     -999.0,9,     -999.0,9,     -999.0,9,     -999.0,9
33RO20161119,        P18,     139,          1,          6,      11105,2,20170106,       2331,   -35.5010,  -103.0027,       3001,  2039.9,   2.0932,  34.6450,2,  34.6471,2,    153.8,2,   154.6,2,   105.8,2,    35.2,2,    0.01,2,   2.439,2,-999.0000,9,-999.0000,9,-999.0000,9,  2292.8,2,  2376.8,2,   7.5565,2,    25.00,    0.41,2,  -201.0,2,     2.0,-999.0000,9, -999.00,9,    36.6,2,   38.10,2, -999.00,9,     -999.0,9, -999.00,9,  -999.0,9,     -999.0,     -999.0,9,     -999.0,9,     -999.0,     -999.0,9,     -999.0,     -999.0,9,     -999.0,     -999.0,     -999.0,9,     -999.0,9,     -999.0,9,     -999.0,9,     -999.0,9,     -999.0,9,     -999.0,9,     -999.0,9
33RO20161119,        P18,     139,          1,          7,      11106,2,20170106,       2331,   -35.5010,  -103.0027,       3001,  1800.7,   2.3677,  34.6069,2,  34.6071,2,    152.4,2,   153.0,2,    95.2,2,    35.4,2,    0.01,2,   2.447,2,-999.0000,9,-999.0000,9,-999.0000,9,  2282.8,2,  2364.7,2,   7.5479,2,    25.00,    0.40,2,  -196.3,2,     2.1,-999.0000,9, -999.00,9,    37.4,2,   37.50,2, -999.00,9,     -999.0,9, -999.00,9,  -999.0,9,     -999.0,     -999.0,9,     -999.0,9,     -999.0,     -999.0,9,     -999.0,     -999.0,9,     -999.0,     -999.0,     -999.0,9,     -999.0,9,     -999.0,9,     -999.0,9,     -999.0,9,     -999.0,9,     -999.0,9,     -999.0,9
33RO20161119,        P18,     139,          1,          8,      11107,2,20170106,       2331,   -35.5010,  -103.0027,       3001,  1499.0,   2.9019,  34.5401,2,  34.5396,2,    136.6,2,   137.2,2,    83.2,2,    37.2,2,    0.01,2,   2.569,2,   0.0233,2,   0.0129,2,   0.0000,2,  2279.4,2,  2351.6,2,   7.5420,4,    25.00,    0.50,2,  -187.2,2,     1.9,   2.5578,2, -999.00,9,    39.7,2,   39.70,2, -999.00,9,    25.4127,2, -999.00,9,  -999.0,9,     -999.0,     -999.0,9,     -999.0,9,     -999.0,     -999.0,9,     -999.0,     -999.0,9,     -999.0,     -999.0,     -999.0,9,     -999.0,9,     -999.0,9,     -999.0,9,     -999.0,9,     -999.0,9,     -999.0,9,     -999.0,9
33RO20161119,        P18,     139,          1,          9,      11108,2,20170106,       2331,   -35.5010,  -103.0027,       3001,  1285.2,   3.2831,  34.4754,2,  34.4795,2,    135.8,2,   136.3,2,    69.4,2,    37.5,2,    0.01,2,   2.602,2,-999.0000,9,-999.0000,9,-999.0000,9,  2269.0,6,  2331.2,2,   7.5099,2,    25.00,    0.55,2,  -171.9,2,     1.6,-999.0000,9, -999.00,9,    40.9,2,   40.50,2, -999.00,9,     -999.0,9, -999.00,9,  -999.0,9,     -999.0,     -999.0,9,     -999.0,9,     -999.0,     -999.0,9,     -999.0,     -999.0,9,     -999.0,     -999.0,     -999.0,9,     -999.0,9,     -999.0,9,     -999.0,9,     -999.0,9,     -999.0,9,     -999.0,9,     -999.0,9
33RO20161119,        P18,     139,          1,         10,      11109,2,20170106,       2331,   -35.5010,  -103.0027,       3001,  1104.8,   3.6754,  34.3809,2,  34.3819,2,    161.1,2,   162.2,2,    48.8,2,    35.7,2,    0.01,2,   2.444,2,   0.2137,6,   0.1098,6,   0.0310,6,  2236.2,2,  2309.4,2,   7.5429,2,    25.00,    0.78,2,  -133.1,2,     1.7,   2.6811,2, -999.00,9,    39.4,2,   38.90,2, -999.00,9,    24.3093,2, -999.00,9,  -999.0,9,     -999.0,     -999.0,9,     -999.0,9,     -999.0,     -999.0,9,     -999.0,     -999.0,9,     -999.0,     -999.0,     -999.0,9,     -999.0,9,     -999.0,9,     -999.0,9,     -999.0,9,     -999.0,9,     -999.0,9,     -999.0,9
33RO20161119,        P18,     139,          1,         11,      11110,2,20170106,       2331,   -35.5010,  -103.0027,       3001,   994.7,   4.0878,  34.3192,2,  34.3187,2,    187.5,2,   187.9,2,    34.5,2,    33.5,2,    0.01,2,   2.275,2,-999.0000,9,-999.0000,9,-999.0000,9,  2208.2,2,  2295.3,2,   7.5828,2,    25.00,    0.96,2,   -98.0,2,     1.8,-999.0000,9, -999.00,9,    39.9,2,   36.20,2, -999.00,9,     -999.0,9, -999.00,9,  -999.0,9,     -999.0,     -999.0,9,     -999.0,9,     -999.0,     -999.0,9,     -999.0,     -999.0,9,     -999.0,     -999.0,     -999.0,9,     -999.0,9,     -999.0,9,     -999.0,9,     -999.0,9,     -999.0,9,     -999.0,9,     -999.0,9
33RO20161119,        P18,     139,          1,         12,      11111,2,20170106,       2331,   -35.5010,  -103.0027,       3001,   883.9,   4.6609,  34.2795,2,  34.2803,2,    209.6,2,   210.2,2,    23.1,2,    30.5,2,    0.01,2,   2.063,2,   1.7112,2,   0.8316,2,   0.3170,2,  2185.9,2,  2285.4,6,   7.6211,2,    25.00,    1.11,2,   -59.5,2,     1.7,    2.574,2, -999.00,9,    42.9,2,   33.90,2, -999.00,9,    18.7575,2, -999.00,9,  -999.0,9,     -999.0,     -999.0,9,     -999.0,9,     -999.0,     -999.0,9,     -999.0,     -999.0,9,     -999.0,     -999.0,     -999.0,9,     -999.0,9,     -999.0,9,     -999.0,9,     -999.0,9,     -999.0,9,     -999.0,9,     -999.0,9
33RO20161119,        P18,     139,          1,         13,      11112,2,20170106,       2331,   -35.5010,  -103.0027,       3001,   786.3,   5.1441,  34.2631,2,  34.2626,2,    226.0,2,   227.3,2,    15.8,2,    27.9,2,    0.02,2,   1.903,2,   2.5571,2,   1.2707,2,   0.4642,2,  2169.8,2,  2278.0,2,   7.6522,6,    25.00,    1.21,2,   -29.4,2,     2.0,   2.0929,2, -999.00,9,    42.0,2,   30.10,2, -999.00,9,      16.88,2, -999.00,9,  -999.0,9,     -999.0,     -999.0,9,     -999.0,9,     -999.0,     -999.0,9,     -999.0,     -999.0,9,     -999.0,     -999.0,     -999.0,9,     -999.0,9,     -999.0,9,     -999.0,9,     -999.0,9,     -999.0,9,     -999.0,9,     -999.0,9
33RO20161119,        P18,     139,          1,         14,      11113,2,20170106,       2331,   -35.5010,  -103.0027,       3001,   680.4,   5.6213,  34.2672,2,  34.2661,2,    239.7,2,   240.6,2,    11.1,2,    25.6,2,    0.01,2,   1.758,2,   3.3480,2,   1.6789,2,   0.7654,2,  2157.4,2,  2271.9,2,   7.6797,2,    25.00,    1.32,2,   -17.8,2,     1.8,   1.2711,2, -999.00,9,    44.1,2,   28.10,2, -999.00,9,    16.2292,2, -999.00,9,  -999.0,9,     -999.0,     -999.0,9,     -999.0,9,     -999.0,     -999.0,9,     -999.0,     -999.0,9,     -999.0,     -999.0,     -999.0,9,     -999.0,9,     -999.0,9,     -999.0,9,     -999.0,9,     -999.0,9,     -999.0,9,     -999.0,9
33RO20161119,        P18,     139,          1,         15,      11114,2,20170106,       2331,   -35.5010,  -103.0027,       3001,   585.2,   5.9557,  34.2787,2,  34.2887,2,    246.2,2,   246.5,2,     9.0,2,    24.3,2,    0.01,2,   1.659,2,   3.7956,2,   1.9329,2,   0.9865,2,  2151.0,2,  2276.4,2,   7.6901,2,    25.00,    1.28,2,     1.0,2,     1.9,   1.2951,2, -999.00,9,    42.3,2,   27.10,2, -999.00,9,    16.1263,2, -999.00,9,  -999.0,9,     -999.0,     -999.0,9,     -999.0,9,     -999.0,     -999.0,9,     -999.0,     -999.0,9,     -999.0,     -999.0,     -999.0,9,     -999.0,9,     -999.0,9,     -999.0,9,     -999.0,9,     -999.0,9,     -999.0,9,     -999.0,9
33RO20161119,        P18,     139,          1,         16,      11115,2,20170106,       2331,   -35.5010,  -103.0027,       3001,   495.4,   6.3499,  34.3014,2,  34.3018,2,    246.8,2,   247.7,2,     7.7,2,    23.2,2,    0.01,2,   1.609,2,   4.0276,2,   2.0888,2,   1.1737,2,  2148.8,2,  2277.6,2,   7.6915,2,    25.00,    1.25,2,    13.7,2,     2.0,   2.6457,2, -999.00,9,    42.0,2,   25.20,2, -999.00,9,    16.8637,2, -999.00,9,  -999.0,9,     -999.0,     -999.0,9,     -999.0,9,     -999.0,     -999.0,9,     -999.0,     -999.0,9,     -999.0,     -999.0,     -999.0,9,     -999.0,9,     -999.0,9,     -999.0,9,     -999.0,9,     -999.0,9,     -999.0,9,     -999.0,9
33RO20161119,        P18,     139,          1,         17,      11116,2,20170106,       2331,   -35.5010,  -103.0027,       3001,   410.5,   6.7361,  34.3159,2,  34.3238,2,    242.9,2,   243.2,2,     6.6,2,    22.6,2,    0.01,2,   1.549,2,   4.0070,2,   2.1285,2,   1.2704,2,  2147.9,2,  2275.1,2,   7.6938,2,    25.00,    1.08,2,    15.4,2,     2.7,   2.5897,2, -999.00,9,    43.9,2,   24.30,2, -999.00,9,    18.3543,2, -999.00,9,  -999.0,9,     -999.0,     -999.0,9,     -999.0,9,     -999.0,     -999.0,9,     -999.0,     -999.0,9,     -999.0,     -999.0,     -999.0,9,     -999.0,9,     -999.0,9,     -999.0,9,     -999.0,9,     -999.0,9,     -999.0,9,     -999.0,9
33RO20161119,        P18,     139,          1,         18,      11117,2,20170106,       2331,   -35.5010,  -103.0027,       3001,   320.2,   7.5213,  34.2742,2,  34.2787,2,    235.3,2,   236.0,2,     4.6,2,    21.2,2,    0.01,2,   1.492,2,   3.9376,2,   2.1365,2,   1.5569,2,  2142.1,2,  2269.4,2,   7.6973,2,    25.00,    1.15,2,    19.9,2,     2.3,    2.515,2, -999.00,9,    45.4,2,   23.90,2, -999.00,9,    23.2863,2, -999.00,9,  -999.0,9,     -999.0,     -999.0,9,     -999.0,9,     -999.0,     -999.0,9,     -999.0,     -999.0,9,     -999.0,     -999.0,     -999.0,9,     -999.0,9,     -999.0,9,     -999.0,9,     -999.0,9,     -999.0,9,     -999.0,9,     -999.0,9
33RO20161119,        P18,     139,          1,         19,      11083,2,20170106,       2331,   -35.5010,  -103.0027,       3001,   244.6,   9.1562,  34.2480,2,-999.0000,9,    232.5,2,  -999.0,9,  -999.0,9,  -999.0,9, -999.00,9,-999.000,9,   3.6443,2,   2.0636,2,   1.7782,2,  -999.0,9,  -999.0,9,-999.0000,9,  -999.00, -999.00,9,  -999.0,9,  -999.0,   0.0185,2, -999.00,9,  -999.0,9, -999.00,9, -999.00,9,    23.5807,2, -999.00,9,  -999.0,9,     -999.0,     -999.0,9,     -999.0,9,     -999.0,     -999.0,9,     -999.0,     -999.0,9,     -999.0,     -999.0,     -999.0,9,     -999.0,9,     -999.0,9,     -999.0,9,     -999.0,9,     -999.0,9,     -999.0,9,     -999.0,9
33RO20161119,        P18,     139,          1,         20,      11118,2,20170106,       2331,   -35.5010,  -103.0027,       3001,   184.6,  11.2082,  34.2811,2,  34.2812,2,    230.3,2,   229.7,2,     1.1,2,    12.4,2,    0.05,2,   0.991,2,   3.2802,2,   1.8936,2,   1.8894,2,  2106.1,2,  2266.0,2,   7.7846,2,    25.00,    1.19,2,    29.5,2,     3.5,   0.0137,2, -999.00,9,    49.6,2,   14.00,2, -999.00,9,    18.1546,2, -999.00,9,  -999.0,9,     -999.0,     -999.0,9,     -999.0,9,     -999.0,     -999.0,9,     -999.0,     -999.0,9,     -999.0,     -999.0,     -999.0,9,     -999.0,9,     -999.0,9,       1.03,2,     -999.0,9,     -999.0,9,     -999.0,9,     -999.0,9
33RO20161119,        P18,     139,          1,         21,      11119,2,20170106,       2331,   -35.5010,  -103.0027,       3001,   126.0,  12.6119,  34.0662,2,  34.0674,2,    254.3,2,   254.5,2,     0.4,2,     6.3,2,    0.37,2,   0.674,2,   2.9881,2,   1.7628,2,   2.0771,2,  2065.2,2,  2254.1,2,   7.8599,2,    25.00,    1.42,2,    30.2,2,     2.6,   0.0066,2, -999.00,9,    56.4,2,    9.90,2, -999.00,9,     10.416,2, -999.00,9,  -999.0,9,     -999.0,     -999.0,9,     -999.0,9,     -999.0,     -999.0,9,     -999.0,     -999.0,9,     -999.0,     -999.0,     -999.0,9,     -999.0,9,     -999.0,9,       0.93,2,     -999.0,9,     -999.0,9,     -999.0,9,     -999.0,9
33RO20161119,        P18,     139,          1,         22,      11120,2,20170106,       2331,   -35.5010,  -103.0027,       3001,    70.5,  14.2673,  34.1349,2,  34.1358,2,    267.3,2,   265.5,2,     0.4,2,     2.5,2,    0.10,2,   0.401,2,   2.7922,2,   1.6562,2,   2.0402,2,  2039.4,2,  2257.4,2,   7.9135,2,    25.00,    1.48,2,    28.0,2,     2.7,   0.0207,2, -999.00,9,    60.8,2,    5.90,2, -999.00,9,     9.2769,2, -999.00,9,  -999.0,9,     -999.0,     -999.0,9,     -999.0,9,     -999.0,     -999.0,9,     -999.0,     -999.0,9,     -999.0,     -999.0,     -999.0,9,     -999.0,9,     -999.0,9,       0.65,2,     -999.0,9,     -999.0,9,     -999.0,9,     -999.0,9
33RO20161119,        P18,     139,          1,         23,      11121,2,20170106,       2331,   -35.5010,  -103.0027,       3001,    29.4,  18.8882,  34.1143,2,  34.1125,2,    240.3,2,   243.1,2,     0.2,2,     0.9,2,    0.03,2,   0.286,2,-999.0000,9,-999.0000,9,-999.0000,9,  2025.9,2,  2252.9,6,   7.9379,2,    25.00,    1.51,2,    30.2,2,     2.5,-999.0000,9, -999.00,9,    62.4,2,    4.90,2, -999.00,9,     -999.0,9, -999.00,9,  -999.0,9,     -999.0,     -999.0,9,     -999.0,9,     -999.0,     -999.0,9,     -999.0,     -999.0,9,     -999.0,     -999.0,     -999.0,9,     -999.0,9,     -999.0,9,       0.53,2,     -999.0,9,     -999.0,9,     -999.0,9,     -999.0,9
33RO20161119,        P18,     139,          1,         24,      11122,2,20170106,       2331,   -35.5010,  -103.0027,       3001,     3.2,  21.3122,  34.0325,2,  34.0336,2,    228.7,2,   232.4,6,     0.2,2,     1.2,2,    0.03,2,   0.316,2,   2.1954,2,   1.3404,2,   1.7131,2,  2022.4,6,  2243.5,2,   7.9347,2,    25.00,    1.41,2,    36.3,2,     2.5,   0.0324,2, -999.00,9,    62.9,2,    5.10,2, -999.00,9,     7.6562,2, -999.00,9,  -999.0,9,     -999.0,     -999.0,9,     -999.0,9,     -999.0,     -999.0,9,     -999.0,     -999.0,9,     -999.0,     -999.0,     -999.0,9,     -999.0,9,     -999.0,9,       0.61,2,     -999.0,9,     -999.0,9,     -999.0,9,     -999.0,9