BOTTLE,20230606CCHSIOCBG
EXPOCODE,SECT_ID,STNNBR,CASTNO,SAMPNO,BTLNBR,BTLNBR_FLAG_W,DATE,TIME,LATITUDE,LONGITUDE,DEPTH,CTDPRS,CTDTMP,CTDSAL,CTDSAL_FLAG_W,SALNTY,SALNTY_FLAG_W,CTDOXY,CTDOXY_FLAG_W,OXYGEN,OXYGEN_FLAG_W,SILCAT,SILCAT_FLAG_W,NITRAT,NITRAT_FLAG_W,NITRIT,NITRIT_FLAG_W,PHSPHT,PHSPHT_FLAG_W,CFC-11,CFC-11_FLAG_W,CFC-12,CFC-12_FLAG_W,SF6,SF6_FLAG_W,TCARBN,TCARBN_FLAG_W,ALKALI,ALKALI_FLAG_W,PH_SWS,PH_SWS_FLAG_W,PH_TMP,DELC13,DELC13_FLAG_W,DELC14,DELC14_FLAG_W,C14ERR,CCL4,CCL4_FLAG_W,POC,POC_FLAG_W,DOC,DOC_FLAG_W,TDN,TDN_FLAG_W,PON,PON_FLAG_W,N2O,N2O_FLAG_W,D15N_NO3,D15N_NO3_FLAG_W,14C-DOC,14C-DOC_FLAG_W,14C-DOCERR,13C-DOC,13C-DOC_FLAG_W,N2/ARGON_UNSTRIPPED,N2/ARGON_UNSTRIPPED_FLAG_W,N2/ARGON_UNSTRIPPED_ERROR,N2/ARGON,N2/ARGON_FLAG_W,N2/ARGON_ERROR,D15N_N2,D15N_N2_FLAG_W,D15N_N2_ERROR,D15N_NO3_ERROR,D15N_NO2+NO3,D15N_NO2+NO3_FLAG_W,D18O_NO2+NO3,D18O_NO2+NO3_FLAG_W,D18O_NO3,D18O_NO3_FLAG_W,TDP,TDP_FLAG_W,N2O_ALT_1,N2O_ALT_1_FLAG_W,D15N_N2O,D15N_N2O_FLAG_W,D18O_N2O,D18O_N2O_FLAG_W,D15N_ALPHA_N2O,D15N_ALPHA_N2O_FLAG_W
,,,,,,,,,,,METERS,DBAR,ITS-90,PSS-78,,PSS-78,,UMOL/KG,,UMOL/KG,,UMOL/KG,,UMOL/KG,,UMOL/KG,,UMOL/KG,,PMOL/KG,,PMOL/KG,,FMOL/KG,,UMOL/KG,,UMOL/KG,,,,DEG C,/MILLE,,/MILLE,,/MILLE,PMOL/KG,,UG/KG,,UMOL/KG,,UMOL/KG,,UG/KG,,NMOL/KG,,/MILLE,,/MILLE,,/MILLE,/MILLE,,,,,,,,/MILLE,,/MILLE,/MILLE,/MILLE,,/MILLE,,/MILLE,,UMOL/KG,,NMOL/L,,/MILLE,,/MILLE,,/MILLE,
33RO20161119,        P18,     126,          1,          1,      11010,2,20170103,       1650,   -29.0964,  -103.0075,       3366,  3315.3,   1.8434,  34.6819,2,  34.6824,2,    164.6,2,   164.1,2,   117.5,6,    34.6,6,    0.01,6,   2.412,6,   0.0030,2,   0.0020,2,   0.0000,2,  2297.6,6,  2393.9,2,   7.5806,6,    25.00, -999.00,9,  -999.0,9,  -999.0,   0.0202,2, -999.00,9,  -999.0,9, -999.00,9, -999.00,9,    20.6566,2,    5.24,2,  -999.0,9,     -999.0,     -999.0,9,     -999.0,9,     -999.0,     -999.0,9,     -999.0,     -999.0,9,     -999.0,     -999.0,       5.24,2,       2.18,2,       2.18,2,     -999.0,9,     -999.0,9,     -999.0,9,     -999.0,9,     -999.0,9
33RO20161119,        P18,     126,          1,          2,      11101,2,20170103,       1650,   -29.0964,  -103.0075,       3366,  2985.2,   1.8362,  34.6758,2,  34.6738,2,    162.9,2,   162.3,2,   118.0,6,    34.7,6,    0.00,6,   2.429,6,   0.0037,2,   0.0030,2,   0.0000,2,  2296.1,2,  2393.3,2,   7.5781,2,    25.00, -999.00,9,  -999.0,9,  -999.0,   0.0401,2, -999.00,9,  -999.0,9, -999.00,9, -999.00,9,    20.6287,2,     5.3,2,  -999.0,9,     -999.0,     -999.0,9,     -999.0,9,     -999.0,     -999.0,9,     -999.0,     -999.0,9,     -999.0,     -999.0,        5.3,2,       2.08,2,       2.08,2,     -999.0,9,     -999.0,9,     -999.0,9,     -999.0,9,     -999.0,9
33RO20161119,        P18,     126,          1,          3,      11102,2,20170103,       1650,   -29.0964,  -103.0075,       3366,  2699.9,   1.8354,  34.6702,2,  34.6675,2,    160.5,2,   160.0,2,   118.7,6,    35.0,6,    0.00,6,   2.433,6,   0.0032,2,   0.0020,2,   0.0000,2,  2300.0,2,  2393.6,2,   7.5758,2,    25.00, -999.00,9,  -999.0,9,  -999.0,   0.0354,2, -999.00,9,  -999.0,9, -999.00,9, -999.00,9,    20.9541,2,     5.3,2,  -999.0,9,     -999.0,     -999.0,9,     -999.0,9,     -999.0,     -999.0,9,     -999.0,     -999.0,9,     -999.0,     -999.0,        5.3,2,       2.02,2,       2.02,2,     -999.0,9,     -999.0,9,     -999.0,9,     -999.0,9,     -999.0,9
33RO20161119,        P18,     126,          1,          4,      11103,2,20170103,       1650,   -29.0964,  -103.0075,       3366,  2430.8,   1.8551,  34.6643,2,  34.6637,2,    158.5,2,   158.6,2,   118.3,6,    35.2,6,    0.00,6,   2.440,6,   0.0036,2,   0.0027,2,   0.0000,2,  2297.4,2,  2392.6,6,   7.5737,2,    25.00, -999.00,9,  -999.0,9,  -999.0,   0.0306,2, -999.00,9,  -999.0,9, -999.00,9, -999.00,9,    21.0028,2,    5.28,2,  -999.0,9,     -999.0,     -999.0,9,     -999.0,9,     -999.0,     -999.0,9,     -999.0,     -999.0,9,     -999.0,     -999.0,       5.28,2,       2.15,2,       2.15,2,     -999.0,9,     -999.0,9,     -999.0,9,     -999.0,9,     -999.0,9
33RO20161119,        P18,     126,          1,          5,      11104,2,20170103,       1650,   -29.0964,  -103.0075,       3366,  2225.6,   1.9015,  34.6575,2,  34.6549,2,    157.5,2,   157.5,2,   116.3,2,    35.2,2,    0.01,2,   2.448,2,   0.0037,2,   0.0016,2,   0.0000,2,  2297.9,2,  2389.6,2,   7.5703,2,    25.00, -999.00,9,  -999.0,9,  -999.0,   0.0471,2, -999.00,9,  -999.0,9, -999.00,9, -999.00,9,    21.4723,2,    5.28,2,  -999.0,9,     -999.0,     -999.0,9,     -999.0,9,     -999.0,     -999.0,9,     -999.0,     -999.0,9,     -999.0,     -999.0,       5.28,2,        1.9,2,        1.9,2,     -999.0,9,     -999.0,9,     -999.0,9,     -999.0,9,     -999.0,9
33RO20161119,        P18,     126,          1,          6,      11105,2,20170103,       1650,   -29.0964,  -103.0075,       3366,  1950.0,   2.0734,  34.6368,2,  34.6440,4,    155.4,2,   156.1,2,   109.4,2,    35.4,2,    0.00,2,   2.448,2,   0.0051,2,   0.0026,2,   0.0000,2,  2297.0,2,  2380.5,2,   7.5618,2,    25.00, -999.00,9,  -999.0,9,  -999.0,   0.2402,2, -999.00,9,  -999.0,9, -999.00,9, -999.00,9,    21.7684,2,    5.36,2,  -999.0,9,     -999.0,     -999.0,9,     -999.0,9,     -999.0,     -999.0,9,     -999.0,     -999.0,9,     -999.0,     -999.0,       5.36,2,       1.99,2,       1.99,2,     -999.0,9,     -999.0,9,     -999.0,9,     -999.0,9,     -999.0,9
33RO20161119,        P18,     126,          1,          7,      11106,2,20170103,       1650,   -29.0964,  -103.0075,       3366,  1720.1,   2.3074,  34.6074,2,  34.6055,2,    154.5,2,   154.8,2,    99.4,2,    35.4,2,    0.01,2,   2.471,2,   0.0085,6,   0.0050,6,   0.0183,6,  2283.1,2,  2368.6,2,   7.5549,2,    25.00, -999.00,9,  -999.0,9,  -999.0,   0.6152,2, -999.00,9,  -999.0,9, -999.00,9, -999.00,9,    22.5085,2,    5.45,2,  -999.0,9,     -999.0,     -999.0,9,     -999.0,9,     -999.0,     -999.0,9,     -999.0,     -999.0,9,     -999.0,     -999.0,       5.45,2,        2.1,2,        2.1,2,     -999.0,9,     -999.0,9,     -999.0,9,     -999.0,9,     -999.0,9
33RO20161119,        P18,     126,          1,          8,      11107,2,20170103,       1650,   -29.0964,  -103.0075,       3366,  1480.5,   2.7481,  34.5590,2,  34.5571,2,    144.0,2,   144.6,2,    88.2,2,    36.5,2,    0.01,2,   2.537,2,   0.0063,2,   0.0035,2,   0.0000,2,  2276.1,2,  2355.7,2,   7.5366,2,    25.00, -999.00,9,  -999.0,9,  -999.0,   1.6407,2, -999.00,9,  -999.0,9, -999.00,9, -999.00,9,    24.4282,2,    5.73,2,  -999.0,9,     -999.0,     -999.0,9,     -999.0,9,     -999.0,     -999.0,9,     -999.0,     -999.0,9,     -999.0,     -999.0,       5.73,2,       2.03,2,       2.03,2,     -999.0,9,     -999.0,9,     -999.0,9,     -999.0,9,     -999.0,9
33RO20161119,        P18,     126,          1,          9,      11108,2,20170103,       1650,   -29.0964,  -103.0075,       3366,  1231.0,   3.3734,  34.4964,2,  34.4955,2,    126.4,2,   126.4,2,    74.3,2,    38.2,2,    0.01,2,   2.668,2,   0.0121,2,   0.0055,2,   0.0000,2,  2273.8,2,  2342.2,2,   7.4992,2,    25.00, -999.00,9,  -999.0,9,  -999.0,    2.123,2, -999.00,9,  -999.0,9, -999.00,9, -999.00,9,     28.137,2,    6.16,2,  -999.0,9,     -999.0,     -999.0,9,     -999.0,9,     -999.0,     -999.0,9,     -999.0,     -999.0,9,     -999.0,     -999.0,       6.16,2,       2.16,2,       2.16,2,     -999.0,9,     -999.0,9,     -999.0,9,     -999.0,9,     -999.0,9
33RO20161119,        P18,     126,          1,         10,      11109,2,20170103,       1650,   -29.0964,  -103.0075,       3366,  1070.1,   3.7408,  34.4188,2,  34.4168,2,    140.9,2,   140.0,6,    56.3,2,    37.2,2,    0.01,2,   2.579,2,   0.0991,2,   0.0515,2,   0.0000,2,  2250.4,2,  2320.5,6,   7.5118,2,    25.00, -999.00,9,  -999.0,9,  -999.0,   2.0447,2, -999.00,9,  -999.0,9, -999.00,9, -999.00,9,    28.1997,2,    6.12,2,  -999.0,9,     -999.0,     -999.0,9,     -999.0,9,     -999.0,     -999.0,9,     -999.0,     -999.0,9,     -999.0,     -999.0,       6.12,2,       2.23,2,       2.23,2,     -999.0,9,     -999.0,9,     -999.0,9,     -999.0,9,     -999.0,9
33RO20161119,        P18,     126,          1,         11,      11110,2,20170103,       1650,   -29.0964,  -103.0075,       3366,   959.6,   4.0763,  34.3528,2,  34.3503,2,    165.4,2,   164.5,2,    41.2,2,    35.1,2,    0.01,2,   2.417,2,   0.4408,2,   0.2219,2,   0.0700,2,  2223.5,2,  2303.3,2,   7.5469,2,    25.00, -999.00,9,  -999.0,9,  -999.0,   1.8642,2, -999.00,9,  -999.0,9, -999.00,9, -999.00,9,    24.9807,2,    6.04,2,  -999.0,9,     -999.0,     -999.0,9,     -999.0,9,     -999.0,     -999.0,9,     -999.0,     -999.0,9,     -999.0,     -999.0,       6.04,2,       2.28,2,       2.28,2,     -999.0,9,     -999.0,9,     -999.0,9,     -999.0,9,     -999.0,9
33RO20161119,        P18,     126,          1,         12,      11111,2,20170103,       1650,   -29.0964,  -103.0075,       3366,   850.1,   4.6010,  34.3047,2,  34.3032,2,    187.7,2,   187.3,2,    28.2,2,    32.6,2,    0.00,2,   2.241,2,   1.2290,2,   0.5953,2,   0.1747,2,  2196.9,2,  2290.1,2,   7.5829,2,    25.00, -999.00,9,  -999.0,9,  -999.0,   1.9739,2, -999.00,9,  -999.0,9, -999.00,9, -999.00,9,    23.1761,2,    6.03,2,  -999.0,9,     -999.0,     -999.0,9,     -999.0,9,     -999.0,     -999.0,9,     -999.0,     -999.0,9,     -999.0,     -999.0,       6.03,2,       2.48,2,       2.48,2,     -999.0,9,     -999.0,9,     -999.0,9,     -999.0,9,     -999.0,9
33RO20161119,        P18,     126,          1,         13,      11112,2,20170103,       1650,   -29.0964,  -103.0075,       3366,   750.7,   5.1418,  34.2898,2,  34.2877,2,    196.6,2,   195.9,2,    20.3,2,    30.9,2,    0.01,2,   2.134,2,   2.0367,2,   1.0019,2,   0.3346,2,  2184.8,2,  2284.9,2,   7.6004,2,    25.00, -999.00,9,  -999.0,9,  -999.0,   1.3504,2, -999.00,9,  -999.0,9, -999.00,9, -999.00,9,    22.9068,2,    6.29,2,  -999.0,9,     -999.0,     -999.0,9,     -999.0,9,     -999.0,     -999.0,9,     -999.0,     -999.0,9,     -999.0,     -999.0,       6.29,2,       2.75,2,       2.75,2,     -999.0,9,     -999.0,9,     -999.0,9,     -999.0,9,     -999.0,9
33RO20161119,        P18,     126,          1,         14,      11113,2,20170103,       1650,   -29.0964,  -103.0075,       3366,   646.2,   5.6293,  34.2715,2,  34.2711,2,    225.5,2,   223.4,6,    12.5,2,    27.3,2,    0.01,2,   1.882,2,   3.2671,2,   1.6317,2,   0.6881,2,  2161.7,2,  2277.2,2,   7.6476,2,    25.00, -999.00,9,  -999.0,9,  -999.0,   0.7892,2, -999.00,9,  -999.0,9, -999.00,9, -999.00,9,    19.1474,2,    6.17,2,  -999.0,9,     -999.0,     -999.0,9,     -999.0,9,     -999.0,     -999.0,9,     -999.0,     -999.0,9,     -999.0,     -999.0,       6.17,2,       3.03,2,       3.03,2,     -999.0,9,     -999.0,9,     -999.0,9,     -999.0,9,     -999.0,9
33RO20161119,        P18,     126,          1,         15,      11114,2,20170103,       1650,   -29.0964,  -103.0075,       3366,   555.2,   6.1974,  34.2965,2,  34.2978,2,    215.7,2,   217.8,2,    10.7,2,    26.4,2,    0.01,2,   1.836,2,   3.4996,2,   1.7996,2,   0.8629,2,  2162.0,2,  2276.7,2,   7.6436,2,    25.00, -999.00,9,  -999.0,9,  -999.0,   0.6644,2, -999.00,9,  -999.0,9, -999.00,9, -999.00,9,    21.5174,2,    6.28,2,  -999.0,9,     -999.0,     -999.0,9,     -999.0,9,     -999.0,     -999.0,9,     -999.0,     -999.0,9,     -999.0,     -999.0,       6.28,2,       3.46,2,       3.46,2,     -999.0,9,     -999.0,9,     -999.0,9,     -999.0,9,     -999.0,9
33RO20161119,        P18,     126,          1,         16,      11115,2,20170103,       1650,   -29.0964,  -103.0075,       3366,   464.3,   6.8836,  34.3125,2,  34.3107,2,    193.7,2,   183.0,2,     9.9,2,    26.2,2,    0.01,2,   1.874,2,   3.4770,6,   1.8206,6,   1.0547,6,  2171.0,6,  2273.8,2,   7.6188,2,    25.00, -999.00,9,  -999.0,9,  -999.0,   1.3017,2, -999.00,9,  -999.0,9, -999.00,9, -999.00,9,    26.2787,2,    6.68,2,  -999.0,9,     -999.0,     -999.0,9,     -999.0,9,     -999.0,     -999.0,9,     -999.0,     -999.0,9,     -999.0,     -999.0,       6.68,2,     -999.0,9,     -999.0,9,     -999.0,9,     -999.0,9,     -999.0,9,     -999.0,9,     -999.0,9
33RO20161119,        P18,     126,          1,         17,      11116,2,20170103,       1650,   -29.0964,  -103.0075,       3366,   379.6,   8.1304,  34.2912,2,  34.2909,2,    192.8,2,   193.7,2,     7.1,2,    23.1,2,    0.01,2,   1.709,2,   3.4394,2,   1.8627,2,   1.2367,2,  2158.2,2,  2269.4,2,   7.6395,2,    25.00, -999.00,9,  -999.0,9,  -999.0,   1.8081,2, -999.00,9,  -999.0,9, -999.00,9, -999.00,9,    27.1086,2,    7.34,2,  -999.0,9,     -999.0,     -999.0,9,     -999.0,9,     -999.0,     -999.0,9,     -999.0,     -999.0,9,     -999.0,     -999.0,       7.34,2,     -999.0,9,     -999.0,9,     -999.0,9,     -999.0,9,     -999.0,9,     -999.0,9,     -999.0,9
33RO20161119,        P18,     126,          1,         18,      11117,2,20170103,       1650,   -29.0964,  -103.0075,       3366,   294.7,  10.8868,  34.3632,2,  34.3657,2,    216.6,2,   215.3,2,     1.8,2,    13.8,2,    0.01,2,   1.098,2,   3.2973,2,   1.8802,2,   1.5466,2,  2112.8,2,  2269.0,2,   7.7637,2,    25.00, -999.00,9,  -999.0,9,  -999.0,   1.9666,2, -999.00,9,  -999.0,9, -999.00,9, -999.00,9,    18.4808,2,    8.69,2,  -999.0,9,     -999.0,     -999.0,9,     -999.0,9,     -999.0,     -999.0,9,     -999.0,     -999.0,9,     -999.0,     -999.0,       8.64,2,       4.74,2,        4.6,2,     -999.0,9,     -999.0,9,     -999.0,9,     -999.0,9,     -999.0,9
33RO20161119,        P18,     126,          1,         19,      11083,2,20170103,       1650,   -29.0964,  -103.0075,       3366,   224.8,  13.7005,  34.5932,2,  34.5942,2,    211.6,2,   211.5,2,     0.7,2,     7.4,2,    0.02,2,   0.706,2,   2.8112,2,   1.6825,2,   1.6255,2,  2089.3,2,  2279.6,2,   7.8329,2,    25.00, -999.00,9,  -999.0,9,  -999.0,   1.8848,2, -999.00,9,  -999.0,9, -999.00,9, -999.00,9,    12.3491,2,    10.1,2,  -999.0,9,     -999.0,     -999.0,9,     -999.0,9,     -999.0,     -999.0,9,     -999.0,     -999.0,9,     -999.0,     -999.0,       9.15,2,       4.56,2,       4.96,2,     -999.0,9,     -999.0,9,     -999.0,9,     -999.0,9,     -999.0,9
33RO20161119,        P18,     126,          1,         20,      11118,2,20170103,       1650,   -29.0964,  -103.0075,       3366,   166.0,  17.2640,  35.0473,2,  35.0494,2,    226.3,2,   225.0,2,     0.3,2,     0.2,2,    0.03,2,   0.280,2,   2.3433,2,   1.4320,2,   1.7326,2,  2065.2,2,  2308.8,2,   7.9367,2,    25.00, -999.00,9,  -999.0,9,  -999.0,   0.0461,2, -999.00,9,  -999.0,9, -999.00,9, -999.00,9,     8.6397,2, -999.00,9,  -999.0,9,     -999.0,     -999.0,9,     -999.0,9,     -999.0,     -999.0,9,     -999.0,     -999.0,9,     -999.0,     -999.0,     -999.0,9,     -999.0,9,     -999.0,9,     -999.0,9,     -999.0,9,     -999.0,9,     -999.0,9,     -999.0,9
33RO20161119,        P18,     126,          1,         21,      11119,2,20170103,       1650,   -29.0964,  -103.0075,       3366,   110.5,  18.3623,  35.1812,2,-999.0000,9,    235.2,2,   235.6,2,     0.3,2,     0.0,2,    0.01,2,   0.188,2,   2.2517,2,   1.3649,2,   1.7032,2,  2051.2,2,  2314.4,2,   7.9700,2,    25.00, -999.00,9,  -999.0,9,  -999.0,   0.0289,2, -999.00,9,  -999.0,9, -999.00,9, -999.00,9,     7.9886,2, -999.00,9,  -999.0,9,     -999.0,     -999.0,9,     -999.0,9,     -999.0,     -999.0,9,     -999.0,     -999.0,9,     -999.0,     -999.0,     -999.0,9,     -999.0,9,     -999.0,9,     -999.0,9,     -999.0,9,     -999.0,9,     -999.0,9,     -999.0,9
33RO20161119,        P18,     126,          1,         22,      11120,2,20170103,       1650,   -29.0964,  -103.0075,       3366,    61.1,  19.7727,  35.3278,2,  35.3341,2,    235.8,2,   235.5,2,     0.3,2,     0.0,2,    0.00,2,   0.176,2,   2.1515,2,   1.3296,2,   1.7342,2,  2054.4,2,  2324.1,6,   7.9809,2,    25.00, -999.00,9,  -999.0,9,  -999.0,   0.0317,2, -999.00,9,  -999.0,9, -999.00,9, -999.00,9,     7.7478,2, -999.00,9,  -999.0,9,     -999.0,     -999.0,9,     -999.0,9,     -999.0,     -999.0,9,     -999.0,     -999.0,9,     -999.0,     -999.0,     -999.0,9,     -999.0,9,     -999.0,9,     -999.0,9,     -999.0,9,     -999.0,9,     -999.0,9,     -999.0,9
33RO20161119,        P18,     126,          1,         23,      11121,2,20170103,       1650,   -29.0964,  -103.0075,       3366,    25.5,  22.1430,  35.3338,2,  35.3331,2,    218.8,2,   220.5,2,     0.3,2,     0.0,2,    0.00,2,   0.179,2,   1.9178,2,   1.1912,2,   1.5563,2,  2054.6,2,  2324.6,2,   7.9784,6,    25.00, -999.00,9,  -999.0,9,  -999.0,   0.3587,2, -999.00,9,  -999.0,9, -999.00,9, -999.00,9,     6.9733,2, -999.00,9,  -999.0,9,     -999.0,     -999.0,9,     -999.0,9,     -999.0,     -999.0,9,     -999.0,     -999.0,9,     -999.0,     -999.0,     -999.0,9,     -999.0,9,     -999.0,9,     -999.0,9,     -999.0,9,     -999.0,9,     -999.0,9,     -999.0,9
33RO20161119,        P18,     126,          1,         24,      11122,2,20170103,       1650,   -29.0964,  -103.0075,       3366,     2.8,  22.7435,  35.3441,2,  35.3442,2,    217.6,2,   219.2,2,     0.3,2,     0.0,2,    0.00,2,   0.166,2,   1.8856,2,   1.1809,2,   1.5897,2,  2056.3,6,  2325.3,2,   7.9812,2,    25.00, -999.00,9,  -999.0,9,  -999.0,   1.1933,2, -999.00,9,  -999.0,9, -999.00,9, -999.00,9,     7.0303,2, -999.00,9,  -999.0,9,     -999.0,     -999.0,9,     -999.0,9,     -999.0,     -999.0,9,     -999.0,     -999.0,9,     -999.0,     -999.0,     -999.0,9,     -999.0,9,     -999.0,9,     -999.0,9,     -999.0,9,     -999.0,9,     -999.0,9,     -999.0,9