BOTTLE,20230606CCHSIOCBG
EXPOCODE,SECT_ID,STNNBR,CASTNO,SAMPNO,BTLNBR,BTLNBR_FLAG_W,DATE,TIME,LATITUDE,LONGITUDE,DEPTH,CTDPRS,CTDTMP,CTDSAL,CTDSAL_FLAG_W,SALNTY,SALNTY_FLAG_W,CTDOXY,CTDOXY_FLAG_W,OXYGEN,OXYGEN_FLAG_W,SILCAT,SILCAT_FLAG_W,NITRAT,NITRAT_FLAG_W,NITRIT,NITRIT_FLAG_W,PHSPHT,PHSPHT_FLAG_W,CFC-11,CFC-11_FLAG_W,CFC-12,CFC-12_FLAG_W,SF6,SF6_FLAG_W,TCARBN,TCARBN_FLAG_W,ALKALI,ALKALI_FLAG_W,PH_SWS,PH_SWS_FLAG_W,PH_TMP,DELC13,DELC13_FLAG_W,DELC14,DELC14_FLAG_W,C14ERR,CCL4,CCL4_FLAG_W,POC,POC_FLAG_W,DOC,DOC_FLAG_W,TDN,TDN_FLAG_W,PON,PON_FLAG_W,N2O,N2O_FLAG_W,D15N_NO3,D15N_NO3_FLAG_W,14C-DOC,14C-DOC_FLAG_W,14C-DOCERR,13C-DOC,13C-DOC_FLAG_W,N2/ARGON_UNSTRIPPED,N2/ARGON_UNSTRIPPED_FLAG_W,N2/ARGON_UNSTRIPPED_ERROR,N2/ARGON,N2/ARGON_FLAG_W,N2/ARGON_ERROR,D15N_N2,D15N_N2_FLAG_W,D15N_N2_ERROR,D15N_NO3_ERROR,D15N_NO2+NO3,D15N_NO2+NO3_FLAG_W,D18O_NO2+NO3,D18O_NO2+NO3_FLAG_W,D18O_NO3,D18O_NO3_FLAG_W,TDP,TDP_FLAG_W,N2O_ALT_1,N2O_ALT_1_FLAG_W,D15N_N2O,D15N_N2O_FLAG_W,D18O_N2O,D18O_N2O_FLAG_W,D15N_ALPHA_N2O,D15N_ALPHA_N2O_FLAG_W
,,,,,,,,,,,METERS,DBAR,ITS-90,PSS-78,,PSS-78,,UMOL/KG,,UMOL/KG,,UMOL/KG,,UMOL/KG,,UMOL/KG,,UMOL/KG,,PMOL/KG,,PMOL/KG,,FMOL/KG,,UMOL/KG,,UMOL/KG,,,,DEG C,/MILLE,,/MILLE,,/MILLE,PMOL/KG,,UG/KG,,UMOL/KG,,UMOL/KG,,UG/KG,,NMOL/KG,,/MILLE,,/MILLE,,/MILLE,/MILLE,,,,,,,,/MILLE,,/MILLE,/MILLE,/MILLE,,/MILLE,,/MILLE,,UMOL/KG,,NMOL/L,,/MILLE,,/MILLE,,/MILLE,
33RO20161119,        P18,     162,          1,          1,      11010,2,20170113,       0118,   -47.0003,  -102.9995,       4059,  4135.6,   0.9269,  34.7098,2,  34.7140,4,    201.6,2,   208.2,3,   127.2,2,    33.1,2,    0.01,2,   2.271,2,   0.0123,2,   0.0062,2,   0.0000,2,  2278.2,6,  2379.2,2,   7.6099,6,    25.00, -999.00,9,  -999.0,9,  -999.0,   0.0717,2, -999.00,9,  -999.0,9, -999.00,9, -999.00,9,    18.8153,2, -999.00,9,  -999.0,9,     -999.0,     -999.0,9,     -999.0,9,     -999.0,     -999.0,9,     -999.0,     -999.0,9,     -999.0,     -999.0,     -999.0,9,     -999.0,9,     -999.0,9,     -999.0,9,     -999.0,9,     -999.0,9,     -999.0,9,     -999.0,9
33RO20161119,        P18,     162,          1,          2,      11101,2,20170113,       0118,   -47.0003,  -102.9995,       4059,  3768.7,   1.1158,  34.7111,2,  34.7101,2,    194.6,2,   194.4,2,   123.1,2,    33.2,2,    0.01,2,   2.286,2,   0.0114,2,   0.0056,2,   0.0000,2,  2276.4,2,  2381.7,6,   7.6061,2,    25.00, -999.00,9,  -999.0,9,  -999.0,   0.0913,2, -999.00,9,  -999.0,9, -999.00,9, -999.00,9,    19.0415,2, -999.00,9,  -999.0,9,     -999.0,     -999.0,9,     -999.0,9,     -999.0,     -999.0,9,     -999.0,     -999.0,9,     -999.0,     -999.0,     -999.0,9,     -999.0,9,     -999.0,9,     -999.0,9,     -999.0,9,     -999.0,9,     -999.0,9,     -999.0,9
33RO20161119,        P18,     162,          1,          3,      11102,2,20170113,       0118,   -47.0003,  -102.9995,       4059,  3400.6,   1.4525,  34.7131,2,  34.7113,2,    186.3,2,   186.2,6,   113.4,6,    33.1,6,    0.01,6,   2.275,6,   0.0214,6,   0.0113,6,   0.0137,6,  2276.6,2,  2377.2,2,   7.5972,2,    25.00, -999.00,9,  -999.0,9,  -999.0,   0.1917,2, -999.00,9,  -999.0,9, -999.00,9, -999.00,9,    19.3968,2, -999.00,9,  -999.0,9,     -999.0,     -999.0,9,     -999.0,9,     -999.0,     -999.0,9,     -999.0,     -999.0,9,     -999.0,     -999.0,     -999.0,9,     -999.0,9,     -999.0,9,     -999.0,9,     -999.0,9,     -999.0,9,     -999.0,9,     -999.0,9
33RO20161119,        P18,     162,          1,          4,      11103,2,20170113,       0118,   -47.0003,  -102.9995,       4059,  3076.0,   1.6031,  34.7123,2,  34.7137,2,    181.9,2,   181.3,2,   109.1,6,    33.1,6,    0.01,6,   2.287,6,   0.0359,2,   0.0158,2,   0.0000,2,  2275.1,2,  2373.1,2,   7.5898,2,    25.00, -999.00,9,  -999.0,9,  -999.0,   0.5846,2, -999.00,9,  -999.0,9, -999.00,9, -999.00,9,    20.1248,2, -999.00,9,  -999.0,9,     -999.0,     -999.0,9,     -999.0,9,     -999.0,     -999.0,9,     -999.0,     -999.0,9,     -999.0,     -999.0,     -999.0,9,     -999.0,9,     -999.0,9,     -999.0,9,     -999.0,9,     -999.0,9,     -999.0,9,     -999.0,9
33RO20161119,        P18,     162,          1,          5,      11104,2,20170113,       0118,   -47.0003,  -102.9995,       4059,  2776.3,   1.7283,  34.7068,2,  34.7066,2,    176.5,2,   176.3,2,   106.9,6,    33.4,6,    0.01,6,   2.308,6,   0.0371,2,   0.0164,2,   0.0000,2,  2276.3,2,  2373.3,2,   7.5878,2,    25.00, -999.00,9,  -999.0,9,  -999.0,   0.8539,2, -999.00,9,  -999.0,9, -999.00,9, -999.00,9,    20.4609,2, -999.00,9,  -999.0,9,     -999.0,     -999.0,9,     -999.0,9,     -999.0,     -999.0,9,     -999.0,     -999.0,9,     -999.0,     -999.0,     -999.0,9,     -999.0,9,     -999.0,9,     -999.0,9,     -999.0,9,     -999.0,9,     -999.0,9,     -999.0,9
33RO20161119,        P18,     162,          1,          6,      11105,2,20170113,       0118,   -47.0003,  -102.9995,       4059,  2459.9,   1.9454,  34.6987,2,  34.7134,4,    172.1,2,   173.2,2,   100.2,6,    33.4,6,    0.01,6,   2.299,6,   0.0568,2,   0.0268,2,   0.0000,2,  2275.5,2,  2369.6,2,   7.5795,6,    25.00, -999.00,9,  -999.0,9,  -999.0,   1.4536,2, -999.00,9,  -999.0,9, -999.00,9, -999.00,9,    20.5562,2, -999.00,9,  -999.0,9,     -999.0,     -999.0,9,     -999.0,9,     -999.0,     -999.0,9,     -999.0,     -999.0,9,     -999.0,     -999.0,     -999.0,9,     -999.0,9,     -999.0,9,     -999.0,9,     -999.0,9,     -999.0,9,     -999.0,9,     -999.0,9
33RO20161119,        P18,     162,          1,          7,      11106,2,20170113,       0118,   -47.0003,  -102.9995,       4059,  2161.1,   2.1836,  34.6744,2,  34.6895,4,    169.6,2,   169.3,2,    90.4,2,    33.6,2,    0.01,2,   2.333,2,   0.1184,2,   0.0551,2,   0.0364,2,  2267.5,2,  2358.6,2,   7.5679,2,    25.00, -999.00,9,  -999.0,9,  -999.0,   1.9943,2, -999.00,9,  -999.0,9, -999.00,9, -999.00,9,    21.4121,2, -999.00,9,  -999.0,9,     -999.0,     -999.0,9,     -999.0,9,     -999.0,     -999.0,9,     -999.0,     -999.0,9,     -999.0,     -999.0,     -999.0,9,     -999.0,9,     -999.0,9,     -999.0,9,     -999.0,9,     -999.0,9,     -999.0,9,     -999.0,9
33RO20161119,        P18,     162,          1,          8,      11107,2,20170113,       0118,   -47.0003,  -102.9995,       4059,  1850.6,   2.4262,  34.6140,2,  34.6185,3,    165.3,2,   164.8,2,    82.8,2,    34.4,2,    0.01,2,   2.398,2,   0.2109,2,   0.0999,2,   0.0424,2,  2263.8,2,  2345.7,2,   7.5564,2,    25.00, -999.00,9,  -999.0,9,  -999.0,   2.0895,2, -999.00,9,  -999.0,9, -999.00,9, -999.00,9,      22.37,2, -999.00,9,  -999.0,9,     -999.0,     -999.0,9,     -999.0,9,     -999.0,     -999.0,9,     -999.0,     -999.0,9,     -999.0,     -999.0,     -999.0,9,     -999.0,9,     -999.0,9,     -999.0,9,     -999.0,9,     -999.0,9,     -999.0,9,     -999.0,9
33RO20161119,        P18,     162,          1,          9,      11108,2,20170113,       0118,   -47.0003,  -102.9995,       4059,  1540.8,   2.7693,  34.5159,2,  34.5197,2,    164.3,2,   164.1,2,    71.0,2,    35.3,2,    0.01,2,   2.456,2,   0.4527,2,   0.2169,2,   0.0833,2,  2256.4,6,  2334.1,2,   7.5440,2,    25.00, -999.00,9,  -999.0,9,  -999.0,   2.5393,2, -999.00,9,  -999.0,9, -999.00,9, -999.00,9,    23.2218,2, -999.00,9,  -999.0,9,     -999.0,     -999.0,9,     -999.0,9,     -999.0,     -999.0,9,     -999.0,     -999.0,9,     -999.0,     -999.0,     -999.0,9,     -999.0,9,     -999.0,9,     -999.0,9,     -999.0,9,     -999.0,9,     -999.0,9,     -999.0,9
33RO20161119,        P18,     162,          1,         10,      11109,2,20170113,       0118,   -47.0003,  -102.9995,       4059,  1350.1,   3.0638,  34.4406,2,  34.4444,2,    172.1,2,   172.2,2,    59.7,2,    35.0,2,    0.01,2,   2.395,2,   0.7571,2,   0.3663,2,   0.1326,2,  2245.0,2,  2324.0,6,   7.5494,2,    25.00, -999.00,9,  -999.0,9,  -999.0,   2.9494,2, -999.00,9,  -999.0,9, -999.00,9, -999.00,9,    23.0326,2, -999.00,9,  -999.0,9,     -999.0,     -999.0,9,     -999.0,9,     -999.0,     -999.0,9,     -999.0,     -999.0,9,     -999.0,     -999.0,     -999.0,9,     -999.0,9,     -999.0,9,     -999.0,9,     -999.0,9,     -999.0,9,     -999.0,9,     -999.0,9
33RO20161119,        P18,     162,          1,         11,      11110,2,20170113,       0118,   -47.0003,  -102.9995,       4059,  1210.6,   3.3750,  34.3699,2,  34.3714,2,    191.1,2,   190.9,2,    47.6,2,    33.5,2,    0.01,2,   2.305,2,   1.5039,2,   0.7436,2,   0.3205,2,  2226.3,2,  2309.8,2,   7.5742,2,    25.00, -999.00,9,  -999.0,9,  -999.0,   3.1962,2, -999.00,9,  -999.0,9, -999.00,9, -999.00,9,    21.2381,2, -999.00,9,  -999.0,9,     -999.0,     -999.0,9,     -999.0,9,     -999.0,     -999.0,9,     -999.0,     -999.0,9,     -999.0,     -999.0,     -999.0,9,     -999.0,9,     -999.0,9,     -999.0,9,     -999.0,9,     -999.0,9,     -999.0,9,     -999.0,9
33RO20161119,        P18,     162,          1,         12,      11111,2,20170113,       0118,   -47.0003,  -102.9995,       4059,  1070.8,   3.8504,  34.3202,2,  34.3217,2,    201.8,2,   202.1,2,    37.0,2,    32.1,2,    0.01,2,   2.206,2,   2.0366,2,   1.0205,2,   0.5188,2,  2206.9,2,  2300.1,2,   7.5920,2,    25.00, -999.00,9,  -999.0,9,  -999.0,   3.3157,2, -999.00,9,  -999.0,9, -999.00,9, -999.00,9,    20.0781,2, -999.00,9,  -999.0,9,     -999.0,     -999.0,9,     -999.0,9,     -999.0,     -999.0,9,     -999.0,     -999.0,9,     -999.0,     -999.0,     -999.0,9,     -999.0,9,     -999.0,9,     -999.0,9,     -999.0,9,     -999.0,9,     -999.0,9,     -999.0,9
33RO20161119,        P18,     162,          1,         13,      11112,2,20170113,       0118,   -47.0003,  -102.9995,       4059,   940.7,   4.4469,  34.2883,2,  34.2884,2,    212.6,2,   212.9,2,    27.5,2,    30.3,2,    0.01,2,   2.075,2,   2.5058,2,   1.2881,2,   0.7228,2,  2193.4,2,  2291.8,2,   7.6140,2,    25.00, -999.00,9,  -999.0,9,  -999.0,   3.5432,2, -999.00,9,  -999.0,9, -999.00,9, -999.00,9,    18.6745,2, -999.00,9,  -999.0,9,     -999.0,     -999.0,9,     -999.0,9,     -999.0,     -999.0,9,     -999.0,     -999.0,9,     -999.0,     -999.0,     -999.0,9,     -999.0,9,     -999.0,9,     -999.0,9,     -999.0,9,     -999.0,9,     -999.0,9,     -999.0,9
33RO20161119,        P18,     162,          1,         14,      11113,2,20170113,       0118,   -47.0003,  -102.9995,       4059,   811.1,   5.0592,  34.2651,2,  34.2654,2,    227.2,2,   227.2,2,    19.1,2,    28.1,2,    0.01,2,   1.939,2,   3.0700,2,   1.6045,2,   1.0151,2,  2175.9,2,  2284.8,2,   7.6453,2,    25.00, -999.00,9,  -999.0,9,  -999.0,   3.4272,2, -999.00,9,  -999.0,9, -999.00,9, -999.00,9,    17.2505,2, -999.00,9,  -999.0,9,     -999.0,     -999.0,9,     -999.0,9,     -999.0,     -999.0,9,     -999.0,     -999.0,9,     -999.0,     -999.0,     -999.0,9,     -999.0,9,     -999.0,9,     -999.0,9,     -999.0,9,     -999.0,9,     -999.0,9,     -999.0,9
33RO20161119,        P18,     162,          1,         15,      11114,2,20170113,       0118,   -47.0003,  -102.9995,       4059,   690.7,   5.5359,  34.2515,2,  34.2570,2,    245.9,2,   245.9,2,    12.7,2,    25.7,2,    0.01,2,   1.774,2,   3.5871,2,   1.9306,2,   1.3806,2,  2159.4,2,  2281.9,2,   7.6780,2,    25.00, -999.00,9,  -999.0,9,  -999.0,   3.3873,2, -999.00,9,  -999.0,9, -999.00,9, -999.00,9,    15.3239,2, -999.00,9,  -999.0,9,     -999.0,     -999.0,9,     -999.0,9,     -999.0,     -999.0,9,     -999.0,     -999.0,9,     -999.0,     -999.0,     -999.0,9,     -999.0,9,     -999.0,9,     -999.0,9,     -999.0,9,     -999.0,9,     -999.0,9,     -999.0,9
33RO20161119,        P18,     162,          1,         16,      11115,2,20170113,       0118,   -47.0003,  -102.9995,       4059,   575.4,   5.8909,  34.2564,2,  34.2558,2,    261.5,2,   261.6,2,     9.0,2,    23.3,2,    0.01,2,   1.643,2,   3.9392,2,   2.1554,2,   1.7712,2,  2148.5,2,  2277.8,2,   7.6973,2,    25.00, -999.00,9,  -999.0,9,  -999.0,   3.9068,2, -999.00,9,  -999.0,9, -999.00,9, -999.00,9,    14.2864,2, -999.00,9,  -999.0,9,     -999.0,     -999.0,9,     -999.0,9,     -999.0,     -999.0,9,     -999.0,     -999.0,9,     -999.0,     -999.0,     -999.0,9,     -999.0,9,     -999.0,9,     -999.0,9,     -999.0,9,     -999.0,9,     -999.0,9,     -999.0,9
33RO20161119,        P18,     162,          1,         17,      11116,2,20170113,       0118,   -47.0003,  -102.9995,       4059,   470.2,   6.1869,  34.2728,2,  34.2760,2,    265.7,2,   266.4,2,     7.4,2,    22.3,2,    0.01,2,   1.574,2,   4.0421,2,   2.2301,2,   1.9135,2,  2143.2,2,  2275.2,2,   7.7106,2,    25.00, -999.00,9,  -999.0,9,  -999.0,   3.7826,2, -999.00,9,  -999.0,9, -999.00,9, -999.00,9,     14.013,2, -999.00,9,  -999.0,9,     -999.0,     -999.0,9,     -999.0,9,     -999.0,     -999.0,9,     -999.0,     -999.0,9,     -999.0,     -999.0,     -999.0,9,     -999.0,9,     -999.0,9,     -999.0,9,     -999.0,9,     -999.0,9,     -999.0,9,     -999.0,9
33RO20161119,        P18,     162,          1,         18,      11117,2,20170113,       0118,   -47.0003,  -102.9995,       4059,   364.9,   6.3814,  34.2785,2,  34.2787,2,    268.5,2,   269.4,2,     6.4,2,    21.3,2,    0.02,2,   1.508,2,   4.0796,2,   2.2699,2,   2.1329,2,  2139.0,2,  2275.5,2,   7.7196,2,    25.00, -999.00,9,  -999.0,9,  -999.0,   3.9298,2, -999.00,9,  -999.0,9, -999.00,9, -999.00,9,    14.3162,2, -999.00,9,  -999.0,9,     -999.0,     -999.0,9,     -999.0,9,     -999.0,     -999.0,9,     -999.0,     -999.0,9,     -999.0,     -999.0,     -999.0,9,     -999.0,9,     -999.0,9,     -999.0,9,     -999.0,9,     -999.0,9,     -999.0,9,     -999.0,9
33RO20161119,        P18,     162,          1,         19,      11083,2,20170113,       0118,   -47.0003,  -102.9995,       4059,   275.4,   6.5840,  34.2874,2,  34.2868,2,    268.2,2,   269.5,2,     5.8,2,    20.8,2,    0.02,2,   1.471,2,   4.0561,2,   2.2693,2,   2.2221,2,  2139.2,2,  2273.8,2,   7.7228,2,    25.00, -999.00,9,  -999.0,9,  -999.0,   3.8496,2, -999.00,9,  -999.0,9, -999.00,9, -999.00,9,    15.0323,2, -999.00,9,  -999.0,9,     -999.0,     -999.0,9,     -999.0,9,     -999.0,     -999.0,9,     -999.0,     -999.0,9,     -999.0,     -999.0,     -999.0,9,     -999.0,9,     -999.0,9,     -999.0,9,     -999.0,9,     -999.0,9,     -999.0,9,     -999.0,9
33RO20161119,        P18,     162,          1,         20,      11118,2,20170113,       0118,   -47.0003,  -102.9995,       4059,   195.4,   6.8152,  34.2738,2,  34.2815,2,    268.8,2,   268.9,6,     4.9,2,    20.1,2,    0.02,2,   1.436,2,   4.0786,2,   2.2885,2,   2.2906,2,  2135.5,2,  2271.4,2,   7.7224,2,    25.00, -999.00,9,  -999.0,9,  -999.0,    3.816,2, -999.00,9,  -999.0,9, -999.00,9, -999.00,9,    18.0559,2, -999.00,9,  -999.0,9,     -999.0,     -999.0,9,     -999.0,9,     -999.0,     -999.0,9,     -999.0,     -999.0,9,     -999.0,     -999.0,     -999.0,9,     -999.0,9,     -999.0,9,     -999.0,9,     -999.0,9,     -999.0,9,     -999.0,9,     -999.0,9
33RO20161119,        P18,     162,          1,         21,      11119,2,20170113,       0118,   -47.0003,  -102.9995,       4059,   125.4,   7.3976,  34.1571,2,  34.1597,2,    284.0,2,   283.9,2,     2.4,2,    16.3,2,    0.29,2,   1.253,2,   3.8853,2,   2.2188,2,   2.6177,2,  2113.8,2,  2267.2,2,   7.7681,2,    25.00, -999.00,9,  -999.0,9,  -999.0,   0.0654,2, -999.00,9,  -999.0,9, -999.00,9, -999.00,9,     12.828,2, -999.00,9,  -999.0,9,     -999.0,     -999.0,9,     -999.0,9,     -999.0,     -999.0,9,     -999.0,     -999.0,9,     -999.0,     -999.0,     -999.0,9,     -999.0,9,     -999.0,9,     -999.0,9,     -999.0,9,     -999.0,9,     -999.0,9,     -999.0,9
33RO20161119,        P18,     162,          1,         22,      11120,2,20170113,       0118,   -47.0003,  -102.9995,       4059,    60.4,   9.7043,  34.0882,2,  34.0924,2,    285.0,2,   285.1,2,     1.4,2,    14.5,2,    0.18,2,   1.142,2,   3.5803,6,   2.0548,6,   2.5110,6,  2096.4,2,  2265.7,6,   7.8093,2,    25.00, -999.00,9,  -999.0,9,  -999.0,   0.0602,2, -999.00,9,  -999.0,9, -999.00,9, -999.00,9,     10.871,2, -999.00,9,  -999.0,9,     -999.0,     -999.0,9,     -999.0,9,     -999.0,     -999.0,9,     -999.0,     -999.0,9,     -999.0,     -999.0,     -999.0,9,     -999.0,9,     -999.0,9,     -999.0,9,     -999.0,9,     -999.0,9,     -999.0,9,     -999.0,9
33RO20161119,        P18,     162,          1,         23,      11121,2,20170113,       0118,   -47.0003,  -102.9995,       4059,    25.6,  10.4446,  34.0904,2,  34.0897,2,    280.1,2,   280.4,2,     1.2,2,    14.3,2,    0.20,2,   1.130,2,   3.4863,2,   1.9999,2,   2.4604,2,  2091.2,6,  2267.2,2,   7.8125,2,    25.00, -999.00,9,  -999.0,9,  -999.0,   0.0734,2, -999.00,9,  -999.0,9, -999.00,9, -999.00,9,     10.624,2, -999.00,9,  -999.0,9,     -999.0,     -999.0,9,     -999.0,9,     -999.0,     -999.0,9,     -999.0,     -999.0,9,     -999.0,     -999.0,     -999.0,9,     -999.0,9,     -999.0,9,     -999.0,9,     -999.0,9,     -999.0,9,     -999.0,9,     -999.0,9
33RO20161119,        P18,     162,          1,         24,      11122,2,20170113,       0118,   -47.0003,  -102.9995,       4059,     3.1,  10.8973,  34.0959,2,  34.0961,2,    276.7,2,   278.7,2,     1.3,2,    14.5,2,    0.23,2,   1.122,2,   3.4578,2,   1.9937,2,   2.4279,2,  2092.5,2,  2265.4,2,   7.8105,2,    25.00, -999.00,9,  -999.0,9,  -999.0,   0.0462,2, -999.00,9,  -999.0,9, -999.00,9, -999.00,9,    10.6531,2, -999.00,9,  -999.0,9,     -999.0,     -999.0,9,     -999.0,9,     -999.0,     -999.0,9,     -999.0,     -999.0,9,     -999.0,     -999.0,     -999.0,9,     -999.0,9,     -999.0,9,     -999.0,9,     -999.0,9,     -999.0,9,     -999.0,9,     -999.0,9