BOTTLE,20230606CCHSIOCBG
EXPOCODE,SECT_ID,STNNBR,CASTNO,SAMPNO,BTLNBR,BTLNBR_FLAG_W,DATE,TIME,LATITUDE,LONGITUDE,DEPTH,CTDPRS,CTDTMP,CTDSAL,CTDSAL_FLAG_W,SALNTY,SALNTY_FLAG_W,CTDOXY,CTDOXY_FLAG_W,OXYGEN,OXYGEN_FLAG_W,SILCAT,SILCAT_FLAG_W,NITRAT,NITRAT_FLAG_W,NITRIT,NITRIT_FLAG_W,PHSPHT,PHSPHT_FLAG_W,CFC-11,CFC-11_FLAG_W,CFC-12,CFC-12_FLAG_W,SF6,SF6_FLAG_W,TCARBN,TCARBN_FLAG_W,ALKALI,ALKALI_FLAG_W,PH_SWS,PH_SWS_FLAG_W,PH_TMP,DELC13,DELC13_FLAG_W,DELC14,DELC14_FLAG_W,C14ERR,CCL4,CCL4_FLAG_W,POC,POC_FLAG_W,DOC,DOC_FLAG_W,TDN,TDN_FLAG_W,PON,PON_FLAG_W,N2O,N2O_FLAG_W,D15N_NO3,D15N_NO3_FLAG_W,14C-DOC,14C-DOC_FLAG_W,14C-DOCERR,13C-DOC,13C-DOC_FLAG_W,N2/ARGON_UNSTRIPPED,N2/ARGON_UNSTRIPPED_FLAG_W,N2/ARGON_UNSTRIPPED_ERROR,N2/ARGON,N2/ARGON_FLAG_W,N2/ARGON_ERROR,D15N_N2,D15N_N2_FLAG_W,D15N_N2_ERROR,D15N_NO3_ERROR,D15N_NO2+NO3,D15N_NO2+NO3_FLAG_W,D18O_NO2+NO3,D18O_NO2+NO3_FLAG_W,D18O_NO3,D18O_NO3_FLAG_W,TDP,TDP_FLAG_W,N2O_ALT_1,N2O_ALT_1_FLAG_W,D15N_N2O,D15N_N2O_FLAG_W,D18O_N2O,D18O_N2O_FLAG_W,D15N_ALPHA_N2O,D15N_ALPHA_N2O_FLAG_W
,,,,,,,,,,,METERS,DBAR,ITS-90,PSS-78,,PSS-78,,UMOL/KG,,UMOL/KG,,UMOL/KG,,UMOL/KG,,UMOL/KG,,UMOL/KG,,PMOL/KG,,PMOL/KG,,FMOL/KG,,UMOL/KG,,UMOL/KG,,,,DEG C,/MILLE,,/MILLE,,/MILLE,PMOL/KG,,UG/KG,,UMOL/KG,,UMOL/KG,,UG/KG,,NMOL/KG,,/MILLE,,/MILLE,,/MILLE,/MILLE,,,,,,,,/MILLE,,/MILLE,/MILLE,/MILLE,,/MILLE,,/MILLE,,UMOL/KG,,NMOL/L,,/MILLE,,/MILLE,,/MILLE,
33RO20161119,        P18,      17,          1,          1,      11010,2,20161128,       0410,    16.0014,  -109.9998,       3295,  3328.0,   1.7024,  34.6757,2,  34.6736,2,    120.0,2,   121.8,2,   156.3,6,    38.1,6,    0.01,6,   2.632,6,-999.0000,9,-999.0000,9,-999.0000,9,  2353.4,6,  2437.5,2,   7.5433,2,    25.00, -999.00,9,  -999.0,9,  -999.0,-999.0000,9, -999.00,9,    37.9,2,   41.80,2, -999.00,9,     -999.0,9, -999.00,9,  -999.0,9,     -999.0,     -999.0,9,     -999.0,9,     -999.0,     -999.0,9,     -999.0,     -999.0,9,     -999.0,     -999.0,     -999.0,9,     -999.0,9,     -999.0,9,     -999.0,9,     -999.0,9,     -999.0,9,     -999.0,9,     -999.0,9
33RO20161119,        P18,      17,          1,          2,      11101,2,20161128,       0410,    16.0014,  -109.9998,       3295,  3000.8,   1.7204,  34.6729,2,  34.6714,2,    115.7,2,   122.5,3,   157.1,6,    38.4,6,    0.01,6,   2.664,6,-999.0000,9,-999.0000,9,-999.0000,9,  2356.7,2,  2432.3,2,   7.5189,2,    25.00, -999.00,9,  -999.0,9,  -999.0,-999.0000,9, -999.00,9,    38.0,2,   43.00,2, -999.00,9,     -999.0,9, -999.00,9,  -999.0,9,     -999.0,     -999.0,9,     -999.0,9,     -999.0,     -999.0,9,     -999.0,     -999.0,9,     -999.0,     -999.0,     -999.0,9,     -999.0,9,     -999.0,9,     -999.0,9,     -999.0,9,     -999.0,9,     -999.0,9,     -999.0,9
33RO20161119,        P18,      17,          1,          3,      11102,2,20161128,       0410,    16.0014,  -109.9998,       3295,  2713.0,   1.7536,  34.6690,2,  34.6667,2,    111.1,2,   115.1,3,   157.5,6,    38.7,6,    0.02,6,   2.675,6,-999.0000,9,-999.0000,9,-999.0000,9,  2361.0,2,  2431.0,6,   7.5129,2,    25.00, -999.00,9,  -999.0,9,  -999.0,-999.0000,9, -999.00,9,    38.3,2,   42.30,2, -999.00,9,     -999.0,9, -999.00,9,  -999.0,9,     -999.0,     -999.0,9,     -999.0,9,     -999.0,     -999.0,9,     -999.0,     -999.0,9,     -999.0,     -999.0,     -999.0,9,     -999.0,9,     -999.0,9,     -999.0,9,     -999.0,9,     -999.0,9,     -999.0,9,     -999.0,9
33RO20161119,        P18,      17,          1,          4,      11103,2,20161128,       0410,    16.0014,  -109.9998,       3295,  2459.1,   1.8650,  34.6631,2,  34.6606,2,    103.9,2,   104.3,2,   155.0,6,    39.1,6,    0.03,6,   2.717,6,-999.0000,9,-999.0000,9,-999.0000,9,  2361.9,2,  2426.9,2,   7.4993,2,    25.00, -999.00,9,  -999.0,9,  -999.0,-999.0000,9, -999.00,9,    40.2,2,   45.30,2, -999.00,9,     -999.0,9, -999.00,9,  -999.0,9,     -999.0,     -999.0,9,     -999.0,9,     -999.0,     -999.0,9,     -999.0,     -999.0,9,     -999.0,     -999.0,     -999.0,9,     -999.0,9,     -999.0,9,     -999.0,9,     -999.0,9,     -999.0,9,     -999.0,9,     -999.0,9
33RO20161119,        P18,      17,          1,          5,      11104,2,20161128,       0410,    16.0014,  -109.9998,       3295,  2196.2,   2.0670,  34.6521,2,  34.6490,2,     93.2,2,    93.5,2,   150.5,2,    40.0,2,    0.01,2,   2.795,2,-999.0000,9,-999.0000,9,-999.0000,9,  2365.7,2,  2426.6,2,   7.4754,2,    25.00, -999.00,9,  -999.0,9,  -999.0,-999.0000,9, -999.00,9,    41.3,2,   44.20,2, -999.00,9,     -999.0,9, -999.00,9,  -999.0,9,     -999.0,     -999.0,9,     -999.0,9,     -999.0,     -999.0,9,     -999.0,     -999.0,9,     -999.0,     -999.0,     -999.0,9,     -999.0,9,     -999.0,9,     -999.0,9,     -999.0,9,     -999.0,9,     -999.0,9,     -999.0,9
33RO20161119,        P18,      17,          1,          6,      11105,2,20161128,       0410,    16.0014,  -109.9998,       3295,  1954.6,   2.3375,  34.6377,2,  34.6343,2,     80.9,2,    80.7,2,   145.0,2,    40.9,2,    0.03,2,   2.866,2,-999.0000,9,-999.0000,9,-999.0000,9,  2365.1,2,  2414.4,2,   7.4546,2,    25.00, -999.00,9,  -999.0,9,  -999.0,-999.0000,9, -999.00,9,    38.3,2,   46.10,2, -999.00,9,     -999.0,9, -999.00,9,  -999.0,9,     -999.0,     -999.0,9,     -999.0,9,     -999.0,     -999.0,9,     -999.0,     -999.0,9,     -999.0,     -999.0,     -999.0,9,     -999.0,9,     -999.0,9,     -999.0,9,     -999.0,9,     -999.0,9,     -999.0,9,     -999.0,9
33RO20161119,        P18,      17,          1,          7,      11106,2,20161128,       0410,    16.0014,  -109.9998,       3295,  1695.3,   2.7196,  34.6193,2,  34.6164,2,     63.9,2,    64.5,2,   136.9,2,    42.1,2,    0.01,2,   2.987,2,-999.0000,9,-999.0000,9,-999.0000,9,  2366.4,2,  2406.0,2,   7.4166,2,    25.00, -999.00,9,  -999.0,9,  -999.0,-999.0000,9, -999.00,9,    38.7,2,   48.20,2, -999.00,9,     -999.0,9, -999.00,9,  -999.0,9,     -999.0,     -999.0,9,     -999.0,9,     -999.0,     -999.0,9,     -999.0,     -999.0,9,     -999.0,     -999.0,     -999.0,9,     -999.0,9,     -999.0,9,     -999.0,9,     -999.0,9,     -999.0,9,     -999.0,9,     -999.0,9
33RO20161119,        P18,      17,          1,          8,      11107,2,20161128,       0410,    16.0014,  -109.9998,       3295,  1434.5,   3.2658,  34.5921,2,  34.5889,2,     44.6,2,    44.6,2,   126.0,2,    43.5,2,    0.02,2,   3.126,2,-999.0000,9,-999.0000,9,-999.0000,9,  2366.6,2,  2390.6,2,   7.3768,2,    25.00, -999.00,9,  -999.0,9,  -999.0,-999.0000,9, -999.00,9,    37.7,2,   49.50,2, -999.00,9,     -999.0,9, -999.00,9,  -999.0,9,     -999.0,     -999.0,9,     -999.0,9,     -999.0,     -999.0,9,     -999.0,     -999.0,9,     -999.0,     -999.0,     -999.0,9,     -999.0,9,     -999.0,9,     -999.0,9,     -999.0,9,     -999.0,9,     -999.0,9,     -999.0,9
33RO20161119,        P18,      17,          1,          9,      11108,2,20161128,       0410,    16.0014,  -109.9998,       3295,  1215.9,   3.7836,  34.5715,2,  34.5680,2,     28.4,2,    28.9,2,   116.0,2,    44.5,2,    0.01,2,   3.224,2,-999.0000,9,-999.0000,9,-999.0000,9,  2363.6,2,  2379.9,2,   7.3488,2,    25.00, -999.00,9,  -999.0,9,  -999.0,-999.0000,9, -999.00,9,    39.2,2,   51.00,2, -999.00,9,     -999.0,9, -999.00,9,  -999.0,9,     -999.0,     -999.0,9,     -999.0,9,     -999.0,     -999.0,9,     -999.0,     -999.0,9,     -999.0,     -999.0,     -999.0,9,     -999.0,9,     -999.0,9,     -999.0,9,     -999.0,9,     -999.0,9,     -999.0,9,     -999.0,9
33RO20161119,        P18,      17,          1,         10,      11109,2,20161128,       0410,    16.0014,  -109.9998,       3295,  1069.9,   4.2635,  34.5568,2,  34.5529,2,     17.1,2,    17.4,2,   106.2,2,    44.9,2,    0.02,2,   3.304,2,-999.0000,9,-999.0000,9,-999.0000,9,  2358.3,2,  2369.2,2,   7.3260,2,    25.00, -999.00,9,  -999.0,9,  -999.0,-999.0000,9, -999.00,9,    40.1,2,   52.60,2, -999.00,9,     -999.0,9, -999.00,9,  -999.0,9,     -999.0,     -999.0,9,     -999.0,9,     -999.0,     -999.0,9,     -999.0,     -999.0,9,     -999.0,     -999.0,     -999.0,9,     -999.0,9,     -999.0,9,     -999.0,9,     -999.0,9,     -999.0,9,     -999.0,9,     -999.0,9
33RO20161119,        P18,      17,          1,         11,      11110,2,20161128,       0410,    16.0014,  -109.9998,       3295,   955.1,   4.7531,  34.5445,2,  34.5417,2,      7.7,2,     7.4,2,    98.2,2,    44.8,2,    0.03,2,   3.339,2,-999.0000,9,-999.0000,9,-999.0000,9,  2357.3,2,  2360.9,2,   7.3119,2,    25.00, -999.00,9,  -999.0,9,  -999.0,-999.0000,9, -999.00,9,    38.0,2,   52.70,2, -999.00,9,     -999.0,9, -999.00,9,  -999.0,9,     -999.0,     -999.0,9,     -999.0,9,     -999.0,     -999.0,9,     -999.0,     -999.0,9,     -999.0,     -999.0,     -999.0,9,     -999.0,9,     -999.0,9,     -999.0,9,     -999.0,9,     -999.0,9,     -999.0,9,     -999.0,9
33RO20161119,        P18,      17,          1,         12,      11111,2,20161128,       0410,    16.0014,  -109.9998,       3295,   845.9,   5.2686,  34.5364,2,  34.5371,2,      3.9,2,     4.0,2,    89.6,2,    43.8,2,    0.03,2,   3.300,2,-999.0000,9,-999.0000,9,-999.0000,9,  2347.4,6,  2351.9,2,   7.3072,6,    25.00, -999.00,9,  -999.0,9,  -999.0,-999.0000,9, -999.00,9,    39.4,2,   50.80,2, -999.00,9,     -999.0,9, -999.00,9,  -999.0,9,     -999.0,     -999.0,9,     -999.0,9,     -999.0,     -999.0,9,     -999.0,     -999.0,9,     -999.0,     -999.0,     -999.0,9,     -999.0,9,     -999.0,9,     -999.0,9,     -999.0,9,     -999.0,9,     -999.0,9,     -999.0,9
33RO20161119,        P18,      17,          1,         13,      11112,2,20161128,       0410,    16.0014,  -109.9998,       3295,   735.8,   5.9653,  34.5338,2,  34.5310,2,      2.6,2,     2.5,6,    79.2,2,    41.7,2,    0.01,2,   3.240,2,-999.0000,9,-999.0000,9,-999.0000,9,  2337.3,2,  2342.6,6,   7.3139,2,    25.00, -999.00,9,  -999.0,9,  -999.0,-999.0000,9, -999.00,9,    38.9,2,   47.70,2, -999.00,9,     -999.0,9, -999.00,9,  -999.0,9,     -999.0,     -999.0,9,     -999.0,9,     -999.0,     -999.0,9,     -999.0,     -999.0,9,     -999.0,     -999.0,     -999.0,9,     -999.0,9,     -999.0,9,     -999.0,9,     -999.0,9,     -999.0,9,     -999.0,9,     -999.0,9
33RO20161119,        P18,      17,          1,         14,      11113,2,20161128,       0410,    16.0014,  -109.9998,       3295,   635.3,   6.7988,  34.5438,2,  34.5401,2,      2.4,2,     1.6,2,    70.2,2,    37.8,2,    0.03,2,   3.194,2,-999.0000,9,-999.0000,9,-999.0000,9,  2327.0,2,  2333.8,2,   7.3228,2,    25.00, -999.00,9,  -999.0,9,  -999.0,-999.0000,9, -999.00,9,    39.2,2,   44.40,2, -999.00,9,     -999.0,9, -999.00,9,  -999.0,9,     -999.0,     -999.0,9,     -999.0,9,     -999.0,     -999.0,9,     -999.0,     -999.0,9,     -999.0,     -999.0,     -999.0,9,     -999.0,9,     -999.0,9,     -999.0,9,     -999.0,9,     -999.0,9,     -999.0,9,     -999.0,9
33RO20161119,        P18,      17,          1,         15,      11114,2,20161128,       0410,    16.0014,  -109.9998,       3295,   540.8,   7.7614,  34.5670,2,  34.5635,2,      2.3,2,     1.6,2,    60.4,2,    33.3,2,    0.19,2,   3.077,2,-999.0000,9,-999.0000,9,-999.0000,9,  2316.0,2,  2326.8,2,   7.3340,2,    25.00, -999.00,9,  -999.0,9,  -999.0,-999.0000,9, -999.00,9,    39.8,2,   37.80,2, -999.00,9,     -999.0,9, -999.00,9,  -999.0,9,     -999.0,     -999.0,9,     -999.0,9,     -999.0,     -999.0,9,     -999.0,     -999.0,9,     -999.0,     -999.0,     -999.0,9,     -999.0,9,     -999.0,9,     -999.0,9,     -999.0,9,     -999.0,9,     -999.0,9,     -999.0,9
33RO20161119,        P18,      17,          1,         16,      11115,2,20161128,       0410,    16.0014,  -109.9998,       3295,   445.1,   8.6393,  34.5868,2,  34.5856,2,      2.3,2,     1.8,6,    50.5,2,    31.5,2,    0.04,2,   2.958,2,-999.0000,9,-999.0000,9,-999.0000,9,  2302.5,2,  2315.1,2,   7.3435,2,    25.00, -999.00,9,  -999.0,9,  -999.0,-999.0000,9, -999.00,9,    39.2,2,   37.30,2, -999.00,9,     -999.0,9, -999.00,9,  -999.0,9,     -999.0,     -999.0,9,     -999.0,9,     -999.0,     -999.0,9,     -999.0,     -999.0,9,     -999.0,     -999.0,     -999.0,9,     -999.0,9,     -999.0,9,     -999.0,9,     -999.0,9,     -999.0,9,     -999.0,9,     -999.0,9
33RO20161119,        P18,      17,          1,         17,      11116,2,20161128,       0410,    16.0014,  -109.9998,       3295,   360.6,   9.8156,  34.6413,2,  34.6393,2,      2.2,2,     1.7,2,    41.2,2,    27.3,2,    0.49,2,   2.801,2,-999.0000,9,-999.0000,9,-999.0000,9,  2291.3,2,  2308.8,2,   7.3574,2,    25.00, -999.00,9,  -999.0,9,  -999.0,-999.0000,9, -999.00,9,    42.3,2,   33.00,2, -999.00,9,     -999.0,9, -999.00,9,  -999.0,9,     -999.0,     -999.0,9,     -999.0,9,     -999.0,     -999.0,9,     -999.0,     -999.0,9,     -999.0,     -999.0,     -999.0,9,     -999.0,9,     -999.0,9,     -999.0,9,     -999.0,9,     -999.0,9,     -999.0,9,     -999.0,9
33RO20161119,        P18,      17,          1,         18,      11117,2,20161128,       0410,    16.0014,  -109.9998,       3295,   280.5,  10.8311,  34.7032,2,  34.7016,2,      2.3,2,     2.0,2,    35.2,2,    23.3,2,    1.28,2,   2.688,2,-999.0000,9,-999.0000,9,-999.0000,9,  2285.5,2,  2309.6,2,   7.3741,2,    25.00, -999.00,9,  -999.0,9,  -999.0,-999.0000,9, -999.00,9,    45.8,2,   31.20,2, -999.00,9,     -999.0,9, -999.00,9,  -999.0,9,     -999.0,     -999.0,9,     -999.0,9,     -999.0,     -999.0,9,     -999.0,     -999.0,9,     -999.0,     -999.0,     -999.0,9,     -999.0,9,     -999.0,9,     -999.0,9,     -999.0,9,     -999.0,9,     -999.0,9,     -999.0,9
33RO20161119,        P18,      17,          1,         19,      11083,2,20161128,       0410,    16.0014,  -109.9998,       3295,   211.0,  11.7181,  34.7439,2,  34.7428,2,      2.4,2,     2.8,2,    31.0,2,    24.6,2,    1.48,2,   2.593,2,-999.0000,9,-999.0000,9,-999.0000,9,  2270.5,2,  2308.5,2,   7.3950,2,    25.00, -999.00,9,  -999.0,9,  -999.0,-999.0000,9, -999.00,9,    44.1,2,   30.20,2, -999.00,9,     -999.0,9, -999.00,9,  -999.0,9,     -999.0,     -999.0,9,     -999.0,9,     -999.0,     -999.0,9,     -999.0,     -999.0,9,     -999.0,     -999.0,     -999.0,9,     -999.0,9,     -999.0,9,     -999.0,9,     -999.0,9,     -999.0,9,     -999.0,9,     -999.0,9
33RO20161119,        P18,      17,          1,         20,      11118,2,20161128,       0410,    16.0014,  -109.9998,       3295,   145.4,  13.1619,  34.7545,2,  34.7546,2,      2.6,2,     2.2,2,    27.3,2,    21.6,2,    2.18,2,   2.570,2,-999.0000,9,-999.0000,9,-999.0000,9,  2261.8,2,  2303.9,2,   7.4126,2,    25.00, -999.00,9,  -999.0,9,  -999.0,-999.0000,9, -999.00,9,    45.9,2,   28.30,2, -999.00,9,     -999.0,9, -999.00,9,  -999.0,9,     -999.0,     -999.0,9,     -999.0,9,     -999.0,     -999.0,9,     -999.0,     -999.0,9,     -999.0,     -999.0,     -999.0,9,     -999.0,9,     -999.0,9,       2.70,2,     -999.0,9,     -999.0,9,     -999.0,9,     -999.0,9
33RO20161119,        P18,      17,          1,         21,      11119,2,20161128,       0410,    16.0014,  -109.9998,       3295,    95.2,  16.3577,  34.6280,2,  34.6279,2,     20.4,2,    12.7,2,    19.8,2,    22.8,2,    0.04,2,   2.321,2,-999.0000,9,-999.0000,9,-999.0000,9,  2230.5,2,  2290.4,2,   7.4754,2,    25.00, -999.00,9,  -999.0,9,  -999.0,-999.0000,9, -999.00,9,    56.0,2,   26.40,2, -999.00,9,     -999.0,9, -999.00,9,  -999.0,9,     -999.0,     -999.0,9,     -999.0,9,     -999.0,     -999.0,9,     -999.0,     -999.0,9,     -999.0,     -999.0,     -999.0,9,     -999.0,9,     -999.0,9,       2.81,2,     -999.0,9,     -999.0,9,     -999.0,9,     -999.0,9
33RO20161119,        P18,      17,          1,         22,      11120,2,20161128,       0410,    16.0014,  -109.9998,       3295,    50.5,  25.1040,  34.3960,2,  34.3972,2,    187.7,2,   179.4,2,     2.1,2,     0.4,2,    0.09,2,   0.580,2,-999.0000,9,-999.0000,9,-999.0000,9,  2027.1,2,  2282.9,2,   7.9614,6,    25.00, -999.00,9,  -999.0,9,  -999.0,-999.0000,9, -999.00,9,    70.3,2,    3.60,2, -999.00,9,     -999.0,9, -999.00,9,  -999.0,9,     -999.0,     -999.0,9,     -999.0,9,     -999.0,     -999.0,9,     -999.0,     -999.0,9,     -999.0,     -999.0,     -999.0,9,     -999.0,9,     -999.0,9,       0.96,2,     -999.0,9,     -999.0,9,     -999.0,9,     -999.0,9
33RO20161119,        P18,      17,          1,         23,      11121,2,20161128,       0410,    16.0014,  -109.9998,       3295,    40.1,  28.2388,  34.1907,2,  34.1597,2,    202.3,2,   198.5,2,     1.3,2,     0.0,2,    0.04,2,   0.303,2,-999.0000,9,-999.0000,9,-999.0000,9,  1959.1,2,  2258.4,6,   8.0556,2,    25.00, -999.00,9,  -999.0,9,  -999.0,-999.0000,9, -999.00,9,    76.0,2,    4.60,2, -999.00,9,     -999.0,9, -999.00,9,  -999.0,9,     -999.0,     -999.0,9,     -999.0,9,     -999.0,     -999.0,9,     -999.0,     -999.0,9,     -999.0,     -999.0,     -999.0,9,     -999.0,9,     -999.0,9,       0.64,2,     -999.0,9,     -999.0,9,     -999.0,9,     -999.0,9
33RO20161119,        P18,      17,          1,         24,      11122,2,20161128,       0410,    16.0014,  -109.9998,       3295,     3.1,  29.5508,  33.8103,2,  34.1422,2,    194.4,2,   198.5,2,     1.2,2,     0.0,2,    0.02,2,   0.296,2,-999.0000,9,-999.0000,9,-999.0000,9,  1956.7,6,  2256.3,2,   8.0596,2,    25.00, -999.00,9,  -999.0,9,  -999.0,-999.0000,9, -999.00,9,  -999.0,9, -999.00,9, -999.00,9,     -999.0,9, -999.00,9,  -999.0,9,     -999.0,     -999.0,9,     -999.0,9,     -999.0,     -999.0,9,     -999.0,     -999.0,9,     -999.0,     -999.0,     -999.0,9,     -999.0,9,     -999.0,9,     -999.0,9,     -999.0,9,     -999.0,9,     -999.0,9,     -999.0,9