BOTTLE,20230606CCHSIOCBG
EXPOCODE,SECT_ID,STNNBR,CASTNO,SAMPNO,BTLNBR,BTLNBR_FLAG_W,DATE,TIME,LATITUDE,LONGITUDE,DEPTH,CTDPRS,CTDTMP,CTDSAL,CTDSAL_FLAG_W,SALNTY,SALNTY_FLAG_W,CTDOXY,CTDOXY_FLAG_W,OXYGEN,OXYGEN_FLAG_W,SILCAT,SILCAT_FLAG_W,NITRAT,NITRAT_FLAG_W,NITRIT,NITRIT_FLAG_W,PHSPHT,PHSPHT_FLAG_W,CFC-11,CFC-11_FLAG_W,CFC-12,CFC-12_FLAG_W,SF6,SF6_FLAG_W,TCARBN,TCARBN_FLAG_W,ALKALI,ALKALI_FLAG_W,PH_SWS,PH_SWS_FLAG_W,PH_TMP,DELC13,DELC13_FLAG_W,DELC14,DELC14_FLAG_W,C14ERR,CCL4,CCL4_FLAG_W,POC,POC_FLAG_W,DOC,DOC_FLAG_W,TDN,TDN_FLAG_W,PON,PON_FLAG_W,N2O,N2O_FLAG_W,D15N_NO3,D15N_NO3_FLAG_W,14C-DOC,14C-DOC_FLAG_W,14C-DOCERR,13C-DOC,13C-DOC_FLAG_W,N2/ARGON_UNSTRIPPED,N2/ARGON_UNSTRIPPED_FLAG_W,N2/ARGON_UNSTRIPPED_ERROR,N2/ARGON,N2/ARGON_FLAG_W,N2/ARGON_ERROR,D15N_N2,D15N_N2_FLAG_W,D15N_N2_ERROR,D15N_NO3_ERROR,D15N_NO2+NO3,D15N_NO2+NO3_FLAG_W,D18O_NO2+NO3,D18O_NO2+NO3_FLAG_W,D18O_NO3,D18O_NO3_FLAG_W,TDP,TDP_FLAG_W,N2O_ALT_1,N2O_ALT_1_FLAG_W,D15N_N2O,D15N_N2O_FLAG_W,D18O_N2O,D18O_N2O_FLAG_W,D15N_ALPHA_N2O,D15N_ALPHA_N2O_FLAG_W
,,,,,,,,,,,METERS,DBAR,ITS-90,PSS-78,,PSS-78,,UMOL/KG,,UMOL/KG,,UMOL/KG,,UMOL/KG,,UMOL/KG,,UMOL/KG,,PMOL/KG,,PMOL/KG,,FMOL/KG,,UMOL/KG,,UMOL/KG,,,,DEG C,/MILLE,,/MILLE,,/MILLE,PMOL/KG,,UG/KG,,UMOL/KG,,UMOL/KG,,UG/KG,,NMOL/KG,,/MILLE,,/MILLE,,/MILLE,/MILLE,,,,,,,,/MILLE,,/MILLE,/MILLE,/MILLE,,/MILLE,,/MILLE,,UMOL/KG,,NMOL/L,,/MILLE,,/MILLE,,/MILLE,
33RO20161119,        P18,     122,          1,          1,      11010,2,20170102,       1510,   -27.0009,  -101.4992,       2400,  2400.5,   1.8858,  34.6616,2,  34.6717,4,    157.4,2,   157.9,2,   118.1,6,    35.0,6,    0.01,6,   2.453,6,   0.0030,2,   0.0015,2,   0.0000,2,  2299.1,6,  2394.6,2,   7.5755,2,    25.00, -999.00,9,  -999.0,9,  -999.0,   0.0222,2, -999.00,9,  -999.0,9, -999.00,9, -999.00,9,    21.2491,2, -999.00,9,  -999.0,9,     -999.0,     -999.0,9,     -999.0,9,     -999.0,     -999.0,9,     -999.0,     -999.0,9,     -999.0,     -999.0,     -999.0,9,     -999.0,9,     -999.0,9,     -999.0,9,     -999.0,9,     -999.0,9,     -999.0,9,     -999.0,9
33RO20161119,        P18,     122,          1,          2,      11101,2,20170102,       1510,   -27.0009,  -101.4992,       2400,  2193.3,   1.9371,  34.6537,2,  34.6542,2,    156.2,2,   156.2,2,   115.9,6,    35.1,6,    0.01,6,   2.468,6,   0.0039,2,   0.0018,2,   0.0000,2,  2298.5,2,  2390.5,6,   7.5691,6,    25.00, -999.00,9,  -999.0,9,  -999.0,   0.0523,2, -999.00,9,  -999.0,9, -999.00,9, -999.00,9,     21.403,2, -999.00,9,  -999.0,9,     -999.0,     -999.0,9,     -999.0,9,     -999.0,     -999.0,9,     -999.0,     -999.0,9,     -999.0,     -999.0,     -999.0,9,     -999.0,9,     -999.0,9,     -999.0,9,     -999.0,9,     -999.0,9,     -999.0,9,     -999.0,9
33RO20161119,        P18,     122,          1,          3,      11102,2,20170102,       1510,   -27.0009,  -101.4992,       2400,  1984.9,   2.0210,  34.6426,2,  34.6408,2,    155.1,2,   155.2,2,   112.5,6,    35.3,6,    0.01,6,   2.483,6,   0.0028,2,   0.0016,2,   0.0000,2,  2293.9,2,  2387.1,2,   7.5662,2,    25.00, -999.00,9,  -999.0,9,  -999.0,   0.1842,2, -999.00,9,  -999.0,9, -999.00,9, -999.00,9,    21.6669,2, -999.00,9,  -999.0,9,     -999.0,     -999.0,9,     -999.0,9,     -999.0,     -999.0,9,     -999.0,     -999.0,9,     -999.0,     -999.0,     -999.0,9,     -999.0,9,     -999.0,9,     -999.0,9,     -999.0,9,     -999.0,9,     -999.0,9,     -999.0,9
33RO20161119,        P18,     122,          1,          4,      11103,2,20170102,       1510,   -27.0009,  -101.4992,       2400,  1785.9,   2.2291,  34.6177,2,  34.6239,4,    153.6,2,   153.8,2,   104.2,6,    35.3,3,    0.01,6,   2.498,6,   0.0051,2,   0.0027,2,   0.0000,2,  2287.2,2,  2376.3,2,   7.5588,2,    25.00, -999.00,9,  -999.0,9,  -999.0,   0.7695,2, -999.00,9,  -999.0,9, -999.00,9, -999.00,9,    22.6754,2, -999.00,9,  -999.0,9,     -999.0,     -999.0,9,     -999.0,9,     -999.0,     -999.0,9,     -999.0,     -999.0,9,     -999.0,     -999.0,     -999.0,9,     -999.0,9,     -999.0,9,     -999.0,9,     -999.0,9,     -999.0,9,     -999.0,9,     -999.0,9
33RO20161119,        P18,     122,          1,          5,      11104,2,20170102,       1510,   -27.0009,  -101.4992,       2400,  1584.8,   2.5661,  34.5816,2,  34.5829,2,    146.5,2,   146.7,2,    94.1,2,    36.0,2,    0.01,2,   2.542,2,   0.0039,2,   0.0030,2,   0.0000,2,  2281.2,2,  2364.4,2,   7.5427,2,    25.00, -999.00,9,  -999.0,9,  -999.0,   1.3442,2, -999.00,9,  -999.0,9, -999.00,9, -999.00,9,    23.6704,2, -999.00,9,  -999.0,9,     -999.0,     -999.0,9,     -999.0,9,     -999.0,     -999.0,9,     -999.0,     -999.0,9,     -999.0,     -999.0,     -999.0,9,     -999.0,9,     -999.0,9,     -999.0,9,     -999.0,9,     -999.0,9,     -999.0,9,     -999.0,9
33RO20161119,        P18,     122,          1,          6,      11105,2,20170102,       1510,   -27.0009,  -101.4992,       2400,  1400.0,   3.0034,  34.5484,2,  34.5470,2,    134.0,2,   134.0,2,    86.9,2,    37.1,2,    0.01,2,   2.635,2,   0.0048,2,   0.0021,2,   0.0000,2,  2281.3,2,  2356.4,2,   7.5211,2,    25.00, -999.00,9,  -999.0,9,  -999.0,   1.6525,2, -999.00,9,  -999.0,9, -999.00,9, -999.00,9,    26.0201,2, -999.00,9,  -999.0,9,     -999.0,     -999.0,9,     -999.0,9,     -999.0,     -999.0,9,     -999.0,     -999.0,9,     -999.0,     -999.0,     -999.0,9,     -999.0,9,     -999.0,9,     -999.0,9,     -999.0,9,     -999.0,9,     -999.0,9,     -999.0,9
33RO20161119,        P18,     122,          1,          7,      11106,2,20170102,       1510,   -27.0009,  -101.4992,       2400,  1220.3,   3.5141,  34.5072,2,  34.5072,2,    123.8,2,   123.0,6,    75.9,2,    38.0,2,    0.01,2,   2.700,2,   0.0143,2,   0.0074,2,   0.0000,2,  2276.4,2,  2344.2,2,   7.4998,2,    25.00, -999.00,9,  -999.0,9,  -999.0,   1.8448,2, -999.00,9,  -999.0,9, -999.00,9, -999.00,9,    27.9381,2, -999.00,9,  -999.0,9,     -999.0,     -999.0,9,     -999.0,9,     -999.0,     -999.0,9,     -999.0,     -999.0,9,     -999.0,     -999.0,     -999.0,9,     -999.0,9,     -999.0,9,     -999.0,9,     -999.0,9,     -999.0,9,     -999.0,9,     -999.0,9
33RO20161119,        P18,     122,          1,          8,      11107,2,20170102,       1510,   -27.0009,  -101.4992,       2400,  1040.5,   4.0511,  34.4441,2,  34.4430,2,    126.5,2,   124.9,2,    59.1,2,    37.9,2,    0.01,2,   2.683,2,   0.1039,2,   0.0539,2,   0.0389,2,  2258.9,2,  2324.7,2,   7.4964,2,    25.00, -999.00,9,  -999.0,9,  -999.0,   1.7396,2, -999.00,9,  -999.0,9, -999.00,9, -999.00,9,    29.7933,2, -999.00,9,  -999.0,9,     -999.0,     -999.0,9,     -999.0,9,     -999.0,     -999.0,9,     -999.0,     -999.0,9,     -999.0,     -999.0,     -999.0,9,     -999.0,9,     -999.0,9,     -999.0,9,     -999.0,9,     -999.0,9,     -999.0,9,     -999.0,9
33RO20161119,        P18,     122,          1,          9,      11108,2,20170102,       1510,   -27.0009,  -101.4992,       2400,   879.9,   4.6142,  34.3586,2,  34.3576,2,    152.5,2,   151.8,2,    37.6,2,    35.2,2,    0.01,2,   2.494,2,   0.6577,2,   0.3197,2,   0.0923,2,  2225.3,2,  2300.7,2,   7.5336,2,    25.00, -999.00,9,  -999.0,9,  -999.0,   1.5142,2, -999.00,9,  -999.0,9, -999.00,9, -999.00,9,    28.6513,2, -999.00,9,  -999.0,9,     -999.0,     -999.0,9,     -999.0,9,     -999.0,     -999.0,9,     -999.0,     -999.0,9,     -999.0,     -999.0,     -999.0,9,     -999.0,9,     -999.0,9,     -999.0,9,     -999.0,9,     -999.0,9,     -999.0,9,     -999.0,9
33RO20161119,        P18,     122,          1,         10,      11109,2,20170102,       1510,   -27.0009,  -101.4992,       2400,   775.0,   5.1040,  34.3183,2,  34.3219,2,    175.9,2,   174.1,2,    25.7,2,    32.4,2,    0.01,2,   2.285,2,   1.5092,2,   0.7348,2,   0.2363,2,  2200.0,2,  2289.3,2,   7.5676,2,    25.00, -999.00,9,  -999.0,9,  -999.0,   1.3804,2, -999.00,9,  -999.0,9, -999.00,9, -999.00,9,     26.558,2, -999.00,9,  -999.0,9,     -999.0,     -999.0,9,     -999.0,9,     -999.0,     -999.0,9,     -999.0,     -999.0,9,     -999.0,     -999.0,     -999.0,9,     -999.0,9,     -999.0,9,     -999.0,9,     -999.0,9,     -999.0,9,     -999.0,9,     -999.0,9
33RO20161119,        P18,     122,          1,         11,      11110,2,20170102,       1510,   -27.0009,  -101.4992,       2400,   693.9,   5.5303,  34.3027,2,  34.3016,2,    191.0,2,   190.4,2,    18.4,2,    30.2,2,    0.01,2,   2.114,2,   2.3671,2,   1.1602,2,   0.4277,2,  2187.3,6,  2280.9,2,   7.5964,2,    25.00, -999.00,9,  -999.0,9,  -999.0,   0.8432,2, -999.00,9,  -999.0,9, -999.00,9, -999.00,9,    25.3311,2, -999.00,9,  -999.0,9,     -999.0,     -999.0,9,     -999.0,9,     -999.0,     -999.0,9,     -999.0,     -999.0,9,     -999.0,     -999.0,     -999.0,9,     -999.0,9,     -999.0,9,     -999.0,9,     -999.0,9,     -999.0,9,     -999.0,9,     -999.0,9
33RO20161119,        P18,     122,          1,         12,      11111,2,20170102,       1510,   -27.0009,  -101.4992,       2400,   614.2,   6.0631,  34.3052,2,  34.3122,2,    199.3,2,   198.7,2,    13.5,2,    28.2,2,    0.01,2,   1.971,2,   3.0283,2,   1.5393,2,   0.6657,2,  2176.6,2,  2278.5,2,   7.6086,2,    25.00, -999.00,9,  -999.0,9,  -999.0,    0.657,2, -999.00,9,  -999.0,9, -999.00,9, -999.00,9,    24.6349,2, -999.00,9,  -999.0,9,     -999.0,     -999.0,9,     -999.0,9,     -999.0,     -999.0,9,     -999.0,     -999.0,9,     -999.0,     -999.0,     -999.0,9,     -999.0,9,     -999.0,9,     -999.0,9,     -999.0,9,     -999.0,9,     -999.0,9,     -999.0,9
33RO20161119,        P18,     122,          1,         13,      11112,2,20170102,       1510,   -27.0009,  -101.4992,       2400,   535.1,   6.7118,  34.3358,2,  34.3383,2,    174.3,2,   173.4,2,    13.4,2,    28.7,2,    0.00,2,   2.071,2,   2.9526,6,   1.5208,6,   0.7444,6,  2186.9,2,  2277.6,2,   7.5736,2,    25.00, -999.00,9,  -999.0,9,  -999.0,   0.6397,2, -999.00,9,  -999.0,9, -999.00,9, -999.00,9,    29.1633,2, -999.00,9,  -999.0,9,     -999.0,     -999.0,9,     -999.0,9,     -999.0,     -999.0,9,     -999.0,     -999.0,9,     -999.0,     -999.0,     -999.0,9,     -999.0,9,     -999.0,9,     -999.0,9,     -999.0,9,     -999.0,9,     -999.0,9,     -999.0,9
33RO20161119,        P18,     122,          1,         14,      11113,2,20170102,       1510,   -27.0009,  -101.4992,       2400,   460.2,   7.5167,  34.3407,2,  34.3399,2,    169.2,2,   158.5,2,    12.0,2,    27.6,2,    0.01,2,   2.036,2,   2.9873,2,   1.5567,2,   0.8657,2,  2191.4,2,  2274.4,2,   7.5626,2,    25.00, -999.00,9,  -999.0,9,  -999.0,   1.0146,2, -999.00,9,  -999.0,9, -999.00,9, -999.00,9,    32.6311,2, -999.00,9,  -999.0,9,     -999.0,     -999.0,9,     -999.0,9,     -999.0,     -999.0,9,     -999.0,     -999.0,9,     -999.0,     -999.0,     -999.0,9,     -999.0,9,     -999.0,9,     -999.0,9,     -999.0,9,     -999.0,9,     -999.0,9,     -999.0,9
33RO20161119,        P18,     122,          1,         15,      11114,2,20170102,       1510,   -27.0009,  -101.4992,       2400,   394.6,   8.9352,  34.3545,2,  34.3544,2,    139.7,2,   142.5,2,    10.9,2,    24.8,2,    0.01,2,   1.956,2,   2.7977,2,   1.5199,2,   0.9199,2,  2188.9,2,  2273.0,2,   7.5615,2,    25.00, -999.00,9,  -999.0,9,  -999.0,   1.4503,2, -999.00,9,  -999.0,9, -999.00,9, -999.00,9,    31.4336,2, -999.00,9,  -999.0,9,     -999.0,     -999.0,9,     -999.0,9,     -999.0,     -999.0,9,     -999.0,     -999.0,9,     -999.0,     -999.0,     -999.0,9,     -999.0,9,     -999.0,9,     -999.0,9,     -999.0,9,     -999.0,9,     -999.0,9,     -999.0,9
33RO20161119,        P18,     122,          1,         16,      11115,2,20170102,       1510,   -27.0009,  -101.4992,       2400,   329.8,  10.9382,  34.3531,2,  34.3532,2,    178.7,2,   177.3,2,     4.8,2,    16.8,2,    0.01,2,   1.408,2,   3.0294,6,   1.7152,6,   1.3387,6,  2141.9,2,  2270.6,6,   7.6862,2,    25.00, -999.00,9,  -999.0,9,  -999.0,   1.7038,2, -999.00,9,  -999.0,9, -999.00,9, -999.00,9,    21.3704,2, -999.00,9,  -999.0,9,     -999.0,     -999.0,9,     -999.0,9,     -999.0,     -999.0,9,     -999.0,     -999.0,9,     -999.0,     -999.0,     -999.0,9,     -999.0,9,     -999.0,9,     -999.0,9,     -999.0,9,     -999.0,9,     -999.0,9,     -999.0,9
33RO20161119,        P18,     122,          1,         17,      11116,2,20170102,       1510,   -27.0009,  -101.4992,       2400,   271.5,  13.4779,  34.5655,2,  34.5669,2,    202.6,2,   201.2,2,     1.1,2,     9.1,2,    0.01,2,   0.848,2,   2.8488,2,   1.6795,2,   1.6182,2,  2101.2,2,  2279.5,2,   7.8091,2,    25.00, -999.00,9,  -999.0,9,  -999.0,   1.8057,2, -999.00,9,  -999.0,9, -999.00,9, -999.00,9,    13.5415,2, -999.00,9,  -999.0,9,     -999.0,     -999.0,9,     -999.0,9,     -999.0,     -999.0,9,     -999.0,     -999.0,9,     -999.0,     -999.0,     -999.0,9,     -999.0,9,     -999.0,9,     -999.0,9,     -999.0,9,     -999.0,9,     -999.0,9,     -999.0,9
33RO20161119,        P18,     122,          1,         18,      11117,2,20170102,       1510,   -27.0009,  -101.4992,       2400,   215.3,  16.9855,  35.0447,2,  35.0438,2,    215.7,2,   214.3,6,     0.2,2,     1.5,2,    0.12,2,   0.371,2,   2.3848,2,   1.4559,2,   1.7199,2,  2074.8,2,  2310.1,2,   7.9143,2,    25.00, -999.00,9,  -999.0,9,  -999.0,   1.8535,2, -999.00,9,  -999.0,9, -999.00,9, -999.00,9,      8.941,2, -999.00,9,  -999.0,9,     -999.0,     -999.0,9,     -999.0,9,     -999.0,     -999.0,9,     -999.0,     -999.0,9,     -999.0,     -999.0,     -999.0,9,     -999.0,9,     -999.0,9,     -999.0,9,     -999.0,9,     -999.0,9,     -999.0,9,     -999.0,9
33RO20161119,        P18,     122,          1,         19,      11083,2,20170102,       1510,   -27.0009,  -101.4992,       2400,   174.3,  18.8723,  35.3793,2,  35.3780,2,    224.9,2,   225.0,2,     0.1,2,     0.0,2,    0.00,2,   0.190,2,   2.1569,2,   1.3308,2,   1.6419,2,  2065.9,2,  2329.4,2,   7.9640,2,    25.00, -999.00,9,  -999.0,9,  -999.0,   1.8417,2, -999.00,9,  -999.0,9, -999.00,9, -999.00,9,     7.8888,2, -999.00,9,  -999.0,9,     -999.0,     -999.0,9,     -999.0,9,     -999.0,     -999.0,9,     -999.0,     -999.0,9,     -999.0,     -999.0,     -999.0,9,     -999.0,9,     -999.0,9,     -999.0,9,     -999.0,9,     -999.0,9,     -999.0,9,     -999.0,9
33RO20161119,        P18,     122,          1,         20,      11118,2,20170102,       1510,   -27.0009,  -101.4992,       2400,   118.9,  20.0171,  35.5886,2,  35.5893,2,    229.2,2,   229.8,2,     0.1,2,     0.0,2,    0.00,2,   0.185,2,   2.0850,2,   1.2815,2,   1.6270,2,  2066.0,2,  2345.0,2,   7.9891,6,    25.00, -999.00,9,  -999.0,9,  -999.0,   1.0888,2, -999.00,9,  -999.0,9, -999.00,9, -999.00,9,     7.5615,2, -999.00,9,  -999.0,9,     -999.0,     -999.0,9,     -999.0,9,     -999.0,     -999.0,9,     -999.0,     -999.0,9,     -999.0,     -999.0,     -999.0,9,     -999.0,9,     -999.0,9,     -999.0,9,     -999.0,9,     -999.0,9,     -999.0,9,     -999.0,9
33RO20161119,        P18,     122,          1,         21,      11119,2,20170102,       1510,   -27.0009,  -101.4992,       2400,    86.3,  21.2437,  35.7764,2,  35.7725,2,    227.3,2,   227.5,2,     0.1,2,     0.0,2,    0.00,2,   0.199,2,   2.0101,2,   1.2425,2,   1.6050,2,  2070.8,2,  2356.6,2,   7.9975,2,    25.00, -999.00,9,  -999.0,9,  -999.0,   1.0765,2, -999.00,9,  -999.0,9, -999.00,9, -999.00,9,     7.3589,2, -999.00,9,  -999.0,9,     -999.0,     -999.0,9,     -999.0,9,     -999.0,     -999.0,9,     -999.0,     -999.0,9,     -999.0,     -999.0,     -999.0,9,     -999.0,9,     -999.0,9,     -999.0,9,     -999.0,9,     -999.0,9,     -999.0,9,     -999.0,9
33RO20161119,        P18,     122,          1,         22,      11120,2,20170102,       1510,   -27.0009,  -101.4992,       2400,    51.3,  22.9587,  36.0317,2,  36.0260,2,    218.1,2,   219.1,2,     0.2,2,     0.0,2,    0.00,2,   0.224,2,   1.8673,2,   1.1658,2,   1.5329,2,  2081.2,2,  2377.4,2,   8.0032,2,    25.00, -999.00,9,  -999.0,9,  -999.0,   2.0704,2, -999.00,9,  -999.0,9, -999.00,9, -999.00,9,      6.945,2, -999.00,9,  -999.0,9,     -999.0,     -999.0,9,     -999.0,9,     -999.0,     -999.0,9,     -999.0,     -999.0,9,     -999.0,     -999.0,     -999.0,9,     -999.0,9,     -999.0,9,     -999.0,9,     -999.0,9,     -999.0,9,     -999.0,9,     -999.0,9
33RO20161119,        P18,     122,          1,         23,      11121,2,20170102,       1510,   -27.0009,  -101.4992,       2400,    21.1,  23.7149,  35.9648,2,  35.9649,2,    212.1,2,   212.8,2,     0.2,2,     0.0,2,    0.00,2,   0.224,2,   1.7801,2,   1.1175,2,   1.4670,2,  2079.7,6,  2371.1,6,   8.0010,2,    25.00, -999.00,9,  -999.0,9,  -999.0,   1.7987,2, -999.00,9,  -999.0,9, -999.00,9, -999.00,9,     6.7629,2, -999.00,9,  -999.0,9,     -999.0,     -999.0,9,     -999.0,9,     -999.0,     -999.0,9,     -999.0,     -999.0,9,     -999.0,     -999.0,     -999.0,9,     -999.0,9,     -999.0,9,     -999.0,9,     -999.0,9,     -999.0,9,     -999.0,9,     -999.0,9
33RO20161119,        P18,     122,          1,         24,      11122,2,20170102,       1510,   -27.0009,  -101.4992,       2400,     3.5,  23.7805,  35.9644,2,  35.9653,2,    211.6,2,   212.6,2,     0.2,2,     0.0,2,    0.00,2,   0.205,2,   1.7737,2,   1.1162,2,   1.5425,2,  2078.3,2,  2370.2,2,   7.9994,2,    25.00, -999.00,9,  -999.0,9,  -999.0,   0.6826,2, -999.00,9,  -999.0,9, -999.00,9, -999.00,9,     6.5513,2, -999.00,9,  -999.0,9,     -999.0,     -999.0,9,     -999.0,9,     -999.0,     -999.0,9,     -999.0,     -999.0,9,     -999.0,     -999.0,     -999.0,9,     -999.0,9,     -999.0,9,     -999.0,9,     -999.0,9,     -999.0,9,     -999.0,9,     -999.0,9