BOTTLE,20230606CCHSIOCBG
EXPOCODE,SECT_ID,STNNBR,CASTNO,SAMPNO,BTLNBR,BTLNBR_FLAG_W,DATE,TIME,LATITUDE,LONGITUDE,DEPTH,CTDPRS,CTDTMP,CTDSAL,CTDSAL_FLAG_W,SALNTY,SALNTY_FLAG_W,CTDOXY,CTDOXY_FLAG_W,OXYGEN,OXYGEN_FLAG_W,SILCAT,SILCAT_FLAG_W,NITRAT,NITRAT_FLAG_W,NITRIT,NITRIT_FLAG_W,PHSPHT,PHSPHT_FLAG_W,CFC-11,CFC-11_FLAG_W,CFC-12,CFC-12_FLAG_W,SF6,SF6_FLAG_W,TCARBN,TCARBN_FLAG_W,ALKALI,ALKALI_FLAG_W,PH_SWS,PH_SWS_FLAG_W,PH_TMP,DELC13,DELC13_FLAG_W,DELC14,DELC14_FLAG_W,C14ERR,CCL4,CCL4_FLAG_W,POC,POC_FLAG_W,DOC,DOC_FLAG_W,TDN,TDN_FLAG_W,PON,PON_FLAG_W,N2O,N2O_FLAG_W,D15N_NO3,D15N_NO3_FLAG_W,14C-DOC,14C-DOC_FLAG_W,14C-DOCERR,13C-DOC,13C-DOC_FLAG_W,N2/ARGON_UNSTRIPPED,N2/ARGON_UNSTRIPPED_FLAG_W,N2/ARGON_UNSTRIPPED_ERROR,N2/ARGON,N2/ARGON_FLAG_W,N2/ARGON_ERROR,D15N_N2,D15N_N2_FLAG_W,D15N_N2_ERROR,D15N_NO3_ERROR,D15N_NO2+NO3,D15N_NO2+NO3_FLAG_W,D18O_NO2+NO3,D18O_NO2+NO3_FLAG_W,D18O_NO3,D18O_NO3_FLAG_W,TDP,TDP_FLAG_W,N2O_ALT_1,N2O_ALT_1_FLAG_W,D15N_N2O,D15N_N2O_FLAG_W,D18O_N2O,D18O_N2O_FLAG_W,D15N_ALPHA_N2O,D15N_ALPHA_N2O_FLAG_W
,,,,,,,,,,,METERS,DBAR,ITS-90,PSS-78,,PSS-78,,UMOL/KG,,UMOL/KG,,UMOL/KG,,UMOL/KG,,UMOL/KG,,UMOL/KG,,PMOL/KG,,PMOL/KG,,FMOL/KG,,UMOL/KG,,UMOL/KG,,,,DEG C,/MILLE,,/MILLE,,/MILLE,PMOL/KG,,UG/KG,,UMOL/KG,,UMOL/KG,,UG/KG,,NMOL/KG,,/MILLE,,/MILLE,,/MILLE,/MILLE,,,,,,,,/MILLE,,/MILLE,/MILLE,/MILLE,,/MILLE,,/MILLE,,UMOL/KG,,NMOL/L,,/MILLE,,/MILLE,,/MILLE,
33RO20161119,        P18,       9,          1,          1,      11010,2,20161126,       0602,    20.0002,  -110.0000,       2564,  2541.2,   1.7647,  34.6662,2,  34.6657,2,    108.1,2,   107.5,2,   157.8,6,    39.0,6,    0.01,6,   2.713,6,   0.0060,2,   0.0039,2,   0.0000,2,  2359.9,6,  2427.5,2,   7.5234,3,    25.00, -999.00,5,  -999.0,5,  -999.0,        0,2, -999.00,9,    39.0,2,   43.40,2, -999.00,9,    23.6253,2, -999.00,9,  -999.0,9,     -999.0,     -999.0,9,     -999.0,9,     -999.0,     -999.0,9,     -999.0,     -999.0,9,     -999.0,     -999.0,     -999.0,9,     -999.0,9,     -999.0,9,     -999.0,9,     -999.0,9,     -999.0,9,     -999.0,9,     -999.0,9
33RO20161119,        P18,       9,          1,          2,      11101,2,20161126,       0602,    20.0002,  -110.0000,       2564,  2362.9,   1.8411,  34.6614,2,  34.6604,2,    102.6,2,   103.8,2,   155.9,6,    39.2,6,    0.01,6,   2.737,6,-999.0000,9,-999.0000,9,-999.0000,9,  2360.6,2,  2427.6,2,   7.4957,6,    25.00,   -0.19,2,  -245.6,2,     1.6,-999.0000,9, -999.00,9,    38.2,2,   42.80,2, -999.00,9,     -999.0,9, -999.00,9,    -538,2,          5,      -21.6,2,     -999.0,9,     -999.0,     -999.0,9,     -999.0,     -999.0,9,     -999.0,     -999.0,     -999.0,9,     -999.0,9,     -999.0,9,     -999.0,9,     -999.0,9,     -999.0,9,     -999.0,9,     -999.0,9
33RO20161119,        P18,       9,          1,          3,      11102,2,20161126,       0602,    20.0002,  -110.0000,       2564,  2200.7,   1.9381,  34.6544,2,  34.6529,2,     96.4,2,    96.1,2,   154.1,6,    39.7,6,    0.01,6,   2.787,6,-999.0000,9,-999.0000,9,-999.0000,9,  2362.6,2,  2424.1,6,   7.4825,2,    25.00,   -0.11,2,  -248.1,2,     1.8,-999.0000,9, -999.00,9,    39.7,2,   42.10,2, -999.00,9,     -999.0,9, -999.00,9,    -537,2,          5,      -21.6,2,     -999.0,9,     -999.0,     -999.0,9,     -999.0,     -999.0,9,     -999.0,     -999.0,     -999.0,9,     -999.0,9,     -999.0,9,     -999.0,9,     -999.0,9,     -999.0,9,     -999.0,9,     -999.0,9
33RO20161119,        P18,       9,          1,          4,      11103,2,20161126,       0602,    20.0002,  -110.0000,       2564,  1999.9,   2.1452,  34.6411,2,  34.6398,2,     84.4,2,    83.5,2,   151.6,6,    40.6,6,    0.01,6,   2.866,6,-999.0000,9,-999.0000,9,-999.0000,9,  2366.7,2,  2422.1,2,   7.4592,2,    25.00,   -0.20,2,  -249.2,2,     1.6,-999.0000,9, -999.00,9,    38.4,2,   45.30,2, -999.00,9,     -999.0,9, -999.00,9,    -540,2,          5,      -21.3,2,     -999.0,9,     -999.0,     -999.0,9,     -999.0,     -999.0,9,     -999.0,     -999.0,     -999.0,9,     -999.0,9,     -999.0,9,     -999.0,9,     -999.0,9,     -999.0,9,     -999.0,9,     -999.0,9
33RO20161119,        P18,       9,          1,          5,      11104,2,20161126,       0602,    20.0002,  -110.0000,       2564,  1799.5,   2.4810,  34.6242,2,  34.6241,2,     69.1,2,    69.2,2,   144.9,2,    41.6,2,    0.02,2,   2.973,2,-999.0000,9,-999.0000,9,-999.0000,9,  2371.5,2,  2414.2,2,   7.4266,2,    25.00,   -0.32,2,  -245.2,2,     1.6,-999.0000,9, -999.00,9,    38.4,2,   45.40,2, -999.00,9,     -999.0,9, -999.00,9,    -526,2,          5,      -21.7,2,     -999.0,9,     -999.0,     -999.0,9,     -999.0,     -999.0,9,     -999.0,     -999.0,     -999.0,9,     -999.0,9,     -999.0,9,     -999.0,9,     -999.0,9,     -999.0,9,     -999.0,9,     -999.0,9
33RO20161119,        P18,       9,          1,          6,      11105,2,20161126,       0602,    20.0002,  -110.0000,       2564,  1600.8,   2.8154,  34.6087,2,  34.6073,2,     54.2,2,    53.8,2,   138.7,2,    42.6,2,    0.02,2,   3.075,2,-999.0000,9,-999.0000,9,-999.0000,9,  2372.0,2,  2408.7,2,   7.3969,2,    25.00,   -0.29,2,  -240.0,2,     1.8,-999.0000,9, -999.00,9,    39.0,2,   45.40,2, -999.00,9,     -999.0,9, -999.00,9,    -530,2,          5,      -21.5,2,     -999.0,9,     -999.0,     -999.0,9,     -999.0,     -999.0,9,     -999.0,     -999.0,     -999.0,9,     -999.0,9,     -999.0,9,     -999.0,9,     -999.0,9,     -999.0,9,     -999.0,9,     -999.0,9
33RO20161119,        P18,       9,          1,          7,      11106,2,20161126,       0602,    20.0002,  -110.0000,       2564,  1400.6,   3.2229,  34.5890,2,  34.5888,2,     39.4,2,    39.8,2,   130.7,2,    43.5,2,    0.02,2,   3.170,2,-999.0000,9,-999.0000,9,-999.0000,9,  2371.8,2,  -999.0,5,   7.3684,2,    25.00,   -0.32,2,  -231.3,2,     1.5,-999.0000,9, -999.00,9,    38.7,2,   46.70,2, -999.00,9,     -999.0,9, -999.00,9,    -522,2,          5,      -21.1,2,     -999.0,9,     -999.0,     -999.0,9,     -999.0,     -999.0,9,     -999.0,     -999.0,     -999.0,9,     -999.0,9,     -999.0,9,     -999.0,9,     -999.0,9,     -999.0,9,     -999.0,9,     -999.0,9
33RO20161119,        P18,       9,          1,          8,      11107,2,20161126,       0602,    20.0002,  -110.0000,       2564,  1200.7,   3.7103,  34.5676,2,  34.5652,2,     25.6,2,    25.5,2,   120.1,2,    44.3,2,    0.01,2,   3.269,2,   0.0098,2,   0.0040,2,   0.0000,2,  2368.4,2,  2391.6,2,   7.3393,2,    25.00,   -0.33,2,  -223.4,2,     1.6,        0,2, -999.00,9,    38.5,2,   46.80,2, -999.00,9,    43.8202,2, -999.00,9,    -512,2,          5,      -21.4,2,     -999.0,9,     -999.0,     -999.0,9,     -999.0,     -999.0,9,     -999.0,     -999.0,     -999.0,9,     -999.0,9,     -999.0,9,     -999.0,9,     -999.0,9,     -999.0,9,     -999.0,9,     -999.0,9
33RO20161119,        P18,       9,          1,          9,      11108,2,20161126,       0602,    20.0002,  -110.0000,       2564,   999.8,   4.2862,  34.5425,2,  34.5400,2,     13.8,2,    14.2,2,   108.6,2,    44.6,2,    0.01,2,   3.323,2,-999.0000,9,-999.0000,9,-999.0000,9,  2363.0,2,  2374.6,2,   7.3198,2,    25.00,   -0.36,2,  -207.1,2,     1.7,-999.0000,9, -999.00,9,    39.5,2,   49.00,2, -999.00,9,     -999.0,9, -999.00,9,    -497,2,          5,      -21.2,2,     -999.0,9,     -999.0,     -999.0,9,     -999.0,     -999.0,9,     -999.0,     -999.0,     -999.0,9,     -999.0,9,     -999.0,9,     -999.0,9,     -999.0,9,     -999.0,9,     -999.0,9,     -999.0,9
33RO20161119,        P18,       9,          1,         10,      11109,2,20161126,       0602,    20.0002,  -110.0000,       2564,   900.4,   4.7728,  34.5314,2,  34.5311,2,      7.1,2,     7.0,2,    99.3,2,    44.3,2,    0.01,2,   3.325,2,-999.0000,9,-999.0000,9,-999.0000,9,  2356.2,2,  2335.2,4,   7.3084,2,    25.00, -999.00,9,  -999.0,9,  -999.0,-999.0000,9, -999.00,9,    39.0,2,   48.00,2, -999.00,9,     -999.0,9, -999.00,9,  -999.0,9,     -999.0,     -999.0,9,     -999.0,9,     -999.0,     -999.0,9,     -999.0,     -999.0,9,     -999.0,     -999.0,     -999.0,9,     -999.0,9,     -999.0,9,     -999.0,9,     -999.0,9,     -999.0,9,     -999.0,9,     -999.0,9
33RO20161119,        P18,       9,          1,         11,      11110,2,20161126,       0602,    20.0002,  -110.0000,       2564,   781.4,   5.2027,  34.5193,2,  34.5177,2,      5.3,2,     4.8,2,    91.9,2,    43.2,2,    0.01,2,   3.306,2,-999.0000,9,-999.0000,9,-999.0000,9,  2348.0,6,  2356.1,2,   7.3089,2,    25.00,   -0.34,2,  -186.0,2,     1.6,-999.0000,9, -999.00,9,    39.4,2,   48.30,2, -999.00,9,     -999.0,9, -999.00,9,    -487,2,          5,      -21.3,2,     -999.0,9,     -999.0,     -999.0,9,     -999.0,     -999.0,9,     -999.0,     -999.0,     -999.0,9,     -999.0,9,     -999.0,9,     -999.0,9,     -999.0,9,     -999.0,9,     -999.0,9,     -999.0,9
33RO20161119,        P18,       9,          1,         12,      11111,2,20161126,       0602,    20.0002,  -110.0000,       2564,   689.7,   5.7283,  34.5020,2,  34.5033,2,      4.4,2,     4.1,2,    84.1,2,    41.5,2,    0.01,2,   3.240,2,-999.0000,9,-999.0000,9,-999.0000,9,  2339.2,2,  2343.0,2,   7.3111,6,    25.00, -999.00,9,  -999.0,9,  -999.0,-999.0000,9, -999.00,9,    40.7,2,   46.00,2, -999.00,9,     -999.0,9, -999.00,9,  -999.0,9,     -999.0,     -999.0,9,     -999.0,9,     -999.0,     -999.0,9,     -999.0,     -999.0,9,     -999.0,     -999.0,     -999.0,9,     -999.0,9,     -999.0,9,     -999.0,9,     -999.0,9,     -999.0,9,     -999.0,9,     -999.0,9
33RO20161119,        P18,       9,          1,         13,      11112,2,20161126,       0602,    20.0002,  -110.0000,       2564,   610.4,   6.3265,  34.4898,2,  34.4888,2,      3.9,2,     4.3,2,    75.7,2,    39.4,2,    0.01,2,   3.187,2,   0.0281,6,   0.0153,6,   0.0222,6,  2329.4,2,  2332.1,6,   7.3156,2,    25.00, -999.00,9,  -999.0,9,  -999.0,   0.0233,2, -999.00,9,    41.7,2,   42.50,2, -999.00,9,    51.9234,2, -999.00,9,  -999.0,9,     -999.0,     -999.0,9,     -999.0,9,     -999.0,     -999.0,9,     -999.0,     -999.0,9,     -999.0,     -999.0,     -999.0,9,     -999.0,9,     -999.0,9,     -999.0,9,     -999.0,9,     -999.0,9,     -999.0,9,     -999.0,9
33RO20161119,        P18,       9,          1,         14,      11113,2,20161126,       0602,    20.0002,  -110.0000,       2564,   530.7,   7.1652,  34.5079,2,  34.5078,2,      2.7,2,     3.0,6,    66.4,2,    36.1,2,    0.02,2,   3.125,2,-999.0000,9,-999.0000,9,-999.0000,9,  2319.8,2,  2323.5,2,   7.3247,2,    25.00,   -0.40,2,  -143.2,2,     1.8,-999.0000,9, -999.00,9,    42.1,2,   41.90,2, -999.00,9,     -999.0,9, -999.00,9,    -435,2,          5,      -21.3,2,     -999.0,9,     -999.0,     -999.0,9,     -999.0,     -999.0,9,     -999.0,     -999.0,     -999.0,9,     -999.0,9,     -999.0,9,     -999.0,9,     -999.0,9,     -999.0,9,     -999.0,9,     -999.0,9
33RO20161119,        P18,       9,          1,         15,      11114,2,20161126,       0602,    20.0002,  -110.0000,       2564,   450.6,   7.7660,  34.5044,2,  34.5035,2,      3.6,2,     3.7,2,    59.1,2,    34.3,2,    0.02,2,   3.049,2,-999.0000,9,-999.0000,9,-999.0000,9,  2308.3,2,  2315.9,2,   7.3282,2,    25.00, -999.00,9,  -999.0,9,  -999.0,-999.0000,9, -999.00,9,  -999.0,9, -999.00,9, -999.00,9,     -999.0,9, -999.00,9,  -999.0,9,     -999.0,     -999.0,9,     -999.0,9,     -999.0,     -999.0,9,     -999.0,     -999.0,9,     -999.0,     -999.0,     -999.0,9,     -999.0,9,     -999.0,9,     -999.0,9,     -999.0,9,     -999.0,9,     -999.0,9,     -999.0,9
33RO20161119,        P18,       9,          1,         16,      11115,2,20161126,       0602,    20.0002,  -110.0000,       2564,   380.2,   8.7721,  34.5398,2,  34.5386,2,      3.7,2,     3.8,2,    49.8,2,    30.8,2,    0.02,2,   2.925,2,-999.0000,9,-999.0000,9,-999.0000,9,  2300.1,2,  2310.1,2,   7.3386,2,    25.00,   -0.19,2,  -102.6,2,     1.8,-999.0000,9, -999.00,9,    44.2,2,   35.20,2, -999.00,9,     -999.0,9, -999.00,9,    -416,2,          5,      -21.3,2,     -999.0,9,     -999.0,     -999.0,9,     -999.0,     -999.0,9,     -999.0,     -999.0,     -999.0,9,     -999.0,9,     -999.0,9,     -999.0,9,     -999.0,9,     -999.0,9,     -999.0,9,     -999.0,9
33RO20161119,        P18,       9,          1,         17,      11116,2,20161126,       0602,    20.0002,  -110.0000,       2564,   315.3,   9.5138,  34.5705,2,  34.5698,2,      3.9,2,     3.8,2,    44.6,2,    28.4,2,    0.02,2,   2.848,2,   0.3889,2,   0.2148,2,   0.0910,2,  2293.3,2,  2304.2,2,   7.3466,2,    25.00, -999.00,9,  -999.0,9,  -999.0,   0.0471,2, -999.00,9,    45.8,2,   31.50,2, -999.00,9,    30.3314,2, -999.00,9,  -999.0,9,     -999.0,     -999.0,9,     -999.0,9,     -999.0,     -999.0,9,     -999.0,     -999.0,9,     -999.0,     -999.0,     -999.0,9,     -999.0,9,     -999.0,9,     -999.0,9,     -999.0,9,     -999.0,9,     -999.0,9,     -999.0,9
33RO20161119,        P18,       9,          1,         18,      11117,2,20161126,       0602,    20.0002,  -110.0000,       2564,   249.1,  11.1019,  34.7051,2,  34.7049,2,      2.4,2,     2.3,2,    36.6,2,    21.6,2,    1.71,2,   2.741,2,-999.0000,9,-999.0000,9,-999.0000,9,  2287.3,2,  2306.6,2,   7.3705,2,    25.00,   -0.26,2,   -51.2,2,     2.2,-999.0000,9, -999.00,9,    45.2,2,   24.90,2, -999.00,9,     -999.0,9, -999.00,9,    -405,2,          5,      -21.6,2,     -999.0,9,     -999.0,     -999.0,9,     -999.0,     -999.0,9,     -999.0,     -999.0,     -999.0,9,     -999.0,9,     -999.0,9,     -999.0,9,     -999.0,9,     -999.0,9,     -999.0,9,     -999.0,9
33RO20161119,        P18,       9,          1,         19,      11083,2,20161126,       0602,    20.0002,  -110.0000,       2564,   194.4,  12.2756,  34.7673,2,  34.7671,2,      2.5,2,     2.6,2,    31.6,2,    21.1,2,    1.86,2,   2.633,2,-999.0000,9,-999.0000,9,-999.0000,9,  2275.4,2,  2302.9,2,   7.3982,2,    25.00, -999.00,9,  -999.0,9,  -999.0,-999.0000,9, -999.00,9,    47.4,2,   24.60,2, -999.00,9,     -999.0,9, -999.00,9,  -999.0,9,     -999.0,     -999.0,9,     -999.0,9,     -999.0,     -999.0,9,     -999.0,     -999.0,9,     -999.0,     -999.0,     -999.0,9,     -999.0,9,     -999.0,9,       2.93,2,     -999.0,9,     -999.0,9,     -999.0,9,     -999.0,9
33RO20161119,        P18,       9,          1,         20,      11118,2,20161126,       0602,    20.0002,  -110.0000,       2564,   145.4,  13.3558,  34.7618,2,  34.7602,2,      3.1,2,     3.3,2,    29.0,2,    22.1,2,    0.59,2,   2.613,2,   1.1536,2,   0.6935,2,   0.4262,2,  2269.1,2,  2302.5,2,   7.4103,2,    25.00,   -0.38,2,   -13.6,2,     2.0,   0.0775,2, -999.00,9,    52.0,2,   25.70,2, -999.00,9,      20.21,2, -999.00,9,    -332,2,          5,     -999.0,9,     -999.0,9,     -999.0,     -999.0,9,     -999.0,     -999.0,9,     -999.0,     -999.0,     -999.0,9,     -999.0,9,     -999.0,9,       2.79,2,     -999.0,9,     -999.0,9,     -999.0,9,     -999.0,9
33RO20161119,        P18,       9,          1,         21,      11119,2,20161126,       0602,    20.0002,  -110.0000,       2564,   100.1,  14.6449,  34.6100,2,  34.6307,2,     19.1,2,    15.0,6,    24.6,2,    22.9,2,    0.03,2,   2.461,2,   1.5431,2,   0.9097,2,   0.7021,2,  2248.7,2,  2293.4,2,   7.4407,2,    25.00, -999.00,9,  -999.0,9,  -999.0,   0.2979,2, -999.00,9,    49.5,2,   25.40,2, -999.00,9,    40.9742,2, -999.00,9,  -999.0,9,     -999.0,     -999.0,9,     -999.0,9,     -999.0,     -999.0,9,     -999.0,     -999.0,9,     -999.0,     -999.0,     -999.0,9,     -999.0,9,     -999.0,9,     -999.0,9,     -999.0,9,     -999.0,9,     -999.0,9,     -999.0,9
33RO20161119,        P18,       9,          1,         22,      11120,2,20161126,       0602,    20.0002,  -110.0000,       2564,    60.3,  18.7051,  34.2965,2,  34.3052,2,    143.6,2,   124.9,2,     9.4,2,     9.1,2,    0.34,2,   1.301,2,   2.0529,2,   1.2256,2,   1.3667,2,  2132.7,2,  2275.5,2,   7.7315,2,    25.00,    0.42,2,     2.6,2,     2.1,   0.5731,2, -999.00,9,    64.2,2,   12.80,2, -999.00,9,    35.2588,2, -999.00,9,    -262,2,          5,        -22,2,     -999.0,9,     -999.0,     -999.0,9,     -999.0,     -999.0,9,     -999.0,     -999.0,     -999.0,9,     -999.0,9,     -999.0,9,       1.89,2,     -999.0,9,     -999.0,9,     -999.0,9,     -999.0,9
33RO20161119,        P18,       9,          1,         23,      11121,2,20161126,       0602,    20.0002,  -110.0000,       2564,    25.1,  28.0785,  34.4678,2,  34.4826,2,    195.2,2,   196.7,2,     1.8,2,     0.1,2,    0.01,2,   0.341,2,-999.0000,9,-999.0000,9,-999.0000,9,  1990.5,2,  2285.6,2,   8.0454,2,    25.00, -999.00,9,  -999.0,9,  -999.0,-999.0000,9, -999.00,9,    82.7,2,    3.60,2, -999.00,9,     -999.0,9, -999.00,9,  -999.0,9,     -999.0,     -999.0,9,     -999.0,9,     -999.0,     -999.0,9,     -999.0,     -999.0,9,     -999.0,     -999.0,     -999.0,9,     -999.0,9,     -999.0,9,       0.71,2,     -999.0,9,     -999.0,9,     -999.0,9,     -999.0,9
33RO20161119,        P18,       9,          1,         24,      11122,2,20161126,       0602,    20.0002,  -110.0000,       2564,     3.1,  28.0654,  34.4720,2,  34.4671,2,    195.3,2,   196.6,2,     1.7,2,     0.4,2,    0.01,2,   0.324,2,   1.5151,2,   0.9463,2,   1.3436,2,  1983.3,6,  2284.1,6,   8.0601,2,    25.00,    1.31,2,    12.1,2,     2.0,   1.3416,2, -999.00,9,    81.1,2,    4.40,2, -999.00,9,     6.4064,2, -999.00,9,    -200,2,          5,      -20.7,2,     -999.0,9,     -999.0,     -999.0,9,     -999.0,     -999.0,9,     -999.0,     -999.0,     -999.0,9,     -999.0,9,     -999.0,9,       0.71,2,     -999.0,9,     -999.0,9,     -999.0,9,     -999.0,9