BOTTLE,20230606CCHSIOCBG
EXPOCODE,SECT_ID,STNNBR,CASTNO,SAMPNO,BTLNBR,BTLNBR_FLAG_W,DATE,TIME,LATITUDE,LONGITUDE,DEPTH,CTDPRS,CTDTMP,CTDSAL,CTDSAL_FLAG_W,SALNTY,SALNTY_FLAG_W,CTDOXY,CTDOXY_FLAG_W,OXYGEN,OXYGEN_FLAG_W,SILCAT,SILCAT_FLAG_W,NITRAT,NITRAT_FLAG_W,NITRIT,NITRIT_FLAG_W,PHSPHT,PHSPHT_FLAG_W,CFC-11,CFC-11_FLAG_W,CFC-12,CFC-12_FLAG_W,SF6,SF6_FLAG_W,TCARBN,TCARBN_FLAG_W,ALKALI,ALKALI_FLAG_W,PH_SWS,PH_SWS_FLAG_W,PH_TMP,DELC13,DELC13_FLAG_W,DELC14,DELC14_FLAG_W,C14ERR,CCL4,CCL4_FLAG_W,POC,POC_FLAG_W,DOC,DOC_FLAG_W,TDN,TDN_FLAG_W,PON,PON_FLAG_W,N2O,N2O_FLAG_W,D15N_NO3,D15N_NO3_FLAG_W,14C-DOC,14C-DOC_FLAG_W,14C-DOCERR,13C-DOC,13C-DOC_FLAG_W,N2/ARGON_UNSTRIPPED,N2/ARGON_UNSTRIPPED_FLAG_W,N2/ARGON_UNSTRIPPED_ERROR,N2/ARGON,N2/ARGON_FLAG_W,N2/ARGON_ERROR,D15N_N2,D15N_N2_FLAG_W,D15N_N2_ERROR,D15N_NO3_ERROR,D15N_NO2+NO3,D15N_NO2+NO3_FLAG_W,D18O_NO2+NO3,D18O_NO2+NO3_FLAG_W,D18O_NO3,D18O_NO3_FLAG_W,TDP,TDP_FLAG_W,N2O_ALT_1,N2O_ALT_1_FLAG_W,D15N_N2O,D15N_N2O_FLAG_W,D18O_N2O,D18O_N2O_FLAG_W,D15N_ALPHA_N2O,D15N_ALPHA_N2O_FLAG_W
,,,,,,,,,,,METERS,DBAR,ITS-90,PSS-78,,PSS-78,,UMOL/KG,,UMOL/KG,,UMOL/KG,,UMOL/KG,,UMOL/KG,,UMOL/KG,,PMOL/KG,,PMOL/KG,,FMOL/KG,,UMOL/KG,,UMOL/KG,,,,DEG C,/MILLE,,/MILLE,,/MILLE,PMOL/KG,,UG/KG,,UMOL/KG,,UMOL/KG,,UG/KG,,NMOL/KG,,/MILLE,,/MILLE,,/MILLE,/MILLE,,,,,,,,/MILLE,,/MILLE,/MILLE,/MILLE,,/MILLE,,/MILLE,,UMOL/KG,,NMOL/L,,/MILLE,,/MILLE,,/MILLE,
33RO20161119,        P18,     134,          1,          1,      11010,2,20170105,       1713,   -33.0011,  -102.9989,       3665,  3716.1,   1.8102,  34.6903,2,  34.7077,4,    167.1,2,   169.0,2,   115.9,6,    34.4,6,    0.01,6,   2.364,6,   0.0041,2,   0.0023,2,   0.0000,2,  2296.6,6,  2391.6,2,   7.5826,2,    25.00, -999.00,9,  -999.0,9,  -999.0,   0.0126,2, -999.00,9,  -999.0,9, -999.00,9, -999.00,9,    20.5223,2,    5.18,2,  -999.0,9,     -999.0,     -999.0,9,     -999.0,9,     -999.0,     -999.0,9,     -999.0,     -999.0,9,     -999.0,     -999.0,       5.18,2,       1.98,2,       1.98,2,     -999.0,9,     -999.0,9,     -999.0,9,     -999.0,9,     -999.0,9
33RO20161119,        P18,     134,          1,          2,      11101,2,20170105,       1713,   -33.0011,  -102.9989,       3665,  3328.4,   1.7699,  34.6903,2,  34.7082,4,    166.8,2,   166.6,2,   115.8,6,    34.4,6,    0.00,6,   2.361,6,   0.0053,2,   0.0022,2,   0.0000,2,  2295.9,2,  2389.3,2,   7.5812,6,    25.00, -999.00,9,  -999.0,9,  -999.0,   0.0126,2, -999.00,9,  -999.0,9, -999.00,9, -999.00,9,    21.0639,2,    5.17,2,  -999.0,9,     -999.0,     -999.0,9,     -999.0,9,     -999.0,     -999.0,9,     -999.0,     -999.0,9,     -999.0,     -999.0,       5.17,2,        1.8,2,        1.8,2,     -999.0,9,     -999.0,9,     -999.0,9,     -999.0,9,     -999.0,9
33RO20161119,        P18,     134,          1,          3,      11102,2,20170105,       1713,   -33.0011,  -102.9989,       3665,  2960.6,   1.7503,  34.6882,2,  34.6895,2,    166.3,2,   166.2,2,   115.4,6,    34.4,6,    0.00,6,   2.362,6,   0.0035,2,   0.0015,2,   0.0000,2,  2292.6,2,  2386.8,6,   7.5829,2,    25.00, -999.00,9,  -999.0,9,  -999.0,    0.017,2, -999.00,9,  -999.0,9, -999.00,9, -999.00,9,    21.3747,2,    5.19,2,  -999.0,9,     -999.0,     -999.0,9,     -999.0,9,     -999.0,     -999.0,9,     -999.0,     -999.0,9,     -999.0,     -999.0,       5.19,2,       1.96,2,       1.96,2,     -999.0,9,     -999.0,9,     -999.0,9,     -999.0,9,     -999.0,9
33RO20161119,        P18,     134,          1,          4,      11103,2,20170105,       1713,   -33.0011,  -102.9989,       3665,  2684.9,   1.7719,  34.6841,2,  34.6844,2,    165.1,2,   165.4,2,   114.4,6,    34.4,6,    0.00,6,   2.369,6,   0.0046,2,   0.0027,2,   0.0000,2,  2292.1,2,  2385.0,2,   7.5778,2,    25.00, -999.00,9,  -999.0,9,  -999.0,   0.0153,2, -999.00,9,  -999.0,9, -999.00,9, -999.00,9,    21.5726,2,     5.2,2,  -999.0,9,     -999.0,     -999.0,9,     -999.0,9,     -999.0,     -999.0,9,     -999.0,     -999.0,9,     -999.0,     -999.0,        5.2,2,       1.91,2,       1.91,2,     -999.0,9,     -999.0,9,     -999.0,9,     -999.0,9,     -999.0,9
33RO20161119,        P18,     134,          1,          5,      11104,2,20170105,       1713,   -33.0011,  -102.9989,       3665,  2410.3,   1.8750,  34.6727,2,  34.6741,2,    161.5,2,   161.8,2,   111.7,6,    34.7,6,    0.00,6,   2.405,6,   0.0054,2,   0.0029,2,   0.0000,2,  2291.8,2,  2380.8,2,   7.5687,2,    25.00, -999.00,9,  -999.0,9,  -999.0,   0.0447,2, -999.00,9,  -999.0,9, -999.00,9, -999.00,9,    21.4697,2,    5.26,2,  -999.0,9,     -999.0,     -999.0,9,     -999.0,9,     -999.0,     -999.0,9,     -999.0,     -999.0,9,     -999.0,     -999.0,       5.26,2,       1.89,2,       1.89,2,     -999.0,9,     -999.0,9,     -999.0,9,     -999.0,9,     -999.0,9
33RO20161119,        P18,     134,          1,          6,      11105,2,20170105,       1713,   -33.0011,  -102.9989,       3665,  2130.4,   2.0890,  34.6449,2,  34.6453,2,    152.5,2,   153.2,2,   107.3,2,    35.4,2,    0.01,2,   2.488,2,   0.0038,2,   0.0018,2,   0.0000,2,  2293.8,2,  2378.1,2,   7.5554,2,    25.00, -999.00,9,  -999.0,9,  -999.0,    0.263,2, -999.00,9,  -999.0,9, -999.00,9, -999.00,9,    22.6583,2,    5.42,2,  -999.0,9,     -999.0,     -999.0,9,     -999.0,9,     -999.0,     -999.0,9,     -999.0,     -999.0,9,     -999.0,     -999.0,       5.42,2,       1.87,2,       1.87,2,     -999.0,9,     -999.0,9,     -999.0,9,     -999.0,9,     -999.0,9
33RO20161119,        P18,     134,          1,          7,      11106,2,20170105,       1713,   -33.0011,  -102.9989,       3665,  1850.0,   2.3961,  34.6070,2,  34.6097,2,    143.1,2,   143.5,6,   100.4,2,    36.4,2,    0.01,2,   2.549,2,   0.0031,2,   0.0019,2,   0.0427,2,  2293.4,2,  2370.7,2,   7.5362,2,    25.00, -999.00,9,  -999.0,9,  -999.0,   0.8501,2, -999.00,9,  -999.0,9, -999.00,9, -999.00,9,      23.95,2,    5.63,2,  -999.0,9,     -999.0,     -999.0,9,     -999.0,9,     -999.0,     -999.0,9,     -999.0,     -999.0,9,     -999.0,     -999.0,       5.63,2,       2.02,2,       2.02,2,     -999.0,9,     -999.0,9,     -999.0,9,     -999.0,9,     -999.0,9
33RO20161119,        P18,     134,          1,          8,      11107,2,20170105,       1713,   -33.0011,  -102.9989,       3665,  1570.1,   2.8516,  34.5646,2,  34.5721,2,    127.9,2,   127.6,2,    91.5,2,    37.8,2,    0.01,2,   2.631,2,   0.0033,6,   0.0022,6,   0.0000,6,  2290.2,2,  2360.1,6,   7.5081,2,    25.00, -999.00,9,  -999.0,9,  -999.0,   1.7215,2, -999.00,9,  -999.0,9, -999.00,9, -999.00,9,    27.0468,2,    5.96,2,  -999.0,9,     -999.0,     -999.0,9,     -999.0,9,     -999.0,     -999.0,9,     -999.0,     -999.0,9,     -999.0,     -999.0,       5.96,2,       2.22,2,       2.22,2,     -999.0,9,     -999.0,9,     -999.0,9,     -999.0,9,     -999.0,9
33RO20161119,        P18,     134,          1,          9,      11108,2,20170105,       1713,   -33.0011,  -102.9989,       3665,  1325.0,   3.3034,  34.4984,2,  34.4975,2,    123.1,2,   123.1,2,    75.2,2,    38.5,2,    0.01,2,   2.668,2,   0.0129,2,   0.0069,2,   0.0266,2,  2279.5,2,  2340.8,2,   7.4913,2,    25.00, -999.00,9,  -999.0,9,  -999.0,   2.4053,2, -999.00,9,  -999.0,9, -999.00,9, -999.00,9,    29.2932,2,    6.13,2,  -999.0,9,     -999.0,     -999.0,9,     -999.0,9,     -999.0,     -999.0,9,     -999.0,     -999.0,9,     -999.0,     -999.0,       6.13,2,       2.25,2,       2.25,2,     -999.0,9,     -999.0,9,     -999.0,9,     -999.0,9,     -999.0,9
33RO20161119,        P18,     134,          1,         10,      11109,2,20170105,       1713,   -33.0011,  -102.9989,       3665,  1174.6,   3.5339,  34.4142,2,  34.4358,2,    146.6,2,   146.2,2,    56.5,2,    36.9,2,    0.01,2,   2.542,2,   0.1260,2,   0.0647,2,   0.0000,2,  2248.2,2,  2318.8,2,   7.5157,2,    25.00, -999.00,9,  -999.0,9,  -999.0,   2.5938,2, -999.00,9,  -999.0,9, -999.00,9, -999.00,9,    27.3951,2,    5.93,2,  -999.0,9,     -999.0,     -999.0,9,     -999.0,9,     -999.0,     -999.0,9,     -999.0,     -999.0,9,     -999.0,     -999.0,       5.93,2,       2.21,2,       2.21,2,     -999.0,9,     -999.0,9,     -999.0,9,     -999.0,9,     -999.0,9
33RO20161119,        P18,     134,          1,         11,      11110,2,20170105,       1713,   -33.0011,  -102.9989,       3665,  1050.6,   3.8921,  34.3413,2,  34.3420,2,    174.9,2,   175.0,2,    40.4,2,    34.4,2,    0.01,2,   2.353,2,   0.5567,2,   0.2712,2,   0.0688,2,  2219.3,2,  2301.9,2,   7.5577,2,    25.00, -999.00,9,  -999.0,9,  -999.0,   2.2968,2, -999.00,9,  -999.0,9, -999.00,9, -999.00,9,    23.5485,2,    5.76,2,  -999.0,9,     -999.0,     -999.0,9,     -999.0,9,     -999.0,     -999.0,9,     -999.0,     -999.0,9,     -999.0,     -999.0,       5.76,2,       2.43,2,       2.43,2,     -999.0,9,     -999.0,9,     -999.0,9,     -999.0,9,     -999.0,9
33RO20161119,        P18,     134,          1,         12,      11111,2,20170105,       1713,   -33.0011,  -102.9989,       3665,   931.1,   4.6064,  34.2820,2,  34.2831,2,    203.6,2,   204.0,2,    24.1,2,    30.9,2,    0.01,2,   2.109,2,   1.6037,2,   0.7669,2,   0.2376,2,  2187.0,2,  2286.9,2,   7.6118,2,    25.00, -999.00,9,  -999.0,9,  -999.0,   2.1481,2, -999.00,9,  -999.0,9, -999.00,9, -999.00,9,    20.5806,2,    5.73,2,  -999.0,9,     -999.0,     -999.0,9,     -999.0,9,     -999.0,     -999.0,9,     -999.0,     -999.0,9,     -999.0,     -999.0,       5.73,2,       2.49,2,       2.49,2,     -999.0,9,     -999.0,9,     -999.0,9,     -999.0,9,     -999.0,9
33RO20161119,        P18,     134,          1,         13,      11112,2,20170105,       1713,   -33.0011,  -102.9989,       3665,   810.2,   5.1702,  34.2594,2,  34.2591,2,    226.4,2,   226.1,2,    15.2,2,    28.0,2,    0.01,2,   1.902,2,   2.7007,2,   1.3339,2,   0.5297,2,  2164.9,2,  2278.2,2,   7.6494,2,    25.00, -999.00,9,  -999.0,9,  -999.0,   1.1953,2, -999.00,9,  -999.0,9, -999.00,9, -999.00,9,    17.9455,2,     5.8,2,  -999.0,9,     -999.0,     -999.0,9,     -999.0,9,     -999.0,     -999.0,9,     -999.0,     -999.0,9,     -999.0,     -999.0,        5.8,2,       2.82,2,       2.82,2,     -999.0,9,     -999.0,9,     -999.0,9,     -999.0,9,     -999.0,9
33RO20161119,        P18,     134,          1,         14,      11113,2,20170105,       1713,   -33.0011,  -102.9989,       3665,   700.2,   5.6634,  34.2667,2,  34.2670,2,    238.2,2,   238.0,2,    10.7,2,    25.9,2,    0.01,2,   1.761,2,   3.4678,2,   1.7327,2,   0.7789,2,  2155.1,2,  2276.5,2,   7.6739,2,    25.00, -999.00,9,  -999.0,9,  -999.0,    1.143,2, -999.00,9,  -999.0,9, -999.00,9, -999.00,9,     17.265,2,     5.9,2,  -999.0,9,     -999.0,     -999.0,9,     -999.0,9,     -999.0,     -999.0,9,     -999.0,     -999.0,9,     -999.0,     -999.0,        5.9,2,       3.09,2,       3.09,2,     -999.0,9,     -999.0,9,     -999.0,9,     -999.0,9,     -999.0,9
33RO20161119,        P18,     134,          1,         15,      11114,2,20170105,       1713,   -33.0011,  -102.9989,       3665,   589.9,   6.1507,  34.2892,2,  34.3024,4,    245.6,2,   245.8,2,     8.4,2,    23.9,2,    0.01,2,   1.655,2,   3.9221,2,   2.0206,2,   1.0601,2,  2146.7,2,  2275.8,2,   7.6903,2,    25.00, -999.00,9,  -999.0,9,  -999.0,   0.8444,2, -999.00,9,  -999.0,9, -999.00,9, -999.00,9,    16.3366,2,    5.84,2,  -999.0,9,     -999.0,     -999.0,9,     -999.0,9,     -999.0,     -999.0,9,     -999.0,     -999.0,9,     -999.0,     -999.0,       5.84,2,       3.24,2,       3.24,2,     -999.0,9,     -999.0,9,     -999.0,9,     -999.0,9,     -999.0,9
33RO20161119,        P18,     134,          1,         16,      11115,2,20170105,       1713,   -33.0011,  -102.9989,       3665,   490.6,   6.5714,  34.3070,2,  34.3140,2,    240.3,2,   241.8,6,     7.3,2,    23.2,2,    0.01,2,   1.621,2,   3.9903,2,   2.1175,2,   1.2984,2,  2146.9,2,  2273.9,2,   7.6860,2,    25.00, -999.00,9,  -999.0,9,  -999.0,   1.6868,2, -999.00,9,  -999.0,9, -999.00,9, -999.00,9,    18.0062,2,    5.89,2,  -999.0,9,     -999.0,     -999.0,9,     -999.0,9,     -999.0,     -999.0,9,     -999.0,     -999.0,9,     -999.0,     -999.0,       5.89,2,        3.2,2,        3.2,2,     -999.0,9,     -999.0,9,     -999.0,9,     -999.0,9,     -999.0,9
33RO20161119,        P18,     134,          1,         17,      11116,2,20170105,       1713,   -33.0011,  -102.9989,       3665,   395.0,   7.3704,  34.2939,2,  34.3294,4,    235.7,2,   235.5,2,     5.0,2,    21.6,2,    0.01,2,   1.520,2,   3.9602,2,   2.1213,2,   1.4461,2,  2142.6,6,  2270.2,2,   7.6912,2,    25.00, -999.00,9,  -999.0,9,  -999.0,   2.0595,2, -999.00,9,  -999.0,9, -999.00,9, -999.00,9,    23.0925,2,    6.19,2,  -999.0,9,     -999.0,     -999.0,9,     -999.0,9,     -999.0,     -999.0,9,     -999.0,     -999.0,9,     -999.0,     -999.0,       6.19,2,       3.77,2,       3.77,2,     -999.0,9,     -999.0,9,     -999.0,9,     -999.0,9,     -999.0,9
33RO20161119,        P18,     134,          1,         18,      11117,2,20170105,       1713,   -33.0011,  -102.9989,       3665,   305.8,   9.0707,  34.2949,2,  34.2965,2,    226.1,2,   225.7,2,     2.9,2,    17.8,2,    0.01,2,   1.304,2,   3.6336,6,   2.0246,6,   1.5289,6,  2125.7,2,  2266.9,2,   7.7274,2,    25.00, -999.00,9,  -999.0,9,  -999.0,   2.2708,2, -999.00,9,  -999.0,9, -999.00,9, -999.00,9,    22.1049,2,    7.41,2,  -999.0,9,     -999.0,     -999.0,9,     -999.0,9,     -999.0,     -999.0,9,     -999.0,     -999.0,9,     -999.0,     -999.0,       7.41,2,       4.37,2,       4.51,2,     -999.0,9,     -999.0,9,     -999.0,9,     -999.0,9,     -999.0,9
33RO20161119,        P18,     134,          1,         19,      11083,2,20170105,       1713,   -33.0011,  -102.9989,       3665,   224.6,  11.9056,  34.4777,2,  34.4811,2,    221.0,2,   220.3,2,     1.2,2,    10.6,2,    0.02,2,   0.845,2,   3.1437,2,   1.8215,2,   1.7487,2,  2103.2,2,  2274.0,2,   7.8002,2,    25.00, -999.00,9,  -999.0,9,  -999.0,   2.2043,2, -999.00,9,  -999.0,9, -999.00,9, -999.00,9,    16.4469,2,    8.91,2,  -999.0,9,     -999.0,     -999.0,9,     -999.0,9,     -999.0,     -999.0,9,     -999.0,     -999.0,9,     -999.0,     -999.0,       8.97,2,       4.88,2,       4.93,2,     -999.0,9,     -999.0,9,     -999.0,9,     -999.0,9,     -999.0,9
33RO20161119,        P18,     134,          1,         20,      11118,2,20170105,       1713,   -33.0011,  -102.9989,       3665,   150.2,  14.7698,  34.5840,2,  34.5850,2,    240.4,2,   236.1,2,     0.4,2,     2.1,2,    0.26,2,   0.387,2,   2.6807,2,   1.6022,2,   1.9318,2,  2062.2,2,  2279.7,2,   7.8973,2,    25.00, -999.00,9,  -999.0,9,  -999.0,   0.0201,2, -999.00,9,  -999.0,9, -999.00,9, -999.00,9,     9.8372,2, -999.00,9,  -999.0,9,     -999.0,     -999.0,9,     -999.0,9,     -999.0,     -999.0,9,     -999.0,     -999.0,9,     -999.0,     -999.0,     -999.0,9,     -999.0,9,     -999.0,9,     -999.0,9,     -999.0,9,     -999.0,9,     -999.0,9,     -999.0,9
33RO20161119,        P18,     134,          1,         21,      11119,2,20170105,       1713,   -33.0011,  -102.9989,       3665,    74.9,  16.4630,  34.6494,2,  34.6484,2,    252.0,2,   253.1,2,     0.3,2,     0.0,2,    0.01,2,   0.154,2,   2.5217,2,   1.5176,2,   1.9445,2,  2036.8,2,  2282.6,6,   7.9503,2,    25.00, -999.00,9,  -999.0,9,  -999.0,   0.0186,2, -999.00,9,  -999.0,9, -999.00,9, -999.00,9,     8.6458,2, -999.00,9,  -999.0,9,     -999.0,     -999.0,9,     -999.0,9,     -999.0,     -999.0,9,     -999.0,     -999.0,9,     -999.0,     -999.0,     -999.0,9,     -999.0,9,     -999.0,9,     -999.0,9,     -999.0,9,     -999.0,9,     -999.0,9,     -999.0,9
33RO20161119,        P18,     134,          1,         22,      11120,2,20170105,       1713,   -33.0011,  -102.9989,       3665,    47.9,  17.6731,  34.5383,2,  34.5479,2,    248.0,2,   250.0,2,     0.3,2,     0.0,2,    0.01,2,   0.158,2,   2.4740,2,   1.4867,2,   1.9138,2,  2031.6,6,  2276.1,2,   7.9480,6,    25.00, -999.00,9,  -999.0,9,  -999.0,   0.1432,2, -999.00,9,  -999.0,9, -999.00,9, -999.00,9,     8.4459,2, -999.00,9,  -999.0,9,     -999.0,     -999.0,9,     -999.0,9,     -999.0,     -999.0,9,     -999.0,     -999.0,9,     -999.0,     -999.0,     -999.0,9,     -999.0,9,     -999.0,9,     -999.0,9,     -999.0,9,     -999.0,9,     -999.0,9,     -999.0,9
33RO20161119,        P18,     134,          1,         23,      11121,2,20170105,       1713,   -33.0011,  -102.9989,       3665,    20.1,  21.3079,  34.6874,2,  34.6301,2,    225.0,2,   227.3,2,     0.3,2,     0.0,2,    0.00,2,   0.151,2,   2.0686,2,   1.2795,2,   1.6911,2,  2030.1,2,  2278.5,2,   7.9565,2,    25.00, -999.00,9,  -999.0,9,  -999.0,   1.2138,2, -999.00,9,  -999.0,9, -999.00,9, -999.00,9,     7.3726,2, -999.00,9,  -999.0,9,     -999.0,     -999.0,9,     -999.0,9,     -999.0,     -999.0,9,     -999.0,     -999.0,9,     -999.0,     -999.0,     -999.0,9,     -999.0,9,     -999.0,9,     -999.0,9,     -999.0,9,     -999.0,9,     -999.0,9,     -999.0,9
33RO20161119,        P18,     134,          1,         24,      11122,2,20170105,       1713,   -33.0011,  -102.9989,       3665,     3.1,  21.6092,  34.7216,2,  34.7215,2,    223.5,2,   225.2,2,     0.3,2,     0.0,2,    0.01,2,   0.162,2,   2.0404,2,   1.2576,2,   1.6712,2,  2036.3,2,  2284.5,2,   7.9559,2,    25.00, -999.00,9,  -999.0,9,  -999.0,   2.3397,2, -999.00,9,  -999.0,9, -999.00,9, -999.00,9,     7.3898,2, -999.00,9,  -999.0,9,     -999.0,     -999.0,9,     -999.0,9,     -999.0,     -999.0,9,     -999.0,     -999.0,9,     -999.0,     -999.0,     -999.0,9,     -999.0,9,     -999.0,9,     -999.0,9,     -999.0,9,     -999.0,9,     -999.0,9,     -999.0,9