BOTTLE,20230606CCHSIOCBG
EXPOCODE,SECT_ID,STNNBR,CASTNO,SAMPNO,BTLNBR,BTLNBR_FLAG_W,DATE,TIME,LATITUDE,LONGITUDE,DEPTH,CTDPRS,CTDTMP,CTDSAL,CTDSAL_FLAG_W,SALNTY,SALNTY_FLAG_W,CTDOXY,CTDOXY_FLAG_W,OXYGEN,OXYGEN_FLAG_W,SILCAT,SILCAT_FLAG_W,NITRAT,NITRAT_FLAG_W,NITRIT,NITRIT_FLAG_W,PHSPHT,PHSPHT_FLAG_W,CFC-11,CFC-11_FLAG_W,CFC-12,CFC-12_FLAG_W,SF6,SF6_FLAG_W,TCARBN,TCARBN_FLAG_W,ALKALI,ALKALI_FLAG_W,PH_SWS,PH_SWS_FLAG_W,PH_TMP,DELC13,DELC13_FLAG_W,DELC14,DELC14_FLAG_W,C14ERR,CCL4,CCL4_FLAG_W,POC,POC_FLAG_W,DOC,DOC_FLAG_W,TDN,TDN_FLAG_W,PON,PON_FLAG_W,N2O,N2O_FLAG_W,D15N_NO3,D15N_NO3_FLAG_W,14C-DOC,14C-DOC_FLAG_W,14C-DOCERR,13C-DOC,13C-DOC_FLAG_W,N2/ARGON_UNSTRIPPED,N2/ARGON_UNSTRIPPED_FLAG_W,N2/ARGON_UNSTRIPPED_ERROR,N2/ARGON,N2/ARGON_FLAG_W,N2/ARGON_ERROR,D15N_N2,D15N_N2_FLAG_W,D15N_N2_ERROR,D15N_NO3_ERROR,D15N_NO2+NO3,D15N_NO2+NO3_FLAG_W,D18O_NO2+NO3,D18O_NO2+NO3_FLAG_W,D18O_NO3,D18O_NO3_FLAG_W,TDP,TDP_FLAG_W,N2O_ALT_1,N2O_ALT_1_FLAG_W,D15N_N2O,D15N_N2O_FLAG_W,D18O_N2O,D18O_N2O_FLAG_W,D15N_ALPHA_N2O,D15N_ALPHA_N2O_FLAG_W
,,,,,,,,,,,METERS,DBAR,ITS-90,PSS-78,,PSS-78,,UMOL/KG,,UMOL/KG,,UMOL/KG,,UMOL/KG,,UMOL/KG,,UMOL/KG,,PMOL/KG,,PMOL/KG,,FMOL/KG,,UMOL/KG,,UMOL/KG,,,,DEG C,/MILLE,,/MILLE,,/MILLE,PMOL/KG,,UG/KG,,UMOL/KG,,UMOL/KG,,UG/KG,,NMOL/KG,,/MILLE,,/MILLE,,/MILLE,/MILLE,,,,,,,,/MILLE,,/MILLE,/MILLE,/MILLE,,/MILLE,,/MILLE,,UMOL/KG,,NMOL/L,,/MILLE,,/MILLE,,/MILLE,
33RO20161119,        P18,     128,          1,          1,      11010,2,20170104,       0339,   -29.9998,  -102.9998,       3616,  3657.7,   1.8329,  34.6886,2,  34.6872,2,    166.5,2,   166.1,6,   116.9,6,    34.4,6,    0.01,6,   2.408,6,   0.0005,2,   0.0002,2,   0.0000,2,  2295.9,6,  2389.4,2,   7.5827,2,    25.00, -999.00,9,  -999.0,9,  -999.0,   0.0063,2, -999.00,9,  -999.0,9, -999.00,9, -999.00,9,    20.3526,2, -999.00,9,  -999.0,9,     -999.0,     -999.0,9,     -999.0,9,     -999.0,     -999.0,9,     -999.0,     -999.0,9,     -999.0,     -999.0,     -999.0,9,     -999.0,9,     -999.0,9,     -999.0,9,     -999.0,9,     -999.0,9,     -999.0,9,     -999.0,9
33RO20161119,        P18,     128,          1,          2,      11101,2,20170104,       0339,   -29.9998,  -102.9998,       3616,  3279.4,   1.8094,  34.6859,2,  34.6842,2,    165.4,2,   165.6,2,   117.0,6,    34.4,6,    0.01,6,   2.417,6,   0.0015,2,   0.0012,2,   0.0000,2,  2297.0,2,  2388.6,2,   7.5819,6,    25.00, -999.00,9,  -999.0,9,  -999.0,   0.0081,2, -999.00,9,  -999.0,9, -999.00,9, -999.00,9,    20.6137,2, -999.00,9,  -999.0,9,     -999.0,     -999.0,9,     -999.0,9,     -999.0,     -999.0,9,     -999.0,     -999.0,9,     -999.0,     -999.0,     -999.0,9,     -999.0,9,     -999.0,9,     -999.0,9,     -999.0,9,     -999.0,9,     -999.0,9,     -999.0,9
33RO20161119,        P18,     128,          1,          3,      11102,2,20170104,       0339,   -29.9998,  -102.9998,       3616,  2959.8,   1.8075,  34.6798,2,  34.6784,2,    163.9,2,   165.7,2,   117.5,6,    34.7,6,    0.01,6,   2.427,6,   0.0027,2,   0.0014,2,   0.0000,2,  2297.3,2,  2389.8,6,   7.5792,2,    25.00, -999.00,9,  -999.0,9,  -999.0,   0.0335,2, -999.00,9,  -999.0,9, -999.00,9, -999.00,9,    20.2512,2, -999.00,9,  -999.0,9,     -999.0,     -999.0,9,     -999.0,9,     -999.0,     -999.0,9,     -999.0,     -999.0,9,     -999.0,     -999.0,     -999.0,9,     -999.0,9,     -999.0,9,     -999.0,9,     -999.0,9,     -999.0,9,     -999.0,9,     -999.0,9
33RO20161119,        P18,     128,          1,          4,      11103,2,20170104,       0339,   -29.9998,  -102.9998,       3616,  2685.3,   1.8156,  34.6732,2,  34.6715,2,    161.3,2,   162.3,2,   117.9,6,    34.8,6,    0.01,6,   2.447,6,   0.0032,6,   0.0017,6,   0.0000,6,  2297.2,2,  2389.4,2,   7.5789,2,    25.00, -999.00,9,  -999.0,9,  -999.0,   0.0497,2, -999.00,9,  -999.0,9, -999.00,9, -999.00,9,     21.203,2, -999.00,9,  -999.0,9,     -999.0,     -999.0,9,     -999.0,9,     -999.0,     -999.0,9,     -999.0,     -999.0,9,     -999.0,     -999.0,     -999.0,9,     -999.0,9,     -999.0,9,     -999.0,9,     -999.0,9,     -999.0,9,     -999.0,9,     -999.0,9
33RO20161119,        P18,     128,          1,          5,      11104,2,20170104,       0339,   -29.9998,  -102.9998,       3616,  2410.3,   1.8476,  34.6663,2,  34.6647,2,    159.5,2,   160.4,2,   116.5,2,    34.8,2,    0.00,2,   2.442,2,   0.0039,2,   0.0018,2,   0.0000,2,  2298.7,2,  2389.2,2,   7.5734,2,    25.00, -999.00,9,  -999.0,9,  -999.0,    0.066,2, -999.00,9,  -999.0,9, -999.00,9, -999.00,9,    21.4318,2, -999.00,9,  -999.0,9,     -999.0,     -999.0,9,     -999.0,9,     -999.0,     -999.0,9,     -999.0,     -999.0,9,     -999.0,     -999.0,     -999.0,9,     -999.0,9,     -999.0,9,     -999.0,9,     -999.0,9,     -999.0,9,     -999.0,9,     -999.0,9
33RO20161119,        P18,     128,          1,          6,      11105,2,20170104,       0339,   -29.9998,  -102.9998,       3616,  2129.5,   1.9503,  34.6545,2,  34.6534,2,    158.0,2,   158.5,2,   112.4,2,    35.0,2,    0.01,2,   2.449,2,   0.0061,2,   0.0022,2,   0.0000,2,  2295.3,2,  2384.0,2,   7.5677,2,    25.00, -999.00,9,  -999.0,9,  -999.0,   0.4693,2, -999.00,9,  -999.0,9, -999.00,9, -999.00,9,    22.1844,2, -999.00,9,  -999.0,9,     -999.0,     -999.0,9,     -999.0,9,     -999.0,     -999.0,9,     -999.0,     -999.0,9,     -999.0,     -999.0,     -999.0,9,     -999.0,9,     -999.0,9,     -999.0,9,     -999.0,9,     -999.0,9,     -999.0,9,     -999.0,9
33RO20161119,        P18,     128,          1,          7,      11106,2,20170104,       0339,   -29.9998,  -102.9998,       3616,  1851.0,   2.2124,  34.6247,2,  34.6241,2,    155.9,2,   156.9,2,   101.5,2,    35.1,2,    0.01,2,   2.468,2,   0.0116,2,   0.0070,2,   0.0000,2,  2286.7,2,  2371.4,2,   7.5569,2,    25.00, -999.00,9,  -999.0,9,  -999.0,   1.0724,2, -999.00,9,  -999.0,9, -999.00,9, -999.00,9,    22.5002,2, -999.00,9,  -999.0,9,     -999.0,     -999.0,9,     -999.0,9,     -999.0,     -999.0,9,     -999.0,     -999.0,9,     -999.0,     -999.0,     -999.0,9,     -999.0,9,     -999.0,9,     -999.0,9,     -999.0,9,     -999.0,9,     -999.0,9,     -999.0,9
33RO20161119,        P18,     128,          1,          8,      11107,2,20170104,       0339,   -29.9998,  -102.9998,       3616,  1569.9,   2.6487,  34.5707,2,  34.5687,2,    144.7,2,   145.1,2,    91.0,2,    36.3,2,    0.00,2,   2.552,2,   0.0069,2,   0.0039,2,   0.0000,2,  2284.0,2,  2359.7,2,   7.5342,2,    25.00, -999.00,9,  -999.0,9,  -999.0,   1.9256,2, -999.00,9,  -999.0,9, -999.00,9, -999.00,9,    23.6857,2, -999.00,9,  -999.0,9,     -999.0,     -999.0,9,     -999.0,9,     -999.0,     -999.0,9,     -999.0,     -999.0,9,     -999.0,     -999.0,     -999.0,9,     -999.0,9,     -999.0,9,     -999.0,9,     -999.0,9,     -999.0,9,     -999.0,9,     -999.0,9
33RO20161119,        P18,     128,          1,          9,      11108,2,20170104,       0339,   -29.9998,  -102.9998,       3616,  1325.4,   3.2142,  34.5239,2,  34.5224,2,    128.2,2,   128.1,2,    80.9,2,    37.8,2,    0.01,2,   2.665,2,   0.0039,2,   0.0026,2,   0.0000,2,  2284.0,2,  2347.1,2,   7.5070,2,    25.00, -999.00,9,  -999.0,9,  -999.0,   2.1639,2, -999.00,9,  -999.0,9, -999.00,9, -999.00,9,    27.0441,2, -999.00,9,  -999.0,9,     -999.0,     -999.0,9,     -999.0,9,     -999.0,     -999.0,9,     -999.0,     -999.0,9,     -999.0,     -999.0,     -999.0,9,     -999.0,9,     -999.0,9,     -999.0,9,     -999.0,9,     -999.0,9,     -999.0,9,     -999.0,9
33RO20161119,        P18,     128,          1,         10,      11109,2,20170104,       0339,   -29.9998,  -102.9998,       3616,  1176.4,   3.5384,  34.4679,2,  34.4693,2,    128.5,2,   128.8,2,    67.8,2,    37.9,2,    0.01,2,   2.669,2,   0.0199,2,   0.0110,2,   0.0000,2,  2268.9,2,  2331.4,2,   7.4981,2,    25.00, -999.00,9,  -999.0,9,  -999.0,   2.4451,2, -999.00,9,  -999.0,9, -999.00,9, -999.00,9,    28.5397,2, -999.00,9,  -999.0,9,     -999.0,     -999.0,9,     -999.0,9,     -999.0,     -999.0,9,     -999.0,     -999.0,9,     -999.0,     -999.0,     -999.0,9,     -999.0,9,     -999.0,9,     -999.0,9,     -999.0,9,     -999.0,9,     -999.0,9,     -999.0,9
33RO20161119,        P18,     128,          1,         11,      11110,2,20170104,       0339,   -29.9998,  -102.9998,       3616,  1050.1,   3.7901,  34.3827,2,  34.3820,2,    155.7,2,   155.9,2,    49.1,2,    35.9,2,    0.01,2,   2.501,2,   0.2074,2,   0.1036,2,   0.0266,2,  2236.8,2,  2309.6,6,   7.5322,2,    25.00, -999.00,9,  -999.0,9,  -999.0,   2.0505,2, -999.00,9,  -999.0,9, -999.00,9, -999.00,9,    26.0305,2, -999.00,9,  -999.0,9,     -999.0,     -999.0,9,     -999.0,9,     -999.0,     -999.0,9,     -999.0,     -999.0,9,     -999.0,     -999.0,     -999.0,9,     -999.0,9,     -999.0,9,     -999.0,9,     -999.0,9,     -999.0,9,     -999.0,9,     -999.0,9
33RO20161119,        P18,     128,          1,         12,      11111,2,20170104,       0339,   -29.9998,  -102.9998,       3616,   929.9,   4.2927,  34.3148,2,  34.3139,2,    184.9,2,   184.9,2,    32.7,2,    32.9,2,    0.01,2,   2.303,2,   0.8392,2,   0.4101,2,   0.1198,2,  2207.3,2,  2295.1,2,   7.5795,2,    25.00, -999.00,9,  -999.0,9,  -999.0,   1.2987,2, -999.00,9,  -999.0,9, -999.00,9, -999.00,9,    22.6028,2, -999.00,9,  -999.0,9,     -999.0,     -999.0,9,     -999.0,9,     -999.0,     -999.0,9,     -999.0,     -999.0,9,     -999.0,     -999.0,     -999.0,9,     -999.0,9,     -999.0,9,     -999.0,9,     -999.0,9,     -999.0,9,     -999.0,9,     -999.0,9
33RO20161119,        P18,     128,          1,         13,      11112,2,20170104,       0339,   -29.9998,  -102.9998,       3616,   810.1,   5.0265,  34.2791,2,  34.2770,2,    204.0,2,   205.9,2,    20.1,2,    30.0,2,    0.01,2,   2.100,2,   2.0740,2,   1.0084,2,   0.3301,2,  2183.0,2,  2282.2,2,   7.6162,2,    25.00, -999.00,9,  -999.0,9,  -999.0,   0.8043,2, -999.00,9,  -999.0,9, -999.00,9, -999.00,9,    20.6293,2, -999.00,9,  -999.0,9,     -999.0,     -999.0,9,     -999.0,9,     -999.0,     -999.0,9,     -999.0,     -999.0,9,     -999.0,     -999.0,     -999.0,9,     -999.0,9,     -999.0,9,     -999.0,9,     -999.0,9,     -999.0,9,     -999.0,9,     -999.0,9
33RO20161119,        P18,     128,          1,         14,      11113,2,20170104,       0339,   -29.9998,  -102.9998,       3616,   700.1,   5.5276,  34.2679,2,  34.2707,2,    227.6,2,   227.0,2,    13.0,2,    27.0,2,    0.01,2,   1.892,2,   3.1552,2,   1.5642,2,   0.6366,2,  2163.7,2,  2277.5,2,   7.6548,2,    25.00, -999.00,9,  -999.0,9,  -999.0,   0.8482,2, -999.00,9,  -999.0,9, -999.00,9, -999.00,9,     18.957,2, -999.00,9,  -999.0,9,     -999.0,     -999.0,9,     -999.0,9,     -999.0,     -999.0,9,     -999.0,     -999.0,9,     -999.0,     -999.0,     -999.0,9,     -999.0,9,     -999.0,9,     -999.0,9,     -999.0,9,     -999.0,9,     -999.0,9,     -999.0,9
33RO20161119,        P18,     128,          1,         15,      11114,2,20170104,       0339,   -29.9998,  -102.9998,       3616,   589.9,   6.0855,  34.2880,2,  34.2860,2,    228.0,2,   226.4,2,    10.5,2,    25.8,2,    0.01,2,   1.828,2,   3.6243,2,   1.8400,2,   0.9002,2,  2159.0,2,  2276.4,2,   7.6576,2,    25.00, -999.00,9,  -999.0,9,  -999.0,   0.8189,2, -999.00,9,  -999.0,9, -999.00,9, -999.00,9,     20.104,2, -999.00,9,  -999.0,9,     -999.0,     -999.0,9,     -999.0,9,     -999.0,     -999.0,9,     -999.0,     -999.0,9,     -999.0,     -999.0,     -999.0,9,     -999.0,9,     -999.0,9,     -999.0,9,     -999.0,9,     -999.0,9,     -999.0,9,     -999.0,9
33RO20161119,        P18,     128,          1,         16,      11115,2,20170104,       0339,   -29.9998,  -102.9998,       3616,   490.7,   6.7520,  34.3063,2,  34.3033,2,    219.8,2,   218.8,2,     8.7,2,    24.7,2,    0.01,2,   1.772,2,   3.7325,2,   1.9530,2,   1.0832,2,  2159.6,2,  2273.8,2,   7.6498,2,    25.00, -999.00,9,  -999.0,9,  -999.0,   1.6597,2, -999.00,9,  -999.0,9, -999.00,9, -999.00,9,    22.4822,2, -999.00,9,  -999.0,9,     -999.0,     -999.0,9,     -999.0,9,     -999.0,     -999.0,9,     -999.0,     -999.0,9,     -999.0,     -999.0,     -999.0,9,     -999.0,9,     -999.0,9,     -999.0,9,     -999.0,9,     -999.0,9,     -999.0,9,     -999.0,9
33RO20161119,        P18,     128,          1,         17,      11116,2,20170104,       0339,   -29.9998,  -102.9998,       3616,   395.4,   8.2858,  34.3142,2,  34.3087,2,    171.2,2,   177.5,2,     8.8,2,    24.1,2,    0.01,2,   1.838,2,   3.2647,2,   1.7556,2,   1.1481,2,  2172.8,6,  2268.7,2,   7.6109,2,    25.00, -999.00,9,  -999.0,9,  -999.0,   1.8337,2, -999.00,9,  -999.0,9, -999.00,9, -999.00,9,    29.3421,2, -999.00,9,  -999.0,9,     -999.0,     -999.0,9,     -999.0,9,     -999.0,     -999.0,9,     -999.0,     -999.0,9,     -999.0,     -999.0,     -999.0,9,     -999.0,9,     -999.0,9,     -999.0,9,     -999.0,9,     -999.0,9,     -999.0,9,     -999.0,9
33RO20161119,        P18,     128,          1,         18,      11117,2,20170104,       0339,   -29.9998,  -102.9998,       3616,   305.5,  10.7649,  34.3547,2,  34.3494,2,    217.5,2,   217.1,2,     2.1,2,    14.2,2,    0.01,2,   1.141,2,   3.3432,6,   1.9020,6,   1.5565,6,  2113.7,2,  2265.8,2,   7.7596,2,    25.00, -999.00,9,  -999.0,9,  -999.0,   1.7886,2, -999.00,9,  -999.0,9, -999.00,9, -999.00,9,    19.2279,2, -999.00,9,  -999.0,9,     -999.0,     -999.0,9,     -999.0,9,     -999.0,     -999.0,9,     -999.0,     -999.0,9,     -999.0,     -999.0,     -999.0,9,     -999.0,9,     -999.0,9,     -999.0,9,     -999.0,9,     -999.0,9,     -999.0,9,     -999.0,9
33RO20161119,        P18,     128,          1,         19,      11083,2,20170104,       0339,   -29.9998,  -102.9998,       3616,   225.0,  14.0692,  34.6440,2,  34.6440,2,    213.2,2,   212.7,2,     0.9,2,     6.4,2,    0.02,2,   0.660,2,   2.8173,2,   1.6670,2,   1.6630,2,  2087.1,2,  2280.2,2,   7.8446,2,    25.00, -999.00,9,  -999.0,9,  -999.0,   1.9555,2, -999.00,9,  -999.0,9, -999.00,9, -999.00,9,    11.9752,2, -999.00,9,  -999.0,9,     -999.0,     -999.0,9,     -999.0,9,     -999.0,     -999.0,9,     -999.0,     -999.0,9,     -999.0,     -999.0,     -999.0,9,     -999.0,9,     -999.0,9,     -999.0,9,     -999.0,9,     -999.0,9,     -999.0,9,     -999.0,9
33RO20161119,        P18,     128,          1,         20,      11118,2,20170104,       0339,   -29.9998,  -102.9998,       3616,   165.2,  16.7007,  34.8801,2,  34.8753,2,    235.1,2,   232.9,2,     0.6,2,     0.2,2,    0.07,2,   0.271,2,   2.4309,2,   1.4683,2,   1.7709,2,  2054.4,2,  2293.5,2,   7.9346,2,    25.00, -999.00,9,  -999.0,9,  -999.0,   0.0128,2, -999.00,9,  -999.0,9, -999.00,9, -999.00,9,     8.4321,2, -999.00,9,  -999.0,9,     -999.0,     -999.0,9,     -999.0,9,     -999.0,     -999.0,9,     -999.0,     -999.0,9,     -999.0,     -999.0,     -999.0,9,     -999.0,9,     -999.0,9,     -999.0,9,     -999.0,9,     -999.0,9,     -999.0,9,     -999.0,9
33RO20161119,        P18,     128,          1,         21,      11119,2,20170104,       0339,   -29.9998,  -102.9998,       3616,    95.3,  18.3498,  35.1583,2,  35.1591,2,    237.8,2,   237.6,2,     0.5,2,     0.0,2,    0.01,2,   0.187,2,   2.2364,2,   1.3692,2,   1.7169,2,  2048.4,2,  2311.0,2,   7.9719,2,    25.00, -999.00,9,  -999.0,9,  -999.0,   0.0121,2, -999.00,9,  -999.0,9, -999.00,9, -999.00,9,     7.8676,2, -999.00,9,  -999.0,9,     -999.0,     -999.0,9,     -999.0,9,     -999.0,     -999.0,9,     -999.0,     -999.0,9,     -999.0,     -999.0,     -999.0,9,     -999.0,9,     -999.0,9,     -999.0,9,     -999.0,9,     -999.0,9,     -999.0,9,     -999.0,9
33RO20161119,        P18,     128,          1,         22,      11120,2,20170104,       0339,   -29.9998,  -102.9998,       3616,    50.4,  19.5934,  35.2529,2,  35.2417,2,    236.4,2,   237.0,2,     0.5,2,     0.0,2,    0.01,2,   0.199,2,   2.2049,2,   1.3448,2,   1.6893,2,  2051.6,2,  2317.2,2,   7.9760,6,    25.00, -999.00,9,  -999.0,9,  -999.0,   0.0365,2, -999.00,9,  -999.0,9, -999.00,9, -999.00,9,     7.5741,2, -999.00,9,  -999.0,9,     -999.0,     -999.0,9,     -999.0,9,     -999.0,     -999.0,9,     -999.0,     -999.0,9,     -999.0,     -999.0,     -999.0,9,     -999.0,9,     -999.0,9,     -999.0,9,     -999.0,9,     -999.0,9,     -999.0,9,     -999.0,9
33RO20161119,        P18,     128,          1,         23,      11121,2,20170104,       0339,   -29.9998,  -102.9998,       3616,    20.5,  22.1617,  35.2814,2,  35.2811,2,    219.4,2,   220.3,6,     0.5,2,     0.0,2,    0.01,2,   0.189,2,   1.9189,2,   1.1922,2,   1.5970,2,  2054.0,6,  2320.1,6,   7.9803,2,    25.00, -999.00,9,  -999.0,9,  -999.0,   0.0243,2, -999.00,9,  -999.0,9, -999.00,9, -999.00,9,     7.0949,2, -999.00,9,  -999.0,9,     -999.0,     -999.0,9,     -999.0,9,     -999.0,     -999.0,9,     -999.0,     -999.0,9,     -999.0,     -999.0,     -999.0,9,     -999.0,9,     -999.0,9,     -999.0,9,     -999.0,9,     -999.0,9,     -999.0,9,     -999.0,9
33RO20161119,        P18,     128,          1,         24,      11122,2,20170104,       0339,   -29.9998,  -102.9998,       3616,     3.0,  22.6547,  35.2757,2,  35.2763,2,    217.5,2,   219.3,2,     0.5,2,     0.0,2,    0.01,2,   0.186,2,   1.9091,2,   1.1882,2,   1.5924,2,  2051.6,2,  2321.2,2,   7.9780,2,    25.00, -999.00,9,  -999.0,9,  -999.0,   0.0629,2, -999.00,9,  -999.0,9, -999.00,9, -999.00,9,     6.9967,2, -999.00,9,  -999.0,9,     -999.0,     -999.0,9,     -999.0,9,     -999.0,     -999.0,9,     -999.0,     -999.0,9,     -999.0,     -999.0,     -999.0,9,     -999.0,9,     -999.0,9,     -999.0,9,     -999.0,9,     -999.0,9,     -999.0,9,     -999.0,9