BOTTLE,20230606CCHSIOCBG
EXPOCODE,SECT_ID,STNNBR,CASTNO,SAMPNO,BTLNBR,BTLNBR_FLAG_W,DATE,TIME,LATITUDE,LONGITUDE,DEPTH,CTDPRS,CTDTMP,CTDSAL,CTDSAL_FLAG_W,SALNTY,SALNTY_FLAG_W,CTDOXY,CTDOXY_FLAG_W,OXYGEN,OXYGEN_FLAG_W,SILCAT,SILCAT_FLAG_W,NITRAT,NITRAT_FLAG_W,NITRIT,NITRIT_FLAG_W,PHSPHT,PHSPHT_FLAG_W,CFC-11,CFC-11_FLAG_W,CFC-12,CFC-12_FLAG_W,SF6,SF6_FLAG_W,TCARBN,TCARBN_FLAG_W,ALKALI,ALKALI_FLAG_W,PH_SWS,PH_SWS_FLAG_W,PH_TMP,DELC13,DELC13_FLAG_W,DELC14,DELC14_FLAG_W,C14ERR,CCL4,CCL4_FLAG_W,POC,POC_FLAG_W,DOC,DOC_FLAG_W,TDN,TDN_FLAG_W,PON,PON_FLAG_W,N2O,N2O_FLAG_W,D15N_NO3,D15N_NO3_FLAG_W,14C-DOC,14C-DOC_FLAG_W,14C-DOCERR,13C-DOC,13C-DOC_FLAG_W,N2/ARGON_UNSTRIPPED,N2/ARGON_UNSTRIPPED_FLAG_W,N2/ARGON_UNSTRIPPED_ERROR,N2/ARGON,N2/ARGON_FLAG_W,N2/ARGON_ERROR,D15N_N2,D15N_N2_FLAG_W,D15N_N2_ERROR,D15N_NO3_ERROR,D15N_NO2+NO3,D15N_NO2+NO3_FLAG_W,D18O_NO2+NO3,D18O_NO2+NO3_FLAG_W,D18O_NO3,D18O_NO3_FLAG_W,TDP,TDP_FLAG_W,N2O_ALT_1,N2O_ALT_1_FLAG_W,D15N_N2O,D15N_N2O_FLAG_W,D18O_N2O,D18O_N2O_FLAG_W,D15N_ALPHA_N2O,D15N_ALPHA_N2O_FLAG_W
,,,,,,,,,,,METERS,DBAR,ITS-90,PSS-78,,PSS-78,,UMOL/KG,,UMOL/KG,,UMOL/KG,,UMOL/KG,,UMOL/KG,,UMOL/KG,,PMOL/KG,,PMOL/KG,,FMOL/KG,,UMOL/KG,,UMOL/KG,,,,DEG C,/MILLE,,/MILLE,,/MILLE,PMOL/KG,,UG/KG,,UMOL/KG,,UMOL/KG,,UG/KG,,NMOL/KG,,/MILLE,,/MILLE,,/MILLE,/MILLE,,,,,,,,/MILLE,,/MILLE,/MILLE,/MILLE,,/MILLE,,/MILLE,,UMOL/KG,,NMOL/L,,/MILLE,,/MILLE,,/MILLE,
33RO20161119,        P18,     119,          1,          1,      11010,2,20170101,       2230,   -25.5000,  -101.4999,       3540,  3576.9,   1.8626,  34.6817,2,  34.6957,4,    153.5,2,   152.8,2,   126.5,6,    35.4,6,    0.00,6,   2.442,6,-999.0000,9,-999.0000,9,-999.0000,9,  2317.8,6,  2410.6,2,   7.5795,2,    25.00, -999.00,9,  -999.0,9,  -999.0,-999.0000,9, -999.00,9,    36.7,2,   36.70,2, -999.00,9,     -999.0,9, -999.00,9,  -999.0,9,     -999.0,     -999.0,9,     -999.0,9,     -999.0,     -999.0,9,     -999.0,     -999.0,9,     -999.0,     -999.0,     -999.0,9,     -999.0,9,     -999.0,9,     -999.0,9,     -999.0,9,     -999.0,9,     -999.0,9,     -999.0,9
33RO20161119,        P18,     119,          1,          2,      11101,2,20170101,       2230,   -25.5000,  -101.4999,       3540,  3269.3,   1.8491,  34.6789,2,  34.6785,2,    154.5,2,   153.1,2,   125.1,6,    35.3,6,    0.00,6,   2.441,6,-999.0000,9,-999.0000,9,-999.0000,9,  2314.1,2,  2407.8,2,   7.5762,6,    25.00, -999.00,9,  -999.0,9,  -999.0,-999.0000,9, -999.00,9,    37.8,2,   39.20,2, -999.00,9,     -999.0,9, -999.00,9,  -999.0,9,     -999.0,     -999.0,9,     -999.0,9,     -999.0,     -999.0,9,     -999.0,     -999.0,9,     -999.0,     -999.0,     -999.0,9,     -999.0,9,     -999.0,9,     -999.0,9,     -999.0,9,     -999.0,9,     -999.0,9,     -999.0,9
33RO20161119,        P18,     119,          1,          3,      11102,2,20170101,       2230,   -25.5000,  -101.4999,       3540,  2960.8,   1.8527,  34.6742,2,  34.6783,4,    155.4,2,   155.2,2,   122.6,6,    35.3,6,    0.00,6,   2.440,6,-999.0000,9,-999.0000,9,-999.0000,9,  2307.1,2,  2400.6,6,   7.5757,2,    25.00, -999.00,9,  -999.0,9,  -999.0,-999.0000,9, -999.00,9,    37.9,2,   39.10,2, -999.00,9,     -999.0,9, -999.00,9,  -999.0,9,     -999.0,     -999.0,9,     -999.0,9,     -999.0,     -999.0,9,     -999.0,     -999.0,9,     -999.0,     -999.0,     -999.0,9,     -999.0,9,     -999.0,9,     -999.0,9,     -999.0,9,     -999.0,9,     -999.0,9,     -999.0,9
33RO20161119,        P18,     119,          1,          4,      11103,2,20170101,       2230,   -25.5000,  -101.4999,       3540,  2685.7,   1.8818,  34.6669,2,  34.6773,4,    156.6,2,   156.5,6,   119.5,6,    35.1,6,    0.00,6,   2.413,6,-999.0000,9,-999.0000,9,-999.0000,9,  2304.0,2,  2398.6,2,   7.5751,2,    25.00, -999.00,9,  -999.0,9,  -999.0,-999.0000,9, -999.00,9,    35.1,2,   38.10,2, -999.00,9,     -999.0,9, -999.00,9,  -999.0,9,     -999.0,     -999.0,9,     -999.0,9,     -999.0,     -999.0,9,     -999.0,     -999.0,9,     -999.0,     -999.0,     -999.0,9,     -999.0,9,     -999.0,9,     -999.0,9,     -999.0,9,     -999.0,9,     -999.0,9,     -999.0,9
33RO20161119,        P18,     119,          1,          5,      11104,2,20170101,       2230,   -25.5000,  -101.4999,       3540,  2410.3,   1.9448,  34.6570,2,  34.6586,2,    156.1,2,   156.1,2,   116.1,2,    35.0,2,    0.00,2,   2.410,2,-999.0000,9,-999.0000,9,-999.0000,9,  2299.8,2,  2393.9,2,   7.5681,2,    25.00, -999.00,9,  -999.0,9,  -999.0,-999.0000,9, -999.00,9,    38.3,2,   37.20,2, -999.00,9,     -999.0,9, -999.00,9,  -999.0,9,     -999.0,     -999.0,9,     -999.0,9,     -999.0,     -999.0,9,     -999.0,     -999.0,9,     -999.0,     -999.0,     -999.0,9,     -999.0,9,     -999.0,9,     -999.0,9,     -999.0,9,     -999.0,9,     -999.0,9,     -999.0,9
33RO20161119,        P18,     119,          1,          6,      11105,2,20170101,       2230,   -25.5000,  -101.4999,       3540,  2130.3,   2.0722,  34.6414,2,  34.6751,4,    153.0,2,   152.7,2,   112.1,2,    35.2,2,    0.01,2,   2.428,2,-999.0000,9,-999.0000,9,-999.0000,9,  2297.2,2,  2385.5,2,   7.5606,2,    25.00, -999.00,9,  -999.0,9,  -999.0,-999.0000,9, -999.00,9,    37.6,2,   38.40,2, -999.00,9,     -999.0,9, -999.00,9,  -999.0,9,     -999.0,     -999.0,9,     -999.0,9,     -999.0,     -999.0,9,     -999.0,     -999.0,9,     -999.0,     -999.0,     -999.0,9,     -999.0,9,     -999.0,9,     -999.0,9,     -999.0,9,     -999.0,9,     -999.0,9,     -999.0,9
33RO20161119,        P18,     119,          1,          7,      11106,2,20170101,       2230,   -25.5000,  -101.4999,       3540,  1849.3,   2.3173,  34.6154,2,  34.6078,4,    146.2,2,   146.6,2,   105.4,2,    35.8,2,    0.00,2,   2.471,2,-999.0000,9,-999.0000,9,-999.0000,9,  2293.0,2,  2375.8,2,   7.5487,2,    25.00, -999.00,9,  -999.0,9,  -999.0,-999.0000,9, -999.00,9,    37.0,2,   38.10,2, -999.00,9,     -999.0,9, -999.00,9,  -999.0,9,     -999.0,     -999.0,9,     -999.0,9,     -999.0,     -999.0,9,     -999.0,     -999.0,9,     -999.0,     -999.0,     -999.0,9,     -999.0,9,     -999.0,9,     -999.0,9,     -999.0,9,     -999.0,9,     -999.0,9,     -999.0,9
33RO20161119,        P18,     119,          1,          8,      11107,2,20170101,       2230,   -25.5000,  -101.4999,       3540,  1569.2,   2.7291,  34.5784,2,  34.5771,2,    136.3,2,   138.9,2,    96.3,2,    36.6,2,    0.00,2,   2.529,2,   0.0027,6,   0.0016,6,   0.0000,6,  2289.9,2,  2365.6,2,   7.5345,2,    25.00, -999.00,9,  -999.0,9,  -999.0,   0.1306,2, -999.00,9,    38.8,2,   40.30,2, -999.00,9,    24.0755,2, -999.00,9,  -999.0,9,     -999.0,     -999.0,9,     -999.0,9,     -999.0,     -999.0,9,     -999.0,     -999.0,9,     -999.0,     -999.0,     -999.0,9,     -999.0,9,     -999.0,9,     -999.0,9,     -999.0,9,     -999.0,9,     -999.0,9,     -999.0,9
33RO20161119,        P18,     119,          1,          9,      11108,2,20170101,       2230,   -25.5000,  -101.4999,       3540,  1326.1,   3.2546,  34.5384,2,  34.5382,2,    131.7,2,   132.1,2,    84.5,2,    37.3,2,    0.01,2,   2.574,2,   0.0088,2,   0.0045,2,   0.0000,2,  2279.8,2,  2355.6,2,   7.5217,2,    25.00, -999.00,9,  -999.0,9,  -999.0,   1.4869,2, -999.00,9,    38.6,2,   41.40,2, -999.00,9,     25.939,2, -999.00,9,  -999.0,9,     -999.0,     -999.0,9,     -999.0,9,     -999.0,     -999.0,9,     -999.0,     -999.0,9,     -999.0,     -999.0,     -999.0,9,     -999.0,9,     -999.0,9,     -999.0,9,     -999.0,9,     -999.0,9,     -999.0,9,     -999.0,9
33RO20161119,        P18,     119,          1,         10,      11109,2,20170101,       2230,   -25.5000,  -101.4999,       3540,  1175.7,   3.5826,  34.5157,2,  34.5157,2,    128.9,2,   128.5,2,    76.7,2,    37.4,2,    0.01,2,   2.577,2,   0.0104,2,   0.0059,2,   0.0000,2,  2274.6,2,  2347.0,2,   7.5155,2,    25.00, -999.00,9,  -999.0,9,  -999.0,   1.2847,2, -999.00,9,    36.9,2,   40.60,2, -999.00,9,    26.4042,2, -999.00,9,  -999.0,9,     -999.0,     -999.0,9,     -999.0,9,     -999.0,     -999.0,9,     -999.0,     -999.0,9,     -999.0,     -999.0,     -999.0,9,     -999.0,9,     -999.0,9,     -999.0,9,     -999.0,9,     -999.0,9,     -999.0,9,     -999.0,9
33RO20161119,        P18,     119,          1,         11,      11110,2,20170101,       2230,   -25.5000,  -101.4999,       3540,  1050.2,   3.8804,  34.4718,2,  34.4712,2,    125.8,2,   125.2,2,    65.9,2,    37.8,2,    0.00,2,   2.599,2,   0.0553,2,   0.0281,2,   0.0000,2,  2268.0,2,  2332.3,2,   7.5019,6,    25.00, -999.00,9,  -999.0,9,  -999.0,   0.7801,2, -999.00,9,    36.8,2,   40.90,2, -999.00,9,    28.7709,2, -999.00,9,  -999.0,9,     -999.0,     -999.0,9,     -999.0,9,     -999.0,     -999.0,9,     -999.0,     -999.0,9,     -999.0,     -999.0,     -999.0,9,     -999.0,9,     -999.0,9,     -999.0,9,     -999.0,9,     -999.0,9,     -999.0,9,     -999.0,9
33RO20161119,        P18,     119,          1,         12,      11111,2,20170101,       2230,   -25.5000,  -101.4999,       3540,   930.5,   4.3456,  34.4265,2,  34.4249,2,    126.5,2,   125.8,2,    53.0,2,    37.4,2,    0.00,2,   2.579,2,-999.0000,9,-999.0000,9,-999.0000,9,  2253.8,2,  2319.0,2,   7.4988,2,    25.00, -999.00,9,  -999.0,9,  -999.0,-999.0000,9, -999.00,9,    39.1,2,   42.60,2, -999.00,9,     -999.0,9, -999.00,9,  -999.0,9,     -999.0,     -999.0,9,     -999.0,9,     -999.0,     -999.0,9,     -999.0,     -999.0,9,     -999.0,     -999.0,     -999.0,9,     -999.0,9,     -999.0,9,     -999.0,9,     -999.0,9,     -999.0,9,     -999.0,9,     -999.0,9
33RO20161119,        P18,     119,          1,         13,      11112,2,20170101,       2230,   -25.5000,  -101.4999,       3540,   810.2,   4.9181,  34.3750,2,  34.3749,2,    138.4,2,   140.1,2,    37.5,2,    35.6,2,    0.00,2,   2.465,2,   0.7282,2,   0.3591,2,   0.1116,2,  2231.5,2,  2300.9,6,   7.5180,2,    25.00, -999.00,9,  -999.0,9,  -999.0,   0.6291,2, -999.00,9,    40.2,2,   40.50,2, -999.00,9,    30.7048,2, -999.00,9,  -999.0,9,     -999.0,     -999.0,9,     -999.0,9,     -999.0,     -999.0,9,     -999.0,     -999.0,9,     -999.0,     -999.0,     -999.0,9,     -999.0,9,     -999.0,9,     -999.0,9,     -999.0,9,     -999.0,9,     -999.0,9,     -999.0,9
33RO20161119,        P18,     119,          1,         14,      11113,2,20170101,       2230,   -25.5000,  -101.4999,       3540,   700.6,   5.2707,  34.3205,2,  34.3187,2,    177.2,2,   176.4,2,    24.0,2,    31.9,2,    0.00,2,   2.196,2,-999.0000,9,-999.0000,9,-999.0000,9,  2200.0,2,  2287.8,2,   7.5757,2,    25.00, -999.00,9,  -999.0,9,  -999.0,-999.0000,9, -999.00,9,    41.8,2,   35.50,2, -999.00,9,     -999.0,9, -999.00,9,  -999.0,9,     -999.0,     -999.0,9,     -999.0,9,     -999.0,     -999.0,9,     -999.0,     -999.0,9,     -999.0,     -999.0,     -999.0,9,     -999.0,9,     -999.0,9,     -999.0,9,     -999.0,9,     -999.0,9,     -999.0,9,     -999.0,9
33RO20161119,        P18,     119,          1,         15,      11114,2,20170101,       2230,   -25.5000,  -101.4999,       3540,   590.5,   5.9413,  34.3140,2,  34.3123,2,    183.8,2,   187.3,2,    16.5,2,    29.7,2,    0.00,2,   2.040,2,   2.6413,2,   1.3109,2,   0.5519,2,  2185.5,2,  2279.5,2,   7.5951,2,    25.00, -999.00,9,  -999.0,9,  -999.0,   0.8639,2, -999.00,9,    41.5,2,   32.30,2, -999.00,9,    25.4659,2, -999.00,9,  -999.0,9,     -999.0,     -999.0,9,     -999.0,9,     -999.0,     -999.0,9,     -999.0,     -999.0,9,     -999.0,     -999.0,     -999.0,9,     -999.0,9,     -999.0,9,     -999.0,9,     -999.0,9,     -999.0,9,     -999.0,9,     -999.0,9
33RO20161119,        P18,     119,          1,         16,      11115,2,20170101,       2230,   -25.5000,  -101.4999,       3540,   490.2,   6.9349,  34.3548,2,  34.3499,2,    155.2,2,   155.3,2,    15.3,2,    29.8,2,    0.01,2,   2.124,2,   2.6352,2,   1.3310,2,   0.6079,2,  2199.9,2,  2276.9,2,   7.5488,2,    25.00, -999.00,9,  -999.0,9,  -999.0,   1.4332,2, -999.00,9,    42.8,2,   31.80,2, -999.00,9,    31.7728,2, -999.00,9,  -999.0,9,     -999.0,     -999.0,9,     -999.0,9,     -999.0,     -999.0,9,     -999.0,     -999.0,9,     -999.0,     -999.0,     -999.0,9,     -999.0,9,     -999.0,9,     -999.0,9,     -999.0,9,     -999.0,9,     -999.0,9,     -999.0,9
33RO20161119,        P18,     119,          1,         17,      11116,2,20170101,       2230,   -25.5000,  -101.4999,       3540,   395.0,   8.6281,  34.3688,2,  34.3688,2,    134.4,2,   132.4,2,    12.8,2,    26.5,2,    0.00,2,   2.081,2,   2.6880,2,   1.4243,2,   0.8232,2,  2199.2,6,  2272.7,2,   7.5377,2,    25.00, -999.00,9,  -999.0,9,  -999.0,   1.6166,2, -999.00,9,    44.0,2,   29.60,2, -999.00,9,    32.2989,2, -999.00,9,  -999.0,9,     -999.0,     -999.0,9,     -999.0,9,     -999.0,     -999.0,9,     -999.0,     -999.0,9,     -999.0,     -999.0,     -999.0,9,     -999.0,9,     -999.0,9,     -999.0,9,     -999.0,9,     -999.0,9,     -999.0,9,     -999.0,9
33RO20161119,        P18,     119,          1,         18,      11117,2,20170101,       2230,   -25.5000,  -101.4999,       3540,   305.6,  10.7234,  34.3503,2,  34.3499,2,    168.3,2,   166.2,2,     6.5,2,    18.4,2,    0.01,2,   1.527,2,-999.0000,5,-999.0000,5,-999.0000,5,  2153.7,2,  2269.7,2,   7.6610,2,    25.00, -999.00,9,  -999.0,9,  -999.0,   1.8577,2, -999.00,9,    44.7,2,   21.10,2, -999.00,9,     -999.0,5, -999.00,9,  -999.0,9,     -999.0,     -999.0,9,     -999.0,9,     -999.0,     -999.0,9,     -999.0,     -999.0,9,     -999.0,     -999.0,     -999.0,9,     -999.0,9,     -999.0,9,     -999.0,9,     -999.0,9,     -999.0,9,     -999.0,9,     -999.0,9
33RO20161119,        P18,     119,          1,         19,      11083,2,20170101,       2230,   -25.5000,  -101.4999,       3540,   225.3,  14.7812,  34.7432,2,  34.7431,2,    204.7,2,   204.8,2,     0.9,2,     6.4,2,    0.02,2,   0.634,2,   2.6867,2,   1.6046,2,   1.6430,2,  2093.1,2,  2290.9,2,   7.8510,2,    25.00, -999.00,9,  -999.0,9,  -999.0,    1.727,2, -999.00,9,    44.4,2,    8.90,2, -999.00,9,    11.3433,2, -999.00,9,  -999.0,9,     -999.0,     -999.0,9,     -999.0,9,     -999.0,     -999.0,9,     -999.0,     -999.0,9,     -999.0,     -999.0,     -999.0,9,     -999.0,9,     -999.0,9,     -999.0,9,     -999.0,9,     -999.0,9,     -999.0,9,     -999.0,9
33RO20161119,        P18,     119,          1,         20,      11118,2,20170101,       2230,   -25.5000,  -101.4999,       3540,   160.0,  17.8697,  35.2143,2,  35.2191,2,    215.2,2,   216.9,2,     0.4,2,     0.3,2,    0.03,2,   0.284,2,   2.2910,2,   1.4068,2,   1.6268,2,  2076.5,2,  2321.3,2,   7.9341,2,    25.00, -999.00,9,  -999.0,9,  -999.0,        0,2, -999.00,9,    58.5,2,    4.00,2, -999.00,9,     8.6105,2, -999.00,9,  -999.0,9,     -999.0,     -999.0,9,     -999.0,9,     -999.0,     -999.0,9,     -999.0,     -999.0,9,     -999.0,     -999.0,     -999.0,9,     -999.0,9,     -999.0,9,       0.45,2,     -999.0,9,     -999.0,9,     -999.0,9,     -999.0,9
33RO20161119,        P18,     119,          1,         21,      11119,2,20170101,       2230,   -25.5000,  -101.4999,       3540,    94.8,  20.7728,  35.7228,2,  35.7195,2,    228.1,2,   228.7,6,     0.4,2,     0.0,2,    0.01,2,   0.172,2,   2.0385,2,   1.2611,2,   1.6104,2,  2068.0,2,  2352.0,2,   7.9974,2,    25.00, -999.00,9,  -999.0,9,  -999.0,        0,2, -999.00,9,    66.1,2,    3.40,2, -999.00,9,     7.4473,2, -999.00,9,  -999.0,9,     -999.0,     -999.0,9,     -999.0,9,     -999.0,     -999.0,9,     -999.0,     -999.0,9,     -999.0,     -999.0,     -999.0,9,     -999.0,9,     -999.0,9,       0.36,2,     -999.0,9,     -999.0,9,     -999.0,9,     -999.0,9
33RO20161119,        P18,     119,          1,         22,      11120,2,20170101,       2230,   -25.5000,  -101.4999,       3540,    50.3,  23.4088,  36.1829,2,  36.1730,2,    216.9,2,   216.0,2,     0.5,2,     0.0,2,    0.01,2,   0.212,2,   1.8153,2,   1.1341,2,   1.5250,2,  2085.6,2,  2383.3,6,   8.0094,2,    25.00, -999.00,9,  -999.0,9,  -999.0,        0,2, -999.00,9,    66.1,2,    2.70,2, -999.00,9,     6.8025,2, -999.00,9,  -999.0,9,     -999.0,     -999.0,9,     -999.0,9,     -999.0,     -999.0,9,     -999.0,     -999.0,9,     -999.0,     -999.0,     -999.0,9,     -999.0,9,     -999.0,9,       0.43,2,     -999.0,9,     -999.0,9,     -999.0,9,     -999.0,9
33RO20161119,        P18,     119,          1,         23,      11121,2,20170101,       2230,   -25.5000,  -101.4999,       3540,    20.3,  24.2374,  36.2115,2,  36.2058,2,    210.1,2,   211.7,2,     0.5,2,     0.0,2,    0.00,2,   0.209,2,   1.7540,2,   1.0974,2,   1.4727,2,  2086.6,2,  2388.3,2,   8.0109,2,    25.00, -999.00,9,  -999.0,9,  -999.0,        0,2, -999.00,9,    65.3,2,    3.10,2, -999.00,9,     6.7143,2, -999.00,9,  -999.0,9,     -999.0,     -999.0,9,     -999.0,9,     -999.0,     -999.0,9,     -999.0,     -999.0,9,     -999.0,     -999.0,     -999.0,9,     -999.0,9,     -999.0,9,       0.38,2,     -999.0,9,     -999.0,9,     -999.0,9,     -999.0,9
33RO20161119,        P18,     119,          1,         24,      11122,2,20170101,       2230,   -25.5000,  -101.4999,       3540,     3.1,  24.2359,  36.2126,2,  36.2121,2,    209.6,2,   210.9,2,     0.5,2,     0.0,2,    0.00,2,   0.208,2,   1.7540,2,   1.0974,2,   1.4464,2,  2088.9,6,  2371.5,3,   8.0117,2,    25.00, -999.00,9,  -999.0,9,  -999.0,        0,2, -999.00,9,    63.9,2,    2.30,2, -999.00,9,     6.7839,2, -999.00,9,  -999.0,9,     -999.0,     -999.0,9,     -999.0,9,     -999.0,     -999.0,9,     -999.0,     -999.0,9,     -999.0,     -999.0,     -999.0,9,     -999.0,9,     -999.0,9,     -999.0,9,     -999.0,9,     -999.0,9,     -999.0,9,     -999.0,9