BOTTLE,20230606CCHSIOCBG
EXPOCODE,SECT_ID,STNNBR,CASTNO,SAMPNO,BTLNBR,BTLNBR_FLAG_W,DATE,TIME,LATITUDE,LONGITUDE,DEPTH,CTDPRS,CTDTMP,CTDSAL,CTDSAL_FLAG_W,SALNTY,SALNTY_FLAG_W,CTDOXY,CTDOXY_FLAG_W,OXYGEN,OXYGEN_FLAG_W,SILCAT,SILCAT_FLAG_W,NITRAT,NITRAT_FLAG_W,NITRIT,NITRIT_FLAG_W,PHSPHT,PHSPHT_FLAG_W,CFC-11,CFC-11_FLAG_W,CFC-12,CFC-12_FLAG_W,SF6,SF6_FLAG_W,TCARBN,TCARBN_FLAG_W,ALKALI,ALKALI_FLAG_W,PH_SWS,PH_SWS_FLAG_W,PH_TMP,DELC13,DELC13_FLAG_W,DELC14,DELC14_FLAG_W,C14ERR,CCL4,CCL4_FLAG_W,POC,POC_FLAG_W,DOC,DOC_FLAG_W,TDN,TDN_FLAG_W,PON,PON_FLAG_W,N2O,N2O_FLAG_W,D15N_NO3,D15N_NO3_FLAG_W,14C-DOC,14C-DOC_FLAG_W,14C-DOCERR,13C-DOC,13C-DOC_FLAG_W,N2/ARGON_UNSTRIPPED,N2/ARGON_UNSTRIPPED_FLAG_W,N2/ARGON_UNSTRIPPED_ERROR,N2/ARGON,N2/ARGON_FLAG_W,N2/ARGON_ERROR,D15N_N2,D15N_N2_FLAG_W,D15N_N2_ERROR,D15N_NO3_ERROR,D15N_NO2+NO3,D15N_NO2+NO3_FLAG_W,D18O_NO2+NO3,D18O_NO2+NO3_FLAG_W,D18O_NO3,D18O_NO3_FLAG_W,TDP,TDP_FLAG_W,N2O_ALT_1,N2O_ALT_1_FLAG_W,D15N_N2O,D15N_N2O_FLAG_W,D18O_N2O,D18O_N2O_FLAG_W,D15N_ALPHA_N2O,D15N_ALPHA_N2O_FLAG_W
,,,,,,,,,,,METERS,DBAR,ITS-90,PSS-78,,PSS-78,,UMOL/KG,,UMOL/KG,,UMOL/KG,,UMOL/KG,,UMOL/KG,,UMOL/KG,,PMOL/KG,,PMOL/KG,,FMOL/KG,,UMOL/KG,,UMOL/KG,,,,DEG C,/MILLE,,/MILLE,,/MILLE,PMOL/KG,,UG/KG,,UMOL/KG,,UMOL/KG,,UG/KG,,NMOL/KG,,/MILLE,,/MILLE,,/MILLE,/MILLE,,,,,,,,/MILLE,,/MILLE,/MILLE,/MILLE,,/MILLE,,/MILLE,,UMOL/KG,,NMOL/L,,/MILLE,,/MILLE,,/MILLE,
33RO20161119,        P18,     105,          1,          1,      11010,2,20161218,       1853,   -18.4998,  -103.0012,       4061,  4105.3,   1.8281,  34.6875,2,  34.6888,2,    150.4,2,   149.9,2,   127.4,2,    35.8,2,    0.00,2,   2.512,2,   0.0025,2,   0.0015,2,   0.0000,2,  2322.8,6,  2419.8,2,   7.5773,6,    25.00, -999.00,9,  -999.0,9,  -999.0,        0,2, -999.00,9,    37.7,2,   39.90,2, -999.00,9,    20.2127,2, -999.00,9,  -999.0,9,     -999.0,     -999.0,9,     -999.0,9,     -999.0,     -999.0,9,     -999.0,     -999.0,9,     -999.0,     -999.0,     -999.0,9,     -999.0,9,     -999.0,9,     -999.0,9,     -999.0,9,     -999.0,9,     -999.0,9,     -999.0,9
33RO20161119,        P18,     105,          1,          2,      11101,2,20161218,       1853,   -18.4998,  -103.0012,       4061,  3776.8,   1.7943,  34.6874,2,  34.6886,2,    150.1,2,   149.8,6,   127.6,2,    35.9,2,    0.01,2,   2.511,2,   0.0033,2,   0.0020,2,   0.0000,2,  2321.2,2,  2417.5,6,   7.5757,2,    25.00, -999.00,9,  -999.0,9,  -999.0,        0,2, -999.00,9,    37.6,2,   38.00,2, -999.00,9,    20.2734,2, -999.00,9,  -999.0,9,     -999.0,     -999.0,9,     -999.0,9,     -999.0,     -999.0,9,     -999.0,     -999.0,9,     -999.0,     -999.0,     -999.0,9,     -999.0,9,     -999.0,9,     -999.0,9,     -999.0,9,     -999.0,9,     -999.0,9,     -999.0,9
33RO20161119,        P18,     105,          1,          3,      11102,2,20161218,       1853,   -18.4998,  -103.0012,       4061,  3450.8,   1.7724,  34.6861,2,  34.6915,4,    150.6,2,   149.5,2,   127.7,2,    35.9,2,    0.00,2,   2.529,2,   0.0013,2,   0.0010,2,   0.0000,2,  2318.7,2,  2418.0,2,   7.5726,2,    25.00, -999.00,9,  -999.0,9,  -999.0,        0,2, -999.00,9,    36.1,2,   37.70,2, -999.00,9,    20.8825,2, -999.00,9,  -999.0,9,     -999.0,     -999.0,9,     -999.0,9,     -999.0,     -999.0,9,     -999.0,     -999.0,9,     -999.0,     -999.0,     -999.0,9,     -999.0,9,     -999.0,9,     -999.0,9,     -999.0,9,     -999.0,9,     -999.0,9,     -999.0,9
33RO20161119,        P18,     105,          1,          4,      11103,2,20161218,       1853,   -18.4998,  -103.0012,       4061,  3150.0,   1.7704,  34.6832,2,  34.6831,2,    150.1,2,   149.9,2,   126.8,2,    35.9,2,    0.00,2,   2.512,2,   0.0012,2,   0.0009,2,   0.0000,2,  2318.0,2,  2416.0,2,   7.5728,2,    25.00, -999.00,9,  -999.0,9,  -999.0,        0,2, -999.00,9,    35.4,2,   39.00,2, -999.00,9,    20.5373,2, -999.00,9,  -999.0,9,     -999.0,     -999.0,9,     -999.0,9,     -999.0,     -999.0,9,     -999.0,     -999.0,9,     -999.0,     -999.0,     -999.0,9,     -999.0,9,     -999.0,9,     -999.0,9,     -999.0,9,     -999.0,9,     -999.0,9,     -999.0,9
33RO20161119,        P18,     105,          1,          5,      11104,2,20161218,       1853,   -18.4998,  -103.0012,       4061,  2852.8,   1.7945,  34.6783,2,  34.6814,2,    150.7,2,   150.7,2,   124.5,6,    35.6,6,    0.00,6,   2.508,6,   0.0008,2,   0.0000,2,   0.0000,2,  2314.4,2,  2410.5,2,   7.5689,2,    25.00, -999.00,9,  -999.0,9,  -999.0,   0.0062,2, -999.00,9,    35.7,2,   38.10,2, -999.00,9,    20.8653,2, -999.00,9,  -999.0,9,     -999.0,     -999.0,9,     -999.0,9,     -999.0,     -999.0,9,     -999.0,     -999.0,9,     -999.0,     -999.0,     -999.0,9,     -999.0,9,     -999.0,9,     -999.0,9,     -999.0,9,     -999.0,9,     -999.0,9,     -999.0,9
33RO20161119,        P18,     105,          1,          6,      11105,2,20161218,       1853,   -18.4998,  -103.0012,       4061,  2540.8,   1.8534,  34.6697,2,  34.6709,4,    151.6,2,   151.2,2,   120.3,6,    35.7,6,    0.00,6,   2.519,6,   0.0010,2,   0.0010,2,   0.0000,2,  2308.7,2,  2402.5,2,   7.5654,2,    25.00, -999.00,9,  -999.0,9,  -999.0,        0,2, -999.00,9,    36.6,2,   37.40,2, -999.00,9,    21.2197,2, -999.00,9,  -999.0,9,     -999.0,     -999.0,9,     -999.0,9,     -999.0,     -999.0,9,     -999.0,     -999.0,9,     -999.0,     -999.0,     -999.0,9,     -999.0,9,     -999.0,9,     -999.0,9,     -999.0,9,     -999.0,9,     -999.0,9,     -999.0,9
33RO20161119,        P18,     105,          1,          7,      11106,2,20161218,       1853,   -18.4998,  -103.0012,       4061,  2220.5,   2.0005,  34.6543,2,  34.6623,2,    143.6,2,   143.2,2,   118.3,6,    36.3,6,    0.00,6,   2.558,6,   0.0023,2,   0.0009,2,   0.0000,2,  2309.7,2,  2397.7,2,   7.5495,2,    25.00, -999.00,9,  -999.0,9,  -999.0,        0,2, -999.00,9,    36.4,2,   40.60,2, -999.00,9,    22.7835,2, -999.00,9,  -999.0,9,     -999.0,     -999.0,9,     -999.0,9,     -999.0,     -999.0,9,     -999.0,     -999.0,9,     -999.0,     -999.0,     -999.0,9,     -999.0,9,     -999.0,9,     -999.0,9,     -999.0,9,     -999.0,9,     -999.0,9,     -999.0,9
33RO20161119,        P18,     105,          1,          8,      11107,2,20161218,       1853,   -18.4998,  -103.0012,       4061,  1900.0,   2.3335,  34.6289,2,  34.6312,2,    123.4,2,   123.5,2,   116.0,6,    37.7,6,    0.00,6,   2.702,6,   0.0009,2,   0.0000,2,   0.0000,2,  2318.6,6,  2391.9,2,   7.5156,2,    25.00, -999.00,9,  -999.0,9,  -999.0,        0,2, -999.00,9,    37.0,2,   42.00,2, -999.00,9,    24.9872,2, -999.00,9,  -999.0,9,     -999.0,     -999.0,9,     -999.0,9,     -999.0,     -999.0,9,     -999.0,     -999.0,9,     -999.0,     -999.0,     -999.0,9,     -999.0,9,     -999.0,9,     -999.0,9,     -999.0,9,     -999.0,9,     -999.0,9,     -999.0,9
33RO20161119,        P18,     105,          1,          9,      11108,2,20161218,       1853,   -18.4998,  -103.0012,       4061,  1579.6,   2.7771,  34.5986,2,  34.5976,2,    107.0,2,   107.0,2,   107.4,2,    38.9,2,    0.00,2,   2.830,2,   0.0015,2,   0.0010,2,   0.0000,2,  2317.6,2,  2383.2,2,   7.4847,2,    25.00, -999.00,9,  -999.0,9,  -999.0,        0,2, -999.00,9,    36.1,2,   43.70,2, -999.00,9,    26.9576,2, -999.00,9,  -999.0,9,     -999.0,     -999.0,9,     -999.0,9,     -999.0,     -999.0,9,     -999.0,     -999.0,9,     -999.0,     -999.0,     -999.0,9,     -999.0,9,     -999.0,9,     -999.0,9,     -999.0,9,     -999.0,9,     -999.0,9,     -999.0,9
33RO20161119,        P18,     105,          1,         10,      11109,2,20161218,       1853,   -18.4998,  -103.0012,       4061,  1381.4,   3.1275,  34.5751,2,  34.5929,4,    100.7,2,   100.8,2,    98.3,2,    39.5,2,    0.00,2,   2.841,2,   0.0015,2,   0.0023,2,   0.0000,2,  2312.9,2,  2373.4,2,   7.4716,2,    25.00, -999.00,9,  -999.0,9,  -999.0,        0,2, -999.00,9,    36.2,2,   43.80,2, -999.00,9,    28.6568,2, -999.00,9,  -999.0,9,     -999.0,     -999.0,9,     -999.0,9,     -999.0,     -999.0,9,     -999.0,     -999.0,9,     -999.0,     -999.0,     -999.0,9,     -999.0,9,     -999.0,9,     -999.0,9,     -999.0,9,     -999.0,9,     -999.0,9,     -999.0,9
33RO20161119,        P18,     105,          1,         11,      11110,2,20161218,       1853,   -18.4998,  -103.0012,       4061,  1230.4,   3.4681,  34.5532,2,  34.5538,2,     98.3,2,    98.7,2,    89.1,2,    39.6,2,    0.00,2,   2.855,2,   0.0010,6,   0.0004,6,   0.0000,6,  2304.9,2,  2361.4,2,   7.4642,2,    25.00, -999.00,9,  -999.0,9,  -999.0,        0,2, -999.00,9,    36.9,2,   45.40,2, -999.00,9,    30.2971,2, -999.00,9,  -999.0,9,     -999.0,     -999.0,9,     -999.0,9,     -999.0,     -999.0,9,     -999.0,     -999.0,9,     -999.0,     -999.0,     -999.0,9,     -999.0,9,     -999.0,9,     -999.0,9,     -999.0,9,     -999.0,9,     -999.0,9,     -999.0,9
33RO20161119,        P18,     105,          1,         12,      11111,2,20161218,       1853,   -18.4998,  -103.0012,       4061,  1090.9,   3.8927,  34.5289,2,  34.5365,2,     93.8,2,    93.2,2,    78.6,2,    40.0,2,    0.00,2,   2.885,2,   0.0016,2,   0.0011,2,   0.0000,2,  2294.9,2,  2348.4,2,   7.4562,2,    25.00, -999.00,9,  -999.0,9,  -999.0,   0.0459,2, -999.00,9,    38.5,2,   46.00,2, -999.00,9,    31.3983,2, -999.00,9,  -999.0,9,     -999.0,     -999.0,9,     -999.0,9,     -999.0,     -999.0,9,     -999.0,     -999.0,9,     -999.0,     -999.0,     -999.0,9,     -999.0,9,     -999.0,9,     -999.0,9,     -999.0,9,     -999.0,9,     -999.0,9,     -999.0,9
33RO20161119,        P18,     105,          1,         13,      11112,2,20161218,       1853,   -18.4998,  -103.0012,       4061,   960.2,   4.3739,  34.4991,2,  34.5002,2,     92.9,2,    93.5,6,    66.1,2,    39.9,2,    0.00,2,   2.852,2,   0.0032,2,   0.0017,2,   0.0410,2,  2282.4,2,  2335.4,2,   7.4561,2,    25.00, -999.00,9,  -999.0,9,  -999.0,   0.1729,2, -999.00,9,    39.0,2,   44.80,2, -999.00,9,    32.9409,2, -999.00,9,  -999.0,9,     -999.0,     -999.0,9,     -999.0,9,     -999.0,     -999.0,9,     -999.0,     -999.0,9,     -999.0,     -999.0,     -999.0,9,     -999.0,9,     -999.0,9,     -999.0,9,     -999.0,9,     -999.0,9,     -999.0,9,     -999.0,9
33RO20161119,        P18,     105,          1,         14,      11113,2,20161218,       1853,   -18.4998,  -103.0012,       4061,   834.4,   4.8681,  34.4730,2,  34.4799,2,     87.6,2,    85.8,2,    54.5,2,    40.3,2,    0.00,2,   2.869,2,   0.0134,2,   0.0077,2,   0.0000,2,  2272.0,2,  2322.1,2,   7.4432,2,    25.00, -999.00,9,  -999.0,9,  -999.0,   0.1748,2, -999.00,9,    38.5,2,   45.60,2, -999.00,9,    35.5522,2, -999.00,9,  -999.0,9,     -999.0,     -999.0,9,     -999.0,9,     -999.0,     -999.0,9,     -999.0,     -999.0,9,     -999.0,     -999.0,     -999.0,9,     -999.0,9,     -999.0,9,     -999.0,9,     -999.0,9,     -999.0,9,     -999.0,9,     -999.0,9
33RO20161119,        P18,     105,          1,         15,      11114,2,20161218,       1853,   -18.4998,  -103.0012,       4061,   711.3,   5.4546,  34.4340,2,  34.4365,2,     95.2,2,    95.5,2,    39.5,2,    38.8,2,    0.00,2,   2.749,2,   0.1149,6,   0.0615,6,   0.0000,6,  2253.9,2,  2304.3,2,   7.4563,2,    25.00, -999.00,9,  -999.0,9,  -999.0,   0.5838,2, -999.00,9,    39.1,2,   44.30,2, -999.00,9,    36.7368,2, -999.00,9,  -999.0,9,     -999.0,     -999.0,9,     -999.0,9,     -999.0,     -999.0,9,     -999.0,     -999.0,9,     -999.0,     -999.0,     -999.0,9,     -999.0,9,     -999.0,9,     -999.0,9,     -999.0,9,     -999.0,9,     -999.0,9,     -999.0,9
33RO20161119,        P18,     105,          1,         16,      11115,2,20161218,       1853,   -18.4998,  -103.0012,       4061,   590.4,   6.1812,  34.4003,2,  34.4059,2,    117.4,2,   116.9,2,    25.7,2,    35.4,2,    0.00,2,   2.505,2,   0.8159,2,   0.4066,2,   0.1277,2,  2227.8,2,  2290.4,2,   7.4877,2,    25.00, -999.00,9,  -999.0,9,  -999.0,   0.4158,2, -999.00,9,    38.2,2,   38.40,2, -999.00,9,    36.8782,2, -999.00,9,  -999.0,9,     -999.0,     -999.0,9,     -999.0,9,     -999.0,     -999.0,9,     -999.0,     -999.0,9,     -999.0,     -999.0,     -999.0,9,     -999.0,9,     -999.0,9,     -999.0,9,     -999.0,9,     -999.0,9,     -999.0,9,     -999.0,9
33RO20161119,        P18,     105,          1,         17,      11116,2,20161218,       1853,   -18.4998,  -103.0012,       4061,   481.2,   7.4637,  34.4454,2,  34.4597,2,     87.8,2,    86.8,2,    21.4,2,    34.4,2,    0.00,2,   2.555,2,   1.1884,2,   0.5883,2,   0.1870,2,  2238.2,2,  2287.5,6,   7.4474,2,    25.00, -999.00,9,  -999.0,9,  -999.0,   0.3503,2, -999.00,9,    39.1,2,   39.60,2, -999.00,9,    43.9024,2, -999.00,9,  -999.0,9,     -999.0,     -999.0,9,     -999.0,9,     -999.0,     -999.0,9,     -999.0,     -999.0,9,     -999.0,     -999.0,     -999.0,9,     -999.0,9,     -999.0,9,     -999.0,9,     -999.0,9,     -999.0,9,     -999.0,9,     -999.0,9
33RO20161119,        P18,     105,          1,         18,      11117,2,20161218,       1853,   -18.4998,  -103.0012,       4061,   369.3,   9.7973,  34.4406,2,  34.4416,2,     96.7,2,   101.3,2,    13.6,2,    25.1,2,    0.00,2,   2.163,2,   2.2894,2,   1.2251,2,   0.6781,2,  2207.7,2,  2278.2,2,   7.5136,6,    25.00, -999.00,9,  -999.0,9,  -999.0,   0.7143,2, -999.00,9,    41.1,2,   28.10,2, -999.00,9,     32.267,2, -999.00,9,  -999.0,9,     -999.0,     -999.0,9,     -999.0,9,     -999.0,     -999.0,9,     -999.0,     -999.0,9,     -999.0,     -999.0,     -999.0,9,     -999.0,9,     -999.0,9,     -999.0,9,     -999.0,9,     -999.0,9,     -999.0,9,     -999.0,9
33RO20161119,        P18,     105,          1,         19,      11083,2,20161218,       1853,   -18.4998,  -103.0012,       4061,   275.0,  14.2234,  34.7838,2,  34.8127,4,    159.6,2,   158.2,2,     3.9,2,    12.7,2,    0.01,2,   1.246,2,   2.5522,2,   1.5197,2,   1.3824,2,  2143.4,2,  2297.0,2,   7.7482,2,    25.00, -999.00,9,  -999.0,9,  -999.0,   1.2399,2, -999.00,9,    47.5,2,   13.60,2, -999.00,9,    20.8769,2, -999.00,9,  -999.0,9,     -999.0,     -999.0,9,     -999.0,9,     -999.0,     -999.0,9,     -999.0,     -999.0,9,     -999.0,     -999.0,     -999.0,9,     -999.0,9,     -999.0,9,     -999.0,9,     -999.0,9,     -999.0,9,     -999.0,9,     -999.0,9
33RO20161119,        P18,     105,          1,         20,      11118,2,20161218,       1853,   -18.4998,  -103.0012,       4061,   195.7,  19.3569,  35.6280,2,  35.6239,2,    199.2,2,   198.1,2,     0.7,2,     2.4,2,    0.09,2,   0.538,2,   2.1540,2,   1.3373,2,   1.5255,2,  2103.4,2,  2351.4,2,   7.9271,2,    25.00, -999.00,9,  -999.0,9,  -999.0,   1.5901,2, -999.00,9,    51.1,2,    5.40,2, -999.00,9,     8.5799,2, -999.00,9,  -999.0,9,     -999.0,     -999.0,9,     -999.0,9,     -999.0,     -999.0,9,     -999.0,     -999.0,9,     -999.0,     -999.0,     -999.0,9,     -999.0,9,     -999.0,9,     -999.0,9,     -999.0,9,     -999.0,9,     -999.0,9,     -999.0,9
33RO20161119,        P18,     105,          1,         21,      11119,2,20161218,       1853,   -18.4998,  -103.0012,       4061,   125.4,  22.6386,  36.2788,2,  36.2802,2,    214.3,2,   212.9,2,     0.6,2,    -0.2,2,    0.01,2,   0.348,2,   1.8350,2,   1.1544,2,   1.5024,2,  2090.7,2,  2397.0,6,   8.0169,2,    25.00, -999.00,9,  -999.0,9,  -999.0,   1.5794,2, -999.00,9,    62.4,2,    2.90,2, -999.00,9,     7.1075,2, -999.00,9,  -999.0,9,     -999.0,     -999.0,9,     -999.0,9,     -999.0,     -999.0,9,     -999.0,     -999.0,9,     -999.0,     -999.0,     -999.0,9,     -999.0,9,     -999.0,9,     -999.0,9,     -999.0,9,     -999.0,9,     -999.0,9,     -999.0,9
33RO20161119,        P18,     105,          1,         22,      11120,2,20161218,       1853,   -18.4998,  -103.0012,       4061,    61.0,  23.2842,  36.2969,2,  36.3030,2,    213.9,2,   215.1,2,     0.7,2,    -0.2,2,    0.00,2,   0.342,2,   1.7830,2,   1.1273,2,   1.5003,2,  2085.4,2,  2397.6,2,   8.0272,2,    25.00, -999.00,9,  -999.0,9,  -999.0,     1.66,2, -999.00,9,    68.2,2,    2.70,2, -999.00,9,     6.7769,2, -999.00,9,  -999.0,9,     -999.0,     -999.0,9,     -999.0,9,     -999.0,     -999.0,9,     -999.0,     -999.0,9,     -999.0,     -999.0,     -999.0,9,     -999.0,9,     -999.0,9,     -999.0,9,     -999.0,9,     -999.0,9,     -999.0,9,     -999.0,9
33RO20161119,        P18,     105,          1,         23,      11121,2,20161218,       1853,   -18.4998,  -103.0012,       4061,    26.5,  23.6028,  36.3547,2,  36.3557,2,    212.9,2,   213.4,2,     0.7,2,    -0.2,2,    0.00,2,   0.350,2,   1.7671,2,   1.1146,2,   1.4565,2,  2086.4,2,  2401.0,2,   8.0306,2,    25.00, -999.00,9,  -999.0,9,  -999.0,   0.0133,2, -999.00,9,    67.9,2,    2.90,2, -999.00,9,     6.7894,2, -999.00,9,  -999.0,9,     -999.0,     -999.0,9,     -999.0,9,     -999.0,     -999.0,9,     -999.0,     -999.0,9,     -999.0,     -999.0,     -999.0,9,     -999.0,9,     -999.0,9,     -999.0,9,     -999.0,9,     -999.0,9,     -999.0,9,     -999.0,9
33RO20161119,        P18,     105,          1,         24,      11122,2,20161218,       1853,   -18.4998,  -103.0012,       4061,     4.1,  23.9275,  36.2160,2,  36.2197,2,    210.3,2,   214.1,2,     0.6,2,    -0.1,2,    0.01,2,   0.338,2,   1.7419,2,   1.1007,2,   1.4591,2,  2071.6,6,  2392.1,2,   8.0404,2,    25.00, -999.00,9,  -999.0,9,  -999.0,   0.0178,2, -999.00,9,    71.6,2,    4.70,2, -999.00,9,     6.6525,2, -999.00,9,  -999.0,9,     -999.0,     -999.0,9,     -999.0,9,     -999.0,     -999.0,9,     -999.0,     -999.0,9,     -999.0,     -999.0,     -999.0,9,     -999.0,9,     -999.0,9,     -999.0,9,     -999.0,9,     -999.0,9,     -999.0,9,     -999.0,9