BOTTLE,20230606CCHSIOCBG
EXPOCODE,SECT_ID,STNNBR,CASTNO,SAMPNO,BTLNBR,BTLNBR_FLAG_W,DATE,TIME,LATITUDE,LONGITUDE,DEPTH,CTDPRS,CTDTMP,CTDSAL,CTDSAL_FLAG_W,SALNTY,SALNTY_FLAG_W,CTDOXY,CTDOXY_FLAG_W,OXYGEN,OXYGEN_FLAG_W,SILCAT,SILCAT_FLAG_W,NITRAT,NITRAT_FLAG_W,NITRIT,NITRIT_FLAG_W,PHSPHT,PHSPHT_FLAG_W,CFC-11,CFC-11_FLAG_W,CFC-12,CFC-12_FLAG_W,SF6,SF6_FLAG_W,TCARBN,TCARBN_FLAG_W,ALKALI,ALKALI_FLAG_W,PH_SWS,PH_SWS_FLAG_W,PH_TMP,DELC13,DELC13_FLAG_W,DELC14,DELC14_FLAG_W,C14ERR,CCL4,CCL4_FLAG_W,POC,POC_FLAG_W,DOC,DOC_FLAG_W,TDN,TDN_FLAG_W,PON,PON_FLAG_W,N2O,N2O_FLAG_W,D15N_NO3,D15N_NO3_FLAG_W,14C-DOC,14C-DOC_FLAG_W,14C-DOCERR,13C-DOC,13C-DOC_FLAG_W,N2/ARGON_UNSTRIPPED,N2/ARGON_UNSTRIPPED_FLAG_W,N2/ARGON_UNSTRIPPED_ERROR,N2/ARGON,N2/ARGON_FLAG_W,N2/ARGON_ERROR,D15N_N2,D15N_N2_FLAG_W,D15N_N2_ERROR,D15N_NO3_ERROR,D15N_NO2+NO3,D15N_NO2+NO3_FLAG_W,D18O_NO2+NO3,D18O_NO2+NO3_FLAG_W,D18O_NO3,D18O_NO3_FLAG_W,TDP,TDP_FLAG_W,N2O_ALT_1,N2O_ALT_1_FLAG_W,D15N_N2O,D15N_N2O_FLAG_W,D18O_N2O,D18O_N2O_FLAG_W,D15N_ALPHA_N2O,D15N_ALPHA_N2O_FLAG_W
,,,,,,,,,,,METERS,DBAR,ITS-90,PSS-78,,PSS-78,,UMOL/KG,,UMOL/KG,,UMOL/KG,,UMOL/KG,,UMOL/KG,,UMOL/KG,,PMOL/KG,,PMOL/KG,,FMOL/KG,,UMOL/KG,,UMOL/KG,,,,DEG C,/MILLE,,/MILLE,,/MILLE,PMOL/KG,,UG/KG,,UMOL/KG,,UMOL/KG,,UG/KG,,NMOL/KG,,/MILLE,,/MILLE,,/MILLE,/MILLE,,,,,,,,/MILLE,,/MILLE,/MILLE,/MILLE,,/MILLE,,/MILLE,,UMOL/KG,,NMOL/L,,/MILLE,,/MILLE,,/MILLE,
33RO20161119,        P18,      43,          1,          1,      11010,2,20161204,       1953,     3.0000,  -110.0001,       3892,  3928.2,   1.4858,  34.6900,2,  34.6886,2,    148.0,2,   147.8,2,   147.8,6,    36.6,6,    0.01,6,   2.470,6,   0.0027,2,   0.0021,2,   0.0406,2,  2340.2,6,  2434.8,2,   7.6188,3,    25.00, -999.00,9,  -999.0,9,  -999.0,        0,2, -999.00,9,    37.0,2,   41.10,2, -999.00,9,    20.5867,2, -999.00,9,  -999.0,9,     -999.0,     -999.0,9,     -999.0,9,     -999.0,     -999.0,9,     -999.0,     -999.0,9,     -999.0,     -999.0,     -999.0,9,     -999.0,9,     -999.0,9,     -999.0,9,     -999.0,9,     -999.0,9,     -999.0,9,     -999.0,9
33RO20161119,        P18,      43,          1,          2,      11101,2,20161204,       1953,     3.0000,  -110.0001,       3892,  3600.3,   1.5016,  34.6874,2,  34.6866,2,    144.2,2,   144.3,2,   147.6,6,    36.7,6,    0.01,6,   2.493,6,   0.0023,2,   0.0011,2,   0.0000,2,  2339.7,2,  2430.9,2,   7.5786,2,    25.00, -999.00,9,  -999.0,9,  -999.0,        0,2, -999.00,9,    37.7,2,   39.30,2, -999.00,9,    21.2157,2, -999.00,9,  -999.0,9,     -999.0,     -999.0,9,     -999.0,9,     -999.0,     -999.0,9,     -999.0,     -999.0,9,     -999.0,     -999.0,     -999.0,9,     -999.0,9,     -999.0,9,     -999.0,9,     -999.0,9,     -999.0,9,     -999.0,9,     -999.0,9
33RO20161119,        P18,      43,          1,          3,      11102,2,20161204,       1953,     3.0000,  -110.0001,       3892,  3399.1,   1.5500,  34.6843,2,  34.6836,2,    141.7,2,   141.3,2,   146.8,6,    37.0,6,    0.01,6,   2.516,6,   0.0011,2,   0.0007,2,   0.0000,2,  2340.4,2,  2433.9,2,   7.5793,2,    25.00, -999.00,9,  -999.0,9,  -999.0,        0,2, -999.00,9,    37.7,2,   41.10,2, -999.00,9,    21.0407,2, -999.00,9,  -999.0,9,     -999.0,     -999.0,9,     -999.0,9,     -999.0,     -999.0,9,     -999.0,     -999.0,9,     -999.0,     -999.0,     -999.0,9,     -999.0,9,     -999.0,9,     -999.0,9,     -999.0,9,     -999.0,9,     -999.0,9,     -999.0,9
33RO20161119,        P18,      43,          1,          4,      11103,2,20161204,       1953,     3.0000,  -110.0001,       3892,  3099.9,   1.6342,  34.6773,2,  34.6766,2,    135.0,2,   135.5,2,   144.2,6,    37.2,6,    0.01,6,   2.551,6,   0.0026,2,   0.0027,2,   0.0285,2,  2338.7,2,  2426.1,4,   7.5542,2,    25.00, -999.00,9,  -999.0,9,  -999.0,        0,2, -999.00,9,    37.6,2,   41.00,2, -999.00,9,    21.8043,2, -999.00,9,  -999.0,9,     -999.0,     -999.0,9,     -999.0,9,     -999.0,     -999.0,9,     -999.0,     -999.0,9,     -999.0,     -999.0,     -999.0,9,     -999.0,9,     -999.0,9,     -999.0,9,     -999.0,9,     -999.0,9,     -999.0,9,     -999.0,9
33RO20161119,        P18,      43,          1,          5,      11104,2,20161204,       1953,     3.0000,  -110.0001,       3892,  2799.6,   1.7507,  34.6716,2,  34.6707,2,    124.8,2,   124.9,2,   145.0,2,    38.0,2,    0.01,2,   2.597,2,   0.0015,2,   0.0007,2,   0.0397,2,  2346.7,2,  2426.2,2,   7.5377,2,    25.00, -999.00,9,  -999.0,9,  -999.0,        0,2, -999.00,9,    38.7,2,   43.20,2, -999.00,9,     22.778,2, -999.00,9,  -999.0,9,     -999.0,     -999.0,9,     -999.0,9,     -999.0,     -999.0,9,     -999.0,     -999.0,9,     -999.0,     -999.0,     -999.0,9,     -999.0,9,     -999.0,9,     -999.0,9,     -999.0,9,     -999.0,9,     -999.0,9,     -999.0,9
33RO20161119,        P18,      43,          1,          6,      11105,2,20161204,       1953,     3.0000,  -110.0001,       3892,  2499.2,   1.8309,  34.6675,2,  34.6668,2,    118.8,2,   119.1,2,   146.4,2,    38.4,2,    0.01,2,   2.625,2,   0.0021,6,   0.0012,6,   0.0384,6,  2350.9,6,  2425.7,2,   7.5259,2,    25.00, -999.00,9,  -999.0,9,  -999.0,        0,2, -999.00,9,    39.0,2,   42.70,2, -999.00,9,    23.5052,2, -999.00,9,  -999.0,9,     -999.0,     -999.0,9,     -999.0,9,     -999.0,     -999.0,9,     -999.0,     -999.0,9,     -999.0,     -999.0,     -999.0,9,     -999.0,9,     -999.0,9,     -999.0,9,     -999.0,9,     -999.0,9,     -999.0,9,     -999.0,9
33RO20161119,        P18,      43,          1,          7,      11106,2,20161204,       1953,     3.0000,  -110.0001,       3892,  2200.3,   2.0175,  34.6564,2,  34.6556,2,    111.2,2,   111.0,2,   142.6,2,    38.8,2,    0.01,2,   2.677,2,   0.0016,2,   0.0010,2,   0.0000,2,  2350.8,2,  2416.6,4,   7.5139,2,    25.00, -999.00,9,  -999.0,9,  -999.0,        0,2, -999.00,9,    37.0,2,   43.80,2, -999.00,9,    24.9284,2, -999.00,9,  -999.0,9,     -999.0,     -999.0,9,     -999.0,9,     -999.0,     -999.0,9,     -999.0,     -999.0,9,     -999.0,     -999.0,     -999.0,9,     -999.0,9,     -999.0,9,     -999.0,9,     -999.0,9,     -999.0,9,     -999.0,9,     -999.0,9
33RO20161119,        P18,      43,          1,          8,      11107,2,20161204,       1953,     3.0000,  -110.0001,       3892,  1899.7,   2.4378,  34.6358,2,  34.6354,2,     95.2,2,    95.7,2,   135.3,2,    39.9,2,    0.01,2,   2.787,2,   0.0013,2,   0.0013,2,   0.0182,2,  2351.6,2,  2415.3,2,   7.4822,2,    25.00, -999.00,9,  -999.0,9,  -999.0,        0,2, -999.00,9,    39.3,2,   43.30,2, -999.00,9,    27.3685,2, -999.00,9,  -999.0,9,     -999.0,     -999.0,9,     -999.0,9,     -999.0,     -999.0,9,     -999.0,     -999.0,9,     -999.0,     -999.0,     -999.0,9,     -999.0,9,     -999.0,9,     -999.0,9,     -999.0,9,     -999.0,9,     -999.0,9,     -999.0,9
33RO20161119,        P18,      43,          1,          9,      11108,2,20161204,       1953,     3.0000,  -110.0001,       3892,  1560.0,   2.9299,  34.6137,2,  34.6123,2,     81.9,2,  -999.0,9,   124.3,2,    40.8,2,    0.01,2,   2.880,2,-999.0000,9,-999.0000,9,-999.0000,9,  -999.0,9,  -999.0,9,-999.0000,9,  -999.00, -999.00,9,  -999.0,9,  -999.0,-999.0000,9, -999.00,9,    37.7,2,   47.00,2, -999.00,9,     -999.0,9, -999.00,9,  -999.0,9,     -999.0,     -999.0,9,     -999.0,9,     -999.0,     -999.0,9,     -999.0,     -999.0,9,     -999.0,     -999.0,     -999.0,9,     -999.0,9,     -999.0,9,     -999.0,9,     -999.0,9,     -999.0,9,     -999.0,9,     -999.0,9
33RO20161119,        P18,      43,          1,         10,      11109,2,20161204,       1953,     3.0000,  -110.0001,       3892,  1364.8,   3.4010,  34.5946,2,  34.5949,2,     75.5,2,    75.4,2,   112.9,2,    41.2,2,    0.01,2,   2.910,2,   0.0011,2,   0.0013,2,   0.0000,2,  2337.5,2,  2373.1,4,   7.4400,2,    25.00, -999.00,9,  -999.0,9,  -999.0,        0,2, -999.00,9,    37.0,2,   46.40,2, -999.00,9,    33.7284,2, -999.00,9,  -999.0,9,     -999.0,     -999.0,9,     -999.0,9,     -999.0,     -999.0,9,     -999.0,     -999.0,9,     -999.0,     -999.0,     -999.0,9,     -999.0,9,     -999.0,9,     -999.0,9,     -999.0,9,     -999.0,9,     -999.0,9,     -999.0,9
33RO20161119,        P18,      43,          1,         11,      11110,2,20161204,       1953,     3.0000,  -110.0001,       3892,  1224.8,   3.8933,  34.5784,2,  34.5781,2,     70.2,2,    69.3,2,   101.1,2,    41.5,2,    0.01,2,   2.930,2,   0.0028,2,   0.0020,2,   0.0133,2,  2329.4,2,  2371.5,2,   7.4334,2,    25.00, -999.00,9,  -999.0,9,  -999.0,        0,2, -999.00,9,    39.5,2,   47.40,2, -999.00,9,     35.695,2, -999.00,9,  -999.0,9,     -999.0,     -999.0,9,     -999.0,9,     -999.0,     -999.0,9,     -999.0,     -999.0,9,     -999.0,     -999.0,     -999.0,9,     -999.0,9,     -999.0,9,     -999.0,9,     -999.0,9,     -999.0,9,     -999.0,9,     -999.0,9
33RO20161119,        P18,      43,          1,         12,      11111,2,20161204,       1953,     3.0000,  -110.0001,       3892,  1094.9,   4.4274,  34.5635,2,  34.5640,2,     64.4,2,    64.3,2,    89.3,2,    41.5,2,    0.02,2,   2.933,2,   0.0029,2,   0.0019,2,   0.0000,2,  2318.9,2,  2344.5,4,   7.4244,2,    25.00, -999.00,9,  -999.0,9,  -999.0,        0,2, -999.00,9,    36.9,2,   46.30,2, -999.00,9,      37.06,2, -999.00,9,  -999.0,9,     -999.0,     -999.0,9,     -999.0,9,     -999.0,     -999.0,9,     -999.0,     -999.0,9,     -999.0,     -999.0,     -999.0,9,     -999.0,9,     -999.0,9,     -999.0,9,     -999.0,9,     -999.0,9,     -999.0,9,     -999.0,9
33RO20161119,        P18,      43,          1,         13,      11112,2,20161204,       1953,     3.0000,  -110.0001,       3892,   960.6,   5.0537,  34.5547,2,  34.5581,2,     62.5,2,    62.9,2,    76.3,2,    41.0,2,    0.01,2,   2.892,2,   0.0099,2,   0.0060,2,   0.0000,2,  2303.6,2,  2344.8,2,   7.4250,2,    25.00, -999.00,9,  -999.0,9,  -999.0,   0.0266,2, -999.00,9,    41.5,2,   45.40,2, -999.00,9,    38.6718,2, -999.00,9,  -999.0,9,     -999.0,     -999.0,9,     -999.0,9,     -999.0,     -999.0,9,     -999.0,     -999.0,9,     -999.0,     -999.0,     -999.0,9,     -999.0,9,     -999.0,9,     -999.0,9,     -999.0,9,     -999.0,9,     -999.0,9,     -999.0,9
33RO20161119,        P18,      43,          1,         14,      11113,2,20161204,       1953,     3.0000,  -110.0001,       3892,   835.5,   5.4755,  34.5511,2,  34.5518,2,     62.7,2,    62.4,2,    68.3,2,    40.8,2,    0.01,2,   2.853,2,   0.0243,2,   0.0132,2,   0.0000,2,  2294.7,2,  2320.4,4,   7.4280,2,    25.00, -999.00,9,  -999.0,9,  -999.0,    0.019,2, -999.00,9,    40.4,2,   45.00,2, -999.00,9,    39.3987,2, -999.00,9,  -999.0,9,     -999.0,     -999.0,9,     -999.0,9,     -999.0,     -999.0,9,     -999.0,     -999.0,9,     -999.0,     -999.0,     -999.0,9,     -999.0,9,     -999.0,9,     -999.0,9,     -999.0,9,     -999.0,9,     -999.0,9,     -999.0,9
33RO20161119,        P18,      43,          1,         15,      11114,2,20161204,       1953,     3.0000,  -110.0001,       3892,   709.7,   6.2192,  34.5615,2,  34.5614,2,     40.9,2,    42.3,2,    60.0,2,    41.7,2,    0.01,2,   2.923,2,   0.0271,2,   0.0157,2,   0.0287,2,  2295.0,2,  2326.6,2,   7.3941,2,    25.00, -999.00,9,  -999.0,9,  -999.0,    0.028,2, -999.00,9,    41.4,2,   47.20,2, -999.00,9,    46.7023,2, -999.00,9,  -999.0,9,     -999.0,     -999.0,9,     -999.0,9,     -999.0,     -999.0,9,     -999.0,     -999.0,9,     -999.0,     -999.0,     -999.0,9,     -999.0,9,     -999.0,9,     -999.0,9,     -999.0,9,     -999.0,9,     -999.0,9,     -999.0,9
33RO20161119,        P18,      43,          1,         16,      11115,2,20161204,       1953,     3.0000,  -110.0001,       3892,   599.3,   7.1705,  34.5868,2,  34.5863,2,     18.6,2,    20.6,2,    52.4,2,    41.6,2,    0.01,2,   2.956,2,   0.0484,2,   0.0272,2,   0.0000,2,  2297.4,2,  2316.2,2,   7.3637,6,    25.00, -999.00,9,  -999.0,9,  -999.0,   0.0389,2, -999.00,9,    40.0,2,   45.50,2, -999.00,9,    55.4338,2, -999.00,9,  -999.0,9,     -999.0,     -999.0,9,     -999.0,9,     -999.0,     -999.0,9,     -999.0,     -999.0,9,     -999.0,     -999.0,     -999.0,9,     -999.0,9,     -999.0,9,     -999.0,9,     -999.0,9,     -999.0,9,     -999.0,9,     -999.0,9
33RO20161119,        P18,      43,          1,         17,      11116,2,20161204,       1953,     3.0000,  -110.0001,       3892,   495.0,   8.2156,  34.6236,2,  34.6235,2,     14.3,2,    14.1,6,    45.1,2,    38.9,2,    0.06,2,   2.842,2,   0.1256,2,   0.0693,2,   0.0402,2,  2289.1,2,  2314.0,2,   7.3677,2,    25.00, -999.00,9,  -999.0,9,  -999.0,   0.0897,2, -999.00,9,    41.4,2,   45.60,2, -999.00,9,    60.6112,2, -999.00,9,  -999.0,9,     -999.0,     -999.0,9,     -999.0,9,     -999.0,     -999.0,9,     -999.0,     -999.0,9,     -999.0,     -999.0,     -999.0,9,     -999.0,9,     -999.0,9,     -999.0,9,     -999.0,9,     -999.0,9,     -999.0,9,     -999.0,9
33RO20161119,        P18,      43,          1,         18,      11117,2,20161204,       1953,     3.0000,  -110.0001,       3892,   384.6,   9.7741,  34.6905,2,  34.6942,2,     31.8,2,    29.9,6,    33.7,2,    34.6,2,    0.03,2,   2.452,2,   0.5629,2,   0.3037,2,   0.1146,2,  2259.4,2,  2306.6,2,   7.4324,2,    25.00, -999.00,9,  -999.0,9,  -999.0,   0.1293,2, -999.00,9,    42.3,2,   39.00,2, -999.00,9,    54.5031,2, -999.00,9,  -999.0,9,     -999.0,     -999.0,9,     -999.0,9,     -999.0,     -999.0,9,     -999.0,     -999.0,9,     -999.0,     -999.0,     -999.0,9,     -999.0,9,     -999.0,9,     -999.0,9,     -999.0,9,     -999.0,9,     -999.0,9,     -999.0,9
33RO20161119,        P18,      43,          1,         19,      11083,2,20161204,       1953,     3.0000,  -110.0001,       3892,   289.9,  11.3981,  34.7862,2,  34.7875,2,     34.0,2,    32.7,2,    27.0,2,    32.1,2,    0.02,2,   2.263,2,   0.9968,6,   0.5447,6,   0.2565,6,  2247.1,2,  2298.7,2,   7.4695,2,    25.00, -999.00,9,  -999.0,9,  -999.0,    0.113,2, -999.00,9,    43.6,2,   35.10,2, -999.00,9,    58.5836,2, -999.00,9,  -999.0,9,     -999.0,     -999.0,9,     -999.0,9,     -999.0,     -999.0,9,     -999.0,     -999.0,9,     -999.0,     -999.0,     -999.0,9,     -999.0,9,     -999.0,9,     -999.0,9,     -999.0,9,     -999.0,9,     -999.0,9,     -999.0,9
33RO20161119,        P18,      43,          1,         20,      11118,2,20161204,       1953,     3.0000,  -110.0001,       3892,   215.1,  12.8927,  34.8933,2,  34.8921,2,     42.9,2,    41.6,2,    21.6,2,    29.5,2,    0.02,2,   2.058,2,   1.3430,2,   0.7464,2,   0.3969,2,  2225.5,2,  2298.8,2,   7.5296,2,    25.00, -999.00,9,  -999.0,9,  -999.0,   0.1232,2, -999.00,9,    46.5,2,   31.60,2, -999.00,9,    55.1551,2, -999.00,9,  -999.0,9,     -999.0,     -999.0,9,     -999.0,9,     -999.0,     -999.0,9,     -999.0,     -999.0,9,     -999.0,     -999.0,     -999.0,9,     -999.0,9,     -999.0,9,     -999.0,9,     -999.0,9,     -999.0,9,     -999.0,9,     -999.0,9
33RO20161119,        P18,      43,          1,         21,      11119,2,20161204,       1953,     3.0000,  -110.0001,       3892,   139.1,  13.6191,  34.9338,2,  34.9347,2,     61.5,2,    61.1,2,    18.2,2,    26.6,2,    0.02,2,   1.862,2,   1.5452,2,   0.8724,2,   0.5161,2,  2206.7,2,  2297.0,2,   7.5877,2,    25.00, -999.00,9,  -999.0,9,  -999.0,   0.3072,2, -999.00,9,    46.1,2,   30.00,2, -999.00,9,    45.6078,2, -999.00,9,  -999.0,9,     -999.0,     -999.0,9,     -999.0,9,     -999.0,     -999.0,9,     -999.0,     -999.0,9,     -999.0,     -999.0,     -999.0,9,     -999.0,9,     -999.0,9,     -999.0,9,     -999.0,9,     -999.0,9,     -999.0,9,     -999.0,9
33RO20161119,        P18,      43,          1,         22,      11120,2,20161204,       1953,     3.0000,  -110.0001,       3892,    70.0,  16.8906,  34.8478,2,  34.8419,2,     91.1,2,    81.9,2,    13.5,2,    21.5,2,    0.39,2,   1.593,2,   1.7830,2,   1.0326,2,   0.8185,2,  2170.3,2,  2291.4,6,   7.6641,2,    25.00, -999.00,9,  -999.0,9,  -999.0,   1.6758,2, -999.00,9,    50.7,2,   24.60,2, -999.00,9,    40.6147,2, -999.00,9,  -999.0,9,     -999.0,     -999.0,9,     -999.0,9,     -999.0,     -999.0,9,     -999.0,     -999.0,9,     -999.0,     -999.0,     -999.0,9,     -999.0,9,     -999.0,9,     -999.0,9,     -999.0,9,     -999.0,9,     -999.0,9,     -999.0,9
33RO20161119,        P18,      43,          1,         23,      11121,2,20161204,       1953,     3.0000,  -110.0001,       3892,    31.2,  26.3392,  33.7178,2,  33.7231,2,    202.0,2,   203.3,2,     0.4,2,     0.2,2,    0.02,2,   0.194,2,   1.6013,2,   1.0053,2,   1.4437,2,  1923.5,2,  2222.0,2,   8.0626,6,    25.00, -999.00,9,  -999.0,9,  -999.0,   1.7834,2, -999.00,9,    67.3,2,    2.60,2, -999.00,9,      6.726,2, -999.00,9,  -999.0,9,     -999.0,     -999.0,9,     -999.0,9,     -999.0,     -999.0,9,     -999.0,     -999.0,9,     -999.0,     -999.0,     -999.0,9,     -999.0,9,     -999.0,9,     -999.0,9,     -999.0,9,     -999.0,9,     -999.0,9,     -999.0,9
33RO20161119,        P18,      43,          1,         24,      11122,2,20161204,       1953,     3.0000,  -110.0001,       3892,     3.8,  26.4637,  33.7210,2,  33.7229,2,    193.6,2,   203.9,2,     0.4,2,     0.1,2,    0.02,2,   0.181,2,   1.5917,2,   1.0068,2,   1.4030,2,  1920.9,6,  2218.1,2,   8.0646,2,    25.00, -999.00,9,  -999.0,9,  -999.0,        0,2, -999.00,9,    69.1,2,    3.40,2, -999.00,9,     6.5135,2, -999.00,9,  -999.0,9,     -999.0,     -999.0,9,     -999.0,9,     -999.0,     -999.0,9,     -999.0,     -999.0,9,     -999.0,     -999.0,     -999.0,9,     -999.0,9,     -999.0,9,     -999.0,9,     -999.0,9,     -999.0,9,     -999.0,9,     -999.0,9