BOTTLE,20230606CCHSIOCBG
EXPOCODE,SECT_ID,STNNBR,CASTNO,SAMPNO,BTLNBR,BTLNBR_FLAG_W,DATE,TIME,LATITUDE,LONGITUDE,DEPTH,CTDPRS,CTDTMP,CTDSAL,CTDSAL_FLAG_W,SALNTY,SALNTY_FLAG_W,CTDOXY,CTDOXY_FLAG_W,OXYGEN,OXYGEN_FLAG_W,SILCAT,SILCAT_FLAG_W,NITRAT,NITRAT_FLAG_W,NITRIT,NITRIT_FLAG_W,PHSPHT,PHSPHT_FLAG_W,CFC-11,CFC-11_FLAG_W,CFC-12,CFC-12_FLAG_W,SF6,SF6_FLAG_W,TCARBN,TCARBN_FLAG_W,ALKALI,ALKALI_FLAG_W,PH_SWS,PH_SWS_FLAG_W,PH_TMP,DELC13,DELC13_FLAG_W,DELC14,DELC14_FLAG_W,C14ERR,CCL4,CCL4_FLAG_W,POC,POC_FLAG_W,DOC,DOC_FLAG_W,TDN,TDN_FLAG_W,PON,PON_FLAG_W,N2O,N2O_FLAG_W,D15N_NO3,D15N_NO3_FLAG_W,14C-DOC,14C-DOC_FLAG_W,14C-DOCERR,13C-DOC,13C-DOC_FLAG_W,N2/ARGON_UNSTRIPPED,N2/ARGON_UNSTRIPPED_FLAG_W,N2/ARGON_UNSTRIPPED_ERROR,N2/ARGON,N2/ARGON_FLAG_W,N2/ARGON_ERROR,D15N_N2,D15N_N2_FLAG_W,D15N_N2_ERROR,D15N_NO3_ERROR,D15N_NO2+NO3,D15N_NO2+NO3_FLAG_W,D18O_NO2+NO3,D18O_NO2+NO3_FLAG_W,D18O_NO3,D18O_NO3_FLAG_W,TDP,TDP_FLAG_W,N2O_ALT_1,N2O_ALT_1_FLAG_W,D15N_N2O,D15N_N2O_FLAG_W,D18O_N2O,D18O_N2O_FLAG_W,D15N_ALPHA_N2O,D15N_ALPHA_N2O_FLAG_W
,,,,,,,,,,,METERS,DBAR,ITS-90,PSS-78,,PSS-78,,UMOL/KG,,UMOL/KG,,UMOL/KG,,UMOL/KG,,UMOL/KG,,UMOL/KG,,PMOL/KG,,PMOL/KG,,FMOL/KG,,UMOL/KG,,UMOL/KG,,,,DEG C,/MILLE,,/MILLE,,/MILLE,PMOL/KG,,UG/KG,,UMOL/KG,,UMOL/KG,,UG/KG,,NMOL/KG,,/MILLE,,/MILLE,,/MILLE,/MILLE,,,,,,,,/MILLE,,/MILLE,/MILLE,/MILLE,,/MILLE,,/MILLE,,UMOL/KG,,NMOL/L,,/MILLE,,/MILLE,,/MILLE,
33RO20161119,        P18,      36,          1,          1,      11010,2,20161203,       0352,     6.4991,  -109.9999,       3591,  3640.8,   1.5535,  34.6854,2,  34.6841,2,    139.1,2,   138.9,2,   150.6,6,    37.4,6,    0.01,6,   2.532,6,-999.0000,9,-999.0000,9,-999.0000,9,  2346.0,6,  2433.9,2,   7.5645,2,    25.00, -999.00,9,  -999.0,9,  -999.0,-999.0000,9, -999.00,9,  -999.0,9, -999.00,9, -999.00,9,     -999.0,9, -999.00,9,  -999.0,9,     -999.0,     -999.0,9,     -999.0,9,     -999.0,     -999.0,9,     -999.0,     -999.0,9,     -999.0,     -999.0,     -999.0,9,     -999.0,9,     -999.0,9,     -999.0,9,     -999.0,9,     -999.0,9,     -999.0,9,     -999.0,9
33RO20161119,        P18,      36,          1,          2,      11101,2,20161203,       0352,     6.4991,  -109.9999,       3591,  3323.7,   1.5923,  34.6822,2,  34.6816,2,    133.4,2,   133.3,2,   151.0,6,    37.6,6,    0.01,6,   2.564,6,-999.0000,9,-999.0000,9,-999.0000,9,  2346.9,2,  2433.2,2,   7.5533,6,    25.00, -999.00,9,  -999.0,9,  -999.0,-999.0000,9, -999.00,9,  -999.0,9, -999.00,9, -999.00,9,     -999.0,9, -999.00,9,  -999.0,9,     -999.0,     -999.0,9,     -999.0,9,     -999.0,     -999.0,9,     -999.0,     -999.0,9,     -999.0,     -999.0,     -999.0,9,     -999.0,9,     -999.0,9,     -999.0,9,     -999.0,9,     -999.0,9,     -999.0,9,     -999.0,9
33RO20161119,        P18,      36,          1,          3,      11102,2,20161203,       0352,     6.4991,  -109.9999,       3591,  3048.7,   1.7591,  34.6739,2,  34.6738,2,    120.3,2,   119.9,2,   151.7,6,    38.3,6,    0.01,6,   2.641,6,-999.0000,9,-999.0000,9,-999.0000,9,  2355.4,2,  2437.5,2,   7.5299,2,    25.00, -999.00,9,  -999.0,9,  -999.0,-999.0000,9, -999.00,9,  -999.0,9, -999.00,9, -999.00,9,     -999.0,9, -999.00,9,  -999.0,9,     -999.0,     -999.0,9,     -999.0,9,     -999.0,     -999.0,9,     -999.0,     -999.0,9,     -999.0,     -999.0,     -999.0,9,     -999.0,9,     -999.0,9,     -999.0,9,     -999.0,9,     -999.0,9,     -999.0,9,     -999.0,9
33RO20161119,        P18,      36,          1,          4,      11103,2,20161203,       0352,     6.4991,  -109.9999,       3591,  2774.2,   1.8391,  34.6693,2,  34.6680,2,    113.5,2,   113.1,2,   151.8,6,    38.8,6,    0.01,6,   2.682,6,-999.0000,9,-999.0000,9,-999.0000,9,  2359.6,2,  2431.3,2,   7.5170,2,    25.00, -999.00,9,  -999.0,9,  -999.0,-999.0000,9, -999.00,9,  -999.0,9, -999.00,9, -999.00,9,     -999.0,9, -999.00,9,  -999.0,9,     -999.0,     -999.0,9,     -999.0,9,     -999.0,     -999.0,9,     -999.0,     -999.0,9,     -999.0,     -999.0,     -999.0,9,     -999.0,9,     -999.0,9,     -999.0,9,     -999.0,9,     -999.0,9,     -999.0,9,     -999.0,9
33RO20161119,        P18,      36,          1,          5,      11104,2,20161203,       0352,     6.4991,  -109.9999,       3591,  2500.7,   1.9133,  34.6639,2,  34.6634,2,    110.7,2,   110.3,2,   149.2,2,    39.0,2,    0.01,2,   2.696,2,-999.0000,9,-999.0000,9,-999.0000,9,  2355.7,2,  2426.6,2,   7.5129,2,    25.00, -999.00,9,  -999.0,9,  -999.0,-999.0000,9, -999.00,9,  -999.0,9, -999.00,9, -999.00,9,     -999.0,9, -999.00,9,  -999.0,9,     -999.0,     -999.0,9,     -999.0,9,     -999.0,     -999.0,9,     -999.0,     -999.0,9,     -999.0,     -999.0,     -999.0,9,     -999.0,9,     -999.0,9,     -999.0,9,     -999.0,9,     -999.0,9,     -999.0,9,     -999.0,9
33RO20161119,        P18,      36,          1,          6,      11105,2,20161203,       0352,     6.4991,  -109.9999,       3591,  2200.6,   2.1201,  34.6520,2,  34.6517,2,    101.3,2,   101.3,2,   145.1,2,    39.8,2,    0.01,2,   2.758,2,-999.0000,9,-999.0000,9,-999.0000,9,  2358.8,2,  2423.9,6,   7.4932,2,    25.00, -999.00,9,  -999.0,9,  -999.0,-999.0000,9, -999.00,9,  -999.0,9, -999.00,9, -999.00,9,     -999.0,9, -999.00,9,  -999.0,9,     -999.0,     -999.0,9,      37.97,2,     -999.0,      38.05,2,     -999.0,     -999.0,9,     -999.0,     -999.0,     -999.0,9,     -999.0,9,     -999.0,9,     -999.0,9,25.52853317,2,        9.5,2,      55.54,2,      24.25,2
33RO20161119,        P18,      36,          1,          7,      11106,2,20161203,       0352,     6.4991,  -109.9999,       3591,  1939.9,   2.4493,  34.6370,2,  34.6368,2,     91.2,2,    91.5,2,   137.9,2,    40.3,2,    0.01,2,   2.818,2,-999.0000,9,-999.0000,9,-999.0000,9,  2357.3,2,  2415.1,2,   7.4703,2,    25.00, -999.00,9,  -999.0,9,  -999.0,-999.0000,9, -999.00,9,  -999.0,9, -999.00,9, -999.00,9,     -999.0,9, -999.00,9,  -999.0,9,     -999.0,     -999.0,9,      37.94,2,     -999.0,       38.0,2,     -999.0,     -999.0,9,     -999.0,     -999.0,     -999.0,9,     -999.0,9,     -999.0,9,     -999.0,9,18.95594458,2,       8.97,2,      54.85,2,       23.7,2
33RO20161119,        P18,      36,          1,          8,      11107,2,20161203,       0352,     6.4991,  -109.9999,       3591,  1659.1,   2.8492,  34.6176,2,  34.6155,2,     80.9,2,    80.6,2,   128.0,2,    41.1,2,    0.01,2,   2.897,2,-999.0000,9,-999.0000,9,-999.0000,9,  2351.8,2,  2400.7,2,   7.4509,2,    25.00, -999.00,9,  -999.0,9,  -999.0,-999.0000,9, -999.00,9,  -999.0,9, -999.00,9, -999.00,9,     -999.0,9, -999.00,9,  -999.0,9,     -999.0,     -999.0,9,      37.97,2,     -999.0,      38.02,2,     -999.0,     -999.0,9,     -999.0,     -999.0,     -999.0,9,     -999.0,9,     -999.0,9,     -999.0,9,30.07216967,2,       9.17,2,      54.98,2,      21.14,2
33RO20161119,        P18,      36,          1,          9,      11108,2,20161203,       0352,     6.4991,  -109.9999,       3591,  1381.0,   3.3604,  34.6003,2,  34.5987,2,     66.9,2,    66.5,2,   117.6,2,    42.1,2,    0.01,2,   2.975,2,-999.0000,9,-999.0000,9,-999.0000,9,  2348.0,2,  2387.4,2,   7.4250,2,    25.00, -999.00,9,  -999.0,9,  -999.0,-999.0000,9, -999.00,9,  -999.0,9, -999.00,9, -999.00,9,     -999.0,9, -999.00,9,  -999.0,9,     -999.0,     -999.0,9,      38.05,2,     -999.0,      38.13,2,     -999.0,     -999.0,9,     -999.0,     -999.0,     -999.0,9,     -999.0,9,     -999.0,9,     -999.0,9,33.43606902,2,       9.14,2,      55.05,2,      20.95,2
33RO20161119,        P18,      36,          1,         10,      11109,2,20161203,       0352,     6.4991,  -109.9999,       3591,  1219.9,   3.7431,  34.5886,2,  34.5862,2,     57.6,2,    57.3,2,   109.2,2,    42.7,2,    0.01,2,   3.036,2,-999.0000,9,-999.0000,9,-999.0000,9,  2345.6,2,  2379.1,2,   7.4054,2,    25.00, -999.00,9,  -999.0,9,  -999.0,-999.0000,9, -999.00,9,  -999.0,9, -999.00,9, -999.00,9,     -999.0,9, -999.00,9,  -999.0,9,     -999.0,     -999.0,9,      37.92,2,     -999.0,      37.97,2,     -999.0,     -999.0,9,     -999.0,     -999.0,     -999.0,9,     -999.0,9,     -999.0,9,     -999.0,9,36.38775813,2,       8.97,2,      54.57,2,      20.49,2
33RO20161119,        P18,      36,          1,         11,      11110,2,20161203,       0352,     6.4991,  -109.9999,       3591,  1090.3,   4.1181,  34.5765,2,  34.5756,2,     50.5,2,    50.1,2,   100.8,2,    43.2,2,    0.01,2,   3.062,2,   0.0032,2,   0.0017,2,   0.0000,2,  2340.9,2,  2370.7,6,   7.3939,2,    25.00, -999.00,9,  -999.0,9,  -999.0,        0,2, -999.00,9,  -999.0,9, -999.00,9, -999.00,9,     39.329,2, -999.00,9,  -999.0,9,     -999.0,     -999.0,9,       37.9,2,     -999.0,      37.94,2,     -999.0,     -999.0,9,     -999.0,     -999.0,     -999.0,9,     -999.0,9,     -999.0,9,     -999.0,9,38.44841618,2,       8.71,2,      54.02,2,      17.74,2
33RO20161119,        P18,      36,          1,         12,      11111,2,20161203,       0352,     6.4991,  -109.9999,       3591,   970.9,   4.5327,  34.5676,2,  34.5660,2,     45.1,2,    44.4,2,    91.3,2,    43.4,2,    0.01,2,   3.077,2,-999.0000,9,-999.0000,9,-999.0000,9,  2333.4,2,  2357.1,2,   7.3850,6,    25.00, -999.00,9,  -999.0,9,  -999.0,-999.0000,9, -999.00,9,  -999.0,9, -999.00,9, -999.00,9,     -999.0,9, -999.00,9,  -999.0,9,     -999.0,     -999.0,9,       37.9,2,     -999.0,      37.95,2,     -999.0,     -999.0,9,     -999.0,     -999.0,     -999.0,9,     -999.0,9,     -999.0,9,     -999.0,9,40.65460118,2,       8.61,2,      53.64,2,      18.73,2
33RO20161119,        P18,      36,          1,         13,      11112,2,20161203,       0352,     6.4991,  -109.9999,       3591,   850.6,   5.1280,  34.5581,2,  34.5575,2,     37.0,2,    37.2,2,    80.3,2,    43.6,2,    0.01,2,   3.081,2,   0.0060,2,   0.0025,2,   0.0464,2,  2323.6,2,  2344.4,2,   7.3599,2,    25.00, -999.00,9,  -999.0,9,  -999.0,        0,2, -999.00,9,  -999.0,9, -999.00,9, -999.00,9,    44.9565,2, -999.00,9,  -999.0,9,     -999.0,     -999.0,9,      37.86,2,     -999.0,      37.92,2,     -999.0,     -999.0,9,     -999.0,     -999.0,     -999.0,9,     -999.0,9,     -999.0,9,     -999.0,9, 44.4945172,2,        8.3,2,      53.62,2,       15.4,2
33RO20161119,        P18,      36,          1,         14,      11113,2,20161203,       0352,     6.4991,  -109.9999,       3591,   734.5,   5.8445,  34.5591,2,  34.5573,2,     23.0,2,    23.0,2,    70.0,2,    43.7,2,    0.01,2,   3.118,2,-999.0000,9,-999.0000,9,-999.0000,9,  2318.2,6,  2333.4,2,   7.7367,4,    25.00, -999.00,9,  -999.0,9,  -999.0,-999.0000,9, -999.00,9,  -999.0,9, -999.00,9, -999.00,9,     -999.0,9, -999.00,9,  -999.0,9,     -999.0,     -999.0,9,      36.94,2,     -999.0,     -999.0,9,     -999.0,     -999.0,9,     -999.0,     -999.0,     -999.0,9,     -999.0,9,     -999.0,9,     -999.0,9,50.93187995,2,       7.88,2,      53.84,2,      17.22,2
33RO20161119,        P18,      36,          1,         15,      11114,2,20161203,       0352,     6.4991,  -109.9999,       3591,   625.5,   6.7552,  34.5733,2,  34.5717,2,     12.1,2,    12.0,2,    59.3,2,    42.6,2,    0.01,2,   3.086,2,   0.0183,2,   0.0096,2,   0.0000,2,  2312.7,2,  2322.9,2,   7.3461,2,    25.00, -999.00,9,  -999.0,9,  -999.0,   0.0516,2, -999.00,9,  -999.0,9, -999.00,9, -999.00,9,    58.8052,2, -999.00,9,  -999.0,9,     -999.0,     -999.0,9,     -999.0,9,     -999.0,     -999.0,9,     -999.0,     -999.0,9,     -999.0,     -999.0,     -999.0,9,     -999.0,9,     -999.0,9,     -999.0,9,56.90728722,2,       7.55,2,      53.88,2,      11.76,2
33RO20161119,        P18,      36,          1,         16,      11115,2,20161203,       0352,     6.4991,  -109.9999,       3591,   520.8,   7.7119,  34.6063,2,  34.6047,2,     11.7,2,    11.1,6,    49.9,2,    40.6,2,    0.01,2,   2.978,2,-999.0000,9,-999.0000,9,-999.0000,9,  2300.5,2,  2314.7,2,   7.3517,2,    25.00, -999.00,9,  -999.0,9,  -999.0,-999.0000,9, -999.00,9,  -999.0,9, -999.00,9, -999.00,9,     -999.0,9, -999.00,9,  -999.0,9,     -999.0,     -999.0,9,      37.06,2,     -999.0,     -999.0,9,     -999.0,     -999.0,9,     -999.0,     -999.0,     -999.0,9,     -999.0,9,     -999.0,9,     -999.0,9,58.49167892,2,       7.42,2,      53.26,2,      13.33,2
33RO20161119,        P18,      36,          1,         17,      11116,2,20161203,       0352,     6.4991,  -109.9999,       3591,   424.5,   8.7337,  34.6400,2,  34.6401,2,     19.6,2,    18.7,6,    40.8,2,    37.7,2,    0.01,2,   2.717,2,   0.2288,6,   0.1262,6,   0.0573,6,  2281.8,2,  2306.8,2,   7.3878,2,    25.00, -999.00,9,  -999.0,9,  -999.0,   0.0421,2, -999.00,9,  -999.0,9, -999.00,9, -999.00,9,    57.7092,2, -999.00,9,  -999.0,9,     -999.0,     -999.0,9,      37.96,2,     -999.0,      38.09,2,     -999.0,     -999.0,9,     -999.0,     -999.0,     -999.0,9,     -999.0,9,     -999.0,9,     -999.0,9,55.11781125,2,       7.39,2,      52.91,2,      15.52,2
33RO20161119,        P18,      36,          1,         18,      11117,2,20161203,       0352,     6.4991,  -109.9999,       3591,   329.3,   9.6456,  34.6831,2,  34.6825,2,     29.6,2,    25.0,2,    34.9,2,    35.0,2,    0.01,2,   2.533,2,-999.0000,9,-999.0000,9,-999.0000,9,  2266.8,2,  2303.1,2,   7.4194,2,    25.00, -999.00,9,  -999.0,9,  -999.0,-999.0000,9, -999.00,9,  -999.0,9, -999.00,9, -999.00,9,     -999.0,9, -999.00,9,  -999.0,9,     -999.0,     -999.0,9,     -999.0,9,     -999.0,     -999.0,9,     -999.0,     -999.0,9,     -999.0,     -999.0,     -999.0,9,     -999.0,9,     -999.0,9,     -999.0,9,44.45618566,2,       7.01,2,      52.26,2,      17.01,2
33RO20161119,        P18,      36,          1,         19,      11083,2,20161203,       0352,     6.4991,  -109.9999,       3591,   250.1,  10.5726,  34.7217,2,  34.7167,2,     26.6,2,    31.3,2,    30.3,2,    33.1,2,    0.01,2,   2.365,2,   0.7599,2,   0.4146,2,   0.1771,2,  2253.4,2,  2297.6,2,   7.4474,2,    25.00, -999.00,9,  -999.0,9,  -999.0,    0.274,2, -999.00,9,  -999.0,9, -999.00,9, -999.00,9,    54.3868,2, -999.00,9,  -999.0,9,     -999.0,     -999.0,9,      38.03,2,     -999.0,      38.16,2,     -999.0,     -999.0,9,     -999.0,     -999.0,     -999.0,9,     -999.0,9,     -999.0,9,     -999.0,9,52.25117742,2,       6.53,2,       50.2,2,      13.55,2
33RO20161119,        P18,      36,          1,         20,      11118,2,20161203,       0352,     6.4991,  -109.9999,       3591,   179.6,  11.5966,  34.7509,2,  34.7556,2,     29.8,2,    28.6,2,    26.8,2,    31.8,2,    0.02,2,   2.283,2,-999.0000,9,-999.0000,9,-999.0000,9,  2243.3,2,  2297.9,2,   7.4667,2,    25.00, -999.00,9,  -999.0,9,  -999.0,-999.0000,9, -999.00,9,  -999.0,9, -999.00,9, -999.00,9,     -999.0,9, -999.00,9,  -999.0,9,     -999.0,     -999.0,9,      37.96,2,     -999.0,      38.07,2,     -999.0,     -999.0,9,     -999.0,     -999.0,     -999.0,9,     -999.0,9,     -999.0,9,     -999.0,9,64.86122594,2,       5.34,2,      47.09,2,       8.01,2
33RO20161119,        P18,      36,          1,         21,      11119,2,20161203,       0352,     6.4991,  -109.9999,       3591,   114.9,  18.6461,  34.7329,2,  34.7297,2,    107.4,2,    88.9,2,    10.7,2,    17.3,2,    0.42,2,   1.401,2,   1.8828,2,   1.1124,2,   1.0038,2,  2151.2,2,  2286.5,2,   7.7001,2,    25.00, -999.00,9,  -999.0,9,  -999.0,   1.4064,2, -999.00,9,  -999.0,9, -999.00,9, -999.00,9,    47.6106,2, -999.00,9,  -999.0,9,     -999.0,     -999.0,9,      38.11,2,     -999.0,      38.17,2,     -999.0,     -999.0,9,     -999.0,     -999.0,     -999.0,9,     -999.0,9,     -999.0,9,     -999.0,9,44.79782864,2,       3.97,2,      44.71,2,      16.86,2
33RO20161119,        P18,      36,          1,         22,      11120,2,20161203,       0352,     6.4991,  -109.9999,       3591,    60.6,  26.2744,  33.9892,2,  33.9920,2,    208.8,2,   207.6,2,     1.3,2,     0.9,2,    0.05,2,   0.281,2,   1.6413,2,   1.0370,2,   1.3720,2,  1953.8,2,  2236.4,6,   8.0370,2,    25.00, -999.00,9,  -999.0,9,  -999.0,   1.6656,2, -999.00,9,  -999.0,9, -999.00,9, -999.00,9,     8.4771,2, -999.00,9,  -999.0,9,     -999.0,     -999.0,9,      38.37,2,     -999.0,      38.42,2,     -999.0,     -999.0,9,     -999.0,     -999.0,     -999.0,9,     -999.0,9,     -999.0,9,     -999.0,9, 8.99662056,2,       5.75,2,      44.38,2,       19.0,2
33RO20161119,        P18,      36,          1,         23,      11121,2,20161203,       0352,     6.4991,  -109.9999,       3591,    24.6,  26.9256,  33.3009,2,  33.3082,2,    203.3,2,   203.9,2,     0.7,2,     0.1,2,    0.01,2,   0.151,2,   1.5634,2,   0.9959,2,   1.3852,2,  1894.6,2,  2191.4,2,   8.0791,2,    25.00, -999.00,9,  -999.0,9,  -999.0,   1.7297,2, -999.00,9,  -999.0,9, -999.00,9, -999.00,9,     6.3493,2, -999.00,9,  -999.0,9,     -999.0,     -999.0,9,      38.35,2,     -999.0,      38.37,2,     -999.0,     -999.0,9,     -999.0,     -999.0,     -999.0,9,     -999.0,9,     -999.0,9,     -999.0,9,6.934620376,2,       6.03,2,      46.44,2,      17.97,2
33RO20161119,        P18,      36,          1,         24,      11122,2,20161203,       0352,     6.4991,  -109.9999,       3591,     3.1,  27.0267,  33.2185,2,  33.2180,2,    200.2,2,   203.4,2,     0.7,2,     0.1,2,    0.01,2,   0.143,2,   1.5527,2,   0.9922,2,   1.3964,2,  1886.1,6,  2183.3,2,   8.0802,2,    25.00, -999.00,9,  -999.0,9,  -999.0,        0,2, -999.00,9,  -999.0,9, -999.00,9, -999.00,9,     6.3252,2, -999.00,9,  -999.0,9,     -999.0,     -999.0,9,      38.57,2,     -999.0,      38.56,2,     -999.0,     -999.0,9,     -999.0,     -999.0,     -999.0,9,     -999.0,9,     -999.0,9,     -999.0,9,6.865217421,2,       6.37,2,      45.85,2,      18.02,2