BOTTLE,20230606CCHSIOCBG
EXPOCODE,SECT_ID,STNNBR,CASTNO,SAMPNO,BTLNBR,BTLNBR_FLAG_W,DATE,TIME,LATITUDE,LONGITUDE,DEPTH,CTDPRS,CTDTMP,CTDSAL,CTDSAL_FLAG_W,SALNTY,SALNTY_FLAG_W,CTDOXY,CTDOXY_FLAG_W,OXYGEN,OXYGEN_FLAG_W,SILCAT,SILCAT_FLAG_W,NITRAT,NITRAT_FLAG_W,NITRIT,NITRIT_FLAG_W,PHSPHT,PHSPHT_FLAG_W,CFC-11,CFC-11_FLAG_W,CFC-12,CFC-12_FLAG_W,SF6,SF6_FLAG_W,TCARBN,TCARBN_FLAG_W,ALKALI,ALKALI_FLAG_W,PH_SWS,PH_SWS_FLAG_W,PH_TMP,DELC13,DELC13_FLAG_W,DELC14,DELC14_FLAG_W,C14ERR,CCL4,CCL4_FLAG_W,POC,POC_FLAG_W,DOC,DOC_FLAG_W,TDN,TDN_FLAG_W,PON,PON_FLAG_W,N2O,N2O_FLAG_W,D15N_NO3,D15N_NO3_FLAG_W,14C-DOC,14C-DOC_FLAG_W,14C-DOCERR,13C-DOC,13C-DOC_FLAG_W,N2/ARGON_UNSTRIPPED,N2/ARGON_UNSTRIPPED_FLAG_W,N2/ARGON_UNSTRIPPED_ERROR,N2/ARGON,N2/ARGON_FLAG_W,N2/ARGON_ERROR,D15N_N2,D15N_N2_FLAG_W,D15N_N2_ERROR,D15N_NO3_ERROR,D15N_NO2+NO3,D15N_NO2+NO3_FLAG_W,D18O_NO2+NO3,D18O_NO2+NO3_FLAG_W,D18O_NO3,D18O_NO3_FLAG_W,TDP,TDP_FLAG_W,N2O_ALT_1,N2O_ALT_1_FLAG_W,D15N_N2O,D15N_N2O_FLAG_W,D18O_N2O,D18O_N2O_FLAG_W,D15N_ALPHA_N2O,D15N_ALPHA_N2O_FLAG_W
,,,,,,,,,,,METERS,DBAR,ITS-90,PSS-78,,PSS-78,,UMOL/KG,,UMOL/KG,,UMOL/KG,,UMOL/KG,,UMOL/KG,,UMOL/KG,,PMOL/KG,,PMOL/KG,,FMOL/KG,,UMOL/KG,,UMOL/KG,,,,DEG C,/MILLE,,/MILLE,,/MILLE,PMOL/KG,,UG/KG,,UMOL/KG,,UMOL/KG,,UG/KG,,NMOL/KG,,/MILLE,,/MILLE,,/MILLE,/MILLE,,,,,,,,/MILLE,,/MILLE,/MILLE,/MILLE,,/MILLE,,/MILLE,,UMOL/KG,,NMOL/L,,/MILLE,,/MILLE,,/MILLE,
33RO20161119,        P18,     124,          1,          1,      11010,2,20170103,       0211,   -27.9992,  -101.5001,       3402,  3395.8,   1.8541,  34.6820,2,  34.6827,2,    164.9,2,   164.3,2,   117.7,6,    34.4,6,    0.00,6,   2.391,6,   0.0011,2,   0.0013,2,   0.0000,2,  2293.9,2,  2396.8,2,   7.5814,6,    25.00, -999.00,9,  -999.0,9,  -999.0,   0.0105,2, -999.00,9,  -999.0,9, -999.00,9, -999.00,9,     20.607,2, -999.00,9,  -999.0,9,     -999.0,     -999.0,9,     -999.0,9,     -999.0,     -999.0,9,     -999.0,     -999.0,9,     -999.0,     -999.0,     -999.0,9,     -999.0,9,     -999.0,9,     -999.0,9,     -999.0,9,     -999.0,9,     -999.0,9,     -999.0,9
33RO20161119,        P18,     124,          1,          2,      11101,2,20170103,       0211,   -27.9992,  -101.5001,       3402,  3180.4,   1.8437,  34.6797,2,  34.6800,2,    162.9,2,   163.0,2,   118.0,6,    34.5,6,    0.00,6,   2.401,6,   0.0018,2,   0.0015,2,   0.0000,2,  2300.6,3,  2392.5,6,   7.5800,2,    25.00, -999.00,9,  -999.0,9,  -999.0,   0.0165,2, -999.00,9,  -999.0,9, -999.00,9, -999.00,9,    21.0093,2, -999.00,9,  -999.0,9,     -999.0,     -999.0,9,     -999.0,9,     -999.0,     -999.0,9,     -999.0,     -999.0,9,     -999.0,     -999.0,     -999.0,9,     -999.0,9,     -999.0,9,     -999.0,9,     -999.0,9,     -999.0,9,     -999.0,9,     -999.0,9
33RO20161119,        P18,     124,          1,          3,      11102,2,20170103,       0211,   -27.9992,  -101.5001,       3402,  2989.8,   1.8477,  34.6751,2,  34.6756,2,    161.7,2,   162.0,2,   118.4,6,    34.7,6,    0.00,6,   2.409,6,   0.0003,2,   0.0012,2,   0.0000,2,  2301.5,3,  2390.0,2,   7.5782,2,    25.00, -999.00,9,  -999.0,9,  -999.0,   0.0302,2, -999.00,9,  -999.0,9, -999.00,9, -999.00,9,     20.852,2, -999.00,9,  -999.0,9,     -999.0,     -999.0,9,     -999.0,9,     -999.0,     -999.0,9,     -999.0,     -999.0,9,     -999.0,     -999.0,     -999.0,9,     -999.0,9,     -999.0,9,     -999.0,9,     -999.0,9,     -999.0,9,     -999.0,9,     -999.0,9
33RO20161119,        P18,     124,          1,          4,      11103,2,20170103,       0211,   -27.9992,  -101.5001,       3402,  2715.5,   1.8522,  34.6692,2,  34.6699,2,    159.3,2,   159.9,2,   118.6,6,    34.8,6,    0.00,6,   2.427,6,   0.0014,2,   0.0011,2,   0.0000,2,  2300.3,3,  2392.6,2,   7.5765,2,    25.00, -999.00,9,  -999.0,9,  -999.0,   0.0286,2, -999.00,9,  -999.0,9, -999.00,9, -999.00,9,     21.277,2, -999.00,9,  -999.0,9,     -999.0,     -999.0,9,     -999.0,9,     -999.0,     -999.0,9,     -999.0,     -999.0,9,     -999.0,     -999.0,     -999.0,9,     -999.0,9,     -999.0,9,     -999.0,9,     -999.0,9,     -999.0,9,     -999.0,9,     -999.0,9
33RO20161119,        P18,     124,          1,          5,      11104,2,20170103,       0211,   -27.9992,  -101.5001,       3402,  2435.6,   1.8655,  34.6634,2,  34.6647,2,    157.8,2,   158.5,2,   118.0,2,    34.9,2,    0.00,2,   2.424,2,   0.0005,2,   0.0011,2,   0.0000,2,  2301.8,3,  2392.9,2,   7.5730,2,    25.00, -999.00,9,  -999.0,9,  -999.0,   0.0662,2, -999.00,9,  -999.0,9, -999.00,9, -999.00,9,     21.551,2, -999.00,9,  -999.0,9,     -999.0,     -999.0,9,     -999.0,9,     -999.0,     -999.0,9,     -999.0,     -999.0,9,     -999.0,     -999.0,     -999.0,9,     -999.0,9,     -999.0,9,     -999.0,9,18.22305164,2,        9.1,2,      49.61,2,      23.29,2
33RO20161119,        P18,     124,          1,          6,      11105,2,20170103,       0211,   -27.9992,  -101.5001,       3402,  2185.9,   1.9454,  34.6520,2,  34.6734,4,    156.6,2,   156.9,2,   114.9,2,    35.0,2,    0.00,2,   2.435,2,   0.0033,2,   0.0022,2,   0.0000,2,  2298.3,2,  2388.2,2,   7.5676,2,    25.00, -999.00,9,  -999.0,9,  -999.0,   0.0717,2, -999.00,9,  -999.0,9, -999.00,9, -999.00,9,    21.8011,2, -999.00,9,  -999.0,9,     -999.0,     -999.0,9,     -999.0,9,     -999.0,     -999.0,9,     -999.0,     -999.0,9,     -999.0,     -999.0,     -999.0,9,     -999.0,9,     -999.0,9,     -999.0,9,     -999.0,9,     -999.0,9,     -999.0,9,     -999.0,9
33RO20161119,        P18,     124,          1,          7,      11106,2,20170103,       0211,   -27.9992,  -101.5001,       3402,  1930.1,   2.1106,  34.6323,2,  34.6342,2,    154.8,2,   155.4,2,   108.1,2,    35.2,2,    0.00,2,   2.448,2,   0.0034,2,   0.0025,2,   0.0000,2,  2295.9,2,  2380.4,2,   7.5611,2,    25.00, -999.00,9,  -999.0,9,  -999.0,   0.1889,2, -999.00,9,  -999.0,9, -999.00,9, -999.00,9,    22.6902,2, -999.00,9,  -999.0,9,     -999.0,     -999.0,9,     -999.0,9,     -999.0,     -999.0,9,     -999.0,     -999.0,9,     -999.0,     -999.0,     -999.0,9,     -999.0,9,     -999.0,9,     -999.0,9,19.39454258,2,       8.11,2,      48.42,2,      22.54,2
33RO20161119,        P18,     124,          1,          8,      11107,2,20170103,       0211,   -27.9992,  -101.5001,       3402,  1655.4,   2.4364,  34.5926,2,  34.5919,2,    151.0,2,   151.5,2,    95.7,2,    35.5,2,    0.00,2,   2.469,2,   0.0046,2,   0.0026,2,   0.0000,2,  2284.1,2,  2365.1,2,   7.5503,2,    25.00, -999.00,9,  -999.0,9,  -999.0,   0.6192,2, -999.00,9,  -999.0,9, -999.00,9, -999.00,9,    23.6214,2, -999.00,9,  -999.0,9,     -999.0,     -999.0,9,     -999.0,9,     -999.0,     -999.0,9,     -999.0,     -999.0,9,     -999.0,     -999.0,     -999.0,9,     -999.0,9,     -999.0,9,     -999.0,9,     -999.0,9,     -999.0,9,     -999.0,9,     -999.0,9
33RO20161119,        P18,     124,          1,          9,      11108,2,20170103,       0211,   -27.9992,  -101.5001,       3402,  1365.3,   3.1411,  34.5346,2,  34.5347,2,    130.3,2,   130.1,6,    83.2,2,    37.4,2,    0.00,2,   2.611,2,   0.0048,2,   0.0037,2,   0.0000,2,  2282.9,2,  2349.8,6,   7.5132,2,    25.00, -999.00,9,  -999.0,9,  -999.0,   1.2735,2, -999.00,9,  -999.0,9, -999.00,9, -999.00,9,    27.7041,2, -999.00,9,  -999.0,9,     -999.0,     -999.0,9,     -999.0,9,     -999.0,     -999.0,9,     -999.0,     -999.0,9,     -999.0,     -999.0,     -999.0,9,     -999.0,9,     -999.0,9,     -999.0,9,22.67860212,2,       9.11,2,      49.33,2,      23.26,2
33RO20161119,        P18,     124,          1,         10,      11109,2,20170103,       0211,   -27.9992,  -101.5001,       3402,  1190.5,   3.5849,  34.4923,2,  34.4927,2,    122.4,2,   122.5,2,    72.4,2,    38.2,2,    0.00,2,   2.662,2,   0.0152,6,   0.0093,6,   0.0000,6,  2278.8,2,  2336.9,2,   7.4935,2,    25.00, -999.00,9,  -999.0,9,  -999.0,   2.0933,2, -999.00,9,  -999.0,9, -999.00,9, -999.00,9,    29.9105,2, -999.00,9,  -999.0,9,     -999.0,     -999.0,9,     -999.0,9,     -999.0,     -999.0,9,     -999.0,     -999.0,9,     -999.0,     -999.0,     -999.0,9,     -999.0,9,     -999.0,9,     -999.0,9,     -999.0,9,     -999.0,9,     -999.0,9,     -999.0,9
33RO20161119,        P18,     124,          1,         11,      11110,2,20170103,       0211,   -27.9992,  -101.5001,       3402,  1070.4,   3.8808,  34.4413,2,  34.4423,2,    129.5,2,   129.4,2,    59.7,2,    37.6,2,    0.00,2,   2.621,2,   0.0765,2,   0.0410,2,   0.0000,2,  2262.2,2,  2324.1,2,   7.4987,2,    25.00, -999.00,9,  -999.0,9,  -999.0,   2.0056,2, -999.00,9,  -999.0,9, -999.00,9, -999.00,9,    29.5324,2, -999.00,9,  -999.0,9,     -999.0,     -999.0,9,     -999.0,9,     -999.0,     -999.0,9,     -999.0,     -999.0,9,     -999.0,     -999.0,     -999.0,9,     -999.0,9,     -999.0,9,     -999.0,9,24.34591644,2,       8.42,2,      48.11,2,      21.96,2
33RO20161119,        P18,     124,          1,         12,      11111,2,20170103,       0211,   -27.9992,  -101.5001,       3402,   948.5,   4.2213,  34.3676,2,  34.3687,2,    153.7,2,   154.4,2,    42.7,2,    35.5,2,    0.01,2,   2.456,2,   0.3987,2,   0.1994,2,   0.0783,2,  2235.4,2,  2304.0,2,   7.5339,2,    25.00, -999.00,9,  -999.0,9,  -999.0,   1.9099,2, -999.00,9,  -999.0,9, -999.00,9, -999.00,9,    27.1023,2, -999.00,9,  -999.0,9,     -999.0,     -999.0,9,     -999.0,9,     -999.0,     -999.0,9,     -999.0,     -999.0,9,     -999.0,     -999.0,     -999.0,9,     -999.0,9,     -999.0,9,     -999.0,9,22.47074052,2,       7.76,2,      46.68,2,      19.47,2
33RO20161119,        P18,     124,          1,         13,      11112,2,20170103,       0211,   -27.9992,  -101.5001,       3402,   835.8,   4.7824,  34.3110,2,  34.3119,2,    181.3,2,   182.1,2,    27.5,2,    32.4,2,    0.00,2,   2.239,2,   1.2620,2,   0.6110,2,   0.1579,2,  2204.4,2,  2290.7,2,   7.5787,2,    25.00, -999.00,9,  -999.0,9,  -999.0,   0.9679,2, -999.00,9,  -999.0,9, -999.00,9, -999.00,9,    24.1737,2, -999.00,9,  -999.0,9,     -999.0,     -999.0,9,     -999.0,9,     -999.0,     -999.0,9,     -999.0,     -999.0,9,     -999.0,     -999.0,     -999.0,9,     -999.0,9,     -999.0,9,     -999.0,9,22.36996464,2,       8.08,2,      46.58,2,      20.02,2
33RO20161119,        P18,     124,          1,         14,      11113,2,20170103,       0211,   -27.9992,  -101.5001,       3402,   730.7,   5.2227,  34.2743,2,  34.2745,2,    211.6,2,   212.0,2,    17.0,2,    28.9,2,    0.01,2,   2.014,2,   2.4524,2,   1.2056,2,   0.4446,2,  2175.4,2,  2281.6,2,   7.6294,2,    25.00, -999.00,9,  -999.0,9,  -999.0,   0.9151,2, -999.00,9,  -999.0,9, -999.00,9, -999.00,9,     20.642,2, -999.00,9,  -999.0,9,     -999.0,     -999.0,9,     -999.0,9,     -999.0,     -999.0,9,     -999.0,     -999.0,9,     -999.0,     -999.0,     -999.0,9,     -999.0,9,     -999.0,9,     -999.0,9,17.55435532,2,       7.37,2,      45.27,2,      20.25,2
33RO20161119,        P18,     124,          1,         15,      11114,2,20170103,       0211,   -27.9992,  -101.5001,       3402,   621.1,   5.8660,  34.2879,2,  34.2900,2,    214.6,2,   215.3,2,    12.4,2,    27.2,2,    0.01,2,   1.900,2,   3.2118,2,   1.6160,2,   0.6599,2,  2169.4,2,  2277.4,2,   7.6380,2,    25.00, -999.00,9,  -999.0,9,  -999.0,   0.7627,2, -999.00,9,  -999.0,9, -999.00,9, -999.00,9,    21.7741,2, -999.00,9,  -999.0,9,     -999.0,     -999.0,9,     -999.0,9,     -999.0,     -999.0,9,     -999.0,     -999.0,9,     -999.0,     -999.0,     -999.0,9,     -999.0,9,     -999.0,9,     -999.0,9,18.37260094,2,       6.97,2,      44.51,2,      19.19,2
33RO20161119,        P18,     124,          1,         16,      11115,2,20170103,       0211,   -27.9992,  -101.5001,       3402,   525.8,   6.5647,  34.3148,2,  34.3147,2,    198.4,2,   198.5,6,    11.3,2,    27.0,2,    0.00,2,   1.904,2,   3.3358,2,   1.7064,2,   0.8076,2,  2176.2,6,  2276.2,2,   7.6129,2,    25.00, -999.00,9,  -999.0,9,  -999.0,   1.4313,2, -999.00,9,  -999.0,9, -999.00,9, -999.00,9,    26.0295,2, -999.00,9,  -999.0,9,     -999.0,     -999.0,9,     -999.0,9,     -999.0,     -999.0,9,     -999.0,     -999.0,9,     -999.0,     -999.0,     -999.0,9,     -999.0,9,     -999.0,9,     -999.0,9,21.17317646,2,       6.71,2,      44.65,2,      15.27,2
33RO20161119,        P18,     124,          1,         17,      11116,2,20170103,       0211,   -27.9992,  -101.5001,       3402,   435.5,   7.4365,  34.2880,2,  34.2892,2,    214.4,2,   213.1,2,     6.9,2,    23.2,2,    0.01,2,   1.681,2,   3.6735,2,   1.9650,2,   1.2412,2,  2156.4,2,  2270.6,2,   7.6552,2,    25.00, -999.00,9,  -999.0,9,  -999.0,   1.8857,2, -999.00,9,  -999.0,9, -999.00,9, -999.00,9,    25.0435,2, -999.00,9,  -999.0,9,     -999.0,     -999.0,9,     -999.0,9,     -999.0,     -999.0,9,     -999.0,     -999.0,9,     -999.0,     -999.0,     -999.0,9,     -999.0,9,     -999.0,9,     -999.0,9,21.13077334,2,       6.03,2,      40.81,2,      11.52,2
33RO20161119,        P18,     124,          1,         18,      11117,2,20170103,       0211,   -27.9992,  -101.5001,       3402,   340.6,  10.0027,  34.3276,2,  34.3276,2,    205.5,2,   205.4,2,     3.6,2,    16.9,2,    0.01,2,   1.318,2,   3.3654,6,   1.8721,6,   1.4029,6,  2130.8,2,  2266.3,2,   7.7190,2,    25.00, -999.00,9,  -999.0,9,  -999.0,   1.8586,2, -999.00,9,  -999.0,9, -999.00,9, -999.00,9,    21.4392,2, -999.00,9,  -999.0,9,     -999.0,     -999.0,9,     -999.0,9,     -999.0,     -999.0,9,     -999.0,     -999.0,9,     -999.0,     -999.0,     -999.0,9,     -999.0,9,     -999.0,9,     -999.0,9,17.82942759,2,       6.09,2,      39.76,2,       14.5,2
33RO20161119,        P18,     124,          1,         19,      11083,2,20170103,       0211,   -27.9992,  -101.5001,       3402,   260.4,  13.4785,  34.6197,2,  34.6270,2,    211.1,2,   211.5,2,     1.0,2,     7.6,2,    0.01,2,   0.714,2,   2.8873,2,   1.6952,2,   1.5703,2,  2093.9,2,  2280.5,2,   7.8293,2,    25.00, -999.00,9,  -999.0,9,  -999.0,   1.9775,2, -999.00,9,  -999.0,9, -999.00,9, -999.00,9,    12.8435,2, -999.00,9,  -999.0,9,     -999.0,     -999.0,9,     -999.0,9,     -999.0,     -999.0,9,     -999.0,     -999.0,9,     -999.0,     -999.0,     -999.0,9,     -999.0,9,     -999.0,9,     -999.0,9,11.09931903,2,        6.4,2,      40.26,2,      16.06,2
33RO20161119,        P18,     124,          1,         20,      11118,2,20170103,       0211,   -27.9992,  -101.5001,       3402,   196.1,  16.0924,  34.8513,2,  34.8708,2,    228.8,2,   223.4,2,     0.5,2,     1.5,2,    0.14,2,   0.360,2,   2.4942,2,   1.5076,2,   1.7431,2,  2067.2,2,  2296.9,2,   7.9108,2,    25.00, -999.00,9,  -999.0,9,  -999.0,   0.0178,2, -999.00,9,  -999.0,9, -999.00,9, -999.00,9,     9.1379,2, -999.00,9,  -999.0,9,     -999.0,     -999.0,9,     -999.0,9,     -999.0,     -999.0,9,     -999.0,     -999.0,9,     -999.0,     -999.0,     -999.0,9,     -999.0,9,     -999.0,9,     -999.0,9,8.458913675,2,       6.26,2,      43.26,2,      18.51,2
33RO20161119,        P18,     124,          1,         21,      11119,2,20170103,       0211,   -27.9992,  -101.5001,       3402,   134.7,  18.2023,  35.1663,2,  35.1646,2,    236.0,2,   236.1,2,     0.4,2,     0.0,2,    0.01,2,   0.168,2,   2.2534,2,   1.3765,2,   1.7695,2,  2050.1,2,  2313.4,6,   7.9674,2,    25.00, -999.00,9,  -999.0,9,  -999.0,   0.0434,2, -999.00,9,  -999.0,9, -999.00,9, -999.00,9,     7.9332,2, -999.00,9,  -999.0,9,     -999.0,     -999.0,9,     -999.0,9,     -999.0,     -999.0,9,     -999.0,     -999.0,9,     -999.0,     -999.0,     -999.0,9,     -999.0,9,     -999.0,9,     -999.0,9,7.544292528,2,       5.96,2,       43.2,2,      17.77,2
33RO20161119,        P18,     124,          1,         22,      11120,2,20170103,       0211,   -27.9992,  -101.5001,       3402,    70.6,  20.1981,  35.5780,2,  35.5788,2,    231.9,2,   232.3,2,     0.5,2,     0.0,2,    0.00,2,   0.165,2,   2.0834,2,   1.2888,2,   1.6624,2,  2060.6,2,  2340.4,2,   7.9919,6,    25.00, -999.00,9,  -999.0,9,  -999.0,   2.0349,2, -999.00,9,  -999.0,9, -999.00,9, -999.00,9,     7.4824,2, -999.00,9,  -999.0,9,     -999.0,     -999.0,9,     -999.0,9,     -999.0,     -999.0,9,     -999.0,     -999.0,9,     -999.0,     -999.0,     -999.0,9,     -999.0,9,     -999.0,9,     -999.0,9,7.159131425,2,       6.08,2,      44.02,2,      18.52,2
33RO20161119,        P18,     124,          1,         23,      11121,2,20170103,       0211,   -27.9992,  -101.5001,       3402,    30.3,  22.6682,  35.7102,2,  35.6624,2,    217.0,2,   219.9,2,     0.5,2,     0.0,2,    0.00,2,   0.162,2,   1.8998,2,   1.1817,2,   1.5505,2,  2063.2,2,  2344.8,2,   7.9933,2,    25.00, -999.00,9,  -999.0,9,  -999.0,   2.3749,2, -999.00,9,  -999.0,9, -999.00,9, -999.00,9,     6.9538,2, -999.00,9,  -999.0,9,     -999.0,     -999.0,9,     -999.0,9,     -999.0,     -999.0,9,     -999.0,     -999.0,9,     -999.0,     -999.0,     -999.0,9,     -999.0,9,     -999.0,9,     -999.0,9,6.646489001,2,        6.1,2,      41.18,2,      18.02,2
33RO20161119,        P18,     124,          1,         24,      11122,2,20170103,       0211,   -27.9992,  -101.5001,       3402,     3.1,  23.1273,  35.5810,2,  35.5884,2,    215.2,2,   216.7,2,     0.4,2,     0.0,2,    0.00,2,   0.168,2,   1.8624,2,   1.1561,2,   1.5331,2,  2058.3,2,  2340.2,2,   7.9949,2,    25.00, -999.00,9,  -999.0,9,  -999.0,     2.33,2, -999.00,9,  -999.0,9, -999.00,9, -999.00,9,          7,2, -999.00,9,  -999.0,9,     -999.0,     -999.0,9,     -999.0,9,     -999.0,     -999.0,9,     -999.0,     -999.0,9,     -999.0,     -999.0,     -999.0,9,     -999.0,9,     -999.0,9,     -999.0,9,6.981479107,2,       5.96,2,      43.63,2,      18.26,2