BOTTLE,20230606CCHSIOCBG
EXPOCODE,SECT_ID,STNNBR,CASTNO,SAMPNO,BTLNBR,BTLNBR_FLAG_W,DATE,TIME,LATITUDE,LONGITUDE,DEPTH,CTDPRS,CTDTMP,CTDSAL,CTDSAL_FLAG_W,SALNTY,SALNTY_FLAG_W,CTDOXY,CTDOXY_FLAG_W,OXYGEN,OXYGEN_FLAG_W,SILCAT,SILCAT_FLAG_W,NITRAT,NITRAT_FLAG_W,NITRIT,NITRIT_FLAG_W,PHSPHT,PHSPHT_FLAG_W,CFC-11,CFC-11_FLAG_W,CFC-12,CFC-12_FLAG_W,SF6,SF6_FLAG_W,TCARBN,TCARBN_FLAG_W,ALKALI,ALKALI_FLAG_W,PH_SWS,PH_SWS_FLAG_W,PH_TMP,DELC13,DELC13_FLAG_W,DELC14,DELC14_FLAG_W,C14ERR,CCL4,CCL4_FLAG_W,POC,POC_FLAG_W,DOC,DOC_FLAG_W,TDN,TDN_FLAG_W,PON,PON_FLAG_W,N2O,N2O_FLAG_W,D15N_NO3,D15N_NO3_FLAG_W,14C-DOC,14C-DOC_FLAG_W,14C-DOCERR,13C-DOC,13C-DOC_FLAG_W,N2/ARGON_UNSTRIPPED,N2/ARGON_UNSTRIPPED_FLAG_W,N2/ARGON_UNSTRIPPED_ERROR,N2/ARGON,N2/ARGON_FLAG_W,N2/ARGON_ERROR,D15N_N2,D15N_N2_FLAG_W,D15N_N2_ERROR,D15N_NO3_ERROR,D15N_NO2+NO3,D15N_NO2+NO3_FLAG_W,D18O_NO2+NO3,D18O_NO2+NO3_FLAG_W,D18O_NO3,D18O_NO3_FLAG_W,TDP,TDP_FLAG_W,N2O_ALT_1,N2O_ALT_1_FLAG_W,D15N_N2O,D15N_N2O_FLAG_W,D18O_N2O,D18O_N2O_FLAG_W,D15N_ALPHA_N2O,D15N_ALPHA_N2O_FLAG_W
,,,,,,,,,,,METERS,DBAR,ITS-90,PSS-78,,PSS-78,,UMOL/KG,,UMOL/KG,,UMOL/KG,,UMOL/KG,,UMOL/KG,,UMOL/KG,,PMOL/KG,,PMOL/KG,,FMOL/KG,,UMOL/KG,,UMOL/KG,,,,DEG C,/MILLE,,/MILLE,,/MILLE,PMOL/KG,,UG/KG,,UMOL/KG,,UMOL/KG,,UG/KG,,NMOL/KG,,/MILLE,,/MILLE,,/MILLE,/MILLE,,,,,,,,/MILLE,,/MILLE,/MILLE,/MILLE,,/MILLE,,/MILLE,,UMOL/KG,,NMOL/L,,/MILLE,,/MILLE,,/MILLE,
33RO20161119,        P18,      89,          1,          1,      11010,2,20161214,       1959,   -10.4999,  -103.0000,       4697,  4758.1,   1.8937,  34.6782,2,  34.6780,2,    137.1,2,   136.2,2,   143.3,6,    37.0,6,    0.00,6,   2.542,6,   0.0016,2,   0.0012,2,   0.0367,2,  2339.0,6,  2430.9,2,   7.5657,6,    25.00,    0.01,3,  -229.3,6,     1.6,        0,2, -999.00,9,    35.0,2,   40.20,2, -999.00,9,    21.1072,2, -999.00,9,  -999.0,9,     -999.0,     -999.0,9,     -999.0,9,     -999.0,     -999.0,9,     -999.0,     -999.0,9,     -999.0,     -999.0,     -999.0,9,     -999.0,9,     -999.0,9,     -999.0,9,     -999.0,9,     -999.0,9,     -999.0,9,     -999.0,9
33RO20161119,        P18,      89,          1,          2,      11101,2,20161214,       1959,   -10.4999,  -103.0000,       4697,  4249.9,   1.8316,  34.6784,2,  34.6793,2,    136.7,2,   135.9,2,   143.4,6,    37.0,6,    0.00,6,   2.541,6,   0.0018,2,   0.0013,2,   0.0000,2,  2337.8,2,  2429.8,6,   7.5622,2,    25.00, -999.00,9,  -999.0,9,  -999.0,        0,2, -999.00,9,    34.9,2,   38.80,2, -999.00,9,    21.4793,2, -999.00,9,  -999.0,9,     -999.0,     -999.0,9,     -999.0,9,     -999.0,     -999.0,9,     -999.0,     -999.0,9,     -999.0,     -999.0,     -999.0,9,     -999.0,9,     -999.0,9,     -999.0,9,     -999.0,9,     -999.0,9,     -999.0,9,     -999.0,9
33RO20161119,        P18,      89,          1,          3,      11102,2,20161214,       1959,   -10.4999,  -103.0000,       4697,  3784.9,   1.7805,  34.6780,2,  34.6800,2,    136.2,2,   135.7,2,   143.4,6,    37.0,6,    0.01,6,   2.543,6,   0.0009,2,   0.0005,2,   0.0000,2,  2339.2,2,  2428.9,2,   7.5618,6,    25.00,    0.18,6,  -229.5,6,     1.3,        0,2, -999.00,9,    36.6,2,   39.50,2, -999.00,9,    21.1303,2, -999.00,9,  -999.0,9,     -999.0,     -999.0,9,     -999.0,9,     -999.0,     -999.0,9,     -999.0,     -999.0,9,     -999.0,     -999.0,     -999.0,9,     -999.0,9,     -999.0,9,     -999.0,9,     -999.0,9,     -999.0,9,     -999.0,9,     -999.0,9
33RO20161119,        P18,      89,          1,          4,      11103,2,20161214,       1959,   -10.4999,  -103.0000,       4697,  3425.2,   1.7556,  34.6773,2,  34.6796,2,    135.0,2,  -999.0,9,   142.8,6,    37.1,6,    0.00,6,   2.546,6,-999.0000,9,-999.0000,9,-999.0000,9,  -999.0,9,  -999.0,9,-999.0000,9,  -999.00, -999.00,9,  -999.0,9,  -999.0,-999.0000,9, -999.00,9,  -999.0,9, -999.00,9, -999.00,9,     -999.0,9, -999.00,9,  -999.0,9,     -999.0,     -999.0,9,     -999.0,9,     -999.0,     -999.0,9,     -999.0,     -999.0,9,     -999.0,     -999.0,     -999.0,9,     -999.0,9,     -999.0,9,     -999.0,9,     -999.0,9,     -999.0,9,     -999.0,9,     -999.0,9
33RO20161119,        P18,      89,          1,          5,      11104,2,20161214,       1959,   -10.4999,  -103.0000,       4697,  3065.6,   1.7550,  34.6753,2,  34.6786,2,    133.4,2,   133.1,2,   142.1,2,    36.9,2,    0.00,2,   2.549,2,   0.0017,6,   0.0015,6,   0.0000,6,  2336.1,2,  2427.4,2,   7.5556,2,    25.00,    0.13,2,  -229.3,2,     1.7,        0,2, -999.00,9,    33.9,2,   39.60,2, -999.00,9,    21.5096,2, -999.00,9,  -999.0,9,     -999.0,     -999.0,9,     -999.0,9,     -999.0,     -999.0,9,     -999.0,     -999.0,9,     -999.0,     -999.0,     -999.0,9,     -999.0,9,     -999.0,9,     -999.0,9,     -999.0,9,     -999.0,9,     -999.0,9,     -999.0,9
33RO20161119,        P18,      89,          1,          6,      11105,2,20161214,       1959,   -10.4999,  -103.0000,       4697,  2720.2,   1.7805,  34.6727,2,  34.6750,2,    130.3,2,   130.5,6,   140.6,2,    37.2,2,    0.00,2,   2.566,2,   0.0004,2,   0.0007,2,   0.0000,2,  2336.9,2,  2423.5,2,   7.5480,2,    25.00, -999.00,9,  -999.0,9,  -999.0,        0,2, -999.00,9,    35.2,2,   40.90,2, -999.00,9,    21.9696,2, -999.00,9,  -999.0,9,     -999.0,     -999.0,9,     -999.0,9,     -999.0,     -999.0,9,     -999.0,     -999.0,9,     -999.0,     -999.0,     -999.0,9,     -999.0,9,     -999.0,9,     -999.0,9,     -999.0,9,     -999.0,9,     -999.0,9,     -999.0,9
33RO20161119,        P18,      89,          1,          7,      11106,2,20161214,       1959,   -10.4999,  -103.0000,       4697,  2361.3,   1.9006,  34.6660,2,  34.6867,4,    129.8,2,   130.2,2,   132.4,2,    37.2,2,    0.00,2,   2.583,2,   0.0008,2,   0.0000,2,   0.0000,2,  2332.3,6,  2414.1,2,   7.5412,2,    25.00,    0.23,2,  -232.3,2,     1.7,   0.0117,2, -999.00,9,    35.7,2,   41.70,2, -999.00,9,    21.8974,2, -999.00,9,  -999.0,9,     -999.0,     -999.0,9,     -999.0,9,     -999.0,     -999.0,9,     -999.0,     -999.0,9,     -999.0,     -999.0,     -999.0,9,     -999.0,9,     -999.0,9,     -999.0,9,     -999.0,9,     -999.0,9,     -999.0,9,     -999.0,9
33RO20161119,        P18,      89,          1,          8,      11107,2,20161214,       1959,   -10.4999,  -103.0000,       4697,  2005.7,   2.1877,  34.6458,2,  34.6455,2,    116.0,2,   116.4,2,   129.0,2,    38.1,2,    0.00,2,   2.672,2,   0.0014,2,   0.0010,2,   0.0000,2,  2332.4,2,  2409.4,2,   7.5155,2,    25.00, -999.00,9,  -999.0,9,  -999.0,        0,2, -999.00,9,    35.2,2,   42.00,2, -999.00,9,    24.1383,2, -999.00,9,  -999.0,9,     -999.0,     -999.0,9,     -999.0,9,     -999.0,     -999.0,9,     -999.0,     -999.0,9,     -999.0,     -999.0,     -999.0,9,     -999.0,9,     -999.0,9,     -999.0,9,     -999.0,9,     -999.0,9,     -999.0,9,     -999.0,9
33RO20161119,        P18,      89,          1,          9,      11108,2,20161214,       1959,   -10.4999,  -103.0000,       4697,  1694.7,   2.5544,  34.6220,2,  34.6214,2,    103.7,2,   103.8,2,   120.5,2,    39.3,2,    0.00,2,   2.754,2,   0.0006,2,   0.0000,2,   0.0000,2,  2330.0,2,  2397.2,2,   7.4883,2,    25.00,    0.20,2,  -232.1,2,     1.8,        0,2, -999.00,9,    35.5,2,   44.20,2, -999.00,9,    26.2821,2, -999.00,9,  -999.0,9,     -999.0,     -999.0,9,     -999.0,9,     -999.0,     -999.0,9,     -999.0,     -999.0,9,     -999.0,     -999.0,     -999.0,9,     -999.0,9,     -999.0,9,     -999.0,9,     -999.0,9,     -999.0,9,     -999.0,9,     -999.0,9
33RO20161119,        P18,      89,          1,         10,      11109,2,20161214,       1959,   -10.4999,  -103.0000,       4697,  1494.6,   2.8755,  34.6003,2,  34.6117,4,     99.0,2,    99.1,2,   110.2,2,    39.7,2,    0.01,2,   2.792,2,   0.0000,2,   0.0000,2,   0.0000,2,  2322.8,2,  2385.7,2,   7.4739,2,    25.00, -999.00,9,  -999.0,9,  -999.0,        0,2, -999.00,9,    35.6,2,   42.90,2, -999.00,9,    27.4047,2, -999.00,9,  -999.0,9,     -999.0,     -999.0,9,     -999.0,9,     -999.0,     -999.0,9,     -999.0,     -999.0,9,     -999.0,     -999.0,     -999.0,9,     -999.0,9,     -999.0,9,     -999.0,9,     -999.0,9,     -999.0,9,     -999.0,9,     -999.0,9
33RO20161119,        P18,      89,          1,         11,      11110,2,20161214,       1959,   -10.4999,  -103.0000,       4697,  1335.3,   3.2861,  34.5777,2,  34.5801,2,     90.3,2,    90.3,2,   100.3,2,    40.4,2,    0.00,2,   2.897,2,   0.0009,2,   0.0009,2,   0.0000,2,  2318.5,2,  2374.4,2,   7.4585,2,    25.00,    0.27,2,  -214.4,2,     1.6,        0,2, -999.00,9,    34.6,2,   45.50,2, -999.00,9,    29.3648,2, -999.00,9,  -999.0,9,     -999.0,     -999.0,9,     -999.0,9,     -999.0,     -999.0,9,     -999.0,     -999.0,9,     -999.0,     -999.0,     -999.0,9,     -999.0,9,     -999.0,9,     -999.0,9,     -999.0,9,     -999.0,9,     -999.0,9,     -999.0,9
33RO20161119,        P18,      89,          1,         12,      11111,2,20161214,       1959,   -10.4999,  -103.0000,       4697,  1180.4,   3.7011,  34.5581,2,  34.5585,2,     84.1,2,    83.8,2,    90.2,2,    40.9,2,    0.00,2,   2.891,2,   0.0001,2,   0.0012,2,   0.0000,2,  2309.8,2,  2355.3,2,   7.4448,2,    25.00, -999.00,9,  -999.0,9,  -999.0,        0,2, -999.00,9,    35.3,2,   45.90,2, -999.00,9,    31.0182,2, -999.00,9,  -999.0,9,     -999.0,     -999.0,9,     -999.0,9,     -999.0,     -999.0,9,     -999.0,     -999.0,9,     -999.0,     -999.0,     -999.0,9,     -999.0,9,     -999.0,9,     -999.0,9,     -999.0,9,     -999.0,9,     -999.0,9,     -999.0,9
33RO20161119,        P18,      89,          1,         13,      11112,2,20161214,       1959,   -10.4999,  -103.0000,       4697,  1030.2,   4.2194,  34.5383,2,  34.5388,2,     76.6,2,    77.1,2,    78.3,2,    41.3,2,    0.00,2,   2.880,2,   0.0011,2,   0.0013,2,   0.0000,2,  2302.6,2,  2347.8,2,   7.4348,2,    25.00,    0.28,2,  -185.8,2,     1.7,   0.0102,2, -999.00,9,    36.9,2,   44.50,2, -999.00,9,    33.3306,2, -999.00,9,  -999.0,9,     -999.0,     -999.0,9,     -999.0,9,     -999.0,     -999.0,9,     -999.0,     -999.0,9,     -999.0,     -999.0,     -999.0,9,     -999.0,9,     -999.0,9,     -999.0,9,     -999.0,9,     -999.0,9,     -999.0,9,     -999.0,9
33RO20161119,        P18,      89,          1,         14,      11113,2,20161214,       1959,   -10.4999,  -103.0000,       4697,   890.1,   5.0141,  34.5274,2,  34.5433,4,     53.9,2,    55.7,2,    65.5,2,    43.3,2,    0.00,2,   2.983,2,   0.0019,6,   0.0017,6,   0.0000,6,  2297.8,2,  2333.8,2,   7.3954,6,    25.00, -999.00,9,  -999.0,9,  -999.0,        0,2, -999.00,9,    36.6,2,   47.70,2, -999.00,9,    39.9575,2, -999.00,9,  -999.0,9,     -999.0,     -999.0,9,     -999.0,9,     -999.0,     -999.0,9,     -999.0,     -999.0,9,     -999.0,     -999.0,     -999.0,9,     -999.0,9,     -999.0,9,     -999.0,9,     -999.0,9,     -999.0,9,     -999.0,9,     -999.0,9
33RO20161119,        P18,      89,          1,         15,      11114,2,20161214,       1959,   -10.4999,  -103.0000,       4697,   750.5,   5.8733,  34.5319,2,  34.5319,2,     35.3,2,    33.4,2,    53.9,2,    44.3,2,    0.00,2,   3.030,2,   0.0039,2,   0.0029,2,   0.0000,2,  2297.8,2,  2319.4,2,   7.3600,2,    25.00,    0.22,2,  -143.6,2,     1.8,        0,2, -999.00,9,    37.3,2,   48.40,2, -999.00,9,    47.8736,2, -999.00,9,  -999.0,9,     -999.0,     -999.0,9,     -999.0,9,     -999.0,     -999.0,9,     -999.0,     -999.0,9,     -999.0,     -999.0,     -999.0,9,     -999.0,9,     -999.0,9,     -999.0,9,     -999.0,9,     -999.0,9,     -999.0,9,     -999.0,9
33RO20161119,        P18,      89,          1,         16,      11115,2,20161214,       1959,   -10.4999,  -103.0000,       4697,   619.9,   6.9768,  34.5667,2,  34.5674,2,     21.9,2,    21.5,2,    43.8,2,    43.0,2,    0.00,2,   2.971,2,   0.0171,2,   0.0099,2,   0.0000,2,  2290.1,2,  2308.9,2,   7.3489,2,    25.00, -999.00,9,  -999.0,9,  -999.0,   0.0245,2, -999.00,9,    39.6,2,   46.60,2, -999.00,9,    57.9969,2, -999.00,9,  -999.0,9,     -999.0,     -999.0,9,     -999.0,9,     -999.0,     -999.0,9,     -999.0,     -999.0,9,     -999.0,     -999.0,     -999.0,9,     -999.0,9,     -999.0,9,     -999.0,9,     -999.0,9,     -999.0,9,     -999.0,9,     -999.0,9
33RO20161119,        P18,      89,          1,         17,      11116,2,20161214,       1959,   -10.4999,  -103.0000,       4697,   500.4,   8.2070,  34.6272,2,  34.6442,4,     17.1,2,    16.8,2,    36.9,2,    39.7,2,    0.01,2,   2.806,2,   0.0713,2,   0.0415,2,   0.0000,2,  2279.7,2,  2304.4,2,   7.3666,2,    25.00,    0.18,2,   -96.1,2,     2.0,   0.0472,2, -999.00,9,    40.3,2,   43.10,2, -999.00,9,    67.2035,2, -999.00,9,  -999.0,9,     -999.0,     -999.0,9,     -999.0,9,     -999.0,     -999.0,9,     -999.0,     -999.0,9,     -999.0,     -999.0,     -999.0,9,     -999.0,9,     -999.0,9,     -999.0,9,     -999.0,9,     -999.0,9,     -999.0,9,     -999.0,9
33RO20161119,        P18,      89,          1,         18,      11117,2,20161214,       1959,   -10.4999,  -103.0000,       4697,   385.3,   9.5922,  34.7105,2,  34.7112,2,     14.0,2,    12.9,2,    30.9,2,    36.7,2,    0.00,2,   2.629,2,   0.2416,2,   0.1353,2,   0.0574,2,  2270.7,2,  2302.5,2,   7.3874,2,    25.00,    0.16,2,   -73.7,2,     2.1,   0.0537,2, -999.00,9,    41.2,2,   41.60,2, -999.00,9,    69.9474,2, -999.00,9,  -999.0,9,     -999.0,     -999.0,9,     -999.0,9,     -999.0,     -999.0,9,     -999.0,     -999.0,9,     -999.0,     -999.0,     -999.0,9,     -999.0,9,     -999.0,9,     -999.0,9,     -999.0,9,     -999.0,9,     -999.0,9,     -999.0,9
33RO20161119,        P18,      89,          1,         19,      11083,2,20161214,       1959,   -10.4999,  -103.0000,       4697,   285.0,  11.0946,  34.7959,2,  34.8146,4,      9.7,2,    10.0,2,    25.7,2,    32.4,2,    0.00,2,   2.529,2,   0.6025,2,   0.3348,2,   0.1386,2,  2264.8,2,  2300.3,2,   7.4055,2,    25.00,    0.05,2,   -35.2,2,     1.9,   0.1616,2, -999.00,9,    41.7,2,   34.50,2, -999.00,9,     65.887,2, -999.00,9,  -999.0,9,     -999.0,     -999.0,9,     -999.0,9,     -999.0,     -999.0,9,     -999.0,     -999.0,9,     -999.0,     -999.0,     -999.0,9,     -999.0,9,     -999.0,9,     -999.0,9,     -999.0,9,     -999.0,9,     -999.0,9,     -999.0,9
33RO20161119,        P18,      89,          1,         20,      11118,2,20161214,       1959,   -10.4999,  -103.0000,       4697,   199.9,  12.9420,  34.7621,2,  34.7786,2,     59.5,2,    41.9,2,    14.6,2,    22.4,2,    0.01,2,   2.249,2,   1.8329,2,   1.0677,2,   0.7226,2,  2235.6,2,  2298.5,6,   7.4808,2,    25.00,    0.10,2,    17.5,2,     1.9,   0.5707,2, -999.00,9,    47.2,2,   23.20,2, -999.00,9,    48.1039,2, -999.00,9,  -999.0,9,     -999.0,     -999.0,9,     -999.0,9,     -999.0,     -999.0,9,     -999.0,     -999.0,9,     -999.0,     -999.0,     -999.0,9,     -999.0,9,     -999.0,9,     -999.0,9,     -999.0,9,     -999.0,9,     -999.0,9,     -999.0,9
33RO20161119,        P18,      89,          1,         21,      11119,2,20161214,       1959,   -10.4999,  -103.0000,       4697,   121.0,  18.8258,  35.4937,2,  35.4979,2,    180.4,2,   180.3,6,     1.4,2,     6.1,2,    0.23,2,   0.792,2,   2.1758,2,   1.3524,2,   1.6423,2,  2124.1,2,  2346.9,6,   7.8822,2,    25.00,    1.12,2,    30.4,2,     2.4,   1.3855,2, -999.00,9,    55.0,2,    8.60,2, -999.00,9,    10.2111,2, -999.00,9,  -999.0,9,     -999.0,     -999.0,9,     -999.0,9,     -999.0,     -999.0,9,     -999.0,     -999.0,9,     -999.0,     -999.0,     -999.0,9,     -999.0,9,     -999.0,9,     -999.0,9,     -999.0,9,     -999.0,9,     -999.0,9,     -999.0,9
33RO20161119,        P18,      89,          1,         22,      11120,2,20161214,       1959,   -10.4999,  -103.0000,       4697,    55.1,  23.9798,  35.5307,2,  35.5629,2,    209.6,2,   209.6,2,     2.1,2,     5.6,2,    0.14,2,   0.639,2,   1.7351,2,   1.1035,2,   1.4929,2,  2067.7,2,  2344.7,2,   7.9863,2,    25.00,    1.16,2,    27.9,2,     2.2,   1.5651,2, -999.00,9,    60.6,2,   10.20,2, -999.00,9,     7.2352,2, -999.00,9,  -999.0,9,     -999.0,     -999.0,9,     -999.0,9,     -999.0,     -999.0,9,     -999.0,     -999.0,9,     -999.0,     -999.0,     -999.0,9,     -999.0,9,     -999.0,9,     -999.0,9,     -999.0,9,     -999.0,9,     -999.0,9,     -999.0,9
33RO20161119,        P18,      89,          1,         23,      11121,2,20161214,       1959,   -10.4999,  -103.0000,       4697,    20.4,  24.3199,  35.4731,2,  35.4721,2,    209.6,2,   210.8,2,     2.2,2,     6.5,2,    0.14,2,   0.639,2,   1.7213,2,   1.0868,2,   1.4931,2,  2064.4,2,  2340.8,2,   7.9813,2,    25.00,    1.08,2,    28.1,2,     2.1,   1.6308,2, -999.00,9,    61.0,2,    9.90,2, -999.00,9,     6.6763,2, -999.00,9,  -999.0,9,     -999.0,     -999.0,9,     -999.0,9,     -999.0,     -999.0,9,     -999.0,     -999.0,9,     -999.0,     -999.0,     -999.0,9,     -999.0,9,     -999.0,9,     -999.0,9,     -999.0,9,     -999.0,9,     -999.0,9,     -999.0,9
33RO20161119,        P18,      89,          1,         24,      11122,2,20161214,       1959,   -10.4999,  -103.0000,       4697,     3.5,  24.5248,  35.4824,2,  35.4859,2,    207.7,2,   210.7,2,     2.2,2,     6.4,2,    0.14,2,   0.657,2,   1.7163,2,   1.0911,2,   1.4735,2,  2064.1,6,  2340.4,2,   7.9832,2,    25.00,    1.26,2,    25.6,2,     2.2,        0,2, -999.00,9,    59.0,2,    9.80,2, -999.00,9,     6.7066,2, -999.00,9,  -999.0,9,     -999.0,     -999.0,9,     -999.0,9,     -999.0,     -999.0,9,     -999.0,     -999.0,9,     -999.0,     -999.0,     -999.0,9,     -999.0,9,     -999.0,9,     -999.0,9,     -999.0,9,     -999.0,9,     -999.0,9,     -999.0,9