BOTTLE,20230606CCHSIOCBG
EXPOCODE,SECT_ID,STNNBR,CASTNO,SAMPNO,BTLNBR,BTLNBR_FLAG_W,DATE,TIME,LATITUDE,LONGITUDE,DEPTH,CTDPRS,CTDTMP,CTDSAL,CTDSAL_FLAG_W,SALNTY,SALNTY_FLAG_W,CTDOXY,CTDOXY_FLAG_W,OXYGEN,OXYGEN_FLAG_W,SILCAT,SILCAT_FLAG_W,NITRAT,NITRAT_FLAG_W,NITRIT,NITRIT_FLAG_W,PHSPHT,PHSPHT_FLAG_W,CFC-11,CFC-11_FLAG_W,CFC-12,CFC-12_FLAG_W,SF6,SF6_FLAG_W,TCARBN,TCARBN_FLAG_W,ALKALI,ALKALI_FLAG_W,PH_SWS,PH_SWS_FLAG_W,PH_TMP,DELC13,DELC13_FLAG_W,DELC14,DELC14_FLAG_W,C14ERR,CCL4,CCL4_FLAG_W,POC,POC_FLAG_W,DOC,DOC_FLAG_W,TDN,TDN_FLAG_W,PON,PON_FLAG_W,N2O,N2O_FLAG_W,D15N_NO3,D15N_NO3_FLAG_W,14C-DOC,14C-DOC_FLAG_W,14C-DOCERR,13C-DOC,13C-DOC_FLAG_W,N2/ARGON_UNSTRIPPED,N2/ARGON_UNSTRIPPED_FLAG_W,N2/ARGON_UNSTRIPPED_ERROR,N2/ARGON,N2/ARGON_FLAG_W,N2/ARGON_ERROR,D15N_N2,D15N_N2_FLAG_W,D15N_N2_ERROR,D15N_NO3_ERROR,D15N_NO2+NO3,D15N_NO2+NO3_FLAG_W,D18O_NO2+NO3,D18O_NO2+NO3_FLAG_W,D18O_NO3,D18O_NO3_FLAG_W,TDP,TDP_FLAG_W,N2O_ALT_1,N2O_ALT_1_FLAG_W,D15N_N2O,D15N_N2O_FLAG_W,D18O_N2O,D18O_N2O_FLAG_W,D15N_ALPHA_N2O,D15N_ALPHA_N2O_FLAG_W
,,,,,,,,,,,METERS,DBAR,ITS-90,PSS-78,,PSS-78,,UMOL/KG,,UMOL/KG,,UMOL/KG,,UMOL/KG,,UMOL/KG,,UMOL/KG,,PMOL/KG,,PMOL/KG,,FMOL/KG,,UMOL/KG,,UMOL/KG,,,,DEG C,/MILLE,,/MILLE,,/MILLE,PMOL/KG,,UG/KG,,UMOL/KG,,UMOL/KG,,UG/KG,,NMOL/KG,,/MILLE,,/MILLE,,/MILLE,/MILLE,,,,,,,,/MILLE,,/MILLE,/MILLE,/MILLE,,/MILLE,,/MILLE,,UMOL/KG,,NMOL/L,,/MILLE,,/MILLE,,/MILLE,
33RO20161119,        P18,      30,          1,          1,      11010,2,20161201,       1608,     9.4996,  -110.0001,       3595,  3621.4,   1.6039,  34.6816,2,  34.6809,2,    134.7,2,   133.8,6,   149.7,6,    37.2,6,    0.01,6,   2.526,6,-999.0000,9,-999.0000,9,-999.0000,9,  2344.7,6,  2429.6,6,   7.5487,2,    25.00, -999.00,9,  -999.0,9,  -999.0,-999.0000,9, -999.00,9,  -999.0,9, -999.00,9, -999.00,9,     -999.0,9, -999.00,9,  -999.0,9,     -999.0,     -999.0,9,     -999.0,9,     -999.0,     -999.0,9,     -999.0,     -999.0,9,     -999.0,     -999.0,     -999.0,9,     -999.0,9,     -999.0,9,     -999.0,9,     -999.0,9,     -999.0,9,     -999.0,9,     -999.0,9
33RO20161119,        P18,      30,          1,          2,      11101,2,20161201,       1608,     9.4996,  -110.0001,       3595,  3336.9,   1.5994,  34.6812,2,  34.6795,2,    131.8,2,   131.8,2,   151.0,6,    37.3,6,    0.01,6,   2.546,6,-999.0000,9,-999.0000,9,-999.0000,9,  2345.1,2,  2430.3,2,   7.5468,2,    25.00, -999.00,9,  -999.0,9,  -999.0,-999.0000,9, -999.00,9,  -999.0,9, -999.00,9, -999.00,9,     -999.0,9, -999.00,9,  -999.0,9,     -999.0,     -999.0,9,     -999.0,9,     -999.0,     -999.0,9,     -999.0,     -999.0,9,     -999.0,     -999.0,     -999.0,9,     -999.0,9,     -999.0,9,     -999.0,9,     -999.0,9,     -999.0,9,     -999.0,9,     -999.0,9
33RO20161119,        P18,      30,          1,          3,      11102,2,20161201,       1608,     9.4996,  -110.0001,       3595,  3051.0,   1.7178,  34.6751,2,  34.6752,2,    120.7,2,   120.0,2,   152.3,6,    38.0,6,    0.01,6,   2.598,6,-999.0000,9,-999.0000,9,-999.0000,9,  2352.7,2,  2432.4,2,   7.5282,2,    25.00, -999.00,9,  -999.0,9,  -999.0,-999.0000,9, -999.00,9,  -999.0,9, -999.00,9, -999.00,9,     -999.0,9, -999.00,9,  -999.0,9,     -999.0,     -999.0,9,     -999.0,9,     -999.0,     -999.0,9,     -999.0,     -999.0,9,     -999.0,     -999.0,     -999.0,9,     -999.0,9,     -999.0,9,     -999.0,9,     -999.0,9,     -999.0,9,     -999.0,9,     -999.0,9
33RO20161119,        P18,      30,          1,          4,      11103,2,20161201,       1608,     9.4996,  -110.0001,       3595,  2775.3,   1.8215,  34.6697,2,  34.6691,2,    112.0,2,   111.6,2,   151.9,6,    38.5,6,    0.01,6,   2.647,6,-999.0000,9,-999.0000,9,-999.0000,9,  2357.8,2,  2433.1,2,   7.5143,2,    25.00, -999.00,9,  -999.0,9,  -999.0,-999.0000,9, -999.00,9,  -999.0,9, -999.00,9, -999.00,9,     -999.0,9, -999.00,9,  -999.0,9,     -999.0,     -999.0,9,     -999.0,9,     -999.0,     -999.0,9,     -999.0,     -999.0,9,     -999.0,     -999.0,     -999.0,9,     -999.0,9,     -999.0,9,     -999.0,9,     -999.0,9,     -999.0,9,     -999.0,9,     -999.0,9
33RO20161119,        P18,      30,          1,          5,      11104,2,20161201,       1608,     9.4996,  -110.0001,       3595,  2501.1,   1.8659,  34.6665,2,  34.6650,2,    108.2,2,   108.3,2,   151.3,2,    38.7,2,    0.01,2,   2.675,2,-999.0000,9,-999.0000,9,-999.0000,9,  2358.0,2,  2432.5,2,   7.5108,2,    25.00, -999.00,9,  -999.0,9,  -999.0,-999.0000,9, -999.00,9,  -999.0,9, -999.00,9, -999.00,9,     -999.0,9, -999.00,9,  -999.0,9,     -999.0,     -999.0,9,     -999.0,9,     -999.0,     -999.0,9,     -999.0,     -999.0,9,     -999.0,     -999.0,     -999.0,9,     -999.0,9,     -999.0,9,     -999.0,9,     -999.0,9,     -999.0,9,     -999.0,9,     -999.0,9
33RO20161119,        P18,      30,          1,          6,      11105,2,20161201,       1608,     9.4996,  -110.0001,       3595,  2220.5,   1.9718,  34.6595,2,  34.6587,2,    101.8,2,   101.5,2,   149.1,2,    39.3,2,    0.01,2,   2.698,2,-999.0000,9,-999.0000,9,-999.0000,9,  2358.1,2,  2428.5,2,   7.4927,2,    25.00, -999.00,9,  -999.0,9,  -999.0,-999.0000,9, -999.00,9,  -999.0,9, -999.00,9, -999.00,9,     -999.0,9, -999.00,9,  -999.0,9,     -999.0,     -999.0,9,     -999.0,9,     -999.0,     -999.0,9,     -999.0,     -999.0,9,     -999.0,     -999.0,     -999.0,9,     -999.0,9,     -999.0,9,     -999.0,9,     -999.0,9,     -999.0,9,     -999.0,9,     -999.0,9
33RO20161119,        P18,      30,          1,          7,      11106,2,20161201,       1608,     9.4996,  -110.0001,       3595,  1935.6,   2.2876,  34.6418,2,  34.6422,2,     87.1,2,    88.3,2,   142.8,2,    40.3,2,    0.01,2,   2.801,2,-999.0000,9,-999.0000,9,-999.0000,9,  2362.6,6,  2415.2,2,   7.4764,2,    25.00, -999.00,9,  -999.0,9,  -999.0,-999.0000,9, -999.00,9,  -999.0,9, -999.00,9, -999.00,9,     -999.0,9, -999.00,9,  -999.0,9,     -999.0,     -999.0,9,     -999.0,9,     -999.0,     -999.0,9,     -999.0,     -999.0,9,     -999.0,     -999.0,     -999.0,9,     -999.0,9,     -999.0,9,     -999.0,9,     -999.0,9,     -999.0,9,     -999.0,9,     -999.0,9
33RO20161119,        P18,      30,          1,          8,      11107,2,20161201,       1608,     9.4996,  -110.0001,       3595,  1661.4,   2.7860,  34.6169,2,  34.6154,2,     72.1,2,    72.0,2,   131.4,2,    41.5,2,    0.01,2,   2.914,2,-999.0000,9,-999.0000,9,-999.0000,9,  2358.5,2,  2403.3,2,   7.4341,2,    25.00, -999.00,9,  -999.0,9,  -999.0,-999.0000,9, -999.00,9,  -999.0,9, -999.00,9, -999.00,9,     -999.0,9, -999.00,9,  -999.0,9,     -999.0,     -999.0,9,     -999.0,9,     -999.0,     -999.0,9,     -999.0,     -999.0,9,     -999.0,     -999.0,     -999.0,9,     -999.0,9,     -999.0,9,     -999.0,9,     -999.0,9,     -999.0,9,     -999.0,9,     -999.0,9
33RO20161119,        P18,      30,          1,          9,      11108,2,20161201,       1608,     9.4996,  -110.0001,       3595,  1380.8,   3.2248,  34.5987,2,  34.5970,2,     59.9,2,    60.2,2,   120.6,2,    42.2,2,    0.01,2,   2.977,2,-999.0000,9,-999.0000,9,-999.0000,9,  2354.6,2,  2388.9,2,   7.4091,2,    25.00, -999.00,9,  -999.0,9,  -999.0,-999.0000,9, -999.00,9,  -999.0,9, -999.00,9, -999.00,9,     -999.0,9, -999.00,9,  -999.0,9,     -999.0,     -999.0,9,     -999.0,9,     -999.0,     -999.0,9,     -999.0,     -999.0,9,     -999.0,     -999.0,     -999.0,9,     -999.0,9,     -999.0,9,     -999.0,9,     -999.0,9,     -999.0,9,     -999.0,9,     -999.0,9
33RO20161119,        P18,      30,          1,         10,      11109,2,20161201,       1608,     9.4996,  -110.0001,       3595,  1221.6,   3.6831,  34.5822,2,  34.5836,2,     50.3,2,    50.4,2,   111.0,2,    43.0,2,    0.04,2,   3.138,3,-999.0000,9,-999.0000,9,-999.0000,9,  2347.5,2,  2380.6,2,   7.3890,2,    25.00, -999.00,9,  -999.0,9,  -999.0,-999.0000,9, -999.00,9,  -999.0,9, -999.00,9, -999.00,9,     -999.0,9, -999.00,9,  -999.0,9,     -999.0,     -999.0,9,     -999.0,9,     -999.0,     -999.0,9,     -999.0,     -999.0,9,     -999.0,     -999.0,     -999.0,9,     -999.0,9,     -999.0,9,     -999.0,9,     -999.0,9,     -999.0,9,     -999.0,9,     -999.0,9
33RO20161119,        P18,      30,          1,         11,      11110,2,20161201,       1608,     9.4996,  -110.0001,       3595,  1090.2,   4.0596,  34.5705,2,  34.5711,2,     41.0,2,    42.6,2,   102.6,2,    43.4,2,    0.01,2,   3.078,2,-999.0000,9,-999.0000,9,-999.0000,9,  2343.4,2,  2370.6,2,   7.3751,2,    25.00, -999.00,9,  -999.0,9,  -999.0,-999.0000,9, -999.00,9,  -999.0,9, -999.00,9, -999.00,9,     -999.0,9, -999.00,9,  -999.0,9,     -999.0,     -999.0,9,     -999.0,9,     -999.0,     -999.0,9,     -999.0,     -999.0,9,     -999.0,     -999.0,     -999.0,9,     -999.0,9,     -999.0,9,     -999.0,9,     -999.0,9,     -999.0,9,     -999.0,9,     -999.0,9
33RO20161119,        P18,      30,          1,         12,      11111,2,20161201,       1608,     9.4996,  -110.0001,       3595,   970.6,   4.5609,  34.5591,2,  34.5608,2,     28.6,2,    28.4,2,    93.7,2,    44.2,2,    0.01,2,   3.167,2,-999.0000,9,-999.0000,9,-999.0000,9,  2342.3,2,  2361.2,2,   7.3521,2,    25.00, -999.00,9,  -999.0,9,  -999.0,-999.0000,9, -999.00,9,  -999.0,9, -999.00,9, -999.00,9,     -999.0,9, -999.00,9,  -999.0,9,     -999.0,     -999.0,9,     -999.0,9,     -999.0,     -999.0,9,     -999.0,     -999.0,9,     -999.0,     -999.0,     -999.0,9,     -999.0,9,     -999.0,9,     -999.0,9,     -999.0,9,     -999.0,9,     -999.0,9,     -999.0,9
33RO20161119,        P18,      30,          1,         13,      11112,2,20161201,       1608,     9.4996,  -110.0001,       3595,   850.9,   5.0483,  34.5533,2,  34.5533,2,     17.1,2,    16.8,2,    85.4,2,    44.6,2,    0.01,2,   3.191,2,-999.0000,9,-999.0000,9,-999.0000,9,  2339.9,2,  2350.5,2,   7.3311,2,    25.00, -999.00,9,  -999.0,9,  -999.0,-999.0000,9, -999.00,9,  -999.0,9, -999.00,9, -999.00,9,     -999.0,9, -999.00,9,  -999.0,9,     -999.0,     -999.0,9,     -999.0,9,     -999.0,     -999.0,9,     -999.0,     -999.0,9,     -999.0,     -999.0,     -999.0,9,     -999.0,9,     -999.0,9,     -999.0,9,     -999.0,9,     -999.0,9,     -999.0,9,     -999.0,9
33RO20161119,        P18,      30,          1,         14,      11113,2,20161201,       1608,     9.4996,  -110.0001,       3595,   735.0,   5.7879,  34.5525,2,  34.5539,2,      5.7,2,     5.6,2,    75.8,2,    43.6,2,    0.02,2,   3.196,2,-999.0000,9,-999.0000,9,-999.0000,9,  2332.8,2,  2341.4,2,   7.3178,2,    25.00, -999.00,9,  -999.0,9,  -999.0,-999.0000,9, -999.00,9,  -999.0,9, -999.00,9, -999.00,9,     -999.0,9, -999.00,9,  -999.0,9,     -999.0,     -999.0,9,     -999.0,9,     -999.0,     -999.0,9,     -999.0,     -999.0,9,     -999.0,     -999.0,     -999.0,9,     -999.0,9,     -999.0,9,     -999.0,9,     -999.0,9,     -999.0,9,     -999.0,9,     -999.0,9
33RO20161119,        P18,      30,          1,         15,      11114,2,20161201,       1608,     9.4996,  -110.0001,       3595,   626.2,   6.3917,  34.5572,2,  34.5585,2,      2.9,2,     2.5,2,    67.8,2,    42.0,2,    0.02,2,   3.157,2,-999.0000,9,-999.0000,9,-999.0000,9,  2326.3,2,  2324.0,2,   7.3196,2,    25.00, -999.00,9,  -999.0,9,  -999.0,-999.0000,9, -999.00,9,  -999.0,9, -999.00,9, -999.00,9,     -999.0,9, -999.00,9,  -999.0,9,     -999.0,     -999.0,9,     -999.0,9,     -999.0,     -999.0,9,     -999.0,     -999.0,9,     -999.0,     -999.0,     -999.0,9,     -999.0,9,     -999.0,9,     -999.0,9,     -999.0,9,     -999.0,9,     -999.0,9,     -999.0,9
33RO20161119,        P18,      30,          1,         16,      11115,2,20161201,       1608,     9.4996,  -110.0001,       3595,   520.4,   7.4184,  34.5773,2,  34.5783,2,      2.4,2,     1.4,2,    58.6,2,    36.6,2,    0.06,2,   3.071,2,-999.0000,9,-999.0000,9,-999.0000,9,  2315.9,2,  2315.6,2,   7.3302,2,    25.00, -999.00,9,  -999.0,9,  -999.0,-999.0000,9, -999.00,9,  -999.0,9, -999.00,9, -999.00,9,     -999.0,9, -999.00,9,  -999.0,9,     -999.0,     -999.0,9,     -999.0,9,     -999.0,     -999.0,9,     -999.0,     -999.0,9,     -999.0,     -999.0,     -999.0,9,     -999.0,9,     -999.0,9,     -999.0,9,     -999.0,9,     -999.0,9,     -999.0,9,     -999.0,9
33RO20161119,        P18,      30,          1,         17,      11116,2,20161201,       1608,     9.4996,  -110.0001,       3595,   426.8,   8.5839,  34.6047,2,  34.6105,2,      2.4,2,     1.5,2,    47.6,2,    33.5,2,    0.01,2,   2.900,2,-999.0000,9,-999.0000,9,-999.0000,9,  2299.6,2,  2315.4,2,   7.3466,6,    25.00, -999.00,9,  -999.0,9,  -999.0,-999.0000,9, -999.00,9,  -999.0,9, -999.00,9, -999.00,9,     -999.0,9, -999.00,9,  -999.0,9,     -999.0,     -999.0,9,     -999.0,9,     -999.0,     -999.0,9,     -999.0,     -999.0,9,     -999.0,     -999.0,     -999.0,9,     -999.0,9,     -999.0,9,     -999.0,9,     -999.0,9,     -999.0,9,     -999.0,9,     -999.0,9
33RO20161119,        P18,      30,          1,         18,      11117,2,20161201,       1608,     9.4996,  -110.0001,       3595,   328.2,   9.9838,  34.6738,2,  34.6767,2,      2.9,2,     2.6,2,    35.4,2,    33.2,2,    0.03,2,   2.638,2,-999.0000,9,-999.0000,9,-999.0000,9,  2281.0,2,  2302.7,2,   7.3721,2,    25.00, -999.00,9,  -999.0,9,  -999.0,-999.0000,9, -999.00,9,  -999.0,9, -999.00,9, -999.00,9,     -999.0,9, -999.00,9,  -999.0,9,     -999.0,     -999.0,9,     -999.0,9,     -999.0,     -999.0,9,     -999.0,     -999.0,9,     -999.0,     -999.0,     -999.0,9,     -999.0,9,     -999.0,9,     -999.0,9,     -999.0,9,     -999.0,9,     -999.0,9,     -999.0,9
33RO20161119,        P18,      30,          1,         19,      11083,2,20161201,       1608,     9.4996,  -110.0001,       3595,   250.8,  10.8665,  34.7239,2,  34.7271,2,      4.6,2,     4.7,6,    30.5,2,    32.7,2,    0.02,2,   2.507,2,-999.0000,9,-999.0000,9,-999.0000,9,  2268.0,2,  2300.0,2,   7.3919,2,    25.00, -999.00,9,  -999.0,9,  -999.0,-999.0000,9, -999.00,9,  -999.0,9, -999.00,9, -999.00,9,     -999.0,9, -999.00,9,  -999.0,9,     -999.0,     -999.0,9,     -999.0,9,     -999.0,     -999.0,9,     -999.0,     -999.0,9,     -999.0,     -999.0,     -999.0,9,     -999.0,9,     -999.0,9,     -999.0,9,     -999.0,9,     -999.0,9,     -999.0,9,     -999.0,9
33RO20161119,        P18,      30,          1,         20,      11118,2,20161201,       1608,     9.4996,  -110.0001,       3595,   180.6,  11.7843,  34.7720,2,  34.7752,2,      5.3,2,     5.4,2,    27.2,2,    32.2,2,    0.02,2,   2.425,2,-999.0000,9,-999.0000,9,-999.0000,9,  2260.9,2,  2297.4,2,   7.4129,2,    25.00, -999.00,9,  -999.0,9,  -999.0,-999.0000,9, -999.00,9,  -999.0,9, -999.00,9, -999.00,9,     -999.0,9, -999.00,9,  -999.0,9,     -999.0,     -999.0,9,     -999.0,9,     -999.0,     -999.0,9,     -999.0,     -999.0,9,     -999.0,     -999.0,     -999.0,9,     -999.0,9,     -999.0,9,     -999.0,9,     -999.0,9,     -999.0,9,     -999.0,9,     -999.0,9
33RO20161119,        P18,      30,          1,         21,      11119,2,20161201,       1608,     9.4996,  -110.0001,       3595,   116.0,  12.6920,  34.8107,2,  34.8112,2,      5.5,2,     4.1,2,    24.9,2,    31.5,2,    0.02,2,   2.367,2,-999.0000,9,-999.0000,9,-999.0000,9,  2250.9,2,  2297.4,2,   7.4287,2,    25.00, -999.00,9,  -999.0,9,  -999.0,-999.0000,9, -999.00,9,  -999.0,9, -999.00,9, -999.00,9,     -999.0,9, -999.00,9,  -999.0,9,     -999.0,     -999.0,9,     -999.0,9,     -999.0,     -999.0,9,     -999.0,     -999.0,9,     -999.0,     -999.0,     -999.0,9,     -999.0,9,     -999.0,9,     -999.0,9,     -999.0,9,     -999.0,9,     -999.0,9,     -999.0,9
33RO20161119,        P18,      30,          1,         22,      11120,2,20161201,       1608,     9.4996,  -110.0001,       3595,    60.1,  18.5214,  34.5853,2,  34.5855,2,     77.6,2,    41.1,2,    12.3,2,    21.1,2,    0.50,2,   1.908,2,-999.0000,9,-999.0000,9,-999.0000,9,  2188.8,2,  2279.1,6,   7.5839,2,    25.00, -999.00,9,  -999.0,9,  -999.0,-999.0000,9, -999.00,9,  -999.0,9, -999.00,9, -999.00,9,     -999.0,9, -999.00,9,  -999.0,9,     -999.0,     -999.0,9,     -999.0,9,     -999.0,     -999.0,9,     -999.0,     -999.0,9,     -999.0,     -999.0,     -999.0,9,     -999.0,9,     -999.0,9,     -999.0,9,     -999.0,9,     -999.0,9,     -999.0,9,     -999.0,9
33RO20161119,        P18,      30,          1,         23,      11121,2,20161201,       1608,     9.4996,  -110.0001,       3595,    27.2,  27.5925,  32.8080,2,  32.7931,2,    201.5,2,   199.7,2,     0.7,2,     0.0,2,    0.02,2,   0.178,2,-999.0000,9,-999.0000,9,-999.0000,9,  1863.4,2,  2160.2,2,   8.0839,2,    25.00, -999.00,9,  -999.0,9,  -999.0,-999.0000,9, -999.00,9,  -999.0,9, -999.00,9, -999.00,9,     -999.0,9, -999.00,9,  -999.0,9,     -999.0,     -999.0,9,     -999.0,9,     -999.0,     -999.0,9,     -999.0,     -999.0,9,     -999.0,     -999.0,     -999.0,9,     -999.0,9,     -999.0,9,     -999.0,9,     -999.0,9,     -999.0,9,     -999.0,9,     -999.0,9
33RO20161119,        P18,      30,          1,         24,      11122,2,20161201,       1608,     9.4996,  -110.0001,       3595,     2.9,  27.8156,  32.7135,2,  32.7162,2,    197.7,2,   201.1,2,     0.5,2,     0.0,2,    0.02,2,   0.142,2,-999.0000,9,-999.0000,9,-999.0000,9,  1857.0,6,  2154.8,2,   8.0892,2,    25.00, -999.00,9,  -999.0,9,  -999.0,-999.0000,9, -999.00,9,  -999.0,9, -999.00,9, -999.00,9,     -999.0,9, -999.00,9,  -999.0,9,     -999.0,     -999.0,9,     -999.0,9,     -999.0,     -999.0,9,     -999.0,     -999.0,9,     -999.0,     -999.0,     -999.0,9,     -999.0,9,     -999.0,9,     -999.0,9,     -999.0,9,     -999.0,9,     -999.0,9,     -999.0,9