BOTTLE,20230606CCHSIOCBG
EXPOCODE,SECT_ID,STNNBR,CASTNO,SAMPNO,BTLNBR,BTLNBR_FLAG_W,DATE,TIME,LATITUDE,LONGITUDE,DEPTH,CTDPRS,CTDTMP,CTDSAL,CTDSAL_FLAG_W,SALNTY,SALNTY_FLAG_W,CTDOXY,CTDOXY_FLAG_W,OXYGEN,OXYGEN_FLAG_W,SILCAT,SILCAT_FLAG_W,NITRAT,NITRAT_FLAG_W,NITRIT,NITRIT_FLAG_W,PHSPHT,PHSPHT_FLAG_W,CFC-11,CFC-11_FLAG_W,CFC-12,CFC-12_FLAG_W,SF6,SF6_FLAG_W,TCARBN,TCARBN_FLAG_W,ALKALI,ALKALI_FLAG_W,PH_SWS,PH_SWS_FLAG_W,PH_TMP,DELC13,DELC13_FLAG_W,DELC14,DELC14_FLAG_W,C14ERR,CCL4,CCL4_FLAG_W,POC,POC_FLAG_W,DOC,DOC_FLAG_W,TDN,TDN_FLAG_W,PON,PON_FLAG_W,N2O,N2O_FLAG_W,D15N_NO3,D15N_NO3_FLAG_W,14C-DOC,14C-DOC_FLAG_W,14C-DOCERR,13C-DOC,13C-DOC_FLAG_W,N2/ARGON_UNSTRIPPED,N2/ARGON_UNSTRIPPED_FLAG_W,N2/ARGON_UNSTRIPPED_ERROR,N2/ARGON,N2/ARGON_FLAG_W,N2/ARGON_ERROR,D15N_N2,D15N_N2_FLAG_W,D15N_N2_ERROR,D15N_NO3_ERROR,D15N_NO2+NO3,D15N_NO2+NO3_FLAG_W,D18O_NO2+NO3,D18O_NO2+NO3_FLAG_W,D18O_NO3,D18O_NO3_FLAG_W,TDP,TDP_FLAG_W,N2O_ALT_1,N2O_ALT_1_FLAG_W,D15N_N2O,D15N_N2O_FLAG_W,D18O_N2O,D18O_N2O_FLAG_W,D15N_ALPHA_N2O,D15N_ALPHA_N2O_FLAG_W
,,,,,,,,,,,METERS,DBAR,ITS-90,PSS-78,,PSS-78,,UMOL/KG,,UMOL/KG,,UMOL/KG,,UMOL/KG,,UMOL/KG,,UMOL/KG,,PMOL/KG,,PMOL/KG,,FMOL/KG,,UMOL/KG,,UMOL/KG,,,,DEG C,/MILLE,,/MILLE,,/MILLE,PMOL/KG,,UG/KG,,UMOL/KG,,UMOL/KG,,UG/KG,,NMOL/KG,,/MILLE,,/MILLE,,/MILLE,/MILLE,,,,,,,,/MILLE,,/MILLE,/MILLE,/MILLE,,/MILLE,,/MILLE,,UMOL/KG,,NMOL/L,,/MILLE,,/MILLE,,/MILLE,
33RO20161119,        P18,     182,          1,          1,      11010,2,20170118,       1746,   -57.0000,  -102.9996,       4183,  4231.2,   0.7009,  34.7061,2,  34.7048,2,    208.0,2,   207.8,6,   130.0,2,    32.8,2,    0.02,2,   2.232,2,   0.2433,2,   0.1143,2,   0.0489,2,  2264.1,6,  2382.9,4,   7.5951,2,    25.00, -999.00,9,  -999.0,9,  -999.0,   0.1973,2, -999.00,9,  -999.0,9, -999.00,9, -999.00,9,    18.4783,2,    4.76,2,  -999.0,9,     -999.0,     -999.0,9,     -999.0,9,     -999.0,     -999.0,9,     -999.0,     -999.0,9,     -999.0,     -999.0,       4.76,2,       1.97,2,       1.97,2,     -999.0,9,     -999.0,9,     -999.0,9,     -999.0,9,     -999.0,9
33RO20161119,        P18,     182,          1,          2,      11101,2,20170118,       1746,   -57.0000,  -102.9996,       4183,  3839.8,   0.8088,  34.7093,2,  34.7078,2,    205.4,2,   205.4,2,   126.0,2,    32.7,2,    0.01,2,   2.220,2,   0.1953,2,   0.0932,2,   0.0571,2,  2264.8,2,  2367.7,2,   7.5995,2,    25.00, -999.00,9,  -999.0,9,  -999.0,   0.1992,2, -999.00,9,  -999.0,9, -999.00,9, -999.00,9,    18.5878,2,    4.77,2,  -999.0,9,     -999.0,     -999.0,9,     -999.0,9,     -999.0,     -999.0,9,     -999.0,     -999.0,9,     -999.0,     -999.0,       4.77,2,       1.75,2,       1.75,2,     -999.0,9,     -999.0,9,     -999.0,9,     -999.0,9,     -999.0,9
33RO20161119,        P18,     182,          1,          3,      11102,2,20170118,       1746,   -57.0000,  -102.9996,       4183,  3444.8,   1.0321,  34.7153,2,  34.7163,2,    201.8,2,   202.2,2,   117.5,6,    32.4,6,    0.01,6,   2.204,6,   0.1639,2,   0.0785,2,   0.0294,2,  2259.1,2,  2360.3,6,   7.5952,2,    25.00, -999.00,9,  -999.0,9,  -999.0,   0.2664,2, -999.00,9,  -999.0,9, -999.00,9, -999.00,9,    18.7177,2,    4.81,2,  -999.0,9,     -999.0,     -999.0,9,     -999.0,9,     -999.0,     -999.0,9,     -999.0,     -999.0,9,     -999.0,     -999.0,       4.81,2,        1.7,2,        1.7,2,     -999.0,9,     -999.0,9,     -999.0,9,     -999.0,9,     -999.0,9
33RO20161119,        P18,     182,          1,          4,      11103,2,20170118,       1746,   -57.0000,  -102.9996,       4183,  3119.6,   1.2197,  34.7193,2,  34.7170,2,    197.1,2,   197.3,2,   112.6,6,    32.2,6,    0.01,6,   2.202,6,   0.1197,2,   0.0565,2,   0.0538,2,  2261.0,2,  2369.4,2,   7.5984,6,    25.00, -999.00,9,  -999.0,9,  -999.0,   0.2568,2, -999.00,9,  -999.0,9, -999.00,9, -999.00,9,     18.969,2,    4.81,2,  -999.0,9,     -999.0,     -999.0,9,     -999.0,9,     -999.0,     -999.0,9,     -999.0,     -999.0,9,     -999.0,     -999.0,       4.81,2,       1.79,2,       1.79,2,     -999.0,9,     -999.0,9,     -999.0,9,     -999.0,9,     -999.0,9
33RO20161119,        P18,     182,          1,          5,      11104,2,20170118,       1746,   -57.0000,  -102.9996,       4183,  2795.8,   1.3893,  34.7219,2,  34.7204,2,    192.9,2,   193.1,2,   107.8,6,    32.2,6,    0.01,6,   2.200,6,   0.0899,2,   0.0434,2,   0.0000,2,  2259.7,2,  2369.1,2,   7.5972,2,    25.00, -999.00,9,  -999.0,9,  -999.0,   0.3942,2, -999.00,9,  -999.0,9, -999.00,9, -999.00,9,    19.1179,2,     4.9,2,  -999.0,9,     -999.0,     -999.0,9,     -999.0,9,     -999.0,     -999.0,9,     -999.0,     -999.0,9,     -999.0,     -999.0,        4.9,2,       1.88,2,       1.88,2,     -999.0,9,     -999.0,9,     -999.0,9,     -999.0,9,     -999.0,9
33RO20161119,        P18,     182,          1,          6,      11105,2,20170118,       1746,   -57.0000,  -102.9996,       4183,  2475.4,   1.6013,  34.7286,2,  34.7282,2,    191.4,2,   191.3,2,    99.4,6,    31.8,6,    0.01,6,   2.174,6,   0.1150,2,   0.0540,2,   0.0600,2,  2256.2,2,  2360.0,2,   7.5947,2,    25.00, -999.00,9,  -999.0,9,  -999.0,    0.527,2, -999.00,9,  -999.0,9, -999.00,9, -999.00,9,    19.2046,2,    4.96,2,  -999.0,9,     -999.0,     -999.0,9,     -999.0,9,     -999.0,     -999.0,9,     -999.0,     -999.0,9,     -999.0,     -999.0,       4.96,2,       1.91,2,       1.91,2,     -999.0,9,     -999.0,9,     -999.0,9,     -999.0,9,     -999.0,9
33RO20161119,        P18,     182,          1,          7,      11106,2,20170118,       1746,   -57.0000,  -102.9996,       4183,  2154.5,   1.8497,  34.7233,2,  34.7215,2,    184.6,2,   184.9,2,    93.6,2,    32.0,2,    0.01,2,   2.193,2,   0.1316,2,   0.0616,2,   0.0566,2,  2254.9,2,  2358.7,2,   7.5898,2,    25.00, -999.00,9,  -999.0,9,  -999.0,   0.7109,2, -999.00,9,  -999.0,9, -999.00,9, -999.00,9,    19.7387,2,    5.01,2,  -999.0,9,     -999.0,     -999.0,9,     -999.0,9,     -999.0,     -999.0,9,     -999.0,     -999.0,9,     -999.0,     -999.0,       5.01,2,       1.95,2,       1.95,2,     -999.0,9,     -999.0,9,     -999.0,9,     -999.0,9,     -999.0,9
33RO20161119,        P18,     182,          1,          8,      11107,2,20170118,       1746,   -57.0000,  -102.9996,       4183,  1834.5,   2.0876,  34.7028,2,  34.7019,2,    177.5,2,   178.2,2,    87.4,2,    32.5,2,    0.01,2,   2.220,2,   0.1710,6,   0.0826,6,   0.0575,6,  2256.4,2,  2352.6,2,   7.5784,2,    25.00, -999.00,9,  -999.0,9,  -999.0,   0.9531,2, -999.00,9,  -999.0,9, -999.00,9, -999.00,9,    20.8264,2,    5.08,2,  -999.0,9,     -999.0,     -999.0,9,     -999.0,9,     -999.0,     -999.0,9,     -999.0,     -999.0,9,     -999.0,     -999.0,       5.08,2,       2.04,2,       2.04,2,     -999.0,9,     -999.0,9,     -999.0,9,     -999.0,9,     -999.0,9
33RO20161119,        P18,     182,          1,          9,      11108,2,20170118,       1746,   -57.0000,  -102.9996,       4183,  1556.5,   2.2877,  34.6624,2,  34.6613,2,    173.4,2,   173.0,2,    81.3,2,    33.2,2,    0.01,2,   2.253,2,   0.2819,2,   0.1391,2,   0.0991,2,  2252.7,2,  2348.3,2,   7.5682,2,    25.00, -999.00,9,  -999.0,9,  -999.0,   1.6949,2, -999.00,9,  -999.0,9, -999.00,9, -999.00,9,    21.3506,2,    5.12,2,  -999.0,9,     -999.0,     -999.0,9,     -999.0,9,     -999.0,     -999.0,9,     -999.0,     -999.0,9,     -999.0,     -999.0,       5.12,2,       1.83,2,       1.83,2,     -999.0,9,     -999.0,9,     -999.0,9,     -999.0,9,     -999.0,9
33RO20161119,        P18,     182,          1,         10,      11109,2,20170118,       1746,   -57.0000,  -102.9996,       4183,  1369.5,   2.4055,  34.6196,2,  34.6188,2,    170.9,2,   171.1,2,    77.6,2,    33.8,2,    0.01,2,   2.299,2,   0.4199,2,   0.2058,2,   0.1218,2,  2253.6,6,  2341.5,6,   7.5571,2,    25.00, -999.00,9,  -999.0,9,  -999.0,   2.2635,2, -999.00,9,  -999.0,9, -999.00,9, -999.00,9,    21.9781,2,    5.17,2,  -999.0,9,     -999.0,     -999.0,9,     -999.0,9,     -999.0,     -999.0,9,     -999.0,     -999.0,9,     -999.0,     -999.0,       5.17,2,       1.98,2,       1.98,2,     -999.0,9,     -999.0,9,     -999.0,9,     -999.0,9,     -999.0,9
33RO20161119,        P18,     182,          1,         11,      11110,2,20170118,       1746,   -57.0000,  -102.9996,       4183,  1224.5,   2.5041,  34.5761,2,  34.5744,2,    170.8,2,   170.7,2,    73.8,2,    34.2,2,    0.01,2,   2.333,2,   0.5733,2,   0.2837,2,   0.1342,2,  2251.4,2,  2337.4,2,   7.5532,2,    25.00, -999.00,9,  -999.0,9,  -999.0,    2.732,2, -999.00,9,  -999.0,9, -999.00,9, -999.00,9,    22.3731,2,    5.19,2,  -999.0,9,     -999.0,     -999.0,9,     -999.0,9,     -999.0,     -999.0,9,     -999.0,     -999.0,9,     -999.0,     -999.0,       5.19,2,       1.85,2,       1.85,2,     -999.0,9,     -999.0,9,     -999.0,9,     -999.0,9,     -999.0,9
33RO20161119,        P18,     182,          1,         12,      11111,2,20170118,       1746,   -57.0000,  -102.9996,       4183,  1084.4,   2.6379,  34.5228,2,  34.5216,2,    173.3,2,   173.0,2,    69.1,2,    34.5,2,    0.01,2,   2.350,2,   0.7909,2,   0.3907,2,   0.1954,2,  2246.9,2,  2332.9,2,   7.5497,2,    25.00, -999.00,9,  -999.0,9,  -999.0,   2.6378,3, -999.00,9,  -999.0,9, -999.00,9, -999.00,9,    22.3565,2,    5.28,2,  -999.0,9,     -999.0,     -999.0,9,     -999.0,9,     -999.0,     -999.0,9,     -999.0,     -999.0,9,     -999.0,     -999.0,       5.28,2,       2.02,2,       2.02,2,     -999.0,9,     -999.0,9,     -999.0,9,     -999.0,9,     -999.0,9
33RO20161119,        P18,     182,          1,         13,      11112,2,20170118,       1746,   -57.0000,  -102.9996,       4183,   944.0,   2.7671,  34.4592,2,  34.4571,2,    180.0,2,   179.5,2,    62.2,2,    34.5,2,    0.01,2,   2.353,2,   1.1749,2,   0.5876,2,   0.3217,2,  2238.6,2,  2325.3,2,   7.5495,2,    25.00, -999.00,9,  -999.0,9,  -999.0,    4.314,2, -999.00,9,  -999.0,9, -999.00,9, -999.00,9,    22.3224,2,    5.33,2,  -999.0,9,     -999.0,     -999.0,9,     -999.0,9,     -999.0,     -999.0,9,     -999.0,     -999.0,9,     -999.0,     -999.0,       5.33,2,       2.14,2,       2.14,2,     -999.0,9,     -999.0,9,     -999.0,9,     -999.0,9,     -999.0,9
33RO20161119,        P18,     182,          1,         14,      11113,2,20170118,       1746,   -57.0000,  -102.9996,       4183,   805.4,   2.9688,  34.3860,2,  34.3871,2,    191.6,2,   190.3,2,    53.1,2,    33.9,2,    0.02,2,   2.326,2,   1.6974,2,   0.8556,2,   0.5193,2,  2227.0,2,  2311.9,2,   7.5614,2,    25.00, -999.00,9,  -999.0,9,  -999.0,   4.4873,2, -999.00,9,  -999.0,9, -999.00,9, -999.00,9,    21.9024,2,    5.42,2,  -999.0,9,     -999.0,     -999.0,9,     -999.0,9,     -999.0,     -999.0,9,     -999.0,     -999.0,9,     -999.0,     -999.0,       5.42,2,       2.11,2,       2.11,2,     -999.0,9,     -999.0,9,     -999.0,9,     -999.0,9,     -999.0,9
33RO20161119,        P18,     182,          1,         15,      11114,2,20170118,       1746,   -57.0000,  -102.9996,       4183,   685.3,   3.2933,  34.3278,2,  34.3259,2,    201.9,2,   201.7,2,    43.8,2,    33.0,2,    0.01,2,   2.258,2,   2.1806,2,   1.1076,2,   0.7262,2,  2211.6,2,  2307.8,2,   7.5774,2,    25.00, -999.00,9,  -999.0,9,  -999.0,   4.8197,2, -999.00,9,  -999.0,9, -999.00,9, -999.00,9,    21.1904,2,    5.48,2,  -999.0,9,     -999.0,     -999.0,9,     -999.0,9,     -999.0,     -999.0,9,     -999.0,     -999.0,9,     -999.0,     -999.0,       5.48,2,       2.18,2,       2.18,2,     -999.0,9,     -999.0,9,     -999.0,9,     -999.0,9,     -999.0,9
33RO20161119,        P18,     182,          1,         16,      11115,2,20170118,       1746,   -57.0000,  -102.9996,       4183,   566.1,   3.6124,  34.2745,2,  34.2726,2,    217.2,2,   214.5,2,    35.1,2,    31.7,2,    0.02,2,   2.153,2,   2.7145,2,   1.4096,2,   0.9603,2,  2198.8,2,  2300.6,2,   7.5913,2,    25.00, -999.00,9,  -999.0,9,  -999.0,   4.5386,2, -999.00,9,  -999.0,9, -999.00,9, -999.00,9,    19.6176,2,    5.59,2,  -999.0,9,     -999.0,     -999.0,9,     -999.0,9,     -999.0,     -999.0,9,     -999.0,     -999.0,9,     -999.0,     -999.0,       5.59,2,       2.42,2,       2.42,2,     -999.0,9,     -999.0,9,     -999.0,9,     -999.0,9,     -999.0,9
33RO20161119,        P18,     182,          1,         17,      11116,2,20170118,       1746,   -57.0000,  -102.9996,       4183,   454.8,   4.2287,  34.2636,2,  34.2620,2,    230.4,2,   219.9,3,    27.8,2,    30.3,2,    0.02,2,   2.063,2,   2.9362,3,   1.5313,3,   1.1052,3,  2186.4,2,  2295.7,2,   7.6137,2,    25.00, -999.00,9,  -999.0,9,  -999.0,   5.0622,2, -999.00,9,  -999.0,9, -999.00,9, -999.00,9,    18.6643,3,    5.62,2,  -999.0,9,     -999.0,     -999.0,9,     -999.0,9,     -999.0,     -999.0,9,     -999.0,     -999.0,9,     -999.0,     -999.0,       5.62,2,       2.34,2,       2.34,2,     -999.0,9,     -999.0,9,     -999.0,9,     -999.0,9,     -999.0,9
33RO20161119,        P18,     182,          1,         18,      11117,2,20170118,       1746,   -57.0000,  -102.9996,       4183,   330.8,   4.1288,  34.1529,2,  34.1514,2,    267.6,2,   260.0,3,    18.2,2,    27.4,2,    0.03,2,   1.871,2,   3.9230,2,   2.1273,2,   2.0593,2,  2163.6,2,  2280.5,2,   7.6555,2,    25.00, -999.00,9,  -999.0,9,  -999.0,   4.5595,2, -999.00,9,  -999.0,9, -999.00,9, -999.00,9,    16.1673,2,    5.84,2,  -999.0,9,     -999.0,     -999.0,9,     -999.0,9,     -999.0,     -999.0,9,     -999.0,     -999.0,9,     -999.0,     -999.0,       5.73,2,       2.77,2,       2.83,2,     -999.0,9,     -999.0,9,     -999.0,9,     -999.0,9,     -999.0,9
33RO20161119,        P18,     182,          1,         19,      11083,2,20170118,       1746,   -57.0000,  -102.9996,       4183,   253.0,   4.3931,  34.1336,2,  34.1320,2,    278.9,2,   274.1,2,    13.8,2,    25.4,2,    0.04,2,   1.753,2,   4.1201,2,   2.2543,2,   2.3391,2,  2151.5,2,  2280.1,2,   7.6795,2,    25.00, -999.00,9,  -999.0,9,  -999.0,   4.9466,2, -999.00,9,  -999.0,9, -999.00,9, -999.00,9,    14.8883,2,     6.0,2,  -999.0,9,     -999.0,     -999.0,9,     -999.0,9,     -999.0,     -999.0,9,     -999.0,     -999.0,9,     -999.0,     -999.0,       6.05,2,       3.26,2,       3.14,2,     -999.0,9,     -999.0,9,     -999.0,9,     -999.0,9,     -999.0,9
33RO20161119,        P18,     182,          1,         20,      11118,2,20170118,       1746,   -57.0000,  -102.9996,       4183,   177.1,   4.7927,  34.1369,2,  34.1397,2,    286.9,2,   285.6,2,    10.0,2,    23.2,2,    0.12,2,   1.616,2,   4.2326,6,   2.3501,6,   2.6256,6,  2141.3,2,  2274.9,2,   7.7031,2,    25.00, -999.00,9,  -999.0,9,  -999.0,   5.1827,2, -999.00,9,  -999.0,9, -999.00,9, -999.00,9,    13.5464,2,    6.23,2,  -999.0,9,     -999.0,     -999.0,9,     -999.0,9,     -999.0,     -999.0,9,     -999.0,     -999.0,9,     -999.0,     -999.0,       6.23,2,       3.63,2,       3.55,2,     -999.0,9,     -999.0,9,     -999.0,9,     -999.0,9,     -999.0,9
33RO20161119,        P18,     182,          1,         21,      11119,2,20170118,       1746,   -57.0000,  -102.9996,       4183,   104.5,   5.2231,  34.1192,2,  34.1176,2,    296.6,2,   296.4,2,     6.4,2,    20.7,2,    0.34,2,   1.521,2,   4.3386,2,   2.4067,2,   2.8155,2,  2128.0,2,  2279.2,2,   7.7308,2,    25.00, -999.00,9,  -999.0,9,  -999.0,   0.2615,2, -999.00,9,  -999.0,9, -999.00,9, -999.00,9,    12.6115,2,    7.02,2,  -999.0,9,     -999.0,     -999.0,9,     -999.0,9,     -999.0,     -999.0,9,     -999.0,     -999.0,9,     -999.0,     -999.0,       6.63,2,       4.35,2,       4.33,2,     -999.0,9,     -999.0,9,     -999.0,9,     -999.0,9,     -999.0,9
33RO20161119,        P18,     182,          1,         22,      11120,2,20170118,       1746,   -57.0000,  -102.9996,       4183,    49.8,   6.7784,  34.1437,2,  34.1429,2,    300.5,2,   300.5,2,     0.9,2,    17.8,2,    0.22,2,   1.264,2,   4.1395,2,   2.3227,2,   2.7586,2,  2108.1,2,  2276.8,6,   7.7842,2,    25.00, -999.00,9,  -999.0,9,  -999.0,   0.2074,2, -999.00,9,  -999.0,9, -999.00,9, -999.00,9,    11.8739,2,    8.51,2,  -999.0,9,     -999.0,     -999.0,9,     -999.0,9,     -999.0,     -999.0,9,     -999.0,     -999.0,9,     -999.0,     -999.0,       7.76,2,       5.03,2,       4.91,2,     -999.0,9,     -999.0,9,     -999.0,9,     -999.0,9,     -999.0,9
33RO20161119,        P18,     182,          1,         23,      11121,2,20170118,       1746,   -57.0000,  -102.9996,       4183,    20.1,   6.9361,  34.1337,2,  34.1330,2,    298.7,2,   298.8,2,     0.8,2,    17.6,2,    0.23,2,   1.276,2,   4.1032,2,   2.3012,2,   2.7753,2,  2106.8,6,  2277.9,2,   7.7858,6,    25.00, -999.00,9,  -999.0,9,  -999.0,   0.1807,2, -999.00,9,  -999.0,9, -999.00,9, -999.00,9,    11.8113,2,    8.64,2,  -999.0,9,     -999.0,     -999.0,9,     -999.0,9,     -999.0,     -999.0,9,     -999.0,     -999.0,9,     -999.0,     -999.0,       7.85,2,       4.83,2,       4.85,2,     -999.0,9,     -999.0,9,     -999.0,9,     -999.0,9,     -999.0,9
33RO20161119,        P18,     182,          1,         24,      11122,2,20170118,       1746,   -57.0000,  -102.9996,       4183,     3.3,   6.9420,  34.1335,2,  34.1336,2,    298.5,2,   298.8,6,     0.8,2,    17.7,2,    0.23,2,   1.265,2,   4.0969,2,   2.2925,2,   2.8946,2,  2106.2,2,  2279.5,2,   7.7851,2,    25.00, -999.00,9,  -999.0,9,  -999.0,   0.1436,2, -999.00,9,  -999.0,9, -999.00,9, -999.00,9,    11.8425,2,    8.67,2,  -999.0,9,     -999.0,     -999.0,9,     -999.0,9,     -999.0,     -999.0,9,     -999.0,     -999.0,9,     -999.0,     -999.0,       7.84,2,       4.91,2,       4.99,2,     -999.0,9,     -999.0,9,     -999.0,9,     -999.0,9,     -999.0,9