BOTTLE,20230606CCHSIOCBG
EXPOCODE,SECT_ID,STNNBR,CASTNO,SAMPNO,BTLNBR,BTLNBR_FLAG_W,DATE,TIME,LATITUDE,LONGITUDE,DEPTH,CTDPRS,CTDTMP,CTDSAL,CTDSAL_FLAG_W,SALNTY,SALNTY_FLAG_W,CTDOXY,CTDOXY_FLAG_W,OXYGEN,OXYGEN_FLAG_W,SILCAT,SILCAT_FLAG_W,NITRAT,NITRAT_FLAG_W,NITRIT,NITRIT_FLAG_W,PHSPHT,PHSPHT_FLAG_W,CFC-11,CFC-11_FLAG_W,CFC-12,CFC-12_FLAG_W,SF6,SF6_FLAG_W,TCARBN,TCARBN_FLAG_W,ALKALI,ALKALI_FLAG_W,PH_SWS,PH_SWS_FLAG_W,PH_TMP,DELC13,DELC13_FLAG_W,DELC14,DELC14_FLAG_W,C14ERR,CCL4,CCL4_FLAG_W,POC,POC_FLAG_W,DOC,DOC_FLAG_W,TDN,TDN_FLAG_W,PON,PON_FLAG_W,N2O,N2O_FLAG_W,D15N_NO3,D15N_NO3_FLAG_W,14C-DOC,14C-DOC_FLAG_W,14C-DOCERR,13C-DOC,13C-DOC_FLAG_W,N2/ARGON_UNSTRIPPED,N2/ARGON_UNSTRIPPED_FLAG_W,N2/ARGON_UNSTRIPPED_ERROR,N2/ARGON,N2/ARGON_FLAG_W,N2/ARGON_ERROR,D15N_N2,D15N_N2_FLAG_W,D15N_N2_ERROR,D15N_NO3_ERROR,D15N_NO2+NO3,D15N_NO2+NO3_FLAG_W,D18O_NO2+NO3,D18O_NO2+NO3_FLAG_W,D18O_NO3,D18O_NO3_FLAG_W,TDP,TDP_FLAG_W,N2O_ALT_1,N2O_ALT_1_FLAG_W,D15N_N2O,D15N_N2O_FLAG_W,D18O_N2O,D18O_N2O_FLAG_W,D15N_ALPHA_N2O,D15N_ALPHA_N2O_FLAG_W
,,,,,,,,,,,METERS,DBAR,ITS-90,PSS-78,,PSS-78,,UMOL/KG,,UMOL/KG,,UMOL/KG,,UMOL/KG,,UMOL/KG,,UMOL/KG,,PMOL/KG,,PMOL/KG,,FMOL/KG,,UMOL/KG,,UMOL/KG,,,,DEG C,/MILLE,,/MILLE,,/MILLE,PMOL/KG,,UG/KG,,UMOL/KG,,UMOL/KG,,UG/KG,,NMOL/KG,,/MILLE,,/MILLE,,/MILLE,/MILLE,,,,,,,,/MILLE,,/MILLE,/MILLE,/MILLE,,/MILLE,,/MILLE,,UMOL/KG,,NMOL/L,,/MILLE,,/MILLE,,/MILLE,
33RO20161119,        P18,     196,          1,          1,      11010,2,20170122,       2108,   -63.9997,  -102.9998,       5001,  5093.8,   0.4500,  34.6998,2,  34.6992,2,    214.3,2,   213.7,2,   143.6,2,    33.3,2,    0.01,2,   2.273,2,   0.4434,2,   0.2084,2,   0.0929,2,  2263.4,6,  2368.2,2,   7.5849,6,    25.00, -999.00,9,  -999.0,9,  -999.0,   0.3806,2, -999.00,9,  -999.0,9, -999.00,9, -999.00,9,    18.2146,2,    4.76,2,  -999.0,9,     -999.0,     -999.0,9,     -999.0,9,     -999.0,     -999.0,9,     -999.0,     -999.0,9,     -999.0,     -999.0,       4.76,2,       2.23,2,       2.23,2,     -999.0,9,     -999.0,9,     -999.0,9,     -999.0,9,     -999.0,9
33RO20161119,        P18,     196,          1,          2,      11101,2,20170122,       2108,   -63.9997,  -102.9998,       5001,  4813.1,   0.4383,  34.7007,2,  34.7003,2,    214.7,2,   214.0,2,   137.8,2,    33.2,2,    0.02,2,   2.257,2,   0.4017,2,   0.1870,2,   0.0594,2,  2259.8,2,  2360.4,2,   7.5875,2,    25.00, -999.00,9,  -999.0,9,  -999.0,   0.2929,2, -999.00,9,  -999.0,9, -999.00,9, -999.00,9,    18.1028,2,    4.75,2,  -999.0,9,     -999.0,     -999.0,9,     -999.0,9,     -999.0,     -999.0,9,     -999.0,     -999.0,9,     -999.0,     -999.0,       4.75,2,       1.98,2,       1.98,2,     -999.0,9,     -999.0,9,     -999.0,9,     -999.0,9,     -999.0,9
33RO20161119,        P18,     196,          1,          3,      11102,2,20170122,       2108,   -63.9997,  -102.9998,       5001,  4531.1,   0.4382,  34.7016,2,  34.6999,2,    214.0,2,   213.5,2,   136.5,6,    32.9,6,    0.01,6,   2.258,6,   0.3605,2,   0.1716,2,   0.0637,2,  2261.5,2,  2359.7,2,   7.5866,2,    25.00, -999.00,9,  -999.0,9,  -999.0,   0.2825,2, -999.00,9,  -999.0,9, -999.00,9, -999.00,9,    18.2367,2,     4.8,2,  -999.0,9,     -999.0,     -999.0,9,     -999.0,9,     -999.0,     -999.0,9,     -999.0,     -999.0,9,     -999.0,     -999.0,        4.8,2,       1.96,2,       1.96,2,     -999.0,9,     -999.0,9,     -999.0,9,     -999.0,9,     -999.0,9
33RO20161119,        P18,     196,          1,          4,      11103,2,20170122,       2108,   -63.9997,  -102.9998,       5001,  4130.7,   0.4811,  34.7030,2,  34.7019,2,    212.0,2,   212.0,6,   132.6,6,    32.8,6,    0.01,6,   2.251,6,   0.3102,6,   0.1481,6,   0.0563,6,  2259.8,2,  2362.0,2,   7.5885,2,    25.00, -999.00,9,  -999.0,9,  -999.0,   0.2246,2, -999.00,9,  -999.0,9, -999.00,9, -999.00,9,    18.3955,2,    4.78,2,  -999.0,9,     -999.0,     -999.0,9,     -999.0,9,     -999.0,     -999.0,9,     -999.0,     -999.0,9,     -999.0,     -999.0,       4.78,2,       1.97,2,       1.97,2,     -999.0,9,     -999.0,9,     -999.0,9,     -999.0,9,     -999.0,9
33RO20161119,        P18,     196,          1,          5,      11104,2,20170122,       2108,   -63.9997,  -102.9998,       5001,  3730.6,   0.5988,  34.7049,2,  34.7032,2,    209.5,2,   209.6,2,   128.2,6,    32.7,6,    0.01,6,   2.243,6,   0.2751,2,   0.1325,2,   0.0783,2,  2258.0,2,  2360.9,2,   7.5898,2,    25.00, -999.00,9,  -999.0,9,  -999.0,   0.2379,2, -999.00,9,  -999.0,9, -999.00,9, -999.00,9,     18.421,2,    4.81,2,  -999.0,9,     -999.0,     -999.0,9,     -999.0,9,     -999.0,     -999.0,9,     -999.0,     -999.0,9,     -999.0,     -999.0,       4.81,2,       1.98,2,       1.98,2,     -999.0,9,     -999.0,9,     -999.0,9,     -999.0,9,     -999.0,9
33RO20161119,        P18,     196,          1,          6,      11105,2,20170122,       2108,   -63.9997,  -102.9998,       5001,  3330.7,   0.7545,  34.7083,2,  34.7071,2,    206.0,2,   205.9,2,   124.6,6,    32.6,6,    0.01,6,   2.232,6,   0.2214,2,   0.1078,2,   0.0703,2,  2258.3,2,  2360.6,6,   7.5900,2,    25.00, -999.00,9,  -999.0,9,  -999.0,   0.2078,2, -999.00,9,  -999.0,9, -999.00,9, -999.00,9,    18.4305,2,    4.82,2,  -999.0,9,     -999.0,     -999.0,9,     -999.0,9,     -999.0,     -999.0,9,     -999.0,     -999.0,9,     -999.0,     -999.0,       4.82,2,       1.94,2,       1.94,2,     -999.0,9,     -999.0,9,     -999.0,9,     -999.0,9,     -999.0,9
33RO20161119,        P18,     196,          1,          7,      11106,2,20170122,       2108,   -63.9997,  -102.9998,       5001,  2930.3,   0.8840,  34.7127,2,  34.7112,2,    203.9,2,   203.3,2,   120.3,2,    32.4,2,    0.02,2,   2.224,2,   0.1800,2,   0.0873,2,   0.0430,2,  2257.3,2,  2359.6,2,   7.5927,2,    25.00, -999.00,9,  -999.0,9,  -999.0,   0.2405,2, -999.00,9,  -999.0,9, -999.00,9, -999.00,9,    18.3725,2,    4.82,2,  -999.0,9,     -999.0,     -999.0,9,     -999.0,9,     -999.0,     -999.0,9,     -999.0,     -999.0,9,     -999.0,     -999.0,       4.82,2,       1.92,2,       1.92,2,     -999.0,9,     -999.0,9,     -999.0,9,     -999.0,9,     -999.0,9
33RO20161119,        P18,     196,          1,          8,      11107,2,20170122,       2108,   -63.9997,  -102.9998,       5001,  2527.5,   1.0542,  34.7193,2,  34.7192,2,    201.3,2,   200.3,2,   114.0,2,    32.2,2,    0.01,2,   2.216,2,   0.1412,2,   0.0689,2,   0.0000,2,  2256.9,2,  2368.1,4,   7.5946,2,    25.00, -999.00,9,  -999.0,9,  -999.0,   0.3072,2, -999.00,9,  -999.0,9, -999.00,9, -999.00,9,    18.7399,2,    4.85,2,  -999.0,9,     -999.0,     -999.0,9,     -999.0,9,     -999.0,     -999.0,9,     -999.0,     -999.0,9,     -999.0,     -999.0,       4.85,2,       2.13,2,       2.13,2,     -999.0,9,     -999.0,9,     -999.0,9,     -999.0,9,     -999.0,9
33RO20161119,        P18,     196,          1,          9,      11108,2,20170122,       2108,   -63.9997,  -102.9998,       5001,  2053.6,   1.3209,  34.7280,2,  34.7272,2,    196.0,2,   195.3,2,   105.6,2,    31.9,2,    0.01,2,   2.196,2,   0.1258,2,   0.0607,2,   0.0532,2,  2257.2,2,  2357.2,2,   7.5915,2,    25.00, -999.00,9,  -999.0,9,  -999.0,   0.3253,2, -999.00,9,  -999.0,9, -999.00,9, -999.00,9,     18.902,2,    4.86,2,  -999.0,9,     -999.0,     -999.0,9,     -999.0,9,     -999.0,     -999.0,9,     -999.0,     -999.0,9,     -999.0,     -999.0,       4.86,2,       1.93,2,       1.93,2,     -999.0,9,     -999.0,9,     -999.0,9,     -999.0,9,     -999.0,9
33RO20161119,        P18,     196,          1,         10,      11109,2,20170122,       2108,   -63.9997,  -102.9998,       5001,  1811.0,   1.4731,  34.7318,2,  34.7303,2,    192.7,2,   192.9,2,   100.1,2,    31.8,2,    0.01,2,   2.183,2,   0.1455,2,   0.0701,2,   0.0000,2,  2253.5,2,  2357.4,2,   7.5923,2,    25.00, -999.00,9,  -999.0,9,  -999.0,   0.5066,2, -999.00,9,  -999.0,9, -999.00,9, -999.00,9,    18.9877,2,    4.87,2,  -999.0,9,     -999.0,     -999.0,9,     -999.0,9,     -999.0,     -999.0,9,     -999.0,     -999.0,9,     -999.0,     -999.0,       4.87,2,       1.92,2,       1.92,2,     -999.0,9,     -999.0,9,     -999.0,9,     -999.0,9,     -999.0,9
33RO20161119,        P18,     196,          1,         11,      11110,2,20170122,       2108,   -63.9997,  -102.9998,       5001,  1627.4,   1.6144,  34.7326,2,  34.7313,2,    190.7,2,   190.5,2,    96.0,2,    31.8,2,    0.01,2,   2.171,2,   0.1543,2,   0.0746,2,   0.0000,2,  2254.2,2,  2355.3,2,   7.5910,2,    25.00, -999.00,9,  -999.0,9,  -999.0,    0.521,2, -999.00,9,  -999.0,9, -999.00,9, -999.00,9,    19.2587,2,    4.88,2,  -999.0,9,     -999.0,     -999.0,9,     -999.0,9,     -999.0,     -999.0,9,     -999.0,     -999.0,9,     -999.0,     -999.0,       4.88,2,       2.02,2,       2.02,2,     -999.0,9,     -999.0,9,     -999.0,9,     -999.0,9,     -999.0,9
33RO20161119,        P18,     196,          1,         12,      11111,2,20170122,       2108,   -63.9997,  -102.9998,       5001,  1445.5,   1.7772,  34.7309,2,  34.7307,2,    188.1,2,   187.7,2,    91.1,2,    31.8,2,    0.01,2,   2.181,2,   0.1814,2,   0.0895,2,   0.0000,2,  2252.6,2,  2358.0,2,   7.5885,2,    25.00, -999.00,9,  -999.0,9,  -999.0,   0.8174,2, -999.00,9,  -999.0,9, -999.00,9, -999.00,9,    19.5769,2,    4.89,2,  -999.0,9,     -999.0,     -999.0,9,     -999.0,9,     -999.0,     -999.0,9,     -999.0,     -999.0,9,     -999.0,     -999.0,       4.89,2,       1.95,2,       1.95,2,     -999.0,9,     -999.0,9,     -999.0,9,     -999.0,9,     -999.0,9
33RO20161119,        P18,     196,          1,         13,      11112,2,20170122,       2108,   -63.9997,  -102.9998,       5001,  1256.0,   1.9326,  34.7213,2,  34.7204,2,    184.6,2,   184.0,2,    87.0,2,    31.9,2,    0.01,2,   2.184,2,   0.2133,2,   0.1042,2,   0.0533,2,  2253.3,2,  2349.5,2,   7.5823,2,    25.00, -999.00,9,  -999.0,9,  -999.0,   1.2535,2, -999.00,9,  -999.0,9, -999.00,9, -999.00,9,    19.8957,2,     4.9,2,  -999.0,9,     -999.0,     -999.0,9,     -999.0,9,     -999.0,     -999.0,9,     -999.0,     -999.0,9,     -999.0,     -999.0,        4.9,2,       2.01,2,       2.01,2,     -999.0,9,     -999.0,9,     -999.0,9,     -999.0,9,     -999.0,9
33RO20161119,        P18,     196,          1,         14,      11113,2,20170122,       2108,   -63.9997,  -102.9998,       5001,  1102.3,   2.0417,  34.7045,2,  34.7026,2,    180.2,2,   179.7,2,    84.0,2,    32.4,2,    0.01,2,   2.224,2,   0.2729,2,   0.1368,2,   0.0694,2,  2253.7,2,  2350.6,2,   7.5714,2,    25.00, -999.00,9,  -999.0,9,  -999.0,   1.3536,2, -999.00,9,  -999.0,9, -999.00,9, -999.00,9,    20.5426,2,     4.9,2,  -999.0,9,     -999.0,     -999.0,9,     -999.0,9,     -999.0,     -999.0,9,     -999.0,     -999.0,9,     -999.0,     -999.0,        4.9,2,       1.95,2,       1.95,2,     -999.0,9,     -999.0,9,     -999.0,9,     -999.0,9,     -999.0,9
33RO20161119,        P18,     196,          1,         15,      11114,2,20170122,       2108,   -63.9997,  -102.9998,       5001,   952.4,   2.1366,  34.6784,2,  34.6770,2,    175.8,2,   175.8,2,    81.4,2,    33.0,2,    0.01,2,   2.262,2,   0.3500,2,   0.1742,2,   0.0938,2,  2253.1,2,  2346.5,2,   7.5642,2,    25.00, -999.00,9,  -999.0,9,  -999.0,   1.6186,2, -999.00,9,  -999.0,9, -999.00,9, -999.00,9,    21.0352,2,    4.92,2,  -999.0,9,     -999.0,     -999.0,9,     -999.0,9,     -999.0,     -999.0,9,     -999.0,     -999.0,9,     -999.0,     -999.0,       4.92,2,       2.08,2,       2.08,2,     -999.0,9,     -999.0,9,     -999.0,9,     -999.0,9,     -999.0,9
33RO20161119,        P18,     196,          1,         16,      11115,2,20170122,       2108,   -63.9997,  -102.9998,       5001,   795.1,   2.2211,  34.6378,2,  34.6363,2,    172.7,2,   173.1,2,    78.7,2,    33.7,2,    0.01,2,   2.318,2,   0.4751,2,   0.2382,2,   0.1611,2,  2256.1,2,  2339.3,6,   7.5504,2,    25.00, -999.00,9,  -999.0,9,  -999.0,   3.0047,2, -999.00,9,  -999.0,9, -999.00,9, -999.00,9,    21.7803,2,    4.96,2,  -999.0,9,     -999.0,     -999.0,9,     -999.0,9,     -999.0,     -999.0,9,     -999.0,     -999.0,9,     -999.0,     -999.0,       4.96,2,       1.91,2,       1.91,2,     -999.0,9,     -999.0,9,     -999.0,9,     -999.0,9,     -999.0,9
33RO20161119,        P18,     196,          1,         17,      11116,2,20170122,       2108,   -63.9997,  -102.9998,       5001,   655.0,   2.3033,  34.5859,2,  34.5849,2,    172.9,2,   171.9,2,    75.0,2,    34.4,2,    0.02,2,   2.362,2,   0.6798,2,   0.3421,2,   0.1966,2,  2251.4,6,  2336.9,2,   7.5434,2,    25.00, -999.00,9,  -999.0,9,  -999.0,   6.3195,2, -999.00,9,  -999.0,9, -999.00,9, -999.00,9,    22.3457,2,     5.0,2,  -999.0,9,     -999.0,     -999.0,9,     -999.0,9,     -999.0,     -999.0,9,     -999.0,     -999.0,9,     -999.0,     -999.0,        5.0,2,       1.94,2,       1.94,2,     -999.0,9,     -999.0,9,     -999.0,9,     -999.0,9,     -999.0,9
33RO20161119,        P18,     196,          1,         18,      11117,2,20170122,       2108,   -63.9997,  -102.9998,       5001,   511.5,   2.3631,  34.5182,2,  34.5171,2,    177.8,2,   175.9,2,    69.6,2,    34.6,2,    0.02,2,   2.372,2,   1.0505,2,   0.5267,2,   0.3204,2,  2248.7,2,  2329.2,2,   7.5398,2,    25.00, -999.00,9,  -999.0,9,  -999.0,   5.8882,2, -999.00,9,  -999.0,9, -999.00,9, -999.00,9,    22.6447,2,    5.07,2,  -999.0,9,     -999.0,     -999.0,9,     -999.0,9,     -999.0,     -999.0,9,     -999.0,     -999.0,9,     -999.0,     -999.0,       5.07,2,       2.03,2,       2.03,2,     -999.0,9,     -999.0,9,     -999.0,9,     -999.0,9,     -999.0,9
33RO20161119,        P18,     196,          1,         19,      11083,2,20170122,       2108,   -63.9997,  -102.9998,       5001,   386.2,   2.4288,  34.4307,2,  34.4284,2,    186.9,2,   186.0,2,    62.2,2,    34.9,2,    0.02,2,   2.380,2,   1.5598,6,   0.8015,6,   0.5331,6,  2240.5,2,  2326.6,2,   7.5421,2,    25.00, -999.00,9,  -999.0,9,  -999.0,   6.4373,2, -999.00,9,  -999.0,9, -999.00,9, -999.00,9,    22.7127,2,    5.12,2,  -999.0,9,     -999.0,     -999.0,9,     -999.0,9,     -999.0,     -999.0,9,     -999.0,     -999.0,9,     -999.0,     -999.0,       5.12,2,       2.06,2,       1.79,2,     -999.0,9,     -999.0,9,     -999.0,9,     -999.0,9,     -999.0,9
33RO20161119,        P18,     196,          1,         20,      11118,2,20170122,       2108,   -63.9997,  -102.9998,       5001,   265.3,   2.1317,  34.2616,2,  34.2594,2,    223.6,2,   222.6,2,    49.3,2,    33.6,2,    0.02,2,   2.305,2,   2.9186,2,   1.5447,2,   1.2902,2,  2219.7,2,  2305.1,2,   7.5601,2,    25.00, -999.00,9,  -999.0,9,  -999.0,   0.5033,2, -999.00,9,  -999.0,9, -999.00,9, -999.00,9,    21.4333,2,    5.22,2,  -999.0,9,     -999.0,     -999.0,9,     -999.0,9,     -999.0,     -999.0,9,     -999.0,     -999.0,9,     -999.0,     -999.0,        5.2,2,       2.13,2,       2.05,2,     -999.0,9,     -999.0,9,     -999.0,9,     -999.0,9,     -999.0,9
33RO20161119,        P18,     196,          1,         21,      11119,2,20170122,       2108,   -63.9997,  -102.9998,       5001,   158.6,   0.9903,  33.9981,2,  33.9964,2,    302.4,2,   308.6,2,    29.6,2,    29.1,2,    0.18,2,   1.994,2,   5.0999,2,   2.7615,2,   2.9698,2,  2173.0,2,  2290.1,6,   7.6408,2,    25.00, -999.00,9,  -999.0,9,  -999.0,   0.4776,2, -999.00,9,  -999.0,9, -999.00,9, -999.00,9,    15.6447,2,    5.65,2,  -999.0,9,     -999.0,     -999.0,9,     -999.0,9,     -999.0,     -999.0,9,     -999.0,     -999.0,9,     -999.0,     -999.0,       5.61,2,       2.88,2,       2.61,2,     -999.0,9,     -999.0,9,     -999.0,9,     -999.0,9,     -999.0,9
33RO20161119,        P18,     196,          1,         22,      11120,2,20170122,       2108,   -63.9997,  -102.9998,       5001,    74.5,   1.0477,  33.8832,2,  33.8829,2,    335.2,2,   336.5,2,    22.2,2,    26.3,2,    0.19,2,   1.893,2,   5.5338,2,   3.0186,2,   3.3869,2,  2154.4,2,  2279.4,2,   7.6844,2,    25.00, -999.00,9,  -999.0,9,  -999.0,   0.4179,2, -999.00,9,  -999.0,9, -999.00,9, -999.00,9,    14.4165,2,    6.48,2,  -999.0,9,     -999.0,     -999.0,9,     -999.0,9,     -999.0,     -999.0,9,     -999.0,     -999.0,9,     -999.0,     -999.0,       6.15,2,       3.31,2,       3.12,2,     -999.0,9,     -999.0,9,     -999.0,9,     -999.0,9,     -999.0,9
33RO20161119,        P18,     196,          1,         23,      11121,2,20170122,       2108,   -63.9997,  -102.9998,       5001,    29.9,   3.0213,  33.8478,2,  33.8468,2,    327.3,2,   327.8,2,    14.2,2,    24.6,2,    0.25,2,   1.673,2,   5.1960,2,   2.8689,2,   3.2456,2,  2142.0,6,  2277.7,2,   7.7108,6,    25.00, -999.00,9,  -999.0,9,  -999.0,     0.39,2, -999.00,9,  -999.0,9, -999.00,9, -999.00,9,     13.607,2,    7.65,2,  -999.0,9,     -999.0,     -999.0,9,     -999.0,9,     -999.0,     -999.0,9,     -999.0,     -999.0,9,     -999.0,     -999.0,       6.84,2,       3.58,2,       3.15,2,     -999.0,9,     -999.0,9,     -999.0,9,     -999.0,9,     -999.0,9
33RO20161119,        P18,     196,          1,         24,      11122,2,20170122,       2108,   -63.9997,  -102.9998,       5001,     3.4,   3.0676,  33.8477,2,  33.8479,2,    326.1,2,   327.3,2,    14.1,2,    24.6,2,    0.25,2,   1.681,2,   5.1878,2,   2.8468,2,   3.3106,2,  2143.9,2,  2278.4,2,   7.7111,2,    25.00, -999.00,9,  -999.0,9,  -999.0,   0.3146,2, -999.00,9,  -999.0,9, -999.00,9, -999.00,9,    13.6746,2,    7.66,2,  -999.0,9,     -999.0,     -999.0,9,     -999.0,9,     -999.0,     -999.0,9,     -999.0,     -999.0,9,     -999.0,     -999.0,       6.87,2,       3.58,2,       3.19,2,     -999.0,9,     -999.0,9,     -999.0,9,     -999.0,9,     -999.0,9