BOTTLE,20230606CCHSIOCBG
EXPOCODE,SECT_ID,STNNBR,CASTNO,SAMPNO,BTLNBR,BTLNBR_FLAG_W,DATE,TIME,LATITUDE,LONGITUDE,DEPTH,CTDPRS,CTDTMP,CTDSAL,CTDSAL_FLAG_W,SALNTY,SALNTY_FLAG_W,CTDOXY,CTDOXY_FLAG_W,OXYGEN,OXYGEN_FLAG_W,SILCAT,SILCAT_FLAG_W,NITRAT,NITRAT_FLAG_W,NITRIT,NITRIT_FLAG_W,PHSPHT,PHSPHT_FLAG_W,CFC-11,CFC-11_FLAG_W,CFC-12,CFC-12_FLAG_W,SF6,SF6_FLAG_W,TCARBN,TCARBN_FLAG_W,ALKALI,ALKALI_FLAG_W,PH_SWS,PH_SWS_FLAG_W,PH_TMP,DELC13,DELC13_FLAG_W,DELC14,DELC14_FLAG_W,C14ERR,CCL4,CCL4_FLAG_W,POC,POC_FLAG_W,DOC,DOC_FLAG_W,TDN,TDN_FLAG_W,PON,PON_FLAG_W,N2O,N2O_FLAG_W,D15N_NO3,D15N_NO3_FLAG_W,14C-DOC,14C-DOC_FLAG_W,14C-DOCERR,13C-DOC,13C-DOC_FLAG_W,N2/ARGON_UNSTRIPPED,N2/ARGON_UNSTRIPPED_FLAG_W,N2/ARGON_UNSTRIPPED_ERROR,N2/ARGON,N2/ARGON_FLAG_W,N2/ARGON_ERROR,D15N_N2,D15N_N2_FLAG_W,D15N_N2_ERROR,D15N_NO3_ERROR,D15N_NO2+NO3,D15N_NO2+NO3_FLAG_W,D18O_NO2+NO3,D18O_NO2+NO3_FLAG_W,D18O_NO3,D18O_NO3_FLAG_W,TDP,TDP_FLAG_W,N2O_ALT_1,N2O_ALT_1_FLAG_W,D15N_N2O,D15N_N2O_FLAG_W,D18O_N2O,D18O_N2O_FLAG_W,D15N_ALPHA_N2O,D15N_ALPHA_N2O_FLAG_W
,,,,,,,,,,,METERS,DBAR,ITS-90,PSS-78,,PSS-78,,UMOL/KG,,UMOL/KG,,UMOL/KG,,UMOL/KG,,UMOL/KG,,UMOL/KG,,PMOL/KG,,PMOL/KG,,FMOL/KG,,UMOL/KG,,UMOL/KG,,,,DEG C,/MILLE,,/MILLE,,/MILLE,PMOL/KG,,UG/KG,,UMOL/KG,,UMOL/KG,,UG/KG,,NMOL/KG,,/MILLE,,/MILLE,,/MILLE,/MILLE,,,,,,,,/MILLE,,/MILLE,/MILLE,/MILLE,,/MILLE,,/MILLE,,UMOL/KG,,NMOL/L,,/MILLE,,/MILLE,,/MILLE,
33RO20161119,        P18,     129,          2,          1,      11010,2,20170104,       1025,   -30.4997,  -103.0003,       3498,  3551.9,   1.8164,  34.6890,2,  34.6905,2,    166.5,2,   167.3,2,   116.5,6,    34.3,6,    0.01,6,   2.374,6,   0.0036,2,   0.0015,2,   0.0000,2,  2296.1,6,  2391.9,6,   7.5851,2,    25.00, -999.00,9,  -999.0,9,  -999.0,   0.2962,2, -999.00,9,    35.4,2,   35.80,2, -999.00,9,    20.4921,2, -999.00,9,  -999.0,9,     -999.0,     -999.0,9,     -999.0,9,     -999.0,     -999.0,9,     -999.0,     -999.0,9,     -999.0,     -999.0,     -999.0,9,     -999.0,9,     -999.0,9,     -999.0,9,     -999.0,9,     -999.0,9,     -999.0,9,     -999.0,9
33RO20161119,        P18,     129,          2,          2,      11101,2,20170104,       1025,   -30.4997,  -103.0003,       3498,  3301.2,   1.7942,  34.6886,2,  34.6907,2,    166.0,2,   166.3,6,   116.6,6,    34.3,6,    0.01,6,   2.367,6,-999.0000,9,-999.0000,9,-999.0000,9,  2294.8,2,  2390.1,2,   7.5838,2,    25.00, -999.00,9,  -999.0,9,  -999.0,-999.0000,9, -999.00,9,    37.8,2,   36.80,2, -999.00,9,     -999.0,9, -999.00,9,  -999.0,9,     -999.0,     -999.0,9,     -999.0,9,     -999.0,     -999.0,9,     -999.0,     -999.0,9,     -999.0,     -999.0,     -999.0,9,     -999.0,9,     -999.0,9,     -999.0,9,     -999.0,9,     -999.0,9,     -999.0,9,     -999.0,9
33RO20161119,        P18,     129,          2,          3,      11102,2,20170104,       1025,   -30.4997,  -103.0003,       3498,  3050.5,   1.7872,  34.6860,2,  34.6929,4,    165.2,2,   165.6,2,   116.9,6,    34.5,6,    0.00,6,   2.379,6,-999.0000,9,-999.0000,9,-999.0000,9,  2292.9,2,  2388.5,2,   7.5822,2,    25.00, -999.00,9,  -999.0,9,  -999.0,-999.0000,9, -999.00,9,    36.1,2,   35.70,2, -999.00,9,     -999.0,9, -999.00,9,  -999.0,9,     -999.0,     -999.0,9,     -999.0,9,     -999.0,     -999.0,9,     -999.0,     -999.0,9,     -999.0,     -999.0,     -999.0,9,     -999.0,9,     -999.0,9,     -999.0,9,     -999.0,9,     -999.0,9,     -999.0,9,     -999.0,9
33RO20161119,        P18,     129,          2,          4,      11103,2,20170104,       1025,   -30.4997,  -103.0003,       3498,  2774.4,   1.7838,  34.6814,2,  34.6801,2,    164.1,2,   164.9,2,   116.9,6,    34.6,6,    0.01,6,   2.392,6,   0.0041,2,   0.0028,2,   0.0000,2,  2294.4,2,  2388.8,2,   7.5788,2,    25.00, -999.00,9,  -999.0,9,  -999.0,   0.8921,2, -999.00,9,    36.4,2,   37.00,2, -999.00,9,     20.985,2, -999.00,9,  -999.0,9,     -999.0,     -999.0,9,     -999.0,9,     -999.0,     -999.0,9,     -999.0,     -999.0,9,     -999.0,     -999.0,     -999.0,9,     -999.0,9,     -999.0,9,     -999.0,9,     -999.0,9,     -999.0,9,     -999.0,9,     -999.0,9
33RO20161119,        P18,     129,          2,          5,      11104,2,20170104,       1025,   -30.4997,  -103.0003,       3498,  2500.0,   1.8079,  34.6727,2,  34.6706,2,    161.4,2,   162.2,2,   117.2,2,    34.8,2,    0.01,2,   2.405,2,-999.0000,9,-999.0000,9,-999.0000,9,  2295.6,2,  2386.4,2,   7.5752,6,    25.00, -999.00,9,  -999.0,9,  -999.0,-999.0000,9, -999.00,9,    37.9,2,   37.40,2, -999.00,9,     -999.0,9, -999.00,9,  -999.0,9,     -999.0,     -999.0,9,     -999.0,9,     -999.0,     -999.0,9,     -999.0,     -999.0,9,     -999.0,     -999.0,     -999.0,9,     -999.0,9,     -999.0,9,     -999.0,9,     -999.0,9,     -999.0,9,     -999.0,9,     -999.0,9
33RO20161119,        P18,     129,          2,          6,      11105,2,20170104,       1025,   -30.4997,  -103.0003,       3498,  2220.0,   1.9210,  34.6606,2,  34.6608,2,    158.4,2,   159.9,2,   112.7,2,    34.9,2,    0.00,2,   2.414,2,-999.0000,9,-999.0000,9,-999.0000,9,  2292.3,2,  2381.1,2,   7.5693,2,    25.00, -999.00,9,  -999.0,9,  -999.0,-999.0000,9, -999.00,9,    37.6,2,   37.50,2, -999.00,9,     -999.0,9, -999.00,9,  -999.0,9,     -999.0,     -999.0,9,     -999.0,9,     -999.0,     -999.0,9,     -999.0,     -999.0,9,     -999.0,     -999.0,     -999.0,9,     -999.0,9,     -999.0,9,     -999.0,9,     -999.0,9,     -999.0,9,     -999.0,9,     -999.0,9
33RO20161119,        P18,     129,          2,          7,      11106,2,20170104,       1025,   -30.4997,  -103.0003,       3498,  1940.4,   2.1597,  34.6337,2,  34.6343,2,    156.2,2,   158.2,2,   102.9,2,    35.1,2,    0.00,2,   2.427,2,-999.0000,9,-999.0000,9,-999.0000,9,  2285.6,2,  2371.1,2,   7.5591,2,    25.00, -999.00,9,  -999.0,9,  -999.0,-999.0000,9, -999.00,9,    36.3,2,   41.60,2, -999.00,9,     -999.0,9, -999.00,9,  -999.0,9,     -999.0,     -999.0,9,     -999.0,9,     -999.0,     -999.0,9,     -999.0,     -999.0,9,     -999.0,     -999.0,     -999.0,9,     -999.0,9,     -999.0,9,     -999.0,9,     -999.0,9,     -999.0,9,     -999.0,9,     -999.0,9
33RO20161119,        P18,     129,          2,          8,      11107,2,20170104,       1025,   -30.4997,  -103.0003,       3498,  1660.6,   2.5503,  34.5802,2,  34.5779,2,    149.6,2,   150.2,2,    91.8,2,    35.8,2,    0.00,2,   2.485,2,-999.0000,9,-999.0000,9,-999.0000,9,  2280.6,2,  2357.6,2,   7.5418,2,    25.00, -999.00,9,  -999.0,9,  -999.0,-999.0000,9, -999.00,9,    37.9,2,   40.20,2, -999.00,9,     -999.0,9, -999.00,9,  -999.0,9,     -999.0,     -999.0,9,     -999.0,9,     -999.0,     -999.0,9,     -999.0,     -999.0,9,     -999.0,     -999.0,     -999.0,9,     -999.0,9,     -999.0,9,     -999.0,9,     -999.0,9,     -999.0,9,     -999.0,9,     -999.0,9
33RO20161119,        P18,     129,          2,          9,      11108,2,20170104,       1025,   -30.4997,  -103.0003,       3498,  1379.6,   3.1981,  34.5269,2,  34.5251,2,    128.6,2,   129.2,2,    81.2,2,    37.7,2,    0.00,2,   2.619,2,   0.0047,6,   0.0026,6,   0.0000,6,  2280.6,2,  2349.0,2,   7.5095,2,    25.00, -999.00,9,  -999.0,9,  -999.0,   1.6918,2, -999.00,9,    38.5,2,   42.00,2, -999.00,9,    27.1041,2, -999.00,9,  -999.0,9,     -999.0,     -999.0,9,     -999.0,9,     -999.0,     -999.0,9,     -999.0,     -999.0,9,     -999.0,     -999.0,     -999.0,9,     -999.0,9,     -999.0,9,     -999.0,9,     -999.0,9,     -999.0,9,     -999.0,9,     -999.0,9
33RO20161119,        P18,     129,          2,         10,      11109,2,20170104,       1025,   -30.4997,  -103.0003,       3498,  1218.2,   3.6199,  34.4844,2,  34.4872,2,    119.8,2,   120.2,2,    70.7,2,    38.5,2,    0.01,2,   2.666,2,   0.0166,2,   0.0102,2,   0.0000,2,  2276.1,2,  2336.8,2,   7.4895,2,    25.00, -999.00,9,  -999.0,9,  -999.0,   2.5678,2, -999.00,9,    38.9,2,   41.90,2, -999.00,9,     29.659,2, -999.00,9,  -999.0,9,     -999.0,     -999.0,9,     -999.0,9,     -999.0,     -999.0,9,     -999.0,     -999.0,9,     -999.0,     -999.0,     -999.0,9,     -999.0,9,     -999.0,9,     -999.0,9,     -999.0,9,     -999.0,9,     -999.0,9,     -999.0,9
33RO20161119,        P18,     129,          2,         11,      11110,2,20170104,       1025,   -30.4997,  -103.0003,       3498,  1091.6,   3.8733,  34.4121,2,  34.4122,2,    139.6,2,   139.6,2,    54.1,2,    37.1,2,    0.00,2,   2.558,2,   0.1328,2,   0.0696,2,   0.0266,2,  2252.0,2,  2318.1,2,   7.5095,2,    25.00, -999.00,9,  -999.0,9,  -999.0,   1.7139,2, -999.00,9,    39.5,2,   40.20,2, -999.00,9,    27.5737,2, -999.00,9,  -999.0,9,     -999.0,     -999.0,9,     -999.0,9,     -999.0,     -999.0,9,     -999.0,     -999.0,9,     -999.0,     -999.0,     -999.0,9,     -999.0,9,     -999.0,9,     -999.0,9,     -999.0,9,     -999.0,9,     -999.0,9,     -999.0,9
33RO20161119,        P18,     129,          2,         12,      11111,2,20170104,       1025,   -30.4997,  -103.0003,       3498,   970.0,   4.2744,  34.3327,2,  34.3388,2,    171.2,2,   171.8,2,    36.2,2,    34.1,2,    0.00,2,   2.353,2,   0.6721,2,   0.3322,2,   0.1176,2,  2216.8,2,  2295.6,2,   7.5577,2,    25.00, -999.00,9,  -999.0,9,  -999.0,   0.9989,2, -999.00,9,    39.4,2,   37.20,2, -999.00,9,    24.4037,2, -999.00,9,  -999.0,9,     -999.0,     -999.0,9,     -999.0,9,     -999.0,     -999.0,9,     -999.0,     -999.0,9,     -999.0,     -999.0,     -999.0,9,     -999.0,9,     -999.0,9,     -999.0,9,     -999.0,9,     -999.0,9,     -999.0,9,     -999.0,9
33RO20161119,        P18,     129,          2,         13,      11112,2,20170104,       1025,   -30.4997,  -103.0003,       3498,   850.1,   4.8822,  34.2769,2,  34.2760,2,    208.0,2,   207.8,2,    21.0,2,    30.2,2,    0.01,2,   2.071,2,   1.9398,2,   0.9409,2,   0.3053,2,  2182.5,2,  2282.5,6,   7.6167,2,    25.00, -999.00,9,  -999.0,9,  -999.0,   0.7057,2, -999.00,9,    40.8,2,   33.70,2, -999.00,9,    20.7165,2, -999.00,9,  -999.0,9,     -999.0,     -999.0,9,     -999.0,9,     -999.0,     -999.0,9,     -999.0,     -999.0,9,     -999.0,     -999.0,     -999.0,9,     -999.0,9,     -999.0,9,     -999.0,9,     -999.0,9,     -999.0,9,     -999.0,9,     -999.0,9
33RO20161119,        P18,     129,          2,         14,      11113,2,20170104,       1025,   -30.4997,  -103.0003,       3498,   735.3,   5.3928,  34.2580,2,  34.2618,2,    230.7,2,   232.6,2,    12.8,2,    26.9,2,    0.01,2,   1.831,2,-999.0000,9,-999.0000,9,-999.0000,9,  2162.4,2,  2278.2,2,   7.6634,2,    25.00, -999.00,9,  -999.0,9,  -999.0,-999.0000,9, -999.00,9,    40.5,2,   28.60,2, -999.00,9,     -999.0,9, -999.00,9,  -999.0,9,     -999.0,     -999.0,9,     -999.0,9,     -999.0,     -999.0,9,     -999.0,     -999.0,9,     -999.0,     -999.0,     -999.0,9,     -999.0,9,     -999.0,9,     -999.0,9,     -999.0,9,     -999.0,9,     -999.0,9,     -999.0,9
33RO20161119,        P18,     129,          2,         15,      11114,2,20170104,       1025,   -30.4997,  -103.0003,       3498,   624.1,   5.9192,  34.2737,2,  34.2716,2,    243.6,2,   244.3,2,     9.3,2,    24.6,2,    0.00,2,   1.685,2,   3.8147,2,   1.9608,2,   1.0257,2,  2150.0,2,  2275.4,2,   7.6858,6,    25.00, -999.00,9,  -999.0,9,  -999.0,    1.884,2, -999.00,9,    41.0,2,   25.50,2, -999.00,9,    16.4419,2, -999.00,9,  -999.0,9,     -999.0,     -999.0,9,     -999.0,9,     -999.0,     -999.0,9,     -999.0,     -999.0,9,     -999.0,     -999.0,     -999.0,9,     -999.0,9,     -999.0,9,     -999.0,9,     -999.0,9,     -999.0,9,     -999.0,9,     -999.0,9
33RO20161119,        P18,     129,          2,         16,      11115,2,20170104,       1025,   -30.4997,  -103.0003,       3498,   520.1,   6.4336,  34.3003,2,  34.2981,2,    245.1,2,   246.1,2,     7.5,2,    23.2,2,    0.01,2,   1.595,2,   3.9940,2,   2.1248,2,   1.2794,2,  2147.4,6,  2275.3,2,   7.6901,2,    25.00, -999.00,9,  -999.0,9,  -999.0,   1.9119,2, -999.00,9,    42.8,2,   25.40,2, -999.00,9,    16.8023,2, -999.00,9,  -999.0,9,     -999.0,     -999.0,9,     -999.0,9,     -999.0,     -999.0,9,     -999.0,     -999.0,9,     -999.0,     -999.0,     -999.0,9,     -999.0,9,     -999.0,9,     -999.0,9,     -999.0,9,     -999.0,9,     -999.0,9,     -999.0,9
33RO20161119,        P18,     129,          2,         17,      11116,2,20170104,       1025,   -30.4997,  -103.0003,       3498,   424.6,   7.3795,  34.2987,2,  34.2957,2,    206.2,2,   204.0,2,     7.9,2,    24.4,2,    0.01,2,   1.733,2,   3.5763,2,   1.9056,2,   1.1737,2,  2163.7,2,  2269.8,2,   7.6385,2,    25.00, -999.00,9,  -999.0,9,  -999.0,    1.863,2, -999.00,9,    42.3,2,   26.00,2, -999.00,9,    26.3372,2, -999.00,9,  -999.0,9,     -999.0,     -999.0,9,     -999.0,9,     -999.0,     -999.0,9,     -999.0,     -999.0,9,     -999.0,     -999.0,     -999.0,9,     -999.0,9,     -999.0,9,     -999.0,9,     -999.0,9,     -999.0,9,     -999.0,9,     -999.0,9
33RO20161119,        P18,     129,          2,         18,      11117,2,20170104,       1025,   -30.4997,  -103.0003,       3498,   323.3,   9.9082,  34.3256,2,  34.3445,3,    224.9,2,   223.1,2,     2.3,2,    16.0,2,    0.01,2,   1.218,2,   3.4980,2,   1.9643,2,   1.5503,2,  2121.9,2,  2264.6,2,   7.7425,2,    25.00, -999.00,9,  -999.0,9,  -999.0,   0.0044,2, -999.00,9,    44.6,2,   18.90,2, -999.00,9,    21.2713,2, -999.00,9,  -999.0,9,     -999.0,     -999.0,9,     -999.0,9,     -999.0,     -999.0,9,     -999.0,     -999.0,9,     -999.0,     -999.0,     -999.0,9,     -999.0,9,     -999.0,9,     -999.0,9,     -999.0,9,     -999.0,9,     -999.0,9,     -999.0,9
33RO20161119,        P18,     129,          2,         19,      11083,2,20170104,       1025,   -30.4997,  -103.0003,       3498,   250.2,  12.8360,  34.5181,2,  34.5163,2,    213.3,2,   213.4,2,     0.9,2,     9.3,2,    0.01,2,   0.803,2,   2.9686,2,   1.7471,2,   1.5840,2,  2099.1,2,  2272.8,2,   7.8113,2,    25.00, -999.00,9,  -999.0,9,  -999.0,   0.0087,2, -999.00,9,    47.5,2,   11.50,2, -999.00,9,    13.8631,2, -999.00,9,  -999.0,9,     -999.0,     -999.0,9,     -999.0,9,     -999.0,     -999.0,9,     -999.0,     -999.0,9,     -999.0,     -999.0,     -999.0,9,     -999.0,9,     -999.0,9,     -999.0,9,     -999.0,9,     -999.0,9,     -999.0,9,     -999.0,9
33RO20161119,        P18,     129,          2,         20,      11118,2,20170104,       1025,   -30.4997,  -103.0003,       3498,   180.8,  15.7104,  34.7225,2,  34.7210,2,    230.3,2,   230.5,2,     0.3,2,     1.3,2,    0.23,2,   0.323,2,-999.0000,9,-999.0000,9,-999.0000,9,  2060.9,2,  2286.6,2,   7.9119,2,    25.00, -999.00,9,  -999.0,9,  -999.0,-999.0000,9, -999.00,9,    55.0,2,    5.20,2, -999.00,9,     -999.0,9, -999.00,9,  -999.0,9,     -999.0,     -999.0,9,     -999.0,9,     -999.0,     -999.0,9,     -999.0,     -999.0,9,     -999.0,     -999.0,     -999.0,9,     -999.0,9,     -999.0,9,     -999.0,9,     -999.0,9,     -999.0,9,     -999.0,9,     -999.0,9
33RO20161119,        P18,     129,          2,         21,      11119,2,20170104,       1025,   -30.4997,  -103.0003,       3498,   115.9,  17.4216,  34.8608,2,  34.9398,2,    237.4,2,   241.1,2,     0.3,2,     0.0,2,    0.00,2,   0.134,2,   2.3275,2,   1.4187,2,   1.7719,2,  2044.4,2,  2297.7,2,   7.9630,2,    25.00, -999.00,9,  -999.0,9,  -999.0,    0.009,2, -999.00,9,    62.4,2,    2.90,2, -999.00,9,     8.0847,2, -999.00,9,  -999.0,9,     -999.0,     -999.0,9,     -999.0,9,     -999.0,     -999.0,9,     -999.0,     -999.0,9,     -999.0,     -999.0,     -999.0,9,     -999.0,9,     -999.0,9,     -999.0,9,     -999.0,9,     -999.0,9,     -999.0,9,     -999.0,9
33RO20161119,        P18,     129,          2,         22,      11120,2,20170104,       1025,   -30.4997,  -103.0003,       3498,    60.2,  19.5225,  35.3300,2,  35.3378,2,    234.4,2,   235.9,6,     0.3,2,     0.0,2,    0.00,2,   0.137,2,   2.1494,2,   1.3295,2,   1.6505,2,  2053.4,2,  2321.0,6,   7.9826,2,    25.00, -999.00,9,  -999.0,9,  -999.0,   0.0099,2, -999.00,9,    64.3,2,    2.90,2, -999.00,9,     7.5255,2, -999.00,9,  -999.0,9,     -999.0,     -999.0,9,     -999.0,9,     -999.0,     -999.0,9,     -999.0,     -999.0,9,     -999.0,     -999.0,     -999.0,9,     -999.0,9,     -999.0,9,     -999.0,9,     -999.0,9,     -999.0,9,     -999.0,9,     -999.0,9
33RO20161119,        P18,     129,          2,         23,      11121,2,20170104,       1025,   -30.4997,  -103.0003,       3498,    26.1,  22.1299,  35.2303,2,  35.3120,2,    218.0,2,   220.1,2,     0.3,2,     0.0,2,    0.00,2,   0.144,2,-999.0000,9,-999.0000,9,-999.0000,9,  2056.2,2,  2323.3,2,   7.9789,2,    25.00, -999.00,9,  -999.0,9,  -999.0,-999.0000,9, -999.00,9,    65.1,2,    2.90,2, -999.00,9,     -999.0,9, -999.00,9,  -999.0,9,     -999.0,     -999.0,9,     -999.0,9,     -999.0,     -999.0,9,     -999.0,     -999.0,9,     -999.0,     -999.0,     -999.0,9,     -999.0,9,     -999.0,9,     -999.0,9,     -999.0,9,     -999.0,9,     -999.0,9,     -999.0,9
33RO20161119,        P18,     129,          2,         24,      11122,2,20170104,       1025,   -30.4997,  -103.0003,       3498,     2.5,  22.2777,  35.3146,2,  35.3378,2,    217.6,2,   219.6,2,     0.4,2,     0.0,2,    0.01,2,   0.133,2,   1.8893,2,   1.1856,2,   1.5523,2,  2056.7,6,  2324.3,2,   7.9778,2,    25.00, -999.00,9,  -999.0,9,  -999.0,    0.007,2, -999.00,9,    64.3,2,    3.50,2, -999.00,9,     6.8866,2, -999.00,9,  -999.0,9,     -999.0,     -999.0,9,     -999.0,9,     -999.0,     -999.0,9,     -999.0,     -999.0,9,     -999.0,     -999.0,     -999.0,9,     -999.0,9,     -999.0,9,     -999.0,9,     -999.0,9,     -999.0,9,     -999.0,9,     -999.0,9