BOTTLE,20230606CCHSIOCBG
EXPOCODE,SECT_ID,STNNBR,CASTNO,SAMPNO,BTLNBR,BTLNBR_FLAG_W,DATE,TIME,LATITUDE,LONGITUDE,DEPTH,CTDPRS,CTDTMP,CTDSAL,CTDSAL_FLAG_W,SALNTY,SALNTY_FLAG_W,CTDOXY,CTDOXY_FLAG_W,OXYGEN,OXYGEN_FLAG_W,SILCAT,SILCAT_FLAG_W,NITRAT,NITRAT_FLAG_W,NITRIT,NITRIT_FLAG_W,PHSPHT,PHSPHT_FLAG_W,CFC-11,CFC-11_FLAG_W,CFC-12,CFC-12_FLAG_W,SF6,SF6_FLAG_W,TCARBN,TCARBN_FLAG_W,ALKALI,ALKALI_FLAG_W,PH_SWS,PH_SWS_FLAG_W,PH_TMP,DELC13,DELC13_FLAG_W,DELC14,DELC14_FLAG_W,C14ERR,CCL4,CCL4_FLAG_W,POC,POC_FLAG_W,DOC,DOC_FLAG_W,TDN,TDN_FLAG_W,PON,PON_FLAG_W,N2O,N2O_FLAG_W,D15N_NO3,D15N_NO3_FLAG_W,14C-DOC,14C-DOC_FLAG_W,14C-DOCERR,13C-DOC,13C-DOC_FLAG_W,N2/ARGON_UNSTRIPPED,N2/ARGON_UNSTRIPPED_FLAG_W,N2/ARGON_UNSTRIPPED_ERROR,N2/ARGON,N2/ARGON_FLAG_W,N2/ARGON_ERROR,D15N_N2,D15N_N2_FLAG_W,D15N_N2_ERROR,D15N_NO3_ERROR,D15N_NO2+NO3,D15N_NO2+NO3_FLAG_W,D18O_NO2+NO3,D18O_NO2+NO3_FLAG_W,D18O_NO3,D18O_NO3_FLAG_W,TDP,TDP_FLAG_W,N2O_ALT_1,N2O_ALT_1_FLAG_W,D15N_N2O,D15N_N2O_FLAG_W,D18O_N2O,D18O_N2O_FLAG_W,D15N_ALPHA_N2O,D15N_ALPHA_N2O_FLAG_W
,,,,,,,,,,,METERS,DBAR,ITS-90,PSS-78,,PSS-78,,UMOL/KG,,UMOL/KG,,UMOL/KG,,UMOL/KG,,UMOL/KG,,UMOL/KG,,PMOL/KG,,PMOL/KG,,FMOL/KG,,UMOL/KG,,UMOL/KG,,,,DEG C,/MILLE,,/MILLE,,/MILLE,PMOL/KG,,UG/KG,,UMOL/KG,,UMOL/KG,,UG/KG,,NMOL/KG,,/MILLE,,/MILLE,,/MILLE,/MILLE,,,,,,,,/MILLE,,/MILLE,/MILLE,/MILLE,,/MILLE,,/MILLE,,UMOL/KG,,NMOL/L,,/MILLE,,/MILLE,,/MILLE,
33RO20161119,        P18,      58,          1,          1,      11010,2,20161207,       2006,    -0.7428,  -109.9994,       3925,  3970.9,   1.4844,  34.6917,2,  34.6912,2,    155.9,2,   155.4,2,   143.6,6,    36.3,6,    0.01,6,   2.467,6,-999.0000,9,-999.0000,9,-999.0000,9,  -999.0,9,  -999.0,9,   7.5919,6,    25.00, -999.00,9,  -999.0,9,  -999.0,-999.0000,9, -999.00,9,  -999.0,9, -999.00,9, -999.00,9,     -999.0,9, -999.00,9,  -999.0,9,     -999.0,     -999.0,9,     -999.0,9,     -999.0,     -999.0,9,     -999.0,     -999.0,9,     -999.0,     -999.0,     -999.0,9,     -999.0,9,     -999.0,9,     -999.0,9,     -999.0,9,     -999.0,9,     -999.0,9,     -999.0,9
33RO20161119,        P18,      58,          1,          2,      11101,2,20161207,       2006,    -0.7428,  -109.9994,       3925,  3680.2,   1.4723,  34.6905,2,  34.6912,2,    153.7,2,   153.5,2,   143.6,6,    36.3,6,    0.01,6,   2.472,6,-999.0000,9,-999.0000,9,-999.0000,9,  -999.0,9,  -999.0,9,-999.0000,9,  -999.00, -999.00,9,  -999.0,9,  -999.0,-999.0000,9, -999.00,9,  -999.0,9, -999.00,9, -999.00,9,     -999.0,9, -999.00,9,  -999.0,9,     -999.0,     -999.0,9,     -999.0,9,     -999.0,     -999.0,9,     -999.0,     -999.0,9,     -999.0,     -999.0,     -999.0,9,     -999.0,9,     -999.0,9,     -999.0,9,     -999.0,9,     -999.0,9,     -999.0,9,     -999.0,9
33RO20161119,        P18,      58,          1,          3,      11102,2,20161207,       2006,    -0.7428,  -109.9994,       3925,  3400.8,   1.5707,  34.6832,2,  34.6919,4,    143.6,2,   143.4,2,   144.5,6,    37.0,6,    0.01,6,   2.527,6,-999.0000,9,-999.0000,9,-999.0000,9,  -999.0,9,  -999.0,9,-999.0000,9,  -999.00, -999.00,9,  -999.0,9,  -999.0,-999.0000,9, -999.00,9,  -999.0,9, -999.00,9, -999.00,9,     -999.0,9, -999.00,9,  -999.0,9,     -999.0,     -999.0,9,     -999.0,9,     -999.0,     -999.0,9,     -999.0,     -999.0,9,     -999.0,     -999.0,     -999.0,9,     -999.0,9,     -999.0,9,     -999.0,9,     -999.0,9,     -999.0,9,     -999.0,9,     -999.0,9
33RO20161119,        P18,      58,          1,          4,      11103,2,20161207,       2006,    -0.7428,  -109.9994,       3925,  3100.8,   1.6409,  34.6772,2,  34.6784,2,    137.9,2,   138.1,6,   143.0,6,    37.3,6,    0.01,6,   2.555,6,-999.0000,9,-999.0000,9,-999.0000,9,  -999.0,9,  -999.0,9,-999.0000,9,  -999.00, -999.00,9,  -999.0,9,  -999.0,-999.0000,9, -999.00,9,  -999.0,9, -999.00,9, -999.00,9,     -999.0,9, -999.00,9,  -999.0,9,     -999.0,     -999.0,9,     -999.0,9,     -999.0,     -999.0,9,     -999.0,     -999.0,9,     -999.0,     -999.0,     -999.0,9,     -999.0,9,     -999.0,9,     -999.0,9,     -999.0,9,     -999.0,9,     -999.0,9,     -999.0,9
33RO20161119,        P18,      58,          1,          5,      11104,2,20161207,       2006,    -0.7428,  -109.9994,       3925,  2800.3,   1.7459,  34.6704,2,  34.6703,2,    130.6,2,   130.7,6,   142.1,2,    37.6,2,    0.00,2,   2.598,2,-999.0000,9,-999.0000,9,-999.0000,9,  -999.0,9,  -999.0,9,-999.0000,9,  -999.00, -999.00,9,  -999.0,9,  -999.0,-999.0000,9, -999.00,9,  -999.0,9, -999.00,9, -999.00,9,     -999.0,9, -999.00,9,  -999.0,9,     -999.0,     -999.0,9,     -999.0,9,     -999.0,     -999.0,9,     -999.0,     -999.0,9,     -999.0,     -999.0,     -999.0,9,     -999.0,9,     -999.0,9,     -999.0,9,     -999.0,9,     -999.0,9,     -999.0,9,     -999.0,9
33RO20161119,        P18,      58,          1,          6,      11105,2,20161207,       2006,    -0.7428,  -109.9994,       3925,  2501.6,   1.8658,  34.6646,2,  34.6636,2,    122.1,2,   121.6,2,   142.8,2,    38.3,2,    0.00,2,   2.637,2,-999.0000,9,-999.0000,9,-999.0000,9,  -999.0,9,  -999.0,9,-999.0000,9,  -999.00, -999.00,9,  -999.0,9,  -999.0,-999.0000,9, -999.00,9,  -999.0,9, -999.00,9, -999.00,9,     -999.0,9, -999.00,9,  -999.0,9,     -999.0,     -999.0,9,     -999.0,9,     -999.0,     -999.0,9,     -999.0,     -999.0,9,     -999.0,     -999.0,     -999.0,9,     -999.0,9,     -999.0,9,     -999.0,9,     -999.0,9,     -999.0,9,     -999.0,9,     -999.0,9
33RO20161119,        P18,      58,          1,          7,      11106,2,20161207,       2006,    -0.7428,  -109.9994,       3925,  2199.7,   2.0297,  34.6558,2,  34.6580,2,    113.9,2,   113.7,2,   140.5,2,    38.6,2,    0.00,2,   2.688,2,-999.0000,9,-999.0000,9,-999.0000,9,  -999.0,9,  -999.0,9,-999.0000,9,  -999.00, -999.00,9,  -999.0,9,  -999.0,-999.0000,9, -999.00,9,  -999.0,9, -999.00,9, -999.00,9,     -999.0,9, -999.00,9,  -999.0,9,     -999.0,     -999.0,9,     -999.0,9,     -999.0,     -999.0,9,     -999.0,     -999.0,9,     -999.0,     -999.0,     -999.0,9,     -999.0,9,     -999.0,9,     -999.0,9,     -999.0,9,     -999.0,9,     -999.0,9,     -999.0,9
33RO20161119,        P18,      58,          1,          8,      11107,2,20161207,       2006,    -0.7428,  -109.9994,       3925,  1900.9,   2.3806,  34.6377,2,  34.6378,2,    101.0,2,   100.5,2,   134.9,2,    39.6,2,    0.00,2,   2.775,2,-999.0000,9,-999.0000,9,-999.0000,9,  -999.0,9,  -999.0,9,-999.0000,9,  -999.00, -999.00,9,  -999.0,9,  -999.0,-999.0000,9, -999.00,9,  -999.0,9, -999.00,9, -999.00,9,     -999.0,9, -999.00,9,  -999.0,9,     -999.0,     -999.0,9,     -999.0,9,     -999.0,     -999.0,9,     -999.0,     -999.0,9,     -999.0,     -999.0,     -999.0,9,     -999.0,9,     -999.0,9,     -999.0,9,     -999.0,9,     -999.0,9,     -999.0,9,     -999.0,9
33RO20161119,        P18,      58,          1,          9,      11108,2,20161207,       2006,    -0.7428,  -109.9994,       3925,  1559.2,   2.9325,  34.6081,2,  34.6080,2,     95.2,2,    94.9,6,   118.5,2,    40.0,2,    0.00,2,   2.806,2,-999.0000,9,-999.0000,9,-999.0000,9,  -999.0,9,  -999.0,9,-999.0000,9,  -999.00, -999.00,9,  -999.0,9,  -999.0,-999.0000,9, -999.00,9,  -999.0,9, -999.00,9, -999.00,9,     -999.0,9, -999.00,9,  -999.0,9,     -999.0,     -999.0,9,     -999.0,9,     -999.0,     -999.0,9,     -999.0,     -999.0,9,     -999.0,     -999.0,     -999.0,9,     -999.0,9,     -999.0,9,     -999.0,9,     -999.0,9,     -999.0,9,     -999.0,9,     -999.0,9
33RO20161119,        P18,      58,          1,         10,      11109,2,20161207,       2006,    -0.7428,  -109.9994,       3925,  1362.8,   3.3633,  34.5900,2,  34.5895,2,     90.2,2,    90.2,6,   108.6,2,    40.2,2,    0.00,2,   2.842,2,   0.0080,2,   0.0053,2,   0.0000,2,  2326.1,2,  2382.1,2,   7.4680,6,    25.00, -999.00,9,  -999.0,9,  -999.0,   0.0413,3, -999.00,9,  -999.0,9, -999.00,9, -999.00,9,    30.9756,2, -999.00,9,  -999.0,9,     -999.0,     -999.0,9,     -999.0,9,     -999.0,     -999.0,9,     -999.0,     -999.0,9,     -999.0,     -999.0,     -999.0,9,     -999.0,9,     -999.0,9,     -999.0,9,     -999.0,9,     -999.0,9,     -999.0,9,     -999.0,9
33RO20161119,        P18,      58,          1,         11,      11110,2,20161207,       2006,    -0.7428,  -109.9994,       3925,  1223.3,   3.7696,  34.5748,2,  34.5732,2,     87.8,2,    88.1,2,    98.5,2,    40.0,2,    0.00,2,   2.861,2,-999.0000,9,-999.0000,9,-999.0000,9,  -999.0,9,  -999.0,9,   7.4658,2,    25.00, -999.00,9,  -999.0,9,  -999.0,-999.0000,9, -999.00,9,  -999.0,9, -999.00,9, -999.00,9,     -999.0,9, -999.00,9,  -999.0,9,     -999.0,     -999.0,9,     -999.0,9,     -999.0,     -999.0,9,     -999.0,     -999.0,9,     -999.0,     -999.0,     -999.0,9,     -999.0,9,     -999.0,9,     -999.0,9,     -999.0,9,     -999.0,9,     -999.0,9,     -999.0,9
33RO20161119,        P18,      58,          1,         12,      11111,2,20161207,       2006,    -0.7428,  -109.9994,       3925,  1088.5,   4.2686,  34.5590,2,  34.5581,2,     86.7,2,    86.7,2,    86.7,2,    39.9,2,    0.01,2,   2.833,2,   0.0107,2,   0.0073,2,   0.0000,2,  2302.8,2,  2355.2,2,   7.4629,2,    25.00, -999.00,9,  -999.0,9,  -999.0,   0.0539,2, -999.00,9,  -999.0,9, -999.00,9, -999.00,9,    32.9674,2, -999.00,9,  -999.0,9,     -999.0,     -999.0,9,     -999.0,9,     -999.0,     -999.0,9,     -999.0,     -999.0,9,     -999.0,     -999.0,     -999.0,9,     -999.0,9,     -999.0,9,     -999.0,9,     -999.0,9,     -999.0,9,     -999.0,9,     -999.0,9
33RO20161119,        P18,      58,          1,         13,      11112,2,20161207,       2006,    -0.7428,  -109.9994,       3925,   959.9,   4.9410,  34.5480,2,  34.5468,2,     80.5,2,    80.3,2,    74.6,2,    39.8,2,    0.00,2,   2.809,2,-999.0000,9,-999.0000,9,-999.0000,9,  -999.0,9,  -999.0,9,   7.4558,2,    25.00, -999.00,9,  -999.0,9,  -999.0,-999.0000,9, -999.00,9,  -999.0,9, -999.00,9, -999.00,9,     -999.0,9, -999.00,9,  -999.0,9,     -999.0,     -999.0,9,     -999.0,9,     -999.0,     -999.0,9,     -999.0,     -999.0,9,     -999.0,     -999.0,     -999.0,9,     -999.0,9,     -999.0,9,     -999.0,9,     -999.0,9,     -999.0,9,     -999.0,9,     -999.0,9
33RO20161119,        P18,      58,          1,         14,      11113,2,20161207,       2006,    -0.7428,  -109.9994,       3925,   836.4,   5.3285,  34.5424,2,  34.5670,4,     83.7,2,    83.0,6,    66.0,2,    39.1,2,    0.01,2,   2.761,2,   0.0560,2,   0.0304,2,   0.0367,2,  2280.2,2,  2337.9,2,   7.4665,2,    25.00, -999.00,9,  -999.0,9,  -999.0,   0.0684,2, -999.00,9,  -999.0,9, -999.00,9, -999.00,9,    35.4806,2, -999.00,9,  -999.0,9,     -999.0,     -999.0,9,     -999.0,9,     -999.0,     -999.0,9,     -999.0,     -999.0,9,     -999.0,     -999.0,     -999.0,9,     -999.0,9,     -999.0,9,     -999.0,9,     -999.0,9,     -999.0,9,     -999.0,9,     -999.0,9
33RO20161119,        P18,      58,          1,         15,      11114,2,20161207,       2006,    -0.7428,  -109.9994,       3925,   711.8,   6.1748,  34.5523,2,  34.5540,2,     69.4,2,    68.8,6,    54.3,2,    39.7,2,    0.01,2,   2.764,2,-999.0000,9,-999.0000,9,-999.0000,9,  2273.2,2,  2321.8,2,   7.4451,2,    25.00, -999.00,9,  -999.0,9,  -999.0,-999.0000,9, -999.00,9,  -999.0,9, -999.00,9, -999.00,9,     -999.0,9, -999.00,9,  -999.0,9,     -999.0,     -999.0,9,     -999.0,9,     -999.0,     -999.0,9,     -999.0,     -999.0,9,     -999.0,     -999.0,     -999.0,9,     -999.0,9,     -999.0,9,     -999.0,9,     -999.0,9,     -999.0,9,     -999.0,9,     -999.0,9
33RO20161119,        P18,      58,          1,         16,      11115,2,20161207,       2006,    -0.7428,  -109.9994,       3925,   603.6,   8.1997,  34.6286,2,  34.6291,2,     35.9,2,    36.4,2,    40.2,2,    38.9,2,    0.01,2,   2.693,2,   0.2448,2,   0.1345,2,   0.0463,2,  2270.4,2,  2307.9,2,   7.4113,2,    25.00, -999.00,9,  -999.0,9,  -999.0,   0.0575,2, -999.00,9,  -999.0,9, -999.00,9, -999.00,9,    52.8501,2, -999.00,9,  -999.0,9,     -999.0,     -999.0,9,     -999.0,9,     -999.0,     -999.0,9,     -999.0,     -999.0,9,     -999.0,     -999.0,     -999.0,9,     -999.0,9,     -999.0,9,     -999.0,9,     -999.0,9,     -999.0,9,     -999.0,9,     -999.0,9
33RO20161119,        P18,      58,          1,         17,      11116,2,20161207,       2006,    -0.7428,  -109.9994,       3925,   496.5,   8.6913,  34.6566,2,  34.6552,2,     21.0,2,    20.6,2,    39.4,2,    39.2,2,    0.01,2,   2.735,2,-999.0000,9,-999.0000,9,-999.0000,9,  2277.1,2,  2305.8,2,   7.3890,2,    25.00, -999.00,9,  -999.0,9,  -999.0,-999.0000,9, -999.00,9,  -999.0,9, -999.00,9, -999.00,9,     -999.0,9, -999.00,9,  -999.0,9,     -999.0,     -999.0,9,     -999.0,9,     -999.0,     -999.0,9,     -999.0,     -999.0,9,     -999.0,     -999.0,     -999.0,9,     -999.0,9,     -999.0,9,     -999.0,9,     -999.0,9,     -999.0,9,     -999.0,9,     -999.0,9
33RO20161119,        P18,      58,          1,         18,      11117,2,20161207,       2006,    -0.7428,  -109.9994,       3925,   385.7,  10.1822,  34.7416,2,  34.7406,2,      8.7,2,     8.6,2,    33.9,2,    37.0,2,    0.01,2,   2.614,2,   0.5196,2,   0.2887,2,   0.1122,2,  2274.1,2,  2303.0,2,   7.3889,2,    25.00, -999.00,9,  -999.0,9,  -999.0,   0.1535,2, -999.00,9,  -999.0,9, -999.00,9, -999.00,9,    68.6718,2, -999.00,9,  -999.0,9,     -999.0,     -999.0,9,     -999.0,9,     -999.0,     -999.0,9,     -999.0,     -999.0,9,     -999.0,     -999.0,     -999.0,9,     -999.0,9,     -999.0,9,     -999.0,9,     -999.0,9,     -999.0,9,     -999.0,9,     -999.0,9
33RO20161119,        P18,      58,          1,         19,      11083,2,20161207,       2006,    -0.7428,  -109.9994,       3925,   290.2,  11.0817,  34.7927,2,  34.7929,2,     15.9,2,    15.4,6,    29.5,2,    34.7,2,    0.01,2,   2.453,2,-999.0000,9,-999.0000,9,-999.0000,9,  2257.9,2,  2298.7,2,   7.4251,2,    25.00, -999.00,9,  -999.0,9,  -999.0,-999.0000,9, -999.00,9,  -999.0,9, -999.00,9, -999.00,9,     -999.0,9, -999.00,9,  -999.0,9,     -999.0,     -999.0,9,     -999.0,9,     -999.0,     -999.0,9,     -999.0,     -999.0,9,     -999.0,     -999.0,     -999.0,9,     -999.0,9,     -999.0,9,     -999.0,9,     -999.0,9,     -999.0,9,     -999.0,9,     -999.0,9
33RO20161119,        P18,      58,          1,         20,      11118,2,20161207,       2006,    -0.7428,  -109.9994,       3925,   215.3,  12.4261,  34.8746,2,  34.8754,2,     64.2,2,    63.7,6,    21.4,2,    27.8,2,    0.01,2,   1.976,2,   1.3477,2,   0.7480,2,   0.4153,2,  2214.6,2,  2300.6,2,   7.5687,2,    25.00, -999.00,9,  -999.0,9,  -999.0,   0.5025,2, -999.00,9,  -999.0,9, -999.00,9, -999.00,9,     46.906,2, -999.00,9,  -999.0,9,     -999.0,     -999.0,9,     -999.0,9,     -999.0,     -999.0,9,     -999.0,     -999.0,9,     -999.0,     -999.0,     -999.0,9,     -999.0,9,     -999.0,9,     -999.0,9,     -999.0,9,     -999.0,9,     -999.0,9,     -999.0,9
33RO20161119,        P18,      58,          1,         21,      11119,2,20161207,       2006,    -0.7428,  -109.9994,       3925,   139.7,  13.4242,  34.9326,2,  34.9319,2,     96.8,2,    95.0,2,    16.8,2,    23.1,2,    0.01,2,   1.676,2,-999.0000,9,-999.0000,9,-999.0000,9,  2184.5,2,  2304.3,2,   7.6536,2,    25.00, -999.00,9,  -999.0,9,  -999.0,-999.0000,9, -999.00,9,  -999.0,9, -999.00,9, -999.00,9,     -999.0,9, -999.00,9,  -999.0,9,     -999.0,     -999.0,9,     -999.0,9,     -999.0,     -999.0,9,     -999.0,     -999.0,9,     -999.0,     -999.0,     -999.0,9,     -999.0,9,     -999.0,9,     -999.0,9,     -999.0,9,     -999.0,9,     -999.0,9,     -999.0,9
33RO20161119,        P18,      58,          1,         22,      11120,2,20161207,       2006,    -0.7428,  -109.9994,       3925,    72.7,  19.4303,  35.4684,2,  35.4360,2,    123.5,2,   119.1,2,     6.3,2,    13.5,2,    1.27,2,   1.268,2,   1.8436,2,   1.1286,2,   1.1415,2,  2146.2,2,  2332.4,2,   7.8009,2,    25.00, -999.00,9,  -999.0,9,  -999.0,   1.2978,2, -999.00,9,  -999.0,9, -999.00,9, -999.00,9,    24.9271,2, -999.00,9,  -999.0,9,     -999.0,     -999.0,9,     -999.0,9,     -999.0,     -999.0,9,     -999.0,     -999.0,9,     -999.0,     -999.0,     -999.0,9,     -999.0,9,     -999.0,9,     -999.0,9,     -999.0,9,     -999.0,9,     -999.0,9,     -999.0,9
33RO20161119,        P18,      58,          1,         23,      11121,2,20161207,       2006,    -0.7428,  -109.9994,       3925,    31.6,  19.8270,  35.0125,2,  34.9994,2,    162.6,2,   161.1,2,     7.3,2,    11.5,2,    0.26,2,   0.988,2,-999.0000,9,-999.0000,9,-999.0000,9,  -999.0,9,  -999.0,9,   7.8549,2,    25.00, -999.00,9,  -999.0,9,  -999.0,-999.0000,9, -999.00,9,  -999.0,9, -999.00,9, -999.00,9,     -999.0,9, -999.00,9,  -999.0,9,     -999.0,     -999.0,9,     -999.0,9,     -999.0,     -999.0,9,     -999.0,     -999.0,9,     -999.0,     -999.0,     -999.0,9,     -999.0,9,     -999.0,9,     -999.0,9,     -999.0,9,     -999.0,9,     -999.0,9,     -999.0,9
33RO20161119,        P18,      58,          1,         24,      11122,2,20161207,       2006,    -0.7428,  -109.9994,       3925,     3.2,  22.1050,  34.8836,2,  34.8955,2,    191.1,2,   197.7,2,     6.8,2,    10.4,2,    0.24,2,   0.899,2,   1.8847,2,   1.1540,2,   1.3786,2,  2080.9,6,  2298.3,2,   7.8833,2,    25.00, -999.00,9,  -999.0,9,  -999.0,        0,2, -999.00,9,  -999.0,9, -999.00,9, -999.00,9,    12.7452,2, -999.00,9,  -999.0,9,     -999.0,     -999.0,9,     -999.0,9,     -999.0,     -999.0,9,     -999.0,     -999.0,9,     -999.0,     -999.0,     -999.0,9,     -999.0,9,     -999.0,9,     -999.0,9,     -999.0,9,     -999.0,9,     -999.0,9,     -999.0,9