BOTTLE,20230606CCHSIOCBG
EXPOCODE,SECT_ID,STNNBR,CASTNO,SAMPNO,BTLNBR,BTLNBR_FLAG_W,DATE,TIME,LATITUDE,LONGITUDE,DEPTH,CTDPRS,CTDTMP,CTDSAL,CTDSAL_FLAG_W,SALNTY,SALNTY_FLAG_W,CTDOXY,CTDOXY_FLAG_W,OXYGEN,OXYGEN_FLAG_W,SILCAT,SILCAT_FLAG_W,NITRAT,NITRAT_FLAG_W,NITRIT,NITRIT_FLAG_W,PHSPHT,PHSPHT_FLAG_W,CFC-11,CFC-11_FLAG_W,CFC-12,CFC-12_FLAG_W,SF6,SF6_FLAG_W,TCARBN,TCARBN_FLAG_W,ALKALI,ALKALI_FLAG_W,PH_SWS,PH_SWS_FLAG_W,PH_TMP,DELC13,DELC13_FLAG_W,DELC14,DELC14_FLAG_W,C14ERR,CCL4,CCL4_FLAG_W,POC,POC_FLAG_W,DOC,DOC_FLAG_W,TDN,TDN_FLAG_W,PON,PON_FLAG_W,N2O,N2O_FLAG_W,D15N_NO3,D15N_NO3_FLAG_W,14C-DOC,14C-DOC_FLAG_W,14C-DOCERR,13C-DOC,13C-DOC_FLAG_W,N2/ARGON_UNSTRIPPED,N2/ARGON_UNSTRIPPED_FLAG_W,N2/ARGON_UNSTRIPPED_ERROR,N2/ARGON,N2/ARGON_FLAG_W,N2/ARGON_ERROR,D15N_N2,D15N_N2_FLAG_W,D15N_N2_ERROR,D15N_NO3_ERROR,D15N_NO2+NO3,D15N_NO2+NO3_FLAG_W,D18O_NO2+NO3,D18O_NO2+NO3_FLAG_W,D18O_NO3,D18O_NO3_FLAG_W,TDP,TDP_FLAG_W,N2O_ALT_1,N2O_ALT_1_FLAG_W,D15N_N2O,D15N_N2O_FLAG_W,D18O_N2O,D18O_N2O_FLAG_W,D15N_ALPHA_N2O,D15N_ALPHA_N2O_FLAG_W
,,,,,,,,,,,METERS,DBAR,ITS-90,PSS-78,,PSS-78,,UMOL/KG,,UMOL/KG,,UMOL/KG,,UMOL/KG,,UMOL/KG,,UMOL/KG,,PMOL/KG,,PMOL/KG,,FMOL/KG,,UMOL/KG,,UMOL/KG,,,,DEG C,/MILLE,,/MILLE,,/MILLE,PMOL/KG,,UG/KG,,UMOL/KG,,UMOL/KG,,UG/KG,,NMOL/KG,,/MILLE,,/MILLE,,/MILLE,/MILLE,,,,,,,,/MILLE,,/MILLE,/MILLE,/MILLE,,/MILLE,,/MILLE,,UMOL/KG,,NMOL/L,,/MILLE,,/MILLE,,/MILLE,
33RO20161119,        P18,     158,          1,          1,      11010,2,20170112,       0002,   -45.0017,  -103.0006,       3776,  3891.1,   1.1803,  34.7094,2,  34.7084,2,    192.7,2,   192.8,2,   122.0,2,    32.9,2,    0.01,2,   2.295,2,   0.0057,2,   0.0035,2,   0.0413,2,  2279.8,6,  2391.3,3,   7.6036,6,    25.00, -999.00,9,  -999.0,9,  -999.0,   0.0831,2, -999.00,9,  -999.0,9, -999.00,9, -999.00,9,    18.8308,2, -999.00,9,  -999.0,9,     -999.0,     -999.0,9,     -999.0,9,     -999.0,     -999.0,9,     -999.0,     -999.0,9,     -999.0,     -999.0,     -999.0,9,     -999.0,9,     -999.0,9,     -999.0,9,     -999.0,9,     -999.0,9,     -999.0,9,     -999.0,9
33RO20161119,        P18,     158,          1,          2,      11101,2,20170112,       0002,   -45.0017,  -103.0006,       3776,  3591.5,   1.2023,  34.7097,2,  34.7086,2,    191.3,2,   191.2,2,   121.0,2,    32.8,2,    0.00,2,   2.288,2,   0.0067,2,   0.0038,2,   0.0000,2,  2277.9,2,  2382.7,6,   7.6030,2,    25.00, -999.00,9,  -999.0,9,  -999.0,   0.1435,2, -999.00,9,  -999.0,9, -999.00,9, -999.00,9,    19.0722,2, -999.00,9,  -999.0,9,     -999.0,     -999.0,9,     -999.0,9,     -999.0,     -999.0,9,     -999.0,     -999.0,9,     -999.0,     -999.0,     -999.0,9,     -999.0,9,     -999.0,9,     -999.0,9,     -999.0,9,     -999.0,9,     -999.0,9,     -999.0,9
33RO20161119,        P18,     158,          1,          3,      11102,2,20170112,       0002,   -45.0017,  -103.0006,       3776,  3289.8,   1.5117,  34.7108,2,  34.7098,2,    183.6,2,   184.6,2,   112.7,6,    32.9,6,    0.00,6,   2.293,6,   0.0163,2,   0.0088,2,   0.0000,2,  2275.1,2,  2378.0,2,   7.5942,2,    25.00, -999.00,9,  -999.0,9,  -999.0,   0.3008,2, -999.00,9,  -999.0,9, -999.00,9, -999.00,9,    19.5481,2, -999.00,9,  -999.0,9,     -999.0,     -999.0,9,     -999.0,9,     -999.0,     -999.0,9,     -999.0,     -999.0,9,     -999.0,     -999.0,     -999.0,9,     -999.0,9,     -999.0,9,     -999.0,9,     -999.0,9,     -999.0,9,     -999.0,9,     -999.0,9
33RO20161119,        P18,     158,          1,          4,      11103,2,20170112,       0002,   -45.0017,  -103.0006,       3776,  3025.6,   1.6433,  34.7068,2,  34.7062,2,    178.3,2,   178.3,2,   110.4,6,    33.1,6,    0.01,6,   2.316,6,   0.0147,2,   0.0067,2,   0.0436,2,  2276.3,2,  2377.4,2,   7.5857,2,    25.00, -999.00,9,  -999.0,9,  -999.0,   0.6896,3, -999.00,9,  -999.0,9, -999.00,9, -999.00,9,    20.0469,2, -999.00,9,  -999.0,9,     -999.0,     -999.0,9,     -999.0,9,     -999.0,     -999.0,9,     -999.0,     -999.0,9,     -999.0,     -999.0,     -999.0,9,     -999.0,9,     -999.0,9,     -999.0,9,     -999.0,9,     -999.0,9,     -999.0,9,     -999.0,9
33RO20161119,        P18,     158,          1,          5,      11104,2,20170112,       0002,   -45.0017,  -103.0006,       3776,  2719.1,   1.7834,  34.7012,2,  34.7005,2,    173.3,2,   173.6,2,   107.0,6,    33.4,6,    0.01,6,   2.337,6,   0.0224,2,   0.0111,2,   0.0000,2,  2278.6,2,  2374.2,2,   7.5814,2,    25.00, -999.00,9,  -999.0,9,  -999.0,   0.5884,2, -999.00,9,  -999.0,9, -999.00,9, -999.00,9,    20.1101,2, -999.00,9,  -999.0,9,     -999.0,     -999.0,9,     -999.0,9,     -999.0,     -999.0,9,     -999.0,     -999.0,9,     -999.0,     -999.0,     -999.0,9,     -999.0,9,     -999.0,9,     -999.0,9,     -999.0,9,     -999.0,9,     -999.0,9,     -999.0,9
33RO20161119,        P18,     158,          1,          6,      11105,2,20170112,       0002,   -45.0017,  -103.0006,       3776,  2440.5,   1.9763,  34.6922,2,  34.6940,2,    170.3,2,   170.5,2,   100.0,6,    33.3,6,    0.01,6,   2.330,6,   0.0427,2,   0.0202,2,   0.0588,2,  2276.7,2,  2370.7,2,   7.5750,2,    25.00, -999.00,9,  -999.0,9,  -999.0,    1.351,2, -999.00,9,  -999.0,9, -999.00,9, -999.00,9,    20.7236,2, -999.00,9,  -999.0,9,     -999.0,     -999.0,9,     -999.0,9,     -999.0,     -999.0,9,     -999.0,     -999.0,9,     -999.0,     -999.0,     -999.0,9,     -999.0,9,     -999.0,9,     -999.0,9,     -999.0,9,     -999.0,9,     -999.0,9,     -999.0,9
33RO20161119,        P18,     158,          1,          7,      11106,2,20170112,       0002,   -45.0017,  -103.0006,       3776,  2135.1,   2.1978,  34.6598,2,  34.6582,2,    165.1,2,   165.3,2,    92.8,2,    33.7,2,    0.01,2,   2.368,2,   0.0654,2,   0.0309,2,   0.0606,2,  2272.6,2,  2362.7,2,   7.5627,2,    25.00, -999.00,9,  -999.0,9,  -999.0,   1.6233,2, -999.00,9,  -999.0,9, -999.00,9, -999.00,9,    21.8393,2, -999.00,9,  -999.0,9,     -999.0,     -999.0,9,     -999.0,9,     -999.0,     -999.0,9,     -999.0,     -999.0,9,     -999.0,     -999.0,     -999.0,9,     -999.0,9,     -999.0,9,     -999.0,9,18.27238418,2,       8.56,2,      48.06,2,      22.83,2
33RO20161119,        P18,     158,          1,          8,      11107,2,20170112,       0002,   -45.0017,  -103.0006,       3776,  1845.5,   2.4435,  34.6062,2,  34.6112,2,    161.9,2,   162.7,2,    83.4,2,    34.4,2,    0.00,2,   2.411,2,   0.1821,2,   0.0870,2,   0.0456,2,  2267.5,2,  2351.7,2,   7.5544,6,    25.00, -999.00,9,  -999.0,9,  -999.0,    1.668,2, -999.00,9,  -999.0,9, -999.00,9, -999.00,9,    22.3886,2, -999.00,9,  -999.0,9,     -999.0,     -999.0,9,     -999.0,9,     -999.0,     -999.0,9,     -999.0,     -999.0,9,     -999.0,     -999.0,     -999.0,9,     -999.0,9,     -999.0,9,     -999.0,9,     -999.0,9,     -999.0,9,     -999.0,9,     -999.0,9
33RO20161119,        P18,     158,          1,          9,      11108,2,20170112,       0002,   -45.0017,  -103.0006,       3776,  1525.5,   2.8165,  34.4994,2,  34.4993,2,    166.0,2,   167.0,2,    67.9,2,    34.8,2,    0.00,2,   2.425,2,   0.5631,3,   0.2717,3,   0.1039,3,  2253.2,6,  2331.2,2,   7.5464,2,    25.00, -999.00,9,  -999.0,9,  -999.0,   1.9747,2, -999.00,9,  -999.0,9, -999.00,9, -999.00,9,    22.7828,3, -999.00,9,  -999.0,9,     -999.0,     -999.0,9,     -999.0,9,     -999.0,     -999.0,9,     -999.0,     -999.0,9,     -999.0,     -999.0,     -999.0,9,     -999.0,9,     -999.0,9,     -999.0,9,19.58649679,2,       8.14,2,      47.07,2,      20.37,2
33RO20161119,        P18,     158,          1,         10,      11109,2,20170112,       0002,   -45.0017,  -103.0006,       3776,  1315.7,   3.2138,  34.4280,2,-999.0000,9,    165.8,2,   165.4,2,    58.1,2,    35.2,2,    0.01,2,   2.459,2,   0.4880,2,   0.2362,2,   0.0961,2,  2242.7,2,  2323.7,6,   7.5423,2,    25.00, -999.00,9,  -999.0,9,  -999.0,   2.5776,2, -999.00,9,  -999.0,9, -999.00,9, -999.00,9,    23.6047,2, -999.00,9,  -999.0,9,     -999.0,     -999.0,9,     -999.0,9,     -999.0,     -999.0,9,     -999.0,     -999.0,9,     -999.0,     -999.0,     -999.0,9,     -999.0,9,     -999.0,9,     -999.0,9,     -999.0,9,     -999.0,9,     -999.0,9,     -999.0,9
33RO20161119,        P18,     158,          1,         11,      11110,2,20170112,       0002,   -45.0017,  -103.0006,       3776,  1184.8,   3.5290,  34.3617,2,  34.3632,2,    185.1,2,   187.3,6,    45.1,2,    33.4,2,    0.01,2,   2.328,2,   1.1798,2,   0.5716,2,   0.2662,2,  2220.6,2,  2311.0,2,   7.5720,2,    25.00, -999.00,9,  -999.0,9,  -999.0,   2.6877,2, -999.00,9,  -999.0,9, -999.00,9, -999.00,9,    21.2795,2, -999.00,9,  -999.0,9,     -999.0,     -999.0,9,     -999.0,9,     -999.0,     -999.0,9,     -999.0,     -999.0,9,     -999.0,     -999.0,     -999.0,9,     -999.0,9,     -999.0,9,     -999.0,9,17.87948492,2,       7.88,2,      46.17,2,      19.89,2
33RO20161119,        P18,     158,          1,         12,      11111,2,20170112,       0002,   -45.0017,  -103.0006,       3776,  1050.6,   4.0877,  34.3158,2,  34.3148,2,    201.0,2,   201.2,2,    33.7,2,    31.6,2,    0.01,2,   2.198,2,   1.7255,6,   0.8505,6,   0.3589,6,  2200.5,2,  2297.7,2,   7.5977,2,    25.00, -999.00,9,  -999.0,9,  -999.0,   3.1308,2, -999.00,9,  -999.0,9, -999.00,9, -999.00,9,    19.9308,2, -999.00,9,  -999.0,9,     -999.0,     -999.0,9,     -999.0,9,     -999.0,     -999.0,9,     -999.0,     -999.0,9,     -999.0,     -999.0,     -999.0,9,     -999.0,9,     -999.0,9,     -999.0,9,16.75890454,2,        7.8,2,      44.78,2,      19.64,2
33RO20161119,        P18,     158,          1,         13,      11112,2,20170112,       0002,   -45.0017,  -103.0006,       3776,   930.3,   4.5667,  34.2892,2,  34.2885,2,    210.9,2,   211.2,2,    25.7,2,    30.0,2,    0.01,2,   2.087,2,   2.2370,2,   1.1191,2,   0.5574,2,  2189.0,2,  2289.8,2,   7.6170,2,    25.00, -999.00,9,  -999.0,9,  -999.0,   3.0629,2, -999.00,9,  -999.0,9, -999.00,9, -999.00,9,    18.5995,2, -999.00,9,  -999.0,9,     -999.0,     -999.0,9,     -999.0,9,     -999.0,     -999.0,9,     -999.0,     -999.0,9,     -999.0,     -999.0,     -999.0,9,     -999.0,9,     -999.0,9,     -999.0,9,15.76816843,2,       7.73,2,      44.74,2,      19.27,2
33RO20161119,        P18,     158,          1,         14,      11113,2,20170112,       0002,   -45.0017,  -103.0006,       3776,   813.8,   5.0971,  34.2631,2,  34.2628,2,    228.2,2,   227.4,2,    18.0,2,    27.8,2,    0.01,2,   1.919,2,   3.0147,2,   1.5460,2,   0.9080,2,  2172.3,2,  2284.6,2,   7.6475,2,    25.00, -999.00,9,  -999.0,9,  -999.0,   3.1408,2, -999.00,9,  -999.0,9, -999.00,9, -999.00,9,    16.9632,2, -999.00,9,  -999.0,9,     -999.0,     -999.0,9,     -999.0,9,     -999.0,     -999.0,9,     -999.0,     -999.0,9,     -999.0,     -999.0,     -999.0,9,     -999.0,9,     -999.0,9,     -999.0,9,14.73768331,2,       7.01,2,      43.97,2,      17.23,2
33RO20161119,        P18,     158,          1,         15,      11114,2,20170112,       0002,   -45.0017,  -103.0006,       3776,   699.2,   5.4964,  34.2488,2,  34.2478,2,    246.8,2,   247.5,2,    12.3,2,    25.3,2,    0.01,2,   1.750,2,   3.6157,2,   1.9244,2,   1.3411,2,  2159.2,2,  2280.4,2,   7.6771,2,    25.00, -999.00,9,  -999.0,9,  -999.0,   3.0217,2, -999.00,9,  -999.0,9, -999.00,9, -999.00,9,    15.2939,2, -999.00,9,  -999.0,9,     -999.0,     -999.0,9,     -999.0,9,     -999.0,     -999.0,9,     -999.0,     -999.0,9,     -999.0,     -999.0,     -999.0,9,     -999.0,9,     -999.0,9,     -999.0,9,14.54376248,2,       7.06,2,      45.63,2,      19.28,2
33RO20161119,        P18,     158,          1,         16,      11115,2,20170112,       0002,   -45.0017,  -103.0006,       3776,   580.0,   5.8550,  34.2586,2,  34.2581,2,    256.4,2,   257.1,2,     9.3,2,    23.7,2,    0.01,2,   1.657,2,   3.9344,2,   2.1126,2,   1.5911,2,  2147.1,2,  2278.1,2,   7.6944,2,    25.00, -999.00,9,  -999.0,9,  -999.0,    2.981,2, -999.00,9,  -999.0,9, -999.00,9, -999.00,9,    14.5803,2, -999.00,9,  -999.0,9,     -999.0,     -999.0,9,     -999.0,9,     -999.0,     -999.0,9,     -999.0,     -999.0,9,     -999.0,     -999.0,     -999.0,9,     -999.0,9,     -999.0,9,     -999.0,9,12.78164068,2,       6.65,2,      43.26,2,      18.86,2
33RO20161119,        P18,     158,          1,         17,      11116,2,20170112,       0002,   -45.0017,  -103.0006,       3776,   475.8,   6.1294,  34.2707,2,  34.2707,2,    260.7,2,   262.2,2,     7.7,2,    22.5,2,    0.01,2,   1.592,2,   4.0727,2,   2.2092,2,   1.7852,2,  2143.8,2,  2278.3,2,   7.7052,2,    25.00, -999.00,9,  -999.0,9,  -999.0,   3.0864,2, -999.00,9,  -999.0,9, -999.00,9, -999.00,9,    14.7389,2, -999.00,9,  -999.0,9,     -999.0,     -999.0,9,     -999.0,9,     -999.0,     -999.0,9,     -999.0,     -999.0,9,     -999.0,     -999.0,     -999.0,9,     -999.0,9,     -999.0,9,     -999.0,9,12.59977995,2,       6.28,2,       42.8,2,      17.91,2
33RO20161119,        P18,     158,          1,         18,      11117,2,20170112,       0002,   -45.0017,  -103.0006,       3776,   370.1,   6.4644,  34.2940,2,  34.2936,2,    258.5,2,   259.3,2,     6.9,2,    21.8,2,    0.01,2,   1.545,2,   4.0596,2,   2.2168,2,   1.8022,3,  2144.0,2,  2278.3,2,   7.7083,2,    25.00, -999.00,9,  -999.0,9,  -999.0,   3.4876,2, -999.00,9,  -999.0,9, -999.00,9, -999.00,9,    15.0112,2, -999.00,9,  -999.0,9,     -999.0,     -999.0,9,     -999.0,9,     -999.0,     -999.0,9,     -999.0,     -999.0,9,     -999.0,     -999.0,     -999.0,9,     -999.0,9,     -999.0,9,     -999.0,9,13.14045854,2,       6.55,2,      43.09,2,      18.75,2
33RO20161119,        P18,     158,          1,         19,      11083,2,20170112,       0002,   -45.0017,  -103.0006,       3776,   280.2,   6.5962,  34.2802,2,  34.2807,2,    262.0,2,   264.0,2,     5.9,2,    21.1,2,    0.01,2,   1.468,2,   4.1063,2,   2.2693,2,   2.1016,2,  2142.1,2,  2275.1,2,   7.7117,2,    25.00, -999.00,9,  -999.0,9,  -999.0,   3.4819,2, -999.00,9,  -999.0,9, -999.00,9, -999.00,9,    16.4362,2, -999.00,9,  -999.0,9,     -999.0,     -999.0,9,     -999.0,9,     -999.0,     -999.0,9,     -999.0,     -999.0,9,     -999.0,     -999.0,     -999.0,9,     -999.0,9,     -999.0,9,     -999.0,9,13.90955027,2,       5.99,2,       40.3,2,      15.98,2
33RO20161119,        P18,     158,          1,         20,      11118,2,20170112,       0002,   -45.0017,  -103.0006,       3776,   190.6,   6.9589,  34.2355,2,  34.2360,2,    264.6,2,   266.1,2,     4.3,2,    19.9,2,    0.02,2,   1.415,2,   4.0440,6,   2.2733,6,   2.3429,6,  2131.0,2,  2273.0,6,   7.7217,2,    25.00, -999.00,9,  -999.0,9,  -999.0,   3.5358,2, -999.00,9,  -999.0,9, -999.00,9, -999.00,9,    18.3084,2, -999.00,9,  -999.0,9,     -999.0,     -999.0,9,     -999.0,9,     -999.0,     -999.0,9,     -999.0,     -999.0,9,     -999.0,     -999.0,     -999.0,9,     -999.0,9,     -999.0,9,     -999.0,9,15.58053101,2,       5.44,2,      39.13,2,      11.02,2
33RO20161119,        P18,     158,          1,         21,      11119,2,20170112,       0002,   -45.0017,  -103.0006,       3776,   100.2,   8.7430,  34.0920,2,  34.0946,2,    269.9,2,   271.2,2,     1.6,2,    14.7,2,    0.30,2,   1.155,2,   3.6861,2,   2.0948,2,   2.4322,2,  2100.7,6,  2264.9,2,   7.7782,2,    25.00, -999.00,9,  -999.0,9,  -999.0,   0.0673,2, -999.00,9,  -999.0,9, -999.00,9, -999.00,9,    14.5126,2, -999.00,9,  -999.0,9,     -999.0,     -999.0,9,     -999.0,9,     -999.0,     -999.0,9,     -999.0,     -999.0,9,     -999.0,     -999.0,     -999.0,9,     -999.0,9,     -999.0,9,     -999.0,9,12.53875975,2,       5.48,2,      40.69,2,      13.42,2
33RO20161119,        P18,     158,          1,         22,      11120,2,20170112,       0002,   -45.0017,  -103.0006,       3776,    40.9,  11.4047,  34.0077,2,  34.0095,2,    279.0,2,   280.1,2,     1.0,2,    11.8,2,    0.16,2,   0.969,2,   3.2796,2,   1.8921,2,   2.3347,2,  2072.4,2,  2260.7,2,   7.8414,2,    25.00, -999.00,9,  -999.0,9,  -999.0,   0.0795,2,  160.83,6,  -999.0,9, -999.00,9,   28.07,6,    10.2089,2, -999.00,9,  -999.0,9,     -999.0,     -999.0,9,     -999.0,9,     -999.0,     -999.0,9,     -999.0,     -999.0,9,     -999.0,     -999.0,     -999.0,9,     -999.0,9,     -999.0,9,     -999.0,9,     -999.0,9,     -999.0,9,     -999.0,9,     -999.0,9
33RO20161119,        P18,     158,          1,         23,      11121,2,20170112,       0002,   -45.0017,  -103.0006,       3776,    20.4,  11.9688,  34.0255,2,  34.0247,2,    271.9,2,   272.6,2,     0.8,2,    11.9,2,    0.19,2,   0.975,2,   3.1769,2,   1.8454,2,   2.3166,2,  2073.4,2,  2262.3,2,   7.8390,2,    25.00, -999.00,9,  -999.0,9,  -999.0,   0.0768,2, -999.00,9,  -999.0,9, -999.00,9, -999.00,9,     9.9982,2, -999.00,9,  -999.0,9,     -999.0,     -999.0,9,     -999.0,9,     -999.0,     -999.0,9,     -999.0,     -999.0,9,     -999.0,     -999.0,     -999.0,9,     -999.0,9,     -999.0,9,     -999.0,9,     -999.0,9,     -999.0,9,     -999.0,9,     -999.0,9
33RO20161119,        P18,     158,          1,         24,      11122,2,20170112,       0002,   -45.0017,  -103.0006,       3776,     3.3,  12.1584,  34.0271,2,  34.0279,2,    270.4,2,   272.2,2,     0.9,2,    12.7,2,    0.21,2,   1.015,2,   3.1768,2,   1.8387,2,   2.3045,2,  2072.9,2,  2263.0,2,   7.8387,2,    25.00, -999.00,9,  -999.0,9,  -999.0,   0.4045,2, -999.00,9,  -999.0,9, -999.00,9, -999.00,9,    10.0177,2, -999.00,9,  -999.0,9,     -999.0,     -999.0,9,     -999.0,9,     -999.0,     -999.0,9,     -999.0,     -999.0,9,     -999.0,     -999.0,     -999.0,9,     -999.0,9,     -999.0,9,     -999.0,9,     -999.0,9,     -999.0,9,     -999.0,9,     -999.0,9