BOTTLE,20230606CCHSIOCBG
EXPOCODE,SECT_ID,STNNBR,CASTNO,SAMPNO,BTLNBR,BTLNBR_FLAG_W,DATE,TIME,LATITUDE,LONGITUDE,DEPTH,CTDPRS,CTDTMP,CTDSAL,CTDSAL_FLAG_W,SALNTY,SALNTY_FLAG_W,CTDOXY,CTDOXY_FLAG_W,OXYGEN,OXYGEN_FLAG_W,SILCAT,SILCAT_FLAG_W,NITRAT,NITRAT_FLAG_W,NITRIT,NITRIT_FLAG_W,PHSPHT,PHSPHT_FLAG_W,CFC-11,CFC-11_FLAG_W,CFC-12,CFC-12_FLAG_W,SF6,SF6_FLAG_W,TCARBN,TCARBN_FLAG_W,ALKALI,ALKALI_FLAG_W,PH_SWS,PH_SWS_FLAG_W,PH_TMP,DELC13,DELC13_FLAG_W,DELC14,DELC14_FLAG_W,C14ERR,CCL4,CCL4_FLAG_W,POC,POC_FLAG_W,DOC,DOC_FLAG_W,TDN,TDN_FLAG_W,PON,PON_FLAG_W,N2O,N2O_FLAG_W,D15N_NO3,D15N_NO3_FLAG_W,14C-DOC,14C-DOC_FLAG_W,14C-DOCERR,13C-DOC,13C-DOC_FLAG_W,N2/ARGON_UNSTRIPPED,N2/ARGON_UNSTRIPPED_FLAG_W,N2/ARGON_UNSTRIPPED_ERROR,N2/ARGON,N2/ARGON_FLAG_W,N2/ARGON_ERROR,D15N_N2,D15N_N2_FLAG_W,D15N_N2_ERROR,D15N_NO3_ERROR,D15N_NO2+NO3,D15N_NO2+NO3_FLAG_W,D18O_NO2+NO3,D18O_NO2+NO3_FLAG_W,D18O_NO3,D18O_NO3_FLAG_W,TDP,TDP_FLAG_W,N2O_ALT_1,N2O_ALT_1_FLAG_W,D15N_N2O,D15N_N2O_FLAG_W,D18O_N2O,D18O_N2O_FLAG_W,D15N_ALPHA_N2O,D15N_ALPHA_N2O_FLAG_W
,,,,,,,,,,,METERS,DBAR,ITS-90,PSS-78,,PSS-78,,UMOL/KG,,UMOL/KG,,UMOL/KG,,UMOL/KG,,UMOL/KG,,UMOL/KG,,PMOL/KG,,PMOL/KG,,FMOL/KG,,UMOL/KG,,UMOL/KG,,,,DEG C,/MILLE,,/MILLE,,/MILLE,PMOL/KG,,UG/KG,,UMOL/KG,,UMOL/KG,,UG/KG,,NMOL/KG,,/MILLE,,/MILLE,,/MILLE,/MILLE,,,,,,,,/MILLE,,/MILLE,/MILLE,/MILLE,,/MILLE,,/MILLE,,UMOL/KG,,NMOL/L,,/MILLE,,/MILLE,,/MILLE,
33RO20161119,        P18,      67,          1,          1,      11010,2,20161209,       1516,    -2.9996,  -109.9998,       3765,  3809.1,   1.4809,  34.6916,2,  34.6911,2,    157.3,2,  -999.0,9,   143.1,2,    36.1,2,    0.01,2,   2.450,2,   0.0024,2,   0.0011,2,   0.0414,2,  2324.9,6,  2429.3,2,   7.5931,2,    25.00,    0.20,2,  -213.0,2,     1.7,        0,2, -999.00,9,    37.4,2,   39.50,2, -999.00,9,    20.0853,2, -999.00,9,  -999.0,9,     -999.0,     -999.0,9,     -999.0,9,     -999.0,     -999.0,9,     -999.0,     -999.0,9,     -999.0,     -999.0,     -999.0,9,     -999.0,9,     -999.0,9,     -999.0,9,     -999.0,9,     -999.0,9,     -999.0,9,     -999.0,9
33RO20161119,        P18,      67,          1,          2,      11101,2,20161209,       1516,    -2.9996,  -109.9998,       3765,  3549.2,   1.4989,  34.6889,2,  34.6891,2,    152.2,2,   153.5,2,   143.7,2,    36.4,2,    0.01,2,   2.469,2,   0.0025,2,   0.0010,2,   0.0000,2,  2326.2,2,  2427.7,6,   7.5911,6,    25.00, -999.00,9,  -999.0,9,  -999.0,        0,2, -999.00,9,    36.0,2,   39.00,2, -999.00,9,    20.5683,2, -999.00,9,  -999.0,9,     -999.0,     -999.0,9,     -999.0,9,     -999.0,     -999.0,9,     -999.0,     -999.0,9,     -999.0,     -999.0,     -999.0,9,     -999.0,9,     -999.0,9,     -999.0,9,     -999.0,9,     -999.0,9,     -999.0,9,     -999.0,9
33RO20161119,        P18,      67,          1,          3,      11102,2,20161209,       1516,    -2.9996,  -109.9998,       3765,  3289.5,   1.5842,  34.6835,2,  34.6828,2,    146.0,2,   147.6,2,   143.9,2,    36.9,2,    0.01,2,   2.510,2,   0.0018,2,   0.0018,2,   0.0380,2,  2329.3,2,  2427.7,2,   7.5852,2,    25.00,    0.12,6,  -221.2,6,     1.4,        0,2, -999.00,9,    35.6,2,   37.90,2, -999.00,9,    20.8487,2, -999.00,9,  -999.0,9,     -999.0,     -999.0,9,     -999.0,9,     -999.0,     -999.0,9,     -999.0,     -999.0,9,     -999.0,     -999.0,     -999.0,9,     -999.0,9,     -999.0,9,     -999.0,9,     -999.0,9,     -999.0,9,     -999.0,9,     -999.0,9
33RO20161119,        P18,      67,          1,          4,      11103,2,20161209,       1516,    -2.9996,  -109.9998,       3765,  3025.3,   1.6661,  34.6766,2,  34.6773,2,    138.9,2,   139.7,2,   142.4,2,    37.2,2,    0.01,2,   2.546,2,   0.0022,2,   0.0000,2,   0.0000,2,  2331.2,2,  2421.8,2,   7.5630,2,    25.00, -999.00,9,  -999.0,9,  -999.0,        0,2, -999.00,9,    35.6,2,   40.50,2, -999.00,9,     22.248,2, -999.00,9,  -999.0,9,     -999.0,     -999.0,9,     -999.0,9,     -999.0,     -999.0,9,     -999.0,     -999.0,9,     -999.0,     -999.0,     -999.0,9,     -999.0,9,     -999.0,9,     -999.0,9,     -999.0,9,     -999.0,9,     -999.0,9,     -999.0,9
33RO20161119,        P18,      67,          1,          5,      11104,2,20161209,       1516,    -2.9996,  -109.9998,       3765,  2721.1,   1.7868,  34.6704,2,  34.6700,2,    130.2,2,   130.7,2,   143.0,2,    37.8,2,    0.01,2,   2.587,2,   0.0015,2,   0.0000,2,   0.0000,2,  2338.0,2,  2429.8,3,   7.5464,2,    25.00,    0.10,2,  -232.8,2,     1.6,        0,2, -999.00,9,    35.2,2,   41.00,2, -999.00,9,    22.8767,2, -999.00,9,  -999.0,9,     -999.0,     -999.0,9,     -999.0,9,     -999.0,     -999.0,9,     -999.0,     -999.0,9,     -999.0,     -999.0,     -999.0,9,     -999.0,9,     -999.0,9,     -999.0,9,     -999.0,9,     -999.0,9,     -999.0,9,     -999.0,9
33RO20161119,        P18,      67,          1,          6,      11105,2,20161209,       1516,    -2.9996,  -109.9998,       3765,  2439.7,   1.9380,  34.6616,2,  34.6617,2,    119.8,2,   120.2,2,   142.9,2,    38.5,2,    0.01,2,   2.654,2,   0.0018,2,   0.0000,2,   0.0312,2,  2343.2,2,  2424.3,3,   7.5285,2,    25.00, -999.00,9,  -999.0,9,  -999.0,        0,2, -999.00,9,    37.3,2,   40.90,2, -999.00,9,     23.761,2, -999.00,9,  -999.0,9,     -999.0,     -999.0,9,     -999.0,9,     -999.0,     -999.0,9,     -999.0,     -999.0,9,     -999.0,     -999.0,     -999.0,9,     -999.0,9,     -999.0,9,     -999.0,9,     -999.0,9,     -999.0,9,     -999.0,9,     -999.0,9
33RO20161119,        P18,      67,          1,          7,      11106,2,20161209,       1516,    -2.9996,  -109.9998,       3765,  2134.9,   2.1857,  34.6511,2,  34.6511,2,    106.4,2,   108.1,2,   141.9,2,    39.3,2,    0.01,2,   2.729,2,   0.0028,2,   0.0018,2,   0.0000,2,  2348.7,6,  2424.4,3,   7.5075,2,    25.00,   -0.02,2,  -236.1,2,     1.7,        0,2, -999.00,9,    37.2,2,   42.30,2, -999.00,9,    25.0766,2, -999.00,9,  -999.0,9,     -999.0,     -999.0,9,     -999.0,9,     -999.0,     -999.0,9,     -999.0,     -999.0,9,     -999.0,     -999.0,     -999.0,9,     -999.0,9,     -999.0,9,     -999.0,9,     -999.0,9,     -999.0,9,     -999.0,9,     -999.0,9
33RO20161119,        P18,      67,          1,          8,      11107,2,20161209,       1516,    -2.9996,  -109.9998,       3765,  1844.3,   2.5562,  34.6323,2,  34.6320,2,     95.5,2,    95.6,2,   134.4,6,    40.2,6,    0.01,6,   2.797,6,   0.0025,6,   0.0019,6,   0.0149,6,  2350.5,2,  2412.7,3,   7.4838,2,    25.00, -999.00,9,  -999.0,9,  -999.0,        0,2, -999.00,9,    37.9,2,   43.80,2, -999.00,9,    27.8009,2, -999.00,9,  -999.0,9,     -999.0,     -999.0,9,     -999.0,9,     -999.0,     -999.0,9,     -999.0,     -999.0,9,     -999.0,     -999.0,     -999.0,9,     -999.0,9,     -999.0,9,     -999.0,9,     -999.0,9,     -999.0,9,     -999.0,9,     -999.0,9
33RO20161119,        P18,      67,          1,          9,      11108,2,20161209,       1516,    -2.9996,  -109.9998,       3765,  1524.9,   3.0782,  34.6039,2,  34.6045,2,     90.7,2,    91.3,2,   117.9,6,    40.4,6,    0.00,6,   2.825,6,   0.0035,2,   0.0021,2,   0.0000,2,  2333.0,2,  2391.0,2,   7.4705,2,    25.00,    0.06,2,  -218.6,2,     1.9,        0,2, -999.00,9,    37.4,2,   45.30,2, -999.00,9,     30.968,2, -999.00,9,  -999.0,9,     -999.0,     -999.0,9,     -999.0,9,     -999.0,     -999.0,9,     -999.0,     -999.0,9,     -999.0,     -999.0,     -999.0,9,     -999.0,9,     -999.0,9,     -999.0,9,     -999.0,9,     -999.0,9,     -999.0,9,     -999.0,9
33RO20161119,        P18,      67,          1,         10,      11109,2,20161209,       1516,    -2.9996,  -109.9998,       3765,  1315.0,   3.4993,  34.5878,2,  34.5868,2,     85.4,2,    86.3,2,   108.0,6,    40.6,6,    0.01,6,   2.851,6,   0.0074,2,   0.0034,2,   0.0382,2,  2325.6,2,  2378.3,2,   7.4587,2,    25.00, -999.00,9,  -999.0,9,  -999.0,   0.0163,2, -999.00,9,    39.6,2,   43.70,2, -999.00,9,    31.9648,2, -999.00,9,  -999.0,9,     -999.0,     -999.0,9,     -999.0,9,     -999.0,     -999.0,9,     -999.0,     -999.0,9,     -999.0,     -999.0,     -999.0,9,     -999.0,9,     -999.0,9,     -999.0,9,     -999.0,9,     -999.0,9,     -999.0,9,     -999.0,9
33RO20161119,        P18,      67,          1,         11,      11110,2,20161209,       1516,    -2.9996,  -109.9998,       3765,  1185.7,   3.8985,  34.5663,2,  34.5664,2,     93.3,2,    93.6,2,    93.3,6,    39.8,6,    0.00,6,   2.781,6,   0.0076,2,   0.0057,2,   0.0313,2,  2305.7,2,  2363.2,2,   7.4735,2,    25.00,    0.19,2,  -195.9,2,     1.7,   0.0147,2, -999.00,9,    37.9,2,   43.00,2, -999.00,9,    31.2571,2, -999.00,9,  -999.0,9,     -999.0,     -999.0,9,     -999.0,9,     -999.0,     -999.0,9,     -999.0,     -999.0,9,     -999.0,     -999.0,     -999.0,9,     -999.0,9,     -999.0,9,     -999.0,9,     -999.0,9,     -999.0,9,     -999.0,9,     -999.0,9
33RO20161119,        P18,      67,          1,         12,      11111,2,20161209,       1516,    -2.9996,  -109.9998,       3765,  1050.0,   4.3115,  34.5551,2,  34.5561,2,     89.6,2,    90.9,2,    84.5,2,    39.8,2,    0.01,2,   2.778,2,   0.0096,2,   0.0062,2,   0.0000,2,  2300.4,2,  2362.7,2,   7.4679,2,    25.00, -999.00,9,  -999.0,9,  -999.0,    0.017,2, -999.00,9,    38.7,2,   44.50,2, -999.00,9,    32.7158,2, -999.00,9,  -999.0,9,     -999.0,     -999.0,9,     -999.0,9,     -999.0,     -999.0,9,     -999.0,     -999.0,9,     -999.0,     -999.0,     -999.0,9,     -999.0,9,     -999.0,9,     -999.0,9,     -999.0,9,     -999.0,9,     -999.0,9,     -999.0,9
33RO20161119,        P18,      67,          1,         13,      11112,2,20161209,       1516,    -2.9996,  -109.9998,       3765,   929.6,   4.8630,  34.5474,2,  34.5467,2,     80.9,2,    80.2,2,    74.9,2,    40.4,2,    0.01,2,   2.809,2,   0.0138,2,   0.0081,2,   0.0000,2,  2290.9,2,  2344.0,2,   7.4534,2,    25.00,    0.13,2,  -168.3,2,     2.2,   0.0165,2, -999.00,9,    37.6,2,   43.90,2, -999.00,9,     35.242,2, -999.00,9,  -999.0,9,     -999.0,     -999.0,9,     -999.0,9,     -999.0,     -999.0,9,     -999.0,     -999.0,9,     -999.0,     -999.0,     -999.0,9,     -999.0,9,     -999.0,9,     -999.0,9,     -999.0,9,     -999.0,9,     -999.0,9,     -999.0,9
33RO20161119,        P18,      67,          1,         14,      11113,2,20161209,       1516,    -2.9996,  -109.9998,       3765,   814.6,   5.5443,  34.5531,2,  34.5563,2,     63.5,2,    63.6,2,    66.8,2,    41.2,2,    0.01,2,   2.860,2,   0.0251,2,   0.0135,2,   0.0000,2,  2290.2,2,  2338.8,2,   7.4269,2,    25.00, -999.00,9,  -999.0,9,  -999.0,   0.0274,2, -999.00,9,    38.0,2,   46.30,2, -999.00,9,    39.2282,2, -999.00,9,  -999.0,9,     -999.0,     -999.0,9,     -999.0,9,     -999.0,     -999.0,9,     -999.0,     -999.0,9,     -999.0,     -999.0,     -999.0,9,     -999.0,9,     -999.0,9,     -999.0,9,     -999.0,9,     -999.0,9,     -999.0,9,     -999.0,9
33RO20161119,        P18,      67,          1,         15,      11114,2,20161209,       1516,    -2.9996,  -109.9998,       3765,   699.8,   6.3772,  34.5707,2,  34.5697,2,     41.7,2,    41.9,2,    58.2,2,    42.3,2,    0.01,2,   2.921,2,   0.0455,2,   0.0263,2,   0.0320,2,  2290.5,2,  2323.6,2,   7.3930,2,    25.00,    0.05,2,  -138.1,2,     3.1,   0.0277,2, -999.00,9,    37.9,2,   46.10,2, -999.00,9,    47.8236,2, -999.00,9,  -999.0,9,     -999.0,     -999.0,9,     -999.0,9,     -999.0,     -999.0,9,     -999.0,     -999.0,9,     -999.0,     -999.0,     -999.0,9,     -999.0,9,     -999.0,9,     -999.0,9,     -999.0,9,     -999.0,9,     -999.0,9,     -999.0,9
33RO20161119,        P18,      67,          1,         16,      11115,2,20161209,       1516,    -2.9996,  -109.9998,       3765,   580.0,   7.2728,  34.5970,2,  34.5944,2,     31.7,2,    34.2,2,    49.0,2,    41.6,2,    0.01,2,   2.875,2,   0.1019,2,   0.0575,2,   0.0594,2,  2281.1,2,  2313.4,6,   7.3808,2,    25.00, -999.00,9,  -999.0,9,  -999.0,   0.0677,2, -999.00,9,    40.4,2,   44.90,2, -999.00,9,    52.8171,2, -999.00,9,  -999.0,9,     -999.0,     -999.0,9,     -999.0,9,     -999.0,     -999.0,9,     -999.0,     -999.0,9,     -999.0,     -999.0,     -999.0,9,     -999.0,9,     -999.0,9,     -999.0,9,     -999.0,9,     -999.0,9,     -999.0,9,     -999.0,9
33RO20161119,        P18,      67,          1,         17,      11116,2,20161209,       1516,    -2.9996,  -109.9998,       3765,   480.1,   8.0923,  34.6289,2,  34.6288,2,     32.8,2,    33.8,2,    41.0,2,    39.7,2,    0.01,2,   2.733,2,   0.2024,2,   0.1110,2,   0.0403,2,  2272.7,2,  2305.6,2,   7.3999,2,    25.00,    0.05,2,   -94.0,2,     2.4,   0.0305,2, -999.00,9,    43.1,2,   42.90,2, -999.00,9,    56.7095,2, -999.00,9,  -999.0,9,     -999.0,     -999.0,9,     -999.0,9,     -999.0,     -999.0,9,     -999.0,     -999.0,9,     -999.0,     -999.0,     -999.0,9,     -999.0,9,     -999.0,9,     -999.0,9,     -999.0,9,     -999.0,9,     -999.0,9,     -999.0,9
33RO20161119,        P18,      67,          1,         18,      11117,2,20161209,       1516,    -2.9996,  -109.9998,       3765,   375.1,   9.8513,  34.7338,2,  34.7335,2,      4.8,2,     5.5,2,    34.9,2,    36.3,2,    0.01,2,   2.734,2,   0.3046,2,   0.1723,2,   0.0585,2,  2279.5,2,  2303.4,2,   7.3667,2,    25.00,   -0.13,2,   -66.8,2,     2.2,   0.0464,2, -999.00,9,    41.7,2,   40.10,2, -999.00,9,    68.3778,2, -999.00,9,  -999.0,9,     -999.0,     -999.0,9,     -999.0,9,     -999.0,     -999.0,9,     -999.0,     -999.0,9,     -999.0,     -999.0,     -999.0,9,     -999.0,9,     -999.0,9,     -999.0,9,     -999.0,9,     -999.0,9,     -999.0,9,     -999.0,9
33RO20161119,        P18,      67,          1,         19,      11083,2,20161209,       1516,    -2.9996,  -109.9998,       3765,   285.0,  11.4729,  34.8360,2,  34.8329,2,      5.5,2,     6.3,2,    28.2,2,    33.2,2,    0.01,2,   2.509,2,   0.7306,2,   0.4033,2,   0.1513,2,  2265.2,2,  2305.5,2,   7.3976,2,    25.00,   -0.25,2,   -28.1,2,     2.6,   0.0961,2, -999.00,9,    43.0,2,   36.30,2, -999.00,9,    70.5383,2, -999.00,9,  -999.0,9,     -999.0,     -999.0,9,     -999.0,9,     -999.0,     -999.0,9,     -999.0,     -999.0,9,     -999.0,     -999.0,     -999.0,9,     -999.0,9,     -999.0,9,     -999.0,9,     -999.0,9,     -999.0,9,     -999.0,9,     -999.0,9
33RO20161119,        P18,      67,          1,         20,      11118,2,20161209,       1516,    -2.9996,  -109.9998,       3765,   204.5,  12.9059,  34.9219,2,  34.9291,2,      6.7,2,     6.5,6,    23.5,2,    32.6,2,    0.01,2,   2.363,2,   1.1771,2,   0.6553,2,   0.3220,2,  2251.0,2,  2299.0,2,   7.4387,2,    25.00,   -0.30,2,    -3.9,2,     2.5,   0.1377,2, -999.00,9,    46.6,2,   34.90,2, -999.00,9,    82.4193,2, -999.00,9,  -999.0,9,     -999.0,     -999.0,9,     -999.0,9,     -999.0,     -999.0,9,     -999.0,     -999.0,9,     -999.0,     -999.0,     -999.0,9,     -999.0,9,     -999.0,9,     -999.0,9,     -999.0,9,     -999.0,9,     -999.0,9,     -999.0,9
33RO20161119,        P18,      67,          1,         21,      11119,2,20161209,       1516,    -2.9996,  -109.9998,       3765,   140.3,  13.8820,  34.9758,2,  34.9741,2,     59.7,2,    63.7,6,    17.8,2,    26.6,2,    0.02,2,   1.863,2,   1.5988,2,   0.8982,2,   0.5195,2,  2205.1,2,  2302.2,2,   7.5892,2,    25.00,    0.04,2,    15.3,2,     2.6,   0.1443,2, -999.00,9,  -999.0,9, -999.00,9, -999.00,9,    48.1251,2, -999.00,9,  -999.0,9,     -999.0,     -999.0,9,     -999.0,9,     -999.0,     -999.0,9,     -999.0,     -999.0,9,     -999.0,     -999.0,     -999.0,9,     -999.0,9,     -999.0,9,     -999.0,9,     -999.0,9,     -999.0,9,     -999.0,9,     -999.0,9
33RO20161119,        P18,      67,          1,         22,      11120,2,20161209,       1516,    -2.9996,  -109.9998,       3765,    70.1,  15.3339,  35.0467,2,  35.0452,2,     77.6,2,    76.2,2,    14.4,2,    22.7,2,    0.77,2,   1.686,2,   1.7253,2,   0.9866,2,   0.6410,2,  2185.0,2,  2306.5,2,   7.6481,2,    25.00,    0.24,2,    24.4,2,     3.4,   1.6791,2, -999.00,9,    49.2,2,   26.60,2, -999.00,9,     51.255,2, -999.00,9,  -999.0,9,     -999.0,     -999.0,9,     -999.0,9,     -999.0,     -999.0,9,     -999.0,     -999.0,9,     -999.0,     -999.0,     -999.0,9,     -999.0,9,     -999.0,9,     -999.0,9,     -999.0,9,     -999.0,9,     -999.0,9,     -999.0,9
33RO20161119,        P18,      67,          1,         23,      11121,2,20161209,       1516,    -2.9996,  -109.9998,       3765,    30.2,  23.5638,  35.1041,2,  35.1102,2,    205.2,2,   207.3,2,     4.8,2,    10.4,2,    0.27,2,   0.900,2,   1.8184,6,   1.1150,6,   1.4362,6,  2084.0,2,  2314.2,6,   7.9011,2,    25.00,    0.86,2,    26.5,2,     2.7,   1.8218,2, -999.00,9,    56.9,2,   13.80,2, -999.00,9,    10.6095,2, -999.00,9,  -999.0,9,     -999.0,     -999.0,9,     -999.0,9,     -999.0,     -999.0,9,     -999.0,     -999.0,9,     -999.0,     -999.0,     -999.0,9,     -999.0,9,     -999.0,9,     -999.0,9,     -999.0,9,     -999.0,9,     -999.0,9,     -999.0,9
33RO20161119,        P18,      67,          1,         24,      11122,2,20161209,       1516,    -2.9996,  -109.9998,       3765,     2.8,  23.6332,  35.1067,2,  35.1125,2,    203.8,2,   206.5,2,     4.8,2,    10.3,2,    0.28,2,   0.897,2,   1.8107,2,   1.1158,2,   1.4135,2,  2082.1,6,  2313.1,2,   7.9024,2,    25.00,    0.86,2,    30.4,2,     2.4,        0,2, -999.00,9,    56.6,2,   13.50,2, -999.00,9,      9.997,2, -999.00,9,  -999.0,9,     -999.0,     -999.0,9,     -999.0,9,     -999.0,     -999.0,9,     -999.0,     -999.0,9,     -999.0,     -999.0,     -999.0,9,     -999.0,9,     -999.0,9,     -999.0,9,     -999.0,9,     -999.0,9,     -999.0,9,     -999.0,9