BOTTLE,20230606CCHSIOCBG
EXPOCODE,SECT_ID,STNNBR,CASTNO,SAMPNO,BTLNBR,BTLNBR_FLAG_W,DATE,TIME,LATITUDE,LONGITUDE,DEPTH,CTDPRS,CTDTMP,CTDSAL,CTDSAL_FLAG_W,SALNTY,SALNTY_FLAG_W,CTDOXY,CTDOXY_FLAG_W,OXYGEN,OXYGEN_FLAG_W,SILCAT,SILCAT_FLAG_W,NITRAT,NITRAT_FLAG_W,NITRIT,NITRIT_FLAG_W,PHSPHT,PHSPHT_FLAG_W,CFC-11,CFC-11_FLAG_W,CFC-12,CFC-12_FLAG_W,SF6,SF6_FLAG_W,TCARBN,TCARBN_FLAG_W,ALKALI,ALKALI_FLAG_W,PH_SWS,PH_SWS_FLAG_W,PH_TMP,DELC13,DELC13_FLAG_W,DELC14,DELC14_FLAG_W,C14ERR,CCL4,CCL4_FLAG_W,POC,POC_FLAG_W,DOC,DOC_FLAG_W,TDN,TDN_FLAG_W,PON,PON_FLAG_W,N2O,N2O_FLAG_W,D15N_NO3,D15N_NO3_FLAG_W,14C-DOC,14C-DOC_FLAG_W,14C-DOCERR,13C-DOC,13C-DOC_FLAG_W,N2/ARGON_UNSTRIPPED,N2/ARGON_UNSTRIPPED_FLAG_W,N2/ARGON_UNSTRIPPED_ERROR,N2/ARGON,N2/ARGON_FLAG_W,N2/ARGON_ERROR,D15N_N2,D15N_N2_FLAG_W,D15N_N2_ERROR,D15N_NO3_ERROR,D15N_NO2+NO3,D15N_NO2+NO3_FLAG_W,D18O_NO2+NO3,D18O_NO2+NO3_FLAG_W,D18O_NO3,D18O_NO3_FLAG_W,TDP,TDP_FLAG_W,N2O_ALT_1,N2O_ALT_1_FLAG_W,D15N_N2O,D15N_N2O_FLAG_W,D18O_N2O,D18O_N2O_FLAG_W,D15N_ALPHA_N2O,D15N_ALPHA_N2O_FLAG_W
,,,,,,,,,,,METERS,DBAR,ITS-90,PSS-78,,PSS-78,,UMOL/KG,,UMOL/KG,,UMOL/KG,,UMOL/KG,,UMOL/KG,,UMOL/KG,,PMOL/KG,,PMOL/KG,,FMOL/KG,,UMOL/KG,,UMOL/KG,,,,DEG C,/MILLE,,/MILLE,,/MILLE,PMOL/KG,,UG/KG,,UMOL/KG,,UMOL/KG,,UG/KG,,NMOL/KG,,/MILLE,,/MILLE,,/MILLE,/MILLE,,,,,,,,/MILLE,,/MILLE,/MILLE,/MILLE,,/MILLE,,/MILLE,,UMOL/KG,,NMOL/L,,/MILLE,,/MILLE,,/MILLE,
33RO20161119,        P18,     107,          1,          1,      11010,2,20161219,       0650,   -19.5001,  -103.0000,       4126,  4158.3,   1.8400,  34.6875,2,  34.6893,2,    150.3,2,   150.0,2,   127.2,6,    35.8,6,    0.00,6,   2.523,6,   0.0007,2,   0.0007,2,   0.0000,2,  2324.2,6,  2419.0,6,   7.5730,2,    25.00, -999.00,9,  -999.0,9,  -999.0,   0.0215,2, -999.00,9,    37.5,2,   37.50,2, -999.00,9,    20.4635,2, -999.00,9,  -999.0,9,     -999.0,     -999.0,9,     -999.0,9,     -999.0,     -999.0,9,     -999.0,     -999.0,9,     -999.0,     -999.0,     -999.0,9,     -999.0,9,     -999.0,9,     -999.0,9,     -999.0,9,     -999.0,9,     -999.0,9,     -999.0,9
33RO20161119,        P18,     107,          1,          2,      11101,2,20161219,       0650,   -19.5001,  -103.0000,       4126,  3753.9,   1.7994,  34.6870,2,  34.6864,2,    150.6,2,   150.8,2,   127.1,6,    35.7,6,    0.00,6,   2.531,6,   0.0033,2,   0.0026,2,   0.0000,2,  2323.1,2,  2418.5,2,   7.5779,2,    25.00, -999.00,9,  -999.0,9,  -999.0,        0,2, -999.00,9,    37.6,2,   37.90,2, -999.00,9,    20.7216,2, -999.00,9,  -999.0,9,     -999.0,     -999.0,9,     -999.0,9,     -999.0,     -999.0,9,     -999.0,     -999.0,9,     -999.0,     -999.0,     -999.0,9,     -999.0,9,     -999.0,9,     -999.0,9,     -999.0,9,     -999.0,9,     -999.0,9,     -999.0,9
33RO20161119,        P18,     107,          1,          3,      11102,2,20161219,       0650,   -19.5001,  -103.0000,       4126,  3347.2,   1.7766,  34.6848,2,  34.6836,2,    150.3,2,   151.0,2,   126.5,6,    35.9,6,    0.00,6,   2.530,6,   0.0028,2,   0.0015,2,   0.0000,2,  2321.0,2,  2417.0,2,   7.5762,2,    25.00, -999.00,9,  -999.0,9,  -999.0,        0,2, -999.00,9,    38.0,2,   37.10,2, -999.00,9,    20.2298,2, -999.00,9,  -999.0,9,     -999.0,     -999.0,9,     -999.0,9,     -999.0,     -999.0,9,     -999.0,     -999.0,9,     -999.0,     -999.0,     -999.0,9,     -999.0,9,     -999.0,9,     -999.0,9,     -999.0,9,     -999.0,9,     -999.0,9,     -999.0,9
33RO20161119,        P18,     107,          1,          4,      11103,2,20161219,       0650,   -19.5001,  -103.0000,       4126,  3047.0,   1.7826,  34.6811,2,  34.6804,2,    151.6,2,   152.8,2,   124.3,6,    35.7,6,    0.00,6,   2.515,6,   0.0013,2,   0.0015,2,   0.0000,2,  2317.2,2,  2409.5,2,   7.5760,2,    25.00, -999.00,9,  -999.0,9,  -999.0,   0.0095,2, -999.00,9,    37.2,2,   36.20,2, -999.00,9,    20.5136,2, -999.00,9,  -999.0,9,     -999.0,     -999.0,9,     -999.0,9,     -999.0,     -999.0,9,     -999.0,     -999.0,9,     -999.0,     -999.0,     -999.0,9,     -999.0,9,     -999.0,9,     -999.0,9,     -999.0,9,     -999.0,9,     -999.0,9,     -999.0,9
33RO20161119,        P18,     107,          1,          5,      11104,2,20161219,       0650,   -19.5001,  -103.0000,       4126,  2751.5,   1.8159,  34.6751,2,  34.6741,2,    154.1,2,   155.6,2,   120.5,2,    35.3,2,    0.00,2,   2.508,2,  -0.0002,2,   0.0000,2,   0.0000,2,  2311.7,2,  2404.1,2,   7.5739,2,    25.00, -999.00,9,  -999.0,9,  -999.0,   0.0111,2, -999.00,9,    37.7,2,   37.70,2, -999.00,9,    20.7911,2, -999.00,9,  -999.0,9,     -999.0,     -999.0,9,     -999.0,9,     -999.0,     -999.0,9,     -999.0,     -999.0,9,     -999.0,     -999.0,     -999.0,9,     -999.0,9,     -999.0,9,     -999.0,9,     -999.0,9,     -999.0,9,     -999.0,9,     -999.0,9
33RO20161119,        P18,     107,          1,          6,      11105,2,20161219,       0650,   -19.5001,  -103.0000,       4126,  2436.2,   1.9080,  34.6628,2,  34.6644,2,    152.3,2,   153.2,2,   116.7,2,    35.3,2,    0.00,2,   2.534,2,   0.0024,2,   0.0023,2,   0.0000,2,  2307.1,2,  2394.7,2,   7.5640,2,    25.00, -999.00,9,  -999.0,9,  -999.0,   0.0113,2, -999.00,9,    36.6,2,   37.60,2, -999.00,9,    21.0068,2, -999.00,9,  -999.0,9,     -999.0,     -999.0,9,     -999.0,9,     -999.0,     -999.0,9,     -999.0,     -999.0,9,     -999.0,     -999.0,     -999.0,9,     -999.0,9,     -999.0,9,     -999.0,9,     -999.0,9,     -999.0,9,     -999.0,9,     -999.0,9
33RO20161119,        P18,     107,          1,          7,      11106,2,20161219,       0650,   -19.5001,  -103.0000,       4126,  2114.6,   2.1139,  34.6429,2,  34.6483,4,    140.3,2,   141.2,2,   114.9,2,    36.4,2,    0.00,2,   2.632,2,   0.0027,2,   0.0028,2,   0.0359,2,  2312.1,2,  2392.5,2,   7.5418,2,    25.00, -999.00,9,  -999.0,9,  -999.0,        0,2, -999.00,9,    36.8,2,   38.70,2, -999.00,9,    22.8438,2, -999.00,9,  -999.0,9,     -999.0,     -999.0,9,     -999.0,9,     -999.0,     -999.0,9,     -999.0,     -999.0,9,     -999.0,     -999.0,     -999.0,9,     -999.0,9,     -999.0,9,     -999.0,9,     -999.0,9,     -999.0,9,     -999.0,9,     -999.0,9
33RO20161119,        P18,     107,          1,          8,      11107,2,20161219,       0650,   -19.5001,  -103.0000,       4126,  1797.3,   2.4597,  34.6194,2,  34.6210,2,    117.5,2,   119.2,2,   113.1,2,    38.2,2,    0.00,2,   2.768,2,   0.0009,2,   0.0010,2,   0.0000,2,  2321.1,6,  2390.0,2,   7.5050,2,    25.00, -999.00,9,  -999.0,9,  -999.0,        0,2, -999.00,9,    38.8,2,   41.70,2, -999.00,9,    25.5937,2, -999.00,9,  -999.0,9,     -999.0,     -999.0,9,     -999.0,9,     -999.0,     -999.0,9,     -999.0,     -999.0,9,     -999.0,     -999.0,     -999.0,9,     -999.0,9,     -999.0,9,     -999.0,9,     -999.0,9,     -999.0,9,     -999.0,9,     -999.0,9
33RO20161119,        P18,     107,          1,          9,      11108,2,20161219,       0650,   -19.5001,  -103.0000,       4126,  1515.6,   2.9068,  34.5867,2,  34.5865,2,    107.4,2,   108.3,6,   101.9,2,    39.2,2,    0.00,2,   2.836,2,   0.0013,2,   0.0013,2,   0.0000,2,  2316.9,2,  2378.3,2,   7.4818,2,    25.00, -999.00,9,  -999.0,9,  -999.0,        0,2, -999.00,9,    39.1,2,   41.90,2, -999.00,9,    27.8385,2, -999.00,9,  -999.0,9,     -999.0,     -999.0,9,     -999.0,9,     -999.0,     -999.0,9,     -999.0,     -999.0,9,     -999.0,     -999.0,     -999.0,9,     -999.0,9,     -999.0,9,     -999.0,9,     -999.0,9,     -999.0,9,     -999.0,9,     -999.0,9
33RO20161119,        P18,     107,          1,         10,      11109,2,20161219,       0650,   -19.5001,  -103.0000,       4126,  1330.8,   3.3166,  34.5602,2,  34.5604,2,    100.9,2,   102.2,2,    91.9,2,    39.8,2,    0.00,2,   2.855,2,   0.0002,2,   0.0008,2,   0.0000,2,  2308.1,2,  2349.7,3,   7.4693,2,    25.00, -999.00,9,  -999.0,9,  -999.0,   0.0143,2, -999.00,9,    38.1,2,   41.90,2, -999.00,9,      29.34,2, -999.00,9,  -999.0,9,     -999.0,     -999.0,9,     -999.0,9,     -999.0,     -999.0,9,     -999.0,     -999.0,9,     -999.0,     -999.0,     -999.0,9,     -999.0,9,     -999.0,9,     -999.0,9,     -999.0,9,     -999.0,9,     -999.0,9,     -999.0,9
33RO20161119,        P18,     107,          1,         11,      11110,2,20161219,       0650,   -19.5001,  -103.0000,       4126,  1187.6,   3.7055,  34.5388,2,  34.5385,2,     94.8,2,    96.0,2,    82.9,2,    40.1,2,    0.00,2,   2.875,2,   0.0008,2,   0.0021,2,   0.0000,2,  2302.2,2,  2354.9,2,   7.4565,2,    25.00, -999.00,9,  -999.0,9,  -999.0,   0.0311,2, -999.00,9,    37.6,2,   44.00,2, -999.00,9,    30.9411,2, -999.00,9,  -999.0,9,     -999.0,     -999.0,9,     -999.0,9,     -999.0,     -999.0,9,     -999.0,     -999.0,9,     -999.0,     -999.0,     -999.0,9,     -999.0,9,     -999.0,9,     -999.0,9,     -999.0,9,     -999.0,9,     -999.0,9,     -999.0,9
33RO20161119,        P18,     107,          1,         12,      11111,2,20161219,       0650,   -19.5001,  -103.0000,       4126,  1046.3,   4.1778,  34.5120,2,  34.5115,2,     90.6,2,    92.5,2,    71.2,2,    40.6,2,    0.00,2,   2.903,2,   0.0031,2,   0.0032,2,   0.0000,2,  2290.4,2,  2342.3,2,   7.4499,2,    25.00, -999.00,9,  -999.0,9,  -999.0,    0.116,2, -999.00,9,    37.9,2,   42.90,2, -999.00,9,    32.3484,2, -999.00,9,  -999.0,9,     -999.0,     -999.0,9,     -999.0,9,     -999.0,     -999.0,9,     -999.0,     -999.0,9,     -999.0,     -999.0,     -999.0,9,     -999.0,9,     -999.0,9,     -999.0,9,     -999.0,9,     -999.0,9,     -999.0,9,     -999.0,9
33RO20161119,        P18,     107,          1,         13,      11112,2,20161219,       0650,   -19.5001,  -103.0000,       4126,   919.4,   4.5842,  34.4874,2,  34.4865,2,     87.9,2,    90.1,2,    60.9,2,    40.5,2,    0.00,2,   2.890,2,   0.0047,2,   0.0032,2,   0.0000,2,  2281.2,2,  2329.6,2,   7.4449,2,    25.00, -999.00,9,  -999.0,9,  -999.0,   0.4499,2, -999.00,9,    41.2,2,   44.80,2, -999.00,9,    33.7689,2, -999.00,9,  -999.0,9,     -999.0,     -999.0,9,     -999.0,9,     -999.0,     -999.0,9,     -999.0,     -999.0,9,     -999.0,     -999.0,     -999.0,9,     -999.0,9,     -999.0,9,     -999.0,9,     -999.0,9,     -999.0,9,     -999.0,9,     -999.0,9
33RO20161119,        P18,     107,          1,         14,      11113,2,20161219,       0650,   -19.5001,  -103.0000,       4126,   788.8,   5.1996,  34.4449,2,  34.4459,2,     97.5,2,    94.7,2,    44.5,2,    39.6,2,    0.00,2,   2.801,2,   0.0488,2,   0.0281,2,   0.0000,2,  2259.5,2,  2311.6,2,   7.4534,2,    25.00, -999.00,9,  -999.0,9,  -999.0,   0.4628,2, -999.00,9,    42.0,2,   43.10,2, -999.00,9,     35.384,2, -999.00,9,  -999.0,9,     -999.0,     -999.0,9,     -999.0,9,     -999.0,     -999.0,9,     -999.0,     -999.0,9,     -999.0,     -999.0,     -999.0,9,     -999.0,9,     -999.0,9,     -999.0,9,     -999.0,9,     -999.0,9,     -999.0,9,     -999.0,9
33RO20161119,        P18,     107,          1,         15,      11114,2,20161219,       0650,   -19.5001,  -103.0000,       4126,   664.8,   5.9147,  34.4044,2,  34.4048,2,    118.1,2,   116.7,2,    28.6,2,    36.3,2,    0.00,2,   2.560,2,   0.4596,6,   0.2341,6,   0.0491,6,  2232.3,2,  2293.4,2,   7.4906,2,    25.00, -999.00,9,  -999.0,9,  -999.0,   0.5467,2, -999.00,9,    39.3,2,   38.90,2, -999.00,9,    36.7355,2, -999.00,9,  -999.0,9,     -999.0,     -999.0,9,     -999.0,9,     -999.0,     -999.0,9,     -999.0,     -999.0,9,     -999.0,     -999.0,     -999.0,9,     -999.0,9,     -999.0,9,     -999.0,9,     -999.0,9,     -999.0,9,     -999.0,9,     -999.0,9
33RO20161119,        P18,     107,          1,         16,      11115,2,20161219,       0650,   -19.5001,  -103.0000,       4126,   555.2,   6.8590,  34.4247,2,  34.4258,2,    104.8,2,   105.7,2,    22.6,2,    35.1,2,    0.00,2,   2.507,2,   0.9489,2,   0.4748,2,   0.1516,2,  2232.0,2,  2288.6,6,   7.4725,2,    25.00, -999.00,9,  -999.0,9,  -999.0,   0.3308,2, -999.00,9,    41.2,2,   38.70,2, -999.00,9,    39.8813,2, -999.00,9,  -999.0,9,     -999.0,     -999.0,9,     -999.0,9,     -999.0,     -999.0,9,     -999.0,     -999.0,9,     -999.0,     -999.0,     -999.0,9,     -999.0,9,     -999.0,9,     -999.0,9,     -999.0,9,     -999.0,9,     -999.0,9,     -999.0,9
33RO20161119,        P18,     107,          1,         17,      11116,2,20161219,       0650,   -19.5001,  -103.0000,       4126,   449.6,   8.8574,  34.4865,2,  34.4927,2,     63.3,2,    65.2,6,    19.5,2,    32.0,2,    0.00,2,   2.554,2,   1.4440,2,   0.7380,2,   0.3242,2,  2246.2,2,  2284.1,2,   7.4192,6,    25.00, -999.00,9,  -999.0,9,  -999.0,    0.514,2, -999.00,9,    45.9,2,   35.00,2, -999.00,9,    41.8259,2, -999.00,9,  -999.0,9,     -999.0,     -999.0,9,     -999.0,9,     -999.0,     -999.0,9,     -999.0,     -999.0,9,     -999.0,     -999.0,     -999.0,9,     -999.0,9,     -999.0,9,     -999.0,9,     -999.0,9,     -999.0,9,     -999.0,9,     -999.0,9
33RO20161119,        P18,     107,          1,         18,      11117,2,20161219,       0650,   -19.5001,  -103.0000,       4126,   339.3,  12.2754,  34.5577,2,  34.5620,2,    122.8,2,   130.1,2,     7.4,2,    17.6,2,    0.01,2,   1.664,2,   2.5495,2,   1.4782,2,   1.1210,2,  2172.2,2,  2286.4,2,   7.6425,2,    25.00, -999.00,9,  -999.0,9,  -999.0,   1.0617,2, -999.00,9,    48.2,2,   19.20,2, -999.00,9,    25.7126,2, -999.00,9,  -999.0,9,     -999.0,     -999.0,9,     -999.0,9,     -999.0,     -999.0,9,     -999.0,     -999.0,9,     -999.0,     -999.0,     -999.0,9,     -999.0,9,     -999.0,9,     -999.0,9,     -999.0,9,     -999.0,9,     -999.0,9,     -999.0,9
33RO20161119,        P18,     107,          1,         19,      11083,2,20161219,       0650,   -19.5001,  -103.0000,       4126,   249.8,  17.6670,  35.2963,2,  35.2925,2,    190.6,2,   189.7,2,     1.2,2,     6.1,2,    0.01,2,   0.758,2,   2.3141,2,   1.4288,2,   1.5210,2,  2114.4,2,  2331.8,2,   7.8735,2,    25.00, -999.00,9,  -999.0,9,  -999.0,   1.3648,2, -999.00,9,    49.7,2,    8.70,2, -999.00,9,    11.0148,2, -999.00,9,  -999.0,9,     -999.0,     -999.0,9,     -999.0,9,     -999.0,     -999.0,9,     -999.0,     -999.0,9,     -999.0,     -999.0,     -999.0,9,     -999.0,9,     -999.0,9,       0.91,2,     -999.0,9,     -999.0,9,     -999.0,9,     -999.0,9
33RO20161119,        P18,     107,          1,         20,      11118,2,20161219,       0650,   -19.5001,  -103.0000,       4126,   170.6,  21.6507,  36.0841,2,  36.0932,2,    207.1,2,   206.9,2,     0.6,2,     0.4,2,    0.32,2,   0.408,2,   1.9263,2,   1.2021,2,   1.5121,2,  2100.8,2,  2385.7,2,   7.9871,2,    25.00, -999.00,9,  -999.0,9,  -999.0,   1.7158,2, -999.00,9,    62.9,2,    4.30,2, -999.00,9,     7.3435,2, -999.00,9,  -999.0,9,     -999.0,     -999.0,9,     -999.0,9,     -999.0,     -999.0,9,     -999.0,     -999.0,9,     -999.0,     -999.0,     -999.0,9,     -999.0,9,     -999.0,9,       0.58,2,     -999.0,9,     -999.0,9,     -999.0,9,     -999.0,9
33RO20161119,        P18,     107,          1,         21,      11119,2,20161219,       0650,   -19.5001,  -103.0000,       4126,   106.1,  22.9700,  36.3123,2,  36.3142,2,    216.3,2,   221.2,3,     0.6,2,     0.0,2,    0.00,2,   0.339,2,   1.8135,2,   1.1443,2,   1.5050,2,  2090.7,2,  2400.7,2,   8.0249,2,    25.00, -999.00,9,  -999.0,9,  -999.0,   1.7353,2, -999.00,9,    68.7,2,    2.90,2, -999.00,9,     6.8182,2, -999.00,9,  -999.0,9,     -999.0,     -999.0,9,     -999.0,9,     -999.0,     -999.0,9,     -999.0,     -999.0,9,     -999.0,     -999.0,     -999.0,9,     -999.0,9,     -999.0,9,       0.56,2,     -999.0,9,     -999.0,9,     -999.0,9,     -999.0,9
33RO20161119,        P18,     107,          1,         22,      11120,2,20161219,       0650,   -19.5001,  -103.0000,       4126,    47.8,  23.6498,  36.3797,2,  36.3825,2,    213.0,2,   214.4,2,     0.6,2,     0.0,2,    0.00,2,   0.359,2,   1.7732,6,   1.1151,6,   1.4629,6,  2091.0,2,  2406.6,2,   8.0247,2,    25.00, -999.00,9,  -999.0,9,  -999.0,   1.6573,2, -999.00,9,    69.7,2,    5.00,2, -999.00,9,     6.7795,2, -999.00,9,  -999.0,9,     -999.0,     -999.0,9,     -999.0,9,     -999.0,     -999.0,9,     -999.0,     -999.0,9,     -999.0,     -999.0,     -999.0,9,     -999.0,9,     -999.0,9,       0.53,2,     -999.0,9,     -999.0,9,     -999.0,9,     -999.0,9
33RO20161119,        P18,     107,          1,         23,      11121,2,20161219,       0650,   -19.5001,  -103.0000,       4126,    18.9,  23.8758,  36.3995,2,  36.3970,2,    211.1,2,   213.1,2,     0.7,2,     0.0,2,    0.00,2,   0.366,2,   1.7626,2,   1.1092,2,   1.4600,2,  2092.8,2,  2406.0,2,   8.0251,2,    25.00, -999.00,9,  -999.0,9,  -999.0,        0,2, -999.00,9,    69.6,2,    4.00,2, -999.00,9,       6.68,2, -999.00,9,  -999.0,9,     -999.0,     -999.0,9,     -999.0,9,     -999.0,     -999.0,9,     -999.0,     -999.0,9,     -999.0,     -999.0,     -999.0,9,     -999.0,9,     -999.0,9,       0.56,2,     -999.0,9,     -999.0,9,     -999.0,9,     -999.0,9
33RO20161119,        P18,     107,          1,         24,      11122,2,20161219,       0650,   -19.5001,  -103.0000,       4126,     3.1,  23.8833,  36.4011,2,  36.3999,2,    210.8,2,   214.7,2,     0.7,2,     0.0,2,    0.00,2,   0.365,2,   1.7463,2,   1.1037,2,   1.4810,2,  2093.7,6,  2405.5,6,   8.0260,2,    25.00, -999.00,9,  -999.0,9,  -999.0,        0,2, -999.00,9,    55.7,2,    3.00,2, -999.00,9,     6.6197,2, -999.00,9,  -999.0,9,     -999.0,     -999.0,9,     -999.0,9,     -999.0,     -999.0,9,     -999.0,     -999.0,9,     -999.0,     -999.0,     -999.0,9,     -999.0,9,     -999.0,9,       0.67,2,     -999.0,9,     -999.0,9,     -999.0,9,     -999.0,9