BOTTLE,20230606CCHSIOCBG
EXPOCODE,SECT_ID,STNNBR,CASTNO,SAMPNO,BTLNBR,BTLNBR_FLAG_W,DATE,TIME,LATITUDE,LONGITUDE,DEPTH,CTDPRS,CTDTMP,CTDSAL,CTDSAL_FLAG_W,SALNTY,SALNTY_FLAG_W,CTDOXY,CTDOXY_FLAG_W,OXYGEN,OXYGEN_FLAG_W,SILCAT,SILCAT_FLAG_W,NITRAT,NITRAT_FLAG_W,NITRIT,NITRIT_FLAG_W,PHSPHT,PHSPHT_FLAG_W,CFC-11,CFC-11_FLAG_W,CFC-12,CFC-12_FLAG_W,SF6,SF6_FLAG_W,TCARBN,TCARBN_FLAG_W,ALKALI,ALKALI_FLAG_W,PH_SWS,PH_SWS_FLAG_W,PH_TMP,DELC13,DELC13_FLAG_W,DELC14,DELC14_FLAG_W,C14ERR,CCL4,CCL4_FLAG_W,POC,POC_FLAG_W,DOC,DOC_FLAG_W,TDN,TDN_FLAG_W,PON,PON_FLAG_W,N2O,N2O_FLAG_W,D15N_NO3,D15N_NO3_FLAG_W,14C-DOC,14C-DOC_FLAG_W,14C-DOCERR,13C-DOC,13C-DOC_FLAG_W,N2/ARGON_UNSTRIPPED,N2/ARGON_UNSTRIPPED_FLAG_W,N2/ARGON_UNSTRIPPED_ERROR,N2/ARGON,N2/ARGON_FLAG_W,N2/ARGON_ERROR,D15N_N2,D15N_N2_FLAG_W,D15N_N2_ERROR,D15N_NO3_ERROR,D15N_NO2+NO3,D15N_NO2+NO3_FLAG_W,D18O_NO2+NO3,D18O_NO2+NO3_FLAG_W,D18O_NO3,D18O_NO3_FLAG_W,TDP,TDP_FLAG_W,N2O_ALT_1,N2O_ALT_1_FLAG_W,D15N_N2O,D15N_N2O_FLAG_W,D18O_N2O,D18O_N2O_FLAG_W,D15N_ALPHA_N2O,D15N_ALPHA_N2O_FLAG_W
,,,,,,,,,,,METERS,DBAR,ITS-90,PSS-78,,PSS-78,,UMOL/KG,,UMOL/KG,,UMOL/KG,,UMOL/KG,,UMOL/KG,,UMOL/KG,,PMOL/KG,,PMOL/KG,,FMOL/KG,,UMOL/KG,,UMOL/KG,,,,DEG C,/MILLE,,/MILLE,,/MILLE,PMOL/KG,,UG/KG,,UMOL/KG,,UMOL/KG,,UG/KG,,NMOL/KG,,/MILLE,,/MILLE,,/MILLE,/MILLE,,,,,,,,/MILLE,,/MILLE,/MILLE,/MILLE,,/MILLE,,/MILLE,,UMOL/KG,,NMOL/L,,/MILLE,,/MILLE,,/MILLE,
33RO20161119,        P18,      77,          1,          1,      11010,2,20161211,       2327,    -6.7601,  -107.5294,       2919,  3025.7,   1.7904,  34.6761,2,  34.6755,2,    135.6,2,   135.9,2,   140.8,6,    36.8,6,    0.00,6,   2.537,6,   0.0028,2,   0.0013,2,   0.0232,2,  2338.5,2,  2427.8,2,   7.5611,2,    25.00, -999.00,9,  -999.0,9,  -999.0,        0,2, -999.00,9,    36.8,2,   36.00,2, -999.00,9,    21.3206,2, -999.00,9,  -999.0,9,     -999.0,     -999.0,9,     -999.0,9,     -999.0,     -999.0,9,     -999.0,     -999.0,9,     -999.0,     -999.0,     -999.0,9,     -999.0,9,     -999.0,9,     -999.0,9,     -999.0,9,     -999.0,9,     -999.0,9,     -999.0,9
33RO20161119,        P18,      77,          1,          2,      11101,2,20161211,       2327,    -6.7601,  -107.5294,       2919,  2729.7,   1.7723,  34.6755,2,  34.6769,2,    135.9,2,   135.9,2,   139.1,6,    36.7,6,    0.00,6,   2.528,6,   0.0021,2,   0.0011,2,   0.0212,2,  2334.7,2,  2425.0,2,   7.5630,2,    25.00, -999.00,9,  -999.0,9,  -999.0,        0,2, -999.00,9,    38.5,2,   40.60,2, -999.00,9,    21.5928,2, -999.00,9,  -999.0,9,     -999.0,     -999.0,9,     -999.0,9,     -999.0,     -999.0,9,     -999.0,     -999.0,9,     -999.0,     -999.0,     -999.0,9,     -999.0,9,     -999.0,9,     -999.0,9,     -999.0,9,     -999.0,9,     -999.0,9,     -999.0,9
33RO20161119,        P18,      77,          1,          3,      11102,2,20161211,       2327,    -6.7601,  -107.5294,       2919,  2465.0,   1.8939,  34.6661,2,  34.6656,2,    129.1,2,   128.5,2,   136.7,6,    37.2,6,    0.00,6,   2.576,6,-999.0000,9,-999.0000,9,-999.0000,9,  2335.1,2,  2418.1,2,   7.5423,2,    25.00, -999.00,9,  -999.0,9,  -999.0,-999.0000,9, -999.00,9,    39.6,2,   40.20,2, -999.00,9,     -999.0,9, -999.00,9,  -999.0,9,     -999.0,     -999.0,9,     -999.0,9,     -999.0,     -999.0,9,     -999.0,     -999.0,9,     -999.0,     -999.0,     -999.0,9,     -999.0,9,     -999.0,9,     -999.0,9,     -999.0,9,     -999.0,9,     -999.0,9,     -999.0,9
33RO20161119,        P18,      77,          1,          4,      11103,2,20161211,       2327,    -6.7601,  -107.5294,       2919,  2225.4,   2.1012,  34.6523,2,  34.6529,2,    118.4,2,   117.7,2,   134.6,6,    38.0,6,    0.00,6,   2.650,6,   0.0000,2,   0.0016,2,   0.0000,2,  2337.4,2,  2416.4,2,   7.5220,2,    25.00, -999.00,9,  -999.0,9,  -999.0,        0,2, -999.00,9,    39.5,2,   40.40,2, -999.00,9,    24.7143,2, -999.00,9,  -999.0,9,     -999.0,     -999.0,9,     -999.0,9,     -999.0,     -999.0,9,     -999.0,     -999.0,9,     -999.0,     -999.0,     -999.0,9,     -999.0,9,     -999.0,9,     -999.0,9,     -999.0,9,     -999.0,9,     -999.0,9,     -999.0,9
33RO20161119,        P18,      77,          1,          5,      11104,2,20161211,       2327,    -6.7601,  -107.5294,       2919,  2005.0,   2.2958,  34.6393,2,  34.6391,2,    113.2,2,   112.6,2,   130.0,2,    39.0,4,    0.00,2,   2.691,2,   0.0013,2,   0.0000,2,   0.0000,2,  2335.3,2,  2413.2,2,   7.5091,2,    25.00, -999.00,9,  -999.0,9,  -999.0,   0.0083,2, -999.00,9,    37.7,2,   39.50,2, -999.00,9,    25.2347,2, -999.00,9,  -999.0,9,     -999.0,     -999.0,9,     -999.0,9,     -999.0,     -999.0,9,     -999.0,     -999.0,9,     -999.0,     -999.0,     -999.0,9,     -999.0,9,     -999.0,9,     -999.0,9,     -999.0,9,     -999.0,9,     -999.0,9,     -999.0,9
33RO20161119,        P18,      77,          1,          6,      11105,2,20161211,       2327,    -6.7601,  -107.5294,       2919,  1780.0,   2.5418,  34.6235,2,  34.6234,2,    109.6,2,   108.8,6,   122.7,2,    38.5,2,    0.00,2,   2.709,2,-999.0000,9,-999.0000,9,-999.0000,9,  2330.8,6,  2397.7,2,   7.5005,2,    25.00, -999.00,9,  -999.0,9,  -999.0,-999.0000,9, -999.00,9,    38.5,2,   41.20,2, -999.00,9,     -999.0,9, -999.00,9,  -999.0,9,     -999.0,     -999.0,9,     -999.0,9,     -999.0,     -999.0,9,     -999.0,     -999.0,9,     -999.0,     -999.0,     -999.0,9,     -999.0,9,     -999.0,9,     -999.0,9,     -999.0,9,     -999.0,9,     -999.0,9,     -999.0,9
33RO20161119,        P18,      77,          1,          7,      11106,2,20161211,       2327,    -6.7601,  -107.5294,       2919,  1540.5,   2.8719,  34.6033,2,  34.6035,2,    108.1,2,   107.3,2,   112.7,2,    38.6,2,    0.00,2,   2.700,2,   0.0021,2,   0.0018,2,   0.0000,2,  2319.5,2,  2387.2,6,   7.4977,2,    25.00, -999.00,9,  -999.0,9,  -999.0,        0,2, -999.00,9,    37.4,2,   41.60,2, -999.00,9,    27.5392,2, -999.00,9,  -999.0,9,     -999.0,     -999.0,9,     -999.0,9,     -999.0,     -999.0,9,     -999.0,     -999.0,9,     -999.0,     -999.0,     -999.0,9,     -999.0,9,     -999.0,9,     -999.0,9,     -999.0,9,     -999.0,9,     -999.0,9,     -999.0,9
33RO20161119,        P18,      77,          1,          8,      11107,2,20161211,       2327,    -6.7601,  -107.5294,       2919,  1299.9,   3.3788,  34.5776,2,  34.5774,2,    105.1,2,   104.5,2,    99.1,2,    38.6,2,    0.00,2,   2.714,2,   0.0029,6,   0.0018,6,   0.0142,6,  2306.6,2,  2372.2,2,   7.4931,2,    25.00, -999.00,9,  -999.0,9,  -999.0,   0.0181,2, -999.00,9,    37.1,2,   41.80,2, -999.00,9,    28.4288,2, -999.00,9,  -999.0,9,     -999.0,     -999.0,9,     -999.0,9,     -999.0,     -999.0,9,     -999.0,     -999.0,9,     -999.0,     -999.0,     -999.0,9,     -999.0,9,     -999.0,9,     -999.0,9,     -999.0,9,     -999.0,9,     -999.0,9,     -999.0,9
33RO20161119,        P18,      77,          1,          9,      11108,2,20161211,       2327,    -6.7601,  -107.5294,       2919,  1105.1,   3.9963,  34.5578,2,  34.5579,2,     83.8,2,    83.0,2,    88.2,2,    40.4,2,    0.00,2,   2.851,2,   0.0020,2,   0.0024,2,   0.0441,2,  2306.9,2,  2357.5,6,   7.4520,2,    25.00, -999.00,9,  -999.0,9,  -999.0,        0,2, -999.00,9,    40.7,2,   44.10,2, -999.00,9,    33.3444,2, -999.00,9,  -999.0,9,     -999.0,     -999.0,9,     -999.0,9,     -999.0,     -999.0,9,     -999.0,     -999.0,9,     -999.0,     -999.0,     -999.0,9,     -999.0,9,     -999.0,9,     -999.0,9,     -999.0,9,     -999.0,9,     -999.0,9,     -999.0,9
33RO20161119,        P18,      77,          1,         10,      11109,2,20161211,       2327,    -6.7601,  -107.5294,       2919,   975.5,   4.4788,  34.5471,2,  34.5467,2,     73.0,2,    72.3,2,    79.2,2,    41.2,2,    0.00,2,   2.908,2,   0.0021,2,   0.0025,2,   0.0399,2,  2302.8,6,  2345.1,2,   7.4313,2,    25.00, -999.00,9,  -999.0,9,  -999.0,        0,2, -999.00,9,    39.4,2,   45.20,2, -999.00,9,    35.4825,2, -999.00,9,  -999.0,9,     -999.0,     -999.0,9,     -999.0,9,     -999.0,     -999.0,9,     -999.0,     -999.0,9,     -999.0,     -999.0,     -999.0,9,     -999.0,9,     -999.0,9,     -999.0,9,     -999.0,9,     -999.0,9,     -999.0,9,     -999.0,9
33RO20161119,        P18,      77,          1,         11,      11110,2,20161211,       2327,    -6.7601,  -107.5294,       2919,   864.8,   5.0119,  34.5422,2,  34.5427,2,     62.6,2,    62.0,2,    70.2,2,    41.8,2,    0.00,2,   2.946,2,   0.0057,2,   0.0031,2,   0.0000,2,  2297.0,2,  2337.3,2,   7.4157,2,    25.00, -999.00,9,  -999.0,9,  -999.0,   0.0143,2, -999.00,9,    40.3,2,   43.80,2, -999.00,9,    38.2573,2, -999.00,9,  -999.0,9,     -999.0,     -999.0,9,     -999.0,9,     -999.0,     -999.0,9,     -999.0,     -999.0,9,     -999.0,     -999.0,     -999.0,9,     -999.0,9,     -999.0,9,     -999.0,9,     -999.0,9,     -999.0,9,     -999.0,9,     -999.0,9
33RO20161119,        P18,      77,          1,         12,      11111,2,20161211,       2327,    -6.7601,  -107.5294,       2919,   765.1,   5.6003,  34.5430,2,  34.5423,2,     51.6,2,    52.2,2,    60.7,2,    42.3,2,    0.00,2,   2.938,2,   0.0064,2,   0.0041,2,   0.0000,2,  2292.6,2,  2326.6,2,   7.4008,2,    25.00, -999.00,9,  -999.0,9,  -999.0,   0.0155,2, -999.00,9,    40.4,2,   45.70,2, -999.00,9,    42.3262,2, -999.00,9,  -999.0,9,     -999.0,     -999.0,9,     -999.0,9,     -999.0,     -999.0,9,     -999.0,     -999.0,9,     -999.0,     -999.0,     -999.0,9,     -999.0,9,     -999.0,9,     -999.0,9,     -999.0,9,     -999.0,9,     -999.0,9,     -999.0,9
33RO20161119,        P18,      77,          1,         13,      11112,2,20161211,       2327,    -6.7601,  -107.5294,       2919,   669.5,   6.3551,  34.5558,2,  34.5547,2,     34.7,2,    34.8,6,    51.1,2,    43.1,2,    0.00,2,   2.976,2,   0.0110,2,   0.0073,2,   0.0275,2,  2290.9,2,  2316.7,2,   7.3735,2,    25.00, -999.00,9,  -999.0,9,  -999.0,   0.0157,2, -999.00,9,    40.6,2,   46.00,2, -999.00,9,     49.529,2, -999.00,9,  -999.0,9,     -999.0,     -999.0,9,     -999.0,9,     -999.0,     -999.0,9,     -999.0,     -999.0,9,     -999.0,     -999.0,     -999.0,9,     -999.0,9,     -999.0,9,     -999.0,9,     -999.0,9,     -999.0,9,     -999.0,9,     -999.0,9
33RO20161119,        P18,      77,          1,         14,      11113,2,20161211,       2327,    -6.7601,  -107.5294,       2919,   580.1,   7.5023,  34.6006,2,  34.5990,2,     16.6,2,  -999.0,9,    42.8,2,    42.2,2,    0.00,2,   2.970,2,   0.0299,2,   0.0180,2,   0.0000,2,  2290.8,2,  2306.4,2,   7.3530,2,    25.00, -999.00,9,  -999.0,9,  -999.0,   0.0246,2, -999.00,9,    40.2,2,   45.00,2, -999.00,9,    63.9123,2, -999.00,9,  -999.0,9,     -999.0,     -999.0,9,     -999.0,9,     -999.0,     -999.0,9,     -999.0,     -999.0,9,     -999.0,     -999.0,     -999.0,9,     -999.0,9,     -999.0,9,     -999.0,9,     -999.0,9,     -999.0,9,     -999.0,9,     -999.0,9
33RO20161119,        P18,      77,          1,         15,      11114,2,20161211,       2327,    -6.7601,  -107.5294,       2919,   490.0,   8.6639,  34.6623,2,  34.6609,2,      7.5,2,     7.3,2,    38.6,2,    39.5,2,    0.00,2,   2.847,2,   0.1020,6,   0.0602,6,   0.0000,6,  2286.5,2,  2304.7,2,   7.3551,2,    25.00, -999.00,9,  -999.0,9,  -999.0,    0.024,2, -999.00,9,    41.0,2,   43.00,2, -999.00,9,    69.8831,2, -999.00,9,  -999.0,9,     -999.0,     -999.0,9,     -999.0,9,     -999.0,     -999.0,9,     -999.0,     -999.0,9,     -999.0,     -999.0,     -999.0,9,     -999.0,9,     -999.0,9,     -999.0,9,     -999.0,9,     -999.0,9,     -999.0,9,     -999.0,9
33RO20161119,        P18,      77,          1,         16,      11115,2,20161211,       2327,    -6.7601,  -107.5294,       2919,   405.0,   9.6205,  34.7192,2,  34.7179,2,     13.6,2,    10.8,2,    33.8,2,    36.7,2,    0.01,2,   2.663,2,   0.2773,2,   0.1558,2,   0.0601,2,  2276.2,2,  2302.8,2,   7.3786,2,    25.00, -999.00,9,  -999.0,9,  -999.0,   0.0674,2, -999.00,9,    44.2,2,   40.80,2, -999.00,9,    72.5658,2, -999.00,9,  -999.0,9,     -999.0,     -999.0,9,     -999.0,9,     -999.0,     -999.0,9,     -999.0,     -999.0,9,     -999.0,     -999.0,     -999.0,9,     -999.0,9,     -999.0,9,     -999.0,9,     -999.0,9,     -999.0,9,     -999.0,9,     -999.0,9
33RO20161119,        P18,      77,          1,         17,      11116,2,20161211,       2327,    -6.7601,  -107.5294,       2919,   330.1,  10.6030,  34.7814,2,  34.7792,2,     20.6,2,    18.4,2,    29.2,2,    33.9,2,    0.01,2,   2.491,2,   0.5501,2,   0.3068,2,   0.1217,2,  2262.0,2,  2302.8,6,   7.4209,2,    25.00, -999.00,9,  -999.0,9,  -999.0,   0.1122,2, -999.00,9,    44.6,2,   36.80,2, -999.00,9,    69.3036,2, -999.00,9,  -999.0,9,     -999.0,     -999.0,9,     -999.0,9,     -999.0,     -999.0,9,     -999.0,     -999.0,9,     -999.0,     -999.0,     -999.0,9,     -999.0,9,     -999.0,9,     -999.0,9,     -999.0,9,     -999.0,9,     -999.0,9,     -999.0,9
33RO20161119,        P18,      77,          1,         18,      11117,2,20161211,       2327,    -6.7601,  -107.5294,       2919,   259.8,  11.3454,  34.8305,2,  34.8283,2,     36.4,2,    35.5,2,    24.2,2,    31.3,2,    0.01,2,   2.290,2,   0.8532,2,   0.4723,2,   0.1996,2,  2243.1,6,  2302.6,2,   7.4798,2,    25.00, -999.00,9,  -999.0,9,  -999.0,   0.1061,2, -999.00,9,    45.6,2,   34.70,2, -999.00,9,    63.3787,2, -999.00,9,  -999.0,9,     -999.0,     -999.0,9,     -999.0,9,     -999.0,     -999.0,9,     -999.0,     -999.0,9,     -999.0,     -999.0,     -999.0,9,     -999.0,9,     -999.0,9,     -999.0,9,     -999.0,9,     -999.0,9,     -999.0,9,     -999.0,9
33RO20161119,        P18,      77,          1,         19,      11083,2,20161211,       2327,    -6.7601,  -107.5294,       2919,   194.5,  12.6508,  34.9010,2,  34.8970,2,     18.8,2,     2.0,3,    20.5,2,    28.8,2,    0.01,2,   2.377,2,   1.1351,2,   0.6443,2,   0.3320,2,  2249.3,2,  2302.2,2,   7.4538,2,    25.00, -999.00,9,  -999.0,9,  -999.0,   0.2905,2, -999.00,9,    45.1,2,   31.20,2, -999.00,9,    72.0691,2, -999.00,9,  -999.0,9,     -999.0,     -999.0,9,     -999.0,9,     -999.0,     -999.0,9,     -999.0,     -999.0,9,     -999.0,     -999.0,     -999.0,9,     -999.0,9,     -999.0,9,     -999.0,9,     -999.0,9,     -999.0,9,     -999.0,9,     -999.0,9
33RO20161119,        P18,      77,          1,         20,      11118,2,20161211,       2327,    -6.7601,  -107.5294,       2919,   140.6,  15.6491,  35.1275,2,  35.1241,2,     71.4,2,    69.1,2,     8.6,2,    20.9,2,    0.05,2,   1.807,2,   1.9762,2,   1.1749,2,   1.0287,2,  2205.5,2,  2313.2,2,   7.6174,2,    25.00, -999.00,9,  -999.0,9,  -999.0,   1.0946,2, -999.00,9,    51.2,2,   21.50,2, -999.00,9,    52.7715,2, -999.00,9,  -999.0,9,     -999.0,     -999.0,9,     -999.0,9,     -999.0,     -999.0,9,     -999.0,     -999.0,9,     -999.0,     -999.0,     -999.0,9,     -999.0,9,     -999.0,9,     -999.0,9,     -999.0,9,     -999.0,9,     -999.0,9,     -999.0,9
33RO20161119,        P18,      77,          1,         21,      11119,2,20161211,       2327,    -6.7601,  -107.5294,       2919,    90.5,  22.6667,  35.3801,2,  35.4052,2,    184.4,2,   178.4,2,     2.8,2,     7.5,2,    0.57,2,   0.951,2,   1.8535,2,   1.1508,2,   1.4188,2,  2105.2,2,  2334.1,2,   7.9029,6,    25.00, -999.00,9,  -999.0,9,  -999.0,   1.8375,2, -999.00,9,    57.8,2,   13.20,2, -999.00,9,     13.676,2, -999.00,9,  -999.0,9,     -999.0,     -999.0,9,     -999.0,9,     -999.0,     -999.0,9,     -999.0,     -999.0,9,     -999.0,     -999.0,     -999.0,9,     -999.0,9,     -999.0,9,     -999.0,9,     -999.0,9,     -999.0,9,     -999.0,9,     -999.0,9
33RO20161119,        P18,      77,          1,         22,      11120,2,20161211,       2327,    -6.7601,  -107.5294,       2919,    49.8,  24.9368,  35.3656,2,  35.3646,2,    208.1,2,   207.6,2,     2.3,2,     7.3,2,    0.15,2,   0.720,2,   1.7068,2,   1.0636,2,   1.4440,2,  2065.8,2,  2330.3,2,   7.9727,2,    25.00, -999.00,9,  -999.0,9,  -999.0,   1.8051,2, -999.00,9,    59.4,2,   12.60,2, -999.00,9,     7.1167,2, -999.00,9,  -999.0,9,     -999.0,     -999.0,9,     -999.0,9,     -999.0,     -999.0,9,     -999.0,     -999.0,9,     -999.0,     -999.0,     -999.0,9,     -999.0,9,     -999.0,9,     -999.0,9,     -999.0,9,     -999.0,9,     -999.0,9,     -999.0,9
33RO20161119,        P18,      77,          1,         23,      11121,2,20161211,       2327,    -6.7601,  -107.5294,       2919,    25.1,  25.0486,  35.3719,2,  35.3677,2,    208.7,2,   208.0,2,     2.3,2,     7.2,2,    0.15,2,   0.728,2,   1.6817,2,   1.0611,2,   1.4385,2,  2064.2,2,  2328.8,2,   7.9729,2,    25.00, -999.00,9,  -999.0,9,  -999.0,   1.8672,2, -999.00,9,    62.2,2,   11.10,2, -999.00,9,     6.9474,2, -999.00,9,  -999.0,9,     -999.0,     -999.0,9,     -999.0,9,     -999.0,     -999.0,9,     -999.0,     -999.0,9,     -999.0,     -999.0,     -999.0,9,     -999.0,9,     -999.0,9,     -999.0,9,     -999.0,9,     -999.0,9,     -999.0,9,     -999.0,9
33RO20161119,        P18,      77,          1,         24,      11122,2,20161211,       2327,    -6.7601,  -107.5294,       2919,     3.3,  25.0914,  35.3757,2,  35.3766,2,    207.8,2,   208.0,2,     2.4,2,     7.2,2,    0.15,2,   0.710,2,   1.6883,2,   1.0576,2,   1.4641,2,  2064.1,2,  2329.4,2,   7.9731,2,    25.00, -999.00,9,  -999.0,9,  -999.0,   0.0088,2, -999.00,9,    60.0,2,   12.00,2, -999.00,9,     6.9828,2, -999.00,9,  -999.0,9,     -999.0,     -999.0,9,     -999.0,9,     -999.0,     -999.0,9,     -999.0,     -999.0,9,     -999.0,     -999.0,     -999.0,9,     -999.0,9,     -999.0,9,     -999.0,9,     -999.0,9,     -999.0,9,     -999.0,9,     -999.0,9