BOTTLE,20230606CCHSIOCBG
EXPOCODE,SECT_ID,STNNBR,CASTNO,SAMPNO,BTLNBR,BTLNBR_FLAG_W,DATE,TIME,LATITUDE,LONGITUDE,DEPTH,CTDPRS,CTDTMP,CTDSAL,CTDSAL_FLAG_W,SALNTY,SALNTY_FLAG_W,CTDOXY,CTDOXY_FLAG_W,OXYGEN,OXYGEN_FLAG_W,SILCAT,SILCAT_FLAG_W,NITRAT,NITRAT_FLAG_W,NITRIT,NITRIT_FLAG_W,PHSPHT,PHSPHT_FLAG_W,CFC-11,CFC-11_FLAG_W,CFC-12,CFC-12_FLAG_W,SF6,SF6_FLAG_W,TCARBN,TCARBN_FLAG_W,ALKALI,ALKALI_FLAG_W,PH_SWS,PH_SWS_FLAG_W,PH_TMP,DELC13,DELC13_FLAG_W,DELC14,DELC14_FLAG_W,C14ERR,CCL4,CCL4_FLAG_W,POC,POC_FLAG_W,DOC,DOC_FLAG_W,TDN,TDN_FLAG_W,PON,PON_FLAG_W,N2O,N2O_FLAG_W,D15N_NO3,D15N_NO3_FLAG_W,14C-DOC,14C-DOC_FLAG_W,14C-DOCERR,13C-DOC,13C-DOC_FLAG_W,N2/ARGON_UNSTRIPPED,N2/ARGON_UNSTRIPPED_FLAG_W,N2/ARGON_UNSTRIPPED_ERROR,N2/ARGON,N2/ARGON_FLAG_W,N2/ARGON_ERROR,D15N_N2,D15N_N2_FLAG_W,D15N_N2_ERROR,D15N_NO3_ERROR,D15N_NO2+NO3,D15N_NO2+NO3_FLAG_W,D18O_NO2+NO3,D18O_NO2+NO3_FLAG_W,D18O_NO3,D18O_NO3_FLAG_W,TDP,TDP_FLAG_W,N2O_ALT_1,N2O_ALT_1_FLAG_W,D15N_N2O,D15N_N2O_FLAG_W,D18O_N2O,D18O_N2O_FLAG_W,D15N_ALPHA_N2O,D15N_ALPHA_N2O_FLAG_W
,,,,,,,,,,,METERS,DBAR,ITS-90,PSS-78,,PSS-78,,UMOL/KG,,UMOL/KG,,UMOL/KG,,UMOL/KG,,UMOL/KG,,UMOL/KG,,PMOL/KG,,PMOL/KG,,FMOL/KG,,UMOL/KG,,UMOL/KG,,,,DEG C,/MILLE,,/MILLE,,/MILLE,PMOL/KG,,UG/KG,,UMOL/KG,,UMOL/KG,,UG/KG,,NMOL/KG,,/MILLE,,/MILLE,,/MILLE,/MILLE,,,,,,,,/MILLE,,/MILLE,/MILLE,/MILLE,,/MILLE,,/MILLE,,UMOL/KG,,NMOL/L,,/MILLE,,/MILLE,,/MILLE,
33RO20161119,        P18,     205,          1,          1,      11010,2,20170125,       1821,   -68.5001,  -103.0001,       4306,  4375.3,   0.3653,  34.7004,2,  34.6988,2,    213.1,2,   213.6,6,   143.9,2,    33.2,2,    0.01,2,   2.242,2,   0.4293,2,   0.2053,2,   0.0659,2,  2264.9,6,  2363.1,2,   7.5854,6,    25.00, -999.00,9,  -999.0,9,  -999.0,     0.31,2, -999.00,9,  -999.0,9, -999.00,9, -999.00,9,    18.0732,2, -999.00,9,  -999.0,9,     -999.0,     -999.0,9,     -999.0,9,     -999.0,     -999.0,9,     -999.0,     -999.0,9,     -999.0,     -999.0,     -999.0,9,     -999.0,9,     -999.0,9,     -999.0,9,     -999.0,9,     -999.0,9,     -999.0,9,     -999.0,9
33RO20161119,        P18,     205,          1,          2,      11101,2,20170125,       1821,   -68.5001,  -103.0001,       4306,  4090.2,   0.3991,  34.7026,2,  34.7007,2,    212.3,2,   211.8,2,   138.8,2,    33.1,2,    0.01,2,   2.247,2,   0.2882,2,   0.1401,2,   0.0298,2,  2263.6,2,  2363.2,2,   7.5867,2,    25.00, -999.00,9,  -999.0,9,  -999.0,   0.2808,2, -999.00,9,  -999.0,9, -999.00,9, -999.00,9,    18.1081,2, -999.00,9,  -999.0,9,     -999.0,     -999.0,9,     -999.0,9,     -999.0,     -999.0,9,     -999.0,     -999.0,9,     -999.0,     -999.0,     -999.0,9,     -999.0,9,     -999.0,9,     -999.0,9,     -999.0,9,     -999.0,9,     -999.0,9,     -999.0,9
33RO20161119,        P18,     205,          1,          3,      11102,2,20170125,       1821,   -68.5001,  -103.0001,       4306,  3805.5,   0.4306,  34.7038,2,  34.7021,2,    210.8,2,   211.0,2,   136.8,6,    33.1,6,    0.01,6,   2.250,6,   0.2216,2,   0.1066,2,   0.0385,2,  2262.6,2,  2363.1,2,   7.5873,2,    25.00, -999.00,9,  -999.0,9,  -999.0,   0.2235,2, -999.00,9,  -999.0,9, -999.00,9, -999.00,9,    18.1787,2, -999.00,9,  -999.0,9,     -999.0,     -999.0,9,     -999.0,9,     -999.0,     -999.0,9,     -999.0,     -999.0,9,     -999.0,     -999.0,     -999.0,9,     -999.0,9,     -999.0,9,     -999.0,9,     -999.0,9,     -999.0,9,     -999.0,9,     -999.0,9
33RO20161119,        P18,     205,          1,          4,      11103,2,20170125,       1821,   -68.5001,  -103.0001,       4306,  3478.1,   0.4686,  34.7045,2,  34.7025,2,    210.3,2,   210.3,2,   134.1,6,    33.1,6,    0.01,6,   2.242,6,   0.1890,2,   0.0923,2,   0.0314,2,  2262.4,2,  2361.7,6,   7.5894,2,    25.00, -999.00,9,  -999.0,9,  -999.0,   0.1959,2, -999.00,9,  -999.0,9, -999.00,9, -999.00,9,    18.1582,2, -999.00,9,  -999.0,9,     -999.0,     -999.0,9,     -999.0,9,     -999.0,     -999.0,9,     -999.0,     -999.0,9,     -999.0,     -999.0,     -999.0,9,     -999.0,9,     -999.0,9,     -999.0,9,     -999.0,9,     -999.0,9,     -999.0,9,     -999.0,9
33RO20161119,        P18,     205,          1,          5,      11104,2,20170125,       1821,   -68.5001,  -103.0001,       4306,  3160.7,   0.5188,  34.7052,2,  34.7053,2,    209.1,2,   209.2,2,   130.5,6,    33.0,6,    0.01,6,   2.226,6,   0.1867,2,   0.0916,2,   0.0000,2,  2260.3,2,  2363.4,2,   7.5897,2,    25.00, -999.00,9,  -999.0,9,  -999.0,   0.1738,2, -999.00,9,  -999.0,9, -999.00,9, -999.00,9,    18.2241,2, -999.00,9,  -999.0,9,     -999.0,     -999.0,9,     -999.0,9,     -999.0,     -999.0,9,     -999.0,     -999.0,9,     -999.0,     -999.0,     -999.0,9,     -999.0,9,     -999.0,9,     -999.0,9,     -999.0,9,     -999.0,9,     -999.0,9,     -999.0,9
33RO20161119,        P18,     205,          1,          6,      11105,2,20170125,       1821,   -68.5001,  -103.0001,       4306,  2829.7,   0.6160,  34.7071,2,  34.7056,2,    207.0,2,   206.8,2,   126.7,6,    32.8,6,    0.01,6,   2.232,6,   0.1814,6,   0.0879,6,   0.0211,6,  2260.1,2,  2360.4,2,   7.5882,2,    25.00, -999.00,9,  -999.0,9,  -999.0,   0.1499,2, -999.00,9,  -999.0,9, -999.00,9, -999.00,9,    18.5207,2, -999.00,9,  -999.0,9,     -999.0,     -999.0,9,     -999.0,9,     -999.0,     -999.0,9,     -999.0,     -999.0,9,     -999.0,     -999.0,     -999.0,9,     -999.0,9,     -999.0,9,     -999.0,9,     -999.0,9,     -999.0,9,     -999.0,9,     -999.0,9
33RO20161119,        P18,     205,          1,          7,      11106,2,20170125,       1821,   -68.5001,  -103.0001,       4306,  2496.0,   0.7458,  34.7103,2,  34.7084,2,    204.6,2,   204.2,2,   123.1,2,    32.7,2,    0.01,2,   2.227,2,   0.1513,2,   0.0760,2,   0.0419,2,  2259.1,2,  2360.2,2,   7.5921,2,    25.00, -999.00,9,  -999.0,9,  -999.0,   0.1775,2, -999.00,9,  -999.0,9, -999.00,9, -999.00,9,    18.4658,2, -999.00,9,  -999.0,9,     -999.0,     -999.0,9,     -999.0,9,     -999.0,     -999.0,9,     -999.0,     -999.0,9,     -999.0,     -999.0,     -999.0,9,     -999.0,9,     -999.0,9,     -999.0,9,     -999.0,9,     -999.0,9,     -999.0,9,     -999.0,9
33RO20161119,        P18,     205,          1,          8,      11107,2,20170125,       1821,   -68.5001,  -103.0001,       4306,  2140.5,   0.8860,  34.7150,2,  34.7139,2,    202.0,2,   201.6,2,   118.4,2,    32.6,2,    0.01,2,   2.212,2,   0.1301,2,   0.0644,2,   0.0000,2,  2259.7,2,  2361.4,2,   7.5914,2,    25.00, -999.00,9,  -999.0,9,  -999.0,   0.1748,2, -999.00,9,  -999.0,9, -999.00,9, -999.00,9,    18.5519,2, -999.00,9,  -999.0,9,     -999.0,     -999.0,9,     -999.0,9,     -999.0,     -999.0,9,     -999.0,     -999.0,9,     -999.0,     -999.0,     -999.0,9,     -999.0,9,     -999.0,9,     -999.0,9,     -999.0,9,     -999.0,9,     -999.0,9,     -999.0,9
33RO20161119,        P18,     205,          1,          9,      11108,2,20170125,       1821,   -68.5001,  -103.0001,       4306,  1760.5,   1.0557,  34.7215,2,  34.7198,2,    198.4,2,   198.2,2,   112.5,2,    32.5,2,    0.01,2,   2.204,2,   0.1059,2,   0.0526,2,   0.0234,2,  2258.4,2,  2357.2,2,   7.5919,2,    25.00, -999.00,9,  -999.0,9,  -999.0,   0.2216,2, -999.00,9,  -999.0,9, -999.00,9, -999.00,9,    18.7248,2, -999.00,9,  -999.0,9,     -999.0,     -999.0,9,     -999.0,9,     -999.0,     -999.0,9,     -999.0,     -999.0,9,     -999.0,     -999.0,     -999.0,9,     -999.0,9,     -999.0,9,     -999.0,9,     -999.0,9,     -999.0,9,     -999.0,9,     -999.0,9
33RO20161119,        P18,     205,          1,         10,      11109,2,20170125,       1821,   -68.5001,  -103.0001,       4306,  1535.5,   1.1816,  34.7256,2,  34.7241,2,    195.4,2,   195.3,2,   108.5,2,    32.4,2,    0.01,2,   2.187,2,   0.1053,2,   0.0512,2,   0.0160,2,  2258.0,2,  2360.4,2,   7.5889,2,    25.00, -999.00,9,  -999.0,9,  -999.0,   0.2432,2, -999.00,9,  -999.0,9, -999.00,9, -999.00,9,    18.8046,2, -999.00,9,  -999.0,9,     -999.0,     -999.0,9,     -999.0,9,     -999.0,     -999.0,9,     -999.0,     -999.0,9,     -999.0,     -999.0,     -999.0,9,     -999.0,9,     -999.0,9,     -999.0,9,     -999.0,9,     -999.0,9,     -999.0,9,     -999.0,9
33RO20161119,        P18,     205,          1,         11,      11110,2,20170125,       1821,   -68.5001,  -103.0001,       4306,  1369.9,   1.2840,  34.7289,2,  34.7269,2,    193.5,2,   193.3,2,   105.3,2,    32.3,2,    0.01,2,   2.181,2,   0.1161,2,   0.0572,2,   0.0000,2,  2257.5,2,  2359.7,2,   7.5885,2,    25.00, -999.00,9,  -999.0,9,  -999.0,   0.2947,2, -999.00,9,  -999.0,9, -999.00,9, -999.00,9,    18.9649,2, -999.00,9,  -999.0,9,     -999.0,     -999.0,9,     -999.0,9,     -999.0,     -999.0,9,     -999.0,     -999.0,9,     -999.0,     -999.0,     -999.0,9,     -999.0,9,     -999.0,9,     -999.0,9,     -999.0,9,     -999.0,9,     -999.0,9,     -999.0,9
33RO20161119,        P18,     205,          1,         12,      11111,2,20170125,       1821,   -68.5001,  -103.0001,       4306,  1215.1,   1.3891,  34.7316,2,  34.7300,2,    191.5,2,   192.3,2,   101.9,2,    32.1,2,    0.01,2,   2.176,2,   0.1332,2,   0.0651,2,   0.0000,2,  2256.3,2,  2356.0,2,   7.5865,2,    25.00, -999.00,9,  -999.0,9,  -999.0,   0.3598,2, -999.00,9,  -999.0,9, -999.00,9, -999.00,9,    19.0832,2, -999.00,9,  -999.0,9,     -999.0,     -999.0,9,     -999.0,9,     -999.0,     -999.0,9,     -999.0,     -999.0,9,     -999.0,     -999.0,     -999.0,9,     -999.0,9,     -999.0,9,     -999.0,9,     -999.0,9,     -999.0,9,     -999.0,9,     -999.0,9
33RO20161119,        P18,     205,          1,         13,      11112,2,20170125,       1821,   -68.5001,  -103.0001,       4306,  1075.8,   1.5010,  34.7332,2,  34.7334,2,    190.0,2,   190.4,2,    98.3,2,    32.0,2,    0.01,2,   2.177,2,   0.1552,2,   0.0769,2,   0.0556,2,  2255.5,2,  2354.6,2,   7.5873,2,    25.00, -999.00,9,  -999.0,9,  -999.0,   0.4164,2, -999.00,9,  -999.0,9, -999.00,9, -999.00,9,    19.2353,2, -999.00,9,  -999.0,9,     -999.0,     -999.0,9,     -999.0,9,     -999.0,     -999.0,9,     -999.0,     -999.0,9,     -999.0,     -999.0,     -999.0,9,     -999.0,9,     -999.0,9,     -999.0,9,     -999.0,9,     -999.0,9,     -999.0,9,     -999.0,9
33RO20161119,        P18,     205,          1,         14,      11113,2,20170125,       1821,   -68.5001,  -103.0001,       4306,   940.4,   1.6118,  34.7333,2,  34.7332,2,    187.7,2,   188.7,2,    94.8,2,    32.0,2,    0.01,2,   2.172,2,   0.1921,2,   0.0955,2,   0.0476,2,  2256.4,2,  2352.3,2,   7.5863,2,    25.00, -999.00,9,  -999.0,9,  -999.0,   0.5818,2, -999.00,9,  -999.0,9, -999.00,9, -999.00,9,    19.4846,2, -999.00,9,  -999.0,9,     -999.0,     -999.0,9,     -999.0,9,     -999.0,     -999.0,9,     -999.0,     -999.0,9,     -999.0,     -999.0,     -999.0,9,     -999.0,9,     -999.0,9,     -999.0,9,     -999.0,9,     -999.0,9,     -999.0,9,     -999.0,9
33RO20161119,        P18,     205,          1,         15,      11114,2,20170125,       1821,   -68.5001,  -103.0001,       4306,   798.8,   1.7185,  34.7309,2,  34.7299,2,    185.0,2,   186.2,2,    91.6,2,    32.1,2,    0.01,2,   2.172,2,   0.1978,2,   0.0980,2,   0.0741,2,  2254.3,2,  2352.0,2,   7.5841,2,    25.00, -999.00,9,  -999.0,9,  -999.0,   0.9886,2, -999.00,9,  -999.0,9, -999.00,9, -999.00,9,    19.6864,2, -999.00,9,  -999.0,9,     -999.0,     -999.0,9,     -999.0,9,     -999.0,     -999.0,9,     -999.0,     -999.0,9,     -999.0,     -999.0,     -999.0,9,     -999.0,9,     -999.0,9,     -999.0,9,     -999.0,9,     -999.0,9,     -999.0,9,     -999.0,9
33RO20161119,        P18,     205,          1,         16,      11115,2,20170125,       1821,   -68.5001,  -103.0001,       4306,   670.5,   1.8290,  34.7249,2,  34.7232,2,    183.6,2,   184.6,2,    88.3,2,    32.2,2,    0.01,2,   2.180,2,   0.2306,2,   0.1143,2,   0.0665,2,  2254.7,2,  2348.6,6,   7.5789,2,    25.00, -999.00,9,  -999.0,9,  -999.0,   0.9981,2, -999.00,9,  -999.0,9, -999.00,9, -999.00,9,    19.9321,2, -999.00,9,  -999.0,9,     -999.0,     -999.0,9,     -999.0,9,     -999.0,     -999.0,9,     -999.0,     -999.0,9,     -999.0,     -999.0,     -999.0,9,     -999.0,9,     -999.0,9,     -999.0,9,     -999.0,9,     -999.0,9,     -999.0,9,     -999.0,9
33RO20161119,        P18,     205,          1,         17,      11116,2,20170125,       1821,   -68.5001,  -103.0001,       4306,   555.6,   1.9095,  34.7130,2,  34.7108,2,    178.0,2,   179.1,2,    86.5,2,    32.7,2,    0.01,2,   2.202,2,   0.2734,2,   0.1366,2,   0.0659,2,  2254.9,2,  2348.6,2,   7.5668,2,    25.00, -999.00,9,  -999.0,9,  -999.0,   2.6578,2, -999.00,9,  -999.0,9, -999.00,9, -999.00,9,    20.5216,2, -999.00,9,  -999.0,9,     -999.0,     -999.0,9,     -999.0,9,     -999.0,     -999.0,9,     -999.0,     -999.0,9,     -999.0,     -999.0,     -999.0,9,     -999.0,9,     -999.0,9,     -999.0,9,     -999.0,9,     -999.0,9,     -999.0,9,     -999.0,9
33RO20161119,        P18,     205,          1,         18,      11117,2,20170125,       1821,   -68.5001,  -103.0001,       4306,   436.3,   1.9879,  34.6929,2,  34.6888,2,    175.1,2,   176.2,2,    83.9,2,    33.1,2,    0.01,2,   2.224,2,   0.3484,2,   0.1759,2,   0.1119,2,  2254.7,6,  2343.2,2,   7.5597,6,    25.00, -999.00,9,  -999.0,9,  -999.0,   5.8388,2, -999.00,9,  -999.0,9, -999.00,9, -999.00,9,    21.0544,2, -999.00,9,  -999.0,9,     -999.0,     -999.0,9,     -999.0,9,     -999.0,     -999.0,9,     -999.0,     -999.0,9,     -999.0,     -999.0,     -999.0,9,     -999.0,9,     -999.0,9,     -999.0,9,     -999.0,9,     -999.0,9,     -999.0,9,     -999.0,9
33RO20161119,        P18,     205,          1,         19,      11083,2,20170125,       1821,   -68.5001,  -103.0001,       4306,   331.0,   2.0032,  34.6560,2,  34.6537,2,    172.3,2,   173.1,2,    81.7,2,    34.0,2,    0.01,2,   2.288,2,   0.5237,2,   0.2665,2,   0.1785,2,  2257.6,2,  2340.1,2,   7.5439,2,    25.00, -999.00,9,  -999.0,9,  -999.0,   7.1483,2, -999.00,9,  -999.0,9, -999.00,9, -999.00,9,    21.8966,2, -999.00,9,  -999.0,9,     -999.0,     -999.0,9,     -999.0,9,     -999.0,     -999.0,9,     -999.0,     -999.0,9,     -999.0,     -999.0,     -999.0,9,     -999.0,9,     -999.0,9,     -999.0,9,     -999.0,9,     -999.0,9,     -999.0,9,     -999.0,9
33RO20161119,        P18,     205,          1,         20,      11118,2,20170125,       1821,   -68.5001,  -103.0001,       4306,   235.0,   1.9254,  34.5904,2,  34.5877,2,    176.0,2,   175.7,2,    78.0,2,    34.7,2,    0.01,2,   2.339,2,   0.9065,6,   0.4692,6,   0.3640,6,  2254.8,2,  2334.3,2,   7.5325,2,    25.00, -999.00,9,  -999.0,9,  -999.0,   7.3427,2, -999.00,9,  -999.0,9, -999.00,9, -999.00,9,    22.6312,2, -999.00,9,  -999.0,9,     -999.0,     -999.0,9,     -999.0,9,     -999.0,     -999.0,9,     -999.0,     -999.0,9,     -999.0,     -999.0,     -999.0,9,     -999.0,9,     -999.0,9,       2.30,3,     -999.0,9,     -999.0,9,     -999.0,9,     -999.0,9
33RO20161119,        P18,     205,          1,         21,      11119,2,20170125,       1821,   -68.5001,  -103.0001,       4306,   155.1,   1.1367,  34.3971,2,  34.3974,2,    210.2,2,   209.9,2,    68.4,2,    34.4,2,    0.02,2,   2.332,2,   2.3193,2,   1.2226,2,   1.1548,2,  2241.9,2,  2320.9,2,   7.5375,2,    25.00, -999.00,9,  -999.0,9,  -999.0,   0.4098,2, -999.00,9,  -999.0,9, -999.00,9, -999.00,9,     22.137,2, -999.00,9,  -999.0,9,     -999.0,     -999.0,9,     -999.0,9,     -999.0,     -999.0,9,     -999.0,     -999.0,9,     -999.0,     -999.0,     -999.0,9,     -999.0,9,     -999.0,9,       2.28,3,     -999.0,9,     -999.0,9,     -999.0,9,     -999.0,9
33RO20161119,        P18,     205,          1,         22,      11120,2,20170125,       1821,   -68.5001,  -103.0001,       4306,    70.5,  -1.4659,  33.9669,2,  33.9645,2,    326.8,2,   326.7,2,    50.2,2,    28.9,2,    0.20,2,   1.996,2,   5.3537,2,   2.8758,2,   3.1306,2,  2186.7,2,  2294.5,6,   7.6274,2,    25.00, -999.00,9,  -999.0,9,  -999.0,   0.3617,2, -999.00,9,  -999.0,9, -999.00,9, -999.00,9,    17.0614,2, -999.00,9,  -999.0,9,     -999.0,     -999.0,9,     -999.0,9,     -999.0,     -999.0,9,     -999.0,     -999.0,9,     -999.0,     -999.0,     -999.0,9,     -999.0,9,     -999.0,9,       1.99,3,     -999.0,9,     -999.0,9,     -999.0,9,     -999.0,9
33RO20161119,        P18,     205,          1,         23,      11121,2,20170125,       1821,   -68.5001,  -103.0001,       4306,    30.4,   1.0004,  33.5532,2,  33.5902,2,    338.2,2,   342.2,2,    38.5,2,    26.1,2,    0.32,2,   1.778,2,   5.7767,2,   3.1158,2,   3.5381,2,  2149.5,2,  2270.8,2,   7.6714,2,    25.00, -999.00,9,  -999.0,9,  -999.0,   0.3001,2, -999.00,9,  -999.0,9, -999.00,9, -999.00,9,     15.045,2, -999.00,9,  -999.0,9,     -999.0,     -999.0,9,     -999.0,9,     -999.0,     -999.0,9,     -999.0,     -999.0,9,     -999.0,     -999.0,     -999.0,9,     -999.0,9,     -999.0,9,       1.80,3,     -999.0,9,     -999.0,9,     -999.0,9,     -999.0,9
33RO20161119,        P18,     205,          1,         24,      11122,2,20170125,       1821,   -68.5001,  -103.0001,       4306,     3.6,   1.1455,  33.4565,2,  33.4541,2,    337.7,2,   338.7,6,    37.9,2,    25.8,2,    0.36,2,   1.763,2,   5.7192,2,   3.0998,2,   3.5826,2,  2140.8,6,  2260.7,2,   7.6709,2,    25.00, -999.00,9,  -999.0,9,  -999.0,   0.2915,2, -999.00,9,  -999.0,9, -999.00,9, -999.00,9,    14.5292,2, -999.00,9,  -999.0,9,     -999.0,     -999.0,9,     -999.0,9,     -999.0,     -999.0,9,     -999.0,     -999.0,9,     -999.0,     -999.0,     -999.0,9,     -999.0,9,     -999.0,9,       1.73,3,     -999.0,9,     -999.0,9,     -999.0,9,     -999.0,9