BOTTLE,20230606CCHSIOCBG
EXPOCODE,SECT_ID,STNNBR,CASTNO,SAMPNO,BTLNBR,BTLNBR_FLAG_W,DATE,TIME,LATITUDE,LONGITUDE,DEPTH,CTDPRS,CTDTMP,CTDSAL,CTDSAL_FLAG_W,SALNTY,SALNTY_FLAG_W,CTDOXY,CTDOXY_FLAG_W,OXYGEN,OXYGEN_FLAG_W,SILCAT,SILCAT_FLAG_W,NITRAT,NITRAT_FLAG_W,NITRIT,NITRIT_FLAG_W,PHSPHT,PHSPHT_FLAG_W,CFC-11,CFC-11_FLAG_W,CFC-12,CFC-12_FLAG_W,SF6,SF6_FLAG_W,TCARBN,TCARBN_FLAG_W,ALKALI,ALKALI_FLAG_W,PH_SWS,PH_SWS_FLAG_W,PH_TMP,DELC13,DELC13_FLAG_W,DELC14,DELC14_FLAG_W,C14ERR,CCL4,CCL4_FLAG_W,POC,POC_FLAG_W,DOC,DOC_FLAG_W,TDN,TDN_FLAG_W,PON,PON_FLAG_W,N2O,N2O_FLAG_W,D15N_NO3,D15N_NO3_FLAG_W,14C-DOC,14C-DOC_FLAG_W,14C-DOCERR,13C-DOC,13C-DOC_FLAG_W,N2/ARGON_UNSTRIPPED,N2/ARGON_UNSTRIPPED_FLAG_W,N2/ARGON_UNSTRIPPED_ERROR,N2/ARGON,N2/ARGON_FLAG_W,N2/ARGON_ERROR,D15N_N2,D15N_N2_FLAG_W,D15N_N2_ERROR,D15N_NO3_ERROR,D15N_NO2+NO3,D15N_NO2+NO3_FLAG_W,D18O_NO2+NO3,D18O_NO2+NO3_FLAG_W,D18O_NO3,D18O_NO3_FLAG_W,TDP,TDP_FLAG_W,N2O_ALT_1,N2O_ALT_1_FLAG_W,D15N_N2O,D15N_N2O_FLAG_W,D18O_N2O,D18O_N2O_FLAG_W,D15N_ALPHA_N2O,D15N_ALPHA_N2O_FLAG_W
,,,,,,,,,,,METERS,DBAR,ITS-90,PSS-78,,PSS-78,,UMOL/KG,,UMOL/KG,,UMOL/KG,,UMOL/KG,,UMOL/KG,,UMOL/KG,,PMOL/KG,,PMOL/KG,,FMOL/KG,,UMOL/KG,,UMOL/KG,,,,DEG C,/MILLE,,/MILLE,,/MILLE,PMOL/KG,,UG/KG,,UMOL/KG,,UMOL/KG,,UG/KG,,NMOL/KG,,/MILLE,,/MILLE,,/MILLE,/MILLE,,,,,,,,/MILLE,,/MILLE,/MILLE,/MILLE,,/MILLE,,/MILLE,,UMOL/KG,,NMOL/L,,/MILLE,,/MILLE,,/MILLE,
33RO20161119,        P18,     135,          1,          1,      11010,2,20170105,       2322,   -33.5014,  -102.9987,       3592,  3629.2,   1.7999,  34.6901,2,  34.6910,2,    167.4,2,   166.9,2,   115.9,6,    34.4,6,    0.01,6,   2.365,6,-999.0000,9,-999.0000,9,-999.0000,9,  2296.5,6,  2391.6,2,   7.5848,2,    25.00, -999.00,9,  -999.0,9,  -999.0,-999.0000,9, -999.00,9,    38.6,2,   37.00,2, -999.00,9,     -999.0,9, -999.00,9,  -999.0,9,     -999.0,     -999.0,9,     -999.0,9,     -999.0,     -999.0,9,     -999.0,     -999.0,9,     -999.0,     -999.0,     -999.0,9,     -999.0,9,     -999.0,9,     -999.0,9,     -999.0,9,     -999.0,9,     -999.0,9,     -999.0,9
33RO20161119,        P18,     135,          1,          2,      11101,2,20170105,       2322,   -33.5014,  -102.9987,       3592,  3364.0,   1.7736,  34.6900,2,  34.6882,2,    167.7,2,   166.7,2,   115.8,6,    34.3,6,    0.00,6,   2.375,6,-999.0000,9,-999.0000,9,-999.0000,9,  2294.1,2,  2389.2,6,   7.5830,2,    25.00, -999.00,9,  -999.0,9,  -999.0,-999.0000,9, -999.00,9,    37.7,2,   38.00,2, -999.00,9,     -999.0,9, -999.00,9,  -999.0,9,     -999.0,     -999.0,9,     -999.0,9,     -999.0,     -999.0,9,     -999.0,     -999.0,9,     -999.0,     -999.0,     -999.0,9,     -999.0,9,     -999.0,9,     -999.0,9,     -999.0,9,     -999.0,9,     -999.0,9,     -999.0,9
33RO20161119,        P18,     135,          1,          3,      11102,2,20170105,       2322,   -33.5014,  -102.9987,       3592,  3050.2,   1.7505,  34.6890,2,  34.6911,2,    166.8,2,   166.5,2,   115.6,6,    34.3,6,    0.00,6,   2.382,6,-999.0000,9,-999.0000,9,-999.0000,9,  2294.4,2,  2386.9,2,   7.5830,2,    25.00, -999.00,9,  -999.0,9,  -999.0,-999.0000,9, -999.00,9,    37.6,2,   35.40,2, -999.00,9,     -999.0,9, -999.00,9,  -999.0,9,     -999.0,     -999.0,9,     -999.0,9,     -999.0,     -999.0,9,     -999.0,     -999.0,9,     -999.0,     -999.0,     -999.0,9,     -999.0,9,     -999.0,9,     -999.0,9,     -999.0,9,     -999.0,9,     -999.0,9,     -999.0,9
33RO20161119,        P18,     135,          1,          4,      11103,2,20170105,       2322,   -33.5014,  -102.9987,       3592,  2774.9,   1.7555,  34.6858,2,  34.6919,4,    165.9,2,   166.0,2,   114.9,6,    34.4,6,    0.00,6,   2.377,6,-999.0000,9,-999.0000,9,-999.0000,9,  2293.5,2,  2385.6,2,   7.5785,6,    25.00, -999.00,9,  -999.0,9,  -999.0,-999.0000,9, -999.00,9,    39.2,2,   36.50,2, -999.00,9,     -999.0,9, -999.00,9,  -999.0,9,     -999.0,     -999.0,9,     -999.0,9,     -999.0,     -999.0,9,     -999.0,     -999.0,9,     -999.0,     -999.0,     -999.0,9,     -999.0,9,     -999.0,9,     -999.0,9,     -999.0,9,     -999.0,9,     -999.0,9,     -999.0,9
33RO20161119,        P18,     135,          1,          5,      11104,2,20170105,       2322,   -33.5014,  -102.9987,       3592,  2500.3,   1.8247,  34.6787,2,  34.6824,2,    162.9,2,   163.4,2,   112.9,6,    34.5,6,    0.00,6,   2.411,6,-999.0000,9,-999.0000,9,-999.0000,9,  2291.6,2,  2383.8,2,   7.5737,2,    25.00, -999.00,9,  -999.0,9,  -999.0,-999.0000,9, -999.00,9,    38.6,2,   37.00,2, -999.00,9,     -999.0,9, -999.00,9,  -999.0,9,     -999.0,     -999.0,9,     -999.0,9,     -999.0,     -999.0,9,     -999.0,     -999.0,9,     -999.0,     -999.0,     -999.0,9,     -999.0,9,     -999.0,9,     -999.0,9,     -999.0,9,     -999.0,9,     -999.0,9,     -999.0,9
33RO20161119,        P18,     135,          1,          6,      11105,2,20170105,       2322,   -33.5014,  -102.9987,       3592,  2193.3,   2.0136,  34.6548,2,  34.6722,4,    154.6,2,   155.0,2,   109.2,2,    35.2,2,    0.00,2,   2.459,2,-999.0000,9,-999.0000,9,-999.0000,9,  2294.8,2,  2381.2,2,   7.5589,2,    25.00, -999.00,9,  -999.0,9,  -999.0,-999.0000,9, -999.00,9,    38.3,2,   36.30,2, -999.00,9,     -999.0,9, -999.00,9,  -999.0,9,     -999.0,     -999.0,9,     -999.0,9,     -999.0,     -999.0,9,     -999.0,     -999.0,9,     -999.0,     -999.0,     -999.0,9,     -999.0,9,     -999.0,9,     -999.0,9,     -999.0,9,     -999.0,9,     -999.0,9,     -999.0,9
33RO20161119,        P18,     135,          1,          7,      11106,2,20170105,       2322,   -33.5014,  -102.9987,       3592,  1936.0,   2.2926,  34.6192,2,  34.6181,2,    146.2,2,   146.3,2,   102.7,2,    36.0,2,    0.00,2,   2.531,2,-999.0000,9,-999.0000,9,-999.0000,9,  2294.6,2,  2373.2,2,   7.5418,2,    25.00, -999.00,9,  -999.0,9,  -999.0,-999.0000,9, -999.00,9,    36.2,2,   39.30,2, -999.00,9,     -999.0,9, -999.00,9,  -999.0,9,     -999.0,     -999.0,9,     -999.0,9,     -999.0,     -999.0,9,     -999.0,     -999.0,9,     -999.0,     -999.0,     -999.0,9,     -999.0,9,     -999.0,9,     -999.0,9,     -999.0,9,     -999.0,9,     -999.0,9,     -999.0,9
33RO20161119,        P18,     135,          1,          8,      11107,2,20170105,       2322,   -33.5014,  -102.9987,       3592,  1660.7,   2.6471,  34.5821,2,  34.5804,2,    133.8,2,   134.2,6,    95.4,2,    37.2,2,    0.01,2,   2.605,2,   0.0023,6,   0.0016,6,   0.0000,6,  2295.0,2,  2365.8,2,   7.5211,2,    25.00, -999.00,9,  -999.0,9,  -999.0,   2.5399,2, -999.00,9,    37.3,2,   39.10,2, -999.00,9,    26.6623,2, -999.00,9,  -999.0,9,     -999.0,     -999.0,9,     -999.0,9,     -999.0,     -999.0,9,     -999.0,     -999.0,9,     -999.0,     -999.0,     -999.0,9,     -999.0,9,     -999.0,9,     -999.0,9,     -999.0,9,     -999.0,9,     -999.0,9,     -999.0,9
33RO20161119,        P18,     135,          1,          9,      11108,2,20170105,       2322,   -33.5014,  -102.9987,       3592,  1380.4,   3.1571,  34.5260,2,  34.5252,2,    122.3,2,   122.3,2,    81.9,2,    38.4,2,    0.00,2,   2.682,2,-999.0000,9,-999.0000,9,-999.0000,9,  2288.7,6,  2348.9,2,   7.4969,2,    25.00, -999.00,9,  -999.0,9,  -999.0,-999.0000,9, -999.00,9,    36.6,2,   40.80,2, -999.00,9,     -999.0,9, -999.00,9,  -999.0,9,     -999.0,     -999.0,9,     -999.0,9,     -999.0,     -999.0,9,     -999.0,     -999.0,9,     -999.0,     -999.0,     -999.0,9,     -999.0,9,     -999.0,9,     -999.0,9,     -999.0,9,     -999.0,9,     -999.0,9,     -999.0,9
33RO20161119,        P18,     135,          1,         10,      11109,2,20170105,       2322,   -33.5014,  -102.9987,       3592,  1220.3,   3.4187,  34.4544,2,  34.4535,2,    134.6,2,   134.1,2,    65.1,2,    37.7,2,    0.01,2,   2.619,2,   0.0444,2,   0.0230,2,   0.0000,2,  2267.3,2,  2328.7,2,   7.5033,6,    25.00, -999.00,9,  -999.0,9,  -999.0,   0.9989,2, -999.00,9,    38.3,2,   41.70,2, -999.00,9,     29.501,2, -999.00,9,  -999.0,9,     -999.0,     -999.0,9,     -999.0,9,     -999.0,     -999.0,9,     -999.0,     -999.0,9,     -999.0,     -999.0,     -999.0,9,     -999.0,9,     -999.0,9,     -999.0,9,     -999.0,9,     -999.0,9,     -999.0,9,     -999.0,9
33RO20161119,        P18,     135,          1,         11,      11110,2,20170105,       2322,   -33.5014,  -102.9987,       3592,  1090.5,   3.7031,  34.3729,2,  34.3744,2,    162.7,2,   162.6,2,    47.2,2,    35.5,2,    0.01,2,   2.448,2,-999.0000,9,-999.0000,9,-999.0000,9,  2234.4,2,  2309.6,6,   7.5401,2,    25.00, -999.00,9,  -999.0,9,  -999.0,-999.0000,9, -999.00,9,    41.1,2,   38.60,2, -999.00,9,     -999.0,9, -999.00,9,  -999.0,9,     -999.0,     -999.0,9,     -999.0,9,     -999.0,     -999.0,9,     -999.0,     -999.0,9,     -999.0,     -999.0,     -999.0,9,     -999.0,9,     -999.0,9,     -999.0,9,     -999.0,9,     -999.0,9,     -999.0,9,     -999.0,9
33RO20161119,        P18,     135,          1,         12,      11111,2,20170105,       2322,   -33.5014,  -102.9987,       3592,   971.0,   4.1642,  34.3085,2,  34.3102,2,    191.0,2,   190.6,2,    32.5,2,    32.7,2,    0.01,2,   2.252,2,   0.9389,2,   0.4516,2,   0.1489,2,  2206.2,2,  2294.3,2,   7.5853,2,    25.00, -999.00,9,  -999.0,9,  -999.0,   2.3017,2, -999.00,9,    39.4,2,   36.50,2, -999.00,9,    21.9519,2, -999.00,9,  -999.0,9,     -999.0,     -999.0,9,     -999.0,9,     -999.0,     -999.0,9,     -999.0,     -999.0,9,     -999.0,     -999.0,     -999.0,9,     -999.0,9,     -999.0,9,     -999.0,9,     -999.0,9,     -999.0,9,     -999.0,9,     -999.0,9
33RO20161119,        P18,     135,          1,         13,      11112,2,20170105,       2322,   -33.5014,  -102.9987,       3592,   849.7,   4.8095,  34.2738,2,  34.2742,2,    212.7,2,   211.8,2,    20.7,2,    29.9,2,    0.01,2,   2.058,2,-999.0000,9,-999.0000,9,-999.0000,9,  2181.2,2,  2284.9,2,   7.6270,2,    25.00, -999.00,9,  -999.0,9,  -999.0,-999.0000,9, -999.00,9,    42.1,2,   33.50,2, -999.00,9,     -999.0,9, -999.00,9,  -999.0,9,     -999.0,     -999.0,9,     -999.0,9,     -999.0,     -999.0,9,     -999.0,     -999.0,9,     -999.0,     -999.0,     -999.0,9,     -999.0,9,     -999.0,9,     -999.0,9,     -999.0,9,     -999.0,9,     -999.0,9,     -999.0,9
33RO20161119,        P18,     135,          1,         14,      11113,2,20170105,       2322,   -33.5014,  -102.9987,       3592,   734.5,   5.3330,  34.2611,2,  34.2595,2,    231.8,2,   232.4,2,    13.4,2,    27.1,2,    0.01,2,   1.861,2,   2.9106,2,   1.4342,2,   0.5748,2,  2162.8,2,  2276.8,2,   7.6655,2,    25.00, -999.00,9,  -999.0,9,  -999.0,   2.2052,2, -999.00,9,    41.9,2,   30.20,2, -999.00,9,    17.5616,2, -999.00,9,  -999.0,9,     -999.0,     -999.0,9,     -999.0,9,     -999.0,     -999.0,9,     -999.0,     -999.0,9,     -999.0,     -999.0,     -999.0,9,     -999.0,9,     -999.0,9,     -999.0,9,     -999.0,9,     -999.0,9,     -999.0,9,     -999.0,9
33RO20161119,        P18,     135,          1,         15,      11114,2,20170105,       2322,   -33.5014,  -102.9987,       3592,   625.9,   5.7757,  34.2727,2,  34.2720,2,    241.5,2,   243.2,6,     9.9,2,    25.1,2,    0.01,2,   1.729,2,-999.0000,9,-999.0000,9,-999.0000,9,  2152.9,2,  2276.3,2,   7.6841,2,    25.00, -999.00,9,  -999.0,9,  -999.0,-999.0000,9, -999.00,9,    43.2,2,   25.30,2, -999.00,9,     -999.0,9, -999.00,9,  -999.0,9,     -999.0,     -999.0,9,     -999.0,9,     -999.0,     -999.0,9,     -999.0,     -999.0,9,     -999.0,     -999.0,     -999.0,9,     -999.0,9,     -999.0,9,     -999.0,9,     -999.0,9,     -999.0,9,     -999.0,9,     -999.0,9
33RO20161119,        P18,     135,          1,         16,      11115,2,20170105,       2322,   -33.5014,  -102.9987,       3592,   519.6,   6.2033,  34.2941,2,  34.2930,2,    245.4,2,   245.7,2,     8.1,2,    23.8,2,    0.01,2,   1.647,2,   3.9394,2,   2.0225,2,   1.0873,2,  2149.4,2,  2276.8,2,   7.6898,2,    25.00, -999.00,9,  -999.0,9,  -999.0,    0.012,2, -999.00,9,    41.9,2,   25.40,2, -999.00,9,     16.958,2, -999.00,9,  -999.0,9,     -999.0,     -999.0,9,     -999.0,9,     -999.0,     -999.0,9,     -999.0,     -999.0,9,     -999.0,     -999.0,     -999.0,9,     -999.0,9,     -999.0,9,     -999.0,9,     -999.0,9,     -999.0,9,     -999.0,9,     -999.0,9
33RO20161119,        P18,     135,          1,         17,      11116,2,20170105,       2322,   -33.5014,  -102.9987,       3592,   425.2,   6.6709,  34.3143,2,  34.3140,2,    242.3,2,   242.2,2,     6.7,2,    22.8,2,    0.01,2,   1.589,2,-999.0000,9,-999.0000,9,-999.0000,9,  2149.0,2,  2274.4,2,   7.6925,2,    25.00, -999.00,9,  -999.0,9,  -999.0,-999.0000,9, -999.00,9,    44.2,2,   25.30,2, -999.00,9,     -999.0,9, -999.00,9,  -999.0,9,     -999.0,     -999.0,9,     -999.0,9,     -999.0,     -999.0,9,     -999.0,     -999.0,9,     -999.0,     -999.0,     -999.0,9,     -999.0,9,     -999.0,9,     -999.0,9,     -999.0,9,     -999.0,9,     -999.0,9,     -999.0,9
33RO20161119,        P18,     135,          1,         18,      11117,2,20170105,       2322,   -33.5014,  -102.9987,       3592,   330.3,   7.4225,  34.2819,2,  34.2814,2,    235.3,2,   236.0,2,     4.8,2,    21.4,2,    0.01,2,   1.518,2,   3.9321,2,   2.1295,2,   1.5200,2,  2144.6,2,  2267.2,2,   7.6982,2,    25.00, -999.00,9,  -999.0,9,  -999.0,    0.021,2, -999.00,9,    44.9,2,   23.80,2, -999.00,9,    23.5956,2, -999.00,9,  -999.0,9,     -999.0,     -999.0,9,     -999.0,9,     -999.0,     -999.0,9,     -999.0,     -999.0,9,     -999.0,     -999.0,     -999.0,9,     -999.0,9,     -999.0,9,     -999.0,9,     -999.0,9,     -999.0,9,     -999.0,9,     -999.0,9
33RO20161119,        P18,     135,          1,         19,      11083,2,20170105,       2322,   -33.5014,  -102.9987,       3592,   249.8,   9.3142,  34.3044,2,  34.3045,2,    229.9,2,   229.2,2,     2.4,2,    16.9,2,    0.01,2,   1.264,2,-999.0000,9,-999.0000,9,-999.0000,9,  2126.1,2,  2267.1,2,   7.7369,2,    25.00, -999.00,9,  -999.0,9,  -999.0,-999.0000,9, -999.00,9,    45.4,2,   19.90,2, -999.00,9,     -999.0,9, -999.00,9,  -999.0,9,     -999.0,     -999.0,9,     -999.0,9,     -999.0,     -999.0,9,     -999.0,     -999.0,9,     -999.0,     -999.0,     -999.0,9,     -999.0,9,     -999.0,9,       1.34,2,     -999.0,9,     -999.0,9,     -999.0,9,     -999.0,9
33RO20161119,        P18,     135,          1,         20,      11118,2,20170105,       2322,   -33.5014,  -102.9987,       3592,   180.4,  11.5068,  34.3644,2,  34.3655,2,    223.9,2,   224.4,2,     1.0,2,    11.8,2,    0.03,2,   0.978,2,   3.2006,2,   1.8563,2,   1.7931,2,  2105.5,2,  2268.2,2,   7.7870,2,    25.00, -999.00,9,  -999.0,9,  -999.0,   0.0136,2, -999.00,9,    50.9,2,   14.00,2, -999.00,9,    18.7449,2, -999.00,9,  -999.0,9,     -999.0,     -999.0,9,     -999.0,9,     -999.0,     -999.0,9,     -999.0,     -999.0,9,     -999.0,     -999.0,     -999.0,9,     -999.0,9,     -999.0,9,       1.10,2,     -999.0,9,     -999.0,9,     -999.0,9,     -999.0,9
33RO20161119,        P18,     135,          1,         21,      11119,2,20170105,       2322,   -33.5014,  -102.9987,       3592,   114.9,  13.6913,  34.3373,2,  34.3386,2,    241.1,2,   240.6,2,     0.4,2,     4.2,2,    0.57,2,   0.581,2,-999.0000,9,-999.0000,9,-999.0000,9,  2067.2,2,  2267.8,2,   7.8669,2,    25.00, -999.00,9,  -999.0,9,  -999.0,-999.0000,9, -999.00,9,    54.6,2,    9.80,2, -999.00,9,     -999.0,9, -999.00,9,  -999.0,9,     -999.0,     -999.0,9,     -999.0,9,     -999.0,     -999.0,9,     -999.0,     -999.0,9,     -999.0,     -999.0,     -999.0,9,     -999.0,9,     -999.0,9,       0.66,2,     -999.0,9,     -999.0,9,     -999.0,9,     -999.0,9
33RO20161119,        P18,     135,          1,         22,      11120,2,20170105,       2322,   -33.5014,  -102.9987,       3592,    59.7,  15.4517,  34.3555,2,  34.3533,2,    265.5,2,   264.9,2,     0.3,2,     0.3,2,    0.04,2,   0.273,2,   2.6635,2,   1.5966,2,   1.9535,2,  2034.2,2,  2268.9,2,   7.9365,2,    25.00, -999.00,9,  -999.0,9,  -999.0,   0.0163,2, -999.00,9,    62.6,2,    4.30,2, -999.00,9,      9.034,2, -999.00,9,  -999.0,9,     -999.0,     -999.0,9,     -999.0,9,     -999.0,     -999.0,9,     -999.0,     -999.0,9,     -999.0,     -999.0,     -999.0,9,     -999.0,9,     -999.0,9,       0.43,2,     -999.0,9,     -999.0,9,     -999.0,9,     -999.0,9
33RO20161119,        P18,     135,          1,         23,      11121,2,20170105,       2322,   -33.5014,  -102.9987,       3592,    25.3,  20.3939,  34.3220,2,  34.3221,2,    232.4,2,   233.9,2,     0.3,2,     0.0,2,    0.01,2,   0.208,2,-999.0000,9,-999.0000,9,-999.0000,9,  2025.3,2,  2265.4,6,   7.9511,2,    25.00, -999.00,9,  -999.0,9,  -999.0,-999.0000,9, -999.00,9,    62.6,2,    3.60,2, -999.00,9,     -999.0,9, -999.00,9,  -999.0,9,     -999.0,     -999.0,9,     -999.0,9,     -999.0,     -999.0,9,     -999.0,     -999.0,9,     -999.0,     -999.0,     -999.0,9,     -999.0,9,     -999.0,9,       0.37,2,     -999.0,9,     -999.0,9,     -999.0,9,     -999.0,9
33RO20161119,        P18,     135,          1,         24,      11122,2,20170105,       2322,   -33.5014,  -102.9987,       3592,     2.9,  21.2724,  34.3459,2,  34.3468,2,    227.1,2,   228.8,2,     0.2,2,     0.0,2,    0.01,2,   0.184,2,   2.0727,2,   1.2768,2,   1.6751,2,  2025.9,6,  2268.1,2,   7.9509,2,    25.00, -999.00,9,  -999.0,9,  -999.0,    0.016,2, -999.00,9,    63.8,2,    4.00,2, -999.00,9,      7.558,2, -999.00,9,  -999.0,9,     -999.0,     -999.0,9,     -999.0,9,     -999.0,     -999.0,9,     -999.0,     -999.0,9,     -999.0,     -999.0,     -999.0,9,     -999.0,9,     -999.0,9,       0.37,2,     -999.0,9,     -999.0,9,     -999.0,9,     -999.0,9