BOTTLE,20230606CCHSIOCBG
EXPOCODE,SECT_ID,STNNBR,CASTNO,SAMPNO,BTLNBR,BTLNBR_FLAG_W,DATE,TIME,LATITUDE,LONGITUDE,DEPTH,CTDPRS,CTDTMP,CTDSAL,CTDSAL_FLAG_W,SALNTY,SALNTY_FLAG_W,CTDOXY,CTDOXY_FLAG_W,OXYGEN,OXYGEN_FLAG_W,SILCAT,SILCAT_FLAG_W,NITRAT,NITRAT_FLAG_W,NITRIT,NITRIT_FLAG_W,PHSPHT,PHSPHT_FLAG_W,CFC-11,CFC-11_FLAG_W,CFC-12,CFC-12_FLAG_W,SF6,SF6_FLAG_W,TCARBN,TCARBN_FLAG_W,ALKALI,ALKALI_FLAG_W,PH_SWS,PH_SWS_FLAG_W,PH_TMP,DELC13,DELC13_FLAG_W,DELC14,DELC14_FLAG_W,C14ERR,CCL4,CCL4_FLAG_W,POC,POC_FLAG_W,DOC,DOC_FLAG_W,TDN,TDN_FLAG_W,PON,PON_FLAG_W,N2O,N2O_FLAG_W,D15N_NO3,D15N_NO3_FLAG_W,14C-DOC,14C-DOC_FLAG_W,14C-DOCERR,13C-DOC,13C-DOC_FLAG_W,N2/ARGON_UNSTRIPPED,N2/ARGON_UNSTRIPPED_FLAG_W,N2/ARGON_UNSTRIPPED_ERROR,N2/ARGON,N2/ARGON_FLAG_W,N2/ARGON_ERROR,D15N_N2,D15N_N2_FLAG_W,D15N_N2_ERROR,D15N_NO3_ERROR,D15N_NO2+NO3,D15N_NO2+NO3_FLAG_W,D18O_NO2+NO3,D18O_NO2+NO3_FLAG_W,D18O_NO3,D18O_NO3_FLAG_W,TDP,TDP_FLAG_W,N2O_ALT_1,N2O_ALT_1_FLAG_W,D15N_N2O,D15N_N2O_FLAG_W,D18O_N2O,D18O_N2O_FLAG_W,D15N_ALPHA_N2O,D15N_ALPHA_N2O_FLAG_W
,,,,,,,,,,,METERS,DBAR,ITS-90,PSS-78,,PSS-78,,UMOL/KG,,UMOL/KG,,UMOL/KG,,UMOL/KG,,UMOL/KG,,UMOL/KG,,PMOL/KG,,PMOL/KG,,FMOL/KG,,UMOL/KG,,UMOL/KG,,,,DEG C,/MILLE,,/MILLE,,/MILLE,PMOL/KG,,UG/KG,,UMOL/KG,,UMOL/KG,,UG/KG,,NMOL/KG,,/MILLE,,/MILLE,,/MILLE,/MILLE,,,,,,,,/MILLE,,/MILLE,/MILLE,/MILLE,,/MILLE,,/MILLE,,UMOL/KG,,NMOL/L,,/MILLE,,/MILLE,,/MILLE,
33RO20161119,        P18,     191,          1,          1,      11010,2,20170121,       1006,   -61.4999,  -102.9996,       5148,  5230.5,   0.4683,  34.6993,2,  34.7001,2,    215.0,2,   215.0,2,   141.0,2,    33.0,2,    0.02,2,   2.271,2,   0.4515,2,   0.2158,2,   0.0913,2,  2265.1,6,  2361.4,2,   7.5848,2,    25.00, -999.00,9,  -999.0,9,  -999.0,   0.2828,2, -999.00,9,    39.8,2,   35.60,2, -999.00,9,    18.4269,2, -999.00,9,  -999.0,9,     -999.0,     -999.0,9,     -999.0,9,     -999.0,     -999.0,9,     -999.0,     -999.0,9,     -999.0,     -999.0,     -999.0,9,     -999.0,9,     -999.0,9,     -999.0,9,     -999.0,9,     -999.0,9,     -999.0,9,     -999.0,9
33RO20161119,        P18,     191,          1,          2,      11101,2,20170121,       1006,   -61.4999,  -102.9996,       5148,  4825.3,   0.4697,  34.7008,2,  34.7023,2,    214.5,2,   213.7,2,   136.4,6,    32.9,6,    0.02,6,   2.264,6,   0.3886,2,   0.1863,2,   0.0738,2,  2261.6,2,  2360.1,6,   7.5864,2,    25.00, -999.00,9,  -999.0,9,  -999.0,   0.2291,2, -999.00,9,    40.7,2,   34.60,2, -999.00,9,    18.3891,2, -999.00,9,  -999.0,9,     -999.0,     -999.0,9,     -999.0,9,     -999.0,     -999.0,9,     -999.0,     -999.0,9,     -999.0,     -999.0,     -999.0,9,     -999.0,9,     -999.0,9,     -999.0,9,     -999.0,9,     -999.0,9,     -999.0,9,     -999.0,9
33RO20161119,        P18,     191,          1,          3,      11102,2,20170121,       1006,   -61.4999,  -102.9996,       5148,  4418.4,   0.5046,  34.7025,2,  34.7029,2,    212.6,2,   218.4,4,   133.6,6,    32.8,6,    0.02,6,   2.260,6,   0.3298,2,   0.1577,2,   0.0396,2,  2262.1,2,  2361.8,2,   7.5955,2,    25.00, -999.00,9,  -999.0,9,  -999.0,   0.2799,2, -999.00,9,    40.2,2,   35.60,2, -999.00,9,    18.4198,2, -999.00,9,  -999.0,9,     -999.0,     -999.0,9,     -999.0,9,     -999.0,     -999.0,9,     -999.0,     -999.0,9,     -999.0,     -999.0,     -999.0,9,     -999.0,9,     -999.0,9,     -999.0,9,     -999.0,9,     -999.0,9,     -999.0,9,     -999.0,9
33RO20161119,        P18,     191,          1,          4,      11103,2,20170121,       1006,   -61.4999,  -102.9996,       5148,  4019.9,   0.5979,  34.7034,2,  34.7046,2,    210.3,2,   209.7,2,   128.5,6,    32.7,6,    0.02,6,   2.252,6,   0.3057,2,   0.1493,2,   0.0718,2,  2260.5,2,  2357.8,2,   7.5868,2,    25.00, -999.00,9,  -999.0,9,  -999.0,    0.357,2, -999.00,9,    39.9,2,   34.70,2, -999.00,9,     18.628,2, -999.00,9,  -999.0,9,     -999.0,     -999.0,9,     -999.0,9,     -999.0,     -999.0,9,     -999.0,     -999.0,9,     -999.0,     -999.0,     -999.0,9,     -999.0,9,     -999.0,9,     -999.0,9,     -999.0,9,     -999.0,9,     -999.0,9,     -999.0,9
33RO20161119,        P18,     191,          1,          5,      11104,2,20170121,       1006,   -61.4999,  -102.9996,       5148,  3613.6,   0.7562,  34.7071,2,  34.7084,2,    207.2,2,   206.2,2,   125.4,6,    32.6,6,    0.01,6,   2.241,6,   0.2374,2,   0.1158,2,   0.0398,2,  2261.5,2,  2359.7,2,   7.5879,2,    25.00, -999.00,9,  -999.0,9,  -999.0,   0.4858,2, -999.00,9,    40.8,2,   32.80,2, -999.00,9,    18.6433,2, -999.00,9,  -999.0,9,     -999.0,     -999.0,9,     -999.0,9,     -999.0,     -999.0,9,     -999.0,     -999.0,9,     -999.0,     -999.0,     -999.0,9,     -999.0,9,     -999.0,9,     -999.0,9,     -999.0,9,     -999.0,9,     -999.0,9,     -999.0,9
33RO20161119,        P18,     191,          1,          6,      11105,2,20170121,       1006,   -61.4999,  -102.9996,       5148,  3200.8,   0.8918,  34.7119,2,  34.7166,3,    204.0,2,   203.4,2,   121.5,6,    32.5,6,    0.02,6,   2.227,6,-999.0000,9,-999.0000,9,-999.0000,9,  2260.2,2,  2361.0,2,   7.5917,2,    25.00, -999.00,9,  -999.0,9,  -999.0,-999.0000,9, -999.00,9,    38.9,2,   34.20,2, -999.00,9,     -999.0,9, -999.00,9,  -999.0,9,     -999.0,     -999.0,9,     -999.0,9,     -999.0,     -999.0,9,     -999.0,     -999.0,9,     -999.0,     -999.0,     -999.0,9,     -999.0,9,     -999.0,9,     -999.0,9,     -999.0,9,     -999.0,9,     -999.0,9,     -999.0,9
33RO20161119,        P18,     191,          1,          7,      11106,2,20170121,       1006,   -61.4999,  -102.9996,       5148,  2780.8,   1.0610,  34.7185,2,  34.7174,2,    200.8,2,   201.1,2,   114.9,2,    32.2,2,    0.01,2,   2.211,2,   0.1447,6,   0.0713,6,   0.0357,6,  2258.3,2,  2360.0,2,   7.5918,2,    25.00, -999.00,9,  -999.0,9,  -999.0,   0.7767,2, -999.00,9,    40.6,2,   34.20,2, -999.00,9,    18.8806,2, -999.00,9,  -999.0,9,     -999.0,     -999.0,9,     -999.0,9,     -999.0,     -999.0,9,     -999.0,     -999.0,9,     -999.0,     -999.0,     -999.0,9,     -999.0,9,     -999.0,9,     -999.0,9,     -999.0,9,     -999.0,9,     -999.0,9,     -999.0,9
33RO20161119,        P18,     191,          1,          8,      11107,2,20170121,       1006,   -61.4999,  -102.9996,       5148,  2360.2,   1.2796,  34.7265,2,  34.7255,2,    196.1,2,   196.2,2,   107.2,2,    32.0,2,    0.01,2,   2.204,2,-999.0000,9,-999.0000,9,-999.0000,9,  2257.8,2,  2358.3,2,   7.5916,2,    25.00, -999.00,9,  -999.0,9,  -999.0,-999.0000,9, -999.00,9,    40.9,2,   32.60,2, -999.00,9,     -999.0,9, -999.00,9,  -999.0,9,     -999.0,     -999.0,9,     -999.0,9,     -999.0,     -999.0,9,     -999.0,     -999.0,9,     -999.0,     -999.0,     -999.0,9,     -999.0,9,     -999.0,9,     -999.0,9,     -999.0,9,     -999.0,9,     -999.0,9,     -999.0,9
33RO20161119,        P18,     191,          1,          9,      11108,2,20170121,       1006,   -61.4999,  -102.9996,       5148,  1993.6,   1.5399,  34.7327,2,  34.7347,2,    192.5,2,   192.4,6,    98.4,2,    31.7,2,    0.02,2,   2.194,2,   0.1631,2,   0.0795,2,   0.0209,2,  2254.0,2,  2352.1,2,   7.5956,2,    25.00, -999.00,9,  -999.0,9,  -999.0,   2.6261,2, -999.00,9,    41.0,2,   33.30,2, -999.00,9,    19.1917,2, -999.00,9,  -999.0,9,     -999.0,     -999.0,9,     -999.0,9,     -999.0,     -999.0,9,     -999.0,     -999.0,9,     -999.0,     -999.0,     -999.0,9,     -999.0,9,     -999.0,9,     -999.0,9,     -999.0,9,     -999.0,9,     -999.0,9,     -999.0,9
33RO20161119,        P18,     191,          1,         10,      11109,2,20170121,       1006,   -61.4999,  -102.9996,       5148,  1753.0,   1.7501,  34.7320,2,  34.7316,2,    189.4,2,   189.1,2,    92.3,2,    31.7,2,    0.01,2,   2.176,2,-999.0000,9,-999.0000,9,-999.0000,9,  2252.4,2,  2351.3,2,   7.5872,2,    25.00, -999.00,9,  -999.0,9,  -999.0,-999.0000,9, -999.00,9,    39.6,2,   33.50,2, -999.00,9,     -999.0,9, -999.00,9,  -999.0,9,     -999.0,     -999.0,9,     -999.0,9,     -999.0,     -999.0,9,     -999.0,     -999.0,9,     -999.0,     -999.0,     -999.0,9,     -999.0,9,     -999.0,9,     -999.0,9,     -999.0,9,     -999.0,9,     -999.0,9,     -999.0,9
33RO20161119,        P18,     191,          1,         11,      11110,2,20170121,       1006,   -61.4999,  -102.9996,       5148,  1569.9,   1.8945,  34.7256,2,  34.7267,2,    185.2,2,   185.3,2,    88.0,2,    31.7,2,    0.01,2,   2.181,2,   0.2146,2,   0.1057,2,   0.0545,2,  2251.3,2,  2349.2,2,   7.5820,2,    25.00, -999.00,9,  -999.0,9,  -999.0,   4.1017,2, -999.00,9,    40.5,2,   34.50,2, -999.00,9,    19.9324,2, -999.00,9,  -999.0,9,     -999.0,     -999.0,9,     -999.0,9,     -999.0,     -999.0,9,     -999.0,     -999.0,9,     -999.0,     -999.0,     -999.0,9,     -999.0,9,     -999.0,9,     -999.0,9,     -999.0,9,     -999.0,9,     -999.0,9,     -999.0,9
33RO20161119,        P18,     191,          1,         12,      11111,2,20170121,       1006,   -61.4999,  -102.9996,       5148,  1391.6,   2.0352,  34.7101,2,  34.7156,4,    181.2,2,   180.9,2,    85.1,2,    32.1,2,    0.01,2,   2.217,2,-999.0000,9,-999.0000,9,-999.0000,9,  2253.4,2,  2347.8,2,   7.5752,2,    25.00, -999.00,9,  -999.0,9,  -999.0,-999.0000,9, -999.00,9,    38.4,2,   34.30,2, -999.00,9,     -999.0,9, -999.00,9,  -999.0,9,     -999.0,     -999.0,9,     -999.0,9,     -999.0,     -999.0,9,     -999.0,     -999.0,9,     -999.0,     -999.0,     -999.0,9,     -999.0,9,     -999.0,9,     -999.0,9,     -999.0,9,     -999.0,9,     -999.0,9,     -999.0,9
33RO20161119,        P18,     191,          1,         13,      11112,2,20170121,       1006,   -61.4999,  -102.9996,       5148,  1214.8,   2.1561,  34.6849,2,  34.6832,2,    176.8,2,   177.0,2,    81.6,2,    32.7,2,    0.01,2,   2.241,2,   0.3081,2,   0.1539,2,   0.0688,2,  2253.5,2,  2343.8,6,   7.5660,2,    25.00, -999.00,9,  -999.0,9,  -999.0,   4.6184,2, -999.00,9,    39.6,2,   34.00,2, -999.00,9,    20.8094,2, -999.00,9,  -999.0,9,     -999.0,     -999.0,9,     -999.0,9,     -999.0,     -999.0,9,     -999.0,     -999.0,9,     -999.0,     -999.0,     -999.0,9,     -999.0,9,     -999.0,9,     -999.0,9,     -999.0,9,     -999.0,9,     -999.0,9,     -999.0,9
33RO20161119,        P18,     191,          1,         14,      11113,2,20170121,       1006,   -61.4999,  -102.9996,       5148,  1041.2,   2.2471,  34.6446,2,  34.6451,2,    172.9,2,   172.8,2,    79.2,2,    33.5,2,    0.01,2,   2.292,2,-999.0000,9,-999.0000,9,-999.0000,9,  2256.0,2,  2339.2,2,   7.5547,2,    25.00, -999.00,9,  -999.0,9,  -999.0,-999.0000,9, -999.00,9,    40.8,2,   34.90,2, -999.00,9,     -999.0,9, -999.00,9,  -999.0,9,     -999.0,     -999.0,9,     -999.0,9,     -999.0,     -999.0,9,     -999.0,     -999.0,9,     -999.0,     -999.0,     -999.0,9,     -999.0,9,     -999.0,9,     -999.0,9,     -999.0,9,     -999.0,9,     -999.0,9,     -999.0,9
33RO20161119,        P18,     191,          1,         15,      11114,2,20170121,       1006,   -61.4999,  -102.9996,       5148,   881.0,   2.3517,  34.5933,2,  34.5958,2,    172.1,2,   171.6,6,    75.5,2,    34.3,2,    0.01,2,   2.344,2,   0.6132,2,   0.3073,2,   0.1582,2,  2255.8,2,  2337.6,2,   7.5488,2,    25.00, -999.00,9,  -999.0,9,  -999.0,   4.9257,2, -999.00,9,    38.8,2,   36.30,2, -999.00,9,    22.3591,2, -999.00,9,  -999.0,9,     -999.0,     -999.0,9,     -999.0,9,     -999.0,     -999.0,9,     -999.0,     -999.0,9,     -999.0,     -999.0,     -999.0,9,     -999.0,9,     -999.0,9,     -999.0,9,     -999.0,9,     -999.0,9,     -999.0,9,     -999.0,9
33RO20161119,        P18,     191,          1,         16,      11115,2,20170121,       1006,   -61.4999,  -102.9996,       5148,   724.5,   2.4393,  34.5060,2,  34.5084,2,    175.5,2,   174.9,2,    69.0,2,    34.9,2,    0.02,2,   2.387,2,-999.0000,9,-999.0000,9,-999.0000,9,  2250.0,2,  2332.6,2,   7.5338,2,    25.00, -999.00,9,  -999.0,9,  -999.0,-999.0000,9, -999.00,9,    39.7,2,   36.30,2, -999.00,9,     -999.0,9, -999.00,9,  -999.0,9,     -999.0,     -999.0,9,     -999.0,9,     -999.0,     -999.0,9,     -999.0,     -999.0,9,     -999.0,     -999.0,     -999.0,9,     -999.0,9,     -999.0,9,     -999.0,9,     -999.0,9,     -999.0,9,     -999.0,9,     -999.0,9
33RO20161119,        P18,     191,          1,         17,      11116,2,20170121,       1006,   -61.4999,  -102.9996,       5148,   580.8,   2.5299,  34.4125,2,  34.4124,2,    186.7,2,   187.8,2,    60.2,2,    34.9,2,    0.02,2,   2.384,2,   1.6739,2,   0.8422,2,   0.5502,2,  2237.5,6,  2321.1,2,   7.5398,2,    25.00, -999.00,9,  -999.0,9,  -999.0,   6.0505,2, -999.00,9,    38.4,2,   36.80,2, -999.00,9,    22.7614,2, -999.00,9,  -999.0,9,     -999.0,     -999.0,9,     -999.0,9,     -999.0,     -999.0,9,     -999.0,     -999.0,9,     -999.0,     -999.0,     -999.0,9,     -999.0,9,     -999.0,9,     -999.0,9,     -999.0,9,     -999.0,9,     -999.0,9,     -999.0,9
33RO20161119,        P18,     191,          1,         18,      11117,2,20170121,       1006,   -61.4999,  -102.9996,       5148,   445.9,   2.5759,  34.2982,2,  34.2968,2,    210.5,2,   210.4,2,    49.0,2,    33.7,2,    0.02,2,   2.296,2,   2.5527,2,   1.3231,2,   0.9691,2,  2222.8,2,  2310.6,2,   7.5614,2,    25.00, -999.00,9,  -999.0,9,  -999.0,   5.3584,2, -999.00,9,    39.9,2,   34.10,2, -999.00,9,    21.5162,2, -999.00,9,  -999.0,9,     -999.0,     -999.0,9,     -999.0,9,     -999.0,     -999.0,9,     -999.0,     -999.0,9,     -999.0,     -999.0,     -999.0,9,     -999.0,9,     -999.0,9,     -999.0,9,     -999.0,9,     -999.0,9,     -999.0,9,     -999.0,9
33RO20161119,        P18,     191,          1,         19,      11083,2,20170121,       1006,   -61.4999,  -102.9996,       5148,   325.0,   2.4521,  34.1688,2,  34.1699,2,    254.5,2,   247.7,2,    36.4,2,    31.6,2,    0.02,2,   2.154,2,   3.6793,2,   1.9314,2,   1.7266,2,  2197.1,2,  2294.4,2,   7.5973,2,    25.00, -999.00,9,  -999.0,9,  -999.0,   0.5499,2, -999.00,9,    40.6,2,   32.80,2, -999.00,9,    18.9484,2, -999.00,9,  -999.0,9,     -999.0,     -999.0,9,     -999.0,9,     -999.0,     -999.0,9,     -999.0,     -999.0,9,     -999.0,     -999.0,     -999.0,9,     -999.0,9,     -999.0,9,     -999.0,9,     -999.0,9,     -999.0,9,     -999.0,9,     -999.0,9
33RO20161119,        P18,     191,          1,         20,      11118,2,20170121,       1006,   -61.4999,  -102.9996,       5148,   220.7,   2.5005,  34.0801,2,  34.0827,2,    277.3,2,   277.2,2,    26.0,2,    29.2,2,    0.03,2,   2.013,2,   4.3715,2,   2.3416,2,   2.3751,2,  2175.9,2,  2284.0,2,   7.6368,2,    25.00, -999.00,9,  -999.0,9,  -999.0,   0.5069,2, -999.00,9,    41.5,2,   29.90,2, -999.00,9,    16.5881,2, -999.00,9,  -999.0,9,     -999.0,     -999.0,9,     -999.0,9,     -999.0,     -999.0,9,     -999.0,     -999.0,9,     -999.0,     -999.0,     -999.0,9,     -999.0,9,     -999.0,9,     -999.0,9,     -999.0,9,     -999.0,9,     -999.0,9,     -999.0,9
33RO20161119,        P18,     191,          1,         21,      11119,2,20170121,       1006,   -61.4999,  -102.9996,       5148,   124.3,   2.3830,  33.9945,2,  33.9961,2,    302.4,2,   303.9,2,    18.6,2,    27.0,2,    0.34,2,   1.904,2,   4.8942,2,   2.6542,2,   2.9414,2,  2157.1,2,  2277.2,2,   7.6653,6,    25.00, -999.00,9,  -999.0,9,  -999.0,   0.4766,2, -999.00,9,    45.0,2,   28.80,2, -999.00,9,    14.7529,2, -999.00,9,  -999.0,9,     -999.0,     -999.0,9,     -999.0,9,     -999.0,     -999.0,9,     -999.0,     -999.0,9,     -999.0,     -999.0,     -999.0,9,     -999.0,9,     -999.0,9,     -999.0,9,     -999.0,9,     -999.0,9,     -999.0,9,     -999.0,9
33RO20161119,        P18,     191,          1,         22,      11120,2,20170121,       1006,   -61.4999,  -102.9996,       5148,    54.2,   3.9448,  33.9124,2,  33.9173,2,    324.8,2,   325.2,2,     0.3,2,    21.6,2,    0.26,2,   1.455,2,   4.9501,2,   2.6954,2,   3.1532,2,  2120.8,2,  2280.7,6,   7.7676,2,    25.00, -999.00,9,  -999.0,9,  -999.0,   0.3998,2, -999.00,9,    47.6,2,   23.60,2, -999.00,9,    13.6327,2, -999.00,9,  -999.0,9,     -999.0,     -999.0,9,     -999.0,9,     -999.0,     -999.0,9,     -999.0,     -999.0,9,     -999.0,     -999.0,     -999.0,9,     -999.0,9,     -999.0,9,     -999.0,9,     -999.0,9,     -999.0,9,     -999.0,9,     -999.0,9
33RO20161119,        P18,     191,          1,         23,      11121,2,20170121,       1006,   -61.4999,  -102.9996,       5148,    19.7,   4.0824,  33.9055,2,  33.9052,2,    325.0,2,   325.6,2,     0.3,2,    21.5,2,    0.27,2,   1.375,2,   4.9306,2,   2.6850,2,   3.1386,2,  2117.0,6,  2280.0,2,   7.7720,2,    25.00, -999.00,9,  -999.0,9,  -999.0,   0.3387,2, -999.00,9,    46.0,2,   22.70,2, -999.00,9,    13.5815,2, -999.00,9,  -999.0,9,     -999.0,     -999.0,9,     -999.0,9,     -999.0,     -999.0,9,     -999.0,     -999.0,9,     -999.0,     -999.0,     -999.0,9,     -999.0,9,     -999.0,9,     -999.0,9,     -999.0,9,     -999.0,9,     -999.0,9,     -999.0,9
33RO20161119,        P18,     191,          1,         24,      11122,2,20170121,       1006,   -61.4999,  -102.9996,       5148,     4.3,   4.0793,  33.9056,2,  33.9054,2,    324.3,2,   325.3,2,     0.2,2,    21.5,2,    0.27,2,   1.365,2,-999.0000,9,-999.0000,9,-999.0000,9,  -999.0,9,  2279.0,2,   7.7705,2,    25.00, -999.00,9,  -999.0,9,  -999.0,-999.0000,9, -999.00,9,    47.4,2,   23.90,2, -999.00,9,     -999.0,9, -999.00,9,  -999.0,9,     -999.0,     -999.0,9,     -999.0,9,     -999.0,     -999.0,9,     -999.0,     -999.0,9,     -999.0,     -999.0,     -999.0,9,     -999.0,9,     -999.0,9,     -999.0,9,     -999.0,9,     -999.0,9,     -999.0,9,     -999.0,9