BOTTLE,20230606CCHSIOCBG
EXPOCODE,SECT_ID,STNNBR,CASTNO,SAMPNO,BTLNBR,BTLNBR_FLAG_W,DATE,TIME,LATITUDE,LONGITUDE,DEPTH,CTDPRS,CTDTMP,CTDSAL,CTDSAL_FLAG_W,SALNTY,SALNTY_FLAG_W,CTDOXY,CTDOXY_FLAG_W,OXYGEN,OXYGEN_FLAG_W,SILCAT,SILCAT_FLAG_W,NITRAT,NITRAT_FLAG_W,NITRIT,NITRIT_FLAG_W,PHSPHT,PHSPHT_FLAG_W,CFC-11,CFC-11_FLAG_W,CFC-12,CFC-12_FLAG_W,SF6,SF6_FLAG_W,TCARBN,TCARBN_FLAG_W,ALKALI,ALKALI_FLAG_W,PH_SWS,PH_SWS_FLAG_W,PH_TMP,DELC13,DELC13_FLAG_W,DELC14,DELC14_FLAG_W,C14ERR,CCL4,CCL4_FLAG_W,POC,POC_FLAG_W,DOC,DOC_FLAG_W,TDN,TDN_FLAG_W,PON,PON_FLAG_W,N2O,N2O_FLAG_W,D15N_NO3,D15N_NO3_FLAG_W,14C-DOC,14C-DOC_FLAG_W,14C-DOCERR,13C-DOC,13C-DOC_FLAG_W,N2/ARGON_UNSTRIPPED,N2/ARGON_UNSTRIPPED_FLAG_W,N2/ARGON_UNSTRIPPED_ERROR,N2/ARGON,N2/ARGON_FLAG_W,N2/ARGON_ERROR,D15N_N2,D15N_N2_FLAG_W,D15N_N2_ERROR,D15N_NO3_ERROR,D15N_NO2+NO3,D15N_NO2+NO3_FLAG_W,D18O_NO2+NO3,D18O_NO2+NO3_FLAG_W,D18O_NO3,D18O_NO3_FLAG_W,TDP,TDP_FLAG_W,N2O_ALT_1,N2O_ALT_1_FLAG_W,D15N_N2O,D15N_N2O_FLAG_W,D18O_N2O,D18O_N2O_FLAG_W,D15N_ALPHA_N2O,D15N_ALPHA_N2O_FLAG_W
,,,,,,,,,,,METERS,DBAR,ITS-90,PSS-78,,PSS-78,,UMOL/KG,,UMOL/KG,,UMOL/KG,,UMOL/KG,,UMOL/KG,,UMOL/KG,,PMOL/KG,,PMOL/KG,,FMOL/KG,,UMOL/KG,,UMOL/KG,,,,DEG C,/MILLE,,/MILLE,,/MILLE,PMOL/KG,,UG/KG,,UMOL/KG,,UMOL/KG,,UG/KG,,NMOL/KG,,/MILLE,,/MILLE,,/MILLE,/MILLE,,,,,,,,/MILLE,,/MILLE,/MILLE,/MILLE,,/MILLE,,/MILLE,,UMOL/KG,,NMOL/L,,/MILLE,,/MILLE,,/MILLE,
33RO20161119,        P18,     151,          1,          1,      11010,2,20170110,       0256,   -41.5007,  -103.0005,       3727,  3779.6,   1.2137,  34.7082,2,  34.7089,2,    190.5,2,   191.0,2,   121.3,2,    32.9,2,    0.01,2,   2.306,2,-999.0000,9,-999.0000,9,-999.0000,9,  2282.3,6,  2375.2,2,   7.6062,6,    25.00,    0.57,2,  -185.4,2,     2.7,-999.0000,9, -999.00,9,    37.7,2,   36.50,2, -999.00,9,     -999.0,9, -999.00,9,  -999.0,9,     -999.0,     -999.0,9,     -999.0,9,     -999.0,     -999.0,9,     -999.0,     -999.0,9,     -999.0,     -999.0,     -999.0,9,     -999.0,9,     -999.0,9,     -999.0,9,     -999.0,9,     -999.0,9,     -999.0,9,     -999.0,9
33RO20161119,        P18,     151,          1,          2,      11101,2,20170110,       0256,   -41.5007,  -103.0005,       3727,  3535.7,   1.2776,  34.7079,2,  34.7107,2,    187.6,2,   187.9,6,   119.5,2,    33.0,2,    0.00,2,   2.305,2,-999.0000,9,-999.0000,9,-999.0000,9,  2281.3,2,  2376.8,6,   7.6053,2,    25.00,    0.59,2,  -190.2,2,     1.9,-999.0000,9, -999.00,9,    39.3,2,   34.40,2, -999.00,9,     -999.0,9, -999.00,9,    -523,2,          5,      -21.6,2,     -999.0,9,     -999.0,     -999.0,9,     -999.0,     -999.0,9,     -999.0,     -999.0,     -999.0,9,     -999.0,9,     -999.0,9,     -999.0,9,     -999.0,9,     -999.0,9,     -999.0,9,     -999.0,9
33RO20161119,        P18,     151,          1,          3,      11102,2,20170110,       0256,   -41.5007,  -103.0005,       3727,  3291.4,   1.4883,  34.7064,2,  34.7063,2,    181.3,2,   181.5,2,   115.1,6,    33.3,6,    0.00,6,   2.326,6,-999.0000,9,-999.0000,9,-999.0000,9,  2280.7,2,  2376.4,2,   7.5951,6,    25.00,    0.57,2,  -189.6,2,     2.4,-999.0000,9, -999.00,9,    39.7,2,   35.20,2, -999.00,9,     -999.0,9, -999.00,9,    -515,2,          5,      -21.4,2,     -999.0,9,     -999.0,     -999.0,9,     -999.0,     -999.0,9,     -999.0,     -999.0,     -999.0,9,     -999.0,9,     -999.0,9,     -999.0,9,     -999.0,9,     -999.0,9,     -999.0,9,     -999.0,9
33RO20161119,        P18,     151,          1,          4,      11103,2,20170110,       0256,   -41.5007,  -103.0005,       3727,  3027.0,   1.6470,  34.7042,2,  34.7076,2,    176.2,2,   176.4,2,   111.9,6,    33.2,6,    0.00,6,   2.331,6,-999.0000,9,-999.0000,9,-999.0000,9,  2281.7,2,  2375.6,2,   7.5902,2,    25.00,    0.53,2,  -189.9,2,     1.7,-999.0000,9, -999.00,9,    40.0,2,   37.00,2, -999.00,9,     -999.0,9, -999.00,9,  -999.0,9,     -999.0,     -999.0,9,     -999.0,9,     -999.0,     -999.0,9,     -999.0,     -999.0,9,     -999.0,     -999.0,     -999.0,9,     -999.0,9,     -999.0,9,     -999.0,9,     -999.0,9,     -999.0,9,     -999.0,9,     -999.0,9
33RO20161119,        P18,     151,          1,          5,      11104,2,20170110,       0256,   -41.5007,  -103.0005,       3727,  2721.0,   1.7569,  34.6993,2,  34.6971,2,    172.1,2,   172.9,2,   109.2,6,    33.4,6,    0.00,6,   2.340,6,-999.0000,9,-999.0000,9,-999.0000,9,  2281.9,2,  2375.0,2,   7.5858,2,    25.00,    0.42,2,  -192.3,2,     1.8,-999.0000,9, -999.00,9,    41.3,2,   35.90,2, -999.00,9,     -999.0,9, -999.00,9,  -999.0,9,     -999.0,     -999.0,9,     -999.0,9,     -999.0,     -999.0,9,     -999.0,     -999.0,9,     -999.0,     -999.0,     -999.0,9,     -999.0,9,     -999.0,9,     -999.0,9,     -999.0,9,     -999.0,9,     -999.0,9,     -999.0,9
33RO20161119,        P18,     151,          1,          6,      11105,2,20170110,       0256,   -41.5007,  -103.0005,       3727,  2440.6,   1.8966,  34.6924,2,  34.6929,2,    168.8,2,   169.1,2,   104.6,6,    33.4,6,    0.00,6,   2.345,6,-999.0000,9,-999.0000,9,-999.0000,9,  2279.1,2,  2364.3,2,   7.5781,2,    25.00,    0.50,2,  -191.0,2,     1.7,-999.0000,9, -999.00,9,    40.6,2,   36.00,2, -999.00,9,     -999.0,9, -999.00,9,    -512,2,          5,      -21.2,2,     -999.0,9,     -999.0,     -999.0,9,     -999.0,     -999.0,9,     -999.0,     -999.0,     -999.0,9,     -999.0,9,     -999.0,9,     -999.0,9,     -999.0,9,     -999.0,9,     -999.0,9,     -999.0,9
33RO20161119,        P18,     151,          1,          7,      11106,2,20170110,       0256,   -41.5007,  -103.0005,       3727,  2137.5,   2.1333,  34.6688,2,  34.6697,2,    166.5,2,   167.8,2,    95.3,2,    33.6,2,    0.00,2,   2.349,2,   0.0603,2,   0.0281,2,   0.0288,2,  2275.6,2,  2356.6,2,   7.5685,2,    25.00,    0.52,2,  -177.8,2,     2.1,   2.6443,2, -999.00,9,    36.9,2,   37.40,2, -999.00,9,     21.323,2, -999.00,9,    -514,2,          5,      -21.3,2,     -999.0,9,     -999.0,     -999.0,9,     -999.0,     -999.0,9,     -999.0,     -999.0,     -999.0,9,     -999.0,9,     -999.0,9,     -999.0,9,     -999.0,9,     -999.0,9,     -999.0,9,     -999.0,9
33RO20161119,        P18,     151,          1,          8,      11107,2,20170110,       0256,   -41.5007,  -103.0005,       3727,  1835.9,   2.3997,  34.6098,2,  34.6184,4,    159.9,2,   160.0,2,    86.7,2,    34.6,2,    0.00,2,   2.431,2,-999.0000,9,-999.0000,9,-999.0000,9,  2271.8,2,  2350.2,2,   7.5514,2,    25.00,    0.54,2,  -173.8,2,     1.9,-999.0000,9, -999.00,9,    37.2,2,   37.30,2, -999.00,9,     -999.0,9, -999.00,9,    -503,2,          5,      -21.2,2,     -999.0,9,     -999.0,     -999.0,9,     -999.0,     -999.0,9,     -999.0,     -999.0,     -999.0,9,     -999.0,9,     -999.0,9,     -999.0,9,     -999.0,9,     -999.0,9,     -999.0,9,     -999.0,9
33RO20161119,        P18,     151,          1,          9,      11108,2,20170110,       0256,   -41.5007,  -103.0005,       3727,  1525.8,   2.8551,  34.5209,2,  34.5509,4,    149.8,2,   149.4,2,    74.9,2,    35.9,2,    0.00,2,   2.524,2,   0.1564,6,   0.0751,6,   0.0181,6,  2267.3,6,  2340.5,2,   7.5297,2,    25.00,    0.58,2,  -170.6,2,     1.7,   2.6983,2, -999.00,9,    36.5,2,   40.30,2, -999.00,9,     24.481,2, -999.00,9,  -999.0,9,     -999.0,     -999.0,9,     -999.0,9,     -999.0,     -999.0,9,     -999.0,     -999.0,9,     -999.0,     -999.0,     -999.0,9,     -999.0,9,     -999.0,9,     -999.0,9,     -999.0,9,     -999.0,9,     -999.0,9,     -999.0,9
33RO20161119,        P18,     151,          1,         10,      11109,2,20170110,       0256,   -41.5007,  -103.0005,       3727,  1316.0,   3.2126,  34.4415,2,  34.4438,2,    158.2,2,   157.6,2,    60.5,2,    35.7,2,    0.01,2,   2.494,2,-999.0000,9,-999.0000,9,-999.0000,9,  2249.2,2,  2322.6,6,   7.5344,2,    25.00,    0.70,2,  -145.2,2,     2.3,-999.0000,9, -999.00,9,    40.2,2,   39.60,2, -999.00,9,     -999.0,9, -999.00,9,    -503,2,          5,      -21.7,2,     -999.0,9,     -999.0,     -999.0,9,     -999.0,     -999.0,9,     -999.0,     -999.0,     -999.0,9,     -999.0,9,     -999.0,9,     -999.0,9,     -999.0,9,     -999.0,9,     -999.0,9,     -999.0,9
33RO20161119,        P18,     151,          1,         11,      11110,2,20170110,       0256,   -41.5007,  -103.0005,       3727,  1185.3,   3.5026,  34.3846,2,  34.3979,4,    170.6,2,   170.0,2,    49.5,2,    34.7,2,    0.01,2,   2.416,2,   0.4409,2,   0.2156,2,   0.0540,2,  2233.1,2,  2311.0,2,   7.5528,2,    25.00,    0.83,2,  -125.0,2,     1.7,   3.0027,2, -999.00,9,    38.7,2,   38.70,2, -999.00,9,    22.8845,2, -999.00,9,  -999.0,9,     -999.0,     -999.0,9,     -999.0,9,     -999.0,     -999.0,9,     -999.0,     -999.0,9,     -999.0,     -999.0,     -999.0,9,     -999.0,9,     -999.0,9,     -999.0,9,     -999.0,9,     -999.0,9,     -999.0,9,     -999.0,9
33RO20161119,        P18,     151,          1,         12,      11111,2,20170110,       0256,   -41.5007,  -103.0005,       3727,  1045.6,   4.0179,  34.3207,2,  34.3213,2,    193.2,2,   193.6,2,    35.1,2,    32.3,2,    0.00,2,   2.242,2,-999.0000,9,-999.0000,9,-999.0000,9,  2205.8,2,  2296.7,2,   7.5906,2,    25.00,    1.04,2,   -90.1,2,     1.9,-999.0000,9, -999.00,9,    38.4,2,   34.40,2, -999.00,9,     -999.0,9, -999.00,9,  -999.0,9,     -999.0,     -999.0,9,     -999.0,9,     -999.0,     -999.0,9,     -999.0,     -999.0,9,     -999.0,     -999.0,     -999.0,9,     -999.0,9,     -999.0,9,     -999.0,9,     -999.0,9,     -999.0,9,     -999.0,9,     -999.0,9
33RO20161119,        P18,     151,          1,         13,      11112,2,20170110,       0256,   -41.5007,  -103.0005,       3727,   930.9,   4.5832,  34.2889,2,  34.2884,2,    209.5,2,   209.6,2,    25.4,2,    30.0,2,    0.01,2,   2.073,2,   2.0149,2,   1.0114,2,   0.3739,2,  2189.1,2,  2288.1,2,   7.6181,2,    25.00,    1.14,2,   -60.9,2,     2.1,   2.9504,2, -999.00,9,    39.3,2,   33.40,2, -999.00,9,    18.3757,2, -999.00,9,  -999.0,9,     -999.0,     -999.0,9,     -999.0,9,     -999.0,     -999.0,9,     -999.0,     -999.0,9,     -999.0,     -999.0,     -999.0,9,     -999.0,9,     -999.0,9,     -999.0,9,     -999.0,9,     -999.0,9,     -999.0,9,     -999.0,9
33RO20161119,        P18,     151,          1,         14,      11113,2,20170110,       0256,   -41.5007,  -103.0005,       3727,   816.3,   5.1357,  34.2714,2,  34.2723,2,    223.5,2,   224.1,2,    17.9,2,    27.7,2,    0.00,2,   1.936,2,-999.0000,9,-999.0000,9,-999.0000,9,  2170.9,2,  2271.2,4,   7.6503,2,    25.00,    1.25,2,   -38.7,2,     2.1,-999.0000,9, -999.00,9,    42.5,2,   31.80,2, -999.00,9,     -999.0,9, -999.00,9,    -444,2,          5,      -21.2,2,     -999.0,9,     -999.0,     -999.0,9,     -999.0,     -999.0,9,     -999.0,     -999.0,     -999.0,9,     -999.0,9,     -999.0,9,     -999.0,9,     -999.0,9,     -999.0,9,     -999.0,9,     -999.0,9
33RO20161119,        P18,     151,          1,         15,      11114,2,20170110,       0256,   -41.5007,  -103.0005,       3727,   700.5,   5.6144,  34.2674,2,  34.2678,2,    240.4,2,   240.9,2,    12.1,2,    25.3,2,    0.00,2,   1.769,2,   3.4415,2,   1.7757,2,   0.9640,2,  2156.1,2,  2270.6,4,   7.6798,2,    25.00,    1.31,2,   -15.1,2,     1.9,   2.3819,2, -999.00,9,    39.2,2,   27.40,2, -999.00,9,    15.8262,2, -999.00,9,  -999.0,9,     -999.0,     -999.0,9,     -999.0,9,     -999.0,     -999.0,9,     -999.0,     -999.0,9,     -999.0,     -999.0,     -999.0,9,     -999.0,9,     -999.0,9,     -999.0,9,     -999.0,9,     -999.0,9,     -999.0,9,     -999.0,9
33RO20161119,        P18,     151,          1,         16,      11115,2,20170110,       0256,   -41.5007,  -103.0005,       3727,   580.7,   6.0297,  34.2780,2,  34.2773,2,    251.7,2,   252.5,2,     8.9,2,    23.2,2,    0.01,2,   1.655,2,   3.8664,2,   2.0752,2,   1.4096,2,  2149.2,2,  2273.1,2,   7.6958,2,    25.00,    1.29,2,     0.0,2,     1.9,   3.7924,2, -999.00,9,    40.5,2,   26.30,2, -999.00,9,    14.8449,2, -999.00,9,    -453,2,          5,      -21.8,2,     -999.0,9,     -999.0,     -999.0,9,     -999.0,     -999.0,9,     -999.0,     -999.0,     -999.0,9,     -999.0,9,     -999.0,9,     -999.0,9,     -999.0,9,     -999.0,9,     -999.0,9,     -999.0,9
33RO20161119,        P18,     151,          1,         17,      11116,2,20170110,       0256,   -41.5007,  -103.0005,       3727,   480.8,   6.2585,  34.2805,2,  34.2865,2,    257.2,2,   257.5,2,     7.6,2,    22.3,2,    0.00,2,   1.584,2,   4.0423,2,   2.2177,2,   1.6691,2,  2145.3,2,  2259.2,4,   7.7052,2,    25.00,    1.30,2,     2.7,2,     2.1,   3.2187,2, -999.00,9,    42.0,2,   24.70,2, -999.00,9,    14.9998,2, -999.00,9,  -999.0,9,     -999.0,     -999.0,9,     -999.0,9,     -999.0,     -999.0,9,     -999.0,     -999.0,9,     -999.0,     -999.0,     -999.0,9,     -999.0,9,     -999.0,9,     -999.0,9,     -999.0,9,     -999.0,9,     -999.0,9,     -999.0,9
33RO20161119,        P18,     151,          1,         18,      11117,2,20170110,       0256,   -41.5007,  -103.0005,       3727,   376.0,   6.6461,  34.3051,2,  34.3046,2,    259.5,2,   256.9,2,     6.4,2,    21.3,2,    0.01,2,   1.519,2,   4.0703,2,   2.2451,2,   1.8603,2,  2142.7,2,  2258.7,4,   7.7099,2,    25.00,    1.28,2,     8.1,2,     2.1,    3.322,2, -999.00,9,    41.9,2,   25.00,2, -999.00,9,    16.0211,2, -999.00,9,    -424,2,          5,      -21.6,2,     -999.0,9,     -999.0,     -999.0,9,     -999.0,     -999.0,9,     -999.0,     -999.0,     -999.0,9,     -999.0,9,     -999.0,9,     -999.0,9,     -999.0,9,     -999.0,9,     -999.0,9,     -999.0,9
33RO20161119,        P18,     151,          1,         19,      11083,2,20170110,       0256,   -41.5007,  -103.0005,       3727,   285.1,   6.9164,  34.2899,2,  34.2889,2,    255.5,2,   256.2,2,     5.4,2,    20.8,2,    0.01,2,   1.485,2,   4.0132,2,   2.2503,2,   1.9965,2,  2140.4,2,  2262.1,4,   7.7096,2,    25.00,    1.24,2,    11.4,2,     2.2,   3.1365,2, -999.00,9,    42.6,2,   24.30,2, -999.00,9,    18.3823,2, -999.00,9,  -999.0,9,     -999.0,     -999.0,9,     -999.0,9,     -999.0,     -999.0,9,     -999.0,     -999.0,9,     -999.0,     -999.0,     -999.0,9,     -999.0,9,     -999.0,9,     -999.0,9,     -999.0,9,     -999.0,9,     -999.0,9,     -999.0,9
33RO20161119,        P18,     151,          1,         20,      11118,2,20170110,       0256,   -41.5007,  -103.0005,       3727,   205.4,   7.5498,  34.2308,2,  34.2388,2,    254.6,2,   252.8,2,     3.6,2,    19.3,2,    0.02,2,   1.411,2,   3.9232,2,   2.2159,2,   2.1078,2,  2134.1,2,  2267.5,2,   7.7199,2,    25.00,    1.31,2,    12.3,2,     2.2,   0.0124,2, -999.00,9,    46.7,2,   22.10,2, -999.00,9,    21.0438,2, -999.00,9,    -404,2,          5,      -21.5,2,     -999.0,9,     -999.0,     -999.0,9,     -999.0,     -999.0,9,     -999.0,     -999.0,     -999.0,9,     -999.0,9,     -999.0,9,       1.47,2,     -999.0,9,     -999.0,9,     -999.0,9,     -999.0,9
33RO20161119,        P18,     151,          1,         21,      11119,2,20170110,       0256,   -41.5007,  -103.0005,       3727,   139.6,   8.7463,  34.0615,2,  34.0690,2,    279.6,2,   278.0,2,     1.4,2,    14.0,2,    0.25,2,   1.134,2,   3.6459,2,   2.1036,2,   2.4904,2,  2097.4,2,  2261.2,2,   7.7938,2,    25.00,    1.56,2,    -1.8,2,     2.1,   0.0199,2, -999.00,9,    46.4,2,   18.70,2, -999.00,9,    12.3657,2, -999.00,9,  -999.0,9,     -999.0,     -999.0,9,     -999.0,9,     -999.0,     -999.0,9,     -999.0,     -999.0,9,     -999.0,     -999.0,     -999.0,9,     -999.0,9,     -999.0,9,     -999.0,9,     -999.0,9,     -999.0,9,     -999.0,9,     -999.0,9
33RO20161119,        P18,     151,          1,         22,      11120,2,20170110,       0256,   -41.5007,  -103.0005,       3727,    69.6,  10.7417,  34.0178,2,  34.0185,2,    278.2,2,   277.0,2,     0.8,2,    10.6,2,    0.18,2,   0.916,2,   3.3439,2,   1.9555,2,   2.3801,2,  2077.5,2,  2256.2,2,   7.8314,2,    25.00,    1.58,2,    16.3,2,     2.6,    0.014,2, -999.00,9,    53.0,2,   14.30,2, -999.00,9,    11.0606,2, -999.00,9,    -313,2,          5,      -21.6,2,     -999.0,9,     -999.0,     -999.0,9,     -999.0,     -999.0,9,     -999.0,     -999.0,     -999.0,9,     -999.0,9,     -999.0,9,       1.08,2,     -999.0,9,     -999.0,9,     -999.0,9,     -999.0,9
33RO20161119,        P18,     151,          1,         23,      11121,2,20170110,       0256,   -41.5007,  -103.0005,       3727,    29.9,  13.7898,  33.9759,2,  33.9767,2,    262.1,2,   262.3,6,     0.7,2,     9.8,2,    0.20,2,   0.877,2,   2.9330,2,   1.7244,2,   2.1807,2,  2063.3,6,  2254.2,2,   7.8619,2,    25.00,    1.63,2,    13.4,2,     2.1,   0.0382,2, -999.00,9,    56.1,2,   13.30,2, -999.00,9,     9.5891,2, -999.00,9,  -999.0,9,     -999.0,     -999.0,9,     -999.0,9,     -999.0,     -999.0,9,     -999.0,     -999.0,9,     -999.0,     -999.0,     -999.0,9,     -999.0,9,     -999.0,9,       1.08,2,     -999.0,9,     -999.0,9,     -999.0,9,     -999.0,9
33RO20161119,        P18,     151,          1,         24,      11122,2,20170110,       0256,   -41.5007,  -103.0005,       3727,     5.1,  14.2341,  33.9685,2,  33.9676,2,    259.5,2,   258.7,2,     0.6,2,     9.1,2,    0.20,2,   0.835,2,   2.8442,2,   1.6802,2,   2.1371,2,  2060.6,2,  2250.6,2,   7.8652,2,    25.00,    1.62,2,     9.7,2,     2.3,   0.0513,2, -999.00,9,    52.1,2,   12.50,2, -999.00,9,      9.365,2, -999.00,9,    -295,2,          5,      -21.6,2,     -999.0,9,     -999.0,     -999.0,9,     -999.0,     -999.0,9,     -999.0,     -999.0,     -999.0,9,     -999.0,9,     -999.0,9,       0.95,2,     -999.0,9,     -999.0,9,     -999.0,9,     -999.0,9