BOTTLE,20230606CCHSIOCBG
EXPOCODE,SECT_ID,STNNBR,CASTNO,SAMPNO,BTLNBR,BTLNBR_FLAG_W,DATE,TIME,LATITUDE,LONGITUDE,DEPTH,CTDPRS,CTDTMP,CTDSAL,CTDSAL_FLAG_W,SALNTY,SALNTY_FLAG_W,CTDOXY,CTDOXY_FLAG_W,OXYGEN,OXYGEN_FLAG_W,SILCAT,SILCAT_FLAG_W,NITRAT,NITRAT_FLAG_W,NITRIT,NITRIT_FLAG_W,PHSPHT,PHSPHT_FLAG_W,CFC-11,CFC-11_FLAG_W,CFC-12,CFC-12_FLAG_W,SF6,SF6_FLAG_W,TCARBN,TCARBN_FLAG_W,ALKALI,ALKALI_FLAG_W,PH_SWS,PH_SWS_FLAG_W,PH_TMP,DELC13,DELC13_FLAG_W,DELC14,DELC14_FLAG_W,C14ERR,CCL4,CCL4_FLAG_W,POC,POC_FLAG_W,DOC,DOC_FLAG_W,TDN,TDN_FLAG_W,PON,PON_FLAG_W,N2O,N2O_FLAG_W,D15N_NO3,D15N_NO3_FLAG_W,14C-DOC,14C-DOC_FLAG_W,14C-DOCERR,13C-DOC,13C-DOC_FLAG_W,N2/ARGON_UNSTRIPPED,N2/ARGON_UNSTRIPPED_FLAG_W,N2/ARGON_UNSTRIPPED_ERROR,N2/ARGON,N2/ARGON_FLAG_W,N2/ARGON_ERROR,D15N_N2,D15N_N2_FLAG_W,D15N_N2_ERROR,D15N_NO3_ERROR,D15N_NO2+NO3,D15N_NO2+NO3_FLAG_W,D18O_NO2+NO3,D18O_NO2+NO3_FLAG_W,D18O_NO3,D18O_NO3_FLAG_W,TDP,TDP_FLAG_W,N2O_ALT_1,N2O_ALT_1_FLAG_W,D15N_N2O,D15N_N2O_FLAG_W,D18O_N2O,D18O_N2O_FLAG_W,D15N_ALPHA_N2O,D15N_ALPHA_N2O_FLAG_W
,,,,,,,,,,,METERS,DBAR,ITS-90,PSS-78,,PSS-78,,UMOL/KG,,UMOL/KG,,UMOL/KG,,UMOL/KG,,UMOL/KG,,UMOL/KG,,PMOL/KG,,PMOL/KG,,FMOL/KG,,UMOL/KG,,UMOL/KG,,,,DEG C,/MILLE,,/MILLE,,/MILLE,PMOL/KG,,UG/KG,,UMOL/KG,,UMOL/KG,,UG/KG,,NMOL/KG,,/MILLE,,/MILLE,,/MILLE,/MILLE,,,,,,,,/MILLE,,/MILLE,/MILLE,/MILLE,,/MILLE,,/MILLE,,UMOL/KG,,NMOL/L,,/MILLE,,/MILLE,,/MILLE,
33RO20161119,        P18,      25,          1,          1,      11010,2,20161130,       1003,    11.9998,  -110.0006,       3096,  3261.0,   1.5902,  34.6796,2,  34.6780,2,    130.4,2,   131.2,2,   152.7,6,    37.5,6,    0.02,6,   2.525,6,   0.0047,2,   0.0029,2,   0.0297,2,  2345.2,6,  2429.4,2,   7.5402,2,    25.00, -999.00,9,  -999.0,9,  -999.0,        0,2, -999.00,9,    39.5,2,   39.20,2, -999.00,9,    21.4651,2, -999.00,9,  -999.0,9,     -999.0,     -999.0,9,     -999.0,9,     -999.0,     -999.0,9,     -999.0,     -999.0,9,     -999.0,     -999.0,     -999.0,9,     -999.0,9,     -999.0,9,     -999.0,9,     -999.0,9,     -999.0,9,     -999.0,9,     -999.0,9
33RO20161119,        P18,      25,          1,          2,      11101,2,20161130,       1003,    11.9998,  -110.0006,       3096,  3070.0,   1.6894,  34.6749,2,  34.6723,2,    122.2,2,   121.8,2,   152.5,6,    37.9,6,    0.02,6,   2.566,6,   0.0047,2,   0.0029,2,   0.0578,2,  2353.1,2,  2431.1,6,   7.5283,6,    25.00, -999.00,9,  -999.0,9,  -999.0,   0.0096,2, -999.00,9,    39.9,2,   38.40,2, -999.00,9,    22.2947,2, -999.00,9,  -999.0,9,     -999.0,     -999.0,9,     -999.0,9,     -999.0,     -999.0,9,     -999.0,     -999.0,9,     -999.0,     -999.0,     -999.0,9,     -999.0,9,     -999.0,9,     -999.0,9,     -999.0,9,     -999.0,9,     -999.0,9,     -999.0,9
33RO20161119,        P18,      25,          1,          3,      11102,2,20161130,       1003,    11.9998,  -110.0006,       3096,  2884.5,   1.7740,  34.6708,2,  34.6700,2,    115.6,2,   115.3,2,   152.8,6,    38.4,6,    0.02,6,   2.600,6,   0.0031,2,   0.0013,2,   0.0000,2,  2355.9,2,  2433.7,2,   7.5159,2,    25.00, -999.00,9,  -999.0,9,  -999.0,   0.0136,2, -999.00,9,    39.9,2,   39.40,2, -999.00,9,    22.7737,2, -999.00,9,  -999.0,9,     -999.0,     -999.0,9,     -999.0,9,     -999.0,     -999.0,9,     -999.0,     -999.0,9,     -999.0,     -999.0,     -999.0,9,     -999.0,9,     -999.0,9,     -999.0,9,     -999.0,9,     -999.0,9,     -999.0,9,     -999.0,9
33RO20161119,        P18,      25,          1,          4,      11103,2,20161130,       1003,    11.9998,  -110.0006,       3096,  2639.8,   1.8450,  34.6667,2,  34.6646,2,    109.5,2,   109.6,2,   152.1,6,    38.8,6,    0.02,6,   2.640,6,   0.0030,2,   0.0012,2,   0.0000,2,  2358.4,2,  2429.8,2,   7.5089,2,    25.00, -999.00,9,  -999.0,9,  -999.0,    0.013,2, -999.00,9,    39.4,2,   42.00,2, -999.00,9,    23.7796,2, -999.00,9,  -999.0,9,     -999.0,     -999.0,9,     -999.0,9,     -999.0,     -999.0,9,     -999.0,     -999.0,9,     -999.0,     -999.0,     -999.0,9,     -999.0,9,     -999.0,9,     -999.0,9,     -999.0,9,     -999.0,9,     -999.0,9,     -999.0,9
33RO20161119,        P18,      25,          1,          5,      11104,2,20161130,       1003,    11.9998,  -110.0006,       3096,  2356.2,   1.9517,  34.6603,2,  34.6596,2,    102.6,2,   102.4,2,   150.8,2,    39.2,2,    0.02,2,   2.685,2,   0.0032,2,   0.0019,2,   0.0000,2,  2361.0,2,  2426.7,2,   7.4959,2,    25.00, -999.00,9,  -999.0,9,  -999.0,   0.0134,2, -999.00,9,    40.1,2,   40.10,2, -999.00,9,    25.0621,2, -999.00,9,  -999.0,9,     -999.0,     -999.0,9,     -999.0,9,     -999.0,     -999.0,9,     -999.0,     -999.0,9,     -999.0,     -999.0,     -999.0,9,     -999.0,9,     -999.0,9,     -999.0,9,     -999.0,9,     -999.0,9,     -999.0,9,     -999.0,9
33RO20161119,        P18,      25,          1,          6,      11105,2,20161130,       1003,    11.9998,  -110.0006,       3096,  2125.6,   2.1035,  34.6512,2,  34.6515,2,     93.9,2,    94.1,2,   147.4,2,    39.9,2,    0.02,2,   2.735,2,   0.0027,6,   0.0019,6,   0.0459,6,  2362.5,2,  2422.4,2,   7.4764,2,    25.00, -999.00,9,  -999.0,9,  -999.0,   0.0189,2, -999.00,9,    39.4,2,   41.00,2, -999.00,9,     26.472,2, -999.00,9,  -999.0,9,     -999.0,     -999.0,9,     -999.0,9,     -999.0,     -999.0,9,     -999.0,     -999.0,9,     -999.0,     -999.0,     -999.0,9,     -999.0,9,     -999.0,9,     -999.0,9,     -999.0,9,     -999.0,9,     -999.0,9,     -999.0,9
33RO20161119,        P18,      25,          1,          7,      11106,2,20161130,       1003,    11.9998,  -110.0006,       3096,  1864.9,   2.4624,  34.6320,2,  34.6309,2,     77.9,2,    77.8,2,   140.5,2,    41.1,2,    0.02,2,   2.858,2,   0.0021,2,   0.0013,2,   0.0000,2,  2363.0,2,  2411.7,2,   7.4411,2,    25.00, -999.00,9,  -999.0,9,  -999.0,        0,2, -999.00,9,    40.2,2,   44.30,2, -999.00,9,    29.9305,2, -999.00,9,  -999.0,9,     -999.0,     -999.0,9,     -999.0,9,     -999.0,     -999.0,9,     -999.0,     -999.0,9,     -999.0,     -999.0,     -999.0,9,     -999.0,9,     -999.0,9,     -999.0,9,     -999.0,9,     -999.0,9,     -999.0,9,     -999.0,9
33RO20161119,        P18,      25,          1,          8,      11107,2,20161130,       1003,    11.9998,  -110.0006,       3096,  1605.2,   2.8953,  34.6122,2,  34.6126,2,     65.9,2,    67.0,2,   129.7,2,    42.0,2,    0.02,2,   2.933,2,   0.0027,2,   0.0012,2,   0.0000,2,  2359.5,2,  2399.9,2,   7.4242,2,    25.00, -999.00,9,  -999.0,9,  -999.0,        0,2, -999.00,9,    39.2,2,   46.20,2, -999.00,9,    33.2804,2, -999.00,9,  -999.0,9,     -999.0,     -999.0,9,     -999.0,9,     -999.0,     -999.0,9,     -999.0,     -999.0,9,     -999.0,     -999.0,     -999.0,9,     -999.0,9,     -999.0,9,     -999.0,9,     -999.0,9,     -999.0,9,     -999.0,9,     -999.0,9
33RO20161119,        P18,      25,          1,          9,      11108,2,20161130,       1003,    11.9998,  -110.0006,       3096,  1325.3,   3.5594,  34.5874,2,  34.5866,2,     41.7,2,    42.8,6,   116.4,2,    43.6,2,    0.02,2,   3.099,2,   0.0036,2,   0.0013,2,   0.0000,2,  2357.9,6,  2384.1,2,   7.3734,2,    25.00, -999.00,9,  -999.0,9,  -999.0,   0.0118,2, -999.00,9,    38.9,2,   47.40,2, -999.00,9,     39.945,2, -999.00,9,  -999.0,9,     -999.0,     -999.0,9,     -999.0,9,     -999.0,     -999.0,9,     -999.0,     -999.0,9,     -999.0,     -999.0,     -999.0,9,     -999.0,9,     -999.0,9,     -999.0,9,     -999.0,9,     -999.0,9,     -999.0,9,     -999.0,9
33RO20161119,        P18,      25,          1,         10,      11109,2,20161130,       1003,    11.9998,  -110.0006,       3096,  1139.0,   3.9968,  34.5736,2,  34.5719,2,     30.6,2,    31.2,2,   107.0,2,    44.4,2,    0.02,2,   3.161,2,   0.0034,2,   0.0016,2,   0.0282,2,  2354.7,2,  2375.3,2,   7.3511,2,    25.00, -999.00,9,  -999.0,9,  -999.0,    0.013,2, -999.00,9,    39.4,2,   48.50,2, -999.00,9,    43.6099,2, -999.00,9,  -999.0,9,     -999.0,     -999.0,9,     -999.0,9,     -999.0,     -999.0,9,     -999.0,     -999.0,9,     -999.0,     -999.0,     -999.0,9,     -999.0,9,     -999.0,9,     -999.0,9,     -999.0,9,     -999.0,9,     -999.0,9,     -999.0,9
33RO20161119,        P18,      25,          1,         11,      11110,2,20161130,       1003,    11.9998,  -110.0006,       3096,  1025.3,   4.4931,  34.5625,2,  34.5627,2,     22.7,2,    23.7,2,    97.1,2,    44.7,2,    0.02,2,   3.199,2,   0.0039,2,   0.0015,2,   0.0000,2,  2347.6,2,  2351.8,3,   7.3395,2,    25.00, -999.00,9,  -999.0,9,  -999.0,    0.014,2, -999.00,9,    40.3,2,   48.20,2, -999.00,9,    47.7018,2, -999.00,9,  -999.0,9,     -999.0,     -999.0,9,     -999.0,9,     -999.0,     -999.0,9,     -999.0,     -999.0,9,     -999.0,     -999.0,     -999.0,9,     -999.0,9,     -999.0,9,     -999.0,9,     -999.0,9,     -999.0,9,     -999.0,9,     -999.0,9
33RO20161119,        P18,      25,          1,         12,      11111,2,20161130,       1003,    11.9998,  -110.0006,       3096,   915.5,   4.9567,  34.5561,2,  34.5556,2,     13.7,2,    14.8,2,    88.8,2,    44.9,2,    0.03,2,   3.226,2,   0.0032,2,   0.0031,2,   0.0476,2,  2344.2,2,  2360.4,2,   7.3229,2,    25.00, -999.00,9,  -999.0,9,  -999.0,   0.0114,2, -999.00,9,    41.0,2,   48.20,2, -999.00,9,    53.1447,2, -999.00,9,  -999.0,9,     -999.0,     -999.0,9,     -999.0,9,     -999.0,     -999.0,9,     -999.0,     -999.0,9,     -999.0,     -999.0,     -999.0,9,     -999.0,9,     -999.0,9,     -999.0,9,     -999.0,9,     -999.0,9,     -999.0,9,     -999.0,9
33RO20161119,        P18,      25,          1,         13,      11112,2,20161130,       1003,    11.9998,  -110.0006,       3096,   804.4,   5.5326,  34.5518,2,  34.5511,2,      6.4,2,     7.0,2,    79.8,2,    44.2,2,    0.02,2,   3.218,2,   0.0036,2,   0.0018,2,   0.0000,2,  2338.2,2,  2344.5,2,   7.3159,2,    25.00, -999.00,9,  -999.0,9,  -999.0,        0,2, -999.00,9,    39.5,2,   48.30,2, -999.00,9,    56.6491,2, -999.00,9,  -999.0,9,     -999.0,     -999.0,9,     -999.0,9,     -999.0,     -999.0,9,     -999.0,     -999.0,9,     -999.0,     -999.0,     -999.0,9,     -999.0,9,     -999.0,9,     -999.0,9,     -999.0,9,     -999.0,9,     -999.0,9,     -999.0,9
33RO20161119,        P18,      25,          1,         14,      11113,2,20161130,       1003,    11.9998,  -110.0006,       3096,   706.1,   6.1107,  34.5541,2,  34.5531,2,      3.1,2,     3.7,2,    72.3,2,    42.6,2,    0.02,2,   3.185,2,   0.0059,2,   0.0027,2,   0.0000,2,  2329.7,2,  2341.8,2,   7.3178,2,    25.00, -999.00,9,  -999.0,9,  -999.0,   0.0204,2, -999.00,9,    42.6,2,   45.20,2, -999.00,9,    57.0976,2, -999.00,9,  -999.0,9,     -999.0,     -999.0,9,     -999.0,9,     -999.0,     -999.0,9,     -999.0,     -999.0,9,     -999.0,     -999.0,     -999.0,9,     -999.0,9,     -999.0,9,     -999.0,9,     -999.0,9,     -999.0,9,     -999.0,9,     -999.0,9
33RO20161119,        P18,      25,          1,         15,      11114,2,20161130,       1003,    11.9998,  -110.0006,       3096,   601.2,   6.9874,  34.5659,2,  34.5674,2,      2.3,2,     2.0,2,    63.1,2,    38.8,2,    0.03,2,   3.109,2,   0.0106,2,   0.0068,2,   0.0000,2,  2319.1,2,  2328.8,2,   7.3261,2,    25.00, -999.00,9,  -999.0,9,  -999.0,        0,2, -999.00,9,    46.5,2,   40.80,2, -999.00,9,    41.2184,2, -999.00,9,  -999.0,9,     -999.0,     -999.0,9,     -999.0,9,     -999.0,     -999.0,9,     -999.0,     -999.0,9,     -999.0,     -999.0,     -999.0,9,     -999.0,9,     -999.0,9,     -999.0,9,     -999.0,9,     -999.0,9,     -999.0,9,     -999.0,9
33RO20161119,        P18,      25,          1,         16,      11115,2,20161130,       1003,    11.9998,  -110.0006,       3096,   506.2,   7.7931,  34.5803,2,  34.5791,2,      2.3,2,     2.1,2,    55.4,2,    35.4,2,    0.03,2,   3.003,2,   0.0279,6,   0.0186,6,   0.0000,6,  2309.4,2,  2324.3,2,   7.3355,2,    25.00, -999.00,9,  -999.0,9,  -999.0,   0.0262,2, -999.00,9,    42.8,2,   36.40,2, -999.00,9,    23.4715,2, -999.00,9,  -999.0,9,     -999.0,     -999.0,9,     -999.0,9,     -999.0,     -999.0,9,     -999.0,     -999.0,9,     -999.0,     -999.0,     -999.0,9,     -999.0,9,     -999.0,9,     -999.0,9,     -999.0,9,     -999.0,9,     -999.0,9,     -999.0,9
33RO20161119,        P18,      25,          1,         17,      11116,2,20161130,       1003,    11.9998,  -110.0006,       3096,   420.0,   8.8371,  34.6036,2,  34.6034,2,      2.4,2,     4.1,6,    45.1,2,    33.7,2,    0.02,2,   2.822,2,   0.0922,2,   0.0558,2,   0.0371,2,  2295.1,2,  2312.9,2,   7.3505,2,    25.00, -999.00,9,  -999.0,9,  -999.0,   0.0416,2, -999.00,9,    43.5,2,   35.80,2, -999.00,9,    31.7713,2, -999.00,9,  -999.0,9,     -999.0,     -999.0,9,     -999.0,9,     -999.0,     -999.0,9,     -999.0,     -999.0,9,     -999.0,     -999.0,     -999.0,9,     -999.0,9,     -999.0,9,     -999.0,9,     -999.0,9,     -999.0,9,     -999.0,9,     -999.0,9
33RO20161119,        P18,      25,          1,         18,      11117,2,20161130,       1003,    11.9998,  -110.0006,       3096,   329.8,  10.0129,  34.6633,2,  34.6635,2,      2.3,2,     3.0,2,    35.7,2,    32.8,2,    0.04,2,   2.624,2,   0.3009,2,   0.1704,2,   0.0673,2,  2279.2,2,  2302.9,2,   7.3666,2,    25.00, -999.00,9,  -999.0,9,  -999.0,   0.0615,2, -999.00,9,    46.2,2,   34.90,2, -999.00,9,    38.7201,2, -999.00,9,  -999.0,9,     -999.0,     -999.0,9,     -999.0,9,     -999.0,     -999.0,9,     -999.0,     -999.0,9,     -999.0,     -999.0,     -999.0,9,     -999.0,9,     -999.0,9,     -999.0,9,     -999.0,9,     -999.0,9,     -999.0,9,     -999.0,9
33RO20161119,        P18,      25,          1,         19,      11083,2,20161130,       1003,    11.9998,  -110.0006,       3096,   251.4,  11.0085,  34.7264,2,  34.7254,2,      2.3,2,     3.7,2,    30.6,2,    31.9,2,    0.03,2,   2.499,2,   0.6092,2,   0.3407,2,   0.1558,2,  2269.0,2,  2300.3,2,   7.3875,2,    25.00, -999.00,9,  -999.0,9,  -999.0,   0.0606,2, -999.00,9,    45.8,2,   34.20,2, -999.00,9,    45.6817,2, -999.00,9,  -999.0,9,     -999.0,     -999.0,9,     -999.0,9,     -999.0,     -999.0,9,     -999.0,     -999.0,9,     -999.0,     -999.0,     -999.0,9,     -999.0,9,     -999.0,9,     -999.0,9,     -999.0,9,     -999.0,9,     -999.0,9,     -999.0,9
33RO20161119,        P18,      25,          1,         20,      11118,2,20161130,       1003,    11.9998,  -110.0006,       3096,   184.9,  11.9023,  34.7758,2,  34.7729,2,      2.6,2,  -999.0,9,    27.9,2,    31.0,2,    0.03,2,   2.440,2,   0.8571,2,   0.4835,2,   0.1784,2,  2261.2,2,  2298.5,2,   7.4076,2,    25.00, -999.00,9,  -999.0,9,  -999.0,   0.0719,2, -999.00,9,    49.0,2,   32.90,2, -999.00,9,    38.8624,2, -999.00,9,  -999.0,9,     -999.0,     -999.0,9,     -999.0,9,     -999.0,     -999.0,9,     -999.0,     -999.0,9,     -999.0,     -999.0,     -999.0,9,     -999.0,9,     -999.0,9,       2.62,2,     -999.0,9,     -999.0,9,     -999.0,9,     -999.0,9
33RO20161119,        P18,      25,          1,         21,      11119,2,20161130,       1003,    11.9998,  -110.0006,       3096,   124.0,  12.8343,  34.7957,2,  34.7954,2,      2.7,2,  -999.0,9,    25.5,2,    29.3,2,    0.03,2,   2.414,2,   1.0924,2,   0.6239,2,   0.3609,2,  2255.9,2,  2298.5,2,   7.4205,2,    25.00, -999.00,9,  -999.0,9,  -999.0,   0.2295,2, -999.00,9,    49.3,2,   31.00,2, -999.00,9,    49.1861,2, -999.00,9,  -999.0,9,     -999.0,     -999.0,9,     -999.0,9,     -999.0,     -999.0,9,     -999.0,     -999.0,9,     -999.0,     -999.0,     -999.0,9,     -999.0,9,     -999.0,9,       2.51,2,     -999.0,9,     -999.0,9,     -999.0,9,     -999.0,9
33RO20161119,        P18,      25,          1,         22,      11120,2,20161130,       1003,    11.9998,  -110.0006,       3096,    69.9,  17.3965,  34.6326,2,  34.6312,2,     13.1,2,    13.4,2,    16.0,2,    25.1,2,    0.21,2,   2.163,2,   1.4983,2,   0.8903,2,   0.7375,2,  2216.7,2,  2284.3,6,   7.5004,6,    25.00, -999.00,9,  -999.0,9,  -999.0,   1.7945,2, -999.00,9,    60.3,2,   28.30,2, -999.00,9,    78.3322,2, -999.00,9,  -999.0,9,     -999.0,     -999.0,9,     -999.0,9,     -999.0,     -999.0,9,     -999.0,     -999.0,9,     -999.0,     -999.0,     -999.0,9,     -999.0,9,     -999.0,9,       2.36,2,     -999.0,9,     -999.0,9,     -999.0,9,     -999.0,9
33RO20161119,        P18,      25,          1,         23,      11121,2,20161130,       1003,    11.9998,  -110.0006,       3096,    29.7,  28.2503,  33.1122,2,  33.1268,2,    197.9,2,   197.0,2,     0.8,2,     0.0,2,    0.03,2,   0.153,2,   1.5166,2,   0.9590,2,   1.3668,2,  1894.2,6,  2187.8,2,   8.0802,2,    25.00, -999.00,9,  -999.0,9,  -999.0,   1.9318,2, -999.00,9,    81.9,2,    5.20,2, -999.00,9,     9.4166,2, -999.00,9,  -999.0,9,     -999.0,     -999.0,9,     -999.0,9,     -999.0,     -999.0,9,     -999.0,     -999.0,9,     -999.0,     -999.0,     -999.0,9,     -999.0,9,     -999.0,9,       0.54,2,     -999.0,9,     -999.0,9,     -999.0,9,     -999.0,9
33RO20161119,        P18,      25,          1,         24,      11122,2,20161130,       1003,    11.9998,  -110.0006,       3096,     3.0,  28.3259,  33.0696,2,  33.0691,2,    197.8,2,   198.1,2,     0.7,2,     0.0,2,    0.03,2,   0.145,2,   1.4915,2,   0.9457,2,   1.3563,2,  1877.3,2,  2182.8,2,   8.0888,2,    25.00, -999.00,9,  -999.0,9,  -999.0,   0.0163,2, -999.00,9,    82.1,2,    5.00,2, -999.00,9,     6.5837,2, -999.00,9,  -999.0,9,     -999.0,     -999.0,9,     -999.0,9,     -999.0,     -999.0,9,     -999.0,     -999.0,9,     -999.0,     -999.0,     -999.0,9,     -999.0,9,     -999.0,9,       0.49,2,     -999.0,9,     -999.0,9,     -999.0,9,     -999.0,9