BOTTLE,20230606CCHSIOCBG
EXPOCODE,SECT_ID,STNNBR,CASTNO,SAMPNO,BTLNBR,BTLNBR_FLAG_W,DATE,TIME,LATITUDE,LONGITUDE,DEPTH,CTDPRS,CTDTMP,CTDSAL,CTDSAL_FLAG_W,SALNTY,SALNTY_FLAG_W,CTDOXY,CTDOXY_FLAG_W,OXYGEN,OXYGEN_FLAG_W,SILCAT,SILCAT_FLAG_W,NITRAT,NITRAT_FLAG_W,NITRIT,NITRIT_FLAG_W,PHSPHT,PHSPHT_FLAG_W,CFC-11,CFC-11_FLAG_W,CFC-12,CFC-12_FLAG_W,SF6,SF6_FLAG_W,TCARBN,TCARBN_FLAG_W,ALKALI,ALKALI_FLAG_W,PH_SWS,PH_SWS_FLAG_W,PH_TMP,DELC13,DELC13_FLAG_W,DELC14,DELC14_FLAG_W,C14ERR,CCL4,CCL4_FLAG_W,POC,POC_FLAG_W,DOC,DOC_FLAG_W,TDN,TDN_FLAG_W,PON,PON_FLAG_W,N2O,N2O_FLAG_W,D15N_NO3,D15N_NO3_FLAG_W,14C-DOC,14C-DOC_FLAG_W,14C-DOCERR,13C-DOC,13C-DOC_FLAG_W,N2/ARGON_UNSTRIPPED,N2/ARGON_UNSTRIPPED_FLAG_W,N2/ARGON_UNSTRIPPED_ERROR,N2/ARGON,N2/ARGON_FLAG_W,N2/ARGON_ERROR,D15N_N2,D15N_N2_FLAG_W,D15N_N2_ERROR,D15N_NO3_ERROR,D15N_NO2+NO3,D15N_NO2+NO3_FLAG_W,D18O_NO2+NO3,D18O_NO2+NO3_FLAG_W,D18O_NO3,D18O_NO3_FLAG_W,TDP,TDP_FLAG_W,N2O_ALT_1,N2O_ALT_1_FLAG_W,D15N_N2O,D15N_N2O_FLAG_W,D18O_N2O,D18O_N2O_FLAG_W,D15N_ALPHA_N2O,D15N_ALPHA_N2O_FLAG_W
,,,,,,,,,,,METERS,DBAR,ITS-90,PSS-78,,PSS-78,,UMOL/KG,,UMOL/KG,,UMOL/KG,,UMOL/KG,,UMOL/KG,,UMOL/KG,,PMOL/KG,,PMOL/KG,,FMOL/KG,,UMOL/KG,,UMOL/KG,,,,DEG C,/MILLE,,/MILLE,,/MILLE,PMOL/KG,,UG/KG,,UMOL/KG,,UMOL/KG,,UG/KG,,NMOL/KG,,/MILLE,,/MILLE,,/MILLE,/MILLE,,,,,,,,/MILLE,,/MILLE,/MILLE,/MILLE,,/MILLE,,/MILLE,,UMOL/KG,,NMOL/L,,/MILLE,,/MILLE,,/MILLE,
33RO20161119,        P18,     178,          1,          1,      11010,2,20170117,       1529,   -55.0001,  -102.9995,       4605,  4686.7,   0.7752,  34.7058,2,  34.7054,2,    207.7,2,   207.6,2,   130.5,2,    32.8,2,    0.01,2,   2.238,2,   0.2359,2,   0.1129,2,   0.0925,2,  2264.8,6,  2375.1,2,   7.5941,2,    25.00, -999.00,9,  -999.0,9,  -999.0,   0.1529,2, -999.00,9,  -999.0,9, -999.00,9, -999.00,9,    18.3776,2,    4.84,2,  -999.0,9,     -999.0,     -999.0,9,     -999.0,9,     -999.0,     -999.0,9,     -999.0,     -999.0,9,     -999.0,     -999.0,       4.84,2,       1.92,2,       1.92,2,     -999.0,9,     -999.0,9,     -999.0,9,     -999.0,9,     -999.0,9
33RO20161119,        P18,     178,          1,          2,      11101,2,20170117,       1529,   -55.0001,  -102.9995,       4605,  4425.6,   0.7935,  34.7070,2,  34.7066,2,    206.6,2,   205.9,2,   129.5,2,    32.7,2,    0.01,2,   2.233,2,   0.2112,2,   0.1030,2,   0.0553,2,  2265.1,2,  2367.8,2,   7.5952,2,    25.00, -999.00,9,  -999.0,9,  -999.0,   0.1355,2, -999.00,9,  -999.0,9, -999.00,9, -999.00,9,    18.4861,2,    4.87,2,  -999.0,9,     -999.0,     -999.0,9,     -999.0,9,     -999.0,     -999.0,9,     -999.0,     -999.0,9,     -999.0,     -999.0,       4.87,2,        2.0,2,        2.0,2,     -999.0,9,     -999.0,9,     -999.0,9,     -999.0,9,     -999.0,9
33RO20161119,        P18,     178,          1,          3,      11102,2,20170117,       1529,   -55.0001,  -102.9995,       4605,  4165.3,   0.9032,  34.7099,2,  34.7097,2,    203.6,2,   203.3,2,   125.4,6,    32.6,6,    0.01,6,   2.235,6,   0.1722,2,   0.0824,2,   0.0360,2,  2262.3,2,  2367.2,6,   7.5974,6,    25.00, -999.00,9,  -999.0,9,  -999.0,   0.1328,2, -999.00,9,  -999.0,9, -999.00,9, -999.00,9,     18.971,2,    4.84,2,  -999.0,9,     -999.0,     -999.0,9,     -999.0,9,     -999.0,     -999.0,9,     -999.0,     -999.0,9,     -999.0,     -999.0,       4.84,2,       1.87,2,       1.87,2,     -999.0,9,     -999.0,9,     -999.0,9,     -999.0,9,     -999.0,9
33RO20161119,        P18,     178,          1,          4,      11103,2,20170117,       1529,   -55.0001,  -102.9995,       4605,  3825.0,   1.1080,  34.7148,2,  34.7152,2,    200.5,2,   199.8,2,   118.4,6,    32.4,6,    0.01,6,   2.220,6,   0.1446,2,   0.0694,2,   0.0310,2,  2262.3,2,  2369.5,2,   7.5961,2,    25.00, -999.00,9,  -999.0,9,  -999.0,    0.196,2, -999.00,9,  -999.0,9, -999.00,9, -999.00,9,    18.8075,2,    4.86,2,  -999.0,9,     -999.0,     -999.0,9,     -999.0,9,     -999.0,     -999.0,9,     -999.0,     -999.0,9,     -999.0,     -999.0,       4.86,2,       1.81,2,       1.81,2,     -999.0,9,     -999.0,9,     -999.0,9,     -999.0,9,     -999.0,9
33RO20161119,        P18,     178,          1,          5,      11104,2,20170117,       1529,   -55.0001,  -102.9995,       4605,  3450.5,   1.3399,  34.7196,2,  34.7192,2,    195.5,2,   194.5,2,   111.5,6,    32.3,6,    0.01,6,   2.205,6,   0.1029,2,   0.0501,2,   0.0389,2,  2261.9,2,  2366.0,2,   7.5963,2,    25.00, -999.00,9,  -999.0,9,  -999.0,   0.3949,2, -999.00,9,  -999.0,9, -999.00,9, -999.00,9,     18.996,2,    4.93,2,  -999.0,9,     -999.0,     -999.0,9,     -999.0,9,     -999.0,     -999.0,9,     -999.0,     -999.0,9,     -999.0,     -999.0,       4.93,2,       1.94,2,       1.94,2,     -999.0,9,     -999.0,9,     -999.0,9,     -999.0,9,     -999.0,9
33RO20161119,        P18,     178,          1,          6,      11105,2,20170117,       1529,   -55.0001,  -102.9995,       4605,  3060.8,   1.5330,  34.7218,2,  34.7217,2,    190.4,2,   189.6,2,   105.8,6,    32.2,6,    0.01,6,   2.208,6,   0.0818,6,   0.0397,6,   0.0108,6,  2263.0,2,  2365.1,2,   7.5947,2,    25.00, -999.00,9,  -999.0,9,  -999.0,   0.7196,2, -999.00,9,  -999.0,9, -999.00,9, -999.00,9,    19.3968,2,    4.98,2,  -999.0,9,     -999.0,     -999.0,9,     -999.0,9,     -999.0,     -999.0,9,     -999.0,     -999.0,9,     -999.0,     -999.0,       4.98,2,       1.85,2,       1.85,2,     -999.0,9,     -999.0,9,     -999.0,9,     -999.0,9,     -999.0,9
33RO20161119,        P18,     178,          1,          7,      11106,2,20170117,       1529,   -55.0001,  -102.9995,       4605,  2701.1,   1.7641,  34.7213,2,  34.7209,2,    185.2,2,   184.6,2,    99.0,2,    32.3,2,    0.01,2,   2.204,2,   0.0978,2,   0.0473,2,   0.0453,2,  2261.8,2,  2361.7,2,   7.5916,2,    25.00, -999.00,9,  -999.0,9,  -999.0,   0.8822,2, -999.00,9,  -999.0,9, -999.00,9, -999.00,9,    19.7426,2,    5.02,2,  -999.0,9,     -999.0,     -999.0,9,     -999.0,9,     -999.0,     -999.0,9,     -999.0,     -999.0,9,     -999.0,     -999.0,       5.02,2,       1.83,2,       1.83,2,     -999.0,9,     -999.0,9,     -999.0,9,     -999.0,9,     -999.0,9
33RO20161119,        P18,     178,          1,          8,      11107,2,20170117,       1529,   -55.0001,  -102.9995,       4605,  2338.1,   2.0596,  34.7041,2,  34.7035,2,    177.0,2,   176.2,6,    92.9,2,    32.7,2,    0.01,2,   2.232,2,   0.1276,2,   0.0601,2,   0.0000,2,  2261.8,2,  2357.4,2,   7.5798,2,    25.00, -999.00,9,  -999.0,9,  -999.0,   1.0443,2, -999.00,9,  -999.0,9, -999.00,9, -999.00,9,    20.4614,2,    5.08,2,  -999.0,9,     -999.0,     -999.0,9,     -999.0,9,     -999.0,     -999.0,9,     -999.0,     -999.0,9,     -999.0,     -999.0,       5.08,2,       1.85,2,       1.85,2,     -999.0,9,     -999.0,9,     -999.0,9,     -999.0,9,     -999.0,9
33RO20161119,        P18,     178,          1,          9,      11108,2,20170117,       1529,   -55.0001,  -102.9995,       4605,  1923.7,   2.4049,  34.6339,2,  34.6337,2,    171.5,2,   170.9,2,    79.5,2,    33.7,2,    0.01,2,   2.309,2,   0.3498,2,   0.1748,2,   0.0823,2,  2256.5,2,  2344.0,2,   7.5586,2,    25.00, -999.00,9,  -999.0,9,  -999.0,   1.5843,2, -999.00,9,  -999.0,9, -999.00,9, -999.00,9,    21.6539,2,    5.06,2,  -999.0,9,     -999.0,     -999.0,9,     -999.0,9,     -999.0,     -999.0,9,     -999.0,     -999.0,9,     -999.0,     -999.0,       5.06,2,       1.66,2,       1.66,2,     -999.0,9,     -999.0,9,     -999.0,9,     -999.0,9,     -999.0,9
33RO20161119,        P18,     178,          1,         10,      11109,2,20170117,       1529,   -55.0001,  -102.9995,       4605,  1673.5,   2.6832,  34.5352,2,  34.5335,2,    172.3,2,   172.0,2,    70.6,2,    34.4,2,    0.01,2,   2.350,2,   0.7004,2,   0.3514,2,   0.1721,2,  2248.6,2,  2336.4,2,   7.5502,2,    25.00, -999.00,9,  -999.0,9,  -999.0,   1.6919,2, -999.00,9,  -999.0,9, -999.00,9, -999.00,9,    22.1607,2,    5.22,2,  -999.0,9,     -999.0,     -999.0,9,     -999.0,9,     -999.0,     -999.0,9,     -999.0,     -999.0,9,     -999.0,     -999.0,       5.22,2,       1.92,2,       1.92,2,     -999.0,9,     -999.0,9,     -999.0,9,     -999.0,9,     -999.0,9
33RO20161119,        P18,     178,          1,         11,      11110,2,20170117,       1529,   -55.0001,  -102.9995,       4605,  1505.8,   2.7446,  34.5102,2,  34.5105,2,    174.4,2,   173.8,2,    67.8,2,    34.4,2,    0.01,2,   2.345,2,   0.8187,2,   0.4085,2,   0.2128,2,  2246.3,2,  2331.1,2,   7.5505,2,    25.00, -999.00,9,  -999.0,9,  -999.0,   2.0298,2, -999.00,9,  -999.0,9, -999.00,9, -999.00,9,    22.4844,2,    5.27,2,  -999.0,9,     -999.0,     -999.0,9,     -999.0,9,     -999.0,     -999.0,9,     -999.0,     -999.0,9,     -999.0,     -999.0,       5.27,2,       1.98,2,       1.98,2,     -999.0,9,     -999.0,9,     -999.0,9,     -999.0,9,     -999.0,9
33RO20161119,        P18,     178,          1,         12,      11111,2,20170117,       1529,   -55.0001,  -102.9995,       4605,  1346.0,   2.8021,  34.4861,2,  34.4855,2,    176.9,2,   176.4,2,    65.0,2,    34.3,2,    0.01,2,   2.342,2,   0.9432,2,   0.4754,2,   0.2410,2,  2243.4,2,  2329.2,2,   7.5515,2,    25.00, -999.00,9,  -999.0,9,  -999.0,   2.2024,2, -999.00,9,  -999.0,9, -999.00,9, -999.00,9,    22.2003,2,     5.3,2,  -999.0,9,     -999.0,     -999.0,9,     -999.0,9,     -999.0,     -999.0,9,     -999.0,     -999.0,9,     -999.0,     -999.0,        5.3,2,       2.12,2,       2.12,2,     -999.0,9,     -999.0,9,     -999.0,9,     -999.0,9,     -999.0,9
33RO20161119,        P18,     178,          1,         13,      11112,2,20170117,       1529,   -55.0001,  -102.9995,       4605,  1181.2,   2.8920,  34.4508,2,  34.4492,2,    181.0,2,   180.1,2,    60.7,2,    34.3,2,    0.01,2,   2.335,2,   1.1577,2,   0.5856,2,   0.3263,2,  2237.8,2,  2324.0,2,   7.5565,2,    25.00, -999.00,9,  -999.0,9,  -999.0,   3.1274,2, -999.00,9,  -999.0,9, -999.00,9, -999.00,9,    22.0086,2,    5.31,2,  -999.0,9,     -999.0,     -999.0,9,     -999.0,9,     -999.0,     -999.0,9,     -999.0,     -999.0,9,     -999.0,     -999.0,       5.31,2,       1.94,2,       1.94,2,     -999.0,9,     -999.0,9,     -999.0,9,     -999.0,9,     -999.0,9
33RO20161119,        P18,     178,          1,         14,      11113,2,20170117,       1529,   -55.0001,  -102.9995,       4605,  1025.4,   3.2692,  34.3634,2,  34.3644,2,    194.2,2,   194.1,2,    48.2,2,    33.3,2,    0.01,2,   2.267,2,   1.7824,6,   0.9078,6,   0.5038,6,  2221.8,2,  2311.1,2,   7.5719,2,    25.00, -999.00,9,  -999.0,9,  -999.0,   3.9281,2, -999.00,9,  -999.0,9, -999.00,9, -999.00,9,    21.4751,2,    5.45,2,  -999.0,9,     -999.0,     -999.0,9,     -999.0,9,     -999.0,     -999.0,9,     -999.0,     -999.0,9,     -999.0,     -999.0,       5.45,2,       2.13,2,       2.13,2,     -999.0,9,     -999.0,9,     -999.0,9,     -999.0,9,     -999.0,9
33RO20161119,        P18,     178,          1,         15,      11114,2,20170117,       1529,   -55.0001,  -102.9995,       4605,   880.0,   3.9332,  34.3019,2,  34.3012,2,    208.5,2,   207.7,2,    34.7,2,    31.5,2,    0.01,2,   2.140,2,   2.3884,2,   1.2401,2,   0.7272,2,  2201.4,6,  2298.9,2,   7.5975,2,    25.00, -999.00,9,  -999.0,9,  -999.0,   4.0845,2, -999.00,9,  -999.0,9, -999.00,9, -999.00,9,    19.5617,2,    5.61,2,  -999.0,9,     -999.0,     -999.0,9,     -999.0,9,     -999.0,     -999.0,9,     -999.0,     -999.0,9,     -999.0,     -999.0,       5.61,2,       2.25,2,       2.25,2,     -999.0,9,     -999.0,9,     -999.0,9,     -999.0,9,     -999.0,9
33RO20161119,        P18,     178,          1,         16,      11115,2,20170117,       1529,   -55.0001,  -102.9995,       4605,   725.5,   4.7955,  34.2740,2,  34.2732,2,    220.6,2,   220.3,2,    23.4,2,    29.0,2,    0.01,2,   1.958,2,   2.9443,2,   1.5638,2,   1.0519,2,  2180.0,2,  2289.1,2,   7.6249,2,    25.00, -999.00,9,  -999.0,9,  -999.0,   4.0607,2, -999.00,9,  -999.0,9, -999.00,9, -999.00,9,    17.8648,2,    5.74,2,  -999.0,9,     -999.0,     -999.0,9,     -999.0,9,     -999.0,     -999.0,9,     -999.0,     -999.0,9,     -999.0,     -999.0,       5.74,2,       2.64,2,       2.64,2,     -999.0,9,     -999.0,9,     -999.0,9,     -999.0,9,     -999.0,9
33RO20161119,        P18,     178,          1,         17,      11116,2,20170117,       1529,   -55.0001,  -102.9995,       4605,   593.9,   5.3546,  34.2259,2,  34.2271,2,    256.1,2,   254.5,6,    13.0,2,    24.9,2,    0.01,2,   1.709,2,   3.6910,2,   2.0186,2,   1.8644,2,  2155.2,2,  2283.6,2,   7.6788,2,    25.00, -999.00,9,  -999.0,9,  -999.0,   4.0399,2, -999.00,9,  -999.0,9, -999.00,9, -999.00,9,    15.1136,2,    6.03,2,  -999.0,9,     -999.0,     -999.0,9,     -999.0,9,     -999.0,     -999.0,9,     -999.0,     -999.0,9,     -999.0,     -999.0,       6.03,2,       3.12,2,       3.12,2,     -999.0,9,     -999.0,9,     -999.0,9,     -999.0,9,     -999.0,9
33RO20161119,        P18,     178,          1,         18,      11117,2,20170117,       1529,   -55.0001,  -102.9995,       4605,   471.5,   5.7160,  34.2137,2,  34.2129,2,    273.7,2,   278.6,2,     7.9,2,    21.8,2,    0.02,2,   1.517,2,   4.0024,2,   2.2394,2,   2.3714,2,  2136.8,2,  2279.0,2,   7.7344,3,    25.00, -999.00,9,  -999.0,9,  -999.0,   4.2672,2, -999.00,9,  -999.0,9, -999.00,9, -999.00,9,    13.0036,2,    6.34,2,  -999.0,9,     -999.0,     -999.0,9,     -999.0,9,     -999.0,     -999.0,9,     -999.0,     -999.0,9,     -999.0,     -999.0,        6.4,2,       3.86,2,       3.71,2,     -999.0,9,     -999.0,9,     -999.0,9,     -999.0,9,     -999.0,9
33RO20161119,        P18,     178,          1,         19,      11083,2,20170117,       1529,   -55.0001,  -102.9995,       4605,   354.9,   5.8878,  34.2168,2,  34.2161,2,    280.4,2,   284.0,2,     6.6,2,    20.8,2,    0.02,2,   1.448,2,   4.0263,2,   2.2698,2,   2.5301,2,  2129.3,2,  2277.4,2,   7.7289,2,    25.00, -999.00,9,  -999.0,9,  -999.0,   4.3279,2, -999.00,9,  -999.0,9, -999.00,9, -999.00,9,    12.4883,2,     6.5,2,  -999.0,9,     -999.0,     -999.0,9,     -999.0,9,     -999.0,     -999.0,9,     -999.0,     -999.0,9,     -999.0,     -999.0,       6.46,2,       4.05,2,       3.85,2,     -999.0,9,     -999.0,9,     -999.0,9,     -999.0,9,     -999.0,9
33RO20161119,        P18,     178,          1,         20,      11118,2,20170117,       1529,   -55.0001,  -102.9995,       4605,   260.6,   6.1358,  34.2307,2,  34.2314,2,    272.3,2,   282.4,2,     5.7,2,    20.0,2,    0.02,2,   1.419,2,   3.9891,2,   2.2620,2,   2.5492,2,  2129.5,2,  2274.4,2,   7.7328,2,    25.00, -999.00,9,  -999.0,9,  -999.0,   0.3744,2, -999.00,9,  -999.0,9, -999.00,9, -999.00,9,    12.2197,2,    6.51,2,  -999.0,9,     -999.0,     -999.0,9,     -999.0,9,     -999.0,     -999.0,9,     -999.0,     -999.0,9,     -999.0,     -999.0,       6.53,2,       4.08,2,       3.99,2,     -999.0,9,     -999.0,9,     -999.0,9,     -999.0,9,     -999.0,9
33RO20161119,        P18,     178,          1,         21,      11119,2,20170117,       1529,   -55.0001,  -102.9995,       4605,   168.0,   6.2861,  34.2343,2,  34.2374,2,    281.0,2,   283.8,2,     5.2,2,    19.6,2,    0.04,2,   1.384,2,   3.9967,2,   2.2664,2,   2.5920,2,  2127.6,2,  2279.8,2,   7.7380,2,    25.00, -999.00,9,  -999.0,9,  -999.0,   0.3074,2, -999.00,9,  -999.0,9, -999.00,9, -999.00,9,    11.9927,2,    6.59,2,  -999.0,9,     -999.0,     -999.0,9,     -999.0,9,     -999.0,     -999.0,9,     -999.0,     -999.0,9,     -999.0,     -999.0,       6.61,2,       4.09,2,       4.25,2,     -999.0,9,     -999.0,9,     -999.0,9,     -999.0,9,     -999.0,9
33RO20161119,        P18,     178,          1,         22,      11120,2,20170117,       1529,   -55.0001,  -102.9995,       4605,    85.1,   6.5877,  34.2124,2,  34.2066,2,    288.4,2,   288.1,2,     4.3,2,    17.8,2,    0.42,2,   1.329,2,   4.0188,2,   2.2821,2,   2.6475,2,  2122.2,2,  2276.4,6,   7.7516,2,    25.00, -999.00,9,  -999.0,9,  -999.0,   0.2441,2, -999.00,9,  -999.0,9, -999.00,9, -999.00,9,    11.9135,2,    7.46,2,  -999.0,9,     -999.0,     -999.0,9,     -999.0,9,     -999.0,     -999.0,9,     -999.0,     -999.0,9,     -999.0,     -999.0,       6.92,2,        5.1,2,       4.83,2,     -999.0,9,     -999.0,9,     -999.0,9,     -999.0,9,     -999.0,9
33RO20161119,        P18,     178,          1,         23,      11121,2,20170117,       1529,   -55.0001,  -102.9995,       4605,    30.3,   7.9702,  34.1754,2,  34.1793,2,    292.4,2,   292.9,2,     0.4,2,    15.2,2,    0.30,2,   1.114,2,   3.8396,2,   2.1868,2,   2.6394,2,  2100.3,6,  2274.9,2,   7.8013,6,    25.00, -999.00,9,  -999.0,9,  -999.0,   0.1689,2, -999.00,9,  -999.0,9, -999.00,9, -999.00,9,    11.3358,2,    9.17,2,  -999.0,9,     -999.0,     -999.0,9,     -999.0,9,     -999.0,     -999.0,9,     -999.0,     -999.0,9,     -999.0,     -999.0,       8.22,2,       5.96,2,        5.8,2,     -999.0,9,     -999.0,9,     -999.0,9,     -999.0,9,     -999.0,9
33RO20161119,        P18,     178,          1,         24,      11122,2,20170117,       1529,   -55.0001,  -102.9995,       4605,     3.3,   8.0339,  34.1698,2,  34.1703,2,    288.1,2,   292.5,2,     0.4,2,    15.1,2,    0.26,2,   1.081,2,   3.8400,2,   2.1849,2,   2.6535,2,  2100.4,2,  2275.8,2,   7.8031,2,    25.00, -999.00,9,  -999.0,9,  -999.0,   0.1141,2, -999.00,9,  -999.0,9, -999.00,9, -999.00,9,    11.3116,2,    9.17,2,  -999.0,9,     -999.0,     -999.0,9,     -999.0,9,     -999.0,     -999.0,9,     -999.0,     -999.0,9,     -999.0,     -999.0,       8.12,2,        5.7,2,       5.76,2,     -999.0,9,     -999.0,9,     -999.0,9,     -999.0,9,     -999.0,9