BOTTLE,20230606CCHSIOCBG
EXPOCODE,SECT_ID,STNNBR,CASTNO,SAMPNO,BTLNBR,BTLNBR_FLAG_W,DATE,TIME,LATITUDE,LONGITUDE,DEPTH,CTDPRS,CTDTMP,CTDSAL,CTDSAL_FLAG_W,SALNTY,SALNTY_FLAG_W,CTDOXY,CTDOXY_FLAG_W,OXYGEN,OXYGEN_FLAG_W,SILCAT,SILCAT_FLAG_W,NITRAT,NITRAT_FLAG_W,NITRIT,NITRIT_FLAG_W,PHSPHT,PHSPHT_FLAG_W,CFC-11,CFC-11_FLAG_W,CFC-12,CFC-12_FLAG_W,SF6,SF6_FLAG_W,TCARBN,TCARBN_FLAG_W,ALKALI,ALKALI_FLAG_W,PH_SWS,PH_SWS_FLAG_W,PH_TMP,DELC13,DELC13_FLAG_W,DELC14,DELC14_FLAG_W,C14ERR,CCL4,CCL4_FLAG_W,POC,POC_FLAG_W,DOC,DOC_FLAG_W,TDN,TDN_FLAG_W,PON,PON_FLAG_W,N2O,N2O_FLAG_W,D15N_NO3,D15N_NO3_FLAG_W,14C-DOC,14C-DOC_FLAG_W,14C-DOCERR,13C-DOC,13C-DOC_FLAG_W,N2/ARGON_UNSTRIPPED,N2/ARGON_UNSTRIPPED_FLAG_W,N2/ARGON_UNSTRIPPED_ERROR,N2/ARGON,N2/ARGON_FLAG_W,N2/ARGON_ERROR,D15N_N2,D15N_N2_FLAG_W,D15N_N2_ERROR,D15N_NO3_ERROR,D15N_NO2+NO3,D15N_NO2+NO3_FLAG_W,D18O_NO2+NO3,D18O_NO2+NO3_FLAG_W,D18O_NO3,D18O_NO3_FLAG_W,TDP,TDP_FLAG_W,N2O_ALT_1,N2O_ALT_1_FLAG_W,D15N_N2O,D15N_N2O_FLAG_W,D18O_N2O,D18O_N2O_FLAG_W,D15N_ALPHA_N2O,D15N_ALPHA_N2O_FLAG_W
,,,,,,,,,,,METERS,DBAR,ITS-90,PSS-78,,PSS-78,,UMOL/KG,,UMOL/KG,,UMOL/KG,,UMOL/KG,,UMOL/KG,,UMOL/KG,,PMOL/KG,,PMOL/KG,,FMOL/KG,,UMOL/KG,,UMOL/KG,,,,DEG C,/MILLE,,/MILLE,,/MILLE,PMOL/KG,,UG/KG,,UMOL/KG,,UMOL/KG,,UG/KG,,NMOL/KG,,/MILLE,,/MILLE,,/MILLE,/MILLE,,,,,,,,/MILLE,,/MILLE,/MILLE,/MILLE,,/MILLE,,/MILLE,,UMOL/KG,,NMOL/L,,/MILLE,,/MILLE,,/MILLE,
33RO20161119,        P18,     103,          1,          1,      11010,2,20161218,       0647,   -17.4999,  -103.0000,       4031,  4081.8,   1.8321,  34.6876,2,  34.6872,2,    150.2,2,   150.3,2,   127.9,6,    35.7,6,    0.00,6,   2.484,6,   0.0004,2,   0.0013,2,   0.0000,2,  2324.1,6,  2421.9,2,   7.5742,2,    25.00, -999.00,9,  -999.0,9,  -999.0,   0.0148,2, -999.00,9,    34.7,2,   38.30,2, -999.00,9,    20.3188,2, -999.00,9,  -999.0,9,     -999.0,     -999.0,9,     -999.0,9,     -999.0,     -999.0,9,     -999.0,     -999.0,9,     -999.0,     -999.0,     -999.0,9,     -999.0,9,     -999.0,9,     -999.0,9,     -999.0,9,     -999.0,9,     -999.0,9,     -999.0,9
33RO20161119,        P18,     103,          1,          2,      11101,2,20161218,       0647,   -17.4999,  -103.0000,       4031,  3791.3,   1.8033,  34.6873,2,  34.6847,2,    150.1,2,   151.0,2,   128.2,6,    35.8,6,    0.00,6,   2.499,6,   0.0002,2,   0.0008,2,   0.0000,2,  2324.1,2,  2418.9,2,   7.5789,2,    25.00, -999.00,9,  -999.0,9,  -999.0,        0,2, -999.00,9,    36.1,2,   38.40,2, -999.00,9,    20.2749,2, -999.00,9,  -999.0,9,     -999.0,     -999.0,9,     -999.0,9,     -999.0,     -999.0,9,     -999.0,     -999.0,9,     -999.0,     -999.0,     -999.0,9,     -999.0,9,     -999.0,9,     -999.0,9,     -999.0,9,     -999.0,9,     -999.0,9,     -999.0,9
33RO20161119,        P18,     103,          1,          3,      11102,2,20161218,       0647,   -17.4999,  -103.0000,       4031,  3503.1,   1.7878,  34.6861,2,  34.6851,2,    150.1,2,   150.0,2,   128.1,6,    35.9,6,    0.01,6,   2.502,6,   0.0021,2,   0.0004,2,   0.0000,2,  2322.4,2,  2417.9,2,   7.5786,2,    25.00, -999.00,9,  -999.0,9,  -999.0,        0,2, -999.00,9,    36.2,2,   38.90,2, -999.00,9,    20.0704,2, -999.00,9,  -999.0,9,     -999.0,     -999.0,9,     -999.0,9,     -999.0,     -999.0,9,     -999.0,     -999.0,9,     -999.0,     -999.0,     -999.0,9,     -999.0,9,     -999.0,9,     -999.0,9,     -999.0,9,     -999.0,9,     -999.0,9,     -999.0,9
33RO20161119,        P18,     103,          1,          4,      11103,2,20161218,       0647,   -17.4999,  -103.0000,       4031,  3174.6,   1.7782,  34.6833,2,  34.6818,2,    149.0,2,   150.4,2,   128.2,6,    35.9,6,    0.00,6,   2.511,6,   0.0010,6,   0.0005,6,   0.0000,6,  2323.5,2,  2438.6,4,   7.5756,2,    25.00, -999.00,9,  -999.0,9,  -999.0,        0,2, -999.00,9,    36.5,2,   40.80,2, -999.00,9,    20.4634,2, -999.00,9,  -999.0,9,     -999.0,     -999.0,9,     -999.0,9,     -999.0,     -999.0,9,     -999.0,     -999.0,9,     -999.0,     -999.0,     -999.0,9,     -999.0,9,     -999.0,9,     -999.0,9,     -999.0,9,     -999.0,9,     -999.0,9,     -999.0,9
33RO20161119,        P18,     103,          1,          5,      11104,2,20161218,       0647,   -17.4999,  -103.0000,       4031,  2879.5,   1.8021,  34.6784,2,  34.6770,2,    150.8,2,   151.5,2,   124.7,2,    35.6,2,    0.00,2,   2.494,2,   0.0003,2,   0.0000,2,   0.0000,2,  2315.3,2,  2414.2,2,   7.5738,2,    25.00, -999.00,9,  -999.0,9,  -999.0,   0.0102,2, -999.00,9,    36.9,2,   39.10,2, -999.00,9,    20.8361,2, -999.00,9,  -999.0,9,     -999.0,     -999.0,9,     -999.0,9,     -999.0,     -999.0,9,     -999.0,     -999.0,9,     -999.0,     -999.0,     -999.0,9,     -999.0,9,     -999.0,9,     -999.0,9,     -999.0,9,     -999.0,9,     -999.0,9,     -999.0,9
33RO20161119,        P18,     103,          1,          6,      11105,2,20161218,       0647,   -17.4999,  -103.0000,       4031,  2559.6,   1.8580,  34.6695,2,  34.6676,2,    151.9,2,   152.7,2,   120.4,2,    35.6,2,    0.00,2,   2.478,2,   0.0017,2,   0.0011,2,   0.0000,2,  2310.5,2,  2405.2,2,   7.5673,2,    25.00, -999.00,9,  -999.0,9,  -999.0,        0,2, -999.00,9,    37.7,2,   38.70,2, -999.00,9,    20.7957,2, -999.00,9,  -999.0,9,     -999.0,     -999.0,9,     -999.0,9,     -999.0,     -999.0,9,     -999.0,     -999.0,9,     -999.0,     -999.0,     -999.0,9,     -999.0,9,     -999.0,9,     -999.0,9,     -999.0,9,     -999.0,9,     -999.0,9,     -999.0,9
33RO20161119,        P18,     103,          1,          7,      11106,2,20161218,       0647,   -17.4999,  -103.0000,       4031,  2259.2,   2.0182,  34.6539,2,  34.6523,2,    141.4,2,   141.8,2,   119.4,2,    36.4,2,    0.00,2,   2.545,2,   0.0008,2,   0.0008,2,   0.0000,2,  2313.1,2,  2400.1,2,   7.5465,2,    25.00, -999.00,9,  -999.0,9,  -999.0,   0.0149,2, -999.00,9,    34.8,2,   41.40,2, -999.00,9,    22.6156,2, -999.00,9,  -999.0,9,     -999.0,     -999.0,9,     -999.0,9,     -999.0,     -999.0,9,     -999.0,     -999.0,9,     -999.0,     -999.0,     -999.0,9,     -999.0,9,     -999.0,9,     -999.0,9,     -999.0,9,     -999.0,9,     -999.0,9,     -999.0,9
33RO20161119,        P18,     103,          1,          8,      11107,2,20161218,       0647,   -17.4999,  -103.0000,       4031,  1948.9,   2.3502,  34.6314,2,  34.6303,2,    117.8,2,   117.7,2,   119.2,2,    38.4,2,    0.01,2,   2.704,2,  -0.0006,2,   0.0000,2,   0.0000,2,  2327.5,6,  2398.3,2,   7.5057,2,    25.00, -999.00,9,  -999.0,9,  -999.0,        0,2, -999.00,9,    37.1,2,   42.30,2, -999.00,9,    25.1877,2, -999.00,9,  -999.0,9,     -999.0,     -999.0,9,     -999.0,9,     -999.0,     -999.0,9,     -999.0,     -999.0,9,     -999.0,     -999.0,     -999.0,9,     -999.0,9,     -999.0,9,     -999.0,9,     -999.0,9,     -999.0,9,     -999.0,9,     -999.0,9
33RO20161119,        P18,     103,          1,          9,      11108,2,20161218,       0647,   -17.4999,  -103.0000,       4031,  1605.3,   2.8302,  34.5988,2,  34.5993,2,    100.6,2,   100.8,6,   108.9,2,    40.0,2,    0.00,2,   2.833,2,   0.0005,2,   0.0015,2,   0.0000,2,  2323.9,2,  2381.8,2,   7.4711,2,    25.00, -999.00,9,  -999.0,9,  -999.0,        0,2, -999.00,9,    37.1,2,   43.60,2, -999.00,9,    27.7051,2, -999.00,9,  -999.0,9,     -999.0,     -999.0,9,     -999.0,9,     -999.0,     -999.0,9,     -999.0,     -999.0,9,     -999.0,     -999.0,     -999.0,9,     -999.0,9,     -999.0,9,     -999.0,9,     -999.0,9,     -999.0,9,     -999.0,9,     -999.0,9
33RO20161119,        P18,     103,          1,         10,      11109,2,20161218,       0647,   -17.4999,  -103.0000,       4031,  1394.2,   3.2541,  34.5720,2,  34.5728,2,     92.6,2,    93.3,2,    97.8,2,    40.5,2,    0.00,2,   2.904,2,   0.0009,2,   0.0000,2,   0.0000,2,  2319.2,2,  2367.0,2,   7.4548,2,    25.00, -999.00,9,  -999.0,9,  -999.0,        0,2, -999.00,9,    36.6,2,   45.60,2, -999.00,9,    30.4939,2, -999.00,9,  -999.0,9,     -999.0,     -999.0,9,     -999.0,9,     -999.0,     -999.0,9,     -999.0,     -999.0,9,     -999.0,     -999.0,     -999.0,9,     -999.0,9,     -999.0,9,     -999.0,9,     -999.0,9,     -999.0,9,     -999.0,9,     -999.0,9
33RO20161119,        P18,     103,          1,         11,      11110,2,20161218,       0647,   -17.4999,  -103.0000,       4031,  1255.4,   3.6567,  34.5529,2,  34.5523,2,     84.3,2,    83.1,2,    88.9,2,    41.4,2,    0.00,2,   2.938,2,   0.0010,2,   0.0012,2,   0.0000,2,  2315.2,2,  2359.6,2,   7.4377,2,    25.00, -999.00,9,  -999.0,9,  -999.0,        0,2, -999.00,9,    36.2,2,   46.80,2, -999.00,9,    31.8533,2, -999.00,9,  -999.0,9,     -999.0,     -999.0,9,     -999.0,9,     -999.0,     -999.0,9,     -999.0,     -999.0,9,     -999.0,     -999.0,     -999.0,9,     -999.0,9,     -999.0,9,     -999.0,9,     -999.0,9,     -999.0,9,     -999.0,9,     -999.0,9
33RO20161119,        P18,     103,          1,         12,      11111,2,20161218,       0647,   -17.4999,  -103.0000,       4031,  1115.3,   4.0571,  34.5365,2,  34.5351,2,     76.5,2,    76.4,2,    80.3,2,    41.9,2,    0.00,2,   3.008,2,   0.0019,2,   0.0015,2,   0.0000,2,  2308.9,2,  2349.8,2,   7.4230,2,    25.00, -999.00,9,  -999.0,9,  -999.0,   0.0222,2, -999.00,9,    37.6,2,   45.30,2, -999.00,9,    34.7587,2, -999.00,9,  -999.0,9,     -999.0,     -999.0,9,     -999.0,9,     -999.0,     -999.0,9,     -999.0,     -999.0,9,     -999.0,     -999.0,     -999.0,9,     -999.0,9,     -999.0,9,     -999.0,9,     -999.0,9,     -999.0,9,     -999.0,9,     -999.0,9
33RO20161119,        P18,     103,          1,         13,      11112,2,20161218,       0647,   -17.4999,  -103.0000,       4031,   986.9,   4.5471,  34.5190,2,  34.5210,2,     68.5,2,    69.4,2,    69.5,2,    42.4,2,    0.01,2,   3.003,2,   0.0021,2,   0.0028,2,   0.0000,2,  2302.5,2,  2337.2,2,   7.4115,2,    25.00, -999.00,9,  -999.0,9,  -999.0,   0.0503,2, -999.00,9,    37.8,2,   49.00,2, -999.00,9,    36.9341,2, -999.00,9,  -999.0,9,     -999.0,     -999.0,9,     -999.0,9,     -999.0,     -999.0,9,     -999.0,     -999.0,9,     -999.0,     -999.0,     -999.0,9,     -999.0,9,     -999.0,9,     -999.0,9,     -999.0,9,     -999.0,9,     -999.0,9,     -999.0,9
33RO20161119,        P18,     103,          1,         14,      11113,2,20161218,       0647,   -17.4999,  -103.0000,       4031,   869.9,   5.0428,  34.5034,2,  34.5030,2,     62.2,2,    64.1,2,    59.5,2,    42.7,2,    0.00,2,   3.015,2,   0.0049,2,   0.0028,2,   0.0000,2,  2293.0,2,  2325.3,2,   7.3989,2,    25.00, -999.00,9,  -999.0,9,  -999.0,   0.1183,2, -999.00,9,    36.7,2,   46.50,2, -999.00,9,      38.89,2, -999.00,9,  -999.0,9,     -999.0,     -999.0,9,     -999.0,9,     -999.0,     -999.0,9,     -999.0,     -999.0,9,     -999.0,     -999.0,     -999.0,9,     -999.0,9,     -999.0,9,     -999.0,9,     -999.0,9,     -999.0,9,     -999.0,9,     -999.0,9
33RO20161119,        P18,     103,          1,         15,      11114,2,20161218,       0647,   -17.4999,  -103.0000,       4031,   747.5,   5.6809,  34.4912,2,  34.4906,2,     61.1,2,    62.9,2,    47.4,2,    42.0,2,    0.00,2,   2.930,2,   0.0232,2,   0.0138,2,   0.0000,2,  2281.0,2,  2316.2,2,   7.4227,2,    25.00, -999.00,9,  -999.0,9,  -999.0,   0.1664,2, -999.00,9,    39.8,2,   47.20,2, -999.00,9,    42.0681,2, -999.00,9,  -999.0,9,     -999.0,     -999.0,9,     -999.0,9,     -999.0,     -999.0,9,     -999.0,     -999.0,9,     -999.0,     -999.0,     -999.0,9,     -999.0,9,     -999.0,9,     -999.0,9,     -999.0,9,     -999.0,9,     -999.0,9,     -999.0,9
33RO20161119,        P18,     103,          1,         16,      11115,2,20161218,       0647,   -17.4999,  -103.0000,       4031,   631.5,   6.4964,  34.5005,2,  34.5010,2,     57.7,2,    57.6,6,    37.7,2,    40.7,2,    0.00,2,   2.825,2,   0.0954,2,   0.0507,2,   0.0000,2,  2269.8,2,  2305.5,2,   7.3998,2,    25.00, -999.00,9,  -999.0,9,  -999.0,   0.1854,2, -999.00,9,    39.1,2,   45.80,2, -999.00,9,    46.1539,2, -999.00,9,  -999.0,9,     -999.0,     -999.0,9,     -999.0,9,     -999.0,     -999.0,9,     -999.0,     -999.0,9,     -999.0,     -999.0,     -999.0,9,     -999.0,9,     -999.0,9,     -999.0,9,     -999.0,9,     -999.0,9,     -999.0,9,     -999.0,9
33RO20161119,        P18,     103,          1,         17,      11116,2,20161218,       0647,   -17.4999,  -103.0000,       4031,   530.9,   7.3008,  34.5232,2,  34.5220,2,     51.8,2,    52.6,2,    31.4,2,    39.2,2,    0.00,2,   2.729,2,   0.2352,2,   0.1243,2,   0.0000,2,  2263.6,2,  2300.3,2,   7.4001,2,    25.00, -999.00,9,  -999.0,9,  -999.0,   0.2957,2, -999.00,9,    39.7,2,   43.40,2, -999.00,9,    50.2704,2, -999.00,9,  -999.0,9,     -999.0,     -999.0,9,     -999.0,9,     -999.0,     -999.0,9,     -999.0,     -999.0,9,     -999.0,     -999.0,     -999.0,9,     -999.0,9,     -999.0,9,     -999.0,9,     -999.0,9,     -999.0,9,     -999.0,9,     -999.0,9
33RO20161119,        P18,     103,          1,         18,      11117,2,20161218,       0647,   -17.4999,  -103.0000,       4031,   391.0,   9.5660,  34.5821,2,  34.5837,2,     28.8,2,    28.6,2,    23.2,2,    32.8,2,    0.01,2,   2.683,2,   0.9132,2,   0.4786,2,   0.2055,2,  2267.4,2,  2292.4,6,   7.3671,2,    25.00, -999.00,9,  -999.0,9,  -999.0,   0.4605,2, -999.00,9,    43.1,2,   35.90,2, -999.00,9,    46.1234,2, -999.00,9,  -999.0,9,     -999.0,     -999.0,9,     -999.0,9,     -999.0,     -999.0,9,     -999.0,     -999.0,9,     -999.0,     -999.0,     -999.0,9,     -999.0,9,     -999.0,9,     -999.0,9,     -999.0,9,     -999.0,9,     -999.0,9,     -999.0,9
33RO20161119,        P18,     103,          1,         19,      11083,2,20161218,       0647,   -17.4999,  -103.0000,       4031,   320.1,  11.2320,  34.5241,2,  34.5241,2,     91.2,2,    86.8,2,    13.2,2,    22.6,2,    0.01,2,   2.105,2,   2.1877,2,   1.2123,2,   0.7782,2,  2213.8,2,  2284.8,2,   7.5175,2,    25.00, -999.00,9,  -999.0,9,  -999.0,   1.0322,2, -999.00,9,    46.9,2,   24.80,2, -999.00,9,    31.5719,2, -999.00,9,  -999.0,9,     -999.0,     -999.0,9,     -999.0,9,     -999.0,     -999.0,9,     -999.0,     -999.0,9,     -999.0,     -999.0,     -999.0,9,     -999.0,9,     -999.0,9,     -999.0,9,     -999.0,9,     -999.0,9,     -999.0,9,     -999.0,9
33RO20161119,        P18,     103,          1,         20,      11118,2,20161218,       0647,   -17.4999,  -103.0000,       4031,   230.0,  16.4884,  35.1068,2,  35.1022,2,    184.1,2,   177.7,2,     2.0,2,     9.0,2,    0.01,2,   0.946,2,   2.3971,2,   1.4599,2,   1.4947,2,  2128.3,2,  2322.6,2,   7.8271,2,    25.00, -999.00,9,  -999.0,9,  -999.0,   1.5296,2, -999.00,9,    56.3,2,   12.60,2, -999.00,9,    14.2989,2, -999.00,9,  -999.0,9,     -999.0,     -999.0,9,     -999.0,9,     -999.0,     -999.0,9,     -999.0,     -999.0,9,     -999.0,     -999.0,     -999.0,9,     -999.0,9,     -999.0,9,       1.05,2,     -999.0,9,     -999.0,9,     -999.0,9,     -999.0,9
33RO20161119,        P18,     103,          1,         21,      11119,2,20161218,       0647,   -17.4999,  -103.0000,       4031,   165.5,  20.1016,  35.7230,2,  35.7215,2,    192.7,2,   188.1,2,     1.4,2,     4.7,2,    0.61,2,   0.740,2,   2.0415,2,   1.2775,2,   1.5715,2,  2115.7,2,  2366.9,2,   7.9227,2,    25.00, -999.00,9,  -999.0,9,  -999.0,   1.5694,2, -999.00,9,    61.8,2,    8.00,2, -999.00,9,     9.5038,2, -999.00,9,  -999.0,9,     -999.0,     -999.0,9,     -999.0,9,     -999.0,     -999.0,9,     -999.0,     -999.0,9,     -999.0,     -999.0,     -999.0,9,     -999.0,9,     -999.0,9,       0.91,2,     -999.0,9,     -999.0,9,     -999.0,9,     -999.0,9
33RO20161119,        P18,     103,          1,         22,      11120,2,20161218,       0647,   -17.4999,  -103.0000,       4031,    85.6,  22.3128,  36.1251,2,  36.1240,2,    219.4,2,   217.2,2,     0.9,2,     0.1,2,    0.02,2,   0.378,2,   1.8630,6,   1.1625,6,   1.5162,6,  2080.1,2,  2387.6,2,   8.0203,2,    25.00, -999.00,9,  -999.0,9,  -999.0,   1.7386,2, -999.00,9,    71.9,2,    3.60,2, -999.00,9,     7.1758,2, -999.00,9,  -999.0,9,     -999.0,     -999.0,9,     -999.0,9,     -999.0,     -999.0,9,     -999.0,     -999.0,9,     -999.0,     -999.0,     -999.0,9,     -999.0,9,     -999.0,9,       0.65,2,     -999.0,9,     -999.0,9,     -999.0,9,     -999.0,9
33RO20161119,        P18,     103,          1,         23,      11121,2,20161218,       0647,   -17.4999,  -103.0000,       4031,    34.8,  23.5718,  36.1701,2,  36.1683,2,    217.5,2,   218.3,2,     0.6,2,     0.1,2,    0.02,2,   0.314,2,   1.7570,2,   1.1085,2,   1.4678,2,  2068.6,2,  2387.3,6,   8.0440,2,    25.00, -999.00,9,  -999.0,9,  -999.0,        0,2, -999.00,9,    76.4,2,    3.70,2, -999.00,9,     6.7518,2, -999.00,9,  -999.0,9,     -999.0,     -999.0,9,     -999.0,9,     -999.0,     -999.0,9,     -999.0,     -999.0,9,     -999.0,     -999.0,     -999.0,9,     -999.0,9,     -999.0,9,       0.62,2,     -999.0,9,     -999.0,9,     -999.0,9,     -999.0,9
33RO20161119,        P18,     103,          1,         24,      11122,2,20161218,       0647,   -17.4999,  -103.0000,       4031,     3.2,  23.8325,  36.1618,2,  36.1586,2,    214.5,2,   215.8,2,     0.5,2,     0.2,2,    0.01,2,   0.329,2,   1.7471,2,   1.0984,2,   1.4799,2,  2069.0,6,  2387.5,2,   8.0436,6,    25.00, -999.00,9,  -999.0,9,  -999.0,        0,2, -999.00,9,    78.6,2,    5.00,2, -999.00,9,     6.8268,2, -999.00,9,  -999.0,9,     -999.0,     -999.0,9,     -999.0,9,     -999.0,     -999.0,9,     -999.0,     -999.0,9,     -999.0,     -999.0,     -999.0,9,     -999.0,9,     -999.0,9,       0.57,2,     -999.0,9,     -999.0,9,     -999.0,9,     -999.0,9