BOTTLE,20230606CCHSIOCBG
EXPOCODE,SECT_ID,STNNBR,CASTNO,SAMPNO,BTLNBR,BTLNBR_FLAG_W,DATE,TIME,LATITUDE,LONGITUDE,DEPTH,CTDPRS,CTDTMP,CTDSAL,CTDSAL_FLAG_W,SALNTY,SALNTY_FLAG_W,CTDOXY,CTDOXY_FLAG_W,OXYGEN,OXYGEN_FLAG_W,SILCAT,SILCAT_FLAG_W,NITRAT,NITRAT_FLAG_W,NITRIT,NITRIT_FLAG_W,PHSPHT,PHSPHT_FLAG_W,CFC-11,CFC-11_FLAG_W,CFC-12,CFC-12_FLAG_W,SF6,SF6_FLAG_W,TCARBN,TCARBN_FLAG_W,ALKALI,ALKALI_FLAG_W,PH_SWS,PH_SWS_FLAG_W,PH_TMP,DELC13,DELC13_FLAG_W,DELC14,DELC14_FLAG_W,C14ERR,CCL4,CCL4_FLAG_W,POC,POC_FLAG_W,DOC,DOC_FLAG_W,TDN,TDN_FLAG_W,PON,PON_FLAG_W,N2O,N2O_FLAG_W,D15N_NO3,D15N_NO3_FLAG_W,14C-DOC,14C-DOC_FLAG_W,14C-DOCERR,13C-DOC,13C-DOC_FLAG_W,N2/ARGON_UNSTRIPPED,N2/ARGON_UNSTRIPPED_FLAG_W,N2/ARGON_UNSTRIPPED_ERROR,N2/ARGON,N2/ARGON_FLAG_W,N2/ARGON_ERROR,D15N_N2,D15N_N2_FLAG_W,D15N_N2_ERROR,D15N_NO3_ERROR,D15N_NO2+NO3,D15N_NO2+NO3_FLAG_W,D18O_NO2+NO3,D18O_NO2+NO3_FLAG_W,D18O_NO3,D18O_NO3_FLAG_W,TDP,TDP_FLAG_W,N2O_ALT_1,N2O_ALT_1_FLAG_W,D15N_N2O,D15N_N2O_FLAG_W,D18O_N2O,D18O_N2O_FLAG_W,D15N_ALPHA_N2O,D15N_ALPHA_N2O_FLAG_W
,,,,,,,,,,,METERS,DBAR,ITS-90,PSS-78,,PSS-78,,UMOL/KG,,UMOL/KG,,UMOL/KG,,UMOL/KG,,UMOL/KG,,UMOL/KG,,PMOL/KG,,PMOL/KG,,FMOL/KG,,UMOL/KG,,UMOL/KG,,,,DEG C,/MILLE,,/MILLE,,/MILLE,PMOL/KG,,UG/KG,,UMOL/KG,,UMOL/KG,,UG/KG,,NMOL/KG,,/MILLE,,/MILLE,,/MILLE,/MILLE,,,,,,,,/MILLE,,/MILLE,/MILLE,/MILLE,,/MILLE,,/MILLE,,UMOL/KG,,NMOL/L,,/MILLE,,/MILLE,,/MILLE,
33RO20161119,        P18,       7,          1,          1,      11010,2,20161125,       1844,    21.0000,  -110.0003,       3250,  3292.6,   1.6862,  34.6721,2,  34.6748,2,    114.5,2,   114.6,2,   163.5,6,    38.5,6,    0.01,6,   2.685,6,   0.0146,2,   0.0110,2,   0.0000,2,  2357.4,2,  2437.1,6,   7.5448,3,    25.00, -999.00,9,  -999.0,9,  -999.0,  -0.0073,2, -999.00,9,    40.1,2,   40.60,2, -999.00,9,    22.6997,2, -999.00,9,  -999.0,9,     -999.0,     -999.0,9,     -999.0,9,     -999.0,     -999.0,9,     -999.0,     -999.0,9,     -999.0,     -999.0,     -999.0,9,     -999.0,9,     -999.0,9,     -999.0,9,     -999.0,9,     -999.0,9,     -999.0,9,     -999.0,9
33RO20161119,        P18,       7,          1,          2,      11101,2,20161125,       1844,    21.0000,  -110.0003,       3250,  3018.3,   1.6798,  34.6713,2,  34.6708,2,    114.4,2,   114.3,2,   161.9,6,    38.6,6,    0.02,6,   2.689,6,-999.0000,9,-999.0000,9,-999.0000,9,  -999.0,9,  -999.0,9,   7.5179,6,    25.00, -999.00,9,  -999.0,9,  -999.0,-999.0000,9, -999.00,9,    40.4,2,   43.20,2, -999.00,9,     -999.0,9, -999.00,9,  -999.0,9,     -999.0,     -999.0,9,     -999.0,9,     -999.0,     -999.0,9,     -999.0,     -999.0,9,     -999.0,     -999.0,     -999.0,9,     -999.0,9,     -999.0,9,     -999.0,9,     -999.0,9,     -999.0,9,     -999.0,9,     -999.0,9
33RO20161119,        P18,       7,          1,          3,      11102,2,20161125,       1844,    21.0000,  -110.0003,       3250,  2785.0,   1.7305,  34.6664,2,  34.6663,2,    111.0,2,   110.8,2,   159.5,6,    38.7,6,    0.01,6,   2.703,6,-999.0000,9,-999.0000,9,-999.0000,9,  -999.0,9,  2430.5,2,   7.5135,2,    25.00, -999.00,9,  -999.0,9,  -999.0,-999.0000,9, -999.00,9,    39.9,2,   42.80,2, -999.00,9,     -999.0,9, -999.00,9,  -999.0,9,     -999.0,     -999.0,9,     -999.0,9,     -999.0,     -999.0,9,     -999.0,     -999.0,9,     -999.0,     -999.0,     -999.0,9,     -999.0,9,     -999.0,9,     -999.0,9,     -999.0,9,     -999.0,9,     -999.0,9,     -999.0,9
33RO20161119,        P18,       7,          1,          4,      11103,2,20161125,       1844,    21.0000,  -110.0003,       3250,  2524.5,   1.8361,  34.6604,2,  34.6602,2,    103.6,2,   103.8,2,   157.2,6,    39.3,6,    0.02,6,   2.752,6,   0.0047,6,   0.0041,6,   0.0025,6,  -999.0,9,  -999.0,9,   7.4965,2,    25.00, -999.00,9,  -999.0,9,  -999.0,   -0.011,2, -999.00,9,    40.0,2,   43.40,2, -999.00,9,    24.5525,2, -999.00,9,  -999.0,9,     -999.0,     -999.0,9,     -999.0,9,     -999.0,     -999.0,9,     -999.0,     -999.0,9,     -999.0,     -999.0,     -999.0,9,     -999.0,9,     -999.0,9,     -999.0,9,     -999.0,9,     -999.0,9,     -999.0,9,     -999.0,9
33RO20161119,        P18,       7,          1,          5,      11104,2,20161125,       1844,    21.0000,  -110.0003,       3250,  2310.3,   1.9381,  34.6533,2,  34.6532,2,     97.0,2,    97.3,2,   155.4,2,    39.7,2,    0.01,2,   2.769,2,-999.0000,9,-999.0000,9,-999.0000,9,  -999.0,9,  2425.4,2,   7.4830,2,    25.00, -999.00,9,  -999.0,9,  -999.0,-999.0000,9, -999.00,9,    39.4,2,   43.50,2, -999.00,9,     -999.0,9, -999.00,9,  -999.0,9,     -999.0,     -999.0,9,     -999.0,9,     -999.0,     -999.0,9,     -999.0,     -999.0,9,     -999.0,     -999.0,     -999.0,9,     -999.0,9,     -999.0,9,     -999.0,9,     -999.0,9,     -999.0,9,     -999.0,9,     -999.0,9
33RO20161119,        P18,       7,          1,          6,      11105,2,20161125,       1844,    21.0000,  -110.0003,       3250,  2040.7,   2.1857,  34.6376,2,  34.6366,2,     82.3,2,    82.0,2,   151.7,2,    40.8,2,    0.01,2,   2.877,2,   0.0048,2,   0.0027,2,   0.0337,2,  -999.0,9,  -999.0,9,   7.4513,2,    25.00, -999.00,9,  -999.0,9,  -999.0,  -0.0031,2, -999.00,9,    40.1,2,   45.30,2, -999.00,9,    27.9683,2, -999.00,9,  -999.0,9,     -999.0,     -999.0,9,     -999.0,9,     -999.0,     -999.0,9,     -999.0,     -999.0,9,     -999.0,     -999.0,     -999.0,9,     -999.0,9,     -999.0,9,     -999.0,9,     -999.0,9,     -999.0,9,     -999.0,9,     -999.0,9
33RO20161119,        P18,       7,          1,          7,      11106,2,20161125,       1844,    21.0000,  -110.0003,       3250,  1800.3,   2.5189,  34.6229,2,  34.6221,2,     65.9,2,    65.4,2,   146.3,2,    41.7,2,    0.01,2,   2.991,2,-999.0000,9,-999.0000,9,-999.0000,9,  -999.0,9,  2413.2,2,   7.4199,2,    25.00, -999.00,9,  -999.0,9,  -999.0,-999.0000,9, -999.00,9,    40.1,2,   46.90,2, -999.00,9,     -999.0,9, -999.00,9,  -999.0,9,     -999.0,     -999.0,9,     -999.0,9,     -999.0,     -999.0,9,     -999.0,     -999.0,9,     -999.0,     -999.0,     -999.0,9,     -999.0,9,     -999.0,9,     -999.0,9,     -999.0,9,     -999.0,9,     -999.0,9,     -999.0,9
33RO20161119,        P18,       7,          1,          8,      11107,2,20161125,       1844,    21.0000,  -110.0003,       3250,  1565.4,   2.9861,  34.6005,2,  34.6001,2,     46.6,2,    47.1,2,   137.5,2,    42.9,2,    0.02,2,   3.124,2,   0.0105,2,   0.0029,2,   0.0000,2,  -999.0,9,  -999.0,9,   7.3818,2,    25.00, -999.00,9,  -999.0,9,  -999.0,  -0.0121,2, -999.00,9,    39.3,2,   46.50,2, -999.00,9,    36.5607,2, -999.00,9,  -999.0,9,     -999.0,     -999.0,9,     -999.0,9,     -999.0,     -999.0,9,     -999.0,     -999.0,9,     -999.0,     -999.0,     -999.0,9,     -999.0,9,     -999.0,9,     -999.0,9,     -999.0,9,     -999.0,9,     -999.0,9,     -999.0,9
33RO20161119,        P18,       7,          1,          9,      11108,2,20161125,       1844,    21.0000,  -110.0003,       3250,  1285.9,   3.6604,  34.5694,2,  34.5777,2,     25.8,2,    26.0,6,   123.7,2,    44.1,2,    0.01,2,   3.266,2,-999.0000,9,-999.0000,9,-999.0000,9,  -999.0,9,  2387.2,2,   7.3416,3,    25.00, -999.00,9,  -999.0,9,  -999.0,-999.0000,9, -999.00,9,    44.0,3,   48.60,2, -999.00,9,     -999.0,9, -999.00,9,  -999.0,9,     -999.0,     -999.0,9,     -999.0,9,     -999.0,     -999.0,9,     -999.0,     -999.0,9,     -999.0,     -999.0,     -999.0,9,     -999.0,9,     -999.0,9,     -999.0,9,     -999.0,9,     -999.0,9,     -999.0,9,     -999.0,9
33RO20161119,        P18,       7,          1,         10,      11109,2,20161125,       1844,    21.0000,  -110.0003,       3250,  1105.4,   4.1989,  34.5460,2,  34.5451,2,     14.6,2,    14.4,2,   112.5,2,    44.3,2,    0.01,2,   3.330,2,   0.0137,6,   0.0055,6,   0.0229,6,  -999.0,9,  -999.0,9,   7.3182,2,    25.00, -999.00,9,  -999.0,9,  -999.0,  -0.0018,2, -999.00,9,    40.3,2,   49.70,2, -999.00,9,    49.0994,2, -999.00,9,  -999.0,9,     -999.0,     -999.0,9,     -999.0,9,     -999.0,     -999.0,9,     -999.0,     -999.0,9,     -999.0,     -999.0,     -999.0,9,     -999.0,9,     -999.0,9,     -999.0,9,     -999.0,9,     -999.0,9,     -999.0,9,     -999.0,9
33RO20161119,        P18,       7,          1,         11,      11110,2,20161125,       1844,    21.0000,  -110.0003,       3250,   994.7,   4.6264,  34.5341,2,  34.5341,2,      8.2,2,     8.0,2,   103.6,2,    44.3,2,    0.02,2,   3.335,2,-999.0000,9,-999.0000,9,-999.0000,9,  -999.0,9,  2366.0,2,   7.3074,2,    25.00, -999.00,9,  -999.0,9,  -999.0,-999.0000,9, -999.00,9,    40.8,2,   49.20,2, -999.00,9,     -999.0,9, -999.00,9,  -999.0,9,     -999.0,     -999.0,9,     -999.0,9,     -999.0,     -999.0,9,     -999.0,     -999.0,9,     -999.0,     -999.0,     -999.0,9,     -999.0,9,     -999.0,9,     -999.0,9,     -999.0,9,     -999.0,9,     -999.0,9,     -999.0,9
33RO20161119,        P18,       7,          1,         12,      11111,2,20161125,       1844,    21.0000,  -110.0003,       3250,   885.7,   5.0461,  34.5252,2,  34.5255,2,      5.2,2,     4.4,2,    95.8,2,    43.6,2,    0.02,2,   3.328,2,   0.0113,2,   0.0062,2,   0.0181,2,  -999.0,9,  -999.0,9,   7.3068,2,    25.00, -999.00,9,  -999.0,9,  -999.0,   0.0222,2, -999.00,9,    50.0,3,   49.40,2, -999.00,9,     56.442,2, -999.00,9,  -999.0,9,     -999.0,     -999.0,9,     -999.0,9,     -999.0,     -999.0,9,     -999.0,     -999.0,9,     -999.0,     -999.0,     -999.0,9,     -999.0,9,     -999.0,9,     -999.0,9,     -999.0,9,     -999.0,9,     -999.0,9,     -999.0,9
33RO20161119,        P18,       7,          1,         13,      11112,2,20161125,       1844,    21.0000,  -110.0003,       3250,   785.2,   5.5556,  34.5171,2,  34.5150,2,      3.3,2,     3.9,2,    87.9,2,    42.0,2,    0.02,2,   3.293,2,-999.0000,9,-999.0000,9,-999.0000,9,  -999.0,9,  2349.7,2,   7.3086,2,    25.00, -999.00,9,  -999.0,9,  -999.0,-999.0000,9, -999.00,9,    42.5,2,   46.00,2, -999.00,9,     -999.0,9, -999.00,9,  -999.0,9,     -999.0,     -999.0,9,     -999.0,9,     -999.0,     -999.0,9,     -999.0,     -999.0,9,     -999.0,     -999.0,     -999.0,9,     -999.0,9,     -999.0,9,     -999.0,9,     -999.0,9,     -999.0,9,     -999.0,9,     -999.0,9
33RO20161119,        P18,       7,          1,         14,      11113,2,20161125,       1844,    21.0000,  -110.0003,       3250,   680.1,   6.1893,  34.5083,2,  34.5085,2,      2.8,2,     2.6,2,    79.5,2,    39.7,2,    0.02,2,   3.237,2,   0.0263,2,   0.0149,2,   0.0183,2,  -999.0,9,  -999.0,9,   7.3144,2,    25.00, -999.00,9,  -999.0,9,  -999.0,  -0.0002,2, -999.00,9,    41.2,2,   43.40,2, -999.00,9,    50.1408,2, -999.00,9,  -999.0,9,     -999.0,     -999.0,9,     -999.0,9,     -999.0,     -999.0,9,     -999.0,     -999.0,9,     -999.0,     -999.0,     -999.0,9,     -999.0,9,     -999.0,9,     -999.0,9,     -999.0,9,     -999.0,9,     -999.0,9,     -999.0,9
33RO20161119,        P18,       7,          1,         15,      11114,2,20161125,       1844,    21.0000,  -110.0003,       3250,   584.8,   6.9018,  34.5135,2,  34.5150,2,      2.4,2,     2.3,2,    71.0,2,    36.7,2,    0.01,2,   3.183,2,-999.0000,9,-999.0000,9,-999.0000,9,  -999.0,9,  2332.4,6,   7.3204,2,    25.00, -999.00,9,  -999.0,9,  -999.0,-999.0000,9, -999.00,9,    42.1,2,   39.70,2, -999.00,9,     -999.0,9, -999.00,9,  -999.0,9,     -999.0,     -999.0,9,     -999.0,9,     -999.0,     -999.0,9,     -999.0,     -999.0,9,     -999.0,     -999.0,     -999.0,9,     -999.0,9,     -999.0,9,     -999.0,9,     -999.0,9,     -999.0,9,     -999.0,9,     -999.0,9
33RO20161119,        P18,       7,          1,         16,      11115,2,20161125,       1844,    21.0000,  -110.0003,       3250,   495.2,   7.7581,  34.5276,2,  34.5276,2,      2.5,2,     2.5,6,    62.3,2,    33.6,2,    0.01,2,   3.085,2,   0.1139,2,   0.0662,2,   0.0618,2,  2312.3,2,  2324.5,2,   7.3278,2,    25.00, -999.00,9,  -999.0,9,  -999.0,    0.045,2, -999.00,9,    42.9,2,   36.30,2, -999.00,9,    41.3201,2, -999.00,9,  -999.0,9,     -999.0,     -999.0,9,     -999.0,9,     -999.0,     -999.0,9,     -999.0,     -999.0,9,     -999.0,     -999.0,     -999.0,9,     -999.0,9,     -999.0,9,     -999.0,9,     -999.0,9,     -999.0,9,     -999.0,9,     -999.0,9
33RO20161119,        P18,       7,          1,         17,      11116,2,20161125,       1844,    21.0000,  -110.0003,       3250,   410.1,   8.9728,  34.5504,2,  34.5494,2,      3.6,2,     3.4,2,    50.4,2,    30.0,2,    0.02,2,   2.937,2,-999.0000,9,-999.0000,9,-999.0000,9,  2296.8,2,  2313.0,2,   7.3409,6,    25.00, -999.00,9,  -999.0,9,  -999.0,-999.0000,9, -999.00,9,    44.1,2,   33.10,2, -999.00,9,     -999.0,9, -999.00,9,  -999.0,9,     -999.0,     -999.0,9,     -999.0,9,     -999.0,     -999.0,9,     -999.0,     -999.0,9,     -999.0,     -999.0,     -999.0,9,     -999.0,9,     -999.0,9,     -999.0,9,     -999.0,9,     -999.0,9,     -999.0,9,     -999.0,9
33RO20161119,        P18,       7,          1,         18,      11117,2,20161125,       1844,    21.0000,  -110.0003,       3250,   319.9,  10.4482,  34.6404,2,  34.6393,2,      2.6,2,     3.0,2,    41.1,2,    25.7,2,    0.02,2,   2.813,2,   0.5342,2,   0.3070,2,   0.1503,2,  2288.8,2,  2310.4,2,   7.3587,2,    25.00, -999.00,9,  -999.0,9,  -999.0,   0.0684,2, -999.00,9,    47.7,2,   30.00,2, -999.00,9,    24.8624,2, -999.00,9,  -999.0,9,     -999.0,     -999.0,9,     -999.0,9,     -999.0,     -999.0,9,     -999.0,     -999.0,9,     -999.0,     -999.0,     -999.0,9,     -999.0,9,     -999.0,9,     -999.0,9,     -999.0,9,     -999.0,9,     -999.0,9,     -999.0,9
33RO20161119,        P18,       7,          1,         19,      11083,2,20161125,       1844,    21.0000,  -110.0003,       3250,   245.9,  11.5249,  34.7182,2,  34.7185,2,      2.9,2,     2.5,2,    36.2,2,    23.8,2,    0.02,2,   2.739,2,-999.0000,9,-999.0000,9,-999.0000,9,  2280.7,2,  2308.5,2,   7.3812,2,    25.00, -999.00,9,  -999.0,9,  -999.0,-999.0000,9, -999.00,9,    45.4,2,   26.50,2, -999.00,9,     -999.0,9, -999.00,9,  -999.0,9,     -999.0,     -999.0,9,     -999.0,9,     -999.0,     -999.0,9,     -999.0,     -999.0,9,     -999.0,     -999.0,     -999.0,9,     -999.0,9,     -999.0,9,     -999.0,9,     -999.0,9,     -999.0,9,     -999.0,9,     -999.0,9
33RO20161119,        P18,       7,          1,         20,      11118,2,20161125,       1844,    21.0000,  -110.0003,       3250,   185.1,  12.5753,  34.7765,2,  34.7758,2,      2.5,2,     2.2,2,    31.4,2,    22.3,2,    0.83,2,   2.639,2,   0.9337,2,   0.5656,2,   0.2879,2,  2271.4,2,  2308.3,2,   7.4040,2,    25.00, -999.00,9,  -999.0,9,  -999.0,     0.06,2, -999.00,9,    48.3,2,   26.10,2, -999.00,9,    12.3041,2, -999.00,9,  -999.0,9,     -999.0,     -999.0,9,     -999.0,9,     -999.0,     -999.0,9,     -999.0,     -999.0,9,     -999.0,     -999.0,     -999.0,9,     -999.0,9,     -999.0,9,     -999.0,9,     -999.0,9,     -999.0,9,     -999.0,9,     -999.0,9
33RO20161119,        P18,       7,          1,         21,      11119,2,20161125,       1844,    21.0000,  -110.0003,       3250,   125.4,  14.2669,  34.8226,2,  34.8240,2,     16.8,2,    25.2,3,    33.7,2,    23.1,2,    0.02,2,   2.587,2,-999.0000,9,-999.0000,9,-999.0000,9,  2263.4,2,  2316.8,6,   7.4648,2,    25.00, -999.00,9,  -999.0,9,  -999.0,-999.0000,9, -999.00,9,    52.5,2,   27.00,2, -999.00,9,     -999.0,9, -999.00,9,  -999.0,9,     -999.0,     -999.0,9,     -999.0,9,     -999.0,     -999.0,9,     -999.0,     -999.0,9,     -999.0,     -999.0,     -999.0,9,     -999.0,9,     -999.0,9,     -999.0,9,     -999.0,9,     -999.0,9,     -999.0,9,     -999.0,9
33RO20161119,        P18,       7,          1,         22,      11120,2,20161125,       1844,    21.0000,  -110.0003,       3250,    70.6,  17.8183,  34.1872,2,  34.3522,2,    128.4,2,   105.9,2,    12.5,2,    12.2,2,    0.08,2,   1.545,2,   2.0073,2,   1.2056,2,   1.3507,2,  2152.0,2,  2285.1,2,   7.6834,2,    25.00, -999.00,9,  -999.0,9,  -999.0,   0.5642,2, -999.00,9,    61.7,2,   15.40,2, -999.00,9,    34.1571,2, -999.00,9,  -999.0,9,     -999.0,     -999.0,9,     -999.0,9,     -999.0,     -999.0,9,     -999.0,     -999.0,9,     -999.0,     -999.0,     -999.0,9,     -999.0,9,     -999.0,9,     -999.0,9,     -999.0,9,     -999.0,9,     -999.0,9,     -999.0,9
33RO20161119,        P18,       7,          1,         23,      11121,2,20161125,       1844,    21.0000,  -110.0003,       3250,    30.6,  28.5220,  35.0296,2,  34.9972,2,    194.5,2,   194.6,2,     2.8,2,     0.0,2,    0.02,2,   0.479,2,   1.5006,2,   0.9402,2,   1.3343,2,  2020.9,2,  2326.4,2,   8.0484,2,    25.00, -999.00,9,  -999.0,9,  -999.0,   1.4675,2, -999.00,9,    80.7,2,    5.70,2, -999.00,9,      7.289,2, -999.00,9,  -999.0,9,     -999.0,     -999.0,9,     -999.0,9,     -999.0,     -999.0,9,     -999.0,     -999.0,9,     -999.0,     -999.0,     -999.0,9,     -999.0,9,     -999.0,9,     -999.0,9,     -999.0,9,     -999.0,9,     -999.0,9,     -999.0,9
33RO20161119,        P18,       7,          1,         24,      11122,2,20161125,       1844,    21.0000,  -110.0003,       3250,     3.1,  28.5774,  34.6948,2,  34.6919,2,    189.2,2,   194.4,2,     2.1,2,     0.0,2,    0.02,2,   0.357,2,   1.4912,2,   0.9282,2,   1.3152,2,  1988.1,6,  2306.4,2,   8.0663,2,    25.00, -999.00,9,  -999.0,9,  -999.0,   0.8934,2, -999.00,9,    86.5,2,    3.90,2, -999.00,9,     6.4956,2, -999.00,9,  -999.0,9,     -999.0,     -999.0,9,     -999.0,9,     -999.0,     -999.0,9,     -999.0,     -999.0,9,     -999.0,     -999.0,     -999.0,9,     -999.0,9,     -999.0,9,     -999.0,9,     -999.0,9,     -999.0,9,     -999.0,9,     -999.0,9