BOTTLE,20230606CCHSIOCBG
EXPOCODE,SECT_ID,STNNBR,CASTNO,SAMPNO,BTLNBR,BTLNBR_FLAG_W,DATE,TIME,LATITUDE,LONGITUDE,DEPTH,CTDPRS,CTDTMP,CTDSAL,CTDSAL_FLAG_W,SALNTY,SALNTY_FLAG_W,CTDOXY,CTDOXY_FLAG_W,OXYGEN,OXYGEN_FLAG_W,SILCAT,SILCAT_FLAG_W,NITRAT,NITRAT_FLAG_W,NITRIT,NITRIT_FLAG_W,PHSPHT,PHSPHT_FLAG_W,CFC-11,CFC-11_FLAG_W,CFC-12,CFC-12_FLAG_W,SF6,SF6_FLAG_W,TCARBN,TCARBN_FLAG_W,ALKALI,ALKALI_FLAG_W,PH_SWS,PH_SWS_FLAG_W,PH_TMP,DELC13,DELC13_FLAG_W,DELC14,DELC14_FLAG_W,C14ERR,CCL4,CCL4_FLAG_W,POC,POC_FLAG_W,DOC,DOC_FLAG_W,TDN,TDN_FLAG_W,PON,PON_FLAG_W,N2O,N2O_FLAG_W,D15N_NO3,D15N_NO3_FLAG_W,14C-DOC,14C-DOC_FLAG_W,14C-DOCERR,13C-DOC,13C-DOC_FLAG_W,N2/ARGON_UNSTRIPPED,N2/ARGON_UNSTRIPPED_FLAG_W,N2/ARGON_UNSTRIPPED_ERROR,N2/ARGON,N2/ARGON_FLAG_W,N2/ARGON_ERROR,D15N_N2,D15N_N2_FLAG_W,D15N_N2_ERROR,D15N_NO3_ERROR,D15N_NO2+NO3,D15N_NO2+NO3_FLAG_W,D18O_NO2+NO3,D18O_NO2+NO3_FLAG_W,D18O_NO3,D18O_NO3_FLAG_W,TDP,TDP_FLAG_W,N2O_ALT_1,N2O_ALT_1_FLAG_W,D15N_N2O,D15N_N2O_FLAG_W,D18O_N2O,D18O_N2O_FLAG_W,D15N_ALPHA_N2O,D15N_ALPHA_N2O_FLAG_W
,,,,,,,,,,,METERS,DBAR,ITS-90,PSS-78,,PSS-78,,UMOL/KG,,UMOL/KG,,UMOL/KG,,UMOL/KG,,UMOL/KG,,UMOL/KG,,PMOL/KG,,PMOL/KG,,FMOL/KG,,UMOL/KG,,UMOL/KG,,,,DEG C,/MILLE,,/MILLE,,/MILLE,PMOL/KG,,UG/KG,,UMOL/KG,,UMOL/KG,,UG/KG,,NMOL/KG,,/MILLE,,/MILLE,,/MILLE,/MILLE,,,,,,,,/MILLE,,/MILLE,/MILLE,/MILLE,,/MILLE,,/MILLE,,UMOL/KG,,NMOL/L,,/MILLE,,/MILLE,,/MILLE,
33RO20161119,        P18,     185,          1,          1,      11010,2,20170119,       1611,   -58.5017,  -102.9976,       4708,  4783.9,   0.6064,  34.7032,2,  34.7023,2,    211.5,2,   211.7,2,   134.2,2,    32.8,2,    0.01,2,   2.252,2,   0.3058,2,   0.1462,2,   0.0599,2,  2265.7,6,  2361.3,2,   7.5915,6,    25.00, -999.00,9,  -999.0,9,  -999.0,   0.1399,2, -999.00,9,    39.4,2,   36.60,2, -999.00,9,    18.4554,2, -999.00,9,  -999.0,9,     -999.0,     -999.0,9,     -999.0,9,     -999.0,     -999.0,9,     -999.0,     -999.0,9,     -999.0,     -999.0,     -999.0,9,     -999.0,9,     -999.0,9,     -999.0,9,     -999.0,9,     -999.0,9,     -999.0,9,     -999.0,9
33RO20161119,        P18,     185,          1,          2,      11101,2,20170119,       1611,   -58.5017,  -102.9976,       4708,  4357.0,   0.6426,  34.7049,2,  34.7045,2,    210.4,2,   210.0,2,   131.3,2,    32.6,2,    0.01,2,   2.206,2,   0.2798,2,   0.1344,2,   0.0464,2,  2262.4,2,  2362.5,2,   7.5927,2,    25.00, -999.00,9,  -999.0,9,  -999.0,   0.1801,2, -999.00,9,    41.7,2,   36.10,2, -999.00,9,    18.6458,2, -999.00,9,  -999.0,9,     -999.0,     -999.0,9,     -999.0,9,     -999.0,     -999.0,9,     -999.0,     -999.0,9,     -999.0,     -999.0,     -999.0,9,     -999.0,9,     -999.0,9,     -999.0,9,     -999.0,9,     -999.0,9,     -999.0,9,     -999.0,9
33RO20161119,        P18,     185,          1,          3,      11102,2,20170119,       1611,   -58.5017,  -102.9976,       4708,  3933.5,   0.8349,  34.7094,2,  34.7082,2,    206.0,2,   206.2,2,   124.8,6,    32.5,6,    0.01,6,   2.206,6,   0.2170,2,   0.1047,2,   0.0281,2,  2263.1,2,  2360.7,2,   7.5948,2,    25.00, -999.00,9,  -999.0,9,  -999.0,   0.5168,2, -999.00,9,    50.1,4,   36.40,2, -999.00,9,    18.6117,2, -999.00,9,  -999.0,9,     -999.0,     -999.0,9,     -999.0,9,     -999.0,     -999.0,9,     -999.0,     -999.0,9,     -999.0,     -999.0,     -999.0,9,     -999.0,9,     -999.0,9,     -999.0,9,     -999.0,9,     -999.0,9,     -999.0,9,     -999.0,9
33RO20161119,        P18,     185,          1,          4,      11103,2,20170119,       1611,   -58.5017,  -102.9976,       4708,  3559.7,   1.0246,  34.7150,2,  34.7139,2,    202.6,2,   202.8,6,   118.2,6,    32.3,6,    0.01,6,   2.200,6,   0.1625,2,   0.0797,2,   0.0345,2,  2261.5,2,  2357.9,6,   7.5971,2,    25.00, -999.00,9,  -999.0,9,  -999.0,   0.6221,2, -999.00,9,    41.0,2,   34.70,2, -999.00,9,    18.9376,2, -999.00,9,  -999.0,9,     -999.0,     -999.0,9,     -999.0,9,     -999.0,     -999.0,9,     -999.0,     -999.0,9,     -999.0,     -999.0,     -999.0,9,     -999.0,9,     -999.0,9,     -999.0,9,     -999.0,9,     -999.0,9,     -999.0,9,     -999.0,9
33RO20161119,        P18,     185,          1,          5,      11104,2,20170119,       1611,   -58.5017,  -102.9976,       4708,  3200.2,   1.2093,  34.7207,2,  34.7201,2,    198.9,2,   199.1,2,   112.2,6,    32.1,6,    0.01,6,   2.180,6,   0.1280,2,   0.0627,2,   0.0352,2,  2260.3,2,  2359.2,2,   7.6000,2,    25.00, -999.00,9,  -999.0,9,  -999.0,   0.8903,2, -999.00,9,    42.4,2,   34.60,2, -999.00,9,    18.9283,2, -999.00,9,  -999.0,9,     -999.0,     -999.0,9,     -999.0,9,     -999.0,     -999.0,9,     -999.0,     -999.0,9,     -999.0,     -999.0,     -999.0,9,     -999.0,9,     -999.0,9,     -999.0,9,     -999.0,9,     -999.0,9,     -999.0,9,     -999.0,9
33RO20161119,        P18,     185,          1,          6,      11105,2,20170119,       1611,   -58.5017,  -102.9976,       4708,  2820.0,   1.4209,  34.7248,2,  34.7238,2,    194.1,2,   194.4,2,   106.3,6,    32.1,6,    0.01,6,   2.155,6,   0.1001,2,   0.0493,2,   0.0000,2,  2260.4,2,  2362.2,2,   7.5980,2,    25.00, -999.00,9,  -999.0,9,  -999.0,   2.0653,2, -999.00,9,    42.6,2,   34.30,2, -999.00,9,    19.2995,2, -999.00,9,  -999.0,9,     -999.0,     -999.0,9,     -999.0,9,     -999.0,     -999.0,9,     -999.0,     -999.0,9,     -999.0,     -999.0,     -999.0,9,     -999.0,9,     -999.0,9,     -999.0,9,     -999.0,9,     -999.0,9,     -999.0,9,     -999.0,9
33RO20161119,        P18,     185,          1,          7,      11106,2,20170119,       1611,   -58.5017,  -102.9976,       4708,  2460.4,   1.6561,  34.7248,2,  34.7261,2,    188.5,2,   188.4,2,    99.9,2,    32.1,2,    0.01,2,   2.165,2,-999.0000,9,-999.0000,9,-999.0000,9,  2261.0,2,  2359.3,2,   7.5955,2,    25.00, -999.00,9,  -999.0,9,  -999.0,-999.0000,9, -999.00,9,    42.7,2,   34.90,2, -999.00,9,     -999.0,9, -999.00,9,  -999.0,9,     -999.0,     -999.0,9,     -999.0,9,     -999.0,     -999.0,9,     -999.0,     -999.0,9,     -999.0,     -999.0,     -999.0,9,     -999.0,9,     -999.0,9,     -999.0,9,     -999.0,9,     -999.0,9,     -999.0,9,     -999.0,9
33RO20161119,        P18,     185,          1,          8,      11107,2,20170119,       1611,   -58.5017,  -102.9976,       4708,  2100.8,   1.9493,  34.7171,2,  34.7157,2,    182.2,2,   182.0,2,    91.7,2,    32.2,2,    0.01,2,   2.188,2,   0.1380,2,   0.0673,2,   0.0471,2,  2260.5,2,  2355.8,2,   7.5873,2,    25.00, -999.00,9,  -999.0,9,  -999.0,   3.1777,2, -999.00,9,    41.9,2,   35.90,2, -999.00,9,    20.1425,2, -999.00,9,  -999.0,9,     -999.0,     -999.0,9,     -999.0,9,     -999.0,     -999.0,9,     -999.0,     -999.0,9,     -999.0,     -999.0,     -999.0,9,     -999.0,9,     -999.0,9,     -999.0,9,     -999.0,9,     -999.0,9,     -999.0,9,     -999.0,9
33RO20161119,        P18,     185,          1,          9,      11108,2,20170119,       1611,   -58.5017,  -102.9976,       4708,  1775.8,   2.1877,  34.6885,2,  34.6866,2,    176.0,2,   176.4,2,    84.2,2,    32.8,2,    0.01,2,   2.199,2,-999.0000,9,-999.0000,9,-999.0000,9,  2256.7,2,  2347.2,2,   7.5755,2,    25.00, -999.00,9,  -999.0,9,  -999.0,-999.0000,9, -999.00,9,    41.8,2,   35.60,2, -999.00,9,     -999.0,9, -999.00,9,  -999.0,9,     -999.0,     -999.0,9,     -999.0,9,     -999.0,     -999.0,9,     -999.0,     -999.0,9,     -999.0,     -999.0,     -999.0,9,     -999.0,9,     -999.0,9,     -999.0,9,     -999.0,9,     -999.0,9,     -999.0,9,     -999.0,9
33RO20161119,        P18,     185,          1,         10,      11109,2,20170119,       1611,   -58.5017,  -102.9976,       4708,  1565.0,   2.3178,  34.6520,2,  34.6502,2,    172.5,2,   173.3,2,    80.0,2,    33.3,2,    0.01,2,   2.246,2,-999.0000,9,-999.0000,9,-999.0000,9,  2256.4,2,  2343.8,2,   7.5615,2,    25.00, -999.00,9,  -999.0,9,  -999.0,-999.0000,9, -999.00,9,    42.2,2,   37.00,2, -999.00,9,     -999.0,9, -999.00,9,  -999.0,9,     -999.0,     -999.0,9,     -999.0,9,     -999.0,     -999.0,9,     -999.0,     -999.0,9,     -999.0,     -999.0,     -999.0,9,     -999.0,9,     -999.0,9,     -999.0,9,     -999.0,9,     -999.0,9,     -999.0,9,     -999.0,9
33RO20161119,        P18,     185,          1,         11,      11110,2,20170119,       1611,   -58.5017,  -102.9976,       4708,  1396.3,   2.4182,  34.6101,2,  34.6091,2,    171.1,2,   171.3,2,    76.7,2,    33.9,2,    0.01,2,   2.280,2,   0.4741,6,   0.2360,6,   0.1286,6,  2257.0,6,  2337.6,2,   7.5555,2,    25.00, -999.00,9,  -999.0,9,  -999.0,   4.1176,2, -999.00,9,    44.9,2,   36.50,2, -999.00,9,    22.3524,2, -999.00,9,  -999.0,9,     -999.0,     -999.0,9,     -999.0,9,     -999.0,     -999.0,9,     -999.0,     -999.0,9,     -999.0,     -999.0,     -999.0,9,     -999.0,9,     -999.0,9,     -999.0,9,     -999.0,9,     -999.0,9,     -999.0,9,     -999.0,9
33RO20161119,        P18,     185,          1,         12,      11111,2,20170119,       1611,   -58.5017,  -102.9976,       4708,  1236.1,   2.5527,  34.5560,2,  34.5551,2,    171.0,2,   171.5,2,    72.5,2,    34.3,2,    0.01,2,   2.312,2,-999.0000,9,-999.0000,9,-999.0000,9,  2253.3,2,  2332.5,2,   7.5523,2,    25.00, -999.00,9,  -999.0,9,  -999.0,-999.0000,9, -999.00,9,    41.1,2,   38.50,2, -999.00,9,     -999.0,9, -999.00,9,  -999.0,9,     -999.0,     -999.0,9,     -999.0,9,     -999.0,     -999.0,9,     -999.0,     -999.0,9,     -999.0,     -999.0,     -999.0,9,     -999.0,9,     -999.0,9,     -999.0,9,     -999.0,9,     -999.0,9,     -999.0,9,     -999.0,9
33RO20161119,        P18,     185,          1,         13,      11112,2,20170119,       1611,   -58.5017,  -102.9976,       4708,  1080.8,   2.7060,  34.4899,2,  34.4893,2,    175.9,2,   176.5,2,    65.7,2,    34.4,2,    0.01,2,   2.290,2,   0.9646,2,   0.4817,2,   0.2365,2,  2246.6,2,  2322.9,6,   7.5481,2,    25.00, -999.00,9,  -999.0,9,  -999.0,   4.7871,2, -999.00,9,    39.6,2,   39.00,2, -999.00,9,     22.774,2, -999.00,9,  -999.0,9,     -999.0,     -999.0,9,     -999.0,9,     -999.0,     -999.0,9,     -999.0,     -999.0,9,     -999.0,     -999.0,     -999.0,9,     -999.0,9,     -999.0,9,     -999.0,9,     -999.0,9,     -999.0,9,     -999.0,9,     -999.0,9
33RO20161119,        P18,     185,          1,         14,      11113,2,20170119,       1611,   -58.5017,  -102.9976,       4708,   925.9,   2.9450,  34.4045,2,  34.4025,2,    187.7,2,   186.8,2,    55.4,2,    34.1,2,    0.01,2,   2.299,2,-999.0000,9,-999.0000,9,-999.0000,9,  2235.0,2,  2316.3,2,   7.5599,2,    25.00, -999.00,9,  -999.0,9,  -999.0,-999.0000,9, -999.00,9,    39.0,2,   38.70,2, -999.00,9,     -999.0,9, -999.00,9,  -999.0,9,     -999.0,     -999.0,9,     -999.0,9,     -999.0,     -999.0,9,     -999.0,     -999.0,9,     -999.0,     -999.0,     -999.0,9,     -999.0,9,     -999.0,9,     -999.0,9,     -999.0,9,     -999.0,9,     -999.0,9,     -999.0,9
33RO20161119,        P18,     185,          1,         15,      11114,2,20170119,       1611,   -58.5017,  -102.9976,       4708,   780.7,   3.3008,  34.3395,2,  34.3384,2,    201.0,2,   199.1,2,    45.1,2,    33.1,2,    0.01,2,   2.246,2,   2.0431,2,   1.0378,2,   0.6243,2,  2219.4,2,  2305.0,2,   7.5772,2,    25.00, -999.00,9,  -999.0,9,  -999.0,   0.4204,2, -999.00,9,    40.6,2,   37.50,2, -999.00,9,    20.9256,2, -999.00,9,  -999.0,9,     -999.0,     -999.0,9,     -999.0,9,     -999.0,     -999.0,9,     -999.0,     -999.0,9,     -999.0,     -999.0,     -999.0,9,     -999.0,9,     -999.0,9,     -999.0,9,     -999.0,9,     -999.0,9,     -999.0,9,     -999.0,9
33RO20161119,        P18,     185,          1,         16,      11115,2,20170119,       1611,   -58.5017,  -102.9976,       4708,   644.5,   3.7833,  34.2756,2,  34.2744,2,    215.8,2,   214.0,2,    33.7,2,    31.4,2,    0.02,2,   2.085,2,-999.0000,9,-999.0000,9,-999.0000,9,  2200.2,2,  2293.9,2,   7.5969,2,    25.00, -999.00,9,  -999.0,9,  -999.0,-999.0000,9, -999.00,9,    42.7,2,   34.40,2, -999.00,9,     -999.0,9, -999.00,9,  -999.0,9,     -999.0,     -999.0,9,     -999.0,9,     -999.0,     -999.0,9,     -999.0,     -999.0,9,     -999.0,     -999.0,     -999.0,9,     -999.0,9,     -999.0,9,     -999.0,9,     -999.0,9,     -999.0,9,     -999.0,9,     -999.0,9
33RO20161119,        P18,     185,          1,         17,      11116,2,20170119,       1611,   -58.5017,  -102.9976,       4708,   520.0,   3.6849,  34.1620,2,  34.1599,2,    258.6,2,   259.2,2,    21.7,2,    28.4,2,    0.02,2,   1.891,2,   3.7759,2,   2.0542,2,   1.9243,2,  2174.1,2,  2284.4,2,   7.6452,2,    25.00, -999.00,9,  -999.0,9,  -999.0,   0.3873,2, -999.00,9,    42.2,2,   32.80,2, -999.00,9,    16.4862,2, -999.00,9,  -999.0,9,     -999.0,     -999.0,9,     -999.0,9,     -999.0,     -999.0,9,     -999.0,     -999.0,9,     -999.0,     -999.0,     -999.0,9,     -999.0,9,     -999.0,9,     -999.0,9,     -999.0,9,     -999.0,9,     -999.0,9,     -999.0,9
33RO20161119,        P18,     185,          1,         18,      11117,2,20170119,       1611,   -58.5017,  -102.9976,       4708,   399.0,   4.2156,  34.1558,2,  34.1563,2,    269.3,2,   279.8,2,    14.0,2,    25.4,2,    0.02,2,   1.714,2,-999.0000,9,-999.0000,9,-999.0000,9,  2154.8,2,  2277.9,2,   7.6819,2,    25.00, -999.00,9,  -999.0,9,  -999.0,-999.0000,9, -999.00,9,    45.3,2,   27.20,2, -999.00,9,     -999.0,9, -999.00,9,  -999.0,9,     -999.0,     -999.0,9,     -999.0,9,     -999.0,     -999.0,9,     -999.0,     -999.0,9,     -999.0,     -999.0,     -999.0,9,     -999.0,9,     -999.0,9,     -999.0,9,     -999.0,9,     -999.0,9,     -999.0,9,     -999.0,9
33RO20161119,        P18,     185,          1,         19,      11083,2,20170119,       1611,   -58.5017,  -102.9976,       4708,   296.8,   4.8489,  34.1982,2,  34.1961,2,    279.0,2,   268.4,3,    13.1,2,    24.9,2,    0.02,2,   1.665,2,   3.9011,2,   2.1446,2,   2.1777,2,  2154.2,2,  2278.0,2,   7.6839,2,    25.00, -999.00,9,  -999.0,9,  -999.0,    0.301,2, -999.00,9,    44.0,2,   27.40,2, -999.00,9,    14.5273,2, -999.00,9,  -999.0,9,     -999.0,     -999.0,9,     -999.0,9,     -999.0,     -999.0,9,     -999.0,     -999.0,9,     -999.0,     -999.0,     -999.0,9,     -999.0,9,     -999.0,9,     -999.0,9,     -999.0,9,     -999.0,9,     -999.0,9,     -999.0,9
33RO20161119,        P18,     185,          1,         20,      11118,2,20170119,       1611,   -58.5017,  -102.9976,       4708,   201.5,   5.0893,  34.1763,2,  34.1763,2,    280.6,2,   283.2,2,     9.6,2,    22.9,2,    0.03,2,   1.553,2,-999.0000,9,-999.0000,9,-999.0000,9,  2142.5,2,  2276.6,2,   7.7083,2,    25.00, -999.00,9,  -999.0,9,  -999.0,-999.0000,9, -999.00,9,    44.9,2,   23.80,2, -999.00,9,     -999.0,9, -999.00,9,  -999.0,9,     -999.0,     -999.0,9,     -999.0,9,     -999.0,     -999.0,9,     -999.0,     -999.0,9,     -999.0,     -999.0,     -999.0,9,     -999.0,9,     -999.0,9,       1.54,3,     -999.0,9,     -999.0,9,     -999.0,9,     -999.0,9
33RO20161119,        P18,     185,          1,         21,      11119,2,20170119,       1611,   -58.5017,  -102.9976,       4708,   120.2,   5.3741,  34.1784,2,  34.1781,2,    284.9,2,   292.1,6,     7.6,2,    21.2,2,    0.32,2,   1.481,2,   4.2090,2,   2.3459,2,   2.7250,2,  2135.2,2,  2275.7,6,   7.7252,2,    25.00, -999.00,9,  -999.0,9,  -999.0,   0.2639,2, -999.00,9,    47.1,2,   24.90,2, -999.00,9,     12.764,2, -999.00,9,  -999.0,9,     -999.0,     -999.0,9,     -999.0,9,     -999.0,     -999.0,9,     -999.0,     -999.0,9,     -999.0,     -999.0,     -999.0,9,     -999.0,9,     -999.0,9,       1.57,2,     -999.0,9,     -999.0,9,     -999.0,9,     -999.0,9
33RO20161119,        P18,     185,          1,         22,      11120,2,20170119,       1611,   -58.5017,  -102.9976,       4708,    54.7,   6.5654,  34.1698,2,  34.1718,2,    298.2,2,   301.3,2,     1.1,2,    17.8,2,    0.20,2,   1.234,2,-999.0000,9,-999.0000,9,-999.0000,9,  2113.0,2,  2274.4,2,   7.7823,2,    25.00, -999.00,9,  -999.0,9,  -999.0,-999.0000,9, -999.00,9,    50.4,2,   20.70,2, -999.00,9,     -999.0,9, -999.00,9,  -999.0,9,     -999.0,     -999.0,9,     -999.0,9,     -999.0,     -999.0,9,     -999.0,     -999.0,9,     -999.0,     -999.0,     -999.0,9,     -999.0,9,     -999.0,9,     -999.0,9,     -999.0,9,     -999.0,9,     -999.0,9,     -999.0,9
33RO20161119,        P18,     185,          1,         23,      11121,2,20170119,       1611,   -58.5017,  -102.9976,       4708,    25.2,   6.6908,  34.1626,2,  34.1620,2,    296.7,2,   300.2,2,     0.8,2,    17.5,2,    0.21,2,   1.189,2,-999.0000,9,-999.0000,9,-999.0000,9,  2111.4,6,  2274.4,2,   7.7898,2,    25.00, -999.00,9,  -999.0,9,  -999.0,-999.0000,9, -999.00,9,    45.9,2,   19.90,2, -999.00,9,     -999.0,9, -999.00,9,  -999.0,9,     -999.0,     -999.0,9,     -999.0,9,     -999.0,     -999.0,9,     -999.0,     -999.0,9,     -999.0,     -999.0,     -999.0,9,     -999.0,9,     -999.0,9,     -999.0,9,     -999.0,9,     -999.0,9,     -999.0,9,     -999.0,9
33RO20161119,        P18,     185,          1,         24,      11122,2,20170119,       1611,   -58.5017,  -102.9976,       4708,     4.4,   6.7343,  34.1624,2,  34.1610,2,    251.5,4,   300.0,2,     0.7,2,    17.4,2,    0.21,2,   1.198,2,   4.0813,2,   2.3038,2,   2.7286,2,  2111.2,2,  2276.4,2,   7.7880,6,    25.00, -999.00,9,  -999.0,9,  -999.0,   0.2129,2, -999.00,9,    49.4,2,   19.40,2, -999.00,9,    11.6832,2, -999.00,9,  -999.0,9,     -999.0,     -999.0,9,     -999.0,9,     -999.0,     -999.0,9,     -999.0,     -999.0,9,     -999.0,     -999.0,     -999.0,9,     -999.0,9,     -999.0,9,     -999.0,9,     -999.0,9,     -999.0,9,     -999.0,9,     -999.0,9