BOTTLE,20230606CCHSIOCBG
EXPOCODE,SECT_ID,STNNBR,CASTNO,SAMPNO,BTLNBR,BTLNBR_FLAG_W,DATE,TIME,LATITUDE,LONGITUDE,DEPTH,CTDPRS,CTDTMP,CTDSAL,CTDSAL_FLAG_W,SALNTY,SALNTY_FLAG_W,CTDOXY,CTDOXY_FLAG_W,OXYGEN,OXYGEN_FLAG_W,SILCAT,SILCAT_FLAG_W,NITRAT,NITRAT_FLAG_W,NITRIT,NITRIT_FLAG_W,PHSPHT,PHSPHT_FLAG_W,CFC-11,CFC-11_FLAG_W,CFC-12,CFC-12_FLAG_W,SF6,SF6_FLAG_W,TCARBN,TCARBN_FLAG_W,ALKALI,ALKALI_FLAG_W,PH_SWS,PH_SWS_FLAG_W,PH_TMP,DELC13,DELC13_FLAG_W,DELC14,DELC14_FLAG_W,C14ERR,CCL4,CCL4_FLAG_W,POC,POC_FLAG_W,DOC,DOC_FLAG_W,TDN,TDN_FLAG_W,PON,PON_FLAG_W,N2O,N2O_FLAG_W,D15N_NO3,D15N_NO3_FLAG_W,14C-DOC,14C-DOC_FLAG_W,14C-DOCERR,13C-DOC,13C-DOC_FLAG_W,N2/ARGON_UNSTRIPPED,N2/ARGON_UNSTRIPPED_FLAG_W,N2/ARGON_UNSTRIPPED_ERROR,N2/ARGON,N2/ARGON_FLAG_W,N2/ARGON_ERROR,D15N_N2,D15N_N2_FLAG_W,D15N_N2_ERROR,D15N_NO3_ERROR,D15N_NO2+NO3,D15N_NO2+NO3_FLAG_W,D18O_NO2+NO3,D18O_NO2+NO3_FLAG_W,D18O_NO3,D18O_NO3_FLAG_W,TDP,TDP_FLAG_W,N2O_ALT_1,N2O_ALT_1_FLAG_W,D15N_N2O,D15N_N2O_FLAG_W,D18O_N2O,D18O_N2O_FLAG_W,D15N_ALPHA_N2O,D15N_ALPHA_N2O_FLAG_W
,,,,,,,,,,,METERS,DBAR,ITS-90,PSS-78,,PSS-78,,UMOL/KG,,UMOL/KG,,UMOL/KG,,UMOL/KG,,UMOL/KG,,UMOL/KG,,PMOL/KG,,PMOL/KG,,FMOL/KG,,UMOL/KG,,UMOL/KG,,,,DEG C,/MILLE,,/MILLE,,/MILLE,PMOL/KG,,UG/KG,,UMOL/KG,,UMOL/KG,,UG/KG,,NMOL/KG,,/MILLE,,/MILLE,,/MILLE,/MILLE,,,,,,,,/MILLE,,/MILLE,/MILLE,/MILLE,,/MILLE,,/MILLE,,UMOL/KG,,NMOL/L,,/MILLE,,/MILLE,,/MILLE,
33RO20161119,        P18,     211,          1,          1,      11010,2,20170127,       2343,   -70.0012,  -100.2423,       4099,  4166.7,   0.3511,  34.7008,2,  34.6994,2,    213.1,2,   212.7,2,   144.2,2,    33.3,2,    0.02,2,   2.275,2,   0.4053,2,   0.1929,2,   0.0701,2,  2264.1,6,  2362.2,2,   7.5843,6,    25.00, -999.00,9,  -999.0,9,  -999.0,   0.2885,2, -999.00,9,  -999.0,9, -999.00,9, -999.00,9,    18.2292,2, -999.00,9,  -999.0,9,     -999.0,     -999.0,9,     -999.0,9,     -999.0,     -999.0,9,     -999.0,     -999.0,9,     -999.0,     -999.0,     -999.0,9,     -999.0,9,     -999.0,9,     -999.0,9,     -999.0,9,     -999.0,9,     -999.0,9,     -999.0,9
33RO20161119,        P18,     211,          1,          2,      11101,2,20170127,       2343,   -70.0012,  -100.2423,       4099,  3911.6,   0.3789,  34.7026,2,  34.7012,2,    212.1,2,   212.2,2,   139.6,2,    33.2,2,    0.02,2,   2.277,2,   0.2922,2,   0.1406,2,   0.0444,2,  2263.4,2,  2361.8,6,   7.5867,2,    25.00, -999.00,9,  -999.0,9,  -999.0,   0.2287,2, -999.00,9,  -999.0,9, -999.00,9, -999.00,9,    18.0859,2, -999.00,9,  -999.0,9,     -999.0,     -999.0,9,     -999.0,9,     -999.0,     -999.0,9,     -999.0,     -999.0,9,     -999.0,     -999.0,     -999.0,9,     -999.0,9,     -999.0,9,     -999.0,9,     -999.0,9,     -999.0,9,     -999.0,9,     -999.0,9
33RO20161119,        P18,     211,          1,          3,      11102,2,20170127,       2343,   -70.0012,  -100.2423,       4099,  3655.2,   0.4106,  34.7036,2,  34.7022,2,    211.3,2,   211.2,2,   135.9,6,    33.1,6,    0.02,6,   2.264,6,   0.2388,2,   0.1145,2,   0.0360,2,  2263.9,2,  2363.2,2,   7.5895,2,    25.00, -999.00,9,  -999.0,9,  -999.0,   0.2651,2, -999.00,9,  -999.0,9, -999.00,9, -999.00,9,    18.2908,2, -999.00,9,  -999.0,9,     -999.0,     -999.0,9,     -999.0,9,     -999.0,     -999.0,9,     -999.0,     -999.0,9,     -999.0,     -999.0,     -999.0,9,     -999.0,9,     -999.0,9,     -999.0,9,     -999.0,9,     -999.0,9,     -999.0,9,     -999.0,9
33RO20161119,        P18,     211,          1,          4,      11103,2,20170127,       2343,   -70.0012,  -100.2423,       4099,  3330.1,   0.4530,  34.7047,2,  34.7028,2,    209.7,2,   209.5,2,   134.6,6,    33.1,6,    0.02,6,   2.266,6,   0.1877,2,   0.0904,2,   0.0500,2,  2264.6,2,  2369.4,3,   7.5905,2,    25.00, -999.00,9,  -999.0,9,  -999.0,   0.2126,2, -999.00,9,  -999.0,9, -999.00,9, -999.00,9,    18.1469,2, -999.00,9,  -999.0,9,     -999.0,     -999.0,9,     -999.0,9,     -999.0,     -999.0,9,     -999.0,     -999.0,9,     -999.0,     -999.0,     -999.0,9,     -999.0,9,     -999.0,9,     -999.0,9,     -999.0,9,     -999.0,9,     -999.0,9,     -999.0,9
33RO20161119,        P18,     211,          1,          5,      11104,2,20170127,       2343,   -70.0012,  -100.2423,       4099,  3005.4,   0.4977,  34.7053,2,  34.7033,2,    208.6,2,   209.0,2,   131.5,6,    33.0,6,    0.02,6,   2.263,6,   0.1798,2,   0.0896,2,   0.0000,2,  2264.1,2,  2360.0,2,   7.5899,2,    25.00, -999.00,9,  -999.0,9,  -999.0,   0.1788,2, -999.00,9,  -999.0,9, -999.00,9, -999.00,9,    18.3133,2, -999.00,9,  -999.0,9,     -999.0,     -999.0,9,     -999.0,9,     -999.0,     -999.0,9,     -999.0,     -999.0,9,     -999.0,     -999.0,     -999.0,9,     -999.0,9,     -999.0,9,     -999.0,9,     -999.0,9,     -999.0,9,     -999.0,9,     -999.0,9
33RO20161119,        P18,     211,          1,          6,      11105,2,20170127,       2343,   -70.0012,  -100.2423,       4099,  2684.1,   0.5791,  34.7066,2,  34.7059,2,    206.8,2,   206.8,2,   127.5,6,    32.9,6,    0.02,6,   2.247,6,   0.1868,2,   0.0897,2,   0.0298,2,  2262.3,2,  2360.4,2,   7.5897,2,    25.00, -999.00,9,  -999.0,9,  -999.0,   0.1741,2, -999.00,9,  -999.0,9, -999.00,9, -999.00,9,    18.3226,2, -999.00,9,  -999.0,9,     -999.0,     -999.0,9,     -999.0,9,     -999.0,     -999.0,9,     -999.0,     -999.0,9,     -999.0,     -999.0,     -999.0,9,     -999.0,9,     -999.0,9,     -999.0,9,     -999.0,9,     -999.0,9,     -999.0,9,     -999.0,9
33RO20161119,        P18,     211,          1,          7,      11106,2,20170127,       2343,   -70.0012,  -100.2423,       4099,  2365.1,   0.7031,  34.7094,2,  34.7106,2,    204.1,2,   204.5,6,   124.1,2,    32.8,2,    0.01,2,   2.246,2,   0.1628,6,   0.0798,6,   0.0210,6,  2262.7,2,  2359.2,2,   7.5904,2,    25.00, -999.00,9,  -999.0,9,  -999.0,   0.1735,2, -999.00,9,  -999.0,9, -999.00,9, -999.00,9,    18.4915,2, -999.00,9,  -999.0,9,     -999.0,     -999.0,9,     -999.0,9,     -999.0,     -999.0,9,     -999.0,     -999.0,9,     -999.0,     -999.0,     -999.0,9,     -999.0,9,     -999.0,9,     -999.0,9,     -999.0,9,     -999.0,9,     -999.0,9,     -999.0,9
33RO20161119,        P18,     211,          1,          8,      11107,2,20170127,       2343,   -70.0012,  -100.2423,       4099,  2044.9,   0.8308,  34.7137,2,  34.7116,2,    201.4,2,   201.5,2,   119.9,2,    32.7,2,    0.02,2,   2.228,2,   0.1268,2,   0.0612,2,   0.0562,2,  2262.7,2,  2359.0,2,   7.5940,2,    25.00, -999.00,9,  -999.0,9,  -999.0,   0.1949,2, -999.00,9,  -999.0,9, -999.00,9, -999.00,9,    18.5246,2, -999.00,9,  -999.0,9,     -999.0,     -999.0,9,     -999.0,9,     -999.0,     -999.0,9,     -999.0,     -999.0,9,     -999.0,     -999.0,     -999.0,9,     -999.0,9,     -999.0,9,     -999.0,9,     -999.0,9,     -999.0,9,     -999.0,9,     -999.0,9
33RO20161119,        P18,     211,          1,          9,      11108,2,20170127,       2343,   -70.0012,  -100.2423,       4099,  1685.4,   0.9960,  34.7197,2,  34.7176,2,    198.3,2,   198.3,2,   114.4,2,    32.5,2,    0.01,2,   2.230,2,   0.1104,2,   0.0535,2,   0.0000,2,  2261.2,2,  2364.0,2,   7.5915,2,    25.00, -999.00,9,  -999.0,9,  -999.0,   0.1872,2, -999.00,9,  -999.0,9, -999.00,9, -999.00,9,     18.815,2, -999.00,9,  -999.0,9,     -999.0,     -999.0,9,     -999.0,9,     -999.0,     -999.0,9,     -999.0,     -999.0,9,     -999.0,     -999.0,     -999.0,9,     -999.0,9,     -999.0,9,     -999.0,9,     -999.0,9,     -999.0,9,     -999.0,9,     -999.0,9
33RO20161119,        P18,     211,          1,         10,      11109,2,20170127,       2343,   -70.0012,  -100.2423,       4099,  1470.5,   1.1003,  34.7234,2,  34.7226,2,    196.1,2,   196.2,2,   111.0,2,    32.4,2,    0.02,2,   2.221,2,   0.1056,2,   0.0508,2,   0.0000,2,  2260.0,2,  2356.4,2,   7.5907,6,    25.00, -999.00,9,  -999.0,9,  -999.0,   0.2258,2, -999.00,9,  -999.0,9, -999.00,9, -999.00,9,    18.6681,2, -999.00,9,  -999.0,9,     -999.0,     -999.0,9,     -999.0,9,     -999.0,     -999.0,9,     -999.0,     -999.0,9,     -999.0,     -999.0,     -999.0,9,     -999.0,9,     -999.0,9,     -999.0,9,     -999.0,9,     -999.0,9,     -999.0,9,     -999.0,9
33RO20161119,        P18,     211,          1,         11,      11110,2,20170127,       2343,   -70.0012,  -100.2423,       4099,  1315.0,   1.2007,  34.7267,2,  34.7250,2,    193.8,2,   194.5,2,   107.8,2,    32.4,2,    0.02,2,   2.222,2,   0.1112,2,   0.0540,2,   0.0294,2,  2260.7,2,  2360.6,2,   7.6000,4,    25.00, -999.00,9,  -999.0,9,  -999.0,   0.2641,2, -999.00,9,  -999.0,9, -999.00,9, -999.00,9,    18.9698,2, -999.00,9,  -999.0,9,     -999.0,     -999.0,9,     -999.0,9,     -999.0,     -999.0,9,     -999.0,     -999.0,9,     -999.0,     -999.0,     -999.0,9,     -999.0,9,     -999.0,9,     -999.0,9,     -999.0,9,     -999.0,9,     -999.0,9,     -999.0,9
33RO20161119,        P18,     211,          1,         12,      11111,2,20170127,       2343,   -70.0012,  -100.2423,       4099,  1175.1,   1.2924,  34.7294,2,  34.7275,2,    191.8,2,   193.0,2,   104.9,2,    32.3,2,    0.02,2,   2.200,2,   0.1212,2,   0.0583,2,   0.0272,2,  2258.9,2,  2356.1,2,   7.5879,2,    25.00, -999.00,9,  -999.0,9,  -999.0,    0.253,2, -999.00,9,  -999.0,9, -999.00,9, -999.00,9,    19.0057,2, -999.00,9,  -999.0,9,     -999.0,     -999.0,9,     -999.0,9,     -999.0,     -999.0,9,     -999.0,     -999.0,9,     -999.0,     -999.0,     -999.0,9,     -999.0,9,     -999.0,9,     -999.0,9,     -999.0,9,     -999.0,9,     -999.0,9,     -999.0,9
33RO20161119,        P18,     211,          1,         13,      11112,2,20170127,       2343,   -70.0012,  -100.2423,       4099,  1035.1,   1.4032,  34.7317,2,  34.7312,2,    190.4,2,   190.2,2,   101.4,2,    32.2,2,    0.02,2,   2.212,2,   0.1372,2,   0.0663,2,   0.0508,2,  2258.2,2,  2357.6,2,   7.5873,2,    25.00, -999.00,9,  -999.0,9,  -999.0,    0.289,2, -999.00,9,  -999.0,9, -999.00,9, -999.00,9,    19.1901,2, -999.00,9,  -999.0,9,     -999.0,     -999.0,9,     -999.0,9,     -999.0,     -999.0,9,     -999.0,     -999.0,9,     -999.0,     -999.0,     -999.0,9,     -999.0,9,     -999.0,9,     -999.0,9,     -999.0,9,     -999.0,9,     -999.0,9,     -999.0,9
33RO20161119,        P18,     211,          1,         14,      11113,2,20170127,       2343,   -70.0012,  -100.2423,       4099,   900.2,   1.5083,  34.7330,2,  34.7336,2,    188.4,2,   188.9,2,    98.4,2,    32.1,2,    0.02,2,   2.198,2,   0.1521,2,   0.0728,2,   0.0274,2,  2257.2,2,  2358.3,2,   7.5864,2,    25.00, -999.00,9,  -999.0,9,  -999.0,   0.3269,2, -999.00,9,  -999.0,9, -999.00,9, -999.00,9,     19.428,2, -999.00,9,  -999.0,9,     -999.0,     -999.0,9,     -999.0,9,     -999.0,     -999.0,9,     -999.0,     -999.0,9,     -999.0,     -999.0,     -999.0,9,     -999.0,9,     -999.0,9,     -999.0,9,     -999.0,9,     -999.0,9,     -999.0,9,     -999.0,9
33RO20161119,        P18,     211,          1,         15,      11114,2,20170127,       2343,   -70.0012,  -100.2423,       4099,   764.5,   1.6092,  34.7322,2,  34.7304,2,    185.3,2,   185.8,2,    95.6,2,    32.4,2,    0.02,2,   2.206,2,   0.1767,2,   0.0858,2,   0.0495,2,  2257.1,2,  2352.6,2,   7.5806,2,    25.00, -999.00,9,  -999.0,9,  -999.0,   0.4664,2, -999.00,9,  -999.0,9, -999.00,9, -999.00,9,    19.7464,2, -999.00,9,  -999.0,9,     -999.0,     -999.0,9,     -999.0,9,     -999.0,     -999.0,9,     -999.0,     -999.0,9,     -999.0,     -999.0,     -999.0,9,     -999.0,9,     -999.0,9,     -999.0,9,     -999.0,9,     -999.0,9,     -999.0,9,     -999.0,9
33RO20161119,        P18,     211,          1,         16,      11115,2,20170127,       2343,   -70.0012,  -100.2423,       4099,   630.4,   1.7187,  34.7283,2,  34.7265,2,    182.6,2,   182.4,2,    92.3,2,    32.5,2,    0.02,2,   2.209,2,   0.2123,2,   0.1032,2,   0.0294,2,  2256.6,2,  2349.2,2,   7.5731,2,    25.00, -999.00,9,  -999.0,9,  -999.0,    0.762,2, -999.00,9,  -999.0,9, -999.00,9, -999.00,9,    20.1123,2, -999.00,9,  -999.0,9,     -999.0,     -999.0,9,     -999.0,9,     -999.0,     -999.0,9,     -999.0,     -999.0,9,     -999.0,     -999.0,     -999.0,9,     -999.0,9,     -999.0,9,     -999.0,9,     -999.0,9,     -999.0,9,     -999.0,9,     -999.0,9
33RO20161119,        P18,     211,          1,         17,      11116,2,20170127,       2343,   -70.0012,  -100.2423,       4099,   525.3,   1.8209,  34.7230,2,  34.7206,2,    181.2,2,   180.9,2,    89.5,2,    32.5,2,    0.02,2,   2.213,2,   0.2293,2,   0.1118,2,   0.0438,2,  2256.6,2,  2347.4,2,   7.5717,2,    25.00, -999.00,9,  -999.0,9,  -999.0,   1.5335,2, -999.00,9,  -999.0,9, -999.00,9, -999.00,9,    20.3751,2, -999.00,9,  -999.0,9,     -999.0,     -999.0,9,     -999.0,9,     -999.0,     -999.0,9,     -999.0,     -999.0,9,     -999.0,     -999.0,     -999.0,9,     -999.0,9,     -999.0,9,     -999.0,9,     -999.0,9,     -999.0,9,     -999.0,9,     -999.0,9
33RO20161119,        P18,     211,          1,         18,      11117,2,20170127,       2343,   -70.0012,  -100.2423,       4099,   410.4,   1.9018,  34.7116,2,  34.7090,2,    177.5,2,   177.7,6,    87.0,2,    32.8,2,    0.02,2,   2.238,2,   0.2727,6,   0.1346,6,   0.0798,6,  2257.4,2,  2345.1,2,   7.5665,2,    25.00, -999.00,9,  -999.0,9,  -999.0,   5.0631,2, -999.00,9,  -999.0,9, -999.00,9, -999.00,9,    20.6535,2, -999.00,9,  -999.0,9,     -999.0,     -999.0,9,     -999.0,9,     -999.0,     -999.0,9,     -999.0,     -999.0,9,     -999.0,     -999.0,     -999.0,9,     -999.0,9,     -999.0,9,     -999.0,9,     -999.0,9,     -999.0,9,     -999.0,9,     -999.0,9
33RO20161119,        P18,     211,          1,         19,      11083,2,20170127,       2343,   -70.0012,  -100.2423,       4099,   315.3,   1.9139,  34.6890,2,  34.6864,2,    173.6,2,   173.7,2,    85.6,2,    33.5,2,    0.02,2,   2.274,2,   0.3829,2,   0.1909,2,   0.0995,2,  2258.9,6,  2342.5,2,   7.5526,2,    25.00, -999.00,9,  -999.0,9,  -999.0,   6.6832,2, -999.00,9,  -999.0,9, -999.00,9, -999.00,9,    21.1732,2, -999.00,9,  -999.0,9,     -999.0,     -999.0,9,     -999.0,9,     -999.0,     -999.0,9,     -999.0,     -999.0,9,     -999.0,     -999.0,     -999.0,9,     -999.0,9,     -999.0,9,     -999.0,9,     -999.0,9,     -999.0,9,     -999.0,9,     -999.0,9
33RO20161119,        P18,     211,          1,         20,      11118,2,20170127,       2343,   -70.0012,  -100.2423,       4099,   225.0,   1.7151,  34.6315,2,  34.6304,2,    176.4,2,   174.9,2,    83.5,2,    34.1,2,    0.02,2,   2.314,2,   0.7006,2,   0.3566,2,   0.2536,2,  2258.6,2,  2338.2,6,   7.5390,2,    25.00, -999.00,9,  -999.0,9,  -999.0,-999.0000,5, -999.00,9,  -999.0,9, -999.00,9, -999.00,9,    21.9942,2, -999.00,9,  -999.0,9,     -999.0,     -999.0,9,     -999.0,9,     -999.0,     -999.0,9,     -999.0,     -999.0,9,     -999.0,     -999.0,     -999.0,9,     -999.0,9,     -999.0,9,     -999.0,9,     -999.0,9,     -999.0,9,     -999.0,9,     -999.0,9
33RO20161119,        P18,     211,          1,         21,      11119,2,20170127,       2343,   -70.0012,  -100.2423,       4099,   145.0,   0.6013,  34.4688,2,  34.4756,2,    206.3,2,   203.8,2,    81.2,2,    33.6,2,    0.03,2,   2.293,2,   1.7654,2,   0.9366,2,   0.9125,2,  2248.4,2,  2329.8,2,   7.5418,2,    25.00, -999.00,9,  -999.0,9,  -999.0,-999.0000,5, -999.00,9,  -999.0,9, -999.00,9, -999.00,9,    21.0991,2, -999.00,9,  -999.0,9,     -999.0,     -999.0,9,     -999.0,9,     -999.0,     -999.0,9,     -999.0,     -999.0,9,     -999.0,     -999.0,     -999.0,9,     -999.0,9,     -999.0,9,     -999.0,9,     -999.0,9,     -999.0,9,     -999.0,9,     -999.0,9
33RO20161119,        P18,     211,          1,         22,      11120,2,20170127,       2343,   -70.0012,  -100.2423,       4099,    70.1,  -1.6854,  34.1209,2,  34.1215,2,    297.7,2,   299.2,2,    67.6,2,    30.5,2,    0.19,2,   2.123,2,   4.6783,2,   2.5081,2,   2.6959,2,  2212.5,2,  2309.4,6,   7.5971,2,    25.00, -999.00,9,  -999.0,9,  -999.0,-999.0000,5, -999.00,9,  -999.0,9, -999.00,9, -999.00,9,    17.8503,2, -999.00,9,  -999.0,9,     -999.0,     -999.0,9,     -999.0,9,     -999.0,     -999.0,9,     -999.0,     -999.0,9,     -999.0,     -999.0,     -999.0,9,     -999.0,9,     -999.0,9,     -999.0,9,     -999.0,9,     -999.0,9,     -999.0,9,     -999.0,9
33RO20161119,        P18,     211,          1,         23,      11121,2,20170127,       2343,   -70.0012,  -100.2423,       4099,    30.3,  -1.5671,  33.9760,2,  33.9789,2,    320.5,2,   320.1,2,    60.9,2,    28.8,2,    0.17,2,   2.024,2,   4.9910,2,   2.6822,2,   2.9316,2,  2193.1,2,  2298.8,2,   7.6272,2,    25.00, -999.00,9,  -999.0,9,  -999.0,-999.0000,5, -999.00,9,  -999.0,9, -999.00,9, -999.00,9,    17.5179,2, -999.00,9,  -999.0,9,     -999.0,     -999.0,9,     -999.0,9,     -999.0,     -999.0,9,     -999.0,     -999.0,9,     -999.0,     -999.0,     -999.0,9,     -999.0,9,     -999.0,9,     -999.0,9,     -999.0,9,     -999.0,9,     -999.0,9,     -999.0,9
33RO20161119,        P18,     211,          1,         24,      11122,2,20170127,       2343,   -70.0012,  -100.2423,       4099,     3.1,  -0.3174,  32.3107,2,  32.3543,2,    350.0,2,   348.9,2,    44.8,2,    24.4,2,    0.36,2,   1.630,2,   5.9748,2,   3.2103,2,   3.6171,2,  2075.9,6,  2189.8,2,   7.6760,2,    25.00, -999.00,9,  -999.0,9,  -999.0,-999.0000,5, -999.00,9,  -999.0,9, -999.00,9, -999.00,9,    15.4805,2, -999.00,9,  -999.0,9,     -999.0,     -999.0,9,     -999.0,9,     -999.0,     -999.0,9,     -999.0,     -999.0,9,     -999.0,     -999.0,     -999.0,9,     -999.0,9,     -999.0,9,     -999.0,9,     -999.0,9,     -999.0,9,     -999.0,9,     -999.0,9