BOTTLE,20230606CCHSIOCBG
EXPOCODE,SECT_ID,STNNBR,CASTNO,SAMPNO,BTLNBR,BTLNBR_FLAG_W,DATE,TIME,LATITUDE,LONGITUDE,DEPTH,CTDPRS,CTDTMP,CTDSAL,CTDSAL_FLAG_W,SALNTY,SALNTY_FLAG_W,CTDOXY,CTDOXY_FLAG_W,OXYGEN,OXYGEN_FLAG_W,SILCAT,SILCAT_FLAG_W,NITRAT,NITRAT_FLAG_W,NITRIT,NITRIT_FLAG_W,PHSPHT,PHSPHT_FLAG_W,CFC-11,CFC-11_FLAG_W,CFC-12,CFC-12_FLAG_W,SF6,SF6_FLAG_W,TCARBN,TCARBN_FLAG_W,ALKALI,ALKALI_FLAG_W,PH_SWS,PH_SWS_FLAG_W,PH_TMP,DELC13,DELC13_FLAG_W,DELC14,DELC14_FLAG_W,C14ERR,CCL4,CCL4_FLAG_W,POC,POC_FLAG_W,DOC,DOC_FLAG_W,TDN,TDN_FLAG_W,PON,PON_FLAG_W,N2O,N2O_FLAG_W,D15N_NO3,D15N_NO3_FLAG_W,14C-DOC,14C-DOC_FLAG_W,14C-DOCERR,13C-DOC,13C-DOC_FLAG_W,N2/ARGON_UNSTRIPPED,N2/ARGON_UNSTRIPPED_FLAG_W,N2/ARGON_UNSTRIPPED_ERROR,N2/ARGON,N2/ARGON_FLAG_W,N2/ARGON_ERROR,D15N_N2,D15N_N2_FLAG_W,D15N_N2_ERROR,D15N_NO3_ERROR,D15N_NO2+NO3,D15N_NO2+NO3_FLAG_W,D18O_NO2+NO3,D18O_NO2+NO3_FLAG_W,D18O_NO3,D18O_NO3_FLAG_W,TDP,TDP_FLAG_W,N2O_ALT_1,N2O_ALT_1_FLAG_W,D15N_N2O,D15N_N2O_FLAG_W,D18O_N2O,D18O_N2O_FLAG_W,D15N_ALPHA_N2O,D15N_ALPHA_N2O_FLAG_W
,,,,,,,,,,,METERS,DBAR,ITS-90,PSS-78,,PSS-78,,UMOL/KG,,UMOL/KG,,UMOL/KG,,UMOL/KG,,UMOL/KG,,UMOL/KG,,PMOL/KG,,PMOL/KG,,FMOL/KG,,UMOL/KG,,UMOL/KG,,,,DEG C,/MILLE,,/MILLE,,/MILLE,PMOL/KG,,UG/KG,,UMOL/KG,,UMOL/KG,,UG/KG,,NMOL/KG,,/MILLE,,/MILLE,,/MILLE,/MILLE,,,,,,,,/MILLE,,/MILLE,/MILLE,/MILLE,,/MILLE,,/MILLE,,UMOL/KG,,NMOL/L,,/MILLE,,/MILLE,,/MILLE,
33RO20161119,        P18,      21,          1,          1,      11010,2,20161129,       0948,    14.0000,  -110.0001,       3184,  3160.5,   1.6757,  34.6748,2,  34.6753,2,    122.6,2,   125.1,2,   154.5,6,    38.0,6,    0.02,6,   2.599,6,   0.0051,2,   0.0040,2,   0.0000,2,  2351.4,6,  2431.9,2,   7.5644,3,    25.00, -999.00,9,  -999.0,9,  -999.0,   0.0266,2, -999.00,9,    38.0,2,   40.80,2, -999.00,9,    22.3413,2, -999.00,9,  -999.0,9,     -999.0,     -999.0,9,     -999.0,9,     -999.0,     -999.0,9,     -999.0,     -999.0,9,     -999.0,     -999.0,     -999.0,9,     -999.0,9,     -999.0,9,     -999.0,9,     -999.0,9,     -999.0,9,     -999.0,9,     -999.0,9
33RO20161119,        P18,      21,          1,          2,      11101,2,20161129,       0948,    14.0000,  -110.0001,       3184,  2980.9,   1.7206,  34.6716,2,  34.6702,2,    117.7,2,   116.1,2,   154.5,6,    38.3,6,    0.02,6,   2.627,6,-999.0000,9,-999.0000,9,-999.0000,9,  2353.5,2,  2428.7,6,   7.5195,2,    25.00, -999.00,9,  -999.0,9,  -999.0,-999.0000,9, -999.00,9,    38.5,2,   41.80,2, -999.00,9,     -999.0,9, -999.00,9,  -999.0,9,     -999.0,     -999.0,9,     -999.0,9,     -999.0,     -999.0,9,     -999.0,     -999.0,9,     -999.0,     -999.0,     -999.0,9,     -999.0,9,     -999.0,9,     -999.0,9,     -999.0,9,     -999.0,9,     -999.0,9,     -999.0,9
33RO20161119,        P18,      21,          1,          3,      11102,2,20161129,       0948,    14.0000,  -110.0001,       3184,  2801.7,   1.7609,  34.6691,2,  34.6668,2,    114.2,2,   113.5,2,   154.7,6,    38.5,6,    0.02,6,   2.643,6,-999.0000,9,-999.0000,9,-999.0000,9,  2355.3,2,  2430.1,2,   7.5134,2,    25.00, -999.00,9,  -999.0,9,  -999.0,-999.0000,9, -999.00,9,    39.3,2,   40.60,2, -999.00,9,     -999.0,9, -999.00,9,  -999.0,9,     -999.0,     -999.0,9,     -999.0,9,     -999.0,     -999.0,9,     -999.0,     -999.0,9,     -999.0,     -999.0,     -999.0,9,     -999.0,9,     -999.0,9,     -999.0,9,     -999.0,9,     -999.0,9,     -999.0,9,     -999.0,9
33RO20161119,        P18,      21,          1,          4,      11103,2,20161129,       0948,    14.0000,  -110.0001,       3184,  2549.7,   1.8595,  34.6645,2,  34.6619,2,    107.1,2,   106.8,2,   152.9,6,    38.9,6,    0.03,6,   2.690,6,-999.0000,9,-999.0000,9,-999.0000,9,  2360.8,2,  2414.5,3,   7.5080,2,    25.00, -999.00,9,  -999.0,9,  -999.0,-999.0000,9, -999.00,9,    38.9,2,   42.00,2, -999.00,9,     -999.0,9, -999.00,9,  -999.0,9,     -999.0,     -999.0,9,     -999.0,9,     -999.0,     -999.0,9,     -999.0,     -999.0,9,     -999.0,     -999.0,     -999.0,9,     -999.0,9,     -999.0,9,     -999.0,9,     -999.0,9,     -999.0,9,     -999.0,9,     -999.0,9
33RO20161119,        P18,      21,          1,          5,      11104,2,20161129,       0948,    14.0000,  -110.0001,       3184,  2274.5,   1.9803,  34.6568,2,  34.6541,2,     99.8,2,    99.4,2,   151.0,2,    39.6,2,    0.03,2,   2.728,2,   0.0027,6,   0.0014,6,   0.0281,6,  2362.2,2,  2426.3,2,   7.4887,2,    25.00, -999.00,9,  -999.0,9,  -999.0,        0,2, -999.00,9,    39.3,2,   44.10,2, -999.00,9,    25.0902,2, -999.00,9,  -999.0,9,     -999.0,     -999.0,9,     -999.0,9,     -999.0,     -999.0,9,     -999.0,     -999.0,9,     -999.0,     -999.0,     -999.0,9,     -999.0,9,     -999.0,9,     -999.0,9,     -999.0,9,     -999.0,9,     -999.0,9,     -999.0,9
33RO20161119,        P18,      21,          1,          6,      11105,2,20161129,       0948,    14.0000,  -110.0001,       3184,  2040.6,   2.1942,  34.6446,2,  34.6423,2,     88.5,2,    88.9,6,   146.9,2,    40.3,2,    0.02,2,   2.788,2,-999.0000,9,-999.0000,9,-999.0000,9,  2362.8,2,  2423.6,2,   7.4702,2,    25.00, -999.00,9,  -999.0,9,  -999.0,-999.0000,9, -999.00,9,    38.2,2,   43.00,2, -999.00,9,     -999.0,9, -999.00,9,  -999.0,9,     -999.0,     -999.0,9,     -999.0,9,     -999.0,     -999.0,9,     -999.0,     -999.0,9,     -999.0,     -999.0,     -999.0,9,     -999.0,9,     -999.0,9,     -999.0,9,     -999.0,9,     -999.0,9,     -999.0,9,     -999.0,9
33RO20161119,        P18,      21,          1,          7,      11106,2,20161129,       0948,    14.0000,  -110.0001,       3184,  1747.9,   2.6094,  34.6238,2,  34.6348,4,     69.6,2,    69.2,2,   138.9,2,    41.8,2,    0.02,2,   2.938,2,-999.0000,9,-999.0000,9,-999.0000,9,  2364.4,2,  2409.4,2,   7.4251,2,    25.00, -999.00,9,  -999.0,9,  -999.0,-999.0000,9, -999.00,9,    38.1,2,   45.50,2, -999.00,9,     -999.0,9, -999.00,9,  -999.0,9,     -999.0,     -999.0,9,     -999.0,9,     -999.0,     -999.0,9,     -999.0,     -999.0,9,     -999.0,     -999.0,     -999.0,9,     -999.0,9,     -999.0,9,     -999.0,9,     -999.0,9,     -999.0,9,     -999.0,9,     -999.0,9
33RO20161119,        P18,      21,          1,          8,      11107,2,20161129,       0948,    14.0000,  -110.0001,       3184,  1518.1,   3.0786,  34.6031,2,  34.6030,2,     52.3,2,    53.0,2,   128.5,2,    43.1,2,    0.02,2,   3.055,2,-999.0000,9,-999.0000,9,-999.0000,9,  2365.6,6,  2399.3,2,   7.3942,2,    25.00, -999.00,9,  -999.0,9,  -999.0,-999.0000,9, -999.00,9,    38.6,2,   48.00,2, -999.00,9,     -999.0,9, -999.00,9,  -999.0,9,     -999.0,     -999.0,9,     -999.0,9,     -999.0,     -999.0,9,     -999.0,     -999.0,9,     -999.0,     -999.0,     -999.0,9,     -999.0,9,     -999.0,9,     -999.0,9,     -999.0,9,     -999.0,9,     -999.0,9,     -999.0,9
33RO20161119,        P18,      21,          1,          9,      11108,2,20161129,       0948,    14.0000,  -110.0001,       3184,  1270.9,   3.7040,  34.5809,2,  34.5773,2,     30.6,2,    30.8,2,   114.8,2,    44.5,2,    0.02,2,   3.204,2,-999.0000,9,-999.0000,9,-999.0000,9,  2364.3,2,  2381.1,2,   7.3507,2,    25.00, -999.00,9,  -999.0,9,  -999.0,-999.0000,9, -999.00,9,    40.1,2,   49.60,2, -999.00,9,     -999.0,9, -999.00,9,  -999.0,9,     -999.0,     -999.0,9,     -999.0,9,     -999.0,     -999.0,9,     -999.0,     -999.0,9,     -999.0,     -999.0,     -999.0,9,     -999.0,9,     -999.0,9,     -999.0,9,     -999.0,9,     -999.0,9,     -999.0,9,     -999.0,9
33RO20161119,        P18,      21,          1,         10,      11109,2,20161129,       0948,    14.0000,  -110.0001,       3184,  1110.7,   4.1855,  34.5652,2,  34.5713,2,     19.9,2,    19.8,6,   105.9,2,    45.3,2,    0.02,2,   3.270,2,-999.0000,9,-999.0000,9,-999.0000,9,  2360.9,2,  2372.4,2,   7.3269,2,    25.00, -999.00,9,  -999.0,9,  -999.0,-999.0000,9, -999.00,9,    39.9,2,   48.70,2, -999.00,9,     -999.0,9, -999.00,9,  -999.0,9,     -999.0,     -999.0,9,     -999.0,9,     -999.0,     -999.0,9,     -999.0,     -999.0,9,     -999.0,     -999.0,     -999.0,9,     -999.0,9,     -999.0,9,     -999.0,9,     -999.0,9,     -999.0,9,     -999.0,9,     -999.0,9
33RO20161119,        P18,      21,          1,         11,      11110,2,20161129,       0948,    14.0000,  -110.0001,       3184,   991.2,   4.7257,  34.5566,2,  34.5542,2,      9.8,2,    10.6,2,    95.3,2,    45.5,2,    0.02,2,   3.300,2,-999.0000,9,-999.0000,9,-999.0000,9,  2355.7,2,  2365.4,6,   7.3116,2,    25.00, -999.00,9,  -999.0,9,  -999.0,-999.0000,9, -999.00,9,    41.6,2,   50.00,2, -999.00,9,     -999.0,9, -999.00,9,  -999.0,9,     -999.0,     -999.0,9,     -999.0,9,     -999.0,     -999.0,9,     -999.0,     -999.0,9,     -999.0,     -999.0,     -999.0,9,     -999.0,9,     -999.0,9,     -999.0,9,     -999.0,9,     -999.0,9,     -999.0,9,     -999.0,9
33RO20161119,        P18,      21,          1,         12,      11111,2,20161129,       0948,    14.0000,  -110.0001,       3184,   879.7,   5.1818,  34.5518,2,  34.5505,2,      5.1,2,  -999.0,9,    87.7,2,    45.0,2,    0.02,2,   3.296,2,-999.0000,9,-999.0000,9,-999.0000,9,  2347.8,2,  2353.7,2,   7.3074,2,    25.00, -999.00,9,  -999.0,9,  -999.0,-999.0000,9, -999.00,9,    38.3,2,   49.30,2, -999.00,9,     -999.0,9, -999.00,9,  -999.0,9,     -999.0,     -999.0,9,     -999.0,9,     -999.0,     -999.0,9,     -999.0,     -999.0,9,     -999.0,     -999.0,     -999.0,9,     -999.0,9,     -999.0,9,     -999.0,9,     -999.0,9,     -999.0,9,     -999.0,9,     -999.0,9
33RO20161119,        P18,      21,          1,         13,      11112,2,20161129,       0948,    14.0000,  -110.0001,       3184,   769.6,   5.6876,  34.5507,2,  34.5485,2,      2.5,2,  -999.0,9,    80.6,2,    43.5,2,    0.03,2,   3.272,2,   0.0148,2,   0.0098,2,   0.0341,2,  2341.0,2,  2346.1,2,   7.3086,2,    25.00, -999.00,9,  -999.0,9,  -999.0,   0.0128,2, -999.00,9,    40.4,2,   46.50,2, -999.00,9,     57.041,2, -999.00,9,  -999.0,9,     -999.0,     -999.0,9,     -999.0,9,     -999.0,     -999.0,9,     -999.0,     -999.0,9,     -999.0,     -999.0,     -999.0,9,     -999.0,9,     -999.0,9,     -999.0,9,     -999.0,9,     -999.0,9,     -999.0,9,     -999.0,9
33RO20161119,        P18,      21,          1,         14,      11113,2,20161129,       0948,    14.0000,  -110.0001,       3184,   670.2,   6.1951,  34.5456,2,  34.5458,2,      2.3,2,     2.6,2,    73.9,2,    41.4,2,    0.02,2,   3.216,2,-999.0000,9,-999.0000,9,-999.0000,9,  2332.8,2,  2338.6,2,   7.3171,6,    25.00, -999.00,9,  -999.0,9,  -999.0,-999.0000,9, -999.00,9,    42.2,2,   45.30,2, -999.00,9,     -999.0,9, -999.00,9,  -999.0,9,     -999.0,     -999.0,9,     -999.0,9,     -999.0,     -999.0,9,     -999.0,     -999.0,9,     -999.0,     -999.0,     -999.0,9,     -999.0,9,     -999.0,9,     -999.0,9,     -999.0,9,     -999.0,9,     -999.0,9,     -999.0,9
33RO20161119,        P18,      21,          1,         15,      11114,2,20161129,       0948,    14.0000,  -110.0001,       3184,   570.0,   7.0891,  34.5456,2,  34.5431,2,      2.7,2,     3.1,2,    63.8,2,    37.8,2,    0.02,2,   3.110,2,   0.0168,2,   0.0087,2,   0.0000,2,  2317.3,2,  2326.7,2,   7.3289,2,    25.00, -999.00,9,  -999.0,9,  -999.0,   0.0121,2, -999.00,9,    44.2,2,   41.70,2, -999.00,9,    30.4058,2, -999.00,9,  -999.0,9,     -999.0,     -999.0,9,     -999.0,9,     -999.0,     -999.0,9,     -999.0,     -999.0,9,     -999.0,     -999.0,     -999.0,9,     -999.0,9,     -999.0,9,     -999.0,9,     -999.0,9,     -999.0,9,     -999.0,9,     -999.0,9
33RO20161119,        P18,      21,          1,         16,      11115,2,20161129,       0948,    14.0000,  -110.0001,       3184,   474.4,   7.9964,  34.5727,2,  34.5717,2,      2.2,2,     2.5,2,    54.8,2,    33.7,2,    0.02,2,   3.001,2,-999.0000,9,-999.0000,9,-999.0000,9,  2309.0,2,  2319.1,2,   7.3379,2,    25.00, -999.00,9,  -999.0,9,  -999.0,-999.0000,9, -999.00,9,    41.4,2,   37.50,2, -999.00,9,     -999.0,9, -999.00,9,  -999.0,9,     -999.0,     -999.0,9,     -999.0,9,     -999.0,     -999.0,9,     -999.0,     -999.0,9,     -999.0,     -999.0,     -999.0,9,     -999.0,9,     -999.0,9,     -999.0,9,     -999.0,9,     -999.0,9,     -999.0,9,     -999.0,9
33RO20161119,        P18,      21,          1,         17,      11116,2,20161129,       0948,    14.0000,  -110.0001,       3184,   389.7,   9.1505,  34.6182,2,  34.6199,2,      2.2,2,     2.3,2,    44.7,2,    30.0,2,    0.15,2,   2.850,2,-999.0000,9,-999.0000,9,-999.0000,9,  2296.0,2,  2311.8,2,   7.3531,2,    25.00, -999.00,9,  -999.0,9,  -999.0,-999.0000,9, -999.00,9,    42.6,2,   32.20,2, -999.00,9,     -999.0,9, -999.00,9,  -999.0,9,     -999.0,     -999.0,9,     -999.0,9,     -999.0,     -999.0,9,     -999.0,     -999.0,9,     -999.0,     -999.0,     -999.0,9,     -999.0,9,     -999.0,9,     -999.0,9,     -999.0,9,     -999.0,9,     -999.0,9,     -999.0,9
33RO20161119,        P18,      21,          1,         18,      11117,2,20161129,       0948,    14.0000,  -110.0001,       3184,   305.0,  10.0845,  34.6626,2,  34.6609,2,      2.3,2,     2.2,2,    37.4,2,    28.5,2,    0.47,2,   2.720,2,   0.2546,2,   0.1509,2,   0.0815,2,  2285.7,2,  2304.9,2,   7.3633,2,    25.00, -999.00,9,  -999.0,9,  -999.0,   0.2153,2, -999.00,9,    43.6,2,   31.50,2, -999.00,9,    10.8588,2, -999.00,9,  -999.0,9,     -999.0,     -999.0,9,     -999.0,9,     -999.0,     -999.0,9,     -999.0,     -999.0,9,     -999.0,     -999.0,     -999.0,9,     -999.0,9,     -999.0,9,     -999.0,9,     -999.0,9,     -999.0,9,     -999.0,9,     -999.0,9
33RO20161119,        P18,      21,          1,         19,      11083,2,20161129,       0948,    14.0000,  -110.0001,       3184,   230.4,  11.1298,  34.7176,2,  34.7193,2,      2.2,2,     3.8,2,    31.9,2,    26.6,2,    1.39,2,   2.589,2,   0.5475,2,   0.3135,2,   0.1906,2,  2276.7,2,  2299.8,2,   7.3819,2,    25.00, -999.00,9,  -999.0,9,  -999.0,   0.0529,2, -999.00,9,    46.8,2,   30.80,2, -999.00,9,     9.0833,2, -999.00,9,  -999.0,9,     -999.0,     -999.0,9,     -999.0,9,     -999.0,     -999.0,9,     -999.0,     -999.0,9,     -999.0,     -999.0,     -999.0,9,     -999.0,9,     -999.0,9,       2.84,2,     -999.0,9,     -999.0,9,     -999.0,9,     -999.0,9
33RO20161119,        P18,      21,          1,         20,      11118,2,20161129,       0948,    14.0000,  -110.0001,       3184,   165.1,  11.9695,  34.7537,2,  34.7545,2,      2.4,2,     2.9,2,    29.3,2,    25.1,2,    1.93,2,   2.538,2,   0.7906,2,   0.4621,2,   0.1941,2,  2268.7,2,  2299.4,2,   7.4011,2,    25.00, -999.00,9,  -999.0,9,  -999.0,   0.2056,2, -999.00,9,    48.0,2,   30.20,2, -999.00,9,     6.6819,2, -999.00,9,  -999.0,9,     -999.0,     -999.0,9,     -999.0,9,     -999.0,     -999.0,9,     -999.0,     -999.0,9,     -999.0,     -999.0,     -999.0,9,     -999.0,9,     -999.0,9,       2.67,2,     -999.0,9,     -999.0,9,     -999.0,9,     -999.0,9
33RO20161119,        P18,      21,          1,         21,      11119,2,20161129,       0948,    14.0000,  -110.0001,       3184,   109.5,  13.7214,  34.7616,2,  34.7655,2,      2.9,2,     2.8,2,    25.4,2,    22.4,2,    1.02,2,   2.512,2,   1.1275,2,   0.6647,2,   0.3637,2,  2260.3,2,  2297.9,2,   7.4225,2,    25.00, -999.00,9,  -999.0,9,  -999.0,   0.5169,2, -999.00,9,    48.1,2,   25.40,2, -999.00,9,    11.5177,2, -999.00,9,  -999.0,9,     -999.0,     -999.0,9,     -999.0,9,     -999.0,     -999.0,9,     -999.0,     -999.0,9,     -999.0,     -999.0,     -999.0,9,     -999.0,9,     -999.0,9,       2.64,2,     -999.0,9,     -999.0,9,     -999.0,9,     -999.0,9
33RO20161119,        P18,      21,          1,         22,      11120,2,20161129,       0948,    14.0000,  -110.0001,       3184,    59.9,  21.1859,  34.5013,2,  34.5082,2,     85.2,2,    73.4,2,     8.1,2,    14.8,2,    0.62,2,   1.545,2,   1.6759,2,   1.0149,2,   1.0566,2,  2149.9,2,  2277.1,2,   7.6896,2,    25.00, -999.00,9,  -999.0,9,  -999.0,   1.9128,2, -999.00,9,    65.0,2,   18.50,2, -999.00,9,    52.0952,2, -999.00,9,  -999.0,9,     -999.0,     -999.0,9,     -999.0,9,     -999.0,     -999.0,9,     -999.0,     -999.0,9,     -999.0,     -999.0,     -999.0,9,     -999.0,9,     -999.0,9,       1.78,2,     -999.0,9,     -999.0,9,     -999.0,9,     -999.0,9
33RO20161119,        P18,      21,          1,         23,      11121,2,20161129,       0948,    14.0000,  -110.0001,       3184,    25.0,  29.4329,  33.5633,2,  33.6187,2,    196.4,2,   196.1,2,     0.8,2,     0.0,2,    0.02,2,   0.187,2,   1.4389,2,   0.9098,2,   1.3248,2,  1903.1,2,  2218.8,2,   8.0971,6,    25.00, -999.00,9,  -999.0,9,  -999.0,   1.7174,2, -999.00,9,    81.3,2,    5.50,2, -999.00,9,      6.857,2, -999.00,9,  -999.0,9,     -999.0,     -999.0,9,     -999.0,9,     -999.0,     -999.0,9,     -999.0,     -999.0,9,     -999.0,     -999.0,     -999.0,9,     -999.0,9,     -999.0,9,       0.53,2,     -999.0,9,     -999.0,9,     -999.0,9,     -999.0,9
33RO20161119,        P18,      21,          1,         24,      11122,2,20161129,       0948,    14.0000,  -110.0001,       3184,     2.6,  29.4202,  33.5657,2,  33.5638,2,    195.9,2,   195.7,2,     0.7,2,     0.0,2,    0.02,2,   0.165,2,   1.4259,2,   0.9031,2,   1.3260,2,  1897.9,6,  2213.8,6,   8.1014,2,    25.00, -999.00,9,  -999.0,9,  -999.0,        0,2, -999.00,9,    81.8,2,    4.90,2, -999.00,9,      6.295,2, -999.00,9,  -999.0,9,     -999.0,     -999.0,9,     -999.0,9,     -999.0,     -999.0,9,     -999.0,     -999.0,9,     -999.0,     -999.0,     -999.0,9,     -999.0,9,     -999.0,9,       0.46,2,     -999.0,9,     -999.0,9,     -999.0,9,     -999.0,9