BOTTLE,20230606CCHSIOCBG
EXPOCODE,SECT_ID,STNNBR,CASTNO,SAMPNO,BTLNBR,BTLNBR_FLAG_W,DATE,TIME,LATITUDE,LONGITUDE,DEPTH,CTDPRS,CTDTMP,CTDSAL,CTDSAL_FLAG_W,SALNTY,SALNTY_FLAG_W,CTDOXY,CTDOXY_FLAG_W,OXYGEN,OXYGEN_FLAG_W,SILCAT,SILCAT_FLAG_W,NITRAT,NITRAT_FLAG_W,NITRIT,NITRIT_FLAG_W,PHSPHT,PHSPHT_FLAG_W,CFC-11,CFC-11_FLAG_W,CFC-12,CFC-12_FLAG_W,SF6,SF6_FLAG_W,TCARBN,TCARBN_FLAG_W,ALKALI,ALKALI_FLAG_W,PH_SWS,PH_SWS_FLAG_W,PH_TMP,DELC13,DELC13_FLAG_W,DELC14,DELC14_FLAG_W,C14ERR,CCL4,CCL4_FLAG_W,POC,POC_FLAG_W,DOC,DOC_FLAG_W,TDN,TDN_FLAG_W,PON,PON_FLAG_W,N2O,N2O_FLAG_W,D15N_NO3,D15N_NO3_FLAG_W,14C-DOC,14C-DOC_FLAG_W,14C-DOCERR,13C-DOC,13C-DOC_FLAG_W,N2/ARGON_UNSTRIPPED,N2/ARGON_UNSTRIPPED_FLAG_W,N2/ARGON_UNSTRIPPED_ERROR,N2/ARGON,N2/ARGON_FLAG_W,N2/ARGON_ERROR,D15N_N2,D15N_N2_FLAG_W,D15N_N2_ERROR,D15N_NO3_ERROR,D15N_NO2+NO3,D15N_NO2+NO3_FLAG_W,D18O_NO2+NO3,D18O_NO2+NO3_FLAG_W,D18O_NO3,D18O_NO3_FLAG_W,TDP,TDP_FLAG_W,N2O_ALT_1,N2O_ALT_1_FLAG_W,D15N_N2O,D15N_N2O_FLAG_W,D18O_N2O,D18O_N2O_FLAG_W,D15N_ALPHA_N2O,D15N_ALPHA_N2O_FLAG_W
,,,,,,,,,,,METERS,DBAR,ITS-90,PSS-78,,PSS-78,,UMOL/KG,,UMOL/KG,,UMOL/KG,,UMOL/KG,,UMOL/KG,,UMOL/KG,,PMOL/KG,,PMOL/KG,,FMOL/KG,,UMOL/KG,,UMOL/KG,,,,DEG C,/MILLE,,/MILLE,,/MILLE,PMOL/KG,,UG/KG,,UMOL/KG,,UMOL/KG,,UG/KG,,NMOL/KG,,/MILLE,,/MILLE,,/MILLE,/MILLE,,,,,,,,/MILLE,,/MILLE,/MILLE,/MILLE,,/MILLE,,/MILLE,,UMOL/KG,,NMOL/L,,/MILLE,,/MILLE,,/MILLE,
33RO20161119,        P18,     112,          1,          1,      11010,2,20161220,       1258,   -21.9999,  -103.0003,       3915,  3963.5,   1.8388,  34.6866,2,  34.6852,2,    150.1,2,   150.8,2,   126.4,6,    35.6,6,    0.00,6,   2.471,6,   0.0024,2,   0.0008,2,   0.0000,2,  2324.3,6,  2417.3,2,   7.5751,2,    25.00, -999.00,9,  -999.0,9,  -999.0,        0,2, -999.00,9,  -999.0,9, -999.00,9, -999.00,9,    20.0234,2, -999.00,9,  -999.0,9,     -999.0,     -999.0,9,     -999.0,9,     -999.0,     -999.0,9,     -999.0,     -999.0,9,     -999.0,     -999.0,     -999.0,9,     -999.0,9,     -999.0,9,     -999.0,9,     -999.0,9,     -999.0,9,     -999.0,9,     -999.0,9
33RO20161119,        P18,     112,          1,          2,      11101,2,20161220,       1258,   -21.9999,  -103.0003,       3915,  3734.7,   1.8153,  34.6864,2,  34.6864,2,    150.8,2,   150.2,6,   126.5,6,    35.6,6,    0.00,6,   2.465,6,-999.0000,9,-999.0000,9,-999.0000,9,  2324.5,2,  2418.1,6,   7.5762,2,    25.00, -999.00,9,  -999.0,9,  -999.0,-999.0000,9, -999.00,9,  -999.0,9, -999.00,9, -999.00,9,     -999.0,9,    5.34,2,  -999.0,9,     -999.0,     -999.0,9,     -999.0,9,     -999.0,     -999.0,9,     -999.0,     -999.0,9,     -999.0,     -999.0,     -999.0,9,     -999.0,9,     -999.0,9,     -999.0,9,     -999.0,9,     -999.0,9,     -999.0,9,     -999.0,9
33RO20161119,        P18,     112,          1,          3,      11102,2,20161220,       1258,   -21.9999,  -103.0003,       3915,  3504.9,   1.7960,  34.6856,2,  34.6850,2,    150.7,2,   151.4,2,   125.8,6,    35.6,6,    0.00,6,   2.469,6,-999.0000,9,-999.0000,9,-999.0000,9,  2322.2,2,  2418.4,2,   7.5755,6,    25.00, -999.00,9,  -999.0,9,  -999.0,-999.0000,9, -999.00,9,  -999.0,9, -999.00,9, -999.00,9,     -999.0,9, -999.00,9,  -999.0,9,     -999.0,     -999.0,9,     -999.0,9,     -999.0,     -999.0,9,     -999.0,     -999.0,9,     -999.0,     -999.0,     -999.0,9,     -999.0,9,     -999.0,9,     -999.0,9,     -999.0,9,     -999.0,9,     -999.0,9,     -999.0,9
33RO20161119,        P18,     112,          1,          4,      11103,2,20161220,       1258,   -21.9999,  -103.0003,       3915,  3174.1,   1.7869,  34.6826,2,  34.6812,2,    152.5,2,   152.8,2,   123.6,6,    35.4,6,    0.00,6,   2.454,6,   0.0028,2,   0.0011,2,   0.0000,2,  2318.8,2,  2412.3,2,   7.5720,2,    25.00, -999.00,9,  -999.0,9,  -999.0,   0.0204,2, -999.00,9,  -999.0,9, -999.00,9, -999.00,9,    20.3352,2, -999.00,9,  -999.0,9,     -999.0,     -999.0,9,     -999.0,9,     -999.0,     -999.0,9,     -999.0,     -999.0,9,     -999.0,     -999.0,     -999.0,9,     -999.0,9,     -999.0,9,     -999.0,9,     -999.0,9,     -999.0,9,     -999.0,9,     -999.0,9
33RO20161119,        P18,     112,          1,          5,      11104,2,20161220,       1258,   -21.9999,  -103.0003,       3915,  2879.0,   1.8047,  34.6774,2,  34.6807,2,    155.2,2,   155.8,2,   120.0,2,    34.9,2,    0.00,2,   2.433,2,-999.0000,9,-999.0000,9,-999.0000,9,  2311.1,2,  2404.4,2,   7.5733,2,    25.00, -999.00,9,  -999.0,9,  -999.0,-999.0000,9, -999.00,9,  -999.0,9, -999.00,9, -999.00,9,     -999.0,9, -999.00,9,  -999.0,9,     -999.0,     -999.0,9,     -999.0,9,     -999.0,     -999.0,9,     -999.0,     -999.0,9,     -999.0,     -999.0,     -999.0,9,     -999.0,9,     -999.0,9,     -999.0,9,     -999.0,9,     -999.0,9,     -999.0,9,     -999.0,9
33RO20161119,        P18,     112,          1,          6,      11105,2,20161220,       1258,   -21.9999,  -103.0003,       3915,  2559.7,   1.8544,  34.6689,2,  34.6672,2,    156.5,2,   156.7,2,   116.2,2,    35.0,2,    0.00,2,   2.418,2,-999.0000,9,-999.0000,9,-999.0000,9,  2305.6,2,  2397.2,2,   7.5713,2,    25.00, -999.00,9,  -999.0,9,  -999.0,-999.0000,9, -999.00,9,  -999.0,9, -999.00,9, -999.00,9,     -999.0,9, -999.00,9,  -999.0,9,     -999.0,     -999.0,9,     -999.0,9,     -999.0,     -999.0,9,     -999.0,     -999.0,9,     -999.0,     -999.0,     -999.0,9,     -999.0,9,     -999.0,9,     -999.0,9,     -999.0,9,     -999.0,9,     -999.0,9,     -999.0,9
33RO20161119,        P18,     112,          1,          7,      11106,2,20161220,       1258,   -21.9999,  -103.0003,       3915,  2260.0,   1.9807,  34.6526,2,  34.6521,2,    153.4,2,   154.6,2,   112.4,2,    35.1,2,    0.00,2,   2.457,2,   0.0027,2,   0.0007,2,   0.0000,2,  2302.1,2,  2393.5,2,   7.5637,2,    25.00, -999.00,9,  -999.0,9,  -999.0,   0.0842,4, -999.00,9,  -999.0,9, -999.00,9, -999.00,9,    21.6931,2, -999.00,9,  -999.0,9,     -999.0,     -999.0,9,      37.84,2,     -999.0,       37.9,2,     -999.0,     -999.0,9,     -999.0,     -999.0,     -999.0,9,     -999.0,9,     -999.0,9,     -999.0,9, 19.8533288,2,       9.45,2,      50.35,2,      20.48,2
33RO20161119,        P18,     112,          1,          8,      11107,2,20161220,       1258,   -21.9999,  -103.0003,       3915,  1949.9,   2.2299,  34.6261,2,  34.6253,2,    145.6,2,   146.3,2,   107.0,2,    35.8,2,    0.00,2,   2.506,2,-999.0000,9,-999.0000,9,-999.0000,9,  2303.8,2,  2383.9,2,   7.5478,2,    25.00, -999.00,9,  -999.0,9,  -999.0,-999.0000,9, -999.00,9,  -999.0,9, -999.00,9, -999.00,9,     -999.0,9, -999.00,9,  -999.0,9,     -999.0,     -999.0,9,     -999.0,9,     -999.0,     -999.0,9,     -999.0,     -999.0,9,     -999.0,     -999.0,     -999.0,9,     -999.0,9,     -999.0,9,     -999.0,9,21.14762653,2,       9.46,2,      50.24,2,      21.12,2
33RO20161119,        P18,     112,          1,          9,      11108,2,20161220,       1258,   -21.9999,  -103.0003,       3915,  1604.9,   2.7914,  34.5864,2,  34.5858,2,    122.9,2,   123.3,2,    99.9,2,    37.5,2,    0.00,2,   2.642,2,-999.0000,9,-999.0000,9,-999.0000,9,  2305.3,6,  2376.6,2,   7.5099,2,    25.00, -999.00,9,  -999.0,9,  -999.0,-999.0000,9, -999.00,9,  -999.0,9, -999.00,9, -999.00,9,     -999.0,9, -999.00,9,  -999.0,9,     -999.0,     -999.0,9,      37.92,2,     -999.0,      38.02,2,     -999.0,     -999.0,9,     -999.0,     -999.0,     -999.0,9,     -999.0,9,     -999.0,9,     -999.0,9,24.04052845,2,       9.71,2,      50.81,2,      21.49,2
33RO20161119,        P18,     112,          1,         10,      11109,2,20161220,       1258,   -21.9999,  -103.0003,       3915,  1393.2,   3.2162,  34.5587,2,  34.5585,2,    117.3,2,   120.2,2,    89.4,2,    37.9,2,    0.00,2,   2.659,2,   0.0041,2,   0.0021,2,   0.0000,2,  2297.0,2,  2363.7,2,   7.5023,2,    25.00, -999.00,9,  -999.0,9,  -999.0,   0.2685,2, -999.00,9,  -999.0,9, -999.00,9, -999.00,9,    26.6674,2,    5.74,2,  -999.0,9,     -999.0,     -999.0,9,     -999.0,9,     -999.0,     -999.0,9,     -999.0,     -999.0,9,     -999.0,     -999.0,     -999.0,9,     -999.0,9,     -999.0,9,     -999.0,9,24.73818673,2,       9.65,2,       50.6,2,      21.34,2
33RO20161119,        P18,     112,          1,         11,      11110,2,20161220,       1258,   -21.9999,  -103.0003,       3915,  1255.2,   3.5363,  34.5427,2,  34.5432,2,    115.0,2,   114.7,2,    82.9,2,    38.1,2,    0.00,2,   2.687,2,-999.0000,9,-999.0000,9,-999.0000,9,  2293.0,2,  2341.3,4,   7.4958,2,    25.00, -999.00,9,  -999.0,9,  -999.0,-999.0000,9, -999.00,9,  -999.0,9, -999.00,9, -999.00,9,     -999.0,9,    6.32,2,  -999.0,9,     -999.0,     -999.0,9,      37.84,2,     -999.0,      37.92,2,     -999.0,     -999.0,9,     -999.0,     -999.0,     -999.0,9,     -999.0,9,     -999.0,9,     -999.0,9,26.13748119,2,       9.41,2,      50.38,2,      20.82,2
33RO20161119,        P18,     112,          1,         12,      11111,2,20161220,       1258,   -21.9999,  -103.0003,       3915,  1115.4,   3.8992,  34.5217,2,  34.5252,2,    112.9,2,   114.1,2,    74.2,2,    38.2,2,    0.00,2,   2.682,2,-999.0000,9,-999.0000,9,-999.0000,9,  2285.4,2,  2349.6,2,   7.4969,6,    25.00, -999.00,9,  -999.0,9,  -999.0,-999.0000,9, -999.00,9,  -999.0,9, -999.00,9, -999.00,9,     -999.0,9,    6.33,2,  -999.0,9,     -999.0,     -999.0,9,       37.8,2,     -999.0,      37.88,2,     -999.0,     -999.0,9,     -999.0,       0.17,     -999.0,9,     -999.0,9,     -999.0,9,     -999.0,9,26.02849662,2,       9.53,2,      50.16,2,      21.86,2
33RO20161119,        P18,     112,          1,         13,      11112,2,20161220,       1258,   -21.9999,  -103.0003,       3915,   984.0,   4.2514,  34.4828,2,  34.4827,2,    118.9,2,   118.9,2,    61.8,2,    37.5,2,    0.00,2,   2.624,2,-999.0000,9,-999.0000,9,-999.0000,9,  2269.5,2,  2334.6,2,   7.5024,2,    25.00, -999.00,9,  -999.0,9,  -999.0,-999.0000,9, -999.00,9,  -999.0,9, -999.00,9, -999.00,9,     -999.0,9,    6.65,2,  -999.0,9,     -999.0,     -999.0,9,      37.71,2,     -999.0,      37.77,2,     -999.0,     -999.0,9,     -999.0,     -999.0,     -999.0,9,     -999.0,9,     -999.0,9,     -999.0,9,26.45481968,2,       9.32,2,       50.1,2,      20.98,2
33RO20161119,        P18,     112,          1,         14,      11113,2,20161220,       1258,   -21.9999,  -103.0003,       3915,   848.1,   4.5459,  34.4007,2,  34.4049,2,    133.5,2,   134.4,2,    44.5,2,    36.6,2,    0.00,2,   2.549,2,   0.1335,2,   0.0724,2,   0.0320,2,  2246.4,2,  2311.8,2,   7.5112,2,    25.00, -999.00,9,  -999.0,9,  -999.0,   1.3342,2, -999.00,9,  -999.0,9, -999.00,9, -999.00,9,    29.6356,2,    6.46,2,  -999.0,9,     -999.0,     -999.0,9,      37.76,2,     -999.0,      37.83,2,     -999.0,     -999.0,9,     -999.0,     -999.0,     -999.0,9,     -999.0,9,     -999.0,9,     -999.0,9,27.03385896,2,       8.85,2,      49.28,2,      19.32,2
33RO20161119,        P18,     112,          1,         15,      11114,2,20161220,       1258,   -21.9999,  -103.0003,       3915,   727.7,   5.1244,  34.3368,2,  34.3375,2,    164.1,2,   163.6,6,    27.3,2,    33.4,2,    0.00,2,   2.304,2,-999.0000,5,-999.0000,5,-999.0000,5,  2213.4,2,  2292.4,2,   7.5571,2,    25.00, -999.00,9,  -999.0,9,  -999.0,   0.6153,2, -999.00,9,  -999.0,9, -999.00,9, -999.00,9,     -999.0,5,    7.08,2,  -999.0,9,     -999.0,     -999.0,9,       37.7,2,     -999.0,      37.75,2,     -999.0,     -999.0,9,     -999.0,     -999.0,     -999.0,9,     -999.0,9,     -999.0,9,     -999.0,9, 25.0794649,2,       8.26,2,      47.79,2,      18.44,2
33RO20161119,        P18,     112,          1,         16,      11115,2,20161220,       1258,   -21.9999,  -103.0003,       3915,   604.1,   5.8753,  34.3158,2,  34.3156,2,    189.6,2,   187.2,2,    16.0,2,    29.6,2,    0.00,2,   2.052,2,   2.2713,3,   1.1067,3,   0.3570,3,  2188.0,2,  2282.0,6,   7.5970,2,    25.00, -999.00,9,  -999.0,9,  -999.0,   0.4903,2, -999.00,9,  -999.0,9, -999.00,9, -999.00,9,    25.5547,3,    6.79,2,  -999.0,9,     -999.0,     -999.0,9,      37.76,2,     -999.0,      37.82,2,     -999.0,     -999.0,9,     -999.0,       0.16,     -999.0,9,     -999.0,9,     -999.0,9,     -999.0,9,23.67359643,2,       7.51,2,      47.11,2,      15.75,2
33RO20161119,        P18,     112,          1,         17,      11116,2,20161220,       1258,   -21.9999,  -103.0003,       3915,   505.1,   6.9048,  34.3492,2,  34.3489,2,    165.3,2,   164.7,2,    13.6,2,    28.9,2,    0.00,2,   2.062,2,   2.6461,2,   1.3310,2,   0.5619,2,  2196.8,2,  2279.6,2,   7.5688,2,    25.00, -999.00,9,  -999.0,9,  -999.0,    0.847,2, -999.00,9,  -999.0,9, -999.00,9, -999.00,9,    30.0344,2,    6.46,2,  -999.0,9,     -999.0,     -999.0,9,      37.79,2,     -999.0,      37.85,2,     -999.0,     -999.0,9,     -999.0,     -999.0,     -999.0,9,     -999.0,9,     -999.0,9,     -999.0,9,28.00476017,2,        7.4,2,      48.16,2,       14.0,2
33RO20161119,        P18,     112,          1,         18,      11117,2,20161220,       1258,   -21.9999,  -103.0003,       3915,   394.8,   9.5161,  34.3858,2,  34.3864,2,    136.8,2,   139.2,2,    10.2,2,    23.1,2,    0.00,2,   1.881,2,   2.7425,2,   1.4671,2,   0.8541,2,  2188.6,2,  2276.8,2,   7.5797,2,    25.00, -999.00,9,  -999.0,9,  -999.0,   1.2641,2, -999.00,9,  -999.0,9, -999.00,9, -999.00,9,    28.4597,2,    8.86,2,  -999.0,9,     -999.0,     -999.0,9,      37.87,2,     -999.0,      37.91,2,     -999.0,     -999.0,9,     -999.0,     -999.0,     -999.0,9,     -999.0,9,     -999.0,9,     -999.0,9,26.08701458,2,       7.62,2,      47.46,2,      12.47,2
33RO20161119,        P18,     112,          1,         19,      11083,2,20161220,       1258,   -21.9999,  -103.0003,       3915,   299.7,  14.0938,  34.7448,2,  34.7342,2,    195.7,2,   193.3,2,     1.6,2,     8.6,2,    0.01,2,   0.818,2,   2.7521,2,   1.6156,2,   1.4370,2,  2110.2,2,  2294.8,2,   7.8191,2,    25.00, -999.00,9,  -999.0,9,  -999.0,   1.6446,2, -999.00,9,  -999.0,9, -999.00,9, -999.00,9,    13.3393,2,    8.46,3,  -999.0,9,     -999.0,     -999.0,9,      37.88,2,     -999.0,      37.89,2,     -999.0,     -999.0,9,     -999.0,       2.69,     -999.0,9,     -999.0,9,     -999.0,9,     -999.0,9, 12.6357277,2,       7.15,2,      43.46,2,      14.27,2
33RO20161119,        P18,     112,          1,         20,      11118,2,20161220,       1258,   -21.9999,  -103.0003,       3915,   218.4,  19.0542,  35.5422,2,  35.5137,2,    208.4,2,   207.0,2,     0.4,2,     0.9,2,    0.13,2,   0.359,2,   2.2022,2,   1.3513,2,   1.5556,2,  2094.3,2,  2341.9,2,   7.9389,2,    25.00, -999.00,9,  -999.0,9,  -999.0,   1.7021,2, -999.00,9,  -999.0,9, -999.00,9, -999.00,9,     8.5337,2, -999.00,9,  -999.0,9,     -999.0,     -999.0,9,      37.99,2,     -999.0,      37.99,2,     -999.0,     -999.0,9,     -999.0,     -999.0,     -999.0,9,     -999.0,9,     -999.0,9,     -999.0,9,8.256073934,2,        7.1,2,      44.75,2,      15.98,2
33RO20161119,        P18,     112,          1,         21,      11119,2,20161220,       1258,   -21.9999,  -103.0003,       3915,   144.7,  22.3024,  36.2355,2,  36.2549,2,    212.8,2,   210.7,2,     0.4,2,     0.0,2,    0.01,2,   0.278,2,   1.8570,2,   1.1539,2,   1.4529,2,  2096.5,2,  2394.2,2,   8.0097,2,    25.00, -999.00,9,  -999.0,9,  -999.0,   1.6794,2, -999.00,9,  -999.0,9, -999.00,9, -999.00,9,     7.0222,2, -999.00,9,  -999.0,9,     -999.0,     -999.0,9,      38.04,2,     -999.0,       38.0,2,     -999.0,     -999.0,9,     -999.0,     -999.0,     -999.0,9,     -999.0,9,     -999.0,9,     -999.0,9,7.064185209,2,        7.0,2,      44.76,2,      16.37,2
33RO20161119,        P18,     112,          1,         22,      11120,2,20161220,       1258,   -21.9999,  -103.0003,       3915,    69.2,  24.0990,  36.5667,2,  36.5679,2,    209.8,2,   211.3,2,     0.5,2,     0.0,2,    0.00,2,   0.288,2,   1.7199,2,   1.0846,2,   1.4387,2,  2096.3,2,  2414.8,2,   8.0360,2,    25.00, -999.00,9,  -999.0,9,  -999.0,        0,2, -999.00,9,  -999.0,9, -999.00,9, -999.00,9,     6.7215,2, -999.00,9,  -999.0,9,     -999.0,     -999.0,9,      38.09,2,     -999.0,      38.05,2,     -999.0,     -999.0,9,     -999.0,     -999.0,     -999.0,9,     -999.0,9,     -999.0,9,     -999.0,9, 6.74313313,2,       6.67,2,       43.6,2,      16.33,2
33RO20161119,        P18,     112,          1,         23,      11121,2,20161220,       1258,   -21.9999,  -103.0003,       3915,    28.8,  24.1751,  36.5571,2,  36.5548,2,    210.0,2,   211.9,2,     0.5,2,     0.0,2,    0.00,2,   0.290,2,   1.7344,2,   1.0836,2,   1.4258,2,  2096.8,6,  2415.0,6,   8.0365,2,    25.00, -999.00,9,  -999.0,9,  -999.0,    0.014,2, -999.00,9,  -999.0,9, -999.00,9, -999.00,9,     6.8394,2, -999.00,9,  -999.0,9,     -999.0,     -999.0,9,      38.14,2,     -999.0,      38.09,2,     -999.0,     -999.0,9,     -999.0,     -999.0,     -999.0,9,     -999.0,9,     -999.0,9,     -999.0,9,6.772834219,2,        6.7,2,       43.8,2,      16.78,2
33RO20161119,        P18,     112,          1,         24,      11122,2,20161220,       1258,   -21.9999,  -103.0003,       3915,     3.5,  24.4305,  36.5729,2,  36.5737,2,    207.8,2,   210.2,2,     0.5,2,     0.0,2,    0.00,2,   0.296,2,   1.7099,2,   1.0787,2,   1.4540,2,  2099.8,2,  2415.2,2,   8.0375,2,    25.00, -999.00,9,  -999.0,9,  -999.0,        0,2, -999.00,9,  -999.0,9, -999.00,9, -999.00,9,     6.6443,2, -999.00,9,  -999.0,9,     -999.0,     -999.0,9,      38.12,2,     -999.0,      38.07,2,     -999.0,     -999.0,9,     -999.0,     -999.0,     -999.0,9,     -999.0,9,     -999.0,9,     -999.0,9,6.731801742,2,       6.81,2,      45.37,2,      16.45,2