BOTTLE,20230606CCHSIOCBG
EXPOCODE,SECT_ID,STNNBR,CASTNO,SAMPNO,BTLNBR,BTLNBR_FLAG_W,DATE,TIME,LATITUDE,LONGITUDE,DEPTH,CTDPRS,CTDTMP,CTDSAL,CTDSAL_FLAG_W,SALNTY,SALNTY_FLAG_W,CTDOXY,CTDOXY_FLAG_W,OXYGEN,OXYGEN_FLAG_W,SILCAT,SILCAT_FLAG_W,NITRAT,NITRAT_FLAG_W,NITRIT,NITRIT_FLAG_W,PHSPHT,PHSPHT_FLAG_W,CFC-11,CFC-11_FLAG_W,CFC-12,CFC-12_FLAG_W,SF6,SF6_FLAG_W,TCARBN,TCARBN_FLAG_W,ALKALI,ALKALI_FLAG_W,PH_SWS,PH_SWS_FLAG_W,PH_TMP,DELC13,DELC13_FLAG_W,DELC14,DELC14_FLAG_W,C14ERR,CCL4,CCL4_FLAG_W,POC,POC_FLAG_W,DOC,DOC_FLAG_W,TDN,TDN_FLAG_W,PON,PON_FLAG_W,N2O,N2O_FLAG_W,D15N_NO3,D15N_NO3_FLAG_W,14C-DOC,14C-DOC_FLAG_W,14C-DOCERR,13C-DOC,13C-DOC_FLAG_W,N2/ARGON_UNSTRIPPED,N2/ARGON_UNSTRIPPED_FLAG_W,N2/ARGON_UNSTRIPPED_ERROR,N2/ARGON,N2/ARGON_FLAG_W,N2/ARGON_ERROR,D15N_N2,D15N_N2_FLAG_W,D15N_N2_ERROR,D15N_NO3_ERROR,D15N_NO2+NO3,D15N_NO2+NO3_FLAG_W,D18O_NO2+NO3,D18O_NO2+NO3_FLAG_W,D18O_NO3,D18O_NO3_FLAG_W,TDP,TDP_FLAG_W,N2O_ALT_1,N2O_ALT_1_FLAG_W,D15N_N2O,D15N_N2O_FLAG_W,D18O_N2O,D18O_N2O_FLAG_W,D15N_ALPHA_N2O,D15N_ALPHA_N2O_FLAG_W
,,,,,,,,,,,METERS,DBAR,ITS-90,PSS-78,,PSS-78,,UMOL/KG,,UMOL/KG,,UMOL/KG,,UMOL/KG,,UMOL/KG,,UMOL/KG,,PMOL/KG,,PMOL/KG,,FMOL/KG,,UMOL/KG,,UMOL/KG,,,,DEG C,/MILLE,,/MILLE,,/MILLE,PMOL/KG,,UG/KG,,UMOL/KG,,UMOL/KG,,UG/KG,,NMOL/KG,,/MILLE,,/MILLE,,/MILLE,/MILLE,,,,,,,,/MILLE,,/MILLE,/MILLE,/MILLE,,/MILLE,,/MILLE,,UMOL/KG,,NMOL/L,,/MILLE,,/MILLE,,/MILLE,
33RO20161119,        P18,      92,          1,          1,      11010,2,20161215,       1434,   -12.0002,  -103.0004,       4359,  4442.1,   1.8570,  34.6782,2,  34.6784,2,    137.6,2,   138.0,2,   143.0,6,    36.9,6,    0.01,6,   2.567,6,   0.0016,2,   0.0009,2,   0.0000,2,  2338.0,6,  2434.8,2,   7.5621,6,    25.00, -999.00,9,  -999.0,9,  -999.0,        0,2, -999.00,9,  -999.0,9, -999.00,9, -999.00,9,    20.6336,2, -999.00,9,  -999.0,9,     -999.0,     -999.0,9,     -999.0,9,     -999.0,     -999.0,9,     -999.0,     -999.0,9,     -999.0,     -999.0,     -999.0,9,     -999.0,9,     -999.0,9,     -999.0,9,     -999.0,9,     -999.0,9,     -999.0,9,     -999.0,9
33RO20161119,        P18,      92,          1,          2,      11101,2,20161215,       1434,   -12.0002,  -103.0004,       4359,  4019.6,   1.8074,  34.6782,2,  34.6775,2,    137.4,2,   138.1,2,   142.9,6,    36.9,6,    0.00,6,   2.562,6,-999.0000,9,-999.0000,9,-999.0000,9,  2336.7,2,  2430.3,6,   7.5616,2,    25.00, -999.00,9,  -999.0,9,  -999.0,-999.0000,9, -999.00,9,  -999.0,9, -999.00,9, -999.00,9,     -999.0,9, -999.00,9,  -999.0,9,     -999.0,     -999.0,9,     -999.0,9,     -999.0,     -999.0,9,     -999.0,     -999.0,9,     -999.0,     -999.0,     -999.0,9,     -999.0,9,     -999.0,9,     -999.0,9,     -999.0,9,     -999.0,9,     -999.0,9,     -999.0,9
33RO20161119,        P18,      92,          1,          3,      11102,2,20161215,       1434,   -12.0002,  -103.0004,       4359,  3593.7,   1.7716,  34.6776,2,  34.6773,2,    137.1,2,   137.3,6,   142.8,6,    36.9,6,    0.01,6,   2.563,6,   0.0020,2,   0.0009,2,   0.0000,2,  2335.9,2,  2431.6,2,   7.5610,2,    25.00, -999.00,9,  -999.0,9,  -999.0,        0,2, -999.00,9,  -999.0,9, -999.00,9, -999.00,9,    21.4591,2, -999.00,9,  -999.0,9,     -999.0,     -999.0,9,     -999.0,9,     -999.0,     -999.0,9,     -999.0,     -999.0,9,     -999.0,     -999.0,     -999.0,9,     -999.0,9,     -999.0,9,     -999.0,9,     -999.0,9,     -999.0,9,     -999.0,9,     -999.0,9
33RO20161119,        P18,      92,          1,          4,      11103,2,20161215,       1434,   -12.0002,  -103.0004,       4359,  3269.8,   1.7644,  34.6772,2,  34.6763,2,    136.4,2,   137.6,2,   141.2,6,    36.9,6,    0.00,6,   2.578,6,-999.0000,9,-999.0000,9,-999.0000,9,  2335.4,2,  2427.7,2,   7.5599,2,    25.00, -999.00,9,  -999.0,9,  -999.0,-999.0000,9, -999.00,9,  -999.0,9, -999.00,9, -999.00,9,     -999.0,9, -999.00,9,  -999.0,9,     -999.0,     -999.0,9,     -999.0,9,     -999.0,     -999.0,9,     -999.0,     -999.0,9,     -999.0,     -999.0,     -999.0,9,     -999.0,9,     -999.0,9,     -999.0,9,     -999.0,9,     -999.0,9,     -999.0,9,     -999.0,9
33RO20161119,        P18,      92,          1,          5,      11104,2,20161215,       1434,   -12.0002,  -103.0004,       4359,  2939.7,   1.7746,  34.6778,2,  34.6766,2,    140.0,2,   140.9,2,   135.4,2,    36.5,2,    0.00,2,   2.544,2,   0.0017,2,   0.0017,2,   0.0000,2,  2329.9,2,  2422.3,2,   7.5638,2,    25.00, -999.00,9,  -999.0,9,  -999.0,        0,2, -999.00,9,  -999.0,9, -999.00,9, -999.00,9,    20.7078,2, -999.00,9,  -999.0,9,     -999.0,     -999.0,9,     -999.0,9,     -999.0,     -999.0,9,     -999.0,     -999.0,9,     -999.0,     -999.0,     -999.0,9,     -999.0,9,     -999.0,9,     -999.0,9,     -999.0,9,     -999.0,9,     -999.0,9,     -999.0,9
33RO20161119,        P18,      92,          1,          6,      11105,2,20161215,       1434,   -12.0002,  -103.0004,       4359,  2609.9,   1.8184,  34.6729,2,  34.6725,2,    138.4,2,   138.2,2,   132.3,2,    36.6,2,    0.02,2,   2.554,2,-999.0000,9,-999.0000,9,-999.0000,9,  2327.9,2,  2419.7,2,   7.5548,2,    25.00, -999.00,9,  -999.0,9,  -999.0,-999.0000,9, -999.00,9,  -999.0,9, -999.00,9, -999.00,9,     -999.0,9, -999.00,9,  -999.0,9,     -999.0,     -999.0,9,     -999.0,9,     -999.0,     -999.0,9,     -999.0,     -999.0,9,     -999.0,     -999.0,     -999.0,9,     -999.0,9,     -999.0,9,     -999.0,9,     -999.0,9,     -999.0,9,     -999.0,9,     -999.0,9
33RO20161119,        P18,      92,          1,          7,      11106,2,20161215,       1434,   -12.0002,  -103.0004,       4359,  2264.4,   2.0036,  34.6582,2,  34.6625,4,    133.7,2,   130.9,2,   128.2,2,    37.2,2,    0.01,2,   2.614,2,-999.0000,9,-999.0000,9,-999.0000,9,  2327.3,6,  2413.0,2,   7.5335,2,    25.00, -999.00,9,  -999.0,9,  -999.0,-999.0000,9, -999.00,9,  -999.0,9, -999.00,9, -999.00,9,     -999.0,9, -999.00,9,  -999.0,9,     -999.0,     -999.0,9,     -999.0,9,     -999.0,     -999.0,9,     -999.0,     -999.0,9,     -999.0,     -999.0,     -999.0,9,     -999.0,9,     -999.0,9,     -999.0,9,     -999.0,9,     -999.0,9,     -999.0,9,     -999.0,9
33RO20161119,        P18,      92,          1,          8,      11107,2,20161215,       1434,   -12.0002,  -103.0004,       4359,  1920.9,   2.3224,  34.6358,2,  34.6356,2,    116.7,2,   116.9,2,   123.9,2,    38.3,2,    0.01,2,   2.692,2,   0.0020,6,   0.0018,6,   0.0263,6,  2327.9,2,  2397.7,2,   7.5113,2,    25.00, -999.00,9,  -999.0,9,  -999.0,        0,2, -999.00,9,  -999.0,9, -999.00,9, -999.00,9,    23.8983,2, -999.00,9,  -999.0,9,     -999.0,     -999.0,9,     -999.0,9,     -999.0,     -999.0,9,     -999.0,     -999.0,9,     -999.0,     -999.0,     -999.0,9,     -999.0,9,     -999.0,9,     -999.0,9,     -999.0,9,     -999.0,9,     -999.0,9,     -999.0,9
33RO20161119,        P18,      92,          1,          9,      11108,2,20161215,       1434,   -12.0002,  -103.0004,       4359,  1619.7,   2.7206,  34.6102,2,  34.6105,2,    102.8,2,   103.0,2,   114.2,2,    39.4,2,    0.01,2,   2.795,2,-999.0000,9,-999.0000,9,-999.0000,9,  2326.4,2,  2391.8,2,   7.4813,2,    25.00, -999.00,9,  -999.0,9,  -999.0,-999.0000,9, -999.00,9,  -999.0,9, -999.00,9, -999.00,9,     -999.0,9, -999.00,9,  -999.0,9,     -999.0,     -999.0,9,     -999.0,9,     -999.0,     -999.0,9,     -999.0,     -999.0,9,     -999.0,     -999.0,     -999.0,9,     -999.0,9,     -999.0,9,     -999.0,9,     -999.0,9,     -999.0,9,     -999.0,9,     -999.0,9
33RO20161119,        P18,      92,          1,         10,      11109,2,20161215,       1434,   -12.0002,  -103.0004,       4359,  1423.1,   3.1246,  34.5880,2,  34.5862,2,     90.7,2,    90.0,2,   105.3,2,    40.3,2,    0.01,2,   2.878,2,-999.0000,9,-999.0000,9,-999.0000,9,  2324.4,2,  2378.5,2,   7.4563,2,    25.00, -999.00,9,  -999.0,9,  -999.0,-999.0000,9, -999.00,9,  -999.0,9, -999.00,9, -999.00,9,     -999.0,9,     8.1,2,  -999.0,9,     -999.0,     -999.0,9,     -999.0,9,     -999.0,     -999.0,9,     -999.0,     -999.0,9,     -999.0,       0.03,     -999.0,9,     -999.0,9,     -999.0,9,     -999.0,9,27.63753675,2,       9.95,2,      50.71,2,      21.84,2
33RO20161119,        P18,      92,          1,         11,      11110,2,20161215,       1434,   -12.0002,  -103.0004,       4359,  1267.9,   3.5012,  34.5672,2,  34.5663,2,     85.4,2,    85.2,2,    95.0,2,    40.9,2,    0.01,2,   2.915,2,-999.0000,9,-999.0000,9,-999.0000,9,  2314.7,2,  2370.4,2,   7.4447,2,    25.00, -999.00,9,  -999.0,9,  -999.0,-999.0000,9, -999.00,9,  -999.0,9, -999.00,9, -999.00,9,     -999.0,9, -999.00,9,  -999.0,9,     -999.0,     -999.0,9,     -999.0,9,     -999.0,     -999.0,9,     -999.0,     -999.0,9,     -999.0,     -999.0,     -999.0,9,     -999.0,9,     -999.0,9,     -999.0,9,     -999.0,9,     -999.0,9,     -999.0,9,     -999.0,9
33RO20161119,        P18,      92,          1,         12,      11111,2,20161215,       1434,   -12.0002,  -103.0004,       4359,  1122.1,   4.0324,  34.5439,2,  34.5431,2,     75.2,2,    75.7,2,    82.6,2,    41.6,2,    0.01,2,   2.959,2,-999.0000,9,-999.0000,9,-999.0000,9,  2307.8,2,  2354.6,2,   7.4262,2,    25.00, -999.00,9,  -999.0,9,  -999.0,-999.0000,9, -999.00,9,  -999.0,9, -999.00,9, -999.00,9,     -999.0,9,    7.26,2,  -999.0,9,     -999.0,     -999.0,9,     -999.0,9,     -999.0,     -999.0,9,     -999.0,     -999.0,9,     -999.0,        0.2,     -999.0,9,     -999.0,9,     -999.0,9,     -999.0,9,31.51311506,2,       9.61,2,      49.95,2,      21.11,2
33RO20161119,        P18,      92,          1,         13,      11112,2,20161215,       1434,   -12.0002,  -103.0004,       4359,   985.2,   4.5838,  34.5264,2,  34.5290,2,     69.3,2,    69.4,2,    70.7,2,    42.0,2,    0.00,2,   2.962,2,-999.0000,9,-999.0000,9,-999.0000,9,  2299.6,2,  2339.0,2,   7.4162,2,    25.00, -999.00,9,  -999.0,9,  -999.0,-999.0000,9, -999.00,9,  -999.0,9, -999.00,9, -999.00,9,     -999.0,9,    7.29,2,  -999.0,9,     -999.0,     -999.0,9,     -999.0,9,     -999.0,     -999.0,9,     -999.0,     -999.0,9,     -999.0,       0.06,     -999.0,9,     -999.0,9,     -999.0,9,     -999.0,9,     -999.0,9,     -999.0,9,     -999.0,9,     -999.0,9
33RO20161119,        P18,      92,          1,         14,      11113,2,20161215,       1434,   -12.0002,  -103.0004,       4359,   847.8,   5.3195,  34.5219,2,  34.5207,2,     59.0,2,    54.9,2,    59.1,2,    42.8,2,    0.00,2,   2.995,2,   0.0035,2,   0.0015,2,   0.0000,2,  2293.9,2,  2325.2,2,   7.3785,2,    25.00, -999.00,9,  -999.0,9,  -999.0,    0.048,2, -999.00,9,  -999.0,9, -999.00,9, -999.00,9,    39.6399,2,    7.97,2,  -999.0,9,     -999.0,     -999.0,9,     -999.0,9,     -999.0,     -999.0,9,     -999.0,     -999.0,9,     -999.0,       0.26,     -999.0,9,     -999.0,9,     -999.0,9,     -999.0,9,37.70426379,2,       8.93,2,      49.75,2,      20.17,2
33RO20161119,        P18,      92,          1,         15,      11114,2,20161215,       1434,   -12.0002,  -103.0004,       4359,   714.9,   6.2182,  34.5328,2,  34.5313,2,     38.0,2,    38.4,2,    47.9,2,    43.0,2,    0.00,2,   2.984,2,   0.0138,2,   0.0079,2,   0.0337,2,  2287.0,2,  2313.4,2,   7.3690,2,    25.00, -999.00,9,  -999.0,9,  -999.0,   0.0597,2, -999.00,9,  -999.0,9, -999.00,9, -999.00,9,    50.5514,2,    8.38,2,  -999.0,9,     -999.0,     -999.0,9,     -999.0,9,     -999.0,     -999.0,9,     -999.0,     -999.0,9,     -999.0,       0.09,     -999.0,9,     -999.0,9,     -999.0,9,     -999.0,9,44.91508501,2,        8.3,2,      49.76,2,       13.3,2
33RO20161119,        P18,      92,          1,         16,      11115,2,20161215,       1434,   -12.0002,  -103.0004,       4359,   577.2,   7.3742,  34.5817,2,  34.5829,2,     38.6,2,    39.8,2,    38.8,2,    39.9,2,    0.00,2,   2.786,2,   0.0543,2,   0.0311,2,   0.0349,2,  2273.3,2,  2306.8,2,   7.3923,2,    25.00, -999.00,9,  -999.0,9,  -999.0,   0.0471,2, -999.00,9,  -999.0,9, -999.00,9, -999.00,9,    52.0272,2,    8.16,2,  -999.0,9,     -999.0,     -999.0,9,     -999.0,9,     -999.0,     -999.0,9,     -999.0,     -999.0,9,     -999.0,        0.1,     -999.0,9,     -999.0,9,     -999.0,9,     -999.0,9,  49.716705,2,       7.66,2,      49.62,2,      10.85,2
33RO20161119,        P18,      92,          1,         17,      11116,2,20161215,       1434,   -12.0002,  -103.0004,       4359,   474.1,   8.5667,  34.6438,2,  34.6434,2,     25.5,2,    25.9,2,    33.4,2,    38.4,2,    0.00,2,   2.724,2,   0.1400,2,   0.0772,2,   0.0543,2,  2269.6,2,  2303.4,6,   7.3930,2,    25.00, -999.00,9,  -999.0,9,  -999.0,   0.0617,2, -999.00,9,  -999.0,9, -999.00,9, -999.00,9,    61.0134,2,    8.17,2,  -999.0,9,     -999.0,     -999.0,9,     -999.0,9,     -999.0,     -999.0,9,     -999.0,     -999.0,9,     -999.0,       0.14,     -999.0,9,     -999.0,9,     -999.0,9,     -999.0,9,56.85589234,2,       7.36,2,      51.07,2,      10.18,2
33RO20161119,        P18,      92,          1,         18,      11117,2,20161215,       1434,   -12.0002,  -103.0004,       4359,   365.1,   9.9887,  34.7338,2,  34.7396,2,     16.3,2,    16.7,2,    29.1,2,    35.4,2,    0.01,2,   2.602,2,   0.3387,2,   0.1886,2,   0.0692,2,  2266.9,2,  2301.7,2,   7.4010,2,    25.00, -999.00,9,  -999.0,9,  -999.0,   0.2949,2, -999.00,9,  -999.0,9, -999.00,9, -999.00,9,    66.8319,2,    7.99,2,  -999.0,9,     -999.0,     -999.0,9,     -999.0,9,     -999.0,     -999.0,9,     -999.0,     -999.0,9,     -999.0,       0.22,     -999.0,9,     -999.0,9,     -999.0,9,     -999.0,9,62.09562351,2,       6.88,2,      50.81,2,       7.93,2
33RO20161119,        P18,      92,          1,         19,      11083,2,20161215,       1434,   -12.0002,  -103.0004,       4359,   270.1,  11.2911,  34.7790,2,  34.7801,2,      7.4,2,     8.0,6,    24.3,2,    30.3,2,    0.02,2,   2.604,2,   0.7169,2,   0.4016,2,   0.1741,2,  2267.9,2,  2298.6,2,   7.3916,2,    25.00, -999.00,9,  -999.0,9,  -999.0,   1.2108,2, -999.00,9,  -999.0,9, -999.00,9, -999.00,9,    57.5233,2,    9.81,2,  -999.0,9,     -999.0,     -999.0,9,     -999.0,9,     -999.0,     -999.0,9,     -999.0,     -999.0,9,     -999.0,       0.07,     -999.0,9,     -999.0,9,     -999.0,9,     -999.0,9, 55.2400001,2,       7.36,2,      50.99,2,      11.03,2
33RO20161119,        P18,      92,          1,         20,      11118,2,20161215,       1434,   -12.0002,  -103.0004,       4359,   183.0,  14.5607,  34.9119,2,  34.9028,2,    112.6,2,   106.4,2,     7.3,2,    17.7,2,    0.03,2,   1.680,2,   2.2783,2,   1.3574,2,   1.2099,2,  2186.6,2,  2304.1,2,   7.6477,2,    25.00, -999.00,9,  -999.0,9,  -999.0,   1.8069,2, -999.00,9,  -999.0,9, -999.00,9, -999.00,9,    37.8688,2,   10.49,2,  -999.0,9,     -999.0,     -999.0,9,     -999.0,9,     -999.0,     -999.0,9,     -999.0,     -999.0,9,     -999.0,       0.09,     -999.0,9,     -999.0,9,     -999.0,9,     -999.0,9,36.05038053,2,       6.61,2,      43.64,2,      11.13,2
33RO20161119,        P18,      92,          1,         21,      11119,2,20161215,       1434,   -12.0002,  -103.0004,       4359,   102.5,  21.7694,  35.9955,2,  35.9896,2,    203.3,2,   202.4,2,     1.0,2,     0.9,2,    0.49,2,   0.492,2,   1.9098,2,   1.1970,2,   1.5088,2,  2098.0,2,  2379.4,2,   7.9837,2,    25.00, -999.00,9,  -999.0,9,  -999.0,   1.7636,2, -999.00,9,  -999.0,9, -999.00,9, -999.00,9,     7.2622,2, -999.00,9,  -999.0,9,     -999.0,     -999.0,9,     -999.0,9,     -999.0,     -999.0,9,     -999.0,     -999.0,9,     -999.0,     -999.0,     -999.0,9,     -999.0,9,     -999.0,9,     -999.0,9,7.582526045,2,       7.77,2,      46.51,2,     -999.0,9
33RO20161119,        P18,      92,          1,         22,      11120,2,20161215,       1434,   -12.0002,  -103.0004,       4359,    50.0,  24.0226,  35.8526,2,  35.8613,2,    213.1,2,   214.6,2,     1.3,2,     2.8,2,    0.07,2,   0.481,2,   1.7398,2,   1.0930,2,   1.4724,2,  2059.9,2,  2364.6,6,   8.0265,2,    25.00, -999.00,9,  -999.0,9,  -999.0,   2.0129,2, -999.00,9,  -999.0,9, -999.00,9, -999.00,9,     6.7333,2, -999.00,9,  -999.0,9,     -999.0,     -999.0,9,     -999.0,9,     -999.0,     -999.0,9,     -999.0,     -999.0,9,     -999.0,     -999.0,     -999.0,9,     -999.0,9,     -999.0,9,     -999.0,9,6.912284614,2,       7.31,2,      49.05,2,      19.15,2
33RO20161119,        P18,      92,          1,         23,      11121,2,20161215,       1434,   -12.0002,  -103.0004,       4359,    19.8,  24.1328,  35.7856,2,  35.7840,2,    212.5,2,   213.9,2,     1.6,2,     3.5,2,    0.07,2,   0.505,2,   1.7143,2,   1.0828,2,   1.4525,2,  2057.4,6,  2360.7,2,   8.0228,2,    25.00, -999.00,9,  -999.0,9,  -999.0,        0,2, -999.00,9,  -999.0,9, -999.00,9, -999.00,9,     6.7335,2, -999.00,9,  -999.0,9,     -999.0,     -999.0,9,     -999.0,9,     -999.0,     -999.0,9,     -999.0,     -999.0,9,     -999.0,     -999.0,     -999.0,9,     -999.0,9,     -999.0,9,     -999.0,9, 6.86365224,2,       7.54,2,      54.34,2,      19.97,2
33RO20161119,        P18,      92,          1,         24,      11122,2,20161215,       1434,   -12.0002,  -103.0004,       4359,     3.0,  24.1331,  35.7862,2,  35.7919,2,    212.0,2,   213.6,2,     1.7,2,     3.5,2,    0.07,2,   0.493,2,   1.7308,2,   1.0891,2,   1.4493,2,  2057.7,2,  2362.4,2,   8.0186,2,    25.00, -999.00,9,  -999.0,9,  -999.0,        0,2, -999.00,9,  -999.0,9, -999.00,9, -999.00,9,     6.6801,2, -999.00,9,  -999.0,9,     -999.0,     -999.0,9,     -999.0,9,     -999.0,     -999.0,9,     -999.0,     -999.0,9,     -999.0,     -999.0,     -999.0,9,     -999.0,9,     -999.0,9,     -999.0,9,7.072021183,2,       5.25,2,      45.07,2,      17.74,2