BOTTLE,20230606CCHSIOCBG
EXPOCODE,SECT_ID,STNNBR,CASTNO,SAMPNO,BTLNBR,BTLNBR_FLAG_W,DATE,TIME,LATITUDE,LONGITUDE,DEPTH,CTDPRS,CTDTMP,CTDSAL,CTDSAL_FLAG_W,SALNTY,SALNTY_FLAG_W,CTDOXY,CTDOXY_FLAG_W,OXYGEN,OXYGEN_FLAG_W,SILCAT,SILCAT_FLAG_W,NITRAT,NITRAT_FLAG_W,NITRIT,NITRIT_FLAG_W,PHSPHT,PHSPHT_FLAG_W,CFC-11,CFC-11_FLAG_W,CFC-12,CFC-12_FLAG_W,SF6,SF6_FLAG_W,TCARBN,TCARBN_FLAG_W,ALKALI,ALKALI_FLAG_W,PH_SWS,PH_SWS_FLAG_W,PH_TMP,DELC13,DELC13_FLAG_W,DELC14,DELC14_FLAG_W,C14ERR,CCL4,CCL4_FLAG_W,POC,POC_FLAG_W,DOC,DOC_FLAG_W,TDN,TDN_FLAG_W,PON,PON_FLAG_W,N2O,N2O_FLAG_W,D15N_NO3,D15N_NO3_FLAG_W,14C-DOC,14C-DOC_FLAG_W,14C-DOCERR,13C-DOC,13C-DOC_FLAG_W,N2/ARGON_UNSTRIPPED,N2/ARGON_UNSTRIPPED_FLAG_W,N2/ARGON_UNSTRIPPED_ERROR,N2/ARGON,N2/ARGON_FLAG_W,N2/ARGON_ERROR,D15N_N2,D15N_N2_FLAG_W,D15N_N2_ERROR,D15N_NO3_ERROR,D15N_NO2+NO3,D15N_NO2+NO3_FLAG_W,D18O_NO2+NO3,D18O_NO2+NO3_FLAG_W,D18O_NO3,D18O_NO3_FLAG_W,TDP,TDP_FLAG_W,N2O_ALT_1,N2O_ALT_1_FLAG_W,D15N_N2O,D15N_N2O_FLAG_W,D18O_N2O,D18O_N2O_FLAG_W,D15N_ALPHA_N2O,D15N_ALPHA_N2O_FLAG_W
,,,,,,,,,,,METERS,DBAR,ITS-90,PSS-78,,PSS-78,,UMOL/KG,,UMOL/KG,,UMOL/KG,,UMOL/KG,,UMOL/KG,,UMOL/KG,,PMOL/KG,,PMOL/KG,,FMOL/KG,,UMOL/KG,,UMOL/KG,,,,DEG C,/MILLE,,/MILLE,,/MILLE,PMOL/KG,,UG/KG,,UMOL/KG,,UMOL/KG,,UG/KG,,NMOL/KG,,/MILLE,,/MILLE,,/MILLE,/MILLE,,,,,,,,/MILLE,,/MILLE,/MILLE,/MILLE,,/MILLE,,/MILLE,,UMOL/KG,,NMOL/L,,/MILLE,,/MILLE,,/MILLE,
33RO20161119,        P18,     180,          1,          1,      11010,2,20170118,       0447,   -56.0002,  -103.0000,       4455,  4535.6,   0.7163,  34.7054,2,  34.7051,2,    208.4,2,   208.4,2,   131.2,2,    32.7,2,    0.01,2,   2.253,2,   0.2609,2,   0.1244,2,   0.0612,2,  2265.3,6,  2366.3,6,   7.5931,2,    25.00, -999.00,9,  -999.0,9,  -999.0,   0.1298,2, -999.00,9,  -999.0,9, -999.00,9, -999.00,9,    18.6661,2,    4.77,2,  -999.0,9,     -999.0,     -999.0,9,     -999.0,9,     -999.0,     -999.0,9,     -999.0,     -999.0,9,     -999.0,     -999.0,       4.77,2,       1.85,2,       1.85,2,     -999.0,9,16.70115552,2,        8.5,2,      47.55,2,      22.91,2
33RO20161119,        P18,     180,          1,          2,      11101,2,20170118,       0447,   -56.0002,  -103.0000,       4455,  4114.9,   0.8443,  34.7093,2,  34.7091,2,    205.0,2,   204.5,2,   126.0,2,    32.6,6,    0.01,6,   2.242,6,   0.1911,2,   0.0910,2,   0.0345,2,  2263.1,2,  2367.6,2,   7.5989,6,    25.00, -999.00,9,  -999.0,9,  -999.0,   3.1877,4, -999.00,9,  -999.0,9, -999.00,9, -999.00,9,    18.7305,2,    4.64,2,  -999.0,9,     -999.0,     -999.0,9,     -999.0,9,     -999.0,     -999.0,9,     -999.0,     -999.0,9,     -999.0,     -999.0,       4.64,2,       1.62,2,       1.62,2,     -999.0,9,     -999.0,9,     -999.0,9,     -999.0,9,     -999.0,9
33RO20161119,        P18,     180,          1,          3,      11102,2,20170118,       0447,   -56.0002,  -103.0000,       4455,  3697.5,   1.1305,  34.7166,2,  34.7164,2,    200.4,2,   200.6,2,   116.4,6,    32.2,6,    0.00,6,   2.212,6,   0.1475,6,   0.0706,6,   0.0597,6,  2260.3,2,  2363.9,2,   7.5979,2,    25.00, -999.00,9,  -999.0,9,  -999.0,   0.1708,2, -999.00,9,  -999.0,9, -999.00,9, -999.00,9,    18.6994,2,     4.6,2,  -999.0,9,     -999.0,     -999.0,9,     -999.0,9,     -999.0,     -999.0,9,     -999.0,     -999.0,9,     -999.0,     -999.0,        4.6,2,       1.59,2,       1.59,2,     -999.0,9,16.90793775,2,       8.45,2,       47.6,2,       22.4,2
33RO20161119,        P18,     180,          1,          4,      11103,2,20170118,       0447,   -56.0002,  -103.0000,       4455,  3374.7,   1.3252,  34.7212,2,  34.7237,2,    196.2,2,   195.5,2,   110.7,6,    32.1,6,    0.01,6,   2.213,6,   0.1064,2,   0.0496,2,   0.0489,2,  2260.8,2,  2363.6,2,   7.5989,2,    25.00, -999.00,9,  -999.0,9,  -999.0,   0.4621,2, -999.00,9,  -999.0,9, -999.00,9, -999.00,9,    19.1065,2,    4.72,2,  -999.0,9,     -999.0,     -999.0,9,     -999.0,9,     -999.0,     -999.0,9,     -999.0,     -999.0,9,     -999.0,     -999.0,       4.72,2,       1.63,2,       1.63,2,     -999.0,9,     -999.0,9,     -999.0,9,     -999.0,9,     -999.0,9
33RO20161119,        P18,     180,          1,          5,      11104,2,20170118,       0447,   -56.0002,  -103.0000,       4455,  3050.1,   1.4448,  34.7224,2,  34.7217,2,    192.5,2,   192.1,2,   107.8,6,    32.2,6,    0.00,6,   2.215,6,   0.0870,2,   0.0426,2,   0.0000,2,  2261.2,2,  2364.9,2,   7.5973,2,    25.00, -999.00,9,  -999.0,9,  -999.0,   0.7737,2, -999.00,9,  -999.0,9, -999.00,9, -999.00,9,    19.2534,2,    4.74,2,  -999.0,9,     -999.0,     -999.0,9,     -999.0,9,     -999.0,     -999.0,9,     -999.0,     -999.0,9,     -999.0,     -999.0,       4.74,2,       1.63,2,       1.63,2,     -999.0,9,16.94749996,2,       9.02,2,      48.72,2,       22.8,2
33RO20161119,        P18,     180,          1,          6,      11105,2,20170118,       0447,   -56.0002,  -103.0000,       4455,  2720.8,   1.5820,  34.7201,2,  34.7211,2,    187.4,2,   186.7,2,   105.1,6,    32.3,6,    0.01,6,   2.213,6,   1.4276,4,   1.0429,4,   2.2406,4,  2265.8,2,  2365.9,2,   7.5937,2,    25.00, -999.00,9,  -999.0,9,  -999.0,   1.0968,2, -999.00,9,  -999.0,9, -999.00,9, -999.00,9,    23.5937,4,    4.85,2,  -999.0,9,     -999.0,     -999.0,9,     -999.0,9,     -999.0,     -999.0,9,     -999.0,     -999.0,9,     -999.0,     -999.0,       4.85,2,       1.74,2,       1.74,2,     -999.0,9,     -999.0,9,     -999.0,9,     -999.0,9,     -999.0,9
33RO20161119,        P18,     180,          1,          7,      11106,2,20170118,       0447,   -56.0002,  -103.0000,       4455,  2380.2,   1.8351,  34.7178,2,  34.7224,2,    182.1,2,   182.0,2,    97.7,2,    32.4,2,    0.00,2,   2.226,2,   0.1035,2,   0.0494,2,   0.0000,2,  2262.1,2,  2361.1,2,   7.5895,2,    25.00, -999.00,9,  -999.0,9,  -999.0,   1.3969,2, -999.00,9,  -999.0,9, -999.00,9, -999.00,9,    19.8665,2,    4.89,2,  -999.0,9,     -999.0,     -999.0,9,     -999.0,9,     -999.0,     -999.0,9,     -999.0,     -999.0,9,     -999.0,     -999.0,       4.89,2,       1.78,2,       1.78,2,     -999.0,9,17.67667392,2,       9.22,2,      48.85,2,      22.48,2
33RO20161119,        P18,     180,          1,          8,      11107,2,20170118,       0447,   -56.0002,  -103.0000,       4455,  2030.0,   2.1641,  34.6997,2,  34.7003,2,    178.8,2,   178.6,2,    84.9,2,    32.6,2,    0.00,2,   2.225,2,   0.2115,2,   0.1011,2,   0.0393,2,  2254.0,2,  2348.8,2,   7.5782,2,    25.00, -999.00,9,  -999.0,9,  -999.0,    1.738,2, -999.00,9,  -999.0,9, -999.00,9, -999.00,9,    20.6858,2,    4.94,2,  -999.0,9,     -999.0,     -999.0,9,     -999.0,9,     -999.0,     -999.0,9,     -999.0,     -999.0,9,     -999.0,     -999.0,       4.94,2,       1.83,2,       1.83,2,     -999.0,9,     -999.0,9,     -999.0,9,     -999.0,9,     -999.0,9
33RO20161119,        P18,     180,          1,          9,      11108,2,20170118,       0447,   -56.0002,  -103.0000,       4455,  1689.6,   2.4115,  34.6277,2,  34.6289,2,    170.3,2,   170.9,2,    79.0,2,    33.8,2,    0.01,2,   2.314,2,   0.3789,2,   0.1863,2,   0.0838,2,  2255.8,2,  2348.0,2,   7.5600,2,    25.00, -999.00,9,  -999.0,9,  -999.0,   2.2536,2, -999.00,9,  -999.0,9, -999.00,9, -999.00,9,    21.9658,2,    5.03,2,  -999.0,9,     -999.0,     -999.0,9,     -999.0,9,     -999.0,     -999.0,9,     -999.0,     -999.0,9,     -999.0,     -999.0,       5.03,2,       1.87,2,       1.87,2,     -999.0,9,19.27771652,2,       8.69,2,      47.75,2,      21.42,2
33RO20161119,        P18,     180,          1,         10,      11109,2,20170118,       0447,   -56.0002,  -103.0000,       4455,  1479.4,   2.5697,  34.5557,2,  34.5573,2,    171.6,2,   171.3,6,    72.6,2,    34.4,2,    0.00,2,   2.356,2,   0.6682,2,   0.3299,2,   0.1786,2,  2249.3,2,  2334.8,2,   7.5502,2,    25.00, -999.00,9,  -999.0,9,  -999.0,   2.4351,2, -999.00,9,  -999.0,9, -999.00,9, -999.00,9,    22.7049,2,    5.06,2,  -999.0,9,     -999.0,     -999.0,9,     -999.0,9,     -999.0,     -999.0,9,     -999.0,     -999.0,9,     -999.0,     -999.0,       5.06,2,       1.89,2,       1.89,2,     -999.0,9,     -999.0,9,     -999.0,9,     -999.0,9,     -999.0,9
33RO20161119,        P18,     180,          1,         11,      11110,2,20170118,       0447,   -56.0002,  -103.0000,       4455,  1316.4,   2.7617,  34.4860,2,  34.4879,2,    176.1,2,   175.8,2,    65.4,2,    34.5,2,    0.01,2,   2.377,2,   0.9755,2,   0.4867,2,   0.2525,2,  2243.0,2,  2326.0,2,   7.5518,2,    25.00, -999.00,9,  -999.0,9,  -999.0,   2.8881,2, -999.00,9,  -999.0,9, -999.00,9, -999.00,9,    22.5649,2,    5.22,2,  -999.0,9,     -999.0,     -999.0,9,     -999.0,9,     -999.0,     -999.0,9,     -999.0,     -999.0,9,     -999.0,     -999.0,       5.22,2,       1.89,2,       1.89,2,     -999.0,9,20.09634989,2,       8.48,2,      46.69,2,      20.95,2
33RO20161119,        P18,     180,          1,         12,      11111,2,20170118,       0447,   -56.0002,  -103.0000,       4455,  1170.2,   2.9923,  34.4151,2,  34.4161,2,    185.3,2,   184.9,2,    56.6,2,    34.1,2,    0.01,2,   2.335,2,   1.4098,2,   0.7088,2,   0.3827,2,  2232.3,2,  2324.9,2,   7.5590,2,    25.00, -999.00,9,  -999.0,9,  -999.0,   3.7756,2, -999.00,9,  -999.0,9, -999.00,9, -999.00,9,    21.9075,2,    5.29,2,  -999.0,9,     -999.0,     -999.0,9,     -999.0,9,     -999.0,     -999.0,9,     -999.0,     -999.0,9,     -999.0,     -999.0,       5.29,2,       2.09,2,       2.09,2,     -999.0,9,     -999.0,9,     -999.0,9,     -999.0,9,     -999.0,9
33RO20161119,        P18,     180,          1,         13,      11112,2,20170118,       0447,   -56.0002,  -103.0000,       4455,  1030.2,   3.3389,  34.3555,2,  34.3634,2,    195.7,2,   195.5,2,    46.8,2,    33.1,2,    0.01,2,   2.269,2,   1.8684,2,   0.9478,2,   0.5099,2,  2217.4,6,  2308.9,2,   7.5743,2,    25.00, -999.00,9,  -999.0,9,  -999.0,   4.0746,2, -999.00,9,  -999.0,9, -999.00,9, -999.00,9,    21.3132,2,    5.44,2,  -999.0,9,     -999.0,     -999.0,9,     -999.0,9,     -999.0,     -999.0,9,     -999.0,     -999.0,9,     -999.0,     -999.0,       5.44,2,       2.21,2,       2.21,2,     -999.0,9,18.62794243,2,        8.3,2,      46.11,2,      20.71,2
33RO20161119,        P18,     180,          1,         14,      11113,2,20170118,       0447,   -56.0002,  -103.0000,       4455,   894.9,   3.7104,  34.2914,2,  34.2972,2,    208.8,2,   209.7,2,    36.4,2,    31.7,2,    0.01,2,   2.172,2,   2.5285,2,   1.3079,2,   0.8409,2,  2203.3,2,  2299.8,2,   7.5948,2,    25.00, -999.00,9,  -999.0,9,  -999.0,   3.8024,2, -999.00,9,  -999.0,9, -999.00,9, -999.00,9,    20.0984,2,    5.53,2,  -999.0,9,     -999.0,     -999.0,9,     -999.0,9,     -999.0,     -999.0,9,     -999.0,     -999.0,9,     -999.0,     -999.0,       5.53,2,       2.34,2,       2.34,2,     -999.0,9,     -999.0,9,     -999.0,9,     -999.0,9,     -999.0,9
33RO20161119,        P18,     180,          1,         15,      11114,2,20170118,       0447,   -56.0002,  -103.0000,       4455,   759.8,   4.5174,  34.2749,2,  34.2738,2,    217.3,2,   217.2,6,    26.2,2,    29.8,2,    0.01,2,   2.045,2,   2.8857,2,   1.5056,2,   0.9768,2,  2185.9,2,  2290.5,2,   7.6206,2,    25.00, -999.00,9,  -999.0,9,  -999.0,   3.8292,2, -999.00,9,  -999.0,9, -999.00,9, -999.00,9,    18.4998,2,    5.73,2,  -999.0,9,     -999.0,     -999.0,9,     -999.0,9,     -999.0,     -999.0,9,     -999.0,     -999.0,9,     -999.0,     -999.0,       5.73,2,       2.74,2,       2.74,2,     -999.0,9,16.35837231,2,        8.1,2,      45.54,2,       20.1,2
33RO20161119,        P18,     180,          1,         16,      11115,2,20170118,       0447,   -56.0002,  -103.0000,       4455,   629.8,   5.0690,  34.2424,2,  34.2444,2,    236.9,2,   235.7,2,    17.7,2,    27.0,2,    0.01,2,   1.864,2,   3.3776,2,   1.8238,2,   1.4357,2,  2168.6,2,  2284.9,2,   7.6518,2,    25.00, -999.00,9,  -999.0,9,  -999.0,   4.2214,2, -999.00,9,  -999.0,9, -999.00,9, -999.00,9,    16.5502,2,    5.83,2,  -999.0,9,     -999.0,     -999.0,9,     -999.0,9,     -999.0,     -999.0,9,     -999.0,     -999.0,9,     -999.0,     -999.0,       5.83,2,       2.88,2,       2.88,2,     -999.0,9,14.80922388,2,       7.53,2,      44.84,2,      20.36,2
33RO20161119,        P18,     180,          1,         17,      11116,2,20170118,       0447,   -56.0002,  -103.0000,       4455,   515.6,   5.4195,  34.2123,2,  34.2114,2,    256.3,2,   263.0,2,    11.2,2,    23.9,2,    0.01,2,   1.669,2,   3.8785,2,   2.1316,2,   2.0982,2,  2148.7,2,  2279.7,2,   7.6920,2,    25.00, -999.00,9,  -999.0,9,  -999.0,   4.2031,2, -999.00,9,  -999.0,9, -999.00,9, -999.00,9,    14.4523,2,    6.07,2,  -999.0,9,     -999.0,     -999.0,9,     -999.0,9,     -999.0,     -999.0,9,     -999.0,     -999.0,9,     -999.0,     -999.0,       6.07,2,       3.33,2,       3.33,2,     -999.0,9,12.97883602,2,       7.53,2,      44.42,2,      19.98,2
33RO20161119,        P18,     180,          1,         18,      11117,2,20170118,       0447,   -56.0002,  -103.0000,       4455,   401.3,   5.7920,  34.2154,2,  34.2175,2,    279.3,2,   279.8,2,     7.4,2,    21.2,2,    0.01,2,   1.488,2,   4.0311,2,   2.2604,2,   2.4640,2,  2133.9,2,  2281.4,2,   7.7244,2,    25.00, -999.00,9,  -999.0,9,  -999.0,   4.3335,2, -999.00,9,  -999.0,9, -999.00,9, -999.00,9,    12.8429,2,    6.36,2,  -999.0,9,     -999.0,     -999.0,9,     -999.0,9,     -999.0,     -999.0,9,     -999.0,     -999.0,9,     -999.0,     -999.0,       6.36,2,       3.95,2,       3.95,2,     -999.0,9,11.67860582,2,       7.51,2,      45.81,2,      19.32,2
33RO20161119,        P18,     180,          1,         19,      11083,2,20170118,       0447,   -56.0002,  -103.0000,       4455,   300.4,   6.0651,  34.2305,2,  34.2334,2,    276.7,2,   274.9,2,     6.9,2,    21.2,2,    0.02,2,   1.486,2,   3.9841,2,   2.2366,2,   2.3392,2,  2134.0,2,  2276.2,2,   7.7216,2,    25.00, -999.00,9,  -999.0,9,  -999.0,   4.4655,2, -999.00,9,  -999.0,9, -999.00,9, -999.00,9,    12.9051,2,    6.35,2,  -999.0,9,     -999.0,     -999.0,9,     -999.0,9,     -999.0,     -999.0,9,     -999.0,     -999.0,9,     -999.0,     -999.0,       6.38,2,       3.94,2,       3.75,2,     -999.0,9, 11.8316156,2,       7.39,2,      44.65,2,      20.02,2
33RO20161119,        P18,     180,          1,         20,      11118,2,20170118,       0447,   -56.0002,  -103.0000,       4455,   209.7,   6.2886,  34.2463,2,  34.2569,2,    277.0,2,   274.6,2,     6.2,2,    20.5,2,    0.03,2,   1.437,2,   4.0083,2,   2.2493,2,   2.3986,2,  2132.6,2,  2277.8,2,   7.7271,2,    25.00, -999.00,9,  -999.0,9,  -999.0,   4.4457,2, -999.00,9,  -999.0,9, -999.00,9, -999.00,9,    12.8873,2,    6.39,2,  -999.0,9,     -999.0,     -999.0,9,     -999.0,9,     -999.0,     -999.0,9,     -999.0,     -999.0,9,     -999.0,     -999.0,        6.1,2,       3.66,2,       3.79,2,     -999.0,9,11.67959543,2,       7.15,2,      43.49,2,      19.94,2
33RO20161119,        P18,     180,          1,         21,      11119,2,20170118,       0447,   -56.0002,  -103.0000,       4455,   130.0,   6.3546,  34.2285,2,  34.2269,2,    283.9,2,   282.0,2,     5.2,2,    19.5,2,    0.05,2,   1.376,2,   4.0642,6,   2.2804,6,   2.6314,6,  2127.1,2,  2276.5,2,   7.7383,2,    25.00, -999.00,9,  -999.0,9,  -999.0,   0.3964,2, -999.00,9,  -999.0,9, -999.00,9, -999.00,9,    12.2151,2,    6.61,2,  -999.0,9,     -999.0,     -999.0,9,     -999.0,9,     -999.0,     -999.0,9,     -999.0,     -999.0,9,     -999.0,     -999.0,       6.42,2,       3.95,2,       4.26,2,     -999.0,9,11.17339331,2,       7.21,2,      44.36,2,      19.31,2
33RO20161119,        P18,     180,          1,         22,      11120,2,20170118,       0447,   -56.0002,  -103.0000,       4455,    59.4,   7.6852,  34.1744,2,  34.1795,2,    293.2,2,   292.4,2,     1.1,2,    15.7,2,    0.26,2,   1.169,2,   3.9276,2,   2.2305,2,   2.7043,2,  2105.0,2,  2274.4,6,   7.7959,6,    25.00, -999.00,9,  -999.0,9,  -999.0,   0.1609,2, -999.00,9,  -999.0,9, -999.00,9, -999.00,9,    11.5599,2,    8.84,2,  -999.0,9,     -999.0,     -999.0,9,     -999.0,9,     -999.0,     -999.0,9,     -999.0,     -999.0,9,     -999.0,     -999.0,       7.89,2,       5.55,2,        5.7,2,     -999.0,9,10.57416669,2,       7.22,2,      45.55,2,      19.96,2
33RO20161119,        P18,     180,          1,         23,      11121,2,20170118,       0447,   -56.0002,  -103.0000,       4455,    25.3,   7.7627,  34.1637,2,  34.1641,2,    291.5,2,   293.0,2,     0.4,2,    15.4,2,    0.25,2,   1.116,2,   3.8942,2,   2.2114,2,   2.6662,2,  2100.5,6,  2280.1,2,   7.8045,2,    25.00, -999.00,9,  -999.0,9,  -999.0,   0.1776,2, -999.00,9,  -999.0,9, -999.00,9, -999.00,9,    11.4249,2,    9.02,2,  -999.0,9,     -999.0,     -999.0,9,     -999.0,9,     -999.0,     -999.0,9,     -999.0,     -999.0,9,     -999.0,     -999.0,       8.05,2,       5.74,2,       5.67,2,     -999.0,9,10.49080483,2,       6.86,2,      45.27,2,      18.97,2
33RO20161119,        P18,     180,          1,         24,      11122,2,20170118,       0447,   -56.0002,  -103.0000,       4455,     6.3,   7.7601,  34.1622,2,  34.1635,2,    290.9,2,   292.7,2,     0.5,2,    15.3,2,    0.25,2,   1.110,2,   3.9021,2,   2.2063,2,   2.6456,2,  2101.6,2,  -999.0,9,   7.7998,2,    25.00, -999.00,9,  -999.0,9,  -999.0,   0.1761,2, -999.00,9,  -999.0,9, -999.00,9, -999.00,9,    11.4135,2,     8.9,2,  -999.0,9,     -999.0,     -999.0,9,     -999.0,9,     -999.0,     -999.0,9,     -999.0,     -999.0,9,     -999.0,     -999.0,       8.09,2,       5.54,2,       5.57,2,     -999.0,9,10.46578471,2,       6.93,2,       45.1,2,      18.39,2