BOTTLE,20230606CCHSIOCBG
EXPOCODE,SECT_ID,STNNBR,CASTNO,SAMPNO,BTLNBR,BTLNBR_FLAG_W,DATE,TIME,LATITUDE,LONGITUDE,DEPTH,CTDPRS,CTDTMP,CTDSAL,CTDSAL_FLAG_W,SALNTY,SALNTY_FLAG_W,CTDOXY,CTDOXY_FLAG_W,OXYGEN,OXYGEN_FLAG_W,SILCAT,SILCAT_FLAG_W,NITRAT,NITRAT_FLAG_W,NITRIT,NITRIT_FLAG_W,PHSPHT,PHSPHT_FLAG_W,CFC-11,CFC-11_FLAG_W,CFC-12,CFC-12_FLAG_W,SF6,SF6_FLAG_W,TCARBN,TCARBN_FLAG_W,ALKALI,ALKALI_FLAG_W,PH_SWS,PH_SWS_FLAG_W,PH_TMP,DELC13,DELC13_FLAG_W,DELC14,DELC14_FLAG_W,C14ERR,CCL4,CCL4_FLAG_W,POC,POC_FLAG_W,DOC,DOC_FLAG_W,TDN,TDN_FLAG_W,PON,PON_FLAG_W,N2O,N2O_FLAG_W,D15N_NO3,D15N_NO3_FLAG_W,14C-DOC,14C-DOC_FLAG_W,14C-DOCERR,13C-DOC,13C-DOC_FLAG_W,N2/ARGON_UNSTRIPPED,N2/ARGON_UNSTRIPPED_FLAG_W,N2/ARGON_UNSTRIPPED_ERROR,N2/ARGON,N2/ARGON_FLAG_W,N2/ARGON_ERROR,D15N_N2,D15N_N2_FLAG_W,D15N_N2_ERROR,D15N_NO3_ERROR,D15N_NO2+NO3,D15N_NO2+NO3_FLAG_W,D18O_NO2+NO3,D18O_NO2+NO3_FLAG_W,D18O_NO3,D18O_NO3_FLAG_W,TDP,TDP_FLAG_W,N2O_ALT_1,N2O_ALT_1_FLAG_W,D15N_N2O,D15N_N2O_FLAG_W,D18O_N2O,D18O_N2O_FLAG_W,D15N_ALPHA_N2O,D15N_ALPHA_N2O_FLAG_W
,,,,,,,,,,,METERS,DBAR,ITS-90,PSS-78,,PSS-78,,UMOL/KG,,UMOL/KG,,UMOL/KG,,UMOL/KG,,UMOL/KG,,UMOL/KG,,PMOL/KG,,PMOL/KG,,FMOL/KG,,UMOL/KG,,UMOL/KG,,,,DEG C,/MILLE,,/MILLE,,/MILLE,PMOL/KG,,UG/KG,,UMOL/KG,,UMOL/KG,,UG/KG,,NMOL/KG,,/MILLE,,/MILLE,,/MILLE,/MILLE,,,,,,,,/MILLE,,/MILLE,/MILLE,/MILLE,,/MILLE,,/MILLE,,UMOL/KG,,NMOL/L,,/MILLE,,/MILLE,,/MILLE,
33RO20161119,        P18,      32,          1,          1,      11010,2,20161202,       0413,     8.4999,  -109.9994,       3888,  3927.4,   1.5776,  34.6855,2,  34.6872,2,    140.4,2,   139.1,2,   150.1,6,    36.9,6,    0.01,6,   2.506,6,-999.0000,9,-999.0000,9,-999.0000,9,  2342.2,6,  2435.1,2,   7.5646,2,    25.00, -999.00,9,  -999.0,9,  -999.0,-999.0000,9, -999.00,9,  -999.0,9, -999.00,9, -999.00,9,     -999.0,9, -999.00,9,  -999.0,9,     -999.0,     -999.0,9,     -999.0,9,     -999.0,     -999.0,9,     -999.0,     -999.0,9,     -999.0,     -999.0,     -999.0,9,     -999.0,9,     -999.0,9,     -999.0,9,     -999.0,9,     -999.0,9,     -999.0,9,     -999.0,9
33RO20161119,        P18,      32,          1,          2,      11101,2,20161202,       0413,     8.4999,  -109.9994,       3888,  3549.7,   1.5835,  34.6835,2,  34.6794,4,    135.5,2,   135.3,2,   151.0,6,    37.1,6,    0.01,6,   2.515,6,-999.0000,9,-999.0000,9,-999.0000,9,  2344.5,2,  2433.4,6,   7.5571,2,    25.00, -999.00,9,  -999.0,9,  -999.0,-999.0000,9, -999.00,9,  -999.0,9, -999.00,9, -999.00,9,     -999.0,9,    8.38,3,  -999.0,9,     -999.0,     -999.0,9,     -999.0,9,     -999.0,     -999.0,9,     -999.0,     -999.0,9,     -999.0,       0.83,     -999.0,9,     -999.0,9,     -999.0,9,     -999.0,9,     -999.0,9,     -999.0,9,     -999.0,9,     -999.0,9
33RO20161119,        P18,      32,          1,          3,      11102,2,20161202,       0413,     8.4999,  -109.9994,       3888,  3220.8,   1.6351,  34.6795,2,  34.6801,2,    127.8,2,   127.8,2,   152.3,6,    37.5,6,    0.01,6,   2.561,6,-999.0000,9,-999.0000,9,-999.0000,9,  2350.2,2,  2434.3,2,   7.5417,2,    25.00, -999.00,9,  -999.0,9,  -999.0,-999.0000,9, -999.00,9,  -999.0,9, -999.00,9, -999.00,9,     -999.0,9, -999.00,9,  -999.0,9,     -999.0,     -999.0,9,     -999.0,9,     -999.0,     -999.0,9,     -999.0,     -999.0,9,     -999.0,     -999.0,     -999.0,9,     -999.0,9,     -999.0,9,     -999.0,9,     -999.0,9,     -999.0,9,     -999.0,9,     -999.0,9
33RO20161119,        P18,      32,          1,          4,      11103,2,20161202,       0413,     8.4999,  -109.9994,       3888,  2899.0,   1.7836,  34.6721,2,  34.6704,2,    115.0,2,   114.8,2,   153.2,6,    38.2,6,    0.01,6,   2.628,6,-999.0000,9,-999.0000,9,-999.0000,9,  2356.9,2,  2433.1,2,   7.5196,6,    25.00, -999.00,9,  -999.0,9,  -999.0,-999.0000,9, -999.00,9,  -999.0,9, -999.00,9, -999.00,9,     -999.0,9, -999.00,9,  -999.0,9,     -999.0,     -999.0,9,     -999.0,9,     -999.0,     -999.0,9,     -999.0,     -999.0,9,     -999.0,     -999.0,     -999.0,9,     -999.0,9,     -999.0,9,     -999.0,9,     -999.0,9,     -999.0,9,     -999.0,9,     -999.0,9
33RO20161119,        P18,      32,          1,          5,      11104,2,20161202,       0413,     8.4999,  -109.9994,       3888,  2598.8,   1.8511,  34.6679,2,  34.6656,2,    109.5,2,   109.1,2,   152.2,2,    38.5,2,    0.01,2,   2.654,2,-999.0000,9,-999.0000,9,-999.0000,9,  2360.3,2,  2432.7,2,   7.5033,2,    25.00, -999.00,9,  -999.0,9,  -999.0,-999.0000,9, -999.00,9,  -999.0,9, -999.00,9, -999.00,9,     -999.0,9, -999.00,9,  -999.0,9,     -999.0,     -999.0,9,      37.98,2,     -999.0,      38.13,2,     -999.0,       1.03,2,       0.05,     -999.0,     -999.0,9,     -999.0,9,     -999.0,9,     -999.0,9,     -999.0,9,     -999.0,9,     -999.0,9,     -999.0,9
33RO20161119,        P18,      32,          1,          6,      11105,2,20161202,       0413,     8.4999,  -109.9994,       3888,  2299.8,   1.9491,  34.6611,2,  34.6585,2,    103.6,2,   102.8,2,   150.1,2,    39.0,2,    0.01,2,   2.702,2,-999.0000,9,-999.0000,9,-999.0000,9,  2360.5,2,  2414.4,3,   7.4950,2,    25.00, -999.00,9,  -999.0,9,  -999.0,-999.0000,9, -999.00,9,  -999.0,9, -999.00,9, -999.00,9,     -999.0,9, -999.00,9,  -999.0,9,     -999.0,     -999.0,9,      38.11,2,       0.01,      38.28,2,       0.01,     -999.0,9,     -999.0,     -999.0,     -999.0,9,     -999.0,9,     -999.0,9,     -999.0,9,23.49569082,2,       9.27,2,      54.57,2,      22.73,2
33RO20161119,        P18,      32,          1,          7,      11106,2,20161202,       0413,     8.4999,  -109.9994,       3888,  2000.1,   2.2592,  34.6436,2,  34.6416,2,     89.2,2,    88.9,2,   143.7,2,    40.2,2,    0.01,2,   2.802,2,-999.0000,9,-999.0000,9,-999.0000,9,  2361.3,2,  2419.6,2,   7.4640,2,    25.00, -999.00,9,  -999.0,9,  -999.0,-999.0000,9, -999.00,9,  -999.0,9, -999.00,9, -999.00,9,     -999.0,9, -999.00,9,  -999.0,9,     -999.0,     -999.0,9,      37.95,2,     -999.0,      38.09,2,     -999.0,       0.99,2,       0.01,     -999.0,     -999.0,9,     -999.0,9,     -999.0,9,     -999.0,9,27.98536686,2,       9.55,2,      54.58,2,      23.08,2
33RO20161119,        P18,      32,          1,          8,      11107,2,20161202,       0413,     8.4999,  -109.9994,       3888,  1700.2,   2.7077,  34.6188,2,  34.6166,2,     77.3,2,    77.1,2,   132.1,2,    41.0,2,    0.01,2,   2.875,2,-999.0000,9,-999.0000,9,-999.0000,9,  2356.0,2,  2405.5,2,   7.4428,2,    25.00, -999.00,9,  -999.0,9,  -999.0,-999.0000,9, -999.00,9,  -999.0,9, -999.00,9, -999.00,9,     -999.0,9, -999.00,9,  -999.0,9,     -999.0,     -999.0,9,      38.02,2,       0.03,      38.17,2,       0.04,     -999.0,9,     -999.0,     -999.0,     -999.0,9,     -999.0,9,     -999.0,9,     -999.0,9,31.62759836,2,       9.45,2,      55.98,2,      23.18,2
33RO20161119,        P18,      32,          1,          9,      11108,2,20161202,       0413,     8.4999,  -109.9994,       3888,  1440.0,   3.2169,  34.6019,2,  34.5965,2,     62.0,2,    61.5,2,   121.6,2,    42.1,2,    0.01,2,   2.974,2,-999.0000,9,-999.0000,9,-999.0000,9,  2353.4,2,  2391.1,2,   7.4145,2,    25.00, -999.00,9,  -999.0,9,  -999.0,-999.0000,9, -999.00,9,  -999.0,9, -999.00,9, -999.00,9,     -999.0,9,    8.04,3,  -999.0,9,     -999.0,     -999.0,9,      37.88,2,     -999.0,      38.02,2,     -999.0,       0.94,2,       0.02,       0.68,     -999.0,9,     -999.0,9,     -999.0,9,     -999.0,9,34.44160453,2,       9.21,2,      54.87,2,      21.07,2
33RO20161119,        P18,      32,          1,         10,      11109,2,20161202,       0413,     8.4999,  -109.9994,       3888,  1274.7,   3.5317,  34.5907,2,  34.5903,2,     51.8,2,    51.5,2,   114.9,2,    42.8,2,    0.01,2,   3.040,2,-999.0000,9,-999.0000,9,-999.0000,9,  2352.0,2,  2384.9,2,   7.3935,2,    25.00, -999.00,9,  -999.0,9,  -999.0,-999.0000,9, -999.00,9,  -999.0,9, -999.00,9, -999.00,9,     -999.0,9,    8.99,2,  -999.0,9,     -999.0,     -999.0,9,      38.01,2,       0.04,      38.17,2,       0.02,     -999.0,9,     -999.0,       0.36,     -999.0,9,     -999.0,9,     -999.0,9,     -999.0,9,     -999.0,9,     -999.0,9,     -999.0,9,     -999.0,9
33RO20161119,        P18,      32,          1,         11,      11110,2,20161202,       0413,     8.4999,  -109.9994,       3888,  1134.8,   3.9485,  34.5787,2,  34.5782,2,     40.2,2,    39.6,2,   106.7,2,    43.7,2,    0.01,2,   3.118,2,-999.0000,9,-999.0000,9,-999.0000,9,  2349.1,2,  2373.5,2,   7.3714,2,    25.00, -999.00,9,  -999.0,9,  -999.0,-999.0000,9, -999.00,9,  -999.0,9, -999.00,9, -999.00,9,     -999.0,9,    8.42,2,  -999.0,9,     -999.0,     -999.0,9,      38.04,2,     -999.0,      38.19,2,     -999.0,       0.93,2,       0.01,       0.45,     -999.0,9,     -999.0,9,     -999.0,9,     -999.0,9,40.17002034,2,       8.81,2,      54.46,2,      19.39,2
33RO20161119,        P18,      32,          1,         12,      11111,2,20161202,       0413,     8.4999,  -109.9994,       3888,  1004.7,   4.3254,  34.5682,2,  34.5677,2,     31.8,2,    30.9,2,    99.1,2,    44.1,2,    0.01,2,   3.164,2,   0.0025,2,   0.0031,2,   0.0000,2,  2347.9,2,  2365.2,2,   7.3560,2,    25.00, -999.00,9,  -999.0,9,  -999.0,   0.0113,2, -999.00,9,  -999.0,9, -999.00,9, -999.00,9,    44.7303,2,    8.94,3,  -999.0,9,     -999.0,     -999.0,9,      37.99,2,       0.05,      38.13,2,       0.06,     -999.0,9,     -999.0,        0.8,     -999.0,9,     -999.0,9,     -999.0,9,     -999.0,9,43.57415787,2,       8.62,2,      54.66,2,      19.69,2
33RO20161119,        P18,      32,          1,         13,      11112,2,20161202,       0413,     8.4999,  -109.9994,       3888,   880.1,   4.8598,  34.5576,2,  34.5595,2,     22.8,2,    22.0,2,    88.7,2,    44.4,2,    0.01,2,   3.185,2,-999.0000,9,-999.0000,9,-999.0000,9,  2338.5,2,  2353.8,2,   7.3421,2,    25.00, -999.00,9,  -999.0,9,  -999.0,-999.0000,9, -999.00,9,  -999.0,9, -999.00,9, -999.00,9,     -999.0,9,    8.76,3,  -999.0,9,     -999.0,     -999.0,9,      37.99,2,     -999.0,      38.12,2,     -999.0,       0.87,2,       0.03,        0.8,     -999.0,9,     -999.0,9,     -999.0,9,     -999.0,9,48.07235299,2,       8.17,2,      54.15,2,      15.69,2
33RO20161119,        P18,      32,          1,         14,      11113,2,20161202,       0413,     8.4999,  -109.9994,       3888,   755.0,   5.5547,  34.5542,2,  34.5520,2,     10.1,2,     9.4,2,    77.7,2,    44.5,2,    0.01,2,   3.199,2,   0.0027,2,   0.0024,2,   0.0000,2,  2332.0,6,  2342.9,2,   7.3229,2,    25.00, -999.00,9,  -999.0,9,  -999.0,   0.0191,2, -999.00,9,  -999.0,9, -999.00,9, -999.00,9,    58.1488,2,    9.94,2,  -999.0,9,     -999.0,     -999.0,9,      37.78,2,       0.03,      37.97,2,       0.03,     -999.0,9,     -999.0,       0.51,     -999.0,9,     -999.0,9,     -999.0,9,     -999.0,9,54.40097212,2,       7.78,2,       54.8,2,      14.99,2
33RO20161119,        P18,      32,          1,         15,      11114,2,20161202,       0413,     8.4999,  -109.9994,       3888,   640.0,   6.2152,  34.5554,2,  34.5543,2,      5.6,2,     4.7,2,    69.1,2,    42.9,2,    0.01,2,   3.154,2,-999.0000,9,-999.0000,9,-999.0000,9,  2324.4,2,  2334.6,6,   7.3225,2,    25.00, -999.00,9,  -999.0,9,  -999.0,-999.0000,9, -999.00,9,  -999.0,9, -999.00,9, -999.00,9,     -999.0,9,    9.45,3,  -999.0,9,     -999.0,     -999.0,9,      37.97,2,     -999.0,       38.1,2,     -999.0,       0.81,2,       0.03,       0.67,     -999.0,9,     -999.0,9,     -999.0,9,     -999.0,9,59.30415241,2,       7.38,2,      56.24,2,      14.58,2
33RO20161119,        P18,      32,          1,         16,      11115,2,20161202,       0413,     8.4999,  -109.9994,       3888,   530.9,   7.1499,  34.5682,2,  34.5663,2,      2.4,2,     1.4,2,    60.4,2,    38.8,2,    0.01,2,   3.095,2,   0.0099,6,   0.0075,6,   0.0261,6,  2314.2,2,  2324.3,2,   7.3285,2,    25.00, -999.00,9,  -999.0,9,  -999.0,        0,2, -999.00,9,  -999.0,9, -999.00,9, -999.00,9,    38.9263,2,   14.67,2,  -999.0,9,     -999.0,     -999.0,9,      38.01,2,        0.0,      38.14,2,        0.0,     -999.0,9,     -999.0,     -999.0,     -999.0,9,     -999.0,9,     -999.0,9,     -999.0,9,50.13296514,2,       8.25,2,      64.47,2,      22.86,2
33RO20161119,        P18,      32,          1,         17,      11116,2,20161202,       0413,     8.4999,  -109.9994,       3888,   425.1,   8.4509,  34.6030,2,  34.6026,2,      2.4,2,     1.1,2,    49.3,2,    33.4,2,    0.02,2,   2.925,2,-999.0000,9,-999.0000,9,-999.0000,9,  2300.1,2,  2317.6,2,   7.3462,2,    25.00, -999.00,9,  -999.0,9,  -999.0,-999.0000,9, -999.00,9,  -999.0,9, -999.00,9, -999.00,9,     -999.0,9,    16.7,3,  -999.0,9,     -999.0,     -999.0,9,      38.26,2,     -999.0,      38.42,2,     -999.0,       0.69,2,       0.01,       1.37,     -999.0,9,     -999.0,9,     -999.0,9,     -999.0,9,29.38720308,2,      13.12,2,      72.58,2,       30.2,2
33RO20161119,        P18,      32,          1,         18,      11117,2,20161202,       0413,     8.4999,  -109.9994,       3888,   324.7,   9.8975,  34.6704,2,  34.6723,2,      2.6,2,     1.6,6,    37.2,2,    31.6,2,    0.01,2,   2.692,2,   0.2711,2,   0.1562,2,   0.0446,2,  2283.6,2,  2306.7,2,   7.3647,2,    25.00, -999.00,9,  -999.0,9,  -999.0,    0.068,2, -999.00,9,  -999.0,9, -999.00,9, -999.00,9,    32.8356,2,   16.55,2,  -999.0,9,     -999.0,     -999.0,9,      38.23,2,     -999.0,      38.35,2,     -999.0,     -999.0,9,     -999.0,       0.58,     -999.0,9,     -999.0,9,     -999.0,9,     -999.0,9,40.43650353,2,      10.15,2,      61.56,2,      21.74,2
33RO20161119,        P18,      32,          1,         19,      11083,2,20161202,       0413,     8.4999,  -109.9994,       3888,   239.7,  11.0390,  34.7351,2,  34.7340,2,      3.9,2,     5.4,2,    30.5,2,    31.8,2,    0.02,2,   2.511,2,-999.0000,9,-999.0000,9,-999.0000,9,  2266.0,2,  2300.6,2,   7.3936,2,    25.00, -999.00,9,  -999.0,9,  -999.0,-999.0000,9, -999.00,9,  -999.0,9, -999.00,9, -999.00,9,     -999.0,9,   12.41,2,  -999.0,9,     -999.0,     -999.0,9,      38.08,2,       0.02,      38.19,2,       0.02,       0.66,2,       0.04,       0.23,     -999.0,9,     -999.0,9,     -999.0,9,     -999.0,9,48.46346621,2,       7.27,2,      54.62,2,       19.8,2
33RO20161119,        P18,      32,          1,         20,      11118,2,20161202,       0413,     8.4999,  -109.9994,       3888,   165.2,  12.1667,  34.7939,2,  34.7948,2,      6.2,2,     5.5,6,    26.3,2,    31.6,2,    0.02,2,   2.396,2,   0.9950,2,   0.5583,2,   0.2359,2,  2253.2,2,  2298.0,2,   7.4215,2,    25.00, -999.00,9,  -999.0,9,  -999.0,    0.067,2, -999.00,9,  -999.0,9, -999.00,9, -999.00,9,    67.4697,2,   10.08,3,  -999.0,9,     -999.0,     -999.0,9,      37.96,2,     -999.0,      38.06,2,     -999.0,     -999.0,9,     -999.0,       1.23,     -999.0,9,     -999.0,9,     -999.0,9,     -999.0,9,67.21557584,2,        5.7,2,      49.97,2,        8.7,2
33RO20161119,        P18,      32,          1,         21,      11119,2,20161202,       0413,     8.4999,  -109.9994,       3888,    99.6,  14.1189,  34.7924,2,  34.7918,2,      4.4,2,     2.1,2,    22.8,2,    27.2,2,    0.06,2,   2.398,2,   1.2794,2,   0.7401,2,   0.4218,2,  2247.0,2,  2295.8,2,   7.4373,2,    25.00, -999.00,9,  -999.0,9,  -999.0,   0.6812,2, -999.00,9,  -999.0,9, -999.00,9, -999.00,9,    76.0772,2,   10.76,2,  -999.0,9,     -999.0,     -999.0,9,      38.27,2,     -999.0,      38.38,2,     -999.0,     -999.0,9,     -999.0,       0.32,     -999.0,9,     -999.0,9,     -999.0,9,     -999.0,9,74.64477749,2,        4.6,2,       53.9,2,       3.69,2
33RO20161119,        P18,      32,          1,         22,      11120,2,20161202,       0413,     8.4999,  -109.9994,       3888,    50.0,  23.5468,  34.3424,2,  34.3447,2,    193.7,2,   187.8,2,     2.4,2,     0.1,2,    0.02,2,   0.421,2,   1.7976,2,   1.1130,2,   1.3872,2,  2018.7,2,  2273.1,6,   7.9678,2,    25.00, -999.00,9,  -999.0,9,  -999.0,   1.5309,2, -999.00,9,  -999.0,9, -999.00,9, -999.00,9,    19.8393,2, -999.00,9,  -999.0,9,     -999.0,     -999.0,9,      38.19,2,     -999.0,       38.2,2,     -999.0,       0.36,2,       0.01,     -999.0,     -999.0,9,     -999.0,9,     -999.0,9,     -999.0,9,20.34587272,2,       4.52,2,      49.19,2,      19.24,2
33RO20161119,        P18,      32,          1,         23,      11121,2,20161202,       0413,     8.4999,  -109.9994,       3888,    19.7,  27.8063,  32.2835,2,  32.3217,2,    198.1,2,   201.5,2,     0.6,2,     0.0,2,    0.01,2,   0.115,2,   1.5344,2,   0.9734,2,   1.3509,2,  1830.3,2,  2127.5,2,   8.0913,2,    25.00, -999.00,9,  -999.0,9,  -999.0,   1.5439,2, -999.00,9,  -999.0,9, -999.00,9, -999.00,9,     6.6603,2, -999.00,9,  -999.0,9,     -999.0,     -999.0,9,      38.38,2,     -999.0,      38.38,2,     -999.0,     -999.0,9,     -999.0,     -999.0,     -999.0,9,     -999.0,9,     -999.0,9,     -999.0,9,7.044877711,2,       6.35,2,      49.46,2,      19.07,2
33RO20161119,        P18,      32,          1,         24,      11122,2,20161202,       0413,     8.4999,  -109.9994,       3888,     3.6,  27.8128,  32.1903,2,  32.1992,2,    198.0,2,   201.3,2,     0.7,2,     0.0,2,    0.01,2,   0.115,2,   1.5194,2,   0.9685,2,   1.3909,2,  1824.2,6,  2122.1,2,   8.0935,2,    25.00, -999.00,9,  -999.0,9,  -999.0,        0,2, -999.00,9,  -999.0,9, -999.00,9, -999.00,9,     6.1721,2,   12.55,3,  -999.0,9,     -999.0,     -999.0,9,       38.4,2,     -999.0,      38.38,2,     -999.0,     -999.0,9,     -999.0,       0.67,     -999.0,9,     -999.0,9,     -999.0,9,     -999.0,9,6.772484838,2,       6.06,2,      48.93,2,      16.07,2