BOTTLE,20230606CCHSIOCBG
EXPOCODE,SECT_ID,STNNBR,CASTNO,SAMPNO,BTLNBR,BTLNBR_FLAG_W,DATE,TIME,LATITUDE,LONGITUDE,DEPTH,CTDPRS,CTDTMP,CTDSAL,CTDSAL_FLAG_W,SALNTY,SALNTY_FLAG_W,CTDOXY,CTDOXY_FLAG_W,OXYGEN,OXYGEN_FLAG_W,SILCAT,SILCAT_FLAG_W,NITRAT,NITRAT_FLAG_W,NITRIT,NITRIT_FLAG_W,PHSPHT,PHSPHT_FLAG_W,CFC-11,CFC-11_FLAG_W,CFC-12,CFC-12_FLAG_W,SF6,SF6_FLAG_W,TCARBN,TCARBN_FLAG_W,ALKALI,ALKALI_FLAG_W,PH_SWS,PH_SWS_FLAG_W,PH_TMP,DELC13,DELC13_FLAG_W,DELC14,DELC14_FLAG_W,C14ERR,CCL4,CCL4_FLAG_W,POC,POC_FLAG_W,DOC,DOC_FLAG_W,TDN,TDN_FLAG_W,PON,PON_FLAG_W,N2O,N2O_FLAG_W,D15N_NO3,D15N_NO3_FLAG_W,14C-DOC,14C-DOC_FLAG_W,14C-DOCERR,13C-DOC,13C-DOC_FLAG_W,N2/ARGON_UNSTRIPPED,N2/ARGON_UNSTRIPPED_FLAG_W,N2/ARGON_UNSTRIPPED_ERROR,N2/ARGON,N2/ARGON_FLAG_W,N2/ARGON_ERROR,D15N_N2,D15N_N2_FLAG_W,D15N_N2_ERROR,D15N_NO3_ERROR,D15N_NO2+NO3,D15N_NO2+NO3_FLAG_W,D18O_NO2+NO3,D18O_NO2+NO3_FLAG_W,D18O_NO3,D18O_NO3_FLAG_W,TDP,TDP_FLAG_W,N2O_ALT_1,N2O_ALT_1_FLAG_W,D15N_N2O,D15N_N2O_FLAG_W,D18O_N2O,D18O_N2O_FLAG_W,D15N_ALPHA_N2O,D15N_ALPHA_N2O_FLAG_W
,,,,,,,,,,,METERS,DBAR,ITS-90,PSS-78,,PSS-78,,UMOL/KG,,UMOL/KG,,UMOL/KG,,UMOL/KG,,UMOL/KG,,UMOL/KG,,PMOL/KG,,PMOL/KG,,FMOL/KG,,UMOL/KG,,UMOL/KG,,,,DEG C,/MILLE,,/MILLE,,/MILLE,PMOL/KG,,UG/KG,,UMOL/KG,,UMOL/KG,,UG/KG,,NMOL/KG,,/MILLE,,/MILLE,,/MILLE,/MILLE,,,,,,,,/MILLE,,/MILLE,/MILLE,/MILLE,,/MILLE,,/MILLE,,UMOL/KG,,NMOL/L,,/MILLE,,/MILLE,,/MILLE,
33RO20161119,        P18,     157,          2,          1,      11010,2,20170111,       1913,   -44.5003,  -103.0004,       3808,  3859.4,   1.1825,  34.7092,2,  34.7134,4,    192.4,2,   192.6,2,   121.3,2,    32.9,2,    0.01,2,   2.294,2,-999.0000,9,-999.0000,9,-999.0000,9,  2279.6,2,  2382.0,6,   7.6011,2,    25.00, -999.00,9,  -999.0,9,  -999.0,-999.0000,9, -999.00,9,    38.4,2,   33.20,2, -999.00,9,     -999.0,9, -999.00,9,  -999.0,9,     -999.0,     -999.0,9,     -999.0,9,     -999.0,     -999.0,9,     -999.0,     -999.0,9,     -999.0,     -999.0,     -999.0,9,     -999.0,9,     -999.0,9,     -999.0,9,     -999.0,9,     -999.0,9,     -999.0,9,     -999.0,9
33RO20161119,        P18,     157,          2,          2,      11101,2,20170111,       1913,   -44.5003,  -103.0004,       3808,  3657.1,   1.2139,  34.7094,2,  34.7199,4,    190.9,2,   190.9,2,   120.7,2,    32.8,2,    0.01,2,   2.290,2,-999.0000,9,-999.0000,9,-999.0000,9,  2278.7,2,  2382.5,2,   7.6017,2,    25.00, -999.00,9,  -999.0,9,  -999.0,-999.0000,9, -999.00,9,    38.8,2,   35.60,2, -999.00,9,     -999.0,9, -999.00,9,  -999.0,9,     -999.0,     -999.0,9,     -999.0,9,     -999.0,     -999.0,9,     -999.0,     -999.0,9,     -999.0,     -999.0,     -999.0,9,     -999.0,9,     -999.0,9,     -999.0,9,     -999.0,9,     -999.0,9,     -999.0,9,     -999.0,9
33RO20161119,        P18,     157,          2,          3,      11102,2,20170111,       1913,   -44.5003,  -103.0004,       3808,  3505.6,   1.3308,  34.7098,2,  34.7092,2,    187.8,2,   187.9,2,   117.5,6,    32.9,6,    0.01,6,   2.293,6,-999.0000,9,-999.0000,9,-999.0000,9,  2277.4,6,  2381.6,2,   7.6001,2,    25.00, -999.00,9,  -999.0,9,  -999.0,-999.0000,9, -999.00,9,    40.5,2,   35.10,2, -999.00,9,     -999.0,9, -999.00,9,  -999.0,9,     -999.0,     -999.0,9,     -999.0,9,     -999.0,     -999.0,9,     -999.0,     -999.0,9,     -999.0,     -999.0,     -999.0,9,     -999.0,9,     -999.0,9,     -999.0,9,     -999.0,9,     -999.0,9,     -999.0,9,     -999.0,9
33RO20161119,        P18,     157,          2,          4,      11103,2,20170111,       1913,   -44.5003,  -103.0004,       3808,  3175.0,   1.5831,  34.7102,2,  34.7084,2,    181.4,2,   181.4,2,   110.6,6,    32.8,6,    0.00,6,   2.293,6,-999.0000,9,-999.0000,9,-999.0000,9,  2276.5,2,  2376.3,2,   7.5918,2,    25.00, -999.00,9,  -999.0,9,  -999.0,-999.0000,9, -999.00,9,    38.5,2,   36.00,2, -999.00,9,     -999.0,9, -999.00,9,  -999.0,9,     -999.0,     -999.0,9,     -999.0,9,     -999.0,     -999.0,9,     -999.0,     -999.0,9,     -999.0,     -999.0,     -999.0,9,     -999.0,9,     -999.0,9,     -999.0,9,     -999.0,9,     -999.0,9,     -999.0,9,     -999.0,9
33RO20161119,        P18,     157,          2,          5,      11104,2,20170111,       1913,   -44.5003,  -103.0004,       3808,  2879.8,   1.7047,  34.7046,2,  34.7040,2,    175.9,2,   176.1,2,   108.5,6,    33.4,6,    0.01,6,   2.315,6,-999.0000,9,-999.0000,9,-999.0000,9,  2280.6,2,  2375.0,2,   7.5855,2,    25.00, -999.00,9,  -999.0,9,  -999.0,-999.0000,9, -999.00,9,    38.7,2,   35.80,2, -999.00,9,     -999.0,9, -999.00,9,  -999.0,9,     -999.0,     -999.0,9,     -999.0,9,     -999.0,     -999.0,9,     -999.0,     -999.0,9,     -999.0,     -999.0,     -999.0,9,     -999.0,9,     -999.0,9,     -999.0,9,     -999.0,9,     -999.0,9,     -999.0,9,     -999.0,9
33RO20161119,        P18,     157,          2,          6,      11105,2,20170111,       1913,   -44.5003,  -103.0004,       3808,  2560.6,   1.8620,  34.6976,2,  34.6969,2,    171.8,2,   171.5,2,   104.0,6,    33.3,6,    0.00,6,   2.315,6,-999.0000,9,-999.0000,9,-999.0000,9,  2277.8,2,  2373.6,2,   7.5772,2,    25.00, -999.00,9,  -999.0,9,  -999.0,-999.0000,9, -999.00,9,    38.9,2,   36.30,2, -999.00,9,     -999.0,9, -999.00,9,  -999.0,9,     -999.0,     -999.0,9,     -999.0,9,     -999.0,     -999.0,9,     -999.0,     -999.0,9,     -999.0,     -999.0,     -999.0,9,     -999.0,9,     -999.0,9,     -999.0,9,     -999.0,9,     -999.0,9,     -999.0,9,     -999.0,9
33RO20161119,        P18,     157,          2,          7,      11106,2,20170111,       1913,   -44.5003,  -103.0004,       3808,  2260.9,   2.1077,  34.6822,2,  34.6886,4,    169.4,2,   169.7,2,    94.1,2,    33.1,2,    0.00,2,   2.311,2,-999.0000,9,-999.0000,9,-999.0000,9,  2271.9,6,  2362.6,2,   7.5709,2,    25.00, -999.00,9,  -999.0,9,  -999.0,-999.0000,9, -999.00,9,    38.9,2,   36.40,2, -999.00,9,     -999.0,9, -999.00,9,  -999.0,9,     -999.0,     -999.0,9,     -999.0,9,     -999.0,     -999.0,9,     -999.0,     -999.0,9,     -999.0,     -999.0,     -999.0,9,     -999.0,9,     -999.0,9,     -999.0,9,     -999.0,9,     -999.0,9,     -999.0,9,     -999.0,9
33RO20161119,        P18,     157,          2,          8,      11107,2,20170111,       1913,   -44.5003,  -103.0004,       3808,  1950.5,   2.3625,  34.6312,2,  34.6399,4,    165.8,2,   165.4,2,    84.7,2,    33.9,2,    0.00,2,   2.364,2,-999.0000,9,-999.0000,9,-999.0000,9,  2264.8,2,  2351.9,2,   7.5596,2,    25.00, -999.00,9,  -999.0,9,  -999.0,-999.0000,9, -999.00,9,    40.2,2,   36.40,2, -999.00,9,     -999.0,9, -999.00,9,  -999.0,9,     -999.0,     -999.0,9,     -999.0,9,     -999.0,     -999.0,9,     -999.0,     -999.0,9,     -999.0,     -999.0,     -999.0,9,     -999.0,9,     -999.0,9,     -999.0,9,     -999.0,9,     -999.0,9,     -999.0,9,     -999.0,9
33RO20161119,        P18,     157,          2,          9,      11108,2,20170111,       1913,   -44.5003,  -103.0004,       3808,  1547.5,   2.8748,  34.5164,2,  34.5185,2,    149.8,2,   149.6,2,    74.3,2,    36.0,2,    0.00,2,   2.518,2,-999.0000,9,-999.0000,9,-999.0000,9,  2265.9,2,  2340.6,2,   7.5280,6,    25.00, -999.00,9,  -999.0,9,  -999.0,-999.0000,9, -999.00,9,    41.4,2,   39.30,2, -999.00,9,     -999.0,9, -999.00,9,  -999.0,9,     -999.0,     -999.0,9,     -999.0,9,     -999.0,     -999.0,9,     -999.0,     -999.0,9,     -999.0,     -999.0,     -999.0,9,     -999.0,9,     -999.0,9,     -999.0,9,     -999.0,9,     -999.0,9,     -999.0,9,     -999.0,9
33RO20161119,        P18,     157,          2,         10,      11109,2,20170111,       1913,   -44.5003,  -103.0004,       3808,  1395.0,   3.1040,  34.4602,2,  34.4725,4,    156.1,2,   155.9,6,    64.4,2,    35.7,2,    0.00,2,   2.496,2,-999.0000,9,-999.0000,9,-999.0000,9,  2252.0,2,  2329.5,6,   7.5327,2,    25.00, -999.00,9,  -999.0,9,  -999.0,-999.0000,9, -999.00,9,    40.5,2,   39.30,2, -999.00,9,     -999.0,9, -999.00,9,  -999.0,9,     -999.0,     -999.0,9,     -999.0,9,     -999.0,     -999.0,9,     -999.0,     -999.0,9,     -999.0,     -999.0,     -999.0,9,     -999.0,9,     -999.0,9,     -999.0,9,     -999.0,9,     -999.0,9,     -999.0,9,     -999.0,9
33RO20161119,        P18,     157,          2,         11,      11110,2,20170111,       1913,   -44.5003,  -103.0004,       3808,  1255.2,   3.3513,  34.3949,2,  34.4117,4,    174.8,2,   176.3,2,    51.4,2,    34.2,2,    0.00,2,   2.384,2,-999.0000,9,-999.0000,9,-999.0000,9,  2230.4,2,  2316.9,2,   7.5565,2,    25.00, -999.00,9,  -999.0,9,  -999.0,-999.0000,9, -999.00,9,    39.4,2,   36.50,2, -999.00,9,     -999.0,9, -999.00,9,  -999.0,9,     -999.0,     -999.0,9,     -999.0,9,     -999.0,     -999.0,9,     -999.0,     -999.0,9,     -999.0,     -999.0,     -999.0,9,     -999.0,9,     -999.0,9,     -999.0,9,     -999.0,9,     -999.0,9,     -999.0,9,     -999.0,9
33RO20161119,        P18,     157,          2,         12,      11111,2,20170111,       1913,   -44.5003,  -103.0004,       3808,  1115.4,   3.8401,  34.3323,2,  34.3316,2,    195.8,2,   194.7,2,    38.3,2,    32.4,2,    0.00,2,   2.246,2,-999.0000,9,-999.0000,9,-999.0000,9,  2206.4,2,  2303.1,2,   7.5841,2,    25.00, -999.00,9,  -999.0,9,  -999.0,-999.0000,9, -999.00,9,    42.5,2,   34.80,2, -999.00,9,     -999.0,9, -999.00,9,  -999.0,9,     -999.0,     -999.0,9,     -999.0,9,     -999.0,     -999.0,9,     -999.0,     -999.0,9,     -999.0,     -999.0,     -999.0,9,     -999.0,9,     -999.0,9,     -999.0,9,     -999.0,9,     -999.0,9,     -999.0,9,     -999.0,9
33RO20161119,        P18,     157,          2,         13,      11112,2,20170111,       1913,   -44.5003,  -103.0004,       3808,   984.9,   4.3964,  34.2990,2,  34.3000,2,    206.9,2,   207.0,2,    28.7,2,    30.6,2,    0.00,2,   2.119,2,-999.0000,9,-999.0000,9,-999.0000,9,  2191.1,2,  2293.1,2,   7.6094,2,    25.00, -999.00,9,  -999.0,9,  -999.0,-999.0000,9, -999.00,9,    42.8,2,   34.00,2, -999.00,9,     -999.0,9, -999.00,9,  -999.0,9,     -999.0,     -999.0,9,     -999.0,9,     -999.0,     -999.0,9,     -999.0,     -999.0,9,     -999.0,     -999.0,     -999.0,9,     -999.0,9,     -999.0,9,     -999.0,9,     -999.0,9,     -999.0,9,     -999.0,9,     -999.0,9
33RO20161119,        P18,     157,          2,         14,      11113,2,20170111,       1913,   -44.5003,  -103.0004,       3808,   849.9,   5.0086,  34.2725,2,  34.2788,2,    221.6,2,   221.9,2,    19.7,2,    28.3,2,    0.00,2,   1.969,2,-999.0000,9,-999.0000,9,-999.0000,9,  2173.6,2,  2285.1,2,   7.6386,2,    25.00, -999.00,9,  -999.0,9,  -999.0,-999.0000,9, -999.00,9,    39.1,2,   30.50,2, -999.00,9,     -999.0,9, -999.00,9,  -999.0,9,     -999.0,     -999.0,9,     -999.0,9,     -999.0,     -999.0,9,     -999.0,     -999.0,9,     -999.0,     -999.0,     -999.0,9,     -999.0,9,     -999.0,9,     -999.0,9,     -999.0,9,     -999.0,9,     -999.0,9,     -999.0,9
33RO20161119,        P18,     157,          2,         15,      11114,2,20170111,       1913,   -44.5003,  -103.0004,       3808,   729.8,   5.5202,  34.2544,2,  34.2589,2,    243.8,2,   244.2,2,    12.6,2,    25.4,2,    0.00,2,   1.768,2,-999.0000,9,-999.0000,9,-999.0000,9,  2154.9,2,  2277.9,2,   7.6745,2,    25.00, -999.00,9,  -999.0,9,  -999.0,-999.0000,9, -999.00,9,    40.9,2,   27.80,2, -999.00,9,     -999.0,9, -999.00,9,  -999.0,9,     -999.0,     -999.0,9,     -999.0,9,     -999.0,     -999.0,9,     -999.0,     -999.0,9,     -999.0,     -999.0,     -999.0,9,     -999.0,9,     -999.0,9,     -999.0,9,     -999.0,9,     -999.0,9,     -999.0,9,     -999.0,9
33RO20161119,        P18,     157,          2,         16,      11115,2,20170111,       1913,   -44.5003,  -103.0004,       3808,   610.0,   5.9160,  34.2611,2,  34.2605,2,    258.1,2,   258.6,2,     9.0,2,    23.2,2,    0.01,2,   1.619,2,-999.0000,9,-999.0000,9,-999.0000,9,  2145.6,2,  2277.0,2,   7.6960,2,    25.00, -999.00,9,  -999.0,9,  -999.0,-999.0000,9, -999.00,9,    43.0,2,   25.90,2, -999.00,9,     -999.0,9, -999.00,9,  -999.0,9,     -999.0,     -999.0,9,     -999.0,9,     -999.0,     -999.0,9,     -999.0,     -999.0,9,     -999.0,     -999.0,     -999.0,9,     -999.0,9,     -999.0,9,     -999.0,9,     -999.0,9,     -999.0,9,     -999.0,9,     -999.0,9
33RO20161119,        P18,     157,          2,         17,      11116,2,20170111,       1913,   -44.5003,  -103.0004,       3808,   503.2,   6.1727,  34.2720,2,  34.2885,4,    262.2,2,   263.3,6,     7.5,2,    22.2,2,    0.00,2,   1.555,2,-999.0000,9,-999.0000,9,-999.0000,9,  2140.6,2,  2276.0,2,   7.7058,2,    25.00, -999.00,9,  -999.0,9,  -999.0,-999.0000,9, -999.00,9,    40.9,2,   24.80,2, -999.00,9,     -999.0,9, -999.00,9,  -999.0,9,     -999.0,     -999.0,9,     -999.0,9,     -999.0,     -999.0,9,     -999.0,     -999.0,9,     -999.0,     -999.0,     -999.0,9,     -999.0,9,     -999.0,9,     -999.0,9,     -999.0,9,     -999.0,9,     -999.0,9,     -999.0,9
33RO20161119,        P18,     157,          2,         18,      11117,2,20170111,       1913,   -44.5003,  -103.0004,       3808,   394.9,   6.4513,  34.2891,2,  34.2879,2,    262.0,2,   262.7,2,     6.7,2,    21.5,2,    0.00,2,   1.525,2,-999.0000,9,-999.0000,9,-999.0000,9,  2140.0,2,  2275.2,2,   7.7118,2,    25.00, -999.00,9,  -999.0,9,  -999.0,-999.0000,9, -999.00,9,    48.1,2,   21.90,2, -999.00,9,     -999.0,9, -999.00,9,  -999.0,9,     -999.0,     -999.0,9,     -999.0,9,     -999.0,     -999.0,9,     -999.0,     -999.0,9,     -999.0,     -999.0,     -999.0,9,     -999.0,9,     -999.0,9,     -999.0,9,     -999.0,9,     -999.0,9,     -999.0,9,     -999.0,9
33RO20161119,        P18,     157,          2,         19,      11083,2,20170111,       1913,   -44.5003,  -103.0004,       3808,   299.9,   6.6903,  34.2918,2,  34.2916,2,    267.8,2,   267.0,2,     5.6,2,    20.4,2,    0.01,2,   1.463,2,-999.0000,9,-999.0000,9,-999.0000,9,  2136.6,2,  2273.7,2,   7.7186,2,    25.00, -999.00,9,  -999.0,9,  -999.0,-999.0000,9, -999.00,9,    41.4,2,   23.10,2, -999.00,9,     -999.0,9, -999.00,9,  -999.0,9,     -999.0,     -999.0,9,     -999.0,9,     -999.0,     -999.0,9,     -999.0,     -999.0,9,     -999.0,     -999.0,     -999.0,9,     -999.0,9,     -999.0,9,     -999.0,9,     -999.0,9,     -999.0,9,     -999.0,9,     -999.0,9
33RO20161119,        P18,     157,          2,         20,      11118,2,20170111,       1913,   -44.5003,  -103.0004,       3808,   190.6,   7.1016,  34.2273,2,  34.2426,4,    267.2,2,   266.9,2,     3.8,2,    19.4,2,    0.02,2,   1.409,2,-999.0000,9,-999.0000,9,-999.0000,9,  2128.8,2,  2272.6,2,   7.7259,2,    25.00, -999.00,9,  -999.0,9,  -999.0,-999.0000,9, -999.00,9,    43.2,2,   21.80,2, -999.00,9,     -999.0,9, -999.00,9,  -999.0,9,     -999.0,     -999.0,9,     -999.0,9,     -999.0,     -999.0,9,     -999.0,     -999.0,9,     -999.0,     -999.0,     -999.0,9,     -999.0,9,     -999.0,9,       1.44,2,     -999.0,9,     -999.0,9,     -999.0,9,     -999.0,9
33RO20161119,        P18,     157,          2,         21,      11119,2,20170111,       1913,   -44.5003,  -103.0004,       3808,   124.4,   8.3284,  34.1029,2,  34.1011,2,    282.1,2,   282.0,2,     1.4,2,    14.2,2,    0.25,2,   1.138,2,-999.0000,9,-999.0000,9,-999.0000,9,  2098.4,2,  2267.2,6,   7.7853,2,    25.00, -999.00,9,  -999.0,9,  -999.0,-999.0000,9, -999.00,9,    47.2,2,   18.30,2, -999.00,9,     -999.0,9, -999.00,9,  -999.0,9,     -999.0,     -999.0,9,     -999.0,9,     -999.0,     -999.0,9,     -999.0,     -999.0,9,     -999.0,     -999.0,     -999.0,9,     -999.0,9,     -999.0,9,       1.26,2,     -999.0,9,     -999.0,9,     -999.0,9,     -999.0,9
33RO20161119,        P18,     157,          2,         22,      11120,2,20170111,       1913,   -44.5003,  -103.0004,       3808,    65.5,  10.2781,  34.0391,2,  34.0401,2,    283.1,2,   283.2,2,     1.1,2,    12.6,2,    0.17,2,   1.030,2,-999.0000,9,-999.0000,9,-999.0000,9,  2080.0,6,  2261.8,2,   7.8215,6,    25.00, -999.00,9,  -999.0,9,  -999.0,-999.0000,9, -999.00,9,    48.5,2,   16.90,2, -999.00,9,     -999.0,9, -999.00,9,  -999.0,9,     -999.0,     -999.0,9,     -999.0,9,     -999.0,     -999.0,9,     -999.0,     -999.0,9,     -999.0,     -999.0,     -999.0,9,     -999.0,9,     -999.0,9,       1.21,2,     -999.0,9,     -999.0,9,     -999.0,9,     -999.0,9
33RO20161119,        P18,     157,          2,         23,      11121,2,20170111,       1913,   -44.5003,  -103.0004,       3808,    40.2,  11.7595,  34.0216,2,  34.0229,2,    273.6,2,   275.5,2,     0.9,2,    11.9,2,    0.18,2,   0.976,2,-999.0000,9,-999.0000,9,-999.0000,9,  2072.8,2,  2262.6,2,   7.8377,2,    25.00, -999.00,9,  -999.0,9,  -999.0,-999.0000,9, -999.00,9,    55.6,2,   14.50,2, -999.00,9,     -999.0,9, -999.00,9,  -999.0,9,     -999.0,     -999.0,9,     -999.0,9,     -999.0,     -999.0,9,     -999.0,     -999.0,9,     -999.0,     -999.0,     -999.0,9,     -999.0,9,     -999.0,9,       1.18,2,     -999.0,9,     -999.0,9,     -999.0,9,     -999.0,9
33RO20161119,        P18,     157,          2,         24,      11122,2,20170111,       1913,   -44.5003,  -103.0004,       3808,     3.1,  12.2514,  34.0276,2,  34.0278,2,    269.0,2,   272.3,2,     0.8,2,    11.9,2,    0.20,2,   0.964,2,-999.0000,9,-999.0000,9,-999.0000,9,  2072.7,2,  2262.5,2,   7.8381,2,    25.00, -999.00,9,  -999.0,9,  -999.0,-999.0000,9, -999.00,9,    52.4,2,   14.30,2, -999.00,9,     -999.0,9, -999.00,9,  -999.0,9,     -999.0,     -999.0,9,     -999.0,9,     -999.0,     -999.0,9,     -999.0,     -999.0,9,     -999.0,     -999.0,     -999.0,9,     -999.0,9,     -999.0,9,       1.04,2,     -999.0,9,     -999.0,9,     -999.0,9,     -999.0,9