BOTTLE,20230606CCHSIOCBG
EXPOCODE,SECT_ID,STNNBR,CASTNO,SAMPNO,BTLNBR,BTLNBR_FLAG_W,DATE,TIME,LATITUDE,LONGITUDE,DEPTH,CTDPRS,CTDTMP,CTDSAL,CTDSAL_FLAG_W,SALNTY,SALNTY_FLAG_W,CTDOXY,CTDOXY_FLAG_W,OXYGEN,OXYGEN_FLAG_W,SILCAT,SILCAT_FLAG_W,NITRAT,NITRAT_FLAG_W,NITRIT,NITRIT_FLAG_W,PHSPHT,PHSPHT_FLAG_W,CFC-11,CFC-11_FLAG_W,CFC-12,CFC-12_FLAG_W,SF6,SF6_FLAG_W,TCARBN,TCARBN_FLAG_W,ALKALI,ALKALI_FLAG_W,PH_SWS,PH_SWS_FLAG_W,PH_TMP,DELC13,DELC13_FLAG_W,DELC14,DELC14_FLAG_W,C14ERR,CCL4,CCL4_FLAG_W,POC,POC_FLAG_W,DOC,DOC_FLAG_W,TDN,TDN_FLAG_W,PON,PON_FLAG_W,N2O,N2O_FLAG_W,D15N_NO3,D15N_NO3_FLAG_W,14C-DOC,14C-DOC_FLAG_W,14C-DOCERR,13C-DOC,13C-DOC_FLAG_W,N2/ARGON_UNSTRIPPED,N2/ARGON_UNSTRIPPED_FLAG_W,N2/ARGON_UNSTRIPPED_ERROR,N2/ARGON,N2/ARGON_FLAG_W,N2/ARGON_ERROR,D15N_N2,D15N_N2_FLAG_W,D15N_N2_ERROR,D15N_NO3_ERROR,D15N_NO2+NO3,D15N_NO2+NO3_FLAG_W,D18O_NO2+NO3,D18O_NO2+NO3_FLAG_W,D18O_NO3,D18O_NO3_FLAG_W,TDP,TDP_FLAG_W,N2O_ALT_1,N2O_ALT_1_FLAG_W,D15N_N2O,D15N_N2O_FLAG_W,D18O_N2O,D18O_N2O_FLAG_W,D15N_ALPHA_N2O,D15N_ALPHA_N2O_FLAG_W
,,,,,,,,,,,METERS,DBAR,ITS-90,PSS-78,,PSS-78,,UMOL/KG,,UMOL/KG,,UMOL/KG,,UMOL/KG,,UMOL/KG,,UMOL/KG,,PMOL/KG,,PMOL/KG,,FMOL/KG,,UMOL/KG,,UMOL/KG,,,,DEG C,/MILLE,,/MILLE,,/MILLE,PMOL/KG,,UG/KG,,UMOL/KG,,UMOL/KG,,UG/KG,,NMOL/KG,,/MILLE,,/MILLE,,/MILLE,/MILLE,,,,,,,,/MILLE,,/MILLE,/MILLE,/MILLE,,/MILLE,,/MILLE,,UMOL/KG,,NMOL/L,,/MILLE,,/MILLE,,/MILLE,
33RO20161119,        P18,      27,          1,          1,      11010,2,20161130,       2312,    11.0009,  -109.9986,       3724,  3765.9,   1.5739,  34.6825,2,  34.6847,2,    136.6,2,  -999.0,9,   151.2,6,    37.2,6,    0.01,6,   2.524,6,-999.0000,9,-999.0000,9,-999.0000,9,  2342.9,2,  2429.4,2,   7.5539,2,    25.00, -999.00,9,  -999.0,9,  -999.0,-999.0000,9, -999.00,9,    38.5,2,   38.10,2, -999.00,9,     -999.0,9, -999.00,9,  -999.0,9,     -999.0,     -999.0,9,     -999.0,9,     -999.0,     -999.0,9,     -999.0,     -999.0,9,     -999.0,     -999.0,     -999.0,9,     -999.0,9,     -999.0,9,     -999.0,9,     -999.0,9,     -999.0,9,     -999.0,9,     -999.0,9
33RO20161119,        P18,      27,          1,          2,      11101,2,20161130,       2312,    11.0009,  -109.9986,       3724,  3500.4,   1.6071,  34.6803,2,  34.6792,2,    132.3,2,   131.4,2,   151.2,6,    37.4,6,    0.01,6,   2.542,6,   0.0074,2,   0.0047,2,   0.0000,2,  2344.2,6,  2429.2,6,   7.5468,2,    25.00, -999.00,9,  -999.0,9,  -999.0,   0.0098,2, -999.00,9,    39.5,2,   38.80,2, -999.00,9,    21.8453,2, -999.00,9,  -999.0,9,     -999.0,     -999.0,9,     -999.0,9,     -999.0,     -999.0,9,     -999.0,     -999.0,9,     -999.0,     -999.0,     -999.0,9,     -999.0,9,     -999.0,9,     -999.0,9,     -999.0,9,     -999.0,9,     -999.0,9,     -999.0,9
33RO20161119,        P18,      27,          1,          3,      11102,2,20161130,       2312,    11.0009,  -109.9986,       3724,  3200.9,   1.6716,  34.6769,2,  34.6771,2,    125.2,2,   125.0,2,   152.2,6,    37.9,6,    0.01,6,   2.582,6,   0.0045,2,   0.0026,2,   0.0276,2,  2349.5,2,  2429.4,2,   7.5338,2,    25.00, -999.00,9,  -999.0,9,  -999.0,        0,2, -999.00,9,    40.8,2,   39.30,2, -999.00,9,     22.145,2, -999.00,9,  -999.0,9,     -999.0,     -999.0,9,     -999.0,9,     -999.0,     -999.0,9,     -999.0,     -999.0,9,     -999.0,     -999.0,     -999.0,9,     -999.0,9,     -999.0,9,     -999.0,9,     -999.0,9,     -999.0,9,     -999.0,9,     -999.0,9
33RO20161119,        P18,      27,          1,          4,      11103,2,20161130,       2312,    11.0009,  -109.9986,       3724,  2925.8,   1.7239,  34.6739,2,  34.6798,4,    119.6,2,   119.2,2,   152.1,6,    38.2,6,    0.01,6,   2.601,6,   0.0032,6,   0.0030,6,   0.0000,6,  2353.3,2,  2440.7,3,   7.5301,2,    25.00, -999.00,9,  -999.0,9,  -999.0,        0,2, -999.00,9,    39.8,2,   39.10,2, -999.00,9,    22.9802,2, -999.00,9,  -999.0,9,     -999.0,     -999.0,9,     -999.0,9,     -999.0,     -999.0,9,     -999.0,     -999.0,9,     -999.0,     -999.0,     -999.0,9,     -999.0,9,     -999.0,9,     -999.0,9,     -999.0,9,     -999.0,9,     -999.0,9,     -999.0,9
33RO20161119,        P18,      27,          1,          5,      11104,2,20161130,       2312,    11.0009,  -109.9986,       3724,  2624.7,   1.8328,  34.6676,2,  34.6672,2,    110.8,2,   110.3,2,   151.2,2,    38.8,2,    0.01,2,   2.649,2,   0.0025,2,   0.0025,2,   0.0400,2,  2357.3,2,  2429.4,2,   7.5114,6,    25.00, -999.00,9,  -999.0,9,  -999.0,   0.0088,2, -999.00,9,    38.5,2,   41.00,2, -999.00,9,    23.7317,2, -999.00,9,  -999.0,9,     -999.0,     -999.0,9,     -999.0,9,     -999.0,     -999.0,9,     -999.0,     -999.0,9,     -999.0,     -999.0,     -999.0,9,     -999.0,9,     -999.0,9,     -999.0,9,     -999.0,9,     -999.0,9,     -999.0,9,     -999.0,9
33RO20161119,        P18,      27,          1,          6,      11105,2,20161130,       2312,    11.0009,  -109.9986,       3724,  2340.5,   1.9326,  34.6609,2,  34.6639,2,    103.5,2,   103.6,2,   149.8,2,    39.2,2,    0.01,2,   2.693,2,   0.0029,2,   0.0016,2,   0.0000,2,  2359.3,2,  2427.2,2,   7.6248,4,    25.00, -999.00,9,  -999.0,9,  -999.0,   0.0175,2, -999.00,9,    39.0,2,   43.10,2, -999.00,9,    24.4637,2, -999.00,9,  -999.0,9,     -999.0,     -999.0,9,     -999.0,9,     -999.0,     -999.0,9,     -999.0,     -999.0,9,     -999.0,     -999.0,     -999.0,9,     -999.0,9,     -999.0,9,     -999.0,9,     -999.0,9,     -999.0,9,     -999.0,9,     -999.0,9
33RO20161119,        P18,      27,          1,          7,      11106,2,20161130,       2312,    11.0009,  -109.9986,       3724,  2040.4,   2.1947,  34.6465,2,  34.6515,4,     90.4,2,    90.5,2,   144.6,2,    40.2,2,    0.02,2,   2.778,2,   0.0023,6,   0.0019,6,   0.0162,6,  2361.0,2,  2419.8,2,   7.4704,2,    25.00, -999.00,9,  -999.0,9,  -999.0,        0,2, -999.00,9,    37.4,2,   43.30,2, -999.00,9,    25.4939,2, -999.00,9,  -999.0,9,     -999.0,     -999.0,9,     -999.0,9,     -999.0,     -999.0,9,     -999.0,     -999.0,9,     -999.0,     -999.0,     -999.0,9,     -999.0,9,     -999.0,9,     -999.0,9,     -999.0,9,     -999.0,9,     -999.0,9,     -999.0,9
33RO20161119,        P18,      27,          1,          8,      11107,2,20161130,       2312,    11.0009,  -109.9986,       3724,  1749.0,   2.5479,  34.6278,2,  34.6287,2,     78.1,2,    78.0,2,   136.7,2,    41.2,2,    0.01,2,   2.874,2,   0.0024,2,   0.0017,2,   0.0430,2,  2359.0,2,  2410.1,2,   7.4443,2,    25.00, -999.00,9,  -999.0,9,  -999.0,   0.0141,2, -999.00,9,    38.5,2,   47.00,2, -999.00,9,    30.7398,2, -999.00,9,  -999.0,9,     -999.0,     -999.0,9,     -999.0,9,     -999.0,     -999.0,9,     -999.0,     -999.0,9,     -999.0,     -999.0,     -999.0,9,     -999.0,9,     -999.0,9,     -999.0,9,     -999.0,9,     -999.0,9,     -999.0,9,     -999.0,9
33RO20161119,        P18,      27,          1,          9,      11108,2,20161130,       2312,    11.0009,  -109.9986,       3724,  1459.5,   3.1569,  34.6017,2,  34.6000,2,     53.3,2,    54.1,2,   123.9,2,    42.9,2,    0.01,2,   3.038,2,-999.0000,9,-999.0000,9,-999.0000,9,  2359.4,2,  2393.6,2,   7.3804,4,    25.00, -999.00,9,  -999.0,9,  -999.0,-999.0000,9, -999.00,9,    38.1,2,   47.70,2, -999.00,9,     -999.0,9, -999.00,9,  -999.0,9,     -999.0,     -999.0,9,     -999.0,9,     -999.0,     -999.0,9,     -999.0,     -999.0,9,     -999.0,     -999.0,     -999.0,9,     -999.0,9,     -999.0,9,     -999.0,9,     -999.0,9,     -999.0,9,     -999.0,9,     -999.0,9
33RO20161119,        P18,      27,          1,         10,      11109,2,20161130,       2312,    11.0009,  -109.9986,       3724,  1269.6,   3.6713,  34.5832,2,  34.5878,4,     44.9,2,    44.5,2,   112.3,2,    43.6,2,    0.02,2,   3.090,2,   0.0010,2,   0.0022,2,   0.0000,2,  2352.7,2,  2382.1,2,   7.3787,2,    25.00, -999.00,9,  -999.0,9,  -999.0,   0.0117,2, -999.00,9,    38.9,2,   49.30,2, -999.00,9,    40.3264,2, -999.00,9,  -999.0,9,     -999.0,     -999.0,9,     -999.0,9,     -999.0,     -999.0,9,     -999.0,     -999.0,9,     -999.0,     -999.0,     -999.0,9,     -999.0,9,     -999.0,9,     -999.0,9,     -999.0,9,     -999.0,9,     -999.0,9,     -999.0,9
33RO20161119,        P18,      27,          1,         11,      11110,2,20161130,       2312,    11.0009,  -109.9986,       3724,  1139.2,   4.0906,  34.5703,2,  34.5716,2,     35.2,2,    35.3,2,   103.3,2,    44.1,2,    0.01,2,   3.132,2,   0.0028,2,   0.0015,2,   0.0000,2,  2348.2,2,  2371.1,2,   7.3615,2,    25.00, -999.00,9,  -999.0,9,  -999.0,        0,2, -999.00,9,    42.1,2,   48.40,2, -999.00,9,    42.9264,2, -999.00,9,  -999.0,9,     -999.0,     -999.0,9,     -999.0,9,     -999.0,     -999.0,9,     -999.0,     -999.0,9,     -999.0,     -999.0,     -999.0,9,     -999.0,9,     -999.0,9,     -999.0,9,     -999.0,9,     -999.0,9,     -999.0,9,     -999.0,9
33RO20161119,        P18,      27,          1,         12,      11111,2,20161130,       2312,    11.0009,  -109.9986,       3724,  1009.1,   4.5032,  34.5613,2,  34.5613,2,     24.4,2,    24.6,2,    96.1,2,    44.7,2,    0.02,2,   3.192,2,   0.0018,2,   0.0022,2,   0.0423,2,  2346.3,2,  2363.9,2,   7.3411,2,    25.00, -999.00,9,  -999.0,9,  -999.0,    0.015,2, -999.00,9,    42.0,2,   52.80,2, -999.00,9,    47.4946,2, -999.00,9,  -999.0,9,     -999.0,     -999.0,9,     -999.0,9,     -999.0,     -999.0,9,     -999.0,     -999.0,9,     -999.0,     -999.0,     -999.0,9,     -999.0,9,     -999.0,9,     -999.0,9,     -999.0,9,     -999.0,9,     -999.0,9,     -999.0,9
33RO20161119,        P18,      27,          1,         13,      11112,2,20161130,       2312,    11.0009,  -109.9986,       3724,   890.8,   5.0439,  34.5522,2,  34.5511,2,     14.0,2,    14.0,2,    86.3,2,    45.0,2,    0.01,2,   3.225,2,   0.0023,2,   0.0012,2,   0.0000,2,  2341.9,6,  2353.3,6,   7.3251,2,    25.00, -999.00,9,  -999.0,9,  -999.0,        0,2, -999.00,9,    39.5,2,   50.00,2, -999.00,9,    53.7386,2, -999.00,9,  -999.0,9,     -999.0,     -999.0,9,     -999.0,9,     -999.0,     -999.0,9,     -999.0,     -999.0,9,     -999.0,     -999.0,     -999.0,9,     -999.0,9,     -999.0,9,     -999.0,9,     -999.0,9,     -999.0,9,     -999.0,9,     -999.0,9
33RO20161119,        P18,      27,          1,         14,      11113,2,20161130,       2312,    11.0009,  -109.9986,       3724,   776.4,   5.6927,  34.5545,2,  34.5556,2,      5.2,2,     4.5,6,    77.4,2,    44.0,2,    0.01,2,   3.228,2,   0.0023,2,   0.0023,2,   0.0351,2,  2336.1,2,  2342.5,2,   7.3147,2,    25.00, -999.00,9,  -999.0,9,  -999.0,        0,2, -999.00,9,    42.4,2,   50.50,2, -999.00,9,    60.2077,2, -999.00,9,  -999.0,9,     -999.0,     -999.0,9,     -999.0,9,     -999.0,     -999.0,9,     -999.0,     -999.0,9,     -999.0,     -999.0,     -999.0,9,     -999.0,9,     -999.0,9,     -999.0,9,     -999.0,9,     -999.0,9,     -999.0,9,     -999.0,9
33RO20161119,        P18,      27,          1,         15,      11114,2,20161130,       2312,    11.0009,  -109.9986,       3724,   659.9,   6.4743,  34.5624,2,  34.5715,4,      2.4,2,     1.5,2,    68.3,2,    40.9,2,    0.01,2,   3.187,2,   0.0058,2,   0.0037,2,   0.0000,2,  2326.5,2,  2333.1,2,   7.3193,6,    25.00, -999.00,9,  -999.0,9,  -999.0,        0,2, -999.00,9,    44.2,2,   46.80,2, -999.00,9,     35.314,2, -999.00,9,  -999.0,9,     -999.0,     -999.0,9,     -999.0,9,     -999.0,     -999.0,9,     -999.0,     -999.0,9,     -999.0,     -999.0,     -999.0,9,     -999.0,9,     -999.0,9,     -999.0,9,     -999.0,9,     -999.0,9,     -999.0,9,     -999.0,9
33RO20161119,        P18,      27,          1,         16,      11115,2,20161130,       2312,    11.0009,  -109.9986,       3724,   545.6,   7.5105,  34.5775,2,  34.5776,2,      2.4,2,     1.7,2,    58.2,2,    35.9,2,    0.14,2,   3.063,2,   0.0180,2,   0.0109,2,   0.0000,2,  2312.7,2,  2326.6,2,   7.3327,2,    25.00, -999.00,9,  -999.0,9,  -999.0,   0.0221,2, -999.00,9,    42.4,2,   39.10,2, -999.00,9,    17.0777,2, -999.00,9,  -999.0,9,     -999.0,     -999.0,9,     -999.0,9,     -999.0,     -999.0,9,     -999.0,     -999.0,9,     -999.0,     -999.0,     -999.0,9,     -999.0,9,     -999.0,9,     -999.0,9,     -999.0,9,     -999.0,9,     -999.0,9,     -999.0,9
33RO20161119,        P18,      27,          1,         17,      11116,2,20161130,       2312,    11.0009,  -109.9986,       3724,   445.1,   8.7982,  34.6233,2,  34.6233,2,      2.4,2,     1.1,6,    46.7,2,    31.8,2,    0.14,2,   2.886,2,   0.0888,2,   0.0535,2,   0.0239,2,  2297.1,2,  2317.5,2,   7.3511,2,    25.00, -999.00,9,  -999.0,9,  -999.0,   0.0319,2, -999.00,9,    45.1,2,   34.80,2, -999.00,9,    14.8383,2, -999.00,9,  -999.0,9,     -999.0,     -999.0,9,     -999.0,9,     -999.0,     -999.0,9,     -999.0,     -999.0,9,     -999.0,     -999.0,     -999.0,9,     -999.0,9,     -999.0,9,     -999.0,9,     -999.0,9,     -999.0,9,     -999.0,9,     -999.0,9
33RO20161119,        P18,      27,          1,         18,      11117,2,20161130,       2312,    11.0009,  -109.9986,       3724,   345.5,   9.8215,  34.6675,2,  34.6658,2,      2.4,2,     2.4,2,    38.6,2,    30.6,2,    0.02,2,   2.726,2,   0.2271,6,   0.1346,6,   0.0556,6,  2285.0,2,  2307.6,2,   7.3625,2,    25.00, -999.00,9,  -999.0,9,  -999.0,   0.0472,2, -999.00,9,    44.7,2,   33.70,2, -999.00,9,     33.271,2, -999.00,9,  -999.0,9,     -999.0,     -999.0,9,     -999.0,9,     -999.0,     -999.0,9,     -999.0,     -999.0,9,     -999.0,     -999.0,     -999.0,9,     -999.0,9,     -999.0,9,     -999.0,9,     -999.0,9,     -999.0,9,     -999.0,9,     -999.0,9
33RO20161119,        P18,      27,          1,         19,      11083,2,20161130,       2312,    11.0009,  -109.9986,       3724,   260.0,  10.6897,  34.7105,2,  34.7135,2,      2.7,2,     3.5,2,    32.0,2,    31.9,2,    0.02,2,   2.544,2,   0.5064,2,   0.2842,2,   0.1184,2,  2271.6,2,  2301.2,2,   7.3801,2,    25.00, -999.00,9,  -999.0,9,  -999.0,   0.0516,2, -999.00,9,    41.8,2,   35.50,2, -999.00,9,    43.8192,2, -999.00,9,  -999.0,9,     -999.0,     -999.0,9,     -999.0,9,     -999.0,     -999.0,9,     -999.0,     -999.0,9,     -999.0,     -999.0,     -999.0,9,     -999.0,9,     -999.0,9,     -999.0,9,     -999.0,9,     -999.0,9,     -999.0,9,     -999.0,9
33RO20161119,        P18,      27,          1,         20,      11118,2,20161130,       2312,    11.0009,  -109.9986,       3724,   184.9,  11.6271,  34.7668,2,  34.7679,2,      9.9,2,     8.5,2,    27.9,2,    31.7,2,    0.02,2,   2.407,2,   0.8621,2,   0.4817,2,   0.1964,2,  2256.4,2,  2298.9,2,   7.4179,2,    25.00, -999.00,9,  -999.0,9,  -999.0,   0.0914,2, -999.00,9,    50.8,2,   35.50,2, -999.00,9,    60.4403,2, -999.00,9,  -999.0,9,     -999.0,     -999.0,9,     -999.0,9,     -999.0,     -999.0,9,     -999.0,     -999.0,9,     -999.0,     -999.0,     -999.0,9,     -999.0,9,     -999.0,9,     -999.0,9,     -999.0,9,     -999.0,9,     -999.0,9,     -999.0,9
33RO20161119,        P18,      27,          1,         21,      11119,2,20161130,       2312,    11.0009,  -109.9986,       3724,   120.5,  12.9640,  34.8157,2,  34.8202,2,      6.8,2,     6.5,2,    24.1,2,    30.8,2,    0.02,2,   2.346,2,   1.2019,2,   0.6737,2,   0.3542,2,  2246.1,2,  2296.8,2,   7.4380,2,    25.00, -999.00,9,  -999.0,9,  -999.0,   0.2267,2, -999.00,9,    50.0,2,   32.80,2, -999.00,9,    74.6002,2, -999.00,9,  -999.0,9,     -999.0,     -999.0,9,     -999.0,9,     -999.0,     -999.0,9,     -999.0,     -999.0,9,     -999.0,     -999.0,     -999.0,9,     -999.0,9,     -999.0,9,     -999.0,9,     -999.0,9,     -999.0,9,     -999.0,9,     -999.0,9
33RO20161119,        P18,      27,          1,         22,      11120,2,20161130,       2312,    11.0009,  -109.9986,       3724,    60.3,  17.8416,  34.6351,2,  34.6382,2,     25.1,2,    21.3,2,    14.6,2,    24.5,2,    0.53,2,   2.111,2,   1.5165,2,   0.8983,2,   0.7197,2,  2203.9,2,  2282.4,6,   7.5296,2,    25.00, -999.00,9,  -999.0,9,  -999.0,   1.2525,2, -999.00,9,    54.1,2,   28.00,2, -999.00,9,    73.9269,2, -999.00,9,  -999.0,9,     -999.0,     -999.0,9,     -999.0,9,     -999.0,     -999.0,9,     -999.0,     -999.0,9,     -999.0,     -999.0,     -999.0,9,     -999.0,9,     -999.0,9,     -999.0,9,     -999.0,9,     -999.0,9,     -999.0,9,     -999.0,9
33RO20161119,        P18,      27,          1,         23,      11121,2,20161130,       2312,    11.0009,  -109.9986,       3724,    24.4,  28.1126,  32.8665,2,  32.8854,2,    199.8,2,   199.8,2,     0.9,2,     0.0,2,    0.01,2,   0.201,2,   1.5076,2,   0.9534,2,   1.3518,2,  1872.6,6,  2168.1,2,   8.0814,2,    25.00, -999.00,9,  -999.0,9,  -999.0,   1.7801,2, -999.00,9,    76.1,2,    3.60,2, -999.00,9,     7.1739,2, -999.00,9,  -999.0,9,     -999.0,     -999.0,9,     -999.0,9,     -999.0,     -999.0,9,     -999.0,     -999.0,9,     -999.0,     -999.0,     -999.0,9,     -999.0,9,     -999.0,9,     -999.0,9,     -999.0,9,     -999.0,9,     -999.0,9,     -999.0,9
33RO20161119,        P18,      27,          1,         24,      11122,2,20161130,       2312,    11.0009,  -109.9986,       3724,     4.0,  28.6046,  32.8690,2,  32.8694,2,    197.6,2,   199.4,2,     0.9,2,     0.0,2,    0.01,2,   0.197,2,   1.5053,2,   0.9572,2,   1.4055,2,  1870.5,2,  2167.5,2,   8.0829,2,    25.00, -999.00,9,  -999.0,9,  -999.0,        0,2, -999.00,9,  -999.0,9, -999.00,9, -999.00,9,     6.8967,2, -999.00,9,  -999.0,9,     -999.0,     -999.0,9,     -999.0,9,     -999.0,     -999.0,9,     -999.0,     -999.0,9,     -999.0,     -999.0,     -999.0,9,     -999.0,9,     -999.0,9,     -999.0,9,     -999.0,9,     -999.0,9,     -999.0,9,     -999.0,9