BOTTLE,20230606CCHSIOCBG
EXPOCODE,SECT_ID,STNNBR,CASTNO,SAMPNO,BTLNBR,BTLNBR_FLAG_W,DATE,TIME,LATITUDE,LONGITUDE,DEPTH,CTDPRS,CTDTMP,CTDSAL,CTDSAL_FLAG_W,SALNTY,SALNTY_FLAG_W,CTDOXY,CTDOXY_FLAG_W,OXYGEN,OXYGEN_FLAG_W,SILCAT,SILCAT_FLAG_W,NITRAT,NITRAT_FLAG_W,NITRIT,NITRIT_FLAG_W,PHSPHT,PHSPHT_FLAG_W,CFC-11,CFC-11_FLAG_W,CFC-12,CFC-12_FLAG_W,SF6,SF6_FLAG_W,TCARBN,TCARBN_FLAG_W,ALKALI,ALKALI_FLAG_W,PH_SWS,PH_SWS_FLAG_W,PH_TMP,DELC13,DELC13_FLAG_W,DELC14,DELC14_FLAG_W,C14ERR,CCL4,CCL4_FLAG_W,POC,POC_FLAG_W,DOC,DOC_FLAG_W,TDN,TDN_FLAG_W,PON,PON_FLAG_W,N2O,N2O_FLAG_W,D15N_NO3,D15N_NO3_FLAG_W,14C-DOC,14C-DOC_FLAG_W,14C-DOCERR,13C-DOC,13C-DOC_FLAG_W,N2/ARGON_UNSTRIPPED,N2/ARGON_UNSTRIPPED_FLAG_W,N2/ARGON_UNSTRIPPED_ERROR,N2/ARGON,N2/ARGON_FLAG_W,N2/ARGON_ERROR,D15N_N2,D15N_N2_FLAG_W,D15N_N2_ERROR,D15N_NO3_ERROR,D15N_NO2+NO3,D15N_NO2+NO3_FLAG_W,D18O_NO2+NO3,D18O_NO2+NO3_FLAG_W,D18O_NO3,D18O_NO3_FLAG_W,TDP,TDP_FLAG_W,N2O_ALT_1,N2O_ALT_1_FLAG_W,D15N_N2O,D15N_N2O_FLAG_W,D18O_N2O,D18O_N2O_FLAG_W,D15N_ALPHA_N2O,D15N_ALPHA_N2O_FLAG_W
,,,,,,,,,,,METERS,DBAR,ITS-90,PSS-78,,PSS-78,,UMOL/KG,,UMOL/KG,,UMOL/KG,,UMOL/KG,,UMOL/KG,,UMOL/KG,,PMOL/KG,,PMOL/KG,,FMOL/KG,,UMOL/KG,,UMOL/KG,,,,DEG C,/MILLE,,/MILLE,,/MILLE,PMOL/KG,,UG/KG,,UMOL/KG,,UMOL/KG,,UG/KG,,NMOL/KG,,/MILLE,,/MILLE,,/MILLE,/MILLE,,,,,,,,/MILLE,,/MILLE,/MILLE,/MILLE,,/MILLE,,/MILLE,,UMOL/KG,,NMOL/L,,/MILLE,,/MILLE,,/MILLE,
33RO20161119,        P18,     212,          1,          1,      11010,2,20170129,       0245,   -68.0668,   -94.9996,       4429,  4519.6,   0.3832,  34.7002,2,  34.7007,2,    213.5,2,   212.8,2,   144.7,2,    33.3,2,    0.01,2,   2.272,2,-999.0000,9,-999.0000,9,-999.0000,9,  2264.6,2,  2363.6,2,   7.5858,2,    25.00, -999.00,9,  -999.0,9,  -999.0,-999.0000,9, -999.00,9,  -999.0,9, -999.00,9, -999.00,9,     -999.0,9, -999.00,9,  -999.0,9,     -999.0,     -999.0,9,     -999.0,9,     -999.0,     -999.0,9,     -999.0,     -999.0,9,     -999.0,     -999.0,     -999.0,9,     -999.0,9,     -999.0,9,     -999.0,9,     -999.0,9,     -999.0,9,     -999.0,9,     -999.0,9
33RO20161119,        P18,     212,          1,          2,      11101,2,20170129,       0245,   -68.0668,   -94.9996,       4429,  4163.0,   0.3916,  34.7018,2,  34.7061,2,    212.3,2,   212.0,2,   138.8,2,    33.2,2,    0.01,2,   2.275,2,-999.0000,9,-999.0000,9,-999.0000,9,  2262.6,6,  2362.2,2,   7.5859,2,    25.00, -999.00,9,  -999.0,9,  -999.0,-999.0000,9, -999.00,9,  -999.0,9, -999.00,9, -999.00,9,     -999.0,9, -999.00,9,  -999.0,9,     -999.0,     -999.0,9,     -999.0,9,     -999.0,     -999.0,9,     -999.0,     -999.0,9,     -999.0,     -999.0,     -999.0,9,     -999.0,9,     -999.0,9,     -999.0,9,     -999.0,9,     -999.0,9,     -999.0,9,     -999.0,9
33RO20161119,        P18,     212,          1,          3,      11102,2,20170129,       0245,   -68.0668,   -94.9996,       4429,  3805.2,   0.4289,  34.7029,2,  34.7018,2,    211.4,2,   210.6,2,   134.7,6,    33.1,6,    0.01,6,   2.262,6,-999.0000,9,-999.0000,9,-999.0000,9,  2260.8,2,  2361.6,2,   7.5880,2,    25.00, -999.00,9,  -999.0,9,  -999.0,-999.0000,9, -999.00,9,  -999.0,9, -999.00,9, -999.00,9,     -999.0,9, -999.00,9,  -999.0,9,     -999.0,     -999.0,9,     -999.0,9,     -999.0,     -999.0,9,     -999.0,     -999.0,9,     -999.0,     -999.0,     -999.0,9,     -999.0,9,     -999.0,9,     -999.0,9,     -999.0,9,     -999.0,9,     -999.0,9,     -999.0,9
33RO20161119,        P18,     212,          1,          4,      11103,2,20170129,       0245,   -68.0668,   -94.9996,       4429,  3405.5,   0.5072,  34.7045,2,  34.7087,2,    209.4,2,   208.9,2,   131.8,6,    33.0,6,    0.01,6,   2.261,6,-999.0000,9,-999.0000,9,-999.0000,9,  2261.4,2,  2361.5,6,   7.5890,2,    25.00, -999.00,9,  -999.0,9,  -999.0,-999.0000,9, -999.00,9,  -999.0,9, -999.00,9, -999.00,9,     -999.0,9, -999.00,9,  -999.0,9,     -999.0,     -999.0,9,     -999.0,9,     -999.0,     -999.0,9,     -999.0,     -999.0,9,     -999.0,     -999.0,     -999.0,9,     -999.0,9,     -999.0,9,     -999.0,9,     -999.0,9,     -999.0,9,     -999.0,9,     -999.0,9
33RO20161119,        P18,     212,          1,          5,      11104,2,20170129,       0245,   -68.0668,   -94.9996,       4429,  3159.4,   0.5721,  34.7052,2,  34.7083,2,    208.1,2,   207.5,2,   128.0,6,    33.1,6,    0.01,6,   2.266,6,-999.0000,9,-999.0000,9,-999.0000,9,  2259.5,2,  2358.7,2,   7.5874,2,    25.00, -999.00,9,  -999.0,9,  -999.0,-999.0000,9, -999.00,9,  -999.0,9, -999.00,9, -999.00,9,     -999.0,9, -999.00,9,  -999.0,9,     -999.0,     -999.0,9,     -999.0,9,     -999.0,     -999.0,9,     -999.0,     -999.0,9,     -999.0,     -999.0,     -999.0,9,     -999.0,9,     -999.0,9,     -999.0,9,     -999.0,9,     -999.0,9,     -999.0,9,     -999.0,9
33RO20161119,        P18,     212,          1,          6,      11105,2,20170129,       0245,   -68.0668,   -94.9996,       4429,  2831.4,   0.7045,  34.7082,2,  34.7107,2,    205.4,2,   204.4,2,   125.0,6,    32.8,6,    0.01,6,   2.245,6,-999.0000,9,-999.0000,9,-999.0000,9,  2261.0,2,  2362.6,2,   7.5891,2,    25.00, -999.00,9,  -999.0,9,  -999.0,-999.0000,9, -999.00,9,  -999.0,9, -999.00,9, -999.00,9,     -999.0,9, -999.00,9,  -999.0,9,     -999.0,     -999.0,9,     -999.0,9,     -999.0,     -999.0,9,     -999.0,     -999.0,9,     -999.0,     -999.0,     -999.0,9,     -999.0,9,     -999.0,9,     -999.0,9,     -999.0,9,     -999.0,9,     -999.0,9,     -999.0,9
33RO20161119,        P18,     212,          1,          7,      11106,2,20170129,       0245,   -68.0668,   -94.9996,       4429,  2494.4,   0.8330,  34.7122,2,  34.7145,2,    202.5,2,   202.0,2,   121.0,2,    32.8,2,    0.01,2,   2.244,2,-999.0000,9,-999.0000,9,-999.0000,9,  2259.6,2,  2360.0,2,   7.5917,2,    25.00, -999.00,9,  -999.0,9,  -999.0,-999.0000,9, -999.00,9,  -999.0,9, -999.00,9, -999.00,9,     -999.0,9, -999.00,9,  -999.0,9,     -999.0,     -999.0,9,     -999.0,9,     -999.0,     -999.0,9,     -999.0,     -999.0,9,     -999.0,     -999.0,     -999.0,9,     -999.0,9,     -999.0,9,     -999.0,9,     -999.0,9,     -999.0,9,     -999.0,9,     -999.0,9
33RO20161119,        P18,     212,          1,          8,      11107,2,20170129,       0245,   -68.0668,   -94.9996,       4429,  2140.8,   0.9688,  34.7175,2,  34.7187,2,    200.0,2,   199.5,6,   115.8,2,    32.6,2,    0.01,2,   2.236,2,-999.0000,9,-999.0000,9,-999.0000,9,  2257.8,2,  2364.4,2,   7.5926,2,    25.00, -999.00,9,  -999.0,9,  -999.0,-999.0000,9, -999.00,9,  -999.0,9, -999.00,9, -999.00,9,     -999.0,9, -999.00,9,  -999.0,9,     -999.0,     -999.0,9,     -999.0,9,     -999.0,     -999.0,9,     -999.0,     -999.0,9,     -999.0,     -999.0,     -999.0,9,     -999.0,9,     -999.0,9,     -999.0,9,     -999.0,9,     -999.0,9,     -999.0,9,     -999.0,9
33RO20161119,        P18,     212,          1,          9,      11108,2,20170129,       0245,   -68.0668,   -94.9996,       4429,  1758.4,   1.1674,  34.7246,2,  34.7232,2,    196.3,2,   196.1,2,   109.1,2,    32.3,2,    0.02,2,   2.211,2,-999.0000,9,-999.0000,9,-999.0000,9,  2257.9,2,  2357.9,2,   7.5927,2,    25.00, -999.00,9,  -999.0,9,  -999.0,-999.0000,9, -999.00,9,  -999.0,9, -999.00,9, -999.00,9,     -999.0,9, -999.00,9,  -999.0,9,     -999.0,     -999.0,9,     -999.0,9,     -999.0,     -999.0,9,     -999.0,     -999.0,9,     -999.0,     -999.0,     -999.0,9,     -999.0,9,     -999.0,9,     -999.0,9,     -999.0,9,     -999.0,9,     -999.0,9,     -999.0,9
33RO20161119,        P18,     212,          1,         10,      11109,2,20170129,       0245,   -68.0668,   -94.9996,       4429,  1535.9,   1.3122,  34.7293,2,  34.7279,2,    194.1,2,   193.1,2,   104.7,2,    32.2,2,    0.01,2,   2.180,2,-999.0000,9,-999.0000,9,-999.0000,9,  2257.3,2,  2356.6,2,   7.5904,2,    25.00, -999.00,9,  -999.0,9,  -999.0,-999.0000,9, -999.00,9,  -999.0,9, -999.00,9, -999.00,9,     -999.0,9, -999.00,9,  -999.0,9,     -999.0,     -999.0,9,     -999.0,9,     -999.0,     -999.0,9,     -999.0,     -999.0,9,     -999.0,     -999.0,     -999.0,9,     -999.0,9,     -999.0,9,     -999.0,9,     -999.0,9,     -999.0,9,     -999.0,9,     -999.0,9
33RO20161119,        P18,     212,          1,         11,      11110,2,20170129,       0245,   -68.0668,   -94.9996,       4429,  1367.0,   1.4196,  34.7319,2,  34.7412,2,    192.7,2,   191.7,2,   101.1,2,    32.0,2,    0.01,2,   2.196,2,-999.0000,9,-999.0000,9,-999.0000,9,  2256.2,2,  2356.2,2,   7.5900,2,    25.00, -999.00,9,  -999.0,9,  -999.0,-999.0000,9, -999.00,9,  -999.0,9, -999.00,9, -999.00,9,     -999.0,9, -999.00,9,  -999.0,9,     -999.0,     -999.0,9,     -999.0,9,     -999.0,     -999.0,9,     -999.0,     -999.0,9,     -999.0,     -999.0,     -999.0,9,     -999.0,9,     -999.0,9,     -999.0,9,     -999.0,9,     -999.0,9,     -999.0,9,     -999.0,9
33RO20161119,        P18,     212,          1,         12,      11111,2,20170129,       0245,   -68.0668,   -94.9996,       4429,  1209.7,   1.5410,  34.7331,2,  34.7345,2,    190.3,2,   190.0,2,    97.0,2,    32.0,2,    0.01,2,   2.188,2,-999.0000,9,-999.0000,9,-999.0000,9,  2254.4,2,  2353.0,2,   7.5889,2,    25.00, -999.00,9,  -999.0,9,  -999.0,-999.0000,9, -999.00,9,  -999.0,9, -999.00,9, -999.00,9,     -999.0,9, -999.00,9,  -999.0,9,     -999.0,     -999.0,9,     -999.0,9,     -999.0,     -999.0,9,     -999.0,     -999.0,9,     -999.0,     -999.0,     -999.0,9,     -999.0,9,     -999.0,9,     -999.0,9,     -999.0,9,     -999.0,9,     -999.0,9,     -999.0,9
33RO20161119,        P18,     212,          1,         13,      11112,2,20170129,       0245,   -68.0668,   -94.9996,       4429,  1072.0,   1.6571,  34.7329,2,  34.7359,2,    188.0,2,   188.1,2,    93.6,2,    31.9,2,    0.01,2,   2.184,2,-999.0000,9,-999.0000,9,-999.0000,9,  2253.1,2,  2351.8,2,   7.5871,2,    25.00, -999.00,9,  -999.0,9,  -999.0,-999.0000,9, -999.00,9,  -999.0,9, -999.00,9, -999.00,9,     -999.0,9, -999.00,9,  -999.0,9,     -999.0,     -999.0,9,     -999.0,9,     -999.0,     -999.0,9,     -999.0,     -999.0,9,     -999.0,     -999.0,     -999.0,9,     -999.0,9,     -999.0,9,     -999.0,9,     -999.0,9,     -999.0,9,     -999.0,9,     -999.0,9
33RO20161119,        P18,     212,          1,         14,      11113,2,20170129,       0245,   -68.0668,   -94.9996,       4429,   939.6,   1.7732,  34.7289,2,  34.7383,2,    185.1,2,   184.9,2,    90.7,2,    32.2,2,    0.01,2,   2.193,2,-999.0000,9,-999.0000,9,-999.0000,9,  2251.9,2,  2351.7,2,   7.5845,2,    25.00, -999.00,9,  -999.0,9,  -999.0,-999.0000,9, -999.00,9,  -999.0,9, -999.00,9, -999.00,9,     -999.0,9, -999.00,9,  -999.0,9,     -999.0,     -999.0,9,     -999.0,9,     -999.0,     -999.0,9,     -999.0,     -999.0,9,     -999.0,     -999.0,     -999.0,9,     -999.0,9,     -999.0,9,     -999.0,9,     -999.0,9,     -999.0,9,     -999.0,9,     -999.0,9
33RO20161119,        P18,     212,          1,         15,      11114,2,20170129,       0245,   -68.0668,   -94.9996,       4429,   805.1,   1.8872,  34.7195,2,  34.7178,2,    181.6,2,   181.3,2,    87.6,2,    32.4,2,    0.01,2,   2.218,2,-999.0000,9,-999.0000,9,-999.0000,9,  2252.5,2,  2347.5,6,   7.5758,2,    25.00, -999.00,9,  -999.0,9,  -999.0,-999.0000,9, -999.00,9,  -999.0,9, -999.00,9, -999.00,9,     -999.0,9, -999.00,9,  -999.0,9,     -999.0,     -999.0,9,     -999.0,9,     -999.0,     -999.0,9,     -999.0,     -999.0,9,     -999.0,     -999.0,     -999.0,9,     -999.0,9,     -999.0,9,     -999.0,9,     -999.0,9,     -999.0,9,     -999.0,9,     -999.0,9
33RO20161119,        P18,     212,          1,         16,      11115,2,20170129,       0245,   -68.0668,   -94.9996,       4429,   670.5,   1.9869,  34.7022,2,  34.7038,2,    178.1,2,   179.9,2,    84.9,2,    32.9,2,    0.02,2,   2.249,2,-999.0000,9,-999.0000,9,-999.0000,9,  2254.0,2,  2345.1,2,   7.5662,2,    25.00, -999.00,9,  -999.0,9,  -999.0,-999.0000,9, -999.00,9,  -999.0,9, -999.00,9, -999.00,9,     -999.0,9, -999.00,9,  -999.0,9,     -999.0,     -999.0,9,     -999.0,9,     -999.0,     -999.0,9,     -999.0,     -999.0,9,     -999.0,     -999.0,     -999.0,9,     -999.0,9,     -999.0,9,     -999.0,9,     -999.0,9,     -999.0,9,     -999.0,9,     -999.0,9
33RO20161119,        P18,     212,          1,         17,      11116,2,20170129,       0245,   -68.0668,   -94.9996,       4429,   525.6,   2.0501,  34.6710,2,  34.6775,2,    173.7,2,   174.2,6,    82.2,2,    33.7,2,    0.02,2,   2.289,2,-999.0000,9,-999.0000,9,-999.0000,9,  2254.1,2,  2339.9,2,   7.5547,2,    25.00, -999.00,9,  -999.0,9,  -999.0,-999.0000,9, -999.00,9,  -999.0,9, -999.00,9, -999.00,9,     -999.0,9, -999.00,9,  -999.0,9,     -999.0,     -999.0,9,     -999.0,9,     -999.0,     -999.0,9,     -999.0,     -999.0,9,     -999.0,     -999.0,     -999.0,9,     -999.0,9,     -999.0,9,     -999.0,9,     -999.0,9,     -999.0,9,     -999.0,9,     -999.0,9
33RO20161119,        P18,     212,          1,         18,      11117,2,20170129,       0245,   -68.0668,   -94.9996,       4429,   405.2,   2.1082,  34.6247,2,  34.6257,2,    172.3,2,   172.2,2,    78.7,2,    34.4,2,    0.02,2,   2.337,2,-999.0000,9,-999.0000,9,-999.0000,9,  2254.0,6,  2337.4,2,   7.5434,2,    25.00, -999.00,9,  -999.0,9,  -999.0,-999.0000,9, -999.00,9,  -999.0,9, -999.00,9, -999.00,9,     -999.0,9, -999.00,9,  -999.0,9,     -999.0,     -999.0,9,     -999.0,9,     -999.0,     -999.0,9,     -999.0,     -999.0,9,     -999.0,     -999.0,     -999.0,9,     -999.0,9,     -999.0,9,     -999.0,9,     -999.0,9,     -999.0,9,     -999.0,9,     -999.0,9
33RO20161119,        P18,     212,          1,         19,      11083,2,20170129,       0245,   -68.0668,   -94.9996,       4429,   280.1,   2.0142,  34.5251,2,  34.5298,2,    180.3,2,   179.3,2,    73.3,2,    35.2,2,    0.02,2,   2.403,2,-999.0000,9,-999.0000,9,-999.0000,9,  2250.9,2,  2327.0,2,   7.5308,2,    25.00, -999.00,9,  -999.0,9,  -999.0,-999.0000,9, -999.00,9,  -999.0,9, -999.00,9, -999.00,9,     -999.0,9, -999.00,9,  -999.0,9,     -999.0,     -999.0,9,     -999.0,9,     -999.0,     -999.0,9,     -999.0,     -999.0,9,     -999.0,     -999.0,     -999.0,9,     -999.0,9,     -999.0,9,     -999.0,9,     -999.0,9,     -999.0,9,     -999.0,9,     -999.0,9
33RO20161119,        P18,     212,          1,         20,      11118,2,20170129,       0245,   -68.0668,   -94.9996,       4429,   171.0,   0.5171,  34.2151,2,  34.2240,2,    251.7,2,   252.9,2,    57.1,2,    33.1,2,    0.03,2,   2.277,2,-999.0000,9,-999.0000,9,-999.0000,9,  2218.3,2,  2309.6,2,   7.5646,2,    25.00, -999.00,9,  -999.0,9,  -999.0,-999.0000,9, -999.00,9,  -999.0,9, -999.00,9, -999.00,9,     -999.0,9, -999.00,9,  -999.0,9,     -999.0,     -999.0,9,     -999.0,9,     -999.0,     -999.0,9,     -999.0,     -999.0,9,     -999.0,     -999.0,     -999.0,9,     -999.0,9,     -999.0,9,     -999.0,9,     -999.0,9,     -999.0,9,     -999.0,9,     -999.0,9
33RO20161119,        P18,     212,          1,         21,      11119,2,20170129,       0245,   -68.0668,   -94.9996,       4429,    90.7,  -1.6019,  33.8763,2,  33.8789,2,    338.4,2,   336.7,2,    41.7,2,    28.2,2,    0.27,2,   2.029,2,-999.0000,9,-999.0000,9,-999.0000,9,  2177.1,2,  2286.5,2,   7.6345,2,    25.00, -999.00,9,  -999.0,9,  -999.0,-999.0000,9, -999.00,9,  -999.0,9, -999.00,9, -999.00,9,     -999.0,9, -999.00,9,  -999.0,9,     -999.0,     -999.0,9,     -999.0,9,     -999.0,     -999.0,9,     -999.0,     -999.0,9,     -999.0,     -999.0,     -999.0,9,     -999.0,9,     -999.0,9,     -999.0,9,     -999.0,9,     -999.0,9,     -999.0,9,     -999.0,9
33RO20161119,        P18,     212,          1,         22,      11120,2,20170129,       0245,   -68.0668,   -94.9996,       4429,    34.1,  -0.3206,  33.5649,2,  33.5661,2,    368.2,2,   368.1,2,    21.6,2,    23.6,2,    0.23,2,   1.674,2,-999.0000,9,-999.0000,9,-999.0000,9,  2132.9,2,  2271.2,6,   7.7148,2,    25.00, -999.00,9,  -999.0,9,  -999.0,-999.0000,9, -999.00,9,  -999.0,9, -999.00,9, -999.00,9,     -999.0,9, -999.00,9,  -999.0,9,     -999.0,     -999.0,9,     -999.0,9,     -999.0,     -999.0,9,     -999.0,     -999.0,9,     -999.0,     -999.0,     -999.0,9,     -999.0,9,     -999.0,9,     -999.0,9,     -999.0,9,     -999.0,9,     -999.0,9,     -999.0,9
33RO20161119,        P18,     212,          1,         23,      11121,2,20170129,       0245,   -68.0668,   -94.9996,       4429,    17.9,   1.7837,  33.4734,2,  33.4775,2,    338.9,2,   336.7,2,    19.1,2,    22.6,2,    0.36,2,   1.521,2,-999.0000,9,-999.0000,9,-999.0000,9,  2126.5,2,  2265.8,2,   7.7181,6,    25.00, -999.00,9,  -999.0,9,  -999.0,-999.0000,9, -999.00,9,  -999.0,9, -999.00,9, -999.00,9,     -999.0,9, -999.00,9,  -999.0,9,     -999.0,     -999.0,9,     -999.0,9,     -999.0,     -999.0,9,     -999.0,     -999.0,9,     -999.0,     -999.0,     -999.0,9,     -999.0,9,     -999.0,9,     -999.0,9,     -999.0,9,     -999.0,9,     -999.0,9,     -999.0,9
33RO20161119,        P18,     212,          1,         24,      11122,2,20170129,       0245,   -68.0668,   -94.9996,       4429,     3.3,   1.6050,  32.9924,2,  32.9924,2,    335.1,2,   334.2,2,    25.6,2,    22.9,2,    0.43,2,   1.503,2,-999.0000,9,-999.0000,9,-999.0000,9,  2102.5,6,  2228.4,2,   7.7020,2,    25.00, -999.00,9,  -999.0,9,  -999.0,-999.0000,9, -999.00,9,  -999.0,9, -999.00,9, -999.00,9,     -999.0,9, -999.00,9,  -999.0,9,     -999.0,     -999.0,9,     -999.0,9,     -999.0,     -999.0,9,     -999.0,     -999.0,9,     -999.0,     -999.0,     -999.0,9,     -999.0,9,     -999.0,9,     -999.0,9,     -999.0,9,     -999.0,9,     -999.0,9,     -999.0,9