BOTTLE,20230606CCHSIOCBG
EXPOCODE,SECT_ID,STNNBR,CASTNO,SAMPNO,BTLNBR,BTLNBR_FLAG_W,DATE,TIME,LATITUDE,LONGITUDE,DEPTH,CTDPRS,CTDTMP,CTDSAL,CTDSAL_FLAG_W,SALNTY,SALNTY_FLAG_W,CTDOXY,CTDOXY_FLAG_W,OXYGEN,OXYGEN_FLAG_W,SILCAT,SILCAT_FLAG_W,NITRAT,NITRAT_FLAG_W,NITRIT,NITRIT_FLAG_W,PHSPHT,PHSPHT_FLAG_W,CFC-11,CFC-11_FLAG_W,CFC-12,CFC-12_FLAG_W,SF6,SF6_FLAG_W,TCARBN,TCARBN_FLAG_W,ALKALI,ALKALI_FLAG_W,PH_SWS,PH_SWS_FLAG_W,PH_TMP,DELC13,DELC13_FLAG_W,DELC14,DELC14_FLAG_W,C14ERR,CCL4,CCL4_FLAG_W,POC,POC_FLAG_W,DOC,DOC_FLAG_W,TDN,TDN_FLAG_W,PON,PON_FLAG_W,N2O,N2O_FLAG_W,D15N_NO3,D15N_NO3_FLAG_W,14C-DOC,14C-DOC_FLAG_W,14C-DOCERR,13C-DOC,13C-DOC_FLAG_W,N2/ARGON_UNSTRIPPED,N2/ARGON_UNSTRIPPED_FLAG_W,N2/ARGON_UNSTRIPPED_ERROR,N2/ARGON,N2/ARGON_FLAG_W,N2/ARGON_ERROR,D15N_N2,D15N_N2_FLAG_W,D15N_N2_ERROR,D15N_NO3_ERROR,D15N_NO2+NO3,D15N_NO2+NO3_FLAG_W,D18O_NO2+NO3,D18O_NO2+NO3_FLAG_W,D18O_NO3,D18O_NO3_FLAG_W,TDP,TDP_FLAG_W,N2O_ALT_1,N2O_ALT_1_FLAG_W,D15N_N2O,D15N_N2O_FLAG_W,D18O_N2O,D18O_N2O_FLAG_W,D15N_ALPHA_N2O,D15N_ALPHA_N2O_FLAG_W
,,,,,,,,,,,METERS,DBAR,ITS-90,PSS-78,,PSS-78,,UMOL/KG,,UMOL/KG,,UMOL/KG,,UMOL/KG,,UMOL/KG,,UMOL/KG,,PMOL/KG,,PMOL/KG,,FMOL/KG,,UMOL/KG,,UMOL/KG,,,,DEG C,/MILLE,,/MILLE,,/MILLE,PMOL/KG,,UG/KG,,UMOL/KG,,UMOL/KG,,UG/KG,,NMOL/KG,,/MILLE,,/MILLE,,/MILLE,/MILLE,,,,,,,,/MILLE,,/MILLE,/MILLE,/MILLE,,/MILLE,,/MILLE,,UMOL/KG,,NMOL/L,,/MILLE,,/MILLE,,/MILLE,
33RO20161119,        P18,     160,          1,          1,      11010,2,20170112,       1215,   -46.0001,  -103.0001,       3915,  3968.9,   1.1177,  34.7099,2,  34.7086,2,    194.8,2,   194.7,2,   123.5,2,    32.4,2,    0.01,2,   2.271,2,   0.0082,2,   0.0043,2,   0.0000,2,  2276.0,6,  2386.7,2,   7.6059,2,    25.00, -999.00,9,  -999.0,9,  -999.0,   0.0434,2, -999.00,9,  -999.0,9, -999.00,9, -999.00,9,    19.0218,2,    4.82,2,  -999.0,9,     -999.0,     -999.0,9,     -999.0,9,     -999.0,     -999.0,9,     -999.0,     -999.0,9,     -999.0,     -999.0,       4.82,2,       1.91,2,       1.91,2,     -999.0,9,     -999.0,9,     -999.0,9,     -999.0,9,     -999.0,9
33RO20161119,        P18,     160,          1,          2,      11101,2,20170112,       1215,   -46.0001,  -103.0001,       3915,  3725.4,   1.2349,  34.7098,2,  34.7143,4,    190.6,2,   190.8,2,   121.4,2,    32.4,2,    0.01,2,   2.273,2,   0.0068,2,   0.0047,2,   0.0000,2,  2276.8,2,  2382.2,6,   7.6028,6,    25.00, -999.00,9,  -999.0,9,  -999.0,   0.0654,2, -999.00,9,  -999.0,9, -999.00,9, -999.00,9,    19.3518,2,     4.9,2,  -999.0,9,     -999.0,     -999.0,9,     -999.0,9,     -999.0,     -999.0,9,     -999.0,     -999.0,9,     -999.0,     -999.0,        4.9,2,       2.08,2,       2.08,2,     -999.0,9,     -999.0,9,     -999.0,9,     -999.0,9,     -999.0,9
33RO20161119,        P18,     160,          1,          3,      11102,2,20170112,       1215,   -46.0001,  -103.0001,       3915,  3506.0,   1.3840,  34.7113,2,  34.7094,2,    187.7,2,   187.6,2,   116.5,6,    32.4,6,    0.01,6,   2.281,6,   0.0179,2,   0.0095,2,   0.0000,2,  2274.7,2,  2376.6,2,   7.5985,2,    25.00, -999.00,9,  -999.0,9,  -999.0,   0.1312,2, -999.00,9,  -999.0,9, -999.00,9, -999.00,9,    19.7292,2,    4.96,2,  -999.0,9,     -999.0,     -999.0,9,     -999.0,9,     -999.0,     -999.0,9,     -999.0,     -999.0,9,     -999.0,     -999.0,       4.96,2,       1.93,2,       1.93,2,     -999.0,9,     -999.0,9,     -999.0,9,     -999.0,9,     -999.0,9
33RO20161119,        P18,     160,          1,          4,      11103,2,20170112,       1215,   -46.0001,  -103.0001,       3915,  3155.3,   1.5916,  34.7110,2,  34.7097,2,    181.8,2,   181.4,2,   110.6,6,    32.5,6,    0.01,6,   2.284,6,   0.0276,2,   0.0135,2,   0.0000,2,  2273.9,2,  2376.6,2,   7.5913,2,    25.00, -999.00,9,  -999.0,9,  -999.0,   0.1982,2, -999.00,9,  -999.0,9, -999.00,9, -999.00,9,    19.5825,2,    5.03,2,  -999.0,9,     -999.0,     -999.0,9,     -999.0,9,     -999.0,     -999.0,9,     -999.0,     -999.0,9,     -999.0,     -999.0,       5.03,2,       2.18,2,       2.18,2,     -999.0,9,     -999.0,9,     -999.0,9,     -999.0,9,     -999.0,9
33RO20161119,        P18,     160,          1,          5,      11104,2,20170112,       1215,   -46.0001,  -103.0001,       3915,  2978.6,   1.6537,  34.7076,2,  34.7081,2,    178.4,2,   178.2,2,   109.8,6,    32.7,6,    0.01,6,   2.304,6,   0.0258,6,   0.0129,6,   0.0000,6,  2274.8,2,  2376.8,2,   7.5875,2,    25.00, -999.00,9,  -999.0,9,  -999.0,   0.4327,2, -999.00,9,  -999.0,9, -999.00,9, -999.00,9,    19.9012,2,    5.07,2,  -999.0,9,     -999.0,     -999.0,9,     -999.0,9,     -999.0,     -999.0,9,     -999.0,     -999.0,9,     -999.0,     -999.0,       5.07,2,        2.1,2,        2.1,2,     -999.0,9,     -999.0,9,     -999.0,9,     -999.0,9,     -999.0,9
33RO20161119,        P18,     160,          1,          6,      11105,2,20170112,       1215,   -46.0001,  -103.0001,       3915,  2560.2,   1.8605,  34.6988,2,  34.6974,2,    171.8,2,   171.9,2,   104.3,6,    32.9,6,    0.01,6,   2.325,6,   0.0291,2,   0.0139,2,   0.0000,2,  2274.5,2,  2369.9,2,   7.5788,2,    25.00, -999.00,9,  -999.0,9,  -999.0,   1.2132,2, -999.00,9,  -999.0,9, -999.00,9, -999.00,9,    20.3866,2,    5.13,2,  -999.0,9,     -999.0,     -999.0,9,     -999.0,9,     -999.0,     -999.0,9,     -999.0,     -999.0,9,     -999.0,     -999.0,       5.13,2,       2.07,2,       2.07,2,     -999.0,9,     -999.0,9,     -999.0,9,     -999.0,9,     -999.0,9
33RO20161119,        P18,     160,          1,          7,      11106,2,20170112,       1215,   -46.0001,  -103.0001,       3915,  2260.4,   2.0681,  34.6822,2,  34.6805,2,    168.5,2,   168.2,2,    96.8,2,    32.9,2,    0.01,2,   2.321,2,   0.0533,2,   0.0262,2,   0.0000,2,  2270.0,2,  2363.6,2,   7.5704,2,    25.00, -999.00,9,  -999.0,9,  -999.0,   1.7224,2, -999.00,9,  -999.0,9, -999.00,9, -999.00,9,    20.9533,2,    5.17,2,  -999.0,9,     -999.0,     -999.0,9,     -999.0,9,     -999.0,     -999.0,9,     -999.0,     -999.0,9,     -999.0,     -999.0,       5.17,2,       2.12,2,       2.12,2,     -999.0,9,     -999.0,9,     -999.0,9,     -999.0,9,     -999.0,9
33RO20161119,        P18,     160,          1,          8,      11107,2,20170112,       1215,   -46.0001,  -103.0001,       3915,  1948.9,   2.3218,  34.6361,2,  34.6343,2,    163.3,2,   164.0,2,    88.0,2,    33.6,2,    0.01,2,   2.384,2,   0.1193,2,   0.0569,2,   0.0000,2,  2266.0,2,  2355.8,2,   7.5590,2,    25.00, -999.00,9,  -999.0,9,  -999.0,   2.3057,2, -999.00,9,  -999.0,9, -999.00,9, -999.00,9,    21.8698,2,    5.24,2,  -999.0,9,     -999.0,     -999.0,9,     -999.0,9,     -999.0,     -999.0,9,     -999.0,     -999.0,9,     -999.0,     -999.0,       5.24,2,       2.05,2,       2.05,2,     -999.0,9,     -999.0,9,     -999.0,9,     -999.0,9,     -999.0,9
33RO20161119,        P18,     160,          1,          9,      11108,2,20170112,       1215,   -46.0001,  -103.0001,       3915,  1605.3,   2.6791,  34.5431,2,  34.5420,2,    160.7,2,   160.7,2,    75.6,2,    34.6,2,    0.01,2,   2.433,2,   0.3292,2,   0.1571,2,   0.0466,2,  2258.1,2,  2338.9,2,   7.5435,2,    25.00, -999.00,9,  -999.0,9,  -999.0,   2.2916,2, -999.00,9,  -999.0,9, -999.00,9, -999.00,9,    23.3085,2,    5.41,2,  -999.0,9,     -999.0,     -999.0,9,     -999.0,9,     -999.0,     -999.0,9,     -999.0,     -999.0,9,     -999.0,     -999.0,       5.41,2,       2.12,2,       2.12,2,     -999.0,9,     -999.0,9,     -999.0,9,     -999.0,9,     -999.0,9
33RO20161119,        P18,     160,          1,         10,      11109,2,20170112,       1215,   -46.0001,  -103.0001,       3915,  1389.6,   2.9951,  34.4616,2,  34.4617,2,    162.8,2,   166.8,2,    63.5,2,    34.6,2,    0.01,2,   2.416,2,   0.5753,2,   0.2791,2,   0.0923,2,  2245.3,2,  2344.0,3,   7.5438,6,    25.00, -999.00,9,  -999.0,9,  -999.0,    3.189,2, -999.00,9,  -999.0,9, -999.00,9, -999.00,9,    23.2732,2,    5.48,2,  -999.0,9,     -999.0,     -999.0,9,     -999.0,9,     -999.0,     -999.0,9,     -999.0,     -999.0,9,     -999.0,     -999.0,       5.48,2,        2.2,2,        2.2,2,     -999.0,9,     -999.0,9,     -999.0,9,     -999.0,9,     -999.0,9
33RO20161119,        P18,     160,          1,         11,      11110,2,20170112,       1215,   -46.0001,  -103.0001,       3915,  1256.0,   3.2841,  34.3972,2,  34.3955,2,    179.1,2,   179.8,2,    52.0,2,    33.6,2,    0.01,2,   2.353,2,   0.9781,2,   0.4722,2,   0.1696,2,  2226.9,2,  2314.9,2,   7.5606,2,    25.00, -999.00,9,  -999.0,9,  -999.0,   3.3871,2, -999.00,9,  -999.0,9, -999.00,9, -999.00,9,    22.1764,2,    5.47,2,  -999.0,9,     -999.0,     -999.0,9,     -999.0,9,     -999.0,     -999.0,9,     -999.0,     -999.0,9,     -999.0,     -999.0,       5.47,2,       2.31,2,       2.31,2,     -999.0,9,     -999.0,9,     -999.0,9,     -999.0,9,     -999.0,9
33RO20161119,        P18,     160,          1,         12,      11111,2,20170112,       1215,   -46.0001,  -103.0001,       3915,  1115.0,   3.7676,  34.3359,2,  34.3351,2,    195.5,2,   196.0,2,    39.4,2,    32.1,2,    0.01,2,   2.238,2,   1.6073,2,   0.7847,2,   0.3331,2,  2207.8,6,  2301.9,6,   7.5849,2,    25.00, -999.00,9,  -999.0,9,  -999.0,     3.71,2, -999.00,9,  -999.0,9, -999.00,9, -999.00,9,    20.7796,2,    5.52,2,  -999.0,9,     -999.0,     -999.0,9,     -999.0,9,     -999.0,     -999.0,9,     -999.0,     -999.0,9,     -999.0,     -999.0,       5.52,2,       2.43,2,       2.43,2,     -999.0,9,     -999.0,9,     -999.0,9,     -999.0,9,     -999.0,9
33RO20161119,        P18,     160,          1,         13,      11112,2,20170112,       1215,   -46.0001,  -103.0001,       3915,   985.6,   4.2989,  34.2978,2,  34.2976,2,    207.9,2,   208.1,6,    29.9,2,    30.3,2,    0.01,2,   2.118,2,   2.2097,2,   1.1088,2,   0.5456,2,  2192.4,2,  2295.6,2,   7.6083,2,    25.00, -999.00,9,  -999.0,9,  -999.0,   3.7098,2, -999.00,9,  -999.0,9, -999.00,9, -999.00,9,    19.0898,2,    5.62,2,  -999.0,9,     -999.0,     -999.0,9,     -999.0,9,     -999.0,     -999.0,9,     -999.0,     -999.0,9,     -999.0,     -999.0,       5.62,2,       2.47,2,       2.47,2,     -999.0,9,     -999.0,9,     -999.0,9,     -999.0,9,     -999.0,9
33RO20161119,        P18,     160,          1,         14,      11113,2,20170112,       1215,   -46.0001,  -103.0001,       3915,   849.5,   4.8824,  34.2715,2,  34.2705,2,    220.8,2,   221.1,6,    21.3,2,    28.2,2,    0.02,2,   1.964,2,   2.7975,2,   1.4344,2,   0.7886,2,  2176.4,2,  2285.7,2,   7.6366,2,    25.00, -999.00,9,  -999.0,9,  -999.0,   3.2754,2, -999.00,9,  -999.0,9, -999.00,9, -999.00,9,     17.751,2,    5.67,2,  -999.0,9,     -999.0,     -999.0,9,     -999.0,9,     -999.0,     -999.0,9,     -999.0,     -999.0,9,     -999.0,     -999.0,       5.67,2,        2.6,2,        2.6,2,     -999.0,9,     -999.0,9,     -999.0,9,     -999.0,9,     -999.0,9
33RO20161119,        P18,     160,          1,         15,      11114,2,20170112,       1215,   -46.0001,  -103.0001,       3915,   730.6,   5.3327,  34.2470,2,  34.2456,2,    241.6,2,   242.1,2,    14.3,2,    25.7,2,    0.01,2,   1.821,2,   3.4842,2,   1.8470,2,   1.2503,2,  2158.0,2,  2280.7,2,   7.6696,2,    25.00, -999.00,9,  -999.0,9,  -999.0,    3.748,2, -999.00,9,  -999.0,9, -999.00,9, -999.00,9,    15.7057,2,    5.77,2,  -999.0,9,     -999.0,     -999.0,9,     -999.0,9,     -999.0,     -999.0,9,     -999.0,     -999.0,9,     -999.0,     -999.0,       5.77,2,       2.95,2,       2.95,2,     -999.0,9,     -999.0,9,     -999.0,9,     -999.0,9,     -999.0,9
33RO20161119,        P18,     160,          1,         16,      11115,2,20170112,       1215,   -46.0001,  -103.0001,       3915,   610.8,   5.7537,  34.2492,2,  34.2485,2,    258.0,2,   258.9,2,    10.0,2,    23.2,2,    0.01,2,   1.646,2,   3.9303,2,   2.1232,2,   1.6409,2,  2144.5,2,  2280.7,2,   7.6936,2,    25.00, -999.00,9,  -999.0,9,  -999.0,   3.4839,2, -999.00,9,  -999.0,9, -999.00,9, -999.00,9,    14.5498,2,    5.91,2,  -999.0,9,     -999.0,     -999.0,9,     -999.0,9,     -999.0,     -999.0,9,     -999.0,     -999.0,9,     -999.0,     -999.0,       5.91,2,       3.25,2,       3.25,2,     -999.0,9,     -999.0,9,     -999.0,9,     -999.0,9,     -999.0,9
33RO20161119,        P18,     160,          1,         17,      11116,2,20170112,       1215,   -46.0001,  -103.0001,       3915,   505.3,   6.0509,  34.2640,2,  34.2636,2,    263.6,2,   265.5,2,     8.0,2,    21.9,2,    0.01,2,   1.578,2,   4.0907,2,   2.2193,2,   1.8393,2,  2139.0,2,  2277.3,2,   7.7079,2,    25.00, -999.00,9,  -999.0,9,  -999.0,   3.0624,2, -999.00,9,  -999.0,9, -999.00,9, -999.00,9,    14.3023,2,    5.97,2,  -999.0,9,     -999.0,     -999.0,9,     -999.0,9,     -999.0,     -999.0,9,     -999.0,     -999.0,9,     -999.0,     -999.0,       5.97,2,       3.58,2,       3.58,2,     -999.0,9,     -999.0,9,     -999.0,9,     -999.0,9,     -999.0,9
33RO20161119,        P18,     160,          1,         18,      11117,2,20170112,       1215,   -46.0001,  -103.0001,       3915,   395.4,   6.3498,  34.2830,2,  34.2815,2,    265.5,2,   265.7,2,     6.8,2,    21.0,2,    0.01,2,   1.525,2,   4.0726,6,   2.2446,6,   1.9765,6,  2138.3,2,  2277.8,2,   7.7151,2,    25.00, -999.00,9,  -999.0,9,  -999.0,   4.2652,2, -999.00,9,  -999.0,9, -999.00,9, -999.00,9,    14.2848,2,    5.99,2,  -999.0,9,     -999.0,     -999.0,9,     -999.0,9,     -999.0,     -999.0,9,     -999.0,     -999.0,9,     -999.0,     -999.0,       5.99,2,       3.56,2,       3.56,2,     -999.0,9,     -999.0,9,     -999.0,9,     -999.0,9,     -999.0,9
33RO20161119,        P18,     160,          1,         19,      11083,2,20170112,       1215,   -46.0001,  -103.0001,       3915,   300.7,   6.5817,  34.2951,2,  34.2930,2,    266.6,2,   266.4,2,     6.2,2,    20.3,2,    0.01,2,   1.477,2,   4.0520,2,   2.2509,2,   2.1466,2,  2135.5,2,  2275.2,2,   7.7179,2,    25.00, -999.00,9,  -999.0,9,  -999.0,   3.6983,2, -999.00,9,  -999.0,9, -999.00,9, -999.00,9,    14.5842,2,    5.99,2,  -999.0,9,     -999.0,     -999.0,9,     -999.0,9,     -999.0,     -999.0,9,     -999.0,     -999.0,9,     -999.0,     -999.0,       5.99,2,       3.66,2,       3.79,2,     -999.0,9,     -999.0,9,     -999.0,9,     -999.0,9,     -999.0,9
33RO20161119,        P18,     160,          1,         20,      11118,2,20170112,       1215,   -46.0001,  -103.0001,       3915,   221.1,   6.6343,  34.2585,2,  34.2632,2,    270.5,2,   270.5,2,     5.2,2,    19.7,2,    0.02,2,   1.418,2,   4.0906,2,   2.2971,2,   2.3725,2,  2132.3,2,  2274.6,2,   7.7213,2,    25.00, -999.00,9,  -999.0,9,  -999.0,   0.0402,2, -999.00,9,  -999.0,9, -999.00,9, -999.00,9,    16.8385,2,    6.05,2,  -999.0,9,     -999.0,     -999.0,9,     -999.0,9,     -999.0,     -999.0,9,     -999.0,     -999.0,9,     -999.0,     -999.0,       5.94,2,       4.11,2,        4.0,2,     -999.0,9,     -999.0,9,     -999.0,9,     -999.0,9,     -999.0,9
33RO20161119,        P18,     160,          1,         21,      11119,2,20170112,       1215,   -46.0001,  -103.0001,       3915,   145.1,   7.3559,  34.1973,2,  34.1937,2,    269.5,2,   269.3,2,     3.2,2,    17.8,2,    0.21,2,   1.352,2,   3.9766,2,   2.2452,2,   2.4493,2,  2120.5,2,  2267.8,2,   7.7378,2,    25.00, -999.00,9,  -999.0,9,  -999.0,   0.0419,2, -999.00,9,  -999.0,9, -999.00,9, -999.00,9,    16.9182,2,    6.75,2,  -999.0,9,     -999.0,     -999.0,9,     -999.0,9,     -999.0,     -999.0,9,     -999.0,     -999.0,9,     -999.0,     -999.0,       6.51,2,       4.87,2,       4.69,2,     -999.0,9,     -999.0,9,     -999.0,9,     -999.0,9,     -999.0,9
33RO20161119,        P18,     160,          1,         22,      11120,2,20170112,       1215,   -46.0001,  -103.0001,       3915,    69.8,   9.9197,  34.0774,2,  34.0779,2,    282.6,2,   281.8,2,     1.5,2,    12.9,2,    0.17,2,   1.060,2,   3.5569,2,   2.0233,2,   2.4673,2,  2086.7,2,  2266.6,6,   7.8113,2,    25.00, -999.00,9,  -999.0,9,  -999.0,   0.1067,2, -999.00,9,  -999.0,9, -999.00,9, -999.00,9,    10.7612,2,   11.21,2,  -999.0,9,     -999.0,     -999.0,9,     -999.0,9,     -999.0,     -999.0,9,     -999.0,     -999.0,9,     -999.0,     -999.0,      10.38,2,       6.86,2,       6.77,2,     -999.0,9,     -999.0,9,     -999.0,9,     -999.0,9,     -999.0,9
33RO20161119,        P18,     160,          1,         23,      11121,2,20170112,       1215,   -46.0001,  -103.0001,       3915,    30.1,  10.9879,  34.0517,2,  34.0554,2,    277.6,2,   280.2,2,     1.1,2,    12.2,2,    0.18,2,   1.031,2,   3.3998,2,   1.9545,2,   2.4015,2,  2077.1,2,  2264.4,2,   7.8272,2,    25.00, -999.00,9,  -999.0,9,  -999.0,   0.2345,2, -999.00,9,  -999.0,9, -999.00,9, -999.00,9,    10.5009,2,   12.07,2,  -999.0,9,     -999.0,     -999.0,9,     -999.0,9,     -999.0,     -999.0,9,     -999.0,     -999.0,9,     -999.0,     -999.0,      11.12,2,       7.24,2,       7.13,2,     -999.0,9,     -999.0,9,     -999.0,9,     -999.0,9,     -999.0,9
33RO20161119,        P18,     160,          1,         24,      11122,2,20170112,       1215,   -46.0001,  -103.0001,       3915,     3.9,  11.3800,  34.0625,2,  34.0619,2,    273.5,2,   276.1,2,     1.0,2,    12.1,2,    0.22,2,   1.031,2,   3.3217,2,   1.9202,2,   2.3743,2,  2077.8,6,  2263.7,2,   7.8241,2,    25.00, -999.00,9,  -999.0,9,  -999.0,   1.0831,2, -999.00,9,  -999.0,9, -999.00,9, -999.00,9,    10.2559,2,   12.44,2,  -999.0,9,     -999.0,     -999.0,9,     -999.0,9,     -999.0,     -999.0,9,     -999.0,     -999.0,9,     -999.0,     -999.0,      11.12,2,       7.48,2,       7.12,2,     -999.0,9,     -999.0,9,     -999.0,9,     -999.0,9,     -999.0,9