BOTTLE,20230606CCHSIOCBG
EXPOCODE,SECT_ID,STNNBR,CASTNO,SAMPNO,BTLNBR,BTLNBR_FLAG_W,DATE,TIME,LATITUDE,LONGITUDE,DEPTH,CTDPRS,CTDTMP,CTDSAL,CTDSAL_FLAG_W,SALNTY,SALNTY_FLAG_W,CTDOXY,CTDOXY_FLAG_W,OXYGEN,OXYGEN_FLAG_W,SILCAT,SILCAT_FLAG_W,NITRAT,NITRAT_FLAG_W,NITRIT,NITRIT_FLAG_W,PHSPHT,PHSPHT_FLAG_W,CFC-11,CFC-11_FLAG_W,CFC-12,CFC-12_FLAG_W,SF6,SF6_FLAG_W,TCARBN,TCARBN_FLAG_W,ALKALI,ALKALI_FLAG_W,PH_SWS,PH_SWS_FLAG_W,PH_TMP,DELC13,DELC13_FLAG_W,DELC14,DELC14_FLAG_W,C14ERR,CCL4,CCL4_FLAG_W,POC,POC_FLAG_W,DOC,DOC_FLAG_W,TDN,TDN_FLAG_W,PON,PON_FLAG_W,N2O,N2O_FLAG_W,D15N_NO3,D15N_NO3_FLAG_W,14C-DOC,14C-DOC_FLAG_W,14C-DOCERR,13C-DOC,13C-DOC_FLAG_W,N2/ARGON_UNSTRIPPED,N2/ARGON_UNSTRIPPED_FLAG_W,N2/ARGON_UNSTRIPPED_ERROR,N2/ARGON,N2/ARGON_FLAG_W,N2/ARGON_ERROR,D15N_N2,D15N_N2_FLAG_W,D15N_N2_ERROR,D15N_NO3_ERROR,D15N_NO2+NO3,D15N_NO2+NO3_FLAG_W,D18O_NO2+NO3,D18O_NO2+NO3_FLAG_W,D18O_NO3,D18O_NO3_FLAG_W,TDP,TDP_FLAG_W,N2O_ALT_1,N2O_ALT_1_FLAG_W,D15N_N2O,D15N_N2O_FLAG_W,D18O_N2O,D18O_N2O_FLAG_W,D15N_ALPHA_N2O,D15N_ALPHA_N2O_FLAG_W
,,,,,,,,,,,METERS,DBAR,ITS-90,PSS-78,,PSS-78,,UMOL/KG,,UMOL/KG,,UMOL/KG,,UMOL/KG,,UMOL/KG,,UMOL/KG,,PMOL/KG,,PMOL/KG,,FMOL/KG,,UMOL/KG,,UMOL/KG,,,,DEG C,/MILLE,,/MILLE,,/MILLE,PMOL/KG,,UG/KG,,UMOL/KG,,UMOL/KG,,UG/KG,,NMOL/KG,,/MILLE,,/MILLE,,/MILLE,/MILLE,,,,,,,,/MILLE,,/MILLE,/MILLE,/MILLE,,/MILLE,,/MILLE,,UMOL/KG,,NMOL/L,,/MILLE,,/MILLE,,/MILLE,
33RO20161119,        P18,      95,          1,          1,      11010,2,20161216,       0832,   -13.5000,  -103.0000,       4120,  4173.0,   1.8348,  34.6778,2,  34.6784,2,    137.3,2,   137.3,2,   142.5,6,    36.8,6,    0.00,6,   2.540,6,   0.0002,2,   0.0000,2,   0.0000,2,  2341.8,6,  2433.0,2,   7.5650,6,    25.00, -999.00,9,  -999.0,9,  -999.0,        0,2, -999.00,9,    34.8,2,   41.70,2, -999.00,9,    21.6423,2, -999.00,9,  -999.0,9,     -999.0,     -999.0,9,     -999.0,9,     -999.0,     -999.0,9,     -999.0,     -999.0,9,     -999.0,     -999.0,     -999.0,9,     -999.0,9,     -999.0,9,     -999.0,9,     -999.0,9,     -999.0,9,     -999.0,9,     -999.0,9
33RO20161119,        P18,      95,          1,          2,      11101,2,20161216,       0832,   -13.5000,  -103.0000,       4120,  3884.4,   1.8054,  34.6778,2,  34.6756,2,    137.0,2,   137.5,2,   142.4,6,    36.9,6,    0.00,6,   2.540,6,   0.0005,2,   0.0000,2,   0.0000,2,  2339.5,2,  2414.3,4,   7.5677,2,    25.00, -999.00,9,  -999.0,9,  -999.0,        0,2, -999.00,9,    35.5,2,   41.40,2, -999.00,9,    21.2621,2, -999.00,9,  -999.0,9,     -999.0,     -999.0,9,     -999.0,9,     -999.0,     -999.0,9,     -999.0,     -999.0,9,     -999.0,     -999.0,     -999.0,9,     -999.0,9,     -999.0,9,     -999.0,9,     -999.0,9,     -999.0,9,     -999.0,9,     -999.0,9
33RO20161119,        P18,      95,          1,          3,      11102,2,20161216,       0832,   -13.5000,  -103.0000,       4120,  3593.8,   1.7872,  34.6776,2,  34.6765,2,    137.0,2,   137.1,2,   141.6,6,    36.9,6,    0.00,6,   2.543,6,   0.0003,2,   0.0000,2,   0.0000,2,  2338.5,2,  2431.1,6,   7.5644,2,    25.00, -999.00,9,  -999.0,9,  -999.0,        0,2, -999.00,9,    37.5,2,   38.30,2, -999.00,9,    21.3559,2, -999.00,9,  -999.0,9,     -999.0,     -999.0,9,     -999.0,9,     -999.0,     -999.0,9,     -999.0,     -999.0,9,     -999.0,     -999.0,     -999.0,9,     -999.0,9,     -999.0,9,     -999.0,9,     -999.0,9,     -999.0,9,     -999.0,9,     -999.0,9
33RO20161119,        P18,      95,          1,          4,      11103,2,20161216,       0832,   -13.5000,  -103.0000,       4120,  3268.6,   1.7748,  34.6775,2,  34.6761,2,    137.7,2,   139.6,2,   139.1,6,    36.9,6,    0.00,6,   2.543,6,   0.0005,2,   0.0013,2,   0.0000,2,  2336.5,2,  2430.1,2,   7.5636,2,    25.00, -999.00,9,  -999.0,9,  -999.0,        0,2, -999.00,9,    37.0,2,   39.80,2, -999.00,9,     21.411,2, -999.00,9,  -999.0,9,     -999.0,     -999.0,9,     -999.0,9,     -999.0,     -999.0,9,     -999.0,     -999.0,9,     -999.0,     -999.0,     -999.0,9,     -999.0,9,     -999.0,9,     -999.0,9,     -999.0,9,     -999.0,9,     -999.0,9,     -999.0,9
33RO20161119,        P18,      95,          1,          5,      11104,2,20161216,       0832,   -13.5000,  -103.0000,       4120,  2939.3,   1.7833,  34.6776,2,  34.6761,2,    140.8,2,   141.7,2,   134.0,2,    36.5,2,    0.00,2,   2.525,2,   0.0001,2,   0.0000,2,   0.0000,2,  2331.6,2,  2425.2,2,   7.5639,2,    25.00, -999.00,9,  -999.0,9,  -999.0,        0,2, -999.00,9,    34.9,2,   38.20,2, -999.00,9,    21.5182,2, -999.00,9,  -999.0,9,     -999.0,     -999.0,9,     -999.0,9,     -999.0,     -999.0,9,     -999.0,     -999.0,9,     -999.0,     -999.0,     -999.0,9,     -999.0,9,     -999.0,9,     -999.0,9,     -999.0,9,     -999.0,9,     -999.0,9,     -999.0,9
33RO20161119,        P18,      95,          1,          6,      11105,2,20161216,       0832,   -13.5000,  -103.0000,       4120,  2610.7,   1.8099,  34.6746,2,  34.6729,2,    143.9,2,   146.2,2,   127.8,2,    36.1,2,    0.00,2,   2.503,2,   0.0014,2,   0.0009,2,   0.0000,2,  2323.7,2,  2415.1,2,   7.5648,2,    25.00, -999.00,9,  -999.0,9,  -999.0,        0,2, -999.00,9,    34.2,2,   40.20,2, -999.00,9,    20.6448,2, -999.00,9,  -999.0,9,     -999.0,     -999.0,9,     -999.0,9,     -999.0,     -999.0,9,     -999.0,     -999.0,9,     -999.0,     -999.0,     -999.0,9,     -999.0,9,     -999.0,9,     -999.0,9,     -999.0,9,     -999.0,9,     -999.0,9,     -999.0,9
33RO20161119,        P18,      95,          1,          7,      11106,2,20161216,       0832,   -13.5000,  -103.0000,       4120,  2263.7,   1.9705,  34.6595,2,  34.6584,2,    137.5,2,   138.2,6,   123.3,2,    36.7,2,    0.00,2,   2.536,2,   0.0009,2,   0.0012,2,   0.0000,2,  2321.4,6,  2404.9,2,   7.5440,2,    25.00, -999.00,9,  -999.0,9,  -999.0,        0,2, -999.00,9,    34.6,2,   39.50,2, -999.00,9,     22.469,2, -999.00,9,  -999.0,9,     -999.0,     -999.0,9,     -999.0,9,     -999.0,     -999.0,9,     -999.0,     -999.0,9,     -999.0,     -999.0,     -999.0,9,     -999.0,9,     -999.0,9,     -999.0,9,     -999.0,9,     -999.0,9,     -999.0,9,     -999.0,9
33RO20161119,        P18,      95,          1,          8,      11107,2,20161216,       0832,   -13.5000,  -103.0000,       4120,  1918.9,   2.3114,  34.6350,2,  34.6346,2,    119.2,2,   120.4,2,   121.4,2,    38.2,2,    0.00,2,   2.676,2,   0.0013,6,   0.0008,6,   0.0000,6,  2328.0,2,  2401.2,2,   7.5128,2,    25.00, -999.00,9,  -999.0,9,  -999.0,        0,2, -999.00,9,    37.2,2,   42.70,2, -999.00,9,    24.3029,2, -999.00,9,  -999.0,9,     -999.0,     -999.0,9,     -999.0,9,     -999.0,     -999.0,9,     -999.0,     -999.0,9,     -999.0,     -999.0,     -999.0,9,     -999.0,9,     -999.0,9,     -999.0,9,     -999.0,9,     -999.0,9,     -999.0,9,     -999.0,9
33RO20161119,        P18,      95,          1,          9,      11108,2,20161216,       0832,   -13.5000,  -103.0000,       4120,  1618.5,   2.6935,  34.6098,2,  34.6104,2,    108.0,2,   109.4,2,   112.3,2,    39.4,2,    0.00,2,   2.735,2,   0.0000,2,   0.0000,2,   0.0000,2,  2324.8,2,  2391.1,2,   7.4889,2,    25.00, -999.00,9,  -999.0,9,  -999.0,   0.0111,2, -999.00,9,    38.3,2,   44.90,2, -999.00,9,    26.5636,2, -999.00,9,  -999.0,9,     -999.0,     -999.0,9,     -999.0,9,     -999.0,     -999.0,9,     -999.0,     -999.0,9,     -999.0,     -999.0,     -999.0,9,     -999.0,9,     -999.0,9,     -999.0,9,     -999.0,9,     -999.0,9,     -999.0,9,     -999.0,9
33RO20161119,        P18,      95,          1,         10,      11109,2,20161216,       0832,   -13.5000,  -103.0000,       4120,  1424.3,   3.0973,  34.5862,2,  34.5866,2,     96.9,2,    98.1,2,   103.3,2,    40.3,2,    0.00,2,   2.830,2,  -0.0001,2,   0.0000,2,   0.0000,2,  2322.8,2,  2376.6,2,   7.4668,2,    25.00, -999.00,9,  -999.0,9,  -999.0,        0,2, -999.00,9,    41.9,2,   45.10,2, -999.00,9,    28.8218,2, -999.00,9,  -999.0,9,     -999.0,     -999.0,9,     -999.0,9,     -999.0,     -999.0,9,     -999.0,     -999.0,9,     -999.0,     -999.0,     -999.0,9,     -999.0,9,     -999.0,9,     -999.0,9,     -999.0,9,     -999.0,9,     -999.0,9,     -999.0,9
33RO20161119,        P18,      95,          1,         11,      11110,2,20161216,       0832,   -13.5000,  -103.0000,       4120,  1270.3,   3.4417,  34.5687,2,  34.5678,2,     84.7,2,    85.8,2,    96.0,2,    41.5,2,    0.00,2,   2.911,2,   0.0025,2,   0.0006,2,   0.0000,2,  2321.1,2,  2375.0,2,   7.4420,2,    25.00, -999.00,9,  -999.0,9,  -999.0,        0,2, -999.00,9,    38.7,2,   46.10,2, -999.00,9,    31.2157,2, -999.00,9,  -999.0,9,     -999.0,     -999.0,9,     -999.0,9,     -999.0,     -999.0,9,     -999.0,     -999.0,9,     -999.0,     -999.0,     -999.0,9,     -999.0,9,     -999.0,9,     -999.0,9,     -999.0,9,     -999.0,9,     -999.0,9,     -999.0,9
33RO20161119,        P18,      95,          1,         12,      11111,2,20161216,       0832,   -13.5000,  -103.0000,       4120,  1121.5,   3.9625,  34.5459,2,  34.5454,2,     73.9,2,    74.8,2,    84.4,2,    42.4,2,    0.00,2,   2.954,2,   0.0009,2,   0.0015,2,   0.0000,2,  2315.4,2,  2360.0,2,   7.4197,2,    25.00, -999.00,9,  -999.0,9,  -999.0,    0.014,2, -999.00,9,    43.0,2,   46.80,2, -999.00,9,    34.6486,2, -999.00,9,  -999.0,9,     -999.0,     -999.0,9,     -999.0,9,     -999.0,     -999.0,9,     -999.0,     -999.0,9,     -999.0,     -999.0,     -999.0,9,     -999.0,9,     -999.0,9,     -999.0,9,     -999.0,9,     -999.0,9,     -999.0,9,     -999.0,9
33RO20161119,        P18,      95,          1,         13,      11112,2,20161216,       0832,   -13.5000,  -103.0000,       4120,   981.0,   4.5330,  34.5282,2,  34.5271,2,     63.1,2,    64.7,2,    72.6,2,    43.4,2,    0.00,2,   2.986,2,   0.0006,2,   0.0013,2,   0.0000,2,  2307.0,2,  2344.5,2,   7.4017,2,    25.00, -999.00,9,  -999.0,9,  -999.0,   0.0244,2, -999.00,9,    37.2,2,   48.30,2, -999.00,9,    38.4372,2, -999.00,9,  -999.0,9,     -999.0,     -999.0,9,     -999.0,9,     -999.0,     -999.0,9,     -999.0,     -999.0,9,     -999.0,     -999.0,     -999.0,9,     -999.0,9,     -999.0,9,     -999.0,9,     -999.0,9,     -999.0,9,     -999.0,9,     -999.0,9
33RO20161119,        P18,      95,          1,         14,      11113,2,20161216,       0832,   -13.5000,  -103.0000,       4120,   850.5,   5.2785,  34.5181,2,  34.5172,2,     57.4,2,    58.2,2,    58.6,2,    43.2,2,    0.00,2,   2.932,2,   0.0045,2,   0.0025,2,   0.0000,2,  2291.8,2,  2329.9,2,   7.3993,2,    25.00, -999.00,9,  -999.0,9,  -999.0,   0.0217,2, -999.00,9,    39.1,2,   48.60,2, -999.00,9,    39.5223,2, -999.00,9,  -999.0,9,     -999.0,     -999.0,9,     -999.0,9,     -999.0,     -999.0,9,     -999.0,     -999.0,9,     -999.0,     -999.0,     -999.0,9,     -999.0,9,     -999.0,9,     -999.0,9,     -999.0,9,     -999.0,9,     -999.0,9,     -999.0,9
33RO20161119,        P18,      95,          1,         15,      11114,2,20161216,       0832,   -13.5000,  -103.0000,       4120,   714.9,   6.2257,  34.5313,2,  34.5314,2,     44.4,2,    46.8,2,    46.8,2,    42.9,2,    0.00,2,   2.908,2,   0.0154,2,   0.0097,2,   0.0000,2,  2285.4,2,  2315.2,6,   7.3870,2,    25.00, -999.00,9,  -999.0,9,  -999.0,   0.0353,2, -999.00,9,    40.7,2,   46.80,2, -999.00,9,    46.5917,2, -999.00,9,  -999.0,9,     -999.0,     -999.0,9,     -999.0,9,     -999.0,     -999.0,9,     -999.0,     -999.0,9,     -999.0,     -999.0,     -999.0,9,     -999.0,9,     -999.0,9,     -999.0,9,     -999.0,9,     -999.0,9,     -999.0,9,     -999.0,9
33RO20161119,        P18,      95,          1,         16,      11115,2,20161216,       0832,   -13.5000,  -103.0000,       4120,   587.9,   7.1779,  34.5677,2,  34.5697,2,     32.0,2,    34.8,2,    39.6,2,    41.9,2,    0.00,2,   2.845,2,   0.0399,6,   0.0232,6,   0.0160,6,  2281.7,2,  2307.6,2,   7.3742,2,    25.00, -999.00,9,  -999.0,9,  -999.0,   0.0512,2, -999.00,9,    42.2,2,   44.60,2, -999.00,9,    55.0179,2, -999.00,9,  -999.0,9,     -999.0,     -999.0,9,     -999.0,9,     -999.0,     -999.0,9,     -999.0,     -999.0,9,     -999.0,     -999.0,     -999.0,9,     -999.0,9,     -999.0,9,     -999.0,9,     -999.0,9,     -999.0,9,     -999.0,9,     -999.0,9
33RO20161119,        P18,      95,          1,         17,      11116,2,20161216,       0832,   -13.5000,  -103.0000,       4120,   474.3,   8.2467,  34.6206,2,  34.6197,2,     36.8,2,    38.2,2,    33.1,2,    38.4,2,    0.01,2,   2.655,2,   0.1346,2,   0.0756,2,   0.0000,2,  2268.0,2,  2303.9,2,   7.4075,2,    25.00, -999.00,9,  -999.0,9,  -999.0,   0.0549,2, -999.00,9,    42.4,2,   41.50,2, -999.00,9,    56.1531,2, -999.00,9,  -999.0,9,     -999.0,     -999.0,9,     -999.0,9,     -999.0,     -999.0,9,     -999.0,     -999.0,9,     -999.0,     -999.0,     -999.0,9,     -999.0,9,     -999.0,9,     -999.0,9,     -999.0,9,     -999.0,9,     -999.0,9,     -999.0,9
33RO20161119,        P18,      95,          1,         18,      11117,2,20161216,       0832,   -13.5000,  -103.0000,       4120,   361.2,   9.8034,  34.6897,2,  34.6922,2,     14.6,2,    17.0,2,    27.9,2,    35.0,2,    0.01,2,   2.634,2,   0.3696,2,   0.2032,2,   0.0520,2,  2271.1,2,  2301.3,2,   7.3834,2,    25.00, -999.00,9,  -999.0,9,  -999.0,   0.4268,2, -999.00,9,    43.7,2,   38.20,2, -999.00,9,    57.7162,2, -999.00,9,  -999.0,9,     -999.0,     -999.0,9,     -999.0,9,     -999.0,     -999.0,9,     -999.0,     -999.0,9,     -999.0,     -999.0,     -999.0,9,     -999.0,9,     -999.0,9,     -999.0,9,     -999.0,9,     -999.0,9,     -999.0,9,     -999.0,9
33RO20161119,        P18,      95,          1,         19,      11083,2,20161216,       0832,   -13.5000,  -103.0000,       4120,   280.1,  11.3851,  34.7496,2,  34.7484,2,      6.0,2,     6.4,6,    23.6,2,    27.3,2,    0.01,2,   2.639,2,   0.8579,2,   0.4853,2,   0.1776,2,  2274.9,2,  2305.1,2,   7.3740,2,    25.00, -999.00,9,  -999.0,9,  -999.0,   1.1926,2, -999.00,9,    42.7,2,   29.70,2, -999.00,9,    33.0917,2, -999.00,9,  -999.0,9,     -999.0,     -999.0,9,     -999.0,9,     -999.0,     -999.0,9,     -999.0,     -999.0,9,     -999.0,     -999.0,     -999.0,9,     -999.0,9,     -999.0,9,     -999.0,9,     -999.0,9,     -999.0,9,     -999.0,9,     -999.0,9
33RO20161119,        P18,      95,          1,         20,      11118,2,20161216,       0832,   -13.5000,  -103.0000,       4120,   183.9,  16.4314,  35.1345,2,  35.1368,2,    142.9,2,   146.5,2,     3.6,2,    11.5,2,    0.02,2,   1.216,2,   2.3330,2,   1.4047,2,   1.4118,2,  2155.7,2,  2322.7,6,   7.7687,2,    25.00, -999.00,9,  -999.0,9,  -999.0,   1.6609,2, -999.00,9,    54.3,2,   15.90,2, -999.00,9,    23.2922,2, -999.00,9,  -999.0,9,     -999.0,     -999.0,9,     -999.0,9,     -999.0,     -999.0,9,     -999.0,     -999.0,9,     -999.0,     -999.0,     -999.0,9,     -999.0,9,     -999.0,9,       1.43,2,     -999.0,9,     -999.0,9,     -999.0,9,     -999.0,9
33RO20161119,        P18,      95,          1,         21,      11119,2,20161216,       0832,   -13.5000,  -103.0000,       4120,   104.4,  22.0562,  36.0216,2,  36.0200,2,    204.0,2,   203.5,2,     1.0,2,    -0.2,2,    0.37,2,   0.465,2,   1.8819,2,   1.1834,2,   1.4986,2,  2096.5,2,  2382.4,2,   7.9891,2,    25.00, -999.00,9,  -999.0,9,  -999.0,   1.4998,2, -999.00,9,    65.9,2,    4.90,2, -999.00,9,     7.1466,2, -999.00,9,  -999.0,9,     -999.0,     -999.0,9,     -999.0,9,     -999.0,     -999.0,9,     -999.0,     -999.0,9,     -999.0,     -999.0,     -999.0,9,     -999.0,9,     -999.0,9,       0.80,2,     -999.0,9,     -999.0,9,     -999.0,9,     -999.0,9
33RO20161119,        P18,      95,          1,         22,      11120,2,20161216,       0832,   -13.5000,  -103.0000,       4120,    48.8,  24.2771,  35.9303,2,  35.9296,2,    212.1,2,   213.0,2,     0.8,2,     1.1,2,    0.05,2,   0.423,2,   1.6848,2,   1.0716,2,   1.4186,2,  2059.9,2,  2370.3,2,   8.0353,2,    25.00, -999.00,9,  -999.0,9,  -999.0,   1.6939,2, -999.00,9,    75.8,2,    7.40,2, -999.00,9,     6.4595,2, -999.00,9,  -999.0,9,     -999.0,     -999.0,9,     -999.0,9,     -999.0,     -999.0,9,     -999.0,     -999.0,9,     -999.0,     -999.0,     -999.0,9,     -999.0,9,     -999.0,9,       0.82,2,     -999.0,9,     -999.0,9,     -999.0,9,     -999.0,9
33RO20161119,        P18,      95,          1,         23,      11121,2,20161216,       0832,   -13.5000,  -103.0000,       4120,    19.2,  24.3386,  35.8979,2,  35.9037,2,    211.3,2,   213.0,2,     1.0,2,     1.5,2,    0.06,2,   0.444,2,   1.6873,2,   1.0748,2,   1.4226,2,  2062.3,2,  2365.4,2,   8.0288,6,    25.00, -999.00,9,  -999.0,9,  -999.0,        0,2, -999.00,9,    73.1,2,    6.50,2, -999.00,9,     6.5383,2, -999.00,9,  -999.0,9,     -999.0,     -999.0,9,     -999.0,9,     -999.0,     -999.0,9,     -999.0,     -999.0,9,     -999.0,     -999.0,     -999.0,9,     -999.0,9,     -999.0,9,       0.80,2,     -999.0,9,     -999.0,9,     -999.0,9,     -999.0,9
33RO20161119,        P18,      95,          1,         24,      11122,2,20161216,       0832,   -13.5000,  -103.0000,       4120,     3.0,  24.3266,  35.8978,2,  35.8970,2,    211.2,2,   212.2,2,     0.9,2,     1.5,2,    0.06,2,   0.446,2,   1.6944,2,   1.0743,2,   1.4290,2,  2061.7,6,  2369.8,2,   8.0291,2,    25.00, -999.00,9,  -999.0,9,  -999.0,        0,2, -999.00,9,    70.2,2,    6.20,2, -999.00,9,     6.4464,2, -999.00,9,  -999.0,9,     -999.0,     -999.0,9,     -999.0,9,     -999.0,     -999.0,9,     -999.0,     -999.0,9,     -999.0,     -999.0,     -999.0,9,     -999.0,9,     -999.0,9,       0.77,2,     -999.0,9,     -999.0,9,     -999.0,9,     -999.0,9