BOTTLE,20230606CCHSIOCBG
EXPOCODE,SECT_ID,STNNBR,CASTNO,SAMPNO,BTLNBR,BTLNBR_FLAG_W,DATE,TIME,LATITUDE,LONGITUDE,DEPTH,CTDPRS,CTDTMP,CTDSAL,CTDSAL_FLAG_W,SALNTY,SALNTY_FLAG_W,CTDOXY,CTDOXY_FLAG_W,OXYGEN,OXYGEN_FLAG_W,SILCAT,SILCAT_FLAG_W,NITRAT,NITRAT_FLAG_W,NITRIT,NITRIT_FLAG_W,PHSPHT,PHSPHT_FLAG_W,CFC-11,CFC-11_FLAG_W,CFC-12,CFC-12_FLAG_W,SF6,SF6_FLAG_W,TCARBN,TCARBN_FLAG_W,ALKALI,ALKALI_FLAG_W,PH_SWS,PH_SWS_FLAG_W,PH_TMP,DELC13,DELC13_FLAG_W,DELC14,DELC14_FLAG_W,C14ERR,CCL4,CCL4_FLAG_W,POC,POC_FLAG_W,DOC,DOC_FLAG_W,TDN,TDN_FLAG_W,PON,PON_FLAG_W,N2O,N2O_FLAG_W,D15N_NO3,D15N_NO3_FLAG_W,14C-DOC,14C-DOC_FLAG_W,14C-DOCERR,13C-DOC,13C-DOC_FLAG_W,N2/ARGON_UNSTRIPPED,N2/ARGON_UNSTRIPPED_FLAG_W,N2/ARGON_UNSTRIPPED_ERROR,N2/ARGON,N2/ARGON_FLAG_W,N2/ARGON_ERROR,D15N_N2,D15N_N2_FLAG_W,D15N_N2_ERROR,D15N_NO3_ERROR,D15N_NO2+NO3,D15N_NO2+NO3_FLAG_W,D18O_NO2+NO3,D18O_NO2+NO3_FLAG_W,D18O_NO3,D18O_NO3_FLAG_W,TDP,TDP_FLAG_W,N2O_ALT_1,N2O_ALT_1_FLAG_W,D15N_N2O,D15N_N2O_FLAG_W,D18O_N2O,D18O_N2O_FLAG_W,D15N_ALPHA_N2O,D15N_ALPHA_N2O_FLAG_W
,,,,,,,,,,,METERS,DBAR,ITS-90,PSS-78,,PSS-78,,UMOL/KG,,UMOL/KG,,UMOL/KG,,UMOL/KG,,UMOL/KG,,UMOL/KG,,PMOL/KG,,PMOL/KG,,FMOL/KG,,UMOL/KG,,UMOL/KG,,,,DEG C,/MILLE,,/MILLE,,/MILLE,PMOL/KG,,UG/KG,,UMOL/KG,,UMOL/KG,,UG/KG,,NMOL/KG,,/MILLE,,/MILLE,,/MILLE,/MILLE,,,,,,,,/MILLE,,/MILLE,/MILLE,/MILLE,,/MILLE,,/MILLE,,UMOL/KG,,NMOL/L,,/MILLE,,/MILLE,,/MILLE,
33RO20161119,        P18,     189,          1,          1,      11010,2,20170120,       1957,   -60.5002,  -102.9989,       5275,  5365.5,   0.5185,  34.7001,2,  34.6998,2,    214.8,2,   214.0,2,   138.8,2,    32.8,2,    0.01,2,   2.254,2,   0.3947,2,   0.1892,2,   0.1005,2,  2264.7,2,  2361.1,2,   7.5906,2,    25.00,    0.47,2,  -161.5,2,     2.1,   0.1347,2, -999.00,9,    41.8,2,   35.70,2, -999.00,9,    18.0603,2, -999.00,9,  -999.0,9,     -999.0,     -999.0,9,     -999.0,9,     -999.0,     -999.0,9,     -999.0,     -999.0,9,     -999.0,     -999.0,     -999.0,9,     -999.0,9,     -999.0,9,     -999.0,9,     -999.0,9,     -999.0,9,     -999.0,9,     -999.0,9
33RO20161119,        P18,     189,          1,          2,      11101,2,20170120,       1957,   -60.5002,  -102.9989,       5275,  4956.8,   0.5022,  34.7014,2,  34.7007,2,    213.0,2,   213.9,2,   137.4,2,    32.8,2,    0.01,2,   2.245,2,   0.3498,2,   0.1689,2,   0.0662,2,  2264.8,6,  2363.0,2,   7.5897,2,    25.00,    0.50,2,  -160.9,2,     1.9,   0.2232,2, -999.00,9,    46.7,4,   36.10,2, -999.00,9,     18.457,2, -999.00,9,  -999.0,9,     -999.0,     -999.0,9,     -999.0,9,     -999.0,     -999.0,9,     -999.0,     -999.0,9,     -999.0,     -999.0,     -999.0,9,     -999.0,9,     -999.0,9,     -999.0,9,     -999.0,9,     -999.0,9,     -999.0,9,     -999.0,9
33RO20161119,        P18,     189,          1,          3,      11102,2,20170120,       1957,   -60.5002,  -102.9989,       5275,  4550.2,   0.5220,  34.7027,2,  34.7012,2,    212.2,2,   212.2,2,   134.7,6,    32.8,6,    0.01,6,   2.245,6,-999.0000,9,-999.0000,9,-999.0000,9,  2262.2,2,  2362.2,2,   7.5913,2,    25.00,    0.44,2,  -160.2,2,     2.0,-999.0000,9, -999.00,9,    39.9,2,   35.90,2, -999.00,9,     -999.0,9, -999.00,9,  -999.0,9,     -999.0,     -999.0,9,     -999.0,9,     -999.0,     -999.0,9,     -999.0,     -999.0,9,     -999.0,     -999.0,     -999.0,9,     -999.0,9,     -999.0,9,     -999.0,9,     -999.0,9,     -999.0,9,     -999.0,9,     -999.0,9
33RO20161119,        P18,     189,          1,          4,      11103,2,20170120,       1957,   -60.5002,  -102.9989,       5275,  4148.2,   0.6274,  34.7047,2,  34.7050,2,    209.8,2,   209.8,2,   129.7,6,    32.6,6,    0.01,6,   2.249,6,   0.2727,2,   0.1326,2,   0.0479,2,  2261.8,2,  2361.7,6,   7.5904,6,    25.00,    0.50,2,  -161.7,2,     1.8,    0.241,2, -999.00,9,    39.2,2,   36.00,2, -999.00,9,    18.2297,2, -999.00,9,  -999.0,9,     -999.0,     -999.0,9,     -999.0,9,     -999.0,     -999.0,9,     -999.0,     -999.0,9,     -999.0,     -999.0,     -999.0,9,     -999.0,9,     -999.0,9,     -999.0,9,     -999.0,9,     -999.0,9,     -999.0,9,     -999.0,9
33RO20161119,        P18,     189,          1,          5,      11104,2,20170120,       1957,   -60.5002,  -102.9989,       5275,  3750.5,   0.7852,  34.7077,2,  34.7074,2,    206.8,2,   206.4,2,   125.0,6,    32.5,6,    0.01,6,   2.233,6,-999.0000,9,-999.0000,9,-999.0000,9,  2261.2,2,  2360.0,2,   7.5911,2,    25.00,    0.64,2,  -165.0,2,     2.0,-999.0000,9, -999.00,9,    67.3,4,   35.60,2, -999.00,9,     -999.0,9, -999.00,9,  -999.0,9,     -999.0,     -999.0,9,     -999.0,9,     -999.0,     -999.0,9,     -999.0,     -999.0,9,     -999.0,     -999.0,     -999.0,9,     -999.0,9,     -999.0,9,     -999.0,9,     -999.0,9,     -999.0,9,     -999.0,9,     -999.0,9
33RO20161119,        P18,     189,          1,          6,      11105,2,20170120,       1957,   -60.5002,  -102.9989,       5275,  3339.3,   0.9281,  34.7127,2,  34.7144,2,    203.6,2,   204.0,2,   120.4,6,    32.4,6,    0.01,6,   2.221,6,   0.1716,6,   0.0848,6,   0.0479,6,  2260.8,2,  2360.8,2,   7.5939,2,    25.00,    0.64,2,  -165.4,2,     1.9,   0.5907,2, -999.00,9,    40.0,2,   35.90,2, -999.00,9,    18.7317,2, -999.00,9,  -999.0,9,     -999.0,     -999.0,9,     -999.0,9,     -999.0,     -999.0,9,     -999.0,     -999.0,9,     -999.0,     -999.0,     -999.0,9,     -999.0,9,     -999.0,9,     -999.0,9,     -999.0,9,     -999.0,9,     -999.0,9,     -999.0,9
33RO20161119,        P18,     189,          1,          7,      11106,2,20170120,       1957,   -60.5002,  -102.9989,       5275,  2920.2,   1.1025,  34.7188,2,  34.7171,2,    199.5,2,   200.2,2,   114.0,2,    32.2,2,    0.01,2,   2.212,2,-999.0000,9,-999.0000,9,-999.0000,9,  2261.1,2,  2361.1,2,   7.5975,2,    25.00,    0.58,2,  -159.8,2,     2.6,-999.0000,9, -999.00,9,    40.0,2,   34.80,2, -999.00,9,     -999.0,9, -999.00,9,  -999.0,9,     -999.0,     -999.0,9,     -999.0,9,     -999.0,     -999.0,9,     -999.0,     -999.0,9,     -999.0,     -999.0,     -999.0,9,     -999.0,9,     -999.0,9,     -999.0,9,     -999.0,9,     -999.0,9,     -999.0,9,     -999.0,9
33RO20161119,        P18,     189,          1,          8,      11107,2,20170120,       1957,   -60.5002,  -102.9989,       5275,  2500.2,   1.3256,  34.7238,2,  34.7228,2,    195.1,2,   194.8,6,   108.0,2,    32.2,2,    0.01,2,   2.214,2,   0.1061,2,   0.0529,2,   0.0332,2,  2261.8,2,  2361.9,2,   7.5995,2,    25.00,    0.63,2,  -164.6,2,     2.1,   2.4717,2, -999.00,9,    41.5,2,   36.10,2, -999.00,9,    19.0417,2, -999.00,9,  -999.0,9,     -999.0,     -999.0,9,     -999.0,9,     -999.0,     -999.0,9,     -999.0,     -999.0,9,     -999.0,     -999.0,     -999.0,9,     -999.0,9,     -999.0,9,     -999.0,9,     -999.0,9,     -999.0,9,     -999.0,9,     -999.0,9
33RO20161119,        P18,     189,          1,          9,      11108,2,20170120,       1957,   -60.5002,  -102.9989,       5275,  2079.5,   1.5932,  34.7299,2,  34.7290,2,    190.9,2,   191.2,2,    98.6,2,    31.9,2,    0.02,2,   2.184,2,-999.0000,9,-999.0000,9,-999.0000,9,  2257.6,2,  2355.0,2,   7.5950,2,    25.00,    0.59,2,  -162.0,2,     1.9,-999.0000,9, -999.00,9,    42.2,2,   35.30,2, -999.00,9,     -999.0,9, -999.00,9,  -999.0,9,     -999.0,     -999.0,9,     -999.0,9,     -999.0,     -999.0,9,     -999.0,     -999.0,9,     -999.0,     -999.0,     -999.0,9,     -999.0,9,     -999.0,9,     -999.0,9,     -999.0,9,     -999.0,9,     -999.0,9,     -999.0,9
33RO20161119,        P18,     189,          1,         10,      11109,2,20170120,       1957,   -60.5002,  -102.9989,       5275,  1820.4,   1.7953,  34.7299,2,  34.7286,2,    188.1,2,   188.9,2,    91.8,2,    31.7,2,    0.01,2,   2.168,2,   0.1596,2,   0.0790,2,   0.0360,2,  2255.4,2,  2351.6,2,   7.5890,2,    25.00,    0.60,2,  -157.2,2,     2.1,   3.2998,2, -999.00,9,    42.3,2,   34.70,2, -999.00,9,    19.5306,2, -999.00,9,  -999.0,9,     -999.0,     -999.0,9,     -999.0,9,     -999.0,     -999.0,9,     -999.0,     -999.0,9,     -999.0,     -999.0,     -999.0,9,     -999.0,9,     -999.0,9,     -999.0,9,     -999.0,9,     -999.0,9,     -999.0,9,     -999.0,9
33RO20161119,        P18,     189,          1,         11,      11110,2,20170120,       1957,   -60.5002,  -102.9989,       5275,  1630.1,   1.9617,  34.7215,2,  34.7204,2,    183.8,2,   184.5,2,    87.3,2,    31.9,2,    0.01,2,   2.178,2,-999.0000,9,-999.0000,9,-999.0000,9,  2254.1,2,  2351.2,2,   7.5849,2,    25.00,    0.57,2,  -152.6,2,     2.0,-999.0000,9, -999.00,9,    40.8,2,   34.90,2, -999.00,9,     -999.0,9, -999.00,9,  -999.0,9,     -999.0,     -999.0,9,     -999.0,9,     -999.0,     -999.0,9,     -999.0,     -999.0,9,     -999.0,     -999.0,     -999.0,9,     -999.0,9,     -999.0,9,     -999.0,9,     -999.0,9,     -999.0,9,     -999.0,9,     -999.0,9
33RO20161119,        P18,     189,          1,         12,      11111,2,20170120,       1957,   -60.5002,  -102.9989,       5275,  1449.4,   2.0917,  34.7042,2,  34.7037,2,    179.9,2,   180.1,2,    84.0,2,    32.3,2,    0.01,2,   2.203,2,   0.2331,2,   0.1171,2,   0.0501,2,  2256.0,2,  2345.6,2,   7.5780,2,    25.00,    0.59,2,  -149.0,2,     2.1,    5.238,2, -999.00,9,    42.6,2,   34.20,2, -999.00,9,    20.6315,2, -999.00,9,  -999.0,9,     -999.0,     -999.0,9,     -999.0,9,     -999.0,     -999.0,9,     -999.0,     -999.0,9,     -999.0,     -999.0,     -999.0,9,     -999.0,9,     -999.0,9,     -999.0,9,     -999.0,9,     -999.0,9,     -999.0,9,     -999.0,9
33RO20161119,        P18,     189,          1,         13,      11112,2,20170120,       1957,   -60.5002,  -102.9989,       5275,  1269.8,   2.2070,  34.6763,2,  34.6741,2,    176.2,2,   175.9,2,    81.4,2,    32.9,2,    0.01,2,   2.254,2,-999.0000,9,-999.0000,9,-999.0000,9,  2256.8,2,  2346.1,2,   7.5666,2,    25.00,    0.58,2,  -153.5,2,     2.1,-999.0000,9, -999.00,9,    40.9,2,   36.00,2, -999.00,9,     -999.0,9, -999.00,9,  -999.0,9,     -999.0,     -999.0,9,     -999.0,9,     -999.0,     -999.0,9,     -999.0,     -999.0,9,     -999.0,     -999.0,     -999.0,9,     -999.0,9,     -999.0,9,     -999.0,9,     -999.0,9,     -999.0,9,     -999.0,9,     -999.0,9
33RO20161119,        P18,     189,          1,         14,      11113,2,20170120,       1957,   -60.5002,  -102.9989,       5275,  1101.1,   2.2870,  34.6322,2,  34.6303,2,    172.5,2,   172.5,2,    78.3,2,    33.7,2,    0.01,2,   2.298,2,   0.4622,2,   0.2326,2,   0.1151,2,  2255.5,6,  2342.2,2,   7.5538,2,    25.00,    0.51,2,  -146.9,2,     1.9,   4.8182,2, -999.00,9,    41.4,2,   37.10,2, -999.00,9,    22.0302,2, -999.00,9,  -999.0,9,     -999.0,     -999.0,9,     -999.0,9,     -999.0,     -999.0,9,     -999.0,     -999.0,9,     -999.0,     -999.0,     -999.0,9,     -999.0,9,     -999.0,9,     -999.0,9,     -999.0,9,     -999.0,9,     -999.0,9,     -999.0,9
33RO20161119,        P18,     189,          1,         15,      11114,2,20170120,       1957,   -60.5002,  -102.9989,       5275,   935.8,   2.3786,  34.5705,2,  34.5672,2,    172.6,2,   172.1,2,    73.9,2,    34.5,2,    0.02,2,   2.342,2,-999.0000,9,-999.0000,9,-999.0000,9,  2256.3,2,  2331.0,2,   7.5444,2,    25.00,    0.43,2,  -141.4,2,     1.9,-999.0000,9, -999.00,9,    40.8,2,   37.30,2, -999.00,9,     -999.0,9, -999.00,9,  -999.0,9,     -999.0,     -999.0,9,     -999.0,9,     -999.0,     -999.0,9,     -999.0,     -999.0,9,     -999.0,     -999.0,     -999.0,9,     -999.0,9,     -999.0,9,     -999.0,9,     -999.0,9,     -999.0,9,     -999.0,9,     -999.0,9
33RO20161119,        P18,     189,          1,         16,      11115,2,20170120,       1957,   -60.5002,  -102.9989,       5275,   774.5,   2.4453,  34.4986,2,  34.4955,2,    176.1,2,   176.8,2,    68.1,2,    34.8,2,    0.02,2,   2.369,2,   1.1009,2,   0.5619,2,   0.3163,2,  2250.2,2,  2326.7,6,   7.5387,2,    25.00, -999.00,5,  -999.0,5,  -999.0,   4.9781,2, -999.00,9,    40.8,2,   38.10,2, -999.00,9,    23.0566,2, -999.00,9,  -999.0,9,     -999.0,     -999.0,9,     -999.0,9,     -999.0,     -999.0,9,     -999.0,     -999.0,9,     -999.0,     -999.0,     -999.0,9,     -999.0,9,     -999.0,9,     -999.0,9,     -999.0,9,     -999.0,9,     -999.0,9,     -999.0,9
33RO20161119,        P18,     189,          1,         17,      11116,2,20170120,       1957,   -60.5002,  -102.9989,       5275,   630.4,   2.5877,  34.4152,2,  34.4115,2,    188.1,2,   187.4,6,    59.5,2,    34.7,2,    0.02,2,   2.350,2,-999.0000,9,-999.0000,9,-999.0000,9,  2240.4,2,  2316.3,2,   7.5461,2,    25.00,    0.68,2,  -120.3,2,     2.3,-999.0000,9, -999.00,9,    42.3,2,   37.00,2, -999.00,9,     -999.0,9, -999.00,9,  -999.0,9,     -999.0,     -999.0,9,     -999.0,9,     -999.0,     -999.0,9,     -999.0,     -999.0,9,     -999.0,     -999.0,     -999.0,9,     -999.0,9,     -999.0,9,     -999.0,9,     -999.0,9,     -999.0,9,     -999.0,9,     -999.0,9
33RO20161119,        P18,     189,          1,         18,      11117,2,20170120,       1957,   -60.5002,  -102.9989,       5275,   485.6,   2.6893,  34.3143,2,  34.3114,2,    217.5,2,   207.6,2,    48.6,2,    33.7,2,    0.02,2,   2.286,2,   2.4098,2,   1.2340,2,   0.8906,2,  2222.6,2,  2306.6,2,   7.5664,2,    25.00,    0.83,2,  -106.7,2,     1.9,   5.1938,2, -999.00,9,    41.6,2,   37.50,2, -999.00,9,     21.357,2, -999.00,9,  -999.0,9,     -999.0,     -999.0,9,     -999.0,9,     -999.0,     -999.0,9,     -999.0,     -999.0,9,     -999.0,     -999.0,     -999.0,9,     -999.0,9,     -999.0,9,     -999.0,9,     -999.0,9,     -999.0,9,     -999.0,9,     -999.0,9
33RO20161119,        P18,     189,          1,         19,      11083,2,20170120,       1957,   -60.5002,  -102.9989,       5275,   360.0,   2.3028,  34.1642,2,  34.1634,2,    255.0,2,   253.9,2,    36.1,2,    31.5,2,    0.02,2,   2.136,2,   3.7390,2,   1.9958,2,   1.8297,2,  2197.5,2,  2297.7,2,   7.6011,2,    25.00,    1.03,2,   -89.5,2,     2.0,    0.467,2, -999.00,9,    42.4,2,   33.30,2, -999.00,9,    18.6942,2, -999.00,9,  -999.0,9,     -999.0,     -999.0,9,     -999.0,9,     -999.0,     -999.0,9,     -999.0,     -999.0,9,     -999.0,     -999.0,     -999.0,9,     -999.0,9,     -999.0,9,     -999.0,9,     -999.0,9,     -999.0,9,     -999.0,9,     -999.0,9
33RO20161119,        P18,     189,          1,         20,      11118,2,20170120,       1957,   -60.5002,  -102.9989,       5275,   253.2,   2.1505,  34.0651,2,  34.0625,2,    295.6,2,   295.1,2,    24.4,2,    28.7,2,    0.03,2,   1.973,2,   4.6765,2,   2.5189,2,   2.7106,2,  2173.2,2,  2281.4,2,   7.6482,2,    25.00,    1.22,2,   -65.7,2,     1.9,   0.5189,2, -999.00,9,    45.5,2,   30.20,2, -999.00,9,    15.4517,2, -999.00,9,  -999.0,9,     -999.0,     -999.0,9,     -999.0,9,     -999.0,     -999.0,9,     -999.0,     -999.0,9,     -999.0,     -999.0,     -999.0,9,     -999.0,9,     -999.0,9,     -999.0,9,     -999.0,9,     -999.0,9,     -999.0,9,     -999.0,9
33RO20161119,        P18,     189,          1,         21,      11119,2,20170120,       1957,   -60.5002,  -102.9989,       5275,   155.4,   2.8760,  34.0636,2,  34.0602,2,    311.9,2,   286.7,2,    20.1,2,    27.8,2,    0.03,2,   1.893,2,   4.4952,2,   2.4413,2,   2.5873,2,  2166.1,2,  2278.8,6,   7.6591,2,    25.00,    1.17,2,   -56.8,2,     2.8,   0.5093,2, -999.00,9,    46.7,2,   29.30,2, -999.00,9,    15.1465,2, -999.00,9,  -999.0,9,     -999.0,     -999.0,9,     -999.0,9,     -999.0,     -999.0,9,     -999.0,     -999.0,9,     -999.0,     -999.0,     -999.0,9,     -999.0,9,     -999.0,9,     -999.0,9,     -999.0,9,     -999.0,9,     -999.0,9,     -999.0,9
33RO20161119,        P18,     189,          1,         22,      11120,2,20170120,       1957,   -60.5002,  -102.9989,       5275,    70.2,   3.5775,  34.0148,2,  34.0122,2,    321.3,2,   311.8,2,     3.1,2,    23.2,2,    0.23,2,   1.774,2,   4.8171,2,   2.6349,2,   2.9738,2,  2143.5,2,  2281.8,2,   7.7138,6,    25.00,    1.43,2,   -41.8,2,     2.3,   0.3905,2, -999.00,9,    47.7,2,   25.20,2, -999.00,9,    13.5516,2, -999.00,9,  -999.0,9,     -999.0,     -999.0,9,     -999.0,9,     -999.0,     -999.0,9,     -999.0,     -999.0,9,     -999.0,     -999.0,     -999.0,9,     -999.0,9,     -999.0,9,     -999.0,9,     -999.0,9,     -999.0,9,     -999.0,9,     -999.0,9
33RO20161119,        P18,     189,          1,         23,      11121,2,20170120,       1957,   -60.5002,  -102.9989,       5275,    24.6,   4.9248,  33.9409,2,  33.9446,2,    309.0,2,   315.7,2,     0.1,2,    20.6,2,    0.26,2,   1.380,2,-999.0000,9,-999.0000,9,-999.0000,9,  2118.9,6,  2273.8,2,   7.7731,2,    25.00,    1.86,2,   -44.3,2,     2.0,-999.0000,9, -999.00,9,    47.8,2,   23.00,2, -999.00,9,     -999.0,9, -999.00,9,  -999.0,9,     -999.0,     -999.0,9,     -999.0,9,     -999.0,     -999.0,9,     -999.0,     -999.0,9,     -999.0,     -999.0,     -999.0,9,     -999.0,9,     -999.0,9,     -999.0,9,     -999.0,9,     -999.0,9,     -999.0,9,     -999.0,9
33RO20161119,        P18,     189,          1,         24,      11122,2,20170120,       1957,   -60.5002,  -102.9989,       5275,     3.8,   4.9456,  33.9391,2,  33.9375,2,    308.1,2,   315.4,2,     0.1,2,    20.7,2,    0.26,2,   1.381,2,   4.6809,2,   2.5722,2,   2.9872,2,  2118.2,2,  2275.0,2,   7.7720,2,    25.00,    1.84,2,   -45.5,2,     1.9,   0.3349,2, -999.00,9,    48.5,2,   23.40,2, -999.00,9,    12.7008,2, -999.00,9,  -999.0,9,     -999.0,     -999.0,9,     -999.0,9,     -999.0,     -999.0,9,     -999.0,     -999.0,9,     -999.0,     -999.0,     -999.0,9,     -999.0,9,     -999.0,9,     -999.0,9,     -999.0,9,     -999.0,9,     -999.0,9,     -999.0,9