BOTTLE,20230606CCHSIOCBG
EXPOCODE,SECT_ID,STNNBR,CASTNO,SAMPNO,BTLNBR,BTLNBR_FLAG_W,DATE,TIME,LATITUDE,LONGITUDE,DEPTH,CTDPRS,CTDTMP,CTDSAL,CTDSAL_FLAG_W,SALNTY,SALNTY_FLAG_W,CTDOXY,CTDOXY_FLAG_W,OXYGEN,OXYGEN_FLAG_W,SILCAT,SILCAT_FLAG_W,NITRAT,NITRAT_FLAG_W,NITRIT,NITRIT_FLAG_W,PHSPHT,PHSPHT_FLAG_W,CFC-11,CFC-11_FLAG_W,CFC-12,CFC-12_FLAG_W,SF6,SF6_FLAG_W,TCARBN,TCARBN_FLAG_W,ALKALI,ALKALI_FLAG_W,PH_SWS,PH_SWS_FLAG_W,PH_TMP,DELC13,DELC13_FLAG_W,DELC14,DELC14_FLAG_W,C14ERR,CCL4,CCL4_FLAG_W,POC,POC_FLAG_W,DOC,DOC_FLAG_W,TDN,TDN_FLAG_W,PON,PON_FLAG_W,N2O,N2O_FLAG_W,D15N_NO3,D15N_NO3_FLAG_W,14C-DOC,14C-DOC_FLAG_W,14C-DOCERR,13C-DOC,13C-DOC_FLAG_W,N2/ARGON_UNSTRIPPED,N2/ARGON_UNSTRIPPED_FLAG_W,N2/ARGON_UNSTRIPPED_ERROR,N2/ARGON,N2/ARGON_FLAG_W,N2/ARGON_ERROR,D15N_N2,D15N_N2_FLAG_W,D15N_N2_ERROR,D15N_NO3_ERROR,D15N_NO2+NO3,D15N_NO2+NO3_FLAG_W,D18O_NO2+NO3,D18O_NO2+NO3_FLAG_W,D18O_NO3,D18O_NO3_FLAG_W,TDP,TDP_FLAG_W,N2O_ALT_1,N2O_ALT_1_FLAG_W,D15N_N2O,D15N_N2O_FLAG_W,D18O_N2O,D18O_N2O_FLAG_W,D15N_ALPHA_N2O,D15N_ALPHA_N2O_FLAG_W
,,,,,,,,,,,METERS,DBAR,ITS-90,PSS-78,,PSS-78,,UMOL/KG,,UMOL/KG,,UMOL/KG,,UMOL/KG,,UMOL/KG,,UMOL/KG,,PMOL/KG,,PMOL/KG,,FMOL/KG,,UMOL/KG,,UMOL/KG,,,,DEG C,/MILLE,,/MILLE,,/MILLE,PMOL/KG,,UG/KG,,UMOL/KG,,UMOL/KG,,UG/KG,,NMOL/KG,,/MILLE,,/MILLE,,/MILLE,/MILLE,,,,,,,,/MILLE,,/MILLE,/MILLE,/MILLE,,/MILLE,,/MILLE,,UMOL/KG,,NMOL/L,,/MILLE,,/MILLE,,/MILLE,
33RO20161119,        P18,      11,          1,          1,      11010,2,20161126,       1708,    18.9999,  -110.0000,       3369,  3416.8,   1.7152,  34.6739,2,  34.6787,2,    118.7,2,   462.4,4,   157.6,6,    38.3,6,    0.01,6,   2.656,6,-999.0000,9,-999.0000,9,-999.0000,9,  2353.6,6,  2429.3,2,   7.5576,3,    25.00, -999.00,9,  -999.0,9,  -999.0,-999.0000,9, -999.00,9,    39.9,2,   38.90,2, -999.00,9,     -999.0,9, -999.00,9,  -999.0,9,     -999.0,     -999.0,9,     -999.0,9,     -999.0,     -999.0,9,     -999.0,     -999.0,9,     -999.0,     -999.0,     -999.0,9,     -999.0,9,     -999.0,9,     -999.0,9,     -999.0,9,     -999.0,9,     -999.0,9,     -999.0,9
33RO20161119,        P18,      11,          1,          2,      11101,2,20161126,       1708,    18.9999,  -110.0000,       3369,  3091.4,   1.7144,  34.6706,2,  34.6714,2,    115.0,2,   115.6,2,   159.5,6,    38.5,6,    0.01,6,   2.674,6,-999.0000,9,-999.0000,9,-999.0000,9,  2354.5,2,  2428.3,2,   7.5173,6,    25.00, -999.00,9,  -999.0,9,  -999.0,-999.0000,9, -999.00,9,    37.7,2,   38.20,2, -999.00,9,     -999.0,9, -999.00,9,  -999.0,9,     -999.0,     -999.0,9,     -999.0,9,     -999.0,     -999.0,9,     -999.0,     -999.0,9,     -999.0,     -999.0,     -999.0,9,     -999.0,9,     -999.0,9,     -999.0,9,     -999.0,9,     -999.0,9,     -999.0,9,     -999.0,9
33RO20161119,        P18,      11,          1,          3,      11102,2,20161126,       1708,    18.9999,  -110.0000,       3369,  2809.7,   1.7488,  34.6691,2,  34.6694,2,    112.6,2,   113.0,2,   157.0,6,    38.6,6,    0.01,6,   2.692,6,-999.0000,9,-999.0000,9,-999.0000,9,  2355.0,2,  2428.5,6,   7.5163,2,    25.00, -999.00,9,  -999.0,9,  -999.0,-999.0000,9, -999.00,9,    38.9,2,   39.40,2, -999.00,9,     -999.0,9, -999.00,9,  -999.0,9,     -999.0,     -999.0,9,     -999.0,9,     -999.0,     -999.0,9,     -999.0,     -999.0,9,     -999.0,     -999.0,     -999.0,9,     -999.0,9,     -999.0,9,     -999.0,9,     -999.0,9,     -999.0,9,     -999.0,9,     -999.0,9
33RO20161119,        P18,      11,          1,          4,      11103,2,20161126,       1708,    18.9999,  -110.0000,       3369,  2535.6,   1.8183,  34.6644,2,  34.6649,2,    106.6,2,   106.9,6,   156.2,6,    39.0,6,    0.01,6,   2.723,6,-999.0000,9,-999.0000,9,-999.0000,9,  2356.2,2,  2428.0,2,   7.4962,2,    25.00, -999.00,9,  -999.0,9,  -999.0,-999.0000,9, -999.00,9,    39.1,2,   39.20,2, -999.00,9,     -999.0,9, -999.00,9,  -999.0,9,     -999.0,     -999.0,9,     -999.0,9,     -999.0,     -999.0,9,     -999.0,     -999.0,9,     -999.0,     -999.0,     -999.0,9,     -999.0,9,     -999.0,9,     -999.0,9,     -999.0,9,     -999.0,9,     -999.0,9,     -999.0,9
33RO20161119,        P18,      11,          1,          5,      11104,2,20161126,       1708,    18.9999,  -110.0000,       3369,  2264.6,   1.9355,  34.6559,2,  34.6559,2,     98.3,2,    98.7,2,   154.1,2,    39.6,2,    0.01,2,   2.777,2,-999.0000,9,-999.0000,9,-999.0000,9,  2361.0,2,  2426.0,2,   7.4883,2,    25.00, -999.00,9,  -999.0,9,  -999.0,-999.0000,9, -999.00,9,    39.2,2,   45.30,2, -999.00,9,     -999.0,9, -999.00,9,  -999.0,9,     -999.0,     -999.0,9,     -999.0,9,     -999.0,     -999.0,9,     -999.0,     -999.0,9,     -999.0,     -999.0,     -999.0,9,     -999.0,9,     -999.0,9,     -999.0,9,     -999.0,9,     -999.0,9,     -999.0,9,     -999.0,9
33RO20161119,        P18,      11,          1,          6,      11105,2,20161126,       1708,    18.9999,  -110.0000,       3369,  2015.8,   2.1549,  34.6421,2,  34.6423,2,     85.2,2,    86.2,2,   150.6,2,    40.4,2,    0.01,2,   2.857,2,-999.0000,9,-999.0000,9,-999.0000,9,  2366.4,2,  2417.7,2,   7.4599,2,    25.00, -999.00,9,  -999.0,9,  -999.0,-999.0000,9, -999.00,9,    39.4,2,   43.70,2, -999.00,9,     -999.0,9, -999.00,9,  -999.0,9,     -999.0,     -999.0,9,     -999.0,9,     -999.0,     -999.0,9,     -999.0,     -999.0,9,     -999.0,     -999.0,     -999.0,9,     -999.0,9,     -999.0,9,     -999.0,9,     -999.0,9,     -999.0,9,     -999.0,9,     -999.0,9
33RO20161119,        P18,      11,          1,          7,      11106,2,20161126,       1708,    18.9999,  -110.0000,       3369,  1750.6,   2.5923,  34.6199,2,  34.6195,2,     64.4,2,    66.0,2,   142.5,2,    42.0,2,    0.01,2,   3.003,2,-999.0000,9,-999.0000,9,-999.0000,9,  2369.1,2,  2409.5,2,   7.4164,2,    25.00, -999.00,9,  -999.0,9,  -999.0,-999.0000,9, -999.00,9,    37.8,2,   47.50,2, -999.00,9,     -999.0,9, -999.00,9,  -999.0,9,     -999.0,     -999.0,9,     -999.0,9,     -999.0,     -999.0,9,     -999.0,     -999.0,9,     -999.0,     -999.0,     -999.0,9,     -999.0,9,     -999.0,9,     -999.0,9,     -999.0,9,     -999.0,9,     -999.0,9,     -999.0,9
33RO20161119,        P18,      11,          1,          8,      11107,2,20161126,       1708,    18.9999,  -110.0000,       3369,  1485.8,   3.0533,  34.5972,2,  34.5987,2,     45.9,2,    46.3,2,   133.5,2,    43.2,2,    0.01,2,   3.141,2,-999.0000,9,-999.0000,9,-999.0000,9,  2371.1,2,  2396.9,2,   7.3805,2,    25.00, -999.00,9,  -999.0,9,  -999.0,-999.0000,9, -999.00,9,    38.9,2,   47.70,2, -999.00,9,     -999.0,9, -999.00,9,  -999.0,9,     -999.0,     -999.0,9,     -999.0,9,     -999.0,     -999.0,9,     -999.0,     -999.0,9,     -999.0,     -999.0,     -999.0,9,     -999.0,9,     -999.0,9,     -999.0,9,     -999.0,9,     -999.0,9,     -999.0,9,     -999.0,9
33RO20161119,        P18,      11,          1,          9,      11108,2,20161126,       1708,    18.9999,  -110.0000,       3369,  1255.7,   3.5819,  34.5742,2,  34.5747,2,     29.7,2,    30.1,2,   122.1,2,    44.3,2,    0.01,2,   3.267,2,-999.0000,9,-999.0000,9,-999.0000,9,  2367.4,2,  2385.6,2,   7.3477,2,    25.00, -999.00,9,  -999.0,9,  -999.0,-999.0000,9, -999.00,9,    55.1,4,   58.30,3, -999.00,9,     -999.0,9, -999.00,9,  -999.0,9,     -999.0,     -999.0,9,     -999.0,9,     -999.0,     -999.0,9,     -999.0,     -999.0,9,     -999.0,     -999.0,     -999.0,9,     -999.0,9,     -999.0,9,     -999.0,9,     -999.0,9,     -999.0,9,     -999.0,9,     -999.0,9
33RO20161119,        P18,      11,          1,         10,      11109,2,20161126,       1708,    18.9999,  -110.0000,       3369,  1111.1,   4.0350,  34.5571,2,  34.5613,2,     18.1,2,    19.1,2,   113.0,2,    44.8,2,    0.01,2,   3.322,2,-999.0000,9,-999.0000,9,-999.0000,9,  2363.5,2,  2373.9,2,   7.3236,2,    25.00, -999.00,9,  -999.0,9,  -999.0,-999.0000,9, -999.00,9,    43.5,2,   51.70,2, -999.00,9,     -999.0,9, -999.00,9,  -999.0,9,     -999.0,     -999.0,9,     -999.0,9,     -999.0,     -999.0,9,     -999.0,     -999.0,9,     -999.0,     -999.0,     -999.0,9,     -999.0,9,     -999.0,9,     -999.0,9,     -999.0,9,     -999.0,9,     -999.0,9,     -999.0,9
33RO20161119,        P18,      11,          1,         11,      11110,2,20161126,       1708,    18.9999,  -110.0000,       3369,   990.9,   4.4202,  34.5446,2,  34.5447,2,     11.2,2,    12.0,2,   105.7,2,    44.8,2,    0.01,2,   3.342,2,-999.0000,9,-999.0000,9,-999.0000,9,  2362.2,6,  2367.6,2,   7.3124,2,    25.00, -999.00,9,  -999.0,9,  -999.0,-999.0000,9, -999.00,9,    40.0,2,   51.00,2, -999.00,9,     -999.0,9, -999.00,9,  -999.0,9,     -999.0,     -999.0,9,     -999.0,9,     -999.0,     -999.0,9,     -999.0,     -999.0,9,     -999.0,     -999.0,     -999.0,9,     -999.0,9,     -999.0,9,     -999.0,9,     -999.0,9,     -999.0,9,     -999.0,9,     -999.0,9
33RO20161119,        P18,      11,          1,         12,      11111,2,20161126,       1708,    18.9999,  -110.0000,       3369,   874.9,   4.8333,  34.5203,2,  34.5189,2,      7.9,2,     7.5,6,    98.5,2,    43.9,2,    0.01,2,   3.313,2,-999.0000,9,-999.0000,9,-999.0000,9,  2353.1,2,  2360.2,2,   7.3080,2,    25.00, -999.00,9,  -999.0,9,  -999.0,-999.0000,9, -999.00,9,    38.8,2,   49.80,2, -999.00,9,     -999.0,9, -999.00,9,  -999.0,9,     -999.0,     -999.0,9,     -999.0,9,     -999.0,     -999.0,9,     -999.0,     -999.0,9,     -999.0,     -999.0,     -999.0,9,     -999.0,9,     -999.0,9,     -999.0,9,     -999.0,9,     -999.0,9,     -999.0,9,     -999.0,9
33RO20161119,        P18,      11,          1,         13,      11112,2,20161126,       1708,    18.9999,  -110.0000,       3369,   766.2,   5.2975,  34.5021,2,  34.5024,2,      6.1,2,     7.2,2,    90.6,2,    42.7,2,    0.01,2,   3.272,2,-999.0000,9,-999.0000,9,-999.0000,9,  2346.7,2,  2334.4,3,   7.3095,2,    25.00, -999.00,9,  -999.0,9,  -999.0,-999.0000,9, -999.00,9,    40.0,2,   46.90,2, -999.00,9,     -999.0,9, -999.00,9,  -999.0,9,     -999.0,     -999.0,9,     -999.0,9,     -999.0,     -999.0,9,     -999.0,     -999.0,9,     -999.0,     -999.0,     -999.0,9,     -999.0,9,     -999.0,9,     -999.0,9,     -999.0,9,     -999.0,9,     -999.0,9,     -999.0,9
33RO20161119,        P18,      11,          1,         14,      11113,2,20161126,       1708,    18.9999,  -110.0000,       3369,   659.8,   5.9783,  34.5023,2,  34.5113,2,      3.6,2,     3.5,2,    80.4,2,    40.6,2,    0.01,2,   3.235,2,-999.0000,9,-999.0000,9,-999.0000,9,  2332.8,2,  2342.5,2,   7.3143,2,    25.00, -999.00,9,  -999.0,9,  -999.0,-999.0000,9, -999.00,9,    39.5,2,   45.10,2, -999.00,9,     -999.0,9, -999.00,9,  -999.0,9,     -999.0,     -999.0,9,     -999.0,9,     -999.0,     -999.0,9,     -999.0,     -999.0,9,     -999.0,     -999.0,     -999.0,9,     -999.0,9,     -999.0,9,     -999.0,9,     -999.0,9,     -999.0,9,     -999.0,9,     -999.0,9
33RO20161119,        P18,      11,          1,         15,      11114,2,20161126,       1708,    18.9999,  -110.0000,       3369,   560.5,   7.0391,  34.5156,2,  34.5168,2,      2.8,2,     3.5,2,    67.8,2,    36.5,2,    0.01,2,   3.162,2,-999.0000,9,-999.0000,9,-999.0000,9,  2318.6,2,  2330.8,2,   7.3203,2,    25.00, -999.00,9,  -999.0,9,  -999.0,-999.0000,9, -999.00,9,    40.4,2,   41.00,2, -999.00,9,     -999.0,9, -999.00,9,  -999.0,9,     -999.0,     -999.0,9,     -999.0,9,     -999.0,     -999.0,9,     -999.0,     -999.0,9,     -999.0,     -999.0,     -999.0,9,     -999.0,9,     -999.0,9,     -999.0,9,     -999.0,9,     -999.0,9,     -999.0,9,     -999.0,9
33RO20161119,        P18,      11,          1,         16,      11115,2,20161126,       1708,    18.9999,  -110.0000,       3369,   465.5,   8.0511,  34.5015,2,  34.5036,2,      4.1,2,     4.8,2,    56.4,2,    33.2,2,    0.01,2,   3.005,2,-999.0000,9,-999.0000,9,-999.0000,9,  2306.7,2,  2314.6,2,   7.3303,6,    25.00, -999.00,9,  -999.0,9,  -999.0,-999.0000,9, -999.00,9,    39.7,2,   36.30,2, -999.00,9,     -999.0,9, -999.00,9,  -999.0,9,     -999.0,     -999.0,9,     -999.0,9,     -999.0,     -999.0,9,     -999.0,     -999.0,9,     -999.0,     -999.0,     -999.0,9,     -999.0,9,     -999.0,9,     -999.0,9,     -999.0,9,     -999.0,9,     -999.0,9,     -999.0,9
33RO20161119,        P18,      11,          1,         17,      11116,2,20161126,       1708,    18.9999,  -110.0000,       3369,   375.5,   9.3226,  34.5641,2,  34.5649,2,      3.6,2,     4.8,2,    45.9,2,    29.0,2,    0.01,2,   2.872,2,-999.0000,9,-999.0000,9,-999.0000,9,  2289.9,2,  2308.1,2,   7.3441,2,    25.00, -999.00,9,  -999.0,9,  -999.0,-999.0000,9, -999.00,9,    47.3,2,   31.60,2, -999.00,9,     -999.0,9, -999.00,9,  -999.0,9,     -999.0,     -999.0,9,     -999.0,9,     -999.0,     -999.0,9,     -999.0,     -999.0,9,     -999.0,     -999.0,     -999.0,9,     -999.0,9,     -999.0,9,     -999.0,9,     -999.0,9,     -999.0,9,     -999.0,9,     -999.0,9
33RO20161119,        P18,      11,          1,         18,      11117,2,20161126,       1708,    18.9999,  -110.0000,       3369,   290.7,  10.7401,  34.6674,2,  34.6676,2,      2.4,2,     2.4,2,    38.1,2,    24.4,2,    0.05,2,   2.765,2,-999.0000,9,-999.0000,9,-999.0000,9,  2289.3,2,  2306.9,2,   7.3642,2,    25.00, -999.00,9,  -999.0,9,  -999.0,-999.0000,9, -999.00,9,    45.4,2,   27.80,2, -999.00,9,     -999.0,9, -999.00,9,  -999.0,9,     -999.0,     -999.0,9,     -999.0,9,     -999.0,     -999.0,9,     -999.0,     -999.0,9,     -999.0,     -999.0,     -999.0,9,     -999.0,9,     -999.0,9,     -999.0,9,     -999.0,9,     -999.0,9,     -999.0,9,     -999.0,9
33RO20161119,        P18,      11,          1,         19,      11083,2,20161126,       1708,    18.9999,  -110.0000,       3369,   220.7,  11.8335,  34.7464,2,  34.7510,2,      2.5,2,     3.4,2,    32.2,2,    22.4,2,    0.91,2,   2.667,2,-999.0000,9,-999.0000,9,-999.0000,9,  2277.0,2,  2306.0,2,   7.3942,2,    25.00, -999.00,9,  -999.0,9,  -999.0,-999.0000,9, -999.00,9,    47.7,2,   26.10,2, -999.00,9,     -999.0,9, -999.00,9,  -999.0,9,     -999.0,     -999.0,9,     -999.0,9,     -999.0,     -999.0,9,     -999.0,     -999.0,9,     -999.0,     -999.0,     -999.0,9,     -999.0,9,     -999.0,9,     -999.0,9,     -999.0,9,     -999.0,9,     -999.0,9,     -999.0,9
33RO20161119,        P18,      11,          1,         20,      11118,2,20161126,       1708,    18.9999,  -110.0000,       3369,   156.7,  12.6412,  34.6832,2,  34.6928,2,      9.5,2,     9.7,2,    29.6,2,    23.7,2,    0.02,2,   2.614,2,-999.0000,9,-999.0000,9,-999.0000,9,  2259.3,2,  2298.0,2,   7.4064,2,    25.00, -999.00,9,  -999.0,9,  -999.0,-999.0000,9, -999.00,9,    54.1,2,   26.50,2, -999.00,9,     -999.0,9, -999.00,9,  -999.0,9,     -999.0,     -999.0,9,     -999.0,9,     -999.0,     -999.0,9,     -999.0,     -999.0,9,     -999.0,     -999.0,     -999.0,9,     -999.0,9,     -999.0,9,     -999.0,9,     -999.0,9,     -999.0,9,     -999.0,9,     -999.0,9
33RO20161119,        P18,      11,          1,         21,      11119,2,20161126,       1708,    18.9999,  -110.0000,       3369,    94.2,  16.3918,  34.2359,2,  34.2599,2,    111.9,2,    93.1,2,    13.6,2,    14.9,2,    0.05,2,   1.667,2,-999.0000,9,-999.0000,9,-999.0000,9,  2162.0,2,  2271.9,2,   7.6277,2,    25.00, -999.00,9,  -999.0,9,  -999.0,-999.0000,9, -999.00,9,    54.9,2,   18.00,2, -999.00,9,     -999.0,9, -999.00,9,  -999.0,9,     -999.0,     -999.0,9,     -999.0,9,     -999.0,     -999.0,9,     -999.0,     -999.0,9,     -999.0,     -999.0,     -999.0,9,     -999.0,9,     -999.0,9,     -999.0,9,     -999.0,9,     -999.0,9,     -999.0,9,     -999.0,9
33RO20161119,        P18,      11,          1,         22,      11120,2,20161126,       1708,    18.9999,  -110.0000,       3369,    51.4,  20.9465,  33.8676,2,  33.8962,2,    244.6,2,   237.6,2,     1.9,2,     0.0,2,    0.01,2,   0.357,2,-999.0000,9,-999.0000,9,-999.0000,9,  2011.6,2,  2258.6,6,   7.9633,2,    25.00, -999.00,9,  -999.0,9,  -999.0,-999.0000,9, -999.00,9,    72.2,2,    3.50,2, -999.00,9,     -999.0,9, -999.00,9,  -999.0,9,     -999.0,     -999.0,9,     -999.0,9,     -999.0,     -999.0,9,     -999.0,     -999.0,9,     -999.0,     -999.0,     -999.0,9,     -999.0,9,     -999.0,9,     -999.0,9,     -999.0,9,     -999.0,9,     -999.0,9,     -999.0,9
33RO20161119,        P18,      11,          1,         23,      11121,2,20161126,       1708,    18.9999,  -110.0000,       3369,    20.1,  27.3741,  34.3739,2,  34.3601,2,    199.2,2,   199.3,2,     1.8,2,     0.0,2,    0.01,2,   0.299,2,-999.0000,9,-999.0000,9,-999.0000,9,  1982.7,2,  2279.2,2,   8.0379,2,    25.00, -999.00,9,  -999.0,9,  -999.0,-999.0000,9, -999.00,9,    73.6,2,    3.50,2, -999.00,9,     -999.0,9, -999.00,9,  -999.0,9,     -999.0,     -999.0,9,     -999.0,9,     -999.0,     -999.0,9,     -999.0,     -999.0,9,     -999.0,     -999.0,     -999.0,9,     -999.0,9,     -999.0,9,     -999.0,9,     -999.0,9,     -999.0,9,     -999.0,9,     -999.0,9
33RO20161119,        P18,      11,          1,         24,      11122,2,20161126,       1708,    18.9999,  -110.0000,       3369,     3.3,  27.4557,  34.3785,2,  34.3782,2,    198.7,2,   199.2,2,     1.7,2,     0.0,2,    0.01,2,   0.285,2,-999.0000,9,-999.0000,9,-999.0000,9,  1990.1,6,  2279.8,2,   8.0396,2,    25.00, -999.00,9,  -999.0,9,  -999.0,-999.0000,9, -999.00,9,    75.0,2,    4.10,2, -999.00,9,     -999.0,9, -999.00,9,  -999.0,9,     -999.0,     -999.0,9,     -999.0,9,     -999.0,     -999.0,9,     -999.0,     -999.0,9,     -999.0,     -999.0,     -999.0,9,     -999.0,9,     -999.0,9,     -999.0,9,     -999.0,9,     -999.0,9,     -999.0,9,     -999.0,9