BOTTLE,20230606CCHSIOCBG
EXPOCODE,SECT_ID,STNNBR,CASTNO,SAMPNO,BTLNBR,BTLNBR_FLAG_W,DATE,TIME,LATITUDE,LONGITUDE,DEPTH,CTDPRS,CTDTMP,CTDSAL,CTDSAL_FLAG_W,SALNTY,SALNTY_FLAG_W,CTDOXY,CTDOXY_FLAG_W,OXYGEN,OXYGEN_FLAG_W,SILCAT,SILCAT_FLAG_W,NITRAT,NITRAT_FLAG_W,NITRIT,NITRIT_FLAG_W,PHSPHT,PHSPHT_FLAG_W,CFC-11,CFC-11_FLAG_W,CFC-12,CFC-12_FLAG_W,SF6,SF6_FLAG_W,TCARBN,TCARBN_FLAG_W,ALKALI,ALKALI_FLAG_W,PH_SWS,PH_SWS_FLAG_W,PH_TMP,DELC13,DELC13_FLAG_W,DELC14,DELC14_FLAG_W,C14ERR,CCL4,CCL4_FLAG_W,POC,POC_FLAG_W,DOC,DOC_FLAG_W,TDN,TDN_FLAG_W,PON,PON_FLAG_W,N2O,N2O_FLAG_W,D15N_NO3,D15N_NO3_FLAG_W,14C-DOC,14C-DOC_FLAG_W,14C-DOCERR,13C-DOC,13C-DOC_FLAG_W,N2/ARGON_UNSTRIPPED,N2/ARGON_UNSTRIPPED_FLAG_W,N2/ARGON_UNSTRIPPED_ERROR,N2/ARGON,N2/ARGON_FLAG_W,N2/ARGON_ERROR,D15N_N2,D15N_N2_FLAG_W,D15N_N2_ERROR,D15N_NO3_ERROR,D15N_NO2+NO3,D15N_NO2+NO3_FLAG_W,D18O_NO2+NO3,D18O_NO2+NO3_FLAG_W,D18O_NO3,D18O_NO3_FLAG_W,TDP,TDP_FLAG_W,N2O_ALT_1,N2O_ALT_1_FLAG_W,D15N_N2O,D15N_N2O_FLAG_W,D18O_N2O,D18O_N2O_FLAG_W,D15N_ALPHA_N2O,D15N_ALPHA_N2O_FLAG_W
,,,,,,,,,,,METERS,DBAR,ITS-90,PSS-78,,PSS-78,,UMOL/KG,,UMOL/KG,,UMOL/KG,,UMOL/KG,,UMOL/KG,,UMOL/KG,,PMOL/KG,,PMOL/KG,,FMOL/KG,,UMOL/KG,,UMOL/KG,,,,DEG C,/MILLE,,/MILLE,,/MILLE,PMOL/KG,,UG/KG,,UMOL/KG,,UMOL/KG,,UG/KG,,NMOL/KG,,/MILLE,,/MILLE,,/MILLE,/MILLE,,,,,,,,/MILLE,,/MILLE,/MILLE,/MILLE,,/MILLE,,/MILLE,,UMOL/KG,,NMOL/L,,/MILLE,,/MILLE,,/MILLE,
33RO20161119,        P18,     118,          1,          1,      11010,2,20170101,       1635,   -25.0008,  -101.5005,       3558,  3599.7,   1.8321,  34.6848,2,  34.6835,2,    152.2,2,   151.7,2,   128.1,6,    35.6,6,    0.00,6,   2.488,6,   0.0028,2,   0.0024,2,   0.0000,2,  2317.0,6,  2416.2,2,   7.5757,2,    25.00, -999.00,9,  -999.0,9,  -999.0,        0,2, -999.00,9,  -999.0,9, -999.00,9, -999.00,9,    20.1603,2, -999.00,9,  -999.0,9,     -999.0,     -999.0,9,     -999.0,9,     -999.0,     -999.0,9,     -999.0,     -999.0,9,     -999.0,     -999.0,     -999.0,9,     -999.0,9,     -999.0,9,     -999.0,9,17.06841378,2,       9.41,2,      51.84,2,      24.75,2
33RO20161119,        P18,     118,          1,          2,      11101,2,20170101,       1635,   -25.0008,  -101.5005,       3558,  3370.6,   1.8150,  34.6840,2,  34.6833,2,    152.7,2,   151.5,2,   127.6,6,    35.6,6,    0.01,6,   2.486,6,   0.0020,2,   0.0011,2,   0.0456,2,  2320.1,2,  2411.6,6,   7.5748,2,    25.00, -999.00,9,  -999.0,9,  -999.0,        0,2, -999.00,9,  -999.0,9, -999.00,9, -999.00,9,    20.2395,2, -999.00,9,  -999.0,9,     -999.0,     -999.0,9,     -999.0,9,     -999.0,     -999.0,9,     -999.0,     -999.0,9,     -999.0,     -999.0,     -999.0,9,     -999.0,9,     -999.0,9,     -999.0,9,     -999.0,9,     -999.0,9,     -999.0,9,     -999.0,9
33RO20161119,        P18,     118,          1,          3,      11102,2,20170101,       1635,   -25.0008,  -101.5005,       3558,  3140.0,   1.8174,  34.6807,2,  34.6794,2,    153.5,2,   152.9,6,   125.7,6,    35.4,6,    0.00,6,   2.477,6,   0.0024,2,   0.0020,2,   0.0000,2,  2313.7,2,  2411.2,2,   7.5763,6,    25.00, -999.00,9,  -999.0,9,  -999.0,        0,2, -999.00,9,  -999.0,9, -999.00,9, -999.00,9,    20.2398,2, -999.00,9,  -999.0,9,     -999.0,     -999.0,9,     -999.0,9,     -999.0,     -999.0,9,     -999.0,     -999.0,9,     -999.0,     -999.0,     -999.0,9,     -999.0,9,     -999.0,9,     -999.0,9,17.28164527,2,       6.77,2,      46.33,2,      21.98,2
33RO20161119,        P18,     118,          1,          4,      11103,2,20170101,       1635,   -25.0008,  -101.5005,       3558,  2864.3,   1.8485,  34.6729,2,  34.6710,2,    157.2,2,   156.2,2,   120.9,6,    35.2,6,    0.00,6,   2.452,6,   0.0025,2,   0.0016,2,   0.0259,2,  2305.1,2,  2402.5,2,   7.5751,2,    25.00, -999.00,9,  -999.0,9,  -999.0,   0.0181,2, -999.00,9,  -999.0,9, -999.00,9, -999.00,9,    20.8113,2, -999.00,9,  -999.0,9,     -999.0,     -999.0,9,     -999.0,9,     -999.0,     -999.0,9,     -999.0,     -999.0,9,     -999.0,     -999.0,     -999.0,9,     -999.0,9,     -999.0,9,     -999.0,9,     -999.0,9,     -999.0,9,     -999.0,9,     -999.0,9
33RO20161119,        P18,     118,          1,          5,      11104,2,20170101,       1635,   -25.0008,  -101.5005,       3558,  2590.1,   1.8912,  34.6647,2,  34.6633,2,    157.4,2,   157.4,2,   117.8,2,    35.1,2,    0.00,2,   2.446,2,   0.0019,2,   0.0007,2,   0.0000,2,  2300.4,2,  2396.0,2,   7.5728,2,    25.00, -999.00,9,  -999.0,9,  -999.0,        0,2, -999.00,9,  -999.0,9, -999.00,9, -999.00,9,    21.3721,2, -999.00,9,  -999.0,9,     -999.0,     -999.0,9,     -999.0,9,     -999.0,     -999.0,9,     -999.0,     -999.0,9,     -999.0,     -999.0,     -999.0,9,     -999.0,9,     -999.0,9,     -999.0,9,17.87246453,2,       7.51,2,      47.32,2,      22.28,2
33RO20161119,        P18,     118,          1,          6,      11105,2,20170101,       1635,   -25.0008,  -101.5005,       3558,  2309.3,   1.9700,  34.6534,2,  34.6519,2,    155.3,2,   155.4,2,   115.1,2,    35.3,2,    0.00,2,   2.446,2,   0.0016,2,   0.0000,2,   0.0000,2,  2298.2,2,  2387.9,2,   7.5669,2,    25.00, -999.00,9,  -999.0,9,  -999.0,   0.0183,2, -999.00,9,  -999.0,9, -999.00,9, -999.00,9,     21.223,2, -999.00,9,  -999.0,9,     -999.0,     -999.0,9,     -999.0,9,     -999.0,     -999.0,9,     -999.0,     -999.0,9,     -999.0,     -999.0,     -999.0,9,     -999.0,9,     -999.0,9,     -999.0,9,     -999.0,9,     -999.0,9,     -999.0,9,     -999.0,9
33RO20161119,        P18,     118,          1,          7,      11106,2,20170101,       1635,   -25.0008,  -101.5005,       3558,  2029.2,   2.1469,  34.6329,2,  34.6323,2,    151.6,2,   151.6,2,   109.6,2,    35.6,2,    0.00,2,   2.463,2,   0.0026,6,   0.0016,6,   0.0278,6,  2296.6,2,  2381.1,2,   7.5583,2,    25.00, -999.00,9,  -999.0,9,  -999.0,   0.0273,2, -999.00,9,  -999.0,9, -999.00,9, -999.00,9,    22.4638,2, -999.00,9,  -999.0,9,     -999.0,     -999.0,9,     -999.0,9,     -999.0,     -999.0,9,     -999.0,     -999.0,9,     -999.0,     -999.0,     -999.0,9,     -999.0,9,     -999.0,9,     -999.0,9,18.62578562,2,       9.48,2,      52.45,2,      23.45,2
33RO20161119,        P18,     118,          1,          8,      11107,2,20170101,       1635,   -25.0008,  -101.5005,       3558,  1750.5,   2.4266,  34.6049,2,  34.6033,2,    143.6,2,   144.1,2,   103.1,2,    36.1,2,    0.00,2,   2.518,2,   0.0017,2,   0.0006,2,   0.0000,2,  2294.6,2,  2373.4,2,   7.5461,2,    25.00, -999.00,9,  -999.0,9,  -999.0,   0.1573,2, -999.00,9,  -999.0,9, -999.00,9, -999.00,9,     24.107,2, -999.00,9,  -999.0,9,     -999.0,     -999.0,9,     -999.0,9,     -999.0,     -999.0,9,     -999.0,     -999.0,9,     -999.0,     -999.0,     -999.0,9,     -999.0,9,     -999.0,9,     -999.0,9,     -999.0,9,     -999.0,9,     -999.0,9,     -999.0,9
33RO20161119,        P18,     118,          1,          9,      11108,2,20170101,       1635,   -25.0008,  -101.5005,       3558,  1435.0,   2.9375,  34.5602,2,  34.5576,2,    137.7,2,   137.4,2,    91.0,2,    36.8,2,    0.00,2,   2.559,2,   0.0037,2,   0.0042,2,   0.0474,2,  2285.3,2,  2363.3,2,   7.5309,2,    25.00, -999.00,9,  -999.0,9,  -999.0,   0.3745,2, -999.00,9,  -999.0,9, -999.00,9, -999.00,9,    23.9457,2, -999.00,9,  -999.0,9,     -999.0,     -999.0,9,     -999.0,9,     -999.0,     -999.0,9,     -999.0,     -999.0,9,     -999.0,     -999.0,     -999.0,9,     -999.0,9,     -999.0,9,     -999.0,9,20.64154242,2,       9.24,2,      52.19,2,      23.33,2
33RO20161119,        P18,     118,          1,         10,      11109,2,20170101,       1635,   -25.0008,  -101.5005,       3558,  1265.6,   3.4090,  34.5291,2,  34.5274,2,    131.7,2,   131.5,2,    80.7,2,    37.0,2,    0.00,2,   2.589,2,   0.0064,2,   0.0041,2,   0.0330,2,  2277.7,2,  2351.8,2,   7.5228,2,    25.00, -999.00,9,  -999.0,9,  -999.0,   0.7431,2, -999.00,9,  -999.0,9, -999.00,9, -999.00,9,    25.8881,2, -999.00,9,  -999.0,9,     -999.0,     -999.0,9,     -999.0,9,     -999.0,     -999.0,9,     -999.0,     -999.0,9,     -999.0,     -999.0,     -999.0,9,     -999.0,9,     -999.0,9,     -999.0,9,     -999.0,9,     -999.0,9,     -999.0,9,     -999.0,9
33RO20161119,        P18,     118,          1,         11,      11110,2,20170101,       1635,   -25.0008,  -101.5005,       3558,  1129.8,   3.7053,  34.4916,2,  34.4912,2,    127.8,2,   127.6,2,    70.8,2,    37.5,2,    0.00,2,   2.601,2,   0.0255,2,   0.0148,2,   0.0000,2,  2271.7,2,  2341.2,2,   7.5108,2,    25.00, -999.00,9,  -999.0,9,  -999.0,   1.2181,2, -999.00,9,  -999.0,9, -999.00,9, -999.00,9,     27.511,2, -999.00,9,  -999.0,9,     -999.0,     -999.0,9,     -999.0,9,     -999.0,     -999.0,9,     -999.0,     -999.0,9,     -999.0,     -999.0,     -999.0,9,     -999.0,9,     -999.0,9,     -999.0,9,23.27458203,2,       8.97,2,       50.5,2,      22.28,2
33RO20161119,        P18,     118,          1,         12,      11111,2,20170101,       1635,   -25.0008,  -101.5005,       3558,  1010.2,   4.1290,  34.4462,2,  34.4443,2,    127.0,2,   126.1,2,    58.5,2,    37.5,2,    0.00,2,   2.625,2,   0.0720,2,   0.0386,2,   0.0000,2,  2259.5,2,  2325.9,2,   7.5030,2,    25.00, -999.00,9,  -999.0,9,  -999.0,   1.3271,2, -999.00,9,  -999.0,9, -999.00,9, -999.00,9,    28.8281,2, -999.00,9,  -999.0,9,     -999.0,     -999.0,9,     -999.0,9,     -999.0,     -999.0,9,     -999.0,     -999.0,9,     -999.0,     -999.0,     -999.0,9,     -999.0,9,     -999.0,9,     -999.0,9, 23.9976228,2,       8.88,2,      50.37,2,      20.49,2
33RO20161119,        P18,     118,          1,         13,      11112,2,20170101,       1635,   -25.0008,  -101.5005,       3558,   890.5,   4.6110,  34.3988,2,  34.3966,2,    131.3,2,   130.8,2,    44.9,2,    36.9,2,    0.00,2,   2.570,2,   0.3110,2,   0.1630,2,   0.1204,2,  2242.6,2,  2310.7,2,   7.5027,2,    25.00, -999.00,9,  -999.0,9,  -999.0,   1.2262,2, -999.00,9,  -999.0,9, -999.00,9, -999.00,9,    29.4488,2, -999.00,9,  -999.0,9,     -999.0,     -999.0,9,     -999.0,9,     -999.0,     -999.0,9,     -999.0,     -999.0,9,     -999.0,     -999.0,     -999.0,9,     -999.0,9,     -999.0,9,     -999.0,9,24.83508276,2,       8.66,2,      50.36,2,      20.41,2
33RO20161119,        P18,     118,          1,         14,      11113,2,20170101,       1635,   -25.0008,  -101.5005,       3558,   770.1,   5.1116,  34.3542,2,  34.3523,2,    152.4,2,   150.9,2,    31.3,2,    34.6,2,    0.00,2,   2.401,2,   0.8945,2,   0.4419,2,   0.1057,2,  2221.4,2,  2297.8,2,   7.5354,2,    25.00, -999.00,9,  -999.0,9,  -999.0,   0.8193,2, -999.00,9,  -999.0,9, -999.00,9, -999.00,9,    29.4585,2, -999.00,9,  -999.0,9,     -999.0,     -999.0,9,     -999.0,9,     -999.0,     -999.0,9,     -999.0,     -999.0,9,     -999.0,     -999.0,     -999.0,9,     -999.0,9,     -999.0,9,     -999.0,9,24.58755751,2,       7.84,2,      48.98,2,      19.33,2
33RO20161119,        P18,     118,          1,         15,      11114,2,20170101,       1635,   -25.0008,  -101.5005,       3558,   660.2,   5.7042,  34.3216,2,  34.3205,2,    177.8,2,   176.8,2,    19.6,2,    31.1,2,    0.00,2,   2.156,2,   2.0406,6,   1.0036,6,   0.3401,6,  2195.1,2,  2282.2,2,   7.5784,2,    25.00, -999.00,9,  -999.0,9,  -999.0,   0.5279,2, -999.00,9,  -999.0,9, -999.00,9, -999.00,9,    27.0745,2, -999.00,9,  -999.0,9,     -999.0,     -999.0,9,     -999.0,9,     -999.0,     -999.0,9,     -999.0,     -999.0,9,     -999.0,     -999.0,     -999.0,9,     -999.0,9,     -999.0,9,     -999.0,9,22.19439656,2,       7.51,2,      48.34,2,      19.27,2
33RO20161119,        P18,     118,          1,         16,      11115,2,20170101,       1635,   -25.0008,  -101.5005,       3558,   550.7,   6.5459,  34.3441,2,  34.3427,2,    165.8,2,   165.0,2,    15.6,2,    30.1,2,    0.00,2,   2.112,2,   2.5271,2,   1.2615,2,   0.4941,2,  2198.1,2,  2278.8,2,   7.5620,2,    25.00, -999.00,9,  -999.0,9,  -999.0,   0.8982,2, -999.00,9,  -999.0,9, -999.00,9, -999.00,9,    30.1104,2, -999.00,9,  -999.0,9,     -999.0,     -999.0,9,     -999.0,9,     -999.0,     -999.0,9,     -999.0,     -999.0,9,     -999.0,     -999.0,     -999.0,9,     -999.0,9,     -999.0,9,     -999.0,9,25.38463678,2,       6.99,2,      48.67,2,      13.88,2
33RO20161119,        P18,     118,          1,         17,      11116,2,20170101,       1635,   -25.0008,  -101.5005,       3558,   455.1,   7.8674,  34.3937,2,  34.3923,2,    122.7,2,   120.1,2,    15.8,2,    30.1,2,    0.00,2,   2.253,2,   2.3257,2,   1.1892,2,   0.5404,2,  2214.3,6,  2279.4,6,   7.5010,2,    25.00, -999.00,9,  -999.0,9,  -999.0,   1.3619,2, -999.00,9,  -999.0,9, -999.00,9, -999.00,9,    35.4025,2, -999.00,9,  -999.0,9,     -999.0,     -999.0,9,     -999.0,9,     -999.0,     -999.0,9,     -999.0,     -999.0,9,     -999.0,     -999.0,     -999.0,9,     -999.0,9,     -999.0,9,     -999.0,9,29.57028169,2,       6.91,2,      49.62,2,      12.74,2
33RO20161119,        P18,     118,          1,         18,      11117,2,20170101,       1635,   -25.0008,  -101.5005,       3558,   354.1,   9.9478,  34.3734,2,  34.3745,2,    127.8,2,   140.6,2,     9.7,2,    22.0,2,    0.01,2,   1.848,2,   2.7904,2,   1.5287,2,   0.9842,2,  2180.3,2,  2275.5,2,   7.5914,2,    25.00, -999.00,9,  -999.0,9,  -999.0,   1.4135,2, -999.00,9,  -999.0,9, -999.00,9, -999.00,9,     27.919,2, -999.00,9,  -999.0,9,     -999.0,     -999.0,9,     -999.0,9,     -999.0,     -999.0,9,     -999.0,     -999.0,9,     -999.0,     -999.0,     -999.0,9,     -999.0,9,     -999.0,9,     -999.0,9,     -999.0,9,     -999.0,9,     -999.0,9,     -999.0,9
33RO20161119,        P18,     118,          1,         19,      11083,2,20170101,       1635,   -25.0008,  -101.5005,       3558,   275.8,  13.0525,  34.5287,2,  34.5378,2,    196.2,2,   195.2,2,     1.9,2,    10.7,2,    0.01,2,   0.955,2,   2.9123,2,   1.6959,2,   1.5450,2,  2111.0,2,  2282.1,2,   7.7852,2,    25.00, -999.00,9,  -999.0,9,  -999.0,   1.6072,2, -999.00,9,  -999.0,9, -999.00,9, -999.00,9,    15.1421,2, -999.00,9,  -999.0,9,     -999.0,     -999.0,9,     -999.0,9,     -999.0,     -999.0,9,     -999.0,     -999.0,9,     -999.0,     -999.0,     -999.0,9,     -999.0,9,     -999.0,9,     -999.0,9,12.90968917,2,       6.97,2,      42.98,2,      18.13,2
33RO20161119,        P18,     118,          1,         20,      11118,2,20170101,       1635,   -25.0008,  -101.5005,       3558,   200.3,  17.6221,  35.2255,2,  35.2215,2,    212.7,2,   214.1,2,     0.4,2,     1.0,2,    0.12,2,   0.342,2,   2.3353,2,   1.4321,2,   1.6283,2,  2081.6,2,  2320.7,2,   7.9250,2,    25.00, -999.00,9,  -999.0,9,  -999.0,     1.56,2, -999.00,9,  -999.0,9, -999.00,9, -999.00,9,     8.7966,2, -999.00,9,  -999.0,9,     -999.0,     -999.0,9,     -999.0,9,     -999.0,     -999.0,9,     -999.0,     -999.0,9,     -999.0,     -999.0,     -999.0,9,     -999.0,9,     -999.0,9,     -999.0,9,8.109489826,2,       6.67,2,      44.11,2,       16.1,2
33RO20161119,        P18,     118,          1,         21,      11119,2,20170101,       1635,   -25.0008,  -101.5005,       3558,   134.8,  20.2591,  35.6916,2,  35.6903,2,    226.3,2,   226.8,2,     0.3,2,     0.0,2,    0.01,2,   0.183,2,   2.0698,2,   1.2743,2,   1.6035,2,  2070.3,2,  2349.9,2,   7.9887,2,    25.00, -999.00,9,  -999.0,9,  -999.0,   0.0144,2, -999.00,9,  -999.0,9, -999.00,9, -999.00,9,     7.7254,2, -999.00,9,  -999.0,9,     -999.0,     -999.0,9,     -999.0,9,     -999.0,     -999.0,9,     -999.0,     -999.0,9,     -999.0,     -999.0,     -999.0,9,     -999.0,9,     -999.0,9,     -999.0,9,6.897645208,2,       6.82,2,      45.56,2,      17.74,2
33RO20161119,        P18,     118,          1,         22,      11120,2,20170101,       1635,   -25.0008,  -101.5005,       3558,    69.7,  21.9762,  35.9669,2,  35.9633,2,    224.8,2,   225.1,2,     0.3,2,     0.0,2,    0.00,2,   0.208,2,   1.9389,2,   1.2087,2,   1.6245,2,  2079.3,2,  2370.0,2,   8.0068,6,    25.00, -999.00,9,  -999.0,9,  -999.0,   0.0202,2, -999.00,9,  -999.0,9, -999.00,9, -999.00,9,     7.0262,2, -999.00,9,  -999.0,9,     -999.0,     -999.0,9,     -999.0,9,     -999.0,     -999.0,9,     -999.0,     -999.0,9,     -999.0,     -999.0,     -999.0,9,     -999.0,9,     -999.0,9,     -999.0,9,6.641127829,2,       6.44,2,      46.15,2,       17.5,2
33RO20161119,        P18,     118,          1,         23,      11121,2,20170101,       1635,   -25.0008,  -101.5005,       3558,    30.0,  24.1807,  36.2537,2,  36.2483,2,    210.9,2,   212.4,6,     0.3,2,     0.0,2,    0.00,2,   0.218,2,   1.7588,2,   1.1063,2,   1.4679,2,  2089.4,6,  2391.7,6,   8.0139,2,    25.00, -999.00,9,  -999.0,9,  -999.0,   0.0264,2, -999.00,9,  -999.0,9, -999.00,9, -999.00,9,     6.6409,2, -999.00,9,  -999.0,9,     -999.0,     -999.0,9,     -999.0,9,     -999.0,     -999.0,9,     -999.0,     -999.0,9,     -999.0,     -999.0,     -999.0,9,     -999.0,9,     -999.0,9,     -999.0,9,6.195107412,2,       6.66,2,      44.12,2,      19.42,2
33RO20161119,        P18,     118,          1,         24,      11122,2,20170101,       1635,   -25.0008,  -101.5005,       3558,     2.7,  24.5712,  36.2708,2,  36.2715,2,    208.2,2,   209.6,2,     0.4,2,     0.0,2,    0.00,2,   0.205,2,   1.7259,2,   1.0870,2,   1.4694,2,  2091.8,2,  2390.1,2,   8.0146,2,    25.00, -999.00,9,  -999.0,9,  -999.0,   0.0368,2, -999.00,9,  -999.0,9, -999.00,9, -999.00,9,     6.7407,2, -999.00,9,  -999.0,9,     -999.0,     -999.0,9,     -999.0,9,     -999.0,     -999.0,9,     -999.0,     -999.0,9,     -999.0,     -999.0,     -999.0,9,     -999.0,9,     -999.0,9,     -999.0,9,6.118083648,2,       6.61,2,      44.98,2,      19.41,2