BOTTLE,20230606CCHSIOCBG
EXPOCODE,SECT_ID,STNNBR,CASTNO,SAMPNO,BTLNBR,BTLNBR_FLAG_W,DATE,TIME,LATITUDE,LONGITUDE,DEPTH,CTDPRS,CTDTMP,CTDSAL,CTDSAL_FLAG_W,SALNTY,SALNTY_FLAG_W,CTDOXY,CTDOXY_FLAG_W,OXYGEN,OXYGEN_FLAG_W,SILCAT,SILCAT_FLAG_W,NITRAT,NITRAT_FLAG_W,NITRIT,NITRIT_FLAG_W,PHSPHT,PHSPHT_FLAG_W,CFC-11,CFC-11_FLAG_W,CFC-12,CFC-12_FLAG_W,SF6,SF6_FLAG_W,TCARBN,TCARBN_FLAG_W,ALKALI,ALKALI_FLAG_W,PH_SWS,PH_SWS_FLAG_W,PH_TMP,DELC13,DELC13_FLAG_W,DELC14,DELC14_FLAG_W,C14ERR,CCL4,CCL4_FLAG_W,POC,POC_FLAG_W,DOC,DOC_FLAG_W,TDN,TDN_FLAG_W,PON,PON_FLAG_W,N2O,N2O_FLAG_W,D15N_NO3,D15N_NO3_FLAG_W,14C-DOC,14C-DOC_FLAG_W,14C-DOCERR,13C-DOC,13C-DOC_FLAG_W,N2/ARGON_UNSTRIPPED,N2/ARGON_UNSTRIPPED_FLAG_W,N2/ARGON_UNSTRIPPED_ERROR,N2/ARGON,N2/ARGON_FLAG_W,N2/ARGON_ERROR,D15N_N2,D15N_N2_FLAG_W,D15N_N2_ERROR,D15N_NO3_ERROR,D15N_NO2+NO3,D15N_NO2+NO3_FLAG_W,D18O_NO2+NO3,D18O_NO2+NO3_FLAG_W,D18O_NO3,D18O_NO3_FLAG_W,TDP,TDP_FLAG_W,N2O_ALT_1,N2O_ALT_1_FLAG_W,D15N_N2O,D15N_N2O_FLAG_W,D18O_N2O,D18O_N2O_FLAG_W,D15N_ALPHA_N2O,D15N_ALPHA_N2O_FLAG_W
,,,,,,,,,,,METERS,DBAR,ITS-90,PSS-78,,PSS-78,,UMOL/KG,,UMOL/KG,,UMOL/KG,,UMOL/KG,,UMOL/KG,,UMOL/KG,,PMOL/KG,,PMOL/KG,,FMOL/KG,,UMOL/KG,,UMOL/KG,,,,DEG C,/MILLE,,/MILLE,,/MILLE,PMOL/KG,,UG/KG,,UMOL/KG,,UMOL/KG,,UG/KG,,NMOL/KG,,/MILLE,,/MILLE,,/MILLE,/MILLE,,,,,,,,/MILLE,,/MILLE,/MILLE,/MILLE,,/MILLE,,/MILLE,,UMOL/KG,,NMOL/L,,/MILLE,,/MILLE,,/MILLE,
33RO20161119,        P18,      99,          1,          1,      11010,2,20161217,       0806,   -15.5004,  -103.0000,       3749,  3780.8,   1.8247,  34.6779,2,  34.6967,4,    138.6,2,   139.0,2,   140.7,6,    37.1,6,    0.00,6,   2.579,6,   0.0004,2,   0.0000,2,   0.0000,2,  2338.2,6,  2430.2,6,   7.5669,6,    25.00,   -0.08,3,  -230.8,2,     1.8,        0,2, -999.00,9,    36.3,2,   39.70,2, -999.00,9,     21.196,2, -999.00,9,  -999.0,9,     -999.0,     -999.0,9,     -999.0,9,     -999.0,     -999.0,9,     -999.0,     -999.0,9,     -999.0,     -999.0,     -999.0,9,     -999.0,9,     -999.0,9,     -999.0,9,     -999.0,9,     -999.0,9,     -999.0,9,     -999.0,9
33RO20161119,        P18,      99,          1,          2,      11101,2,20161217,       0806,   -15.5004,  -103.0000,       3749,  3490.5,   1.8160,  34.6783,2,  34.6796,2,    140.9,2,   140.9,2,   137.1,6,    36.8,6,    0.00,6,   2.547,6,   0.0024,2,   0.0000,2,   0.0000,2,  2331.5,2,  2425.1,2,   7.5671,2,    25.00,   -0.14,3,  -235.1,2,     1.8,        0,2, -999.00,9,    37.6,2,   38.70,2, -999.00,9,    20.8868,2, -999.00,9,    -532,2,          5,      -21.4,2,     -999.0,9,     -999.0,     -999.0,9,     -999.0,     -999.0,9,     -999.0,     -999.0,     -999.0,9,     -999.0,9,     -999.0,9,     -999.0,9,     -999.0,9,     -999.0,9,     -999.0,9,     -999.0,9
33RO20161119,        P18,      99,          1,          3,      11102,2,20161217,       0806,   -15.5004,  -103.0000,       3749,  3199.2,   1.8061,  34.6785,2,  34.6784,2,    143.4,2,   143.9,2,   134.0,6,    36.6,6,    0.00,6,   2.529,6,   0.0017,2,   0.0006,2,   0.0000,2,  2327.9,2,  2425.8,2,   7.5681,2,    25.00,    0.07,6,  -230.8,6,     4.8,        0,2, -999.00,9,    37.9,2,   41.50,2, -999.00,9,    20.6246,2, -999.00,9,    -541,2,          5,      -21.5,2,     -999.0,9,     -999.0,     -999.0,9,     -999.0,     -999.0,9,     -999.0,     -999.0,     -999.0,9,     -999.0,9,     -999.0,9,     -999.0,9,     -999.0,9,     -999.0,9,     -999.0,9,     -999.0,9
33RO20161119,        P18,      99,          1,          4,      11103,2,20161217,       0806,   -15.5004,  -103.0000,       3749,  2924.1,   1.8075,  34.6774,2,  34.6782,2,    144.7,2,   146.1,2,   130.3,6,    36.4,6,    0.00,6,   2.519,6,   0.0004,2,   0.0000,2,   0.0000,2,  2323.7,2,  2416.9,2,   7.5698,2,    25.00,    0.04,2,  -229.7,2,     2.0,        0,2, -999.00,9,    36.8,2,   40.40,2, -999.00,9,    20.7484,2, -999.00,9,    -547,2,          5,      -21.2,2,     -999.0,9,     -999.0,     -999.0,9,     -999.0,     -999.0,9,     -999.0,     -999.0,     -999.0,9,     -999.0,9,     -999.0,9,     -999.0,9,     -999.0,9,     -999.0,9,     -999.0,9,     -999.0,9
33RO20161119,        P18,      99,          1,          5,      11104,2,20161217,       0806,   -15.5004,  -103.0000,       3749,  2624.9,   1.8253,  34.6736,2,  34.6732,2,    146.8,2,   147.6,2,   126.4,2,    36.2,2,    0.00,2,   2.529,2,   0.0015,2,   0.0000,2,   0.0000,2,  2316.7,2,  2411.5,2,   7.5686,2,    25.00,    0.08,6,  -227.1,6,     1.9,   0.0095,2, -999.00,9,    35.7,2,   37.90,2, -999.00,9,    20.6804,2, -999.00,9,  -999.0,9,     -999.0,     -999.0,9,     -999.0,9,     -999.0,     -999.0,9,     -999.0,     -999.0,9,     -999.0,     -999.0,     -999.0,9,     -999.0,9,     -999.0,9,     -999.0,9,     -999.0,9,     -999.0,9,     -999.0,9,     -999.0,9
33RO20161119,        P18,      99,          1,          6,      11105,2,20161217,       0806,   -15.5004,  -103.0000,       3749,  2339.7,   1.9066,  34.6642,2,  34.6631,2,    144.7,2,   146.3,2,   122.3,2,    36.4,2,    0.00,2,   2.540,2,   0.0017,2,   0.0011,2,   0.0000,2,  2313.1,2,  2406.3,2,   7.5565,2,    25.00,   -0.02,2,  -225.8,2,     2.1,        0,2, -999.00,9,    35.7,2,   38.30,2, -999.00,9,    21.6122,2, -999.00,9,    -537,2,          5,      -21.3,2,     -999.0,9,     -999.0,     -999.0,9,     -999.0,     -999.0,9,     -999.0,     -999.0,     -999.0,9,     -999.0,9,     -999.0,9,     -999.0,9,     -999.0,9,     -999.0,9,     -999.0,9,     -999.0,9
33RO20161119,        P18,      99,          1,          7,      11106,2,20161217,       0806,   -15.5004,  -103.0000,       3749,  2038.0,   2.1714,  34.6435,2,  34.6426,2,    128.1,2,   129.1,2,   120.5,2,    37.7,2,    0.00,2,   2.645,2,   0.0019,6,   0.0010,6,   0.0000,6,  2319.8,2,  2400.9,2,   7.5239,2,    25.00,    0.02,2,  -228.6,2,     1.9,        0,2, -999.00,9,    38.1,2,   42.40,2, -999.00,9,    23.7927,2, -999.00,9,    -545,2,          5,      -20.9,2,     -999.0,9,     -999.0,     -999.0,9,     -999.0,     -999.0,9,     -999.0,     -999.0,     -999.0,9,     -999.0,9,     -999.0,9,     -999.0,9,     -999.0,9,     -999.0,9,     -999.0,9,     -999.0,9
33RO20161119,        P18,      99,          1,          8,      11107,2,20161217,       0806,   -15.5004,  -103.0000,       3749,  1750.3,   2.6029,  34.6150,2,  34.6282,4,    107.6,2,   109.3,6,   114.7,2,    39.3,2,    0.00,2,   2.786,2,   0.0004,2,   0.0000,2,   0.0000,2,  2324.4,2,  2393.0,2,   7.4881,2,    25.00,   -0.18,3,  -226.0,2,     1.9,        0,2, -999.00,9,    37.6,2,   43.30,2, -999.00,9,    26.6503,2, -999.00,9,    -527,2,          5,     -999.0,9,     -999.0,9,     -999.0,     -999.0,9,     -999.0,     -999.0,9,     -999.0,     -999.0,     -999.0,9,     -999.0,9,     -999.0,9,     -999.0,9,     -999.0,9,     -999.0,9,     -999.0,9,     -999.0,9
33RO20161119,        P18,      99,          1,          9,      11108,2,20161217,       0806,   -15.5004,  -103.0000,       3749,  1460.0,   3.1068,  34.5830,2,  34.5872,2,     93.7,2,    94.2,2,   102.7,2,    40.5,2,    0.00,2,   2.883,2,   0.0018,2,   0.0007,2,   0.0000,2,  2320.8,6,  2374.7,2,   7.4593,2,    25.00,    0.03,2,  -214.7,2,     2.2,        0,2, -999.00,9,    37.7,2,   44.50,2, -999.00,9,    29.0114,2, -999.00,9,  -999.0,9,     -999.0,     -999.0,9,     -999.0,9,     -999.0,     -999.0,9,     -999.0,     -999.0,9,     -999.0,     -999.0,     -999.0,9,     -999.0,9,     -999.0,9,     -999.0,9,     -999.0,9,     -999.0,9,     -999.0,9,     -999.0,9
33RO20161119,        P18,      99,          1,         10,      11109,2,20161217,       0806,   -15.5004,  -103.0000,       3749,  1269.5,   3.6052,  34.5574,2,  34.5587,2,     83.5,2,    83.2,2,    90.9,2,    41.4,2,    0.00,2,   2.936,2,   0.0017,2,   0.0008,2,   0.0000,2,  2313.9,2,  2360.4,2,   7.4376,2,    25.00,    0.12,2,  -205.5,2,     2.2,        0,2, -999.00,9,    38.9,2,   46.80,2, -999.00,9,     32.354,2, -999.00,9,    -510,2,          5,      -21.6,2,     -999.0,9,     -999.0,     -999.0,9,     -999.0,     -999.0,9,     -999.0,     -999.0,     -999.0,9,     -999.0,9,     -999.0,9,     -999.0,9,     -999.0,9,     -999.0,9,     -999.0,9,     -999.0,9
33RO20161119,        P18,      99,          1,         11,      11110,2,20161217,       0806,   -15.5004,  -103.0000,       3749,  1137.6,   3.9991,  34.5428,2,  34.5504,3,     74.1,2,    74.7,2,    83.2,2,    42.3,2,    0.00,2,   2.988,2,   0.0019,2,   0.0011,2,   0.0000,2,  2309.3,2,  2353.2,2,   7.4216,2,    25.00,    0.13,2,  -187.5,2,     2.4,    0.022,2, -999.00,9,    40.4,2,   44.60,2, -999.00,9,    33.9901,2, -999.00,9,  -999.0,9,     -999.0,     -999.0,9,     -999.0,9,     -999.0,     -999.0,9,     -999.0,     -999.0,9,     -999.0,     -999.0,     -999.0,9,     -999.0,9,     -999.0,9,     -999.0,9,     -999.0,9,     -999.0,9,     -999.0,9,     -999.0,9
33RO20161119,        P18,      99,          1,         12,      11111,2,20161217,       0806,   -15.5004,  -103.0000,       3749,  1010.7,   4.4908,  34.5262,2,  34.5286,2,     65.3,2,    65.2,2,    72.8,2,    43.0,2,    0.00,2,   3.016,2,   0.0025,2,   0.0028,2,   0.0000,2,  2303.3,2,  2339.4,2,   7.4041,2,    25.00,    0.07,3,  -179.1,2,     2.2,   0.0258,2, -999.00,9,    41.0,2,   47.60,2, -999.00,9,    36.5983,2, -999.00,9,    -492,2,          5,      -21.2,2,     -999.0,9,     -999.0,     -999.0,9,     -999.0,     -999.0,9,     -999.0,     -999.0,     -999.0,9,     -999.0,9,     -999.0,9,     -999.0,9,     -999.0,9,     -999.0,9,     -999.0,9,     -999.0,9
33RO20161119,        P18,      99,          1,         13,      11112,2,20161217,       0806,   -15.5004,  -103.0000,       3749,   889.8,   5.0036,  34.5138,2,  34.5144,2,     58.9,2,    59.1,2,    62.6,2,    43.3,2,    0.00,2,   3.032,2,   0.0049,2,   0.0030,2,   0.0000,2,  2294.9,2,  2327.5,2,   7.3946,2,    25.00,    0.19,2,  -161.9,2,     2.1,   0.0947,2, -999.00,9,    38.5,2,   48.70,2, -999.00,9,    39.2484,2, -999.00,9,  -999.0,9,     -999.0,     -999.0,9,     -999.0,9,     -999.0,     -999.0,9,     -999.0,     -999.0,9,     -999.0,     -999.0,     -999.0,9,     -999.0,9,     -999.0,9,     -999.0,9,     -999.0,9,     -999.0,9,     -999.0,9,     -999.0,9
33RO20161119,        P18,      99,          1,         14,      11113,2,20161217,       0806,   -15.5004,  -103.0000,       3749,   774.5,   5.5388,  34.5043,2,  34.5038,2,     59.3,2,    61.0,2,    52.0,2,    42.4,2,    0.00,2,   2.939,2,   0.0091,2,   0.0053,2,   0.0000,2,  2281.9,2,  2315.5,2,   7.4040,2,    25.00,    0.22,2,  -142.4,2,     2.4,   0.1405,2, -999.00,9,    39.3,2,   48.30,2, -999.00,9,    41.3406,2, -999.00,9,    -481,2,          5,      -21.2,2,     -999.0,9,     -999.0,     -999.0,9,     -999.0,     -999.0,9,     -999.0,     -999.0,     -999.0,9,     -999.0,9,     -999.0,9,     -999.0,9,     -999.0,9,     -999.0,9,     -999.0,9,     -999.0,9
33RO20161119,        P18,      99,          1,         15,      11114,2,20161217,       0806,   -15.5004,  -103.0000,       3749,   658.9,   6.1895,  34.4934,2,  34.4936,2,     50.8,2,    52.1,2,    41.7,2,    42.2,2,    0.00,2,   2.937,2,   0.0786,2,   0.0420,2,   0.0000,2,  2275.5,2,  2306.6,2,   7.3870,2,    25.00,    0.24,2,  -127.0,2,     2.3,   0.1374,2, -999.00,9,    42.5,2,   47.00,2, -999.00,9,     48.476,2, -999.00,9,  -999.0,9,     -999.0,     -999.0,9,     -999.0,9,     -999.0,     -999.0,9,     -999.0,     -999.0,9,     -999.0,     -999.0,     -999.0,9,     -999.0,9,     -999.0,9,     -999.0,9,     -999.0,9,     -999.0,9,     -999.0,9,     -999.0,9
33RO20161119,        P18,      99,          1,         16,      11115,2,20161217,       0806,   -15.5004,  -103.0000,       3749,   584.9,   6.8751,  34.5164,2,  34.5229,2,     46.1,2,    47.3,2,    36.0,2,    41.1,2,    0.00,2,   2.841,2,   0.1569,2,   0.0825,2,   0.0000,2,  2270.6,2,  2304.1,2,   7.3808,2,    25.00,    0.25,2,  -106.4,2,     2.2,   0.1273,2, -999.00,9,    40.8,2,   45.20,2, -999.00,9,    50.1092,2, -999.00,9,    -451,2,          5,      -21.2,2,     -999.0,9,     -999.0,     -999.0,9,     -999.0,     -999.0,9,     -999.0,     -999.0,     -999.0,9,     -999.0,9,     -999.0,9,     -999.0,9,     -999.0,9,     -999.0,9,     -999.0,9,     -999.0,9
33RO20161119,        P18,      99,          1,         17,      11116,2,20161217,       0806,   -15.5004,  -103.0000,       3749,   468.0,   8.1698,  34.5688,2,  34.5710,2,     38.7,2,    38.5,6,    28.7,2,    37.9,2,    0.01,2,   2.688,2,   0.3150,2,   0.1658,2,   0.0653,2,  2264.7,2,  2298.9,6,   7.3890,2,    25.00,    0.10,2,   -76.7,2,     1.8,   0.1284,2, -999.00,9,    42.9,2,   43.20,2, -999.00,9,    54.4326,2, -999.00,9,  -999.0,9,     -999.0,     -999.0,9,     -999.0,9,     -999.0,     -999.0,9,     -999.0,     -999.0,9,     -999.0,     -999.0,     -999.0,9,     -999.0,9,     -999.0,9,     -999.0,9,     -999.0,9,     -999.0,9,     -999.0,9,     -999.0,9
33RO20161119,        P18,      99,          1,         18,      11117,2,20161217,       0806,   -15.5004,  -103.0000,       3749,   365.7,   9.4803,  34.6070,2,  34.6085,2,     17.7,2,    18.5,2,    25.0,2,    34.1,2,    0.01,2,   2.729,2,   0.6866,6,   0.3618,6,   0.1285,6,  2272.7,2,  2293.5,2,   7.3539,6,    25.00,   -0.11,2,   -50.9,2,     2.0,    0.201,2, -999.00,9,    43.5,2,   36.70,2, -999.00,9,    48.9423,2, -999.00,9,    -437,2,          5,      -22.1,2,     -999.0,9,     -999.0,     -999.0,9,     -999.0,     -999.0,9,     -999.0,     -999.0,     -999.0,9,     -999.0,9,     -999.0,9,     -999.0,9,     -999.0,9,     -999.0,9,     -999.0,9,     -999.0,9
33RO20161119,        P18,      99,          1,         19,      11083,2,20161217,       0806,   -15.5004,  -103.0000,       3749,   273.9,  11.5827,  34.6256,2,  34.6271,2,     44.8,2,    45.8,2,    17.5,2,    23.6,2,    0.01,2,   2.408,2,   1.7398,2,   0.9797,2,   0.5642,2,  2241.5,2,  2290.0,2,   7.4372,2,    25.00,   -0.09,2,     9.6,2,     2.0,   1.2383,2, -999.00,9,    46.2,2,   25.50,2, -999.00,9,     34.464,2, -999.00,9,  -999.0,9,     -999.0,     -999.0,9,     -999.0,9,     -999.0,     -999.0,9,     -999.0,     -999.0,9,     -999.0,     -999.0,     -999.0,9,     -999.0,9,     -999.0,9,     -999.0,9,     -999.0,9,     -999.0,9,     -999.0,9,     -999.0,9
33RO20161119,        P18,      99,          1,         20,      11118,2,20161217,       0806,   -15.5004,  -103.0000,       3749,   199.2,  16.5343,  35.1127,2,  35.1109,2,    163.3,2,   157.9,2,     3.1,2,    11.5,2,    0.02,2,   1.164,2,   2.3495,2,   1.4283,2,   1.4586,2,  2143.9,2,  2322.9,2,   7.7876,2,    25.00,    0.61,2,    31.0,2,     2.0,   1.3992,2, -999.00,9,    56.0,2,   15.40,2, -999.00,9,    20.3959,2, -999.00,9,    -341,2,          5,     -999.0,9,     -999.0,9,     -999.0,     -999.0,9,     -999.0,     -999.0,9,     -999.0,     -999.0,     -999.0,9,     -999.0,9,     -999.0,9,       1.27,2,     -999.0,9,     -999.0,9,     -999.0,9,     -999.0,9
33RO20161119,        P18,      99,          1,         21,      11119,2,20161217,       0806,   -15.5004,  -103.0000,       3749,   120.1,  21.7848,  36.0369,2,  36.0343,4,    206.4,2,   205.4,2,     1.0,2,     0.5,2,    0.54,2,   0.489,2,   1.8856,2,   1.1853,2,   1.5392,2,  2092.8,2,  2382.8,2,   7.9914,2,    25.00,    1.09,2,    29.0,2,     2.1,    1.731,2, -999.00,9,    65.7,2,    5.40,2, -999.00,9,     7.3124,2, -999.00,9,  -999.0,9,     -999.0,     -999.0,9,     -999.0,9,     -999.0,     -999.0,9,     -999.0,     -999.0,9,     -999.0,     -999.0,     -999.0,9,     -999.0,9,     -999.0,9,       0.76,2,     -999.0,9,     -999.0,9,     -999.0,9,     -999.0,9
33RO20161119,        P18,      99,          1,         22,      11120,2,20161217,       0806,   -15.5004,  -103.0000,       3749,    60.0,  22.8127,  36.1606,2,  36.1597,2,    217.6,2,   219.5,2,     0.9,2,     0.0,2,    0.01,2,   0.352,2,   1.8310,2,   1.1486,2,   1.5490,2,  2079.3,2,  2388.6,6,   8.0270,2,    25.00,    1.15,2,    28.6,2,     2.4,   1.7612,2, -999.00,9,    73.5,2,    4.40,2, -999.00,9,     6.8713,2, -999.00,9,    -228,2,          5,      -20.3,2,     -999.0,9,     -999.0,     -999.0,9,     -999.0,     -999.0,9,     -999.0,     -999.0,     -999.0,9,     -999.0,9,     -999.0,9,       0.61,2,     -999.0,9,     -999.0,9,     -999.0,9,     -999.0,9
33RO20161119,        P18,      99,          1,         23,      11121,2,20161217,       0806,   -15.5004,  -103.0000,       3749,    26.4,  24.0141,  36.0654,2,  36.0665,2,    213.4,2,   214.6,2,     0.7,2,     0.9,2,    0.03,2,   0.392,2,   1.7289,2,   1.0885,2,   1.4765,2,  2063.5,2,  2376.2,2,   8.0394,2,    25.00,    1.17,2,    22.9,2,     4.2,        0,2, -999.00,9,    72.1,2,    4.30,2, -999.00,9,     6.6247,2, -999.00,9,  -999.0,9,     -999.0,     -999.0,9,     -999.0,9,     -999.0,     -999.0,9,     -999.0,     -999.0,9,     -999.0,     -999.0,     -999.0,9,     -999.0,9,     -999.0,9,       0.67,2,     -999.0,9,     -999.0,9,     -999.0,9,     -999.0,9
33RO20161119,        P18,      99,          1,         24,      11122,2,20161217,       0806,   -15.5004,  -103.0000,       3749,     3.2,  24.0408,  36.0665,2,  36.0750,2,    212.4,2,   213.5,2,     0.7,2,     0.9,2,    0.03,2,   0.379,2,   1.7363,2,   1.0898,2,   1.4635,2,  2062.8,6,  2381.7,2,   8.0387,2,    25.00,    1.14,2,    27.7,2,     2.1,        0,2, -999.00,9,    74.1,2,    6.20,2, -999.00,9,     6.7347,2, -999.00,9,    -228,2,          5,      -20.4,2,     -999.0,9,     -999.0,     -999.0,9,     -999.0,     -999.0,9,     -999.0,     -999.0,     -999.0,9,     -999.0,9,     -999.0,9,       0.67,2,     -999.0,9,     -999.0,9,     -999.0,9,     -999.0,9