BOTTLE,20230606CCHSIOCBG
EXPOCODE,SECT_ID,STNNBR,CASTNO,SAMPNO,BTLNBR,BTLNBR_FLAG_W,DATE,TIME,LATITUDE,LONGITUDE,DEPTH,CTDPRS,CTDTMP,CTDSAL,CTDSAL_FLAG_W,SALNTY,SALNTY_FLAG_W,CTDOXY,CTDOXY_FLAG_W,OXYGEN,OXYGEN_FLAG_W,SILCAT,SILCAT_FLAG_W,NITRAT,NITRAT_FLAG_W,NITRIT,NITRIT_FLAG_W,PHSPHT,PHSPHT_FLAG_W,CFC-11,CFC-11_FLAG_W,CFC-12,CFC-12_FLAG_W,SF6,SF6_FLAG_W,TCARBN,TCARBN_FLAG_W,ALKALI,ALKALI_FLAG_W,PH_SWS,PH_SWS_FLAG_W,PH_TMP,DELC13,DELC13_FLAG_W,DELC14,DELC14_FLAG_W,C14ERR,CCL4,CCL4_FLAG_W,POC,POC_FLAG_W,DOC,DOC_FLAG_W,TDN,TDN_FLAG_W,PON,PON_FLAG_W,N2O,N2O_FLAG_W,D15N_NO3,D15N_NO3_FLAG_W,14C-DOC,14C-DOC_FLAG_W,14C-DOCERR,13C-DOC,13C-DOC_FLAG_W,N2/ARGON_UNSTRIPPED,N2/ARGON_UNSTRIPPED_FLAG_W,N2/ARGON_UNSTRIPPED_ERROR,N2/ARGON,N2/ARGON_FLAG_W,N2/ARGON_ERROR,D15N_N2,D15N_N2_FLAG_W,D15N_N2_ERROR,D15N_NO3_ERROR,D15N_NO2+NO3,D15N_NO2+NO3_FLAG_W,D18O_NO2+NO3,D18O_NO2+NO3_FLAG_W,D18O_NO3,D18O_NO3_FLAG_W,TDP,TDP_FLAG_W,N2O_ALT_1,N2O_ALT_1_FLAG_W,D15N_N2O,D15N_N2O_FLAG_W,D18O_N2O,D18O_N2O_FLAG_W,D15N_ALPHA_N2O,D15N_ALPHA_N2O_FLAG_W
,,,,,,,,,,,METERS,DBAR,ITS-90,PSS-78,,PSS-78,,UMOL/KG,,UMOL/KG,,UMOL/KG,,UMOL/KG,,UMOL/KG,,UMOL/KG,,PMOL/KG,,PMOL/KG,,FMOL/KG,,UMOL/KG,,UMOL/KG,,,,DEG C,/MILLE,,/MILLE,,/MILLE,PMOL/KG,,UG/KG,,UMOL/KG,,UMOL/KG,,UG/KG,,NMOL/KG,,/MILLE,,/MILLE,,/MILLE,/MILLE,,,,,,,,/MILLE,,/MILLE,/MILLE,/MILLE,,/MILLE,,/MILLE,,UMOL/KG,,NMOL/L,,/MILLE,,/MILLE,,/MILLE,
33RO20161119,        P18,      52,          1,          1,      11010,2,20161206,       1432,     0.7500,  -110.0001,       3713,  3752.8,   1.4748,  34.6907,2,  34.6895,2,    150.0,2,   149.2,2,   147.7,6,    36.6,6,    0.01,6,   2.480,6,-999.0000,9,-999.0000,9,-999.0000,9,  -999.0,9,  -999.0,9,-999.0000,9,  -999.00, -999.00,9,  -999.0,9,  -999.0,-999.0000,9, -999.00,9,  -999.0,9, -999.00,9, -999.00,9,     -999.0,9, -999.00,9,  -999.0,9,     -999.0,     -999.0,9,     -999.0,9,     -999.0,     -999.0,9,     -999.0,     -999.0,9,     -999.0,     -999.0,     -999.0,9,     -999.0,9,     -999.0,9,     -999.0,9,     -999.0,9,     -999.0,9,     -999.0,9,     -999.0,9
33RO20161119,        P18,      52,          1,          2,      11101,2,20161206,       1432,     0.7500,  -110.0001,       3713,  3499.7,   1.5696,  34.6841,2,  34.6856,2,    142.4,2,   142.3,2,   146.6,6,    37.0,6,    0.00,6,   2.526,6,-999.0000,9,-999.0000,9,-999.0000,9,  -999.0,9,  -999.0,9,-999.0000,9,  -999.00, -999.00,9,  -999.0,9,  -999.0,-999.0000,9, -999.00,9,  -999.0,9, -999.00,9, -999.00,9,     -999.0,9, -999.00,9,  -999.0,9,     -999.0,     -999.0,9,     -999.0,9,     -999.0,     -999.0,9,     -999.0,     -999.0,9,     -999.0,     -999.0,     -999.0,9,     -999.0,9,     -999.0,9,     -999.0,9,     -999.0,9,     -999.0,9,     -999.0,9,     -999.0,9
33RO20161119,        P18,      52,          1,          3,      11102,2,20161206,       1432,     0.7500,  -110.0001,       3713,  3250.4,   1.6017,  34.6805,2,  34.6794,2,    140.0,2,   138.9,2,   145.2,6,    37.2,6,    0.00,6,   2.540,6,-999.0000,9,-999.0000,9,-999.0000,9,  -999.0,9,  -999.0,9,-999.0000,9,  -999.00, -999.00,9,  -999.0,9,  -999.0,-999.0000,9, -999.00,9,  -999.0,9, -999.00,9, -999.00,9,     -999.0,9, -999.00,9,  -999.0,9,     -999.0,     -999.0,9,     -999.0,9,     -999.0,     -999.0,9,     -999.0,     -999.0,9,     -999.0,     -999.0,     -999.0,9,     -999.0,9,     -999.0,9,     -999.0,9,     -999.0,9,     -999.0,9,     -999.0,9,     -999.0,9
33RO20161119,        P18,      52,          1,          4,      11103,2,20161206,       1432,     0.7500,  -110.0001,       3713,  2951.0,   1.7220,  34.6740,2,  34.6726,2,    131.0,2,   130.5,2,   144.8,6,    37.7,6,    0.00,6,   2.576,6,-999.0000,9,-999.0000,9,-999.0000,9,  -999.0,9,  -999.0,9,-999.0000,9,  -999.00, -999.00,9,  -999.0,9,  -999.0,-999.0000,9, -999.00,9,  -999.0,9, -999.00,9, -999.00,9,     -999.0,9, -999.00,9,  -999.0,9,     -999.0,     -999.0,9,     -999.0,9,     -999.0,     -999.0,9,     -999.0,     -999.0,9,     -999.0,     -999.0,     -999.0,9,     -999.0,9,     -999.0,9,     -999.0,9,     -999.0,9,     -999.0,9,     -999.0,9,     -999.0,9
33RO20161119,        P18,      52,          1,          5,      11104,2,20161206,       1432,     0.7500,  -110.0001,       3713,  2645.2,   1.8475,  34.6664,2,  34.6678,2,    121.7,2,   121.4,2,   144.4,2,    38.3,2,    0.00,2,   2.622,2,-999.0000,9,-999.0000,9,-999.0000,9,  -999.0,9,  -999.0,9,-999.0000,9,  -999.00, -999.00,9,  -999.0,9,  -999.0,-999.0000,9, -999.00,9,  -999.0,9, -999.00,9, -999.00,9,     -999.0,9, -999.00,9,  -999.0,9,     -999.0,     -999.0,9,     -999.0,9,     -999.0,     -999.0,9,     -999.0,     -999.0,9,     -999.0,     -999.0,     -999.0,9,     -999.0,9,     -999.0,9,     -999.0,9,     -999.0,9,     -999.0,9,     -999.0,9,     -999.0,9
33RO20161119,        P18,      52,          1,          6,      11105,2,20161206,       1432,     0.7500,  -110.0001,       3713,  2350.0,   1.9185,  34.6609,2,  34.6708,4,    117.3,2,   117.6,2,   142.8,2,    38.6,2,    0.00,2,   2.653,2,-999.0000,9,-999.0000,9,-999.0000,9,  -999.0,9,  -999.0,9,-999.0000,9,  -999.00, -999.00,9,  -999.0,9,  -999.0,-999.0000,9, -999.00,9,  -999.0,9, -999.00,9, -999.00,9,     -999.0,9, -999.00,9,  -999.0,9,     -999.0,     -999.0,9,     -999.0,9,     -999.0,     -999.0,9,     -999.0,     -999.0,9,     -999.0,     -999.0,     -999.0,9,     -999.0,9,     -999.0,9,     -999.0,9,     -999.0,9,     -999.0,9,     -999.0,9,     -999.0,9
33RO20161119,        P18,      52,          1,          7,      11106,2,20161206,       1432,     0.7500,  -110.0001,       3713,  2067.4,   2.2043,  34.6459,2,  34.6440,2,    106.1,2,   106.9,2,   137.9,2,    39.3,2,    0.00,2,   2.718,2,-999.0000,9,-999.0000,9,-999.0000,9,  -999.0,9,  -999.0,9,-999.0000,9,  -999.00, -999.00,9,  -999.0,9,  -999.0,-999.0000,9, -999.00,9,  -999.0,9, -999.00,9, -999.00,9,     -999.0,9, -999.00,9,  -999.0,9,     -999.0,     -999.0,9,     -999.0,9,     -999.0,     -999.0,9,     -999.0,     -999.0,9,     -999.0,     -999.0,     -999.0,9,     -999.0,9,     -999.0,9,     -999.0,9,     -999.0,9,     -999.0,9,     -999.0,9,     -999.0,9
33RO20161119,        P18,      52,          1,          8,      11107,2,20161206,       1432,     0.7500,  -110.0001,       3713,  1786.9,   2.6419,  34.6239,2,  34.6267,2,     95.7,2,    95.4,2,   128.4,2,    39.9,2,    0.00,2,   2.788,2,-999.0000,9,-999.0000,9,-999.0000,9,  -999.0,9,  -999.0,9,-999.0000,9,  -999.00, -999.00,9,  -999.0,9,  -999.0,-999.0000,9, -999.00,9,  -999.0,9, -999.00,9, -999.00,9,     -999.0,9, -999.00,9,  -999.0,9,     -999.0,     -999.0,9,     -999.0,9,     -999.0,     -999.0,9,     -999.0,     -999.0,9,     -999.0,     -999.0,     -999.0,9,     -999.0,9,     -999.0,9,     -999.0,9,     -999.0,9,     -999.0,9,     -999.0,9,     -999.0,9
33RO20161119,        P18,      52,          1,          9,      11108,2,20161206,       1432,     0.7500,  -110.0001,       3713,  1477.1,   3.1806,  34.5999,2,  34.5982,2,     86.7,2,    86.1,2,   115.3,2,    40.4,2,    0.00,2,   2.845,2,-999.0000,9,-999.0000,9,-999.0000,9,  -999.0,9,  -999.0,9,-999.0000,9,  -999.00, -999.00,9,  -999.0,9,  -999.0,-999.0000,9, -999.00,9,  -999.0,9, -999.00,9, -999.00,9,     -999.0,9, -999.00,9,  -999.0,9,     -999.0,     -999.0,9,     -999.0,9,     -999.0,     -999.0,9,     -999.0,     -999.0,9,     -999.0,     -999.0,     -999.0,9,     -999.0,9,     -999.0,9,     -999.0,9,     -999.0,9,     -999.0,9,     -999.0,9,     -999.0,9
33RO20161119,        P18,      52,          1,         10,      11109,2,20161206,       1432,     0.7500,  -110.0001,       3713,  1285.7,   3.6142,  34.5850,2,  34.5900,3,     80.7,2,    80.1,2,   106.3,2,    40.7,2,    0.00,2,   2.864,2,   0.0041,2,   0.0018,2,   0.0000,2,  -999.0,9,  -999.0,9,-999.0000,9,  -999.00, -999.00,9,  -999.0,9,  -999.0,   0.0252,2, -999.00,9,  -999.0,9, -999.00,9, -999.00,9,     32.237,2, -999.00,9,  -999.0,9,     -999.0,     -999.0,9,     -999.0,9,     -999.0,     -999.0,9,     -999.0,     -999.0,9,     -999.0,     -999.0,     -999.0,9,     -999.0,9,     -999.0,9,     -999.0,9,     -999.0,9,     -999.0,9,     -999.0,9,     -999.0,9
33RO20161119,        P18,      52,          1,         11,      11110,2,20161206,       1432,     0.7500,  -110.0001,       3713,  1151.2,   4.2683,  34.5639,2,  34.5626,2,     77.0,2,    77.3,2,    90.8,2,    40.6,2,    0.00,2,   2.863,2,-999.0000,9,-999.0000,9,-999.0000,9,  -999.0,9,  -999.0,9,   7.4472,2,    25.00, -999.00,9,  -999.0,9,  -999.0,-999.0000,9, -999.00,9,  -999.0,9, -999.00,9, -999.00,9,     -999.0,9, -999.00,9,  -999.0,9,     -999.0,     -999.0,9,     -999.0,9,     -999.0,     -999.0,9,     -999.0,     -999.0,9,     -999.0,     -999.0,     -999.0,9,     -999.0,9,     -999.0,9,     -999.0,9,     -999.0,9,     -999.0,9,     -999.0,9,     -999.0,9
33RO20161119,        P18,      52,          1,         12,      11111,2,20161206,       1432,     0.7500,  -110.0001,       3713,  1031.7,   4.7066,  34.5562,2,  34.5555,2,     74.3,2,    73.9,2,    80.8,2,    40.5,2,    0.00,2,   2.845,2,-999.0000,9,-999.0000,9,-999.0000,9,  -999.0,9,  -999.0,9,   7.4439,2,    25.00, -999.00,9,  -999.0,9,  -999.0,-999.0000,9, -999.00,9,  -999.0,9, -999.00,9, -999.00,9,     -999.0,9, -999.00,9,  -999.0,9,     -999.0,     -999.0,9,     -999.0,9,     -999.0,     -999.0,9,     -999.0,     -999.0,9,     -999.0,     -999.0,     -999.0,9,     -999.0,9,     -999.0,9,     -999.0,9,     -999.0,9,     -999.0,9,     -999.0,9,     -999.0,9
33RO20161119,        P18,      52,          1,         13,      11112,2,20161206,       1432,     0.7500,  -110.0001,       3713,   908.7,   5.1980,  34.5502,2,  34.5488,2,     70.1,2,    69.4,2,    72.3,2,    40.4,2,    0.00,2,   2.830,2,   0.0211,2,   0.0114,2,   0.0000,2,  2294.9,2,  2338.3,2,   7.4391,2,    25.00, -999.00,9,  -999.0,9,  -999.0,    0.064,2, -999.00,9,  -999.0,9, -999.00,9, -999.00,9,    36.5249,2, -999.00,9,  -999.0,9,     -999.0,     -999.0,9,     -999.0,9,     -999.0,     -999.0,9,     -999.0,     -999.0,9,     -999.0,     -999.0,     -999.0,9,     -999.0,9,     -999.0,9,     -999.0,9,     -999.0,9,     -999.0,9,     -999.0,9,     -999.0,9
33RO20161119,        P18,      52,          1,         14,      11113,2,20161206,       1432,     0.7500,  -110.0001,       3713,   785.2,   5.7153,  34.5504,2,  34.5492,2,     69.4,2,    66.2,2,    63.4,2,    40.0,2,    0.00,2,   2.802,2,-999.0000,9,-999.0000,9,-999.0000,9,  2285.9,2,  2328.7,2,   7.4390,2,    25.00, -999.00,9,  -999.0,9,  -999.0,-999.0000,9, -999.00,9,  -999.0,9, -999.00,9, -999.00,9,     -999.0,9, -999.00,9,  -999.0,9,     -999.0,     -999.0,9,     -999.0,9,     -999.0,     -999.0,9,     -999.0,     -999.0,9,     -999.0,     -999.0,     -999.0,9,     -999.0,9,     -999.0,9,     -999.0,9,     -999.0,9,     -999.0,9,     -999.0,9,     -999.0,9
33RO20161119,        P18,      52,          1,         15,      11114,2,20161206,       1432,     0.7500,  -110.0001,       3713,   674.5,   6.5034,  34.5612,2,  34.5602,2,     58.2,2,    61.7,2,    52.5,2,    39.4,2,    0.00,2,   2.741,2,-999.0000,9,-999.0000,9,-999.0000,9,  2274.1,2,  2316.1,2,   7.4394,2,    25.00, -999.00,9,  -999.0,9,  -999.0,-999.0000,9, -999.00,9,  -999.0,9, -999.00,9, -999.00,9,     -999.0,9, -999.00,9,  -999.0,9,     -999.0,     -999.0,9,     -999.0,9,     -999.0,     -999.0,9,     -999.0,     -999.0,9,     -999.0,     -999.0,     -999.0,9,     -999.0,9,     -999.0,9,     -999.0,9,     -999.0,9,     -999.0,9,     -999.0,9,     -999.0,9
33RO20161119,        P18,      52,          1,         16,      11115,2,20161206,       1432,     0.7500,  -110.0001,       3713,   564.6,   7.7158,  34.6066,2,  34.6052,2,     40.0,2,    40.2,2,    43.6,2,    39.2,2,    0.01,2,   2.716,2,   0.1785,2,   0.0986,2,   0.0571,2,  2273.6,2,  2307.9,2,   7.4124,2,    25.00, -999.00,9,  -999.0,9,  -999.0,   0.0543,2, -999.00,9,  -999.0,9, -999.00,9, -999.00,9,    49.1324,2, -999.00,9,  -999.0,9,     -999.0,     -999.0,9,     -999.0,9,     -999.0,     -999.0,9,     -999.0,     -999.0,9,     -999.0,     -999.0,     -999.0,9,     -999.0,9,     -999.0,9,     -999.0,9,     -999.0,9,     -999.0,9,     -999.0,9,     -999.0,9
33RO20161119,        P18,      52,          1,         17,      11116,2,20161206,       1432,     0.7500,  -110.0001,       3713,   469.6,   8.5046,  34.6465,2,  34.6472,2,     22.0,2,    22.1,6,    40.2,2,    39.3,2,    0.00,2,   2.716,2,-999.0000,9,-999.0000,9,-999.0000,9,  2275.8,2,  2302.5,2,   7.3888,2,    25.00, -999.00,9,  -999.0,9,  -999.0,-999.0000,9, -999.00,9,  -999.0,9, -999.00,9, -999.00,9,     -999.0,9, -999.00,9,  -999.0,9,     -999.0,     -999.0,9,     -999.0,9,     -999.0,     -999.0,9,     -999.0,     -999.0,9,     -999.0,     -999.0,     -999.0,9,     -999.0,9,     -999.0,9,     -999.0,9,     -999.0,9,     -999.0,9,     -999.0,9,     -999.0,9
33RO20161119,        P18,      52,          1,         18,      11117,2,20161206,       1432,     0.7500,  -110.0001,       3713,   405.1,  10.0623,  34.7321,2,  34.7307,2,     10.5,2,    10.9,6,    34.2,2,    36.8,2,    0.01,2,   2.600,2,   0.4977,2,   0.2743,2,   0.0782,2,  2272.2,2,  2302.1,2,   7.4009,6,    25.00, -999.00,9,  -999.0,9,  -999.0,   0.1477,2, -999.00,9,  -999.0,9, -999.00,9, -999.00,9,    65.3958,2, -999.00,9,  -999.0,9,     -999.0,     -999.0,9,     -999.0,9,     -999.0,     -999.0,9,     -999.0,     -999.0,9,     -999.0,     -999.0,     -999.0,9,     -999.0,9,     -999.0,9,     -999.0,9,     -999.0,9,     -999.0,9,     -999.0,9,     -999.0,9
33RO20161119,        P18,      52,          1,         19,      11083,2,20161206,       1432,     0.7500,  -110.0001,       3713,   283.9,  11.5002,  34.8195,2,  34.8176,2,     19.4,2,    19.9,2,    27.6,2,    33.5,2,    0.01,2,   2.364,2,-999.0000,9,-999.0000,9,-999.0000,9,  2255.2,2,  2300.9,6,   7.4419,2,    25.00, -999.00,9,  -999.0,9,  -999.0,-999.0000,9, -999.00,9,  -999.0,9, -999.00,9, -999.00,9,     -999.0,9, -999.00,9,  -999.0,9,     -999.0,     -999.0,9,     -999.0,9,     -999.0,     -999.0,9,     -999.0,     -999.0,9,     -999.0,     -999.0,     -999.0,9,     -999.0,9,     -999.0,9,     -999.0,9,     -999.0,9,     -999.0,9,     -999.0,9,     -999.0,9
33RO20161119,        P18,      52,          1,         20,      11118,2,20161206,       1432,     0.7500,  -110.0001,       3713,   204.5,  12.4011,  34.8692,2,  34.8679,2,     44.5,2,    46.7,2,    22.8,2,    29.7,2,    0.01,2,   2.080,2,   1.2544,6,   0.6953,6,   0.3379,6,  2226.7,2,  2300.4,2,   7.5264,2,    25.00, -999.00,9,  -999.0,9,  -999.0,   0.1567,2, -999.00,9,  -999.0,9, -999.00,9, -999.00,9,    52.8603,2, -999.00,9,  -999.0,9,     -999.0,     -999.0,9,     -999.0,9,     -999.0,     -999.0,9,     -999.0,     -999.0,9,     -999.0,     -999.0,     -999.0,9,     -999.0,9,     -999.0,9,     -999.0,9,     -999.0,9,     -999.0,9,     -999.0,9,     -999.0,9
33RO20161119,        P18,      52,          1,         21,      11119,2,20161206,       1432,     0.7500,  -110.0001,       3713,   140.9,  13.1509,  34.9040,2,  34.9049,2,     71.1,2,    68.0,2,    19.4,2,    26.3,2,    0.01,2,   1.862,2,   1.4923,2,   0.8401,2,   0.4602,2,  2203.9,2,  2302.4,2,   7.5925,2,    25.00, -999.00,9,  -999.0,9,  -999.0,    1.632,2, -999.00,9,  -999.0,9, -999.00,9, -999.00,9,    43.4814,2, -999.00,9,  -999.0,9,     -999.0,     -999.0,9,     -999.0,9,     -999.0,     -999.0,9,     -999.0,     -999.0,9,     -999.0,     -999.0,     -999.0,9,     -999.0,9,     -999.0,9,     -999.0,9,     -999.0,9,     -999.0,9,     -999.0,9,     -999.0,9
33RO20161119,        P18,      52,          1,         22,      11120,2,20161206,       1432,     0.7500,  -110.0001,       3713,    67.4,  14.9134,  34.9731,2,  34.9717,2,     66.9,2,    65.6,2,    16.0,2,    24.7,2,    0.09,2,   1.769,2,-999.0000,9,-999.0000,9,-999.0000,9,  2191.9,2,  2300.7,2,   7.6218,2,    25.00, -999.00,9,  -999.0,9,  -999.0,-999.0000,9, -999.00,9,  -999.0,9, -999.00,9, -999.00,9,     -999.0,9, -999.00,9,  -999.0,9,     -999.0,     -999.0,9,     -999.0,9,     -999.0,     -999.0,9,     -999.0,     -999.0,9,     -999.0,     -999.0,     -999.0,9,     -999.0,9,     -999.0,9,     -999.0,9,     -999.0,9,     -999.0,9,     -999.0,9,     -999.0,9
33RO20161119,        P18,      52,          1,         23,      11121,2,20161206,       1432,     0.7500,  -110.0001,       3713,    29.1,  18.9723,  34.8052,2,  34.8326,2,    137.9,2,   125.6,3,     9.5,2,    15.7,2,    0.57,2,   1.272,2,-999.0000,9,-999.0000,9,-999.0000,9,  2129.4,2,  2294.6,2,   7.7721,2,    25.00, -999.00,9,  -999.0,9,  -999.0,-999.0000,9, -999.00,9,  -999.0,9, -999.00,9, -999.00,9,     -999.0,9, -999.00,9,  -999.0,9,     -999.0,     -999.0,9,     -999.0,9,     -999.0,     -999.0,9,     -999.0,     -999.0,9,     -999.0,     -999.0,     -999.0,9,     -999.0,9,     -999.0,9,     -999.0,9,     -999.0,9,     -999.0,9,     -999.0,9,     -999.0,9
33RO20161119,        P18,      52,          1,         24,      11122,2,20161206,       1432,     0.7500,  -110.0001,       3713,     2.5,  22.0609,  34.8365,2,  34.8369,2,    196.2,2,   204.5,2,     7.1,2,    10.4,2,    0.22,2,   0.891,2,   1.8994,2,   1.1486,2,   1.3959,2,  2079.9,6,  2295.9,2,   7.8862,2,    25.00, -999.00,9,  -999.0,9,  -999.0,        0,2, -999.00,9,  -999.0,9, -999.00,9, -999.00,9,    11.5617,2, -999.00,9,  -999.0,9,     -999.0,     -999.0,9,     -999.0,9,     -999.0,     -999.0,9,     -999.0,     -999.0,9,     -999.0,     -999.0,     -999.0,9,     -999.0,9,     -999.0,9,     -999.0,9,     -999.0,9,     -999.0,9,     -999.0,9,     -999.0,9