BOTTLE,20230606CCHSIOCBG
EXPOCODE,SECT_ID,STNNBR,CASTNO,SAMPNO,BTLNBR,BTLNBR_FLAG_W,DATE,TIME,LATITUDE,LONGITUDE,DEPTH,CTDPRS,CTDTMP,CTDSAL,CTDSAL_FLAG_W,SALNTY,SALNTY_FLAG_W,CTDOXY,CTDOXY_FLAG_W,OXYGEN,OXYGEN_FLAG_W,SILCAT,SILCAT_FLAG_W,NITRAT,NITRAT_FLAG_W,NITRIT,NITRIT_FLAG_W,PHSPHT,PHSPHT_FLAG_W,CFC-11,CFC-11_FLAG_W,CFC-12,CFC-12_FLAG_W,SF6,SF6_FLAG_W,TCARBN,TCARBN_FLAG_W,ALKALI,ALKALI_FLAG_W,PH_SWS,PH_SWS_FLAG_W,PH_TMP,DELC13,DELC13_FLAG_W,DELC14,DELC14_FLAG_W,C14ERR,CCL4,CCL4_FLAG_W,POC,POC_FLAG_W,DOC,DOC_FLAG_W,TDN,TDN_FLAG_W,PON,PON_FLAG_W,N2O,N2O_FLAG_W,D15N_NO3,D15N_NO3_FLAG_W,14C-DOC,14C-DOC_FLAG_W,14C-DOCERR,13C-DOC,13C-DOC_FLAG_W,N2/ARGON_UNSTRIPPED,N2/ARGON_UNSTRIPPED_FLAG_W,N2/ARGON_UNSTRIPPED_ERROR,N2/ARGON,N2/ARGON_FLAG_W,N2/ARGON_ERROR,D15N_N2,D15N_N2_FLAG_W,D15N_N2_ERROR,D15N_NO3_ERROR,D15N_NO2+NO3,D15N_NO2+NO3_FLAG_W,D18O_NO2+NO3,D18O_NO2+NO3_FLAG_W,D18O_NO3,D18O_NO3_FLAG_W,TDP,TDP_FLAG_W,N2O_ALT_1,N2O_ALT_1_FLAG_W,D15N_N2O,D15N_N2O_FLAG_W,D18O_N2O,D18O_N2O_FLAG_W,D15N_ALPHA_N2O,D15N_ALPHA_N2O_FLAG_W
,,,,,,,,,,,METERS,DBAR,ITS-90,PSS-78,,PSS-78,,UMOL/KG,,UMOL/KG,,UMOL/KG,,UMOL/KG,,UMOL/KG,,UMOL/KG,,PMOL/KG,,PMOL/KG,,FMOL/KG,,UMOL/KG,,UMOL/KG,,,,DEG C,/MILLE,,/MILLE,,/MILLE,PMOL/KG,,UG/KG,,UMOL/KG,,UMOL/KG,,UG/KG,,NMOL/KG,,/MILLE,,/MILLE,,/MILLE,/MILLE,,,,,,,,/MILLE,,/MILLE,/MILLE,/MILLE,,/MILLE,,/MILLE,,UMOL/KG,,NMOL/L,,/MILLE,,/MILLE,,/MILLE,
33RO20161119,        P18,     127,          1,          1,      11010,2,20170103,       2155,   -29.5009,  -102.9991,       3470,  3521.2,   1.8212,  34.6879,2,  34.7101,4,    166.3,2,   165.7,2,   116.8,6,    34.4,6,    0.01,6,   2.393,6,-999.0000,9,-999.0000,9,-999.0000,9,  2297.9,6,  2393.0,2,   7.5819,2,    25.00,    0.18,2,  -209.4,2,     1.9,-999.0000,9, -999.00,9,    36.7,2,   37.00,2, -999.00,9,     -999.0,9, -999.00,9,  -999.0,9,     -999.0,     -999.0,9,     -999.0,9,     -999.0,     -999.0,9,     -999.0,     -999.0,9,     -999.0,     -999.0,     -999.0,9,     -999.0,9,     -999.0,9,     -999.0,9,     -999.0,9,     -999.0,9,     -999.0,9,     -999.0,9
33RO20161119,        P18,     127,          1,          2,      11101,2,20170103,       2155,   -29.5009,  -102.9991,       3470,  3314.7,   1.8230,  34.6847,2,  34.6901,4,    165.3,2,   164.4,2,   117.2,6,    34.5,6,    0.01,6,   2.395,6,-999.0000,9,-999.0000,9,-999.0000,9,  2297.4,2,  2391.3,6,   7.5791,2,    25.00,    0.17,2,  -205.6,2,     1.9,-999.0000,9, -999.00,9,    38.0,2,   39.50,2, -999.00,9,     -999.0,9, -999.00,9,  -999.0,9,     -999.0,     -999.0,9,     -999.0,9,     -999.0,     -999.0,9,     -999.0,     -999.0,9,     -999.0,     -999.0,     -999.0,9,     -999.0,9,     -999.0,9,     -999.0,9,     -999.0,9,     -999.0,9,     -999.0,9,     -999.0,9
33RO20161119,        P18,     127,          1,          3,      11102,2,20170103,       2155,   -29.5009,  -102.9991,       3470,  3136.0,   1.8235,  34.6815,2,  34.6806,2,    164.0,2,   163.6,2,   117.5,6,    34.6,6,    0.01,6,   2.415,6,-999.0000,9,-999.0000,9,-999.0000,9,  2296.0,2,  2389.6,2,   7.5804,6,    25.00,    0.16,2,  -211.8,2,     1.9,-999.0000,9, -999.00,9,    38.0,2,   37.20,2, -999.00,9,     -999.0,9, -999.00,9,  -999.0,9,     -999.0,     -999.0,9,     -999.0,9,     -999.0,     -999.0,9,     -999.0,     -999.0,9,     -999.0,     -999.0,     -999.0,9,     -999.0,9,     -999.0,9,     -999.0,9,     -999.0,9,     -999.0,9,     -999.0,9,     -999.0,9
33RO20161119,        P18,     127,          1,          4,      11103,2,20170103,       2155,   -29.5009,  -102.9991,       3470,  2865.3,   1.8216,  34.6755,2,  34.6785,2,    162.4,2,   162.0,2,   118.1,6,    34.8,6,    0.00,6,   2.419,6,-999.0000,9,-999.0000,9,-999.0000,9,  2297.7,2,  2389.8,2,   7.5780,2,    25.00,    0.16,2,  -211.1,2,     2.0,-999.0000,9, -999.00,9,    38.7,2,   37.40,2, -999.00,9,     -999.0,9, -999.00,9,  -999.0,9,     -999.0,     -999.0,9,     -999.0,9,     -999.0,     -999.0,9,     -999.0,     -999.0,9,     -999.0,     -999.0,     -999.0,9,     -999.0,9,     -999.0,9,     -999.0,9,     -999.0,9,     -999.0,9,     -999.0,9,     -999.0,9
33RO20161119,        P18,     127,          1,          5,      11104,2,20170103,       2155,   -29.5009,  -102.9991,       3470,  2590.3,   1.8312,  34.6691,2,  34.6679,2,    160.3,2,   160.0,2,   118.2,2,    35.0,2,    0.01,2,   2.423,2,-999.0000,9,-999.0000,9,-999.0000,9,  2299.3,2,  2391.6,2,   7.5759,2,    25.00,    0.19,2,  -215.2,2,     2.0,-999.0000,9, -999.00,9,    37.8,2,   38.80,2, -999.00,9,     -999.0,9, -999.00,9,  -999.0,9,     -999.0,     -999.0,9,     -999.0,9,     -999.0,     -999.0,9,     -999.0,     -999.0,9,     -999.0,     -999.0,     -999.0,9,     -999.0,9,     -999.0,9,     -999.0,9,     -999.0,9,     -999.0,9,     -999.0,9,     -999.0,9
33RO20161119,        P18,     127,          1,          6,      11105,2,20170103,       2155,   -29.5009,  -102.9991,       3470,  2310.1,   1.8523,  34.6639,2,-999.0000,9,    158.5,2,   158.7,2,   117.1,2,    35.0,2,    0.01,2,   2.434,2,-999.0000,9,-999.0000,9,-999.0000,9,  2298.4,2,  2389.9,2,   7.5715,2,    25.00,    0.18,2,  -211.4,2,     1.8,-999.0000,9, -999.00,9,    35.5,2,   38.70,2, -999.00,9,     -999.0,9, -999.00,9,  -999.0,9,     -999.0,     -999.0,9,     -999.0,9,     -999.0,     -999.0,9,     -999.0,     -999.0,9,     -999.0,     -999.0,     -999.0,9,     -999.0,9,     -999.0,9,     -999.0,9,     -999.0,9,     -999.0,9,     -999.0,9,     -999.0,9
33RO20161119,        P18,     127,          1,          7,      11106,2,20170103,       2155,   -29.5009,  -102.9991,       3470,  2030.7,   1.9949,  34.6481,2,  34.6509,2,    157.2,2,   157.2,2,   111.1,2,    35.1,2,    0.00,2,   2.441,2,-999.0000,9,-999.0000,9,-999.0000,9,  2293.9,2,  2383.2,2,   7.5656,2,    25.00,    0.22,2,  -206.1,2,     2.6,-999.0000,9, -999.00,9,    35.1,2,   38.00,2, -999.00,9,     -999.0,9, -999.00,9,  -999.0,9,     -999.0,     -999.0,9,     -999.0,9,     -999.0,     -999.0,9,     -999.0,     -999.0,9,     -999.0,     -999.0,     -999.0,9,     -999.0,9,     -999.0,9,     -999.0,9,     -999.0,9,     -999.0,9,     -999.0,9,     -999.0,9
33RO20161119,        P18,     127,          1,          8,      11107,2,20170103,       2155,   -29.5009,  -102.9991,       3470,  1750.1,   2.2965,  34.6114,2,  34.6159,3,    155.2,2,   155.3,2,    98.5,2,    35.3,2,    0.01,2,   2.450,2,   0.0102,6,   0.0055,6,   0.0000,6,  2284.4,2,  2368.0,2,   7.5545,2,    25.00,    0.20,2,  -196.6,2,     1.8,   1.2279,2, -999.00,9,    36.2,2,   39.80,2, -999.00,9,    22.1901,2, -999.00,9,  -999.0,9,     -999.0,     -999.0,9,     -999.0,9,     -999.0,     -999.0,9,     -999.0,     -999.0,9,     -999.0,     -999.0,     -999.0,9,     -999.0,9,     -999.0,9,     -999.0,9,     -999.0,9,     -999.0,9,     -999.0,9,     -999.0,9
33RO20161119,        P18,     127,          1,          9,      11108,2,20170103,       2155,   -29.5009,  -102.9991,       3470,  1435.1,   2.8565,  34.5529,2,  34.5635,4,    136.0,2,   135.8,2,    87.5,2,    37.2,2,    0.01,2,   2.586,2,-999.0000,9,-999.0000,9,-999.0000,9,  2284.0,2,  2353.9,2,   7.5209,2,    25.00,    0.23,2,  -197.0,2,     3.1,-999.0000,9, -999.00,9,    36.2,2,   40.20,2, -999.00,9,     -999.0,9, -999.00,9,  -999.0,9,     -999.0,     -999.0,9,     -999.0,9,     -999.0,     -999.0,9,     -999.0,     -999.0,9,     -999.0,     -999.0,     -999.0,9,     -999.0,9,     -999.0,9,     -999.0,9,     -999.0,9,     -999.0,9,     -999.0,9,     -999.0,9
33RO20161119,        P18,     127,          1,         10,      11109,2,20170103,       2155,   -29.5009,  -102.9991,       3470,  1265.4,   3.2800,  34.5174,2,  34.5167,2,    127.3,2,   126.8,2,    79.1,2,    37.8,2,    0.01,2,   2.653,2,   0.0068,2,   0.0047,2,   0.0000,2,  2281.2,2,  2344.5,6,   7.5047,2,    25.00,    0.26,2,  -188.3,2,     2.3,   0.9807,2, -999.00,9,    36.6,2,   43.10,2, -999.00,9,    28.0848,2, -999.00,9,  -999.0,9,     -999.0,     -999.0,9,     -999.0,9,     -999.0,     -999.0,9,     -999.0,     -999.0,9,     -999.0,     -999.0,     -999.0,9,     -999.0,9,     -999.0,9,     -999.0,9,     -999.0,9,     -999.0,9,     -999.0,9,     -999.0,9
33RO20161119,        P18,     127,          1,         11,      11110,2,20170103,       2155,   -29.5009,  -102.9991,       3470,  1129.6,   3.5955,  34.4715,2,  34.4708,2,    127.0,2,   126.5,6,    68.1,2,    38.0,2,    0.01,2,   2.656,2,-999.0000,9,-999.0000,9,-999.0000,9,  2271.7,2,  2332.5,2,   7.4986,6,    25.00,    0.30,2,  -171.4,2,     2.4,-999.0000,9, -999.00,9,    37.2,2,   42.50,2, -999.00,9,     -999.0,9, -999.00,9,  -999.0,9,     -999.0,     -999.0,9,     -999.0,9,     -999.0,     -999.0,9,     -999.0,     -999.0,9,     -999.0,     -999.0,     -999.0,9,     -999.0,9,     -999.0,9,     -999.0,9,     -999.0,9,     -999.0,9,     -999.0,9,     -999.0,9
33RO20161119,        P18,     127,          1,         12,      11111,2,20170103,       2155,   -29.5009,  -102.9991,       3470,  1011.0,   3.8434,  34.3999,2,  34.3976,2,    146.4,2,   145.2,2,    51.9,2,    36.8,2,    0.01,2,   2.540,2,   0.1716,2,   0.0863,2,   0.0000,2,  2246.1,2,  2313.9,2,   7.5180,2,    25.00,    0.46,2,  -136.6,2,     2.9,   1.8901,2, -999.00,9,    38.7,2,   42.90,2, -999.00,9,    27.6895,2, -999.00,9,  -999.0,9,     -999.0,     -999.0,9,     -999.0,9,     -999.0,     -999.0,9,     -999.0,     -999.0,9,     -999.0,     -999.0,     -999.0,9,     -999.0,9,     -999.0,9,     -999.0,9,     -999.0,9,     -999.0,9,     -999.0,9,     -999.0,9
33RO20161119,        P18,     127,          1,         13,      11112,2,20170103,       2155,   -29.5009,  -102.9991,       3470,   889.7,   4.2088,  34.3466,2,  34.3521,2,    164.4,2,   164.1,6,    39.0,2,    34.8,2,    0.00,2,   2.416,2,-999.0000,9,-999.0000,9,-999.0000,9,  2225.6,2,  2301.3,2,   7.5441,2,    25.00,    0.60,2,  -110.9,2,     2.8,-999.0000,9, -999.00,9,    41.1,2,   37.30,2, -999.00,9,     -999.0,9, -999.00,9,  -999.0,9,     -999.0,     -999.0,9,     -999.0,9,     -999.0,     -999.0,9,     -999.0,     -999.0,9,     -999.0,     -999.0,     -999.0,9,     -999.0,9,     -999.0,9,     -999.0,9,     -999.0,9,     -999.0,9,     -999.0,9,     -999.0,9
33RO20161119,        P18,     127,          1,         14,      11113,2,20170103,       2155,   -29.5009,  -102.9991,       3470,   770.2,   4.5762,  34.3157,2,  34.3156,2,    177.8,2,   178.0,2,    31.1,2,    33.2,2,    0.01,2,   2.290,2,   1.0960,2,   0.5305,2,   0.1724,2,  2208.9,2,  2295.3,2,   7.5702,2,    25.00,    0.70,2,   -82.9,2,     2.4,   1.9252,2, -999.00,9,    40.8,2,   36.60,2, -999.00,9,    23.9298,2, -999.00,9,  -999.0,9,     -999.0,     -999.0,9,     -999.0,9,     -999.0,     -999.0,9,     -999.0,     -999.0,9,     -999.0,     -999.0,     -999.0,9,     -999.0,9,     -999.0,9,     -999.0,9,     -999.0,9,     -999.0,9,     -999.0,9,     -999.0,9
33RO20161119,        P18,     127,          1,         15,      11114,2,20170103,       2155,   -29.5009,  -102.9991,       3470,   660.2,   5.3234,  34.3040,2,  34.3064,2,    183.4,2,   185.2,2,    22.8,2,    31.3,2,    0.01,2,   2.167,2,-999.0000,9,-999.0000,9,-999.0000,9,  2196.1,2,  2283.9,2,   7.5860,2,    25.00,    0.79,2,   -50.1,2,     2.4,-999.0000,9, -999.00,9,    43.4,2,   36.60,2, -999.00,9,     -999.0,9, -999.00,9,  -999.0,9,     -999.0,     -999.0,9,     -999.0,9,     -999.0,     -999.0,9,     -999.0,     -999.0,9,     -999.0,     -999.0,     -999.0,9,     -999.0,9,     -999.0,9,     -999.0,9,     -999.0,9,     -999.0,9,     -999.0,9,     -999.0,9
33RO20161119,        P18,     127,          1,         16,      11115,2,20170103,       2155,   -29.5009,  -102.9991,       3470,   550.9,   6.7940,  34.3854,2,  34.3857,2,    132.4,2,   131.5,2,    19.0,2,    32.7,2,    0.01,2,   2.319,2,   2.2103,3,   1.1179,3,   0.5121,3,  2216.5,6,  2280.8,3,   7.5043,3,    25.00,    0.50,3,   -40.3,2,     2.6,  -0.0069,2, -999.00,9,    42.2,2,   36.30,2, -999.00,9,    37.5006,2, -999.00,9,  -999.0,9,     -999.0,     -999.0,9,     -999.0,9,     -999.0,     -999.0,9,     -999.0,     -999.0,9,     -999.0,     -999.0,     -999.0,9,     -999.0,9,     -999.0,9,     -999.0,9,     -999.0,9,     -999.0,9,     -999.0,9,     -999.0,9
33RO20161119,        P18,     127,          1,         17,      11116,2,20170103,       2155,   -29.5009,  -102.9991,       3470,   455.3,   7.9022,  34.3606,2,-999.0000,9,    138.9,2,   137.6,2,    13.3,2,    28.5,2,    0.01,2,   2.137,2,-999.0000,9,-999.0000,9,-999.0000,9,  2205.1,2,  2273.4,3,   7.5291,3,    25.00,    0.55,3,    -3.2,2,     2.7,-999.0000,9, -999.00,9,    44.4,2,   32.20,2, -999.00,9,     -999.0,9, -999.00,9,  -999.0,9,     -999.0,     -999.0,9,     -999.0,9,     -999.0,     -999.0,9,     -999.0,     -999.0,9,     -999.0,     -999.0,     -999.0,9,     -999.0,9,     -999.0,9,     -999.0,9,     -999.0,9,     -999.0,9,     -999.0,9,     -999.0,9
33RO20161119,        P18,     127,          1,         18,      11117,2,20170103,       2155,   -29.5009,  -102.9991,       3470,   355.0,   9.0587,  34.2764,2,  34.2778,2,    199.9,2,   196.2,2,     5.3,2,    20.4,2,    0.01,2,   1.557,2,   3.4363,2,   1.8850,2,   1.3381,2,  2151.7,2,  2266.8,2,   7.6700,2,    25.00,    0.91,2,    20.2,2,     3.4,    0.009,2, -999.00,9,    45.3,2,   22.10,2, -999.00,9,     25.304,2, -999.00,9,  -999.0,9,     -999.0,     -999.0,9,     -999.0,9,     -999.0,     -999.0,9,     -999.0,     -999.0,9,     -999.0,     -999.0,     -999.0,9,     -999.0,9,     -999.0,9,     -999.0,9,     -999.0,9,     -999.0,9,     -999.0,9,     -999.0,9
33RO20161119,        P18,     127,          1,         19,      11083,2,20170103,       2155,   -29.5009,  -102.9991,       3470,   275.4,  11.7073,  34.4289,2,  34.4365,2,    216.1,2,   215.1,2,     1.3,2,    11.6,2,    0.01,2,   0.939,2,-999.0000,9,-999.0000,9,-999.0000,9,  2110.1,2,  2270.8,2,   7.7852,2,    25.00, -999.00,9,  -999.0,9,  -999.0,-999.0000,9, -999.00,9,    45.8,2,   14.10,2, -999.00,9,     -999.0,9, -999.00,9,  -999.0,9,     -999.0,     -999.0,9,     -999.0,9,     -999.0,     -999.0,9,     -999.0,     -999.0,9,     -999.0,     -999.0,     -999.0,9,     -999.0,9,     -999.0,9,     -999.0,9,     -999.0,9,     -999.0,9,     -999.0,9,     -999.0,9
33RO20161119,        P18,     127,          1,         20,      11118,2,20170103,       2155,   -29.5009,  -102.9991,       3470,   200.6,  14.9069,  34.7355,2,  34.7349,2,    217.2,2,   215.8,2,     0.6,2,     4.4,2,    0.06,2,   0.508,2,   2.6785,2,   1.5973,2,   1.6911,2,  2085.5,2,  2285.3,2,   7.8677,2,    25.00,    0.89,2,    48.3,2,     2.5,   0.0186,2, -999.00,9,    50.8,2,    7.60,2, -999.00,9,    10.7108,2, -999.00,9,  -999.0,9,     -999.0,     -999.0,9,     -999.0,9,     -999.0,     -999.0,9,     -999.0,     -999.0,9,     -999.0,     -999.0,     -999.0,9,     -999.0,9,     -999.0,9,       0.63,2,     -999.0,9,     -999.0,9,     -999.0,9,     -999.0,9
33RO20161119,        P18,     127,          1,         21,      11119,2,20170103,       2155,   -29.5009,  -102.9991,       3470,   135.0,  17.2901,  34.9461,2,  34.9472,2,    241.1,2,   239.4,2,     0.4,2,     0.0,2,    0.01,2,   0.151,2,-999.0000,9,-999.0000,9,-999.0000,9,  2051.0,2,  2297.0,2,   7.9575,2,    25.00,    1.00,2,    43.1,2,     3.1,-999.0000,9, -999.00,9,    61.6,2,    3.70,2, -999.00,9,     -999.0,9, -999.00,9,  -999.0,9,     -999.0,     -999.0,9,     -999.0,9,     -999.0,     -999.0,9,     -999.0,     -999.0,9,     -999.0,     -999.0,     -999.0,9,     -999.0,9,     -999.0,9,       0.31,2,     -999.0,9,     -999.0,9,     -999.0,9,     -999.0,9
33RO20161119,        P18,     127,          1,         22,      11120,2,20170103,       2155,   -29.5009,  -102.9991,       3470,    70.3,  18.5493,  35.0381,2,  35.0390,2,    242.2,2,   241.2,2,     0.4,2,     0.0,2,    0.01,2,   0.141,2,   2.2884,2,   1.3920,2,   1.7713,2,  2048.0,2,  2304.4,6,   7.9667,2,    25.00,    1.03,2,    42.4,2,     2.6,  -0.0028,2, -999.00,9,    67.5,2,    3.50,2, -999.00,9,     7.7534,2, -999.00,9,  -999.0,9,     -999.0,     -999.0,9,     -999.0,9,     -999.0,     -999.0,9,     -999.0,     -999.0,9,     -999.0,     -999.0,     -999.0,9,     -999.0,9,     -999.0,9,       0.37,2,     -999.0,9,     -999.0,9,     -999.0,9,     -999.0,9
33RO20161119,        P18,     127,          1,         23,      11121,2,20170103,       2155,   -29.5009,  -102.9991,       3470,    30.3,  22.1993,  35.2271,2,  35.2272,2,    219.1,2,   220.1,2,     0.4,2,     0.0,2,    0.01,2,   0.156,2,-999.0000,9,-999.0000,9,-999.0000,9,  2053.2,2,  2318.5,2,   7.9771,2,    25.00,    0.95,2,    46.8,2,     2.5,-999.0000,9, -999.00,9,    65.3,2,    2.70,2, -999.00,9,     -999.0,9, -999.00,9,  -999.0,9,     -999.0,     -999.0,9,     -999.0,9,     -999.0,     -999.0,9,     -999.0,     -999.0,9,     -999.0,     -999.0,     -999.0,9,     -999.0,9,     -999.0,9,       0.33,2,     -999.0,9,     -999.0,9,     -999.0,9,     -999.0,9
33RO20161119,        P18,     127,          1,         24,      11122,2,20170103,       2155,   -29.5009,  -102.9991,       3470,     2.7,  22.9731,  35.1382,2,  35.1385,2,    217.8,2,   219.1,2,     0.4,2,     0.0,2,    0.01,2,   0.138,2,   1.9185,2,   1.1832,2,   1.5309,2,  2052.1,6,  2310.9,2,   7.9718,2,    25.00,    0.95,2,    45.2,2,     2.8,   0.0104,2, -999.00,9,    71.9,2,    4.10,2, -999.00,9,      6.932,2, -999.00,9,  -999.0,9,     -999.0,     -999.0,9,     -999.0,9,     -999.0,     -999.0,9,     -999.0,     -999.0,9,     -999.0,     -999.0,     -999.0,9,     -999.0,9,     -999.0,9,       0.39,2,     -999.0,9,     -999.0,9,     -999.0,9,     -999.0,9