BOTTLE,20230606CCHSIOCBG
EXPOCODE,SECT_ID,STNNBR,CASTNO,SAMPNO,BTLNBR,BTLNBR_FLAG_W,DATE,TIME,LATITUDE,LONGITUDE,DEPTH,CTDPRS,CTDTMP,CTDSAL,CTDSAL_FLAG_W,SALNTY,SALNTY_FLAG_W,CTDOXY,CTDOXY_FLAG_W,OXYGEN,OXYGEN_FLAG_W,SILCAT,SILCAT_FLAG_W,NITRAT,NITRAT_FLAG_W,NITRIT,NITRIT_FLAG_W,PHSPHT,PHSPHT_FLAG_W,CFC-11,CFC-11_FLAG_W,CFC-12,CFC-12_FLAG_W,SF6,SF6_FLAG_W,TCARBN,TCARBN_FLAG_W,ALKALI,ALKALI_FLAG_W,PH_SWS,PH_SWS_FLAG_W,PH_TMP,DELC13,DELC13_FLAG_W,DELC14,DELC14_FLAG_W,C14ERR,CCL4,CCL4_FLAG_W,POC,POC_FLAG_W,DOC,DOC_FLAG_W,TDN,TDN_FLAG_W,PON,PON_FLAG_W,N2O,N2O_FLAG_W,D15N_NO3,D15N_NO3_FLAG_W,14C-DOC,14C-DOC_FLAG_W,14C-DOCERR,13C-DOC,13C-DOC_FLAG_W,N2/ARGON_UNSTRIPPED,N2/ARGON_UNSTRIPPED_FLAG_W,N2/ARGON_UNSTRIPPED_ERROR,N2/ARGON,N2/ARGON_FLAG_W,N2/ARGON_ERROR,D15N_N2,D15N_N2_FLAG_W,D15N_N2_ERROR,D15N_NO3_ERROR,D15N_NO2+NO3,D15N_NO2+NO3_FLAG_W,D18O_NO2+NO3,D18O_NO2+NO3_FLAG_W,D18O_NO3,D18O_NO3_FLAG_W,TDP,TDP_FLAG_W,N2O_ALT_1,N2O_ALT_1_FLAG_W,D15N_N2O,D15N_N2O_FLAG_W,D18O_N2O,D18O_N2O_FLAG_W,D15N_ALPHA_N2O,D15N_ALPHA_N2O_FLAG_W
,,,,,,,,,,,METERS,DBAR,ITS-90,PSS-78,,PSS-78,,UMOL/KG,,UMOL/KG,,UMOL/KG,,UMOL/KG,,UMOL/KG,,UMOL/KG,,PMOL/KG,,PMOL/KG,,FMOL/KG,,UMOL/KG,,UMOL/KG,,,,DEG C,/MILLE,,/MILLE,,/MILLE,PMOL/KG,,UG/KG,,UMOL/KG,,UMOL/KG,,UG/KG,,NMOL/KG,,/MILLE,,/MILLE,,/MILLE,/MILLE,,,,,,,,/MILLE,,/MILLE,/MILLE,/MILLE,,/MILLE,,/MILLE,,UMOL/KG,,NMOL/L,,/MILLE,,/MILLE,,/MILLE,
33RO20161119,        P18,     100,          1,          1,      11010,2,20161217,       1353,   -15.9999,  -102.9995,       3745,  3808.4,   1.8335,  34.6778,2,  34.6796,2,    138.4,2,   139.3,2,   140.0,6,    37.1,6,    0.01,6,   2.567,6,   0.0023,2,   0.0013,2,   0.0000,2,  2339.0,6,  2430.9,2,   7.5663,6,    25.00, -999.00,9,  -999.0,9,  -999.0,   0.0079,2, -999.00,9,  -999.0,9, -999.00,9, -999.00,9,    21.1551,2, -999.00,9,  -999.0,9,     -999.0,     -999.0,9,     -999.0,9,     -999.0,     -999.0,9,     -999.0,     -999.0,9,     -999.0,     -999.0,     -999.0,9,     -999.0,9,     -999.0,9,     -999.0,9,     -999.0,9,     -999.0,9,     -999.0,9,     -999.0,9
33RO20161119,        P18,     100,          1,          2,      11101,2,20161217,       1353,   -15.9999,  -102.9995,       3745,  3549.8,   1.8159,  34.6781,2,  34.6786,2,    140.7,2,   139.8,2,   138.2,6,    37.0,6,    0.00,6,   2.565,6,-999.0000,9,-999.0000,9,-999.0000,9,  2335.6,2,  2430.9,6,   7.5667,2,    25.00, -999.00,9,  -999.0,9,  -999.0,-999.0000,9, -999.00,9,  -999.0,9, -999.00,9, -999.00,9,     -999.0,9,    4.68,2,  -999.0,9,     -999.0,     -999.0,9,     -999.0,9,     -999.0,     -999.0,9,     -999.0,     -999.0,9,     -999.0,     -999.0,     -999.0,9,     -999.0,9,     -999.0,9,     -999.0,9,     -999.0,9,     -999.0,9,     -999.0,9,     -999.0,9
33RO20161119,        P18,     100,          1,          3,      11102,2,20161217,       1353,   -15.9999,  -102.9995,       3745,  3290.1,   1.8104,  34.6785,2,  34.6782,2,    142.3,2,   142.2,2,   134.7,6,    36.7,6,    0.00,6,   2.548,6,-999.0000,9,-999.0000,9,-999.0000,9,  2331.2,2,  2428.6,2,   7.5697,2,    25.00, -999.00,9,  -999.0,9,  -999.0,-999.0000,9, -999.00,9,  -999.0,9, -999.00,9, -999.00,9,     -999.0,9, -999.00,9,  -999.0,9,     -999.0,     -999.0,9,     -999.0,9,     -999.0,     -999.0,9,     -999.0,     -999.0,9,     -999.0,     -999.0,     -999.0,9,     -999.0,9,     -999.0,9,     -999.0,9,     -999.0,9,     -999.0,9,     -999.0,9,     -999.0,9
33RO20161119,        P18,     100,          1,          4,      11103,2,20161217,       1353,   -15.9999,  -102.9995,       3745,  3024.8,   1.8096,  34.6777,2,  34.6767,2,    144.9,2,   145.0,2,   131.1,6,    36.3,6,    0.00,6,   2.532,6,-999.0000,9,-999.0000,9,-999.0000,9,  2328.1,2,  2417.0,2,   7.5694,2,    25.00, -999.00,9,  -999.0,9,  -999.0,-999.0000,9, -999.00,9,  -999.0,9, -999.00,9, -999.00,9,     -999.0,9, -999.00,9,  -999.0,9,     -999.0,     -999.0,9,     -999.0,9,     -999.0,     -999.0,9,     -999.0,     -999.0,9,     -999.0,     -999.0,     -999.0,9,     -999.0,9,     -999.0,9,     -999.0,9,     -999.0,9,     -999.0,9,     -999.0,9,     -999.0,9
33RO20161119,        P18,     100,          1,          5,      11104,2,20161217,       1353,   -15.9999,  -102.9995,       3745,  2717.9,   1.8286,  34.6740,2,  34.6739,2,    146.9,2,   147.6,2,   126.6,2,    36.2,2,    0.00,2,   2.526,2,-999.0000,9,-999.0000,9,-999.0000,9,  2319.5,2,  2411.5,2,   7.5660,2,    25.00, -999.00,9,  -999.0,9,  -999.0,-999.0000,9, -999.00,9,  -999.0,9, -999.00,9, -999.00,9,     -999.0,9, -999.00,9,  -999.0,9,     -999.0,     -999.0,9,     -999.0,9,     -999.0,     -999.0,9,     -999.0,     -999.0,9,     -999.0,     -999.0,     -999.0,9,     -999.0,9,     -999.0,9,     -999.0,9,     -999.0,9,     -999.0,9,     -999.0,9,     -999.0,9
33RO20161119,        P18,     100,          1,          6,      11105,2,20161217,       1353,   -15.9999,  -102.9995,       3745,  2440.6,   1.8966,  34.6658,2,  34.6660,2,    145.4,2,   146.2,2,   122.5,2,    36.3,2,    0.00,2,   2.533,2,-999.0000,9,-999.0000,9,-999.0000,9,  2317.5,2,  2403.9,2,   7.5579,2,    25.00, -999.00,9,  -999.0,9,  -999.0,-999.0000,9, -999.00,9,  -999.0,9, -999.00,9, -999.00,9,     -999.0,9, -999.00,9,  -999.0,9,     -999.0,     -999.0,9,     -999.0,9,     -999.0,     -999.0,9,     -999.0,     -999.0,9,     -999.0,     -999.0,     -999.0,9,     -999.0,9,     -999.0,9,     -999.0,9,     -999.0,9,     -999.0,9,     -999.0,9,     -999.0,9
33RO20161119,        P18,     100,          1,          7,      11106,2,20161217,       1353,   -15.9999,  -102.9995,       3745,  2134.0,   2.0978,  34.6490,2,  34.6505,2,    132.1,2,   133.0,6,   121.1,2,    37.2,2,    0.00,2,   2.616,2,   0.0020,2,   0.0009,2,   0.0000,2,  2322.5,2,  2398.5,2,   7.5322,2,    25.00, -999.00,9,  -999.0,9,  -999.0,   0.0089,2, -999.00,9,  -999.0,9, -999.00,9, -999.00,9,    22.9642,2, -999.00,9,  -999.0,9,     -999.0,     -999.0,9,     -999.0,9,     -999.0,     -999.0,9,     -999.0,     -999.0,9,     -999.0,     -999.0,     -999.0,9,     -999.0,9,     -999.0,9,     -999.0,9,     -999.0,9,     -999.0,9,     -999.0,9,     -999.0,9
33RO20161119,        P18,     100,          1,          8,      11107,2,20161217,       1353,   -15.9999,  -102.9995,       3745,  1844.2,   2.4950,  34.6226,2,  34.6221,2,    111.3,2,   113.4,2,   117.7,2,    39.0,2,    0.00,2,   2.756,2,-999.0000,9,-999.0000,9,-999.0000,9,  2327.9,2,  2392.7,2,   7.4940,2,    25.00, -999.00,9,  -999.0,9,  -999.0,-999.0000,9, -999.00,9,  -999.0,9, -999.00,9, -999.00,9,     -999.0,9, -999.00,9,  -999.0,9,     -999.0,     -999.0,9,     -999.0,9,     -999.0,     -999.0,9,     -999.0,     -999.0,9,     -999.0,     -999.0,     -999.0,9,     -999.0,9,     -999.0,9,     -999.0,9,     -999.0,9,     -999.0,9,     -999.0,9,     -999.0,9
33RO20161119,        P18,     100,          1,          9,      11108,2,20161217,       1353,   -15.9999,  -102.9995,       3745,  1523.4,   3.0549,  34.5866,2,  34.5864,2,     95.0,2,    87.3,3,   104.5,2,    40.4,2,    0.00,2,   2.875,2,-999.0000,9,-999.0000,9,-999.0000,9,  2328.2,2,  2379.3,2,   7.4609,2,    25.00, -999.00,9,  -999.0,9,  -999.0,-999.0000,9, -999.00,9,  -999.0,9, -999.00,9, -999.00,9,     -999.0,9,    5.67,2,  -999.0,9,     -999.0,     -999.0,9,     -999.0,9,     -999.0,     -999.0,9,     -999.0,     -999.0,9,     -999.0,     -999.0,     -999.0,9,     -999.0,9,     -999.0,9,     -999.0,9,26.76521347,2,       9.72,2,      50.67,2,      22.01,2
33RO20161119,        P18,     100,          1,         10,      11109,2,20161217,       1353,   -15.9999,  -102.9995,       3745,  1314.4,   3.4777,  34.5632,2,  34.5620,2,     86.4,2,    86.5,2,    94.2,2,    41.1,2,    0.00,2,   2.921,2,-999.0000,9,-999.0000,9,-999.0000,9,  2319.0,2,  2368.1,2,   7.4424,2,    25.00, -999.00,9,  -999.0,9,  -999.0,-999.0000,9, -999.00,9,  -999.0,9, -999.00,9, -999.00,9,     -999.0,9,    5.84,2,  -999.0,9,     -999.0,     -999.0,9,     -999.0,9,     -999.0,     -999.0,9,     -999.0,     -999.0,9,     -999.0,     -999.0,     -999.0,9,     -999.0,9,     -999.0,9,     -999.0,9,     -999.0,9,     -999.0,9,     -999.0,9,     -999.0,9
33RO20161119,        P18,     100,          1,         11,      11110,2,20161217,       1353,   -15.9999,  -102.9995,       3745,  1184.4,   3.9490,  34.5433,2,  34.5422,2,     77.0,2,    76.8,2,    83.8,2,    41.8,2,    0.00,2,   2.972,2,-999.0000,9,-999.0000,9,-999.0000,9,  2311.9,2,  2355.3,2,   7.4256,2,    25.00, -999.00,9,  -999.0,9,  -999.0,-999.0000,9, -999.00,9,  -999.0,9, -999.00,9, -999.00,9,     -999.0,9,    6.27,2,  -999.0,9,     -999.0,     -999.0,9,      37.96,2,     -999.0,      38.07,2,     -999.0,     -999.0,9,     -999.0,       0.02,     -999.0,9,     -999.0,9,     -999.0,9,     -999.0,9,30.75748422,2,       9.18,2,      49.92,2,      19.47,2
33RO20161119,        P18,     100,          1,         12,      11111,2,20161217,       1353,   -15.9999,  -102.9995,       3745,  1050.2,   4.4387,  34.5244,2,  34.5247,2,     67.2,2,    67.6,2,    73.1,2,    42.7,2,    0.00,2,   3.010,2,   0.0029,6,   0.0020,6,   0.0000,6,  2307.9,2,  2344.4,2,   7.4071,2,    25.00, -999.00,9,  -999.0,9,  -999.0,   0.0244,2, -999.00,9,  -999.0,9, -999.00,9, -999.00,9,    37.0088,2,    6.45,2,  -999.0,9,     -999.0,     -999.0,9,     -999.0,9,     -999.0,     -999.0,9,     -999.0,     -999.0,9,     -999.0,     -999.0,     -999.0,9,     -999.0,9,     -999.0,9,     -999.0,9,     -999.0,9,     -999.0,9,     -999.0,9,     -999.0,9
33RO20161119,        P18,     100,          1,         13,      11112,2,20161217,       1353,   -15.9999,  -102.9995,       3745,   924.8,   4.9372,  34.5117,2,  34.5113,2,     61.2,2,    63.3,6,    62.8,2,    42.9,2,    0.00,2,   2.985,2,-999.0000,9,-999.0000,9,-999.0000,9,  2299.5,2,  2333.3,2,   7.4024,2,    25.00, -999.00,9,  -999.0,9,  -999.0,-999.0000,9, -999.00,9,  -999.0,9, -999.00,9, -999.00,9,     -999.0,9,    6.68,2,  -999.0,9,     -999.0,     -999.0,9,      37.94,2,     -999.0,      38.05,2,     -999.0,     -999.0,9,     -999.0,     -999.0,     -999.0,9,     -999.0,9,     -999.0,9,     -999.0,9,     -999.0,9,     -999.0,9,     -999.0,9,     -999.0,9
33RO20161119,        P18,     100,          1,         14,      11113,2,20161217,       1353,   -15.9999,  -102.9995,       3745,   813.4,   5.4228,  34.5041,2,  34.5125,2,     61.0,2,    60.7,2,    53.8,2,    42.3,2,    0.01,2,   2.949,2,   0.0086,2,   0.0051,2,   0.0000,2,  2288.3,2,  2322.0,2,   7.4035,2,    25.00, -999.00,9,  -999.0,9,  -999.0,   0.1058,2, -999.00,9,  -999.0,9, -999.00,9, -999.00,9,    40.5504,2,    6.87,2,  -999.0,9,     -999.0,     -999.0,9,      37.91,2,     -999.0,      38.01,2,     -999.0,     -999.0,9,     -999.0,     -999.0,     -999.0,9,     -999.0,9,     -999.0,9,     -999.0,9,36.45097598,2,       8.58,2,      49.29,2,      15.63,2
33RO20161119,        P18,     100,          1,         15,      11114,2,20161217,       1353,   -15.9999,  -102.9995,       3745,   700.3,   5.9627,  34.5069,2,  34.5090,2,     56.1,2,    58.9,2,    46.1,2,    41.7,2,    0.00,2,   2.891,2,-999.0000,9,-999.0000,9,-999.0000,9,  2279.3,2,  2311.8,2,   7.4073,2,    25.00, -999.00,9,  -999.0,9,  -999.0,-999.0000,9, -999.00,9,  -999.0,9, -999.00,9, -999.00,9,     -999.0,9,    7.03,2,  -999.0,9,     -999.0,     -999.0,9,      37.94,2,     -999.0,      38.04,2,     -999.0,     -999.0,9,     -999.0,       0.02,     -999.0,9,     -999.0,9,     -999.0,9,     -999.0,9,39.08752456,2,       8.32,2,      49.25,2,       11.8,2
33RO20161119,        P18,     100,          1,         16,      11115,2,20161217,       1353,   -15.9999,  -102.9995,       3745,   579.9,   6.8463,  34.5205,2,  34.5199,2,     47.9,2,    49.5,2,    36.8,2,    40.8,2,    0.01,2,   2.849,2,   0.1213,2,   0.0636,2,   0.0000,2,  2273.0,2,  2301.2,6,   7.3859,2,    25.00, -999.00,9,  -999.0,9,  -999.0,   0.2647,2, -999.00,9,  -999.0,9, -999.00,9, -999.00,9,    49.3871,2,     7.5,2,  -999.0,9,     -999.0,     -999.0,9,       37.9,2,     -999.0,      37.99,2,     -999.0,     -999.0,9,     -999.0,     -999.0,     -999.0,9,     -999.0,9,     -999.0,9,     -999.0,9,45.64142637,2,        7.6,2,      49.48,2,      11.28,2
33RO20161119,        P18,     100,          1,         17,      11116,2,20161217,       1353,   -15.9999,  -102.9995,       3745,   477.4,   8.1695,  34.5660,2,  34.5653,2,     32.0,2,    34.1,2,    29.1,2,    38.2,2,    0.01,2,   2.749,2,-999.0000,9,-999.0000,9,-999.0000,9,  2270.3,2,  2294.0,2,   7.3765,2,    25.00, -999.00,9,  -999.0,9,  -999.0,-999.0000,9, -999.00,9,  -999.0,9, -999.00,9, -999.00,9,     -999.0,9,    7.37,2,  -999.0,9,     -999.0,     -999.0,9,      37.87,2,     -999.0,      37.94,2,     -999.0,     -999.0,9,     -999.0,     -999.0,     -999.0,9,     -999.0,9,     -999.0,9,     -999.0,9, 49.5495709,2,       7.14,2,      50.75,2,      12.89,2
33RO20161119,        P18,     100,          1,         18,      11117,2,20161217,       1353,   -15.9999,  -102.9995,       3745,   374.6,   9.6413,  34.6225,2,  34.6261,2,     15.3,2,    18.8,2,    24.9,2,    34.1,2,    0.00,2,   2.725,2,   0.6012,2,   0.3183,2,   0.0960,2,  2272.2,2,  2295.6,2,   7.3621,2,    25.00, -999.00,9,  -999.0,9,  -999.0,   0.4884,2, -999.00,9,  -999.0,9, -999.00,9, -999.00,9,    51.5293,2,    9.47,2,  -999.0,9,     -999.0,     -999.0,9,      38.02,2,     -999.0,      38.11,2,     -999.0,     -999.0,9,     -999.0,     -999.0,     -999.0,9,     -999.0,9,     -999.0,9,     -999.0,9, 46.9714971,2,       7.19,2,      52.04,2,       10.0,2
33RO20161119,        P18,     100,          1,         19,      11083,2,20161217,       1353,   -15.9999,  -102.9995,       3745,   284.5,  11.6350,  34.5929,2,  34.6061,2,     72.5,2,    64.6,2,    15.3,2,    22.8,2,    0.01,2,   2.253,2,   1.9680,2,   1.1037,2,   0.6947,2,  2229.7,2,  2288.2,2,   7.4790,2,    25.00, -999.00,9,  -999.0,9,  -999.0,   1.2633,2, -999.00,9,  -999.0,9, -999.00,9, -999.00,9,    34.7384,2,   12.52,2,  -999.0,9,     -999.0,     -999.0,9,      38.24,2,     -999.0,      38.34,2,     -999.0,     -999.0,9,     -999.0,       0.17,     -999.0,9,     -999.0,9,     -999.0,9,     -999.0,9,31.27205806,2,       8.84,2,      50.02,2,      12.31,2
33RO20161119,        P18,     100,          1,         20,      11118,2,20161217,       1353,   -15.9999,  -102.9995,       3745,   203.9,  17.2370,  35.2292,2,  35.2226,2,    167.5,2,   160.8,2,     2.9,2,    10.8,2,    0.02,2,   1.130,2,   2.2937,2,   1.3998,2,   1.5514,2,  2143.7,2,  2329.6,2,   7.8057,2,    25.00, -999.00,9,  -999.0,9,  -999.0,   1.5342,2, -999.00,9,  -999.0,9, -999.00,9, -999.00,9,    18.0883,2,   11.02,2,  -999.0,9,     -999.0,     -999.0,9,      38.03,2,     -999.0,      38.06,2,     -999.0,     -999.0,9,     -999.0,     -999.0,     -999.0,9,     -999.0,9,     -999.0,9,     -999.0,9,17.02123501,2,       5.77,2,      42.05,2,      17.87,2
33RO20161119,        P18,     100,          1,         21,      11119,2,20161217,       1353,   -15.9999,  -102.9995,       3745,   139.4,  21.1740,  35.9136,2,  35.8905,2,    202.1,2,   199.5,2,     1.1,2,     1.4,2,    1.13,2,   0.562,2,   1.9680,2,   1.2276,2,   1.5507,2,  2101.8,2,  2373.4,2,   7.9649,2,    25.00, -999.00,9,  -999.0,9,  -999.0,   1.8156,2, -999.00,9,  -999.0,9, -999.00,9, -999.00,9,     7.6978,2, -999.00,9,  -999.0,9,     -999.0,     -999.0,9,      38.12,2,     -999.0,      38.13,2,     -999.0,     -999.0,9,     -999.0,     -999.0,     -999.0,9,     -999.0,9,     -999.0,9,     -999.0,9,7.668717042,2,       6.69,2,       42.6,2,      18.73,2
33RO20161119,        P18,     100,          1,         22,      11120,2,20161217,       1353,   -15.9999,  -102.9995,       3745,    69.9,  22.5929,  36.1344,2,  36.1323,2,    219.7,2,   218.9,2,     1.1,2,     0.0,2,    0.01,2,   0.383,2,   1.8507,2,   1.1574,2,   1.5237,2,  2081.2,2,  2385.0,2,   8.0233,6,    25.00, -999.00,9,  -999.0,9,  -999.0,   1.7807,2, -999.00,9,  -999.0,9, -999.00,9, -999.00,9,     6.8445,2, -999.00,9,  -999.0,9,     -999.0,     -999.0,9,      38.12,2,     -999.0,      38.11,2,     -999.0,     -999.0,9,     -999.0,     -999.0,     -999.0,9,     -999.0,9,     -999.0,9,     -999.0,9,6.914529712,2,       6.81,2,      44.65,2,       18.1,2
33RO20161119,        P18,     100,          1,         23,      11121,2,20161217,       1353,   -15.9999,  -102.9995,       3745,    29.6,  23.8549,  36.0760,2,  36.0735,2,    214.0,2,   214.6,2,     0.7,2,     0.7,2,    0.02,2,   0.369,2,   1.7335,2,   1.0920,2,   1.4583,2,  2065.0,6,  2380.5,6,   8.0435,2,    25.00, -999.00,9,  -999.0,9,  -999.0,        0,2, -999.00,9,  -999.0,9, -999.00,9, -999.00,9,     6.6043,2, -999.00,9,  -999.0,9,     -999.0,     -999.0,9,      38.17,2,     -999.0,      38.13,2,     -999.0,     -999.0,9,     -999.0,     -999.0,     -999.0,9,     -999.0,9,     -999.0,9,     -999.0,9,6.649065378,2,       6.88,2,      41.45,2,      19.06,2
33RO20161119,        P18,     100,          1,         24,      11122,2,20161217,       1353,   -15.9999,  -102.9995,       3745,     3.2,  23.9263,  36.0785,2,  36.0774,2,    212.7,2,   214.1,2,     0.7,2,     0.7,2,    0.02,2,   0.361,2,   1.7388,2,   1.0909,2,   1.4736,2,  2065.3,2,  2381.8,2,   8.0424,2,    25.00, -999.00,9,  -999.0,9,  -999.0,        0,2, -999.00,9,  -999.0,9, -999.00,9, -999.00,9,     6.6898,2, -999.00,9,  -999.0,9,     -999.0,     -999.0,9,      38.13,2,     -999.0,      38.12,2,     -999.0,     -999.0,9,     -999.0,     -999.0,     -999.0,9,     -999.0,9,     -999.0,9,     -999.0,9,6.824968865,2,       6.78,2,      43.71,2,      18.67,2