BOTTLE,20230606CCHSIOCBG
EXPOCODE,SECT_ID,STNNBR,CASTNO,SAMPNO,BTLNBR,BTLNBR_FLAG_W,DATE,TIME,LATITUDE,LONGITUDE,DEPTH,CTDPRS,CTDTMP,CTDSAL,CTDSAL_FLAG_W,SALNTY,SALNTY_FLAG_W,CTDOXY,CTDOXY_FLAG_W,OXYGEN,OXYGEN_FLAG_W,SILCAT,SILCAT_FLAG_W,NITRAT,NITRAT_FLAG_W,NITRIT,NITRIT_FLAG_W,PHSPHT,PHSPHT_FLAG_W,CFC-11,CFC-11_FLAG_W,CFC-12,CFC-12_FLAG_W,SF6,SF6_FLAG_W,TCARBN,TCARBN_FLAG_W,ALKALI,ALKALI_FLAG_W,PH_SWS,PH_SWS_FLAG_W,PH_TMP,DELC13,DELC13_FLAG_W,DELC14,DELC14_FLAG_W,C14ERR,CCL4,CCL4_FLAG_W,POC,POC_FLAG_W,DOC,DOC_FLAG_W,TDN,TDN_FLAG_W,PON,PON_FLAG_W,N2O,N2O_FLAG_W,D15N_NO3,D15N_NO3_FLAG_W,14C-DOC,14C-DOC_FLAG_W,14C-DOCERR,13C-DOC,13C-DOC_FLAG_W,N2/ARGON_UNSTRIPPED,N2/ARGON_UNSTRIPPED_FLAG_W,N2/ARGON_UNSTRIPPED_ERROR,N2/ARGON,N2/ARGON_FLAG_W,N2/ARGON_ERROR,D15N_N2,D15N_N2_FLAG_W,D15N_N2_ERROR,D15N_NO3_ERROR,D15N_NO2+NO3,D15N_NO2+NO3_FLAG_W,D18O_NO2+NO3,D18O_NO2+NO3_FLAG_W,D18O_NO3,D18O_NO3_FLAG_W,TDP,TDP_FLAG_W,N2O_ALT_1,N2O_ALT_1_FLAG_W,D15N_N2O,D15N_N2O_FLAG_W,D18O_N2O,D18O_N2O_FLAG_W,D15N_ALPHA_N2O,D15N_ALPHA_N2O_FLAG_W
,,,,,,,,,,,METERS,DBAR,ITS-90,PSS-78,,PSS-78,,UMOL/KG,,UMOL/KG,,UMOL/KG,,UMOL/KG,,UMOL/KG,,UMOL/KG,,PMOL/KG,,PMOL/KG,,FMOL/KG,,UMOL/KG,,UMOL/KG,,,,DEG C,/MILLE,,/MILLE,,/MILLE,PMOL/KG,,UG/KG,,UMOL/KG,,UMOL/KG,,UG/KG,,NMOL/KG,,/MILLE,,/MILLE,,/MILLE,/MILLE,,,,,,,,/MILLE,,/MILLE,/MILLE,/MILLE,,/MILLE,,/MILLE,,UMOL/KG,,NMOL/L,,/MILLE,,/MILLE,,/MILLE,
33RO20161119,        P18,     200,          1,          1,      11010,2,20170124,       0108,   -65.9887,  -102.9979,       4840,  4928.9,   0.4301,  34.7000,2,  34.6987,2,    213.5,2,   213.8,2,   144.3,2,    33.0,2,    0.02,2,   2.270,2,   0.4434,2,   0.2070,2,   0.0695,2,  2266.7,6,  2360.5,2,   7.5880,2,    25.00, -999.00,9,  -999.0,9,  -999.0,   0.2566,2, -999.00,9,  -999.0,9, -999.00,9, -999.00,9,    18.3449,2, -999.00,9,  -999.0,9,     -999.0,     -999.0,9,     -999.0,9,     -999.0,     -999.0,9,     -999.0,     -999.0,9,     -999.0,     -999.0,     -999.0,9,     -999.0,9,     -999.0,9,     -999.0,9,     -999.0,9,     -999.0,9,     -999.0,9,     -999.0,9
33RO20161119,        P18,     200,          1,          2,      11101,2,20170124,       0108,   -65.9887,  -102.9979,       4840,  4524.5,   0.4289,  34.7017,2,  34.6983,2,    213.7,2,   213.7,2,   137.1,2,    32.9,2,    0.01,2,   2.267,2,   0.3569,2,   0.1686,2,   0.0599,2,  2262.1,2,  2364.5,2,   7.5879,6,    25.00, -999.00,9,  -999.0,9,  -999.0,   0.2283,2, -999.00,9,  -999.0,9, -999.00,9, -999.00,9,    18.2536,2, -999.00,9,  -999.0,9,     -999.0,     -999.0,9,     -999.0,9,     -999.0,     -999.0,9,     -999.0,     -999.0,9,     -999.0,     -999.0,     -999.0,9,     -999.0,9,     -999.0,9,     -999.0,9,     -999.0,9,     -999.0,9,     -999.0,9,     -999.0,9
33RO20161119,        P18,     200,          1,          3,      11102,2,20170124,       0108,   -65.9887,  -102.9979,       4840,  4120.6,   0.4562,  34.7029,2,  34.7007,2,    212.4,2,   212.4,2,   133.8,6,    32.8,6,    0.01,6,   2.255,6,   0.3018,2,   0.1433,2,   0.0535,2,  2262.4,2,  2363.7,6,   7.5907,2,    25.00, -999.00,9,  -999.0,9,  -999.0,   0.1972,2, -999.00,9,  -999.0,9, -999.00,9, -999.00,9,    18.3512,2, -999.00,9,  -999.0,9,     -999.0,     -999.0,9,     -999.0,9,     -999.0,     -999.0,9,     -999.0,     -999.0,9,     -999.0,     -999.0,     -999.0,9,     -999.0,9,     -999.0,9,     -999.0,9,     -999.0,9,     -999.0,9,     -999.0,9,     -999.0,9
33RO20161119,        P18,     200,          1,          4,      11103,2,20170124,       0108,   -65.9887,  -102.9979,       4840,  3720.1,   0.5439,  34.7041,2,  34.7027,2,    210.1,2,   210.3,2,   129.2,6,    32.8,6,    0.01,6,   2.252,6,   0.2651,2,   0.1262,2,   0.0468,2,  2259.4,2,  2360.9,2,   7.5907,2,    25.00, -999.00,9,  -999.0,9,  -999.0,   0.2218,2, -999.00,9,  -999.0,9, -999.00,9, -999.00,9,    18.5332,2, -999.00,9,  -999.0,9,     -999.0,     -999.0,9,     -999.0,9,     -999.0,     -999.0,9,     -999.0,     -999.0,9,     -999.0,     -999.0,     -999.0,9,     -999.0,9,     -999.0,9,     -999.0,9,     -999.0,9,     -999.0,9,     -999.0,9,     -999.0,9
33RO20161119,        P18,     200,          1,          5,      11104,2,20170124,       0108,   -65.9887,  -102.9979,       4840,  3320.0,   0.6918,  34.7068,2,  34.7165,4,    206.7,2,   206.8,2,   125.4,6,    32.6,6,    0.01,6,   2.243,6,   0.2252,2,   0.1083,2,   0.0434,2,  2261.2,2,  2359.2,2,   7.5900,2,    25.00, -999.00,9,  -999.0,9,  -999.0,   0.1995,2, -999.00,9,  -999.0,9, -999.00,9, -999.00,9,    18.5075,2, -999.00,9,  -999.0,9,     -999.0,     -999.0,9,     -999.0,9,     -999.0,     -999.0,9,     -999.0,     -999.0,9,     -999.0,     -999.0,     -999.0,9,     -999.0,9,     -999.0,9,     -999.0,9,     -999.0,9,     -999.0,9,     -999.0,9,     -999.0,9
33RO20161119,        P18,     200,          1,          6,      11105,2,20170124,       0108,   -65.9887,  -102.9979,       4840,  2936.7,   0.8314,  34.7111,2,  34.7090,2,    204.1,2,   203.9,2,   121.7,6,    32.5,6,    0.01,6,   2.227,6,   0.1779,2,   0.0851,2,   0.0476,2,  2263.4,2,  2363.7,2,   7.5925,2,    25.00, -999.00,9,  -999.0,9,  -999.0,   0.2497,2, -999.00,9,  -999.0,9, -999.00,9, -999.00,9,    18.6379,2, -999.00,9,  -999.0,9,     -999.0,     -999.0,9,     -999.0,9,     -999.0,     -999.0,9,     -999.0,     -999.0,9,     -999.0,     -999.0,     -999.0,9,     -999.0,9,     -999.0,9,     -999.0,9,     -999.0,9,     -999.0,9,     -999.0,9,     -999.0,9
33RO20161119,        P18,     200,          1,          7,      11106,2,20170124,       0108,   -65.9887,  -102.9979,       4840,  2556.2,   0.9856,  34.7171,2,  34.7157,2,    201.1,2,   201.2,2,   116.0,2,    32.4,2,    0.01,2,   2.227,2,   0.1433,2,   0.0694,2,   0.0478,2,  2260.6,2,  2362.7,2,   7.5934,2,    25.00, -999.00,9,  -999.0,9,  -999.0,   0.2417,2, -999.00,9,  -999.0,9, -999.00,9, -999.00,9,    18.8016,2, -999.00,9,  -999.0,9,     -999.0,     -999.0,9,     -999.0,9,     -999.0,     -999.0,9,     -999.0,     -999.0,9,     -999.0,     -999.0,     -999.0,9,     -999.0,9,     -999.0,9,     -999.0,9,     -999.0,9,     -999.0,9,     -999.0,9,     -999.0,9
33RO20161119,        P18,     200,          1,          8,      11107,2,20170124,       0108,   -65.9887,  -102.9979,       4840,  2175.6,   1.1704,  34.7238,2,  34.7232,2,    198.0,2,   197.9,6,   109.7,2,    32.2,2,    0.01,2,   2.218,2,   0.1282,2,   0.0607,2,   0.0244,2,  2258.5,2,  2359.8,2,   7.5946,2,    25.00, -999.00,9,  -999.0,9,  -999.0,   0.2553,2, -999.00,9,  -999.0,9, -999.00,9, -999.00,9,    18.8416,2, -999.00,9,  -999.0,9,     -999.0,     -999.0,9,     -999.0,9,     -999.0,     -999.0,9,     -999.0,     -999.0,9,     -999.0,     -999.0,     -999.0,9,     -999.0,9,     -999.0,9,     -999.0,9,17.28577131,2,       8.32,2,      46.89,2,      21.35,2
33RO20161119,        P18,     200,          1,          9,      11108,2,20170124,       0108,   -65.9887,  -102.9979,       4840,  1840.9,   1.3695,  34.7299,2,  34.7285,2,    193.8,2,   194.1,2,   103.4,2,    32.0,2,    0.01,2,   2.181,2,   0.1391,2,   0.0671,2,   0.0424,2,  2258.3,2,  2359.2,2,   7.5920,2,    25.00, -999.00,9,  -999.0,9,  -999.0,   0.3259,2, -999.00,9,  -999.0,9, -999.00,9, -999.00,9,    19.0807,2, -999.00,9,  -999.0,9,     -999.0,     -999.0,9,     -999.0,9,     -999.0,     -999.0,9,     -999.0,     -999.0,9,     -999.0,     -999.0,     -999.0,9,     -999.0,9,     -999.0,9,     -999.0,9,     -999.0,9,     -999.0,9,     -999.0,9,     -999.0,9
33RO20161119,        P18,     200,          1,         10,      11109,2,20170124,       0108,   -65.9887,  -102.9979,       4840,  1620.6,   1.5380,  34.7330,2,  34.7313,2,    192.1,2,   191.7,2,    97.8,2,    31.8,2,    0.01,2,   2.166,2,   0.1551,6,   0.0748,6,   0.0138,6,  2257.2,2,  2355.4,2,   7.5914,2,    25.00, -999.00,9,  -999.0,9,  -999.0,   0.4415,2, -999.00,9,  -999.0,9, -999.00,9, -999.00,9,    19.2164,2, -999.00,9,  -999.0,9,     -999.0,     -999.0,9,     -999.0,9,     -999.0,     -999.0,9,     -999.0,     -999.0,9,     -999.0,     -999.0,     -999.0,9,     -999.0,9,     -999.0,9,     -999.0,9,17.63874608,2,       8.68,2,       48.5,2,      20.89,2
33RO20161119,        P18,     200,          1,         11,      11110,2,20170124,       0108,   -65.9887,  -102.9979,       4840,  1446.2,   1.6835,  34.7329,2,  34.7312,2,    189.3,2,   189.5,2,    93.3,2,    31.8,2,    0.01,2,   2.176,2,   0.1768,2,   0.0852,2,   0.0000,2,  2256.2,2,  2351.7,2,   7.5904,2,    25.00, -999.00,9,  -999.0,9,  -999.0,   0.6568,2, -999.00,9,  -999.0,9, -999.00,9, -999.00,9,    19.4078,2, -999.00,9,  -999.0,9,     -999.0,     -999.0,9,     -999.0,9,     -999.0,     -999.0,9,     -999.0,     -999.0,9,     -999.0,     -999.0,     -999.0,9,     -999.0,9,     -999.0,9,     -999.0,9,     -999.0,9,     -999.0,9,     -999.0,9,     -999.0,9
33RO20161119,        P18,     200,          1,         12,      11111,2,20170124,       0108,   -65.9887,  -102.9979,       4840,  1276.3,   1.8324,  34.7281,2,  34.7294,2,    185.9,2,   186.1,2,    89.3,2,    31.8,2,    0.01,2,   2.155,2,   0.2010,2,   0.0984,2,   0.0643,2,  2253.2,2,  2350.2,2,   7.5864,2,    25.00, -999.00,9,  -999.0,9,  -999.0,   0.9574,2, -999.00,9,  -999.0,9, -999.00,9, -999.00,9,    19.8271,2, -999.00,9,  -999.0,9,     -999.0,     -999.0,9,     -999.0,9,     -999.0,     -999.0,9,     -999.0,     -999.0,9,     -999.0,     -999.0,     -999.0,9,     -999.0,9,     -999.0,9,     -999.0,9,18.05722972,2,       8.43,2,      47.18,2,      20.13,2
33RO20161119,        P18,     200,          1,         13,      11112,2,20170124,       0108,   -65.9887,  -102.9979,       4840,  1121.6,   1.9550,  34.7173,2,  34.7151,2,    182.3,2,   182.3,2,    86.0,2,    32.0,2,    0.00,2,   2.175,2,   0.2367,2,   0.1134,2,   0.0483,2,  2254.3,2,  2348.2,2,   7.5787,2,    25.00, -999.00,9,  -999.0,9,  -999.0,   1.2197,2, -999.00,9,  -999.0,9, -999.00,9, -999.00,9,    20.1624,2, -999.00,9,  -999.0,9,     -999.0,     -999.0,9,     -999.0,9,     -999.0,     -999.0,9,     -999.0,     -999.0,9,     -999.0,     -999.0,     -999.0,9,     -999.0,9,     -999.0,9,     -999.0,9,     -999.0,9,     -999.0,9,     -999.0,9,     -999.0,9
33RO20161119,        P18,     200,          1,         14,      11113,2,20170124,       0108,   -65.9887,  -102.9979,       4840,   965.5,   2.0638,  34.6977,2,  34.6957,2,    178.5,2,   178.2,2,    83.3,2,    32.5,2,    0.02,2,   2.235,2,   0.2940,2,   0.1426,2,   0.0669,2,  2256.5,2,  2346.8,2,   7.5713,2,    25.00, -999.00,9,  -999.0,9,  -999.0,   2.2151,2, -999.00,9,  -999.0,9, -999.00,9, -999.00,9,    20.8677,2, -999.00,9,  -999.0,9,     -999.0,     -999.0,9,     -999.0,9,     -999.0,     -999.0,9,     -999.0,     -999.0,9,     -999.0,     -999.0,     -999.0,9,     -999.0,9,     -999.0,9,     -999.0,9,19.25566408,2,       8.02,2,      47.52,2,      19.47,2
33RO20161119,        P18,     200,          1,         15,      11114,2,20170124,       0108,   -65.9887,  -102.9979,       4840,   820.0,   2.1478,  34.6686,2,  34.6674,2,    174.3,2,   174.4,2,    80.7,2,    33.4,2,    0.01,2,   2.275,2,   0.3825,2,   0.1909,2,   0.1082,2,  2257.4,2,  2335.2,3,   7.5596,2,    25.00, -999.00,9,  -999.0,9,  -999.0,   3.9832,2, -999.00,9,  -999.0,9, -999.00,9, -999.00,9,    21.4724,2, -999.00,9,  -999.0,9,     -999.0,     -999.0,9,     -999.0,9,     -999.0,     -999.0,9,     -999.0,     -999.0,9,     -999.0,     -999.0,     -999.0,9,     -999.0,9,     -999.0,9,     -999.0,9,19.51537528,2,       8.15,2,      46.69,2,      18.69,2
33RO20161119,        P18,     200,          1,         16,      11115,2,20170124,       0108,   -65.9887,  -102.9979,       4840,   679.7,   2.2263,  34.6223,2,  34.6210,2,    172.4,2,   171.7,2,    77.8,2,    34.0,2,    0.01,2,   2.324,2,   0.5475,2,   0.2721,2,   0.1686,2,  2257.6,2,  2341.8,6,   7.5469,6,    25.00, -999.00,9,  -999.0,9,  -999.0,   5.9917,2, -999.00,9,  -999.0,9, -999.00,9, -999.00,9,    21.9795,2, -999.00,9,  -999.0,9,     -999.0,     -999.0,9,     -999.0,9,     -999.0,     -999.0,9,     -999.0,     -999.0,9,     -999.0,     -999.0,     -999.0,9,     -999.0,9,     -999.0,9,     -999.0,9,19.90277864,2,       8.11,2,      46.08,2,       16.8,2
33RO20161119,        P18,     200,          1,         17,      11116,2,20170124,       0108,   -65.9887,  -102.9979,       4840,   545.6,   2.2909,  34.5619,2,  34.5603,2,    172.4,2,   172.1,6,    73.5,2,    34.8,2,    0.02,2,   2.370,2,   0.8195,2,   0.4110,2,   0.2575,2,  2254.8,6,  2327.6,2,   7.5393,2,    25.00, -999.00,9,  -999.0,9,  -999.0,   6.4707,2, -999.00,9,  -999.0,9, -999.00,9, -999.00,9,    22.6763,2, -999.00,9,  -999.0,9,     -999.0,     -999.0,9,     -999.0,9,     -999.0,     -999.0,9,     -999.0,     -999.0,9,     -999.0,     -999.0,     -999.0,9,     -999.0,9,     -999.0,9,     -999.0,9,20.59976608,2,       7.99,2,      45.47,2,      16.94,2
33RO20161119,        P18,     200,          1,         18,      11117,2,20170124,       0108,   -65.9887,  -102.9979,       4840,   415.1,   2.3089,  34.4748,2,  34.4714,2,    180.5,2,   179.7,2,    67.1,2,    35.1,2,    0.02,2,   2.407,2,   1.3320,2,   0.6794,2,   0.4641,2,  2248.7,2,  2326.9,2,   7.5344,2,    25.00, -999.00,9,  -999.0,9,  -999.0,   6.6199,2, -999.00,9,  -999.0,9, -999.00,9, -999.00,9,    23.2081,2, -999.00,9,  -999.0,9,     -999.0,     -999.0,9,     -999.0,9,     -999.0,     -999.0,9,     -999.0,     -999.0,9,     -999.0,     -999.0,     -999.0,9,     -999.0,9,     -999.0,9,     -999.0,9,  21.395416,2,       7.36,2,      44.67,2,      15.84,2
33RO20161119,        P18,     200,          1,         19,      11083,2,20170124,       0108,   -65.9887,  -102.9979,       4840,   305.5,   2.2239,  34.3558,2,  34.3541,2,    200.3,2,   199.3,2,    57.7,2,    34.8,2,    0.02,2,   2.351,2,   2.1917,2,   1.1365,2,   0.8676,2,  2236.0,2,  2313.5,2,   7.5418,2,    25.00, -999.00,9,  -999.0,9,  -999.0,   6.1376,2, -999.00,9,  -999.0,9, -999.00,9, -999.00,9,    22.6378,2, -999.00,9,  -999.0,9,     -999.0,     -999.0,9,     -999.0,9,     -999.0,     -999.0,9,     -999.0,     -999.0,9,     -999.0,     -999.0,     -999.0,9,     -999.0,9,     -999.0,9,     -999.0,9,21.25337594,2,       7.02,2,      44.73,2,      15.93,2
33RO20161119,        P18,     200,          1,         20,      11118,2,20170124,       0108,   -65.9887,  -102.9979,       4840,   210.8,   1.6565,  34.1736,2,  34.1674,2,    246.0,2,   248.5,2,    44.9,2,    32.7,2,    0.02,2,   2.235,2,   3.7164,2,   1.9708,2,   1.8255,2,  2208.3,2,  2297.2,2,   7.5762,2,    25.00, -999.00,9,  -999.0,9,  -999.0,   6.0081,2, -999.00,9,  -999.0,9, -999.00,9, -999.00,9,    20.1023,2, -999.00,9,  -999.0,9,     -999.0,     -999.0,9,     -999.0,9,     -999.0,     -999.0,9,     -999.0,     -999.0,9,     -999.0,     -999.0,     -999.0,9,     -999.0,9,     -999.0,9,     -999.0,9,18.67509205,2,       6.36,2,      43.86,2,       15.2,2
33RO20161119,        P18,     200,          1,         21,      11119,2,20170124,       0108,   -65.9887,  -102.9979,       4840,   125.2,  -0.2962,  33.8497,2,  33.8761,2,    336.2,2,   334.9,2,    28.8,2,    27.4,2,    0.25,2,   1.935,2,   5.8358,6,   3.1446,6,   3.5159,6,  2165.9,2,  2278.0,2,   7.6525,2,    25.00, -999.00,9,  -999.0,9,  -999.0,   0.5327,2, -999.00,9,  -999.0,9, -999.00,9, -999.00,9,    15.3028,2, -999.00,9,  -999.0,9,     -999.0,     -999.0,9,     -999.0,9,     -999.0,     -999.0,9,     -999.0,     -999.0,9,     -999.0,     -999.0,     -999.0,9,     -999.0,9,     -999.0,9,     -999.0,9,14.37904065,2,       6.88,2,      43.09,2,      17.42,2
33RO20161119,        P18,     200,          1,         22,      11120,2,20170124,       0108,   -65.9887,  -102.9979,       4840,    55.5,   0.5170,  33.7950,2,  33.7992,2,    348.3,2,   345.5,2,    18.2,2,    25.3,2,    0.25,2,   1.822,2,   5.9274,2,   3.1880,2,   3.5752,2,  2151.8,2,  2278.3,6,   7.6887,2,    25.00, -999.00,9,  -999.0,9,  -999.0,   0.5047,2, -999.00,9,  -999.0,9, -999.00,9, -999.00,9,    14.7076,2, -999.00,9,  -999.0,9,     -999.0,     -999.0,9,     -999.0,9,     -999.0,     -999.0,9,     -999.0,     -999.0,9,     -999.0,     -999.0,     -999.0,9,     -999.0,9,     -999.0,9,     -999.0,9,13.50480929,2,       6.43,2,      45.85,2,      20.09,2
33RO20161119,        P18,     200,          1,         23,      11121,2,20170124,       0108,   -65.9887,  -102.9979,       4840,    20.2,   2.1300,  33.7663,2,  33.7793,2,    333.3,2,   333.1,2,    10.9,2,    23.9,2,    0.28,2,   1.596,2,   5.5133,2,   3.0096,2,   3.4617,2,  2142.9,6,  2276.1,2,   7.7108,2,    25.00, -999.00,9,  -999.0,9,  -999.0,   0.4304,2, -999.00,9,  -999.0,9, -999.00,9, -999.00,9,    14.0055,2, -999.00,9,  -999.0,9,     -999.0,     -999.0,9,     -999.0,9,     -999.0,     -999.0,9,     -999.0,     -999.0,9,     -999.0,     -999.0,     -999.0,9,     -999.0,9,     -999.0,9,     -999.0,9,12.83040435,2,       6.79,2,      46.21,2,       20.6,2
33RO20161119,        P18,     200,          1,         24,      11122,2,20170124,       0108,   -65.9887,  -102.9979,       4840,     3.0,   2.1645,  33.7530,2,  33.7531,2,    334.1,2,   332.7,2,    10.3,2,    23.7,2,    0.28,2,   1.546,2,   5.4796,2,   2.9939,2,   3.4490,2,  2141.1,2,  2277.7,2,   7.7124,2,    25.00, -999.00,9,  -999.0,9,  -999.0,   0.4027,2, -999.00,9,  -999.0,9, -999.00,9, -999.00,9,    13.9465,2, -999.00,9,  -999.0,9,     -999.0,     -999.0,9,     -999.0,9,     -999.0,     -999.0,9,     -999.0,     -999.0,9,     -999.0,     -999.0,     -999.0,9,     -999.0,9,     -999.0,9,     -999.0,9,12.91566833,2,       6.78,2,      44.48,2,      15.46,2