BOTTLE,20230606CCHSIOCBG
EXPOCODE,SECT_ID,STNNBR,CASTNO,SAMPNO,BTLNBR,BTLNBR_FLAG_W,DATE,TIME,LATITUDE,LONGITUDE,DEPTH,CTDPRS,CTDTMP,CTDSAL,CTDSAL_FLAG_W,SALNTY,SALNTY_FLAG_W,CTDOXY,CTDOXY_FLAG_W,OXYGEN,OXYGEN_FLAG_W,SILCAT,SILCAT_FLAG_W,NITRAT,NITRAT_FLAG_W,NITRIT,NITRIT_FLAG_W,PHSPHT,PHSPHT_FLAG_W,CFC-11,CFC-11_FLAG_W,CFC-12,CFC-12_FLAG_W,SF6,SF6_FLAG_W,TCARBN,TCARBN_FLAG_W,ALKALI,ALKALI_FLAG_W,PH_SWS,PH_SWS_FLAG_W,PH_TMP,DELC13,DELC13_FLAG_W,DELC14,DELC14_FLAG_W,C14ERR,CCL4,CCL4_FLAG_W,POC,POC_FLAG_W,DOC,DOC_FLAG_W,TDN,TDN_FLAG_W,PON,PON_FLAG_W,N2O,N2O_FLAG_W,D15N_NO3,D15N_NO3_FLAG_W,14C-DOC,14C-DOC_FLAG_W,14C-DOCERR,13C-DOC,13C-DOC_FLAG_W,N2/ARGON_UNSTRIPPED,N2/ARGON_UNSTRIPPED_FLAG_W,N2/ARGON_UNSTRIPPED_ERROR,N2/ARGON,N2/ARGON_FLAG_W,N2/ARGON_ERROR,D15N_N2,D15N_N2_FLAG_W,D15N_N2_ERROR,D15N_NO3_ERROR,D15N_NO2+NO3,D15N_NO2+NO3_FLAG_W,D18O_NO2+NO3,D18O_NO2+NO3_FLAG_W,D18O_NO3,D18O_NO3_FLAG_W,TDP,TDP_FLAG_W,N2O_ALT_1,N2O_ALT_1_FLAG_W,D15N_N2O,D15N_N2O_FLAG_W,D18O_N2O,D18O_N2O_FLAG_W,D15N_ALPHA_N2O,D15N_ALPHA_N2O_FLAG_W
,,,,,,,,,,,METERS,DBAR,ITS-90,PSS-78,,PSS-78,,UMOL/KG,,UMOL/KG,,UMOL/KG,,UMOL/KG,,UMOL/KG,,UMOL/KG,,PMOL/KG,,PMOL/KG,,FMOL/KG,,UMOL/KG,,UMOL/KG,,,,DEG C,/MILLE,,/MILLE,,/MILLE,PMOL/KG,,UG/KG,,UMOL/KG,,UMOL/KG,,UG/KG,,NMOL/KG,,/MILLE,,/MILLE,,/MILLE,/MILLE,,,,,,,,/MILLE,,/MILLE,/MILLE,/MILLE,,/MILLE,,/MILLE,,UMOL/KG,,NMOL/L,,/MILLE,,/MILLE,,/MILLE,
33RO20161119,        P18,     113,          1,          1,      11010,2,20161220,       1848,   -22.5006,  -102.9973,       4023,  4061.7,   1.8517,  34.6865,2,  34.6882,2,    150.0,2,   150.1,2,   126.8,6,    35.5,6,    0.00,6,   2.484,6,   0.0010,2,   0.0011,2,   0.0000,2,  2323.3,6,  2419.4,2,   7.5767,2,    25.00, -999.00,9,  -999.0,9,  -999.0,        0,2, -999.00,9,    35.5,2,   37.10,2, -999.00,9,    20.8306,2, -999.00,9,  -999.0,9,     -999.0,     -999.0,9,     -999.0,9,     -999.0,     -999.0,9,     -999.0,     -999.0,9,     -999.0,     -999.0,     -999.0,9,     -999.0,9,     -999.0,9,     -999.0,9,     -999.0,9,     -999.0,9,     -999.0,9,     -999.0,9
33RO20161119,        P18,     113,          1,          2,      11101,2,20161220,       1848,   -22.5006,  -102.9973,       4023,  3652.3,   1.8127,  34.6859,2,  34.6876,2,    150.3,2,   150.0,2,   126.3,6,    35.5,6,    0.00,6,   2.484,6,   0.0118,2,   0.0083,2,   0.0000,2,  2321.4,2,  2417.3,6,   7.5768,2,    25.00, -999.00,9,  -999.0,9,  -999.0,   0.0395,2, -999.00,9,    36.4,2,   37.50,2, -999.00,9,     20.974,2, -999.00,9,  -999.0,9,     -999.0,     -999.0,9,     -999.0,9,     -999.0,     -999.0,9,     -999.0,     -999.0,9,     -999.0,     -999.0,     -999.0,9,     -999.0,9,     -999.0,9,     -999.0,9,     -999.0,9,     -999.0,9,     -999.0,9,     -999.0,9
33RO20161119,        P18,     113,          1,          3,      11102,2,20161220,       1848,   -22.5006,  -102.9973,       4023,  3295.6,   1.7907,  34.6835,2,  34.6907,4,    152.1,2,   151.4,6,   124.5,6,    35.3,6,    0.00,6,   2.475,6,   0.0011,2,   0.0010,2,   0.0000,2,  2317.8,2,  2417.9,2,   7.5747,6,    25.00, -999.00,9,  -999.0,9,  -999.0,   0.0265,2, -999.00,9,    37.8,2,   38.70,2, -999.00,9,     20.723,2, -999.00,9,  -999.0,9,     -999.0,     -999.0,9,     -999.0,9,     -999.0,     -999.0,9,     -999.0,     -999.0,9,     -999.0,     -999.0,     -999.0,9,     -999.0,9,     -999.0,9,     -999.0,9,     -999.0,9,     -999.0,9,     -999.0,9,     -999.0,9
33RO20161119,        P18,     113,          1,          4,      11103,2,20161220,       1848,   -22.5006,  -102.9973,       4023,  2975.5,   1.8012,  34.6788,2,  34.6805,2,    154.0,2,   154.1,2,   121.2,6,    35.0,6,    0.00,6,   2.453,6,   0.0005,2,   0.0003,2,   0.0000,2,  2311.5,2,  2408.2,2,   7.5764,2,    25.00, -999.00,9,  -999.0,9,  -999.0,        0,2, -999.00,9,    38.6,2,   38.50,2, -999.00,9,    21.2347,2, -999.00,9,  -999.0,9,     -999.0,     -999.0,9,     -999.0,9,     -999.0,     -999.0,9,     -999.0,     -999.0,9,     -999.0,     -999.0,     -999.0,9,     -999.0,9,     -999.0,9,     -999.0,9,     -999.0,9,     -999.0,9,     -999.0,9,     -999.0,9
33RO20161119,        P18,     113,          1,          5,      11104,2,20161220,       1848,   -22.5006,  -102.9973,       4023,  2670.0,   1.8457,  34.6709,2,  34.6719,2,    156.5,2,   156.4,2,   116.9,2,    34.8,2,    0.00,2,   2.437,2,   0.0255,2,   0.0190,2,   0.0253,2,  2303.6,2,  2397.5,2,   7.5730,2,    25.00, -999.00,9,  -999.0,9,  -999.0,   0.0173,2, -999.00,9,    37.0,2,   37.00,2, -999.00,9,    20.9296,2, -999.00,9,  -999.0,9,     -999.0,     -999.0,9,     -999.0,9,     -999.0,     -999.0,9,     -999.0,     -999.0,9,     -999.0,     -999.0,     -999.0,9,     -999.0,9,     -999.0,9,     -999.0,9,     -999.0,9,     -999.0,9,     -999.0,9,     -999.0,9
33RO20161119,        P18,     113,          1,          6,      11105,2,20161220,       1848,   -22.5006,  -102.9973,       4023,  2358.9,   1.9437,  34.6576,2,  34.6593,2,    154.3,2,   153.9,2,   113.7,2,    35.1,2,    0.00,2,   2.446,2,   0.0162,2,   0.0122,2,   0.0351,2,  2300.4,2,  2393.1,2,   7.5663,2,    25.00, -999.00,9,  -999.0,9,  -999.0,   0.0134,2, -999.00,9,    37.1,2,   39.20,2, -999.00,9,    21.9124,2, -999.00,9,  -999.0,9,     -999.0,     -999.0,9,     -999.0,9,     -999.0,     -999.0,9,     -999.0,     -999.0,9,     -999.0,     -999.0,     -999.0,9,     -999.0,9,     -999.0,9,     -999.0,9,     -999.0,9,     -999.0,9,     -999.0,9,     -999.0,9
33RO20161119,        P18,     113,          1,          7,      11106,2,20161220,       1848,   -22.5006,  -102.9973,       4023,  2059.5,   2.1285,  34.6365,2,  34.6449,4,    149.2,2,   149.2,2,   108.9,2,    35.5,2,    0.00,2,   2.484,2,   0.0013,2,   0.0019,2,   0.0000,2,  2298.8,2,  2389.0,2,   7.5535,2,    25.00, -999.00,9,  -999.0,9,  -999.0,        0,2, -999.00,9,    35.9,2,   38.70,2, -999.00,9,     22.798,2, -999.00,9,  -999.0,9,     -999.0,     -999.0,9,     -999.0,9,     -999.0,     -999.0,9,     -999.0,     -999.0,9,     -999.0,     -999.0,     -999.0,9,     -999.0,9,     -999.0,9,     -999.0,9,     -999.0,9,     -999.0,9,     -999.0,9,     -999.0,9
33RO20161119,        P18,     113,          1,          8,      11107,2,20161220,       1848,   -22.5006,  -102.9973,       4023,  1749.5,   2.5094,  34.6027,2,  34.6046,2,    134.5,2,   134.7,2,   102.6,2,    36.7,2,    0.00,2,   2.589,2,   0.0121,2,   0.0078,2,   0.0000,2,  2300.1,6,  2379.9,2,   7.5310,2,    25.00, -999.00,9,  -999.0,9,  -999.0,        0,2, -999.00,9,    37.9,2,   38.40,2, -999.00,9,    25.1015,2, -999.00,9,  -999.0,9,     -999.0,     -999.0,9,     -999.0,9,     -999.0,     -999.0,9,     -999.0,     -999.0,9,     -999.0,     -999.0,     -999.0,9,     -999.0,9,     -999.0,9,     -999.0,9,     -999.0,9,     -999.0,9,     -999.0,9,     -999.0,9
33RO20161119,        P18,     113,          1,          9,      11108,2,20161220,       1848,   -22.5006,  -102.9973,       4023,  1475.4,   3.0410,  34.5700,2,  34.5725,2,    119.6,2,   119.3,2,    94.0,2,    38.0,2,    0.00,2,   2.685,2,   0.0035,2,   0.0025,2,   0.0000,2,  2300.0,2,  2368.0,2,   7.5048,2,    25.00, -999.00,9,  -999.0,9,  -999.0,   0.0183,2, -999.00,9,    37.1,2,   41.90,2, -999.00,9,    26.6147,2, -999.00,9,  -999.0,9,     -999.0,     -999.0,9,     -999.0,9,     -999.0,     -999.0,9,     -999.0,     -999.0,9,     -999.0,     -999.0,     -999.0,9,     -999.0,9,     -999.0,9,     -999.0,9,     -999.0,9,     -999.0,9,     -999.0,9,     -999.0,9
33RO20161119,        P18,     113,          1,         10,      11109,2,20161220,       1848,   -22.5006,  -102.9973,       4023,  1305.4,   3.3775,  34.5519,2,  34.5517,2,    113.9,2,   113.7,2,    87.0,2,    38.3,2,    0.00,2,   2.716,2,   0.0019,6,   0.0011,6,   0.0000,6,  2294.5,2,  2360.4,2,   7.4952,2,    25.00, -999.00,9,  -999.0,9,  -999.0,   0.0303,2, -999.00,9,    39.9,2,   43.00,2, -999.00,9,    28.0422,2, -999.00,9,  -999.0,9,     -999.0,     -999.0,9,     -999.0,9,     -999.0,     -999.0,9,     -999.0,     -999.0,9,     -999.0,     -999.0,     -999.0,9,     -999.0,9,     -999.0,9,     -999.0,9,     -999.0,9,     -999.0,9,     -999.0,9,     -999.0,9
33RO20161119,        P18,     113,          1,         11,      11110,2,20161220,       1848,   -22.5006,  -102.9973,       4023,  1165.7,   3.7201,  34.5325,2,  34.5328,2,    112.2,2,   112.0,2,    78.7,2,    38.3,2,    0.00,2,   2.699,2,   0.0052,2,   0.0025,2,   0.0000,2,  2286.1,2,  2351.4,2,   7.4927,2,    25.00, -999.00,9,  -999.0,9,  -999.0,   0.4026,2, -999.00,9,    37.4,2,   41.00,2, -999.00,9,    29.3779,2, -999.00,9,  -999.0,9,     -999.0,     -999.0,9,     -999.0,9,     -999.0,     -999.0,9,     -999.0,     -999.0,9,     -999.0,     -999.0,     -999.0,9,     -999.0,9,     -999.0,9,     -999.0,9,     -999.0,9,     -999.0,9,     -999.0,9,     -999.0,9
33RO20161119,        P18,     113,          1,         12,      11111,2,20161220,       1848,   -22.5006,  -102.9973,       4023,  1025.1,   4.0939,  34.4982,2,  34.4992,2,    117.5,2,   116.5,2,    67.1,2,    37.8,2,    0.00,2,   2.643,2,   0.0073,2,   0.0047,2,   0.0000,2,  2269.9,2,  2337.3,2,   7.5008,2,    25.00, -999.00,9,  -999.0,9,  -999.0,   0.8627,2, -999.00,9,    38.1,2,   42.80,2, -999.00,9,    29.4568,2, -999.00,9,  -999.0,9,     -999.0,     -999.0,9,     -999.0,9,     -999.0,     -999.0,9,     -999.0,     -999.0,9,     -999.0,     -999.0,     -999.0,9,     -999.0,9,     -999.0,9,     -999.0,9,     -999.0,9,     -999.0,9,     -999.0,9,     -999.0,9
33RO20161119,        P18,     113,          1,         13,      11112,2,20161220,       1848,   -22.5006,  -102.9973,       4023,   895.1,   4.3814,  34.4372,2,  34.4405,2,    123.3,2,   122.9,2,    52.7,2,    37.5,2,    0.00,2,   2.619,2,   0.0424,2,   0.0238,2,   0.0000,2,  2253.6,2,  2321.6,6,   7.5006,2,    25.00, -999.00,9,  -999.0,9,  -999.0,   1.2759,2, -999.00,9,    39.6,2,   41.20,2, -999.00,9,    29.8507,2, -999.00,9,  -999.0,9,     -999.0,     -999.0,9,     -999.0,9,     -999.0,     -999.0,9,     -999.0,     -999.0,9,     -999.0,     -999.0,     -999.0,9,     -999.0,9,     -999.0,9,     -999.0,9,     -999.0,9,     -999.0,9,     -999.0,9,     -999.0,9
33RO20161119,        P18,     113,          1,         14,      11113,2,20161220,       1848,   -22.5006,  -102.9973,       4023,   769.4,   4.9057,  34.3783,2,  34.3802,2,    135.4,2,   135.2,2,    36.6,2,    36.0,2,    0.00,2,   2.513,2,   0.3209,2,   0.1654,2,   0.0587,2,  2231.6,2,  2303.8,2,   7.5162,2,    25.00, -999.00,9,  -999.0,9,  -999.0,   0.8799,3, -999.00,9,    40.6,2,   39.60,2, -999.00,9,    30.7867,2, -999.00,9,  -999.0,9,     -999.0,     -999.0,9,     -999.0,9,     -999.0,     -999.0,9,     -999.0,     -999.0,9,     -999.0,     -999.0,     -999.0,9,     -999.0,9,     -999.0,9,     -999.0,9,     -999.0,9,     -999.0,9,     -999.0,9,     -999.0,9
33RO20161119,        P18,     113,          1,         15,      11114,2,20161220,       1848,   -22.5006,  -102.9973,       4023,   650.5,   5.7922,  34.3663,2,  34.3668,2,    145.4,2,   140.3,2,    24.7,2,    34.1,2,    0.00,2,   2.382,2,   1.2089,2,   0.5904,2,   0.1693,2,  2218.2,2,  2292.2,2,   7.5263,2,    25.00, -999.00,9,  -999.0,9,  -999.0,   0.4841,2, -999.00,9,    41.7,2,   38.90,2, -999.00,9,    33.6415,2, -999.00,9,  -999.0,9,     -999.0,     -999.0,9,     -999.0,9,     -999.0,     -999.0,9,     -999.0,     -999.0,9,     -999.0,     -999.0,     -999.0,9,     -999.0,9,     -999.0,9,     -999.0,9,     -999.0,9,     -999.0,9,     -999.0,9,     -999.0,9
33RO20161119,        P18,     113,          1,         16,      11115,2,20161220,       1848,   -22.5006,  -102.9973,       4023,   541.1,   6.4852,  34.3456,2,  34.3450,2,    168.4,2,   167.2,2,    15.5,2,    29.8,2,    0.00,2,   2.111,2,   2.4048,2,   1.1927,2,   0.4787,2,  2193.6,2,  2283.1,2,   7.5676,2,    25.00, -999.00,9,  -999.0,9,  -999.0,   0.5675,2, -999.00,9,    41.9,2,   32.10,2, -999.00,9,    30.3689,2, -999.00,9,  -999.0,9,     -999.0,     -999.0,9,     -999.0,9,     -999.0,     -999.0,9,     -999.0,     -999.0,9,     -999.0,     -999.0,     -999.0,9,     -999.0,9,     -999.0,9,     -999.0,9,     -999.0,9,     -999.0,9,     -999.0,9,     -999.0,9
33RO20161119,        P18,     113,          1,         17,      11116,2,20161220,       1848,   -22.5006,  -102.9973,       4023,   435.1,   7.8676,  34.3858,2,  34.3932,2,    128.4,2,   128.3,2,    14.5,2,    29.1,2,    0.01,2,   2.182,2,   2.4040,3,   1.2266,3,   0.5663,3,  2208.5,2,  2281.7,2,   7.5200,2,    25.00, -999.00,9,  -999.0,9,  -999.0,   1.1374,2, -999.00,9,    43.3,2,   32.80,2, -999.00,9,    34.6313,3, -999.00,9,  -999.0,9,     -999.0,     -999.0,9,     -999.0,9,     -999.0,     -999.0,9,     -999.0,     -999.0,9,     -999.0,     -999.0,     -999.0,9,     -999.0,9,     -999.0,9,     -999.0,9,     -999.0,9,     -999.0,9,     -999.0,9,     -999.0,9
33RO20161119,        P18,     113,          1,         18,      11117,2,20161220,       1848,   -22.5006,  -102.9973,       4023,   334.8,  10.6904,  34.3689,2,  34.3881,2,    156.3,2,   152.1,2,     7.5,2,    19.0,2,    0.00,2,   1.638,2,   2.8720,2,   1.5938,2,   1.1121,2,  2163.7,2,  2274.4,2,   7.6378,2,    25.00, -999.00,9,  -999.0,9,  -999.0,   1.1492,2, -999.00,9,    43.8,2,   21.40,2, -999.00,9,    24.8212,2, -999.00,9,  -999.0,9,     -999.0,     -999.0,9,     -999.0,9,     -999.0,     -999.0,9,     -999.0,     -999.0,9,     -999.0,     -999.0,     -999.0,9,     -999.0,9,     -999.0,9,     -999.0,9,     -999.0,9,     -999.0,9,     -999.0,9,     -999.0,9
33RO20161119,        P18,     113,          1,         19,      11083,2,20161220,       1848,   -22.5006,  -102.9973,       4023,   249.6,  15.8122,  34.9057,2,  34.9188,2,    203.6,2,   202.7,6,     0.8,2,     5.0,2,    0.02,2,   0.612,2,   2.5505,2,   1.5400,2,   1.6097,2,  2095.1,2,  2304.1,2,   7.8681,6,    25.00, -999.00,9,  -999.0,9,  -999.0,   1.4289,2, -999.00,9,    49.9,2,    8.90,2, -999.00,9,    10.8451,2, -999.00,9,  -999.0,9,     -999.0,     -999.0,9,     -999.0,9,     -999.0,     -999.0,9,     -999.0,     -999.0,9,     -999.0,     -999.0,     -999.0,9,     -999.0,9,     -999.0,9,     -999.0,9,     -999.0,9,     -999.0,9,     -999.0,9,     -999.0,9
33RO20161119,        P18,     113,          1,         20,      11118,2,20161220,       1848,   -22.5006,  -102.9973,       4023,   170.0,  20.6943,  35.8659,2,  35.8882,2,    220.2,2,   216.0,2,     0.5,2,     0.0,2,    0.01,2,   0.241,2,   2.0055,6,   1.2460,6,   1.5597,6,  2084.8,2,  2367.1,6,   7.9851,2,    25.00, -999.00,9,  -999.0,9,  -999.0,   1.7015,2, -999.00,9,    63.0,2,    3.60,2, -999.00,9,     7.5029,2, -999.00,9,  -999.0,9,     -999.0,     -999.0,9,     -999.0,9,     -999.0,     -999.0,9,     -999.0,     -999.0,9,     -999.0,     -999.0,     -999.0,9,     -999.0,9,     -999.0,9,     -999.0,9,     -999.0,9,     -999.0,9,     -999.0,9,     -999.0,9
33RO20161119,        P18,     113,          1,         21,      11119,2,20161220,       1848,   -22.5006,  -102.9973,       4023,   104.9,  22.5524,  36.2507,2,  36.2515,2,    220.6,2,   218.0,2,     0.5,2,     0.0,2,    0.00,2,   0.264,2,   1.8688,2,   1.1615,2,   1.5381,2,  2086.9,2,  2395.4,2,   8.0210,2,    25.00, -999.00,9,  -999.0,9,  -999.0,    1.681,2, -999.00,9,    67.5,2,    3.90,2, -999.00,9,     7.1887,2, -999.00,9,  -999.0,9,     -999.0,     -999.0,9,     -999.0,9,     -999.0,     -999.0,9,     -999.0,     -999.0,9,     -999.0,     -999.0,     -999.0,9,     -999.0,9,     -999.0,9,     -999.0,9,     -999.0,9,     -999.0,9,     -999.0,9,     -999.0,9
33RO20161119,        P18,     113,          1,         22,      11120,2,20161220,       1848,   -22.5006,  -102.9973,       4023,    50.2,  24.0365,  36.4429,2,  36.4369,2,    211.2,2,   212.2,2,     0.6,2,     0.0,2,    0.01,2,   0.293,2,   1.7526,2,   1.0996,2,   1.4520,2,  2092.9,2,  2406.9,2,   8.0276,2,    25.00, -999.00,9,  -999.0,9,  -999.0,   0.0338,2, -999.00,9,    70.5,2,    4.10,2, -999.00,9,     6.8306,2, -999.00,9,  -999.0,9,     -999.0,     -999.0,9,     -999.0,9,     -999.0,     -999.0,9,     -999.0,     -999.0,9,     -999.0,     -999.0,     -999.0,9,     -999.0,9,     -999.0,9,     -999.0,9,     -999.0,9,     -999.0,9,     -999.0,9,     -999.0,9
33RO20161119,        P18,     113,          1,         23,      11121,2,20161220,       1848,   -22.5006,  -102.9973,       4023,    20.2,  24.0888,  36.3543,2,  36.3442,2,    210.4,2,   211.5,2,     0.5,2,     0.0,2,    0.00,2,   0.271,2,   1.7512,2,   1.0998,2,   1.4564,2,  2093.3,2,  2403.4,2,   8.0200,2,    25.00, -999.00,9,  -999.0,9,  -999.0,   0.0444,2, -999.00,9,    70.4,2,    3.40,2, -999.00,9,     6.7847,2, -999.00,9,  -999.0,9,     -999.0,     -999.0,9,     -999.0,9,     -999.0,     -999.0,9,     -999.0,     -999.0,9,     -999.0,     -999.0,     -999.0,9,     -999.0,9,     -999.0,9,     -999.0,9,     -999.0,9,     -999.0,9,     -999.0,9,     -999.0,9
33RO20161119,        P18,     113,          1,         24,      11122,2,20161220,       1848,   -22.5006,  -102.9973,       4023,     4.0,  24.2241,  36.3881,2,  36.3939,2,    209.2,2,   210.8,2,     0.5,2,     0.0,2,    0.00,2,   0.280,2,   1.7351,2,   1.0943,2,   1.4708,2,  2092.8,6,  2403.9,2,   8.0235,2,    25.00, -999.00,9,  -999.0,9,  -999.0,   0.4769,2, -999.00,9,    70.0,2,    4.20,2, -999.00,9,     6.6572,2, -999.00,9,  -999.0,9,     -999.0,     -999.0,9,     -999.0,9,     -999.0,     -999.0,9,     -999.0,     -999.0,9,     -999.0,     -999.0,     -999.0,9,     -999.0,9,     -999.0,9,     -999.0,9,     -999.0,9,     -999.0,9,     -999.0,9,     -999.0,9