BOTTLE,20230606CCHSIOCBG
EXPOCODE,SECT_ID,STNNBR,CASTNO,SAMPNO,BTLNBR,BTLNBR_FLAG_W,DATE,TIME,LATITUDE,LONGITUDE,DEPTH,CTDPRS,CTDTMP,CTDSAL,CTDSAL_FLAG_W,SALNTY,SALNTY_FLAG_W,CTDOXY,CTDOXY_FLAG_W,OXYGEN,OXYGEN_FLAG_W,SILCAT,SILCAT_FLAG_W,NITRAT,NITRAT_FLAG_W,NITRIT,NITRIT_FLAG_W,PHSPHT,PHSPHT_FLAG_W,CFC-11,CFC-11_FLAG_W,CFC-12,CFC-12_FLAG_W,SF6,SF6_FLAG_W,TCARBN,TCARBN_FLAG_W,ALKALI,ALKALI_FLAG_W,PH_SWS,PH_SWS_FLAG_W,PH_TMP,DELC13,DELC13_FLAG_W,DELC14,DELC14_FLAG_W,C14ERR,CCL4,CCL4_FLAG_W,POC,POC_FLAG_W,DOC,DOC_FLAG_W,TDN,TDN_FLAG_W,PON,PON_FLAG_W,N2O,N2O_FLAG_W,D15N_NO3,D15N_NO3_FLAG_W,14C-DOC,14C-DOC_FLAG_W,14C-DOCERR,13C-DOC,13C-DOC_FLAG_W,N2/ARGON_UNSTRIPPED,N2/ARGON_UNSTRIPPED_FLAG_W,N2/ARGON_UNSTRIPPED_ERROR,N2/ARGON,N2/ARGON_FLAG_W,N2/ARGON_ERROR,D15N_N2,D15N_N2_FLAG_W,D15N_N2_ERROR,D15N_NO3_ERROR,D15N_NO2+NO3,D15N_NO2+NO3_FLAG_W,D18O_NO2+NO3,D18O_NO2+NO3_FLAG_W,D18O_NO3,D18O_NO3_FLAG_W,TDP,TDP_FLAG_W,N2O_ALT_1,N2O_ALT_1_FLAG_W,D15N_N2O,D15N_N2O_FLAG_W,D18O_N2O,D18O_N2O_FLAG_W,D15N_ALPHA_N2O,D15N_ALPHA_N2O_FLAG_W
,,,,,,,,,,,METERS,DBAR,ITS-90,PSS-78,,PSS-78,,UMOL/KG,,UMOL/KG,,UMOL/KG,,UMOL/KG,,UMOL/KG,,UMOL/KG,,PMOL/KG,,PMOL/KG,,FMOL/KG,,UMOL/KG,,UMOL/KG,,,,DEG C,/MILLE,,/MILLE,,/MILLE,PMOL/KG,,UG/KG,,UMOL/KG,,UMOL/KG,,UG/KG,,NMOL/KG,,/MILLE,,/MILLE,,/MILLE,/MILLE,,,,,,,,/MILLE,,/MILLE,/MILLE,/MILLE,,/MILLE,,/MILLE,,UMOL/KG,,NMOL/L,,/MILLE,,/MILLE,,/MILLE,
33RO20161119,        P18,     108,          1,          1,      11010,2,20161219,       1256,   -19.9999,  -103.0000,       4215,  4283.2,   1.8570,  34.6876,2,  34.6859,2,    150.1,2,   151.0,2,   127.3,6,    35.3,6,    0.00,6,   2.550,6,   0.0028,2,   0.0019,2,   0.0000,2,  2323.4,6,  2422.8,2,   7.5744,6,    25.00, -999.00,9,  -999.0,9,  -999.0,        0,2, -999.00,9,  -999.0,9, -999.00,9, -999.00,9,    20.1594,2, -999.00,9,  -999.0,9,     -999.0,     -999.0,9,     -999.0,9,     -999.0,     -999.0,9,     -999.0,     -999.0,9,     -999.0,     -999.0,     -999.0,9,     -999.0,9,     -999.0,9,     -999.0,9,     -999.0,9,     -999.0,9,     -999.0,9,     -999.0,9
33RO20161119,        P18,     108,          1,          2,      11101,2,20161219,       1256,   -19.9999,  -103.0000,       4215,  3914.2,   1.8180,  34.6875,2,  34.6863,2,    149.7,2,   149.9,2,   127.3,6,    35.4,6,    0.01,6,   2.551,6,-999.0000,9,-999.0000,9,-999.0000,9,  2322.9,2,  2419.0,2,   7.5757,2,    25.00, -999.00,9,  -999.0,9,  -999.0,-999.0000,9, -999.00,9,  -999.0,9, -999.00,9, -999.00,9,     -999.0,9,    4.72,2,  -999.0,9,     -999.0,     -999.0,9,     -999.0,9,     -999.0,     -999.0,9,     -999.0,     -999.0,9,     -999.0,     -999.0,     -999.0,9,     -999.0,9,     -999.0,9,     -999.0,9,     -999.0,9,     -999.0,9,     -999.0,9,     -999.0,9
33RO20161119,        P18,     108,          1,          3,      11102,2,20161219,       1256,   -19.9999,  -103.0000,       4215,  3548.7,   1.7887,  34.6863,2,  34.6865,2,    150.6,2,   150.9,2,   126.9,6,    35.4,6,    0.00,6,   2.557,6,   0.0024,2,   0.0011,2,   0.0000,2,  2320.8,2,  2416.4,6,   7.5740,2,    25.00, -999.00,9,  -999.0,9,  -999.0,        0,2, -999.00,9,  -999.0,9, -999.00,9, -999.00,9,    20.4926,2, -999.00,9,  -999.0,9,     -999.0,     -999.0,9,     -999.0,9,     -999.0,     -999.0,9,     -999.0,     -999.0,9,     -999.0,     -999.0,     -999.0,9,     -999.0,9,     -999.0,9,     -999.0,9,     -999.0,9,     -999.0,9,     -999.0,9,     -999.0,9
33RO20161119,        P18,     108,          1,          4,      11103,2,20161219,       1256,   -19.9999,  -103.0000,       4215,  3225.0,   1.7762,  34.6841,2,  34.6836,2,    151.2,2,   152.6,2,   125.5,6,    35.3,6,    0.00,6,   2.545,6,-999.0000,9,-999.0000,9,-999.0000,9,  2316.7,2,  2417.8,2,   7.5728,2,    25.00, -999.00,9,  -999.0,9,  -999.0,-999.0000,9, -999.00,9,  -999.0,9, -999.00,9, -999.00,9,     -999.0,9, -999.00,9,  -999.0,9,     -999.0,     -999.0,9,     -999.0,9,     -999.0,     -999.0,9,     -999.0,     -999.0,9,     -999.0,     -999.0,     -999.0,9,     -999.0,9,     -999.0,9,     -999.0,9,     -999.0,9,     -999.0,9,     -999.0,9,     -999.0,9
33RO20161119,        P18,     108,          1,          5,      11104,2,20161219,       1256,   -19.9999,  -103.0000,       4215,  2899.5,   1.7913,  34.6791,2,  34.6791,2,    153.2,2,   153.8,2,   122.3,2,    35.1,2,    0.00,2,   2.529,2,-999.0000,9,-999.0000,9,-999.0000,9,  2312.2,2,  2411.0,2,   7.5706,2,    25.00, -999.00,9,  -999.0,9,  -999.0,-999.0000,9, -999.00,9,  -999.0,9, -999.00,9, -999.00,9,     -999.0,9, -999.00,9,  -999.0,9,     -999.0,     -999.0,9,     -999.0,9,     -999.0,     -999.0,9,     -999.0,     -999.0,9,     -999.0,     -999.0,     -999.0,9,     -999.0,9,     -999.0,9,     -999.0,9,     -999.0,9,     -999.0,9,     -999.0,9,     -999.0,9
33RO20161119,        P18,     108,          1,          6,      11105,2,20161219,       1256,   -19.9999,  -103.0000,       4215,  2577.4,   1.8473,  34.6701,2,  34.6712,2,    154.7,2,   155.1,2,   117.9,2,    34.9,2,    0.00,2,   2.509,2,   0.0015,2,   0.0000,2,   0.0000,2,  2306.0,2,  2399.3,2,   7.5690,2,    25.00, -999.00,9,  -999.0,9,  -999.0,        0,2, -999.00,9,  -999.0,9, -999.00,9, -999.00,9,    21.0368,2, -999.00,9,  -999.0,9,     -999.0,     -999.0,9,     -999.0,9,     -999.0,     -999.0,9,     -999.0,     -999.0,9,     -999.0,     -999.0,     -999.0,9,     -999.0,9,     -999.0,9,     -999.0,9,     -999.0,9,     -999.0,9,     -999.0,9,     -999.0,9
33RO20161119,        P18,     108,          1,          7,      11106,2,20161219,       1256,   -19.9999,  -103.0000,       4215,  2260.8,   1.9837,  34.6543,2,  34.6566,2,    148.9,2,   149.3,2,   115.4,2,    35.4,2,    0.00,2,   2.553,2,-999.0000,9,-999.0000,9,-999.0000,9,  2305.6,2,  2396.9,2,   7.5565,2,    25.00, -999.00,9,  -999.0,9,  -999.0,-999.0000,9, -999.00,9,  -999.0,9, -999.00,9, -999.00,9,     -999.0,9, -999.00,9,  -999.0,9,     -999.0,     -999.0,9,       37.9,2,     -999.0,      37.98,2,     -999.0,     -999.0,9,     -999.0,     -999.0,     -999.0,9,     -999.0,9,     -999.0,9,     -999.0,9,19.76971066,2,       9.16,2,      48.87,2,      20.76,2
33RO20161119,        P18,     108,          1,          8,      11107,2,20161219,       1256,   -19.9999,  -103.0000,       4215,  1942.2,   2.2920,  34.6278,2,  34.6291,2,    132.3,2,   133.3,2,   112.4,2,    37.0,2,    0.00,2,   2.656,2,-999.0000,9,-999.0000,9,-999.0000,9,  2312.5,6,  2390.0,2,   7.5289,2,    25.00, -999.00,9,  -999.0,9,  -999.0,-999.0000,9, -999.00,9,  -999.0,9, -999.00,9, -999.00,9,     -999.0,9, -999.00,9,  -999.0,9,     -999.0,     -999.0,9,     -999.0,9,     -999.0,     -999.0,9,     -999.0,     -999.0,9,     -999.0,     -999.0,     -999.0,9,     -999.0,9,     -999.0,9,     -999.0,9,     -999.0,9,     -999.0,9,     -999.0,9,     -999.0,9
33RO20161119,        P18,     108,          1,          9,      11108,2,20161219,       1256,   -19.9999,  -103.0000,       4215,  1619.8,   2.7871,  34.5954,2,  34.5975,2,    110.1,2,   110.4,2,   105.4,2,    38.9,2,    0.01,2,   2.816,2,   0.0025,2,   0.0012,2,   0.0000,2,  2316.3,2,  2281.6,4,   7.4875,2,    25.00, -999.00,9,  -999.0,9,  -999.0,   0.0147,2, -999.00,9,  -999.0,9, -999.00,9, -999.00,9,    27.3556,2, -999.00,9,  -999.0,9,     -999.0,     -999.0,9,       38.0,2,     -999.0,      38.12,2,     -999.0,     -999.0,9,     -999.0,     -999.0,     -999.0,9,     -999.0,9,     -999.0,9,     -999.0,9,25.07426713,2,       9.98,2,      51.89,2,      22.33,2
33RO20161119,        P18,     108,          1,         10,      11109,2,20161219,       1256,   -19.9999,  -103.0000,       4215,  1420.6,   3.1584,  34.5698,2,  34.5701,2,    103.8,2,   104.5,2,    95.7,2,    39.4,2,    0.00,2,   2.849,2,-999.0000,9,-999.0000,9,-999.0000,9,  2309.6,2,  2373.0,2,   7.4742,2,    25.00, -999.00,9,  -999.0,9,  -999.0,-999.0000,9, -999.00,9,  -999.0,9, -999.00,9, -999.00,9,     -999.0,9,    5.46,2,  -999.0,9,     -999.0,     -999.0,9,     -999.0,9,     -999.0,     -999.0,9,     -999.0,     -999.0,9,     -999.0,     -999.0,     -999.0,9,     -999.0,9,     -999.0,9,     -999.0,9,     -999.0,9,     -999.0,9,     -999.0,9,     -999.0,9
33RO20161119,        P18,     108,          1,         11,      11110,2,20161219,       1256,   -19.9999,  -103.0000,       4215,  1268.4,   3.5024,  34.5499,2,  34.5497,2,     97.3,2,    97.6,2,    87.7,2,    39.9,2,    0.00,2,   2.886,2,-999.0000,9,-999.0000,9,-999.0000,9,  2305.8,2,  2358.9,2,   7.4639,2,    25.00, -999.00,9,  -999.0,9,  -999.0,-999.0000,9, -999.00,9,  -999.0,9, -999.00,9, -999.00,9,     -999.0,9,    6.05,2,  -999.0,9,     -999.0,     -999.0,9,      37.84,2,     -999.0,       37.9,2,     -999.0,     -999.0,9,     -999.0,     -999.0,     -999.0,9,     -999.0,9,     -999.0,9,     -999.0,9,27.86788607,2,       9.91,2,      51.09,2,      22.59,2
33RO20161119,        P18,     108,          1,         12,      11111,2,20161219,       1256,   -19.9999,  -103.0000,       4215,  1129.8,   3.8718,  34.5296,2,  34.5375,2,     93.3,2,    94.5,6,    78.8,2,    40.0,2,    0.00,2,   2.893,2,   0.0031,6,   0.0012,6,   0.0000,6,  2295.5,2,  2350.0,2,   7.4586,2,    25.00, -999.00,9,  -999.0,9,  -999.0,   1.2464,3, -999.00,9,  -999.0,9, -999.00,9, -999.00,9,    31.3413,2,    6.47,2,  -999.0,9,     -999.0,     -999.0,9,      37.83,2,     -999.0,       37.9,2,     -999.0,     -999.0,9,     -999.0,       0.16,     -999.0,9,     -999.0,9,     -999.0,9,     -999.0,9,28.74672774,2,       9.71,2,       51.0,2,      21.79,2
33RO20161119,        P18,     108,          1,         13,      11112,2,20161219,       1256,   -19.9999,  -103.0000,       4215,   990.7,   4.3507,  34.5015,2,  34.5064,2,     89.4,2,    90.0,2,    66.9,2,    40.4,2,    0.00,2,   2.894,2,-999.0000,9,-999.0000,9,-999.0000,9,  2286.0,2,  2334.8,2,   7.4474,2,    25.00, -999.00,9,  -999.0,9,  -999.0,-999.0000,9, -999.00,9,  -999.0,9, -999.00,9, -999.00,9,     -999.0,9,    6.46,2,  -999.0,9,     -999.0,     -999.0,9,      37.87,2,     -999.0,      37.94,2,     -999.0,     -999.0,9,     -999.0,     -999.0,     -999.0,9,     -999.0,9,     -999.0,9,     -999.0,9,30.38273684,2,       9.41,2,      50.69,2,      21.26,2
33RO20161119,        P18,     108,          1,         14,      11113,2,20161219,       1256,   -19.9999,  -103.0000,       4215,   855.0,   4.9049,  34.4677,2,  34.4683,2,     88.0,2,    87.9,2,    53.0,2,    40.4,2,    0.00,2,   2.877,2,-999.0000,9,-999.0000,9,-999.0000,9,  2273.3,2,  2321.0,2,   7.4449,2,    25.00, -999.00,9,  -999.0,9,  -999.0,-999.0000,9, -999.00,9,  -999.0,9, -999.00,9, -999.00,9,     -999.0,9,    6.83,2,  -999.0,9,     -999.0,     -999.0,9,      37.83,2,     -999.0,       37.9,2,     -999.0,     -999.0,9,     -999.0,     -999.0,     -999.0,9,     -999.0,9,     -999.0,9,     -999.0,9, 32.0673605,2,       9.02,2,       50.5,2,      21.35,2
33RO20161119,        P18,     108,          1,         15,      11114,2,20161219,       1256,   -19.9999,  -103.0000,       4215,   725.2,   5.5432,  34.4262,2,  34.4255,2,     99.7,2,    99.8,2,    37.0,2,    38.4,2,    0.01,2,   2.740,2,   0.6559,3,   0.4547,3,   0.8380,3,  2249.6,2,  2304.8,2,   7.4621,2,    25.00, -999.00,9,  -999.0,9,  -999.0,   0.4642,2, -999.00,9,  -999.0,9, -999.00,9, -999.00,9,    38.6337,3,    6.53,2,  -999.0,9,     -999.0,     -999.0,9,      37.76,2,     -999.0,      37.81,2,     -999.0,     -999.0,9,     -999.0,     -999.0,     -999.0,9,     -999.0,9,     -999.0,9,     -999.0,9,34.12225342,2,       8.44,2,      49.92,2,      18.11,2
33RO20161119,        P18,     108,          1,         16,      11115,2,20161219,       1256,   -19.9999,  -103.0000,       4215,   601.9,   6.3831,  34.4112,2,  34.4135,2,    113.0,2,   113.0,2,    24.8,2,    35.2,2,    0.00,2,   2.537,2,   0.7516,2,   0.3764,2,   0.1049,2,  2230.1,2,  2290.0,2,   7.4833,2,    25.00, -999.00,9,  -999.0,9,  -999.0,   0.4461,2, -999.00,9,  -999.0,9, -999.00,9, -999.00,9,    37.8123,2,     6.7,2,  -999.0,9,     -999.0,     -999.0,9,      37.78,2,     -999.0,      37.85,2,     -999.0,     -999.0,9,     -999.0,       0.13,     -999.0,9,     -999.0,9,     -999.0,9,     -999.0,9,34.67462913,2,        8.0,2,      49.92,2,      16.74,2
33RO20161119,        P18,     108,          1,         17,      11116,2,20161219,       1256,   -19.9999,  -103.0000,       4215,   491.7,   7.7011,  34.4653,2,  34.4681,2,     77.6,2,    77.6,2,    22.0,2,    34.7,2,    0.01,2,   2.602,2,   1.0300,2,   0.5151,2,   0.1874,2,  2246.6,2,  2287.1,6,   7.4354,6,    25.00, -999.00,9,  -999.0,9,  -999.0,    0.479,2, -999.00,9,  -999.0,9, -999.00,9, -999.00,9,    45.1265,2,    8.76,2,  -999.0,9,     -999.0,     -999.0,9,      37.84,2,     -999.0,       37.9,2,     -999.0,     -999.0,9,     -999.0,     -999.0,     -999.0,9,     -999.0,9,     -999.0,9,     -999.0,9,40.67568282,2,       7.51,2,      51.43,2,      15.75,2
33RO20161119,        P18,     108,          1,         18,      11117,2,20161219,       1256,   -19.9999,  -103.0000,       4215,   380.8,  10.2501,  34.4372,2,  34.4405,2,    108.6,2,   109.1,6,    12.2,2,    22.6,2,    0.01,2,   2.086,2,   2.4359,2,   1.3073,2,   0.7269,2,  2201.5,2,  2279.3,2,   7.5408,2,    25.00, -999.00,9,  -999.0,9,  -999.0,   0.8194,2, -999.00,9,  -999.0,9, -999.00,9, -999.00,9,    30.4983,2,   11.31,2,  -999.0,9,     -999.0,     -999.0,9,      37.95,2,     -999.0,       38.0,2,     -999.0,     -999.0,9,     -999.0,     -999.0,     -999.0,9,     -999.0,9,     -999.0,9,     -999.0,9,27.06964823,2,       8.13,2,      49.47,2,      18.45,2
33RO20161119,        P18,     108,          1,         19,      11083,2,20161219,       1256,   -19.9999,  -103.0000,       4215,   285.6,  15.4697,  34.9551,2,-999.0000,9,    183.9,2,   182.1,2,     2.0,2,     7.3,2,    0.01,2,   0.956,2,   2.5494,2,   1.5277,2,   1.4996,2,  2120.2,2,  2310.9,2,   7.8240,2,    25.00, -999.00,9,  -999.0,9,  -999.0,   1.4207,2, -999.00,9,  -999.0,9, -999.00,9, -999.00,9,    14.3164,2,   11.19,2,  -999.0,9,     -999.0,     -999.0,9,      37.94,2,     -999.0,      37.93,2,     -999.0,     -999.0,9,     -999.0,       0.25,     -999.0,9,     -999.0,9,     -999.0,9,     -999.0,9,13.30080849,2,        7.2,2,      43.44,2,      17.09,2
33RO20161119,        P18,     108,          1,         20,      11118,2,20161219,       1256,   -19.9999,  -103.0000,       4215,   199.4,  19.8536,  35.7168,2,-999.0000,9,    200.0,2,   199.8,2,     0.7,2,     0.9,2,    0.12,2,   0.563,2,   2.1031,2,   1.3079,2,   1.5234,2,  2105.5,2,  2360.4,2,   7.9404,2,    25.00, -999.00,9,  -999.0,9,  -999.0,   1.6706,2, -999.00,9,  -999.0,9, -999.00,9, -999.00,9,     7.9805,2, -999.00,9,  -999.0,9,     -999.0,     -999.0,9,      38.07,2,     -999.0,      38.05,2,     -999.0,     -999.0,9,     -999.0,     -999.0,     -999.0,9,     -999.0,9,     -999.0,9,     -999.0,9,8.037041279,2,       7.03,2,      43.18,2,      16.82,2
33RO20161119,        P18,     108,          1,         21,      11119,2,20161219,       1256,   -19.9999,  -103.0000,       4215,   124.1,  22.6774,  36.3209,2,  36.3189,2,    216.4,2,   214.0,2,     0.6,2,     0.0,2,    0.00,2,   0.366,2,   1.8393,2,   1.1539,2,   1.5178,2,  2093.7,2,  2399.8,2,   8.0176,2,    25.00, -999.00,9,  -999.0,9,  -999.0,   1.7072,2, -999.00,9,  -999.0,9, -999.00,9, -999.00,9,     7.0564,2, -999.00,9,  -999.0,9,     -999.0,     -999.0,9,      38.07,2,     -999.0,      38.04,2,     -999.0,     -999.0,9,     -999.0,     -999.0,     -999.0,9,     -999.0,9,     -999.0,9,     -999.0,9, 6.93803153,2,       7.13,2,      45.51,2,      18.03,2
33RO20161119,        P18,     108,          1,         22,      11120,2,20161219,       1256,   -19.9999,  -103.0000,       4215,    58.7,  23.7491,  36.4345,2,  36.4345,2,    211.4,2,   212.7,2,     0.7,2,     0.0,2,    0.01,2,   0.394,2,   1.7606,2,   1.1096,2,   1.4873,2,  2094.1,2,  2408.0,2,   8.0301,2,    25.00, -999.00,9,  -999.0,9,  -999.0,   1.7262,2, -999.00,9,  -999.0,9, -999.00,9, -999.00,9,     6.6697,2, -999.00,9,  -999.0,9,     -999.0,     -999.0,9,      38.11,2,     -999.0,      38.08,2,     -999.0,     -999.0,9,     -999.0,     -999.0,     -999.0,9,     -999.0,9,     -999.0,9,     -999.0,9,6.752601186,2,       6.87,2,      44.88,2,      17.95,2
33RO20161119,        P18,     108,          1,         23,      11121,2,20161219,       1256,   -19.9999,  -103.0000,       4215,    23.5,  23.9088,  36.4302,2,  36.4340,2,    211.7,2,   212.7,2,     0.7,2,     0.0,2,    0.01,2,   0.388,2,   1.7638,2,   1.1072,2,   1.4298,2,  2094.1,6,  2405.8,6,   8.0291,2,    25.00, -999.00,9,  -999.0,9,  -999.0,        0,2, -999.00,9,  -999.0,9, -999.00,9, -999.00,9,     6.7712,2, -999.00,9,  -999.0,9,     -999.0,     -999.0,9,      38.19,2,     -999.0,      38.19,2,     -999.0,     -999.0,9,     -999.0,     -999.0,     -999.0,9,     -999.0,9,     -999.0,9,     -999.0,9,6.711882122,2,       6.77,2,      43.54,2,      18.66,2
33RO20161119,        P18,     108,          1,         24,      11122,2,20161219,       1256,   -19.9999,  -103.0000,       4215,     2.3,  24.0082,  36.4380,2,  36.4352,2,    206.1,2,   211.9,2,     0.7,2,     0.0,2,    0.01,2,   0.398,2,   1.7520,2,   1.1039,2,   1.5060,2,  2093.8,2,  2407.8,2,   8.0284,2,    25.00, -999.00,9,  -999.0,9,  -999.0,   0.0227,2, -999.00,9,  -999.0,9, -999.00,9, -999.00,9,     6.6725,2, -999.00,9,  -999.0,9,     -999.0,     -999.0,9,       38.1,2,     -999.0,      38.04,2,     -999.0,     -999.0,9,     -999.0,     -999.0,     -999.0,9,     -999.0,9,     -999.0,9,     -999.0,9,6.905041103,2,       7.24,2,      44.93,2,      16.57,2