BOTTLE,20230606CCHSIOCBG
EXPOCODE,SECT_ID,STNNBR,CASTNO,SAMPNO,BTLNBR,BTLNBR_FLAG_W,DATE,TIME,LATITUDE,LONGITUDE,DEPTH,CTDPRS,CTDTMP,CTDSAL,CTDSAL_FLAG_W,SALNTY,SALNTY_FLAG_W,CTDOXY,CTDOXY_FLAG_W,OXYGEN,OXYGEN_FLAG_W,SILCAT,SILCAT_FLAG_W,NITRAT,NITRAT_FLAG_W,NITRIT,NITRIT_FLAG_W,PHSPHT,PHSPHT_FLAG_W,CFC-11,CFC-11_FLAG_W,CFC-12,CFC-12_FLAG_W,SF6,SF6_FLAG_W,TCARBN,TCARBN_FLAG_W,ALKALI,ALKALI_FLAG_W,PH_SWS,PH_SWS_FLAG_W,PH_TMP,DELC13,DELC13_FLAG_W,DELC14,DELC14_FLAG_W,C14ERR,CCL4,CCL4_FLAG_W,POC,POC_FLAG_W,DOC,DOC_FLAG_W,TDN,TDN_FLAG_W,PON,PON_FLAG_W,N2O,N2O_FLAG_W,D15N_NO3,D15N_NO3_FLAG_W,14C-DOC,14C-DOC_FLAG_W,14C-DOCERR,13C-DOC,13C-DOC_FLAG_W,N2/ARGON_UNSTRIPPED,N2/ARGON_UNSTRIPPED_FLAG_W,N2/ARGON_UNSTRIPPED_ERROR,N2/ARGON,N2/ARGON_FLAG_W,N2/ARGON_ERROR,D15N_N2,D15N_N2_FLAG_W,D15N_N2_ERROR,D15N_NO3_ERROR,D15N_NO2+NO3,D15N_NO2+NO3_FLAG_W,D18O_NO2+NO3,D18O_NO2+NO3_FLAG_W,D18O_NO3,D18O_NO3_FLAG_W,TDP,TDP_FLAG_W,N2O_ALT_1,N2O_ALT_1_FLAG_W,D15N_N2O,D15N_N2O_FLAG_W,D18O_N2O,D18O_N2O_FLAG_W,D15N_ALPHA_N2O,D15N_ALPHA_N2O_FLAG_W
,,,,,,,,,,,METERS,DBAR,ITS-90,PSS-78,,PSS-78,,UMOL/KG,,UMOL/KG,,UMOL/KG,,UMOL/KG,,UMOL/KG,,UMOL/KG,,PMOL/KG,,PMOL/KG,,FMOL/KG,,UMOL/KG,,UMOL/KG,,,,DEG C,/MILLE,,/MILLE,,/MILLE,PMOL/KG,,UG/KG,,UMOL/KG,,UMOL/KG,,UG/KG,,NMOL/KG,,/MILLE,,/MILLE,,/MILLE,/MILLE,,,,,,,,/MILLE,,/MILLE,/MILLE,/MILLE,,/MILLE,,/MILLE,,UMOL/KG,,NMOL/L,,/MILLE,,/MILLE,,/MILLE,
33RO20161119,        P18,     190,          1,          1,      11010,2,20170121,       0304,   -60.9995,  -103.0008,       4977,  5055.0,   0.4866,  34.7008,2,  34.7109,4,    215.2,2,   214.7,2,   139.3,2,    32.6,2,    0.01,2,   2.271,2,   0.3777,2,   0.1816,2,   0.0560,2,  2261.2,6,  2363.8,2,   7.5912,2,    25.00, -999.00,9,  -999.0,9,  -999.0,   0.2739,2, -999.00,9,  -999.0,9, -999.00,9, -999.00,9,    18.1947,2,    4.76,2,  -999.0,9,     -999.0,     -999.0,9,     -999.0,9,     -999.0,     -999.0,9,     -999.0,     -999.0,9,     -999.0,     -999.0,       4.76,2,        1.9,2,        1.9,2,     -999.0,9,     -999.0,9,     -999.0,9,     -999.0,9,     -999.0,9
33RO20161119,        P18,     190,          1,          2,      11101,2,20170121,       0304,   -60.9995,  -103.0008,       4977,  4716.1,   0.4743,  34.7015,2,  34.7001,2,    214.1,2,   213.5,2,   137.7,2,    32.7,2,    0.01,2,   2.259,2,   0.3553,2,   0.1699,2,   0.0000,2,  2261.4,2,  2361.4,2,   7.5903,2,    25.00, -999.00,9,  -999.0,9,  -999.0,   0.2392,2, -999.00,9,  -999.0,9, -999.00,9, -999.00,9,    18.3064,2,    4.78,2,  -999.0,9,     -999.0,     -999.0,9,     -999.0,9,     -999.0,     -999.0,9,     -999.0,     -999.0,9,     -999.0,     -999.0,       4.78,2,       1.82,2,       1.82,2,     -999.0,9,     -999.0,9,     -999.0,9,     -999.0,9,     -999.0,9
33RO20161119,        P18,     190,          1,          3,      11102,2,20170121,       0304,   -60.9995,  -103.0008,       4977,  4379.5,   0.5144,  34.7029,2,  34.7023,2,    212.6,2,   212.8,2,   133.9,6,    32.7,6,    0.01,6,   2.259,6,   0.3191,2,   0.1528,2,   0.0454,2,  2261.5,2,  2361.8,6,   7.5905,2,    25.00, -999.00,9,  -999.0,9,  -999.0,   0.1798,2, -999.00,9,  -999.0,9, -999.00,9, -999.00,9,    18.3909,2,    4.74,2,  -999.0,9,     -999.0,     -999.0,9,     -999.0,9,     -999.0,     -999.0,9,     -999.0,     -999.0,9,     -999.0,     -999.0,       4.74,2,       1.68,2,       1.68,2,     -999.0,9,     -999.0,9,     -999.0,9,     -999.0,9,     -999.0,9
33RO20161119,        P18,     190,          1,          4,      11103,2,20170121,       0304,   -60.9995,  -103.0008,       4977,  3980.7,   0.6158,  34.7048,2,  34.7037,2,    210.6,2,   209.6,2,   129.5,6,    32.6,6,    0.01,6,   2.258,6,   0.2829,2,   0.1371,2,   0.0384,2,  2261.0,2,  2365.5,2,   7.5919,2,    25.00, -999.00,9,  -999.0,9,  -999.0,   0.2299,2, -999.00,9,  -999.0,9, -999.00,9, -999.00,9,    18.4172,2,    4.75,2,  -999.0,9,     -999.0,     -999.0,9,     -999.0,9,     -999.0,     -999.0,9,     -999.0,     -999.0,9,     -999.0,     -999.0,       4.75,2,       1.77,2,       1.77,2,     -999.0,9,     -999.0,9,     -999.0,9,     -999.0,9,     -999.0,9
33RO20161119,        P18,     190,          1,          5,      11104,2,20170121,       0304,   -60.9995,  -103.0008,       4977,  3581.3,   0.7994,  34.7087,2,  34.7117,2,    206.6,2,   205.9,2,   124.6,6,    32.4,6,    0.01,6,   2.242,6,   0.2163,2,   0.1068,2,   0.0618,2,  2257.7,2,  2365.0,2,   7.5936,2,    25.00, -999.00,9,  -999.0,9,  -999.0,   0.2743,2, -999.00,9,  -999.0,9, -999.00,9, -999.00,9,    18.4533,2,    4.77,2,  -999.0,9,     -999.0,     -999.0,9,     -999.0,9,     -999.0,     -999.0,9,     -999.0,     -999.0,9,     -999.0,     -999.0,       4.77,2,       1.75,2,       1.75,2,     -999.0,9,     -999.0,9,     -999.0,9,     -999.0,9,     -999.0,9
33RO20161119,        P18,     190,          1,          6,      11105,2,20170121,       0304,   -60.9995,  -103.0008,       4977,  3185.4,   0.9484,  34.7139,2,  34.7133,2,    202.7,2,   202.9,2,   119.5,6,    32.2,6,    0.01,6,   2.221,6,   0.1667,2,   0.0827,2,   0.0287,2,  2258.4,2,  2361.2,2,   7.5946,2,    25.00, -999.00,9,  -999.0,9,  -999.0,    0.276,2, -999.00,9,  -999.0,9, -999.00,9, -999.00,9,    18.6052,2,    4.78,2,  -999.0,9,     -999.0,     -999.0,9,     -999.0,9,     -999.0,     -999.0,9,     -999.0,     -999.0,9,     -999.0,     -999.0,       4.78,2,       1.81,2,       1.81,2,     -999.0,9,     -999.0,9,     -999.0,9,     -999.0,9,     -999.0,9
33RO20161119,        P18,     190,          1,          7,      11106,2,20170121,       0304,   -60.9995,  -103.0008,       4977,  2805.6,   1.1510,  34.7207,2,  34.7470,4,    199.1,2,   199.4,2,   112.5,2,    32.0,2,    0.01,2,   2.218,2,   0.1333,2,   0.0654,2,   0.0000,2,  2258.0,2,  2365.6,2,   7.5986,2,    25.00, -999.00,9,  -999.0,9,  -999.0,    0.314,2, -999.00,9,  -999.0,9, -999.00,9, -999.00,9,    18.7202,2,    4.82,2,  -999.0,9,     -999.0,     -999.0,9,     -999.0,9,     -999.0,     -999.0,9,     -999.0,     -999.0,9,     -999.0,     -999.0,       4.82,2,       1.74,2,       1.74,2,     -999.0,9,     -999.0,9,     -999.0,9,     -999.0,9,     -999.0,9
33RO20161119,        P18,     190,          1,          8,      11107,2,20170121,       0304,   -60.9995,  -103.0008,       4977,  2425.9,   1.3477,  34.7264,2,  34.7512,4,    195.5,2,   195.4,6,   106.4,2,    31.9,2,    0.01,2,   2.208,2,   0.1124,2,   0.0538,2,   0.0000,2,  2256.0,2,  2360.5,2,   7.5982,2,    25.00, -999.00,9,  -999.0,9,  -999.0,   0.3235,2, -999.00,9,  -999.0,9, -999.00,9, -999.00,9,    18.8475,2,    4.85,2,  -999.0,9,     -999.0,     -999.0,9,     -999.0,9,     -999.0,     -999.0,9,     -999.0,     -999.0,9,     -999.0,     -999.0,       4.85,2,       1.92,2,       1.92,2,     -999.0,9,     -999.0,9,     -999.0,9,     -999.0,9,     -999.0,9
33RO20161119,        P18,     190,          1,          9,      11108,2,20170121,       0304,   -60.9995,  -103.0008,       4977,  1999.4,   1.6252,  34.7301,2,  34.7316,2,    190.2,2,   190.6,2,    97.6,2,    31.7,2,    0.01,2,   2.188,2,   0.1330,2,   0.0650,2,   0.0171,2,  2255.3,2,  2358.3,2,   7.5959,2,    25.00, -999.00,9,  -999.0,9,  -999.0,   0.4666,2, -999.00,9,  -999.0,9, -999.00,9, -999.00,9,    19.1897,2,     4.9,2,  -999.0,9,     -999.0,     -999.0,9,     -999.0,9,     -999.0,     -999.0,9,     -999.0,     -999.0,9,     -999.0,     -999.0,        4.9,2,       1.72,2,       1.72,2,     -999.0,9,     -999.0,9,     -999.0,9,     -999.0,9,     -999.0,9
33RO20161119,        P18,     190,          1,         10,      11109,2,20170121,       0304,   -60.9995,  -103.0008,       4977,  1739.7,   1.8329,  34.7272,2,  34.7288,2,    185.9,2,   186.5,2,    91.6,2,    31.6,2,    0.01,2,   2.184,2,   0.1608,6,   0.0789,6,   0.0277,6,  2252.6,2,  2352.8,2,   7.5904,2,    25.00, -999.00,9,  -999.0,9,  -999.0,   0.6417,2, -999.00,9,  -999.0,9, -999.00,9, -999.00,9,    19.6063,2,    4.89,2,  -999.0,9,     -999.0,     -999.0,9,     -999.0,9,     -999.0,     -999.0,9,     -999.0,     -999.0,9,     -999.0,     -999.0,       4.89,2,       1.79,2,       1.79,2,     -999.0,9,     -999.0,9,     -999.0,9,     -999.0,9,     -999.0,9
33RO20161119,        P18,     190,          1,         11,      11110,2,20170121,       0304,   -60.9995,  -103.0008,       4977,  1556.8,   1.9848,  34.7181,2,  34.7197,2,    182.1,2,   183.1,2,    87.0,2,    31.8,2,    0.01,2,   2.192,2,   0.1990,2,   0.0957,2,   0.0353,2,  2251.8,2,  2349.5,2,   7.5849,2,    25.00, -999.00,9,  -999.0,9,  -999.0,   1.1477,2, -999.00,9,  -999.0,9, -999.00,9, -999.00,9,    19.9839,2,    4.94,2,  -999.0,9,     -999.0,     -999.0,9,     -999.0,9,     -999.0,     -999.0,9,     -999.0,     -999.0,9,     -999.0,     -999.0,       4.94,2,        1.7,2,        1.7,2,     -999.0,9,     -999.0,9,     -999.0,9,     -999.0,9,     -999.0,9
33RO20161119,        P18,     190,          1,         12,      11111,2,20170121,       0304,   -60.9995,  -103.0008,       4977,  1384.9,   2.1205,  34.6979,2,  34.6977,2,    178.8,2,   178.7,2,    83.5,2,    32.2,2,    0.01,2,   2.220,2,   0.2487,2,   0.1269,2,   0.1173,2,  2251.4,2,  2348.0,2,   7.5752,2,    25.00, -999.00,9,  -999.0,9,  -999.0,    1.219,2, -999.00,9,  -999.0,9, -999.00,9, -999.00,9,    20.4664,2,    4.96,2,  -999.0,9,     -999.0,     -999.0,9,     -999.0,9,     -999.0,     -999.0,9,     -999.0,     -999.0,9,     -999.0,     -999.0,       4.96,2,       1.66,2,       1.66,2,     -999.0,9,     -999.0,9,     -999.0,9,     -999.0,9,     -999.0,9
33RO20161119,        P18,     190,          1,         13,      11112,2,20170121,       0304,   -60.9995,  -103.0008,       4977,  1219.7,   2.2111,  34.6713,2,  34.6700,2,    175.0,2,   175.6,2,    80.6,2,    32.8,2,    0.01,2,   2.261,2,   0.3326,2,   0.1657,2,   0.0898,2,  2252.8,2,  2345.8,2,   7.5658,2,    25.00, -999.00,9,  -999.0,9,  -999.0,   1.5313,2, -999.00,9,  -999.0,9, -999.00,9, -999.00,9,    21.1071,2,    5.12,2,  -999.0,9,     -999.0,     -999.0,9,     -999.0,9,     -999.0,     -999.0,9,     -999.0,     -999.0,9,     -999.0,     -999.0,       5.12,2,       1.87,2,       1.87,2,     -999.0,9,     -999.0,9,     -999.0,9,     -999.0,9,     -999.0,9
33RO20161119,        P18,     190,          1,         14,      11113,2,20170121,       0304,   -60.9995,  -103.0008,       4977,  1064.1,   2.3083,  34.6284,2,  34.6286,2,    172.3,2,   172.6,2,    77.8,2,    33.5,2,    0.01,2,   2.321,2,   0.4721,2,   0.2356,2,   0.0997,2,  2251.7,2,  2339.5,6,   7.5561,2,    25.00, -999.00,9,  -999.0,9,  -999.0,   4.5235,2, -999.00,9,  -999.0,9, -999.00,9, -999.00,9,    21.8092,2,    5.01,2,  -999.0,9,     -999.0,     -999.0,9,     -999.0,9,     -999.0,     -999.0,9,     -999.0,     -999.0,9,     -999.0,     -999.0,       5.01,2,       2.06,2,       2.06,2,     -999.0,9,     -999.0,9,     -999.0,9,     -999.0,9,     -999.0,9
33RO20161119,        P18,     190,          1,         15,      11114,2,20170121,       0304,   -60.9995,  -103.0008,       4977,   907.1,   2.4314,  34.5727,2,  34.5740,2,    172.7,2,   171.6,2,    73.7,2,    34.2,2,    0.02,2,   2.365,2,   0.6582,2,   0.3321,2,   0.1771,2,  2250.4,6,  2336.0,2,   7.5498,2,    25.00, -999.00,9,  -999.0,9,  -999.0,   4.7334,2, -999.00,9,  -999.0,9, -999.00,9, -999.00,9,    22.2023,2,    5.08,2,  -999.0,9,     -999.0,     -999.0,9,     -999.0,9,     -999.0,     -999.0,9,     -999.0,     -999.0,9,     -999.0,     -999.0,       5.08,2,       1.94,2,       1.94,2,     -999.0,9,     -999.0,9,     -999.0,9,     -999.0,9,     -999.0,9
33RO20161119,        P18,     190,          1,         16,      11115,2,20170121,       0304,   -60.9995,  -103.0008,       4977,   770.5,   2.5371,  34.5111,2,  34.5134,2,    175.3,2,   175.0,2,    68.5,2,    34.5,2,    0.02,2,   2.389,2,   0.9731,6,   0.4835,6,   0.2654,6,  2246.1,2,  2328.9,2,   7.5476,2,    25.00, -999.00,9,  -999.0,9,  -999.0,   5.8354,2, -999.00,9,  -999.0,9, -999.00,9, -999.00,9,     22.622,2,    5.16,2,  -999.0,9,     -999.0,     -999.0,9,     -999.0,9,     -999.0,     -999.0,9,     -999.0,     -999.0,9,     -999.0,     -999.0,       5.16,2,       1.93,2,       1.93,2,     -999.0,9,     -999.0,9,     -999.0,9,     -999.0,9,     -999.0,9
33RO20161119,        P18,     190,          1,         17,      11116,2,20170121,       0304,   -60.9995,  -103.0008,       4977,   632.0,   2.6626,  34.4391,2,  34.4429,2,    183.2,2,   182.2,2,    61.3,2,    34.6,2,    0.02,2,   2.374,2,   1.4014,2,   0.7034,2,   0.4112,2,  2236.9,2,  2325.3,2,   7.5470,2,    25.00, -999.00,9,  -999.0,9,  -999.0,    5.911,2, -999.00,9,  -999.0,9, -999.00,9, -999.00,9,    22.4739,2,    5.26,2,  -999.0,9,     -999.0,     -999.0,9,     -999.0,9,     -999.0,     -999.0,9,     -999.0,     -999.0,9,     -999.0,     -999.0,       5.26,2,       2.04,2,       2.04,2,     -999.0,9,     -999.0,9,     -999.0,9,     -999.0,9,     -999.0,9
33RO20161119,        P18,     190,          1,         18,      11117,2,20170121,       0304,   -60.9995,  -103.0008,       4977,   495.7,   2.7965,  34.3353,2,  34.3348,2,    201.3,2,   212.9,2,    50.0,2,    33.6,2,    0.02,2,   2.318,2,-999.0000,9,-999.0000,9,-999.0000,9,  -999.0,9,  -999.0,9,-999.0000,9,  -999.00, -999.00,9,  -999.0,9,  -999.0,-999.0000,9, -999.00,9,  -999.0,9, -999.00,9, -999.00,9,     -999.0,9,    5.36,2,  -999.0,9,     -999.0,     -999.0,9,     -999.0,9,     -999.0,     -999.0,9,     -999.0,     -999.0,9,     -999.0,     -999.0,       5.36,2,       2.24,2,       2.24,2,     -999.0,9,     -999.0,9,     -999.0,9,     -999.0,9,     -999.0,9
33RO20161119,        P18,     190,          1,         19,      11083,2,20170121,       0304,   -60.9995,  -103.0008,       4977,   373.8,   2.2770,  34.1653,2,  34.1671,2,    261.1,2,   259.8,2,    34.7,2,    30.9,2,    0.02,2,   2.135,2,   3.8336,2,   2.0290,2,   1.9614,2,  2190.6,2,  2297.2,2,   7.6127,2,    25.00, -999.00,9,  -999.0,9,  -999.0,   5.1541,2, -999.00,9,  -999.0,9, -999.00,9, -999.00,9,    17.9262,2,    5.52,2,  -999.0,9,     -999.0,     -999.0,9,     -999.0,9,     -999.0,     -999.0,9,     -999.0,     -999.0,9,     -999.0,     -999.0,       5.53,2,       2.58,2,       2.42,2,     -999.0,9,     -999.0,9,     -999.0,9,     -999.0,9,     -999.0,9
33RO20161119,        P18,     190,          1,         20,      11118,2,20170121,       0304,   -60.9995,  -103.0008,       4977,   271.1,   1.9221,  34.0515,2,  34.0569,2,    296.5,2,   301.9,2,    24.2,2,    28.4,2,    0.04,2,   1.972,2,   4.7873,2,   2.6088,2,   2.8456,2,  2166.1,2,  2288.4,2,   7.6549,2,    25.00, -999.00,9,  -999.0,9,  -999.0,    0.488,2, -999.00,9,  -999.0,9, -999.00,9, -999.00,9,    15.1506,2,    5.75,2,  -999.0,9,     -999.0,     -999.0,9,     -999.0,9,     -999.0,     -999.0,9,     -999.0,     -999.0,9,     -999.0,     -999.0,       5.68,2,       2.77,2,       2.93,2,     -999.0,9,     -999.0,9,     -999.0,9,     -999.0,9,     -999.0,9
33RO20161119,        P18,     190,          1,         21,      11119,2,20170121,       0304,   -60.9995,  -103.0008,       4977,   175.2,   2.3265,  34.0327,2,  34.0336,2,    301.0,2,   305.1,2,    19.5,2,    26.9,2,    0.39,2,   1.898,2,   4.8403,2,   2.6259,2,   2.8771,2,  2156.5,2,  2282.9,6,   7.6696,2,    25.00, -999.00,9,  -999.0,9,  -999.0,   0.4771,2, -999.00,9,  -999.0,9, -999.00,9, -999.00,9,    14.5318,2,    5.72,2,  -999.0,9,     -999.0,     -999.0,9,     -999.0,9,     -999.0,     -999.0,9,     -999.0,     -999.0,9,     -999.0,     -999.0,       5.72,2,       3.28,2,       3.28,2,     -999.0,9,     -999.0,9,     -999.0,9,     -999.0,9,     -999.0,9
33RO20161119,        P18,     190,          1,         22,      11120,2,20170121,       0304,   -60.9995,  -103.0008,       4977,    85.7,   2.7930,  33.9866,2,  33.9880,2,    316.6,2,   319.6,2,     8.3,2,    23.8,2,    0.23,2,   1.804,2,   5.0576,2,   2.7527,2,   3.1792,2,  2144.8,2,  2285.2,2,   7.7113,6,    25.00, -999.00,9,  -999.0,9,  -999.0,   0.5107,2, -999.00,9,  -999.0,9, -999.00,9, -999.00,9,    13.8678,2,    6.57,2,  -999.0,9,     -999.0,     -999.0,9,     -999.0,9,     -999.0,     -999.0,9,     -999.0,     -999.0,9,     -999.0,     -999.0,       6.55,2,       3.84,2,       3.49,2,     -999.0,9,     -999.0,9,     -999.0,9,     -999.0,9,     -999.0,9
33RO20161119,        P18,     190,          1,         23,      11121,2,20170121,       0304,   -60.9995,  -103.0008,       4977,    30.8,   4.7032,  33.9580,2,  33.9597,2,    317.2,2,   318.1,2,     0.2,2,    20.7,2,    0.27,2,   1.395,2,   4.7541,2,   2.6007,2,   3.0544,2,  2113.5,6,  2283.6,2,   7.7760,2,    25.00, -999.00,9,  -999.0,9,  -999.0,    0.379,2, -999.00,9,  -999.0,9, -999.00,9, -999.00,9,    12.9626,2,    7.88,2,  -999.0,9,     -999.0,     -999.0,9,     -999.0,9,     -999.0,     -999.0,9,     -999.0,     -999.0,9,     -999.0,     -999.0,       7.37,2,       4.15,2,       3.82,2,     -999.0,9,     -999.0,9,     -999.0,9,     -999.0,9,     -999.0,9
33RO20161119,        P18,     190,          1,         24,      11122,2,20170121,       0304,   -60.9995,  -103.0008,       4977,     5.0,   4.6991,  33.9578,2,  33.9590,2,    316.2,2,   318.8,2,     0.1,2,    20.7,2,    0.28,2,   1.404,2,   4.7226,2,   2.6058,2,   3.0294,2,  2113.3,2,  2278.3,2,   7.7858,2,    25.00, -999.00,9,  -999.0,9,  -999.0,    0.371,2, -999.00,9,  -999.0,9, -999.00,9, -999.00,9,    12.9391,2,    7.85,2,  -999.0,9,     -999.0,     -999.0,9,     -999.0,9,     -999.0,     -999.0,9,     -999.0,     -999.0,9,     -999.0,     -999.0,        7.3,2,       4.39,2,       3.78,2,     -999.0,9,     -999.0,9,     -999.0,9,     -999.0,9,     -999.0,9