BOTTLE,20230606CCHSIOCBG
EXPOCODE,SECT_ID,STNNBR,CASTNO,SAMPNO,BTLNBR,BTLNBR_FLAG_W,DATE,TIME,LATITUDE,LONGITUDE,DEPTH,CTDPRS,CTDTMP,CTDSAL,CTDSAL_FLAG_W,SALNTY,SALNTY_FLAG_W,CTDOXY,CTDOXY_FLAG_W,OXYGEN,OXYGEN_FLAG_W,SILCAT,SILCAT_FLAG_W,NITRAT,NITRAT_FLAG_W,NITRIT,NITRIT_FLAG_W,PHSPHT,PHSPHT_FLAG_W,CFC-11,CFC-11_FLAG_W,CFC-12,CFC-12_FLAG_W,SF6,SF6_FLAG_W,TCARBN,TCARBN_FLAG_W,ALKALI,ALKALI_FLAG_W,PH_SWS,PH_SWS_FLAG_W,PH_TMP,DELC13,DELC13_FLAG_W,DELC14,DELC14_FLAG_W,C14ERR,CCL4,CCL4_FLAG_W,POC,POC_FLAG_W,DOC,DOC_FLAG_W,TDN,TDN_FLAG_W,PON,PON_FLAG_W,N2O,N2O_FLAG_W,D15N_NO3,D15N_NO3_FLAG_W,14C-DOC,14C-DOC_FLAG_W,14C-DOCERR,13C-DOC,13C-DOC_FLAG_W,N2/ARGON_UNSTRIPPED,N2/ARGON_UNSTRIPPED_FLAG_W,N2/ARGON_UNSTRIPPED_ERROR,N2/ARGON,N2/ARGON_FLAG_W,N2/ARGON_ERROR,D15N_N2,D15N_N2_FLAG_W,D15N_N2_ERROR,D15N_NO3_ERROR,D15N_NO2+NO3,D15N_NO2+NO3_FLAG_W,D18O_NO2+NO3,D18O_NO2+NO3_FLAG_W,D18O_NO3,D18O_NO3_FLAG_W,TDP,TDP_FLAG_W,N2O_ALT_1,N2O_ALT_1_FLAG_W,D15N_N2O,D15N_N2O_FLAG_W,D18O_N2O,D18O_N2O_FLAG_W,D15N_ALPHA_N2O,D15N_ALPHA_N2O_FLAG_W
,,,,,,,,,,,METERS,DBAR,ITS-90,PSS-78,,PSS-78,,UMOL/KG,,UMOL/KG,,UMOL/KG,,UMOL/KG,,UMOL/KG,,UMOL/KG,,PMOL/KG,,PMOL/KG,,FMOL/KG,,UMOL/KG,,UMOL/KG,,,,DEG C,/MILLE,,/MILLE,,/MILLE,PMOL/KG,,UG/KG,,UMOL/KG,,UMOL/KG,,UG/KG,,NMOL/KG,,/MILLE,,/MILLE,,/MILLE,/MILLE,,,,,,,,/MILLE,,/MILLE,/MILLE,/MILLE,,/MILLE,,/MILLE,,UMOL/KG,,NMOL/L,,/MILLE,,/MILLE,,/MILLE,
33RO20161119,        P18,      33,          1,          1,      11010,2,20161202,       1020,     7.9998,  -110.0000,       3623,  3666.8,   1.5712,  34.6844,2,  34.6832,2,    137.6,2,   138.4,2,   150.7,6,    37.2,6,    0.01,6,   2.538,6,   0.0038,2,   0.0022,2,   0.0000,2,  2344.0,6,  2439.1,2,   7.5716,2,    25.00, -999.00,9,  -999.0,9,  -999.0,        0,2, -999.00,9,    37.3,2,   42.00,2, -999.00,9,    21.7098,2, -999.00,9,  -999.0,9,     -999.0,     -999.0,9,     -999.0,9,     -999.0,     -999.0,9,     -999.0,     -999.0,9,     -999.0,     -999.0,     -999.0,9,     -999.0,9,     -999.0,9,     -999.0,9,     -999.0,9,     -999.0,9,     -999.0,9,     -999.0,9
33RO20161119,        P18,      33,          1,          2,      11101,2,20161202,       1020,     7.9998,  -110.0000,       3623,  3360.1,   1.5765,  34.6827,2,  34.6859,2,    134.1,2,   134.8,2,   150.8,6,    37.5,6,    0.01,6,   2.546,6,   0.0034,2,   0.0015,2,   0.0000,2,  2347.6,2,  2433.2,2,   7.5560,2,    25.00, -999.00,9,  -999.0,9,  -999.0,        0,2, -999.00,9,    37.4,2,   40.30,2, -999.00,9,     21.874,2, -999.00,9,  -999.0,9,     -999.0,     -999.0,9,     -999.0,9,     -999.0,     -999.0,9,     -999.0,     -999.0,9,     -999.0,     -999.0,     -999.0,9,     -999.0,9,     -999.0,9,     -999.0,9,     -999.0,9,     -999.0,9,     -999.0,9,     -999.0,9
33RO20161119,        P18,      33,          1,          3,      11102,2,20161202,       1020,     7.9998,  -110.0000,       3623,  3051.0,   1.6896,  34.6765,2,  34.6833,4,    122.9,2,   123.3,2,   152.5,6,    38.2,6,    0.01,6,   2.604,6,   0.0030,2,   0.0013,2,   0.0000,2,  2354.5,2,  2433.8,6,   7.5330,2,    25.00, -999.00,9,  -999.0,9,  -999.0,   0.0136,2, -999.00,9,    37.2,2,   44.40,2, -999.00,9,    22.7819,2, -999.00,9,  -999.0,9,     -999.0,     -999.0,9,     -999.0,9,     -999.0,     -999.0,9,     -999.0,     -999.0,9,     -999.0,     -999.0,     -999.0,9,     -999.0,9,     -999.0,9,     -999.0,9,     -999.0,9,     -999.0,9,     -999.0,9,     -999.0,9
33RO20161119,        P18,      33,          1,          4,      11103,2,20161202,       1020,     7.9998,  -110.0000,       3623,  2776.6,   1.8200,  34.6700,2,  34.6767,4,    112.4,2,   113.0,2,   152.7,6,    38.7,6,    0.01,6,   2.660,6,   0.0035,2,   0.0022,2,   0.0000,2,  2358.2,2,  2434.2,2,   7.5162,2,    25.00, -999.00,9,  -999.0,9,  -999.0,        0,2, -999.00,9,    37.5,2,   42.60,2, -999.00,9,    24.1264,2, -999.00,9,  -999.0,9,     -999.0,     -999.0,9,     -999.0,9,     -999.0,     -999.0,9,     -999.0,     -999.0,9,     -999.0,     -999.0,     -999.0,9,     -999.0,9,     -999.0,9,     -999.0,9,     -999.0,9,     -999.0,9,     -999.0,9,     -999.0,9
33RO20161119,        P18,      33,          1,          5,      11104,2,20161202,       1020,     7.9998,  -110.0000,       3623,  2500.8,   1.8662,  34.6666,2,  34.6652,2,    108.4,2,   109.1,2,   152.0,2,    38.9,2,    0.01,2,   2.684,2,   0.0035,2,   0.0014,2,   0.0521,2,  2360.5,2,  2432.1,2,   7.5065,2,    25.00, -999.00,9,  -999.0,9,  -999.0,        0,2, -999.00,9,    37.6,2,   42.10,2, -999.00,9,    24.2559,2, -999.00,9,  -999.0,9,     -999.0,     -999.0,9,     -999.0,9,     -999.0,     -999.0,9,     -999.0,     -999.0,9,     -999.0,     -999.0,     -999.0,9,     -999.0,9,     -999.0,9,     -999.0,9,     -999.0,9,     -999.0,9,     -999.0,9,     -999.0,9
33RO20161119,        P18,      33,          1,          6,      11105,2,20161202,       1020,     7.9998,  -110.0000,       3623,  2200.4,   2.0083,  34.6575,2,  34.6562,2,    101.0,2,   101.3,2,   148.7,2,    39.5,2,    0.01,2,   2.738,2,   0.0022,2,   0.0011,2,   0.0000,2,  2360.7,2,  2426.5,2,   7.4908,6,    25.00, -999.00,9,  -999.0,9,  -999.0,        0,2, -999.00,9,    37.9,2,   44.40,2, -999.00,9,    25.9134,2, -999.00,9,  -999.0,9,     -999.0,     -999.0,9,     -999.0,9,     -999.0,     -999.0,9,     -999.0,     -999.0,9,     -999.0,     -999.0,     -999.0,9,     -999.0,9,     -999.0,9,     -999.0,9,     -999.0,9,     -999.0,9,     -999.0,9,     -999.0,9
33RO20161119,        P18,      33,          1,          7,      11106,2,20161202,       1020,     7.9998,  -110.0000,       3623,  1940.1,   2.3144,  34.6387,2,  34.6391,2,     89.6,2,    89.5,2,   141.8,2,    40.6,2,    0.01,2,   2.824,2,   0.0012,2,   0.0010,2,   0.0507,2,  2359.3,6,  2416.6,2,   7.4649,2,    25.00, -999.00,9,  -999.0,9,  -999.0,        0,2, -999.00,9,    37.2,2,   45.20,2, -999.00,9,    28.7549,2, -999.00,9,  -999.0,9,     -999.0,     -999.0,9,     -999.0,9,     -999.0,     -999.0,9,     -999.0,     -999.0,9,     -999.0,     -999.0,     -999.0,9,     -999.0,9,     -999.0,9,     -999.0,9,     -999.0,9,     -999.0,9,     -999.0,9,     -999.0,9
33RO20161119,        P18,      33,          1,          8,      11107,2,20161202,       1020,     7.9998,  -110.0000,       3623,  1658.7,   2.8357,  34.6136,2,  34.6121,2,     77.7,2,    78.5,2,   128.8,2,    41.2,2,    0.01,2,   2.901,2,   0.0016,2,   0.0000,2,   0.0000,2,  2350.1,2,  2402.0,2,   7.4437,2,    25.00, -999.00,9,  -999.0,9,  -999.0,        0,2, -999.00,9,    37.3,2,   45.90,2, -999.00,9,    32.7584,2, -999.00,9,  -999.0,9,     -999.0,     -999.0,9,     -999.0,9,     -999.0,     -999.0,9,     -999.0,     -999.0,9,     -999.0,     -999.0,     -999.0,9,     -999.0,9,     -999.0,9,     -999.0,9,     -999.0,9,     -999.0,9,     -999.0,9,     -999.0,9
33RO20161119,        P18,      33,          1,          9,      11108,2,20161202,       1020,     7.9998,  -110.0000,       3623,  1379.6,   3.4337,  34.5934,2,  34.5897,2,     57.6,2,    58.6,2,   116.7,2,    42.6,2,    0.01,2,   3.021,2,   0.0033,2,   0.0014,2,   0.0000,2,  2351.9,2,  2387.9,2,   7.4055,2,    25.00, -999.00,9,  -999.0,9,  -999.0,        0,2, -999.00,9,    38.0,2,   45.80,2, -999.00,9,    37.0011,2, -999.00,9,  -999.0,9,     -999.0,     -999.0,9,     -999.0,9,     -999.0,     -999.0,9,     -999.0,     -999.0,9,     -999.0,     -999.0,     -999.0,9,     -999.0,9,     -999.0,9,     -999.0,9,     -999.0,9,     -999.0,9,     -999.0,9,     -999.0,9
33RO20161119,        P18,      33,          1,         10,      11109,2,20161202,       1020,     7.9998,  -110.0000,       3623,  1219.2,   3.7109,  34.5849,2,  34.5834,2,     48.9,2,    49.3,2,   111.2,2,    43.3,2,    0.01,2,   3.078,2,   0.0031,6,   0.0018,6,   0.0200,6,  2349.7,2,  2380.3,2,   7.3860,2,    25.00, -999.00,9,  -999.0,9,  -999.0,        0,2, -999.00,9,    38.2,2,   48.40,2, -999.00,9,     40.071,2, -999.00,9,  -999.0,9,     -999.0,     -999.0,9,     -999.0,9,     -999.0,     -999.0,9,     -999.0,     -999.0,9,     -999.0,     -999.0,     -999.0,9,     -999.0,9,     -999.0,9,     -999.0,9,     -999.0,9,     -999.0,9,     -999.0,9,     -999.0,9
33RO20161119,        P18,      33,          1,         11,      11110,2,20161202,       1020,     7.9998,  -110.0000,       3623,  1089.3,   4.1496,  34.5731,2,  34.5728,2,     38.7,2,    38.6,2,   102.0,2,    44.0,2,    0.01,2,   3.145,2,   0.0026,2,   0.0020,2,   0.0000,2,  2345.7,2,  2371.2,2,   7.3686,2,    25.00, -999.00,9,  -999.0,9,  -999.0,        0,2, -999.00,9,    38.8,2,   48.50,2, -999.00,9,    43.5414,2, -999.00,9,  -999.0,9,     -999.0,     -999.0,9,     -999.0,9,     -999.0,     -999.0,9,     -999.0,     -999.0,9,     -999.0,     -999.0,     -999.0,9,     -999.0,9,     -999.0,9,     -999.0,9,     -999.0,9,     -999.0,9,     -999.0,9,     -999.0,9
33RO20161119,        P18,      33,          1,         12,      11111,2,20161202,       1020,     7.9998,  -110.0000,       3623,   970.1,   4.6010,  34.5623,2,  34.5601,2,     28.1,2,    29.3,2,    93.5,2,    44.7,2,    0.01,2,   3.187,2,   0.0026,2,   0.0014,2,   0.0000,2,  2340.3,2,  2362.3,2,   7.3501,2,    25.00, -999.00,9,  -999.0,9,  -999.0,        0,2, -999.00,9,    39.2,2,   49.70,2, -999.00,9,    48.0019,2, -999.00,9,  -999.0,9,     -999.0,     -999.0,9,     -999.0,9,     -999.0,     -999.0,9,     -999.0,     -999.0,9,     -999.0,     -999.0,     -999.0,9,     -999.0,9,     -999.0,9,     -999.0,9,     -999.0,9,     -999.0,9,     -999.0,9,     -999.0,9
33RO20161119,        P18,      33,          1,         13,      11112,2,20161202,       1020,     7.9998,  -110.0000,       3623,   850.0,   5.1953,  34.5571,2,  34.5552,2,     17.8,2,    18.3,2,    82.9,2,    44.8,2,    0.01,2,   3.197,2,   0.0026,2,   0.0016,2,   0.0000,2,  2333.8,2,  2351.3,2,   7.3348,2,    25.00, -999.00,9,  -999.0,9,  -999.0,        0,2, -999.00,9,    39.3,2,   48.10,2, -999.00,9,      52.86,2, -999.00,9,  -999.0,9,     -999.0,     -999.0,9,     -999.0,9,     -999.0,     -999.0,9,     -999.0,     -999.0,9,     -999.0,     -999.0,     -999.0,9,     -999.0,9,     -999.0,9,     -999.0,9,     -999.0,9,     -999.0,9,     -999.0,9,     -999.0,9
33RO20161119,        P18,      33,          1,         14,      11113,2,20161202,       1020,     7.9998,  -110.0000,       3623,   733.7,   5.7757,  34.5518,2,  34.5522,2,      9.4,2,     9.0,2,    74.6,2,    44.3,2,    0.01,2,   3.213,2,   0.0037,2,   0.0019,2,   0.0000,2,  2330.3,2,  2340.6,2,   7.3253,2,    25.00, -999.00,9,  -999.0,9,  -999.0,        0,2, -999.00,9,    41.0,2,   48.70,2, -999.00,9,    59.9186,2, -999.00,9,  -999.0,9,     -999.0,     -999.0,9,     -999.0,9,     -999.0,     -999.0,9,     -999.0,     -999.0,9,     -999.0,     -999.0,     -999.0,9,     -999.0,9,     -999.0,9,     -999.0,9,     -999.0,9,     -999.0,9,     -999.0,9,     -999.0,9
33RO20161119,        P18,      33,          1,         15,      11114,2,20161202,       1020,     7.9998,  -110.0000,       3623,   624.3,   6.6241,  34.5593,2,  34.5579,2,      5.9,2,     5.2,2,    63.6,2,    42.3,2,    0.01,2,   3.131,2,   0.0065,2,   0.0034,2,   0.0000,2,  2318.3,2,  2329.2,2,   7.3283,2,    25.00, -999.00,9,  -999.0,9,  -999.0,        0,2, -999.00,9,    40.9,2,   46.00,2, -999.00,9,    62.1192,2, -999.00,9,  -999.0,9,     -999.0,     -999.0,9,     -999.0,9,     -999.0,     -999.0,9,     -999.0,     -999.0,9,     -999.0,     -999.0,     -999.0,9,     -999.0,9,     -999.0,9,     -999.0,9,     -999.0,9,     -999.0,9,     -999.0,9,     -999.0,9
33RO20161119,        P18,      33,          1,         16,      11115,2,20161202,       1020,     7.9998,  -110.0000,       3623,   518.7,   7.6592,  34.5868,2,  34.5863,2,      2.5,2,     2.2,6,    55.1,2,    37.9,2,    0.01,2,   3.051,2,   0.0202,2,   0.0121,2,   0.0000,2,  2308.8,2,  2322.0,6,   7.3342,6,    25.00, -999.00,9,  -999.0,9,  -999.0,   0.0159,2, -999.00,9,    41.7,2,   39.50,2, -999.00,9,    46.6798,2, -999.00,9,  -999.0,9,     -999.0,     -999.0,9,     -999.0,9,     -999.0,     -999.0,9,     -999.0,     -999.0,9,     -999.0,     -999.0,     -999.0,9,     -999.0,9,     -999.0,9,     -999.0,9,     -999.0,9,     -999.0,9,     -999.0,9,     -999.0,9
33RO20161119,        P18,      33,          1,         17,      11116,2,20161202,       1020,     7.9998,  -110.0000,       3623,   424.6,   8.8297,  34.6383,2,  34.6368,2,      2.7,2,     2.7,6,    45.7,2,    33.8,2,    0.01,2,   2.893,2,   0.1118,2,   0.0659,2,   0.0427,2,  2297.2,2,  2317.9,2,   7.3517,2,    25.00, -999.00,9,  -999.0,9,  -999.0,   0.0583,2, -999.00,9,    44.2,2,   37.90,2, -999.00,9,     33.461,2, -999.00,9,  -999.0,9,     -999.0,     -999.0,9,     -999.0,9,     -999.0,     -999.0,9,     -999.0,     -999.0,9,     -999.0,     -999.0,     -999.0,9,     -999.0,9,     -999.0,9,     -999.0,9,     -999.0,9,     -999.0,9,     -999.0,9,     -999.0,9
33RO20161119,        P18,      33,          1,         18,      11117,2,20161202,       1020,     7.9998,  -110.0000,       3623,   331.2,  10.0232,  34.6982,2,  34.6976,2,     16.1,2,    15.8,2,    34.1,2,    34.1,2,    0.01,2,   2.529,2,   0.4990,2,   0.2753,2,   0.1235,2,  2269.0,2,  2302.4,2,   7.4041,2,    25.00, -999.00,9,  -999.0,9,  -999.0,   0.0652,2, -999.00,9,    46.0,2,   37.20,2, -999.00,9,    53.1981,2, -999.00,9,  -999.0,9,     -999.0,     -999.0,9,     -999.0,9,     -999.0,     -999.0,9,     -999.0,     -999.0,9,     -999.0,     -999.0,     -999.0,9,     -999.0,9,     -999.0,9,     -999.0,9,     -999.0,9,     -999.0,9,     -999.0,9,     -999.0,9
33RO20161119,        P18,      33,          1,         19,      11083,2,20161202,       1020,     7.9998,  -110.0000,       3623,   249.3,  10.8135,  34.7269,2,  34.7258,2,      9.9,2,    11.7,2,    30.6,2,    33.7,2,    0.01,2,   2.487,2,   0.6524,2,   0.3588,2,   0.1729,2,  2264.7,2,  2303.7,2,   7.4024,2,    25.00, -999.00,9,  -999.0,9,  -999.0,   0.0593,2, -999.00,9,    47.5,2,   36.10,2, -999.00,9,     62.559,2, -999.00,9,  -999.0,9,     -999.0,     -999.0,9,     -999.0,9,     -999.0,     -999.0,9,     -999.0,     -999.0,9,     -999.0,     -999.0,     -999.0,9,     -999.0,9,     -999.0,9,       2.59,2,     -999.0,9,     -999.0,9,     -999.0,9,     -999.0,9
33RO20161119,        P18,      33,          1,         20,      11118,2,20161202,       1020,     7.9998,  -110.0000,       3623,   178.7,  11.5037,  34.7538,2,  34.7518,2,      7.2,2,     6.7,2,    28.7,2,    32.4,2,    0.02,2,   2.463,2,   0.8068,2,   0.4463,2,   0.2083,2,  2259.6,2,  2299.1,2,   7.4093,2,    25.00, -999.00,9,  -999.0,9,  -999.0,   0.0456,2, -999.00,9,    47.4,2,   34.80,2, -999.00,9,    65.7128,2, -999.00,9,  -999.0,9,     -999.0,     -999.0,9,     -999.0,9,     -999.0,     -999.0,9,     -999.0,     -999.0,9,     -999.0,     -999.0,     -999.0,9,     -999.0,9,     -999.0,9,       2.57,2,     -999.0,9,     -999.0,9,     -999.0,9,     -999.0,9
33RO20161119,        P18,      33,          1,         21,      11119,2,20161202,       1020,     7.9998,  -110.0000,       3623,   114.9,  13.0406,  34.8174,2,  34.8159,2,      3.5,2,     2.6,2,    25.1,2,    29.3,2,    0.03,2,   2.436,2,   1.1417,6,   0.6515,6,   0.3202,6,  2254.7,2,  2298.3,2,   7.4269,2,    25.00, -999.00,9,  -999.0,9,  -999.0,   0.0639,2, -999.00,9,    50.1,2,   31.50,2, -999.00,9,    54.4161,2, -999.00,9,  -999.0,9,     -999.0,     -999.0,9,     -999.0,9,     -999.0,     -999.0,9,     -999.0,     -999.0,9,     -999.0,     -999.0,     -999.0,9,     -999.0,9,     -999.0,9,       2.81,2,     -999.0,9,     -999.0,9,     -999.0,9,     -999.0,9
33RO20161119,        P18,      33,          1,         22,      11120,2,20161202,       1020,     7.9998,  -110.0000,       3623,    58.7,  23.3805,  34.4677,2,  34.4891,2,    160.4,2,   144.0,2,     4.7,2,     7.2,2,    0.31,2,   0.886,2,   1.7316,2,   1.0586,2,   1.1883,2,  2067.3,2,  2280.9,2,   7.8712,2,    25.00, -999.00,9,  -999.0,9,  -999.0,   1.6269,2, -999.00,9,    66.1,2,    9.80,2, -999.00,9,      32.11,2, -999.00,9,  -999.0,9,     -999.0,     -999.0,9,     -999.0,9,     -999.0,     -999.0,9,     -999.0,     -999.0,9,     -999.0,     -999.0,     -999.0,9,     -999.0,9,     -999.0,9,       1.27,2,     -999.0,9,     -999.0,9,     -999.0,9,     -999.0,9
33RO20161119,        P18,      33,          1,         23,      11121,2,20161202,       1020,     7.9998,  -110.0000,       3623,    24.7,  27.8666,  32.0742,2,  32.0945,2,    201.1,2,   202.1,2,     0.9,2,     0.0,2,    0.01,2,   0.124,2,   1.5261,2,   0.9666,2,   1.3531,2,  1817.9,2,  2110.9,6,   8.0929,2,    25.00, -999.00,9,  -999.0,9,  -999.0,   1.8101,2, -999.00,9,    73.4,2,    4.50,2, -999.00,9,     6.4616,2, -999.00,9,  -999.0,9,     -999.0,     -999.0,9,     -999.0,9,     -999.0,     -999.0,9,     -999.0,     -999.0,9,     -999.0,     -999.0,     -999.0,9,     -999.0,9,     -999.0,9,       0.36,2,     -999.0,9,     -999.0,9,     -999.0,9,     -999.0,9
33RO20161119,        P18,      33,          1,         24,      11122,2,20161202,       1020,     7.9998,  -110.0000,       3623,     3.1,  27.6716,  31.7965,2,  31.7985,2,    196.2,2,   202.3,2,     0.8,2,     0.0,2,    0.01,2,   0.106,2,   1.5554,2,   0.9693,2,   1.4180,2,  1803.0,6,  2094.3,2,   8.0937,2,    25.00, -999.00,9,  -999.0,9,  -999.0,   0.0308,2, -999.00,9,    68.1,2,    2.70,2, -999.00,9,     6.5586,2, -999.00,9,  -999.0,9,     -999.0,     -999.0,9,     -999.0,9,     -999.0,     -999.0,9,     -999.0,     -999.0,9,     -999.0,     -999.0,     -999.0,9,     -999.0,9,     -999.0,9,       0.35,2,     -999.0,9,     -999.0,9,     -999.0,9,     -999.0,9