BOTTLE,20230606CCHSIOCBG
EXPOCODE,SECT_ID,STNNBR,CASTNO,SAMPNO,BTLNBR,BTLNBR_FLAG_W,DATE,TIME,LATITUDE,LONGITUDE,DEPTH,CTDPRS,CTDTMP,CTDSAL,CTDSAL_FLAG_W,SALNTY,SALNTY_FLAG_W,CTDOXY,CTDOXY_FLAG_W,OXYGEN,OXYGEN_FLAG_W,SILCAT,SILCAT_FLAG_W,NITRAT,NITRAT_FLAG_W,NITRIT,NITRIT_FLAG_W,PHSPHT,PHSPHT_FLAG_W,CFC-11,CFC-11_FLAG_W,CFC-12,CFC-12_FLAG_W,SF6,SF6_FLAG_W,TCARBN,TCARBN_FLAG_W,ALKALI,ALKALI_FLAG_W,PH_SWS,PH_SWS_FLAG_W,PH_TMP,DELC13,DELC13_FLAG_W,DELC14,DELC14_FLAG_W,C14ERR,CCL4,CCL4_FLAG_W,POC,POC_FLAG_W,DOC,DOC_FLAG_W,TDN,TDN_FLAG_W,PON,PON_FLAG_W,N2O,N2O_FLAG_W,D15N_NO3,D15N_NO3_FLAG_W,14C-DOC,14C-DOC_FLAG_W,14C-DOCERR,13C-DOC,13C-DOC_FLAG_W,N2/ARGON_UNSTRIPPED,N2/ARGON_UNSTRIPPED_FLAG_W,N2/ARGON_UNSTRIPPED_ERROR,N2/ARGON,N2/ARGON_FLAG_W,N2/ARGON_ERROR,D15N_N2,D15N_N2_FLAG_W,D15N_N2_ERROR,D15N_NO3_ERROR,D15N_NO2+NO3,D15N_NO2+NO3_FLAG_W,D18O_NO2+NO3,D18O_NO2+NO3_FLAG_W,D18O_NO3,D18O_NO3_FLAG_W,TDP,TDP_FLAG_W,N2O_ALT_1,N2O_ALT_1_FLAG_W,D15N_N2O,D15N_N2O_FLAG_W,D18O_N2O,D18O_N2O_FLAG_W,D15N_ALPHA_N2O,D15N_ALPHA_N2O_FLAG_W
,,,,,,,,,,,METERS,DBAR,ITS-90,PSS-78,,PSS-78,,UMOL/KG,,UMOL/KG,,UMOL/KG,,UMOL/KG,,UMOL/KG,,UMOL/KG,,PMOL/KG,,PMOL/KG,,FMOL/KG,,UMOL/KG,,UMOL/KG,,,,DEG C,/MILLE,,/MILLE,,/MILLE,PMOL/KG,,UG/KG,,UMOL/KG,,UMOL/KG,,UG/KG,,NMOL/KG,,/MILLE,,/MILLE,,/MILLE,/MILLE,,,,,,,,/MILLE,,/MILLE,/MILLE,/MILLE,,/MILLE,,/MILLE,,UMOL/KG,,NMOL/L,,/MILLE,,/MILLE,,/MILLE,
33RO20161119,        P18,      55,          1,          1,      11010,2,20161207,       0452,     0.0038,  -110.0004,       3818,  3861.9,   1.4787,  34.6911,2,  34.6891,2,    153.8,2,   153.6,2,   146.6,6,    36.8,6,    0.00,6,   2.477,6,   0.0031,2,   0.0007,2,   0.0000,2,  2332.4,6,  2432.3,2,   7.5744,2,    25.00,    0.05,2,  -213.9,2,     1.5,        0,2, -999.00,9,    40.3,2,   38.10,2, -999.00,9,    20.5244,2, -999.00,9,  -999.0,9,     -999.0,     -999.0,9,     -999.0,9,     -999.0,     -999.0,9,     -999.0,     -999.0,9,     -999.0,     -999.0,     -999.0,9,     -999.0,9,     -999.0,9,     -999.0,9,     -999.0,9,     -999.0,9,     -999.0,9,     -999.0,9
33RO20161119,        P18,      55,          1,          2,      11101,2,20161207,       0452,     0.0038,  -110.0004,       3818,  3549.1,   1.5331,  34.6864,2,  34.6853,2,    144.3,2,   144.1,2,   149.1,6,    37.2,6,    0.00,6,   2.538,6,   0.0028,2,   0.0011,2,   0.0000,2,  2340.1,2,  2430.4,2,   7.5755,2,    25.00, -999.00,9,  -999.0,9,  -999.0,   0.0143,2, -999.00,9,    39.9,2,   38.20,2, -999.00,9,    21.1342,2, -999.00,9,  -999.0,9,     -999.0,     -999.0,9,     -999.0,9,     -999.0,     -999.0,9,     -999.0,     -999.0,9,     -999.0,     -999.0,     -999.0,9,     -999.0,9,     -999.0,9,     -999.0,9,     -999.0,9,     -999.0,9,     -999.0,9,     -999.0,9
33RO20161119,        P18,      55,          1,          3,      11102,2,20161207,       0452,     0.0038,  -110.0004,       3818,  3289.6,   1.6022,  34.6807,2,  34.6786,2,    140.5,2,   139.9,6,   146.6,6,    37.6,6,    0.00,6,   2.554,6,   0.0090,2,   0.0048,2,   0.0208,2,  2337.8,2,  2425.9,2,   7.5621,2,    25.00, -999.00,5,  -999.0,5,  -999.0,        0,2, -999.00,9,    39.6,2,   39.60,2, -999.00,9,    21.7125,2, -999.00,9,  -999.0,9,     -999.0,     -999.0,9,     -999.0,9,     -999.0,     -999.0,9,     -999.0,     -999.0,9,     -999.0,     -999.0,     -999.0,9,     -999.0,9,     -999.0,9,     -999.0,9,     -999.0,9,     -999.0,9,     -999.0,9,     -999.0,9
33RO20161119,        P18,      55,          1,          4,      11103,2,20161207,       0452,     0.0038,  -110.0004,       3818,  3022.2,   1.6772,  34.6755,2,  34.6743,2,    134.5,2,   134.4,2,   145.4,6,    37.9,6,    0.00,6,   2.581,6,   0.0028,2,   0.0021,2,   0.0000,2,  2339.5,2,  2427.6,6,   7.5536,2,    25.00, -999.00,9,  -999.0,9,  -999.0,        0,2, -999.00,9,    38.5,2,   40.60,2, -999.00,9,    22.2625,2, -999.00,9,  -999.0,9,     -999.0,     -999.0,9,     -999.0,9,     -999.0,     -999.0,9,     -999.0,     -999.0,9,     -999.0,     -999.0,     -999.0,9,     -999.0,9,     -999.0,9,     -999.0,9,     -999.0,9,     -999.0,9,     -999.0,9,     -999.0,9
33RO20161119,        P18,      55,          1,          5,      11104,2,20161207,       0452,     0.0038,  -110.0004,       3818,  2719.9,   1.7851,  34.6695,2,  34.6684,2,    126.8,2,   127.3,2,   145.7,2,    38.3,2,    0.00,2,   2.640,2,   0.0026,2,   0.0017,2,   0.0000,2,  2343.1,2,  2423.8,2,   7.5404,2,    25.00,   -0.08,2,  -233.8,2,     1.5,        0,2, -999.00,9,    39.0,2,   39.70,2, -999.00,9,     23.107,2, -999.00,9,  -999.0,9,     -999.0,     -999.0,9,     -999.0,9,     -999.0,     -999.0,9,     -999.0,     -999.0,9,     -999.0,     -999.0,     -999.0,9,     -999.0,9,     -999.0,9,     -999.0,9,     -999.0,9,     -999.0,9,     -999.0,9,     -999.0,9
33RO20161119,        P18,      55,          1,          6,      11105,2,20161207,       0452,     0.0038,  -110.0004,       3818,  2440.4,   1.8803,  34.6632,2,  34.6613,2,    120.3,2,   120.3,2,   144.3,2,    38.7,2,    0.00,2,   2.678,2,   0.0022,2,   0.0008,2,   0.0000,2,  2346.4,6,  2422.4,2,   7.5279,6,    25.00, -999.00,9,  -999.0,9,  -999.0,        0,2, -999.00,9,    40.4,2,   41.70,2, -999.00,9,    23.9094,2, -999.00,9,  -999.0,9,     -999.0,     -999.0,9,     -999.0,9,     -999.0,     -999.0,9,     -999.0,     -999.0,9,     -999.0,     -999.0,     -999.0,9,     -999.0,9,     -999.0,9,     -999.0,9,     -999.0,9,     -999.0,9,     -999.0,9,     -999.0,9
33RO20161119,        P18,      55,          1,          7,      11106,2,20161207,       0452,     0.0038,  -110.0004,       3818,  2135.2,   2.0796,  34.6524,2,  34.6514,2,    110.2,2,   111.0,2,   141.8,2,    39.5,2,    0.00,2,   2.744,2,   0.0026,2,   0.0025,2,   0.0000,2,  2349.1,2,  2421.1,2,   7.5093,2,    25.00,   -0.02,2,  -234.0,2,     1.9,        0,2, -999.00,9,    40.1,2,   40.40,2, -999.00,9,    24.9712,2, -999.00,9,  -999.0,9,     -999.0,     -999.0,9,     -999.0,9,     -999.0,     -999.0,9,     -999.0,     -999.0,9,     -999.0,     -999.0,     -999.0,9,     -999.0,9,     -999.0,9,     -999.0,9,24.93251467,2,       9.28,2,      50.89,2,      24.14,2
33RO20161119,        P18,      55,          1,          8,      11107,2,20161207,       0452,     0.0038,  -110.0004,       3818,  1845.3,   2.5076,  34.6304,2,  34.6300,2,     98.4,2,    98.7,2,   132.9,2,    40.3,2,    0.00,2,   2.821,2,   0.0022,2,   0.0011,2,   0.0000,2,  2348.6,2,  2407.8,2,   7.4878,2,    25.00, -999.00,9,  -999.0,9,  -999.0,   0.0175,4, -999.00,9,    40.1,2,   46.00,2, -999.00,9,    27.6931,2, -999.00,9,  -999.0,9,     -999.0,     -999.0,9,     -999.0,9,     -999.0,     -999.0,9,     -999.0,     -999.0,9,     -999.0,     -999.0,     -999.0,9,     -999.0,9,     -999.0,9,     -999.0,9,27.70043722,2,       9.28,2,      51.16,2,      23.99,2
33RO20161119,        P18,      55,          1,          9,      11108,2,20161207,       0452,     0.0038,  -110.0004,       3818,  1315.6,   3.5897,  34.5854,2,  34.5850,2,     81.6,2,    82.4,2,   106.8,2,    41.1,2,    0.00,2,   2.911,2,   0.0039,4,   0.0032,4,   0.0555,4,  2327.4,2,  2375.8,2,   7.4571,2,    25.00,    0.02,2,  -204.3,2,     1.6,        0,2, -999.00,9,    41.8,2,   46.10,2, -999.00,9,    32.3116,4, -999.00,9,  -999.0,9,     -999.0,     -999.0,9,     -999.0,9,     -999.0,     -999.0,9,     -999.0,     -999.0,9,     -999.0,     -999.0,     -999.0,9,     -999.0,9,     -999.0,9,     -999.0,9,32.29690155,2,        9.1,2,      49.36,2,      23.77,2
33RO20161119,        P18,      55,          1,         10,      11109,2,20161207,       0452,     0.0038,  -110.0004,       3818,  1315.8,   3.5904,  34.5855,2,  34.5876,2,     81.6,2,    81.6,2,   106.7,2,    41.2,2,    0.00,2,   2.898,2,   0.0040,2,   0.0020,2,   0.0297,2,  2327.3,2,  2373.9,2,   7.4526,2,    25.00, -999.00,9,  -999.0,9,  -999.0,        0,2, -999.00,9,    41.1,2,   45.10,2, -999.00,9,    32.1228,2, -999.00,9,  -999.0,9,     -999.0,     -999.0,9,     -999.0,9,     -999.0,     -999.0,9,     -999.0,     -999.0,9,     -999.0,     -999.0,     -999.0,9,     -999.0,9,     -999.0,9,     -999.0,9,32.30674754,2,       9.08,2,      49.54,2,      23.35,2
33RO20161119,        P18,      55,          1,         11,      11110,2,20161207,       0452,     0.0038,  -110.0004,       3818,  1185.8,   3.9186,  34.5715,2,  34.5728,2,     83.2,2,    83.9,2,    97.2,2,    40.8,2,    0.00,2,   2.863,2,   0.0056,2,   0.0032,2,   0.0000,2,  2316.3,2,  2365.5,2,   7.4613,2,    25.00,    0.11,2,  -192.9,2,     2.2,   0.0154,2, -999.00,9,    39.0,2,   46.10,2, -999.00,9,    32.6912,2, -999.00,9,  -999.0,9,     -999.0,     -999.0,9,     -999.0,9,     -999.0,     -999.0,9,     -999.0,     -999.0,9,     -999.0,     -999.0,     -999.0,9,     -999.0,9,     -999.0,9,     -999.0,9,32.21160449,2,       8.99,2,      49.44,2,      23.44,2
33RO20161119,        P18,      55,          1,         12,      11111,2,20161207,       0452,     0.0038,  -110.0004,       3818,  1050.3,   4.6026,  34.5570,2,  34.5577,2,     75.6,2,    75.4,2,    83.9,2,    40.7,2,    0.00,2,   2.882,2,   0.0102,2,   0.0065,2,   0.0000,2,  2305.8,2,  2350.2,2,   7.4456,2,    25.00, -999.00,9,  -999.0,9,  -999.0,   0.0258,2, -999.00,9,    40.6,2,   43.10,2, -999.00,9,    35.6202,2,    7.33,2,  -999.0,9,     -999.0,     -999.0,9,     -999.0,9,     -999.0,     -999.0,9,     -999.0,     -999.0,9,     -999.0,       0.28,     -999.0,9,     -999.0,9,     -999.0,9,     -999.0,9,34.86955834,2,       8.76,2,      48.79,2,       22.7,2
33RO20161119,        P18,      55,          1,         13,      11112,2,20161207,       0452,     0.0038,  -110.0004,       3818,   929.9,   5.0722,  34.5485,2,  34.5459,2,     77.1,2,    76.4,2,    74.0,2,    40.5,2,    0.00,2,   2.840,2,   0.0229,2,   0.0118,2,   0.0222,2,  2293.9,2,  2338.7,2,   7.4495,2,    25.00,    0.19,2,  -165.8,2,     1.7,   0.0553,2, -999.00,9,    40.4,2,   44.90,2, -999.00,9,    35.6812,2,    7.02,2,  -999.0,9,     -999.0,     -999.0,9,     -999.0,9,     -999.0,     -999.0,9,     -999.0,     -999.0,9,     -999.0,     -999.0,     -999.0,9,     -999.0,9,     -999.0,9,     -999.0,9,35.44548929,2,        8.7,2,      48.16,2,      21.48,2
33RO20161119,        P18,      55,          1,         14,      11113,2,20161207,       0452,     0.0038,  -110.0004,       3818,   815.7,   5.5987,  34.5446,2,  34.5465,2,     78.0,2,    77.3,2,    63.4,2,    39.7,2,    0.00,2,   2.773,2,   0.0578,2,   0.0311,2,   0.0399,2,  2278.0,2,  2327.6,2,   7.4575,2,    25.00, -999.00,9,  -999.0,9,  -999.0,   0.0743,2, -999.00,9,    41.3,2,   44.90,2, -999.00,9,    36.4901,2,    7.44,2,  -999.0,9,     -999.0,     -999.0,9,     -999.0,9,     -999.0,     -999.0,9,     -999.0,     -999.0,9,     -999.0,       0.15,     -999.0,9,     -999.0,9,     -999.0,9,     -999.0,9,36.09831744,2,       8.43,2,       48.4,2,      21.31,2
33RO20161119,        P18,      55,          1,         15,      11114,2,20161207,       0452,     0.0038,  -110.0004,       3818,   700.8,   6.3415,  34.5548,2,  34.5559,2,     70.1,2,    70.7,2,    52.8,2,    39.6,2,    0.00,2,   2.742,2,   0.1083,6,   0.0582,6,   0.0278,6,  2272.6,2,  2321.3,2,   7.4500,2,    25.00,    0.74,4,  -124.7,2,     1.7,   0.0741,2, -999.00,9,    40.6,2,   44.80,2, -999.00,9,     40.244,2,    6.93,2,  -999.0,9,     -999.0,     -999.0,9,     -999.0,9,     -999.0,     -999.0,9,     -999.0,     -999.0,9,     -999.0,       0.06,     -999.0,9,     -999.0,9,     -999.0,9,     -999.0,9,     -999.0,9,       7.98,2,      47.79,2,      19.65,2
33RO20161119,        P18,      55,          1,         16,      11115,2,20161207,       0452,     0.0038,  -110.0004,       3818,   580.1,   8.0577,  34.6202,2,  34.6195,2,     43.4,2,    43.8,2,    40.4,2,    38.8,2,    0.00,2,   2.666,2,   0.2518,2,   0.1361,2,   0.0465,2,  2266.8,2,  2307.0,2,   7.4226,2,    25.00, -999.00,9,  -999.0,9,  -999.0,   0.0644,2, -999.00,9,    43.0,2,   43.70,2, -999.00,9,    49.3031,2,    7.04,2,  -999.0,9,     -999.0,     -999.0,9,     -999.0,9,     -999.0,     -999.0,9,     -999.0,     -999.0,9,     -999.0,       0.21,     -999.0,9,     -999.0,9,     -999.0,9,     -999.0,9,48.53929335,2,       7.12,2,      46.82,2,      16.32,2
33RO20161119,        P18,      55,          1,         17,      11116,2,20161207,       0452,     0.0038,  -110.0004,       3818,   470.3,   8.9573,  34.6709,2,  34.6702,2,     20.0,2,    19.9,2,    38.1,2,    39.2,2,    0.00,2,   2.696,2,   0.3175,2,   0.1741,2,   0.0688,2,  2275.1,2,  2304.0,6,   7.3911,2,    25.00,    0.01,2,   -78.5,2,     1.8,   0.0699,2, -999.00,9,    42.3,2,   44.10,2, -999.00,9,    58.8474,2, -999.00,9,  -999.0,9,     -999.0,     -999.0,9,     -999.0,9,     -999.0,     -999.0,9,     -999.0,     -999.0,9,     -999.0,     -999.0,     -999.0,9,     -999.0,9,     -999.0,9,     -999.0,9,57.77590833,2,       6.58,2,      47.02,2,      13.88,2
33RO20161119,        P18,      55,          1,         18,      11117,2,20161207,       0452,     0.0038,  -110.0004,       3818,   355.1,  10.5078,  34.7568,2,  34.7556,2,     15.0,2,    15.9,2,    31.6,2,    36.1,2,    0.01,2,   2.515,2,   0.6538,2,   0.3565,2,   0.1114,2,  2265.1,2,  2296.8,2,   7.4128,6,    25.00,   -0.10,2,   -39.8,2,     1.9,   0.0754,2, -999.00,9,    46.4,2,   39.00,2, -999.00,9,    63.9621,2,    7.29,2,  -999.0,9,     -999.0,     -999.0,9,     -999.0,9,     -999.0,     -999.0,9,     -999.0,     -999.0,9,     -999.0,       0.14,     -999.0,9,     -999.0,9,     -999.0,9,     -999.0,9,62.26856875,2,       5.74,2,      46.44,2,      11.48,2
33RO20161119,        P18,      55,          1,         19,      11083,2,20161207,       0452,     0.0038,  -110.0004,       3818,   285.4,  10.8835,  34.7779,2,  34.7796,2,     16.1,2,    18.1,2,    30.2,2,    35.2,2,    0.01,2,   2.457,2,   0.7557,2,   0.4135,2,   0.1957,2,  2260.8,2,  2302.6,2,   7.4219,2,    25.00,   -0.17,2,   -37.5,2,     2.0,   0.1891,2, -999.00,9,    43.3,2,   37.60,2, -999.00,9,     64.885,2,    7.73,2,  -999.0,9,     -999.0,     -999.0,9,     -999.0,9,     -999.0,     -999.0,9,     -999.0,     -999.0,9,     -999.0,       0.26,     -999.0,9,     -999.0,9,     -999.0,9,     -999.0,9,     -999.0,9,       1.12,2,      43.17,2,       6.83,2
33RO20161119,        P18,      55,          1,         20,      11118,2,20161207,       0452,     0.0038,  -110.0004,       3818,   204.9,  12.7319,  34.8814,2,  34.8844,2,     90.9,2,    86.0,2,    19.3,2,    25.3,2,    0.01,2,   1.769,2,   1.4949,2,   0.8363,2,   0.4848,2,  2196.3,2,  2301.0,2,   7.6205,2,    25.00,    0.17,2,     1.7,2,     2.0,   0.2183,2, -999.00,9,    49.2,2,   26.90,2, -999.00,9,    38.5183,2,     7.1,2,  -999.0,9,     -999.0,     -999.0,9,     -999.0,9,     -999.0,     -999.0,9,     -999.0,     -999.0,9,     -999.0,       0.62,     -999.0,9,     -999.0,9,     -999.0,9,     -999.0,9,     -999.0,9,       4.33,2,      42.13,2,      12.76,2
33RO20161119,        P18,      55,          1,         21,      11119,2,20161207,       0452,     0.0038,  -110.0004,       3818,   140.4,  13.3447,  34.8857,2,  34.9004,2,     98.6,2,    98.7,2,    17.7,2,    23.1,2,    0.01,2,   1.650,2,   1.6557,2,   0.9363,2,   0.5538,2,  2181.9,2,  2304.1,2,   7.6577,2,    25.00,    0.24,2,    12.2,2,     2.5,   0.2006,2, -999.00,9,    46.3,2,   25.10,2, -999.00,9,    32.8733,2,    7.38,2,  -999.0,9,     -999.0,     -999.0,9,     -999.0,9,     -999.0,     -999.0,9,     -999.0,     -999.0,9,     -999.0,       0.34,     -999.0,9,     -999.0,9,     -999.0,9,     -999.0,9,32.53870849,2,       5.92,2,      43.11,2,      18.64,2
33RO20161119,        P18,      55,          1,         22,      11120,2,20161207,       0452,     0.0038,  -110.0004,       3818,    69.9,  15.8514,  34.9505,2,  34.9448,2,    124.9,2,   122.7,6,    12.7,2,    16.9,2,    0.03,2,   1.219,2,   1.9548,6,   1.1388,6,   0.9147,6,  2141.8,2,  2304.9,2,   7.7586,2,    25.00,    0.24,2,    21.2,2,     2.1,   0.2078,2, -999.00,9,    50.1,2,   19.90,2, -999.00,9,    22.3642,2,    8.04,2,  -999.0,9,     -999.0,     -999.0,9,     -999.0,9,     -999.0,     -999.0,9,     -999.0,     -999.0,9,     -999.0,       0.29,     -999.0,9,     -999.0,9,     -999.0,9,     -999.0,9,21.49184024,2,       5.83,2,      42.54,2,      15.04,2
33RO20161119,        P18,      55,          1,         23,      11121,2,20161207,       0452,     0.0038,  -110.0004,       3818,    30.8,  18.4959,  34.8550,2,-999.0000,9,    142.8,2,   144.7,2,     9.9,2,    14.6,2,    0.27,2,   1.125,2,   1.8972,2,   1.1266,2,   1.0600,2,  2116.6,2,  2295.7,6,   7.8016,2,    25.00,    0.30,2,    23.3,2,     3.0,   1.2645,2, -999.00,9,    53.9,2,   18.70,2, -999.00,9,    20.8665,2,     8.4,2,  -999.0,9,     -999.0,     -999.0,9,     -999.0,9,     -999.0,     -999.0,9,     -999.0,     -999.0,9,     -999.0,       0.41,     -999.0,9,     -999.0,9,     -999.0,9,     -999.0,9,21.98645463,2,       5.37,2,      41.01,2,      14.55,2
33RO20161119,        P18,      55,          1,         24,      11122,2,20161207,       0452,     0.0038,  -110.0004,       3818,     3.5,  21.7644,  34.8674,2,  34.8686,2,    196.2,2,   197.4,2,     7.2,2,    10.9,2,    0.25,2,   0.881,2,   1.8870,2,   1.1516,2,   1.4044,2,  2083.9,6,  2297.4,2,   7.8775,2,    25.00,    0.58,2,    27.8,2,     2.1,   0.0172,2, -999.00,9,    56.0,2,   13.70,2, -999.00,9,     13.036,2, -999.00,9,  -999.0,9,     -999.0,     -999.0,9,     -999.0,9,     -999.0,     -999.0,9,     -999.0,     -999.0,9,     -999.0,     -999.0,     -999.0,9,     -999.0,9,     -999.0,9,     -999.0,9,12.97149093,2,       5.64,2,      45.61,2,      15.02,2