BOTTLE,20230606CCHSIOCBG
EXPOCODE,SECT_ID,STNNBR,CASTNO,SAMPNO,BTLNBR,BTLNBR_FLAG_W,DATE,TIME,LATITUDE,LONGITUDE,DEPTH,CTDPRS,CTDTMP,CTDSAL,CTDSAL_FLAG_W,SALNTY,SALNTY_FLAG_W,CTDOXY,CTDOXY_FLAG_W,OXYGEN,OXYGEN_FLAG_W,SILCAT,SILCAT_FLAG_W,NITRAT,NITRAT_FLAG_W,NITRIT,NITRIT_FLAG_W,PHSPHT,PHSPHT_FLAG_W,CFC-11,CFC-11_FLAG_W,CFC-12,CFC-12_FLAG_W,SF6,SF6_FLAG_W,TCARBN,TCARBN_FLAG_W,ALKALI,ALKALI_FLAG_W,PH_SWS,PH_SWS_FLAG_W,PH_TMP,DELC13,DELC13_FLAG_W,DELC14,DELC14_FLAG_W,C14ERR,CCL4,CCL4_FLAG_W,POC,POC_FLAG_W,DOC,DOC_FLAG_W,TDN,TDN_FLAG_W,PON,PON_FLAG_W,N2O,N2O_FLAG_W,D15N_NO3,D15N_NO3_FLAG_W,14C-DOC,14C-DOC_FLAG_W,14C-DOCERR,13C-DOC,13C-DOC_FLAG_W,N2/ARGON_UNSTRIPPED,N2/ARGON_UNSTRIPPED_FLAG_W,N2/ARGON_UNSTRIPPED_ERROR,N2/ARGON,N2/ARGON_FLAG_W,N2/ARGON_ERROR,D15N_N2,D15N_N2_FLAG_W,D15N_N2_ERROR,D15N_NO3_ERROR,D15N_NO2+NO3,D15N_NO2+NO3_FLAG_W,D18O_NO2+NO3,D18O_NO2+NO3_FLAG_W,D18O_NO3,D18O_NO3_FLAG_W,TDP,TDP_FLAG_W,N2O_ALT_1,N2O_ALT_1_FLAG_W,D15N_N2O,D15N_N2O_FLAG_W,D18O_N2O,D18O_N2O_FLAG_W,D15N_ALPHA_N2O,D15N_ALPHA_N2O_FLAG_W
,,,,,,,,,,,METERS,DBAR,ITS-90,PSS-78,,PSS-78,,UMOL/KG,,UMOL/KG,,UMOL/KG,,UMOL/KG,,UMOL/KG,,UMOL/KG,,PMOL/KG,,PMOL/KG,,FMOL/KG,,UMOL/KG,,UMOL/KG,,,,DEG C,/MILLE,,/MILLE,,/MILLE,PMOL/KG,,UG/KG,,UMOL/KG,,UMOL/KG,,UG/KG,,NMOL/KG,,/MILLE,,/MILLE,,/MILLE,/MILLE,,,,,,,,/MILLE,,/MILLE,/MILLE,/MILLE,,/MILLE,,/MILLE,,UMOL/KG,,NMOL/L,,/MILLE,,/MILLE,,/MILLE,
33RO20161119,        P18,      13,          1,          1,      11010,2,20161127,       0432,    18.0002,  -110.0004,       3281,  3315.1,   1.7122,  34.6734,2,  34.6741,2,    118.3,2,   118.8,2,   157.6,6,    38.4,6,    0.01,6,   2.640,6,   0.0064,2,   0.0035,2,   0.0000,2,  2353.2,6,  2431.1,2,   7.5491,3,    25.00, -999.00,9,  -999.0,9,  -999.0,   0.0183,2, -999.00,9,    37.6,2,   41.80,2, -999.00,9,    22.5645,2, -999.00,9,  -999.0,9,     -999.0,     -999.0,9,     -999.0,9,     -999.0,     -999.0,9,     -999.0,     -999.0,9,     -999.0,     -999.0,     -999.0,9,     -999.0,9,     -999.0,9,     -999.0,9,     -999.0,9,     -999.0,9,     -999.0,9,     -999.0,9
33RO20161119,        P18,      13,          1,          2,      11101,2,20161127,       0432,    18.0002,  -110.0004,       3281,  2786.9,   1.7436,  34.6673,2,  34.6690,2,    112.1,2,   112.0,2,   157.8,6,    38.8,6,    0.01,6,   2.684,6,-999.0000,9,-999.0000,9,-999.0000,9,  2357.8,2,  2429.1,6,   7.5111,2,    25.00, -999.00,9,  -999.0,9,  -999.0,-999.0000,9, -999.00,9,    39.6,2,   42.30,2, -999.00,9,     -999.0,9, -999.00,9,  -999.0,9,     -999.0,     -999.0,9,     -999.0,9,     -999.0,     -999.0,9,     -999.0,     -999.0,9,     -999.0,     -999.0,     -999.0,9,     -999.0,9,     -999.0,9,     -999.0,9,     -999.0,9,     -999.0,9,     -999.0,9,     -999.0,9
33RO20161119,        P18,      13,          1,          3,      11102,2,20161127,       0432,    18.0002,  -110.0004,       3281,  2309.5,   1.9229,  34.6553,2,  34.6656,2,     99.3,2,    99.3,2,   154.1,6,    39.6,6,    0.01,6,   2.775,6,-999.0000,9,-999.0000,9,-999.0000,9,  2361.2,2,  2427.8,2,   7.4889,2,    25.00, -999.00,9,  -999.0,9,  -999.0,-999.0000,9, -999.00,9,    39.4,2,   41.10,2, -999.00,9,     -999.0,9, -999.00,9,  -999.0,9,     -999.0,     -999.0,9,     -999.0,9,     -999.0,     -999.0,9,     -999.0,     -999.0,9,     -999.0,     -999.0,     -999.0,9,     -999.0,9,     -999.0,9,     -999.0,9,     -999.0,9,     -999.0,9,     -999.0,9,     -999.0,9
33RO20161119,        P18,      13,          1,          4,      11103,2,20161127,       0432,    18.0002,  -110.0004,       3281,  1799.8,   2.4986,  34.6246,2,  34.6281,2,     68.7,2,    68.8,2,   144.4,6,    41.7,6,    0.01,6,   2.975,6,   0.0063,2,   0.0020,2,   0.0000,2,  2365.3,2,  2416.4,2,   7.4281,2,    25.00, -999.00,9,  -999.0,9,  -999.0,   0.0255,2, -999.00,9,    40.7,2,   46.00,2, -999.00,9,    31.8101,2, -999.00,9,  -999.0,9,     -999.0,     -999.0,9,     -999.0,9,     -999.0,     -999.0,9,     -999.0,     -999.0,9,     -999.0,     -999.0,     -999.0,9,     -999.0,9,     -999.0,9,     -999.0,9,     -999.0,9,     -999.0,9,     -999.0,9,     -999.0,9
33RO20161119,        P18,      13,          1,          5,      11104,2,20161127,       0432,    18.0002,  -110.0004,       3281,  1284.4,   3.4839,  34.5780,2,  34.5782,2,     31.2,2,    31.5,6,   125.4,2,    44.0,2,    0.01,2,   3.232,2,-999.0000,9,-999.0000,9,-999.0000,9,  2370.9,2,  2391.0,2,   7.3519,2,    25.00, -999.00,9,  -999.0,9,  -999.0,-999.0000,9, -999.00,9,    40.4,2,   46.70,2, -999.00,9,     -999.0,9, -999.00,9,  -999.0,9,     -999.0,     -999.0,9,     -999.0,9,     -999.0,     -999.0,9,     -999.0,     -999.0,9,     -999.0,     -999.0,     -999.0,9,     -999.0,9,     -999.0,9,     -999.0,9,     -999.0,9,     -999.0,9,     -999.0,9,     -999.0,9
33RO20161119,        P18,      13,          1,          6,      11105,2,20161127,       0432,    18.0002,  -110.0004,       3281,  1139.6,   3.9680,  34.5559,2,  34.5558,2,     18.6,2,    18.9,2,   116.9,2,    44.4,2,    0.01,2,   3.299,2,-999.0000,9,-999.0000,9,-999.0000,9,  2367.3,2,  2440.2,4,   7.3292,2,    25.00, -999.00,9,  -999.0,9,  -999.0,-999.0000,9, -999.00,9,    39.4,2,   47.90,2, -999.00,9,     -999.0,9, -999.00,9,  -999.0,9,     -999.0,     -999.0,9,     -999.0,9,     -999.0,     -999.0,9,     -999.0,     -999.0,9,     -999.0,     -999.0,     -999.0,9,     -999.0,9,     -999.0,9,     -999.0,9,     -999.0,9,     -999.0,9,     -999.0,9,     -999.0,9
33RO20161119,        P18,      13,          1,          7,      11106,2,20161127,       0432,    18.0002,  -110.0004,       3281,   994.6,   4.5680,  34.5417,2,  34.5430,2,      8.6,2,     8.8,2,   104.0,2,    44.6,2,    0.01,2,   3.357,2,-999.0000,9,-999.0000,9,-999.0000,9,  2360.1,2,  2364.1,2,   7.3116,2,    25.00, -999.00,9,  -999.0,9,  -999.0,-999.0000,9, -999.00,9,    40.8,2,   49.40,2, -999.00,9,     -999.0,9, -999.00,9,  -999.0,9,     -999.0,     -999.0,9,     -999.0,9,     -999.0,     -999.0,9,     -999.0,     -999.0,9,     -999.0,     -999.0,     -999.0,9,     -999.0,9,     -999.0,9,     -999.0,9,     -999.0,9,     -999.0,9,     -999.0,9,     -999.0,9
33RO20161119,        P18,      13,          1,          8,      11107,2,20161127,       0432,    18.0002,  -110.0004,       3281,   941.4,   4.7300,  34.5373,2,  34.5379,2,      6.9,2,     7.0,2,   100.5,2,    44.4,2,    0.02,2,   3.345,2,-999.0000,9,-999.0000,9,-999.0000,9,  2358.1,2,  2363.7,2,   7.3085,2,    25.00, -999.00,9,  -999.0,9,  -999.0,-999.0000,9, -999.00,9,    39.7,2,   50.10,2, -999.00,9,     -999.0,9, -999.00,9,  -999.0,9,     -999.0,     -999.0,9,     -999.0,9,     -999.0,     -999.0,9,     -999.0,     -999.0,9,     -999.0,     -999.0,     -999.0,9,     -999.0,9,     -999.0,9,     -999.0,9,     -999.0,9,     -999.0,9,     -999.0,9,     -999.0,9
33RO20161119,        P18,      13,          1,          9,      11108,2,20161127,       0432,    18.0002,  -110.0004,       3281,   885.7,   5.0045,  34.5379,2,  34.5409,2,      4.5,2,     5.6,2,    95.2,2,    44.1,2,    0.01,2,   3.341,2,-999.0000,9,-999.0000,9,-999.0000,9,  2352.5,6,  2354.4,2,   7.3077,2,    25.00, -999.00,9,  -999.0,9,  -999.0,-999.0000,9, -999.00,9,    41.9,2,   51.00,2, -999.00,9,     -999.0,9, -999.00,9,  -999.0,9,     -999.0,     -999.0,9,     -999.0,9,     -999.0,     -999.0,9,     -999.0,     -999.0,9,     -999.0,     -999.0,     -999.0,9,     -999.0,9,     -999.0,9,     -999.0,9,     -999.0,9,     -999.0,9,     -999.0,9,     -999.0,9
33RO20161119,        P18,      13,          1,         10,      11109,2,20161127,       0432,    18.0002,  -110.0004,       3281,   785.9,   5.5388,  34.5332,2,  34.5432,4,      2.7,2,     2.5,2,    86.4,2,    42.6,2,    0.01,2,   3.299,2,   0.0139,2,   0.0077,2,   0.0254,2,  2344.3,2,  2348.1,2,   7.3069,2,    25.00, -999.00,9,  -999.0,9,  -999.0,    0.156,2, -999.00,9,    42.4,2,   48.60,2, -999.00,9,     50.626,2, -999.00,9,  -999.0,9,     -999.0,     -999.0,9,     -999.0,9,     -999.0,     -999.0,9,     -999.0,     -999.0,9,     -999.0,     -999.0,     -999.0,9,     -999.0,9,     -999.0,9,     -999.0,9,     -999.0,9,     -999.0,9,     -999.0,9,     -999.0,9
33RO20161119,        P18,      13,          1,         11,      11110,2,20161127,       0432,    18.0002,  -110.0004,       3281,   680.7,   6.1894,  34.5237,2,  34.5252,2,      2.5,2,     2.0,2,    77.8,2,    39.9,2,    0.01,2,   3.236,2,-999.0000,9,-999.0000,9,-999.0000,9,  2332.9,2,  2337.5,2,   7.3150,2,    25.00, -999.00,9,  -999.0,9,  -999.0,-999.0000,9, -999.00,9,    40.9,2,   43.90,2, -999.00,9,     -999.0,9, -999.00,9,  -999.0,9,     -999.0,     -999.0,9,     -999.0,9,     -999.0,     -999.0,9,     -999.0,     -999.0,9,     -999.0,     -999.0,     -999.0,9,     -999.0,9,     -999.0,9,     -999.0,9,     -999.0,9,     -999.0,9,     -999.0,9,     -999.0,9
33RO20161119,        P18,      13,          1,         12,      11111,2,20161127,       0432,    18.0002,  -110.0004,       3281,   585.3,   6.8447,  34.5190,2,  34.5224,2,      2.5,2,     2.3,6,    70.7,2,    37.2,2,    0.01,2,   3.167,2,-999.0000,9,-999.0000,9,-999.0000,9,  2322.6,2,  2330.8,6,   7.3201,2,    25.00, -999.00,9,  -999.0,9,  -999.0,-999.0000,9, -999.00,9,    42.0,2,   42.10,2, -999.00,9,     -999.0,9, -999.00,9,  -999.0,9,     -999.0,     -999.0,9,     -999.0,9,     -999.0,     -999.0,9,     -999.0,     -999.0,9,     -999.0,     -999.0,     -999.0,9,     -999.0,9,     -999.0,9,     -999.0,9,     -999.0,9,     -999.0,9,     -999.0,9,     -999.0,9
33RO20161119,        P18,      13,          1,         13,      11112,2,20161127,       0432,    18.0002,  -110.0004,       3281,   495.1,   7.9222,  34.5174,2,  34.5198,2,      2.7,2,     3.4,2,    58.4,2,    33.4,2,    0.02,2,   3.034,2,-999.0000,9,-999.0000,9,-999.0000,9,  2307.7,2,  2318.4,2,   7.3296,6,    25.00, -999.00,9,  -999.0,9,  -999.0,-999.0000,9, -999.00,9,    44.5,2,   38.20,2, -999.00,9,     -999.0,9, -999.00,9,  -999.0,9,     -999.0,     -999.0,9,     -999.0,9,     -999.0,     -999.0,9,     -999.0,     -999.0,9,     -999.0,     -999.0,     -999.0,9,     -999.0,9,     -999.0,9,     -999.0,9,     -999.0,9,     -999.0,9,     -999.0,9,     -999.0,9
33RO20161119,        P18,      13,          1,         14,      11113,2,20161127,       0432,    18.0002,  -110.0004,       3281,   410.4,   8.9579,  34.5429,2,  34.5430,2,      3.9,2,     4.0,2,    48.8,2,    30.2,2,    0.01,2,   2.913,2,   0.2848,2,   0.1555,2,   0.1020,2,  2296.5,2,  2305.5,2,   7.3412,2,    25.00, -999.00,9,  -999.0,9,  -999.0,    0.062,2, -999.00,9,    44.2,2,   32.80,2, -999.00,9,    37.1839,2, -999.00,9,  -999.0,9,     -999.0,     -999.0,9,     -999.0,9,     -999.0,     -999.0,9,     -999.0,     -999.0,9,     -999.0,     -999.0,     -999.0,9,     -999.0,9,     -999.0,9,     -999.0,9,     -999.0,9,     -999.0,9,     -999.0,9,     -999.0,9
33RO20161119,        P18,      13,          1,         15,      11114,2,20161127,       0432,    18.0002,  -110.0004,       3281,   320.6,  10.4151,  34.6227,2,  34.6210,2,      3.0,2,     2.7,2,    39.0,2,    25.9,2,    0.01,2,   2.779,2,-999.0000,9,-999.0000,9,-999.0000,9,  2284.0,2,  2302.9,2,   7.3576,2,    25.00, -999.00,9,  -999.0,9,  -999.0,-999.0000,9, -999.00,9,    45.0,2,   28.60,2, -999.00,9,     -999.0,9, -999.00,9,  -999.0,9,     -999.0,     -999.0,9,     -999.0,9,     -999.0,     -999.0,9,     -999.0,     -999.0,9,     -999.0,     -999.0,     -999.0,9,     -999.0,9,     -999.0,9,     -999.0,9,     -999.0,9,     -999.0,9,     -999.0,9,     -999.0,9
33RO20161119,        P18,      13,          1,         16,      11115,2,20161127,       0432,    18.0002,  -110.0004,       3281,   245.8,  11.7310,  34.7330,2,  34.7332,2,      2.5,2,     2.2,2,    33.2,2,    22.4,2,    0.75,2,   2.678,2,   0.7159,2,   0.4292,2,   0.1912,2,  2277.1,2,  2308.8,2,   7.3861,2,    25.00, -999.00,9,  -999.0,9,  -999.0,   0.0376,2, -999.00,9,    47.9,2,   27.20,2, -999.00,9,     6.3078,2, -999.00,9,  -999.0,9,     -999.0,     -999.0,9,     -999.0,9,     -999.0,     -999.0,9,     -999.0,     -999.0,9,     -999.0,     -999.0,     -999.0,9,     -999.0,9,     -999.0,9,     -999.0,9,     -999.0,9,     -999.0,9,     -999.0,9,     -999.0,9
33RO20161119,        P18,      13,          1,         17,      11116,2,20161127,       0432,    18.0002,  -110.0004,       3281,   186.0,  12.8387,  34.7583,2,  34.7575,2,      4.7,2,     2.0,2,    29.7,2,    23.1,2,    0.01,2,   2.631,2,-999.0000,9,-999.0000,9,-999.0000,9,  2266.9,2,  2308.0,2,   7.4035,2,    25.00, -999.00,9,  -999.0,9,  -999.0,-999.0000,9, -999.00,9,    47.7,2,   26.70,2, -999.00,9,     -999.0,9, -999.00,9,  -999.0,9,     -999.0,     -999.0,9,     -999.0,9,     -999.0,     -999.0,9,     -999.0,     -999.0,9,     -999.0,     -999.0,     -999.0,9,     -999.0,9,     -999.0,9,       2.79,2,     -999.0,9,     -999.0,9,     -999.0,9,     -999.0,9
33RO20161119,        P18,      13,          1,         18,      11117,2,20161127,       0432,    18.0002,  -110.0004,       3281,   156.2,  13.5414,  34.6876,2,  34.6923,2,      9.8,2,     7.6,2,    27.7,2,    23.4,2,    0.02,2,   2.590,2,-999.0000,9,-999.0000,9,-999.0000,9,  2263.1,2,  2298.5,2,   7.4112,2,    25.00, -999.00,9,  -999.0,9,  -999.0,-999.0000,9, -999.00,9,    48.2,2,   26.70,2, -999.00,9,     -999.0,9, -999.00,9,  -999.0,9,     -999.0,     -999.0,9,     -999.0,9,     -999.0,     -999.0,9,     -999.0,     -999.0,9,     -999.0,     -999.0,     -999.0,9,     -999.0,9,     -999.0,9,     -999.0,9,     -999.0,9,     -999.0,9,     -999.0,9,     -999.0,9
33RO20161119,        P18,      13,          1,         19,      11083,2,20161127,       0432,    18.0002,  -110.0004,       3281,   120.8,  15.3007,  34.6046,2,  34.6070,2,     25.3,2,    31.0,2,    22.9,2,    22.0,2,    0.02,2,   2.331,2,   1.6629,2,   0.9820,2,   0.8672,2,  2232.6,2,  2294.5,2,   7.4856,2,    25.00, -999.00,9,  -999.0,9,  -999.0,   0.1886,2, -999.00,9,    58.2,2,   24.60,2, -999.00,9,    45.3843,2, -999.00,9,  -999.0,9,     -999.0,     -999.0,9,     -999.0,9,     -999.0,     -999.0,9,     -999.0,     -999.0,9,     -999.0,     -999.0,     -999.0,9,     -999.0,9,     -999.0,9,       2.61,2,     -999.0,9,     -999.0,9,     -999.0,9,     -999.0,9
33RO20161119,        P18,      13,          1,         20,      11118,2,20161127,       0432,    18.0002,  -110.0004,       3281,   100.2,  16.3542,  34.3886,2,  34.3865,2,     66.1,2,    60.6,2,    16.2,2,    18.4,2,    0.04,2,   1.957,2,-999.0000,9,-999.0000,9,-999.0000,9,  2192.5,2,  2281.5,2,   7.5579,2,    25.00, -999.00,9,  -999.0,9,  -999.0,-999.0000,9, -999.00,9,    57.5,2,   21.60,2, -999.00,9,     -999.0,9, -999.00,9,  -999.0,9,     -999.0,     -999.0,9,     -999.0,9,     -999.0,     -999.0,9,     -999.0,     -999.0,9,     -999.0,     -999.0,     -999.0,9,     -999.0,9,     -999.0,9,     -999.0,9,     -999.0,9,     -999.0,9,     -999.0,9,     -999.0,9
33RO20161119,        P18,      13,          1,         21,      11119,2,20161127,       0432,    18.0002,  -110.0004,       3281,    80.5,  18.9785,  34.2287,2,  34.2417,2,    195.0,2,   164.6,2,     6.2,2,     3.2,2,    0.30,2,   0.904,2,   2.1693,6,   1.2980,6,   1.5136,6,  2093.6,2,  2281.3,2,   7.8177,2,    25.00, -999.00,9,  -999.0,9,  -999.0,   0.7316,2, -999.00,9,    65.1,2,    6.80,2, -999.00,9,    23.3695,2, -999.00,9,  -999.0,9,     -999.0,     -999.0,9,     -999.0,9,     -999.0,     -999.0,9,     -999.0,     -999.0,9,     -999.0,     -999.0,     -999.0,9,     -999.0,9,     -999.0,9,       1.28,2,     -999.0,9,     -999.0,9,     -999.0,9,     -999.0,9
33RO20161119,        P18,      13,          1,         22,      11120,2,20161127,       0432,    18.0002,  -110.0004,       3281,    60.1,  23.0002,  34.4004,2,  34.3981,2,    224.2,2,   218.9,2,     1.9,2,     0.0,2,    0.01,2,   0.368,2,-999.0000,9,-999.0000,9,-999.0000,9,  2017.3,2,  2283.8,6,   7.9877,2,    25.00, -999.00,9,  -999.0,9,  -999.0,-999.0000,9, -999.00,9,    75.7,2,    5.30,2, -999.00,9,     -999.0,9, -999.00,9,  -999.0,9,     -999.0,     -999.0,9,     -999.0,9,     -999.0,     -999.0,9,     -999.0,     -999.0,9,     -999.0,     -999.0,     -999.0,9,     -999.0,9,     -999.0,9,       0.72,2,     -999.0,9,     -999.0,9,     -999.0,9,     -999.0,9
33RO20161119,        P18,      13,          1,         23,      11121,2,20161127,       0432,    18.0002,  -110.0004,       3281,    30.6,  28.3732,  34.3106,2,  34.2933,2,    202.3,2,   202.4,2,     1.3,2,     0.0,2,    0.01,2,   0.261,2,   1.5502,2,   0.9743,2,   1.3797,2,  1960.2,2,  2262.6,2,   8.0626,6,    25.00, -999.00,9,  -999.0,9,  -999.0,   1.1747,2, -999.00,9,    82.1,2,    5.40,2, -999.00,9,     6.7707,2, -999.00,9,  -999.0,9,     -999.0,     -999.0,9,     -999.0,9,     -999.0,     -999.0,9,     -999.0,     -999.0,9,     -999.0,     -999.0,     -999.0,9,     -999.0,9,     -999.0,9,       0.55,2,     -999.0,9,     -999.0,9,     -999.0,9,     -999.0,9
33RO20161119,        P18,      13,          1,         24,      11122,2,20161127,       0432,    18.0002,  -110.0004,       3281,     2.8,  28.7662,  34.0597,2,  34.0590,2,    194.2,2,   137.5,3,     1.0,2,     0.0,2,    0.01,2,   0.204,2,   1.4512,2,   0.9194,2,   1.3397,2,  1933.5,6,  2243.0,2,   8.0834,2,    25.00, -999.00,9,  -999.0,9,  -999.0,   1.3744,2, -999.00,9,    78.7,2,    4.60,2, -999.00,9,      5.768,2, -999.00,9,  -999.0,9,     -999.0,     -999.0,9,     -999.0,9,     -999.0,     -999.0,9,     -999.0,     -999.0,9,     -999.0,     -999.0,     -999.0,9,     -999.0,9,     -999.0,9,       0.61,2,     -999.0,9,     -999.0,9,     -999.0,9,     -999.0,9