BOTTLE,20230606CCHSIOCBG
EXPOCODE,SECT_ID,STNNBR,CASTNO,SAMPNO,BTLNBR,BTLNBR_FLAG_W,DATE,TIME,LATITUDE,LONGITUDE,DEPTH,CTDPRS,CTDTMP,CTDSAL,CTDSAL_FLAG_W,SALNTY,SALNTY_FLAG_W,CTDOXY,CTDOXY_FLAG_W,OXYGEN,OXYGEN_FLAG_W,SILCAT,SILCAT_FLAG_W,NITRAT,NITRAT_FLAG_W,NITRIT,NITRIT_FLAG_W,PHSPHT,PHSPHT_FLAG_W,CFC-11,CFC-11_FLAG_W,CFC-12,CFC-12_FLAG_W,SF6,SF6_FLAG_W,TCARBN,TCARBN_FLAG_W,ALKALI,ALKALI_FLAG_W,PH_SWS,PH_SWS_FLAG_W,PH_TMP,DELC13,DELC13_FLAG_W,DELC14,DELC14_FLAG_W,C14ERR,CCL4,CCL4_FLAG_W,POC,POC_FLAG_W,DOC,DOC_FLAG_W,TDN,TDN_FLAG_W,PON,PON_FLAG_W,N2O,N2O_FLAG_W,D15N_NO3,D15N_NO3_FLAG_W,14C-DOC,14C-DOC_FLAG_W,14C-DOCERR,13C-DOC,13C-DOC_FLAG_W,N2/ARGON_UNSTRIPPED,N2/ARGON_UNSTRIPPED_FLAG_W,N2/ARGON_UNSTRIPPED_ERROR,N2/ARGON,N2/ARGON_FLAG_W,N2/ARGON_ERROR,D15N_N2,D15N_N2_FLAG_W,D15N_N2_ERROR,D15N_NO3_ERROR,D15N_NO2+NO3,D15N_NO2+NO3_FLAG_W,D18O_NO2+NO3,D18O_NO2+NO3_FLAG_W,D18O_NO3,D18O_NO3_FLAG_W,TDP,TDP_FLAG_W,N2O_ALT_1,N2O_ALT_1_FLAG_W,D15N_N2O,D15N_N2O_FLAG_W,D18O_N2O,D18O_N2O_FLAG_W,D15N_ALPHA_N2O,D15N_ALPHA_N2O_FLAG_W
,,,,,,,,,,,METERS,DBAR,ITS-90,PSS-78,,PSS-78,,UMOL/KG,,UMOL/KG,,UMOL/KG,,UMOL/KG,,UMOL/KG,,UMOL/KG,,PMOL/KG,,PMOL/KG,,FMOL/KG,,UMOL/KG,,UMOL/KG,,,,DEG C,/MILLE,,/MILLE,,/MILLE,PMOL/KG,,UG/KG,,UMOL/KG,,UMOL/KG,,UG/KG,,NMOL/KG,,/MILLE,,/MILLE,,/MILLE,/MILLE,,,,,,,,/MILLE,,/MILLE,/MILLE,/MILLE,,/MILLE,,/MILLE,,UMOL/KG,,NMOL/L,,/MILLE,,/MILLE,,/MILLE,
33RO20161119,        P18,      38,          1,          1,      11010,2,20161203,       1507,     5.5000,  -109.9998,       4003,  4047.8,   1.5299,  34.6886,2,  34.6889,2,    145.3,2,   144.8,2,   149.3,6,    37.0,6,    0.01,6,   2.504,6,   0.0044,2,   0.0017,2,   0.0172,2,  2338.7,6,  2444.0,2,   7.5741,6,    25.00, -999.00,9,  -999.0,9,  -999.0,        0,2, -999.00,9,  -999.0,9, -999.00,9, -999.00,9,    21.3181,2, -999.00,9,  -999.0,9,     -999.0,     -999.0,9,     -999.0,9,     -999.0,     -999.0,9,     -999.0,     -999.0,9,     -999.0,     -999.0,     -999.0,9,     -999.0,9,     -999.0,9,     -999.0,9,     -999.0,9,     -999.0,9,     -999.0,9,     -999.0,9
33RO20161119,        P18,      38,          1,          2,      11101,2,20161203,       1507,     5.5000,  -109.9998,       4003,  3670.2,   1.5000,  34.6881,2,  34.6871,2,    143.9,2,   143.5,2,   149.9,6,    36.9,6,    0.01,6,   2.502,6,   0.0031,2,   0.0008,2,   0.0527,2,  2339.3,2,  2436.1,6,   7.5737,2,    25.00, -999.00,9,  -999.0,9,  -999.0,    0.023,2, -999.00,9,  -999.0,9, -999.00,9, -999.00,9,    20.9557,2, -999.00,9,  -999.0,9,     -999.0,     -999.0,9,     -999.0,9,     -999.0,     -999.0,9,     -999.0,     -999.0,9,     -999.0,     -999.0,     -999.0,9,     -999.0,9,     -999.0,9,     -999.0,9,     -999.0,9,     -999.0,9,     -999.0,9,     -999.0,9
33RO20161119,        P18,      38,          1,          3,      11102,2,20161203,       1507,     5.5000,  -109.9998,       4003,  3293.7,   1.5798,  34.6827,2,  34.6835,2,    134.4,2,   134.1,2,   150.8,6,    37.5,6,    0.01,6,   2.555,6,-999.0000,9,-999.0000,9,-999.0000,9,  2343.7,2,  2435.0,2,   7.5545,2,    25.00, -999.00,9,  -999.0,9,  -999.0,-999.0000,9, -999.00,9,  -999.0,9, -999.00,9, -999.00,9,     -999.0,9, -999.00,9,  -999.0,9,     -999.0,     -999.0,9,     -999.0,9,     -999.0,     -999.0,9,     -999.0,     -999.0,9,     -999.0,     -999.0,     -999.0,9,     -999.0,9,     -999.0,9,     -999.0,9,     -999.0,9,     -999.0,9,     -999.0,9,     -999.0,9
33RO20161119,        P18,      38,          1,          4,      11103,2,20161203,       1507,     5.5000,  -109.9998,       4003,  2976.0,   1.7569,  34.6738,2,  34.6733,2,    119.8,2,   119.5,2,   151.7,6,    38.3,6,    0.01,6,   2.626,6,-999.0000,9,-999.0000,9,-999.0000,9,  2353.4,2,  2432.3,2,   7.5297,2,    25.00, -999.00,9,  -999.0,9,  -999.0,-999.0000,9, -999.00,9,  -999.0,9, -999.00,9, -999.00,9,     -999.0,9, -999.00,9,  -999.0,9,     -999.0,     -999.0,9,     -999.0,9,     -999.0,     -999.0,9,     -999.0,     -999.0,9,     -999.0,     -999.0,     -999.0,9,     -999.0,9,     -999.0,9,     -999.0,9,     -999.0,9,     -999.0,9,     -999.0,9,     -999.0,9
33RO20161119,        P18,      38,          1,          5,      11104,2,20161203,       1507,     5.5000,  -109.9998,       4003,  2670.7,   1.8475,  34.6686,2,  34.6692,2,    112.5,2,   112.5,2,   151.2,2,    38.8,2,    0.01,2,   2.663,2,-999.0000,9,-999.0000,9,-999.0000,9,  2356.5,2,  2429.9,2,   7.5158,2,    25.00, -999.00,9,  -999.0,9,  -999.0,-999.0000,9, -999.00,9,  -999.0,9, -999.00,9, -999.00,9,     -999.0,9, -999.00,9,  -999.0,9,     -999.0,     -999.0,9,     -999.0,9,     -999.0,     -999.0,9,     -999.0,     -999.0,9,     -999.0,     -999.0,     -999.0,9,     -999.0,9,     -999.0,9,     -999.0,9,     -999.0,9,     -999.0,9,     -999.0,9,     -999.0,9
33RO20161119,        P18,      38,          1,          6,      11105,2,20161203,       1507,     5.5000,  -109.9998,       4003,  2361.5,   1.9529,  34.6613,2,  34.6606,2,    107.1,2,   107.7,2,   148.1,2,    39.0,2,    0.01,2,   2.700,2,-999.0000,9,-999.0000,9,-999.0000,9,  2356.8,2,  2426.4,2,   7.5053,2,    25.00, -999.00,9,  -999.0,9,  -999.0,-999.0000,9, -999.00,9,  -999.0,9, -999.00,9, -999.00,9,     -999.0,9, -999.00,9,  -999.0,9,     -999.0,     -999.0,9,     -999.0,9,     -999.0,     -999.0,9,     -999.0,     -999.0,9,     -999.0,     -999.0,     -999.0,9,     -999.0,9,     -999.0,9,     -999.0,9,     -999.0,9,     -999.0,9,     -999.0,9,     -999.0,9
33RO20161119,        P18,      38,          1,          7,      11106,2,20161203,       1507,     5.5000,  -109.9998,       4003,  2060.0,   2.2594,  34.6452,2,  34.6460,2,     98.0,2,    98.3,2,   140.7,2,    39.7,2,    0.01,2,   2.777,2,-999.0000,9,-999.0000,9,-999.0000,9,  2353.8,6,  2417.7,2,   7.4811,2,    25.00, -999.00,9,  -999.0,9,  -999.0,-999.0000,9, -999.00,9,  -999.0,9, -999.00,9, -999.00,9,     -999.0,9, -999.00,9,  -999.0,9,     -999.0,     -999.0,9,     -999.0,9,     -999.0,     -999.0,9,     -999.0,     -999.0,9,     -999.0,     -999.0,     -999.0,9,     -999.0,9,     -999.0,9,     -999.0,9,     -999.0,9,     -999.0,9,     -999.0,9,     -999.0,9
33RO20161119,        P18,      38,          1,          8,      11107,2,20161203,       1507,     5.5000,  -109.9998,       4003,  1750.5,   2.6773,  34.6259,2,  34.6255,2,     84.0,2,    83.8,2,   132.5,2,    40.6,2,    0.01,2,   2.869,2,-999.0000,9,-999.0000,9,-999.0000,9,  2353.4,2,  2407.6,2,   7.4604,2,    25.00, -999.00,9,  -999.0,9,  -999.0,-999.0000,9, -999.00,9,  -999.0,9, -999.00,9, -999.00,9,     -999.0,9, -999.00,9,  -999.0,9,     -999.0,     -999.0,9,     -999.0,9,     -999.0,     -999.0,9,     -999.0,     -999.0,9,     -999.0,     -999.0,     -999.0,9,     -999.0,9,     -999.0,9,     -999.0,9,     -999.0,9,     -999.0,9,     -999.0,9,     -999.0,9
33RO20161119,        P18,      38,          1,          9,      11108,2,20161203,       1507,     5.5000,  -109.9998,       4003,  1475.3,   3.1945,  34.6056,2,  34.6055,2,     72.4,2,    72.8,2,   120.5,2,    41.2,2,    0.01,2,   2.942,2,-999.0000,9,-999.0000,9,-999.0000,9,  2345.0,2,  2389.8,6,   7.4368,2,    25.00, -999.00,9,  -999.0,9,  -999.0,-999.0000,9, -999.00,9,  -999.0,9, -999.00,9, -999.00,9,     -999.0,9, -999.00,9,  -999.0,9,     -999.0,     -999.0,9,     -999.0,9,     -999.0,     -999.0,9,     -999.0,     -999.0,9,     -999.0,     -999.0,     -999.0,9,     -999.0,9,     -999.0,9,     -999.0,9,     -999.0,9,     -999.0,9,     -999.0,9,     -999.0,9
33RO20161119,        P18,      38,          1,         10,      11109,2,20161203,       1507,     5.5000,  -109.9998,       4003,  1305.7,   3.5863,  34.5937,2,  34.5935,2,     61.0,2,    61.8,2,   112.6,2,    42.1,2,    0.01,2,   2.999,2,-999.0000,9,-999.0000,9,-999.0000,9,  2344.9,2,  2383.2,2,   7.4141,2,    25.00, -999.00,9,  -999.0,9,  -999.0,-999.0000,9, -999.00,9,  -999.0,9, -999.00,9, -999.00,9,     -999.0,9, -999.00,9,  -999.0,9,     -999.0,     -999.0,9,     -999.0,9,     -999.0,     -999.0,9,     -999.0,     -999.0,9,     -999.0,     -999.0,     -999.0,9,     -999.0,9,     -999.0,9,     -999.0,9,     -999.0,9,     -999.0,9,     -999.0,9,     -999.0,9
33RO20161119,        P18,      38,          1,         11,      11110,2,20161203,       1507,     5.5000,  -109.9998,       4003,  1164.7,   3.9827,  34.5810,2,  34.5897,4,     57.6,2,    57.1,2,   103.3,2,    42.5,2,    0.01,2,   3.023,2,-999.0000,9,-999.0000,9,-999.0000,9,  2336.3,2,  2366.3,2,   7.4090,6,    25.00, -999.00,9,  -999.0,9,  -999.0,-999.0000,9, -999.00,9,  -999.0,9, -999.00,9, -999.00,9,     -999.0,9, -999.00,9,  -999.0,9,     -999.0,     -999.0,9,     -999.0,9,     -999.0,     -999.0,9,     -999.0,     -999.0,9,     -999.0,     -999.0,     -999.0,9,     -999.0,9,     -999.0,9,     -999.0,9,     -999.0,9,     -999.0,9,     -999.0,9,     -999.0,9
33RO20161119,        P18,      38,          1,         12,      11111,2,20161203,       1507,     5.5000,  -109.9998,       4003,  1026.3,   4.5189,  34.5687,2,  34.5698,2,     44.2,2,    43.3,2,    92.5,2,    43.4,2,    0.01,2,   3.096,2,-999.0000,9,-999.0000,9,-999.0000,9,  2332.2,2,  2357.6,2,   7.3836,2,    25.00, -999.00,9,  -999.0,9,  -999.0,-999.0000,9, -999.00,9,  -999.0,9, -999.00,9, -999.00,9,     -999.0,9, -999.00,9,  -999.0,9,     -999.0,     -999.0,9,     -999.0,9,     -999.0,     -999.0,9,     -999.0,     -999.0,9,     -999.0,     -999.0,     -999.0,9,     -999.0,9,     -999.0,9,     -999.0,9,     -999.0,9,     -999.0,9,     -999.0,9,     -999.0,9
33RO20161119,        P18,      38,          1,         13,      11112,2,20161203,       1507,     5.5000,  -109.9998,       4003,   896.1,   5.1231,  34.5612,2,  34.5616,2,     31.6,2,    31.2,2,    81.7,2,    44.0,2,    0.01,2,   3.124,2,   0.0055,6,   0.0035,6,   0.0000,6,  2327.1,2,  2345.2,2,   7.3613,2,    25.00, -999.00,9,  -999.0,9,  -999.0,   0.0163,2, -999.00,9,  -999.0,9, -999.00,9, -999.00,9,    47.7088,2, -999.00,9,  -999.0,9,     -999.0,     -999.0,9,     -999.0,9,     -999.0,     -999.0,9,     -999.0,     -999.0,9,     -999.0,     -999.0,     -999.0,9,     -999.0,9,     -999.0,9,     -999.0,9,     -999.0,9,     -999.0,9,     -999.0,9,     -999.0,9
33RO20161119,        P18,      38,          1,         14,      11113,2,20161203,       1507,     5.5000,  -109.9998,       4003,   773.1,   5.7897,  34.5594,2,  34.5817,4,     23.3,2,    23.3,2,    71.3,2,    43.7,2,    0.01,2,   3.117,2,   0.0079,2,   0.0049,2,   0.0000,2,  2317.4,2,  2337.3,2,   7.3503,2,    25.00, -999.00,9,  -999.0,9,  -999.0,        0,2, -999.00,9,  -999.0,9, -999.00,9, -999.00,9,    53.0777,2, -999.00,9,  -999.0,9,     -999.0,     -999.0,9,     -999.0,9,     -999.0,     -999.0,9,     -999.0,     -999.0,9,     -999.0,     -999.0,     -999.0,9,     -999.0,9,     -999.0,9,     -999.0,9,     -999.0,9,     -999.0,9,     -999.0,9,     -999.0,9
33RO20161119,        P18,      38,          1,         15,      11114,2,20161203,       1507,     5.5000,  -109.9998,       4003,   651.5,   6.8041,  34.5754,2,  34.5750,2,     13.3,2,    13.1,2,    58.9,2,    42.4,2,    0.01,2,   3.074,2,   0.0205,2,   0.0123,2,   0.0286,2,  2308.3,2,  2323.9,2,   7.3456,2,    25.00, -999.00,9,  -999.0,9,  -999.0,   0.0263,2, -999.00,9,  -999.0,9, -999.00,9, -999.00,9,     59.841,2, -999.00,9,  -999.0,9,     -999.0,     -999.0,9,     -999.0,9,     -999.0,     -999.0,9,     -999.0,     -999.0,9,     -999.0,     -999.0,     -999.0,9,     -999.0,9,     -999.0,9,     -999.0,9,     -999.0,9,     -999.0,9,     -999.0,9,     -999.0,9
33RO20161119,        P18,      38,          1,         16,      11115,2,20161203,       1507,     5.5000,  -109.9998,       4003,   540.8,   7.8664,  34.6124,2,  34.6136,2,      9.9,2,    10.9,6,    49.1,2,    39.8,2,    0.01,2,   2.961,2,   0.0732,2,   0.0421,2,   0.0421,2,  2297.1,2,  2313.5,2,   7.3514,2,    25.00, -999.00,9,  -999.0,9,  -999.0,   0.0378,2, -999.00,9,  -999.0,9, -999.00,9, -999.00,9,     59.454,2, -999.00,9,  -999.0,9,     -999.0,     -999.0,9,     -999.0,9,     -999.0,     -999.0,9,     -999.0,     -999.0,9,     -999.0,     -999.0,     -999.0,9,     -999.0,9,     -999.0,9,     -999.0,9,     -999.0,9,     -999.0,9,     -999.0,9,     -999.0,9
33RO20161119,        P18,      38,          1,         17,      11116,2,20161203,       1507,     5.5000,  -109.9998,       4003,   435.2,   9.0005,  34.6529,2,  34.6539,2,     15.9,2,    15.6,6,    39.7,2,    36.7,2,    0.01,2,   2.699,2,   0.2646,2,   0.1446,2,   0.0545,2,  2277.8,2,  2307.3,2,   7.3857,6,    25.00, -999.00,9,  -999.0,9,  -999.0,   0.0867,2, -999.00,9,  -999.0,9, -999.00,9, -999.00,9,    58.1815,2, -999.00,9,  -999.0,9,     -999.0,     -999.0,9,     -999.0,9,     -999.0,     -999.0,9,     -999.0,     -999.0,9,     -999.0,     -999.0,     -999.0,9,     -999.0,9,     -999.0,9,     -999.0,9,     -999.0,9,     -999.0,9,     -999.0,9,     -999.0,9
33RO20161119,        P18,      38,          1,         18,      11117,2,20161203,       1507,     5.5000,  -109.9998,       4003,   336.3,   9.7753,  34.6905,2,  34.6926,2,     30.6,2,    29.6,2,    33.7,2,    34.5,2,    0.01,2,   2.473,2,   0.5605,2,   0.3050,2,   0.1073,2,  2260.2,2,  2303.1,2,   7.4328,2,    25.00, -999.00,9,  -999.0,9,  -999.0,   0.1086,2, -999.00,9,  -999.0,9, -999.00,9, -999.00,9,    53.5608,2, -999.00,9,  -999.0,9,     -999.0,     -999.0,9,     -999.0,9,     -999.0,     -999.0,9,     -999.0,     -999.0,9,     -999.0,     -999.0,     -999.0,9,     -999.0,9,     -999.0,9,     -999.0,9,     -999.0,9,     -999.0,9,     -999.0,9,     -999.0,9
33RO20161119,        P18,      38,          1,         19,      11083,2,20161203,       1507,     5.5000,  -109.9998,       4003,   250.2,  10.5923,  34.7068,2,  34.7081,2,     44.1,2,    44.0,2,    29.2,2,    32.1,2,    0.01,2,   2.277,2,   0.8916,2,   0.4821,2,   0.2095,2,  2242.9,2,  2298.4,2,   7.4792,2,    25.00, -999.00,9,  -999.0,9,  -999.0,   0.0998,2, -999.00,9,  -999.0,9, -999.00,9, -999.00,9,    54.2757,2, -999.00,9,  -999.0,9,     -999.0,     -999.0,9,     -999.0,9,     -999.0,     -999.0,9,     -999.0,     -999.0,9,     -999.0,     -999.0,     -999.0,9,     -999.0,9,     -999.0,9,     -999.0,9,     -999.0,9,     -999.0,9,     -999.0,9,     -999.0,9
33RO20161119,        P18,      38,          1,         20,      11118,2,20161203,       1507,     5.5000,  -109.9998,       4003,   169.4,  12.2102,  34.7733,2,  34.7733,2,     26.9,2,    26.3,2,    25.3,2,    31.4,2,    0.01,2,   2.258,2,   1.1646,2,   0.6483,2,   0.3130,2,  2239.3,2,  2296.9,2,   7.4705,2,    25.00, -999.00,9,  -999.0,9,  -999.0,   0.3635,2, -999.00,9,  -999.0,9, -999.00,9, -999.00,9,    71.0287,2, -999.00,9,  -999.0,9,     -999.0,     -999.0,9,     -999.0,9,     -999.0,     -999.0,9,     -999.0,     -999.0,9,     -999.0,     -999.0,     -999.0,9,     -999.0,9,     -999.0,9,     -999.0,9,     -999.0,9,     -999.0,9,     -999.0,9,     -999.0,9
33RO20161119,        P18,      38,          1,         21,      11119,2,20161203,       1507,     5.5000,  -109.9998,       4003,   104.9,  19.1326,  34.7588,2,  34.7613,2,     97.8,2,    93.0,2,    10.3,2,    17.4,2,    0.16,2,   1.402,2,   1.8076,2,   1.0816,2,   0.9691,2,  2140.7,2,  2287.9,2,   7.7186,6,    25.00, -999.00,9,  -999.0,9,  -999.0,   1.4629,2, -999.00,9,  -999.0,9, -999.00,9, -999.00,9,    41.4685,2, -999.00,9,  -999.0,9,     -999.0,     -999.0,9,     -999.0,9,     -999.0,     -999.0,9,     -999.0,     -999.0,9,     -999.0,     -999.0,     -999.0,9,     -999.0,9,     -999.0,9,     -999.0,9,     -999.0,9,     -999.0,9,     -999.0,9,     -999.0,9
33RO20161119,        P18,      38,          1,         22,      11120,2,20161203,       1507,     5.5000,  -109.9998,       4003,    50.2,  26.3091,  33.7319,2,  33.7379,2,    203.4,2,   203.4,2,     0.9,2,     0.5,2,    0.03,2,   0.247,2,   1.6123,2,   1.0161,2,   1.4049,2,  1926.9,2,  2219.7,2,   8.0562,2,    25.00, -999.00,9,  -999.0,9,  -999.0,   1.5856,2, -999.00,9,  -999.0,9, -999.00,9, -999.00,9,     7.1217,2, -999.00,9,  -999.0,9,     -999.0,     -999.0,9,     -999.0,9,     -999.0,     -999.0,9,     -999.0,     -999.0,9,     -999.0,     -999.0,     -999.0,9,     -999.0,9,     -999.0,9,     -999.0,9,     -999.0,9,     -999.0,9,     -999.0,9,     -999.0,9
33RO20161119,        P18,      38,          1,         23,      11121,2,20161203,       1507,     5.5000,  -109.9998,       4003,    19.6,  26.4691,  33.6837,2,  33.6833,2,    203.1,2,   204.4,2,     0.8,2,     0.3,2,    0.02,2,   0.211,2,   1.5829,2,   1.0062,2,   1.3960,2,  1917.0,2,  2218.8,6,   8.0632,2,    25.00, -999.00,9,  -999.0,9,  -999.0,   1.5614,2, -999.00,9,  -999.0,9, -999.00,9, -999.00,9,     6.6001,2, -999.00,9,  -999.0,9,     -999.0,     -999.0,9,     -999.0,9,     -999.0,     -999.0,9,     -999.0,     -999.0,9,     -999.0,     -999.0,     -999.0,9,     -999.0,9,     -999.0,9,     -999.0,9,     -999.0,9,     -999.0,9,     -999.0,9,     -999.0,9
33RO20161119,        P18,      38,          1,         24,      11122,2,20161203,       1507,     5.5000,  -109.9998,       4003,     2.5,  26.4690,  33.6846,2,  33.6846,2,    202.7,2,   215.2,3,     0.8,2,     0.3,2,    0.02,2,   0.194,2,   1.5853,2,   1.0062,2,   1.3749,2,  1918.4,6,  2216.8,2,   8.0651,2,    25.00, -999.00,9,  -999.0,9,  -999.0,        0,2, -999.00,9,  -999.0,9, -999.00,9, -999.00,9,     6.6708,2, -999.00,9,  -999.0,9,     -999.0,     -999.0,9,     -999.0,9,     -999.0,     -999.0,9,     -999.0,     -999.0,9,     -999.0,     -999.0,     -999.0,9,     -999.0,9,     -999.0,9,     -999.0,9,     -999.0,9,     -999.0,9,     -999.0,9,     -999.0,9