BOTTLE,20230606CCHSIOCBG
EXPOCODE,SECT_ID,STNNBR,CASTNO,SAMPNO,BTLNBR,BTLNBR_FLAG_W,DATE,TIME,LATITUDE,LONGITUDE,DEPTH,CTDPRS,CTDTMP,CTDSAL,CTDSAL_FLAG_W,SALNTY,SALNTY_FLAG_W,CTDOXY,CTDOXY_FLAG_W,OXYGEN,OXYGEN_FLAG_W,SILCAT,SILCAT_FLAG_W,NITRAT,NITRAT_FLAG_W,NITRIT,NITRIT_FLAG_W,PHSPHT,PHSPHT_FLAG_W,CFC-11,CFC-11_FLAG_W,CFC-12,CFC-12_FLAG_W,SF6,SF6_FLAG_W,TCARBN,TCARBN_FLAG_W,ALKALI,ALKALI_FLAG_W,PH_SWS,PH_SWS_FLAG_W,PH_TMP,DELC13,DELC13_FLAG_W,DELC14,DELC14_FLAG_W,C14ERR,CCL4,CCL4_FLAG_W,POC,POC_FLAG_W,DOC,DOC_FLAG_W,TDN,TDN_FLAG_W,PON,PON_FLAG_W,N2O,N2O_FLAG_W,D15N_NO3,D15N_NO3_FLAG_W,14C-DOC,14C-DOC_FLAG_W,14C-DOCERR,13C-DOC,13C-DOC_FLAG_W,N2/ARGON_UNSTRIPPED,N2/ARGON_UNSTRIPPED_FLAG_W,N2/ARGON_UNSTRIPPED_ERROR,N2/ARGON,N2/ARGON_FLAG_W,N2/ARGON_ERROR,D15N_N2,D15N_N2_FLAG_W,D15N_N2_ERROR,D15N_NO3_ERROR,D15N_NO2+NO3,D15N_NO2+NO3_FLAG_W,D18O_NO2+NO3,D18O_NO2+NO3_FLAG_W,D18O_NO3,D18O_NO3_FLAG_W,TDP,TDP_FLAG_W,N2O_ALT_1,N2O_ALT_1_FLAG_W,D15N_N2O,D15N_N2O_FLAG_W,D18O_N2O,D18O_N2O_FLAG_W,D15N_ALPHA_N2O,D15N_ALPHA_N2O_FLAG_W
,,,,,,,,,,,METERS,DBAR,ITS-90,PSS-78,,PSS-78,,UMOL/KG,,UMOL/KG,,UMOL/KG,,UMOL/KG,,UMOL/KG,,UMOL/KG,,PMOL/KG,,PMOL/KG,,FMOL/KG,,UMOL/KG,,UMOL/KG,,,,DEG C,/MILLE,,/MILLE,,/MILLE,PMOL/KG,,UG/KG,,UMOL/KG,,UMOL/KG,,UG/KG,,NMOL/KG,,/MILLE,,/MILLE,,/MILLE,/MILLE,,,,,,,,/MILLE,,/MILLE,/MILLE,/MILLE,,/MILLE,,/MILLE,,UMOL/KG,,NMOL/L,,/MILLE,,/MILLE,,/MILLE,
33RO20161119,        P18,     152,          1,          1,      11010,2,20170110,       0913,   -42.0002,  -103.0002,       3906,  3930.9,   1.2306,  34.7081,2,  34.7075,2,    190.6,2,   191.0,2,   121.8,2,    32.1,2,    0.00,2,   2.297,2,   0.0031,2,   0.0020,2,   0.0000,2,  2277.8,6,  2379.6,2,   7.6009,2,    25.00, -999.00,9,  -999.0,9,  -999.0,   0.0789,2, -999.00,9,  -999.0,9, -999.00,9, -999.00,9,    19.2794,2,    4.91,2,  -999.0,9,     -999.0,     -999.0,9,     -999.0,9,     -999.0,     -999.0,9,     -999.0,     -999.0,9,     -999.0,     -999.0,       4.91,2,       1.91,2,       1.91,2,     -999.0,9,     -999.0,9,     -999.0,9,     -999.0,9,     -999.0,9
33RO20161119,        P18,     152,          1,          2,      11101,2,20170110,       0913,   -42.0002,  -103.0002,       3906,  3612.2,   1.2850,  34.7079,2,  34.7069,2,    187.7,2,   187.8,2,   120.8,2,    32.2,2,    0.00,2,   2.292,2,   0.0052,2,   0.0043,2,   0.0371,2,  2278.0,2,  2380.3,2,   7.6016,6,    25.00, -999.00,9,  -999.0,9,  -999.0,   0.0843,2, -999.00,9,  -999.0,9, -999.00,9, -999.00,9,    19.0586,2,    4.92,2,  -999.0,9,     -999.0,     -999.0,9,     -999.0,9,     -999.0,     -999.0,9,     -999.0,     -999.0,9,     -999.0,     -999.0,       4.92,2,       1.89,2,       1.89,2,     -999.0,9,     -999.0,9,     -999.0,9,     -999.0,9,     -999.0,9
33RO20161119,        P18,     152,          1,          3,      11102,2,20170110,       0913,   -42.0002,  -103.0002,       3906,  3295.8,   1.4967,  34.7063,2,  34.7065,2,    181.7,2,   181.6,6,   115.4,6,    32.5,6,    0.00,6,   2.326,6,   0.0072,2,   0.0040,2,   0.0246,2,  2276.0,2,  2377.6,6,   7.5927,2,    25.00, -999.00,9,  -999.0,9,  -999.0,    0.148,2, -999.00,9,  -999.0,9, -999.00,9, -999.00,9,     19.686,2,    4.99,2,  -999.0,9,     -999.0,     -999.0,9,     -999.0,9,     -999.0,     -999.0,9,     -999.0,     -999.0,9,     -999.0,     -999.0,       4.99,2,       1.93,2,       1.93,2,     -999.0,9,     -999.0,9,     -999.0,9,     -999.0,9,     -999.0,9
33RO20161119,        P18,     152,          1,          4,      11103,2,20170110,       0913,   -42.0002,  -103.0002,       3906,  2974.7,   1.6717,  34.7036,2,  34.7031,2,    175.4,2,   175.9,2,   111.0,6,    32.6,6,    0.00,6,   2.331,6,   0.0151,2,   0.0071,2,   0.0146,2,  2276.6,2,  2370.3,2,   7.5876,6,    25.00, -999.00,9,  -999.0,9,  -999.0,   0.2085,2, -999.00,9,  -999.0,9, -999.00,9, -999.00,9,    19.9435,2,    5.08,2,  -999.0,9,     -999.0,     -999.0,9,     -999.0,9,     -999.0,     -999.0,9,     -999.0,     -999.0,9,     -999.0,     -999.0,       5.08,2,       2.08,2,       2.08,2,     -999.0,9,     -999.0,9,     -999.0,9,     -999.0,9,     -999.0,9
33RO20161119,        P18,     152,          1,          5,      11104,2,20170110,       0913,   -42.0002,  -103.0002,       3906,  2658.1,   1.7785,  34.6969,2,  34.6960,2,    171.1,2,   171.3,2,   108.9,6,    32.8,6,    0.00,6,   2.350,6,   0.0186,2,   0.0090,2,   0.0000,2,  2279.4,2,  2374.2,2,   7.5829,2,    25.00, -999.00,9,  -999.0,9,  -999.0,   0.3259,2, -999.00,9,  -999.0,9, -999.00,9, -999.00,9,    20.2788,2,    5.14,2,  -999.0,9,     -999.0,     -999.0,9,     -999.0,9,     -999.0,     -999.0,9,     -999.0,     -999.0,9,     -999.0,     -999.0,       5.14,2,       1.93,2,       1.93,2,     -999.0,9,     -999.0,9,     -999.0,9,     -999.0,9,     -999.0,9
33RO20161119,        P18,     152,          1,          6,      11105,2,20170110,       0913,   -42.0002,  -103.0002,       3906,  2359.8,   1.9482,  34.6874,2,  34.6935,4,    168.1,2,   168.4,2,   102.9,6,    32.9,6,    0.00,6,   2.345,6,   0.0360,6,   0.0171,6,   0.0000,6,  2276.0,2,  2364.0,2,   7.5723,2,    25.00, -999.00,9,  -999.0,9,  -999.0,   0.4902,2, -999.00,9,  -999.0,9, -999.00,9, -999.00,9,    20.7117,2,    5.19,2,  -999.0,9,     -999.0,     -999.0,9,     -999.0,9,     -999.0,     -999.0,9,     -999.0,     -999.0,9,     -999.0,     -999.0,       5.19,2,        1.9,2,        1.9,2,     -999.0,9,     -999.0,9,     -999.0,9,     -999.0,9,     -999.0,9
33RO20161119,        P18,     152,          1,          7,      11106,2,20170110,       0913,   -42.0002,  -103.0002,       3906,  2060.7,   2.2088,  34.6543,2,  34.6535,2,    163.8,2,   164.6,2,    92.7,2,    33.2,2,    0.01,2,   2.356,2,   0.0685,2,   0.0322,2,   0.0000,2,  2270.1,2,  2357.2,2,   7.5630,2,    25.00, -999.00,9,  -999.0,9,  -999.0,   1.4622,2, -999.00,9,  -999.0,9, -999.00,9, -999.00,9,    21.6013,2,    5.21,2,  -999.0,9,     -999.0,     -999.0,9,     -999.0,9,     -999.0,     -999.0,9,     -999.0,     -999.0,9,     -999.0,     -999.0,       5.21,2,       1.97,2,       1.97,2,     -999.0,9,     -999.0,9,     -999.0,9,     -999.0,9,     -999.0,9
33RO20161119,        P18,     152,          1,          8,      11107,2,20170110,       0913,   -42.0002,  -103.0002,       3906,  1750.3,   2.5075,  34.5853,2,  34.6139,4,    157.6,2,   157.8,2,    84.3,2,    34.3,2,    0.00,2,   2.442,2,   0.1141,2,   0.0546,2,   0.0000,2,  2266.0,2,  2346.0,2,   7.5475,2,    25.00, -999.00,9,  -999.0,9,  -999.0,   2.0968,2, -999.00,9,  -999.0,9, -999.00,9, -999.00,9,    22.8122,2,    5.37,2,  -999.0,9,     -999.0,     -999.0,9,     -999.0,9,     -999.0,     -999.0,9,     -999.0,     -999.0,9,     -999.0,     -999.0,       5.37,2,       2.25,2,       2.25,2,     -999.0,9,     -999.0,9,     -999.0,9,     -999.0,9,     -999.0,9
33RO20161119,        P18,     152,          1,          9,      11108,2,20170110,       0913,   -42.0002,  -103.0002,       3906,  1475.0,   2.9295,  34.5076,2,  34.5067,2,    148.9,2,   149.0,2,    73.5,2,    35.6,2,    0.00,2,   2.529,2,   0.1656,2,   0.0782,2,   0.0282,2,  2263.7,6,  2335.9,2,   7.5296,2,    25.00, -999.00,9,  -999.0,9,  -999.0,   2.8913,2, -999.00,9,  -999.0,9, -999.00,9, -999.00,9,    25.0271,2,    5.66,2,  -999.0,9,     -999.0,     -999.0,9,     -999.0,9,     -999.0,     -999.0,9,     -999.0,     -999.0,9,     -999.0,     -999.0,       5.66,2,       2.07,2,       2.07,2,     -999.0,9,     -999.0,9,     -999.0,9,     -999.0,9,     -999.0,9
33RO20161119,        P18,     152,          1,         10,      11109,2,20170110,       0913,   -42.0002,  -103.0002,       3906,  1304.5,   3.2394,  34.4375,2,  34.4366,2,    158.8,2,   159.3,2,    60.2,2,    35.0,2,    0.00,2,   2.472,2,   0.3274,2,   0.1610,2,   0.0278,2,  2245.6,2,  2320.9,2,   7.5370,2,    25.00, -999.00,9,  -999.0,9,  -999.0,    2.836,2, -999.00,9,  -999.0,9, -999.00,9, -999.00,9,    24.1607,2,    5.67,2,  -999.0,9,     -999.0,     -999.0,9,     -999.0,9,     -999.0,     -999.0,9,     -999.0,     -999.0,9,     -999.0,     -999.0,       5.67,2,       2.17,2,       2.17,2,     -999.0,9,     -999.0,9,     -999.0,9,     -999.0,9,     -999.0,9
33RO20161119,        P18,     152,          1,         11,      11110,2,20170110,       0913,   -42.0002,  -103.0002,       3906,  1165.1,   3.5389,  34.3697,2,  34.3750,2,    178.0,2,   178.8,2,    46.7,2,    33.2,2,    0.01,2,   2.339,2,   0.7597,2,   0.3704,2,   0.1223,2,  2223.0,2,  2308.3,6,   7.5642,2,    25.00, -999.00,9,  -999.0,9,  -999.0,   3.0893,2, -999.00,9,  -999.0,9, -999.00,9, -999.00,9,    22.0726,2,    5.54,2,  -999.0,9,     -999.0,     -999.0,9,     -999.0,9,     -999.0,     -999.0,9,     -999.0,     -999.0,9,     -999.0,     -999.0,       5.54,2,       2.25,2,       2.25,2,     -999.0,9,     -999.0,9,     -999.0,9,     -999.0,9,     -999.0,9
33RO20161119,        P18,     152,          1,         12,      11111,2,20170110,       0913,   -42.0002,  -103.0002,       3906,  1024.9,   4.0754,  34.3157,2,  34.3159,2,    197.7,2,   198.0,2,    34.1,2,    31.1,2,    0.00,2,   2.194,2,   1.4705,2,   0.7217,2,   0.2173,2,  2199.0,2,  2295.1,2,   7.5938,2,    25.00, -999.00,9,  -999.0,9,  -999.0,   2.8912,2, -999.00,9,  -999.0,9, -999.00,9, -999.00,9,    19.9941,2,    5.56,2,  -999.0,9,     -999.0,     -999.0,9,     -999.0,9,     -999.0,     -999.0,9,     -999.0,     -999.0,9,     -999.0,     -999.0,       5.56,2,       2.45,2,       2.45,2,     -999.0,9,     -999.0,9,     -999.0,9,     -999.0,9,     -999.0,9
33RO20161119,        P18,     152,          1,         13,      11112,2,20170110,       0913,   -42.0002,  -103.0002,       3906,   896.2,   4.6731,  34.2835,2,  34.2835,2,    211.8,2,   212.7,2,    24.3,2,    28.7,2,    0.01,2,   2.047,2,   2.2886,2,   1.1439,2,   0.4932,2,  2184.2,2,  2285.9,2,   7.6221,2,    25.00, -999.00,9,  -999.0,9,  -999.0,   3.2905,2, -999.00,9,  -999.0,9, -999.00,9, -999.00,9,    18.2127,2,    5.61,2,  -999.0,9,     -999.0,     -999.0,9,     -999.0,9,     -999.0,     -999.0,9,     -999.0,     -999.0,9,     -999.0,     -999.0,       5.61,2,       2.48,2,       2.48,2,     -999.0,9,     -999.0,9,     -999.0,9,     -999.0,9,     -999.0,9
33RO20161119,        P18,     152,          1,         14,      11113,2,20170110,       0913,   -42.0002,  -103.0002,       3906,   770.1,   5.2491,  34.2565,2,  34.2559,2,    234.4,2,   233.7,2,    15.7,2,    25.8,2,    0.00,2,   1.866,2,   3.2080,2,   1.6644,2,   0.9003,2,  2162.5,2,  2277.6,2,   7.6603,2,    25.00, -999.00,9,  -999.0,9,  -999.0,   3.1145,2, -999.00,9,  -999.0,9, -999.00,9, -999.00,9,     16.201,2,    5.68,2,  -999.0,9,     -999.0,     -999.0,9,     -999.0,9,     -999.0,     -999.0,9,     -999.0,     -999.0,9,     -999.0,     -999.0,       5.68,2,       2.91,2,       2.91,2,     -999.0,9,     -999.0,9,     -999.0,9,     -999.0,9,     -999.0,9
33RO20161119,        P18,     152,          1,         15,      11114,2,20170110,       0913,   -42.0002,  -103.0002,       3906,   651.2,   5.6520,  34.2525,2,  34.2518,2,    250.3,2,   251.8,2,    10.8,2,    23.0,2,    0.00,2,   1.705,2,   3.7891,6,   2.0261,6,   1.3528,6,  2150.2,2,  2273.9,2,   7.6910,2,    25.00, -999.00,9,  -999.0,9,  -999.0,   3.0131,2, -999.00,9,  -999.0,9, -999.00,9, -999.00,9,     15.034,2,    5.77,2,  -999.0,9,     -999.0,     -999.0,9,     -999.0,9,     -999.0,     -999.0,9,     -999.0,     -999.0,9,     -999.0,     -999.0,       5.77,2,       3.28,2,       3.28,2,     -999.0,9,     -999.0,9,     -999.0,9,     -999.0,9,     -999.0,9
33RO20161119,        P18,     152,          1,         16,      11115,2,20170110,       0913,   -42.0002,  -103.0002,       3906,   541.3,   6.0673,  34.2767,2,  34.2757,2,    255.0,2,   255.6,2,     8.6,2,    21.8,2,    0.00,2,   1.624,2,   3.9066,2,   2.1230,2,   1.5100,2,  2143.8,2,  2267.4,3,   7.6976,2,    25.00, -999.00,9,  -999.0,9,  -999.0,   2.8032,2, -999.00,9,  -999.0,9, -999.00,9, -999.00,9,    14.5659,2,    5.86,2,  -999.0,9,     -999.0,     -999.0,9,     -999.0,9,     -999.0,     -999.0,9,     -999.0,     -999.0,9,     -999.0,     -999.0,       5.86,2,       3.32,2,       3.32,2,     -999.0,9,     -999.0,9,     -999.0,9,     -999.0,9,     -999.0,9
33RO20161119,        P18,     152,          1,         17,      11116,2,20170110,       0913,   -42.0002,  -103.0002,       3906,   435.2,   6.3406,  34.2909,2,  34.2898,2,    256.6,2,   257.6,2,     7.5,2,    20.9,2,    0.00,2,   1.567,2,   4.0517,2,   2.2083,2,   1.6685,2,  2142.3,2,  2271.4,2,   7.7052,2,    25.00, -999.00,9,  -999.0,9,  -999.0,   3.4482,2, -999.00,9,  -999.0,9, -999.00,9, -999.00,9,    14.8976,2,    5.82,2,  -999.0,9,     -999.0,     -999.0,9,     -999.0,9,     -999.0,     -999.0,9,     -999.0,     -999.0,9,     -999.0,     -999.0,       5.82,2,       3.46,2,       3.46,2,     -999.0,9,     -999.0,9,     -999.0,9,     -999.0,9,     -999.0,9
33RO20161119,        P18,     152,          1,         18,      11117,2,20170110,       0913,   -42.0002,  -103.0002,       3906,   335.1,   6.6814,  34.3057,2,  34.3059,2,    259.8,2,   258.1,2,     6.3,2,    19.8,2,    0.00,2,   1.499,2,   4.0357,2,   2.2495,2,   1.8625,2,  2140.2,2,  2267.6,2,   7.7105,2,    25.00, -999.00,9,  -999.0,9,  -999.0,   3.4648,2, -999.00,9,  -999.0,9, -999.00,9, -999.00,9,    15.6727,2,    5.82,2,  -999.0,9,     -999.0,     -999.0,9,     -999.0,9,     -999.0,     -999.0,9,     -999.0,     -999.0,9,     -999.0,     -999.0,       5.82,2,        3.6,2,        3.6,2,     -999.0,9,     -999.0,9,     -999.0,9,     -999.0,9,     -999.0,9
33RO20161119,        P18,     152,          1,         19,      11083,2,20170110,       0913,   -42.0002,  -103.0002,       3906,   250.8,   6.8620,  34.2666,2,  34.2657,2,    259.1,2,   259.6,2,     5.1,2,    19.2,2,    0.01,2,   1.466,2,   4.0212,2,   2.2775,2,   2.1032,2,  2136.5,2,  2266.4,2,   7.7112,2,    25.00, -999.00,9,  -999.0,9,  -999.0,   3.2846,2, -999.00,9,  -999.0,9, -999.00,9, -999.00,9,    18.4362,2,    5.96,2,  -999.0,9,     -999.0,     -999.0,9,     -999.0,9,     -999.0,     -999.0,9,     -999.0,     -999.0,9,     -999.0,     -999.0,       5.94,2,       3.93,2,       4.13,2,     -999.0,9,     -999.0,9,     -999.0,9,     -999.0,9,     -999.0,9
33RO20161119,        P18,     152,          1,         20,      11118,2,20170110,       0913,   -42.0002,  -103.0002,       3906,   170.0,   7.7064,  34.2059,2,  34.2053,2,    255.5,2,   256.4,2,     3.2,2,    17.4,2,    0.02,2,   1.383,2,   3.8950,2,   2.2271,2,   2.1825,2,  2126.7,2,  2265.8,2,   7.7268,2,    25.00, -999.00,9,  -999.0,9,  -999.0,   0.0225,2, -999.00,9,  -999.0,9, -999.00,9, -999.00,9,    20.6939,2,    6.41,2,  -999.0,9,     -999.0,     -999.0,9,     -999.0,9,     -999.0,     -999.0,9,     -999.0,     -999.0,9,     -999.0,     -999.0,       6.42,2,       4.55,2,       4.57,2,     -999.0,9,     -999.0,9,     -999.0,9,     -999.0,9,     -999.0,9
33RO20161119,        P18,     152,          1,         21,      11119,2,20170110,       0913,   -42.0002,  -103.0002,       3906,   101.6,   9.6102,  34.0782,2,  34.0848,2,    266.3,2,   265.6,2,     1.2,2,    10.9,2,    0.31,2,   1.056,2,   3.5040,2,   2.0290,2,   2.3370,2,  2093.2,2,  2259.5,2,   7.7953,2,    25.00, -999.00,9,  -999.0,9,  -999.0,    0.025,2, -999.00,9,  -999.0,9, -999.00,9, -999.00,9,    14.5242,2,   10.09,2,  -999.0,9,     -999.0,     -999.0,9,     -999.0,9,     -999.0,     -999.0,9,     -999.0,     -999.0,9,     -999.0,     -999.0,       9.29,2,       7.37,2,       7.07,2,     -999.0,9,     -999.0,9,     -999.0,9,     -999.0,9,     -999.0,9
33RO20161119,        P18,     152,          1,         22,      11120,2,20170110,       0913,   -42.0002,  -103.0002,       3906,    49.5,  11.6544,  33.9848,2,  33.9867,2,    274.9,2,   275.7,2,     0.9,2,     8.7,2,    0.17,2,   0.930,2,   3.2326,2,   1.8836,2,   2.3122,2,  2070.6,2,  2255.1,2,   7.8449,2,    25.00, -999.00,9,  -999.0,9,  -999.0,   0.0458,2, -999.00,9,  -999.0,9, -999.00,9, -999.00,9,    10.3526,2,   13.16,2,  -999.0,9,     -999.0,     -999.0,9,     -999.0,9,     -999.0,     -999.0,9,     -999.0,     -999.0,9,     -999.0,     -999.0,      11.68,2,       8.71,2,       8.56,2,     -999.0,9,     -999.0,9,     -999.0,9,     -999.0,9,     -999.0,9
33RO20161119,        P18,     152,          1,         23,      11121,2,20170110,       0913,   -42.0002,  -103.0002,       3906,    20.5,  13.3372,  33.9681,2,  33.9711,2,    264.8,2,   267.1,2,     0.9,2,     8.7,2,    0.20,2,   0.931,2,   3.0279,2,   1.7775,2,   2.1850,2,  2063.3,2,  2252.0,6,   7.8539,2,    25.00, -999.00,9,  -999.0,9,  -999.0,   0.1198,2, -999.00,9,  -999.0,9, -999.00,9, -999.00,9,     9.7493,2,   13.95,2,  -999.0,9,     -999.0,     -999.0,9,     -999.0,9,     -999.0,     -999.0,9,     -999.0,     -999.0,9,     -999.0,     -999.0,      12.11,2,       8.79,2,       8.38,2,     -999.0,9,     -999.0,9,     -999.0,9,     -999.0,9,     -999.0,9
33RO20161119,        P18,     152,          1,         24,      11122,2,20170110,       0913,   -42.0002,  -103.0002,       3906,     3.7,  13.3471,  33.9682,2,  33.9686,2,    264.1,2,   265.3,2,     0.9,2,     8.9,2,    0.21,2,   0.943,2,   3.0062,2,   1.7662,2,   2.2046,2,  2063.3,6,  2249.5,2,   7.8512,2,    25.00, -999.00,9,  -999.0,9,  -999.0,   0.2776,2, -999.00,9,  -999.0,9, -999.00,9, -999.00,9,     9.6485,2,   14.11,2,  -999.0,9,     -999.0,     -999.0,9,     -999.0,9,     -999.0,     -999.0,9,     -999.0,     -999.0,9,     -999.0,     -999.0,      12.14,2,       8.77,2,        8.4,2,     -999.0,9,     -999.0,9,     -999.0,9,     -999.0,9,     -999.0,9