BOTTLE,20230606CCHSIOCBG
EXPOCODE,SECT_ID,STNNBR,CASTNO,SAMPNO,BTLNBR,BTLNBR_FLAG_W,DATE,TIME,LATITUDE,LONGITUDE,DEPTH,CTDPRS,CTDTMP,CTDSAL,CTDSAL_FLAG_W,SALNTY,SALNTY_FLAG_W,CTDOXY,CTDOXY_FLAG_W,OXYGEN,OXYGEN_FLAG_W,SILCAT,SILCAT_FLAG_W,NITRAT,NITRAT_FLAG_W,NITRIT,NITRIT_FLAG_W,PHSPHT,PHSPHT_FLAG_W,CFC-11,CFC-11_FLAG_W,CFC-12,CFC-12_FLAG_W,SF6,SF6_FLAG_W,TCARBN,TCARBN_FLAG_W,ALKALI,ALKALI_FLAG_W,PH_SWS,PH_SWS_FLAG_W,PH_TMP,DELC13,DELC13_FLAG_W,DELC14,DELC14_FLAG_W,C14ERR,CCL4,CCL4_FLAG_W,POC,POC_FLAG_W,DOC,DOC_FLAG_W,TDN,TDN_FLAG_W,PON,PON_FLAG_W,N2O,N2O_FLAG_W,D15N_NO3,D15N_NO3_FLAG_W,14C-DOC,14C-DOC_FLAG_W,14C-DOCERR,13C-DOC,13C-DOC_FLAG_W,N2/ARGON_UNSTRIPPED,N2/ARGON_UNSTRIPPED_FLAG_W,N2/ARGON_UNSTRIPPED_ERROR,N2/ARGON,N2/ARGON_FLAG_W,N2/ARGON_ERROR,D15N_N2,D15N_N2_FLAG_W,D15N_N2_ERROR,D15N_NO3_ERROR,D15N_NO2+NO3,D15N_NO2+NO3_FLAG_W,D18O_NO2+NO3,D18O_NO2+NO3_FLAG_W,D18O_NO3,D18O_NO3_FLAG_W,TDP,TDP_FLAG_W,N2O_ALT_1,N2O_ALT_1_FLAG_W,D15N_N2O,D15N_N2O_FLAG_W,D18O_N2O,D18O_N2O_FLAG_W,D15N_ALPHA_N2O,D15N_ALPHA_N2O_FLAG_W
,,,,,,,,,,,METERS,DBAR,ITS-90,PSS-78,,PSS-78,,UMOL/KG,,UMOL/KG,,UMOL/KG,,UMOL/KG,,UMOL/KG,,UMOL/KG,,PMOL/KG,,PMOL/KG,,FMOL/KG,,UMOL/KG,,UMOL/KG,,,,DEG C,/MILLE,,/MILLE,,/MILLE,PMOL/KG,,UG/KG,,UMOL/KG,,UMOL/KG,,UG/KG,,NMOL/KG,,/MILLE,,/MILLE,,/MILLE,/MILLE,,,,,,,,/MILLE,,/MILLE,/MILLE,/MILLE,,/MILLE,,/MILLE,,UMOL/KG,,NMOL/L,,/MILLE,,/MILLE,,/MILLE,
33RO20161119,        P18,     172,          1,          1,      11010,2,20170115,       2218,   -52.0004,  -102.9999,       4289,  4394.1,   0.7930,  34.7093,2,  34.7088,2,    205.2,2,   204.0,2,   131.7,2,    32.7,2,    0.01,2,   2.233,2,   0.0574,2,   0.0296,2,   0.0308,2,  2272.0,6,  2377.5,2,   7.6059,6,    25.00, -999.00,9,  -999.0,9,  -999.0,   0.0775,2, -999.00,9,  -999.0,9, -999.00,9, -999.00,9,    18.2686,2,    4.71,2,  -999.0,9,     -999.0,     -999.0,9,     -999.0,9,     -999.0,     -999.0,9,     -999.0,     -999.0,9,     -999.0,     -999.0,       4.71,2,       1.83,2,       1.83,2,     -999.0,9,     -999.0,9,     -999.0,9,     -999.0,9,     -999.0,9
33RO20161119,        P18,     172,          1,          2,      11101,2,20170115,       2218,   -52.0004,  -102.9999,       4289,  4023.4,   0.9045,  34.7117,2,  34.7186,4,    201.4,2,   201.0,6,   126.7,2,    32.7,2,    0.01,2,   2.222,2,   0.0482,2,   0.0246,2,   0.0000,2,  2269.1,2,  2374.7,6,   7.6042,2,    25.00, -999.00,9,  -999.0,9,  -999.0,   0.0786,2, -999.00,9,  -999.0,9, -999.00,9, -999.00,9,    18.4143,2,    4.72,2,  -999.0,9,     -999.0,     -999.0,9,     -999.0,9,     -999.0,     -999.0,9,     -999.0,     -999.0,9,     -999.0,     -999.0,       4.72,2,       1.84,2,       1.84,2,     -999.0,9,     -999.0,9,     -999.0,9,     -999.0,9,     -999.0,9
33RO20161119,        P18,     172,          1,          3,      11102,2,20170115,       2218,   -52.0004,  -102.9999,       4289,  3655.8,   1.2045,  34.7166,2,  34.7282,4,    195.4,2,   195.3,2,   117.5,6,    32.5,6,    0.01,6,   2.221,6,   0.0479,2,   0.0227,2,   0.0000,2,  2264.8,2,  2372.2,2,   7.5987,2,    25.00, -999.00,9,  -999.0,9,  -999.0,   0.1536,2, -999.00,9,  -999.0,9, -999.00,9, -999.00,9,    18.7469,2,    4.76,2,  -999.0,9,     -999.0,     -999.0,9,     -999.0,9,     -999.0,     -999.0,9,     -999.0,     -999.0,9,     -999.0,     -999.0,       4.76,2,       1.83,2,       1.83,2,     -999.0,9,     -999.0,9,     -999.0,9,     -999.0,9,     -999.0,9
33RO20161119,        P18,     172,          1,          4,      11103,2,20170115,       2218,   -52.0004,  -102.9999,       4289,  3330.4,   1.4799,  34.7194,2,  34.7174,2,    189.3,2,   188.8,2,   109.8,6,    32.5,6,    0.01,6,   2.212,6,   0.0466,2,   0.0219,2,   0.0297,2,  2267.1,2,  2368.2,2,   7.5942,2,    25.00, -999.00,9,  -999.0,9,  -999.0,   0.3148,2, -999.00,9,  -999.0,9, -999.00,9, -999.00,9,    19.0038,2,    4.85,2,  -999.0,9,     -999.0,     -999.0,9,     -999.0,9,     -999.0,     -999.0,9,     -999.0,     -999.0,9,     -999.0,     -999.0,       4.85,2,       1.69,2,       1.69,2,     -999.0,9,     -999.0,9,     -999.0,9,     -999.0,9,     -999.0,9
33RO20161119,        P18,     172,          1,          5,      11104,2,20170115,       2218,   -52.0004,  -102.9999,       4289,  3005.5,   1.6218,  34.7154,2,  34.7121,2,    183.0,2,   182.4,2,   107.7,6,    32.7,6,    0.01,6,   2.237,6,   0.0399,6,   0.0194,6,   0.0376,6,  2270.0,2,  2372.9,2,   7.5904,2,    25.00, -999.00,9,  -999.0,9,  -999.0,   0.5797,2, -999.00,9,  -999.0,9, -999.00,9, -999.00,9,    19.5099,2,    4.93,2,  -999.0,9,     -999.0,     -999.0,9,     -999.0,9,     -999.0,     -999.0,9,     -999.0,     -999.0,9,     -999.0,     -999.0,       4.93,2,       1.89,2,       1.89,2,     -999.0,9,     -999.0,9,     -999.0,9,     -999.0,9,     -999.0,9
33RO20161119,        P18,     172,          1,          6,      11105,2,20170115,       2218,   -52.0004,  -102.9999,       4289,  2685.5,   1.7789,  34.7102,2,  34.7069,2,    176.8,2,   177.5,2,   104.2,6,    32.9,6,    0.01,6,   2.257,6,   0.0462,2,   0.0217,2,   0.0000,2,  2271.6,2,  2370.8,2,   7.5853,2,    25.00, -999.00,9,  -999.0,9,  -999.0,   1.4924,2, -999.00,9,  -999.0,9, -999.00,9, -999.00,9,    19.9106,2,    4.94,2,  -999.0,9,     -999.0,     -999.0,9,     -999.0,9,     -999.0,     -999.0,9,     -999.0,     -999.0,9,     -999.0,     -999.0,       4.94,2,       1.82,2,       1.82,2,     -999.0,9,     -999.0,9,     -999.0,9,     -999.0,9,     -999.0,9
33RO20161119,        P18,     172,          1,          7,      11106,2,20170115,       2218,   -52.0004,  -102.9999,       4289,  2365.2,   2.0554,  34.7015,2,  34.7020,2,    174.5,2,   174.5,2,    93.3,2,    32.7,2,    0.01,2,   2.244,2,   0.1028,2,   0.0484,2,   0.0380,2,  2264.1,2,  2360.7,2,   7.5769,2,    25.00, -999.00,9,  -999.0,9,  -999.0,   1.7866,2, -999.00,9,  -999.0,9, -999.00,9, -999.00,9,    20.4027,2,    4.97,2,  -999.0,9,     -999.0,     -999.0,9,     -999.0,9,     -999.0,     -999.0,9,     -999.0,     -999.0,9,     -999.0,     -999.0,       4.97,2,       1.83,2,       1.83,2,     -999.0,9,19.75939364,2,       7.62,2,      48.81,2,      20.86,2
33RO20161119,        P18,     172,          1,          8,      11107,2,20170115,       2218,   -52.0004,  -102.9999,       4289,  2044.3,   2.3108,  34.6629,2,  34.6686,4,    171.5,2,   170.8,2,    83.9,2,    33.3,2,    0.01,2,   2.275,2,   0.2301,2,   0.1103,2,   0.0724,2,  2260.3,2,  2349.2,2,   7.5661,2,    25.00, -999.00,9,  -999.0,9,  -999.0,   2.2104,2, -999.00,9,  -999.0,9, -999.00,9, -999.00,9,    21.1386,2,     5.0,2,  -999.0,9,     -999.0,     -999.0,9,     -999.0,9,     -999.0,     -999.0,9,     -999.0,     -999.0,9,     -999.0,     -999.0,        5.0,2,       1.88,2,       1.88,2,     -999.0,9,     -999.0,9,     -999.0,9,     -999.0,9,     -999.0,9
33RO20161119,        P18,     172,          1,          9,      11108,2,20170115,       2218,   -52.0004,  -102.9999,       4289,  1685.7,   2.5627,  34.5739,2,  34.5802,4,    168.5,2,   168.4,2,    75.0,2,    34.2,2,    0.01,2,   2.343,2,   0.4779,2,   0.2323,2,   0.0925,2,  2255.4,6,  2340.0,2,   7.5522,2,    25.00, -999.00,9,  -999.0,9,  -999.0,   2.7107,2, -999.00,9,  -999.0,9, -999.00,9, -999.00,9,    22.1561,2,    5.14,2,  -999.0,9,     -999.0,     -999.0,9,     -999.0,9,     -999.0,     -999.0,9,     -999.0,     -999.0,9,     -999.0,     -999.0,       5.14,2,       1.93,2,       1.93,2,     -999.0,9, 19.5784256,2,       8.51,2,      46.36,2,      20.76,2
33RO20161119,        P18,     172,          1,         10,      11109,2,20170115,       2218,   -52.0004,  -102.9999,       4289,  1470.2,   2.8043,  34.4811,2,  34.5008,4,    176.1,2,   175.6,2,    64.7,2,    34.3,2,    0.01,2,   2.351,2,   0.9591,2,   0.4730,2,   0.2215,2,  2242.0,2,  2329.9,6,   7.5495,2,    25.00, -999.00,9,  -999.0,9,  -999.0,   2.4192,2, -999.00,9,  -999.0,9, -999.00,9, -999.00,9,     22.288,2,    5.26,2,  -999.0,9,     -999.0,     -999.0,9,     -999.0,9,     -999.0,     -999.0,9,     -999.0,     -999.0,9,     -999.0,     -999.0,       5.26,2,        2.1,2,        2.1,2,     -999.0,9,     -999.0,9,        8.4,2,      45.84,2,      20.27,2
33RO20161119,        P18,     172,          1,         11,      11110,2,20170115,       2218,   -52.0004,  -102.9999,       4289,  1313.4,   3.0498,  34.4094,2,  34.4355,4,    185.9,2,   185.6,2,    55.3,2,    33.8,2,    0.01,2,   2.321,2,   1.4394,2,   0.7149,2,   0.3589,2,  2228.7,2,  2317.0,2,   7.5617,2,    25.00, -999.00,9,  -999.0,9,  -999.0,   3.1969,2, -999.00,9,  -999.0,9, -999.00,9, -999.00,9,    21.8401,2,    5.33,2,  -999.0,9,     -999.0,     -999.0,9,     -999.0,9,     -999.0,     -999.0,9,     -999.0,     -999.0,9,     -999.0,     -999.0,       5.33,2,       2.23,2,       2.23,2,     -999.0,9,     -999.0,9,     -999.0,9,     -999.0,9,     -999.0,9
33RO20161119,        P18,     172,          1,         12,      11111,2,20170115,       2218,   -52.0004,  -102.9999,       4289,  1175.2,   3.4399,  34.3442,2,  34.3756,4,    198.2,2,   197.8,2,    44.3,2,    32.7,2,    0.01,2,   2.242,2,   1.9429,2,   0.9876,2,   0.5477,2,  2212.8,2,  2311.4,2,   7.5789,2,    25.00, -999.00,9,  -999.0,9,  -999.0,   4.1837,2, -999.00,9,  -999.0,9, -999.00,9, -999.00,9,    20.7006,2,    5.44,2,  -999.0,9,     -999.0,     -999.0,9,     -999.0,9,     -999.0,     -999.0,9,     -999.0,     -999.0,9,     -999.0,     -999.0,       5.44,2,       2.34,2,       2.34,2,     -999.0,9,     -999.0,9,     -999.0,9,     -999.0,9,     -999.0,9
33RO20161119,        P18,     172,          1,         13,      11112,2,20170115,       2218,   -52.0004,  -102.9999,       4289,  1035.3,   3.9736,  34.2995,2,  34.3187,4,    209.6,2,   208.6,2,    34.0,2,    31.2,2,    0.01,2,   2.134,2,   2.4373,2,   1.2498,2,   0.7381,2,  2199.9,2,  2298.2,2,   7.5990,2,    25.00, -999.00,9,  -999.0,9,  -999.0,   4.1469,2, -999.00,9,  -999.0,9, -999.00,9, -999.00,9,    19.2574,2,    5.62,2,  -999.0,9,     -999.0,     -999.0,9,     -999.0,9,     -999.0,     -999.0,9,     -999.0,     -999.0,9,     -999.0,     -999.0,       5.62,2,       2.66,2,       2.66,2,     -999.0,9,17.10022959,2,       7.83,2,      45.08,2,      19.55,2
33RO20161119,        P18,     172,          1,         14,      11113,2,20170115,       2218,   -52.0004,  -102.9999,       4289,   899.8,   4.7491,  34.2702,2,  34.3014,4,    221.8,2,   221.1,2,    23.5,2,    28.9,2,    0.01,2,   1.977,2,   2.9763,6,   1.5653,6,   1.0930,6,  2179.6,2,  2288.7,2,   7.6277,2,    25.00, -999.00,9,  -999.0,9,  -999.0,   4.5423,2, -999.00,9,  -999.0,9, -999.00,9, -999.00,9,    17.8839,2,    5.75,2,  -999.0,9,     -999.0,     -999.0,9,     -999.0,9,     -999.0,     -999.0,9,     -999.0,     -999.0,9,     -999.0,     -999.0,       5.75,2,       2.55,2,       2.55,2,     -999.0,9,16.12699557,2,       7.32,2,      44.99,2,      18.81,2
33RO20161119,        P18,     172,          1,         15,      11114,2,20170115,       2218,   -52.0004,  -102.9999,       4289,   765.0,   5.3695,  34.2253,2,  34.2563,4,    249.7,2,   250.3,2,    13.4,2,    25.2,2,    0.01,2,   1.735,2,   3.6456,2,   1.9829,2,   1.7624,2,  2156.3,2,  2280.5,2,   7.6757,3,    25.00, -999.00,9,  -999.0,9,  -999.0,   3.8768,2, -999.00,9,  -999.0,9, -999.00,9, -999.00,9,    15.2013,2,    6.01,2,  -999.0,9,     -999.0,     -999.0,9,     -999.0,9,     -999.0,     -999.0,9,     -999.0,     -999.0,9,     -999.0,     -999.0,       6.01,2,       3.05,2,       3.05,2,     -999.0,9,13.67795493,2,       7.61,2,      45.13,2,      19.07,2
33RO20161119,        P18,     172,          1,         16,      11115,2,20170115,       2218,   -52.0004,  -102.9999,       4289,   635.8,   5.7230,  34.2045,2,  34.2422,4,    278.8,2,   277.4,2,     7.7,2,    21.7,2,    0.02,2,   1.510,2,   4.0315,2,   2.2368,2,   2.4012,2,  2136.8,2,  2275.6,2,   7.7171,3,    25.00, -999.00,9,  -999.0,9,  -999.0,   4.5587,2, -999.00,9,  -999.0,9, -999.00,9, -999.00,9,    13.0302,2,    6.38,2,  -999.0,9,     -999.0,     -999.0,9,     -999.0,9,     -999.0,     -999.0,9,     -999.0,     -999.0,9,     -999.0,     -999.0,       6.38,2,        3.9,2,        3.9,2,     -999.0,9,11.87024072,2,       7.19,2,      44.32,2,      19.88,2
33RO20161119,        P18,     172,          1,         17,      11116,2,20170115,       2218,   -52.0004,  -102.9999,       4289,   525.3,   5.8189,  34.2009,2,  34.2513,4,    285.8,2,   285.3,2,     6.2,2,    20.5,2,    0.02,2,   1.431,2,   4.0508,2,   2.2795,2,   2.6156,2,  2131.4,2,  2276.4,2,   7.7313,3,    25.00, -999.00,9,  -999.0,9,  -999.0,   4.6951,2, -999.00,9,  -999.0,9, -999.00,9, -999.00,9,    12.2083,2,    6.56,2,  -999.0,9,     -999.0,     -999.0,9,     -999.0,9,     -999.0,     -999.0,9,     -999.0,     -999.0,9,     -999.0,     -999.0,       6.56,2,       4.15,2,       4.15,2,     -999.0,9,11.21098625,2,       7.31,2,       43.8,2,       19.1,2
33RO20161119,        P18,     172,          1,         18,      11117,2,20170115,       2218,   -52.0004,  -102.9999,       4289,   409.1,   5.8505,  34.1991,2,  34.3045,4,    287.5,2,   286.5,2,     5.7,2,    20.1,2,    0.02,2,   1.412,2,   4.0496,2,   2.2883,2,   2.6317,2,  2128.2,2,  2276.8,2,   7.7568,3,    25.00, -999.00,9,  -999.0,9,  -999.0,   4.1874,2, -999.00,9,  -999.0,9, -999.00,9, -999.00,9,    11.9843,2,    6.62,2,  -999.0,9,     -999.0,     -999.0,9,     -999.0,9,     -999.0,     -999.0,9,     -999.0,     -999.0,9,     -999.0,     -999.0,       6.62,2,       4.33,2,       4.33,2,     -999.0,9,11.13247405,2,       7.15,2,      43.29,2,      18.57,2
33RO20161119,        P18,     172,          1,         19,      11083,2,20170115,       2218,   -52.0004,  -102.9999,       4289,   314.9,   5.8960,  34.2016,2,  34.2622,4,    286.1,2,   285.9,2,     5.6,2,    20.0,2,    0.02,2,   1.406,2,   4.0914,2,   2.2895,2,   2.6500,2,  2128.4,2,  2275.5,2,   7.7342,2,    25.00, -999.00,9,  -999.0,9,  -999.0,   4.5859,2, -999.00,9,  -999.0,9, -999.00,9, -999.00,9,    12.2125,2,    6.62,2,  -999.0,9,     -999.0,     -999.0,9,     -999.0,9,     -999.0,     -999.0,9,     -999.0,     -999.0,9,     -999.0,     -999.0,       6.66,2,       4.35,2,        4.1,2,     -999.0,9,11.23378334,2,       6.84,2,      44.77,2,      18.69,2
33RO20161119,        P18,     172,          1,         20,      11118,2,20170115,       2218,   -52.0004,  -102.9999,       4289,   233.1,   6.2237,  34.2356,2,  34.2676,4,    276.5,2,   275.9,2,     6.0,2,    20.4,2,    0.02,2,   1.434,2,   4.0248,2,   2.2572,2,   2.4457,2,  2134.2,2,  2277.5,2,   7.7246,2,    25.00, -999.00,9,  -999.0,9,  -999.0,   0.1664,2, -999.00,9,  -999.0,9, -999.00,9, -999.00,9,    12.7972,2,    6.43,2,  -999.0,9,     -999.0,     -999.0,9,     -999.0,9,     -999.0,     -999.0,9,     -999.0,     -999.0,9,     -999.0,     -999.0,        6.5,2,       4.05,2,       3.96,2,     -999.0,9,11.84022425,2,       6.89,2,      42.73,2,      19.78,2
33RO20161119,        P18,     172,          1,         21,      11119,2,20170115,       2218,   -52.0004,  -102.9999,       4289,   144.8,   6.3360,  34.1969,2,  34.1990,2,    286.3,2,   286.1,2,     4.3,2,    18.4,2,    0.31,2,   1.338,2,   4.0691,2,   2.2837,2,   2.7000,2,  2123.6,2,  2272.5,6,   7.7482,2,    25.00, -999.00,9,  -999.0,9,  -999.0,   0.1376,2, -999.00,9,  -999.0,9, -999.00,9, -999.00,9,    12.0077,2,    7.05,2,  -999.0,9,     -999.0,     -999.0,9,     -999.0,9,     -999.0,     -999.0,9,     -999.0,     -999.0,9,     -999.0,     -999.0,       6.86,2,       4.74,2,       5.01,2,     -999.0,9,11.17824612,2,       6.83,2,      44.37,2,      20.03,2
33RO20161119,        P18,     172,          1,         22,      11120,2,20170115,       2218,   -52.0004,  -102.9999,       4289,    69.9,   7.3251,  34.1727,2,  34.1417,4,    289.9,2,   289.1,2,     2.3,2,    16.0,2,    0.29,2,   1.221,2,   3.9488,2,   2.2268,2,   2.6359,2,  2110.6,2,  2272.3,2,   7.7758,6,    25.00, -999.00,9,  -999.0,9,  -999.0,   0.0937,2, -999.00,9,  -999.0,9, -999.00,9, -999.00,9,    11.4345,2,    8.68,2,  -999.0,9,     -999.0,     -999.0,9,     -999.0,9,     -999.0,     -999.0,9,     -999.0,     -999.0,9,     -999.0,     -999.0,        7.8,2,       5.61,2,       5.55,2,     -999.0,9, 10.5717434,2,       6.83,2,      43.52,2,      19.27,2
33RO20161119,        P18,     172,          1,         23,      11121,2,20170115,       2218,   -52.0004,  -102.9999,       4289,    31.1,   8.7664,  34.1537,2,  34.1525,4,    289.3,2,   291.2,6,     0.1,2,    14.0,2,    0.27,2,   1.005,2,   3.7360,2,   2.1318,2,   2.5844,2,  2092.9,6,  2272.3,2,   7.8173,2,    25.00, -999.00,9,  -999.0,9,  -999.0,   0.0928,2, -999.00,9,  -999.0,9, -999.00,9, -999.00,9,    10.9932,2,    9.95,2,  -999.0,9,     -999.0,     -999.0,9,     -999.0,9,     -999.0,     -999.0,9,     -999.0,     -999.0,9,     -999.0,     -999.0,        8.7,2,       6.33,2,       6.14,2,     -999.0,9,10.23869121,2,       7.23,2,       43.6,2,      18.04,2
33RO20161119,        P18,     172,          1,         24,      11122,2,20170115,       2218,   -52.0004,  -102.9999,       4289,     5.1,   8.7755,  34.1536,2,  34.1353,4,    285.6,2,   290.7,2,     0.1,2,    14.0,2,    0.28,2,   0.993,2,   3.7572,2,   2.1287,2,   2.5086,2,  2093.5,2,  2272.7,2,   7.8155,2,    25.00, -999.00,9,  -999.0,9,  -999.0,   0.0997,2, -999.00,9,  -999.0,9, -999.00,9, -999.00,9,    11.0357,2,    9.98,2,  -999.0,9,     -999.0,     -999.0,9,     -999.0,9,     -999.0,     -999.0,9,     -999.0,     -999.0,9,     -999.0,     -999.0,       8.76,2,       6.48,2,       6.36,2,     -999.0,9,10.29120019,2,        7.0,2,      44.26,2,      18.81,2