BOTTLE,20230606CCHSIOCBG
EXPOCODE,SECT_ID,STNNBR,CASTNO,SAMPNO,BTLNBR,BTLNBR_FLAG_W,DATE,TIME,LATITUDE,LONGITUDE,DEPTH,CTDPRS,CTDTMP,CTDSAL,CTDSAL_FLAG_W,SALNTY,SALNTY_FLAG_W,CTDOXY,CTDOXY_FLAG_W,OXYGEN,OXYGEN_FLAG_W,SILCAT,SILCAT_FLAG_W,NITRAT,NITRAT_FLAG_W,NITRIT,NITRIT_FLAG_W,PHSPHT,PHSPHT_FLAG_W,CFC-11,CFC-11_FLAG_W,CFC-12,CFC-12_FLAG_W,SF6,SF6_FLAG_W,TCARBN,TCARBN_FLAG_W,ALKALI,ALKALI_FLAG_W,PH_SWS,PH_SWS_FLAG_W,PH_TMP,DELC13,DELC13_FLAG_W,DELC14,DELC14_FLAG_W,C14ERR,CCL4,CCL4_FLAG_W,POC,POC_FLAG_W,DOC,DOC_FLAG_W,TDN,TDN_FLAG_W,PON,PON_FLAG_W,N2O,N2O_FLAG_W,D15N_NO3,D15N_NO3_FLAG_W,14C-DOC,14C-DOC_FLAG_W,14C-DOCERR,13C-DOC,13C-DOC_FLAG_W,N2/ARGON_UNSTRIPPED,N2/ARGON_UNSTRIPPED_FLAG_W,N2/ARGON_UNSTRIPPED_ERROR,N2/ARGON,N2/ARGON_FLAG_W,N2/ARGON_ERROR,D15N_N2,D15N_N2_FLAG_W,D15N_N2_ERROR,D15N_NO3_ERROR,D15N_NO2+NO3,D15N_NO2+NO3_FLAG_W,D18O_NO2+NO3,D18O_NO2+NO3_FLAG_W,D18O_NO3,D18O_NO3_FLAG_W,TDP,TDP_FLAG_W,N2O_ALT_1,N2O_ALT_1_FLAG_W,D15N_N2O,D15N_N2O_FLAG_W,D18O_N2O,D18O_N2O_FLAG_W,D15N_ALPHA_N2O,D15N_ALPHA_N2O_FLAG_W
,,,,,,,,,,,METERS,DBAR,ITS-90,PSS-78,,PSS-78,,UMOL/KG,,UMOL/KG,,UMOL/KG,,UMOL/KG,,UMOL/KG,,UMOL/KG,,PMOL/KG,,PMOL/KG,,FMOL/KG,,UMOL/KG,,UMOL/KG,,,,DEG C,/MILLE,,/MILLE,,/MILLE,PMOL/KG,,UG/KG,,UMOL/KG,,UMOL/KG,,UG/KG,,NMOL/KG,,/MILLE,,/MILLE,,/MILLE,/MILLE,,,,,,,,/MILLE,,/MILLE,/MILLE,/MILLE,,/MILLE,,/MILLE,,UMOL/KG,,NMOL/L,,/MILLE,,/MILLE,,/MILLE,
33RO20161119,        P18,     206,          2,          1,      11010,2,20170126,       0157,   -69.0009,  -102.9937,       4063,  4129.7,   0.3481,  34.7008,2,  34.7020,2,    213.1,2,   213.4,2,   144.2,2,    33.2,2,    0.01,2,   2.245,2,-999.0000,9,-999.0000,9,-999.0000,9,  -999.0,9,  -999.0,9,-999.0000,9,  -999.00, -999.00,9,  -999.0,9,  -999.0,-999.0000,9, -999.00,9,  -999.0,9, -999.00,9, -999.00,9,     -999.0,9, -999.00,9,  -999.0,9,     -999.0,     -999.0,9,     -999.0,9,     -999.0,     -999.0,9,     -999.0,     -999.0,9,     -999.0,     -999.0,     -999.0,9,     -999.0,9,     -999.0,9,     -999.0,9,     -999.0,9,     -999.0,9,     -999.0,9,     -999.0,9
33RO20161119,        P18,     206,          2,          2,      11101,2,20170126,       0157,   -69.0009,  -102.9937,       4063,  3785.5,   0.4048,  34.7033,2,-999.0000,9,    211.6,2,  -999.0,9,   138.0,6,    33.1,6,    0.01,6,   2.249,6,-999.0000,9,-999.0000,9,-999.0000,9,  -999.0,9,  2361.4,2,-999.0000,9,  -999.00, -999.00,9,  -999.0,9,  -999.0,-999.0000,9, -999.00,9,  -999.0,9, -999.00,9, -999.00,9,     -999.0,9, -999.00,9,    -493,2,          5,      -21.3,2,     -999.0,9,     -999.0,     -999.0,9,     -999.0,     -999.0,9,     -999.0,     -999.0,     -999.0,9,     -999.0,9,     -999.0,9,     -999.0,9,     -999.0,9,     -999.0,9,     -999.0,9,     -999.0,9
33RO20161119,        P18,     206,          2,          3,      11102,2,20170126,       0157,   -69.0009,  -102.9937,       4063,  3445.1,   0.4377,  34.7043,2,-999.0000,9,    210.2,2,  -999.0,9,   135.6,6,    33.1,6,    0.01,6,   2.249,6,-999.0000,9,-999.0000,9,-999.0000,9,  -999.0,9,  -999.0,9,-999.0000,9,  -999.00, -999.00,9,  -999.0,9,  -999.0,-999.0000,9, -999.00,9,  -999.0,9, -999.00,9, -999.00,9,     -999.0,9, -999.00,9,  -999.0,9,     -999.0,     -999.0,9,     -999.0,9,     -999.0,     -999.0,9,     -999.0,     -999.0,9,     -999.0,     -999.0,     -999.0,9,     -999.0,9,     -999.0,9,     -999.0,9,     -999.0,9,     -999.0,9,     -999.0,9,     -999.0,9
33RO20161119,        P18,     206,          2,          4,      11103,2,20170126,       0157,   -69.0009,  -102.9937,       4063,  3119.9,   0.4698,  34.7046,2,-999.0000,9,    209.1,2,  -999.0,9,   131.4,6,    32.9,6,    0.01,6,   2.244,6,-999.0000,9,-999.0000,9,-999.0000,9,  -999.0,9,  -999.0,9,-999.0000,9,  -999.00, -999.00,9,  -999.0,9,  -999.0,-999.0000,9, -999.00,9,  -999.0,9, -999.00,9, -999.00,9,     -999.0,9, -999.00,9,  -999.0,9,     -999.0,     -999.0,9,     -999.0,9,     -999.0,     -999.0,9,     -999.0,     -999.0,9,     -999.0,     -999.0,     -999.0,9,     -999.0,9,     -999.0,9,     -999.0,9,     -999.0,9,     -999.0,9,     -999.0,9,     -999.0,9
33RO20161119,        P18,     206,          2,          5,      11104,2,20170126,       0157,   -69.0009,  -102.9937,       4063,  2790.4,   0.5509,  34.7061,2,  34.7046,2,    207.4,2,   207.9,6,   128.1,6,    32.9,6,    0.01,6,   2.243,6,-999.0000,9,-999.0000,9,-999.0000,9,  -999.0,9,  -999.0,9,-999.0000,9,  -999.00, -999.00,9,  -999.0,9,  -999.0,-999.0000,9, -999.00,9,  -999.0,9, -999.00,9, -999.00,9,     -999.0,9, -999.00,9,    -485,2,          5,        -21,2,     -999.0,9,     -999.0,     -999.0,9,     -999.0,     -999.0,9,     -999.0,     -999.0,     -999.0,9,     -999.0,9,     -999.0,9,     -999.0,9,     -999.0,9,     -999.0,9,     -999.0,9,     -999.0,9
33RO20161119,        P18,     206,          2,          6,      11105,2,20170126,       0157,   -69.0009,  -102.9937,       4063,  2475.3,   0.6717,  34.7085,2,-999.0000,9,    205.0,2,  -999.0,9,   124.6,6,    32.7,6,    0.01,6,   2.223,6,-999.0000,9,-999.0000,9,-999.0000,9,  -999.0,9,  -999.0,9,-999.0000,9,  -999.00, -999.00,9,  -999.0,9,  -999.0,-999.0000,9, -999.00,9,  -999.0,9, -999.00,9, -999.00,9,     -999.0,9, -999.00,9,    -478,2,          5,      -21.5,2,     -999.0,9,     -999.0,     -999.0,9,     -999.0,     -999.0,9,     -999.0,     -999.0,     -999.0,9,     -999.0,9,     -999.0,9,     -999.0,9,     -999.0,9,     -999.0,9,     -999.0,9,     -999.0,9
33RO20161119,        P18,     206,          2,          7,      11106,2,20170126,       0157,   -69.0009,  -102.9937,       4063,  2154.9,   0.7897,  34.7120,2,-999.0000,9,    202.6,2,  -999.0,9,   121.1,2,    32.6,2,    0.01,2,   2.215,2,-999.0000,9,-999.0000,9,-999.0000,9,  -999.0,9,  -999.0,9,-999.0000,9,  -999.00, -999.00,9,  -999.0,9,  -999.0,-999.0000,9, -999.00,9,  -999.0,9, -999.00,9, -999.00,9,     -999.0,9, -999.00,9,    -471,2,          5,      -21.4,2,     -999.0,9,     -999.0,     -999.0,9,     -999.0,     -999.0,9,     -999.0,     -999.0,     -999.0,9,     -999.0,9,     -999.0,9,     -999.0,9,     -999.0,9,     -999.0,9,     -999.0,9,     -999.0,9
33RO20161119,        P18,     206,          2,          8,      11107,2,20170126,       0157,   -69.0009,  -102.9937,       4063,  1835.9,   0.9219,  34.7169,2,-999.0000,9,    199.9,2,   200.2,2,   116.2,2,    32.5,2,    0.01,2,   2.207,2,-999.0000,9,-999.0000,9,-999.0000,9,  -999.0,9,  -999.0,9,-999.0000,9,  -999.00, -999.00,9,  -999.0,9,  -999.0,-999.0000,9, -999.00,9,  -999.0,9, -999.00,9, -999.00,9,     -999.0,9, -999.00,9,    -489,2,          5,      -21.2,2,     -999.0,9,     -999.0,     -999.0,9,     -999.0,     -999.0,9,     -999.0,     -999.0,     -999.0,9,     -999.0,9,     -999.0,9,     -999.0,9,     -999.0,9,     -999.0,9,     -999.0,9,     -999.0,9
33RO20161119,        P18,     206,          2,          9,      11108,2,20170126,       0157,   -69.0009,  -102.9937,       4063,  1555.0,   1.0591,  34.7219,2,-999.0000,9,    197.0,2,  -999.0,9,   111.9,2,    32.3,2,    0.01,2,   2.198,2,-999.0000,9,-999.0000,9,-999.0000,9,  -999.0,9,  -999.0,9,-999.0000,9,  -999.00, -999.00,9,  -999.0,9,  -999.0,-999.0000,9, -999.00,9,  -999.0,9, -999.00,9, -999.00,9,     -999.0,9, -999.00,9,  -999.0,9,     -999.0,     -999.0,9,     -999.0,9,     -999.0,     -999.0,9,     -999.0,     -999.0,9,     -999.0,     -999.0,     -999.0,9,     -999.0,9,     -999.0,9,     -999.0,9,     -999.0,9,     -999.0,9,     -999.0,9,     -999.0,9
33RO20161119,        P18,     206,          2,         10,      11109,2,20170126,       0157,   -69.0009,  -102.9937,       4063,  1370.6,   1.1620,  34.7254,2,-999.0000,9,    194.6,2,  -999.0,9,   108.7,2,    32.3,2,    0.01,2,   2.183,2,-999.0000,9,-999.0000,9,-999.0000,9,  -999.0,9,  -999.0,9,-999.0000,9,  -999.00, -999.00,9,  -999.0,9,  -999.0,-999.0000,9, -999.00,9,  -999.0,9, -999.00,9, -999.00,9,     -999.0,9, -999.00,9,    -487,2,          5,      -21.2,2,     -999.0,9,     -999.0,     -999.0,9,     -999.0,     -999.0,9,     -999.0,     -999.0,     -999.0,9,     -999.0,9,     -999.0,9,     -999.0,9,     -999.0,9,     -999.0,9,     -999.0,9,     -999.0,9
33RO20161119,        P18,     206,          2,         11,      11110,2,20170126,       0157,   -69.0009,  -102.9937,       4063,  1222.0,   1.2676,  34.7285,2,-999.0000,9,    192.4,2,  -999.0,9,   105.2,2,    32.1,2,    0.01,2,   2.191,2,-999.0000,9,-999.0000,9,-999.0000,9,  -999.0,9,  -999.0,9,-999.0000,9,  -999.00, -999.00,9,  -999.0,9,  -999.0,-999.0000,9, -999.00,9,  -999.0,9, -999.00,9, -999.00,9,     -999.0,9, -999.00,9,  -999.0,9,     -999.0,     -999.0,9,     -999.0,9,     -999.0,     -999.0,9,     -999.0,     -999.0,9,     -999.0,     -999.0,     -999.0,9,     -999.0,9,     -999.0,9,     -999.0,9,     -999.0,9,     -999.0,9,     -999.0,9,     -999.0,9
33RO20161119,        P18,     206,          2,         12,      11111,2,20170126,       0157,   -69.0009,  -102.9937,       4063,  1084.9,   1.3783,  34.7315,2,-999.0000,9,    191.4,2,  -999.0,9,   101.6,2,    32.1,2,    0.01,2,   2.188,2,-999.0000,9,-999.0000,9,-999.0000,9,  -999.0,9,  -999.0,9,-999.0000,9,  -999.00, -999.00,9,  -999.0,9,  -999.0,-999.0000,9, -999.00,9,  -999.0,9, -999.00,9, -999.00,9,     -999.0,9, -999.00,9,  -999.0,9,     -999.0,      -21.4,2,     -999.0,9,     -999.0,     -999.0,9,     -999.0,     -999.0,9,     -999.0,     -999.0,     -999.0,9,     -999.0,9,     -999.0,9,     -999.0,9,     -999.0,9,     -999.0,9,     -999.0,9,     -999.0,9
33RO20161119,        P18,     206,          2,         13,      11112,2,20170126,       0157,   -69.0009,  -102.9937,       4063,   945.6,   1.4840,  34.7329,2,-999.0000,9,    188.9,2,  -999.0,9,    98.8,2,    32.1,2,    0.01,2,   2.174,2,-999.0000,9,-999.0000,9,-999.0000,9,  -999.0,9,  -999.0,9,-999.0000,9,  -999.00, -999.00,9,  -999.0,9,  -999.0,-999.0000,9, -999.00,9,  -999.0,9, -999.00,9, -999.00,9,     -999.0,9, -999.00,9,  -999.0,9,     -999.0,     -999.0,9,     -999.0,9,     -999.0,     -999.0,9,     -999.0,     -999.0,9,     -999.0,     -999.0,     -999.0,9,     -999.0,9,     -999.0,9,     -999.0,9,     -999.0,9,     -999.0,9,     -999.0,9,     -999.0,9
33RO20161119,        P18,     206,          2,         14,      11113,2,20170126,       0157,   -69.0009,  -102.9937,       4063,   810.2,   1.6020,  34.7331,2,  34.7363,2,    187.3,2,   187.9,2,    95.2,2,    32.0,2,    0.01,2,   2.179,2,-999.0000,9,-999.0000,9,-999.0000,9,  -999.0,9,  -999.0,9,-999.0000,9,  -999.00, -999.00,9,  -999.0,9,  -999.0,-999.0000,9, -999.00,9,  -999.0,9, -999.00,9, -999.00,9,     -999.0,9, -999.00,9,    -483,2,          5,      -21.1,2,     -999.0,9,     -999.0,     -999.0,9,     -999.0,     -999.0,9,     -999.0,     -999.0,     -999.0,9,     -999.0,9,     -999.0,9,     -999.0,9,     -999.0,9,     -999.0,9,     -999.0,9,     -999.0,9
33RO20161119,        P18,     206,          2,         15,      11114,2,20170126,       0157,   -69.0009,  -102.9937,       4063,   685.4,   1.7109,  34.7306,2,-999.0000,9,    184.6,2,  -999.0,9,    91.9,2,    32.0,2,    0.01,2,   2.186,2,-999.0000,9,-999.0000,9,-999.0000,9,  -999.0,9,  -999.0,9,-999.0000,9,  -999.00, -999.00,9,  -999.0,9,  -999.0,-999.0000,9, -999.00,9,  -999.0,9, -999.00,9, -999.00,9,     -999.0,9, -999.00,9,    -477,2,          5,      -21.2,2,     -999.0,9,     -999.0,     -999.0,9,     -999.0,     -999.0,9,     -999.0,     -999.0,     -999.0,9,     -999.0,9,     -999.0,9,     -999.0,9,     -999.0,9,     -999.0,9,     -999.0,9,     -999.0,9
33RO20161119,        P18,     206,          2,         16,      11115,2,20170126,       0157,   -69.0009,  -102.9937,       4063,   562.8,   1.8162,  34.7235,2,-999.0000,9,    180.7,2,  -999.0,9,    89.0,2,    32.4,2,    0.01,2,   2.206,2,-999.0000,9,-999.0000,9,-999.0000,9,  -999.0,9,  -999.0,9,-999.0000,9,  -999.00, -999.00,9,  -999.0,9,  -999.0,-999.0000,9, -999.00,9,  -999.0,9, -999.00,9, -999.00,9,     -999.0,9, -999.00,9,    -477,2,          5,      -21.2,2,     -999.0,9,     -999.0,     -999.0,9,     -999.0,     -999.0,9,     -999.0,     -999.0,     -999.0,9,     -999.0,9,     -999.0,9,     -999.0,9,     -999.0,9,     -999.0,9,     -999.0,9,     -999.0,9
33RO20161119,        P18,     206,          2,         17,      11116,2,20170126,       0157,   -69.0009,  -102.9937,       4063,   455.2,   1.9004,  34.7134,2,-999.0000,9,    178.5,2,  -999.0,9,    86.7,2,    32.6,2,    0.01,2,   2.205,2,-999.0000,9,-999.0000,9,-999.0000,9,  -999.0,9,  -999.0,9,-999.0000,9,  -999.00, -999.00,9,  -999.0,9,  -999.0,-999.0000,9, -999.00,9,  -999.0,9, -999.00,9, -999.00,9,     -999.0,9, -999.00,9,  -999.0,9,     -999.0,     -999.0,9,     -999.0,9,     -999.0,     -999.0,9,     -999.0,     -999.0,9,     -999.0,     -999.0,     -999.0,9,     -999.0,9,     -999.0,9,     -999.0,9,     -999.0,9,     -999.0,9,     -999.0,9,     -999.0,9
33RO20161119,        P18,     206,          2,         18,      11117,2,20170126,       0157,   -69.0009,  -102.9937,       4063,   350.1,   1.9535,  34.6951,2,-999.0000,9,    174.0,2,  -999.0,9,    84.8,2,    33.2,2,    0.01,2,   2.257,2,-999.0000,9,-999.0000,9,-999.0000,9,  -999.0,9,  -999.0,9,-999.0000,9,  -999.00, -999.00,9,  -999.0,9,  -999.0,-999.0000,9, -999.00,9,  -999.0,9, -999.00,9, -999.00,9,     -999.0,9, -999.00,9,    -470,2,          5,      -21.2,2,     -999.0,9,     -999.0,     -999.0,9,     -999.0,     -999.0,9,     -999.0,     -999.0,     -999.0,9,     -999.0,9,     -999.0,9,     -999.0,9,     -999.0,9,     -999.0,9,     -999.0,9,     -999.0,9
33RO20161119,        P18,     206,          2,         19,      11083,2,20170126,       0157,   -69.0009,  -102.9937,       4063,   255.2,   1.9838,  34.6663,2,-999.0000,9,    171.9,2,   172.3,2,    82.5,2,    33.7,2,    0.01,2,   2.290,2,-999.0000,9,-999.0000,9,-999.0000,9,  -999.0,9,  -999.0,9,-999.0000,9,  -999.00, -999.00,9,  -999.0,9,  -999.0,-999.0000,9, -999.00,9,  -999.0,9, -999.00,9, -999.00,9,     -999.0,9, -999.00,9,  -999.0,9,     -999.0,     -999.0,9,     -999.0,9,     -999.0,     -999.0,9,     -999.0,     -999.0,9,     -999.0,     -999.0,     -999.0,9,     -999.0,9,     -999.0,9,     -999.0,9,     -999.0,9,     -999.0,9,     -999.0,9,     -999.0,9
33RO20161119,        P18,     206,          2,         20,      11118,2,20170126,       0157,   -69.0009,  -102.9937,       4063,   175.8,   1.7634,  34.5978,2,  33.9699,4,    175.8,2,  -999.0,9,    79.7,2,    34.6,2,    0.02,2,   2.347,2,-999.0000,9,-999.0000,9,-999.0000,9,  2256.8,2,  2338.1,2,-999.0000,9,  -999.00, -999.00,9,  -999.0,9,  -999.0,-999.0000,9, -999.00,9,  -999.0,9, -999.00,9, -999.00,9,     -999.0,9, -999.00,9,    -469,2,          5,      -21.3,2,     -999.0,9,     -999.0,     -999.0,9,     -999.0,     -999.0,9,     -999.0,     -999.0,     -999.0,9,     -999.0,9,     -999.0,9,     -999.0,9,     -999.0,9,     -999.0,9,     -999.0,9,     -999.0,9
33RO20161119,        P18,     206,          2,         21,      11119,2,20170126,       0157,   -69.0009,  -102.9937,       4063,    95.3,  -1.1867,  34.1865,2,-999.0000,9,    287.3,2,  -999.0,9,    65.3,2,    31.3,2,    0.23,2,   2.157,2,-999.0000,9,-999.0000,9,-999.0000,9,  2216.8,2,  -999.0,9,-999.0000,9,  -999.00, -999.00,9,  -999.0,9,  -999.0,-999.0000,9, -999.00,9,  -999.0,9, -999.00,9, -999.00,9,     -999.0,9, -999.00,9,  -999.0,9,     -999.0,     -999.0,9,     -999.0,9,     -999.0,     -999.0,9,     -999.0,     -999.0,9,     -999.0,     -999.0,     -999.0,9,     -999.0,9,     -999.0,9,     -999.0,9,     -999.0,9,     -999.0,9,     -999.0,9,     -999.0,9
33RO20161119,        P18,     206,          2,         22,      11120,2,20170126,       0157,   -69.0009,  -102.9937,       4063,    37.8,  -1.4004,  33.9682,2,-999.0000,9,    328.7,2,  -999.0,9,    57.0,2,    28.5,2,    0.14,2,   1.971,2,-999.0000,9,-999.0000,9,-999.0000,9,  2185.0,2,  2292.7,2,-999.0000,9,  -999.00, -999.00,9,  -999.0,9,  -999.0,-999.0000,9, -999.00,9,  -999.0,9, -999.00,9, -999.00,9,     -999.0,9, -999.00,9,    -443,2,          5,      -22.1,2,     -999.0,9,     -999.0,     -999.0,9,     -999.0,     -999.0,9,     -999.0,     -999.0,     -999.0,9,     -999.0,9,     -999.0,9,     -999.0,9,     -999.0,9,     -999.0,9,     -999.0,9,     -999.0,9
33RO20161119,        P18,     206,          2,         23,      11121,2,20170126,       0157,   -69.0009,  -102.9937,       4063,    20.3,   0.3091,  33.5455,2,  33.6077,2,    346.2,2,   347.0,2,    50.9,2,    27.1,2,    0.22,2,   1.859,2,-999.0000,9,-999.0000,9,-999.0000,9,  2157.1,2,  2272.8,2,-999.0000,9,  -999.00, -999.00,9,  -999.0,9,  -999.0,-999.0000,9, -999.00,9,  -999.0,9, -999.00,9, -999.00,9,     -999.0,9, -999.00,9,    -421,2,          5,      -22.3,2,     -999.0,9,     -999.0,     -999.0,9,     -999.0,     -999.0,9,     -999.0,     -999.0,     -999.0,9,     -999.0,9,     -999.0,9,     -999.0,9,     -999.0,9,     -999.0,9,     -999.0,9,     -999.0,9
33RO20161119,        P18,     206,          2,         24,      11122,2,20170126,       0157,   -69.0009,  -102.9937,       4063,     2.5,  -0.2710,  32.2259,2,  32.2295,2,    351.0,2,   350.5,2,    47.6,2,    24.7,2,    0.37,2,   1.665,2,-999.0000,9,-999.0000,9,-999.0000,9,  2067.6,6,  2179.5,2,-999.0000,9,  -999.00, -999.00,9,  -999.0,9,  -999.0,-999.0000,9, -999.00,9,  -999.0,9, -999.00,9, -999.00,9,     -999.0,9, -999.00,9,  -999.0,9,     -999.0,     -999.0,9,     -999.0,9,     -999.0,     -999.0,9,     -999.0,     -999.0,9,     -999.0,     -999.0,     -999.0,9,     -999.0,9,     -999.0,9,     -999.0,9,     -999.0,9,     -999.0,9,     -999.0,9,     -999.0,9