BOTTLE,20230606CCHSIOCBG
EXPOCODE,SECT_ID,STNNBR,CASTNO,SAMPNO,BTLNBR,BTLNBR_FLAG_W,DATE,TIME,LATITUDE,LONGITUDE,DEPTH,CTDPRS,CTDTMP,CTDSAL,CTDSAL_FLAG_W,SALNTY,SALNTY_FLAG_W,CTDOXY,CTDOXY_FLAG_W,OXYGEN,OXYGEN_FLAG_W,SILCAT,SILCAT_FLAG_W,NITRAT,NITRAT_FLAG_W,NITRIT,NITRIT_FLAG_W,PHSPHT,PHSPHT_FLAG_W,CFC-11,CFC-11_FLAG_W,CFC-12,CFC-12_FLAG_W,SF6,SF6_FLAG_W,TCARBN,TCARBN_FLAG_W,ALKALI,ALKALI_FLAG_W,PH_SWS,PH_SWS_FLAG_W,PH_TMP,DELC13,DELC13_FLAG_W,DELC14,DELC14_FLAG_W,C14ERR,CCL4,CCL4_FLAG_W,POC,POC_FLAG_W,DOC,DOC_FLAG_W,TDN,TDN_FLAG_W,PON,PON_FLAG_W,N2O,N2O_FLAG_W,D15N_NO3,D15N_NO3_FLAG_W,14C-DOC,14C-DOC_FLAG_W,14C-DOCERR,13C-DOC,13C-DOC_FLAG_W,N2/ARGON_UNSTRIPPED,N2/ARGON_UNSTRIPPED_FLAG_W,N2/ARGON_UNSTRIPPED_ERROR,N2/ARGON,N2/ARGON_FLAG_W,N2/ARGON_ERROR,D15N_N2,D15N_N2_FLAG_W,D15N_N2_ERROR,D15N_NO3_ERROR,D15N_NO2+NO3,D15N_NO2+NO3_FLAG_W,D18O_NO2+NO3,D18O_NO2+NO3_FLAG_W,D18O_NO3,D18O_NO3_FLAG_W,TDP,TDP_FLAG_W,N2O_ALT_1,N2O_ALT_1_FLAG_W,D15N_N2O,D15N_N2O_FLAG_W,D18O_N2O,D18O_N2O_FLAG_W,D15N_ALPHA_N2O,D15N_ALPHA_N2O_FLAG_W
,,,,,,,,,,,METERS,DBAR,ITS-90,PSS-78,,PSS-78,,UMOL/KG,,UMOL/KG,,UMOL/KG,,UMOL/KG,,UMOL/KG,,UMOL/KG,,PMOL/KG,,PMOL/KG,,FMOL/KG,,UMOL/KG,,UMOL/KG,,,,DEG C,/MILLE,,/MILLE,,/MILLE,PMOL/KG,,UG/KG,,UMOL/KG,,UMOL/KG,,UG/KG,,NMOL/KG,,/MILLE,,/MILLE,,/MILLE,/MILLE,,,,,,,,/MILLE,,/MILLE,/MILLE,/MILLE,,/MILLE,,/MILLE,,UMOL/KG,,NMOL/L,,/MILLE,,/MILLE,,/MILLE,
33RO20161119,        P18,     137,          1,          1,      11010,2,20170106,       1100,   -34.4999,  -103.0000,       3424,  3462.3,   1.7820,  34.6894,2,  34.6871,2,    167.3,2,   168.2,2,   116.0,6,    34.3,6,    0.01,6,   2.383,6,   0.0067,2,   0.0037,2,   0.0000,2,  2294.3,6,  2390.4,2,   7.5843,2,    25.00, -999.00,9,  -999.0,9,  -999.0,   2.4182,2, -999.00,9,    37.4,2,   35.80,2, -999.00,9,    21.1049,2, -999.00,9,  -999.0,9,     -999.0,     -999.0,9,     -999.0,9,     -999.0,     -999.0,9,     -999.0,     -999.0,9,     -999.0,     -999.0,     -999.0,9,     -999.0,9,     -999.0,9,     -999.0,9,18.07852487,2,       8.78,2,       49.5,2,      22.71,2
33RO20161119,        P18,     137,          1,          2,      11101,2,20170106,       1100,   -34.4999,  -103.0000,       3424,  3300.9,   1.7662,  34.6893,2,  34.6885,2,    168.4,2,   166.6,2,   115.8,6,    34.3,6,    0.00,6,   2.384,6,-999.0000,9,-999.0000,9,-999.0000,9,  2292.0,2,  2399.1,4,   7.5832,6,    25.00, -999.00,9,  -999.0,9,  -999.0,-999.0000,9, -999.00,9,    37.8,2,   35.00,2, -999.00,9,     -999.0,9, -999.00,9,  -999.0,9,     -999.0,     -999.0,9,     -999.0,9,     -999.0,     -999.0,9,     -999.0,     -999.0,9,     -999.0,     -999.0,     -999.0,9,     -999.0,9,     -999.0,9,     -999.0,9,18.15170761,2,       8.78,2,      48.77,2,       22.5,2
33RO20161119,        P18,     137,          1,          3,      11102,2,20170106,       1100,   -34.4999,  -103.0000,       3424,  3141.2,   1.7526,  34.6888,2,  34.6878,2,    167.4,2,   166.7,2,   115.7,6,    34.3,6,    0.01,6,   2.390,6,-999.0000,9,-999.0000,9,-999.0000,9,  2292.0,2,  2388.9,2,   7.5824,2,    25.00, -999.00,9,  -999.0,9,  -999.0,-999.0000,9, -999.00,9,    38.1,2,   36.80,2, -999.00,9,     -999.0,9, -999.00,9,  -999.0,9,     -999.0,     -999.0,9,     -999.0,9,     -999.0,     -999.0,9,     -999.0,     -999.0,9,     -999.0,     -999.0,     -999.0,9,     -999.0,9,     -999.0,9,     -999.0,9,     -999.0,9,     -999.0,9,     -999.0,9,     -999.0,9
33RO20161119,        P18,     137,          1,          4,      11103,2,20170106,       1100,   -34.4999,  -103.0000,       3424,  2864.9,   1.7421,  34.6868,2,  34.6855,2,    166.9,2,   166.3,2,   115.2,6,    34.3,6,    0.01,6,   2.392,6,-999.0000,9,-999.0000,9,-999.0000,9,  2292.2,2,  2384.4,6,   7.5814,2,    25.00, -999.00,9,  -999.0,9,  -999.0,-999.0000,9, -999.00,9,    36.9,2,   36.20,2, -999.00,9,     -999.0,9, -999.00,9,  -999.0,9,     -999.0,     -999.0,9,     -999.0,9,     -999.0,     -999.0,9,     -999.0,     -999.0,9,     -999.0,     -999.0,     -999.0,9,     -999.0,9,     -999.0,9,     -999.0,9,18.66072871,2,       8.61,2,      49.61,2,       22.1,2
33RO20161119,        P18,     137,          1,          5,      11104,2,20170106,       1100,   -34.4999,  -103.0000,       3424,  2591.6,   1.7775,  34.6826,2,  34.6808,2,    165.1,2,   164.8,2,   114.1,6,    34.5,6,    0.00,6,   2.387,6,-999.0000,9,-999.0000,9,-999.0000,9,  2291.9,2,  2384.3,2,   7.5768,2,    25.00, -999.00,9,  -999.0,9,  -999.0,-999.0000,9, -999.00,9,    36.6,2,   36.90,2, -999.00,9,     -999.0,9, -999.00,9,  -999.0,9,     -999.0,     -999.0,9,     -999.0,9,     -999.0,     -999.0,9,     -999.0,     -999.0,9,     -999.0,     -999.0,     -999.0,9,     -999.0,9,     -999.0,9,     -999.0,9,     -999.0,9,     -999.0,9,     -999.0,9,     -999.0,9
33RO20161119,        P18,     137,          1,          6,      11105,2,20170106,       1100,   -34.4999,  -103.0000,       3424,  2310.4,   1.9148,  34.6682,2,  34.6672,2,    159.9,2,   159.7,2,   110.7,2,    34.8,2,    0.01,2,   2.433,2,-999.0000,9,-999.0000,9,-999.0000,9,  2292.9,2,  2380.6,2,   7.5661,6,    25.00, -999.00,9,  -999.0,9,  -999.0,-999.0000,9, -999.00,9,    36.2,2,   37.30,2, -999.00,9,     -999.0,9, -999.00,9,  -999.0,9,     -999.0,     -999.0,9,     -999.0,9,     -999.0,     -999.0,9,     -999.0,     -999.0,9,     -999.0,     -999.0,     -999.0,9,     -999.0,9,     -999.0,9,     -999.0,9,18.70301834,2,       8.96,2,      48.83,2,      22.63,2
33RO20161119,        P18,     137,          1,          7,      11106,2,20170106,       1100,   -34.4999,  -103.0000,       3424,  2030.1,   2.1485,  34.6372,2,  34.6354,2,    149.9,2,   150.1,2,   106.1,2,    35.6,2,    0.00,2,   2.499,2,-999.0000,9,-999.0000,9,-999.0000,9,  2294.6,2,  2373.8,2,   7.5503,2,    25.00, -999.00,9,  -999.0,9,  -999.0,-999.0000,9, -999.00,9,    36.2,2,   39.70,2, -999.00,9,     -999.0,9, -999.00,9,  -999.0,9,     -999.0,     -999.0,9,     -999.0,9,     -999.0,     -999.0,9,     -999.0,     -999.0,9,     -999.0,     -999.0,     -999.0,9,     -999.0,9,     -999.0,9,     -999.0,9,     -999.0,9,     -999.0,9,     -999.0,9,     -999.0,9
33RO20161119,        P18,     137,          1,          8,      11107,2,20170106,       1100,   -34.4999,  -103.0000,       3424,  1749.7,   2.4804,  34.5980,2,  34.5969,2,    138.9,2,   139.6,2,    98.4,2,    36.6,2,    0.00,2,   2.568,2,-999.0000,9,-999.0000,9,-999.0000,9,  2294.4,2,  2367.3,2,   7.5309,2,    25.00, -999.00,9,  -999.0,9,  -999.0,-999.0000,9, -999.00,9,    36.8,2,   38.40,2, -999.00,9,     -999.0,9, -999.00,9,  -999.0,9,     -999.0,     -999.0,9,     -999.0,9,     -999.0,     -999.0,9,     -999.0,     -999.0,9,     -999.0,     -999.0,     -999.0,9,     -999.0,9,     -999.0,9,     -999.0,9,21.38671145,2,       9.06,2,      49.41,2,      21.55,2
33RO20161119,        P18,     137,          1,          9,      11108,2,20170106,       1100,   -34.4999,  -103.0000,       3424,  1435.4,   2.9785,  34.5349,2,  34.5332,2,    132.0,2,   132.3,2,    82.9,2,    37.4,2,    0.00,2,   2.634,2,-999.0000,9,-999.0000,9,-999.0000,9,  2284.0,2,  2350.8,2,   7.5117,2,    25.00, -999.00,9,  -999.0,9,  -999.0,-999.0000,9, -999.00,9,    38.6,2,   39.70,2, -999.00,9,     -999.0,9, -999.00,9,  -999.0,9,     -999.0,     -999.0,9,     -999.0,9,     -999.0,     -999.0,9,     -999.0,     -999.0,9,     -999.0,     -999.0,     -999.0,9,     -999.0,9,     -999.0,9,     -999.0,9,     -999.0,9,     -999.0,9,     -999.0,9,     -999.0,9
33RO20161119,        P18,     137,          1,         10,      11109,2,20170106,       1100,   -34.4999,  -103.0000,       3424,  1264.4,   3.3390,  34.4647,2,  34.4639,2,    138.0,2,   137.3,6,    67.1,2,    37.4,2,    0.01,2,   2.610,2,   0.0447,2,   0.0231,2,   0.0000,2,  2267.6,2,  2331.9,6,   7.5083,2,    25.00, -999.00,9,  -999.0,9,  -999.0,    2.935,2, -999.00,9,    37.6,2,   40.40,2, -999.00,9,    26.8075,2, -999.00,9,  -999.0,9,     -999.0,     -999.0,9,     -999.0,9,     -999.0,     -999.0,9,     -999.0,     -999.0,9,     -999.0,     -999.0,     -999.0,9,     -999.0,9,     -999.0,9,     -999.0,9, 22.7553644,2,       8.68,2,      48.35,2,      20.73,2
33RO20161119,        P18,     137,          1,         11,      11110,2,20170106,       1100,   -34.4999,  -103.0000,       3424,  1130.1,   3.6060,  34.3914,2,  34.3913,2,    159.7,2,   158.1,2,    51.2,2,    35.8,2,    0.00,2,   2.487,2,-999.0000,9,-999.0000,9,-999.0000,9,  2239.4,6,  2314.0,2,   7.5361,2,    25.00, -999.00,9,  -999.0,9,  -999.0,-999.0000,9, -999.00,9,    40.4,2,   39.20,2, -999.00,9,     -999.0,9, -999.00,9,  -999.0,9,     -999.0,     -999.0,9,     -999.0,9,     -999.0,     -999.0,9,     -999.0,     -999.0,9,     -999.0,     -999.0,     -999.0,9,     -999.0,9,     -999.0,9,     -999.0,9,     -999.0,9,     -999.0,9,     -999.0,9,     -999.0,9
33RO20161119,        P18,     137,          1,         12,      11111,2,20170106,       1100,   -34.4999,  -103.0000,       3424,  1010.5,   4.0236,  34.3228,2,  34.3234,2,    187.2,2,   186.6,2,    35.8,2,    33.1,2,    0.00,2,   2.284,2,   0.7193,6,   0.3532,6,   0.1103,6,  2211.8,2,  2298.4,2,   7.5811,2,    25.00, -999.00,9,  -999.0,9,  -999.0,   2.8268,2, -999.00,9,    40.5,2,   35.60,2, -999.00,9,    21.5695,2, -999.00,9,  -999.0,9,     -999.0,     -999.0,9,     -999.0,9,     -999.0,     -999.0,9,     -999.0,     -999.0,9,     -999.0,     -999.0,     -999.0,9,     -999.0,9,     -999.0,9,     -999.0,9,18.80533752,2,       7.86,2,      45.19,2,      19.93,2
33RO20161119,        P18,     137,          1,         13,      11112,2,20170106,       1100,   -34.4999,  -103.0000,       3424,   890.1,   4.5176,  34.2865,2,  34.2859,2,    204.9,2,   204.7,2,    25.5,2,    30.8,2,    0.00,2,   2.118,2,   1.5293,2,   0.7411,2,   0.2708,2,  2190.4,2,  2288.5,2,   7.6110,2,    25.00, -999.00,9,  -999.0,9,  -999.0,   1.5832,2, -999.00,9,    38.9,2,   33.50,2, -999.00,9,    19.6595,2, -999.00,9,  -999.0,9,     -999.0,     -999.0,9,     -999.0,9,     -999.0,     -999.0,9,     -999.0,     -999.0,9,     -999.0,     -999.0,     -999.0,9,     -999.0,9,     -999.0,9,     -999.0,9,17.50647503,2,        7.3,2,      44.46,2,      19.61,2
33RO20161119,        P18,     137,          1,         14,      11113,2,20170106,       1100,   -34.4999,  -103.0000,       3424,   770.5,   5.1442,  34.2595,2,  34.2580,2,    226.9,2,   226.1,2,    15.8,2,    27.9,2,    0.00,2,   1.927,2,   2.7396,2,   1.3507,2,   0.5377,2,  2171.6,2,  2280.6,2,   7.6518,2,    25.00, -999.00,9,  -999.0,9,  -999.0,   1.1126,2, -999.00,9,    40.5,2,   29.90,2, -999.00,9,    17.6689,2, -999.00,9,  -999.0,9,     -999.0,     -999.0,9,     -999.0,9,     -999.0,     -999.0,9,     -999.0,     -999.0,9,     -999.0,     -999.0,     -999.0,9,     -999.0,9,     -999.0,9,     -999.0,9,15.40990946,2,       7.14,2,       43.0,2,      20.34,2
33RO20161119,        P18,     137,          1,         15,      11114,2,20170106,       1100,   -34.4999,  -103.0000,       3424,   660.0,   5.5908,  34.2573,2,  34.2570,2,    241.9,2,   241.6,2,    10.9,2,    25.7,2,    0.01,2,   1.778,2,   3.6476,2,   1.8383,2,   0.8911,2,  2157.3,2,  2272.0,2,   7.6756,2,    25.00, -999.00,9,  -999.0,9,  -999.0,   1.8498,2, -999.00,9,    41.1,2,   27.60,2, -999.00,9,    16.8927,2, -999.00,9,  -999.0,9,     -999.0,     -999.0,9,     -999.0,9,     -999.0,     -999.0,9,     -999.0,     -999.0,9,     -999.0,     -999.0,     -999.0,9,     -999.0,9,     -999.0,9,     -999.0,9,14.54216298,2,       6.87,2,      42.61,2,      20.36,2
33RO20161119,        P18,     137,          1,         16,      11115,2,20170106,       1100,   -34.4999,  -103.0000,       3424,   550.1,   5.9880,  34.2719,2,  34.2715,2,    245.8,2,   246.0,2,     8.8,2,    24.3,2,    0.01,2,   1.676,2,-999.0000,9,-999.0000,9,-999.0000,9,  2152.9,2,  2273.3,2,   7.6811,2,    25.00, -999.00,9,  -999.0,9,  -999.0,-999.0000,9, -999.00,9,    41.5,2,   27.60,2, -999.00,9,     -999.0,9, -999.00,9,  -999.0,9,     -999.0,     -999.0,9,     -999.0,9,     -999.0,     -999.0,9,     -999.0,     -999.0,9,     -999.0,     -999.0,     -999.0,9,     -999.0,9,     -999.0,9,     -999.0,9,14.64913718,2,       6.72,2,      41.81,2,       19.5,2
33RO20161119,        P18,     137,          1,         17,      11116,2,20170106,       1100,   -34.4999,  -103.0000,       3424,   455.3,   6.3724,  34.2895,2,  34.2881,2,    241.7,2,   241.5,2,     7.8,2,    23.8,2,    0.01,2,   1.648,2,   4.0408,2,   2.1375,2,   1.3672,2,  2153.1,2,  2273.1,2,   7.6790,2,    25.00, -999.00,9,  -999.0,9,  -999.0,    2.283,2, -999.00,9,    42.7,2,   24.30,2, -999.00,9,    18.5611,2, -999.00,9,  -999.0,9,     -999.0,     -999.0,9,     -999.0,9,     -999.0,     -999.0,9,     -999.0,     -999.0,9,     -999.0,     -999.0,     -999.0,9,     -999.0,9,     -999.0,9,     -999.0,9,16.11532967,2,        6.2,2,      41.64,2,      15.97,2
33RO20161119,        P18,     137,          1,         18,      11117,2,20170106,       1100,   -34.4999,  -103.0000,       3424,   355.4,   7.1254,  34.2709,2,  34.2710,2,    233.3,2,   232.6,2,     5.8,2,    22.6,2,    0.01,2,   1.615,2,   3.9512,2,   2.1314,2,   1.5257,2,  2151.9,2,  2258.9,3,   7.6793,2,    25.00, -999.00,9,  -999.0,9,  -999.0,   2.3211,2, -999.00,9,    44.6,2,   25.20,2, -999.00,9,    23.5255,2, -999.00,9,  -999.0,9,     -999.0,     -999.0,9,     -999.0,9,     -999.0,     -999.0,9,     -999.0,     -999.0,9,     -999.0,     -999.0,     -999.0,9,     -999.0,9,     -999.0,9,     -999.0,9, 21.1629657,2,       5.15,2,      39.94,2,       6.73,2
33RO20161119,        P18,     137,          1,         19,      11083,2,20170106,       1100,   -34.4999,  -103.0000,       3424,   275.3,   8.4416,  34.2348,2,  34.2375,2,    230.7,2,   230.7,2,     3.3,2,    19.6,2,    0.01,2,   1.415,2,   3.8333,2,   2.1083,2,   1.7747,2,  2135.3,2,  2264.6,2,   7.7059,2,    25.00, -999.00,9,  -999.0,9,  -999.0,    0.027,2, -999.00,9,    44.4,2,   19.60,2, -999.00,9,    25.3458,2, -999.00,9,  -999.0,9,     -999.0,     -999.0,9,     -999.0,9,     -999.0,     -999.0,9,     -999.0,     -999.0,9,     -999.0,     -999.0,     -999.0,9,     -999.0,9,     -999.0,9,     -999.0,9,21.05020806,2,       5.53,2,      36.34,2,       7.34,2
33RO20161119,        P18,     137,          1,         20,      11118,2,20170106,       1100,   -34.4999,  -103.0000,       3424,   201.0,  10.8749,  34.3269,2,  34.3178,2,    227.6,2,   226.9,2,     1.2,2,    13.3,2,    0.02,2,   1.018,2,   3.3539,2,   1.9199,2,   1.9061,2,  2110.4,2,  2267.7,2,   7.7742,2,    25.00, -999.00,9,  -999.0,9,  -999.0,   0.0176,2, -999.00,9,    48.2,2,   14.00,2, -999.00,9,      20.25,2, -999.00,9,  -999.0,9,     -999.0,     -999.0,9,     -999.0,9,     -999.0,     -999.0,9,     -999.0,     -999.0,9,     -999.0,     -999.0,     -999.0,9,     -999.0,9,     -999.0,9,     -999.0,9,16.96321767,2,       5.71,2,      36.15,2,      11.03,2
33RO20161119,        P18,     137,          1,         21,      11119,2,20170106,       1100,   -34.4999,  -103.0000,       3424,   136.4,  13.2415,  34.3170,2,  34.3459,2,    237.2,2,   236.3,2,     0.4,2,     5.7,2,    0.54,2,   0.627,2,   2.8936,2,   1.7193,2,   1.9797,2,  2075.7,2,  2267.4,6,   7.8529,2,    25.00, -999.00,9,  -999.0,9,  -999.0,    0.028,2, -999.00,9,    55.8,2,    9.10,2, -999.00,9,    11.5063,2, -999.00,9,  -999.0,9,     -999.0,     -999.0,9,     -999.0,9,     -999.0,     -999.0,9,     -999.0,     -999.0,9,     -999.0,     -999.0,     -999.0,9,     -999.0,9,     -999.0,9,     -999.0,9,8.404624579,2,       6.48,2,      42.37,2,      18.51,2
33RO20161119,        P18,     137,          1,         22,      11120,2,20170106,       1100,   -34.4999,  -103.0000,       3424,    70.6,  15.4834,  34.4194,2,  34.4206,2,    259.7,2,   258.3,2,     0.3,2,     0.3,2,    0.03,2,   0.255,2,-999.0000,9,-999.0000,9,-999.0000,9,  2038.5,2,  2270.9,2,   7.9334,2,    25.00, -999.00,9,  -999.0,9,  -999.0,-999.0000,9, -999.00,9,    61.8,2,    4.10,2, -999.00,9,     -999.0,9, -999.00,9,  -999.0,9,     -999.0,     -999.0,9,     -999.0,9,     -999.0,     -999.0,9,     -999.0,     -999.0,9,     -999.0,     -999.0,     -999.0,9,     -999.0,9,     -999.0,9,     -999.0,9,10.31496135,2,        6.4,2,      40.67,2,      17.23,2
33RO20161119,        P18,     137,          1,         23,      11121,2,20170106,       1100,   -34.4999,  -103.0000,       3424,    31.5,  19.6546,  34.3652,2,  34.3790,2,    236.4,2,   241.4,2,     0.2,2,     0.0,2,    0.01,2,   0.181,2,   2.2842,2,   1.3881,2,   1.8038,2,  2030.0,6,  2267.9,2,   7.9502,2,    25.00, -999.00,9,  -999.0,9,  -999.0,   0.0341,2, -999.00,9,    63.7,2,    3.70,2, -999.00,9,     8.0972,2, -999.00,9,  -999.0,9,     -999.0,     -999.0,9,     -999.0,9,     -999.0,     -999.0,9,     -999.0,     -999.0,9,     -999.0,     -999.0,     -999.0,9,     -999.0,9,     -999.0,9,     -999.0,9,7.589741803,2,       6.12,2,      43.69,2,       18.0,2
33RO20161119,        P18,     137,          1,         24,      11122,2,20170106,       1100,   -34.4999,  -103.0000,       3424,     7.0,  21.1418,  34.4055,2,  34.4037,2,    225.4,2,   227.9,2,     0.2,2,     0.0,2,    0.01,2,   0.197,2,   2.0850,2,   1.2875,2,   1.6931,2,  2029.7,2,  2269.7,2,   7.9497,2,    25.00, -999.00,9,  -999.0,9,  -999.0,   0.0154,2, -999.00,9,    64.5,2,    3.00,2, -999.00,9,     7.6553,2, -999.00,9,  -999.0,9,     -999.0,     -999.0,9,     -999.0,9,     -999.0,     -999.0,9,     -999.0,     -999.0,9,     -999.0,     -999.0,     -999.0,9,     -999.0,9,     -999.0,9,     -999.0,9,7.277644816,2,       6.17,2,      43.04,2,       17.6,2