BOTTLE,20230606CCHSIOCBG
EXPOCODE,SECT_ID,STNNBR,CASTNO,SAMPNO,BTLNBR,BTLNBR_FLAG_W,DATE,TIME,LATITUDE,LONGITUDE,DEPTH,CTDPRS,CTDTMP,CTDSAL,CTDSAL_FLAG_W,SALNTY,SALNTY_FLAG_W,CTDOXY,CTDOXY_FLAG_W,OXYGEN,OXYGEN_FLAG_W,SILCAT,SILCAT_FLAG_W,NITRAT,NITRAT_FLAG_W,NITRIT,NITRIT_FLAG_W,PHSPHT,PHSPHT_FLAG_W,CFC-11,CFC-11_FLAG_W,CFC-12,CFC-12_FLAG_W,SF6,SF6_FLAG_W,TCARBN,TCARBN_FLAG_W,ALKALI,ALKALI_FLAG_W,PH_SWS,PH_SWS_FLAG_W,PH_TMP,DELC13,DELC13_FLAG_W,DELC14,DELC14_FLAG_W,C14ERR,CCL4,CCL4_FLAG_W,POC,POC_FLAG_W,DOC,DOC_FLAG_W,TDN,TDN_FLAG_W,PON,PON_FLAG_W,N2O,N2O_FLAG_W,D15N_NO3,D15N_NO3_FLAG_W,14C-DOC,14C-DOC_FLAG_W,14C-DOCERR,13C-DOC,13C-DOC_FLAG_W,N2/ARGON_UNSTRIPPED,N2/ARGON_UNSTRIPPED_FLAG_W,N2/ARGON_UNSTRIPPED_ERROR,N2/ARGON,N2/ARGON_FLAG_W,N2/ARGON_ERROR,D15N_N2,D15N_N2_FLAG_W,D15N_N2_ERROR,D15N_NO3_ERROR,D15N_NO2+NO3,D15N_NO2+NO3_FLAG_W,D18O_NO2+NO3,D18O_NO2+NO3_FLAG_W,D18O_NO3,D18O_NO3_FLAG_W,TDP,TDP_FLAG_W,N2O_ALT_1,N2O_ALT_1_FLAG_W,D15N_N2O,D15N_N2O_FLAG_W,D18O_N2O,D18O_N2O_FLAG_W,D15N_ALPHA_N2O,D15N_ALPHA_N2O_FLAG_W
,,,,,,,,,,,METERS,DBAR,ITS-90,PSS-78,,PSS-78,,UMOL/KG,,UMOL/KG,,UMOL/KG,,UMOL/KG,,UMOL/KG,,UMOL/KG,,PMOL/KG,,PMOL/KG,,FMOL/KG,,UMOL/KG,,UMOL/KG,,,,DEG C,/MILLE,,/MILLE,,/MILLE,PMOL/KG,,UG/KG,,UMOL/KG,,UMOL/KG,,UG/KG,,NMOL/KG,,/MILLE,,/MILLE,,/MILLE,/MILLE,,,,,,,,/MILLE,,/MILLE,/MILLE,/MILLE,,/MILLE,,/MILLE,,UMOL/KG,,NMOL/L,,/MILLE,,/MILLE,,/MILLE,
33RO20161119,        P18,      70,          1,          1,      11010,2,20161210,       0814,    -4.4998,  -110.0000,       3605,  3643.5,   1.5832,  34.6860,2,  34.6872,2,    150.7,2,   156.5,4,   142.8,6,    35.8,6,    0.00,6,   2.479,6,   0.0016,2,   0.0006,2,   0.0000,2,  2332.6,6,  2429.3,2,   7.5819,2,    25.00, -999.00,9,  -999.0,9,  -999.0,        0,2, -999.00,9,  -999.0,9, -999.00,9, -999.00,9,    20.7646,2, -999.00,9,  -999.0,9,     -999.0,     -999.0,9,     -999.0,9,     -999.0,     -999.0,9,     -999.0,     -999.0,9,     -999.0,     -999.0,     -999.0,9,     -999.0,9,     -999.0,9,     -999.0,9,     -999.0,9,     -999.0,9,     -999.0,9,     -999.0,9
33RO20161119,        P18,      70,          1,          2,      11101,2,20161210,       0814,    -4.4998,  -110.0000,       3605,  3390.2,   1.5757,  34.6852,2,  34.6843,2,    149.6,2,   148.5,2,   142.3,6,    35.8,6,    0.00,6,   2.487,6,-999.0000,9,-999.0000,9,-999.0000,9,  2329.5,2,  2428.1,2,   7.5810,2,    25.00, -999.00,9,  -999.0,9,  -999.0,-999.0000,9, -999.00,9,  -999.0,9, -999.00,9, -999.00,9,     -999.0,9, -999.00,9,  -999.0,9,     -999.0,     -999.0,9,     -999.0,9,     -999.0,     -999.0,9,     -999.0,     -999.0,9,     -999.0,     -999.0,     -999.0,9,     -999.0,9,     -999.0,9,     -999.0,9,     -999.0,9,     -999.0,9,     -999.0,9,     -999.0,9
33RO20161119,        P18,      70,          1,          3,      11102,2,20161210,       0814,    -4.4998,  -110.0000,       3605,  3133.7,   1.6136,  34.6821,2,  34.6809,2,    144.4,2,   143.7,2,   143.0,6,    36.1,6,    0.00,6,   2.508,6,-999.0000,9,-999.0000,9,-999.0000,9,  2331.9,2,  2427.7,6,   7.5727,2,    25.00, -999.00,9,  -999.0,9,  -999.0,-999.0000,9, -999.00,9,  -999.0,9, -999.00,9, -999.00,9,     -999.0,9, -999.00,9,  -999.0,9,     -999.0,     -999.0,9,     -999.0,9,     -999.0,     -999.0,9,     -999.0,     -999.0,9,     -999.0,     -999.0,     -999.0,9,     -999.0,9,     -999.0,9,     -999.0,9,     -999.0,9,     -999.0,9,     -999.0,9,     -999.0,9
33RO20161119,        P18,      70,          1,          4,      11103,2,20161210,       0814,    -4.4998,  -110.0000,       3605,  2864.0,   1.7064,  34.6770,2,  34.6772,2,    138.3,2,   137.5,2,   142.2,6,    36.4,6,    0.00,6,   2.535,6,-999.0000,9,-999.0000,9,-999.0000,9,  2338.0,2,  2425.1,2,   7.5609,2,    25.00, -999.00,9,  -999.0,9,  -999.0,-999.0000,9, -999.00,9,  -999.0,9, -999.00,9, -999.00,9,     -999.0,9, -999.00,9,  -999.0,9,     -999.0,     -999.0,9,     -999.0,9,     -999.0,     -999.0,9,     -999.0,     -999.0,9,     -999.0,     -999.0,     -999.0,9,     -999.0,9,     -999.0,9,     -999.0,9,     -999.0,9,     -999.0,9,     -999.0,9,     -999.0,9
33RO20161119,        P18,      70,          1,          5,      11104,2,20161210,       0814,    -4.4998,  -110.0000,       3605,  2590.4,   1.8779,  34.6661,2,  34.6650,2,    127.5,2,   127.5,2,   140.2,2,    36.9,2,    0.00,2,   2.595,2,   0.0010,2,   0.0000,2,   0.0000,2,  2341.6,2,  2420.7,2,   7.5386,2,    25.00, -999.00,9,  -999.0,9,  -999.0,   0.0099,2, -999.00,9,  -999.0,9, -999.00,9, -999.00,9,    23.0644,2, -999.00,9,  -999.0,9,     -999.0,     -999.0,9,     -999.0,9,     -999.0,     -999.0,9,     -999.0,     -999.0,9,     -999.0,     -999.0,     -999.0,9,     -999.0,9,     -999.0,9,     -999.0,9,     -999.0,9,     -999.0,9,     -999.0,9,     -999.0,9
33RO20161119,        P18,      70,          1,          6,      11105,2,20161210,       0814,    -4.4998,  -110.0000,       3605,  2310.8,   2.0732,  34.6543,2,  34.6554,2,    117.0,2,   116.3,2,   138.4,2,    37.6,2,    0.00,2,   2.649,2,   0.0028,6,   0.0021,6,   0.0279,6,  2344.5,2,  2416.6,2,   7.5277,2,    25.00, -999.00,9,  -999.0,9,  -999.0,        0,2, -999.00,9,  -999.0,9, -999.00,9, -999.00,9,    24.5209,2, -999.00,9,  -999.0,9,     -999.0,     -999.0,9,     -999.0,9,     -999.0,     -999.0,9,     -999.0,     -999.0,9,     -999.0,     -999.0,     -999.0,9,     -999.0,9,     -999.0,9,     -999.0,9,     -999.0,9,     -999.0,9,     -999.0,9,     -999.0,9
33RO20161119,        P18,      70,          1,          7,      11106,2,20161210,       0814,    -4.4998,  -110.0000,       3605,  2030.1,   2.2744,  34.6444,2,  34.6438,2,    106.3,2,   105.7,2,   137.2,2,    38.2,2,    0.00,2,   2.712,2,-999.0000,9,-999.0000,9,-999.0000,9,  2347.2,6,  2414.5,2,   7.5002,2,    25.00, -999.00,9,  -999.0,9,  -999.0,-999.0000,9, -999.00,9,  -999.0,9, -999.00,9, -999.00,9,     -999.0,9, -999.00,9,  -999.0,9,     -999.0,     -999.0,9,     -999.0,9,     -999.0,     -999.0,9,     -999.0,     -999.0,9,     -999.0,     -999.0,     -999.0,9,     -999.0,9,     -999.0,9,     -999.0,9,     -999.0,9,     -999.0,9,     -999.0,9,     -999.0,9
33RO20161119,        P18,      70,          1,          8,      11107,2,20161210,       0814,    -4.4998,  -110.0000,       3605,  1750.2,   2.5908,  34.6236,2,  34.6231,2,    104.7,2,   103.6,2,   125.6,2,    38.4,2,    0.00,2,   2.734,2,-999.0000,9,-999.0000,9,-999.0000,9,  2336.9,2,  2399.6,2,   7.4934,2,    25.00, -999.00,9,  -999.0,9,  -999.0,-999.0000,9, -999.00,9,  -999.0,9, -999.00,9, -999.00,9,     -999.0,9, -999.00,9,  -999.0,9,     -999.0,     -999.0,9,     -999.0,9,     -999.0,     -999.0,9,     -999.0,     -999.0,9,     -999.0,     -999.0,     -999.0,9,     -999.0,9,     -999.0,9,     -999.0,9,     -999.0,9,     -999.0,9,     -999.0,9,     -999.0,9
33RO20161119,        P18,      70,          1,          9,      11108,2,20161210,       0814,    -4.4998,  -110.0000,       3605,  1434.5,   3.1321,  34.5954,2,  34.5947,2,     99.0,2,    98.0,6,   110.8,2,    38.6,2,    0.00,2,   2.762,2,-999.0000,9,-999.0000,9,-999.0000,9,  2327.1,2,  2386.5,2,   7.4822,2,    25.00, -999.00,9,  -999.0,9,  -999.0,-999.0000,9, -999.00,9,  -999.0,9, -999.00,9, -999.00,9,     -999.0,9, -999.00,9,  -999.0,9,     -999.0,     -999.0,9,     -999.0,9,     -999.0,     -999.0,9,     -999.0,     -999.0,9,     -999.0,     -999.0,     -999.0,9,     -999.0,9,     -999.0,9,     -999.0,9,     -999.0,9,     -999.0,9,     -999.0,9,     -999.0,9
33RO20161119,        P18,      70,          1,         10,      11109,2,20161210,       0814,    -4.4998,  -110.0000,       3605,  1265.4,   3.5074,  34.5770,2,  34.5763,2,     99.8,2,    98.8,2,   100.1,2,    38.4,2,    0.00,2,   2.746,2,   0.0063,2,   0.0026,2,   0.0000,2,  2313.6,2,  2374.8,2,   7.4835,2,    25.00, -999.00,9,  -999.0,9,  -999.0,     0.04,2, -999.00,9,  -999.0,9, -999.00,9, -999.00,9,    29.8213,2, -999.00,9,  -999.0,9,     -999.0,     -999.0,9,     -999.0,9,     -999.0,     -999.0,9,     -999.0,     -999.0,9,     -999.0,     -999.0,     -999.0,9,     -999.0,9,     -999.0,9,     -999.0,9,     -999.0,9,     -999.0,9,     -999.0,9,     -999.0,9
33RO20161119,        P18,      70,          1,         11,      11110,2,20161210,       0814,    -4.4998,  -110.0000,       3605,  1129.8,   3.9272,  34.5605,2,  34.5603,2,     97.8,2,    97.8,2,    89.7,2,    38.2,2,    0.00,2,   2.745,2,-999.0000,9,-999.0000,9,-999.0000,9,  2303.0,2,  2362.6,2,   7.4833,2,    25.00, -999.00,9,  -999.0,9,  -999.0,-999.0000,9, -999.00,9,  -999.0,9, -999.00,9, -999.00,9,     -999.0,9, -999.00,9,  -999.0,9,     -999.0,     -999.0,9,     -999.0,9,     -999.0,     -999.0,9,     -999.0,     -999.0,9,     -999.0,     -999.0,     -999.0,9,     -999.0,9,     -999.0,9,     -999.0,9,     -999.0,9,     -999.0,9,     -999.0,9,     -999.0,9
33RO20161119,        P18,      70,          1,         12,      11111,2,20161210,       0814,    -4.4998,  -110.0000,       3605,  1010.0,   4.4304,  34.5470,2,  34.5498,2,     94.6,2,    94.2,2,    79.3,2,    38.2,2,    0.00,2,   2.736,2,   0.0268,2,   0.0175,2,   0.0558,2,  2292.8,2,  2350.8,2,   7.4774,2,    25.00, -999.00,9,  -999.0,9,  -999.0,   0.0567,2, -999.00,9,  -999.0,9, -999.00,9, -999.00,9,    31.4882,2, -999.00,9,  -999.0,9,     -999.0,     -999.0,9,     -999.0,9,     -999.0,     -999.0,9,     -999.0,     -999.0,9,     -999.0,     -999.0,     -999.0,9,     -999.0,9,     -999.0,9,     -999.0,9,     -999.0,9,     -999.0,9,     -999.0,9,     -999.0,9
33RO20161119,        P18,      70,          1,         13,      11112,2,20161210,       0814,    -4.4998,  -110.0000,       3605,   889.3,   5.0172,  34.5383,2,  34.5369,2,     88.9,2,    88.2,6,    68.3,2,    38.3,2,    0.00,2,   2.731,2,-999.0000,9,-999.0000,9,-999.0000,9,  2283.9,2,  2342.3,2,   7.4698,2,    25.00, -999.00,9,  -999.0,9,  -999.0,-999.0000,9, -999.00,9,  -999.0,9, -999.00,9, -999.00,9,     -999.0,9, -999.00,9,  -999.0,9,     -999.0,     -999.0,9,     -999.0,9,     -999.0,     -999.0,9,     -999.0,     -999.0,9,     -999.0,     -999.0,     -999.0,9,     -999.0,9,     -999.0,9,     -999.0,9,     -999.0,9,     -999.0,9,     -999.0,9,     -999.0,9
33RO20161119,        P18,      70,          1,         14,      11113,2,20161210,       0814,    -4.4998,  -110.0000,       3605,   780.6,   5.7469,  34.5407,2,  34.5396,2,     78.5,2,    77.9,2,    57.5,2,    38.5,2,    0.00,2,   2.734,2,   0.0584,2,   0.0334,2,   0.0000,2,  2277.5,2,  2325.8,2,   7.4589,2,    25.00, -999.00,9,  -999.0,9,  -999.0,   0.0459,2, -999.00,9,  -999.0,9, -999.00,9, -999.00,9,    36.6535,2, -999.00,9,  -999.0,9,     -999.0,     -999.0,9,     -999.0,9,     -999.0,     -999.0,9,     -999.0,     -999.0,9,     -999.0,     -999.0,     -999.0,9,     -999.0,9,     -999.0,9,     -999.0,9,     -999.0,9,     -999.0,9,     -999.0,9,     -999.0,9
33RO20161119,        P18,      70,          1,         15,      11114,2,20161210,       0814,    -4.4998,  -110.0000,       3605,   680.0,   6.6631,  34.5651,2,  34.5642,2,     58.0,2,    60.6,2,    48.6,2,    38.9,2,    0.00,2,   2.743,2,-999.0000,9,-999.0000,9,-999.0000,9,  2272.7,2,  2313.2,2,   7.4355,2,    25.00, -999.00,9,  -999.0,9,  -999.0,-999.0000,9, -999.00,9,  -999.0,9, -999.00,9, -999.00,9,     -999.0,9, -999.00,9,  -999.0,9,     -999.0,     -999.0,9,     -999.0,9,     -999.0,     -999.0,9,     -999.0,     -999.0,9,     -999.0,     -999.0,     -999.0,9,     -999.0,9,     -999.0,9,     -999.0,9,     -999.0,9,     -999.0,9,     -999.0,9,     -999.0,9
33RO20161119,        P18,      70,          1,         16,      11115,2,20161210,       0814,    -4.4998,  -110.0000,       3605,   578.8,   7.5404,  34.6026,2,  34.6013,2,     37.3,2,    37.4,2,    43.4,2,    39.5,2,    0.00,2,   2.770,2,   0.1200,2,   0.0671,2,   0.0324,2,  2275.4,2,  2309.0,6,   7.4010,6,    25.00, -999.00,9,  -999.0,9,  -999.0,   0.0566,2, -999.00,9,  -999.0,9, -999.00,9, -999.00,9,    53.6546,2, -999.00,9,  -999.0,9,     -999.0,     -999.0,9,     -999.0,9,     -999.0,     -999.0,9,     -999.0,     -999.0,9,     -999.0,     -999.0,     -999.0,9,     -999.0,9,     -999.0,9,     -999.0,9,     -999.0,9,     -999.0,9,     -999.0,9,     -999.0,9
33RO20161119,        P18,      70,          1,         17,      11116,2,20161210,       0814,    -4.4998,  -110.0000,       3605,   484.7,   8.5384,  34.6560,2,  34.6569,2,     11.9,2,    12.9,2,    40.9,2,    39.3,2,    0.01,2,   2.814,2,-999.0000,9,-999.0000,9,-999.0000,9,  2284.0,2,  2304.4,2,   7.3644,2,    25.00, -999.00,9,  -999.0,9,  -999.0,-999.0000,9, -999.00,9,  -999.0,9, -999.00,9, -999.00,9,     -999.0,9, -999.00,9,  -999.0,9,     -999.0,     -999.0,9,     -999.0,9,     -999.0,     -999.0,9,     -999.0,     -999.0,9,     -999.0,     -999.0,     -999.0,9,     -999.0,9,     -999.0,9,     -999.0,9,     -999.0,9,     -999.0,9,     -999.0,9,     -999.0,9
33RO20161119,        P18,      70,          1,         18,      11117,2,20161210,       0814,    -4.4998,  -110.0000,       3605,   386.7,   9.9694,  34.7404,2,  34.7368,2,     11.2,2,     8.7,2,    33.6,2,    35.4,2,    0.01,2,   2.652,2,-999.0000,9,-999.0000,9,-999.0000,9,  2276.3,2,  2300.7,2,   7.3830,2,    25.00, -999.00,9,  -999.0,9,  -999.0,-999.0000,9, -999.00,9,  -999.0,9, -999.00,9, -999.00,9,     -999.0,9, -999.00,9,  -999.0,9,     -999.0,     -999.0,9,     -999.0,9,     -999.0,     -999.0,9,     -999.0,     -999.0,9,     -999.0,     -999.0,     -999.0,9,     -999.0,9,     -999.0,9,     -999.0,9,     -999.0,9,     -999.0,9,     -999.0,9,     -999.0,9
33RO20161119,        P18,      70,          1,         19,      11083,2,20161210,       0814,    -4.4998,  -110.0000,       3605,   304.9,  11.5965,  34.8427,2,  34.8409,2,      5.2,2,     5.3,2,    28.0,2,    32.5,2,    0.01,2,   2.495,2,   0.7704,2,   0.4239,2,   0.1550,2,  2267.4,2,  2300.6,2,   7.4028,2,    25.00, -999.00,9,  -999.0,9,  -999.0,   0.1003,2, -999.00,9,  -999.0,9, -999.00,9, -999.00,9,     72.127,2, -999.00,9,  -999.0,9,     -999.0,     -999.0,9,     -999.0,9,     -999.0,     -999.0,9,     -999.0,     -999.0,9,     -999.0,     -999.0,     -999.0,9,     -999.0,9,     -999.0,9,     -999.0,9,     -999.0,9,     -999.0,9,     -999.0,9,     -999.0,9
33RO20161119,        P18,      70,          1,         20,      11118,2,20161210,       0814,    -4.4998,  -110.0000,       3605,   219.4,  12.5244,  34.9008,2,  34.8998,2,      4.5,2,     4.5,2,    24.9,2,    32.3,2,    0.01,2,   2.387,2,-999.0000,9,-999.0000,9,-999.0000,9,  2256.8,2,  2299.8,2,   7.4258,2,    25.00, -999.00,9,  -999.0,9,  -999.0,-999.0000,9, -999.00,9,  -999.0,9, -999.00,9, -999.00,9,     -999.0,9, -999.00,9,  -999.0,9,     -999.0,     -999.0,9,     -999.0,9,     -999.0,     -999.0,9,     -999.0,     -999.0,9,     -999.0,     -999.0,     -999.0,9,     -999.0,9,     -999.0,9,     -999.0,9,     -999.0,9,     -999.0,9,     -999.0,9,     -999.0,9
33RO20161119,        P18,      70,          1,         21,      11119,2,20161210,       0814,    -4.4998,  -110.0000,       3605,   144.3,  13.3227,  34.9487,2,  34.9475,2,     14.8,2,    14.0,2,    21.0,2,    31.0,2,    0.02,2,   2.262,2,   1.3565,2,   0.7611,2,   0.3923,2,  2244.0,2,  2300.4,2,   7.4702,2,    25.00, -999.00,9,  -999.0,9,  -999.0,   0.1765,2, -999.00,9,  -999.0,9, -999.00,9, -999.00,9,    78.9449,2, -999.00,9,  -999.0,9,     -999.0,     -999.0,9,     -999.0,9,     -999.0,     -999.0,9,     -999.0,     -999.0,9,     -999.0,     -999.0,     -999.0,9,     -999.0,9,     -999.0,9,     -999.0,9,     -999.0,9,     -999.0,9,     -999.0,9,     -999.0,9
33RO20161119,        P18,      70,          1,         22,      11120,2,20161210,       0814,    -4.4998,  -110.0000,       3605,    79.7,  15.8856,  35.0883,2,  35.0818,2,     76.4,2,    68.2,2,    13.0,2,    22.4,2,    0.66,2,   1.769,2,   1.7613,2,   1.0224,2,   0.7566,2,  2198.1,2,  2312.5,6,   7.6331,2,    25.00, -999.00,9,  -999.0,9,  -999.0,   1.6481,2, -999.00,9,  -999.0,9, -999.00,9, -999.00,9,    53.5417,2, -999.00,9,  -999.0,9,     -999.0,     -999.0,9,     -999.0,9,     -999.0,     -999.0,9,     -999.0,     -999.0,9,     -999.0,     -999.0,     -999.0,9,     -999.0,9,     -999.0,9,     -999.0,9,     -999.0,9,     -999.0,9,     -999.0,9,     -999.0,9
33RO20161119,        P18,      70,          1,         23,      11121,2,20161210,       0814,    -4.4998,  -110.0000,       3605,    34.7,  23.4467,  34.9802,2,  34.9789,2,    208.3,2,   208.6,2,     4.7,2,     9.5,2,    0.20,2,   0.837,2,   1.8294,2,   1.1239,2,   1.4167,2,  2076.1,2,  2307.0,2,   7.9108,2,    25.00, -999.00,9,  -999.0,9,  -999.0,   1.8711,2, -999.00,9,  -999.0,9, -999.00,9, -999.00,9,     9.4589,2, -999.00,9,  -999.0,9,     -999.0,     -999.0,9,     -999.0,9,     -999.0,     -999.0,9,     -999.0,     -999.0,9,     -999.0,     -999.0,     -999.0,9,     -999.0,9,     -999.0,9,     -999.0,9,     -999.0,9,     -999.0,9,     -999.0,9,     -999.0,9
33RO20161119,        P18,      70,          1,         24,      11122,2,20161210,       0814,    -4.4998,  -110.0000,       3605,     2.3,  23.6885,  34.9962,2,  34.9952,2,    205.6,2,   209.7,2,     4.5,2,     9.5,2,    0.20,2,   0.840,2,   1.8167,2,   1.1197,2,   1.4542,2,  2074.2,6,  2307.2,2,   7.9152,2,    25.00, -999.00,9,  -999.0,9,  -999.0,        0,2, -999.00,9,  -999.0,9, -999.00,9, -999.00,9,     8.8335,2, -999.00,9,  -999.0,9,     -999.0,     -999.0,9,     -999.0,9,     -999.0,     -999.0,9,     -999.0,     -999.0,9,     -999.0,     -999.0,     -999.0,9,     -999.0,9,     -999.0,9,     -999.0,9,     -999.0,9,     -999.0,9,     -999.0,9,     -999.0,9