BOTTLE,20230606CCHSIOCBG
EXPOCODE,SECT_ID,STNNBR,CASTNO,SAMPNO,BTLNBR,BTLNBR_FLAG_W,DATE,TIME,LATITUDE,LONGITUDE,DEPTH,CTDPRS,CTDTMP,CTDSAL,CTDSAL_FLAG_W,SALNTY,SALNTY_FLAG_W,CTDOXY,CTDOXY_FLAG_W,OXYGEN,OXYGEN_FLAG_W,SILCAT,SILCAT_FLAG_W,NITRAT,NITRAT_FLAG_W,NITRIT,NITRIT_FLAG_W,PHSPHT,PHSPHT_FLAG_W,CFC-11,CFC-11_FLAG_W,CFC-12,CFC-12_FLAG_W,SF6,SF6_FLAG_W,TCARBN,TCARBN_FLAG_W,ALKALI,ALKALI_FLAG_W,PH_SWS,PH_SWS_FLAG_W,PH_TMP,DELC13,DELC13_FLAG_W,DELC14,DELC14_FLAG_W,C14ERR,CCL4,CCL4_FLAG_W,POC,POC_FLAG_W,DOC,DOC_FLAG_W,TDN,TDN_FLAG_W,PON,PON_FLAG_W,N2O,N2O_FLAG_W,D15N_NO3,D15N_NO3_FLAG_W,14C-DOC,14C-DOC_FLAG_W,14C-DOCERR,13C-DOC,13C-DOC_FLAG_W,N2/ARGON_UNSTRIPPED,N2/ARGON_UNSTRIPPED_FLAG_W,N2/ARGON_UNSTRIPPED_ERROR,N2/ARGON,N2/ARGON_FLAG_W,N2/ARGON_ERROR,D15N_N2,D15N_N2_FLAG_W,D15N_N2_ERROR,D15N_NO3_ERROR,D15N_NO2+NO3,D15N_NO2+NO3_FLAG_W,D18O_NO2+NO3,D18O_NO2+NO3_FLAG_W,D18O_NO3,D18O_NO3_FLAG_W,TDP,TDP_FLAG_W,N2O_ALT_1,N2O_ALT_1_FLAG_W,D15N_N2O,D15N_N2O_FLAG_W,D18O_N2O,D18O_N2O_FLAG_W,D15N_ALPHA_N2O,D15N_ALPHA_N2O_FLAG_W
,,,,,,,,,,,METERS,DBAR,ITS-90,PSS-78,,PSS-78,,UMOL/KG,,UMOL/KG,,UMOL/KG,,UMOL/KG,,UMOL/KG,,UMOL/KG,,PMOL/KG,,PMOL/KG,,FMOL/KG,,UMOL/KG,,UMOL/KG,,,,DEG C,/MILLE,,/MILLE,,/MILLE,PMOL/KG,,UG/KG,,UMOL/KG,,UMOL/KG,,UG/KG,,NMOL/KG,,/MILLE,,/MILLE,,/MILLE,/MILLE,,,,,,,,/MILLE,,/MILLE,/MILLE,/MILLE,,/MILLE,,/MILLE,,UMOL/KG,,NMOL/L,,/MILLE,,/MILLE,,/MILLE,
33RO20161119,        P18,     164,          1,          1,      11010,2,20170113,       1601,   -48.0000,  -102.9997,       4148,  4245.3,   0.8514,  34.7094,2,  34.7079,2,    202.9,2,   202.4,2,   128.7,2,    32.6,2,    0.01,2,   2.274,2,   0.0166,2,   0.0089,2,   0.0307,2,  2274.0,6,  2377.3,2,   7.6097,2,    25.00, -999.00,9,  -999.0,9,  -999.0,   0.0842,2, -999.00,9,  -999.0,9, -999.00,9, -999.00,9,    18.5814,2,    4.76,2,  -999.0,9,     -999.0,     -999.0,9,     -999.0,9,     -999.0,     -999.0,9,     -999.0,     -999.0,9,     -999.0,     -999.0,       4.76,2,       1.96,2,       1.96,2,     -999.0,9,     -999.0,9,     -999.0,9,     -999.0,9,     -999.0,9
33RO20161119,        P18,     164,          1,          2,      11101,2,20170113,       1601,   -48.0000,  -102.9997,       4148,  4020.5,   0.9249,  34.7103,2,  34.7091,2,    200.2,2,   200.1,2,   126.5,2,    32.6,2,    0.01,2,   2.273,2,   0.0134,2,   0.0076,2,   0.0434,2,  2274.3,2,  2381.7,2,   7.6051,2,    25.00, -999.00,9,  -999.0,9,  -999.0,   0.1882,2, -999.00,9,  -999.0,9, -999.00,9, -999.00,9,    18.6489,2,     4.8,2,  -999.0,9,     -999.0,     -999.0,9,     -999.0,9,     -999.0,     -999.0,9,     -999.0,     -999.0,9,     -999.0,     -999.0,        4.8,2,       2.06,2,       2.06,2,     -999.0,9,     -999.0,9,     -999.0,9,     -999.0,9,     -999.0,9
33RO20161119,        P18,     164,          1,          3,      11102,2,20170113,       1601,   -48.0000,  -102.9997,       4148,  3694.1,   1.2184,  34.7138,2,  34.7496,4,    193.7,2,   193.5,2,   118.9,6,    32.4,6,    0.01,6,   2.271,6,   0.0215,2,   0.0107,2,   0.0359,2,  2273.0,2,  2376.8,6,   7.6029,2,    25.00, -999.00,9,  -999.0,9,  -999.0,   0.3779,2, -999.00,9,  -999.0,9, -999.00,9, -999.00,9,    18.8546,2,    4.94,2,  -999.0,9,     -999.0,     -999.0,9,     -999.0,9,     -999.0,     -999.0,9,     -999.0,     -999.0,9,     -999.0,     -999.0,       4.94,2,       2.21,2,       2.21,2,     -999.0,9,     -999.0,9,     -999.0,9,     -999.0,9,     -999.0,9
33RO20161119,        P18,     164,          1,          4,      11103,2,20170113,       1601,   -48.0000,  -102.9997,       4148,  3270.6,   1.5404,  34.7149,2,  34.7388,4,    185.0,2,   184.9,2,   109.8,6,    32.4,6,    0.01,6,   2.273,6,   0.0346,2,   0.0156,2,   0.0000,2,  2271.5,2,  2371.0,2,   7.5406,4,    25.00, -999.00,9,  -999.0,9,  -999.0,   0.3213,2, -999.00,9,  -999.0,9, -999.00,9, -999.00,9,    19.4149,2,    4.98,2,  -999.0,9,     -999.0,     -999.0,9,     -999.0,9,     -999.0,     -999.0,9,     -999.0,     -999.0,9,     -999.0,     -999.0,       4.98,2,       2.15,2,       2.15,2,     -999.0,9,     -999.0,9,     -999.0,9,     -999.0,9,     -999.0,9
33RO20161119,        P18,     164,          1,          5,      11104,2,20170113,       1601,   -48.0000,  -102.9997,       4148,  2940.2,   1.6609,  34.7087,2,  34.7109,2,    178.9,2,   178.8,6,   108.5,6,    32.8,6,    0.01,6,   2.302,6,   0.0304,2,   0.0141,2,   0.0558,2,  2275.2,2,  2374.2,2,   7.5876,2,    25.00, -999.00,9,  -999.0,9,  -999.0,   0.6457,2, -999.00,9,  -999.0,9, -999.00,9, -999.00,9,    19.8213,2,    5.05,2,  -999.0,9,     -999.0,     -999.0,9,     -999.0,9,     -999.0,     -999.0,9,     -999.0,     -999.0,9,     -999.0,     -999.0,       5.05,2,       2.11,2,       2.11,2,     -999.0,9,     -999.0,9,     -999.0,9,     -999.0,9,     -999.0,9
33RO20161119,        P18,     164,          1,          6,      11105,2,20170113,       1601,   -48.0000,  -102.9997,       4148,  2610.6,   1.8426,  34.7041,2,  34.7046,2,    174.2,2,   174.1,2,   103.5,6,    32.8,6,    0.01,6,   2.306,6,   0.0468,2,   0.0215,2,   0.0337,2,  2273.9,2,  2371.6,2,   7.5827,2,    25.00, -999.00,9,  -999.0,9,  -999.0,   1.0636,2, -999.00,9,  -999.0,9, -999.00,9, -999.00,9,    20.2184,2,    5.12,2,  -999.0,9,     -999.0,     -999.0,9,     -999.0,9,     -999.0,     -999.0,9,     -999.0,     -999.0,9,     -999.0,     -999.0,       5.12,2,       2.24,2,       2.24,2,     -999.0,9,     -999.0,9,     -999.0,9,     -999.0,9,     -999.0,9
33RO20161119,        P18,     164,          1,          7,      11106,2,20170113,       1601,   -48.0000,  -102.9997,       4148,  2264.6,   2.1165,  34.6886,2,  34.6957,4,    170.9,2,   171.4,2,    92.4,2,    32.8,2,    0.01,2,   2.308,2,   0.1027,2,   0.0495,2,   0.0179,2,  2267.7,2,  2358.9,2,   7.5720,2,    25.00, -999.00,9,  -999.0,9,  -999.0,   1.3063,2, -999.00,9,  -999.0,9, -999.00,9, -999.00,9,    20.8078,2,     5.1,2,  -999.0,9,     -999.0,     -999.0,9,     -999.0,9,     -999.0,     -999.0,9,     -999.0,     -999.0,9,     -999.0,     -999.0,        5.1,2,       2.05,2,       2.05,2,     -999.0,9,     -999.0,9,     -999.0,9,     -999.0,9,     -999.0,9
33RO20161119,        P18,     164,          1,          8,      11107,2,20170113,       1601,   -48.0000,  -102.9997,       4148,  1920.9,   2.3926,  34.6291,2,  34.6279,2,    167.6,2,   167.2,2,    81.9,2,    33.6,2,    0.01,2,   2.365,2,   0.2237,6,   0.1084,6,   0.0441,6,  2261.5,2,  2347.9,2,   7.5612,6,    25.00, -999.00,9,  -999.0,9,  -999.0,   1.9404,2, -999.00,9,  -999.0,9, -999.00,9, -999.00,9,    22.2791,2,    5.19,2,  -999.0,9,     -999.0,     -999.0,9,     -999.0,9,     -999.0,     -999.0,9,     -999.0,     -999.0,9,     -999.0,     -999.0,       5.19,2,       2.12,2,       2.12,2,     -999.0,9,     -999.0,9,     -999.0,9,     -999.0,9,     -999.0,9
33RO20161119,        P18,     164,          1,          9,      11108,2,20170113,       1601,   -48.0000,  -102.9997,       4148,  1620.6,   2.6743,  34.5361,2,  34.5350,2,    167.0,2,   167.2,2,    71.5,2,    34.4,2,    0.01,2,   2.421,2,   0.4717,2,   0.2298,2,   0.0922,2,  2254.5,6,  2337.6,2,   7.5487,2,    25.00, -999.00,9,  -999.0,9,  -999.0,   2.3814,2, -999.00,9,  -999.0,9, -999.00,9, -999.00,9,    22.4348,2,     5.3,2,  -999.0,9,     -999.0,     -999.0,9,     -999.0,9,     -999.0,     -999.0,9,     -999.0,     -999.0,9,     -999.0,     -999.0,        5.3,2,       2.15,2,       2.15,2,     -999.0,9,     -999.0,9,     -999.0,9,     -999.0,9,     -999.0,9
33RO20161119,        P18,     164,          1,         10,      11109,2,20170113,       1601,   -48.0000,  -102.9997,       4148,  1420.6,   2.9617,  34.4507,2,  34.4940,4,    176.4,2,   177.0,2,    60.1,2,    34.2,2,    0.01,2,   2.396,2,   0.9157,2,   0.4417,2,   0.1659,2,  2238.5,2,  2323.7,6,   7.5522,2,    25.00, -999.00,9,  -999.0,9,  -999.0,   2.8819,2, -999.00,9,  -999.0,9, -999.00,9, -999.00,9,    22.3686,2,    5.41,2,  -999.0,9,     -999.0,     -999.0,9,     -999.0,9,     -999.0,     -999.0,9,     -999.0,     -999.0,9,     -999.0,     -999.0,       5.41,2,       2.21,2,       2.21,2,     -999.0,9,     -999.0,9,     -999.0,9,     -999.0,9,     -999.0,9
33RO20161119,        P18,     164,          1,         11,      11110,2,20170113,       1601,   -48.0000,  -102.9997,       4148,  1270.8,   3.2735,  34.3864,2,  34.3848,2,    187.2,2,   186.7,2,    50.2,2,    33.4,2,    0.01,2,   2.331,2,   1.3135,2,   0.6473,2,   0.3002,2,  2225.7,2,  2315.9,2,   7.5652,2,    25.00, -999.00,9,  -999.0,9,  -999.0,   3.6464,2, -999.00,9,  -999.0,9, -999.00,9, -999.00,9,    21.5386,2,     5.5,2,  -999.0,9,     -999.0,     -999.0,9,     -999.0,9,     -999.0,     -999.0,9,     -999.0,     -999.0,9,     -999.0,     -999.0,        5.5,2,       2.16,2,       2.16,2,     -999.0,9,     -999.0,9,     -999.0,9,     -999.0,9,     -999.0,9
33RO20161119,        P18,     164,          1,         12,      11111,2,20170113,       1601,   -48.0000,  -102.9997,       4148,  1125.0,   3.7312,  34.3293,2,  34.3303,2,    198.9,2,   199.5,2,    39.6,2,    32.1,2,    0.01,2,   2.240,2,   1.8820,2,   0.9449,2,   0.4444,2,  2209.2,2,  2303.8,2,   7.5872,2,    25.00, -999.00,9,  -999.0,9,  -999.0,   3.7568,2, -999.00,9,  -999.0,9, -999.00,9, -999.00,9,    20.1299,2,    5.56,2,  -999.0,9,     -999.0,     -999.0,9,     -999.0,9,     -999.0,     -999.0,9,     -999.0,     -999.0,9,     -999.0,     -999.0,       5.56,2,        2.5,2,        2.5,2,     -999.0,9,     -999.0,9,     -999.0,9,     -999.0,9,     -999.0,9
33RO20161119,        P18,     164,          1,         13,      11112,2,20170113,       1601,   -48.0000,  -102.9997,       4148,   978.9,   4.3820,  34.2924,2,  34.2912,2,    209.8,2,   210.0,2,    28.6,2,    30.1,2,    0.01,2,   2.123,2,   2.3105,2,   1.1635,2,   0.5792,2,  2190.7,2,  2294.3,2,   7.6102,2,    25.00, -999.00,9,  -999.0,9,  -999.0,   3.4551,2, -999.00,9,  -999.0,9, -999.00,9, -999.00,9,    18.8332,2,    5.72,2,  -999.0,9,     -999.0,     -999.0,9,     -999.0,9,     -999.0,     -999.0,9,     -999.0,     -999.0,9,     -999.0,     -999.0,       5.72,2,       2.82,2,       2.82,2,     -999.0,9,     -999.0,9,     -999.0,9,     -999.0,9,     -999.0,9
33RO20161119,        P18,     164,          1,         14,      11113,2,20170113,       1601,   -48.0000,  -102.9997,       4148,   849.9,   4.8800,  34.2604,2,  34.2942,4,    225.5,2,   226.0,2,    20.7,2,    28.0,2,    0.01,2,   1.967,2,   2.9799,2,   1.5704,2,   0.9694,2,  2174.7,2,  2285.2,2,   7.6387,3,    25.00, -999.00,9,  -999.0,9,  -999.0,   3.7901,2, -999.00,9,  -999.0,9, -999.00,9, -999.00,9,    17.3654,2,    5.84,2,  -999.0,9,     -999.0,     -999.0,9,     -999.0,9,     -999.0,     -999.0,9,     -999.0,     -999.0,9,     -999.0,     -999.0,       5.84,2,     -999.0,9,     -999.0,9,     -999.0,9,     -999.0,9,     -999.0,9,     -999.0,9,     -999.0,9
33RO20161119,        P18,     164,          1,         15,      11114,2,20170113,       1601,   -48.0000,  -102.9997,       4148,   714.7,   5.3973,  34.2383,2,  34.2369,2,    247.8,2,   248.9,2,    13.2,2,    25.0,2,    0.01,2,   1.776,2,   3.6370,2,   1.9622,2,   1.4943,2,  2156.9,2,  2280.8,2,   7.6768,2,    25.00, -999.00,9,  -999.0,9,  -999.0,   3.8425,2, -999.00,9,  -999.0,9, -999.00,9, -999.00,9,    15.2013,2,    5.88,2,  -999.0,9,     -999.0,     -999.0,9,     -999.0,9,     -999.0,     -999.0,9,     -999.0,     -999.0,9,     -999.0,     -999.0,       5.88,2,       3.34,2,       3.34,2,     -999.0,9,     -999.0,9,     -999.0,9,     -999.0,9,     -999.0,9
33RO20161119,        P18,     164,          1,         16,      11115,2,20170113,       1601,   -48.0000,  -102.9997,       4148,   590.6,   5.8655,  34.2556,2,  34.2553,2,    261.5,2,   261.1,2,     9.6,2,    22.8,2,    0.01,2,   1.651,2,   3.9540,2,   2.1474,2,   1.7650,2,  2146.0,2,  2277.0,2,   7.6983,2,    25.00, -999.00,9,  -999.0,9,  -999.0,   3.4148,2, -999.00,9,  -999.0,9, -999.00,9, -999.00,9,    14.5113,2,    6.04,2,  -999.0,9,     -999.0,     -999.0,9,     -999.0,9,     -999.0,     -999.0,9,     -999.0,     -999.0,9,     -999.0,     -999.0,       6.04,2,       3.54,2,       3.54,2,     -999.0,9,     -999.0,9,     -999.0,9,     -999.0,9,     -999.0,9
33RO20161119,        P18,     164,          1,         17,      11116,2,20170113,       1601,   -48.0000,  -102.9997,       4148,   475.1,   6.0724,  34.2601,2,  34.2789,4,    269.4,2,   270.0,2,     7.9,2,    21.5,2,    0.01,2,   1.563,2,   4.0459,2,   2.2371,2,   2.0486,2,  2139.9,2,  2276.9,2,   7.7111,2,    25.00, -999.00,9,  -999.0,9,  -999.0,   4.5164,2, -999.00,9,  -999.0,9, -999.00,9, -999.00,9,     13.821,2,    6.08,2,  -999.0,9,     -999.0,     -999.0,9,     -999.0,9,     -999.0,     -999.0,9,     -999.0,     -999.0,9,     -999.0,     -999.0,       6.08,2,       3.71,2,       3.71,2,     -999.0,9,     -999.0,9,     -999.0,9,     -999.0,9,     -999.0,9
33RO20161119,        P18,     164,          1,         18,      11117,2,20170113,       1601,   -48.0000,  -102.9997,       4148,   366.1,   6.2960,  34.2730,2,  34.3059,4,    268.1,2,   269.8,6,     7.2,2,    20.8,2,    0.02,2,   1.526,2,   3.9831,2,   2.2445,2,   2.1526,2,  2140.1,2,  2277.5,2,   7.7171,2,    25.00, -999.00,9,  -999.0,9,  -999.0,   4.0805,2, -999.00,9,  -999.0,9, -999.00,9, -999.00,9,    13.7258,2,    6.09,2,  -999.0,9,     -999.0,     -999.0,9,     -999.0,9,     -999.0,     -999.0,9,     -999.0,     -999.0,9,     -999.0,     -999.0,       6.09,2,       3.86,2,       3.86,2,     -999.0,9,     -999.0,9,     -999.0,9,     -999.0,9,     -999.0,9
33RO20161119,        P18,     164,          1,         19,      11083,2,20170113,       1601,   -48.0000,  -102.9997,       4148,   269.5,   6.5081,  34.2823,2,  34.2834,2,    271.4,2,   271.1,2,     6.3,2,    20.1,2,    0.02,2,   1.484,2,   4.0186,2,   2.2675,2,   2.2068,2,  2135.8,2,  2277.1,2,   7.7222,2,    25.00, -999.00,9,  -999.0,9,  -999.0,   3.8802,2, -999.00,9,  -999.0,9, -999.00,9, -999.00,9,    14.2935,2,    6.11,2,  -999.0,9,     -999.0,     -999.0,9,     -999.0,9,     -999.0,     -999.0,9,     -999.0,     -999.0,9,     -999.0,     -999.0,       6.12,2,       3.93,2,       3.82,2,     -999.0,9,     -999.0,9,     -999.0,9,     -999.0,9,     -999.0,9
33RO20161119,        P18,     164,          1,         20,      11118,2,20170113,       1601,   -48.0000,  -102.9997,       4148,   185.0,   6.7203,  34.2853,2,  34.2843,2,    268.9,2,   270.2,2,     5.7,2,    19.5,2,    0.02,2,   1.452,2,   4.0096,6,   2.2628,6,   2.3298,6,  2134.0,2,  2275.0,2,   7.7263,6,    25.00, -999.00,9,  -999.0,9,  -999.0,   4.3314,2, -999.00,9,  -999.0,9, -999.00,9, -999.00,9,    15.8593,2,    6.12,2,  -999.0,9,     -999.0,     -999.0,9,     -999.0,9,     -999.0,     -999.0,9,     -999.0,     -999.0,9,     -999.0,     -999.0,       6.24,2,       3.92,2,        4.1,2,     -999.0,9,     -999.0,9,     -999.0,9,     -999.0,9,     -999.0,9
33RO20161119,        P18,     164,          1,         21,      11119,2,20170113,       1601,   -48.0000,  -102.9997,       4148,   104.6,   7.4252,  34.1398,2,  34.1404,2,    287.1,2,   287.6,2,     2.7,2,    15.3,2,    0.25,2,   1.247,2,   3.8998,2,   2.2139,2,   2.6694,2,  2109.8,2,  2267.7,6,   7.7736,2,    25.00, -999.00,9,  -999.0,9,  -999.0,   0.0598,2, -999.00,9,  -999.0,9, -999.00,9, -999.00,9,    12.1151,2,    8.74,2,  -999.0,9,     -999.0,     -999.0,9,     -999.0,9,     -999.0,     -999.0,9,     -999.0,     -999.0,9,     -999.0,     -999.0,       8.14,2,       5.77,2,       5.72,2,     -999.0,9,     -999.0,9,     -999.0,9,     -999.0,9,     -999.0,9
33RO20161119,        P18,     164,          1,         22,      11120,2,20170113,       1601,   -48.0000,  -102.9997,       4148,    50.6,   9.5710,  34.1199,2,  34.1220,2,    286.4,2,   286.5,2,     0.9,2,    13.3,2,    0.20,2,   1.113,2,   3.5989,2,   2.0683,2,   2.4616,2,  2092.8,2,  2269.3,2,   7.8113,2,    25.00, -999.00,9,  -999.0,9,  -999.0,   0.1226,2, -999.00,9,  -999.0,9, -999.00,9, -999.00,9,    10.8998,2,   10.78,2,  -999.0,9,     -999.0,     -999.0,9,     -999.0,9,     -999.0,     -999.0,9,     -999.0,     -999.0,9,     -999.0,     -999.0,       9.89,2,       6.68,2,       6.61,2,     -999.0,9,     -999.0,9,     -999.0,9,     -999.0,9,     -999.0,9
33RO20161119,        P18,     164,          1,         23,      11121,2,20170113,       1601,   -48.0000,  -102.9997,       4148,    20.2,  10.6058,  34.1086,2,  34.1237,2,    277.6,2,   280.3,2,     1.1,2,    13.3,2,    0.24,2,   1.124,2,   3.4596,2,   1.9993,2,   2.4605,2,  2091.5,6,  2266.7,2,   7.8133,2,    25.00, -999.00,9,  -999.0,9,  -999.0,   0.3093,2, -999.00,9,  -999.0,9, -999.00,9, -999.00,9,     10.554,2,    11.4,2,  -999.0,9,     -999.0,     -999.0,9,     -999.0,9,     -999.0,     -999.0,9,     -999.0,     -999.0,9,     -999.0,     -999.0,      10.04,2,       6.64,2,       6.56,2,     -999.0,9,     -999.0,9,     -999.0,9,     -999.0,9,     -999.0,9
33RO20161119,        P18,     164,          1,         24,      11122,2,20170113,       1601,   -48.0000,  -102.9997,       4148,     7.0,  10.5962,  34.1092,2,  34.1653,4,    277.1,2,   279.9,2,     1.1,2,    13.3,2,    0.24,2,   1.087,2,   3.4690,2,   1.9990,2,   2.4629,2,  2090.9,2,  2267.4,2,   7.8128,2,    25.00, -999.00,9,  -999.0,9,  -999.0,    0.995,2, -999.00,9,  -999.0,9, -999.00,9, -999.00,9,    10.6045,2,   11.41,2,  -999.0,9,     -999.0,     -999.0,9,     -999.0,9,     -999.0,     -999.0,9,     -999.0,     -999.0,9,     -999.0,     -999.0,      10.06,2,       6.59,2,       6.53,2,     -999.0,9,     -999.0,9,     -999.0,9,     -999.0,9,     -999.0,9