BOTTLE,20230606CCHSIOCBG
EXPOCODE,SECT_ID,STNNBR,CASTNO,SAMPNO,BTLNBR,BTLNBR_FLAG_W,DATE,TIME,LATITUDE,LONGITUDE,DEPTH,CTDPRS,CTDTMP,CTDSAL,CTDSAL_FLAG_W,SALNTY,SALNTY_FLAG_W,CTDOXY,CTDOXY_FLAG_W,OXYGEN,OXYGEN_FLAG_W,SILCAT,SILCAT_FLAG_W,NITRAT,NITRAT_FLAG_W,NITRIT,NITRIT_FLAG_W,PHSPHT,PHSPHT_FLAG_W,CFC-11,CFC-11_FLAG_W,CFC-12,CFC-12_FLAG_W,SF6,SF6_FLAG_W,TCARBN,TCARBN_FLAG_W,ALKALI,ALKALI_FLAG_W,PH_SWS,PH_SWS_FLAG_W,PH_TMP,DELC13,DELC13_FLAG_W,DELC14,DELC14_FLAG_W,C14ERR,CCL4,CCL4_FLAG_W,POC,POC_FLAG_W,DOC,DOC_FLAG_W,TDN,TDN_FLAG_W,PON,PON_FLAG_W,N2O,N2O_FLAG_W,D15N_NO3,D15N_NO3_FLAG_W,14C-DOC,14C-DOC_FLAG_W,14C-DOCERR,13C-DOC,13C-DOC_FLAG_W,N2/ARGON_UNSTRIPPED,N2/ARGON_UNSTRIPPED_FLAG_W,N2/ARGON_UNSTRIPPED_ERROR,N2/ARGON,N2/ARGON_FLAG_W,N2/ARGON_ERROR,D15N_N2,D15N_N2_FLAG_W,D15N_N2_ERROR,D15N_NO3_ERROR,D15N_NO2+NO3,D15N_NO2+NO3_FLAG_W,D18O_NO2+NO3,D18O_NO2+NO3_FLAG_W,D18O_NO3,D18O_NO3_FLAG_W,TDP,TDP_FLAG_W,N2O_ALT_1,N2O_ALT_1_FLAG_W,D15N_N2O,D15N_N2O_FLAG_W,D18O_N2O,D18O_N2O_FLAG_W,D15N_ALPHA_N2O,D15N_ALPHA_N2O_FLAG_W
,,,,,,,,,,,METERS,DBAR,ITS-90,PSS-78,,PSS-78,,UMOL/KG,,UMOL/KG,,UMOL/KG,,UMOL/KG,,UMOL/KG,,UMOL/KG,,PMOL/KG,,PMOL/KG,,FMOL/KG,,UMOL/KG,,UMOL/KG,,,,DEG C,/MILLE,,/MILLE,,/MILLE,PMOL/KG,,UG/KG,,UMOL/KG,,UMOL/KG,,UG/KG,,NMOL/KG,,/MILLE,,/MILLE,,/MILLE,/MILLE,,,,,,,,/MILLE,,/MILLE,/MILLE,/MILLE,,/MILLE,,/MILLE,,UMOL/KG,,NMOL/L,,/MILLE,,/MILLE,,/MILLE,
33RO20161119,        P18,     136,          1,          1,      11010,2,20170106,       0515,   -34.0003,  -103.0003,       3626,  3662.7,   1.7984,  34.6901,2,  34.6893,2,    167.5,2,   167.2,2,   116.0,6,    34.2,6,    0.01,6,   2.366,6,   0.0034,2,   0.0017,2,   0.0000,2,  2293.5,6,  2388.8,2,   7.5821,6,    25.00, -999.00,9,  -999.0,9,  -999.0,   0.0273,2, -999.00,9,  -999.0,9, -999.00,9, -999.00,9,    20.8362,2,    5.21,2,  -999.0,9,     -999.0,     -999.0,9,     -999.0,9,     -999.0,     -999.0,9,     -999.0,     -999.0,9,     -999.0,     -999.0,       5.21,2,       1.86,2,       1.86,2,     -999.0,9,     -999.0,9,     -999.0,9,     -999.0,9,     -999.0,9
33RO20161119,        P18,     136,          1,          2,      11101,2,20170106,       0515,   -34.0003,  -103.0003,       3626,  3476.5,   1.7791,  34.6902,2,  34.6889,2,    167.5,2,   166.8,2,   115.9,6,    34.3,6,    0.01,6,   2.371,6,   0.0043,2,   0.0029,2,   0.0000,2,  2293.4,2,  2388.4,2,   7.5829,2,    25.00, -999.00,9,  -999.0,9,  -999.0,   0.0225,2, -999.00,9,  -999.0,9, -999.00,9, -999.00,9,    20.3451,2,     5.2,2,  -999.0,9,     -999.0,     -999.0,9,     -999.0,9,     -999.0,     -999.0,9,     -999.0,     -999.0,9,     -999.0,     -999.0,        5.2,2,       1.87,2,       1.87,2,     -999.0,9,     -999.0,9,     -999.0,9,     -999.0,9,     -999.0,9
33RO20161119,        P18,     136,          1,          3,      11102,2,20170106,       0515,   -34.0003,  -103.0003,       3626,  3290.7,   1.7611,  34.6898,2,  34.6974,4,    167.1,2,   167.8,2,   115.9,6,    34.3,6,    0.01,6,   2.362,6,   0.0026,2,   0.0022,2,   0.0000,2,  2288.8,2,  2389.4,2,   7.5817,2,    25.00, -999.00,9,  -999.0,9,  -999.0,   0.0534,2, -999.00,9,  -999.0,9, -999.00,9, -999.00,9,    20.5093,2,    5.19,2,  -999.0,9,     -999.0,     -999.0,9,     -999.0,9,     -999.0,     -999.0,9,     -999.0,     -999.0,9,     -999.0,     -999.0,       5.19,2,        1.9,2,        1.9,2,     -999.0,9,     -999.0,9,     -999.0,9,     -999.0,9,     -999.0,9
33RO20161119,        P18,     136,          1,          4,      11103,2,20170106,       0515,   -34.0003,  -103.0003,       3626,  3024.8,   1.7448,  34.6887,2,  34.6914,2,    167.0,2,   166.8,2,   115.9,6,    34.2,6,    0.00,6,   2.384,6,   0.0039,2,   0.0016,2,   0.0000,2,  2289.8,2,  2389.0,6,   7.5813,2,    25.00, -999.00,9,  -999.0,9,  -999.0,   0.0271,2, -999.00,9,  -999.0,9, -999.00,9, -999.00,9,    21.0146,2,     5.2,2,  -999.0,9,     -999.0,     -999.0,9,     -999.0,9,     -999.0,     -999.0,9,     -999.0,     -999.0,9,     -999.0,     -999.0,        5.2,2,       1.88,2,       1.88,2,     -999.0,9,     -999.0,9,     -999.0,9,     -999.0,9,     -999.0,9
33RO20161119,        P18,     136,          1,          5,      11104,2,20170106,       0515,   -34.0003,  -103.0003,       3626,  2720.1,   1.7618,  34.6848,2,  34.6851,2,    165.8,2,   165.7,2,   115.0,6,    34.3,6,    0.00,6,   2.394,6,   0.0064,2,   0.0032,2,   0.0000,2,  2291.1,2,  2387.7,2,   7.5785,2,    25.00, -999.00,9,  -999.0,9,  -999.0,    0.074,2, -999.00,9,  -999.0,9, -999.00,9, -999.00,9,     21.175,2,    5.25,2,  -999.0,9,     -999.0,     -999.0,9,     -999.0,9,     -999.0,     -999.0,9,     -999.0,     -999.0,9,     -999.0,     -999.0,       5.25,2,       2.03,2,       2.03,2,     -999.0,9,     -999.0,9,     -999.0,9,     -999.0,9,     -999.0,9
33RO20161119,        P18,     136,          1,          6,      11105,2,20170106,       0515,   -34.0003,  -103.0003,       3626,  2440.6,   1.8406,  34.6769,2,  34.6769,2,    162.2,2,   162.2,2,   112.7,2,    34.5,2,    0.00,2,   2.391,2,   0.0047,2,   0.0030,2,   0.0000,2,  2289.8,2,  2385.1,2,   7.5658,2,    25.00, -999.00,9,  -999.0,9,  -999.0,   0.1186,2, -999.00,9,  -999.0,9, -999.00,9, -999.00,9,    21.1823,2,    5.35,2,  -999.0,9,     -999.0,     -999.0,9,     -999.0,9,     -999.0,     -999.0,9,     -999.0,     -999.0,9,     -999.0,     -999.0,       5.35,2,       2.31,2,       2.31,2,     -999.0,9,     -999.0,9,     -999.0,9,     -999.0,9,     -999.0,9
33RO20161119,        P18,     136,          1,          7,      11106,2,20170106,       0515,   -34.0003,  -103.0003,       3626,  2135.2,   2.0640,  34.6496,2,  34.6549,4,    154.1,2,   154.9,2,   107.1,2,    35.1,2,    0.00,2,   2.431,2,   0.0086,2,   0.0053,2,   0.0000,2,  2289.9,2,  2377.7,2,   7.5566,2,    25.00, -999.00,9,  -999.0,9,  -999.0,   0.2513,2, -999.00,9,  -999.0,9, -999.00,9, -999.00,9,    21.8411,2,    5.48,2,  -999.0,9,     -999.0,     -999.0,9,     -999.0,9,     -999.0,     -999.0,9,     -999.0,     -999.0,9,     -999.0,     -999.0,       5.48,2,       2.01,2,       2.01,2,     -999.0,9,     -999.0,9,     -999.0,9,     -999.0,9,     -999.0,9
33RO20161119,        P18,     136,          1,          8,      11107,2,20170106,       0515,   -34.0003,  -103.0003,       3626,  1845.7,   2.3436,  34.6120,2,  34.6118,2,    148.5,2,   148.0,2,    99.2,2,    35.8,2,    0.00,2,   2.487,2,   0.0139,2,   0.0070,2,   0.0000,2,  2287.0,2,  2369.4,2,   7.5447,2,    25.00, -999.00,9,  -999.0,9,  -999.0,   0.7929,2, -999.00,9,  -999.0,9, -999.00,9, -999.00,9,    23.2876,2,    5.76,2,  -999.0,9,     -999.0,     -999.0,9,     -999.0,9,     -999.0,     -999.0,9,     -999.0,     -999.0,9,     -999.0,     -999.0,       5.76,2,       2.02,2,       2.02,2,     -999.0,9,     -999.0,9,     -999.0,9,     -999.0,9,     -999.0,9
33RO20161119,        P18,     136,          1,          9,      11108,2,20170106,       0515,   -34.0003,  -103.0003,       3626,  1525.3,   2.8558,  34.5562,2,  34.5566,2,    130.2,2,   129.8,6,    89.1,2,    37.5,2,    0.00,2,   2.607,2,   0.0042,2,   0.0029,2,   0.0000,2,  2288.3,2,  2355.7,6,   7.5102,2,    25.00, -999.00,9,  -999.0,9,  -999.0,   1.4773,2, -999.00,9,  -999.0,9, -999.00,9, -999.00,9,    26.6042,2,    5.98,2,  -999.0,9,     -999.0,     -999.0,9,     -999.0,9,     -999.0,     -999.0,9,     -999.0,     -999.0,9,     -999.0,     -999.0,       5.98,2,       2.31,2,       2.31,2,     -999.0,9,     -999.0,9,     -999.0,9,     -999.0,9,     -999.0,9
33RO20161119,        P18,     136,          1,         10,      11109,2,20170106,       0515,   -34.0003,  -103.0003,       3626,  1296.2,   3.2478,  34.4883,2,  34.4983,2,    130.4,2,   129.8,2,    72.8,2,    37.8,2,    0.00,2,   2.621,2,   0.0203,6,   0.0115,6,   0.0159,6,  2271.9,2,  2338.1,2,   7.5000,2,    25.00, -999.00,9,  -999.0,9,  -999.0,   2.0378,2, -999.00,9,  -999.0,9, -999.00,9, -999.00,9,    28.6718,2,    5.98,2,  -999.0,9,     -999.0,     -999.0,9,     -999.0,9,     -999.0,     -999.0,9,     -999.0,     -999.0,9,     -999.0,     -999.0,       5.98,2,       2.19,2,       2.19,2,     -999.0,9,     -999.0,9,     -999.0,9,     -999.0,9,     -999.0,9
33RO20161119,        P18,     136,          1,         11,      11110,2,20170106,       0515,   -34.0003,  -103.0003,       3626,  1185.3,   3.4380,  34.4308,2,  34.4343,2,    146.3,2,   145.7,2,    59.9,2,    36.8,2,    0.00,2,   2.537,2,   0.0792,2,   0.0422,2,   0.0271,2,  2251.8,6,  2279.6,4,   7.5181,2,    25.00, -999.00,9,  -999.0,9,  -999.0,    2.773,2, -999.00,9,  -999.0,9, -999.00,9, -999.00,9,    26.0356,2,    5.82,2,  -999.0,9,     -999.0,     -999.0,9,     -999.0,9,     -999.0,     -999.0,9,     -999.0,     -999.0,9,     -999.0,     -999.0,       5.82,2,       2.32,2,       2.32,2,     -999.0,9,     -999.0,9,     -999.0,9,     -999.0,9,     -999.0,9
33RO20161119,        P18,     136,          1,         12,      11111,2,20170106,       0515,   -34.0003,  -103.0003,       3626,  1050.6,   3.8272,  34.3460,2,  34.3475,2,    175.2,2,   175.1,2,    41.5,2,    34.1,2,    0.01,2,   2.354,2,   0.4561,2,   0.2248,2,   0.0443,2,  2217.7,2,  2303.3,2,   7.5600,2,    25.00, -999.00,9,  -999.0,9,  -999.0,    2.543,2, -999.00,9,  -999.0,9, -999.00,9, -999.00,9,    23.4138,2,    5.77,2,  -999.0,9,     -999.0,     -999.0,9,     -999.0,9,     -999.0,     -999.0,9,     -999.0,     -999.0,9,     -999.0,     -999.0,       5.77,2,       2.29,2,       2.29,2,     -999.0,9,     -999.0,9,     -999.0,9,     -999.0,9,     -999.0,9
33RO20161119,        P18,     136,          1,         13,      11112,2,20170106,       0515,   -34.0003,  -103.0003,       3626,   929.6,   4.3359,  34.2957,2,  34.2959,2,    196.4,2,   196.7,2,    28.8,2,    31.7,2,    0.01,2,   2.190,2,   1.2224,2,   0.5932,2,   0.1884,2,  2195.1,2,  2288.1,2,   7.5966,2,    25.00, -999.00,9,  -999.0,9,  -999.0,   2.2908,2, -999.00,9,  -999.0,9, -999.00,9, -999.00,9,    20.8581,2,    5.71,2,  -999.0,9,     -999.0,     -999.0,9,     -999.0,9,     -999.0,     -999.0,9,     -999.0,     -999.0,9,     -999.0,     -999.0,       5.71,2,       2.45,2,       2.45,2,     -999.0,9,     -999.0,9,     -999.0,9,     -999.0,9,     -999.0,9
33RO20161119,        P18,     136,          1,         14,      11113,2,20170106,       0515,   -34.0003,  -103.0003,       3626,   814.7,   4.9475,  34.2649,2,  34.2665,2,    219.1,2,   219.3,6,    18.0,2,    28.8,2,    0.01,2,   1.979,2,   2.2429,2,   1.1035,2,   0.3557,2,  2171.9,2,  2282.6,2,   7.6402,2,    25.00, -999.00,9,  -999.0,9,  -999.0,   1.4565,2, -999.00,9,  -999.0,9, -999.00,9, -999.00,9,    18.1279,2,    5.78,2,  -999.0,9,     -999.0,     -999.0,9,     -999.0,9,     -999.0,     -999.0,9,     -999.0,     -999.0,9,     -999.0,     -999.0,       5.78,2,       2.57,2,       2.57,2,     -999.0,9,     -999.0,9,     -999.0,9,     -999.0,9,     -999.0,9
33RO20161119,        P18,     136,          1,         15,      11114,2,20170106,       0515,   -34.0003,  -103.0003,       3626,   699.7,   5.4574,  34.2605,2,  34.2625,2,    236.0,2,   236.2,2,    12.0,2,    26.3,2,    0.01,2,   1.807,2,   3.1563,2,   1.5924,2,   0.6744,2,  2154.9,2,  2277.3,2,   7.6717,2,    25.00, -999.00,9,  -999.0,9,  -999.0,   0.9306,2, -999.00,9,  -999.0,9, -999.00,9, -999.00,9,    16.3664,2,    5.82,2,  -999.0,9,     -999.0,     -999.0,9,     -999.0,9,     -999.0,     -999.0,9,     -999.0,     -999.0,9,     -999.0,     -999.0,       5.82,2,       2.91,2,       2.91,2,     -999.0,9,     -999.0,9,     -999.0,9,     -999.0,9,     -999.0,9
33RO20161119,        P18,     136,          1,         16,      11115,2,20170106,       0515,   -34.0003,  -103.0003,       3626,   580.3,   5.9601,  34.2780,2,  34.2777,2,    244.9,2,   246.1,2,     9.1,2,    24.3,2,    0.01,2,   1.679,2,   3.7825,2,   1.9401,2,   0.9728,2,  2148.0,2,  2275.5,2,   7.6851,2,    25.00, -999.00,9,  -999.0,9,  -999.0,   0.9974,2, -999.00,9,  -999.0,9, -999.00,9, -999.00,9,    16.4118,2,    5.84,2,  -999.0,9,     -999.0,     -999.0,9,     -999.0,9,     -999.0,     -999.0,9,     -999.0,     -999.0,9,     -999.0,     -999.0,       5.84,2,       3.13,2,       3.13,2,     -999.0,9,     -999.0,9,     -999.0,9,     -999.0,9,     -999.0,9
33RO20161119,        P18,     136,          1,         17,      11116,2,20170106,       0515,   -34.0003,  -103.0003,       3626,   480.7,   6.4182,  34.3029,2,  34.3058,2,    243.3,2,   243.5,2,     7.6,2,    23.3,2,    0.01,2,   1.610,2,   3.9614,2,   2.0820,2,   1.1556,2,  2146.3,2,  2270.8,2,   7.6898,2,    25.00, -999.00,9,  -999.0,9,  -999.0,   1.7464,2, -999.00,9,  -999.0,9, -999.00,9, -999.00,9,    17.4094,2,    5.84,2,  -999.0,9,     -999.0,     -999.0,9,     -999.0,9,     -999.0,     -999.0,9,     -999.0,     -999.0,9,     -999.0,     -999.0,       5.84,2,       3.35,2,       3.35,2,     -999.0,9,     -999.0,9,     -999.0,9,     -999.0,9,     -999.0,9
33RO20161119,        P18,     136,          1,         18,      11117,2,20170106,       0515,   -34.0003,  -103.0003,       3626,   374.8,   7.0120,  34.2949,2,  34.3140,4,    231.4,2,   230.8,2,     6.3,2,    22.8,2,    0.01,2,   1.610,2,   3.8974,2,   2.0872,2,   1.3069,2,  2145.3,2,  2269.4,2,   7.6822,2,    25.00, -999.00,9,  -999.0,9,  -999.0,   2.2639,2, -999.00,9,  -999.0,9, -999.00,9, -999.00,9,    22.2361,2,    6.17,2,  -999.0,9,     -999.0,     -999.0,9,     -999.0,9,     -999.0,     -999.0,9,     -999.0,     -999.0,9,     -999.0,     -999.0,       6.17,2,       3.72,2,       3.72,2,     -999.0,9,     -999.0,9,     -999.0,9,     -999.0,9,     -999.0,9
33RO20161119,        P18,     136,          1,         19,      11083,2,20170106,       0515,   -34.0003,  -103.0003,       3626,   284.7,   8.5101,  34.2641,2,  34.2660,2,    231.4,2,   230.8,2,     3.2,2,    19.0,2,    0.01,2,   1.388,2,   3.7345,2,   2.0826,2,   1.6729,2,  2129.6,2,  2263.4,2,   7.7139,2,    25.00, -999.00,9,  -999.0,9,  -999.0,   2.2449,2, -999.00,9,  -999.0,9, -999.00,9, -999.00,9,    23.9604,2,     8.5,2,  -999.0,9,     -999.0,     -999.0,9,     -999.0,9,     -999.0,     -999.0,9,     -999.0,     -999.0,9,     -999.0,     -999.0,       8.47,2,       4.32,2,       4.23,2,     -999.0,9,     -999.0,9,     -999.0,9,     -999.0,9,     -999.0,9
33RO20161119,        P18,     136,          1,         20,      11118,2,20170106,       0515,   -34.0003,  -103.0003,       3626,   205.5,  11.3449,  34.4093,2,  34.4058,2,    223.5,2,   221.8,2,     1.4,2,    14.5,2,    0.02,2,   0.976,2,   3.2404,6,   1.8723,6,   1.7237,6,  2103.8,2,  2270.6,2,   7.7821,2,    25.00, -999.00,9,  -999.0,9,  -999.0,   2.4741,2, -999.00,9,  -999.0,9, -999.00,9, -999.00,9,    18.2923,2,     8.6,2,  -999.0,9,     -999.0,     -999.0,9,     -999.0,9,     -999.0,     -999.0,9,     -999.0,     -999.0,9,     -999.0,     -999.0,       8.62,2,       4.57,2,       4.59,2,     -999.0,9,     -999.0,9,     -999.0,9,     -999.0,9,     -999.0,9
33RO20161119,        P18,     136,          1,         21,      11119,2,20170106,       0515,   -34.0003,  -103.0003,       3626,   136.9,  13.4989,  34.4019,2,  34.3935,2,    236.8,2,   232.5,2,     0.5,2,     5.6,2,    0.45,2,   0.614,2,   2.8853,2,   1.7050,2,   1.9182,2,  2071.5,2,  2270.2,2,   7.8537,6,    25.00, -999.00,9,  -999.0,9,  -999.0,   0.1869,2, -999.00,9,  -999.0,9, -999.00,9, -999.00,9,     11.691,2,   12.05,2,  -999.0,9,     -999.0,     -999.0,9,     -999.0,9,     -999.0,     -999.0,9,     -999.0,     -999.0,9,     -999.0,     -999.0,      11.25,2,       8.21,2,       7.56,2,     -999.0,9,     -999.0,9,     -999.0,9,     -999.0,9,     -999.0,9
33RO20161119,        P18,     136,          1,         22,      11120,2,20170106,       0515,   -34.0003,  -103.0003,       3626,    70.7,  16.6203,  34.7240,2,  34.7224,2,    250.0,2,   249.7,2,     0.4,2,     0.0,2,    0.01,2,   0.185,2,   2.4806,2,   1.4959,2,   1.9097,2,  2035.9,2,  2278.9,2,   7.9519,2,    25.00, -999.00,9,  -999.0,9,  -999.0,   1.0741,2, -999.00,9,  -999.0,9, -999.00,9, -999.00,9,     8.6668,2, -999.00,9,  -999.0,9,     -999.0,     -999.0,9,     -999.0,9,     -999.0,     -999.0,9,     -999.0,     -999.0,9,     -999.0,     -999.0,     -999.0,9,     -999.0,9,     -999.0,9,     -999.0,9,     -999.0,9,     -999.0,9,     -999.0,9,     -999.0,9
33RO20161119,        P18,     136,          1,         23,      11121,2,20170106,       0515,   -34.0003,  -103.0003,       3626,    30.3,  20.6404,  34.6393,2,  34.6754,2,    227.2,2,   229.8,2,     0.3,2,     0.0,2,    0.01,2,   0.175,2,   2.1068,2,   1.2991,2,   1.7087,2,  2031.5,6,  2281.7,2,   7.9542,2,    25.00, -999.00,9,  -999.0,9,  -999.0,   1.0075,2, -999.00,9,  -999.0,9, -999.00,9, -999.00,9,     7.5041,2, -999.00,9,  -999.0,9,     -999.0,     -999.0,9,     -999.0,9,     -999.0,     -999.0,9,     -999.0,     -999.0,9,     -999.0,     -999.0,     -999.0,9,     -999.0,9,     -999.0,9,     -999.0,9,     -999.0,9,     -999.0,9,     -999.0,9,     -999.0,9
33RO20161119,        P18,     136,          1,         24,      11122,2,20170106,       0515,   -34.0003,  -103.0003,       3626,     3.5,  21.3447,  34.5758,2,  34.6124,2,    225.0,2,   225.8,2,     0.3,2,     0.0,2,    0.01,2,   0.166,2,   2.0611,2,   1.2663,2,   1.6466,2,  2026.4,2,  2278.2,2,   7.9518,2,    25.00, -999.00,9,  -999.0,9,  -999.0,   1.7973,2, -999.00,9,  -999.0,9, -999.00,9, -999.00,9,      7.591,2, -999.00,9,  -999.0,9,     -999.0,     -999.0,9,     -999.0,9,     -999.0,     -999.0,9,     -999.0,     -999.0,9,     -999.0,     -999.0,     -999.0,9,     -999.0,9,     -999.0,9,     -999.0,9,     -999.0,9,     -999.0,9,     -999.0,9,     -999.0,9