BOTTLE,20230606CCHSIOCBG
EXPOCODE,SECT_ID,STNNBR,CASTNO,SAMPNO,BTLNBR,BTLNBR_FLAG_W,DATE,TIME,LATITUDE,LONGITUDE,DEPTH,CTDPRS,CTDTMP,CTDSAL,CTDSAL_FLAG_W,SALNTY,SALNTY_FLAG_W,CTDOXY,CTDOXY_FLAG_W,OXYGEN,OXYGEN_FLAG_W,SILCAT,SILCAT_FLAG_W,NITRAT,NITRAT_FLAG_W,NITRIT,NITRIT_FLAG_W,PHSPHT,PHSPHT_FLAG_W,CFC-11,CFC-11_FLAG_W,CFC-12,CFC-12_FLAG_W,SF6,SF6_FLAG_W,TCARBN,TCARBN_FLAG_W,ALKALI,ALKALI_FLAG_W,PH_SWS,PH_SWS_FLAG_W,PH_TMP,DELC13,DELC13_FLAG_W,DELC14,DELC14_FLAG_W,C14ERR,CCL4,CCL4_FLAG_W,POC,POC_FLAG_W,DOC,DOC_FLAG_W,TDN,TDN_FLAG_W,PON,PON_FLAG_W,N2O,N2O_FLAG_W,D15N_NO3,D15N_NO3_FLAG_W,14C-DOC,14C-DOC_FLAG_W,14C-DOCERR,13C-DOC,13C-DOC_FLAG_W,N2/ARGON_UNSTRIPPED,N2/ARGON_UNSTRIPPED_FLAG_W,N2/ARGON_UNSTRIPPED_ERROR,N2/ARGON,N2/ARGON_FLAG_W,N2/ARGON_ERROR,D15N_N2,D15N_N2_FLAG_W,D15N_N2_ERROR,D15N_NO3_ERROR,D15N_NO2+NO3,D15N_NO2+NO3_FLAG_W,D18O_NO2+NO3,D18O_NO2+NO3_FLAG_W,D18O_NO3,D18O_NO3_FLAG_W,TDP,TDP_FLAG_W,N2O_ALT_1,N2O_ALT_1_FLAG_W,D15N_N2O,D15N_N2O_FLAG_W,D18O_N2O,D18O_N2O_FLAG_W,D15N_ALPHA_N2O,D15N_ALPHA_N2O_FLAG_W
,,,,,,,,,,,METERS,DBAR,ITS-90,PSS-78,,PSS-78,,UMOL/KG,,UMOL/KG,,UMOL/KG,,UMOL/KG,,UMOL/KG,,UMOL/KG,,PMOL/KG,,PMOL/KG,,FMOL/KG,,UMOL/KG,,UMOL/KG,,,,DEG C,/MILLE,,/MILLE,,/MILLE,PMOL/KG,,UG/KG,,UMOL/KG,,UMOL/KG,,UG/KG,,NMOL/KG,,/MILLE,,/MILLE,,/MILLE,/MILLE,,,,,,,,/MILLE,,/MILLE,/MILLE,/MILLE,,/MILLE,,/MILLE,,UMOL/KG,,NMOL/L,,/MILLE,,/MILLE,,/MILLE,
33RO20161119,        P18,     111,          1,          1,      11010,2,20161220,       0656,   -21.5000,  -103.0000,       3966,  4009.6,   1.8401,  34.6868,2,  34.6860,2,    149.9,2,   150.8,2,   127.0,2,    35.5,2,    0.01,2,   2.549,2,   0.0003,2,   0.0005,2,   0.0000,2,  2320.3,6,  2420.7,2,   7.5765,6,    25.00, -999.00,9,  -999.0,9,  -999.0,        0,2, -999.00,9,    36.7,2,   35.20,2, -999.00,9,    19.9194,2, -999.00,9,  -999.0,9,     -999.0,     -999.0,9,     -999.0,9,     -999.0,     -999.0,9,     -999.0,     -999.0,9,     -999.0,     -999.0,     -999.0,9,     -999.0,9,     -999.0,9,     -999.0,9,     -999.0,9,     -999.0,9,     -999.0,9,     -999.0,9
33RO20161119,        P18,     111,          1,          2,      11101,2,20161220,       0656,   -21.5000,  -103.0000,       3966,  3778.8,   1.8170,  34.6867,2,  34.6861,2,    151.1,2,   150.3,2,   126.7,2,    35.6,2,    0.01,2,   2.552,2,   0.0026,2,   0.0014,2,   0.0000,2,  2321.0,2,  2421.4,2,   7.5768,2,    25.00, -999.00,9,  -999.0,9,  -999.0,        0,2, -999.00,9,    37.5,2,   33.80,2, -999.00,9,    20.3932,2, -999.00,9,  -999.0,9,     -999.0,     -999.0,9,     -999.0,9,     -999.0,     -999.0,9,     -999.0,     -999.0,9,     -999.0,     -999.0,     -999.0,9,     -999.0,9,     -999.0,9,     -999.0,9,     -999.0,9,     -999.0,9,     -999.0,9,     -999.0,9
33RO20161119,        P18,     111,          1,          3,      11102,2,20161220,       0656,   -21.5000,  -103.0000,       3966,  3549.6,   1.7966,  34.6861,2,  34.6849,2,    150.9,2,   150.9,2,   126.9,2,    35.6,2,    0.01,2,   2.539,2,  -0.0002,2,   0.0003,2,   0.0000,2,  2318.2,2,  2418.1,2,   7.5753,2,    25.00, -999.00,9,  -999.0,9,  -999.0,        0,2, -999.00,9,    38.5,2,   36.90,2, -999.00,9,    20.0743,2, -999.00,9,  -999.0,9,     -999.0,     -999.0,9,     -999.0,9,     -999.0,     -999.0,9,     -999.0,     -999.0,9,     -999.0,     -999.0,     -999.0,9,     -999.0,9,     -999.0,9,     -999.0,9,     -999.0,9,     -999.0,9,     -999.0,9,     -999.0,9
33RO20161119,        P18,     111,          1,          4,      11103,2,20161220,       0656,   -21.5000,  -103.0000,       3966,  3224.0,   1.7805,  34.6838,2,  34.6826,2,    151.5,2,  -999.0,9,   125.1,2,    35.5,2,    0.01,2,   2.523,2,   0.0012,2,   0.0004,2,   0.0000,2,  2314.8,2,  2414.6,6,   7.5754,2,    25.00, -999.00,9,  -999.0,9,  -999.0,        0,2, -999.00,9,    37.8,2,   35.20,2, -999.00,9,    20.5776,2, -999.00,9,  -999.0,9,     -999.0,     -999.0,9,     -999.0,9,     -999.0,     -999.0,9,     -999.0,     -999.0,9,     -999.0,     -999.0,     -999.0,9,     -999.0,9,     -999.0,9,     -999.0,9,     -999.0,9,     -999.0,9,     -999.0,9,     -999.0,9
33RO20161119,        P18,     111,          1,          5,      11104,2,20161220,       0656,   -21.5000,  -103.0000,       3966,  2899.9,   1.7964,  34.6786,2,  34.6774,2,    155.1,2,   159.3,3,   121.2,6,    35.1,6,    0.01,6,   2.496,6,   0.0011,2,   0.0004,2,   0.0000,2,  2307.6,2,  2405.1,2,   7.5747,2,    25.00, -999.00,9,  -999.0,9,  -999.0,   0.0163,2, -999.00,9,    37.2,2,   37.90,2, -999.00,9,    21.0074,2, -999.00,9,  -999.0,9,     -999.0,     -999.0,9,     -999.0,9,     -999.0,     -999.0,9,     -999.0,     -999.0,9,     -999.0,     -999.0,     -999.0,9,     -999.0,9,     -999.0,9,     -999.0,9,     -999.0,9,     -999.0,9,     -999.0,9,     -999.0,9
33RO20161119,        P18,     111,          1,          6,      11105,2,20161220,       0656,   -21.5000,  -103.0000,       3966,  2578.5,   1.8484,  34.6698,2,  34.6685,2,    156.4,2,   157.5,2,   117.0,6,    35.3,6,    0.01,6,   2.477,6,   0.0012,2,   0.0020,2,   0.0000,2,  2300.2,2,  2399.3,2,   7.5712,2,    25.00, -999.00,9,  -999.0,9,  -999.0,   0.0286,2, -999.00,9,    38.0,2,   34.30,2, -999.00,9,    21.0458,2, -999.00,9,  -999.0,9,     -999.0,     -999.0,9,     -999.0,9,     -999.0,     -999.0,9,     -999.0,     -999.0,9,     -999.0,     -999.0,     -999.0,9,     -999.0,9,     -999.0,9,     -999.0,9,     -999.0,9,     -999.0,9,     -999.0,9,     -999.0,9
33RO20161119,        P18,     111,          1,          7,      11106,2,20161220,       0656,   -21.5000,  -103.0000,       3966,  2259.8,   1.9561,  34.6555,2,  34.6541,2,    153.8,2,   155.0,2,   113.6,6,    35.4,6,    0.01,6,   2.479,6,   0.0010,2,   0.0012,2,   0.0000,2,  2298.5,2,  2392.0,2,   7.5656,2,    25.00, -999.00,9,  -999.0,9,  -999.0,   0.0145,2, -999.00,9,    36.8,2,   39.20,2, -999.00,9,    21.3967,2, -999.00,9,  -999.0,9,     -999.0,     -999.0,9,     -999.0,9,     -999.0,     -999.0,9,     -999.0,     -999.0,9,     -999.0,     -999.0,     -999.0,9,     -999.0,9,     -999.0,9,     -999.0,9,     -999.0,9,     -999.0,9,     -999.0,9,     -999.0,9
33RO20161119,        P18,     111,          1,          8,      11107,2,20161220,       0656,   -21.5000,  -103.0000,       3966,  1938.7,   2.2285,  34.6263,2,  34.6245,2,    145.8,2,   146.6,2,   107.3,6,    36.1,6,    0.00,6,   2.536,6,   0.0066,2,   0.0043,2,   0.0000,2,  2296.8,2,  2385.9,2,   7.5487,2,    25.00, -999.00,9,  -999.0,9,  -999.0,   0.0141,2, -999.00,9,    37.4,2,   35.80,2, -999.00,9,    22.2982,2, -999.00,9,  -999.0,9,     -999.0,     -999.0,9,     -999.0,9,     -999.0,     -999.0,9,     -999.0,     -999.0,9,     -999.0,     -999.0,     -999.0,9,     -999.0,9,     -999.0,9,     -999.0,9,     -999.0,9,     -999.0,9,     -999.0,9,     -999.0,9
33RO20161119,        P18,     111,          1,          9,      11108,2,20161220,       0656,   -21.5000,  -103.0000,       3966,  1618.5,   2.7402,  34.5886,2,  34.5873,2,    126.2,2,   127.3,2,   100.6,6,    37.7,6,    0.00,6,   2.674,6,   0.0011,2,   0.0008,2,   0.0000,2,  2300.0,6,  2376.6,2,   7.5138,2,    25.00, -999.00,9,  -999.0,9,  -999.0,        0,2, -999.00,9,    37.8,2,   40.00,2, -999.00,9,    24.8804,2, -999.00,9,  -999.0,9,     -999.0,     -999.0,9,     -999.0,9,     -999.0,     -999.0,9,     -999.0,     -999.0,9,     -999.0,     -999.0,     -999.0,9,     -999.0,9,     -999.0,9,     -999.0,9,     -999.0,9,     -999.0,9,     -999.0,9,     -999.0,9
33RO20161119,        P18,     111,          1,         10,      11109,2,20161220,       0656,   -21.5000,  -103.0000,       3966,  1420.2,   3.1373,  34.5668,2,  34.5652,2,    114.9,2,   114.8,6,    93.7,2,    38.7,2,    0.00,2,   2.758,2,   0.0056,2,   0.0022,2,   0.0000,2,  2297.7,2,  2371.2,2,   7.4928,2,    25.00, -999.00,9,  -999.0,9,  -999.0,   0.0216,2, -999.00,9,    39.2,2,   40.00,2, -999.00,9,    27.6675,2, -999.00,9,  -999.0,9,     -999.0,     -999.0,9,     -999.0,9,     -999.0,     -999.0,9,     -999.0,     -999.0,9,     -999.0,     -999.0,     -999.0,9,     -999.0,9,     -999.0,9,     -999.0,9,     -999.0,9,     -999.0,9,     -999.0,9,     -999.0,9
33RO20161119,        P18,     111,          1,         11,      11110,2,20161220,       0656,   -21.5000,  -103.0000,       3966,  1271.0,   3.4594,  34.5486,2,  34.5466,2,    111.3,2,   112.4,2,    86.2,2,    38.8,2,    0.01,2,   2.778,2,   0.0003,2,   0.0012,2,   0.0000,2,  2292.9,2,  2359.6,2,   7.4889,2,    25.00, -999.00,9,  -999.0,9,  -999.0,   0.0426,2, -999.00,9,    38.0,2,   38.90,2, -999.00,9,    28.4391,2, -999.00,9,  -999.0,9,     -999.0,     -999.0,9,     -999.0,9,     -999.0,     -999.0,9,     -999.0,     -999.0,9,     -999.0,     -999.0,     -999.0,9,     -999.0,9,     -999.0,9,     -999.0,9,     -999.0,9,     -999.0,9,     -999.0,9,     -999.0,9
33RO20161119,        P18,     111,          1,         12,      11111,2,20161220,       0656,   -21.5000,  -103.0000,       3966,  1130.3,   3.8430,  34.5255,2,  34.5240,2,    112.5,2,   114.4,2,    76.0,2,    38.6,2,    0.00,2,   2.747,2,   0.0035,2,   0.0022,2,   0.0000,2,  2279.8,2,  2349.5,2,   7.4930,2,    25.00, -999.00,9,  -999.0,9,  -999.0,   0.2387,2, -999.00,9,    39.4,2,   41.60,2, -999.00,9,     28.795,2, -999.00,9,  -999.0,9,     -999.0,     -999.0,9,     -999.0,9,     -999.0,     -999.0,9,     -999.0,     -999.0,9,     -999.0,     -999.0,     -999.0,9,     -999.0,9,     -999.0,9,     -999.0,9,     -999.0,9,     -999.0,9,     -999.0,9,     -999.0,9
33RO20161119,        P18,     111,          1,         13,      11112,2,20161220,       0656,   -21.5000,  -103.0000,       3966,   988.6,   4.2177,  34.4901,2,  34.4885,2,    116.8,2,   117.4,2,    64.2,2,    38.0,2,    0.00,2,   2.705,2,   0.0074,2,   0.0048,2,   0.0000,2,  2265.4,2,  2336.9,2,   7.4964,2,    25.00, -999.00,9,  -999.0,9,  -999.0,   0.6677,2, -999.00,9,    37.9,2,   41.90,2, -999.00,9,    28.4348,2, -999.00,9,  -999.0,9,     -999.0,     -999.0,9,     -999.0,9,     -999.0,     -999.0,9,     -999.0,     -999.0,9,     -999.0,     -999.0,     -999.0,9,     -999.0,9,     -999.0,9,     -999.0,9,     -999.0,9,     -999.0,9,     -999.0,9,     -999.0,9
33RO20161119,        P18,     111,          1,         14,      11113,2,20161220,       0656,   -21.5000,  -103.0000,       3966,   855.3,   4.6116,  34.4112,2,  34.4126,2,    127.1,2,   126.4,2,    46.0,2,    37.4,2,    0.00,2,   2.659,2,   0.1001,2,   0.0544,2,   0.0197,2,  2243.0,2,  2312.2,2,   7.5008,2,    25.00, -999.00,9,  -999.0,9,  -999.0,   0.6694,2, -999.00,9,    39.1,2,   40.40,2, -999.00,9,    30.5334,2, -999.00,9,  -999.0,9,     -999.0,     -999.0,9,     -999.0,9,     -999.0,     -999.0,9,     -999.0,     -999.0,9,     -999.0,     -999.0,     -999.0,9,     -999.0,9,     -999.0,9,     -999.0,9,     -999.0,9,     -999.0,9,     -999.0,9,     -999.0,9
33RO20161119,        P18,     111,          1,         15,      11114,2,20161220,       0656,   -21.5000,  -103.0000,       3966,   725.8,   5.3040,  34.3614,2,  34.3625,2,    145.0,2,   143.5,2,    29.7,2,    35.1,2,    0.01,2,   2.474,2,   0.6644,6,   0.3320,6,   0.0877,6,  2218.5,2,  2297.2,2,   7.5279,2,    25.00, -999.00,9,  -999.0,9,  -999.0,   0.9661,2, -999.00,9,    40.3,2,   39.00,2, -999.00,9,    30.5823,2, -999.00,9,  -999.0,9,     -999.0,     -999.0,9,     -999.0,9,     -999.0,     -999.0,9,     -999.0,     -999.0,9,     -999.0,     -999.0,     -999.0,9,     -999.0,9,     -999.0,9,     -999.0,9,     -999.0,9,     -999.0,9,     -999.0,9,     -999.0,9
33RO20161119,        P18,     111,          1,         16,      11115,2,20161220,       0656,   -21.5000,  -103.0000,       3966,   601.1,   6.2926,  34.3769,2,  34.3755,2,    137.3,2,   136.8,2,    21.9,2,    33.5,2,    0.01,2,   2.399,2,   1.5670,2,   0.7675,2,   0.2737,2,  2211.7,2,  2286.8,2,   7.5134,2,    25.00, -999.00,9,  -999.0,9,  -999.0,   0.5551,2, -999.00,9,    40.8,2,   39.00,2, -999.00,9,    35.4538,2, -999.00,9,  -999.0,9,     -999.0,     -999.0,9,     -999.0,9,     -999.0,     -999.0,9,     -999.0,     -999.0,9,     -999.0,     -999.0,     -999.0,9,     -999.0,9,     -999.0,9,     -999.0,9,     -999.0,9,     -999.0,9,     -999.0,9,     -999.0,9
33RO20161119,        P18,     111,          1,         17,      11116,2,20161220,       0656,   -21.5000,  -103.0000,       3966,   489.6,   7.5776,  34.3882,2,  34.3873,2,    129.2,2,   129.8,2,    15.7,2,    30.3,2,    0.01,2,   2.279,2,   2.3108,2,   1.1703,2,   0.4949,2,  2207.1,2,  2279.7,6,   7.5147,2,    25.00, -999.00,9,  -999.0,9,  -999.0,   0.5226,2, -999.00,9,    42.9,2,   34.70,2, -999.00,9,    35.2081,2, -999.00,9,  -999.0,9,     -999.0,     -999.0,9,     -999.0,9,     -999.0,     -999.0,9,     -999.0,     -999.0,9,     -999.0,     -999.0,     -999.0,9,     -999.0,9,     -999.0,9,     -999.0,9,     -999.0,9,     -999.0,9,     -999.0,9,     -999.0,9
33RO20161119,        P18,     111,          1,         18,      11117,2,20161220,       0656,   -21.5000,  -103.0000,       3966,   379.6,  10.6232,  34.4002,2,  34.4019,2,    155.7,2,   153.6,2,     7.6,2,    19.3,2,    0.01,2,   1.672,2,   2.8612,2,   1.5697,2,   0.9723,2,  2159.9,2,  2275.1,2,   7.6415,6,    25.00, -999.00,9,  -999.0,9,  -999.0,   1.0305,2, -999.00,9,    44.7,2,   21.30,2, -999.00,9,    24.0906,2, -999.00,9,  -999.0,9,     -999.0,     -999.0,9,     -999.0,9,     -999.0,     -999.0,9,     -999.0,     -999.0,9,     -999.0,     -999.0,     -999.0,9,     -999.0,9,     -999.0,9,     -999.0,9,     -999.0,9,     -999.0,9,     -999.0,9,     -999.0,9
33RO20161119,        P18,     111,          1,         19,      11083,2,20161220,       0656,   -21.5000,  -103.0000,       3966,   285.7,  15.7596,  35.0088,2,  35.0023,2,    194.6,2,   196.7,6,     1.2,2,     5.8,2,    0.01,2,   0.692,2,   2.5319,2,   1.5261,2,   1.4524,2,  2098.3,2,  2311.7,2,   7.8619,2,    25.00, -999.00,9,  -999.0,9,  -999.0,   0.9779,2, -999.00,9,    46.3,2,    8.50,2, -999.00,9,    11.0498,2, -999.00,9,  -999.0,9,     -999.0,     -999.0,9,     -999.0,9,     -999.0,     -999.0,9,     -999.0,     -999.0,9,     -999.0,     -999.0,     -999.0,9,     -999.0,9,     -999.0,9,     -999.0,9,     -999.0,9,     -999.0,9,     -999.0,9,     -999.0,9
33RO20161119,        P18,     111,          1,         20,      11118,2,20161220,       0656,   -21.5000,  -103.0000,       3966,   200.3,  20.1653,  35.7760,2,  35.7766,2,    209.5,2,   209.1,2,     0.6,2,     0.2,2,    0.17,2,   0.334,2,   2.0636,6,   1.2817,6,   1.5502,6,  2087.6,2,  2362.1,2,   7.9640,2,    25.00, -999.00,9,  -999.0,9,  -999.0,   1.4785,2, -999.00,9,    58.4,2,    3.80,2, -999.00,9,     7.6903,2, -999.00,9,  -999.0,9,     -999.0,     -999.0,9,     -999.0,9,     -999.0,     -999.0,9,     -999.0,     -999.0,9,     -999.0,     -999.0,     -999.0,9,     -999.0,9,     -999.0,9,       0.49,2,     -999.0,9,     -999.0,9,     -999.0,9,     -999.0,9
33RO20161119,        P18,     111,          1,         21,      11119,2,20161220,       0656,   -21.5000,  -103.0000,       3966,   125.0,  22.5431,  36.2602,2,  36.2543,2,    217.6,2,   215.5,2,     0.7,2,     0.0,2,    0.01,2,   0.331,2,   1.8537,2,   1.1499,2,   1.5112,2,  2088.2,2,  2395.5,2,   8.0146,2,    25.00, -999.00,9,  -999.0,9,  -999.0,   1.8572,2, -999.00,9,    66.6,2,    4.50,2, -999.00,9,     7.0626,2, -999.00,9,  -999.0,9,     -999.0,     -999.0,9,     -999.0,9,     -999.0,     -999.0,9,     -999.0,     -999.0,9,     -999.0,     -999.0,     -999.0,9,     -999.0,9,     -999.0,9,       0.53,2,     -999.0,9,     -999.0,9,     -999.0,9,     -999.0,9
33RO20161119,        P18,     111,          1,         22,      11120,2,20161220,       0656,   -21.5000,  -103.0000,       3966,    59.8,  23.6220,  36.3942,2,  36.3909,2,    212.8,2,   213.8,2,     0.8,2,     0.0,2,    0.00,2,   0.356,2,   1.7631,2,   1.1098,2,   1.4578,2,  2089.9,2,  2406.6,2,   8.0274,2,    25.00, -999.00,9,  -999.0,9,  -999.0,   1.7597,2, -999.00,9,    71.5,2,    5.00,2, -999.00,9,     6.7138,2, -999.00,9,  -999.0,9,     -999.0,     -999.0,9,     -999.0,9,     -999.0,     -999.0,9,     -999.0,     -999.0,9,     -999.0,     -999.0,     -999.0,9,     -999.0,9,     -999.0,9,       0.65,2,     -999.0,9,     -999.0,9,     -999.0,9,     -999.0,9
33RO20161119,        P18,     111,          1,         23,      11121,2,20161220,       0656,   -21.5000,  -103.0000,       3966,    15.3,  24.2369,  36.4777,2,  36.4784,2,    209.5,2,   211.3,2,     0.9,2,     0.0,2,    0.01,2,   0.358,2,   1.7341,2,   1.0880,2,   1.4321,2,  2090.2,2,  2410.1,2,   8.0291,2,    25.00, -999.00,9,  -999.0,9,  -999.0,        0,2, -999.00,9,    71.9,2,    4.70,2, -999.00,9,      6.568,2, -999.00,9,  -999.0,9,     -999.0,     -999.0,9,     -999.0,9,     -999.0,     -999.0,9,     -999.0,     -999.0,9,     -999.0,     -999.0,     -999.0,9,     -999.0,9,     -999.0,9,       0.52,2,     -999.0,9,     -999.0,9,     -999.0,9,     -999.0,9
33RO20161119,        P18,     111,          1,         24,      11122,2,20161220,       0656,   -21.5000,  -103.0000,       3966,     3.0,  24.2363,  36.4768,2,  36.4768,2,    209.1,2,   211.4,2,     0.7,2,     0.0,2,    0.01,2,   0.362,2,   1.7353,2,   1.0860,2,   1.4732,2,  2090.4,6,  2410.1,6,   8.0288,2,    25.00, -999.00,9,  -999.0,9,  -999.0,        0,2, -999.00,9,    72.2,2,    5.30,2, -999.00,9,     6.5427,2, -999.00,9,  -999.0,9,     -999.0,     -999.0,9,     -999.0,9,     -999.0,     -999.0,9,     -999.0,     -999.0,9,     -999.0,     -999.0,     -999.0,9,     -999.0,9,     -999.0,9,       0.74,2,     -999.0,9,     -999.0,9,     -999.0,9,     -999.0,9