BOTTLE,20230606CCHSIOCBG
EXPOCODE,SECT_ID,STNNBR,CASTNO,SAMPNO,BTLNBR,BTLNBR_FLAG_W,DATE,TIME,LATITUDE,LONGITUDE,DEPTH,CTDPRS,CTDTMP,CTDSAL,CTDSAL_FLAG_W,SALNTY,SALNTY_FLAG_W,CTDOXY,CTDOXY_FLAG_W,OXYGEN,OXYGEN_FLAG_W,SILCAT,SILCAT_FLAG_W,NITRAT,NITRAT_FLAG_W,NITRIT,NITRIT_FLAG_W,PHSPHT,PHSPHT_FLAG_W,CFC-11,CFC-11_FLAG_W,CFC-12,CFC-12_FLAG_W,SF6,SF6_FLAG_W,TCARBN,TCARBN_FLAG_W,ALKALI,ALKALI_FLAG_W,PH_SWS,PH_SWS_FLAG_W,PH_TMP,DELC13,DELC13_FLAG_W,DELC14,DELC14_FLAG_W,C14ERR,CCL4,CCL4_FLAG_W,POC,POC_FLAG_W,DOC,DOC_FLAG_W,TDN,TDN_FLAG_W,PON,PON_FLAG_W,N2O,N2O_FLAG_W,D15N_NO3,D15N_NO3_FLAG_W,14C-DOC,14C-DOC_FLAG_W,14C-DOCERR,13C-DOC,13C-DOC_FLAG_W,N2/ARGON_UNSTRIPPED,N2/ARGON_UNSTRIPPED_FLAG_W,N2/ARGON_UNSTRIPPED_ERROR,N2/ARGON,N2/ARGON_FLAG_W,N2/ARGON_ERROR,D15N_N2,D15N_N2_FLAG_W,D15N_N2_ERROR,D15N_NO3_ERROR,D15N_NO2+NO3,D15N_NO2+NO3_FLAG_W,D18O_NO2+NO3,D18O_NO2+NO3_FLAG_W,D18O_NO3,D18O_NO3_FLAG_W,TDP,TDP_FLAG_W,N2O_ALT_1,N2O_ALT_1_FLAG_W,D15N_N2O,D15N_N2O_FLAG_W,D18O_N2O,D18O_N2O_FLAG_W,D15N_ALPHA_N2O,D15N_ALPHA_N2O_FLAG_W
,,,,,,,,,,,METERS,DBAR,ITS-90,PSS-78,,PSS-78,,UMOL/KG,,UMOL/KG,,UMOL/KG,,UMOL/KG,,UMOL/KG,,UMOL/KG,,PMOL/KG,,PMOL/KG,,FMOL/KG,,UMOL/KG,,UMOL/KG,,,,DEG C,/MILLE,,/MILLE,,/MILLE,PMOL/KG,,UG/KG,,UMOL/KG,,UMOL/KG,,UG/KG,,NMOL/KG,,/MILLE,,/MILLE,,/MILLE,/MILLE,,,,,,,,/MILLE,,/MILLE,/MILLE,/MILLE,,/MILLE,,/MILLE,,UMOL/KG,,NMOL/L,,/MILLE,,/MILLE,,/MILLE,
33RO20161119,        P18,     115,          1,          1,      11010,2,20161221,       0642,   -23.4995,  -103.0006,       3927,  3971.3,   1.8523,  34.6862,2,  34.7041,4,    150.5,2,   149.8,2,   126.4,6,    35.2,6,    0.00,6,   2.465,6,   0.0012,2,   0.0006,2,   0.0000,2,  2322.5,6,  2420.7,2,   7.5773,2,    25.00, -999.00,9,  -999.0,9,  -999.0,        0,2, -999.00,9,    35.0,2,   37.30,2, -999.00,9,    21.1397,2, -999.00,9,  -999.0,9,     -999.0,     -999.0,9,     -999.0,9,     -999.0,     -999.0,9,     -999.0,     -999.0,9,     -999.0,     -999.0,     -999.0,9,     -999.0,9,     -999.0,9,     -999.0,9,     -999.0,9,     -999.0,9,     -999.0,9,     -999.0,9
33RO20161119,        P18,     115,          1,          2,      11101,2,20161221,       0642,   -23.4995,  -103.0006,       3927,  3740.0,   1.8313,  34.6859,2,  34.6859,2,    150.3,2,   150.2,2,   126.0,6,    35.3,6,    0.00,6,   2.478,6,   0.0014,2,   0.0011,2,   0.0000,2,  2321.1,2,  2418.4,2,   7.5770,2,    25.00, -999.00,9,  -999.0,9,  -999.0,        0,2, -999.00,9,    36.5,2,   37.50,2, -999.00,9,    20.7141,2, -999.00,9,  -999.0,9,     -999.0,     -999.0,9,     -999.0,9,     -999.0,     -999.0,9,     -999.0,     -999.0,9,     -999.0,     -999.0,     -999.0,9,     -999.0,9,     -999.0,9,     -999.0,9,     -999.0,9,     -999.0,9,     -999.0,9,     -999.0,9
33RO20161119,        P18,     115,          1,          3,      11102,2,20161221,       0642,   -23.4995,  -103.0006,       3927,  3504.5,   1.8143,  34.6849,2,  34.6847,2,    151.2,2,   150.7,2,   125.5,6,    35.4,6,    0.00,6,   2.475,6,   0.0001,2,  -0.0002,2,   0.0000,2,  2319.5,2,  2417.8,6,   7.5739,2,    25.00, -999.00,9,  -999.0,9,  -999.0,   0.0145,2, -999.00,9,    37.8,2,   37.30,2, -999.00,9,    20.8596,2, -999.00,9,  -999.0,9,     -999.0,     -999.0,9,     -999.0,9,     -999.0,     -999.0,9,     -999.0,     -999.0,9,     -999.0,     -999.0,     -999.0,9,     -999.0,9,     -999.0,9,     -999.0,9,     -999.0,9,     -999.0,9,     -999.0,9,     -999.0,9
33RO20161119,        P18,     115,          1,          4,      11103,2,20161221,       0642,   -23.4995,  -103.0006,       3927,  3174.5,   1.8027,  34.6814,2,  34.6819,2,    153.4,2,   153.7,6,   122.7,6,    35.0,6,    0.00,6,   2.462,6,   0.0005,2,   0.0007,2,   0.0000,2,  2313.9,2,  2412.5,2,   7.5744,2,    25.00, -999.00,9,  -999.0,9,  -999.0,        0,2, -999.00,9,    37.1,2,   37.10,2, -999.00,9,    20.9652,2, -999.00,9,  -999.0,9,     -999.0,     -999.0,9,     -999.0,9,     -999.0,     -999.0,9,     -999.0,     -999.0,9,     -999.0,     -999.0,     -999.0,9,     -999.0,9,     -999.0,9,     -999.0,9,     -999.0,9,     -999.0,9,     -999.0,9,     -999.0,9
33RO20161119,        P18,     115,          1,          5,      11104,2,20161221,       0642,   -23.4995,  -103.0006,       3927,  2879.8,   1.8266,  34.6753,2,  34.6763,2,    156.1,2,   156.4,2,   118.8,2,    34.8,2,    0.00,2,   2.431,2,   0.0009,2,   0.0012,2,   0.0000,2,  2306.4,2,  2403.7,2,   7.5750,2,    25.00, -999.00,9,  -999.0,9,  -999.0,        0,2, -999.00,9,    35.2,2,   37.50,2, -999.00,9,    21.0974,2, -999.00,9,  -999.0,9,     -999.0,     -999.0,9,     -999.0,9,     -999.0,     -999.0,9,     -999.0,     -999.0,9,     -999.0,     -999.0,     -999.0,9,     -999.0,9,     -999.0,9,     -999.0,9,     -999.0,9,     -999.0,9,     -999.0,9,     -999.0,9
33RO20161119,        P18,     115,          1,          6,      11105,2,20161221,       0642,   -23.4995,  -103.0006,       3927,  2560.1,   1.8769,  34.6659,2,  34.6665,2,    157.2,2,   160.3,3,   115.6,2,    34.5,2,    0.00,2,   2.430,2,   0.0012,6,   0.0007,6,   0.0000,6,  2301.4,2,  2395.2,2,   7.5720,2,    25.00, -999.00,9,  -999.0,9,  -999.0,        0,2, -999.00,9,    36.3,2,   36.20,2, -999.00,9,    21.7261,2, -999.00,9,  -999.0,9,     -999.0,     -999.0,9,     -999.0,9,     -999.0,     -999.0,9,     -999.0,     -999.0,9,     -999.0,     -999.0,     -999.0,9,     -999.0,9,     -999.0,9,     -999.0,9,     -999.0,9,     -999.0,9,     -999.0,9,     -999.0,9
33RO20161119,        P18,     115,          1,          7,      11106,2,20161221,       0642,   -23.4995,  -103.0006,       3927,  2260.2,   1.9664,  34.6536,2,  34.6562,2,    155.5,2,   155.4,2,   112.3,2,    35.0,2,    0.00,2,   2.441,2,   0.0004,2,   0.0000,2,   0.0000,2,  2298.5,2,  2390.8,2,   7.5649,2,    25.00, -999.00,9,  -999.0,9,  -999.0,   0.0244,2, -999.00,9,    37.0,2,   37.40,2, -999.00,9,    22.0893,2, -999.00,9,  -999.0,9,     -999.0,     -999.0,9,     -999.0,9,     -999.0,     -999.0,9,     -999.0,     -999.0,9,     -999.0,     -999.0,     -999.0,9,     -999.0,9,     -999.0,9,     -999.0,9,     -999.0,9,     -999.0,9,     -999.0,9,     -999.0,9
33RO20161119,        P18,     115,          1,          8,      11107,2,20161221,       0642,   -23.4995,  -103.0006,       3927,  1949.3,   2.1874,  34.6294,2,  34.6293,2,    148.3,2,   149.0,2,   107.0,2,    35.4,2,    0.00,2,   2.477,2,   0.0011,2,   0.0004,2,   0.0000,2,  2298.2,2,  2384.8,2,   7.5524,2,    25.00, -999.00,9,  -999.0,9,  -999.0,   0.0361,2, -999.00,9,    36.5,2,   36.90,2, -999.00,9,    22.7214,2, -999.00,9,  -999.0,9,     -999.0,     -999.0,9,     -999.0,9,     -999.0,     -999.0,9,     -999.0,     -999.0,9,     -999.0,     -999.0,     -999.0,9,     -999.0,9,     -999.0,9,     -999.0,9,     -999.0,9,     -999.0,9,     -999.0,9,     -999.0,9
33RO20161119,        P18,     115,          1,          9,      11108,2,20161221,       0642,   -23.4995,  -103.0006,       3927,  1604.7,   2.6722,  34.5890,2,  34.5884,2,    132.2,2,   132.5,2,    98.9,2,    37.0,2,    0.00,2,   2.585,2,-999.0000,5,-999.0000,5,-999.0000,5,  2297.8,6,  2375.9,2,   7.5243,2,    25.00, -999.00,9,  -999.0,9,  -999.0,   0.0896,2, -999.00,9,    37.9,2,   39.80,2, -999.00,9,     -999.0,5, -999.00,9,  -999.0,9,     -999.0,     -999.0,9,     -999.0,9,     -999.0,     -999.0,9,     -999.0,     -999.0,9,     -999.0,     -999.0,     -999.0,9,     -999.0,9,     -999.0,9,     -999.0,9,     -999.0,9,     -999.0,9,     -999.0,9,     -999.0,9
33RO20161119,        P18,     115,          1,         10,      11109,2,20161221,       0642,   -23.4995,  -103.0006,       3927,  1389.2,   3.0742,  34.5569,2,  34.5585,2,    131.2,2,   131.7,2,    88.2,2,    36.8,2,    0.00,2,   2.592,2,   0.0009,2,   0.0006,2,   0.0000,2,  2288.1,2,  2362.3,2,   7.5209,2,    25.00, -999.00,9,  -999.0,9,  -999.0,   0.3416,2, -999.00,9,    38.4,2,   40.80,2, -999.00,9,    25.8361,2, -999.00,9,  -999.0,9,     -999.0,     -999.0,9,     -999.0,9,     -999.0,     -999.0,9,     -999.0,     -999.0,9,     -999.0,     -999.0,     -999.0,9,     -999.0,9,     -999.0,9,     -999.0,9,     -999.0,9,     -999.0,9,     -999.0,9,     -999.0,9
33RO20161119,        P18,     115,          1,         11,      11110,2,20161221,       0642,   -23.4995,  -103.0006,       3927,  1257.1,   3.4130,  34.5386,2,  34.5371,2,    127.1,2,   128.2,2,    81.7,2,    37.1,2,    0.00,2,   2.605,2,   0.0035,2,   0.0021,2,   0.0000,2,  2282.1,2,  2354.3,2,   7.5156,2,    25.00, -999.00,9,  -999.0,9,  -999.0,   0.3241,2, -999.00,9,    37.5,2,   39.60,2, -999.00,9,    27.0452,2, -999.00,9,  -999.0,9,     -999.0,     -999.0,9,     -999.0,9,     -999.0,     -999.0,9,     -999.0,     -999.0,9,     -999.0,     -999.0,     -999.0,9,     -999.0,9,     -999.0,9,     -999.0,9,     -999.0,9,     -999.0,9,     -999.0,9,     -999.0,9
33RO20161119,        P18,     115,          1,         12,      11111,2,20161221,       0642,   -23.4995,  -103.0006,       3927,  1115.2,   3.7348,  34.5091,2,  34.5101,2,    124.4,2,   125.4,2,    72.0,2,    37.4,2,    0.00,2,   2.619,2,   0.0081,2,   0.0049,2,   0.0000,2,  2273.4,2,  2343.2,2,   7.5078,2,    25.00, -999.00,9,  -999.0,9,  -999.0,   0.8741,2, -999.00,9,    37.3,2,   40.80,2, -999.00,9,    28.0493,2, -999.00,9,  -999.0,9,     -999.0,     -999.0,9,     -999.0,9,     -999.0,     -999.0,9,     -999.0,     -999.0,9,     -999.0,     -999.0,     -999.0,9,     -999.0,9,     -999.0,9,     -999.0,9,     -999.0,9,     -999.0,9,     -999.0,9,     -999.0,9
33RO20161119,        P18,     115,          1,         13,      11112,2,20161221,       0642,   -23.4995,  -103.0006,       3927,   983.9,   4.1207,  34.4632,2,  34.4627,2,    128.7,2,   129.6,2,    59.4,2,    36.8,2,    0.00,2,   2.588,2,   0.0256,2,   0.0147,2,   0.0000,2,  2258.4,2,  2331.4,2,   7.5143,6,    25.00, -999.00,9,  -999.0,9,  -999.0,   1.8983,2, -999.00,9,    37.2,2,   40.10,2, -999.00,9,    28.3276,2, -999.00,9,  -999.0,9,     -999.0,     -999.0,9,     -999.0,9,     -999.0,     -999.0,9,     -999.0,     -999.0,9,     -999.0,     -999.0,     -999.0,9,     -999.0,9,     -999.0,9,     -999.0,9,     -999.0,9,     -999.0,9,     -999.0,9,     -999.0,9
33RO20161119,        P18,     115,          1,         14,      11113,2,20161221,       0642,   -23.4995,  -103.0006,       3927,   851.5,   4.6547,  34.4060,2,  34.4074,2,    124.7,2,   125.4,2,    44.7,2,    37.3,2,    0.00,2,   2.613,2,   0.2836,6,   0.1437,6,   0.0438,6,  2247.8,2,  2312.0,6,   7.4931,2,    25.00, -999.00,9,  -999.0,9,  -999.0,   1.6877,2, -999.00,9,    36.8,2,   40.80,2, -999.00,9,    31.7184,2, -999.00,9,  -999.0,9,     -999.0,     -999.0,9,     -999.0,9,     -999.0,     -999.0,9,     -999.0,     -999.0,9,     -999.0,     -999.0,     -999.0,9,     -999.0,9,     -999.0,9,     -999.0,9,     -999.0,9,     -999.0,9,     -999.0,9,     -999.0,9
33RO20161119,        P18,     115,          1,         15,      11114,2,20161221,       0642,   -23.4995,  -103.0006,       3927,   729.1,   5.1323,  34.3352,2,  34.3481,2,    161.5,2,   163.1,2,    27.5,2,    33.1,2,    0.00,2,   2.301,2,   1.1953,2,   0.5868,2,   0.2142,2,  2210.6,2,  2293.2,2,   7.5515,2,    25.00, -999.00,9,  -999.0,9,  -999.0,   0.5103,2, -999.00,9,    40.3,2,   35.50,2, -999.00,9,    28.0792,2, -999.00,9,  -999.0,9,     -999.0,     -999.0,9,     -999.0,9,     -999.0,     -999.0,9,     -999.0,     -999.0,9,     -999.0,     -999.0,     -999.0,9,     -999.0,9,     -999.0,9,     -999.0,9,     -999.0,9,     -999.0,9,     -999.0,9,     -999.0,9
33RO20161119,        P18,     115,          1,         16,      11115,2,20161221,       0642,   -23.4995,  -103.0006,       3927,   609.5,   5.7810,  34.2904,2,  34.2919,2,    206.1,2,   206.1,2,    14.0,2,    27.5,2,    0.00,2,   1.964,2,   2.9174,2,   1.4438,2,   0.5887,2,  2175.0,2,  2282.8,2,   7.6227,2,    25.00, -999.00,9,  -999.0,9,  -999.0,   0.9291,2, -999.00,9,    38.3,2,   30.00,2, -999.00,9,    22.6534,2, -999.00,9,  -999.0,9,     -999.0,     -999.0,9,     -999.0,9,     -999.0,     -999.0,9,     -999.0,     -999.0,9,     -999.0,     -999.0,     -999.0,9,     -999.0,9,     -999.0,9,     -999.0,9,     -999.0,9,     -999.0,9,     -999.0,9,     -999.0,9
33RO20161119,        P18,     115,          1,         17,      11116,2,20161221,       0642,   -23.4995,  -103.0006,       3927,   505.0,   6.6650,  34.3237,2,  34.3355,2,    185.8,2,   186.0,2,    12.2,2,    27.0,2,    0.00,2,   1.966,2,   3.1441,2,   1.5982,2,   0.7623,2,  2182.4,2,  2281.4,2,   7.5971,2,    25.00, -999.00,9,  -999.0,9,  -999.0,   1.5228,2, -999.00,9,    39.9,2,   30.60,2, -999.00,9,    27.3943,2, -999.00,9,  -999.0,9,     -999.0,     -999.0,9,     -999.0,9,     -999.0,     -999.0,9,     -999.0,     -999.0,9,     -999.0,     -999.0,     -999.0,9,     -999.0,9,     -999.0,9,     -999.0,9,     -999.0,9,     -999.0,9,     -999.0,9,     -999.0,9
33RO20161119,        P18,     115,          1,         18,      11117,2,20161221,       0642,   -23.4995,  -103.0006,       3927,   404.9,   8.4566,  34.3431,2,  34.3467,2,    158.9,2,   151.3,2,    10.7,2,    24.6,2,    0.00,2,   1.977,2,   2.9643,2,   1.5629,2,   0.9605,2,  2188.0,2,  2276.5,2,   7.5727,2,    25.00, -999.00,9,  -999.0,9,  -999.0,    1.608,2, -999.00,9,    41.9,2,   28.70,2, -999.00,9,    31.5121,2, -999.00,9,  -999.0,9,     -999.0,     -999.0,9,     -999.0,9,     -999.0,     -999.0,9,     -999.0,     -999.0,9,     -999.0,     -999.0,     -999.0,9,     -999.0,9,     -999.0,9,     -999.0,9,     -999.0,9,     -999.0,9,     -999.0,9,     -999.0,9
33RO20161119,        P18,     115,          1,         19,      11083,2,20161221,       0642,   -23.4995,  -103.0006,       3927,   302.5,  12.7133,  34.5205,2,  34.4943,2,    193.8,2,   189.4,6,     2.6,2,    10.6,2,    0.01,2,   1.061,2,   2.9394,2,   1.6852,2,   1.4279,2,  2118.5,2,  2282.5,2,   7.7679,2,    25.00, -999.00,9,  -999.0,9,  -999.0,    1.794,2, -999.00,9,    44.4,2,   14.40,2, -999.00,9,    16.5792,2, -999.00,9,  -999.0,9,     -999.0,     -999.0,9,     -999.0,9,     -999.0,     -999.0,9,     -999.0,     -999.0,9,     -999.0,     -999.0,     -999.0,9,     -999.0,9,     -999.0,9,     -999.0,9,     -999.0,9,     -999.0,9,     -999.0,9,     -999.0,9
33RO20161119,        P18,     115,          1,         20,      11118,2,20161221,       0642,   -23.4995,  -103.0006,       3927,   217.1,  18.0479,  35.3124,2,  35.3025,2,    211.3,2,   209.6,2,     0.5,2,     0.3,2,    0.10,2,   0.357,2,   2.3097,2,   1.4043,2,   1.5965,2,  2087.5,2,  2326.0,2,   7.9249,2,    25.00, -999.00,9,  -999.0,9,  -999.0,   1.8708,2, -999.00,9,    52.3,2,    4.40,2, -999.00,9,     8.9546,2, -999.00,9,  -999.0,9,     -999.0,     -999.0,9,     -999.0,9,     -999.0,     -999.0,9,     -999.0,     -999.0,9,     -999.0,     -999.0,     -999.0,9,     -999.0,9,     -999.0,9,       0.53,2,     -999.0,9,     -999.0,9,     -999.0,9,     -999.0,9
33RO20161119,        P18,     115,          1,         21,      11119,2,20161221,       0642,   -23.4995,  -103.0006,       3927,   144.0,  20.7608,  35.8521,2,  35.8511,2,    223.3,2,   222.7,2,     0.4,2,     0.0,2,    0.00,2,   0.203,2,   2.0251,2,   1.2390,2,   1.5820,2,  2078.1,2,  2363.2,2,   7.9936,2,    25.00, -999.00,9,  -999.0,9,  -999.0,   0.0111,2, -999.00,9,    61.6,2,    3.70,2, -999.00,9,     7.6409,2, -999.00,9,  -999.0,9,     -999.0,     -999.0,9,     -999.0,9,     -999.0,     -999.0,9,     -999.0,     -999.0,9,     -999.0,     -999.0,     -999.0,9,     -999.0,9,     -999.0,9,       0.41,2,     -999.0,9,     -999.0,9,     -999.0,9,     -999.0,9
33RO20161119,        P18,     115,          1,         22,      11120,2,20161221,       0642,   -23.4995,  -103.0006,       3927,    69.2,  22.2045,  36.0897,2,  36.0911,2,    223.2,2,   223.0,2,     0.4,2,     0.0,2,    0.00,2,   0.239,2,   1.9463,2,   1.1904,2,   1.5750,2,  2081.2,2,  2382.1,2,   8.0117,2,    25.00, -999.00,9,  -999.0,9,  -999.0,        0,2, -999.00,9,    67.4,2,    3.80,2, -999.00,9,     7.4746,2, -999.00,9,  -999.0,9,     -999.0,     -999.0,9,     -999.0,9,     -999.0,     -999.0,9,     -999.0,     -999.0,9,     -999.0,     -999.0,     -999.0,9,     -999.0,9,     -999.0,9,       0.38,2,     -999.0,9,     -999.0,9,     -999.0,9,     -999.0,9
33RO20161119,        P18,     115,          1,         23,      11121,2,20161221,       0642,   -23.4995,  -103.0006,       3927,    40.4,  23.6270,  36.2832,2,  36.2841,2,    213.0,2,   213.5,2,     0.4,2,     0.0,2,    0.00,2,   0.231,2,   1.7908,2,   1.1153,2,   1.5030,2,  2090.4,2,  2395.0,2,   8.0159,2,    25.00, -999.00,9,  -999.0,9,  -999.0,   0.0101,2, -999.00,9,    72.1,2,    6.00,2, -999.00,9,     6.9615,2, -999.00,9,  -999.0,9,     -999.0,     -999.0,9,     -999.0,9,     -999.0,     -999.0,9,     -999.0,     -999.0,9,     -999.0,     -999.0,     -999.0,9,     -999.0,9,     -999.0,9,       0.48,2,     -999.0,9,     -999.0,9,     -999.0,9,     -999.0,9
33RO20161119,        P18,     115,          1,         24,      11122,2,20161221,       0642,   -23.4995,  -103.0006,       3927,     3.2,  24.4730,  36.3333,2,  36.3261,2,    208.2,2,   211.2,2,     0.4,2,     0.0,2,    0.00,2,   0.238,2,   1.7609,2,   1.0952,2,   1.4480,2,  2093.4,6,  2398.4,6,   8.0142,2,    25.00, -999.00,9,  -999.0,9,  -999.0,   0.0144,2, -999.00,9,    70.1,2,    4.50,2, -999.00,9,     6.9408,2, -999.00,9,  -999.0,9,     -999.0,     -999.0,9,     -999.0,9,     -999.0,     -999.0,9,     -999.0,     -999.0,9,     -999.0,     -999.0,     -999.0,9,     -999.0,9,     -999.0,9,       0.42,2,     -999.0,9,     -999.0,9,     -999.0,9,     -999.0,9