BOTTLE,20230606CCHSIOCBG
EXPOCODE,SECT_ID,STNNBR,CASTNO,SAMPNO,BTLNBR,BTLNBR_FLAG_W,DATE,TIME,LATITUDE,LONGITUDE,DEPTH,CTDPRS,CTDTMP,CTDSAL,CTDSAL_FLAG_W,SALNTY,SALNTY_FLAG_W,CTDOXY,CTDOXY_FLAG_W,OXYGEN,OXYGEN_FLAG_W,SILCAT,SILCAT_FLAG_W,NITRAT,NITRAT_FLAG_W,NITRIT,NITRIT_FLAG_W,PHSPHT,PHSPHT_FLAG_W,CFC-11,CFC-11_FLAG_W,CFC-12,CFC-12_FLAG_W,SF6,SF6_FLAG_W,TCARBN,TCARBN_FLAG_W,ALKALI,ALKALI_FLAG_W,PH_SWS,PH_SWS_FLAG_W,PH_TMP,DELC13,DELC13_FLAG_W,DELC14,DELC14_FLAG_W,C14ERR,CCL4,CCL4_FLAG_W,POC,POC_FLAG_W,DOC,DOC_FLAG_W,TDN,TDN_FLAG_W,PON,PON_FLAG_W,N2O,N2O_FLAG_W,D15N_NO3,D15N_NO3_FLAG_W,14C-DOC,14C-DOC_FLAG_W,14C-DOCERR,13C-DOC,13C-DOC_FLAG_W,N2/ARGON_UNSTRIPPED,N2/ARGON_UNSTRIPPED_FLAG_W,N2/ARGON_UNSTRIPPED_ERROR,N2/ARGON,N2/ARGON_FLAG_W,N2/ARGON_ERROR,D15N_N2,D15N_N2_FLAG_W,D15N_N2_ERROR,D15N_NO3_ERROR,D15N_NO2+NO3,D15N_NO2+NO3_FLAG_W,D18O_NO2+NO3,D18O_NO2+NO3_FLAG_W,D18O_NO3,D18O_NO3_FLAG_W,TDP,TDP_FLAG_W,N2O_ALT_1,N2O_ALT_1_FLAG_W,D15N_N2O,D15N_N2O_FLAG_W,D18O_N2O,D18O_N2O_FLAG_W,D15N_ALPHA_N2O,D15N_ALPHA_N2O_FLAG_W
,,,,,,,,,,,METERS,DBAR,ITS-90,PSS-78,,PSS-78,,UMOL/KG,,UMOL/KG,,UMOL/KG,,UMOL/KG,,UMOL/KG,,UMOL/KG,,PMOL/KG,,PMOL/KG,,FMOL/KG,,UMOL/KG,,UMOL/KG,,,,DEG C,/MILLE,,/MILLE,,/MILLE,PMOL/KG,,UG/KG,,UMOL/KG,,UMOL/KG,,UG/KG,,NMOL/KG,,/MILLE,,/MILLE,,/MILLE,/MILLE,,,,,,,,/MILLE,,/MILLE,/MILLE,/MILLE,,/MILLE,,/MILLE,,UMOL/KG,,NMOL/L,,/MILLE,,/MILLE,,/MILLE,
33RO20161119,        P18,     156,          1,          1,      11010,2,20170111,       1057,   -44.0000,  -102.9999,       3942,  3996.0,   1.1563,  34.7092,2,  34.7087,2,    194.0,2,   193.9,2,   122.4,2,    32.4,2,    0.00,2,   2.288,2,   0.0048,2,   0.0027,2,   0.0000,2,  2279.2,6,  2377.6,2,   7.6050,6,    25.00, -999.00,9,  -999.0,9,  -999.0,   0.1066,2, -999.00,9,  -999.0,9, -999.00,9, -999.00,9,    18.7024,2,    4.75,2,  -999.0,9,     -999.0,     -999.0,9,     -999.0,9,     -999.0,     -999.0,9,     -999.0,     -999.0,9,     -999.0,     -999.0,       4.75,2,       1.91,2,       1.91,2,     -999.0,9,     -999.0,9,     -999.0,9,     -999.0,9,     -999.0,9
33RO20161119,        P18,     156,          1,          2,      11101,2,20170111,       1057,   -44.0000,  -102.9999,       3942,  3699.0,   1.2014,  34.7091,2,  34.7086,2,    191.3,2,   191.0,2,   121.1,2,    32.5,2,    0.00,2,   2.290,2,   0.0031,2,   0.0017,2,   0.0191,2,  2278.7,2,  2380.5,2,   7.6049,2,    25.00, -999.00,9,  -999.0,9,  -999.0,   0.1198,2, -999.00,9,  -999.0,9, -999.00,9, -999.00,9,    18.8253,2,    4.79,2,  -999.0,9,     -999.0,     -999.0,9,     -999.0,9,     -999.0,     -999.0,9,     -999.0,     -999.0,9,     -999.0,     -999.0,       4.79,2,       2.09,2,       2.09,2,     -999.0,9,     -999.0,9,     -999.0,9,     -999.0,9,     -999.0,9
33RO20161119,        P18,     156,          1,          3,      11102,2,20170111,       1057,   -44.0000,  -102.9999,       3942,  3400.1,   1.4435,  34.7102,2,  34.7091,2,    184.7,2,   184.4,2,   114.4,6,    32.6,6,    0.00,6,   2.290,6,   0.0122,2,   0.0062,2,   0.0228,2,  2278.3,2,  2378.3,2,   7.5965,2,    25.00, -999.00,9,  -999.0,9,  -999.0,   0.1675,2, -999.00,9,  -999.0,9, -999.00,9, -999.00,9,    19.4135,2,    4.88,2,  -999.0,9,     -999.0,     -999.0,9,     -999.0,9,     -999.0,     -999.0,9,     -999.0,     -999.0,9,     -999.0,     -999.0,       4.88,2,       1.89,2,       1.89,2,     -999.0,9,     -999.0,9,     -999.0,9,     -999.0,9,     -999.0,9
33RO20161119,        P18,     156,          1,          4,      11103,2,20170111,       1057,   -44.0000,  -102.9999,       3942,  3074.3,   1.6253,  34.7070,2,  34.7075,2,    178.3,2,   178.5,6,   110.2,6,    32.7,6,    0.00,6,   2.304,6,   0.0120,2,   0.0058,2,   0.0000,2,  2277.4,2,  2375.2,2,   7.5911,2,    25.00, -999.00,9,  -999.0,9,  -999.0,   0.1558,2, -999.00,9,  -999.0,9, -999.00,9, -999.00,9,     19.587,2,    4.96,2,  -999.0,9,     -999.0,     -999.0,9,     -999.0,9,     -999.0,     -999.0,9,     -999.0,     -999.0,9,     -999.0,     -999.0,       4.96,2,       2.02,2,       2.02,2,     -999.0,9,     -999.0,9,     -999.0,9,     -999.0,9,     -999.0,9
33RO20161119,        P18,     156,          1,          5,      11104,2,20170111,       1057,   -44.0000,  -102.9999,       3942,  2775.5,   1.7625,  34.7031,2,  34.7026,2,    174.4,2,   174.3,2,   106.9,6,    32.9,6,    0.00,6,   2.312,6,   0.0302,2,   0.0141,2,   0.0000,2,  2277.1,2,  2374.1,2,   7.5846,2,    25.00, -999.00,9,  -999.0,9,  -999.0,   0.1908,2, -999.00,9,  -999.0,9, -999.00,9, -999.00,9,     20.104,2,    5.04,2,  -999.0,9,     -999.0,     -999.0,9,     -999.0,9,     -999.0,     -999.0,9,     -999.0,     -999.0,9,     -999.0,     -999.0,       5.04,2,       1.99,2,       1.99,2,     -999.0,9,     -999.0,9,     -999.0,9,     -999.0,9,     -999.0,9
33RO20161119,        P18,     156,          1,          6,      11105,2,20170111,       1057,   -44.0000,  -102.9999,       3942,  2459.5,   1.9752,  34.6930,2,  34.6994,4,    170.5,2,   170.6,2,    99.6,6,    33.0,6,    0.01,6,   2.319,6,   0.0481,2,   0.0225,2,   0.0000,2,  2274.9,2,  2367.6,2,   7.5771,2,    25.00, -999.00,9,  -999.0,9,  -999.0,   0.3929,2, -999.00,9,  -999.0,9, -999.00,9, -999.00,9,    20.7388,2,    5.09,2,  -999.0,9,     -999.0,     -999.0,9,     -999.0,9,     -999.0,     -999.0,9,     -999.0,     -999.0,9,     -999.0,     -999.0,       5.09,2,       1.93,2,       1.93,2,     -999.0,9,     -999.0,9,     -999.0,9,     -999.0,9,     -999.0,9
33RO20161119,        P18,     156,          1,          7,      11106,2,20170111,       1057,   -44.0000,  -102.9999,       3942,  2160.6,   2.1892,  34.6561,2,  34.6558,2,    163.8,2,   163.6,6,    94.4,2,    33.7,2,    0.00,2,   2.369,2,   0.0499,2,   0.0229,2,   0.0000,2,  2274.5,2,  2362.6,2,   7.5610,2,    25.00, -999.00,9,  -999.0,9,  -999.0,    0.967,2, -999.00,9,  -999.0,9, -999.00,9, -999.00,9,    21.5783,2,    5.18,2,  -999.0,9,     -999.0,     -999.0,9,     -999.0,9,     -999.0,     -999.0,9,     -999.0,     -999.0,9,     -999.0,     -999.0,       5.18,2,       1.94,2,       1.94,2,     -999.0,9,     -999.0,9,     -999.0,9,     -999.0,9,     -999.0,9
33RO20161119,        P18,     156,          1,          8,      11107,2,20170111,       1057,   -44.0000,  -102.9999,       3942,  1849.7,   2.4583,  34.5977,2,  34.6133,4,    155.4,2,   154.8,2,    87.3,6,    34.9,6,    0.00,6,   2.457,6,   0.0688,6,   0.0325,6,   0.0143,6,  2273.5,2,  2355.2,2,   7.5447,2,    25.00, -999.00,9,  -999.0,9,  -999.0,   1.5042,2, -999.00,9,  -999.0,9, -999.00,9, -999.00,9,     22.874,2,     5.4,2,  -999.0,9,     -999.0,     -999.0,9,     -999.0,9,     -999.0,     -999.0,9,     -999.0,     -999.0,9,     -999.0,     -999.0,        5.4,2,       1.86,2,       1.86,2,     -999.0,9,     -999.0,9,     -999.0,9,     -999.0,9,     -999.0,9
33RO20161119,        P18,     156,          1,          9,      11108,2,20170111,       1057,   -44.0000,  -102.9999,       3942,  1539.5,   2.8919,  34.5222,2,  34.5206,2,    144.0,2,   143.8,2,    76.8,2,    36.4,2,    0.00,2,   2.561,2,   0.0975,2,   0.0452,2,   0.0265,2,  2271.8,6,  2340.8,2,   7.5229,2,    25.00, -999.00,9,  -999.0,9,  -999.0,   2.4777,2, -999.00,9,  -999.0,9, -999.00,9, -999.00,9,    25.2596,2,    5.68,2,  -999.0,9,     -999.0,     -999.0,9,     -999.0,9,     -999.0,     -999.0,9,     -999.0,     -999.0,9,     -999.0,     -999.0,       5.68,2,        2.1,2,        2.1,2,     -999.0,9,     -999.0,9,     -999.0,9,     -999.0,9,     -999.0,9
33RO20161119,        P18,     156,          1,         10,      11109,2,20170111,       1057,   -44.0000,  -102.9999,       3942,  1349.5,   3.1730,  34.4541,2,  34.4531,2,    153.1,2,   152.9,2,    63.7,2,    35.9,2,    0.00,2,   2.517,2,   0.2152,2,   0.1048,2,   0.0331,2,  2253.9,2,  2327.3,2,   7.5277,2,    25.00, -999.00,9,  -999.0,9,  -999.0,   2.8381,2, -999.00,9,  -999.0,9, -999.00,9, -999.00,9,    24.4804,2,    5.67,2,  -999.0,9,     -999.0,     -999.0,9,     -999.0,9,     -999.0,     -999.0,9,     -999.0,     -999.0,9,     -999.0,     -999.0,       5.67,2,       2.14,2,       2.14,2,     -999.0,9,     -999.0,9,     -999.0,9,     -999.0,9,     -999.0,9
33RO20161119,        P18,     156,          1,         11,      11110,2,20170111,       1057,   -44.0000,  -102.9999,       3942,  1208.0,   3.4413,  34.3821,2,  34.3820,2,    177.6,2,   177.4,2,    49.1,2,    33.9,2,    0.01,2,   2.371,2,   0.7666,2,   0.3738,2,   0.1119,2,  2227.5,2,  2308.0,2,   7.5611,2,    25.00, -999.00,9,  -999.0,9,  -999.0,   3.2333,2, -999.00,9,  -999.0,9, -999.00,9, -999.00,9,    22.1269,2,    5.55,2,  -999.0,9,     -999.0,     -999.0,9,     -999.0,9,     -999.0,     -999.0,9,     -999.0,     -999.0,9,     -999.0,     -999.0,       5.55,2,       2.12,2,       2.12,2,     -999.0,9,     -999.0,9,     -999.0,9,     -999.0,9,     -999.0,9
33RO20161119,        P18,     156,          1,         12,      11111,2,20170111,       1057,   -44.0000,  -102.9999,       3942,  1070.6,   3.8191,  34.3337,2,  34.3396,2,    192.9,2,   193.4,2,    38.7,2,    32.3,2,    0.00,2,   2.260,2,   1.3501,2,   0.6620,2,   0.2324,2,  2209.8,2,  2302.4,6,   7.5848,2,    25.00, -999.00,9,  -999.0,9,  -999.0,   3.2171,2, -999.00,9,  -999.0,9, -999.00,9, -999.00,9,    20.2152,2,    5.53,2,  -999.0,9,     -999.0,     -999.0,9,     -999.0,9,     -999.0,     -999.0,9,     -999.0,     -999.0,9,     -999.0,     -999.0,       5.53,2,       2.24,2,       2.24,2,     -999.0,9,     -999.0,9,     -999.0,9,     -999.0,9,     -999.0,9
33RO20161119,        P18,     156,          1,         13,      11112,2,20170111,       1057,   -44.0000,  -102.9999,       3942,   940.3,   4.4324,  34.2921,2,  34.2949,2,    208.8,2,   210.5,2,    27.9,2,    30.1,2,    0.01,2,   2.110,2,   2.1603,2,   1.0929,2,   0.5477,2,  2192.4,2,  2290.2,2,   7.6129,2,    25.00, -999.00,9,  -999.0,9,  -999.0,   3.3161,2, -999.00,9,  -999.0,9, -999.00,9, -999.00,9,     18.538,2,    5.57,2,  -999.0,9,     -999.0,     -999.0,9,     -999.0,9,     -999.0,     -999.0,9,     -999.0,     -999.0,9,     -999.0,     -999.0,       5.57,2,       2.31,2,       2.31,2,     -999.0,9,     -999.0,9,     -999.0,9,     -999.0,9,     -999.0,9
33RO20161119,        P18,     156,          1,         14,      11113,2,20170111,       1057,   -44.0000,  -102.9999,       3942,   809.7,   5.0217,  34.2656,2,  34.2672,2,    224.4,2,   224.5,2,    19.0,2,    27.6,2,    0.00,2,   1.949,2,   2.8934,2,   1.4833,2,   0.8168,2,  2172.8,2,  2280.1,2,   7.6452,2,    25.00, -999.00,9,  -999.0,9,  -999.0,   3.3083,2, -999.00,9,  -999.0,9, -999.00,9, -999.00,9,    17.1213,2,    5.67,2,  -999.0,9,     -999.0,     -999.0,9,     -999.0,9,     -999.0,     -999.0,9,     -999.0,     -999.0,9,     -999.0,     -999.0,       5.67,2,       2.71,2,       2.71,2,     -999.0,9,     -999.0,9,     -999.0,9,     -999.0,9,     -999.0,9
33RO20161119,        P18,     156,          1,         15,      11114,2,20170111,       1057,   -44.0000,  -102.9999,       3942,   689.3,   5.4597,  34.2485,2,  34.2483,2,    245.3,2,   246.0,2,    12.4,2,    24.8,2,    0.00,2,   1.771,2,   3.5643,2,   1.8986,2,   1.2450,2,  2155.6,2,  2271.5,3,   7.6784,2,    25.00, -999.00,9,  -999.0,9,  -999.0,   3.3707,2, -999.00,9,  -999.0,9, -999.00,9, -999.00,9,     15.242,2,    5.73,2,  -999.0,9,     -999.0,     -999.0,9,     -999.0,9,     -999.0,     -999.0,9,     -999.0,     -999.0,9,     -999.0,     -999.0,       5.73,2,       3.05,2,       3.05,2,     -999.0,9,     -999.0,9,     -999.0,9,     -999.0,9,     -999.0,9
33RO20161119,        P18,     156,          1,         16,      11115,2,20170111,       1057,   -44.0000,  -102.9999,       3942,   576.0,   5.8463,  34.2550,2,  34.2563,2,    258.8,2,   258.9,2,     9.3,2,    22.9,2,    0.00,2,   1.642,2,   3.9226,6,   2.1326,6,   1.6620,6,  2146.4,2,  2275.0,2,   7.6951,2,    25.00, -999.00,9,  -999.0,9,  -999.0,   3.2091,2, -999.00,9,  -999.0,9, -999.00,9, -999.00,9,    14.3262,2,    5.87,2,  -999.0,9,     -999.0,     -999.0,9,     -999.0,9,     -999.0,     -999.0,9,     -999.0,     -999.0,9,     -999.0,     -999.0,       5.87,2,       3.27,2,       3.27,2,     -999.0,9,     -999.0,9,     -999.0,9,     -999.0,9,     -999.0,9
33RO20161119,        P18,     156,          1,         17,      11116,2,20170111,       1057,   -44.0000,  -102.9999,       3942,   470.1,   6.1246,  34.2682,2,  34.2689,2,    264.3,2,   264.8,6,     7.7,2,    21.6,2,    0.01,2,   1.567,2,   4.0174,2,   2.2252,2,   1.8622,2,  2142.3,2,  2274.4,2,   7.7080,2,    25.00, -999.00,9,  -999.0,9,  -999.0,   3.5694,2, -999.00,9,  -999.0,9, -999.00,9, -999.00,9,    14.1598,2,    5.97,2,  -999.0,9,     -999.0,     -999.0,9,     -999.0,9,     -999.0,     -999.0,9,     -999.0,     -999.0,9,     -999.0,     -999.0,       5.97,2,       3.61,2,       3.61,2,     -999.0,9,     -999.0,9,     -999.0,9,     -999.0,9,     -999.0,9
33RO20161119,        P18,     156,          1,         18,      11117,2,20170111,       1057,   -44.0000,  -102.9999,       3942,   361.9,   6.3501,  34.2745,2,  34.2734,2,    265.1,2,   266.6,2,     6.7,2,    20.8,2,    0.01,2,   1.519,2,   4.0667,2,   2.2619,2,   2.0466,2,  2138.8,2,  2272.7,2,   7.7160,2,    25.00, -999.00,9,  -999.0,9,  -999.0,     3.51,2, -999.00,9,  -999.0,9, -999.00,9, -999.00,9,    14.6493,2,    5.94,2,  -999.0,9,     -999.0,     -999.0,9,     -999.0,9,     -999.0,     -999.0,9,     -999.0,     -999.0,9,     -999.0,     -999.0,       5.94,2,        3.7,2,        3.7,2,     -999.0,9,     -999.0,9,     -999.0,9,     -999.0,9,     -999.0,9
33RO20161119,        P18,     156,          1,         19,      11083,2,20170111,       1057,   -44.0000,  -102.9999,       3942,   276.1,   6.6318,  34.2841,2,  34.2838,2,    265.7,2,   267.3,2,     5.8,2,    20.1,2,    0.01,2,   1.477,2,   4.0295,2,   2.2692,2,   2.1778,2,  2138.4,2,  2273.5,2,   7.7168,2,    25.00, -999.00,9,  -999.0,9,  -999.0,   0.0321,2, -999.00,9,  -999.0,9, -999.00,9, -999.00,9,    15.3874,2,    5.89,2,  -999.0,9,     -999.0,     -999.0,9,     -999.0,9,     -999.0,     -999.0,9,     -999.0,     -999.0,9,     -999.0,     -999.0,       5.94,2,       3.85,2,       3.83,2,     -999.0,9,     -999.0,9,     -999.0,9,     -999.0,9,     -999.0,9
33RO20161119,        P18,     156,          1,         20,      11118,2,20170111,       1057,   -44.0000,  -102.9999,       3942,   195.8,   6.8067,  34.2521,2,  34.2512,2,    263.9,2,   263.5,2,     5.0,2,    19.8,2,    0.01,2,   1.467,2,   4.0519,2,   2.2818,2,   2.2163,2,  2136.3,2,  2272.1,2,   7.7149,2,    25.00, -999.00,9,  -999.0,9,  -999.0,   0.0339,2, -999.00,9,  -999.0,9, -999.00,9, -999.00,9,    18.1796,2,    5.94,2,  -999.0,9,     -999.0,     -999.0,9,     -999.0,9,     -999.0,     -999.0,9,     -999.0,     -999.0,9,     -999.0,     -999.0,       5.94,2,       4.19,2,       4.26,2,     -999.0,9,     -999.0,9,     -999.0,9,     -999.0,9,     -999.0,9
33RO20161119,        P18,     156,          1,         21,      11119,2,20170111,       1057,   -44.0000,  -102.9999,       3942,   126.3,   8.0226,  34.1241,2,  34.1253,2,    273.4,2,   273.6,2,     2.1,2,    15.5,2,    0.30,2,   1.236,2,   3.7888,2,   2.1613,2,   2.4750,2,  2109.1,2,  2265.5,2,   7.7641,6,    25.00, -999.00,9,  -999.0,9,  -999.0,   0.0429,2, -999.00,9,  -999.0,9, -999.00,9, -999.00,9,     14.827,2,    8.28,2,  -999.0,9,     -999.0,     -999.0,9,     -999.0,9,     -999.0,     -999.0,9,     -999.0,     -999.0,9,     -999.0,     -999.0,       7.68,2,       5.78,2,       5.71,2,     -999.0,9,     -999.0,9,     -999.0,9,     -999.0,9,     -999.0,9
33RO20161119,        P18,     156,          1,         22,      11120,2,20170111,       1057,   -44.0000,  -102.9999,       3942,    61.0,  10.9706,  34.0218,2,  34.0236,2,    277.9,2,   278.8,2,     1.1,2,    11.6,2,    0.17,2,   1.010,2,   3.3311,2,   1.9340,2,   2.3735,2,  2077.0,6,  2258.5,6,   7.8307,2,    25.00, -999.00,9,  -999.0,9,  -999.0,   0.0413,2, -999.00,9,  -999.0,9, -999.00,9, -999.00,9,    10.5498,2,   12.02,2,  -999.0,9,     -999.0,     -999.0,9,     -999.0,9,     -999.0,     -999.0,9,     -999.0,     -999.0,9,     -999.0,     -999.0,      11.23,2,       7.72,2,       8.28,2,     -999.0,9,     -999.0,9,     -999.0,9,     -999.0,9,     -999.0,9
33RO20161119,        P18,     156,          1,         23,      11121,2,20170111,       1057,   -44.0000,  -102.9999,       3942,    26.5,  11.9445,  34.0132,2,-999.0000,9,    273.1,2,  -999.0,9,  -999.0,9,  -999.0,9, -999.00,9,-999.000,9,-999.0000,9,-999.0000,9,-999.0000,9,  -999.0,9,  -999.0,9,-999.0000,9,  -999.00, -999.00,9,  -999.0,9,  -999.0,-999.0000,9, -999.00,9,  -999.0,9, -999.00,9, -999.00,9,     -999.0,9,   13.32,2,  -999.0,9,     -999.0,     -999.0,9,     -999.0,9,     -999.0,     -999.0,9,     -999.0,     -999.0,9,     -999.0,     -999.0,      11.79,2,       7.98,2,       7.73,2,     -999.0,9,     -999.0,9,     -999.0,9,     -999.0,9,     -999.0,9
33RO20161119,        P18,     156,          1,         24,      11122,2,20170111,       1057,   -44.0000,  -102.9999,       3942,     5.6,  12.1304,  33.9931,2,  33.9930,2,    270.1,2,   271.9,2,     0.9,2,    11.1,2,    0.22,2,   0.976,2,   3.1225,2,   1.8301,2,   2.2961,2,  2071.4,2,  2259.6,2,   7.8438,2,    25.00, -999.00,9,  -999.0,9,  -999.0,   0.0545,2, -999.00,9,  -999.0,9, -999.00,9, -999.00,9,     9.7427,2, -999.00,9,  -999.0,9,     -999.0,     -999.0,9,     -999.0,9,     -999.0,     -999.0,9,     -999.0,     -999.0,9,     -999.0,     -999.0,     -999.0,9,     -999.0,9,     -999.0,9,     -999.0,9,     -999.0,9,     -999.0,9,     -999.0,9,     -999.0,9