BOTTLE,20230606CCHSIOCBG
EXPOCODE,SECT_ID,STNNBR,CASTNO,SAMPNO,BTLNBR,BTLNBR_FLAG_W,DATE,TIME,LATITUDE,LONGITUDE,DEPTH,CTDPRS,CTDTMP,CTDSAL,CTDSAL_FLAG_W,SALNTY,SALNTY_FLAG_W,CTDOXY,CTDOXY_FLAG_W,OXYGEN,OXYGEN_FLAG_W,SILCAT,SILCAT_FLAG_W,NITRAT,NITRAT_FLAG_W,NITRIT,NITRIT_FLAG_W,PHSPHT,PHSPHT_FLAG_W,CFC-11,CFC-11_FLAG_W,CFC-12,CFC-12_FLAG_W,SF6,SF6_FLAG_W,TCARBN,TCARBN_FLAG_W,ALKALI,ALKALI_FLAG_W,PH_SWS,PH_SWS_FLAG_W,PH_TMP,DELC13,DELC13_FLAG_W,DELC14,DELC14_FLAG_W,C14ERR,CCL4,CCL4_FLAG_W,POC,POC_FLAG_W,DOC,DOC_FLAG_W,TDN,TDN_FLAG_W,PON,PON_FLAG_W,N2O,N2O_FLAG_W,D15N_NO3,D15N_NO3_FLAG_W,14C-DOC,14C-DOC_FLAG_W,14C-DOCERR,13C-DOC,13C-DOC_FLAG_W,N2/ARGON_UNSTRIPPED,N2/ARGON_UNSTRIPPED_FLAG_W,N2/ARGON_UNSTRIPPED_ERROR,N2/ARGON,N2/ARGON_FLAG_W,N2/ARGON_ERROR,D15N_N2,D15N_N2_FLAG_W,D15N_N2_ERROR,D15N_NO3_ERROR,D15N_NO2+NO3,D15N_NO2+NO3_FLAG_W,D18O_NO2+NO3,D18O_NO2+NO3_FLAG_W,D18O_NO3,D18O_NO3_FLAG_W,TDP,TDP_FLAG_W,N2O_ALT_1,N2O_ALT_1_FLAG_W,D15N_N2O,D15N_N2O_FLAG_W,D18O_N2O,D18O_N2O_FLAG_W,D15N_ALPHA_N2O,D15N_ALPHA_N2O_FLAG_W
,,,,,,,,,,,METERS,DBAR,ITS-90,PSS-78,,PSS-78,,UMOL/KG,,UMOL/KG,,UMOL/KG,,UMOL/KG,,UMOL/KG,,UMOL/KG,,PMOL/KG,,PMOL/KG,,FMOL/KG,,UMOL/KG,,UMOL/KG,,,,DEG C,/MILLE,,/MILLE,,/MILLE,PMOL/KG,,UG/KG,,UMOL/KG,,UMOL/KG,,UG/KG,,NMOL/KG,,/MILLE,,/MILLE,,/MILLE,/MILLE,,,,,,,,/MILLE,,/MILLE,/MILLE,/MILLE,,/MILLE,,/MILLE,,UMOL/KG,,NMOL/L,,/MILLE,,/MILLE,,/MILLE,
33RO20161119,        P18,     148,          1,          1,      11010,2,20170109,       0654,   -40.0000,  -102.9992,       3964,  4012.6,   1.2191,  34.7080,2,  34.7116,2,    191.6,2,   190.9,2,   122.8,2,    33.1,2,    0.01,2,   2.339,2,   0.0015,2,   0.0004,2,   0.0000,2,  2279.7,6,  2369.2,4,   7.6035,2,    25.00, -999.00,9,  -999.0,9,  -999.0,    0.034,2, -999.00,9,  -999.0,9, -999.00,9, -999.00,9,    19.2549,2,    4.87,2,  -999.0,9,     -999.0,     -999.0,9,     -999.0,9,     -999.0,     -999.0,9,     -999.0,     -999.0,9,     -999.0,     -999.0,       4.87,2,       1.92,2,       1.92,2,     -999.0,9,     -999.0,9,     -999.0,9,     -999.0,9,     -999.0,9
33RO20161119,        P18,     148,          1,          2,      11101,2,20170109,       0654,   -40.0000,  -102.9992,       3964,  3830.0,   1.2306,  34.7078,2,  34.7081,2,    189.6,2,   189.8,2,   121.8,2,    33.1,2,    0.01,2,   2.330,2,   0.0008,2,   0.0013,2,   0.0000,2,  2277.5,2,  2380.5,6,   7.6047,2,    25.00, -999.00,9,  -999.0,9,  -999.0,   0.0702,2, -999.00,9,  -999.0,9, -999.00,9, -999.00,9,    19.5536,2,    4.85,2,  -999.0,9,     -999.0,     -999.0,9,     -999.0,9,     -999.0,     -999.0,9,     -999.0,     -999.0,9,     -999.0,     -999.0,       4.85,2,       2.17,2,       2.17,2,     -999.0,9,     -999.0,9,     -999.0,9,     -999.0,9,     -999.0,9
33RO20161119,        P18,     148,          1,          3,      11102,2,20170109,       0654,   -40.0000,  -102.9992,       3964,  3655.5,   1.3199,  34.7071,2,  34.7065,2,    186.6,2,   186.4,2,   119.6,6,    33.2,6,    0.01,6,   2.339,6,   0.0017,2,   0.0012,2,   0.0000,2,  2278.1,2,  2382.8,2,   7.6010,6,    25.00, -999.00,9,  -999.0,9,  -999.0,   0.1419,2, -999.00,9,  -999.0,9, -999.00,9, -999.00,9,    19.8484,2,    4.91,2,  -999.0,9,     -999.0,     -999.0,9,     -999.0,9,     -999.0,     -999.0,9,     -999.0,     -999.0,9,     -999.0,     -999.0,       4.91,2,       1.92,2,       1.92,2,     -999.0,9,     -999.0,9,     -999.0,9,     -999.0,9,     -999.0,9
33RO20161119,        P18,     148,          1,          4,      11103,2,20170109,       0654,   -40.0000,  -102.9992,       3964,  3330.7,   1.5946,  34.7048,2,  34.7047,2,    177.9,2,   177.7,2,   113.8,6,    33.4,6,    0.01,6,   2.370,6,   0.0080,2,   0.0048,2,   0.0000,2,  2280.7,2,  2380.1,2,   7.5914,2,    25.00, -999.00,9,  -999.0,9,  -999.0,   0.1127,2, -999.00,9,  -999.0,9, -999.00,9, -999.00,9,    20.2923,2,     5.0,2,  -999.0,9,     -999.0,     -999.0,9,     -999.0,9,     -999.0,     -999.0,9,     -999.0,     -999.0,9,     -999.0,     -999.0,        5.0,2,       1.93,2,       1.93,2,     -999.0,9,     -999.0,9,     -999.0,9,     -999.0,9,     -999.0,9
33RO20161119,        P18,     148,          1,          5,      11104,2,20170109,       0654,   -40.0000,  -102.9992,       3964,  3005.5,   1.7347,  34.6993,2,  34.7006,2,    172.4,2,   172.4,2,   110.9,6,    33.6,6,    0.01,6,   2.386,6,   0.0111,2,   0.0052,2,   0.0432,2,  2279.7,2,  2379.1,2,   7.5846,2,    25.00, -999.00,9,  -999.0,9,  -999.0,   0.1382,2, -999.00,9,  -999.0,9, -999.00,9, -999.00,9,    20.6294,2,    5.08,2,  -999.0,9,     -999.0,     -999.0,9,     -999.0,9,     -999.0,     -999.0,9,     -999.0,     -999.0,9,     -999.0,     -999.0,       5.08,2,       1.96,2,       1.96,2,     -999.0,9,     -999.0,9,     -999.0,9,     -999.0,9,     -999.0,9
33RO20161119,        P18,     148,          1,          6,      11105,2,20170109,       0654,   -40.0000,  -102.9992,       3964,  2685.5,   1.7946,  34.6917,2,  34.6982,4,    167.7,2,   167.5,2,   111.2,6,    34.0,6,    0.01,6,   2.413,6,   0.0176,2,   0.0097,2,   0.0000,2,  2285.6,2,  2377.7,2,   7.5803,2,    25.00, -999.00,9,  -999.0,9,  -999.0,   0.2662,2, -999.00,9,  -999.0,9, -999.00,9, -999.00,9,    20.8354,2,    5.12,2,  -999.0,9,     -999.0,     -999.0,9,     -999.0,9,     -999.0,     -999.0,9,     -999.0,     -999.0,9,     -999.0,     -999.0,       5.12,2,       1.93,2,       1.93,2,     -999.0,9,     -999.0,9,     -999.0,9,     -999.0,9,     -999.0,9
33RO20161119,        P18,     148,          1,          7,      11106,2,20170109,       0654,   -40.0000,  -102.9992,       3964,  2364.6,   1.9185,  34.6872,2,  34.6864,2,    166.4,2,   166.8,2,   105.5,2,    33.8,2,    0.02,2,   2.408,2,   0.0305,2,   0.0146,2,   0.0000,2,  2281.1,2,  2371.2,2,   7.5745,2,    25.00, -999.00,9,  -999.0,9,  -999.0,   0.3041,2, -999.00,9,  -999.0,9, -999.00,9, -999.00,9,    21.1161,2,    5.16,2,  -999.0,9,     -999.0,     -999.0,9,     -999.0,9,     -999.0,     -999.0,9,     -999.0,     -999.0,9,     -999.0,     -999.0,       5.16,2,       1.87,2,       1.87,2,     -999.0,9,     -999.0,9,     -999.0,9,     -999.0,9,     -999.0,9
33RO20161119,        P18,     148,          1,          8,      11107,2,20170109,       0654,   -40.0000,  -102.9992,       3964,  2044.3,   2.1903,  34.6499,2,  34.6492,2,    162.4,2,   161.9,2,    95.5,2,    34.4,2,    0.02,2,   2.437,2,   0.0556,6,   0.0285,6,   0.0303,6,  2273.9,2,  2360.5,2,   7.5642,2,    25.00, -999.00,9,  -999.0,9,  -999.0,   0.5841,2, -999.00,9,  -999.0,9, -999.00,9, -999.00,9,     21.828,2,    5.21,2,  -999.0,9,     -999.0,     -999.0,9,     -999.0,9,     -999.0,     -999.0,9,     -999.0,     -999.0,9,     -999.0,     -999.0,       5.21,2,       2.09,2,       2.09,2,     -999.0,9,     -999.0,9,     -999.0,9,     -999.0,9,     -999.0,9
33RO20161119,        P18,     148,          1,          9,      11108,2,20170109,       0654,   -40.0000,  -102.9992,       3964,  1684.8,   2.6065,  34.5690,2,  34.5673,2,    150.4,2,   150.8,2,    84.7,2,    35.8,2,    0.01,2,   2.554,2,   0.0646,2,   0.0328,2,   0.0000,2,  2271.7,2,  2350.0,2,   7.5395,2,    25.00, -999.00,9,  -999.0,9,  -999.0,   1.8225,2, -999.00,9,  -999.0,9, -999.00,9, -999.00,9,    24.1226,2,    5.52,2,  -999.0,9,     -999.0,     -999.0,9,     -999.0,9,     -999.0,     -999.0,9,     -999.0,     -999.0,9,     -999.0,     -999.0,       5.52,2,       2.08,2,       2.08,2,     -999.0,9,     -999.0,9,     -999.0,9,     -999.0,9,     -999.0,9
33RO20161119,        P18,     148,          1,         10,      11109,2,20170109,       0654,   -40.0000,  -102.9992,       3964,  1469.8,   2.9736,  34.5019,2,  34.5009,2,    149.9,2,   149.8,6,    72.4,2,    36.2,2,    0.01,2,   2.597,2,   0.1453,2,   0.0707,2,   0.0512,2,  2260.8,2,  2336.4,6,   7.5300,2,    25.00, -999.00,9,  -999.0,9,  -999.0,   2.4217,2, -999.00,9,  -999.0,9, -999.00,9, -999.00,9,    25.2319,2,    5.65,2,  -999.0,9,     -999.0,     -999.0,9,     -999.0,9,     -999.0,     -999.0,9,     -999.0,     -999.0,9,     -999.0,     -999.0,       5.65,2,       2.04,2,       2.04,2,     -999.0,9,     -999.0,9,     -999.0,9,     -999.0,9,     -999.0,9
33RO20161119,        P18,     148,          1,         11,      11110,2,20170109,       0654,   -40.0000,  -102.9992,       3964,  1313.0,   3.3199,  34.4379,2,  34.4382,2,    153.8,2,   136.1,3,    60.6,2,    36.3,2,    0.01,2,   2.558,2,   0.1811,2,   0.0898,2,   0.0381,2,  2248.9,2,  2323.9,2,   7.5298,2,    25.00, -999.00,9,  -999.0,9,  -999.0,   2.6945,2, -999.00,9,  -999.0,9, -999.00,9, -999.00,9,    25.5213,2,    5.74,2,  -999.0,9,     -999.0,     -999.0,9,     -999.0,9,     -999.0,     -999.0,9,     -999.0,     -999.0,9,     -999.0,     -999.0,       5.74,2,       2.04,2,       2.04,2,     -999.0,9,     -999.0,9,     -999.0,9,     -999.0,9,     -999.0,9
33RO20161119,        P18,     148,          1,         12,      11111,2,20170109,       0654,   -40.0000,  -102.9992,       3964,  1156.5,   3.6820,  34.3635,2,  34.3660,2,    174.3,2,   173.2,2,    45.0,2,    34.4,2,    0.01,2,   2.447,2,   0.4212,2,   0.2063,2,   0.0777,2,  2223.4,2,  2308.3,2,   7.5602,2,    25.00, -999.00,9,  -999.0,9,  -999.0,   2.8332,2, -999.00,9,  -999.0,9, -999.00,9, -999.00,9,    23.1476,2,    5.63,2,  -999.0,9,     -999.0,     -999.0,9,     -999.0,9,     -999.0,     -999.0,9,     -999.0,     -999.0,9,     -999.0,     -999.0,       5.63,2,       2.29,2,       2.29,2,     -999.0,9,     -999.0,9,     -999.0,9,     -999.0,9,     -999.0,9
33RO20161119,        P18,     148,          1,         13,      11112,2,20170109,       0654,   -40.0000,  -102.9992,       3964,  1036.4,   4.1065,  34.3134,2,  34.3249,4,    192.9,2,   193.0,2,    33.2,2,    32.3,2,    0.01,2,   2.291,2,   1.0280,2,   0.4978,2,   0.1711,2,  2200.6,6,  2295.6,2,   7.5927,6,    25.00, -999.00,9,  -999.0,9,  -999.0,   2.8416,2, -999.00,9,  -999.0,9, -999.00,9, -999.00,9,    20.9109,2,    5.54,2,  -999.0,9,     -999.0,     -999.0,9,     -999.0,9,     -999.0,     -999.0,9,     -999.0,     -999.0,9,     -999.0,     -999.0,       5.54,2,       2.37,2,       2.37,2,     -999.0,9,     -999.0,9,     -999.0,9,     -999.0,9,     -999.0,9
33RO20161119,        P18,     148,          1,         14,      11113,2,20170109,       0654,   -40.0000,  -102.9992,       3964,   900.5,   4.7406,  34.2775,2,  34.2779,2,    212.7,2,   212.5,6,    22.2,2,    29.7,2,    0.01,2,   2.094,2,   2.0218,2,   0.9915,2,   0.4048,2,  2180.5,2,  2283.8,2,   7.6311,2,    25.00, -999.00,9,  -999.0,9,  -999.0,   2.8883,2, -999.00,9,  -999.0,9, -999.00,9, -999.00,9,    18.8087,2,    5.57,2,  -999.0,9,     -999.0,     -999.0,9,     -999.0,9,     -999.0,     -999.0,9,     -999.0,     -999.0,9,     -999.0,     -999.0,       5.57,2,       2.44,2,       2.44,2,     -999.0,9,     -999.0,9,     -999.0,9,     -999.0,9,     -999.0,9
33RO20161119,        P18,     148,          1,         15,      11114,2,20170109,       0654,   -40.0000,  -102.9992,       3964,   765.4,   5.3112,  34.2590,2,  34.2578,2,    234.3,2,   234.2,2,    14.6,2,    26.9,2,    0.01,2,   1.895,2,   3.1028,2,   1.5604,2,   0.7584,2,  2160.3,2,  2277.6,2,   7.6666,2,    25.00, -999.00,9,  -999.0,9,  -999.0,   2.4975,2, -999.00,9,  -999.0,9, -999.00,9, -999.00,9,    16.5802,2,    5.64,2,  -999.0,9,     -999.0,     -999.0,9,     -999.0,9,     -999.0,     -999.0,9,     -999.0,     -999.0,9,     -999.0,     -999.0,       5.64,2,       2.78,2,       2.78,2,     -999.0,9,     -999.0,9,     -999.0,9,     -999.0,9,     -999.0,9
33RO20161119,        P18,     148,          1,         16,      11115,2,20170109,       0654,   -40.0000,  -102.9992,       3964,   633.4,   5.8417,  34.2647,2,  34.2639,2,    251.7,2,   250.8,2,     9.4,2,    24.1,2,    0.01,2,   1.703,2,   3.9172,6,   2.0441,6,   1.2591,6,  2145.9,2,  2274.0,2,   7.6925,2,    25.00, -999.00,9,  -999.0,9,  -999.0,   1.5368,2, -999.00,9,  -999.0,9, -999.00,9, -999.00,9,    15.5374,2,    5.72,2,  -999.0,9,     -999.0,     -999.0,9,     -999.0,9,     -999.0,     -999.0,9,     -999.0,     -999.0,9,     -999.0,     -999.0,       5.72,2,       3.28,2,       3.28,2,     -999.0,9,     -999.0,9,     -999.0,9,     -999.0,9,     -999.0,9
33RO20161119,        P18,     148,          1,         17,      11116,2,20170109,       0654,   -40.0000,  -102.9992,       3964,   527.5,   6.1919,  34.2827,2,  34.2821,2,    253.4,2,   252.4,2,     8.0,2,    23.2,2,    0.01,2,   1.651,2,   4.0703,2,   2.1681,2,   1.4283,2,  2143.5,2,  2273.9,2,   7.6989,2,    25.00, -999.00,9,  -999.0,9,  -999.0,   2.9232,2, -999.00,9,  -999.0,9, -999.00,9, -999.00,9,      15.87,2,    5.66,2,  -999.0,9,     -999.0,     -999.0,9,     -999.0,9,     -999.0,     -999.0,9,     -999.0,     -999.0,9,     -999.0,     -999.0,       5.66,2,       3.26,2,       3.26,2,     -999.0,9,     -999.0,9,     -999.0,9,     -999.0,9,     -999.0,9
33RO20161119,        P18,     148,          1,         18,      11117,2,20170109,       0654,   -40.0000,  -102.9992,       3964,   408.7,   6.5485,  34.2923,2,  34.2929,2,    252.4,2,   251.6,2,     6.7,2,    22.2,2,    0.02,2,   1.580,2,   4.1411,2,   2.2340,2,   1.6939,2,  2139.7,2,  2271.6,2,   7.7014,2,    25.00, -999.00,9,  -999.0,9,  -999.0,   2.7024,2, -999.00,9,  -999.0,9, -999.00,9, -999.00,9,    17.4181,2,    5.68,2,  -999.0,9,     -999.0,     -999.0,9,     -999.0,9,     -999.0,     -999.0,9,     -999.0,     -999.0,9,     -999.0,     -999.0,       5.68,2,        3.4,2,        3.4,2,     -999.0,9,     -999.0,9,     -999.0,9,     -999.0,9,     -999.0,9
33RO20161119,        P18,     148,          1,         19,      11083,2,20170109,       0654,   -40.0000,  -102.9992,       3964,   312.0,   7.0062,  34.2588,2,  34.2601,2,    247.3,2,   245.7,2,     5.2,2,    21.6,2,    0.02,2,   1.555,2,   4.0529,2,   2.2211,2,   1.7628,2,  2125.5,3,  2267.1,2,   7.6965,2,    25.00, -999.00,9,  -999.0,9,  -999.0,   2.7982,2, -999.00,9,  -999.0,9, -999.00,9, -999.00,9,    22.1155,2,    5.87,2,  -999.0,9,     -999.0,     -999.0,9,     -999.0,9,     -999.0,     -999.0,9,     -999.0,     -999.0,9,     -999.0,     -999.0,       5.88,2,       3.72,2,       3.75,2,     -999.0,9,     -999.0,9,     -999.0,9,     -999.0,9,     -999.0,9
33RO20161119,        P18,     148,          1,         20,      11118,2,20170109,       0654,   -40.0000,  -102.9992,       3964,   224.4,   8.2874,  34.1970,2,  34.2007,2,    243.7,2,   241.4,2,     2.8,2,    18.9,2,    0.03,2,   1.394,2,   3.8707,2,   2.1506,2,   1.9162,2,  2124.7,2,  2263.7,2,   7.7237,2,    25.00, -999.00,9,  -999.0,9,  -999.0,    0.017,2, -999.00,9,  -999.0,9, -999.00,9, -999.00,9,     25.333,2,    6.71,2,  -999.0,9,     -999.0,     -999.0,9,     -999.0,9,     -999.0,     -999.0,9,     -999.0,     -999.0,9,     -999.0,     -999.0,       6.68,2,       4.37,2,       4.45,2,     -999.0,9,     -999.0,9,     -999.0,9,     -999.0,9,     -999.0,9
33RO20161119,        P18,     148,          1,         21,      11119,2,20170109,       0654,   -40.0000,  -102.9992,       3964,   146.3,  10.4772,  34.0726,2,  34.0795,2,    261.2,2,   259.0,2,     1.0,2,    11.4,2,    0.35,2,   0.983,2,   3.3755,2,   1.9431,2,   2.2607,2,  2083.9,2,  2258.6,2,   7.8106,2,    25.00, -999.00,9,  -999.0,9,  -999.0,   0.0799,2, -999.00,9,  -999.0,9, -999.00,9, -999.00,9,    14.4078,2,   11.01,2,  -999.0,9,     -999.0,     -999.0,9,     -999.0,9,     -999.0,     -999.0,9,     -999.0,     -999.0,9,     -999.0,     -999.0,      10.09,2,       7.76,2,       7.52,2,     -999.0,9,     -999.0,9,     -999.0,9,     -999.0,9,     -999.0,9
33RO20161119,        P18,     148,          1,         22,      11120,2,20170109,       0654,   -40.0000,  -102.9992,       3964,    70.3,  12.7762,  34.0447,2,  34.0359,2,    271.7,2,   271.9,2,     0.4,2,     5.8,2,    0.17,2,   0.634,2,   3.0946,2,   1.7831,2,   2.1996,2,  2051.2,2,  2254.4,6,   7.8807,2,    25.00, -999.00,9,  -999.0,9,  -999.0,   0.0882,2, -999.00,9,  -999.0,9, -999.00,9, -999.00,9,    10.4444,2,   16.44,2,  -999.0,9,     -999.0,     -999.0,9,     -999.0,9,     -999.0,     -999.0,9,     -999.0,     -999.0,9,     -999.0,     -999.0,      14.87,2,      12.31,2,      11.98,2,     -999.0,9,     -999.0,9,     -999.0,9,     -999.0,9,     -999.0,9
33RO20161119,        P18,     148,          1,         23,      11121,2,20170109,       0654,   -40.0000,  -102.9992,       3964,    31.4,  16.3730,  33.9341,2,  33.9416,2,    245.0,2,   246.7,2,     0.4,2,     6.1,2,    0.17,2,   0.645,2,   2.5756,2,   1.5275,2,   1.8934,2,  2043.2,6,  2247.3,2,   7.8897,2,    25.00, -999.00,9,  -999.0,9,  -999.0,     0.27,2, -999.00,9,  -999.0,9, -999.00,9, -999.00,9,     8.9659,2,   18.16,2,  -999.0,9,     -999.0,     -999.0,9,     -999.0,9,     -999.0,     -999.0,9,     -999.0,     -999.0,9,     -999.0,     -999.0,      15.39,2,      12.51,2,       12.0,2,     -999.0,9,     -999.0,9,     -999.0,9,     -999.0,9,     -999.0,9
33RO20161119,        P18,     148,          1,         24,      11122,2,20170109,       0654,   -40.0000,  -102.9992,       3964,     6.5,  16.3795,  33.9344,2,  33.9343,2,    244.1,2,   246.6,2,     0.4,2,     6.1,2,    0.17,2,   0.645,2,   2.5733,2,   1.5244,2,   1.9223,2,  2044.6,2,  2247.6,2,   7.8902,2,    25.00, -999.00,9,  -999.0,9,  -999.0,   0.4125,2, -999.00,9,  -999.0,9, -999.00,9, -999.00,9,     8.9267,2,   18.18,2,  -999.0,9,     -999.0,     -999.0,9,     -999.0,9,     -999.0,     -999.0,9,     -999.0,     -999.0,9,     -999.0,     -999.0,      15.06,2,      12.03,2,       12.1,2,     -999.0,9,     -999.0,9,     -999.0,9,     -999.0,9,     -999.0,9