BOTTLE,20230606CCHSIOCBG
EXPOCODE,SECT_ID,STNNBR,CASTNO,SAMPNO,BTLNBR,BTLNBR_FLAG_W,DATE,TIME,LATITUDE,LONGITUDE,DEPTH,CTDPRS,CTDTMP,CTDSAL,CTDSAL_FLAG_W,SALNTY,SALNTY_FLAG_W,CTDOXY,CTDOXY_FLAG_W,OXYGEN,OXYGEN_FLAG_W,SILCAT,SILCAT_FLAG_W,NITRAT,NITRAT_FLAG_W,NITRIT,NITRIT_FLAG_W,PHSPHT,PHSPHT_FLAG_W,CFC-11,CFC-11_FLAG_W,CFC-12,CFC-12_FLAG_W,SF6,SF6_FLAG_W,TCARBN,TCARBN_FLAG_W,ALKALI,ALKALI_FLAG_W,PH_SWS,PH_SWS_FLAG_W,PH_TMP,DELC13,DELC13_FLAG_W,DELC14,DELC14_FLAG_W,C14ERR,CCL4,CCL4_FLAG_W,POC,POC_FLAG_W,DOC,DOC_FLAG_W,TDN,TDN_FLAG_W,PON,PON_FLAG_W,N2O,N2O_FLAG_W,D15N_NO3,D15N_NO3_FLAG_W,14C-DOC,14C-DOC_FLAG_W,14C-DOCERR,13C-DOC,13C-DOC_FLAG_W,N2/ARGON_UNSTRIPPED,N2/ARGON_UNSTRIPPED_FLAG_W,N2/ARGON_UNSTRIPPED_ERROR,N2/ARGON,N2/ARGON_FLAG_W,N2/ARGON_ERROR,D15N_N2,D15N_N2_FLAG_W,D15N_N2_ERROR,D15N_NO3_ERROR,D15N_NO2+NO3,D15N_NO2+NO3_FLAG_W,D18O_NO2+NO3,D18O_NO2+NO3_FLAG_W,D18O_NO3,D18O_NO3_FLAG_W,TDP,TDP_FLAG_W,N2O_ALT_1,N2O_ALT_1_FLAG_W,D15N_N2O,D15N_N2O_FLAG_W,D18O_N2O,D18O_N2O_FLAG_W,D15N_ALPHA_N2O,D15N_ALPHA_N2O_FLAG_W
,,,,,,,,,,,METERS,DBAR,ITS-90,PSS-78,,PSS-78,,UMOL/KG,,UMOL/KG,,UMOL/KG,,UMOL/KG,,UMOL/KG,,UMOL/KG,,PMOL/KG,,PMOL/KG,,FMOL/KG,,UMOL/KG,,UMOL/KG,,,,DEG C,/MILLE,,/MILLE,,/MILLE,PMOL/KG,,UG/KG,,UMOL/KG,,UMOL/KG,,UG/KG,,NMOL/KG,,/MILLE,,/MILLE,,/MILLE,/MILLE,,,,,,,,/MILLE,,/MILLE,/MILLE,/MILLE,,/MILLE,,/MILLE,,UMOL/KG,,NMOL/L,,/MILLE,,/MILLE,,/MILLE,
33RO20161119,        P18,     177,          1,          1,      11010,2,20170117,       0831,   -54.4999,  -102.9999,       4101,  4216.2,   0.8315,  34.7083,2,  34.7532,4,    204.2,2,   204.5,2,   129.5,2,    32.7,2,    0.01,2,   2.233,2,   0.1349,2,   0.0641,2,   0.0244,2,  2272.1,2,  2373.3,2,   7.6005,2,    25.00, -999.00,9,  -999.0,9,  -999.0,   0.2012,2, -999.00,9,    41.1,2,   33.70,2, -999.00,9,    18.4235,2, -999.00,9,  -999.0,9,     -999.0,     -999.0,9,     -999.0,9,     -999.0,     -999.0,9,     -999.0,     -999.0,9,     -999.0,     -999.0,     -999.0,9,     -999.0,9,     -999.0,9,     -999.0,9,     -999.0,9,     -999.0,9,     -999.0,9,     -999.0,9
33RO20161119,        P18,     177,          1,          2,      11101,2,20170117,       0831,   -54.4999,  -102.9999,       4101,  3956.5,   1.0126,  34.7124,2,  34.7241,4,    201.3,2,   200.9,2,   123.1,6,    32.6,6,    0.01,6,   2.216,6,   0.1248,6,   0.0606,6,   0.0582,6,  2266.3,6,  2368.8,6,   7.5974,6,    25.00, -999.00,9,  -999.0,9,  -999.0,   0.5965,2, -999.00,9,    41.6,2,   34.10,2, -999.00,9,    18.4951,2, -999.00,9,  -999.0,9,     -999.0,     -999.0,9,     -999.0,9,     -999.0,     -999.0,9,     -999.0,     -999.0,9,     -999.0,     -999.0,     -999.0,9,     -999.0,9,     -999.0,9,     -999.0,9,     -999.0,9,     -999.0,9,     -999.0,9,     -999.0,9
33RO20161119,        P18,     177,          1,          3,      11102,2,20170117,       0831,   -54.4999,  -102.9999,       4101,  3680.9,   1.2148,  34.7168,2,  34.7180,2,    197.5,2,   197.2,2,   116.0,6,    32.4,6,    0.01,6,   2.206,6,   0.1084,2,   0.0530,2,   0.0341,2,  2263.6,2,  2361.4,3,   7.5961,2,    25.00, -999.00,9,  -999.0,9,  -999.0,    2.042,2, -999.00,9,    41.2,2,   33.20,2, -999.00,9,    18.8534,2, -999.00,9,  -999.0,9,     -999.0,     -999.0,9,     -999.0,9,     -999.0,     -999.0,9,     -999.0,     -999.0,9,     -999.0,     -999.0,     -999.0,9,     -999.0,9,     -999.0,9,     -999.0,9,     -999.0,9,     -999.0,9,     -999.0,9,     -999.0,9
33RO20161119,        P18,     177,          1,          4,      11103,2,20170117,       0831,   -54.4999,  -102.9999,       4101,  3374.7,   1.4019,  34.7202,2,  34.7219,2,    193.3,2,   193.2,2,   110.3,6,    32.3,6,    0.01,6,   2.196,6,-999.0000,9,-999.0000,9,-999.0000,9,  2262.8,2,  2365.7,2,   7.5951,2,    25.00, -999.00,9,  -999.0,9,  -999.0,-999.0000,9, -999.00,9,    40.7,2,   33.20,2, -999.00,9,     -999.0,9, -999.00,9,  -999.0,9,     -999.0,     -999.0,9,     -999.0,9,     -999.0,     -999.0,9,     -999.0,     -999.0,9,     -999.0,     -999.0,     -999.0,9,     -999.0,9,     -999.0,9,     -999.0,9,     -999.0,9,     -999.0,9,     -999.0,9,     -999.0,9
33RO20161119,        P18,     177,          1,          5,      11104,2,20170117,       0831,   -54.4999,  -102.9999,       4101,  3049.5,   1.5515,  34.7189,2,  34.7237,4,    187.8,2,   188.0,2,   107.1,6,    32.5,6,    0.01,6,   2.211,6,   0.0693,2,   0.0344,2,   0.0390,2,  2265.5,2,  2366.9,2,   7.5948,2,    25.00, -999.00,9,  -999.0,9,  -999.0,   2.6784,2, -999.00,9,    40.9,2,   34.90,2, -999.00,9,    18.9879,2, -999.00,9,  -999.0,9,     -999.0,     -999.0,9,     -999.0,9,     -999.0,     -999.0,9,     -999.0,     -999.0,9,     -999.0,     -999.0,     -999.0,9,     -999.0,9,     -999.0,9,     -999.0,9,     -999.0,9,     -999.0,9,     -999.0,9,     -999.0,9
33RO20161119,        P18,     177,          1,          6,      11105,2,20170117,       0831,   -54.4999,  -102.9999,       4101,  2714.9,   1.7780,  34.7202,2,  34.7233,2,    184.9,2,   184.5,2,    99.1,6,    32.2,6,    0.01,6,   2.192,6,-999.0000,9,-999.0000,9,-999.0000,9,  2261.6,2,  2361.6,2,   7.5901,2,    25.00, -999.00,9,  -999.0,9,  -999.0,-999.0000,9, -999.00,9,    41.4,2,   34.20,2, -999.00,9,     -999.0,9, -999.00,9,  -999.0,9,     -999.0,     -999.0,9,     -999.0,9,     -999.0,     -999.0,9,     -999.0,     -999.0,9,     -999.0,     -999.0,     -999.0,9,     -999.0,9,     -999.0,9,     -999.0,9,     -999.0,9,     -999.0,9,     -999.0,9,     -999.0,9
33RO20161119,        P18,     177,          1,          7,      11106,2,20170117,       0831,   -54.4999,  -102.9999,       4101,  2379.8,   2.0379,  34.7064,2,  34.7141,4,    177.8,2,   177.4,6,    92.8,2,    32.6,2,    0.01,2,   2.225,2,   0.1262,2,   0.0603,2,   0.0540,2,  2261.6,2,  2358.8,2,   7.5781,2,    25.00, -999.00,9,  -999.0,9,  -999.0,   4.0984,2, -999.00,9,    41.2,2,   34.80,2, -999.00,9,    20.0345,2, -999.00,9,  -999.0,9,     -999.0,     -999.0,9,     -999.0,9,     -999.0,     -999.0,9,     -999.0,     -999.0,9,     -999.0,     -999.0,     -999.0,9,     -999.0,9,     -999.0,9,     -999.0,9,     -999.0,9,     -999.0,9,     -999.0,9,     -999.0,9
33RO20161119,        P18,     177,          1,          8,      11107,2,20170117,       0831,   -54.4999,  -102.9999,       4101,  2029.5,   2.2937,  34.6678,2,  34.7323,4,    172.8,2,   172.7,2,    83.3,2,    33.1,2,    0.01,2,   2.252,2,-999.0000,9,-999.0000,9,-999.0000,9,  2256.4,2,  2348.4,2,   7.5692,2,    25.00, -999.00,9,  -999.0,9,  -999.0,-999.0000,9, -999.00,9,    40.8,2,   37.00,2, -999.00,9,     -999.0,9, -999.00,9,  -999.0,9,     -999.0,     -999.0,9,     -999.0,9,     -999.0,     -999.0,9,     -999.0,     -999.0,9,     -999.0,     -999.0,     -999.0,9,     -999.0,9,     -999.0,9,     -999.0,9,     -999.0,9,     -999.0,9,     -999.0,9,     -999.0,9
33RO20161119,        P18,     177,          1,          9,      11108,2,20170117,       0831,   -54.4999,  -102.9999,       4101,  1690.2,   2.5127,  34.5886,2,  34.5928,2,    170.0,2,   169.9,2,    76.1,2,    34.1,2,    0.01,2,   2.315,2,   0.4919,2,   0.2405,2,   0.1065,2,  2254.1,2,  2340.7,2,   7.5551,2,    25.00, -999.00,9,  -999.0,9,  -999.0,   4.2012,2, -999.00,9,    44.0,2,   36.20,2, -999.00,9,    21.9372,2, -999.00,9,  -999.0,9,     -999.0,     -999.0,9,     -999.0,9,     -999.0,     -999.0,9,     -999.0,     -999.0,9,     -999.0,     -999.0,     -999.0,9,     -999.0,9,     -999.0,9,     -999.0,9,     -999.0,9,     -999.0,9,     -999.0,9,     -999.0,9
33RO20161119,        P18,     177,          1,         10,      11109,2,20170117,       0831,   -54.4999,  -102.9999,       4101,  1481.5,   2.7054,  34.5111,2,  34.5141,2,    173.2,2,   173.6,2,    68.4,2,    34.5,2,    0.01,2,   2.343,2,-999.0000,9,-999.0000,9,-999.0000,9,  2247.2,2,  2333.3,6,   7.5478,2,    25.00, -999.00,9,  -999.0,9,  -999.0,-999.0000,9, -999.00,9,    46.2,3,   38.80,2, -999.00,9,     -999.0,9, -999.00,9,  -999.0,9,     -999.0,     -999.0,9,     -999.0,9,     -999.0,     -999.0,9,     -999.0,     -999.0,9,     -999.0,     -999.0,     -999.0,9,     -999.0,9,     -999.0,9,     -999.0,9,     -999.0,9,     -999.0,9,     -999.0,9,     -999.0,9
33RO20161119,        P18,     177,          1,         11,      11110,2,20170117,       0831,   -54.4999,  -102.9999,       4101,  1298.1,   2.9435,  34.4305,2,  34.4703,4,    183.1,2,   182.4,2,    58.6,2,    34.1,2,    0.01,2,   2.313,2,   1.2684,2,   0.6334,2,   0.3010,2,  2235.1,2,  2322.8,2,   7.5560,2,    25.00, -999.00,9,  -999.0,9,  -999.0,   4.4115,2, -999.00,9,    40.6,2,   37.40,2, -999.00,9,    21.6919,2, -999.00,9,  -999.0,9,     -999.0,     -999.0,9,     -999.0,9,     -999.0,     -999.0,9,     -999.0,     -999.0,9,     -999.0,     -999.0,     -999.0,9,     -999.0,9,     -999.0,9,     -999.0,9,     -999.0,9,     -999.0,9,     -999.0,9,     -999.0,9
33RO20161119,        P18,     177,          1,         12,      11111,2,20170117,       0831,   -54.4999,  -102.9999,       4101,  1170.5,   3.2197,  34.3710,2,  34.3723,2,    192.5,2,   192.8,2,    49.8,2,    33.5,2,    0.01,2,   2.285,2,-999.0000,9,-999.0000,9,-999.0000,9,  2222.8,2,  2311.8,2,   7.5694,6,    25.00, -999.00,9,  -999.0,9,  -999.0,-999.0000,9, -999.00,9,    42.7,2,   37.00,2, -999.00,9,     -999.0,9, -999.00,9,  -999.0,9,     -999.0,     -999.0,9,     -999.0,9,     -999.0,     -999.0,9,     -999.0,     -999.0,9,     -999.0,     -999.0,     -999.0,9,     -999.0,9,     -999.0,9,     -999.0,9,     -999.0,9,     -999.0,9,     -999.0,9,     -999.0,9
33RO20161119,        P18,     177,          1,         13,      11112,2,20170117,       0831,   -54.4999,  -102.9999,       4101,  1029.5,   3.7519,  34.3173,2,  34.3219,2,    204.4,2,   203.5,2,    38.5,2,    32.0,2,    0.01,2,   2.180,2,   2.1890,2,   1.1267,2,   0.6822,2,  2207.6,2,  2300.6,2,   7.5896,2,    25.00, -999.00,9,  -999.0,9,  -999.0,    4.343,2, -999.00,9,    41.9,2,   35.60,2, -999.00,9,    19.9158,2, -999.00,9,  -999.0,9,     -999.0,     -999.0,9,     -999.0,9,     -999.0,     -999.0,9,     -999.0,     -999.0,9,     -999.0,     -999.0,     -999.0,9,     -999.0,9,     -999.0,9,     -999.0,9,     -999.0,9,     -999.0,9,     -999.0,9,     -999.0,9
33RO20161119,        P18,     177,          1,         14,      11113,2,20170117,       0831,   -54.4999,  -102.9999,       4101,   895.7,   4.3131,  34.2862,2,  34.2899,2,    213.0,2,   213.0,2,    29.5,2,    30.4,2,    0.01,2,   2.078,2,-999.0000,9,-999.0000,9,-999.0000,9,  2192.5,6,  2293.8,2,   7.6116,2,    25.00, -999.00,9,  -999.0,9,  -999.0,-999.0000,9, -999.00,9,    41.2,2,   32.00,2, -999.00,9,     -999.0,9, -999.00,9,  -999.0,9,     -999.0,     -999.0,9,     -999.0,9,     -999.0,     -999.0,9,     -999.0,     -999.0,9,     -999.0,     -999.0,     -999.0,9,     -999.0,9,     -999.0,9,     -999.0,9,     -999.0,9,     -999.0,9,     -999.0,9,     -999.0,9
33RO20161119,        P18,     177,          1,         15,      11114,2,20170117,       0831,   -54.4999,  -102.9999,       4101,   755.2,   5.1080,  34.2639,2,  34.3005,4,    227.4,2,   226.8,2,    19.7,2,    27.9,2,    0.01,2,   1.884,2,   3.1530,2,   1.6898,2,   1.2575,2,  2174.9,2,  2287.0,2,   7.6411,3,    25.00, -999.00,9,  -999.0,9,  -999.0,   4.3613,2, -999.00,9,    42.3,2,   30.40,2, -999.00,9,    17.0098,2, -999.00,9,  -999.0,9,     -999.0,     -999.0,9,     -999.0,9,     -999.0,     -999.0,9,     -999.0,     -999.0,9,     -999.0,     -999.0,     -999.0,9,     -999.0,9,     -999.0,9,     -999.0,9,     -999.0,9,     -999.0,9,     -999.0,9,     -999.0,9
33RO20161119,        P18,     177,          1,         16,      11115,2,20170117,       0831,   -54.4999,  -102.9999,       4101,   629.6,   5.3081,  34.2013,2,  34.2029,2,    278.4,2,   279.4,2,     9.6,2,    22.7,2,    0.07,2,   1.577,2,-999.0000,9,-999.0000,9,-999.0000,9,  2141.5,2,  2279.6,2,   7.7078,2,    25.00, -999.00,9,  -999.0,9,  -999.0,-999.0000,9, -999.00,9,    44.5,2,   25.10,2, -999.00,9,     -999.0,9, -999.00,9,  -999.0,9,     -999.0,     -999.0,9,     -999.0,9,     -999.0,     -999.0,9,     -999.0,     -999.0,9,     -999.0,     -999.0,     -999.0,9,     -999.0,9,     -999.0,9,     -999.0,9,     -999.0,9,     -999.0,9,     -999.0,9,     -999.0,9
33RO20161119,        P18,     177,          1,         17,      11116,2,20170117,       0831,   -54.4999,  -102.9999,       4101,   516.6,   5.8029,  34.2127,2,  34.2668,4,    281.7,2,   281.8,2,     7.2,2,    21.2,2,    0.02,2,   1.480,2,   3.9759,2,   2.2544,2,   2.4872,2,  2134.9,2,  2276.2,2,   7.7243,2,    25.00, -999.00,9,  -999.0,9,  -999.0,   0.3438,2, -999.00,9,    46.7,2,   22.80,2, -999.00,9,    12.5799,2, -999.00,9,  -999.0,9,     -999.0,     -999.0,9,     -999.0,9,     -999.0,     -999.0,9,     -999.0,     -999.0,9,     -999.0,     -999.0,     -999.0,9,     -999.0,9,     -999.0,9,     -999.0,9,     -999.0,9,     -999.0,9,     -999.0,9,     -999.0,9
33RO20161119,        P18,     177,          1,         18,      11117,2,20170117,       0831,   -54.4999,  -102.9999,       4101,   400.2,   5.9936,  34.2183,2,  34.2197,2,    285.4,2,   286.0,6,     6.2,2,    20.3,2,    0.02,2,   1.426,2,-999.0000,9,-999.0000,9,-999.0000,9,  2131.9,2,  2275.9,2,   7.7362,2,    25.00, -999.00,9,  -999.0,9,  -999.0,-999.0000,9, -999.00,9,    45.5,2,   22.60,2, -999.00,9,     -999.0,9, -999.00,9,  -999.0,9,     -999.0,     -999.0,9,     -999.0,9,     -999.0,     -999.0,9,     -999.0,     -999.0,9,     -999.0,     -999.0,     -999.0,9,     -999.0,9,     -999.0,9,     -999.0,9,     -999.0,9,     -999.0,9,     -999.0,9,     -999.0,9
33RO20161119,        P18,     177,          1,         19,      11083,2,20170117,       0831,   -54.4999,  -102.9999,       4101,   299.3,   6.0979,  34.2172,2,  34.2204,2,    281.6,2,   284.8,2,     5.8,2,    20.1,2,    0.02,2,   1.408,2,   4.0062,2,   2.2810,2,   2.5698,2,  2129.7,2,  2279.0,2,   7.7340,2,    25.00, -999.00,9,  -999.0,9,  -999.0,   0.2903,2, -999.00,9,    45.0,2,   23.10,2, -999.00,9,    12.1128,2, -999.00,9,  -999.0,9,     -999.0,     -999.0,9,     -999.0,9,     -999.0,     -999.0,9,     -999.0,     -999.0,9,     -999.0,     -999.0,     -999.0,9,     -999.0,9,     -999.0,9,     -999.0,9,     -999.0,9,     -999.0,9,     -999.0,9,     -999.0,9
33RO20161119,        P18,     177,          1,         20,      11118,2,20170117,       0831,   -54.4999,  -102.9999,       4101,   210.1,   6.2666,  34.2170,2,  34.2209,2,    280.0,2,   282.1,2,     5.1,2,    19.6,2,    0.03,2,   1.390,2,-999.0000,9,-999.0000,9,-999.0000,9,  2127.1,2,  2274.0,2,   7.7366,2,    25.00, -999.00,9,  -999.0,9,  -999.0,-999.0000,9, -999.00,9,    45.3,2,   22.60,2, -999.00,9,     -999.0,9, -999.00,9,  -999.0,9,     -999.0,     -999.0,9,     -999.0,9,     -999.0,     -999.0,9,     -999.0,     -999.0,9,     -999.0,     -999.0,     -999.0,9,     -999.0,9,     -999.0,9,       1.46,2,     -999.0,9,     -999.0,9,     -999.0,9,     -999.0,9
33RO20161119,        P18,     177,          1,         21,      11119,2,20170117,       0831,   -54.4999,  -102.9999,       4101,   130.1,   6.3846,  34.1951,2,  34.1941,2,    287.5,2,   286.8,2,     4.4,2,    18.1,2,    0.60,2,   1.330,2,   3.9949,2,   2.2817,2,   2.7042,2,  2122.2,2,  2276.5,2,   7.7469,2,    25.00, -999.00,9,  -999.0,9,  -999.0,   0.2648,2, -999.00,9,    48.5,2,   21.60,2, -999.00,9,    11.8962,2, -999.00,9,  -999.0,9,     -999.0,     -999.0,9,     -999.0,9,     -999.0,     -999.0,9,     -999.0,     -999.0,9,     -999.0,     -999.0,     -999.0,9,     -999.0,9,     -999.0,9,       1.37,2,     -999.0,9,     -999.0,9,     -999.0,9,     -999.0,9
33RO20161119,        P18,     177,          1,         22,      11120,2,20170117,       0831,   -54.4999,  -102.9999,       4101,    60.3,   7.8506,  34.1791,2,  34.1818,2,    293.2,2,   293.0,2,     0.5,2,    15.2,2,    0.26,2,   1.110,2,-999.0000,9,-999.0000,9,-999.0000,9,  2102.1,2,  2274.5,2,   7.8012,2,    25.00, -999.00,9,  -999.0,9,  -999.0,-999.0000,9, -999.00,9,    51.4,2,   16.90,2, -999.00,9,     -999.0,9, -999.00,9,  -999.0,9,     -999.0,     -999.0,9,     -999.0,9,     -999.0,     -999.0,9,     -999.0,     -999.0,9,     -999.0,     -999.0,     -999.0,9,     -999.0,9,     -999.0,9,       1.13,3,     -999.0,9,     -999.0,9,     -999.0,9,     -999.0,9
33RO20161119,        P18,     177,          1,         23,      11121,2,20170117,       0831,   -54.4999,  -102.9999,       4101,    24.7,   8.0514,  34.1744,2,  34.1748,2,    291.3,2,   293.5,2,     0.2,2,    15.0,2,    0.26,2,   1.067,2,   3.8171,2,   2.1867,2,   2.6567,2,  2100.1,6,  2273.2,6,   7.8064,2,    25.00, -999.00,9,  -999.0,9,  -999.0,   0.2034,2, -999.00,9,    49.5,2,   18.00,2, -999.00,9,    11.2006,2, -999.00,9,  -999.0,9,     -999.0,     -999.0,9,     -999.0,9,     -999.0,     -999.0,9,     -999.0,     -999.0,9,     -999.0,     -999.0,     -999.0,9,     -999.0,9,     -999.0,9,     -999.0,9,     -999.0,9,     -999.0,9,     -999.0,9,     -999.0,9
33RO20161119,        P18,     177,          1,         24,      11122,2,20170117,       0831,   -54.4999,  -102.9999,       4101,     6.5,   8.0639,  34.1678,2,  34.1692,2,    290.6,2,   292.7,2,     0.2,2,    15.0,2,    0.26,2,   1.077,2,   3.8282,2,   2.1827,2,   2.6022,2,  2100.6,2,  2275.5,2,   7.8044,2,    25.00, -999.00,9,  -999.0,9,  -999.0,   0.1613,2, -999.00,9,    50.4,2,   17.60,2, -999.00,9,    11.2805,2, -999.00,9,  -999.0,9,     -999.0,     -999.0,9,     -999.0,9,     -999.0,     -999.0,9,     -999.0,     -999.0,9,     -999.0,     -999.0,     -999.0,9,     -999.0,9,     -999.0,9,       1.17,2,     -999.0,9,     -999.0,9,     -999.0,9,     -999.0,9