BOTTLE,20230606CCHSIOCBG
EXPOCODE,SECT_ID,STNNBR,CASTNO,SAMPNO,BTLNBR,BTLNBR_FLAG_W,DATE,TIME,LATITUDE,LONGITUDE,DEPTH,CTDPRS,CTDTMP,CTDSAL,CTDSAL_FLAG_W,SALNTY,SALNTY_FLAG_W,CTDOXY,CTDOXY_FLAG_W,OXYGEN,OXYGEN_FLAG_W,SILCAT,SILCAT_FLAG_W,NITRAT,NITRAT_FLAG_W,NITRIT,NITRIT_FLAG_W,PHSPHT,PHSPHT_FLAG_W,CFC-11,CFC-11_FLAG_W,CFC-12,CFC-12_FLAG_W,SF6,SF6_FLAG_W,TCARBN,TCARBN_FLAG_W,ALKALI,ALKALI_FLAG_W,PH_SWS,PH_SWS_FLAG_W,PH_TMP,DELC13,DELC13_FLAG_W,DELC14,DELC14_FLAG_W,C14ERR,CCL4,CCL4_FLAG_W,POC,POC_FLAG_W,DOC,DOC_FLAG_W,TDN,TDN_FLAG_W,PON,PON_FLAG_W,N2O,N2O_FLAG_W,D15N_NO3,D15N_NO3_FLAG_W,14C-DOC,14C-DOC_FLAG_W,14C-DOCERR,13C-DOC,13C-DOC_FLAG_W,N2/ARGON_UNSTRIPPED,N2/ARGON_UNSTRIPPED_FLAG_W,N2/ARGON_UNSTRIPPED_ERROR,N2/ARGON,N2/ARGON_FLAG_W,N2/ARGON_ERROR,D15N_N2,D15N_N2_FLAG_W,D15N_N2_ERROR,D15N_NO3_ERROR,D15N_NO2+NO3,D15N_NO2+NO3_FLAG_W,D18O_NO2+NO3,D18O_NO2+NO3_FLAG_W,D18O_NO3,D18O_NO3_FLAG_W,TDP,TDP_FLAG_W,N2O_ALT_1,N2O_ALT_1_FLAG_W,D15N_N2O,D15N_N2O_FLAG_W,D18O_N2O,D18O_N2O_FLAG_W,D15N_ALPHA_N2O,D15N_ALPHA_N2O_FLAG_W
,,,,,,,,,,,METERS,DBAR,ITS-90,PSS-78,,PSS-78,,UMOL/KG,,UMOL/KG,,UMOL/KG,,UMOL/KG,,UMOL/KG,,UMOL/KG,,PMOL/KG,,PMOL/KG,,FMOL/KG,,UMOL/KG,,UMOL/KG,,,,DEG C,/MILLE,,/MILLE,,/MILLE,PMOL/KG,,UG/KG,,UMOL/KG,,UMOL/KG,,UG/KG,,NMOL/KG,,/MILLE,,/MILLE,,/MILLE,/MILLE,,,,,,,,/MILLE,,/MILLE,/MILLE,/MILLE,,/MILLE,,/MILLE,,UMOL/KG,,NMOL/L,,/MILLE,,/MILLE,,/MILLE,
33RO20161119,        P18,     106,          1,          1,      11010,2,20161219,       0050,   -18.9987,  -102.9995,       4111,  4147.0,   1.8315,  34.6876,2,  34.6867,2,    150.2,2,   150.2,2,   128.4,6,    35.7,6,    0.00,6,   2.534,6,-999.0000,9,-999.0000,9,-999.0000,9,  2325.6,6,  2419.4,2,   7.5747,6,    25.00, -999.00,9,  -999.0,9,  -999.0,-999.0000,9, -999.00,9,  -999.0,9, -999.00,9, -999.00,9,     -999.0,9, -999.00,9,  -999.0,9,     -999.0,     -999.0,9,     -999.0,9,     -999.0,     -999.0,9,     -999.0,     -999.0,9,     -999.0,     -999.0,     -999.0,9,     -999.0,9,     -999.0,9,     -999.0,9,     -999.0,9,     -999.0,9,     -999.0,9,     -999.0,9
33RO20161119,        P18,     106,          1,          2,      11101,2,20161219,       0050,   -18.9987,  -102.9995,       4111,  3850.1,   1.8017,  34.6874,2,  34.6888,2,    150.8,2,   149.6,2,   128.4,6,    35.7,6,    0.00,6,   2.548,6,-999.0000,9,-999.0000,9,-999.0000,9,  2323.7,2,  2418.1,2,   7.5726,2,    25.00, -999.00,9,  -999.0,9,  -999.0,-999.0000,9, -999.00,9,  -999.0,9, -999.00,9, -999.00,9,     -999.0,9, -999.00,9,  -999.0,9,     -999.0,     -999.0,9,     -999.0,9,     -999.0,     -999.0,9,     -999.0,     -999.0,9,     -999.0,     -999.0,     -999.0,9,     -999.0,9,     -999.0,9,     -999.0,9,     -999.0,9,     -999.0,9,     -999.0,9,     -999.0,9
33RO20161119,        P18,     106,          1,          3,      11102,2,20161219,       0050,   -18.9987,  -102.9995,       4111,  3550.1,   1.7801,  34.6866,2,  34.6866,2,    150.6,2,   150.0,2,   128.1,6,    35.7,6,    0.00,6,   2.536,6,-999.0000,9,-999.0000,9,-999.0000,9,  2323.0,2,  2417.0,6,   7.6182,3,    25.00, -999.00,9,  -999.0,9,  -999.0,-999.0000,9, -999.00,9,  -999.0,9, -999.00,9, -999.00,9,     -999.0,9, -999.00,9,  -999.0,9,     -999.0,     -999.0,9,     -999.0,9,     -999.0,     -999.0,9,     -999.0,     -999.0,9,     -999.0,     -999.0,     -999.0,9,     -999.0,9,     -999.0,9,     -999.0,9,     -999.0,9,     -999.0,9,     -999.0,9,     -999.0,9
33RO20161119,        P18,     106,          1,          4,      11103,2,20161219,       0050,   -18.9987,  -102.9995,       4111,  3250.6,   1.7741,  34.6838,2,  34.6817,2,    150.4,2,   149.8,2,   127.8,6,    35.8,6,    0.00,6,   2.519,6,-999.0000,9,-999.0000,9,-999.0000,9,  2322.3,2,  2416.3,2,   7.5705,2,    25.00, -999.00,9,  -999.0,9,  -999.0,-999.0000,9, -999.00,9,  -999.0,9, -999.00,9, -999.00,9,     -999.0,9, -999.00,9,  -999.0,9,     -999.0,     -999.0,9,     -999.0,9,     -999.0,     -999.0,9,     -999.0,     -999.0,9,     -999.0,     -999.0,     -999.0,9,     -999.0,9,     -999.0,9,     -999.0,9,     -999.0,9,     -999.0,9,     -999.0,9,     -999.0,9
33RO20161119,        P18,     106,          1,          5,      11104,2,20161219,       0050,   -18.9987,  -102.9995,       4111,  2949.6,   1.7940,  34.6793,2,  34.6806,2,    150.2,2,   149.7,2,   126.2,2,    35.8,2,    0.00,2,   2.506,2,-999.0000,9,-999.0000,9,-999.0000,9,  2319.1,2,  2411.0,2,   7.5696,2,    25.00, -999.00,9,  -999.0,9,  -999.0,-999.0000,9, -999.00,9,  -999.0,9, -999.00,9, -999.00,9,     -999.0,9, -999.00,9,  -999.0,9,     -999.0,     -999.0,9,     -999.0,9,     -999.0,     -999.0,9,     -999.0,     -999.0,9,     -999.0,     -999.0,     -999.0,9,     -999.0,9,     -999.0,9,     -999.0,9,     -999.0,9,     -999.0,9,     -999.0,9,     -999.0,9
33RO20161119,        P18,     106,          1,          6,      11105,2,20161219,       0050,   -18.9987,  -102.9995,       4111,  2644.5,   1.8440,  34.6714,2,  34.6710,2,    152.2,2,   151.6,2,   121.4,2,    35.5,2,    0.00,2,   2.479,2,-999.0000,9,-999.0000,9,-999.0000,9,  2310.2,2,  2401.6,2,   7.5661,2,    25.00, -999.00,9,  -999.0,9,  -999.0,-999.0000,9, -999.00,9,  -999.0,9, -999.00,9, -999.00,9,     -999.0,9, -999.00,9,  -999.0,9,     -999.0,     -999.0,9,     -999.0,9,     -999.0,     -999.0,9,     -999.0,     -999.0,9,     -999.0,     -999.0,     -999.0,9,     -999.0,9,     -999.0,9,     -999.0,9,     -999.0,9,     -999.0,9,     -999.0,9,     -999.0,9
33RO20161119,        P18,     106,          1,          7,      11106,2,20161219,       0050,   -18.9987,  -102.9995,       4111,  2325.4,   1.9638,  34.6579,2,  34.6601,2,    146.6,2,   146.1,2,   119.0,2,    35.9,2,    0.00,2,   2.536,2,-999.0000,9,-999.0000,9,-999.0000,9,  2312.3,2,  2396.7,2,   7.5536,2,    25.00, -999.00,9,  -999.0,9,  -999.0,-999.0000,9, -999.00,9,  -999.0,9, -999.00,9, -999.00,9,     -999.0,9, -999.00,9,  -999.0,9,     -999.0,     -999.0,9,     -999.0,9,     -999.0,     -999.0,9,     -999.0,     -999.0,9,     -999.0,     -999.0,     -999.0,9,     -999.0,9,     -999.0,9,     -999.0,9,     -999.0,9,     -999.0,9,     -999.0,9,     -999.0,9
33RO20161119,        P18,     106,          1,          8,      11107,2,20161219,       0050,   -18.9987,  -102.9995,       4111,  2004.3,   2.2299,  34.6367,2,  34.6354,2,    129.3,2,   128.8,2,   117.5,2,    37.1,2,    0.00,2,   2.643,2,-999.0000,9,-999.0000,9,-999.0000,9,  2319.9,6,  2393.6,2,   7.5242,2,    25.00, -999.00,9,  -999.0,9,  -999.0,-999.0000,9, -999.00,9,  -999.0,9, -999.00,9, -999.00,9,     -999.0,9, -999.00,9,  -999.0,9,     -999.0,     -999.0,9,     -999.0,9,     -999.0,     -999.0,9,     -999.0,     -999.0,9,     -999.0,     -999.0,     -999.0,9,     -999.0,9,     -999.0,9,     -999.0,9,     -999.0,9,     -999.0,9,     -999.0,9,     -999.0,9
33RO20161119,        P18,     106,          1,          9,      11108,2,20161219,       0050,   -18.9987,  -102.9995,       4111,  1644.8,   2.6800,  34.6035,2,  34.6026,2,    111.4,2,   111.2,6,   109.0,2,    38.7,2,    0.00,2,   2.764,2,-999.0000,9,-999.0000,9,-999.0000,9,  2321.1,2,  2384.1,2,   7.4912,2,    25.00, -999.00,9,  -999.0,9,  -999.0,-999.0000,9, -999.00,9,  -999.0,9, -999.00,9, -999.00,9,     -999.0,9, -999.00,9,  -999.0,9,     -999.0,     -999.0,9,     -999.0,9,     -999.0,     -999.0,9,     -999.0,     -999.0,9,     -999.0,     -999.0,     -999.0,9,     -999.0,9,     -999.0,9,     -999.0,9,     -999.0,9,     -999.0,9,     -999.0,9,     -999.0,9
33RO20161119,        P18,     106,          1,         10,      11109,2,20161219,       0050,   -18.9987,  -102.9995,       4111,  1430.3,   3.0713,  34.5760,2,  34.5744,2,    104.6,2,   103.9,2,    99.1,2,    39.3,2,    0.00,2,   2.820,2,-999.0000,9,-999.0000,9,-999.0000,9,  2315.1,2,  2372.0,2,   7.4751,2,    25.00, -999.00,9,  -999.0,9,  -999.0,-999.0000,9, -999.00,9,  -999.0,9, -999.00,9, -999.00,9,     -999.0,9, -999.00,9,  -999.0,9,     -999.0,     -999.0,9,     -999.0,9,     -999.0,     -999.0,9,     -999.0,     -999.0,9,     -999.0,     -999.0,     -999.0,9,     -999.0,9,     -999.0,9,     -999.0,9,     -999.0,9,     -999.0,9,     -999.0,9,     -999.0,9
33RO20161119,        P18,     106,          1,         11,      11110,2,20161219,       0050,   -18.9987,  -102.9995,       4111,  1271.5,   3.4870,  34.5511,2,  34.5501,2,     98.1,2,    97.2,2,    89.0,2,    39.8,2,    0.00,2,   2.848,2,-999.0000,9,-999.0000,9,-999.0000,9,  2300.0,2,  2359.8,2,   7.4633,2,    25.00, -999.00,9,  -999.0,9,  -999.0,-999.0000,9, -999.00,9,  -999.0,9, -999.00,9, -999.00,9,     -999.0,9, -999.00,9,  -999.0,9,     -999.0,     -999.0,9,     -999.0,9,     -999.0,     -999.0,9,     -999.0,     -999.0,9,     -999.0,     -999.0,     -999.0,9,     -999.0,9,     -999.0,9,     -999.0,9,     -999.0,9,     -999.0,9,     -999.0,9,     -999.0,9
33RO20161119,        P18,     106,          1,         12,      11111,2,20161219,       0050,   -18.9987,  -102.9995,       4111,  1135.3,   3.8914,  34.5281,2,  34.5269,2,     97.3,2,    94.9,2,    78.4,2,    39.9,2,    0.00,2,   2.854,2,-999.0000,9,-999.0000,9,-999.0000,9,  2297.6,2,  2349.1,2,   7.4595,2,    25.00, -999.00,9,  -999.0,9,  -999.0,-999.0000,9, -999.00,9,  -999.0,9, -999.00,9, -999.00,9,     -999.0,9, -999.00,9,  -999.0,9,     -999.0,     -999.0,9,     -999.0,9,     -999.0,     -999.0,9,     -999.0,     -999.0,9,     -999.0,     -999.0,     -999.0,9,     -999.0,9,     -999.0,9,     -999.0,9,     -999.0,9,     -999.0,9,     -999.0,9,     -999.0,9
33RO20161119,        P18,     106,          1,         13,      11112,2,20161219,       0050,   -18.9987,  -102.9995,       4111,  1000.1,   4.3108,  34.5037,2,  34.5102,2,     90.4,2,    89.9,2,    68.5,2,    40.3,2,    0.00,2,   2.877,2,   0.0032,6,   0.0030,6,   0.0000,6,  2289.8,2,  2338.3,2,   7.4478,2,    25.00, -999.00,9,  -999.0,9,  -999.0,   0.0376,2, -999.00,9,  -999.0,9, -999.00,9, -999.00,9,    32.9258,2, -999.00,9,  -999.0,9,     -999.0,     -999.0,9,     -999.0,9,     -999.0,     -999.0,9,     -999.0,     -999.0,9,     -999.0,     -999.0,     -999.0,9,     -999.0,9,     -999.0,9,     -999.0,9,     -999.0,9,     -999.0,9,     -999.0,9,     -999.0,9
33RO20161119,        P18,     106,          1,         14,      11113,2,20161219,       0050,   -18.9987,  -102.9995,       4111,   874.8,   4.8582,  34.4733,2,  34.4822,2,     88.2,2,    87.5,2,    55.0,2,    40.1,2,    0.00,2,   2.836,2,   0.0115,2,   0.0074,2,   0.0000,2,  2276.9,2,  2322.3,2,   7.4465,2,    25.00, -999.00,9,  -999.0,9,  -999.0,    0.616,2, -999.00,9,  -999.0,9, -999.00,9, -999.00,9,    35.6425,2, -999.00,9,  -999.0,9,     -999.0,     -999.0,9,     -999.0,9,     -999.0,     -999.0,9,     -999.0,     -999.0,9,     -999.0,     -999.0,     -999.0,9,     -999.0,9,     -999.0,9,     -999.0,9,     -999.0,9,     -999.0,9,     -999.0,9,     -999.0,9
33RO20161119,        P18,     106,          1,         15,      11114,2,20161219,       0050,   -18.9987,  -102.9995,       4111,   750.3,   5.4457,  34.4347,2,  34.4346,2,     95.9,2,    94.9,2,    40.1,2,    38.6,2,    0.00,2,   2.731,2,   0.1077,2,   0.0578,2,   0.0000,2,  2256.7,2,  2304.2,2,   7.4540,2,    25.00, -999.00,9,  -999.0,9,  -999.0,   0.4773,2, -999.00,9,  -999.0,9, -999.00,9, -999.00,9,    37.1071,2, -999.00,9,  -999.0,9,     -999.0,     -999.0,9,     -999.0,9,     -999.0,     -999.0,9,     -999.0,     -999.0,9,     -999.0,     -999.0,     -999.0,9,     -999.0,9,     -999.0,9,     -999.0,9,     -999.0,9,     -999.0,9,     -999.0,9,     -999.0,9
33RO20161119,        P18,     106,          1,         16,      11115,2,20161219,       0050,   -18.9987,  -102.9995,       4111,   625.0,   6.0496,  34.3927,2,  34.3944,2,    122.3,2,   122.4,2,    25.8,2,    35.2,2,    0.00,2,   2.465,2,   0.8022,2,   0.3956,2,   0.1138,2,  2227.2,2,  2287.9,2,   7.4976,2,    25.00, -999.00,9,  -999.0,9,  -999.0,   0.2874,2, -999.00,9,  -999.0,9, -999.00,9, -999.00,9,    36.3233,2, -999.00,9,  -999.0,9,     -999.0,     -999.0,9,     -999.0,9,     -999.0,     -999.0,9,     -999.0,     -999.0,9,     -999.0,     -999.0,     -999.0,9,     -999.0,9,     -999.0,9,     -999.0,9,     -999.0,9,     -999.0,9,     -999.0,9,     -999.0,9
33RO20161119,        P18,     106,          1,         17,      11116,2,20161219,       0050,   -18.9987,  -102.9995,       4111,   514.0,   7.3570,  34.4431,2,  34.4435,2,     90.8,2,    89.2,6,    21.9,2,    34.6,2,    0.00,2,   2.521,2,   1.0908,2,   0.5467,2,   0.2064,2,  2240.3,2,  2286.4,2,   7.4508,2,    25.00, -999.00,9,  -999.0,9,  -999.0,   0.3776,2, -999.00,9,  -999.0,9, -999.00,9, -999.00,9,    43.1658,2, -999.00,9,  -999.0,9,     -999.0,     -999.0,9,     -999.0,9,     -999.0,     -999.0,9,     -999.0,     -999.0,9,     -999.0,     -999.0,     -999.0,9,     -999.0,9,     -999.0,9,     -999.0,9,     -999.0,9,     -999.0,9,     -999.0,9,     -999.0,9
33RO20161119,        P18,     106,          1,         18,      11117,2,20161219,       0050,   -18.9987,  -102.9995,       4111,   411.1,   9.4232,  34.5293,2,  34.5296,2,     46.1,2,    46.1,2,    20.5,2,    30.7,2,    0.00,2,   2.594,2,   1.3749,2,   0.7133,2,   0.3101,2,  2256.2,2,  2286.3,6,   7.3968,6,    25.00, -999.00,9,  -999.0,9,  -999.0,   0.7286,2, -999.00,9,  -999.0,9, -999.00,9, -999.00,9,    40.5871,2, -999.00,9,  -999.0,9,     -999.0,     -999.0,9,     -999.0,9,     -999.0,     -999.0,9,     -999.0,     -999.0,9,     -999.0,     -999.0,     -999.0,9,     -999.0,9,     -999.0,9,     -999.0,9,     -999.0,9,     -999.0,9,     -999.0,9,     -999.0,9
33RO20161119,        P18,     106,          1,         19,      11083,2,20161219,       0050,   -18.9987,  -102.9995,       4111,   304.9,  13.2697,  34.6335,2,  34.6446,2,    168.4,2,   167.5,2,     3.7,2,    13.1,2,    0.00,2,   1.192,2,   2.7241,2,   1.5913,2,   1.3704,2,  2140.1,2,  2290.9,2,   7.7460,2,    25.00, -999.00,9,  -999.0,9,  -999.0,    1.242,2, -999.00,9,  -999.0,9, -999.00,9, -999.00,9,    19.2035,2, -999.00,9,  -999.0,9,     -999.0,     -999.0,9,     -999.0,9,     -999.0,     -999.0,9,     -999.0,     -999.0,9,     -999.0,     -999.0,     -999.0,9,     -999.0,9,     -999.0,9,     -999.0,9,     -999.0,9,     -999.0,9,     -999.0,9,     -999.0,9
33RO20161119,        P18,     106,          1,         20,      11118,2,20161219,       0050,   -18.9987,  -102.9995,       4111,   219.6,  18.8770,  35.5178,2,  35.5293,2,    203.8,2,   202.6,2,     0.5,2,     2.0,2,    0.05,2,   0.403,2,   2.2041,2,   1.3608,2,   1.5309,2,  2101.2,2,  2343.8,2,   7.9308,2,    25.00, -999.00,9,  -999.0,9,  -999.0,   1.4614,2, -999.00,9,  -999.0,9, -999.00,9, -999.00,9,     8.5453,2, -999.00,9,  -999.0,9,     -999.0,     -999.0,9,     -999.0,9,     -999.0,     -999.0,9,     -999.0,     -999.0,9,     -999.0,     -999.0,     -999.0,9,     -999.0,9,     -999.0,9,     -999.0,9,     -999.0,9,     -999.0,9,     -999.0,9,     -999.0,9
33RO20161119,        P18,     106,          1,         21,      11119,2,20161219,       0050,   -18.9987,  -102.9995,       4111,   144.6,  22.2102,  36.2048,2,  36.2078,2,    213.3,2,   213.7,2,     0.5,2,     0.0,2,    0.00,2,   0.296,2,   1.8545,2,   1.1695,2,   1.5023,2,  2094.8,2,  2391.1,2,   8.0083,2,    25.00, -999.00,9,  -999.0,9,  -999.0,   1.7757,2, -999.00,9,  -999.0,9, -999.00,9, -999.00,9,     7.0605,2, -999.00,9,  -999.0,9,     -999.0,     -999.0,9,     -999.0,9,     -999.0,     -999.0,9,     -999.0,     -999.0,9,     -999.0,     -999.0,     -999.0,9,     -999.0,9,     -999.0,9,     -999.0,9,     -999.0,9,     -999.0,9,     -999.0,9,     -999.0,9
33RO20161119,        P18,     106,          1,         22,      11120,2,20161219,       0050,   -18.9987,  -102.9995,       4111,    80.0,  22.9233,  36.2877,2,  36.2867,2,    216.5,2,   217.0,2,     0.5,2,     0.0,2,    0.00,2,   0.311,2,   1.8222,2,   1.1478,2,   1.4845,2,  2095.1,2,  2397.8,6,   8.0188,2,    25.00, -999.00,9,  -999.0,9,  -999.0,        0,2, -999.00,9,  -999.0,9, -999.00,9, -999.00,9,     6.8596,2, -999.00,9,  -999.0,9,     -999.0,     -999.0,9,     -999.0,9,     -999.0,     -999.0,9,     -999.0,     -999.0,9,     -999.0,     -999.0,     -999.0,9,     -999.0,9,     -999.0,9,     -999.0,9,     -999.0,9,     -999.0,9,     -999.0,9,     -999.0,9
33RO20161119,        P18,     106,          1,         23,      11121,2,20161219,       0050,   -18.9987,  -102.9995,       4111,    36.3,  23.3327,  36.3473,2,  36.3440,2,    214.2,2,   214.4,6,     0.5,2,     0.0,2,    0.00,2,   0.295,2,-999.0000,9,-999.0000,9,-999.0000,9,  2096.4,6,  2401.2,2,   8.0197,2,    25.00, -999.00,9,  -999.0,9,  -999.0,-999.0000,9, -999.00,9,  -999.0,9, -999.00,9, -999.00,9,     -999.0,9, -999.00,9,  -999.0,9,     -999.0,     -999.0,9,     -999.0,9,     -999.0,     -999.0,9,     -999.0,     -999.0,9,     -999.0,     -999.0,     -999.0,9,     -999.0,9,     -999.0,9,     -999.0,9,     -999.0,9,     -999.0,9,     -999.0,9,     -999.0,9
33RO20161119,        P18,     106,          1,         24,      11122,2,20161219,       0050,   -18.9987,  -102.9995,       4111,     3.2,  23.8225,  36.3821,2,  36.3807,2,    211.3,2,   212.1,2,     0.5,2,     0.0,2,    0.00,2,   0.304,2,   1.7717,2,   1.1119,2,   1.4621,2,  2096.4,2,  2406.7,2,   8.0211,2,    25.00, -999.00,9,  -999.0,9,  -999.0,        0,2, -999.00,9,  -999.0,9, -999.00,9, -999.00,9,     6.7576,2, -999.00,9,  -999.0,9,     -999.0,     -999.0,9,     -999.0,9,     -999.0,     -999.0,9,     -999.0,     -999.0,9,     -999.0,     -999.0,     -999.0,9,     -999.0,9,     -999.0,9,     -999.0,9,     -999.0,9,     -999.0,9,     -999.0,9,     -999.0,9