BOTTLE,20230606CCHSIOCBG
EXPOCODE,SECT_ID,STNNBR,CASTNO,SAMPNO,BTLNBR,BTLNBR_FLAG_W,DATE,TIME,LATITUDE,LONGITUDE,DEPTH,CTDPRS,CTDTMP,CTDSAL,CTDSAL_FLAG_W,SALNTY,SALNTY_FLAG_W,CTDOXY,CTDOXY_FLAG_W,OXYGEN,OXYGEN_FLAG_W,SILCAT,SILCAT_FLAG_W,NITRAT,NITRAT_FLAG_W,NITRIT,NITRIT_FLAG_W,PHSPHT,PHSPHT_FLAG_W,CFC-11,CFC-11_FLAG_W,CFC-12,CFC-12_FLAG_W,SF6,SF6_FLAG_W,TCARBN,TCARBN_FLAG_W,ALKALI,ALKALI_FLAG_W,PH_SWS,PH_SWS_FLAG_W,PH_TMP,DELC13,DELC13_FLAG_W,DELC14,DELC14_FLAG_W,C14ERR,CCL4,CCL4_FLAG_W,POC,POC_FLAG_W,DOC,DOC_FLAG_W,TDN,TDN_FLAG_W,PON,PON_FLAG_W,N2O,N2O_FLAG_W,D15N_NO3,D15N_NO3_FLAG_W,14C-DOC,14C-DOC_FLAG_W,14C-DOCERR,13C-DOC,13C-DOC_FLAG_W,N2/ARGON_UNSTRIPPED,N2/ARGON_UNSTRIPPED_FLAG_W,N2/ARGON_UNSTRIPPED_ERROR,N2/ARGON,N2/ARGON_FLAG_W,N2/ARGON_ERROR,D15N_N2,D15N_N2_FLAG_W,D15N_N2_ERROR,D15N_NO3_ERROR,D15N_NO2+NO3,D15N_NO2+NO3_FLAG_W,D18O_NO2+NO3,D18O_NO2+NO3_FLAG_W,D18O_NO3,D18O_NO3_FLAG_W,TDP,TDP_FLAG_W,N2O_ALT_1,N2O_ALT_1_FLAG_W,D15N_N2O,D15N_N2O_FLAG_W,D18O_N2O,D18O_N2O_FLAG_W,D15N_ALPHA_N2O,D15N_ALPHA_N2O_FLAG_W
,,,,,,,,,,,METERS,DBAR,ITS-90,PSS-78,,PSS-78,,UMOL/KG,,UMOL/KG,,UMOL/KG,,UMOL/KG,,UMOL/KG,,UMOL/KG,,PMOL/KG,,PMOL/KG,,FMOL/KG,,UMOL/KG,,UMOL/KG,,,,DEG C,/MILLE,,/MILLE,,/MILLE,PMOL/KG,,UG/KG,,UMOL/KG,,UMOL/KG,,UG/KG,,NMOL/KG,,/MILLE,,/MILLE,,/MILLE,/MILLE,,,,,,,,/MILLE,,/MILLE,/MILLE,/MILLE,,/MILLE,,/MILLE,,UMOL/KG,,NMOL/L,,/MILLE,,/MILLE,,/MILLE,
33RO20161119,        P18,      81,          1,          1,      11010,2,20161212,       2122,    -7.9401,  -105.8801,       3494,  3518.6,   1.7846,  34.6769,2,  34.6790,2,    136.0,2,   135.0,2,   143.5,6,    37.0,6,    0.00,6,   2.566,6,   0.0014,2,   0.0007,2,   0.0000,2,  2340.2,6,  2431.0,2,   7.5612,6,    25.00, -999.00,9,  -999.0,9,  -999.0,        0,2, -999.00,9,    35.9,2,   39.60,2, -999.00,9,    22.0677,2, -999.00,9,  -999.0,9,     -999.0,     -999.0,9,     -999.0,9,     -999.0,     -999.0,9,     -999.0,     -999.0,9,     -999.0,     -999.0,     -999.0,9,     -999.0,9,     -999.0,9,     -999.0,9,     -999.0,9,     -999.0,9,     -999.0,9,     -999.0,9
33RO20161119,        P18,      81,          1,          2,      11101,2,20161212,       2122,    -7.9401,  -105.8801,       3494,  3201.2,   1.7625,  34.6766,2,  34.6772,2,    135.3,2,   135.3,2,   142.5,6,    37.0,6,    0.00,6,   2.561,6,   0.0018,2,   0.0015,2,   0.0000,2,  2339.6,2,  2428.6,2,   7.5650,2,    25.00, -999.00,9,  -999.0,9,  -999.0,   0.0094,2, -999.00,9,    35.9,2,   40.30,2, -999.00,9,    22.2842,2, -999.00,9,  -999.0,9,     -999.0,     -999.0,9,     -999.0,9,     -999.0,     -999.0,9,     -999.0,     -999.0,9,     -999.0,     -999.0,     -999.0,9,     -999.0,9,     -999.0,9,     -999.0,9,     -999.0,9,     -999.0,9,     -999.0,9,     -999.0,9
33RO20161119,        P18,      81,          1,          3,      11102,2,20161212,       2122,    -7.9401,  -105.8801,       3494,  2950.0,   1.7729,  34.6752,2,  34.6839,4,    134.9,2,   134.6,2,   140.0,6,    37.0,6,    0.00,6,   2.560,6,   0.0019,2,   0.0014,2,   0.0000,2,  2337.5,2,  2425.4,6,   7.5553,2,    25.00, -999.00,9,  -999.0,9,  -999.0,        0,2, -999.00,9,    35.9,2,   40.70,2, -999.00,9,     21.864,2, -999.00,9,  -999.0,9,     -999.0,     -999.0,9,     -999.0,9,     -999.0,     -999.0,9,     -999.0,     -999.0,9,     -999.0,     -999.0,     -999.0,9,     -999.0,9,     -999.0,9,     -999.0,9,     -999.0,9,     -999.0,9,     -999.0,9,     -999.0,9
33RO20161119,        P18,      81,          1,          4,      11103,2,20161212,       2122,    -7.9401,  -105.8801,       3494,  2700.0,   1.8551,  34.6697,2,  34.6697,2,    131.5,2,   131.6,2,   137.1,6,    37.1,6,    0.00,6,   2.579,6,   0.0015,2,   0.0008,2,   0.0000,2,  2334.8,2,  2419.3,2,   7.5489,2,    25.00, -999.00,9,  -999.0,9,  -999.0,        0,2, -999.00,9,    35.5,2,   40.20,2, -999.00,9,    22.7133,2, -999.00,9,  -999.0,9,     -999.0,     -999.0,9,     -999.0,9,     -999.0,     -999.0,9,     -999.0,     -999.0,9,     -999.0,     -999.0,     -999.0,9,     -999.0,9,     -999.0,9,     -999.0,9,     -999.0,9,     -999.0,9,     -999.0,9,     -999.0,9
33RO20161119,        P18,      81,          1,          5,      11104,2,20161212,       2122,    -7.9401,  -105.8801,       3494,  2425.1,   2.0038,  34.6592,2,  34.6612,2,    118.5,2,   120.1,2,   138.1,2,    38.0,2,    0.00,2,   2.648,2,   0.0012,2,   0.0007,2,   0.0000,2,  2341.4,2,  2418.4,2,   7.5260,2,    25.00, -999.00,9,  -999.0,9,  -999.0,        0,2, -999.00,9,    36.3,2,   40.70,2, -999.00,9,    24.6283,2, -999.00,9,  -999.0,9,     -999.0,     -999.0,9,     -999.0,9,     -999.0,     -999.0,9,     -999.0,     -999.0,9,     -999.0,     -999.0,     -999.0,9,     -999.0,9,     -999.0,9,     -999.0,9,     -999.0,9,     -999.0,9,     -999.0,9,     -999.0,9
33RO20161119,        P18,      81,          1,          6,      11105,2,20161212,       2122,    -7.9401,  -105.8801,       3494,  2139.5,   2.1660,  34.6486,2,  34.6484,2,    113.7,2,   114.4,2,   134.4,2,    38.3,2,    0.00,2,   2.676,2,   0.0013,2,   0.0008,2,   0.0000,2,  2341.3,6,  2404.6,3,   7.5133,2,    25.00, -999.00,9,  -999.0,9,  -999.0,        0,2, -999.00,9,    36.4,2,   42.50,2, -999.00,9,    25.2273,2, -999.00,9,  -999.0,9,     -999.0,     -999.0,9,     -999.0,9,     -999.0,     -999.0,9,     -999.0,     -999.0,9,     -999.0,     -999.0,     -999.0,9,     -999.0,9,     -999.0,9,     -999.0,9,     -999.0,9,     -999.0,9,     -999.0,9,     -999.0,9
33RO20161119,        P18,      81,          1,          7,      11106,2,20161212,       2122,    -7.9401,  -105.8801,       3494,  1880.3,   2.3987,  34.6344,2,  34.6347,2,    105.4,2,   105.8,2,   129.0,2,    39.0,2,    0.00,2,   2.757,2,   0.0006,2,   0.0007,2,   0.0000,2,  2340.6,2,  2405.5,2,   7.4970,2,    25.00, -999.00,9,  -999.0,9,  -999.0,        0,2, -999.00,9,    36.8,2,   43.50,2, -999.00,9,    26.7565,2, -999.00,9,  -999.0,9,     -999.0,     -999.0,9,     -999.0,9,     -999.0,     -999.0,9,     -999.0,     -999.0,9,     -999.0,     -999.0,     -999.0,9,     -999.0,9,     -999.0,9,     -999.0,9,     -999.0,9,     -999.0,9,     -999.0,9,     -999.0,9
33RO20161119,        P18,      81,          1,          8,      11107,2,20161212,       2122,    -7.9401,  -105.8801,       3494,  1620.1,   2.7567,  34.6120,2,  34.6116,2,    100.7,2,   100.8,2,   117.9,2,    39.5,2,    0.00,2,   2.781,2,   0.0016,2,   0.0008,2,   0.0411,2,  2329.9,2,  2391.2,2,   7.4856,2,    25.00, -999.00,9,  -999.0,9,  -999.0,        0,2, -999.00,9,    36.5,2,   43.30,2, -999.00,9,    28.0599,2, -999.00,9,  -999.0,9,     -999.0,     -999.0,9,     -999.0,9,     -999.0,     -999.0,9,     -999.0,     -999.0,9,     -999.0,     -999.0,     -999.0,9,     -999.0,9,     -999.0,9,     -999.0,9,     -999.0,9,     -999.0,9,     -999.0,9,     -999.0,9
33RO20161119,        P18,      81,          1,          9,      11108,2,20161212,       2122,    -7.9401,  -105.8801,       3494,  1350.3,   3.3717,  34.5803,2,  34.5814,2,     92.9,2,    92.7,2,   101.8,2,    40.0,2,    0.00,2,   2.815,2,   0.0015,2,   0.0022,2,   0.0266,2,  2317.1,2,  2373.4,2,   7.4677,2,    25.00, -999.00,9,  -999.0,9,  -999.0,        0,2, -999.00,9,    37.6,2,   45.70,2, -999.00,9,    31.2303,2, -999.00,9,  -999.0,9,     -999.0,     -999.0,9,     -999.0,9,     -999.0,     -999.0,9,     -999.0,     -999.0,9,     -999.0,     -999.0,     -999.0,9,     -999.0,9,     -999.0,9,     -999.0,9,     -999.0,9,     -999.0,9,     -999.0,9,     -999.0,9
33RO20161119,        P18,      81,          1,         10,      11109,2,20161212,       2122,    -7.9401,  -105.8801,       3494,  1169.3,   3.9086,  34.5591,2,  34.5639,2,     88.2,2,    88.1,6,    88.9,2,    40.1,2,    0.00,2,   2.831,2,   0.0021,2,   0.0018,2,   0.0000,2,  2305.6,2,  2358.9,2,   7.4593,2,    25.00, -999.00,9,  -999.0,9,  -999.0,   0.0139,2, -999.00,9,    38.1,2,   44.50,2, -999.00,9,    33.0674,2, -999.00,9,  -999.0,9,     -999.0,     -999.0,9,     -999.0,9,     -999.0,     -999.0,9,     -999.0,     -999.0,9,     -999.0,     -999.0,     -999.0,9,     -999.0,9,     -999.0,9,     -999.0,9,     -999.0,9,     -999.0,9,     -999.0,9,     -999.0,9
33RO20161119,        P18,      81,          1,         11,      11110,2,20161212,       2122,    -7.9401,  -105.8801,       3494,  1050.3,   4.3042,  34.5464,2,  34.5529,2,     86.5,2,    85.8,2,    79.8,2,    40.2,2,    0.00,2,   2.814,2,   0.0035,2,   0.0031,2,   0.0000,2,  2298.8,2,  2349.1,2,   7.4582,2,    25.00, -999.00,9,  -999.0,9,  -999.0,        0,2, -999.00,9,    39.4,2,   44.20,2, -999.00,9,    34.1346,2, -999.00,9,  -999.0,9,     -999.0,     -999.0,9,     -999.0,9,     -999.0,     -999.0,9,     -999.0,     -999.0,9,     -999.0,     -999.0,     -999.0,9,     -999.0,9,     -999.0,9,     -999.0,9,     -999.0,9,     -999.0,9,     -999.0,9,     -999.0,9
33RO20161119,        P18,      81,          1,         12,      11111,2,20161212,       2122,    -7.9401,  -105.8801,       3494,   929.4,   4.8010,  34.5413,2,  34.5419,2,     70.5,2,    70.0,2,    72.3,2,    41.4,2,    0.00,2,   2.900,2,   0.0045,6,   0.0038,6,   0.0178,6,  2295.9,2,  2340.0,2,   7.4291,2,    25.00, -999.00,9,  -999.0,9,  -999.0,        0,2, -999.00,9,    37.3,2,   45.50,2, -999.00,9,    37.6597,2, -999.00,9,  -999.0,9,     -999.0,     -999.0,9,     -999.0,9,     -999.0,     -999.0,9,     -999.0,     -999.0,9,     -999.0,     -999.0,     -999.0,9,     -999.0,9,     -999.0,9,     -999.0,9,     -999.0,9,     -999.0,9,     -999.0,9,     -999.0,9
33RO20161119,        P18,      81,          1,         13,      11112,2,20161212,       2122,    -7.9401,  -105.8801,       3494,   821.1,   5.4241,  34.5407,2,  34.5409,2,     54.3,2,    53.3,2,    62.7,2,    42.6,2,    0.00,2,   2.947,2,   0.0048,2,   0.0033,2,   0.0000,2,  2295.6,2,  2328.6,2,   7.3995,2,    25.00, -999.00,9,  -999.0,9,  -999.0,   0.0114,2, -999.00,9,    39.0,2,   46.60,2, -999.00,9,     41.622,2, -999.00,9,  -999.0,9,     -999.0,     -999.0,9,     -999.0,9,     -999.0,     -999.0,9,     -999.0,     -999.0,9,     -999.0,     -999.0,     -999.0,9,     -999.0,9,     -999.0,9,     -999.0,9,     -999.0,9,     -999.0,9,     -999.0,9,     -999.0,9
33RO20161119,        P18,      81,          1,         14,      11113,2,20161212,       2122,    -7.9401,  -105.8801,       3494,   709.9,   6.1731,  34.5498,2,  34.5540,2,     38.5,2,    38.1,2,    52.6,2,    43.1,2,    0.00,2,   2.961,2,   0.0090,2,   0.0051,2,   0.0000,2,  2291.8,2,  2318.0,2,   7.3781,2,    25.00, -999.00,9,  -999.0,9,  -999.0,        0,2, -999.00,9,    42.6,2,   49.80,2, -999.00,9,    48.5769,2, -999.00,9,  -999.0,9,     -999.0,     -999.0,9,     -999.0,9,     -999.0,     -999.0,9,     -999.0,     -999.0,9,     -999.0,     -999.0,     -999.0,9,     -999.0,9,     -999.0,9,     -999.0,9,     -999.0,9,     -999.0,9,     -999.0,9,     -999.0,9
33RO20161119,        P18,      81,          1,         15,      11114,2,20161212,       2122,    -7.9401,  -105.8801,       3494,   605.5,   7.0775,  34.5796,2,  34.5782,2,     17.1,2,    17.1,2,    45.1,2,    43.2,2,    0.00,2,   2.999,2,   0.0166,2,   0.0108,2,   0.0000,2,  2294.2,2,  2309.6,2,   7.3460,2,    25.00, -999.00,9,  -999.0,9,  -999.0,   0.0129,2, -999.00,9,    41.0,2,   47.10,2, -999.00,9,    63.7532,2, -999.00,9,  -999.0,9,     -999.0,     -999.0,9,     -999.0,9,     -999.0,     -999.0,9,     -999.0,     -999.0,9,     -999.0,     -999.0,     -999.0,9,     -999.0,9,     -999.0,9,     -999.0,9,     -999.0,9,     -999.0,9,     -999.0,9,     -999.0,9
33RO20161119,        P18,      81,          1,         16,      11115,2,20161212,       2122,    -7.9401,  -105.8801,       3494,   505.2,   8.4616,  34.6490,2,  34.6491,2,      6.9,2,     6.1,2,    38.7,2,    40.2,2,    0.00,2,   2.888,2,   0.0681,2,   0.0407,2,   0.0383,2,  2287.1,2,  2304.4,2,   7.3467,2,    25.00, -999.00,9,  -999.0,9,  -999.0,   0.0185,2, -999.00,9,    39.6,2,   44.70,2, -999.00,9,    77.2968,2, -999.00,9,  -999.0,9,     -999.0,     -999.0,9,     -999.0,9,     -999.0,     -999.0,9,     -999.0,     -999.0,9,     -999.0,     -999.0,     -999.0,9,     -999.0,9,     -999.0,9,     -999.0,9,     -999.0,9,     -999.0,9,     -999.0,9,     -999.0,9
33RO20161119,        P18,      81,          1,         17,      11116,2,20161212,       2122,    -7.9401,  -105.8801,       3494,   415.1,   9.5818,  34.7161,2,  34.7291,4,      6.1,2,     5.4,6,    34.7,2,    36.7,2,    0.00,2,   2.739,2,   0.2219,2,   0.1260,2,   0.0538,2,  2280.8,2,  2302.0,6,   7.3665,2,    25.00, -999.00,9,  -999.0,9,  -999.0,   0.0428,2, -999.00,9,    42.1,2,   41.20,2, -999.00,9,    77.3246,2, -999.00,9,  -999.0,9,     -999.0,     -999.0,9,     -999.0,9,     -999.0,     -999.0,9,     -999.0,     -999.0,9,     -999.0,     -999.0,     -999.0,9,     -999.0,9,     -999.0,9,     -999.0,9,     -999.0,9,     -999.0,9,     -999.0,9,     -999.0,9
33RO20161119,        P18,      81,          1,         18,      11117,2,20161212,       2122,    -7.9401,  -105.8801,       3494,   324.6,  10.6503,  34.7842,2,  34.7863,2,      9.1,2,     8.6,2,    29.7,2,    34.3,2,    0.00,2,   2.557,2,   0.4750,2,   0.2655,2,   0.0939,2,  2271.5,2,  2300.5,2,   7.3975,2,    25.00, -999.00,9,  -999.0,9,  -999.0,   0.0797,2, -999.00,9,    43.5,2,   38.10,2, -999.00,9,     73.438,2, -999.00,9,  -999.0,9,     -999.0,     -999.0,9,     -999.0,9,     -999.0,     -999.0,9,     -999.0,     -999.0,9,     -999.0,     -999.0,     -999.0,9,     -999.0,9,     -999.0,9,     -999.0,9,     -999.0,9,     -999.0,9,     -999.0,9,     -999.0,9
33RO20161119,        P18,      81,          1,         19,      11083,2,20161212,       2122,    -7.9401,  -105.8801,       3494,   245.3,  11.5808,  34.8453,2,  34.8466,2,     18.5,2,    18.0,2,    25.1,2,    32.1,2,    0.00,2,   2.386,2,   0.8124,6,   0.4501,6,   0.1858,6,  2256.3,2,  2301.3,2,   7.4397,2,    25.00, -999.00,9,  -999.0,9,  -999.0,   0.0718,2, -999.00,9,    45.0,2,   35.50,2, -999.00,9,    72.7029,2, -999.00,9,  -999.0,9,     -999.0,     -999.0,9,     -999.0,9,     -999.0,     -999.0,9,     -999.0,     -999.0,9,     -999.0,     -999.0,     -999.0,9,     -999.0,9,     -999.0,9,     -999.0,9,     -999.0,9,     -999.0,9,     -999.0,9,     -999.0,9
33RO20161119,        P18,      81,          1,         20,      11118,2,20161212,       2122,    -7.9401,  -105.8801,       3494,   175.4,  12.8201,  34.9002,2,  34.9137,3,      8.3,2,     7.4,2,    20.9,2,    28.4,2,    0.01,2,   2.469,2,   1.1639,2,   0.6625,2,   0.3123,2,  2258.0,2,  2301.2,2,   7.4302,2,    25.00, -999.00,9,  -999.0,9,  -999.0,   0.5022,2, -999.00,9,    47.8,2,   30.80,2, -999.00,9,     88.144,2, -999.00,9,  -999.0,9,     -999.0,     -999.0,9,     -999.0,9,     -999.0,     -999.0,9,     -999.0,     -999.0,9,     -999.0,     -999.0,     -999.0,9,     -999.0,9,     -999.0,9,     -999.0,9,     -999.0,9,     -999.0,9,     -999.0,9,     -999.0,9
33RO20161119,        P18,      81,          1,         21,      11119,2,20161212,       2122,    -7.9401,  -105.8801,       3494,   114.9,  18.2031,  35.3967,2,  35.3964,2,    153.5,2,   143.2,2,     3.1,2,    10.6,2,    1.05,2,   1.177,2,   2.1711,2,   1.3288,2,   1.4851,2,  2153.0,2,  2335.4,2,   7.8032,2,    25.00, -999.00,9,  -999.0,9,  -999.0,   1.3545,2, -999.00,9,    54.8,2,   14.10,2, -999.00,9,    22.6149,2, -999.00,9,  -999.0,9,     -999.0,     -999.0,9,     -999.0,9,     -999.0,     -999.0,9,     -999.0,     -999.0,9,     -999.0,     -999.0,     -999.0,9,     -999.0,9,     -999.0,9,     -999.0,9,     -999.0,9,     -999.0,9,     -999.0,9,     -999.0,9
33RO20161119,        P18,      81,          1,         22,      11120,2,20161212,       2122,    -7.9401,  -105.8801,       3494,    60.6,  24.2888,  35.5526,2,  35.5763,2,    210.5,2,   210.0,2,     2.3,2,     5.9,2,    0.13,2,   0.705,2,   1.7105,2,   1.0851,2,   1.4625,2,  2068.1,2,  2341.5,2,   7.9842,2,    25.00, -999.00,9,  -999.0,9,  -999.0,   1.6241,2, -999.00,9,    63.4,2,   11.00,2, -999.00,9,     7.2478,2, -999.00,9,  -999.0,9,     -999.0,     -999.0,9,     -999.0,9,     -999.0,     -999.0,9,     -999.0,     -999.0,9,     -999.0,     -999.0,     -999.0,9,     -999.0,9,     -999.0,9,     -999.0,9,     -999.0,9,     -999.0,9,     -999.0,9,     -999.0,9
33RO20161119,        P18,      81,          1,         23,      11121,2,20161212,       2122,    -7.9401,  -105.8801,       3494,    25.9,  24.2816,  35.2045,2,  35.2054,2,    210.5,2,   210.9,2,     2.3,2,     7.4,2,    0.15,2,   0.720,2,   1.7304,2,   1.0912,2,   1.5167,2,  2062.2,2,  2321.4,6,   7.9615,2,    25.00, -999.00,9,  -999.0,9,  -999.0,   1.6549,2, -999.00,9,    62.6,2,   11.30,2, -999.00,9,     7.3938,2, -999.00,9,  -999.0,9,     -999.0,     -999.0,9,     -999.0,9,     -999.0,     -999.0,9,     -999.0,     -999.0,9,     -999.0,     -999.0,     -999.0,9,     -999.0,9,     -999.0,9,     -999.0,9,     -999.0,9,     -999.0,9,     -999.0,9,     -999.0,9
33RO20161119,        P18,      81,          1,         24,      11122,2,20161212,       2122,    -7.9401,  -105.8801,       3494,     3.4,  24.5632,  35.2070,2,  35.2075,2,    208.9,2,   210.2,2,     2.3,2,     7.4,2,    0.16,2,   0.720,2,   1.7328,2,   1.0885,2,   1.4547,2,  2062.8,6,  2321.4,2,   7.9598,2,    25.00, -999.00,9,  -999.0,9,  -999.0,   0.0127,2, -999.00,9,    61.0,2,   11.20,2, -999.00,9,     7.2014,2, -999.00,9,  -999.0,9,     -999.0,     -999.0,9,     -999.0,9,     -999.0,     -999.0,9,     -999.0,     -999.0,9,     -999.0,     -999.0,     -999.0,9,     -999.0,9,     -999.0,9,     -999.0,9,     -999.0,9,     -999.0,9,     -999.0,9,     -999.0,9