BOTTLE,20230606CCHSIOCBG
EXPOCODE,SECT_ID,STNNBR,CASTNO,SAMPNO,BTLNBR,BTLNBR_FLAG_W,DATE,TIME,LATITUDE,LONGITUDE,DEPTH,CTDPRS,CTDTMP,CTDSAL,CTDSAL_FLAG_W,SALNTY,SALNTY_FLAG_W,CTDOXY,CTDOXY_FLAG_W,OXYGEN,OXYGEN_FLAG_W,SILCAT,SILCAT_FLAG_W,NITRAT,NITRAT_FLAG_W,NITRIT,NITRIT_FLAG_W,PHSPHT,PHSPHT_FLAG_W,CFC-11,CFC-11_FLAG_W,CFC-12,CFC-12_FLAG_W,SF6,SF6_FLAG_W,TCARBN,TCARBN_FLAG_W,ALKALI,ALKALI_FLAG_W,PH_SWS,PH_SWS_FLAG_W,PH_TMP,DELC13,DELC13_FLAG_W,DELC14,DELC14_FLAG_W,C14ERR,CCL4,CCL4_FLAG_W,POC,POC_FLAG_W,DOC,DOC_FLAG_W,TDN,TDN_FLAG_W,PON,PON_FLAG_W,N2O,N2O_FLAG_W,D15N_NO3,D15N_NO3_FLAG_W,14C-DOC,14C-DOC_FLAG_W,14C-DOCERR,13C-DOC,13C-DOC_FLAG_W,N2/ARGON_UNSTRIPPED,N2/ARGON_UNSTRIPPED_FLAG_W,N2/ARGON_UNSTRIPPED_ERROR,N2/ARGON,N2/ARGON_FLAG_W,N2/ARGON_ERROR,D15N_N2,D15N_N2_FLAG_W,D15N_N2_ERROR,D15N_NO3_ERROR,D15N_NO2+NO3,D15N_NO2+NO3_FLAG_W,D18O_NO2+NO3,D18O_NO2+NO3_FLAG_W,D18O_NO3,D18O_NO3_FLAG_W,TDP,TDP_FLAG_W,N2O_ALT_1,N2O_ALT_1_FLAG_W,D15N_N2O,D15N_N2O_FLAG_W,D18O_N2O,D18O_N2O_FLAG_W,D15N_ALPHA_N2O,D15N_ALPHA_N2O_FLAG_W
,,,,,,,,,,,METERS,DBAR,ITS-90,PSS-78,,PSS-78,,UMOL/KG,,UMOL/KG,,UMOL/KG,,UMOL/KG,,UMOL/KG,,UMOL/KG,,PMOL/KG,,PMOL/KG,,FMOL/KG,,UMOL/KG,,UMOL/KG,,,,DEG C,/MILLE,,/MILLE,,/MILLE,PMOL/KG,,UG/KG,,UMOL/KG,,UMOL/KG,,UG/KG,,NMOL/KG,,/MILLE,,/MILLE,,/MILLE,/MILLE,,,,,,,,/MILLE,,/MILLE,/MILLE,/MILLE,,/MILLE,,/MILLE,,UMOL/KG,,NMOL/L,,/MILLE,,/MILLE,,/MILLE,
33RO20161119,        P18,     203,          1,          1,      11010,2,20170125,       0057,   -67.5004,  -103.0230,       4633,  4716.9,   0.4022,  34.6999,2,  34.7040,3,    214.5,2,   214.8,2,   143.5,2,    33.2,2,    0.02,2,   2.274,2,   0.4497,2,   0.2126,2,   0.0613,2,  2265.8,6,  2361.5,6,   7.5919,2,    25.00,    0.40,6,  -159.7,6,     2.5,   0.2761,2, -999.00,9,  -999.0,9, -999.00,9, -999.00,9,    18.2917,2, -999.00,9,  -999.0,9,     -999.0,     -999.0,9,     -999.0,9,     -999.0,     -999.0,9,     -999.0,     -999.0,9,     -999.0,     -999.0,     -999.0,9,     -999.0,9,     -999.0,9,     -999.0,9,     -999.0,9,     -999.0,9,     -999.0,9,     -999.0,9
33RO20161119,        P18,     203,          1,          2,      11101,2,20170125,       0057,   -67.5004,  -103.0230,       4633,  4325.9,   0.3912,  34.7014,2,  34.7014,2,    213.8,2,   213.7,2,   137.8,2,    33.1,2,    0.01,2,   2.263,2,-999.0000,9,-999.0000,9,-999.0000,9,  2265.0,2,  2360.2,2,   7.5885,2,    25.00,    0.49,2,  -162.1,2,     1.8,-999.0000,9, -999.00,9,  -999.0,9, -999.00,9, -999.00,9,     -999.0,9, -999.00,9,  -999.0,9,     -999.0,     -999.0,9,     -999.0,9,     -999.0,     -999.0,9,     -999.0,     -999.0,9,     -999.0,     -999.0,     -999.0,9,     -999.0,9,     -999.0,9,     -999.0,9,     -999.0,9,     -999.0,9,     -999.0,9,     -999.0,9
33RO20161119,        P18,     203,          1,          3,      11102,2,20170125,       0057,   -67.5004,  -103.0230,       4633,  3935.2,   0.4152,  34.7027,2,  34.7015,2,    212.2,2,   212.4,2,   135.0,6,    33.1,6,    0.01,6,   2.264,6,   0.3062,2,   0.1459,2,   0.0696,2,  2263.6,2,  2366.1,2,   7.5886,2,    25.00,    0.52,2,  -162.5,2,     1.9,   0.2379,2, -999.00,9,  -999.0,9, -999.00,9, -999.00,9,      18.26,2, -999.00,9,  -999.0,9,     -999.0,     -999.0,9,     -999.0,9,     -999.0,     -999.0,9,     -999.0,     -999.0,9,     -999.0,     -999.0,     -999.0,9,     -999.0,9,     -999.0,9,     -999.0,9,     -999.0,9,     -999.0,9,     -999.0,9,     -999.0,9
33RO20161119,        P18,     203,          1,          4,      11103,2,20170125,       0057,   -67.5004,  -103.0230,       4633,  3574.4,   0.4744,  34.7031,2,  34.7045,2,    211.2,2,   211.1,2,   130.7,6,    33.0,6,    0.01,6,   2.256,6,   0.2965,2,   0.1416,2,   0.0362,2,  2263.7,2,  2364.4,2,   7.5880,2,    25.00,    0.48,2,  -159.5,2,     2.0,   0.2211,2, -999.00,9,  -999.0,9, -999.00,9, -999.00,9,    18.2436,2, -999.00,9,  -999.0,9,     -999.0,     -999.0,9,     -999.0,9,     -999.0,     -999.0,9,     -999.0,     -999.0,9,     -999.0,     -999.0,     -999.0,9,     -999.0,9,     -999.0,9,     -999.0,9,     -999.0,9,     -999.0,9,     -999.0,9,     -999.0,9
33RO20161119,        P18,     203,          1,          5,      11104,2,20170125,       0057,   -67.5004,  -103.0230,       4633,  3201.2,   0.5912,  34.7052,2,  34.7053,2,    208.0,2,   208.8,2,   127.5,6,    33.0,6,    0.01,6,   2.264,6,   0.2666,2,   0.1292,2,   0.0388,2,  2262.2,2,  2363.4,2,   7.5881,2,    25.00,    0.50,2,  -163.0,2,     2.5,   0.2432,2, -999.00,9,  -999.0,9, -999.00,9, -999.00,9,    18.5356,2, -999.00,9,  -999.0,9,     -999.0,     -999.0,9,     -999.0,9,     -999.0,     -999.0,9,     -999.0,     -999.0,9,     -999.0,     -999.0,     -999.0,9,     -999.0,9,     -999.0,9,     -999.0,9,     -999.0,9,     -999.0,9,     -999.0,9,     -999.0,9
33RO20161119,        P18,     203,          1,          6,      11105,2,20170125,       0057,   -67.5004,  -103.0230,       4633,  2821.3,   0.7380,  34.7089,2,  34.7080,2,    205.1,2,   205.6,2,   124.4,6,    32.8,6,    0.01,6,   2.249,6,   0.2015,2,   0.0976,2,   0.0545,2,  2262.1,2,  2360.8,2,   7.5902,2,    25.00,    0.50,2,  -162.6,2,     1.7,   0.2753,2, -999.00,9,  -999.0,9, -999.00,9, -999.00,9,    18.5168,2, -999.00,9,  -999.0,9,     -999.0,     -999.0,9,     -999.0,9,     -999.0,     -999.0,9,     -999.0,     -999.0,9,     -999.0,     -999.0,     -999.0,9,     -999.0,9,     -999.0,9,     -999.0,9,     -999.0,9,     -999.0,9,     -999.0,9,     -999.0,9
33RO20161119,        P18,     203,          1,          7,      11106,2,20170125,       0057,   -67.5004,  -103.0230,       4633,  2461.7,   0.8565,  34.7130,2,  34.7253,4,    202.6,2,   203.1,2,   120.2,2,    32.7,2,    0.02,2,   2.230,2,   0.1651,2,   0.0803,2,   0.0325,2,  2262.2,2,  2364.7,2,   7.5902,2,    25.00,    0.49,2,  -162.4,2,     2.4,   0.2472,2, -999.00,9,  -999.0,9, -999.00,9, -999.00,9,    18.5829,2, -999.00,9,  -999.0,9,     -999.0,     -999.0,9,     -999.0,9,     -999.0,     -999.0,9,     -999.0,     -999.0,9,     -999.0,     -999.0,     -999.0,9,     -999.0,9,     -999.0,9,     -999.0,9,     -999.0,9,     -999.0,9,     -999.0,9,     -999.0,9
33RO20161119,        P18,     203,          1,          8,      11107,2,20170125,       0057,   -67.5004,  -103.0230,       4633,  2100.3,   1.0147,  34.7193,2,  34.7302,4,    199.8,2,   200.6,2,   114.8,2,    32.5,2,    0.01,2,   2.228,2,   0.1358,2,   0.0656,2,   0.0221,2,  2261.8,2,  2360.0,2,   7.5942,2,    25.00,    0.47,2,  -162.5,2,     2.6,   0.2422,2, -999.00,9,  -999.0,9, -999.00,9, -999.00,9,    18.7303,2, -999.00,9,  -999.0,9,     -999.0,     -999.0,9,     -999.0,9,     -999.0,     -999.0,9,     -999.0,     -999.0,9,     -999.0,     -999.0,     -999.0,9,     -999.0,9,     -999.0,9,     -999.0,9,     -999.0,9,     -999.0,9,     -999.0,9,     -999.0,9
33RO20161119,        P18,     203,          1,          9,      11108,2,20170125,       0057,   -67.5004,  -103.0230,       4633,  1771.3,   1.1868,  34.7253,2,  34.7275,2,    196.8,2,   197.3,2,   108.7,2,    32.3,2,    0.01,2,   2.214,2,   0.1286,2,   0.0610,2,   0.0000,2,  2260.5,2,  2358.5,2,   7.5936,2,    25.00,    0.46,2,  -160.0,2,     2.2,   0.3126,2, -999.00,9,  -999.0,9, -999.00,9, -999.00,9,    18.7747,2, -999.00,9,  -999.0,9,     -999.0,     -999.0,9,     -999.0,9,     -999.0,     -999.0,9,     -999.0,     -999.0,9,     -999.0,     -999.0,     -999.0,9,     -999.0,9,     -999.0,9,     -999.0,9,     -999.0,9,     -999.0,9,     -999.0,9,     -999.0,9
33RO20161119,        P18,     203,          1,         10,      11109,2,20170125,       0057,   -67.5004,  -103.0230,       4633,  1565.2,   1.3106,  34.7293,2,  34.7315,2,    194.6,2,   195.5,2,   104.5,2,    32.3,2,    0.01,2,   2.214,2,   0.1433,2,   0.0691,2,   0.0000,2,  2258.9,2,  2355.6,2,   7.5923,2,    25.00,    0.48,2,  -158.5,2,     1.8,   0.3341,2, -999.00,9,  -999.0,9, -999.00,9, -999.00,9,    19.0796,2, -999.00,9,  -999.0,9,     -999.0,     -999.0,9,     -999.0,9,     -999.0,     -999.0,9,     -999.0,     -999.0,9,     -999.0,     -999.0,     -999.0,9,     -999.0,9,     -999.0,9,     -999.0,9,     -999.0,9,     -999.0,9,     -999.0,9,     -999.0,9
33RO20161119,        P18,     203,          1,         11,      11110,2,20170125,       0057,   -67.5004,  -103.0230,       4633,  1396.3,   1.4154,  34.7321,2,  34.7407,4,    192.7,2,   193.4,6,   101.0,2,    32.1,2,    0.01,2,   2.194,2,   0.1581,6,   0.0770,6,   0.0181,6,  2257.4,2,  2355.0,2,   7.5926,2,    25.00,    0.47,2,  -156.7,2,     2.3,   0.5234,2, -999.00,9,  -999.0,9, -999.00,9, -999.00,9,    19.2292,2, -999.00,9,  -999.0,9,     -999.0,     -999.0,9,     -999.0,9,     -999.0,     -999.0,9,     -999.0,     -999.0,9,     -999.0,     -999.0,     -999.0,9,     -999.0,9,     -999.0,9,     -999.0,9,     -999.0,9,     -999.0,9,     -999.0,9,     -999.0,9
33RO20161119,        P18,     203,          1,         12,      11111,2,20170125,       0057,   -67.5004,  -103.0230,       4633,  1233.6,   1.5443,  34.7334,2,  34.7358,2,    191.3,2,   191.6,2,    96.9,2,    32.0,2,    0.01,2,   2.185,2,   0.1732,2,   0.0851,2,   0.0173,2,  2254.8,2,  2354.1,2,   7.5915,2,    25.00,    0.47,2,  -152.3,2,     2.4,   1.3466,2, -999.00,9,  -999.0,9, -999.00,9, -999.00,9,    19.3606,2, -999.00,9,  -999.0,9,     -999.0,     -999.0,9,     -999.0,9,     -999.0,     -999.0,9,     -999.0,     -999.0,9,     -999.0,     -999.0,     -999.0,9,     -999.0,9,     -999.0,9,     -999.0,9,     -999.0,9,     -999.0,9,     -999.0,9,     -999.0,9
33RO20161119,        P18,     203,          1,         13,      11112,2,20170125,       0057,   -67.5004,  -103.0230,       4633,  1080.3,   1.6756,  34.7327,2,  34.7332,2,    188.7,2,   189.2,2,    93.0,2,    32.0,2,    0.01,2,   2.180,2,   0.2043,2,   0.1008,2,   0.0500,2,  2255.8,2,  2352.1,2,   7.5867,2,    25.00,   -0.31,4,  -154.8,2,     2.1,   2.4056,2, -999.00,9,  -999.0,9, -999.00,9, -999.00,9,    19.4267,2, -999.00,9,  -999.0,9,     -999.0,     -999.0,9,     -999.0,9,     -999.0,     -999.0,9,     -999.0,     -999.0,9,     -999.0,     -999.0,     -999.0,9,     -999.0,9,     -999.0,9,     -999.0,9,     -999.0,9,     -999.0,9,     -999.0,9,     -999.0,9
33RO20161119,        P18,     203,          1,         14,      11113,2,20170125,       0057,   -67.5004,  -103.0230,       4633,   924.9,   1.8110,  34.7270,2,  34.7275,2,    185.3,2,   185.4,6,    89.5,2,    32.1,2,    0.01,2,   2.193,2,   0.2264,2,   0.1116,2,   0.0494,2,  2255.5,2,  2349.8,2,   7.5824,2,    25.00,   -0.49,4,  -148.6,3,     1.9,   7.5101,2, -999.00,9,  -999.0,9, -999.00,9, -999.00,9,     19.945,2, -999.00,9,  -999.0,9,     -999.0,     -999.0,9,     -999.0,9,     -999.0,     -999.0,9,     -999.0,     -999.0,9,     -999.0,     -999.0,     -999.0,9,     -999.0,9,     -999.0,9,     -999.0,9,     -999.0,9,     -999.0,9,     -999.0,9,     -999.0,9
33RO20161119,        P18,     203,          1,         15,      11114,2,20170125,       0057,   -67.5004,  -103.0230,       4633,   782.5,   1.9200,  34.7140,2,  34.7181,2,    181.2,2,   180.9,2,    86.5,2,    32.6,2,    0.01,2,   2.219,2,-999.0000,9,-999.0000,9,-999.0000,9,  2255.0,2,  2348.5,2,   7.5727,2,    25.00,   -0.62,4,  -155.1,2,     2.1,-999.0000,9, -999.00,9,  -999.0,9, -999.00,9, -999.00,9,     -999.0,9, -999.00,9,  -999.0,9,     -999.0,     -999.0,9,     -999.0,9,     -999.0,     -999.0,9,     -999.0,     -999.0,9,     -999.0,     -999.0,     -999.0,9,     -999.0,9,     -999.0,9,     -999.0,9,     -999.0,9,     -999.0,9,     -999.0,9,     -999.0,9
33RO20161119,        P18,     203,          1,         16,      11115,2,20170125,       0057,   -67.5004,  -103.0230,       4633,   643.7,   2.0089,  34.6920,2,  34.6903,2,    177.1,2,   176.9,2,    83.8,2,    33.0,2,    0.01,2,   2.255,2,   0.3619,2,   0.1829,2,   0.1260,2,  2257.9,2,  2345.4,2,   7.5599,2,    25.00,   -0.75,4,  -151.1,2,     2.2,   7.2558,2, -999.00,9,  -999.0,9, -999.00,9, -999.00,9,    21.2151,2, -999.00,9,  -999.0,9,     -999.0,     -999.0,9,     -999.0,9,     -999.0,     -999.0,9,     -999.0,     -999.0,9,     -999.0,     -999.0,     -999.0,9,     -999.0,9,     -999.0,9,     -999.0,9,     -999.0,9,     -999.0,9,     -999.0,9,     -999.0,9
33RO20161119,        P18,     203,          1,         17,      11116,2,20170125,       0057,   -67.5004,  -103.0230,       4633,   520.8,   2.0625,  34.6595,2,  34.6598,2,    175.0,2,   174.7,2,    81.3,2,    33.7,2,    0.01,2,   2.294,2,-999.0000,9,-999.0000,9,-999.0000,9,  2257.0,6,  2346.7,6,   7.5513,2,    25.00,    0.41,2,  -149.4,2,     1.7,-999.0000,9, -999.00,9,  -999.0,9, -999.00,9, -999.00,9,     -999.0,9, -999.00,9,  -999.0,9,     -999.0,     -999.0,9,     -999.0,9,     -999.0,     -999.0,9,     -999.0,     -999.0,9,     -999.0,     -999.0,     -999.0,9,     -999.0,9,     -999.0,9,     -999.0,9,     -999.0,9,     -999.0,9,     -999.0,9,     -999.0,9
33RO20161119,        P18,     203,          1,         18,      11117,2,20170125,       0057,   -67.5004,  -103.0230,       4633,   400.0,   2.1209,  34.6083,2,  34.6053,2,    174.1,2,   173.5,2,    77.7,2,    34.4,2,    0.01,2,   2.344,2,   0.7142,2,   0.3581,2,   0.2377,2,  2256.8,2,  2335.0,2,   7.5418,6,    25.00,    0.38,2,  -145.7,2,     1.7,   6.4935,2, -999.00,9,  -999.0,9, -999.00,9, -999.00,9,    22.6003,2, -999.00,9,  -999.0,9,     -999.0,     -999.0,9,     -999.0,9,     -999.0,     -999.0,9,     -999.0,     -999.0,9,     -999.0,     -999.0,     -999.0,9,     -999.0,9,     -999.0,9,     -999.0,9,     -999.0,9,     -999.0,9,     -999.0,9,     -999.0,9
33RO20161119,        P18,     203,          1,         19,      11083,2,20170125,       0057,   -67.5004,  -103.0230,       4633,   295.7,   1.9838,  34.5222,2,  34.5209,2,    178.4,2,   181.3,2,    73.2,2,    35.1,2,    0.02,2,   2.392,2,   1.2544,2,   0.6496,2,   0.4995,2,  2254.3,2,  2337.5,2,   7.5320,2,    25.00,    0.40,2,  -137.4,2,     1.7,   7.1399,2, -999.00,9,  -999.0,9, -999.00,9, -999.00,9,    23.1674,2, -999.00,9,  -999.0,9,     -999.0,     -999.0,9,     -999.0,9,     -999.0,     -999.0,9,     -999.0,     -999.0,9,     -999.0,     -999.0,     -999.0,9,     -999.0,9,     -999.0,9,     -999.0,9,     -999.0,9,     -999.0,9,     -999.0,9,     -999.0,9
33RO20161119,        P18,     203,          1,         20,      11118,2,20170125,       0057,   -67.5004,  -103.0230,       4633,   200.2,   1.6485,  34.3566,2,  34.3652,2,    207.5,2,   212.5,2,    62.4,2,    34.6,2,    0.02,2,   2.357,2,   2.4697,2,   1.3003,2,   1.2018,2,  2237.1,2,  2315.8,2,   7.5475,2,    25.00,    0.57,2,  -119.8,2,     1.7,   0.5149,2, -999.00,9,  -999.0,9, -999.00,9, -999.00,9,    22.3769,2, -999.00,9,  -999.0,9,     -999.0,     -999.0,9,     -999.0,9,     -999.0,     -999.0,9,     -999.0,     -999.0,9,     -999.0,     -999.0,     -999.0,9,     -999.0,9,     -999.0,9,     -999.0,9,     -999.0,9,     -999.0,9,     -999.0,9,     -999.0,9
33RO20161119,        P18,     203,          1,         21,      11119,2,20170125,       0057,   -67.5004,  -103.0230,       4633,   122.0,  -0.9245,  33.9598,2,  33.9604,2,    330.5,2,   329.8,2,    38.7,2,    29.2,2,    0.16,2,   2.015,2,   5.8136,2,   3.0902,2,   3.4445,2,  2181.0,2,  2287.5,2,   7.6361,2,    25.00,    1.10,2,   -93.0,2,     1.9,   0.4785,2, -999.00,9,  -999.0,9, -999.00,9, -999.00,9,    15.9979,2, -999.00,9,  -999.0,9,     -999.0,     -999.0,9,     -999.0,9,     -999.0,     -999.0,9,     -999.0,     -999.0,9,     -999.0,     -999.0,     -999.0,9,     -999.0,9,     -999.0,9,     -999.0,9,     -999.0,9,     -999.0,9,     -999.0,9,     -999.0,9
33RO20161119,        P18,     203,          1,         22,      11120,2,20170125,       0057,   -67.5004,  -103.0230,       4633,    55.1,  -1.3080,  33.7854,2,  33.7887,2,    348.4,2,   349.7,2,    33.1,2,    26.4,2,    0.27,2,   1.972,2,   6.3142,2,   3.3511,2,   3.7352,2,  2166.9,2,  2281.6,2,   7.6573,2,    25.00,    1.24,2,   -93.8,2,     2.4,    0.428,2, -999.00,9,  -999.0,9, -999.00,9, -999.00,9,    15.7728,2, -999.00,9,  -999.0,9,     -999.0,     -999.0,9,     -999.0,9,     -999.0,     -999.0,9,     -999.0,     -999.0,9,     -999.0,     -999.0,     -999.0,9,     -999.0,9,     -999.0,9,     -999.0,9,     -999.0,9,     -999.0,9,     -999.0,9,     -999.0,9
33RO20161119,        P18,     203,          1,         23,      11121,2,20170125,       0057,   -67.5004,  -103.0230,       4633,    20.6,   1.6749,  33.6592,2,  33.6617,2,    340.1,2,   343.8,2,    10.9,2,    21.8,2,    0.30,2,   1.417,2,   5.7583,2,   3.0958,2,   3.5842,2,  2132.3,2,  2278.7,6,   7.7410,2,    25.00,    1.71,2,   -85.0,2,     2.4,   0.3868,2, -999.00,9,  -999.0,9, -999.00,9, -999.00,9,    14.4795,2, -999.00,9,  -999.0,9,     -999.0,     -999.0,9,     -999.0,9,     -999.0,     -999.0,9,     -999.0,     -999.0,9,     -999.0,     -999.0,     -999.0,9,     -999.0,9,     -999.0,9,     -999.0,9,     -999.0,9,     -999.0,9,     -999.0,9,     -999.0,9
33RO20161119,        P18,     203,          1,         24,      11122,2,20170125,       0057,   -67.5004,  -103.0230,       4633,     3.2,   1.6747,  33.6596,2,  33.6606,2,    340.3,2,   344.1,2,    10.9,2,    21.8,2,    0.30,2,   1.420,2,   5.8157,2,   3.0977,2,   3.4983,2,  2131.4,6,  2274.6,2,   7.7372,6,    25.00,    1.74,2,   -89.3,2,     1.6,   0.3208,2, -999.00,9,  -999.0,9, -999.00,9, -999.00,9,    14.4253,2, -999.00,9,  -999.0,9,     -999.0,     -999.0,9,     -999.0,9,     -999.0,     -999.0,9,     -999.0,     -999.0,9,     -999.0,     -999.0,     -999.0,9,     -999.0,9,     -999.0,9,     -999.0,9,     -999.0,9,     -999.0,9,     -999.0,9,     -999.0,9