BOTTLE,20230606CCHSIOCBG
EXPOCODE,SECT_ID,STNNBR,CASTNO,SAMPNO,BTLNBR,BTLNBR_FLAG_W,DATE,TIME,LATITUDE,LONGITUDE,DEPTH,CTDPRS,CTDTMP,CTDSAL,CTDSAL_FLAG_W,SALNTY,SALNTY_FLAG_W,CTDOXY,CTDOXY_FLAG_W,OXYGEN,OXYGEN_FLAG_W,SILCAT,SILCAT_FLAG_W,NITRAT,NITRAT_FLAG_W,NITRIT,NITRIT_FLAG_W,PHSPHT,PHSPHT_FLAG_W,CFC-11,CFC-11_FLAG_W,CFC-12,CFC-12_FLAG_W,SF6,SF6_FLAG_W,TCARBN,TCARBN_FLAG_W,ALKALI,ALKALI_FLAG_W,PH_SWS,PH_SWS_FLAG_W,PH_TMP,DELC13,DELC13_FLAG_W,DELC14,DELC14_FLAG_W,C14ERR,CCL4,CCL4_FLAG_W,POC,POC_FLAG_W,DOC,DOC_FLAG_W,TDN,TDN_FLAG_W,PON,PON_FLAG_W,N2O,N2O_FLAG_W,D15N_NO3,D15N_NO3_FLAG_W,14C-DOC,14C-DOC_FLAG_W,14C-DOCERR,13C-DOC,13C-DOC_FLAG_W,N2/ARGON_UNSTRIPPED,N2/ARGON_UNSTRIPPED_FLAG_W,N2/ARGON_UNSTRIPPED_ERROR,N2/ARGON,N2/ARGON_FLAG_W,N2/ARGON_ERROR,D15N_N2,D15N_N2_FLAG_W,D15N_N2_ERROR,D15N_NO3_ERROR,D15N_NO2+NO3,D15N_NO2+NO3_FLAG_W,D18O_NO2+NO3,D18O_NO2+NO3_FLAG_W,D18O_NO3,D18O_NO3_FLAG_W,TDP,TDP_FLAG_W,N2O_ALT_1,N2O_ALT_1_FLAG_W,D15N_N2O,D15N_N2O_FLAG_W,D18O_N2O,D18O_N2O_FLAG_W,D15N_ALPHA_N2O,D15N_ALPHA_N2O_FLAG_W
,,,,,,,,,,,METERS,DBAR,ITS-90,PSS-78,,PSS-78,,UMOL/KG,,UMOL/KG,,UMOL/KG,,UMOL/KG,,UMOL/KG,,UMOL/KG,,PMOL/KG,,PMOL/KG,,FMOL/KG,,UMOL/KG,,UMOL/KG,,,,DEG C,/MILLE,,/MILLE,,/MILLE,PMOL/KG,,UG/KG,,UMOL/KG,,UMOL/KG,,UG/KG,,NMOL/KG,,/MILLE,,/MILLE,,/MILLE,/MILLE,,,,,,,,/MILLE,,/MILLE,/MILLE,/MILLE,,/MILLE,,/MILLE,,UMOL/KG,,NMOL/L,,/MILLE,,/MILLE,,/MILLE,
33RO20161119,        P18,     173,          1,          1,      11010,2,20170116,       0526,   -52.4998,  -102.9998,       4433,  4490.2,   0.7965,  34.7092,2,  34.7100,2,    204.6,2,   204.8,2,   131.5,2,    32.7,2,    0.02,2,   2.247,2,   0.0712,2,   0.0360,2,   0.0000,2,  2273.0,6,  2371.6,2,   7.6067,2,    25.00, -999.00,9,  -999.0,9,  -999.0,   0.0752,2, -999.00,9,    41.6,2,   33.80,2, -999.00,9,    18.4106,2, -999.00,9,  -999.0,9,     -999.0,     -999.0,9,     -999.0,9,     -999.0,     -999.0,9,     -999.0,     -999.0,9,     -999.0,     -999.0,     -999.0,9,     -999.0,9,     -999.0,9,     -999.0,9,     -999.0,9,     -999.0,9,     -999.0,9,     -999.0,9
33RO20161119,        P18,     173,          1,          2,      11101,2,20170116,       0526,   -52.4998,  -102.9998,       4433,  4127.9,   0.8302,  34.7106,2,  34.7123,2,    203.2,2,   203.7,2,   129.1,6,    32.7,6,    0.02,6,   2.248,6,   0.0608,2,   0.0297,2,   0.0450,2,  2269.7,2,  2374.5,6,   7.6039,6,    25.00, -999.00,9,  -999.0,9,  -999.0,   0.1707,2, -999.00,9,    44.5,2,   34.30,2, -999.00,9,    18.5288,2, -999.00,9,  -999.0,9,     -999.0,     -999.0,9,     -999.0,9,     -999.0,     -999.0,9,     -999.0,     -999.0,9,     -999.0,     -999.0,     -999.0,9,     -999.0,9,     -999.0,9,     -999.0,9,     -999.0,9,     -999.0,9,     -999.0,9,     -999.0,9
33RO20161119,        P18,     173,          1,          3,      11102,2,20170116,       0526,   -52.4998,  -102.9998,       4433,  3784.7,   1.0758,  34.7147,2,  34.7149,2,    198.5,2,   198.8,6,   121.1,6,    32.5,6,    0.01,6,   2.235,6,   0.0475,2,   0.0230,2,   0.0000,2,  2269.7,2,  2372.4,2,   7.6012,2,    25.00, -999.00,9,  -999.0,9,  -999.0,   0.5796,2, -999.00,9,    43.6,2,   35.80,2, -999.00,9,    18.8492,2, -999.00,9,  -999.0,9,     -999.0,     -999.0,9,     -999.0,9,     -999.0,     -999.0,9,     -999.0,     -999.0,9,     -999.0,     -999.0,     -999.0,9,     -999.0,9,     -999.0,9,     -999.0,9,     -999.0,9,     -999.0,9,     -999.0,9,     -999.0,9
33RO20161119,        P18,     173,          1,          4,      11103,2,20170116,       0526,   -52.4998,  -102.9998,       4433,  3424.2,   1.3970,  34.7195,2,  34.7190,2,    191.2,2,   191.7,2,   111.8,6,    32.3,6,    0.02,6,   2.218,6,   0.0483,6,   0.0241,6,   0.0269,6,  2267.3,2,  2368.5,2,   7.5990,2,    25.00, -999.00,9,  -999.0,9,  -999.0,   1.2757,2, -999.00,9,    41.2,2,   35.90,2, -999.00,9,    19.0679,2, -999.00,9,  -999.0,9,     -999.0,     -999.0,9,     -999.0,9,     -999.0,     -999.0,9,     -999.0,     -999.0,9,     -999.0,     -999.0,     -999.0,9,     -999.0,9,     -999.0,9,     -999.0,9,     -999.0,9,     -999.0,9,     -999.0,9,     -999.0,9
33RO20161119,        P18,     173,          1,          5,      11104,2,20170116,       0526,   -52.4998,  -102.9998,       4433,  3066.2,   1.5947,  34.7173,2,  34.7151,2,    184.3,2,   185.5,2,   107.6,6,    32.4,6,    0.02,6,   2.238,6,   0.0429,2,   0.0215,2,   0.0265,2,  2271.3,2,  2368.4,2,   7.5931,2,    25.00, -999.00,9,  -999.0,9,  -999.0,   2.5364,2, -999.00,9,    40.8,2,   35.80,2, -999.00,9,    19.3675,2, -999.00,9,  -999.0,9,     -999.0,     -999.0,9,     -999.0,9,     -999.0,     -999.0,9,     -999.0,     -999.0,9,     -999.0,     -999.0,     -999.0,9,     -999.0,9,     -999.0,9,     -999.0,9,     -999.0,9,     -999.0,9,     -999.0,9,     -999.0,9
33RO20161119,        P18,     173,          1,          6,      11105,2,20170116,       0526,   -52.4998,  -102.9998,       4433,  2720.8,   1.7547,  34.7120,2,  34.7106,2,    178.4,2,   179.2,2,   104.4,6,    32.7,6,    0.02,6,   2.266,6,-999.0000,9,-999.0000,9,-999.0000,9,  2271.0,2,  2368.3,2,   7.5877,2,    25.00, -999.00,9,  -999.0,9,  -999.0,-999.0000,9, -999.00,9,    39.0,2,   36.00,2, -999.00,9,     -999.0,9, -999.00,9,  -999.0,9,     -999.0,     -999.0,9,     -999.0,9,     -999.0,     -999.0,9,     -999.0,     -999.0,9,     -999.0,     -999.0,     -999.0,9,     -999.0,9,     -999.0,9,     -999.0,9,     -999.0,9,     -999.0,9,     -999.0,9,     -999.0,9
33RO20161119,        P18,     173,          1,          7,      11106,2,20170116,       0526,   -52.4998,  -102.9998,       4433,  2360.4,   2.0292,  34.7048,2,  34.7097,4,    175.3,2,   177.9,2,    94.1,2,    32.6,2,    0.01,2,   2.241,2,   0.1050,2,   0.0526,2,   0.0336,2,  2264.8,2,  2361.3,2,   7.5794,2,    25.00, -999.00,9,  -999.0,9,  -999.0,   3.3665,2, -999.00,9,    40.8,2,   35.60,2, -999.00,9,    20.4503,2, -999.00,9,  -999.0,9,     -999.0,     -999.0,9,     -999.0,9,     -999.0,     -999.0,9,     -999.0,     -999.0,9,     -999.0,     -999.0,     -999.0,9,     -999.0,9,     -999.0,9,     -999.0,9,     -999.0,9,     -999.0,9,     -999.0,9,     -999.0,9
33RO20161119,        P18,     173,          1,          8,      11107,2,20170116,       0526,   -52.4998,  -102.9998,       4433,  2005.9,   2.3105,  34.6619,2,  34.6613,2,    171.0,2,   171.7,2,    84.1,2,    33.1,2,    0.01,2,   2.283,2,-999.0000,9,-999.0000,9,-999.0000,9,  2255.3,2,  2349.7,2,   7.5655,2,    25.00, -999.00,9,  -999.0,9,  -999.0,-999.0000,9, -999.00,9,    42.1,2,   37.10,2, -999.00,9,     -999.0,9, -999.00,9,  -999.0,9,     -999.0,     -999.0,9,     -999.0,9,     -999.0,     -999.0,9,     -999.0,     -999.0,9,     -999.0,     -999.0,     -999.0,9,     -999.0,9,     -999.0,9,     -999.0,9,     -999.0,9,     -999.0,9,     -999.0,9,     -999.0,9
33RO20161119,        P18,     173,          1,          9,      11108,2,20170116,       0526,   -52.4998,  -102.9998,       4433,  1697.1,   2.5420,  34.5826,2,  34.5842,2,    169.4,2,   169.7,2,    75.8,2,    34.0,2,    0.02,2,   2.344,2,   0.4705,2,   0.2286,2,   0.1030,2,  2256.2,2,  2342.2,2,   7.5516,2,    25.00, -999.00,9,  -999.0,9,  -999.0,   3.5758,2, -999.00,9,    43.6,2,   39.50,2, -999.00,9,    22.3143,2, -999.00,9,  -999.0,9,     -999.0,     -999.0,9,     -999.0,9,     -999.0,     -999.0,9,     -999.0,     -999.0,9,     -999.0,     -999.0,     -999.0,9,     -999.0,9,     -999.0,9,     -999.0,9,     -999.0,9,     -999.0,9,     -999.0,9,     -999.0,9
33RO20161119,        P18,     173,          1,         10,      11109,2,20170116,       0526,   -52.4998,  -102.9998,       4433,  1490.8,   2.7257,  34.5070,2,  34.5058,2,    173.5,2,   174.1,2,    67.6,2,    34.3,2,    0.02,2,   2.363,2,-999.0000,9,-999.0000,9,-999.0000,9,  2248.1,6,  2329.1,6,   7.5488,2,    25.00, -999.00,9,  -999.0,9,  -999.0,-999.0000,9, -999.00,9,    42.9,2,   37.50,2, -999.00,9,     -999.0,9, -999.00,9,  -999.0,9,     -999.0,     -999.0,9,     -999.0,9,     -999.0,     -999.0,9,     -999.0,     -999.0,9,     -999.0,     -999.0,     -999.0,9,     -999.0,9,     -999.0,9,     -999.0,9,     -999.0,9,     -999.0,9,     -999.0,9,     -999.0,9
33RO20161119,        P18,     173,          1,         11,      11110,2,20170116,       0526,   -52.4998,  -102.9998,       4433,  1332.3,   2.9377,  34.4351,2,  34.4478,4,    183.0,2,   182.8,2,    58.8,2,    34.0,2,    0.01,2,   2.344,2,   1.2454,2,   0.6212,2,   0.3381,2,  2236.4,2,  2320.7,2,   7.5548,2,    25.00, -999.00,9,  -999.0,9,  -999.0,   4.4246,2, -999.00,9,    41.4,2,   39.00,2, -999.00,9,    21.9873,2, -999.00,9,  -999.0,9,     -999.0,     -999.0,9,     -999.0,9,     -999.0,     -999.0,9,     -999.0,     -999.0,9,     -999.0,     -999.0,     -999.0,9,     -999.0,9,     -999.0,9,     -999.0,9,     -999.0,9,     -999.0,9,     -999.0,9,     -999.0,9
33RO20161119,        P18,     173,          1,         12,      11111,2,20170116,       0526,   -52.4998,  -102.9998,       4433,  1165.6,   3.3378,  34.3637,2,  34.3621,2,    194.5,2,   194.2,2,    47.5,2,    33.1,2,    0.01,2,   2.274,2,-999.0000,9,-999.0000,9,-999.0000,9,  2220.2,2,  2308.8,2,   7.5752,2,    25.00, -999.00,9,  -999.0,9,  -999.0,-999.0000,9, -999.00,9,    40.7,2,   36.00,2, -999.00,9,     -999.0,9, -999.00,9,  -999.0,9,     -999.0,     -999.0,9,     -999.0,9,     -999.0,     -999.0,9,     -999.0,     -999.0,9,     -999.0,     -999.0,     -999.0,9,     -999.0,9,     -999.0,9,     -999.0,9,     -999.0,9,     -999.0,9,     -999.0,9,     -999.0,9
33RO20161119,        P18,     173,          1,         13,      11112,2,20170116,       0526,   -52.4998,  -102.9998,       4433,  1029.0,   3.7789,  34.3095,2,  34.3231,4,    206.2,2,   206.5,2,    37.0,2,    31.8,2,    0.01,2,   2.170,2,   2.2681,2,   1.1563,2,   0.6789,2,  2205.5,2,  2298.7,2,   7.5934,2,    25.00, -999.00,9,  -999.0,9,  -999.0,   4.3545,2, -999.00,9,    41.7,2,   34.30,2, -999.00,9,    19.9277,2, -999.00,9,  -999.0,9,     -999.0,     -999.0,9,     -999.0,9,     -999.0,     -999.0,9,     -999.0,     -999.0,9,     -999.0,     -999.0,     -999.0,9,     -999.0,9,     -999.0,9,     -999.0,9,     -999.0,9,     -999.0,9,     -999.0,9,     -999.0,9
33RO20161119,        P18,     173,          1,         14,      11113,2,20170116,       0526,   -52.4998,  -102.9998,       4433,   890.5,   4.4882,  34.2835,2,  34.2907,2,    217.0,2,   215.9,2,    27.2,2,    29.8,2,    0.02,2,   2.047,2,-999.0000,9,-999.0000,9,-999.0000,9,  2189.6,2,  2292.2,2,   7.6164,2,    25.00, -999.00,9,  -999.0,9,  -999.0,-999.0000,9, -999.00,9,    42.5,2,   32.30,2, -999.00,9,     -999.0,9, -999.00,9,  -999.0,9,     -999.0,     -999.0,9,     -999.0,9,     -999.0,     -999.0,9,     -999.0,     -999.0,9,     -999.0,     -999.0,     -999.0,9,     -999.0,9,     -999.0,9,     -999.0,9,     -999.0,9,     -999.0,9,     -999.0,9,     -999.0,9
33RO20161119,        P18,     173,          1,         15,      11114,2,20170116,       0526,   -52.4998,  -102.9998,       4433,   749.2,   5.1522,  34.2629,2,  34.2636,2,    230.2,2,   230.3,2,    18.6,2,    27.4,2,    0.02,2,   1.895,2,   3.1797,2,   1.6960,2,   1.2125,2,  2172.2,2,  2285.0,2,   7.6471,2,    25.00, -999.00,9,  -999.0,9,  -999.0,   4.4582,2, -999.00,9,    43.7,2,   30.50,2, -999.00,9,    16.7258,2, -999.00,9,  -999.0,9,     -999.0,     -999.0,9,     -999.0,9,     -999.0,     -999.0,9,     -999.0,     -999.0,9,     -999.0,     -999.0,     -999.0,9,     -999.0,9,     -999.0,9,     -999.0,9,     -999.0,9,     -999.0,9,     -999.0,9,     -999.0,9
33RO20161119,        P18,     173,          1,         16,      11115,2,20170116,       0526,   -52.4998,  -102.9998,       4433,   617.8,   5.7932,  34.2579,2,  34.2583,2,    249.2,2,   249.2,2,    11.8,2,    24.5,2,    0.02,2,   1.700,2,-999.0000,9,-999.0000,9,-999.0000,9,  2154.9,2,  2279.1,2,   7.6816,2,    25.00, -999.00,9,  -999.0,9,  -999.0,-999.0000,9, -999.00,9,    45.5,2,   27.40,2, -999.00,9,     -999.0,9, -999.00,9,  -999.0,9,     -999.0,     -999.0,9,     -999.0,9,     -999.0,     -999.0,9,     -999.0,     -999.0,9,     -999.0,     -999.0,     -999.0,9,     -999.0,9,     -999.0,9,     -999.0,9,     -999.0,9,     -999.0,9,     -999.0,9,     -999.0,9
33RO20161119,        P18,     173,          1,         17,      11116,2,20170116,       0526,   -52.4998,  -102.9998,       4433,   500.3,   6.1064,  34.2634,2,  34.2661,2,    267.5,2,   264.0,2,     8.5,2,    22.5,2,    0.02,2,   1.571,2,   3.8978,2,   2.1622,2,   2.0071,2,  2143.8,2,  2278.7,2,   7.7073,2,    25.00, -999.00,9,  -999.0,9,  -999.0,   4.3694,2, -999.00,9,    44.7,2,   25.30,2, -999.00,9,    13.7789,2, -999.00,9,  -999.0,9,     -999.0,     -999.0,9,     -999.0,9,     -999.0,     -999.0,9,     -999.0,     -999.0,9,     -999.0,     -999.0,     -999.0,9,     -999.0,9,     -999.0,9,     -999.0,9,     -999.0,9,     -999.0,9,     -999.0,9,     -999.0,9
33RO20161119,        P18,     173,          1,         18,      11117,2,20170116,       0526,   -52.4998,  -102.9998,       4433,   384.5,   6.3063,  34.2625,2,  34.2634,2,    270.7,2,   271.7,2,     6.7,2,    21.1,2,    0.02,2,   1.493,2,-999.0000,9,-999.0000,9,-999.0000,9,  2138.2,2,  2276.5,2,   7.7206,2,    25.00, -999.00,9,  -999.0,9,  -999.0,-999.0000,9, -999.00,9,    45.0,2,   23.70,2, -999.00,9,     -999.0,9, -999.00,9,  -999.0,9,     -999.0,     -999.0,9,     -999.0,9,     -999.0,     -999.0,9,     -999.0,     -999.0,9,     -999.0,     -999.0,     -999.0,9,     -999.0,9,     -999.0,9,     -999.0,9,     -999.0,9,     -999.0,9,     -999.0,9,     -999.0,9
33RO20161119,        P18,     173,          1,         19,      11083,2,20170116,       0526,   -52.4998,  -102.9998,       4433,   283.3,   6.4899,  34.2652,2,  34.2973,4,    271.8,2,   273.2,2,     5.8,2,    20.1,2,    0.03,2,   1.437,2,   3.9499,2,   2.2481,2,   2.3669,2,  2135.9,2,  2277.7,2,   7.7262,2,    25.00, -999.00,9,  -999.0,9,  -999.0,   4.5004,2, -999.00,9,    49.2,2,   22.60,2, -999.00,9,    12.9072,2, -999.00,9,  -999.0,9,     -999.0,     -999.0,9,     -999.0,9,     -999.0,     -999.0,9,     -999.0,     -999.0,9,     -999.0,     -999.0,     -999.0,9,     -999.0,9,     -999.0,9,     -999.0,9,     -999.0,9,     -999.0,9,     -999.0,9,     -999.0,9
33RO20161119,        P18,     173,          1,         20,      11118,2,20170116,       0526,   -52.4998,  -102.9998,       4433,   199.1,   6.4510,  34.2013,2,  34.2093,2,    286.4,2,   287.3,2,     4.2,2,    18.2,2,    0.22,2,   1.318,2,   4.0362,2,   2.2738,2,   2.6818,2,  2124.7,2,  2275.8,2,   7.7491,2,    25.00, -999.00,9,  -999.0,9,  -999.0,   0.1677,2, -999.00,9,    48.1,2,   20.40,2, -999.00,9,    12.1594,2, -999.00,9,  -999.0,9,     -999.0,     -999.0,9,     -999.0,9,     -999.0,     -999.0,9,     -999.0,     -999.0,9,     -999.0,     -999.0,     -999.0,9,     -999.0,9,     -999.0,9,       1.30,3,     -999.0,9,     -999.0,9,     -999.0,9,     -999.0,9
33RO20161119,        P18,     173,          1,         21,      11119,2,20170116,       0526,   -52.4998,  -102.9998,       4433,   120.2,   6.7408,  34.2018,2,  34.2002,2,    288.2,2,   288.0,2,     3.5,2,    16.6,2,    0.42,2,   1.274,2,   3.9848,2,   2.2649,2,   2.6781,2,  2118.7,2,  2274.4,2,   7.7590,2,    25.00, -999.00,9,  -999.0,9,  -999.0,   0.1504,2, -999.00,9,    48.5,2,   19.50,2, -999.00,9,    11.7653,2, -999.00,9,  -999.0,9,     -999.0,     -999.0,9,     -999.0,9,     -999.0,     -999.0,9,     -999.0,     -999.0,9,     -999.0,     -999.0,     -999.0,9,     -999.0,9,     -999.0,9,       1.29,3,     -999.0,9,     -999.0,9,     -999.0,9,     -999.0,9
33RO20161119,        P18,     173,          1,         22,      11120,2,20170116,       0526,   -52.4998,  -102.9998,       4433,    50.3,   8.1805,  34.1672,2,  34.1688,2,    292.8,2,   292.4,6,     0.5,2,    14.6,2,    0.27,2,   1.085,2,   3.8186,2,   2.1757,2,   2.6652,2,  2101.6,2,  2273.3,2,   7.8046,6,    25.00, -999.00,9,  -999.0,9,  -999.0,   0.1227,2, -999.00,9,    54.3,2,   17.90,2, -999.00,9,    11.2162,2, -999.00,9,  -999.0,9,     -999.0,     -999.0,9,     -999.0,9,     -999.0,     -999.0,9,     -999.0,     -999.0,9,     -999.0,     -999.0,     -999.0,9,     -999.0,9,     -999.0,9,       1.20,2,     -999.0,9,     -999.0,9,     -999.0,9,     -999.0,9
33RO20161119,        P18,     173,          1,         23,      11121,2,20170116,       0526,   -52.4998,  -102.9998,       4433,    18.6,   8.4227,  34.1688,2,  34.1684,2,    290.7,2,   293.1,2,     0.2,2,    14.3,2,    0.27,2,   1.052,2,   3.7752,2,   2.1645,2,   2.6171,2,  2098.4,2,  2271.4,2,   7.8123,2,    25.00, -999.00,9,  -999.0,9,  -999.0,    0.092,2, -999.00,9,    50.6,2,   17.40,2, -999.00,9,    11.0318,2, -999.00,9,  -999.0,9,     -999.0,     -999.0,9,     -999.0,9,     -999.0,     -999.0,9,     -999.0,     -999.0,9,     -999.0,     -999.0,     -999.0,9,     -999.0,9,     -999.0,9,       1.06,3,     -999.0,9,     -999.0,9,     -999.0,9,     -999.0,9
33RO20161119,        P18,     173,          1,         24,      11122,2,20170116,       0526,   -52.4998,  -102.9998,       4433,     9.0,   8.4220,  34.1688,2,  34.1696,2,    290.5,2,   293.0,2,     0.1,2,    14.2,2,    0.27,2,   1.035,2,   3.7979,2,   2.1582,2,   2.6082,2,  2098.3,6,  2272.9,6,   7.8125,2,    25.00, -999.00,9,  -999.0,9,  -999.0,   0.0838,2, -999.00,9,    52.3,2,   16.80,2, -999.00,9,    11.2269,2, -999.00,9,  -999.0,9,     -999.0,     -999.0,9,     -999.0,9,     -999.0,     -999.0,9,     -999.0,     -999.0,9,     -999.0,     -999.0,     -999.0,9,     -999.0,9,     -999.0,9,       1.13,2,     -999.0,9,     -999.0,9,     -999.0,9,     -999.0,9