BOTTLE,20230606CCHSIOCBG
EXPOCODE,SECT_ID,STNNBR,CASTNO,SAMPNO,BTLNBR,BTLNBR_FLAG_W,DATE,TIME,LATITUDE,LONGITUDE,DEPTH,CTDPRS,CTDTMP,CTDSAL,CTDSAL_FLAG_W,SALNTY,SALNTY_FLAG_W,CTDOXY,CTDOXY_FLAG_W,OXYGEN,OXYGEN_FLAG_W,SILCAT,SILCAT_FLAG_W,NITRAT,NITRAT_FLAG_W,NITRIT,NITRIT_FLAG_W,PHSPHT,PHSPHT_FLAG_W,CFC-11,CFC-11_FLAG_W,CFC-12,CFC-12_FLAG_W,SF6,SF6_FLAG_W,TCARBN,TCARBN_FLAG_W,ALKALI,ALKALI_FLAG_W,PH_SWS,PH_SWS_FLAG_W,PH_TMP,DELC13,DELC13_FLAG_W,DELC14,DELC14_FLAG_W,C14ERR,CCL4,CCL4_FLAG_W,POC,POC_FLAG_W,DOC,DOC_FLAG_W,TDN,TDN_FLAG_W,PON,PON_FLAG_W,N2O,N2O_FLAG_W,D15N_NO3,D15N_NO3_FLAG_W,14C-DOC,14C-DOC_FLAG_W,14C-DOCERR,13C-DOC,13C-DOC_FLAG_W,N2/ARGON_UNSTRIPPED,N2/ARGON_UNSTRIPPED_FLAG_W,N2/ARGON_UNSTRIPPED_ERROR,N2/ARGON,N2/ARGON_FLAG_W,N2/ARGON_ERROR,D15N_N2,D15N_N2_FLAG_W,D15N_N2_ERROR,D15N_NO3_ERROR,D15N_NO2+NO3,D15N_NO2+NO3_FLAG_W,D18O_NO2+NO3,D18O_NO2+NO3_FLAG_W,D18O_NO3,D18O_NO3_FLAG_W,TDP,TDP_FLAG_W,N2O_ALT_1,N2O_ALT_1_FLAG_W,D15N_N2O,D15N_N2O_FLAG_W,D18O_N2O,D18O_N2O_FLAG_W,D15N_ALPHA_N2O,D15N_ALPHA_N2O_FLAG_W
,,,,,,,,,,,METERS,DBAR,ITS-90,PSS-78,,PSS-78,,UMOL/KG,,UMOL/KG,,UMOL/KG,,UMOL/KG,,UMOL/KG,,UMOL/KG,,PMOL/KG,,PMOL/KG,,FMOL/KG,,UMOL/KG,,UMOL/KG,,,,DEG C,/MILLE,,/MILLE,,/MILLE,PMOL/KG,,UG/KG,,UMOL/KG,,UMOL/KG,,UG/KG,,NMOL/KG,,/MILLE,,/MILLE,,/MILLE,/MILLE,,,,,,,,/MILLE,,/MILLE,/MILLE,/MILLE,,/MILLE,,/MILLE,,UMOL/KG,,NMOL/L,,/MILLE,,/MILLE,,/MILLE,
33RO20161119,        P18,      42,          1,          1,      11010,2,20161204,       1424,     3.5002,  -110.0000,       3830,  3870.1,   1.4745,  34.6900,2,  34.6884,2,    148.3,2,   149.3,2,   147.9,6,    36.8,6,    0.01,6,   2.475,6,   0.0028,2,   0.0009,2,   0.0000,2,  2338.6,6,  2437.2,2,   7.5795,2,    25.00, -999.00,9,  -999.0,9,  -999.0,        0,2, -999.00,9,  -999.0,9, -999.00,9, -999.00,9,     20.685,2, -999.00,9,  -999.0,9,     -999.0,     -999.0,9,     -999.0,9,     -999.0,     -999.0,9,     -999.0,     -999.0,9,     -999.0,     -999.0,     -999.0,9,     -999.0,9,     -999.0,9,     -999.0,9,     -999.0,9,     -999.0,9,     -999.0,9,     -999.0,9
33RO20161119,        P18,      42,          1,          2,      11101,2,20161204,       1424,     3.5002,  -110.0000,       3830,  3535.6,   1.5127,  34.6863,2,  34.6853,2,    142.0,2,   142.8,2,   148.6,6,    37.0,6,    0.01,6,   2.496,6,-999.0000,9,-999.0000,9,-999.0000,9,  2339.6,2,  2433.5,2,   7.5676,2,    25.00, -999.00,9,  -999.0,9,  -999.0,-999.0000,9, -999.00,9,  -999.0,9, -999.00,9, -999.00,9,     -999.0,9, -999.00,9,  -999.0,9,     -999.0,     -999.0,9,     -999.0,9,     -999.0,     -999.0,9,     -999.0,     -999.0,9,     -999.0,     -999.0,     -999.0,9,     -999.0,9,     -999.0,9,     -999.0,9,     -999.0,9,     -999.0,9,     -999.0,9,     -999.0,9
33RO20161119,        P18,      42,          1,          3,      11102,2,20161204,       1424,     3.5002,  -110.0000,       3830,  3200.0,   1.5898,  34.6803,2,  34.6798,2,    138.8,2,   138.8,2,   145.2,6,    37.2,6,    0.01,6,   2.531,6,   0.0021,2,   0.0014,2,   0.0000,2,  2336.7,2,  2429.6,2,   7.5593,2,    25.00, -999.00,9,  -999.0,9,  -999.0,        0,2, -999.00,9,  -999.0,9, -999.00,9, -999.00,9,    21.6978,2, -999.00,9,  -999.0,9,     -999.0,     -999.0,9,     -999.0,9,     -999.0,     -999.0,9,     -999.0,     -999.0,9,     -999.0,     -999.0,     -999.0,9,     -999.0,9,     -999.0,9,     -999.0,9,     -999.0,9,     -999.0,9,     -999.0,9,     -999.0,9
33RO20161119,        P18,      42,          1,          4,      11103,2,20161204,       1424,     3.5002,  -110.0000,       3830,  2923.3,   1.7301,  34.6728,2,  34.6720,2,    126.4,2,   126.5,2,   146.7,6,    37.9,6,    0.02,6,   2.589,6,-999.0000,9,-999.0000,9,-999.0000,9,  2344.1,2,  2427.4,6,   7.5371,2,    25.00, -999.00,9,  -999.0,9,  -999.0,-999.0000,9, -999.00,9,  -999.0,9, -999.00,9, -999.00,9,     -999.0,9, -999.00,9,  -999.0,9,     -999.0,     -999.0,9,     -999.0,9,     -999.0,     -999.0,9,     -999.0,     -999.0,9,     -999.0,     -999.0,     -999.0,9,     -999.0,9,     -999.0,9,     -999.0,9,     -999.0,9,     -999.0,9,     -999.0,9,     -999.0,9
33RO20161119,        P18,      42,          1,          5,      11104,2,20161204,       1424,     3.5002,  -110.0000,       3830,  2622.9,   1.8154,  34.6684,2,  34.6665,2,    120.5,2,   120.3,2,   146.8,2,    38.3,2,    0.01,2,   2.621,2,-999.0000,9,-999.0000,9,-999.0000,9,  2352.7,2,  2426.1,2,   7.5265,2,    25.00, -999.00,9,  -999.0,9,  -999.0,-999.0000,9, -999.00,9,  -999.0,9, -999.00,9, -999.00,9,     -999.0,9, -999.00,9,  -999.0,9,     -999.0,     -999.0,9,     -999.0,9,     -999.0,     -999.0,9,     -999.0,     -999.0,9,     -999.0,     -999.0,     -999.0,9,     -999.0,9,     -999.0,9,     -999.0,9,     -999.0,9,     -999.0,9,     -999.0,9,     -999.0,9
33RO20161119,        P18,      42,          1,          6,      11105,2,20161204,       1424,     3.5002,  -110.0000,       3830,  2341.8,   1.8961,  34.6635,2,  34.6613,2,    115.7,2,   116.0,2,   145.5,2,    38.7,2,    0.01,2,   2.640,2,-999.0000,9,-999.0000,9,-999.0000,9,  2351.9,2,  2426.2,2,   7.5193,2,    25.00, -999.00,9,  -999.0,9,  -999.0,-999.0000,9, -999.00,9,  -999.0,9, -999.00,9, -999.00,9,     -999.0,9, -999.00,9,  -999.0,9,     -999.0,     -999.0,9,     -999.0,9,     -999.0,     -999.0,9,     -999.0,     -999.0,9,     -999.0,     -999.0,     -999.0,9,     -999.0,9,     -999.0,9,     -999.0,9,     -999.0,9,     -999.0,9,     -999.0,9,     -999.0,9
33RO20161119,        P18,      42,          1,          7,      11106,2,20161204,       1424,     3.5002,  -110.0000,       3830,  2039.1,   2.1999,  34.6479,2,  34.6462,2,    103.1,2,   103.0,2,   140.7,2,    39.4,2,    0.01,2,   2.724,2,-999.0000,9,-999.0000,9,-999.0000,9,  2350.4,2,  2417.9,2,   7.4992,6,    25.00, -999.00,9,  -999.0,9,  -999.0,-999.0000,9, -999.00,9,  -999.0,9, -999.00,9, -999.00,9,     -999.0,9, -999.00,9,  -999.0,9,     -999.0,     -999.0,9,     -999.0,9,     -999.0,     -999.0,9,     -999.0,     -999.0,9,     -999.0,     -999.0,     -999.0,9,     -999.0,9,     -999.0,9,     -999.0,9,     -999.0,9,     -999.0,9,     -999.0,9,     -999.0,9
33RO20161119,        P18,      42,          1,          8,      11107,2,20161204,       1424,     3.5002,  -110.0000,       3830,  1750.4,   2.5893,  34.6293,2,  34.6279,2,     89.7,2,    90.1,2,   132.7,2,    40.3,2,    0.01,2,   2.813,2,-999.0000,9,-999.0000,9,-999.0000,9,  2348.4,2,  2407.3,2,   7.4695,2,    25.00, -999.00,9,  -999.0,9,  -999.0,-999.0000,9, -999.00,9,  -999.0,9, -999.00,9, -999.00,9,     -999.0,9, -999.00,9,  -999.0,9,     -999.0,     -999.0,9,     -999.0,9,     -999.0,     -999.0,9,     -999.0,     -999.0,9,     -999.0,     -999.0,     -999.0,9,     -999.0,9,     -999.0,9,     -999.0,9,     -999.0,9,     -999.0,9,     -999.0,9,     -999.0,9
33RO20161119,        P18,      42,          1,          9,      11108,2,20161204,       1424,     3.5002,  -110.0000,       3830,  1461.2,   3.1637,  34.6063,2,  34.6042,2,     73.4,2,    73.3,2,   120.7,2,    41.4,2,    0.01,2,   2.915,2,-999.0000,9,-999.0000,9,-999.0000,9,  2347.8,2,  2393.1,2,   7.4391,2,    25.00, -999.00,9,  -999.0,9,  -999.0,-999.0000,9, -999.00,9,  -999.0,9, -999.00,9, -999.00,9,     -999.0,9, -999.00,9,  -999.0,9,     -999.0,     -999.0,9,     -999.0,9,     -999.0,     -999.0,9,     -999.0,     -999.0,9,     -999.0,     -999.0,     -999.0,9,     -999.0,9,     -999.0,9,     -999.0,9,     -999.0,9,     -999.0,9,     -999.0,9,     -999.0,9
33RO20161119,        P18,      42,          1,         10,      11109,2,20161204,       1424,     3.5002,  -110.0000,       3830,  1266.1,   3.7690,  34.5817,2,  34.5805,2,     69.1,2,    68.8,2,   105.1,2,    41.7,2,    0.01,2,   2.935,2,   0.0016,6,   0.0011,6,   0.0380,6,  2332.2,2,  2377.0,2,   7.4275,2,    25.00, -999.00,9,  -999.0,9,  -999.0,        0,2, -999.00,9,  -999.0,9, -999.00,9, -999.00,9,    35.8823,2, -999.00,9,  -999.0,9,     -999.0,     -999.0,9,     -999.0,9,     -999.0,     -999.0,9,     -999.0,     -999.0,9,     -999.0,     -999.0,     -999.0,9,     -999.0,9,     -999.0,9,     -999.0,9,     -999.0,9,     -999.0,9,     -999.0,9,     -999.0,9
33RO20161119,        P18,      42,          1,         11,      11110,2,20161204,       1424,     3.5002,  -110.0000,       3830,  1141.0,   4.2259,  34.5682,2,  34.5668,2,     65.5,2,    65.8,2,    94.4,2,    41.6,2,    0.01,2,   2.942,2,-999.0000,9,-999.0000,9,-999.0000,9,  2324.9,2,  2363.5,2,   7.4254,2,    25.00, -999.00,9,  -999.0,9,  -999.0,-999.0000,9, -999.00,9,  -999.0,9, -999.00,9, -999.00,9,     -999.0,9, -999.00,9,  -999.0,9,     -999.0,     -999.0,9,     -999.0,9,     -999.0,     -999.0,9,     -999.0,     -999.0,9,     -999.0,     -999.0,     -999.0,9,     -999.0,9,     -999.0,9,     -999.0,9,     -999.0,9,     -999.0,9,     -999.0,9,     -999.0,9
33RO20161119,        P18,      42,          1,         12,      11111,2,20161204,       1424,     3.5002,  -110.0000,       3830,  1011.4,   4.6511,  34.5585,2,  34.5561,2,     63.8,2,    63.6,2,    84.9,2,    41.5,2,    0.01,2,   2.919,2,-999.0000,9,-999.0000,9,-999.0000,9,  2316.8,2,  2355.1,2,   7.4223,2,    25.00, -999.00,9,  -999.0,9,  -999.0,-999.0000,9, -999.00,9,  -999.0,9, -999.00,9, -999.00,9,     -999.0,9, -999.00,9,  -999.0,9,     -999.0,     -999.0,9,     -999.0,9,     -999.0,     -999.0,9,     -999.0,     -999.0,9,     -999.0,     -999.0,     -999.0,9,     -999.0,9,     -999.0,9,     -999.0,9,     -999.0,9,     -999.0,9,     -999.0,9,     -999.0,9
33RO20161119,        P18,      42,          1,         13,      11112,2,20161204,       1424,     3.5002,  -110.0000,       3830,   890.8,   5.1370,  34.5534,2,  34.5526,2,     55.1,2,    54.7,2,    76.4,2,    41.9,2,    0.01,2,   2.931,2,-999.0000,9,-999.0000,9,-999.0000,9,  2311.2,2,  2341.6,2,   7.4094,2,    25.00, -999.00,9,  -999.0,9,  -999.0,-999.0000,9, -999.00,9,  -999.0,9, -999.00,9, -999.00,9,     -999.0,9, -999.00,9,  -999.0,9,     -999.0,     -999.0,9,     -999.0,9,     -999.0,     -999.0,9,     -999.0,     -999.0,9,     -999.0,     -999.0,     -999.0,9,     -999.0,9,     -999.0,9,     -999.0,9,     -999.0,9,     -999.0,9,     -999.0,9,     -999.0,9
33RO20161119,        P18,      42,          1,         14,      11113,2,20161204,       1424,     3.5002,  -110.0000,       3830,   775.6,   5.7216,  34.5534,2,  34.5514,2,     48.5,2,    49.3,2,    67.1,2,    41.8,2,    0.01,2,   2.928,2,-999.0000,9,-999.0000,9,-999.0000,9,  2301.9,2,  2335.2,2,   7.4013,2,    25.00, -999.00,9,  -999.0,9,  -999.0,-999.0000,9, -999.00,9,  -999.0,9, -999.00,9, -999.00,9,     -999.0,9, -999.00,9,  -999.0,9,     -999.0,     -999.0,9,     -999.0,9,     -999.0,     -999.0,9,     -999.0,     -999.0,9,     -999.0,     -999.0,     -999.0,9,     -999.0,9,     -999.0,9,     -999.0,9,     -999.0,9,     -999.0,9,     -999.0,9,     -999.0,9
33RO20161119,        P18,      42,          1,         15,      11114,2,20161204,       1424,     3.5002,  -110.0000,       3830,   660.6,   6.7233,  34.5752,2,  34.5732,2,     23.8,2,    24.0,2,    57.4,2,    42.3,2,    0.02,2,   2.982,2,-999.0000,9,-999.0000,9,-999.0000,9,  2303.7,2,  2321.8,2,   7.3649,2,    25.00, -999.00,9,  -999.0,9,  -999.0,-999.0000,9, -999.00,9,  -999.0,9, -999.00,9, -999.00,9,     -999.0,9, -999.00,9,  -999.0,9,     -999.0,     -999.0,9,     -999.0,9,     -999.0,     -999.0,9,     -999.0,     -999.0,9,     -999.0,     -999.0,     -999.0,9,     -999.0,9,     -999.0,9,     -999.0,9,     -999.0,9,     -999.0,9,     -999.0,9,     -999.0,9
33RO20161119,        P18,      42,          1,         16,      11115,2,20161204,       1424,     3.5002,  -110.0000,       3830,   545.3,   7.7284,  34.6086,2,  34.6075,2,     11.3,2,    11.2,6,    49.9,2,    40.5,2,    0.01,2,   2.953,2,   0.0664,2,   0.0383,2,   0.0000,2,  2298.3,2,  2315.6,2,   7.3483,2,    25.00, -999.00,9,  -999.0,9,  -999.0,   0.0413,2, -999.00,9,  -999.0,9, -999.00,9, -999.00,9,    60.3298,2, -999.00,9,  -999.0,9,     -999.0,     -999.0,9,     -999.0,9,     -999.0,     -999.0,9,     -999.0,     -999.0,9,     -999.0,     -999.0,     -999.0,9,     -999.0,9,     -999.0,9,     -999.0,9,     -999.0,9,     -999.0,9,     -999.0,9,     -999.0,9
33RO20161119,        P18,      42,          1,         17,      11116,2,20161204,       1424,     3.5002,  -110.0000,       3830,   445.5,   8.9491,  34.6559,2,  34.6551,2,     10.6,2,    10.2,6,    41.6,2,    37.0,2,    0.02,2,   2.771,2,   0.2276,2,   0.1259,2,   0.0641,2,  2285.1,2,  2307.6,2,   7.3708,6,    25.00, -999.00,9,  -999.0,9,  -999.0,   0.1384,2, -999.00,9,  -999.0,9, -999.00,9, -999.00,9,    57.8208,2, -999.00,9,  -999.0,9,     -999.0,     -999.0,9,     -999.0,9,     -999.0,     -999.0,9,     -999.0,     -999.0,9,     -999.0,     -999.0,     -999.0,9,     -999.0,9,     -999.0,9,     -999.0,9,     -999.0,9,     -999.0,9,     -999.0,9,     -999.0,9
33RO20161119,        P18,      42,          1,         18,      11117,2,20161204,       1424,     3.5002,  -110.0000,       3830,   342.8,  10.4568,  34.7173,2,  34.7162,2,     42.1,2,    42.0,2,    29.8,2,    32.8,2,    0.02,2,   2.303,2,   0.8352,2,   0.4537,2,   0.1859,2,  2245.7,2,  2299.9,2,   7.4709,2,    25.00, -999.00,9,  -999.0,9,  -999.0,   0.1108,2, -999.00,9,  -999.0,9, -999.00,9, -999.00,9,    53.7791,2, -999.00,9,  -999.0,9,     -999.0,     -999.0,9,     -999.0,9,     -999.0,     -999.0,9,     -999.0,     -999.0,9,     -999.0,     -999.0,     -999.0,9,     -999.0,9,     -999.0,9,     -999.0,9,     -999.0,9,     -999.0,9,     -999.0,9,     -999.0,9
33RO20161119,        P18,      42,          1,         19,      11083,2,20161204,       1424,     3.5002,  -110.0000,       3830,   259.9,  11.9975,  34.8309,2,  34.8304,2,     28.5,2,    27.5,2,    25.6,2,    32.2,2,    0.02,2,   2.237,2,   1.0844,2,   0.5988,2,   0.2957,2,  2242.3,2,  2298.3,2,   7.4718,2,    25.00, -999.00,9,  -999.0,9,  -999.0,   0.1653,2, -999.00,9,  -999.0,9, -999.00,9, -999.00,9,    61.4289,2, -999.00,9,  -999.0,9,     -999.0,     -999.0,9,     -999.0,9,     -999.0,     -999.0,9,     -999.0,     -999.0,9,     -999.0,     -999.0,     -999.0,9,     -999.0,9,     -999.0,9,     -999.0,9,     -999.0,9,     -999.0,9,     -999.0,9,     -999.0,9
33RO20161119,        P18,      42,          1,         20,      11118,2,20161204,       1424,     3.5002,  -110.0000,       3830,   176.3,  13.2075,  34.9111,2,  34.9104,2,     54.9,2,    54.8,2,    20.2,2,    27.9,2,    0.02,2,   1.943,2,   1.4616,2,   0.8146,2,   0.4202,2,  2213.2,2,  2296.1,2,   7.5655,2,    25.00, -999.00,9,  -999.0,9,  -999.0,   0.1762,2, -999.00,9,  -999.0,9, -999.00,9, -999.00,9,     49.996,2, -999.00,9,  -999.0,9,     -999.0,     -999.0,9,     -999.0,9,     -999.0,     -999.0,9,     -999.0,     -999.0,9,     -999.0,     -999.0,     -999.0,9,     -999.0,9,     -999.0,9,     -999.0,9,     -999.0,9,     -999.0,9,     -999.0,9,     -999.0,9
33RO20161119,        P18,      42,          1,         21,      11119,2,20161204,       1424,     3.5002,  -110.0000,       3830,   120.1,  14.4332,  34.9610,2,  34.9595,2,     70.1,2,    68.5,2,    16.8,2,    25.0,2,    0.02,2,   1.767,2,   1.6805,2,   0.9564,2,   0.6013,2,  2193.5,2,  2300.9,2,   7.6189,2,    25.00, -999.00,9,  -999.0,9,  -999.0,   2.0592,2, -999.00,9,  -999.0,9, -999.00,9, -999.00,9,    40.6986,2, -999.00,9,  -999.0,9,     -999.0,     -999.0,9,     -999.0,9,     -999.0,     -999.0,9,     -999.0,     -999.0,9,     -999.0,     -999.0,     -999.0,9,     -999.0,9,     -999.0,9,     -999.0,9,     -999.0,9,     -999.0,9,     -999.0,9,     -999.0,9
33RO20161119,        P18,      42,          1,         22,      11120,2,20161204,       1424,     3.5002,  -110.0000,       3830,    59.9,  24.1572,  34.1365,2,  34.2343,2,    195.3,2,   175.9,2,     3.7,2,     5.9,2,    0.39,2,   0.647,2,   1.5983,2,   1.0077,2,   1.3796,2,  2020.9,2,  2240.4,2,   7.9360,2,    25.00, -999.00,9,  -999.0,9,  -999.0,   1.3792,2, -999.00,9,  -999.0,9, -999.00,9, -999.00,9,     6.7582,2, -999.00,9,  -999.0,9,     -999.0,     -999.0,9,     -999.0,9,     -999.0,     -999.0,9,     -999.0,     -999.0,9,     -999.0,     -999.0,     -999.0,9,     -999.0,9,     -999.0,9,     -999.0,9,     -999.0,9,     -999.0,9,     -999.0,9,     -999.0,9
33RO20161119,        P18,      42,          1,         23,      11121,2,20161204,       1424,     3.5002,  -110.0000,       3830,    25.4,  26.3959,  33.7020,2,  33.7028,2,    196.2,2,   204.8,2,     0.9,2,     0.2,2,    0.02,2,   0.183,2,   1.7653,2,   1.0850,2,   1.2862,2,  1927.1,2,  2217.8,2,   8.0647,2,    25.00, -999.00,9,  -999.0,9,  -999.0,   1.9747,2, -999.00,9,  -999.0,9, -999.00,9, -999.00,9,    16.6212,2, -999.00,9,  -999.0,9,     -999.0,     -999.0,9,     -999.0,9,     -999.0,     -999.0,9,     -999.0,     -999.0,9,     -999.0,     -999.0,     -999.0,9,     -999.0,9,     -999.0,9,     -999.0,9,     -999.0,9,     -999.0,9,     -999.0,9,     -999.0,9
33RO20161119,        P18,      42,          1,         24,      11122,2,20161204,       1424,     3.5002,  -110.0000,       3830,     3.1,  26.3880,  33.7037,2,  33.7032,2,    195.6,2,   203.0,2,     0.9,2,     0.2,2,    0.01,2,   0.173,2,   1.5866,2,   1.0040,2,   1.3926,2,  1918.8,2,  2215.9,6,   8.0637,2,    25.00, -999.00,9,  -999.0,9,  -999.0,        0,2, -999.00,9,  -999.0,9, -999.00,9, -999.00,9,     6.8042,2, -999.00,9,  -999.0,9,     -999.0,     -999.0,9,     -999.0,9,     -999.0,     -999.0,9,     -999.0,     -999.0,9,     -999.0,     -999.0,     -999.0,9,     -999.0,9,     -999.0,9,     -999.0,9,     -999.0,9,     -999.0,9,     -999.0,9,     -999.0,9