BOTTLE,20230606CCHSIOCBG
EXPOCODE,SECT_ID,STNNBR,CASTNO,SAMPNO,BTLNBR,BTLNBR_FLAG_W,DATE,TIME,LATITUDE,LONGITUDE,DEPTH,CTDPRS,CTDTMP,CTDSAL,CTDSAL_FLAG_W,SALNTY,SALNTY_FLAG_W,CTDOXY,CTDOXY_FLAG_W,OXYGEN,OXYGEN_FLAG_W,SILCAT,SILCAT_FLAG_W,NITRAT,NITRAT_FLAG_W,NITRIT,NITRIT_FLAG_W,PHSPHT,PHSPHT_FLAG_W,CFC-11,CFC-11_FLAG_W,CFC-12,CFC-12_FLAG_W,SF6,SF6_FLAG_W,TCARBN,TCARBN_FLAG_W,ALKALI,ALKALI_FLAG_W,PH_SWS,PH_SWS_FLAG_W,PH_TMP,DELC13,DELC13_FLAG_W,DELC14,DELC14_FLAG_W,C14ERR,CCL4,CCL4_FLAG_W,POC,POC_FLAG_W,DOC,DOC_FLAG_W,TDN,TDN_FLAG_W,PON,PON_FLAG_W,N2O,N2O_FLAG_W,D15N_NO3,D15N_NO3_FLAG_W,14C-DOC,14C-DOC_FLAG_W,14C-DOCERR,13C-DOC,13C-DOC_FLAG_W,N2/ARGON_UNSTRIPPED,N2/ARGON_UNSTRIPPED_FLAG_W,N2/ARGON_UNSTRIPPED_ERROR,N2/ARGON,N2/ARGON_FLAG_W,N2/ARGON_ERROR,D15N_N2,D15N_N2_FLAG_W,D15N_N2_ERROR,D15N_NO3_ERROR,D15N_NO2+NO3,D15N_NO2+NO3_FLAG_W,D18O_NO2+NO3,D18O_NO2+NO3_FLAG_W,D18O_NO3,D18O_NO3_FLAG_W,TDP,TDP_FLAG_W,N2O_ALT_1,N2O_ALT_1_FLAG_W,D15N_N2O,D15N_N2O_FLAG_W,D18O_N2O,D18O_N2O_FLAG_W,D15N_ALPHA_N2O,D15N_ALPHA_N2O_FLAG_W
,,,,,,,,,,,METERS,DBAR,ITS-90,PSS-78,,PSS-78,,UMOL/KG,,UMOL/KG,,UMOL/KG,,UMOL/KG,,UMOL/KG,,UMOL/KG,,PMOL/KG,,PMOL/KG,,FMOL/KG,,UMOL/KG,,UMOL/KG,,,,DEG C,/MILLE,,/MILLE,,/MILLE,PMOL/KG,,UG/KG,,UMOL/KG,,UMOL/KG,,UG/KG,,NMOL/KG,,/MILLE,,/MILLE,,/MILLE,/MILLE,,,,,,,,/MILLE,,/MILLE,/MILLE,/MILLE,,/MILLE,,/MILLE,,UMOL/KG,,NMOL/L,,/MILLE,,/MILLE,,/MILLE,
33RO20161119,        P18,     102,          1,          1,      11010,2,20161218,       0057,   -17.0000,  -102.9995,       3925,  3971.9,   1.8367,  34.6862,2,  34.6849,2,    149.7,2,   149.6,2,   128.2,6,    36.0,6,    0.00,6,   2.508,6,-999.0000,9,-999.0000,9,-999.0000,9,  2325.8,6,  2424.0,2,   7.5746,6,    25.00, -999.00,9,  -999.0,9,  -999.0,-999.0000,9, -999.00,9,  -999.0,9, -999.00,9, -999.00,9,     -999.0,9, -999.00,9,  -999.0,9,     -999.0,     -999.0,9,     -999.0,9,     -999.0,     -999.0,9,     -999.0,     -999.0,9,     -999.0,     -999.0,     -999.0,9,     -999.0,9,     -999.0,9,     -999.0,9,     -999.0,9,     -999.0,9,     -999.0,9,     -999.0,9
33RO20161119,        P18,     102,          1,          2,      11101,2,20161218,       0057,   -17.0000,  -102.9995,       3925,  3650.8,   1.8193,  34.6847,2,  34.6866,2,    148.2,2,   147.6,2,   129.0,6,    36.1,6,    0.00,6,   2.520,6,-999.0000,9,-999.0000,9,-999.0000,9,  2324.0,2,  2423.6,6,   7.5749,2,    25.00, -999.00,9,  -999.0,9,  -999.0,-999.0000,9, -999.00,9,  -999.0,9, -999.00,9, -999.00,9,     -999.0,9, -999.00,9,  -999.0,9,     -999.0,     -999.0,9,     -999.0,9,     -999.0,     -999.0,9,     -999.0,     -999.0,9,     -999.0,     -999.0,     -999.0,9,     -999.0,9,     -999.0,9,     -999.0,9,     -999.0,9,     -999.0,9,     -999.0,9,     -999.0,9
33RO20161119,        P18,     102,          1,          3,      11102,2,20161218,       0057,   -17.0000,  -102.9995,       3925,  3300.4,   1.8070,  34.6807,2,  34.6806,2,    144.4,2,   143.6,2,   133.1,6,    36.6,6,    0.00,6,   2.542,6,-999.0000,9,-999.0000,9,-999.0000,9,  2326.3,2,  2425.4,2,   7.5703,6,    25.00, -999.00,9,  -999.0,9,  -999.0,-999.0000,9, -999.00,9,  -999.0,9, -999.00,9, -999.00,9,     -999.0,9, -999.00,9,  -999.0,9,     -999.0,     -999.0,9,     -999.0,9,     -999.0,     -999.0,9,     -999.0,     -999.0,9,     -999.0,     -999.0,     -999.0,9,     -999.0,9,     -999.0,9,     -999.0,9,     -999.0,9,     -999.0,9,     -999.0,9,     -999.0,9
33RO20161119,        P18,     102,          1,          4,      11103,2,20161218,       0057,   -17.0000,  -102.9995,       3925,  3000.2,   1.8013,  34.6794,2,  34.6787,2,    145.4,2,   144.7,2,   131.1,6,    36.4,6,    0.00,6,   2.531,6,-999.0000,9,-999.0000,9,-999.0000,9,  2324.7,2,  2419.4,2,   7.5716,2,    25.00, -999.00,9,  -999.0,9,  -999.0,-999.0000,9, -999.00,9,  -999.0,9, -999.00,9, -999.00,9,     -999.0,9, -999.00,9,  -999.0,9,     -999.0,     -999.0,9,     -999.0,9,     -999.0,     -999.0,9,     -999.0,     -999.0,9,     -999.0,     -999.0,     -999.0,9,     -999.0,9,     -999.0,9,     -999.0,9,     -999.0,9,     -999.0,9,     -999.0,9,     -999.0,9
33RO20161119,        P18,     102,          1,          5,      11104,2,20161218,       0057,   -17.0000,  -102.9995,       3925,  2730.0,   1.8161,  34.6763,2,  34.6759,2,    152.0,2,   151.0,2,   123.4,2,    35.8,2,    0.00,2,   2.491,2,-999.0000,9,-999.0000,9,-999.0000,9,  2313.8,2,  2410.3,2,   7.5718,2,    25.00, -999.00,9,  -999.0,9,  -999.0,-999.0000,9, -999.00,9,  -999.0,9, -999.00,9, -999.00,9,     -999.0,9, -999.00,9,  -999.0,9,     -999.0,     -999.0,9,     -999.0,9,     -999.0,     -999.0,9,     -999.0,     -999.0,9,     -999.0,     -999.0,     -999.0,9,     -999.0,9,     -999.0,9,     -999.0,9,     -999.0,9,     -999.0,9,     -999.0,9,     -999.0,9
33RO20161119,        P18,     102,          1,          6,      11105,2,20161218,       0057,   -17.0000,  -102.9995,       3925,  2400.1,   1.9170,  34.6623,2,  34.6621,2,    149.9,2,   149.1,2,   118.8,2,    36.0,2,    0.00,2,   2.501,2,-999.0000,9,-999.0000,9,-999.0000,9,  2306.3,2,  2399.9,2,   7.5616,2,    25.00, -999.00,9,  -999.0,9,  -999.0,-999.0000,9, -999.00,9,  -999.0,9, -999.00,9, -999.00,9,     -999.0,9, -999.00,9,  -999.0,9,     -999.0,     -999.0,9,     -999.0,9,     -999.0,     -999.0,9,     -999.0,     -999.0,9,     -999.0,     -999.0,     -999.0,9,     -999.0,9,     -999.0,9,     -999.0,9,     -999.0,9,     -999.0,9,     -999.0,9,     -999.0,9
33RO20161119,        P18,     102,          1,          7,      11106,2,20161218,       0057,   -17.0000,  -102.9995,       3925,  2125.4,   2.1338,  34.6454,2,  34.6448,2,    132.0,2,   131.9,2,   119.8,2,    37.3,2,    0.00,2,   2.619,2,-999.0000,9,-999.0000,9,-999.0000,9,  2353.8,4,  2401.1,2,   7.5305,2,    25.00, -999.00,9,  -999.0,9,  -999.0,-999.0000,9, -999.00,9,  -999.0,9, -999.00,9, -999.00,9,     -999.0,9, -999.00,9,  -999.0,9,     -999.0,     -999.0,9,     -999.0,9,     -999.0,     -999.0,9,     -999.0,     -999.0,9,     -999.0,     -999.0,     -999.0,9,     -999.0,9,     -999.0,9,     -999.0,9,     -999.0,9,     -999.0,9,     -999.0,9,     -999.0,9
33RO20161119,        P18,     102,          1,          8,      11107,2,20161218,       0057,   -17.0000,  -102.9995,       3925,  1879.4,   2.4349,  34.6257,2,  34.6252,2,    114.3,2,   113.8,2,   117.5,2,    38.8,2,    0.00,2,   2.740,2,-999.0000,9,-999.0000,9,-999.0000,9,  2328.5,6,  2397.7,2,   7.4997,2,    25.00, -999.00,9,  -999.0,9,  -999.0,-999.0000,9, -999.00,9,  -999.0,9, -999.00,9, -999.00,9,     -999.0,9, -999.00,9,  -999.0,9,     -999.0,     -999.0,9,     -999.0,9,     -999.0,     -999.0,9,     -999.0,     -999.0,9,     -999.0,     -999.0,     -999.0,9,     -999.0,9,     -999.0,9,     -999.0,9,     -999.0,9,     -999.0,9,     -999.0,9,     -999.0,9
33RO20161119,        P18,     102,          1,          9,      11108,2,20161218,       0057,   -17.0000,  -102.9995,       3925,  1535.7,   2.9697,  34.5916,2,  34.5904,2,     95.6,2,    95.1,2,   106.8,2,    40.4,2,    0.01,2,   2.878,2,-999.0000,9,-999.0000,9,-999.0000,9,  2328.9,2,  2379.4,2,   7.4639,2,    25.00, -999.00,9,  -999.0,9,  -999.0,-999.0000,9, -999.00,9,  -999.0,9, -999.00,9, -999.00,9,     -999.0,9, -999.00,9,  -999.0,9,     -999.0,     -999.0,9,     -999.0,9,     -999.0,     -999.0,9,     -999.0,     -999.0,9,     -999.0,     -999.0,     -999.0,9,     -999.0,9,     -999.0,9,     -999.0,9,     -999.0,9,     -999.0,9,     -999.0,9,     -999.0,9
33RO20161119,        P18,     102,          1,         10,      11109,2,20161218,       0057,   -17.0000,  -102.9995,       3925,  1300.7,   3.4845,  34.5619,2,  34.5608,2,     86.4,2,    85.1,2,    93.7,2,    41.1,2,    0.00,2,   2.938,2,-999.0000,9,-999.0000,9,-999.0000,9,  2319.5,2,  2363.3,2,   7.4416,2,    25.00, -999.00,9,  -999.0,9,  -999.0,-999.0000,9, -999.00,9,  -999.0,9, -999.00,9, -999.00,9,     -999.0,9, -999.00,9,  -999.0,9,     -999.0,     -999.0,9,     -999.0,9,     -999.0,     -999.0,9,     -999.0,     -999.0,9,     -999.0,     -999.0,     -999.0,9,     -999.0,9,     -999.0,9,     -999.0,9,     -999.0,9,     -999.0,9,     -999.0,9,     -999.0,9
33RO20161119,        P18,     102,          1,         11,      11110,2,20161218,       0057,   -17.0000,  -102.9995,       3925,  1220.2,   3.7451,  34.5498,2,  34.5494,2,     81.4,2,    80.1,2,    87.6,2,    41.6,2,    0.00,2,   2.964,2,-999.0000,9,-999.0000,9,-999.0000,9,  2315.8,2,  2357.6,2,   7.4338,2,    25.00, -999.00,9,  -999.0,9,  -999.0,-999.0000,9, -999.00,9,  -999.0,9, -999.00,9, -999.00,9,     -999.0,9, -999.00,9,  -999.0,9,     -999.0,     -999.0,9,     -999.0,9,     -999.0,     -999.0,9,     -999.0,     -999.0,9,     -999.0,     -999.0,     -999.0,9,     -999.0,9,     -999.0,9,     -999.0,9,     -999.0,9,     -999.0,9,     -999.0,9,     -999.0,9
33RO20161119,        P18,     102,          1,         12,      11111,2,20161218,       0057,   -17.0000,  -102.9995,       3925,  1069.8,   4.2206,  34.5291,2,  34.5280,2,     78.5,2,    76.5,2,    76.4,2,    41.9,2,    0.00,2,   2.950,2,   0.0025,6,   0.0025,6,   0.0000,6,  2305.5,2,  2346.1,2,   7.4280,2,    25.00, -999.00,9,  -999.0,9,  -999.0,   0.0287,2, -999.00,9,  -999.0,9, -999.00,9, -999.00,9,    34.1999,2, -999.00,9,  -999.0,9,     -999.0,     -999.0,9,     -999.0,9,     -999.0,     -999.0,9,     -999.0,     -999.0,9,     -999.0,     -999.0,     -999.0,9,     -999.0,9,     -999.0,9,     -999.0,9,     -999.0,9,     -999.0,9,     -999.0,9,     -999.0,9
33RO20161119,        P18,     102,          1,         13,      11112,2,20161218,       0057,   -17.0000,  -102.9995,       3925,   940.5,   4.7550,  34.5101,2,  34.5089,2,     70.5,2,    70.9,6,    64.6,2,    42.0,2,    0.00,2,   2.943,2,-999.0000,9,-999.0000,9,-999.0000,9,  2295.9,2,  2329.2,2,   7.4188,2,    25.00, -999.00,9,  -999.0,9,  -999.0,-999.0000,9, -999.00,9,  -999.0,9, -999.00,9, -999.00,9,     -999.0,9, -999.00,9,  -999.0,9,     -999.0,     -999.0,9,     -999.0,9,     -999.0,     -999.0,9,     -999.0,     -999.0,9,     -999.0,     -999.0,     -999.0,9,     -999.0,9,     -999.0,9,     -999.0,9,     -999.0,9,     -999.0,9,     -999.0,9,     -999.0,9
33RO20161119,        P18,     102,          1,         14,      11113,2,20161218,       0057,   -17.0000,  -102.9995,       3925,   830.3,   5.2297,  34.4973,2,  34.4961,2,     64.0,2,    63.0,2,    55.4,2,    42.4,2,    0.00,2,   2.976,2,   0.0074,2,   0.0050,2,   0.0000,2,  2290.2,2,  2321.2,2,   7.4039,2,    25.00, -999.00,9,  -999.0,9,  -999.0,     0.15,2, -999.00,9,  -999.0,9, -999.00,9, -999.00,9,    39.7692,2, -999.00,9,  -999.0,9,     -999.0,     -999.0,9,     -999.0,9,     -999.0,     -999.0,9,     -999.0,     -999.0,9,     -999.0,     -999.0,     -999.0,9,     -999.0,9,     -999.0,9,     -999.0,9,     -999.0,9,     -999.0,9,     -999.0,9,     -999.0,9
33RO20161119,        P18,     102,          1,         15,      11114,2,20161218,       0057,   -17.0000,  -102.9995,       3925,   730.2,   5.8135,  34.4971,2,  34.4955,2,     68.2,2,    66.4,2,    46.0,2,    41.0,2,    0.00,2,   2.861,2,-999.0000,9,-999.0000,9,-999.0000,9,  2274.7,2,  2314.6,2,   7.4199,2,    25.00, -999.00,9,  -999.0,9,  -999.0,-999.0000,9, -999.00,9,  -999.0,9, -999.00,9, -999.00,9,     -999.0,9, -999.00,9,  -999.0,9,     -999.0,     -999.0,9,     -999.0,9,     -999.0,     -999.0,9,     -999.0,     -999.0,9,     -999.0,     -999.0,     -999.0,9,     -999.0,9,     -999.0,9,     -999.0,9,     -999.0,9,     -999.0,9,     -999.0,9,     -999.0,9
33RO20161119,        P18,     102,          1,         16,      11115,2,20161218,       0057,   -17.0000,  -102.9995,       3925,   575.6,   6.9834,  34.5175,2,  34.5160,2,     56.3,2,    56.1,2,    34.1,2,    39.6,2,    0.00,2,   2.757,2,   0.1627,2,   0.0859,2,   0.0000,2,  2268.0,2,  2300.6,2,   7.4083,2,    25.00, -999.00,9,  -999.0,9,  -999.0,   0.2282,2, -999.00,9,  -999.0,9, -999.00,9, -999.00,9,    47.0557,2, -999.00,9,  -999.0,9,     -999.0,     -999.0,9,     -999.0,9,     -999.0,     -999.0,9,     -999.0,     -999.0,9,     -999.0,     -999.0,     -999.0,9,     -999.0,9,     -999.0,9,     -999.0,9,     -999.0,9,     -999.0,9,     -999.0,9,     -999.0,9
33RO20161119,        P18,     102,          1,         17,      11116,2,20161218,       0057,   -17.0000,  -102.9995,       3925,   470.7,   7.9913,  34.5475,2,  34.5466,2,     39.4,2,    39.5,6,    28.3,2,    38.3,2,    0.00,2,   2.761,2,-999.0000,9,-999.0000,9,-999.0000,9,  2270.2,2,  2296.1,6,   7.3851,2,    25.00, -999.00,9,  -999.0,9,  -999.0,-999.0000,9, -999.00,9,  -999.0,9, -999.00,9, -999.00,9,     -999.0,9, -999.00,9,  -999.0,9,     -999.0,     -999.0,9,     -999.0,9,     -999.0,     -999.0,9,     -999.0,     -999.0,9,     -999.0,     -999.0,     -999.0,9,     -999.0,9,     -999.0,9,     -999.0,9,     -999.0,9,     -999.0,9,     -999.0,9,     -999.0,9
33RO20161119,        P18,     102,          1,         18,      11117,2,20161218,       0057,   -17.0000,  -102.9995,       3925,   369.5,   9.5414,  34.6002,2,  34.6000,2,     21.3,2,    20.6,2,    24.1,2,    33.6,2,    0.00,2,   2.738,2,   0.7239,2,   0.3822,2,   0.1178,2,  2271.8,2,  2294.0,2,   7.3638,6,    25.00, -999.00,9,  -999.0,9,  -999.0,   0.4843,2, -999.00,9,  -999.0,9, -999.00,9, -999.00,9,    48.1249,2, -999.00,9,  -999.0,9,     -999.0,     -999.0,9,     -999.0,9,     -999.0,     -999.0,9,     -999.0,     -999.0,9,     -999.0,     -999.0,     -999.0,9,     -999.0,9,     -999.0,9,     -999.0,9,     -999.0,9,     -999.0,9,     -999.0,9,     -999.0,9
33RO20161119,        P18,     102,          1,         19,      11083,2,20161218,       0057,   -17.0000,  -102.9995,       3925,   280.1,  11.3450,  34.5850,2,  34.5859,2,     65.9,2,    63.7,2,    15.3,2,    23.8,2,    0.01,2,   2.266,2,   1.8866,2,   1.0548,2,   0.6047,2,  2230.4,2,  2290.1,2,   7.4819,2,    25.00, -999.00,9,  -999.0,9,  -999.0,   1.7092,2, -999.00,9,  -999.0,9, -999.00,9, -999.00,9,    34.0161,2, -999.00,9,  -999.0,9,     -999.0,     -999.0,9,     -999.0,9,     -999.0,     -999.0,9,     -999.0,     -999.0,9,     -999.0,     -999.0,     -999.0,9,     -999.0,9,     -999.0,9,     -999.0,9,     -999.0,9,     -999.0,9,     -999.0,9,     -999.0,9
33RO20161119,        P18,     102,          1,         20,      11118,2,20161218,       0057,   -17.0000,  -102.9995,       3925,   180.5,  17.3219,  35.2631,2,  35.2805,2,    151.4,2,   145.8,2,     3.6,2,    12.9,2,    0.03,2,   1.293,2,   2.2502,2,   1.3685,2,   1.4902,2,  2159.6,2,  2326.4,2,   7.7835,3,    25.00, -999.00,9,  -999.0,9,  -999.0,   1.8117,2, -999.00,9,  -999.0,9, -999.00,9, -999.00,9,    22.7427,2, -999.00,9,  -999.0,9,     -999.0,     -999.0,9,     -999.0,9,     -999.0,     -999.0,9,     -999.0,     -999.0,9,     -999.0,     -999.0,     -999.0,9,     -999.0,9,     -999.0,9,     -999.0,9,     -999.0,9,     -999.0,9,     -999.0,9,     -999.0,9
33RO20161119,        P18,     102,          1,         21,      11119,2,20161218,       0057,   -17.0000,  -102.9995,       3925,   124.8,  21.9759,  36.0686,2,  36.0910,2,    208.9,2,   206.9,2,     1.2,2,     1.0,2,    0.17,2,   0.482,2,-999.0000,9,-999.0000,9,-999.0000,9,  2092.7,2,  2385.9,2,   8.0008,2,    25.00, -999.00,9,  -999.0,9,  -999.0,-999.0000,9, -999.00,9,  -999.0,9, -999.00,9, -999.00,9,     -999.0,9, -999.00,9,  -999.0,9,     -999.0,     -999.0,9,     -999.0,9,     -999.0,     -999.0,9,     -999.0,     -999.0,9,     -999.0,     -999.0,     -999.0,9,     -999.0,9,     -999.0,9,     -999.0,9,     -999.0,9,     -999.0,9,     -999.0,9,     -999.0,9
33RO20161119,        P18,     102,          1,         22,      11120,2,20161218,       0057,   -17.0000,  -102.9995,       3925,    60.3,  23.0038,  36.1837,2,  36.1830,2,    218.4,2,   218.0,2,     1.0,2,     0.1,2,    0.01,2,   0.334,2,   1.8000,2,   1.1354,2,   1.5084,2,  2077.3,2,  2387.9,6,   8.0352,2,    25.00, -999.00,9,  -999.0,9,  -999.0,        0,2, -999.00,9,  -999.0,9, -999.00,9, -999.00,9,     6.7882,2, -999.00,9,  -999.0,9,     -999.0,     -999.0,9,     -999.0,9,     -999.0,     -999.0,9,     -999.0,     -999.0,9,     -999.0,     -999.0,     -999.0,9,     -999.0,9,     -999.0,9,     -999.0,9,     -999.0,9,     -999.0,9,     -999.0,9,     -999.0,9
33RO20161119,        P18,     102,          1,         23,      11121,2,20161218,       0057,   -17.0000,  -102.9995,       3925,    25.3,  23.5222,  36.1979,2,  36.2057,2,    216.6,2,   216.2,2,     0.7,2,     0.1,2,    0.01,2,   0.333,2,-999.0000,9,-999.0000,9,-999.0000,9,  2074.8,6,  2393.1,2,   8.0388,2,    25.00, -999.00,9,  -999.0,9,  -999.0,-999.0000,9, -999.00,9,  -999.0,9, -999.00,9, -999.00,9,     -999.0,9, -999.00,9,  -999.0,9,     -999.0,     -999.0,9,     -999.0,9,     -999.0,     -999.0,9,     -999.0,     -999.0,9,     -999.0,     -999.0,     -999.0,9,     -999.0,9,     -999.0,9,     -999.0,9,     -999.0,9,     -999.0,9,     -999.0,9,     -999.0,9
33RO20161119,        P18,     102,          1,         24,      11122,2,20161218,       0057,   -17.0000,  -102.9995,       3925,     3.3,  23.7786,  36.2132,2,  36.2124,2,    213.9,2,   214.8,2,     0.7,2,     0.1,2,    0.01,2,   0.344,2,   1.7520,2,   1.1093,2,   1.4766,2,  2076.6,2,  2394.9,2,   8.0393,2,    25.00, -999.00,9,  -999.0,9,  -999.0,        0,2, -999.00,9,  -999.0,9, -999.00,9, -999.00,9,     6.7218,2, -999.00,9,  -999.0,9,     -999.0,     -999.0,9,     -999.0,9,     -999.0,     -999.0,9,     -999.0,     -999.0,9,     -999.0,     -999.0,     -999.0,9,     -999.0,9,     -999.0,9,     -999.0,9,     -999.0,9,     -999.0,9,     -999.0,9,     -999.0,9