BOTTLE,20230606CCHSIOCBG
EXPOCODE,SECT_ID,STNNBR,CASTNO,SAMPNO,BTLNBR,BTLNBR_FLAG_W,DATE,TIME,LATITUDE,LONGITUDE,DEPTH,CTDPRS,CTDTMP,CTDSAL,CTDSAL_FLAG_W,SALNTY,SALNTY_FLAG_W,CTDOXY,CTDOXY_FLAG_W,OXYGEN,OXYGEN_FLAG_W,SILCAT,SILCAT_FLAG_W,NITRAT,NITRAT_FLAG_W,NITRIT,NITRIT_FLAG_W,PHSPHT,PHSPHT_FLAG_W,CFC-11,CFC-11_FLAG_W,CFC-12,CFC-12_FLAG_W,SF6,SF6_FLAG_W,TCARBN,TCARBN_FLAG_W,ALKALI,ALKALI_FLAG_W,PH_SWS,PH_SWS_FLAG_W,PH_TMP,DELC13,DELC13_FLAG_W,DELC14,DELC14_FLAG_W,C14ERR,CCL4,CCL4_FLAG_W,POC,POC_FLAG_W,DOC,DOC_FLAG_W,TDN,TDN_FLAG_W,PON,PON_FLAG_W,N2O,N2O_FLAG_W,D15N_NO3,D15N_NO3_FLAG_W,14C-DOC,14C-DOC_FLAG_W,14C-DOCERR,13C-DOC,13C-DOC_FLAG_W,N2/ARGON_UNSTRIPPED,N2/ARGON_UNSTRIPPED_FLAG_W,N2/ARGON_UNSTRIPPED_ERROR,N2/ARGON,N2/ARGON_FLAG_W,N2/ARGON_ERROR,D15N_N2,D15N_N2_FLAG_W,D15N_N2_ERROR,D15N_NO3_ERROR,D15N_NO2+NO3,D15N_NO2+NO3_FLAG_W,D18O_NO2+NO3,D18O_NO2+NO3_FLAG_W,D18O_NO3,D18O_NO3_FLAG_W,TDP,TDP_FLAG_W,N2O_ALT_1,N2O_ALT_1_FLAG_W,D15N_N2O,D15N_N2O_FLAG_W,D18O_N2O,D18O_N2O_FLAG_W,D15N_ALPHA_N2O,D15N_ALPHA_N2O_FLAG_W
,,,,,,,,,,,METERS,DBAR,ITS-90,PSS-78,,PSS-78,,UMOL/KG,,UMOL/KG,,UMOL/KG,,UMOL/KG,,UMOL/KG,,UMOL/KG,,PMOL/KG,,PMOL/KG,,FMOL/KG,,UMOL/KG,,UMOL/KG,,,,DEG C,/MILLE,,/MILLE,,/MILLE,PMOL/KG,,UG/KG,,UMOL/KG,,UMOL/KG,,UG/KG,,NMOL/KG,,/MILLE,,/MILLE,,/MILLE,/MILLE,,,,,,,,/MILLE,,/MILLE,/MILLE,/MILLE,,/MILLE,,/MILLE,,UMOL/KG,,NMOL/L,,/MILLE,,/MILLE,,/MILLE,
33RO20161119,        P18,       6,          1,          1,      11010,2,20161125,       1309,    21.4988,  -109.9999,       3196,  3219.6,   1.6517,  34.6720,2,  34.6725,2,    115.8,2,   115.2,2,   163.8,6,    38.4,6,    0.01,6,   2.652,6,   0.0132,2,   0.0120,2,   0.0000,2,  2360.3,2,  2433.6,2,   7.5210,2,    25.00, -999.00,9,  -999.0,9,  -999.0,    0.976,2, -999.00,9,  -999.0,9, -999.00,9, -999.00,9,    22.0791,2, -999.00,9,  -999.0,9,     -999.0,     -999.0,9,     -999.0,9,     -999.0,     -999.0,9,     -999.0,     -999.0,9,     -999.0,     -999.0,     -999.0,9,     -999.0,9,     -999.0,9,     -999.0,9,     -999.0,9,     -999.0,9,     -999.0,9,     -999.0,9
33RO20161119,        P18,       6,          1,          2,      11101,2,20161125,       1309,    21.4988,  -109.9999,       3196,  2945.2,   1.6951,  34.6688,2,  34.6735,2,    113.2,2,   113.2,2,   160.7,6,    38.5,6,    0.01,6,   2.674,6,-999.0000,9,-999.0000,9,-999.0000,9,  2358.4,2,  2432.4,2,   7.5150,2,    25.00, -999.00,9,  -999.0,9,  -999.0,-999.0000,9, -999.00,9,  -999.0,9, -999.00,9, -999.00,9,     -999.0,9, -999.00,9,  -999.0,9,     -999.0,     -999.0,9,     -999.0,9,     -999.0,     -999.0,9,     -999.0,     -999.0,9,     -999.0,     -999.0,     -999.0,9,     -999.0,9,     -999.0,9,     -999.0,9,     -999.0,9,     -999.0,9,     -999.0,9,     -999.0,9
33RO20161119,        P18,       6,          1,          3,      11102,2,20161125,       1309,    21.4988,  -109.9999,       3196,  2701.2,   1.7403,  34.6666,2,  34.6676,2,    110.3,2,   109.8,2,   158.5,6,    38.8,6,    0.01,6,   2.689,6,   0.0052,2,   0.0043,2,   0.0269,2,  2358.4,2,  2430.6,2,   7.5081,6,    25.00, -999.00,9,  -999.0,9,  -999.0,   0.2636,2, -999.00,9,  -999.0,9, -999.00,9, -999.00,9,    23.2789,2, -999.00,9,  -999.0,9,     -999.0,     -999.0,9,     -999.0,9,     -999.0,     -999.0,9,     -999.0,     -999.0,9,     -999.0,     -999.0,     -999.0,9,     -999.0,9,     -999.0,9,     -999.0,9,     -999.0,9,     -999.0,9,     -999.0,9,     -999.0,9
33RO20161119,        P18,       6,          1,          4,      11103,2,20161125,       1309,    21.4988,  -109.9999,       3196,  2450.4,   1.8442,  34.6600,2,  34.6662,4,    102.9,2,   102.0,2,   156.6,6,    39.3,6,    0.01,6,   2.741,6,-999.0000,9,-999.0000,9,-999.0000,9,  2362.2,2,  2428.9,6,   7.4946,2,    25.00, -999.00,9,  -999.0,9,  -999.0,-999.0000,9, -999.00,9,  -999.0,9, -999.00,9, -999.00,9,     -999.0,9, -999.00,9,  -999.0,9,     -999.0,     -999.0,9,     -999.0,9,     -999.0,     -999.0,9,     -999.0,     -999.0,9,     -999.0,     -999.0,     -999.0,9,     -999.0,9,     -999.0,9,     -999.0,9,     -999.0,9,     -999.0,9,     -999.0,9,     -999.0,9
33RO20161119,        P18,       6,          1,          5,      11104,2,20161125,       1309,    21.4988,  -109.9999,       3196,  2225.8,   1.9818,  34.6504,2,  34.6499,2,     93.9,2,    93.3,2,   154.4,2,    39.8,2,    0.01,2,   2.786,2,-999.0000,9,-999.0000,9,-999.0000,9,  2364.5,2,  2425.6,2,   7.4742,2,    25.00, -999.00,9,  -999.0,9,  -999.0,-999.0000,9, -999.00,9,  -999.0,9, -999.00,9, -999.00,9,     -999.0,9, -999.00,9,  -999.0,9,     -999.0,     -999.0,9,     -999.0,9,     -999.0,     -999.0,9,     -999.0,     -999.0,9,     -999.0,     -999.0,     -999.0,9,     -999.0,9,     -999.0,9,     -999.0,9,     -999.0,9,     -999.0,9,     -999.0,9,     -999.0,9
33RO20161119,        P18,       6,          1,          6,      11105,2,20161125,       1309,    21.4988,  -109.9999,       3196,  1960.4,   2.2886,  34.6331,2,  34.6326,2,     77.0,2,    76.0,6,   149.5,2,    40.9,2,    0.01,2,   2.909,2,   0.0082,6,   0.0038,6,   0.0397,6,  2368.6,2,  2420.4,2,   7.4446,2,    25.00, -999.00,9,  -999.0,9,  -999.0,   0.1537,2, -999.00,9,  -999.0,9, -999.00,9, -999.00,9,    29.1769,2, -999.00,9,  -999.0,9,     -999.0,     -999.0,9,     -999.0,9,     -999.0,     -999.0,9,     -999.0,     -999.0,9,     -999.0,     -999.0,     -999.0,9,     -999.0,9,     -999.0,9,     -999.0,9,     -999.0,9,     -999.0,9,     -999.0,9,     -999.0,9
33RO20161119,        P18,       6,          1,          7,      11106,2,20161125,       1309,    21.4988,  -109.9999,       3196,  1720.9,   2.6811,  34.6149,2,  34.6135,2,     58.7,2,    57.8,2,   142.7,2,    42.1,2,    0.01,2,   3.045,2,-999.0000,9,-999.0000,9,-999.0000,9,  2375.4,2,  2411.0,2,   7.4052,2,    25.00, -999.00,9,  -999.0,9,  -999.0,-999.0000,9, -999.00,9,  -999.0,9, -999.00,9, -999.00,9,     -999.0,9, -999.00,9,  -999.0,9,     -999.0,     -999.0,9,     -999.0,9,     -999.0,     -999.0,9,     -999.0,     -999.0,9,     -999.0,     -999.0,     -999.0,9,     -999.0,9,     -999.0,9,     -999.0,9,     -999.0,9,     -999.0,9,     -999.0,9,     -999.0,9
33RO20161119,        P18,       6,          1,          8,      11107,2,20161125,       1309,    21.4988,  -109.9999,       3196,  1480.7,   3.1389,  34.5919,2,  34.5913,2,     41.1,2,    42.1,2,   133.9,2,    43.2,2,    0.01,2,   3.166,2,-999.0000,9,-999.0000,9,-999.0000,9,  2375.0,2,  2401.0,2,   7.3715,2,    25.00, -999.00,9,  -999.0,9,  -999.0,-999.0000,9, -999.00,9,  -999.0,9, -999.00,9, -999.00,9,     -999.0,9, -999.00,9,  -999.0,9,     -999.0,     -999.0,9,     -999.0,9,     -999.0,     -999.0,9,     -999.0,     -999.0,9,     -999.0,     -999.0,     -999.0,9,     -999.0,9,     -999.0,9,     -999.0,9,     -999.0,9,     -999.0,9,     -999.0,9,     -999.0,9
33RO20161119,        P18,       6,          1,          9,      11108,2,20161125,       1309,    21.4988,  -109.9999,       3196,  1230.7,   3.7822,  34.5624,2,  34.5630,2,     23.1,2,    22.1,2,   120.0,2,    44.1,2,    0.01,2,   3.279,2,   0.0119,2,   0.0041,2,   0.0000,2,  2372.4,2,  2383.8,2,   7.4896,4,    25.00, -999.00,9,  -999.0,9,  -999.0,   0.4484,2, -999.00,9,  -999.0,9, -999.00,9, -999.00,9,    44.8826,2, -999.00,9,  -999.0,9,     -999.0,     -999.0,9,     -999.0,9,     -999.0,     -999.0,9,     -999.0,     -999.0,9,     -999.0,     -999.0,     -999.0,9,     -999.0,9,     -999.0,9,     -999.0,9,     -999.0,9,     -999.0,9,     -999.0,9,     -999.0,9
33RO20161119,        P18,       6,          1,         10,      11109,2,20161125,       1309,    21.4988,  -109.9999,       3196,  1070.2,   4.3522,  34.5455,2,  34.5495,2,     12.2,2,    12.0,2,   107.2,2,    44.6,2,    0.01,2,   3.332,2,   0.0092,2,   0.0034,2,   0.0359,2,  2363.7,6,  2371.1,2,   7.3157,2,    25.00, -999.00,9,  -999.0,9,  -999.0,   0.1039,2, -999.00,9,  -999.0,9, -999.00,9, -999.00,9,    50.5446,2, -999.00,9,  -999.0,9,     -999.0,     -999.0,9,     -999.0,9,     -999.0,     -999.0,9,     -999.0,     -999.0,9,     -999.0,     -999.0,     -999.0,9,     -999.0,9,     -999.0,9,     -999.0,9,     -999.0,9,     -999.0,9,     -999.0,9,     -999.0,9
33RO20161119,        P18,       6,          1,         11,      11110,2,20161125,       1309,    21.4988,  -109.9999,       3196,   960.5,   4.7369,  34.5326,2,  34.5323,2,      7.1,2,     7.6,2,   100.5,2,    44.1,2,    0.01,2,   3.320,2,-999.0000,9,-999.0000,9,-999.0000,9,  2358.5,2,  2361.6,2,   7.3093,2,    25.00, -999.00,9,  -999.0,9,  -999.0,-999.0000,9, -999.00,9,  -999.0,9, -999.00,9, -999.00,9,     -999.0,9, -999.00,9,  -999.0,9,     -999.0,     -999.0,9,     -999.0,9,     -999.0,     -999.0,9,     -999.0,     -999.0,9,     -999.0,     -999.0,     -999.0,9,     -999.0,9,     -999.0,9,     -999.0,9,     -999.0,9,     -999.0,9,     -999.0,9,     -999.0,9
33RO20161119,        P18,       6,          1,         12,      11111,2,20161125,       1309,    21.4988,  -109.9999,       3196,   850.8,   5.1532,  34.5179,2,  34.5198,2,      5.3,2,     4.5,2,    93.3,2,    43.2,2,    0.01,2,   3.280,2,-999.0000,9,-999.0000,9,-999.0000,9,  2349.4,2,  2354.6,2,   7.3078,2,    25.00, -999.00,9,  -999.0,9,  -999.0,-999.0000,9, -999.00,9,  -999.0,9, -999.00,9, -999.00,9,     -999.0,9, -999.00,9,  -999.0,9,     -999.0,     -999.0,9,     -999.0,9,     -999.0,     -999.0,9,     -999.0,     -999.0,9,     -999.0,     -999.0,     -999.0,9,     -999.0,9,     -999.0,9,     -999.0,9,     -999.0,9,     -999.0,9,     -999.0,9,     -999.0,9
33RO20161119,        P18,       6,          1,         13,      11112,2,20161125,       1309,    21.4988,  -109.9999,       3196,   750.1,   5.7512,  34.5163,2,  34.5157,2,      3.1,2,     2.6,2,    84.3,2,    41.4,2,    0.01,2,   3.243,2,   0.0149,2,   0.0071,2,   0.0388,2,  2341.4,2,  2346.6,2,   7.3110,2,    25.00, -999.00,9,  -999.0,9,  -999.0,   0.0898,2, -999.00,9,  -999.0,9, -999.00,9, -999.00,9,    57.3625,2, -999.00,9,  -999.0,9,     -999.0,     -999.0,9,     -999.0,9,     -999.0,     -999.0,9,     -999.0,     -999.0,9,     -999.0,     -999.0,     -999.0,9,     -999.0,9,     -999.0,9,     -999.0,9,     -999.0,9,     -999.0,9,     -999.0,9,     -999.0,9
33RO20161119,        P18,       6,          1,         14,      11113,2,20161125,       1309,    21.4988,  -109.9999,       3196,   649.5,   6.3482,  34.4993,2,  34.5000,2,      3.2,2,     2.7,2,    76.8,2,    38.9,2,    0.01,2,   3.197,2,-999.0000,9,-999.0000,9,-999.0000,9,  2332.2,2,  2338.0,2,   7.3172,2,    25.00, -999.00,9,  -999.0,9,  -999.0,-999.0000,9, -999.00,9,  -999.0,9, -999.00,9, -999.00,9,     -999.0,9, -999.00,9,  -999.0,9,     -999.0,     -999.0,9,     -999.0,9,     -999.0,     -999.0,9,     -999.0,     -999.0,9,     -999.0,     -999.0,     -999.0,9,     -999.0,9,     -999.0,9,     -999.0,9,     -999.0,9,     -999.0,9,     -999.0,9,     -999.0,9
33RO20161119,        P18,       6,          1,         15,      11114,2,20161125,       1309,    21.4988,  -109.9999,       3196,   556.1,   7.3057,  34.5132,2,  34.5136,2,      2.6,2,     1.7,2,    66.4,6,    35.3,6,    0.01,6,   3.119,6,-999.0000,9,-999.0000,9,-999.0000,9,  2320.0,2,  2329.4,2,   7.3238,2,    25.00, -999.00,9,  -999.0,9,  -999.0,-999.0000,9, -999.00,9,  -999.0,9, -999.00,9, -999.00,9,     -999.0,9, -999.00,9,  -999.0,9,     -999.0,     -999.0,9,     -999.0,9,     -999.0,     -999.0,9,     -999.0,     -999.0,9,     -999.0,     -999.0,     -999.0,9,     -999.0,9,     -999.0,9,     -999.0,9,     -999.0,9,     -999.0,9,     -999.0,9,     -999.0,9
33RO20161119,        P18,       6,          1,         16,      11115,2,20161125,       1309,    21.4988,  -109.9999,       3196,   465.5,   8.4086,  34.5326,2,  34.5318,2,      3.1,2,     3.2,6,    55.5,2,    31.8,2,    0.01,2,   2.987,2,   0.2107,2,   0.1191,2,   0.0752,2,  2304.0,2,  2320.2,6,   7.3335,2,    25.00, -999.00,9,  -999.0,9,  -999.0,   0.4735,2, -999.00,9,  -999.0,9, -999.00,9, -999.00,9,    43.4827,2, -999.00,9,  -999.0,9,     -999.0,     -999.0,9,     -999.0,9,     -999.0,     -999.0,9,     -999.0,     -999.0,9,     -999.0,     -999.0,     -999.0,9,     -999.0,9,     -999.0,9,     -999.0,9,     -999.0,9,     -999.0,9,     -999.0,9,     -999.0,9
33RO20161119,        P18,       6,          1,         17,      11116,2,20161125,       1309,    21.4988,  -109.9999,       3196,   380.9,   9.7392,  34.6048,2,  34.6052,2,      2.4,2,     1.8,2,    37.6,3,    24.2,3,    0.01,3,   2.739,3,-999.0000,9,-999.0000,9,-999.0000,9,  2297.2,2,  2314.8,2,   7.3504,2,    25.00, -999.00,9,  -999.0,9,  -999.0,-999.0000,9, -999.00,9,  -999.0,9, -999.00,9, -999.00,9,     -999.0,9, -999.00,9,  -999.0,9,     -999.0,     -999.0,9,     -999.0,9,     -999.0,     -999.0,9,     -999.0,     -999.0,9,     -999.0,     -999.0,     -999.0,9,     -999.0,9,     -999.0,9,     -999.0,9,     -999.0,9,     -999.0,9,     -999.0,9,     -999.0,9
33RO20161119,        P18,       6,          1,         18,      11117,2,20161125,       1309,    21.4988,  -109.9999,       3196,   294.7,  11.0740,  34.6904,2,  34.6928,2,      2.4,2,     1.6,2,    45.8,3,    27.4,3,    0.01,3,   2.878,3,-999.0000,9,-999.0000,9,-999.0000,9,  2287.0,2,  2311.8,2,   7.3703,2,    25.00, -999.00,9,  -999.0,9,  -999.0,-999.0000,9, -999.00,9,  -999.0,9, -999.00,9, -999.00,9,     -999.0,9, -999.00,9,  -999.0,9,     -999.0,     -999.0,9,     -999.0,9,     -999.0,     -999.0,9,     -999.0,     -999.0,9,     -999.0,     -999.0,     -999.0,9,     -999.0,9,     -999.0,9,     -999.0,9,     -999.0,9,     -999.0,9,     -999.0,9,     -999.0,9
33RO20161119,        P18,       6,          1,         19,      11083,2,20161125,       1309,    21.4988,  -109.9999,       3196,   225.1,  12.0345,  34.7632,2,  34.7628,2,      2.3,2,     2.6,2,    32.2,2,    21.4,2,    1.68,2,   2.630,2,   0.7763,2,   0.4709,2,   0.2011,2,  2276.6,2,  2309.3,2,   7.3958,2,    25.00, -999.00,9,  -999.0,9,  -999.0,   0.0881,2, -999.00,9,  -999.0,9, -999.00,9, -999.00,9,      7.876,2, -999.00,9,  -999.0,9,     -999.0,     -999.0,9,     -999.0,9,     -999.0,     -999.0,9,     -999.0,     -999.0,9,     -999.0,     -999.0,     -999.0,9,     -999.0,9,     -999.0,9,     -999.0,9,     -999.0,9,     -999.0,9,     -999.0,9,     -999.0,9
33RO20161119,        P18,       6,          1,         20,      11118,2,20161125,       1309,    21.4988,  -109.9999,       3196,   165.1,  13.0650,  34.7802,2,  34.7823,2,      2.5,2,     2.1,2,    29.9,2,    22.8,2,    0.06,2,   2.606,2,-999.0000,9,-999.0000,9,-999.0000,9,  2269.3,2,  2307.5,2,   7.4103,2,    25.00, -999.00,9,  -999.0,9,  -999.0,-999.0000,9, -999.00,9,  -999.0,9, -999.00,9, -999.00,9,     -999.0,9, -999.00,9,  -999.0,9,     -999.0,     -999.0,9,     -999.0,9,     -999.0,     -999.0,9,     -999.0,     -999.0,9,     -999.0,     -999.0,     -999.0,9,     -999.0,9,     -999.0,9,     -999.0,9,     -999.0,9,     -999.0,9,     -999.0,9,     -999.0,9
33RO20161119,        P18,       6,          1,         21,      11119,2,20161125,       1309,    21.4988,  -109.9999,       3196,   110.5,  15.3343,  34.6613,2,  34.6653,2,     18.1,2,    15.3,2,    23.8,2,    23.0,2,    0.02,2,   2.438,2,-999.0000,9,-999.0000,9,-999.0000,9,  2244.8,2,  2299.6,2,   7.4605,2,    25.00, -999.00,9,  -999.0,9,  -999.0,-999.0000,9, -999.00,9,  -999.0,9, -999.00,9, -999.00,9,     -999.0,9, -999.00,9,  -999.0,9,     -999.0,     -999.0,9,     -999.0,9,     -999.0,     -999.0,9,     -999.0,     -999.0,9,     -999.0,     -999.0,     -999.0,9,     -999.0,9,     -999.0,9,     -999.0,9,     -999.0,9,     -999.0,9,     -999.0,9,     -999.0,9
33RO20161119,        P18,       6,          1,         22,      11120,2,20161125,       1309,    21.4988,  -109.9999,       3196,    60.0,  20.2507,  34.3798,2,  34.4066,2,    163.3,2,   134.9,2,     7.1,2,     6.2,2,    0.12,2,   1.072,2,   1.9648,6,   1.1858,6,   1.4554,6,  2113.4,2,  2286.0,2,   7.5077,4,    25.00, -999.00,9,  -999.0,9,  -999.0,    1.145,2, -999.00,9,  -999.0,9, -999.00,9, -999.00,9,    32.1611,2, -999.00,9,  -999.0,9,     -999.0,     -999.0,9,     -999.0,9,     -999.0,     -999.0,9,     -999.0,     -999.0,9,     -999.0,     -999.0,     -999.0,9,     -999.0,9,     -999.0,9,     -999.0,9,     -999.0,9,     -999.0,9,     -999.0,9,     -999.0,9
33RO20161119,        P18,       6,          1,         23,      11121,2,20161125,       1309,    21.4988,  -109.9999,       3196,    24.8,  28.3707,  34.9734,2,  34.9780,2,    194.1,2,   193.4,2,     2.3,2,     0.0,2,    0.01,2,   0.414,2,-999.0000,9,-999.0000,9,-999.0000,9,  2011.7,2,  2324.9,2,   8.0558,6,    25.00, -999.00,9,  -999.0,9,  -999.0,-999.0000,9, -999.00,9,  -999.0,9, -999.00,9, -999.00,9,     -999.0,9, -999.00,9,  -999.0,9,     -999.0,     -999.0,9,     -999.0,9,     -999.0,     -999.0,9,     -999.0,     -999.0,9,     -999.0,     -999.0,     -999.0,9,     -999.0,9,     -999.0,9,     -999.0,9,     -999.0,9,     -999.0,9,     -999.0,9,     -999.0,9
33RO20161119,        P18,       6,          1,         24,      11122,2,20161125,       1309,    21.4988,  -109.9999,       3196,     3.1,  28.2578,  34.9279,2,  34.9237,2,    193.4,2,   193.9,2,     2.1,2,     0.0,2,    0.02,2,   0.398,2,   1.4868,2,   0.9317,2,   1.3378,2,  2005.4,2,  2320.3,6,   8.0569,2,    25.00, -999.00,9,  -999.0,9,  -999.0,   1.6657,2, -999.00,9,  -999.0,9, -999.00,9, -999.00,9,     6.6302,2, -999.00,9,  -999.0,9,     -999.0,     -999.0,9,     -999.0,9,     -999.0,     -999.0,9,     -999.0,     -999.0,9,     -999.0,     -999.0,     -999.0,9,     -999.0,9,     -999.0,9,     -999.0,9,     -999.0,9,     -999.0,9,     -999.0,9,     -999.0,9