BOTTLE,20230606CCHSIOCBG
EXPOCODE,SECT_ID,STNNBR,CASTNO,SAMPNO,BTLNBR,BTLNBR_FLAG_W,DATE,TIME,LATITUDE,LONGITUDE,DEPTH,CTDPRS,CTDTMP,CTDSAL,CTDSAL_FLAG_W,SALNTY,SALNTY_FLAG_W,CTDOXY,CTDOXY_FLAG_W,OXYGEN,OXYGEN_FLAG_W,SILCAT,SILCAT_FLAG_W,NITRAT,NITRAT_FLAG_W,NITRIT,NITRIT_FLAG_W,PHSPHT,PHSPHT_FLAG_W,CFC-11,CFC-11_FLAG_W,CFC-12,CFC-12_FLAG_W,SF6,SF6_FLAG_W,TCARBN,TCARBN_FLAG_W,ALKALI,ALKALI_FLAG_W,PH_SWS,PH_SWS_FLAG_W,PH_TMP,DELC13,DELC13_FLAG_W,DELC14,DELC14_FLAG_W,C14ERR,CCL4,CCL4_FLAG_W,POC,POC_FLAG_W,DOC,DOC_FLAG_W,TDN,TDN_FLAG_W,PON,PON_FLAG_W,N2O,N2O_FLAG_W,D15N_NO3,D15N_NO3_FLAG_W,14C-DOC,14C-DOC_FLAG_W,14C-DOCERR,13C-DOC,13C-DOC_FLAG_W,N2/ARGON_UNSTRIPPED,N2/ARGON_UNSTRIPPED_FLAG_W,N2/ARGON_UNSTRIPPED_ERROR,N2/ARGON,N2/ARGON_FLAG_W,N2/ARGON_ERROR,D15N_N2,D15N_N2_FLAG_W,D15N_N2_ERROR,D15N_NO3_ERROR,D15N_NO2+NO3,D15N_NO2+NO3_FLAG_W,D18O_NO2+NO3,D18O_NO2+NO3_FLAG_W,D18O_NO3,D18O_NO3_FLAG_W,TDP,TDP_FLAG_W,N2O_ALT_1,N2O_ALT_1_FLAG_W,D15N_N2O,D15N_N2O_FLAG_W,D18O_N2O,D18O_N2O_FLAG_W,D15N_ALPHA_N2O,D15N_ALPHA_N2O_FLAG_W
,,,,,,,,,,,METERS,DBAR,ITS-90,PSS-78,,PSS-78,,UMOL/KG,,UMOL/KG,,UMOL/KG,,UMOL/KG,,UMOL/KG,,UMOL/KG,,PMOL/KG,,PMOL/KG,,FMOL/KG,,UMOL/KG,,UMOL/KG,,,,DEG C,/MILLE,,/MILLE,,/MILLE,PMOL/KG,,UG/KG,,UMOL/KG,,UMOL/KG,,UG/KG,,NMOL/KG,,/MILLE,,/MILLE,,/MILLE,/MILLE,,,,,,,,/MILLE,,/MILLE,/MILLE,/MILLE,,/MILLE,,/MILLE,,UMOL/KG,,NMOL/L,,/MILLE,,/MILLE,,/MILLE,
33RO20161119,        P18,      91,          1,          1,      11010,2,20161215,       0825,   -11.5001,  -103.0001,       4093,  4143.5,   1.8208,  34.6777,2,  34.6776,2,    137.6,2,   136.6,2,   142.7,6,    36.4,6,    0.00,6,   2.498,6,   0.0000,2,   0.0000,2,   0.0000,2,  2336.5,6,  2431.0,6,   7.5619,2,    25.00, -999.00,9,  -999.0,9,  -999.0,        0,2, -999.00,9,  -999.0,9, -999.00,9, -999.00,9,    20.8041,2, -999.00,9,  -999.0,9,     -999.0,     -999.0,9,     -999.0,9,     -999.0,     -999.0,9,     -999.0,     -999.0,9,     -999.0,     -999.0,     -999.0,9,     -999.0,9,     -999.0,9,     -999.0,9,     -999.0,9,     -999.0,9,     -999.0,9,     -999.0,9
33RO20161119,        P18,      91,          1,          2,      11101,2,20161215,       0825,   -11.5001,  -103.0001,       4093,  3900.3,   1.7943,  34.6777,2,  34.6777,2,    137.7,2,   137.0,2,   142.6,6,    36.4,6,    0.00,6,   2.530,6,   0.0020,2,   0.0014,2,   0.0000,2,  2336.7,2,  2427.3,2,   7.5682,2,    25.00, -999.00,9,  -999.0,9,  -999.0,        0,2, -999.00,9,  -999.0,9, -999.00,9, -999.00,9,    20.4571,2, -999.00,9,  -999.0,9,     -999.0,     -999.0,9,     -999.0,9,     -999.0,     -999.0,9,     -999.0,     -999.0,9,     -999.0,     -999.0,     -999.0,9,     -999.0,9,     -999.0,9,     -999.0,9,     -999.0,9,     -999.0,9,     -999.0,9,     -999.0,9
33RO20161119,        P18,      91,          1,          3,      11102,2,20161215,       0825,   -11.5001,  -103.0001,       4093,  3653.0,   1.7691,  34.6778,2,  34.6771,2,    136.8,2,   136.5,2,   142.8,6,    36.5,6,    0.00,6,   2.547,6,   0.0019,2,   0.0000,2,   0.0000,2,  2336.7,2,  2428.6,2,   7.5656,2,    25.00, -999.00,9,  -999.0,9,  -999.0,        0,2, -999.00,9,  -999.0,9, -999.00,9, -999.00,9,    20.7457,2, -999.00,9,  -999.0,9,     -999.0,     -999.0,9,     -999.0,9,     -999.0,     -999.0,9,     -999.0,     -999.0,9,     -999.0,     -999.0,     -999.0,9,     -999.0,9,     -999.0,9,     -999.0,9,     -999.0,9,     -999.0,9,     -999.0,9,     -999.0,9
33RO20161119,        P18,      91,          1,          4,      11103,2,20161215,       0825,   -11.5001,  -103.0001,       4093,  3329.8,   1.7507,  34.6766,2,  34.6775,2,    136.5,2,   136.0,2,   142.4,6,    36.4,6,    0.00,6,   2.551,6,   0.0001,2,   0.0010,2,   0.0000,2,  2337.2,2,  2428.6,2,   7.5629,2,    25.00, -999.00,9,  -999.0,9,  -999.0,        0,2, -999.00,9,  -999.0,9, -999.00,9, -999.00,9,    20.5551,2, -999.00,9,  -999.0,9,     -999.0,     -999.0,9,     -999.0,9,     -999.0,     -999.0,9,     -999.0,     -999.0,9,     -999.0,     -999.0,     -999.0,9,     -999.0,9,     -999.0,9,     -999.0,9,     -999.0,9,     -999.0,9,     -999.0,9,     -999.0,9
33RO20161119,        P18,      91,          1,          5,      11104,2,20161215,       0825,   -11.5001,  -103.0001,       4093,  3005.3,   1.7611,  34.6749,2,  34.6744,2,    134.7,2,   134.8,2,   140.8,2,    36.6,2,    0.00,2,   2.532,2,   0.0000,2,   0.0000,2,   0.0000,2,  2336.4,2,  2430.2,2,   7.5573,2,    25.00, -999.00,9,  -999.0,9,  -999.0,     0.01,2, -999.00,9,  -999.0,9, -999.00,9, -999.00,9,    20.9063,2, -999.00,9,  -999.0,9,     -999.0,     -999.0,9,     -999.0,9,     -999.0,     -999.0,9,     -999.0,     -999.0,9,     -999.0,     -999.0,     -999.0,9,     -999.0,9,     -999.0,9,     -999.0,9,     -999.0,9,     -999.0,9,     -999.0,9,     -999.0,9
33RO20161119,        P18,      91,          1,          6,      11105,2,20161215,       0825,   -11.5001,  -103.0001,       4093,  2684.7,   1.7939,  34.6730,2,  34.6733,2,    133.4,2,   133.2,2,   137.2,2,    36.5,2,    0.00,2,   2.536,2,   0.0015,2,   0.0015,2,   0.0000,2,  2333.7,2,  2425.8,2,   7.5524,2,    25.00, -999.00,9,  -999.0,9,  -999.0,        0,2, -999.00,9,  -999.0,9, -999.00,9, -999.00,9,     20.954,2, -999.00,9,  -999.0,9,     -999.0,     -999.0,9,     -999.0,9,     -999.0,     -999.0,9,     -999.0,     -999.0,9,     -999.0,     -999.0,     -999.0,9,     -999.0,9,     -999.0,9,     -999.0,9,     -999.0,9,     -999.0,9,     -999.0,9,     -999.0,9
33RO20161119,        P18,      91,          1,          7,      11106,2,20161215,       0825,   -11.5001,  -103.0001,       4093,  2362.0,   1.9094,  34.6653,2,  34.6659,2,    132.9,2,   133.6,2,   130.3,2,    36.5,2,    0.00,2,   2.552,2,   0.0008,6,   0.0010,6,   0.0000,6,  2328.2,2,  2413.5,2,   7.5433,2,    25.00, -999.00,9,  -999.0,9,  -999.0,        0,2, -999.00,9,  -999.0,9, -999.00,9, -999.00,9,    21.4295,2, -999.00,9,  -999.0,9,     -999.0,     -999.0,9,     -999.0,9,     -999.0,     -999.0,9,     -999.0,     -999.0,9,     -999.0,     -999.0,     -999.0,9,     -999.0,9,     -999.0,9,     -999.0,9,     -999.0,9,     -999.0,9,     -999.0,9,     -999.0,9
33RO20161119,        P18,      91,          1,          8,      11107,2,20161215,       0825,   -11.5001,  -103.0001,       4093,  2043.6,   2.1623,  34.6467,2,  34.6468,2,    121.2,2,   120.8,6,   127.2,2,    37.4,2,    0.00,2,   2.623,2,   0.0001,2,   0.0000,2,   0.0000,2,  2331.5,6,  2408.6,2,   7.5223,2,    25.00, -999.00,9,  -999.0,9,  -999.0,        0,2, -999.00,9,  -999.0,9, -999.00,9, -999.00,9,     23.396,2, -999.00,9,  -999.0,9,     -999.0,     -999.0,9,     -999.0,9,     -999.0,     -999.0,9,     -999.0,     -999.0,9,     -999.0,     -999.0,     -999.0,9,     -999.0,9,     -999.0,9,     -999.0,9,     -999.0,9,     -999.0,9,     -999.0,9,     -999.0,9
33RO20161119,        P18,      91,          1,          9,      11108,2,20161215,       0825,   -11.5001,  -103.0001,       4093,  1684.9,   2.6005,  34.6187,2,  34.6173,2,    104.6,2,   104.2,2,   118.3,2,    38.8,2,    0.00,2,   2.732,2,  -0.0005,2,   0.0000,2,   0.0239,2,  2329.2,2,  2393.5,2,   7.4883,2,    25.00, -999.00,9,  -999.0,9,  -999.0,        0,2, -999.00,9,  -999.0,9, -999.00,9, -999.00,9,    25.6914,2, -999.00,9,  -999.0,9,     -999.0,     -999.0,9,     -999.0,9,     -999.0,     -999.0,9,     -999.0,     -999.0,9,     -999.0,     -999.0,     -999.0,9,     -999.0,9,     -999.0,9,     -999.0,9,     -999.0,9,     -999.0,9,     -999.0,9,     -999.0,9
33RO20161119,        P18,      91,          1,         10,      11109,2,20161215,       0825,   -11.5001,  -103.0001,       4093,  1466.2,   2.9458,  34.5966,2,  34.5970,2,     96.7,2,    96.5,2,   108.4,2,    39.5,2,    0.00,2,   2.803,2,   0.0001,2,   0.0000,2,   0.0000,2,  2325.4,2,  2381.0,2,   7.4684,2,    25.00, -999.00,9,  -999.0,9,  -999.0,        0,2, -999.00,9,  -999.0,9, -999.00,9, -999.00,9,    27.5725,2, -999.00,9,  -999.0,9,     -999.0,     -999.0,9,     -999.0,9,     -999.0,     -999.0,9,     -999.0,     -999.0,9,     -999.0,     -999.0,     -999.0,9,     -999.0,9,     -999.0,9,     -999.0,9,     -999.0,9,     -999.0,9,     -999.0,9,     -999.0,9
33RO20161119,        P18,      91,          1,         11,      11110,2,20161215,       0825,   -11.5001,  -103.0001,       4093,  1315.4,   3.3125,  34.5768,2,  34.5795,2,     88.4,2,    89.0,2,   100.1,2,    40.2,2,    0.00,2,   2.859,2,   0.0008,2,   0.0000,2,   0.0000,2,  2320.5,2,  2372.2,2,   7.4521,2,    25.00, -999.00,9,  -999.0,9,  -999.0,        0,2, -999.00,9,  -999.0,9, -999.00,9, -999.00,9,    29.2248,2, -999.00,9,  -999.0,9,     -999.0,     -999.0,9,     -999.0,9,     -999.0,     -999.0,9,     -999.0,     -999.0,9,     -999.0,     -999.0,     -999.0,9,     -999.0,9,     -999.0,9,     -999.0,9,     -999.0,9,     -999.0,9,     -999.0,9,     -999.0,9
33RO20161119,        P18,      91,          1,         12,      11111,2,20161215,       0825,   -11.5001,  -103.0001,       4093,  1170.7,   3.7471,  34.5550,2,  34.5575,2,     83.0,2,    83.0,2,    88.5,2,    40.6,2,    0.00,2,   2.860,2,  -0.0005,2,   0.0006,2,   0.0000,2,  2312.3,2,  2355.9,2,   7.4412,2,    25.00, -999.00,9,  -999.0,9,  -999.0,        0,2, -999.00,9,  -999.0,9, -999.00,9, -999.00,9,    30.8648,2, -999.00,9,  -999.0,9,     -999.0,     -999.0,9,     -999.0,9,     -999.0,     -999.0,9,     -999.0,     -999.0,9,     -999.0,     -999.0,     -999.0,9,     -999.0,9,     -999.0,9,     -999.0,9,     -999.0,9,     -999.0,9,     -999.0,9,     -999.0,9
33RO20161119,        P18,      91,          1,         13,      11112,2,20161215,       0825,   -11.5001,  -103.0001,       4093,  1034.1,   4.3002,  34.5342,2,  34.5346,2,     74.7,2,    73.5,2,    76.2,2,    41.3,2,    0.00,2,   2.894,2,   0.0013,2,   0.0024,2,   0.0286,2,  2301.3,2,  2344.8,2,   7.4232,2,    25.00, -999.00,9,  -999.0,9,  -999.0,   0.0169,2, -999.00,9,  -999.0,9, -999.00,9, -999.00,9,    33.7317,2, -999.00,9,  -999.0,9,     -999.0,     -999.0,9,     -999.0,9,     -999.0,     -999.0,9,     -999.0,     -999.0,9,     -999.0,     -999.0,     -999.0,9,     -999.0,9,     -999.0,9,     -999.0,9,     -999.0,9,     -999.0,9,     -999.0,9,     -999.0,9
33RO20161119,        P18,      91,          1,         14,      11113,2,20161215,       0825,   -11.5001,  -103.0001,       4093,   899.4,   5.0605,  34.5204,2,  34.5191,2,     62.6,2,    62.8,2,    62.2,2,    41.9,2,    0.00,2,   2.919,2,   0.0027,2,   0.0019,2,   0.0000,2,  2291.3,2,  2329.2,2,   7.4110,2,    25.00, -999.00,9,  -999.0,9,  -999.0,   0.0142,2, -999.00,9,  -999.0,9, -999.00,9, -999.00,9,    37.4194,2, -999.00,9,  -999.0,9,     -999.0,     -999.0,9,     -999.0,9,     -999.0,     -999.0,9,     -999.0,     -999.0,9,     -999.0,     -999.0,     -999.0,9,     -999.0,9,     -999.0,9,     -999.0,9,     -999.0,9,     -999.0,9,     -999.0,9,     -999.0,9
33RO20161119,        P18,      91,          1,         15,      11114,2,20161215,       0825,   -11.5001,  -103.0001,       4093,   765.5,   5.8911,  34.5268,2,  34.5293,2,     43.9,2,    45.4,2,    51.5,2,    42.5,2,    0.00,2,   2.949,2,   0.0056,6,   0.0040,6,   0.0000,6,  2288.7,2,  2318.2,2,   7.3828,2,    25.00, -999.00,9,  -999.0,9,  -999.0,   0.0236,2, -999.00,9,  -999.0,9, -999.00,9, -999.00,9,     44.415,2, -999.00,9,  -999.0,9,     -999.0,     -999.0,9,     -999.0,9,     -999.0,     -999.0,9,     -999.0,     -999.0,9,     -999.0,     -999.0,     -999.0,9,     -999.0,9,     -999.0,9,     -999.0,9,     -999.0,9,     -999.0,9,     -999.0,9,     -999.0,9
33RO20161119,        P18,      91,          1,         16,      11115,2,20161215,       0825,   -11.5001,  -103.0001,       4093,   634.0,   6.8944,  34.5551,2,  34.5556,2,     31.3,2,    32.5,2,    42.1,2,    41.8,2,    0.01,2,   2.889,2,   0.0252,2,   0.0155,2,   0.0332,2,  2284.9,2,  2309.4,6,   7.3632,2,    25.00, -999.00,9,  -999.0,9,  -999.0,   0.0378,2, -999.00,9,  -999.0,9, -999.00,9, -999.00,9,    52.9846,2, -999.00,9,  -999.0,9,     -999.0,     -999.0,9,     -999.0,9,     -999.0,     -999.0,9,     -999.0,     -999.0,9,     -999.0,     -999.0,     -999.0,9,     -999.0,9,     -999.0,9,     -999.0,9,     -999.0,9,     -999.0,9,     -999.0,9,     -999.0,9
33RO20161119,        P18,      91,          1,         17,      11116,2,20161215,       0825,   -11.5001,  -103.0001,       4093,   524.6,   8.1147,  34.6206,2,  34.6210,2,     20.6,2,    23.2,2,    36.1,2,    39.6,2,    0.01,2,   2.757,2,   0.0713,2,   0.0430,2,   0.0000,2,  2276.6,2,  2305.8,2,   7.3711,2,    25.00, -999.00,9,  -999.0,9,  -999.0,   0.0579,2, -999.00,9,  -999.0,9, -999.00,9, -999.00,9,    60.8699,2, -999.00,9,  -999.0,9,     -999.0,     -999.0,9,     -999.0,9,     -999.0,     -999.0,9,     -999.0,     -999.0,9,     -999.0,     -999.0,     -999.0,9,     -999.0,9,     -999.0,9,     -999.0,9,     -999.0,9,     -999.0,9,     -999.0,9,     -999.0,9
33RO20161119,        P18,      91,          1,         18,      11117,2,20161215,       0825,   -11.5001,  -103.0001,       4093,   409.9,   9.4800,  34.7031,2,  34.7033,2,     17.3,2,    18.9,6,    30.9,2,    36.2,2,    0.01,2,   2.588,2,   0.2274,2,   0.1301,2,   0.0432,2,  2268.9,2,  2301.7,2,   7.3928,2,    25.00, -999.00,9,  -999.0,9,  -999.0,   0.0576,2, -999.00,9,  -999.0,9, -999.00,9, -999.00,9,    64.7474,2, -999.00,9,  -999.0,9,     -999.0,     -999.0,9,     -999.0,9,     -999.0,     -999.0,9,     -999.0,     -999.0,9,     -999.0,     -999.0,     -999.0,9,     -999.0,9,     -999.0,9,     -999.0,9,     -999.0,9,     -999.0,9,     -999.0,9,     -999.0,9
33RO20161119,        P18,      91,          1,         19,      11083,2,20161215,       0825,   -11.5001,  -103.0001,       4093,   309.9,  10.7791,  34.7674,2,  34.7707,2,     13.5,2,    16.0,2,    25.4,2,    32.3,2,    0.01,2,   2.491,2,   0.5486,2,   0.3091,2,   0.0906,2,  2262.2,2,  2303.2,2,   7.4075,2,    25.00, -999.00,9,  -999.0,9,  -999.0,    0.548,2, -999.00,9,  -999.0,9, -999.00,9, -999.00,9,    58.2507,2, -999.00,9,  -999.0,9,     -999.0,     -999.0,9,     -999.0,9,     -999.0,     -999.0,9,     -999.0,     -999.0,9,     -999.0,     -999.0,     -999.0,9,     -999.0,9,     -999.0,9,     -999.0,9,     -999.0,9,     -999.0,9,     -999.0,9,     -999.0,9
33RO20161119,        P18,      91,          1,         20,      11118,2,20161215,       0825,   -11.5001,  -103.0001,       4093,   224.2,  12.4022,  34.8152,2,  34.8232,2,      6.6,2,     4.8,2,    21.8,2,    23.8,2,    0.01,2,   2.567,2,   1.1581,2,   0.6792,2,   0.3371,2,  2267.3,2,  -999.0,5,   7.3906,2,    25.00, -999.00,9,  -999.0,9,  -999.0,   1.2766,2, -999.00,9,  -999.0,9, -999.00,9, -999.00,9,    37.1978,2, -999.00,9,  -999.0,9,     -999.0,     -999.0,9,     -999.0,9,     -999.0,     -999.0,9,     -999.0,     -999.0,9,     -999.0,     -999.0,     -999.0,9,     -999.0,9,     -999.0,9,     -999.0,9,     -999.0,9,     -999.0,9,     -999.0,9,     -999.0,9
33RO20161119,        P18,      91,          1,         21,      11119,2,20161215,       0825,   -11.5001,  -103.0001,       4093,   144.9,  18.1910,  35.3910,2,  35.3843,2,    176.5,2,   169.6,2,     2.0,2,     8.6,2,    0.10,2,   0.938,2,   2.1962,2,   1.3741,2,   1.5563,2,  2134.1,2,  2341.5,2,   7.8452,2,    25.00, -999.00,9,  -999.0,9,  -999.0,   1.5929,2, -999.00,9,  -999.0,9, -999.00,9, -999.00,9,    13.0912,2, -999.00,9,  -999.0,9,     -999.0,     -999.0,9,     -999.0,9,     -999.0,     -999.0,9,     -999.0,     -999.0,9,     -999.0,     -999.0,     -999.0,9,     -999.0,9,     -999.0,9,     -999.0,9,     -999.0,9,     -999.0,9,     -999.0,9,     -999.0,9
33RO20161119,        P18,      91,          1,         22,      11120,2,20161215,       0825,   -11.5001,  -103.0001,       4093,    69.6,  22.9636,  36.1813,2,  36.1804,2,    213.5,2,   212.4,2,     0.7,2,     0.0,2,    0.00,2,   0.293,2,   1.7969,2,   1.1323,2,   1.5438,2,  2074.2,2,  2390.0,2,   8.0320,2,    25.00, -999.00,9,  -999.0,9,  -999.0,   1.5396,2, -999.00,9,  -999.0,9, -999.00,9, -999.00,9,     6.7352,2, -999.00,9,  -999.0,9,     -999.0,     -999.0,9,     -999.0,9,     -999.0,     -999.0,9,     -999.0,     -999.0,9,     -999.0,     -999.0,     -999.0,9,     -999.0,9,     -999.0,9,     -999.0,9,     -999.0,9,     -999.0,9,     -999.0,9,     -999.0,9
33RO20161119,        P18,      91,          1,         23,      11121,2,20161215,       0825,   -11.5001,  -103.0001,       4093,    29.6,  24.0845,  35.8201,2,  35.8352,2,    212.2,2,   212.4,2,     1.2,2,     3.0,2,    0.07,2,   0.424,2,   1.7110,2,   1.0882,2,   1.4948,2,  2059.3,2,  2364.0,6,   8.0262,2,    25.00, -999.00,9,  -999.0,9,  -999.0,        0,2, -999.00,9,  -999.0,9, -999.00,9, -999.00,9,     6.7153,2, -999.00,9,  -999.0,9,     -999.0,     -999.0,9,     -999.0,9,     -999.0,     -999.0,9,     -999.0,     -999.0,9,     -999.0,     -999.0,     -999.0,9,     -999.0,9,     -999.0,9,     -999.0,9,     -999.0,9,     -999.0,9,     -999.0,9,     -999.0,9
33RO20161119,        P18,      91,          1,         24,      11122,2,20161215,       0825,   -11.5001,  -103.0001,       4093,     2.7,  24.0560,  35.8147,2,  35.8133,2,    211.4,2,   212.4,2,     1.3,2,     3.1,2,    0.06,2,   0.452,2,   1.7077,2,   1.0882,2,   1.4474,2,  2057.7,6,  2365.6,2,   8.0224,2,    25.00, -999.00,9,  -999.0,9,  -999.0,        0,2, -999.00,9,  -999.0,9, -999.00,9, -999.00,9,     6.5393,2, -999.00,9,  -999.0,9,     -999.0,     -999.0,9,     -999.0,9,     -999.0,     -999.0,9,     -999.0,     -999.0,9,     -999.0,     -999.0,     -999.0,9,     -999.0,9,     -999.0,9,     -999.0,9,     -999.0,9,     -999.0,9,     -999.0,9,     -999.0,9