BOTTLE,20230606CCHSIOCBG
EXPOCODE,SECT_ID,STNNBR,CASTNO,SAMPNO,BTLNBR,BTLNBR_FLAG_W,DATE,TIME,LATITUDE,LONGITUDE,DEPTH,CTDPRS,CTDTMP,CTDSAL,CTDSAL_FLAG_W,SALNTY,SALNTY_FLAG_W,CTDOXY,CTDOXY_FLAG_W,OXYGEN,OXYGEN_FLAG_W,SILCAT,SILCAT_FLAG_W,NITRAT,NITRAT_FLAG_W,NITRIT,NITRIT_FLAG_W,PHSPHT,PHSPHT_FLAG_W,CFC-11,CFC-11_FLAG_W,CFC-12,CFC-12_FLAG_W,SF6,SF6_FLAG_W,TCARBN,TCARBN_FLAG_W,ALKALI,ALKALI_FLAG_W,PH_SWS,PH_SWS_FLAG_W,PH_TMP,DELC13,DELC13_FLAG_W,DELC14,DELC14_FLAG_W,C14ERR,CCL4,CCL4_FLAG_W,POC,POC_FLAG_W,DOC,DOC_FLAG_W,TDN,TDN_FLAG_W,PON,PON_FLAG_W,N2O,N2O_FLAG_W,D15N_NO3,D15N_NO3_FLAG_W,14C-DOC,14C-DOC_FLAG_W,14C-DOCERR,13C-DOC,13C-DOC_FLAG_W,N2/ARGON_UNSTRIPPED,N2/ARGON_UNSTRIPPED_FLAG_W,N2/ARGON_UNSTRIPPED_ERROR,N2/ARGON,N2/ARGON_FLAG_W,N2/ARGON_ERROR,D15N_N2,D15N_N2_FLAG_W,D15N_N2_ERROR,D15N_NO3_ERROR,D15N_NO2+NO3,D15N_NO2+NO3_FLAG_W,D18O_NO2+NO3,D18O_NO2+NO3_FLAG_W,D18O_NO3,D18O_NO3_FLAG_W,TDP,TDP_FLAG_W,N2O_ALT_1,N2O_ALT_1_FLAG_W,D15N_N2O,D15N_N2O_FLAG_W,D18O_N2O,D18O_N2O_FLAG_W,D15N_ALPHA_N2O,D15N_ALPHA_N2O_FLAG_W
,,,,,,,,,,,METERS,DBAR,ITS-90,PSS-78,,PSS-78,,UMOL/KG,,UMOL/KG,,UMOL/KG,,UMOL/KG,,UMOL/KG,,UMOL/KG,,PMOL/KG,,PMOL/KG,,FMOL/KG,,UMOL/KG,,UMOL/KG,,,,DEG C,/MILLE,,/MILLE,,/MILLE,PMOL/KG,,UG/KG,,UMOL/KG,,UMOL/KG,,UG/KG,,NMOL/KG,,/MILLE,,/MILLE,,/MILLE,/MILLE,,,,,,,,/MILLE,,/MILLE,/MILLE,/MILLE,,/MILLE,,/MILLE,,UMOL/KG,,NMOL/L,,/MILLE,,/MILLE,,/MILLE,
33RO20161119,        P18,     144,          1,          1,      11010,2,20170108,       0501,   -37.9998,  -102.9999,       4138,  4193.6,   1.1873,  34.7081,2,  34.7081,2,    193.2,2,   192.3,2,   121.9,2,    33.3,2,    0.01,2,   2.306,2,   0.0023,2,   0.0015,2,   0.0000,2,  2275.5,6,  2387.0,2,   7.6076,2,    25.00, -999.00,9,  -999.0,9,  -999.0,   0.0303,2, -999.00,9,  -999.0,9, -999.00,9, -999.00,9,    19.2396,2,    4.83,2,  -999.0,9,     -999.0,     -999.0,9,     -999.0,9,     -999.0,     -999.0,9,     -999.0,     -999.0,9,     -999.0,     -999.0,       4.83,2,       2.26,2,       2.26,2,     -999.0,9,     -999.0,9,     -999.0,9,     -999.0,9,     -999.0,9
33RO20161119,        P18,     144,          1,          2,      11101,2,20170108,       0501,   -37.9998,  -102.9999,       4138,  3873.5,   1.2042,  34.7078,2,  34.7063,2,    190.1,2,   189.9,2,   121.8,6,    33.2,6,    0.00,6,   2.299,6,   0.0016,2,   0.0015,2,   0.0000,2,  2277.9,2,  2387.3,2,   7.6104,2,    25.00, -999.00,9,  -999.0,9,  -999.0,   0.0496,2, -999.00,9,  -999.0,9, -999.00,9, -999.00,9,    19.0715,2,    4.87,2,  -999.0,9,     -999.0,     -999.0,9,     -999.0,9,     -999.0,     -999.0,9,     -999.0,     -999.0,9,     -999.0,     -999.0,       4.87,2,       2.11,2,       2.11,2,     -999.0,9,     -999.0,9,     -999.0,9,     -999.0,9,     -999.0,9
33RO20161119,        P18,     144,          1,          3,      11102,2,20170108,       0501,   -37.9998,  -102.9999,       4138,  3550.8,   1.3632,  34.7057,2,  34.7201,4,    183.7,2,   183.9,2,   118.2,6,    33.5,6,    0.01,6,   2.314,6,   0.0023,6,   0.0011,6,   0.0000,6,  2279.9,2,  2381.4,2,   7.5971,2,    25.00, -999.00,9,  -999.0,9,  -999.0,   0.0599,2, -999.00,9,  -999.0,9, -999.00,9, -999.00,9,    19.4784,2,    4.94,2,  -999.0,9,     -999.0,     -999.0,9,     -999.0,9,     -999.0,     -999.0,9,     -999.0,     -999.0,9,     -999.0,     -999.0,       4.94,2,       2.02,2,       2.02,2,     -999.0,9,     -999.0,9,     -999.0,9,     -999.0,9,     -999.0,9
33RO20161119,        P18,     144,          1,          4,      11103,2,20170108,       0501,   -37.9998,  -102.9999,       4138,  3222.4,   1.6598,  34.6975,2,  34.6973,2,    173.2,2,   173.1,2,   114.6,6,    33.9,6,    0.01,6,   2.351,6,   0.0055,2,   0.0029,2,   0.0000,2,  2282.3,2,  2381.5,2,   7.5908,2,    25.00, -999.00,9,  -999.0,9,  -999.0,    0.114,2, -999.00,9,  -999.0,9, -999.00,9, -999.00,9,    20.0256,2,     5.1,2,  -999.0,9,     -999.0,     -999.0,9,     -999.0,9,     -999.0,     -999.0,9,     -999.0,     -999.0,9,     -999.0,     -999.0,        5.1,2,       2.14,2,       2.14,2,     -999.0,9,     -999.0,9,     -999.0,9,     -999.0,9,     -999.0,9
33RO20161119,        P18,     144,          1,          5,      11104,2,20170108,       0501,   -37.9998,  -102.9999,       4138,  2900.9,   1.7617,  34.6899,2,  34.6916,2,    167.4,2,   167.3,2,   113.4,6,    34.2,6,    0.01,6,   2.371,6,   0.0110,2,   0.0056,2,   0.0000,2,  2284.3,2,  2382.0,2,   7.5851,2,    25.00, -999.00,9,  -999.0,9,  -999.0,   0.1501,2, -999.00,9,  -999.0,9, -999.00,9, -999.00,9,    20.6993,2,    5.15,2,  -999.0,9,     -999.0,     -999.0,9,     -999.0,9,     -999.0,     -999.0,9,     -999.0,     -999.0,9,     -999.0,     -999.0,       5.15,2,       2.07,2,       2.07,2,     -999.0,9,17.22306626,2,       9.05,2,      49.86,2,      22.57,2
33RO20161119,        P18,     144,          1,          6,      11105,2,20170108,       0501,   -37.9998,  -102.9999,       4138,  2581.3,   1.8337,  34.6845,2,  34.6845,2,    164.0,2,   165.0,6,   111.3,6,    34.3,6,    0.01,6,   2.382,6,   0.0172,2,   0.0101,2,   0.0000,2,  2284.7,2,  2379.7,2,   7.5805,2,    25.00, -999.00,9,  -999.0,9,  -999.0,    0.235,2, -999.00,9,  -999.0,9, -999.00,9, -999.00,9,    21.1716,2,    5.21,2,  -999.0,9,     -999.0,     -999.0,9,     -999.0,9,     -999.0,     -999.0,9,     -999.0,     -999.0,9,     -999.0,     -999.0,       5.21,2,       2.11,2,       2.11,2,     -999.0,9,     -999.0,9,     -999.0,9,     -999.0,9,     -999.0,9
33RO20161119,        P18,     144,          1,          7,      11106,2,20170108,       0501,   -37.9998,  -102.9999,       4138,  2260.6,   1.9942,  34.6679,2,  34.6676,2,    161.4,2,   161.3,2,   105.5,2,    34.5,2,    0.00,2,   2.394,2,   0.0230,2,   0.0122,2,   0.0000,2,  2280.0,2,  2373.6,2,   7.5951,4,    25.00, -999.00,9,  -999.0,9,  -999.0,   0.5868,2, -999.00,9,  -999.0,9, -999.00,9, -999.00,9,    21.1286,2,    5.25,2,  -999.0,9,     -999.0,     -999.0,9,     -999.0,9,     -999.0,     -999.0,9,     -999.0,     -999.0,9,     -999.0,     -999.0,       5.25,2,       2.09,2,       2.09,2,     -999.0,9,17.81928774,2,       8.91,2,      49.43,2,      22.31,2
33RO20161119,        P18,     144,          1,          8,      11107,2,20170108,       0501,   -37.9998,  -102.9999,       4138,  1940.5,   2.2731,  34.6226,2,  34.6214,2,    152.0,2,   151.8,2,    98.9,2,    35.6,2,    0.00,2,   2.483,2,   0.0176,2,   0.0086,2,   0.0000,2,  2281.1,2,  2366.8,2,   7.5858,4,    25.00, -999.00,9,  -999.0,9,  -999.0,   1.2737,2, -999.00,9,  -999.0,9, -999.00,9, -999.00,9,    22.7119,2,    5.29,2,  -999.0,9,     -999.0,     -999.0,9,     -999.0,9,     -999.0,     -999.0,9,     -999.0,     -999.0,9,     -999.0,     -999.0,       5.29,2,       1.96,2,       1.96,2,     -999.0,9,     -999.0,9,     -999.0,9,     -999.0,9,     -999.0,9
33RO20161119,        P18,     144,          1,          9,      11108,2,20170108,       0501,   -37.9998,  -102.9999,       4138,  1619.0,   2.6905,  34.5610,2,  34.5591,2,    145.2,2,   145.0,2,    84.9,2,    36.5,2,    0.00,2,   2.544,2,   0.0346,2,   0.0172,2,   0.0000,2,  2273.2,2,  2358.0,2,   7.5343,2,    25.00, -999.00,9,  -999.0,9,  -999.0,   1.3988,2, -999.00,9,  -999.0,9, -999.00,9, -999.00,9,    24.2138,2,    5.57,2,  -999.0,9,     -999.0,     -999.0,9,     -999.0,9,     -999.0,     -999.0,9,     -999.0,     -999.0,9,     -999.0,     -999.0,       5.57,2,       2.07,2,       2.07,2,     -999.0,9,20.33086527,2,       9.16,2,      49.64,2,      19.53,2
33RO20161119,        P18,     144,          1,         10,      11109,2,20170108,       0501,   -37.9998,  -102.9999,       4138,  1421.7,   3.0481,  34.5062,2,  34.5303,4,    142.3,2,   140.0,2,    74.5,2,    37.1,2,    0.01,2,   2.583,2,   0.0595,2,   0.0290,2,   0.0000,2,  2266.6,2,  2340.2,6,   7.5188,2,    25.00, -999.00,9,  -999.0,9,  -999.0,   1.9867,2, -999.00,9,  -999.0,9, -999.00,9, -999.00,9,    25.8438,2,     5.8,2,  -999.0,9,     -999.0,     -999.0,9,     -999.0,9,     -999.0,     -999.0,9,     -999.0,     -999.0,9,     -999.0,     -999.0,        5.8,2,       2.09,2,       2.09,2,     -999.0,9,     -999.0,9,     -999.0,9,     -999.0,9,     -999.0,9
33RO20161119,        P18,     144,          1,         11,      11110,2,20170108,       0501,   -37.9998,  -102.9999,       4138,  1271.1,   3.3122,  34.4516,2,  34.4503,2,    144.4,2,   143.8,2,    63.6,2,    37.1,2,    0.00,2,   2.570,2,   0.0814,2,   0.0423,2,   0.0000,2,  2253.7,6,  2329.4,2,   7.5203,2,    25.00, -999.00,9,  -999.0,9,  -999.0,    2.442,2, -999.00,9,  -999.0,9, -999.00,9, -999.00,9,    25.8151,2,    5.82,2,  -999.0,9,     -999.0,     -999.0,9,     -999.0,9,     -999.0,     -999.0,9,     -999.0,     -999.0,9,     -999.0,     -999.0,       5.82,2,       2.13,2,       2.13,2,     -999.0,9,21.72076966,2,       8.84,2,      47.73,2,      18.22,2
33RO20161119,        P18,     144,          1,         12,      11111,2,20170108,       0501,   -37.9998,  -102.9999,       4138,  1129.2,   3.6072,  34.3743,2,  34.3733,2,    169.9,2,   168.5,2,    47.3,2,    35.0,2,    0.00,2,   2.418,2,   0.3375,2,   0.1694,2,   0.0662,2,  2226.5,2,  2313.9,2,   7.5523,2,    25.00, -999.00,9,  -999.0,9,  -999.0,   2.9445,2, -999.00,9,  -999.0,9, -999.00,9, -999.00,9,     22.826,2,     5.6,2,  -999.0,9,     -999.0,     -999.0,9,     -999.0,9,     -999.0,     -999.0,9,     -999.0,     -999.0,9,     -999.0,     -999.0,        5.6,2,       2.35,2,       2.35,2,     -999.0,9,22.04215319,2,        8.7,2,      48.22,2,      17.24,2
33RO20161119,        P18,     144,          1,         13,      11112,2,20170108,       0501,   -37.9998,  -102.9999,       4138,   989.8,   4.1434,  34.3099,2,  34.3117,2,    193.8,2,   193.2,2,    32.6,2,    32.5,2,    0.00,2,   2.228,2,   1.0268,6,   0.4967,6,   0.1716,6,  2199.3,2,  2293.1,2,   7.5939,6,    25.00, -999.00,9,  -999.0,9,  -999.0,   3.1131,2, -999.00,9,  -999.0,9, -999.00,9, -999.00,9,    20.5084,2,    5.56,2,  -999.0,9,     -999.0,     -999.0,9,     -999.0,9,     -999.0,     -999.0,9,     -999.0,     -999.0,9,     -999.0,     -999.0,       5.56,2,       2.42,2,       2.42,2,     -999.0,9,15.96521303,2,       7.96,2,      45.03,2,      18.57,2
33RO20161119,        P18,     144,          1,         14,      11113,2,20170108,       0501,   -37.9998,  -102.9999,       4138,   856.2,   4.8215,  34.2731,2,  34.2888,4,    216.0,2,   214.4,2,    20.7,2,    29.5,2,    0.00,2,   2.038,2,   2.0747,2,   1.0220,2,   0.3994,2,  2172.6,2,  2284.3,2,   7.6333,2,    25.00, -999.00,9,  -999.0,9,  -999.0,   2.8792,2, -999.00,9,  -999.0,9, -999.00,9, -999.00,9,    18.1275,2,    5.59,2,  -999.0,9,     -999.0,     -999.0,9,     -999.0,9,     -999.0,     -999.0,9,     -999.0,     -999.0,9,     -999.0,     -999.0,       5.59,2,       2.66,2,       2.66,2,     -999.0,9,15.49376742,2,        7.7,2,      45.72,2,      19.95,2
33RO20161119,        P18,     144,          1,         15,      11114,2,20170108,       0501,   -37.9998,  -102.9999,       4138,   727.1,   5.3899,  34.2598,2,  34.2584,2,    235.3,2,   234.7,2,    13.2,2,    26.7,2,    0.02,2,   1.848,2,   3.1157,2,   1.5758,2,   0.7263,2,  2154.7,2,  2276.8,2,   7.6757,2,    25.00, -999.00,9,  -999.0,9,  -999.0,   1.4988,2, -999.00,9,  -999.0,9, -999.00,9, -999.00,9,    16.3329,2,    5.67,2,  -999.0,9,     -999.0,     -999.0,9,     -999.0,9,     -999.0,     -999.0,9,     -999.0,     -999.0,9,     -999.0,     -999.0,       5.67,2,       2.92,2,       2.92,2,     -999.0,9,14.09529145,2,       7.55,2,      44.14,2,      20.21,2
33RO20161119,        P18,     144,          1,         16,      11115,2,20170108,       0501,   -37.9998,  -102.9999,       4138,   599.3,   5.8427,  34.2699,2,  34.2902,4,    247.9,2,   247.3,2,     9.7,2,    24.5,2,    0.01,2,   1.694,2,   3.7759,2,   1.9621,2,   1.0957,2,  2142.9,2,  2275.4,2,   7.6866,2,    25.00, -999.00,9,  -999.0,9,  -999.0,   2.6812,2, -999.00,9,  -999.0,9, -999.00,9, -999.00,9,    15.3566,2,    5.75,2,  -999.0,9,     -999.0,     -999.0,9,     -999.0,9,     -999.0,     -999.0,9,     -999.0,     -999.0,9,     -999.0,     -999.0,       5.75,2,       3.16,2,       3.16,2,     -999.0,9, 13.2997476,2,       6.94,2,      42.95,2,      20.66,2
33RO20161119,        P18,     144,          1,         17,      11116,2,20170108,       0501,   -37.9998,  -102.9999,       4138,   490.5,   6.2393,  34.2906,2,  34.2935,2,    250.9,2,   249.7,2,     8.0,2,    23.4,2,    0.00,2,   1.620,2,   3.9955,2,   2.1202,2,   1.3338,2,  2141.2,2,  2277.1,2,   7.6961,2,    25.00, -999.00,9,  -999.0,9,  -999.0,   3.4327,2, -999.00,9,  -999.0,9, -999.00,9, -999.00,9,    15.6404,2,    5.77,2,  -999.0,9,     -999.0,     -999.0,9,     -999.0,9,     -999.0,     -999.0,9,     -999.0,     -999.0,9,     -999.0,     -999.0,       5.77,2,        3.4,2,        3.4,2,     -999.0,9,13.61223195,2,       6.75,2,       43.0,2,      20.09,2
33RO20161119,        P18,     144,          1,         18,      11117,2,20170108,       0501,   -37.9998,  -102.9999,       4138,   380.1,   6.6574,  34.3077,2,  34.3357,4,    249.1,2,   248.1,6,     6.6,2,    22.4,2,    0.00,2,   1.573,2,   4.0601,2,   2.1887,2,   1.5538,2,  2139.6,2,  2273.7,2,   7.7019,2,    25.00, -999.00,9,  -999.0,9,  -999.0,   2.9247,2, -999.00,9,  -999.0,9, -999.00,9, -999.00,9,    17.6645,2,    5.83,2,  -999.0,9,     -999.0,     -999.0,9,     -999.0,9,     -999.0,     -999.0,9,     -999.0,     -999.0,9,     -999.0,     -999.0,       5.81,2,       3.43,2,        3.4,2,     -999.0,9,14.86303465,2,        6.1,2,       42.5,2,      19.76,2
33RO20161119,        P18,     144,          1,         19,      11083,2,20170108,       0501,   -37.9998,  -102.9999,       4138,   285.2,   7.1281,  34.2419,2,  34.2516,2,    247.1,2,   245.6,2,     4.8,2,    21.4,2,    0.01,2,   1.513,2,   4.0071,2,   2.2215,2,   1.8757,2,  2134.5,2,  2270.2,2,   7.7011,2,    25.00, -999.00,9,  -999.0,9,  -999.0,    2.762,2, -999.00,9,  -999.0,9, -999.00,9, -999.00,9,    22.6731,2,    5.93,2,  -999.0,9,     -999.0,     -999.0,9,     -999.0,9,     -999.0,     -999.0,9,     -999.0,     -999.0,9,     -999.0,     -999.0,       5.96,2,       3.83,2,       3.69,2,     -999.0,9,19.21196798,2,       5.37,2,      37.61,2,      10.68,2
33RO20161119,        P18,     144,          1,         20,      11118,2,20170108,       0501,   -37.9998,  -102.9999,       4138,   201.9,   8.5320,  34.1933,2,  34.1931,2,    243.1,2,   240.0,2,     2.6,2,    18.6,2,    0.03,2,   1.356,2,   3.7049,2,   2.1160,2,   2.0098,2,  2119.7,2,  2265.6,2,   7.7253,2,    25.00, -999.00,9,  -999.0,9,  -999.0,   0.0307,2, -999.00,9,  -999.0,9, -999.00,9, -999.00,9,    24.7443,2,    6.93,2,  -999.0,9,     -999.0,     -999.0,9,     -999.0,9,     -999.0,     -999.0,9,     -999.0,     -999.0,9,     -999.0,     -999.0,       6.62,2,       4.23,2,       4.56,2,     -999.0,9,21.11890314,2,        5.2,2,      35.43,2,       7.03,2
33RO20161119,        P18,     144,          1,         21,      11119,2,20170108,       0501,   -37.9998,  -102.9999,       4138,   125.5,  10.8575,  34.0549,2,  34.0558,2,    265.4,2,   256.7,2,     0.8,2,    11.0,2,    0.35,2,   0.946,2,   3.2525,2,   1.9022,2,   2.2740,2,  2079.2,2,  2259.6,2,   7.8142,2,    25.00, -999.00,9,  -999.0,9,  -999.0,   0.0405,2, -999.00,9,  -999.0,9, -999.00,9, -999.00,9,    13.2526,2,   11.48,2,  -999.0,9,     -999.0,     -999.0,9,     -999.0,9,     -999.0,     -999.0,9,     -999.0,     -999.0,9,     -999.0,     -999.0,      10.49,2,       8.06,2,       7.83,2,     -999.0,9,11.62218174,2,       6.06,2,      41.58,2,      17.97,2
33RO20161119,        P18,     144,          1,         22,      11120,2,20170108,       0501,   -37.9998,  -102.9999,       4138,    60.7,  12.8201,  33.9682,2,  33.9839,2,    276.9,2,   277.4,2,     0.5,2,     7.1,2,    0.15,2,   0.703,2,   3.1275,2,   1.8165,2,   2.2314,2,  2048.6,2,  2257.0,2,   7.8749,2,    25.00, -999.00,9,  -999.0,9,  -999.0,   0.1115,2, -999.00,9,  -999.0,9, -999.00,9, -999.00,9,    10.2191,2,   15.92,2,  -999.0,9,     -999.0,     -999.0,9,     -999.0,9,     -999.0,     -999.0,9,     -999.0,     -999.0,9,     -999.0,     -999.0,      14.37,2,      11.55,2,      11.33,2,     -999.0,9,8.893966057,2,       6.46,2,      44.84,2,      17.66,2
33RO20161119,        P18,     144,          1,         23,      11121,2,20170108,       0501,   -37.9998,  -102.9999,       4138,    26.0,  16.3497,  33.8801,2,  33.9021,2,    253.7,2,   251.2,2,     0.4,2,     5.9,2,    0.14,2,   0.629,2,   2.5870,2,   1.5470,2,   2.0281,2,  2035.3,6,  2246.4,6,   7.8926,6,    25.00, -999.00,9,  -999.0,9,  -999.0,   0.1084,2, -999.00,9,  -999.0,9, -999.00,9, -999.00,9,     8.8494,2,   18.08,2,  -999.0,9,     -999.0,     -999.0,9,     -999.0,9,     -999.0,     -999.0,9,     -999.0,     -999.0,9,     -999.0,     -999.0,      15.57,2,      12.77,2,      12.64,2,     -999.0,9, 7.90511555,2,       5.91,2,      45.87,2,      17.25,2
33RO20161119,        P18,     144,          1,         24,      11122,2,20170108,       0501,   -37.9998,  -102.9999,       4138,     4.3,  17.9421,  33.8736,2,  33.8795,2,    240.5,2,   239.9,2,     0.4,2,     4.5,2,    0.14,2,   0.528,2,   2.3789,2,   1.4316,2,   1.8999,2,  2026.7,2,  2244.0,2,   7.9034,2,    25.00, -999.00,9,  -999.0,9,  -999.0,   0.1597,2, -999.00,9,  -999.0,9, -999.00,9, -999.00,9,     8.3885,2,   19.94,2,  -999.0,9,     -999.0,     -999.0,9,     -999.0,9,     -999.0,     -999.0,9,     -999.0,     -999.0,9,     -999.0,     -999.0,      16.81,2,      13.94,2,      13.64,2,     -999.0,9,7.519540286,2,       6.21,2,      45.78,2,      18.05,2