BOTTLE,20230606CCHSIOCBG
EXPOCODE,SECT_ID,STNNBR,CASTNO,SAMPNO,BTLNBR,BTLNBR_FLAG_W,DATE,TIME,LATITUDE,LONGITUDE,DEPTH,CTDPRS,CTDTMP,CTDSAL,CTDSAL_FLAG_W,SALNTY,SALNTY_FLAG_W,CTDOXY,CTDOXY_FLAG_W,OXYGEN,OXYGEN_FLAG_W,SILCAT,SILCAT_FLAG_W,NITRAT,NITRAT_FLAG_W,NITRIT,NITRIT_FLAG_W,PHSPHT,PHSPHT_FLAG_W,CFC-11,CFC-11_FLAG_W,CFC-12,CFC-12_FLAG_W,SF6,SF6_FLAG_W,TCARBN,TCARBN_FLAG_W,ALKALI,ALKALI_FLAG_W,PH_SWS,PH_SWS_FLAG_W,PH_TMP,DELC13,DELC13_FLAG_W,DELC14,DELC14_FLAG_W,C14ERR,CCL4,CCL4_FLAG_W,POC,POC_FLAG_W,DOC,DOC_FLAG_W,TDN,TDN_FLAG_W,PON,PON_FLAG_W,N2O,N2O_FLAG_W,D15N_NO3,D15N_NO3_FLAG_W,14C-DOC,14C-DOC_FLAG_W,14C-DOCERR,13C-DOC,13C-DOC_FLAG_W,N2/ARGON_UNSTRIPPED,N2/ARGON_UNSTRIPPED_FLAG_W,N2/ARGON_UNSTRIPPED_ERROR,N2/ARGON,N2/ARGON_FLAG_W,N2/ARGON_ERROR,D15N_N2,D15N_N2_FLAG_W,D15N_N2_ERROR,D15N_NO3_ERROR,D15N_NO2+NO3,D15N_NO2+NO3_FLAG_W,D18O_NO2+NO3,D18O_NO2+NO3_FLAG_W,D18O_NO3,D18O_NO3_FLAG_W,TDP,TDP_FLAG_W,N2O_ALT_1,N2O_ALT_1_FLAG_W,D15N_N2O,D15N_N2O_FLAG_W,D18O_N2O,D18O_N2O_FLAG_W,D15N_ALPHA_N2O,D15N_ALPHA_N2O_FLAG_W
,,,,,,,,,,,METERS,DBAR,ITS-90,PSS-78,,PSS-78,,UMOL/KG,,UMOL/KG,,UMOL/KG,,UMOL/KG,,UMOL/KG,,UMOL/KG,,PMOL/KG,,PMOL/KG,,FMOL/KG,,UMOL/KG,,UMOL/KG,,,,DEG C,/MILLE,,/MILLE,,/MILLE,PMOL/KG,,UG/KG,,UMOL/KG,,UMOL/KG,,UG/KG,,NMOL/KG,,/MILLE,,/MILLE,,/MILLE,/MILLE,,,,,,,,/MILLE,,/MILLE,/MILLE,/MILLE,,/MILLE,,/MILLE,,UMOL/KG,,NMOL/L,,/MILLE,,/MILLE,,/MILLE,
33RO20161119,        P18,      63,          1,          1,      11010,2,20161208,       2029,    -1.9997,  -109.9994,       3912,  3947.7,   1.4779,  34.6924,2,  34.6939,2,    158.9,2,   157.4,2,   141.2,6,    36.1,6,    0.00,6,   2.425,6,   0.0034,2,   0.0034,2,   0.0533,2,  2328.7,6,  2430.2,2,   7.5945,2,    25.00, -999.00,9,  -999.0,9,  -999.0,        0,2, -999.00,9,    37.9,2,   37.20,2, -999.00,9,    19.7004,2, -999.00,9,  -999.0,9,     -999.0,     -999.0,9,     -999.0,9,     -999.0,     -999.0,9,     -999.0,     -999.0,9,     -999.0,     -999.0,     -999.0,9,     -999.0,9,     -999.0,9,     -999.0,9,     -999.0,9,     -999.0,9,     -999.0,9,     -999.0,9
33RO20161119,        P18,      63,          1,          2,      11101,2,20161208,       2029,    -1.9997,  -109.9994,       3912,  3623.8,   1.5105,  34.6885,2,  34.6878,2,    150.1,2,   150.0,2,   143.7,6,    36.6,6,    0.00,6,   2.469,6,   0.0029,2,   0.0021,2,   0.0000,2,  2332.4,2,  2428.8,2,   7.5832,2,    25.00, -999.00,9,  -999.0,9,  -999.0,        0,2, -999.00,9,    36.3,2,   38.50,2, -999.00,9,    20.4589,2, -999.00,9,  -999.0,9,     -999.0,     -999.0,9,     -999.0,9,     -999.0,     -999.0,9,     -999.0,     -999.0,9,     -999.0,     -999.0,     -999.0,9,     -999.0,9,     -999.0,9,     -999.0,9,     -999.0,9,     -999.0,9,     -999.0,9,     -999.0,9
33RO20161119,        P18,      63,          1,          3,      11102,2,20161208,       2029,    -1.9997,  -109.9994,       3912,  3300.9,   1.5752,  34.6822,2,  34.6817,2,    142.8,2,   142.5,2,   143.5,6,    37.0,6,    0.00,6,   2.502,6,   0.0024,2,   0.0020,2,   0.0541,2,  2334.0,2,  2425.2,2,   7.5669,2,    25.00, -999.00,9,  -999.0,9,  -999.0,        0,2, -999.00,9,    35.8,2,   39.00,2, -999.00,9,    21.1647,2, -999.00,9,  -999.0,9,     -999.0,     -999.0,9,     -999.0,9,     -999.0,     -999.0,9,     -999.0,     -999.0,9,     -999.0,     -999.0,     -999.0,9,     -999.0,9,     -999.0,9,     -999.0,9,     -999.0,9,     -999.0,9,     -999.0,9,     -999.0,9
33RO20161119,        P18,      63,          1,          4,      11103,2,20161208,       2029,    -1.9997,  -109.9994,       3912,  3000.3,   1.6378,  34.6765,2,  34.6762,2,    140.0,2,   140.2,6,   139.9,6,    37.1,6,    0.00,6,   2.521,6,   0.0013,2,   0.0010,2,   0.0356,2,  2332.2,2,  2423.2,6,   7.5578,2,    25.00, -999.00,9,  -999.0,9,  -999.0,        0,2, -999.00,9,    36.4,2,   40.70,2, -999.00,9,    21.6812,2, -999.00,9,  -999.0,9,     -999.0,     -999.0,9,     -999.0,9,     -999.0,     -999.0,9,     -999.0,     -999.0,9,     -999.0,     -999.0,     -999.0,9,     -999.0,9,     -999.0,9,     -999.0,9,     -999.0,9,     -999.0,9,     -999.0,9,     -999.0,9
33RO20161119,        P18,      63,          1,          5,      11104,2,20161208,       2029,    -1.9997,  -109.9994,       3912,  2700.0,   1.7989,  34.6683,2,  34.6722,3,    129.0,2,   129.4,2,   140.4,2,    37.8,2,    0.00,2,   2.566,2,   0.0013,2,   0.0000,2,   0.0000,2,  2339.9,2,  2422.2,2,   7.5396,2,    25.00, -999.00,9,  -999.0,9,  -999.0,        0,2, -999.00,9,    37.2,2,   41.20,2, -999.00,9,    22.7003,2, -999.00,9,  -999.0,9,     -999.0,     -999.0,9,     -999.0,9,     -999.0,     -999.0,9,     -999.0,     -999.0,9,     -999.0,     -999.0,     -999.0,9,     -999.0,9,     -999.0,9,     -999.0,9,     -999.0,9,     -999.0,9,     -999.0,9,     -999.0,9
33RO20161119,        P18,      63,          1,          6,      11105,2,20161208,       2029,    -1.9997,  -109.9994,       3912,  2399.8,   1.9434,  34.6607,2,  34.6638,3,    119.3,2,   119.2,2,   140.4,2,    38.2,2,    0.00,2,   2.625,2,   0.0034,2,   0.0022,2,   0.0000,2,  2342.1,2,  2419.4,2,   7.5223,2,    25.00, -999.00,9,  -999.0,9,  -999.0,        0,2, -999.00,9,    36.9,2,   41.10,2, -999.00,9,     23.773,2, -999.00,9,  -999.0,9,     -999.0,     -999.0,9,     -999.0,9,     -999.0,     -999.0,9,     -999.0,     -999.0,9,     -999.0,     -999.0,     -999.0,9,     -999.0,9,     -999.0,9,     -999.0,9,     -999.0,9,     -999.0,9,     -999.0,9,     -999.0,9
33RO20161119,        P18,      63,          1,          7,      11106,2,20161208,       2029,    -1.9997,  -109.9994,       3912,  2099.3,   2.1406,  34.6528,2,  34.6534,2,    108.4,2,   108.7,2,   140.2,2,    39.0,2,    0.00,2,   2.694,2,   0.0032,6,   0.0022,6,   0.0000,6,  2349.2,6,  2420.1,2,   7.5076,2,    25.00, -999.00,9,  -999.0,9,  -999.0,        0,2, -999.00,9,    37.2,2,   42.80,2, -999.00,9,    24.9928,2, -999.00,9,  -999.0,9,     -999.0,     -999.0,9,     -999.0,9,     -999.0,     -999.0,9,     -999.0,     -999.0,9,     -999.0,     -999.0,     -999.0,9,     -999.0,9,     -999.0,9,     -999.0,9,     -999.0,9,     -999.0,9,     -999.0,9,     -999.0,9
33RO20161119,        P18,      63,          1,          8,      11107,2,20161208,       2029,    -1.9997,  -109.9994,       3912,  1800.5,   2.5969,  34.6299,2,  34.6580,4,     94.4,2,    94.2,2,   130.8,2,    40.0,2,    0.00,2,   2.781,2,   0.0053,2,   0.0036,2,   0.0000,2,  2347.2,2,  2406.4,2,   7.4784,2,    25.00, -999.00,9,  -999.0,9,  -999.0,        0,2, -999.00,9,    39.7,2,   42.30,2, -999.00,9,     28.125,2, -999.00,9,  -999.0,9,     -999.0,     -999.0,9,     -999.0,9,     -999.0,     -999.0,9,     -999.0,     -999.0,9,     -999.0,     -999.0,     -999.0,9,     -999.0,9,     -999.0,9,     -999.0,9,     -999.0,9,     -999.0,9,     -999.0,9,     -999.0,9
33RO20161119,        P18,      63,          1,          9,      11108,2,20161208,       2029,    -1.9997,  -109.9994,       3912,  1500.5,   3.0696,  34.6034,2,  34.6025,2,     92.1,2,    91.4,2,   115.5,2,    39.9,2,    0.01,2,   2.795,2,   0.0017,2,   0.0014,2,   0.0000,2,  2332.6,2,  2391.2,2,   7.4676,2,    25.00, -999.00,9,  -999.0,9,  -999.0,        0,2, -999.00,9,    39.1,2,   45.10,2, -999.00,9,    29.5633,2, -999.00,9,  -999.0,9,     -999.0,     -999.0,9,     -999.0,9,     -999.0,     -999.0,9,     -999.0,     -999.0,9,     -999.0,     -999.0,     -999.0,9,     -999.0,9,     -999.0,9,     -999.0,9,     -999.0,9,     -999.0,9,     -999.0,9,     -999.0,9
33RO20161119,        P18,      63,          1,         10,      11109,2,20161208,       2029,    -1.9997,  -109.9994,       3912,  1320.7,   3.4303,  34.5893,2,  34.5887,2,     87.5,2,    86.5,2,   107.4,2,    40.3,2,    0.00,2,   2.821,2,   0.0027,2,   0.0019,2,   0.0000,2,  2324.9,2,  2386.4,2,   7.4616,2,    25.00, -999.00,9,  -999.0,9,  -999.0,        0,2, -999.00,9,    40.5,2,   42.90,2, -999.00,9,    30.5963,2, -999.00,9,  -999.0,9,     -999.0,     -999.0,9,     -999.0,9,     -999.0,     -999.0,9,     -999.0,     -999.0,9,     -999.0,     -999.0,     -999.0,9,     -999.0,9,     -999.0,9,     -999.0,9,     -999.0,9,     -999.0,9,     -999.0,9,     -999.0,9
33RO20161119,        P18,      63,          1,         11,      11110,2,20161208,       2029,    -1.9997,  -109.9994,       3912,  1179.4,   4.0513,  34.5716,2,  34.5734,2,     78.8,2,   141.2,3,    94.3,2,    40.7,2,    0.00,2,   2.844,2,   0.0050,2,   0.0036,2,   0.0000,2,  2315.4,2,  2370.9,2,   7.4463,2,    25.00, -999.00,9,  -999.0,9,  -999.0,        0,2, -999.00,9,    41.3,2,   43.70,2, -999.00,9,    33.4512,2, -999.00,9,  -999.0,9,     -999.0,     -999.0,9,     -999.0,9,     -999.0,     -999.0,9,     -999.0,     -999.0,9,     -999.0,     -999.0,     -999.0,9,     -999.0,9,     -999.0,9,     -999.0,9,     -999.0,9,     -999.0,9,     -999.0,9,     -999.0,9
33RO20161119,        P18,      63,          1,         12,      11111,2,20161208,       2029,    -1.9997,  -109.9994,       3912,  1049.9,   4.4205,  34.5598,2,  34.5604,2,     80.2,2,    79.2,2,    85.1,2,    40.2,2,    0.00,2,   2.821,2,   0.0099,2,   0.0057,2,   0.0000,2,  2303.6,2,  2355.7,2,   7.4503,2,    25.00, -999.00,9,  -999.0,9,  -999.0,   0.0215,2, -999.00,9,    40.7,2,   44.60,2, -999.00,9,    34.3785,2, -999.00,9,  -999.0,9,     -999.0,     -999.0,9,     -999.0,9,     -999.0,     -999.0,9,     -999.0,     -999.0,9,     -999.0,     -999.0,     -999.0,9,     -999.0,9,     -999.0,9,     -999.0,9,     -999.0,9,     -999.0,9,     -999.0,9,     -999.0,9
33RO20161119,        P18,      63,          1,         13,      11112,2,20161208,       2029,    -1.9997,  -109.9994,       3912,   919.7,   5.0040,  34.5519,2,  34.5549,2,     72.7,2,    79.2,2,    74.6,2,    40.2,2,    0.00,2,   2.819,2,   0.0194,6,   0.0113,6,   0.0125,6,  2296.8,2,  2342.8,2,   7.4426,2,    25.00, -999.00,9,  -999.0,9,  -999.0,   0.0237,2, -999.00,9,    37.7,2,   43.10,2, -999.00,9,    36.9119,2, -999.00,9,  -999.0,9,     -999.0,     -999.0,9,     -999.0,9,     -999.0,     -999.0,9,     -999.0,     -999.0,9,     -999.0,     -999.0,     -999.0,9,     -999.0,9,     -999.0,9,     -999.0,9,     -999.0,9,     -999.0,9,     -999.0,9,     -999.0,9
33RO20161119,        P18,      63,          1,         14,      11113,2,20161208,       2029,    -1.9997,  -109.9994,       3912,   795.0,   5.7477,  34.5488,2,  34.5496,2,     71.0,2,    69.8,2,    60.9,2,    40.0,2,    0.00,2,   2.762,2,   0.0514,2,   0.0292,2,   0.0599,2,  2282.4,2,  2329.8,2,   7.4420,2,    25.00, -999.00,9,  -999.0,9,  -999.0,   0.0617,2, -999.00,9,    39.2,2,   42.90,2, -999.00,9,    37.4533,2, -999.00,9,  -999.0,9,     -999.0,     -999.0,9,     -999.0,9,     -999.0,     -999.0,9,     -999.0,     -999.0,9,     -999.0,     -999.0,     -999.0,9,     -999.0,9,     -999.0,9,     -999.0,9,     -999.0,9,     -999.0,9,     -999.0,9,     -999.0,9
33RO20161119,        P18,      63,          1,         15,      11114,2,20161208,       2029,    -1.9997,  -109.9994,       3912,   675.0,   6.5859,  34.5638,2,  34.5645,2,     62.1,2,    61.7,2,    50.2,2,    39.5,2,    0.00,2,   2.736,2,   0.1098,2,   0.0605,2,   0.0330,2,  2271.3,2,  2319.0,2,   7.4369,2,    25.00, -999.00,9,  -999.0,9,  -999.0,   0.0434,2, -999.00,9,    40.6,2,   43.60,2, -999.00,9,    42.5854,2, -999.00,9,  -999.0,9,     -999.0,     -999.0,9,     -999.0,9,     -999.0,     -999.0,9,     -999.0,     -999.0,9,     -999.0,     -999.0,     -999.0,9,     -999.0,9,     -999.0,9,     -999.0,9,     -999.0,9,     -999.0,9,     -999.0,9,     -999.0,9
33RO20161119,        P18,      63,          1,         16,      11115,2,20161208,       2029,    -1.9997,  -109.9994,       3912,   565.2,   8.0536,  34.6274,2,  34.6272,2,     32.3,2,    33.0,2,    40.5,2,    39.6,2,    0.00,2,   2.722,2,   0.1845,2,   0.1012,2,   0.0418,2,  2272.6,2,  2312.0,2,   7.3977,2,    25.00, -999.00,9,  -999.0,9,  -999.0,   0.0656,2, -999.00,9,    41.6,2,   44.60,2, -999.00,9,    56.6829,2, -999.00,9,  -999.0,9,     -999.0,     -999.0,9,     -999.0,9,     -999.0,     -999.0,9,     -999.0,     -999.0,9,     -999.0,     -999.0,     -999.0,9,     -999.0,9,     -999.0,9,     -999.0,9,     -999.0,9,     -999.0,9,     -999.0,9,     -999.0,9
33RO20161119,        P18,      63,          1,         17,      11116,2,20161208,       2029,    -1.9997,  -109.9994,       3912,   460.2,   9.2910,  34.6877,2,  34.6875,2,     24.8,2,    33.3,2,    34.1,2,    36.7,2,    0.01,2,   2.527,2,   0.4405,2,   0.2423,2,   0.1259,2,  2262.5,2,  2304.6,6,   7.4247,2,    25.00, -999.00,9,  -999.0,9,  -999.0,   0.0896,2, -999.00,9,    43.8,2,   39.40,2, -999.00,9,    56.2408,2, -999.00,9,  -999.0,9,     -999.0,     -999.0,9,     -999.0,9,     -999.0,     -999.0,9,     -999.0,     -999.0,9,     -999.0,     -999.0,     -999.0,9,     -999.0,9,     -999.0,9,     -999.0,9,     -999.0,9,     -999.0,9,     -999.0,9,     -999.0,9
33RO20161119,        P18,      63,          1,         18,      11117,2,20161208,       2029,    -1.9997,  -109.9994,       3912,   354.9,  10.4864,  34.7618,2,  34.7596,2,     37.7,2,    36.8,2,    28.4,2,    33.6,2,    0.01,2,   2.336,2,   0.7277,2,   0.3996,2,   0.1796,2,  2249.9,2,  2303.8,2,   7.4629,6,    25.00, -999.00,9,  -999.0,9,  -999.0,   0.0749,2, -999.00,9,    43.8,2,   36.70,2, -999.00,9,    57.6302,2, -999.00,9,  -999.0,9,     -999.0,     -999.0,9,     -999.0,9,     -999.0,     -999.0,9,     -999.0,     -999.0,9,     -999.0,     -999.0,     -999.0,9,     -999.0,9,     -999.0,9,     -999.0,9,     -999.0,9,     -999.0,9,     -999.0,9,     -999.0,9
33RO20161119,        P18,      63,          1,         19,      11083,2,20161208,       2029,    -1.9997,  -109.9994,       3912,   264.9,  11.6917,  34.8334,2,  34.8391,2,     23.5,2,    27.6,2,    25.9,2,    32.8,2,    0.01,2,   2.275,2,   0.9846,2,   0.5418,2,   0.2567,2,  2247.9,2,  2302.2,2,   7.4606,2,    25.00, -999.00,9,  -999.0,9,  -999.0,   0.0867,2, -999.00,9,    44.8,2,   34.50,2, -999.00,9,    62.9447,2, -999.00,9,  -999.0,9,     -999.0,     -999.0,9,     -999.0,9,     -999.0,     -999.0,9,     -999.0,     -999.0,9,     -999.0,     -999.0,     -999.0,9,     -999.0,9,     -999.0,9,     -999.0,9,     -999.0,9,     -999.0,9,     -999.0,9,     -999.0,9
33RO20161119,        P18,      63,          1,         20,      11118,2,20161208,       2029,    -1.9997,  -109.9994,       3912,   190.5,  12.4899,  34.8886,2,  34.8886,2,     33.8,2,    32.5,6,    22.7,2,    30.9,2,    0.01,2,   2.165,2,   1.2041,2,   0.6731,2,   0.3126,2,  2235.2,2,  2302.7,2,   7.4959,2,    25.00, -999.00,9,  -999.0,9,  -999.0,    0.107,2, -999.00,9,    46.6,2,   32.80,2, -999.00,9,    62.5401,2, -999.00,9,  -999.0,9,     -999.0,     -999.0,9,     -999.0,9,     -999.0,     -999.0,9,     -999.0,     -999.0,9,     -999.0,     -999.0,     -999.0,9,     -999.0,9,     -999.0,9,     -999.0,9,     -999.0,9,     -999.0,9,     -999.0,9,     -999.0,9
33RO20161119,        P18,      63,          1,         21,      11119,2,20161208,       2029,    -1.9997,  -109.9994,       3912,   119.9,  13.5566,  34.9555,2,  34.9539,2,     50.9,2,    48.6,2,    18.8,2,    27.9,2,    0.02,2,   1.962,2,   1.4939,2,   0.8508,2,   0.5194,2,  2214.4,2,  2304.9,2,   7.5555,2,    25.00, -999.00,9,  -999.0,9,  -999.0,   0.1189,2, -999.00,9,    44.6,2,   29.60,2, -999.00,9,    52.6728,2, -999.00,9,  -999.0,9,     -999.0,     -999.0,9,     -999.0,9,     -999.0,     -999.0,9,     -999.0,     -999.0,9,     -999.0,     -999.0,     -999.0,9,     -999.0,9,     -999.0,9,     -999.0,9,     -999.0,9,     -999.0,9,     -999.0,9,     -999.0,9
33RO20161119,        P18,      63,          1,         22,      11120,2,20161208,       2029,    -1.9997,  -109.9994,       3912,    60.3,  15.6648,  35.0478,2,-999.0000,9,     84.8,2,    79.4,2,    14.3,2,    22.2,2,    0.59,2,   1.654,2,   1.7315,2,   0.9975,2,   0.6731,2,  2183.9,2,  2305.1,6,   7.6605,2,    25.00, -999.00,9,  -999.0,9,  -999.0,    1.307,2, -999.00,9,    51.5,2,   24.90,2, -999.00,9,    51.4551,2, -999.00,9,  -999.0,9,     -999.0,     -999.0,9,     -999.0,9,     -999.0,     -999.0,9,     -999.0,     -999.0,9,     -999.0,     -999.0,     -999.0,9,     -999.0,9,     -999.0,9,     -999.0,9,     -999.0,9,     -999.0,9,     -999.0,9,     -999.0,9
33RO20161119,        P18,      63,          1,         23,      11121,2,20161208,       2029,    -1.9997,  -109.9994,       3912,    25.0,  22.9880,  35.1936,2,  35.1947,2,    200.7,2,   200.6,2,     4.4,2,     9.4,2,    0.31,2,   0.838,2,   1.8179,2,   1.1230,2,   1.4090,2,  2083.3,2,  2318.3,2,   7.9070,2,    25.00, -999.00,9,  -999.0,9,  -999.0,   1.4558,2, -999.00,9,    56.3,2,   12.40,2, -999.00,9,    10.2369,2, -999.00,9,  -999.0,9,     -999.0,     -999.0,9,     -999.0,9,     -999.0,     -999.0,9,     -999.0,     -999.0,9,     -999.0,     -999.0,     -999.0,9,     -999.0,9,     -999.0,9,     -999.0,9,     -999.0,9,     -999.0,9,     -999.0,9,     -999.0,9
33RO20161119,        P18,      63,          1,         24,      11122,2,20161208,       2029,    -1.9997,  -109.9994,       3912,     2.9,  23.2530,  35.1959,2,  35.1963,2,    200.0,2,   202.8,2,     4.4,2,     9.3,2,    0.31,2,   0.835,2,   1.8164,2,   1.1257,2,   1.3927,2,  2083.8,6,  2319.0,2,   7.9091,2,    25.00, -999.00,9,  -999.0,9,  -999.0,        0,2, -999.00,9,    54.4,2,   10.50,2, -999.00,9,     9.7618,2, -999.00,9,  -999.0,9,     -999.0,     -999.0,9,     -999.0,9,     -999.0,     -999.0,9,     -999.0,     -999.0,9,     -999.0,     -999.0,     -999.0,9,     -999.0,9,     -999.0,9,     -999.0,9,     -999.0,9,     -999.0,9,     -999.0,9,     -999.0,9