BOTTLE,20230606CCHSIOCBG
EXPOCODE,SECT_ID,STNNBR,CASTNO,SAMPNO,BTLNBR,BTLNBR_FLAG_W,DATE,TIME,LATITUDE,LONGITUDE,DEPTH,CTDPRS,CTDTMP,CTDSAL,CTDSAL_FLAG_W,SALNTY,SALNTY_FLAG_W,CTDOXY,CTDOXY_FLAG_W,OXYGEN,OXYGEN_FLAG_W,SILCAT,SILCAT_FLAG_W,NITRAT,NITRAT_FLAG_W,NITRIT,NITRIT_FLAG_W,PHSPHT,PHSPHT_FLAG_W,CFC-11,CFC-11_FLAG_W,CFC-12,CFC-12_FLAG_W,SF6,SF6_FLAG_W,TCARBN,TCARBN_FLAG_W,ALKALI,ALKALI_FLAG_W,PH_SWS,PH_SWS_FLAG_W,PH_TMP,DELC13,DELC13_FLAG_W,DELC14,DELC14_FLAG_W,C14ERR,CCL4,CCL4_FLAG_W,POC,POC_FLAG_W,DOC,DOC_FLAG_W,TDN,TDN_FLAG_W,PON,PON_FLAG_W,N2O,N2O_FLAG_W,D15N_NO3,D15N_NO3_FLAG_W,14C-DOC,14C-DOC_FLAG_W,14C-DOCERR,13C-DOC,13C-DOC_FLAG_W,N2/ARGON_UNSTRIPPED,N2/ARGON_UNSTRIPPED_FLAG_W,N2/ARGON_UNSTRIPPED_ERROR,N2/ARGON,N2/ARGON_FLAG_W,N2/ARGON_ERROR,D15N_N2,D15N_N2_FLAG_W,D15N_N2_ERROR,D15N_NO3_ERROR,D15N_NO2+NO3,D15N_NO2+NO3_FLAG_W,D18O_NO2+NO3,D18O_NO2+NO3_FLAG_W,D18O_NO3,D18O_NO3_FLAG_W,TDP,TDP_FLAG_W,N2O_ALT_1,N2O_ALT_1_FLAG_W,D15N_N2O,D15N_N2O_FLAG_W,D18O_N2O,D18O_N2O_FLAG_W,D15N_ALPHA_N2O,D15N_ALPHA_N2O_FLAG_W
,,,,,,,,,,,METERS,DBAR,ITS-90,PSS-78,,PSS-78,,UMOL/KG,,UMOL/KG,,UMOL/KG,,UMOL/KG,,UMOL/KG,,UMOL/KG,,PMOL/KG,,PMOL/KG,,FMOL/KG,,UMOL/KG,,UMOL/KG,,,,DEG C,/MILLE,,/MILLE,,/MILLE,PMOL/KG,,UG/KG,,UMOL/KG,,UMOL/KG,,UG/KG,,NMOL/KG,,/MILLE,,/MILLE,,/MILLE,/MILLE,,,,,,,,/MILLE,,/MILLE,/MILLE,/MILLE,,/MILLE,,/MILLE,,UMOL/KG,,NMOL/L,,/MILLE,,/MILLE,,/MILLE,
33RO20161119,        P18,     120,          1,          1,      11010,2,20170101,       0410,   -26.0000,  -101.4998,       3331,  3398.7,   1.8520,  34.6807,2,  34.6898,4,    154.3,2,   153.5,2,   125.7,6,    35.3,6,    0.00,6,   2.449,6,   0.0054,2,   0.0024,2,   0.0459,2,  2314.4,6,  2411.0,2,   7.5774,6,    25.00, -999.00,9,  -999.0,9,  -999.0,        0,2, -999.00,9,  -999.0,9, -999.00,9, -999.00,9,    20.5685,2, -999.00,9,  -999.0,9,     -999.0,     -999.0,9,     -999.0,9,     -999.0,     -999.0,9,     -999.0,     -999.0,9,     -999.0,     -999.0,     -999.0,9,     -999.0,9,     -999.0,9,     -999.0,9,     -999.0,9,     -999.0,9,     -999.0,9,     -999.0,9
33RO20161119,        P18,     120,          1,          2,      11101,2,20170101,       0410,   -26.0000,  -101.4998,       3331,  3150.3,   1.8498,  34.6773,2,  34.6816,4,    154.8,2,   154.9,2,   124.3,6,    35.2,6,    0.00,6,   2.443,6,   0.0005,2,   0.0003,2,   0.0000,2,  2308.7,2,  2405.1,2,   7.5760,2,    25.00, -999.00,9,  -999.0,9,  -999.0,        0,2, -999.00,9,  -999.0,9, -999.00,9, -999.00,9,    21.1015,2, -999.00,9,  -999.0,9,     -999.0,     -999.0,9,     -999.0,9,     -999.0,     -999.0,9,     -999.0,     -999.0,9,     -999.0,     -999.0,     -999.0,9,     -999.0,9,     -999.0,9,     -999.0,9,     -999.0,9,     -999.0,9,     -999.0,9,     -999.0,9
33RO20161119,        P18,     120,          1,          3,      11102,2,20170101,       0410,   -26.0000,  -101.4998,       3331,  2900.7,   1.8709,  34.6711,2,  34.6729,2,    156.3,2,   156.3,2,   121.3,6,    35.1,6,    0.00,6,   2.433,6,   0.0004,2,   0.0001,2,   0.0000,2,  2305.2,2,  2398.3,2,   7.5743,2,    25.00, -999.00,9,  -999.0,9,  -999.0,   0.0199,2, -999.00,9,  -999.0,9, -999.00,9, -999.00,9,    21.5012,2, -999.00,9,  -999.0,9,     -999.0,     -999.0,9,     -999.0,9,     -999.0,     -999.0,9,     -999.0,     -999.0,9,     -999.0,     -999.0,     -999.0,9,     -999.0,9,     -999.0,9,     -999.0,9,     -999.0,9,     -999.0,9,     -999.0,9,     -999.0,9
33RO20161119,        P18,     120,          1,          4,      11103,2,20170101,       0410,   -26.0000,  -101.4998,       3331,  2625.0,   1.8959,  34.6644,2,  34.6655,2,    156.7,2,   157.6,2,   118.9,6,    35.0,6,    0.01,6,   2.434,6,   0.0009,2,   0.0000,2,   0.0000,2,  2299.9,2,  2394.4,6,   7.5741,2,    25.00, -999.00,9,  -999.0,9,  -999.0,   0.0219,2, -999.00,9,  -999.0,9, -999.00,9, -999.00,9,    21.0472,2, -999.00,9,  -999.0,9,     -999.0,     -999.0,9,     -999.0,9,     -999.0,     -999.0,9,     -999.0,     -999.0,9,     -999.0,     -999.0,     -999.0,9,     -999.0,9,     -999.0,9,     -999.0,9,     -999.0,9,     -999.0,9,     -999.0,9,     -999.0,9
33RO20161119,        P18,     120,          1,          5,      11104,2,20170101,       0410,   -26.0000,  -101.4998,       3331,  2351.1,   1.9293,  34.6580,2,  34.6604,2,    155.9,2,   156.2,6,   116.5,2,    35.0,2,    0.01,2,   2.428,2,   0.0015,2,   0.0001,2,   0.0000,2,  2297.0,2,  2390.5,2,   7.5701,2,    25.00, -999.00,9,  -999.0,9,  -999.0,   0.0425,2, -999.00,9,  -999.0,9, -999.00,9, -999.00,9,      21.02,2, -999.00,9,  -999.0,9,     -999.0,     -999.0,9,     -999.0,9,     -999.0,     -999.0,9,     -999.0,     -999.0,9,     -999.0,     -999.0,     -999.0,9,     -999.0,9,     -999.0,9,     -999.0,9,     -999.0,9,     -999.0,9,     -999.0,9,     -999.0,9
33RO20161119,        P18,     120,          1,          6,      11105,2,20170101,       0410,   -26.0000,  -101.4998,       3331,  2099.4,   2.0284,  34.6451,2,  34.6454,2,    153.7,2,   154.5,2,   113.2,2,    35.1,2,    0.00,2,   2.438,2,   0.0018,6,   0.0012,6,   0.0147,6,  2294.1,2,  2385.2,2,   7.5641,2,    25.00, -999.00,9,  -999.0,9,  -999.0,   0.0798,2, -999.00,9,  -999.0,9, -999.00,9, -999.00,9,    21.4688,2, -999.00,9,  -999.0,9,     -999.0,     -999.0,9,     -999.0,9,     -999.0,     -999.0,9,     -999.0,     -999.0,9,     -999.0,     -999.0,     -999.0,9,     -999.0,9,     -999.0,9,     -999.0,9,     -999.0,9,     -999.0,9,     -999.0,9,     -999.0,9
33RO20161119,        P18,     120,          1,          7,      11106,2,20170101,       0410,   -26.0000,  -101.4998,       3331,  1840.7,   2.2067,  34.6232,2,  34.6296,4,    151.1,2,   152.0,2,   107.1,2,    35.4,2,    0.00,2,   2.465,2,   0.0024,2,   0.0011,2,   0.0000,2,  2288.7,2,  2378.8,2,   7.5548,2,    25.00, -999.00,9,  -999.0,9,  -999.0,   0.4492,2, -999.00,9,  -999.0,9, -999.00,9, -999.00,9,     22.367,2, -999.00,9,  -999.0,9,     -999.0,     -999.0,9,     -999.0,9,     -999.0,     -999.0,9,     -999.0,     -999.0,9,     -999.0,     -999.0,     -999.0,9,     -999.0,9,     -999.0,9,     -999.0,9,     -999.0,9,     -999.0,9,     -999.0,9,     -999.0,9
33RO20161119,        P18,     120,          1,          8,      11107,2,20170101,       0410,   -26.0000,  -101.4998,       3331,  1570.1,   2.6113,  34.5799,2,  34.5986,4,    145.3,2,   145.7,2,    95.3,2,    36.0,2,    0.00,2,   2.526,2,   0.0017,2,   0.0001,2,   0.0000,2,  2281.7,2,  2364.6,2,   7.5424,2,    25.00, -999.00,9,  -999.0,9,  -999.0,   1.0695,2, -999.00,9,  -999.0,9, -999.00,9, -999.00,9,    23.8814,2, -999.00,9,  -999.0,9,     -999.0,     -999.0,9,     -999.0,9,     -999.0,     -999.0,9,     -999.0,     -999.0,9,     -999.0,     -999.0,     -999.0,9,     -999.0,9,     -999.0,9,     -999.0,9,     -999.0,9,     -999.0,9,     -999.0,9,     -999.0,9
33RO20161119,        P18,     120,          1,          9,      11108,2,20170101,       0410,   -26.0000,  -101.4998,       3331,  1309.8,   3.2119,  34.5313,2,  34.5384,2,    131.9,2,   132.6,2,    82.3,2,    37.0,2,    0.01,2,   2.596,2,   0.0071,2,   0.0037,2,   0.0000,2,  2276.2,2,  2351.6,2,   7.5194,2,    25.00, -999.00,9,  -999.0,9,  -999.0,   1.5169,2, -999.00,9,  -999.0,9, -999.00,9, -999.00,9,    26.2549,2, -999.00,9,  -999.0,9,     -999.0,     -999.0,9,     -999.0,9,     -999.0,     -999.0,9,     -999.0,     -999.0,9,     -999.0,     -999.0,     -999.0,9,     -999.0,9,     -999.0,9,     -999.0,9,     -999.0,9,     -999.0,9,     -999.0,9,     -999.0,9
33RO20161119,        P18,     120,          1,         10,      11109,2,20170101,       0410,   -26.0000,  -101.4998,       3331,  1149.4,   3.6706,  34.4884,2,  34.4899,2,    124.5,2,   125.1,2,    71.2,2,    37.7,2,    0.01,2,   2.647,2,   0.0293,2,   0.0152,2,   0.0000,2,  2269.9,2,  2337.2,2,   7.4999,2,    25.00, -999.00,9,  -999.0,9,  -999.0,   1.5892,2, -999.00,9,  -999.0,9, -999.00,9, -999.00,9,     28.778,2, -999.00,9,  -999.0,9,     -999.0,     -999.0,9,     -999.0,9,     -999.0,     -999.0,9,     -999.0,     -999.0,9,     -999.0,     -999.0,     -999.0,9,     -999.0,9,     -999.0,9,     -999.0,9,     -999.0,9,     -999.0,9,     -999.0,9,     -999.0,9
33RO20161119,        P18,     120,          1,         11,      11110,2,20170101,       0410,   -26.0000,  -101.4998,       3331,  1029.8,   3.9981,  34.4469,2,  34.4766,4,    126.4,2,   125.7,2,    60.5,2,    37.7,2,    0.00,2,   2.637,2,   0.0991,2,   0.0518,2,   0.0000,2,  2259.0,2,  2324.6,2,   7.4965,2,    25.00, -999.00,9,  -999.0,9,  -999.0,   1.5677,2, -999.00,9,  -999.0,9, -999.00,9, -999.00,9,    29.1224,2, -999.00,9,  -999.0,9,     -999.0,     -999.0,9,     -999.0,9,     -999.0,     -999.0,9,     -999.0,     -999.0,9,     -999.0,     -999.0,     -999.0,9,     -999.0,9,     -999.0,9,     -999.0,9,     -999.0,9,     -999.0,9,     -999.0,9,     -999.0,9
33RO20161119,        P18,     120,          1,         12,      11111,2,20170101,       0410,   -26.0000,  -101.4998,       3331,   909.4,   4.3884,  34.3938,2,  34.3974,2,    139.5,2,   137.7,2,    47.2,2,    36.5,2,    0.00,2,   2.575,2,   0.3400,2,   0.1708,2,   0.0720,2,  2239.3,2,  2310.8,2,   7.5111,2,    25.00, -999.00,9,  -999.0,9,  -999.0,   0.9807,2, -999.00,9,  -999.0,9, -999.00,9, -999.00,9,    28.9807,2, -999.00,9,  -999.0,9,     -999.0,     -999.0,9,     -999.0,9,     -999.0,     -999.0,9,     -999.0,     -999.0,9,     -999.0,     -999.0,     -999.0,9,     -999.0,9,     -999.0,9,     -999.0,9,     -999.0,9,     -999.0,9,     -999.0,9,     -999.0,9
33RO20161119,        P18,     120,          1,         13,      11112,2,20170101,       0410,   -26.0000,  -101.4998,       3331,   800.6,   4.8366,  34.3372,2,  34.3389,2,    163.6,2,   165.4,2,    31.5,2,    33.7,2,    0.00,2,   2.363,2,   1.0453,2,   0.5113,2,   0.1692,2,  2211.7,2,  2294.7,2,   7.5541,2,    25.00, -999.00,9,  -999.0,9,  -999.0,   0.5965,2, -999.00,9,  -999.0,9, -999.00,9, -999.00,9,    26.5468,2, -999.00,9,  -999.0,9,     -999.0,     -999.0,9,     -999.0,9,     -999.0,     -999.0,9,     -999.0,     -999.0,9,     -999.0,     -999.0,     -999.0,9,     -999.0,9,     -999.0,9,     -999.0,9,     -999.0,9,     -999.0,9,     -999.0,9,     -999.0,9
33RO20161119,        P18,     120,          1,         14,      11113,2,20170101,       0410,   -26.0000,  -101.4998,       3331,   694.6,   5.3701,  34.3042,2,  34.3079,2,    190.0,2,   188.4,2,    20.5,2,    30.7,2,    0.00,2,   2.152,2,   2.0374,2,   1.0020,2,   0.3489,2,  2189.7,2,  2283.7,6,   7.5938,2,    25.00, -999.00,9,  -999.0,9,  -999.0,   0.6377,2, -999.00,9,  -999.0,9, -999.00,9, -999.00,9,    24.2041,2, -999.00,9,  -999.0,9,     -999.0,     -999.0,9,     -999.0,9,     -999.0,     -999.0,9,     -999.0,     -999.0,9,     -999.0,     -999.0,     -999.0,9,     -999.0,9,     -999.0,9,     -999.0,9,     -999.0,9,     -999.0,9,     -999.0,9,     -999.0,9
33RO20161119,        P18,     120,          1,         15,      11114,2,20170101,       0410,   -26.0000,  -101.4998,       3331,   589.9,   6.1473,  34.3262,2,  34.3402,4,    177.4,2,   178.2,2,    16.3,2,    29.9,2,    0.00,2,   2.103,2,   2.5403,2,   1.2836,2,   0.5258,2,  2190.7,2,  2278.2,2,   7.5825,2,    25.00, -999.00,9,  -999.0,9,  -999.0,   0.9328,2, -999.00,9,  -999.0,9, -999.00,9, -999.00,9,     27.644,2, -999.00,9,  -999.0,9,     -999.0,     -999.0,9,     -999.0,9,     -999.0,     -999.0,9,     -999.0,     -999.0,9,     -999.0,     -999.0,     -999.0,9,     -999.0,9,     -999.0,9,     -999.0,9,     -999.0,9,     -999.0,9,     -999.0,9,     -999.0,9
33RO20161119,        P18,     120,          1,         16,      11115,2,20170101,       0410,   -26.0000,  -101.4998,       3331,   495.1,   6.9454,  34.3412,2,  34.3416,2,    166.8,2,   165.9,2,    13.8,2,    28.7,2,    0.00,2,   2.060,2,   2.8583,2,   1.4633,2,   0.7082,2,  2191.9,2,  2276.0,2,   7.5643,2,    25.00, -999.00,9,  -999.0,9,  -999.0,   1.0503,2, -999.00,9,  -999.0,9, -999.00,9, -999.00,9,     31.259,2, -999.00,9,  -999.0,9,     -999.0,     -999.0,9,     -999.0,9,     -999.0,     -999.0,9,     -999.0,     -999.0,9,     -999.0,     -999.0,     -999.0,9,     -999.0,9,     -999.0,9,     -999.0,9,     -999.0,9,     -999.0,9,     -999.0,9,     -999.0,9
33RO20161119,        P18,     120,          1,         17,      11116,2,20170101,       0410,   -26.0000,  -101.4998,       3331,   404.9,   8.5743,  34.3401,2,  34.3469,2,    154.9,2,   153.8,2,    10.5,2,    25.0,2,    0.01,2,   1.926,2,   2.9909,2,   1.5875,2,   0.9644,2,  2182.6,6,  2273.2,2,   7.5768,2,    25.00, -999.00,9,  -999.0,9,  -999.0,   1.4241,2, -999.00,9,  -999.0,9, -999.00,9, -999.00,9,    30.4108,2, -999.00,9,  -999.0,9,     -999.0,     -999.0,9,     -999.0,9,     -999.0,     -999.0,9,     -999.0,     -999.0,9,     -999.0,     -999.0,     -999.0,9,     -999.0,9,     -999.0,9,     -999.0,9,     -999.0,9,     -999.0,9,     -999.0,9,     -999.0,9
33RO20161119,        P18,     120,          1,         18,      11117,2,20170101,       0410,   -26.0000,  -101.4998,       3331,   314.9,  10.8184,  34.3543,2,  34.3553,2,    165.1,2,   164.0,2,     6.3,2,    18.1,2,    0.00,2,   1.531,2,   2.9698,2,   1.6646,2,   1.2950,2,  2153.4,2,  2270.1,2,   7.6626,2,    25.00, -999.00,9,  -999.0,9,  -999.0,   1.6656,2, -999.00,9,  -999.0,9, -999.00,9, -999.00,9,    23.6953,2, -999.00,9,  -999.0,9,     -999.0,     -999.0,9,     -999.0,9,     -999.0,     -999.0,9,     -999.0,     -999.0,9,     -999.0,     -999.0,     -999.0,9,     -999.0,9,     -999.0,9,     -999.0,9,     -999.0,9,     -999.0,9,     -999.0,9,     -999.0,9
33RO20161119,        P18,     120,          1,         19,      11083,2,20170101,       0410,   -26.0000,  -101.4998,       3331,   239.5,  14.7366,  34.7422,2,  34.7242,2,    202.7,2,   200.5,2,     1.0,2,     7.1,2,    0.02,2,   0.715,2,   2.6839,2,   1.6061,2,   1.5717,2,  2100.7,2,  2291.1,2,   7.8395,2,    25.00, -999.00,9,  -999.0,9,  -999.0,   1.8297,2, -999.00,9,  -999.0,9, -999.00,9, -999.00,9,    12.0047,2, -999.00,9,  -999.0,9,     -999.0,     -999.0,9,     -999.0,9,     -999.0,     -999.0,9,     -999.0,     -999.0,9,     -999.0,     -999.0,     -999.0,9,     -999.0,9,     -999.0,9,     -999.0,9,     -999.0,9,     -999.0,9,     -999.0,9,     -999.0,9
33RO20161119,        P18,     120,          1,         20,      11118,2,20170101,       0410,   -26.0000,  -101.4998,       3331,   174.8,  18.0920,  35.2721,2,  35.3021,2,    216.2,2,   214.9,6,     0.3,2,     0.3,2,    0.05,2,   0.297,2,   2.2752,6,   1.3944,6,   1.6430,6,  2079.0,2,  2325.7,2,   7.9374,2,    25.00, -999.00,9,  -999.0,9,  -999.0,    1.817,2, -999.00,9,  -999.0,9, -999.00,9, -999.00,9,      8.503,2, -999.00,9,  -999.0,9,     -999.0,     -999.0,9,     -999.0,9,     -999.0,     -999.0,9,     -999.0,     -999.0,9,     -999.0,     -999.0,     -999.0,9,     -999.0,9,     -999.0,9,     -999.0,9,     -999.0,9,     -999.0,9,     -999.0,9,     -999.0,9
33RO20161119,        P18,     120,          1,         21,      11119,2,20170101,       0410,   -26.0000,  -101.4998,       3331,   115.0,  20.6496,  35.7364,2,  35.7373,2,    227.2,2,   223.5,2,     0.3,2,     0.0,2,    0.00,2,   0.179,2,   2.0380,2,   1.2575,2,   1.6210,2,  2069.3,2,  2353.7,6,   7.9967,6,    25.00, -999.00,9,  -999.0,9,  -999.0,   0.0232,2, -999.00,9,  -999.0,9, -999.00,9, -999.00,9,     7.4547,2, -999.00,9,  -999.0,9,     -999.0,     -999.0,9,     -999.0,9,     -999.0,     -999.0,9,     -999.0,     -999.0,9,     -999.0,     -999.0,     -999.0,9,     -999.0,9,     -999.0,9,     -999.0,9,     -999.0,9,     -999.0,9,     -999.0,9,     -999.0,9
33RO20161119,        P18,     120,          1,         22,      11120,2,20170101,       0410,   -26.0000,  -101.4998,       3331,    60.6,  22.3437,  35.9526,2,  35.9518,2,    221.2,2,   223.4,2,     0.4,2,     0.0,2,    0.00,2,   0.209,2,   1.9352,2,   1.1970,2,   1.6033,2,  2077.8,2,  2369.0,2,   8.0052,2,    25.00, -999.00,9,  -999.0,9,  -999.0,   0.0254,2, -999.00,9,  -999.0,9, -999.00,9, -999.00,9,     7.2193,2, -999.00,9,  -999.0,9,     -999.0,     -999.0,9,     -999.0,9,     -999.0,     -999.0,9,     -999.0,     -999.0,9,     -999.0,     -999.0,     -999.0,9,     -999.0,9,     -999.0,9,     -999.0,9,     -999.0,9,     -999.0,9,     -999.0,9,     -999.0,9
33RO20161119,        P18,     120,          1,         23,      11121,2,20170101,       0410,   -26.0000,  -101.4998,       3331,    26.0,  23.9770,  36.1625,2,  36.1618,2,    210.6,2,   212.4,2,     0.3,2,     0.0,2,    0.00,2,   0.217,2,   1.7562,2,   1.1043,2,   1.5127,2,  2084.6,6,  2381.1,2,   8.0115,2,    25.00, -999.00,9,  -999.0,9,  -999.0,   1.2009,2, -999.00,9,  -999.0,9, -999.00,9, -999.00,9,     6.5529,2, -999.00,9,  -999.0,9,     -999.0,     -999.0,9,     -999.0,9,     -999.0,     -999.0,9,     -999.0,     -999.0,9,     -999.0,     -999.0,     -999.0,9,     -999.0,9,     -999.0,9,     -999.0,9,     -999.0,9,     -999.0,9,     -999.0,9,     -999.0,9
33RO20161119,        P18,     120,          1,         24,      11122,2,20170101,       0410,   -26.0000,  -101.4998,       3331,     3.5,  23.9779,  36.1648,2,  36.1673,2,    210.0,2,   212.0,2,     0.3,2,     0.0,2,    0.00,2,   0.208,2,   1.7618,2,   1.1018,2,   1.5171,2,  2087.2,2,  2381.7,2,   8.0093,2,    25.00, -999.00,9,  -999.0,9,  -999.0,   1.6006,2, -999.00,9,  -999.0,9, -999.00,9, -999.00,9,     6.6588,2, -999.00,9,  -999.0,9,     -999.0,     -999.0,9,     -999.0,9,     -999.0,     -999.0,9,     -999.0,     -999.0,9,     -999.0,     -999.0,     -999.0,9,     -999.0,9,     -999.0,9,     -999.0,9,     -999.0,9,     -999.0,9,     -999.0,9,     -999.0,9