BOTTLE,20230606CCHSIOCBG
EXPOCODE,SECT_ID,STNNBR,CASTNO,SAMPNO,BTLNBR,BTLNBR_FLAG_W,DATE,TIME,LATITUDE,LONGITUDE,DEPTH,CTDPRS,CTDTMP,CTDSAL,CTDSAL_FLAG_W,SALNTY,SALNTY_FLAG_W,CTDOXY,CTDOXY_FLAG_W,OXYGEN,OXYGEN_FLAG_W,SILCAT,SILCAT_FLAG_W,NITRAT,NITRAT_FLAG_W,NITRIT,NITRIT_FLAG_W,PHSPHT,PHSPHT_FLAG_W,CFC-11,CFC-11_FLAG_W,CFC-12,CFC-12_FLAG_W,SF6,SF6_FLAG_W,TCARBN,TCARBN_FLAG_W,ALKALI,ALKALI_FLAG_W,PH_SWS,PH_SWS_FLAG_W,PH_TMP,DELC13,DELC13_FLAG_W,DELC14,DELC14_FLAG_W,C14ERR,CCL4,CCL4_FLAG_W,POC,POC_FLAG_W,DOC,DOC_FLAG_W,TDN,TDN_FLAG_W,PON,PON_FLAG_W,N2O,N2O_FLAG_W,D15N_NO3,D15N_NO3_FLAG_W,14C-DOC,14C-DOC_FLAG_W,14C-DOCERR,13C-DOC,13C-DOC_FLAG_W,N2/ARGON_UNSTRIPPED,N2/ARGON_UNSTRIPPED_FLAG_W,N2/ARGON_UNSTRIPPED_ERROR,N2/ARGON,N2/ARGON_FLAG_W,N2/ARGON_ERROR,D15N_N2,D15N_N2_FLAG_W,D15N_N2_ERROR,D15N_NO3_ERROR,D15N_NO2+NO3,D15N_NO2+NO3_FLAG_W,D18O_NO2+NO3,D18O_NO2+NO3_FLAG_W,D18O_NO3,D18O_NO3_FLAG_W,TDP,TDP_FLAG_W,N2O_ALT_1,N2O_ALT_1_FLAG_W,D15N_N2O,D15N_N2O_FLAG_W,D18O_N2O,D18O_N2O_FLAG_W,D15N_ALPHA_N2O,D15N_ALPHA_N2O_FLAG_W
,,,,,,,,,,,METERS,DBAR,ITS-90,PSS-78,,PSS-78,,UMOL/KG,,UMOL/KG,,UMOL/KG,,UMOL/KG,,UMOL/KG,,UMOL/KG,,PMOL/KG,,PMOL/KG,,FMOL/KG,,UMOL/KG,,UMOL/KG,,,,DEG C,/MILLE,,/MILLE,,/MILLE,PMOL/KG,,UG/KG,,UMOL/KG,,UMOL/KG,,UG/KG,,NMOL/KG,,/MILLE,,/MILLE,,/MILLE,/MILLE,,,,,,,,/MILLE,,/MILLE,/MILLE,/MILLE,,/MILLE,,/MILLE,,UMOL/KG,,NMOL/L,,/MILLE,,/MILLE,,/MILLE,
33RO20161119,        P18,      50,          1,          1,      11010,2,20161206,       0450,     1.2507,  -109.9999,       3721,  3760.7,   1.4851,  34.6898,2,  34.6902,2,    147.2,2,   147.1,2,   148.8,6,    36.7,6,    0.01,6,   2.475,6,-999.0000,9,-999.0000,9,-999.0000,9,  -999.0,9,  -999.0,9,-999.0000,9,  -999.00, -999.00,9,  -999.0,9,  -999.0,-999.0000,9, -999.00,9,  -999.0,9, -999.00,9, -999.00,9,     -999.0,9, -999.00,9,  -999.0,9,     -999.0,     -999.0,9,     -999.0,9,     -999.0,     -999.0,9,     -999.0,     -999.0,9,     -999.0,     -999.0,     -999.0,9,     -999.0,9,     -999.0,9,     -999.0,9,     -999.0,9,     -999.0,9,     -999.0,9,     -999.0,9
33RO20161119,        P18,      50,          1,          2,      11101,2,20161206,       0450,     1.2507,  -109.9999,       3721,  3400.2,   1.5580,  34.6839,2,  34.6836,2,    141.1,2,   141.1,2,   146.9,6,    37.0,6,    0.01,6,   2.502,6,-999.0000,9,-999.0000,9,-999.0000,9,  -999.0,9,  -999.0,9,-999.0000,9,  -999.00, -999.00,9,  -999.0,9,  -999.0,-999.0000,9, -999.00,9,  -999.0,9, -999.00,9, -999.00,9,     -999.0,9, -999.00,9,  -999.0,9,     -999.0,     -999.0,9,     -999.0,9,     -999.0,     -999.0,9,     -999.0,     -999.0,9,     -999.0,     -999.0,     -999.0,9,     -999.0,9,     -999.0,9,     -999.0,9,     -999.0,9,     -999.0,9,     -999.0,9,     -999.0,9
33RO20161119,        P18,      50,          1,          3,      11102,2,20161206,       0450,     1.2507,  -109.9999,       3721,  3110.6,   1.6783,  34.6754,2,  34.6811,4,    134.0,2,   133.5,2,   144.4,6,    37.4,6,    0.01,6,   2.563,6,-999.0000,9,-999.0000,9,-999.0000,9,  -999.0,9,  -999.0,9,-999.0000,9,  -999.00, -999.00,9,  -999.0,9,  -999.0,-999.0000,9, -999.00,9,  -999.0,9, -999.00,9, -999.00,9,     -999.0,9, -999.00,9,  -999.0,9,     -999.0,     -999.0,9,     -999.0,9,     -999.0,     -999.0,9,     -999.0,     -999.0,9,     -999.0,     -999.0,     -999.0,9,     -999.0,9,     -999.0,9,     -999.0,9,     -999.0,9,     -999.0,9,     -999.0,9,     -999.0,9
33RO20161119,        P18,      50,          1,          4,      11103,2,20161206,       0450,     1.2507,  -109.9999,       3721,  2825.9,   1.7875,  34.6708,2,  34.6724,2,    126.2,2,   125.9,2,   145.3,6,    37.9,6,    0.01,6,   2.598,6,-999.0000,9,-999.0000,9,-999.0000,9,  -999.0,9,  -999.0,9,-999.0000,9,  -999.00, -999.00,9,  -999.0,9,  -999.0,-999.0000,9, -999.00,9,  -999.0,9, -999.00,9, -999.00,9,     -999.0,9, -999.00,9,  -999.0,9,     -999.0,     -999.0,9,     -999.0,9,     -999.0,     -999.0,9,     -999.0,     -999.0,9,     -999.0,     -999.0,     -999.0,9,     -999.0,9,     -999.0,9,     -999.0,9,     -999.0,9,     -999.0,9,     -999.0,9,     -999.0,9
33RO20161119,        P18,      50,          1,          5,      11104,2,20161206,       0450,     1.2507,  -109.9999,       3721,  2530.0,   1.8728,  34.6650,2,  34.6630,2,    121.0,2,   121.8,2,   143.6,2,    38.2,2,    0.01,2,   2.640,2,-999.0000,9,-999.0000,9,-999.0000,9,  -999.0,9,  -999.0,9,-999.0000,9,  -999.00, -999.00,9,  -999.0,9,  -999.0,-999.0000,9, -999.00,9,  -999.0,9, -999.00,9, -999.00,9,     -999.0,9, -999.00,9,  -999.0,9,     -999.0,     -999.0,9,     -999.0,9,     -999.0,     -999.0,9,     -999.0,     -999.0,9,     -999.0,     -999.0,     -999.0,9,     -999.0,9,     -999.0,9,     -999.0,9,     -999.0,9,     -999.0,9,     -999.0,9,     -999.0,9
33RO20161119,        P18,      50,          1,          6,      11105,2,20161206,       0450,     1.2507,  -109.9999,       3721,  2240.2,   2.0445,  34.6541,2,  34.6533,2,    112.6,2,   112.3,2,   140.5,2,    38.9,2,    0.01,2,   2.692,2,-999.0000,9,-999.0000,9,-999.0000,9,  -999.0,9,  -999.0,9,-999.0000,9,  -999.00, -999.00,9,  -999.0,9,  -999.0,-999.0000,9, -999.00,9,  -999.0,9, -999.00,9, -999.00,9,     -999.0,9, -999.00,9,  -999.0,9,     -999.0,     -999.0,9,     -999.0,9,     -999.0,     -999.0,9,     -999.0,     -999.0,9,     -999.0,     -999.0,     -999.0,9,     -999.0,9,     -999.0,9,     -999.0,9,     -999.0,9,     -999.0,9,     -999.0,9,     -999.0,9
33RO20161119,        P18,      50,          1,          7,      11106,2,20161206,       0450,     1.2507,  -109.9999,       3721,  1945.8,   2.4019,  34.6357,2,  34.6401,4,    100.8,2,   100.4,2,   133.9,2,    39.6,2,    0.01,2,   2.771,2,-999.0000,9,-999.0000,9,-999.0000,9,  -999.0,9,  -999.0,9,-999.0000,9,  -999.00, -999.00,9,  -999.0,9,  -999.0,-999.0000,9, -999.00,9,  -999.0,9, -999.00,9, -999.00,9,     -999.0,9, -999.00,9,  -999.0,9,     -999.0,     -999.0,9,     -999.0,9,     -999.0,     -999.0,9,     -999.0,     -999.0,9,     -999.0,     -999.0,     -999.0,9,     -999.0,9,     -999.0,9,     -999.0,9,     -999.0,9,     -999.0,9,     -999.0,9,     -999.0,9
33RO20161119,        P18,      50,          1,          8,      11107,2,20161206,       0450,     1.2507,  -109.9999,       3721,  1655.6,   2.8029,  34.6157,2,  34.6151,2,     93.3,2,    93.1,2,   124.0,2,    40.1,2,    0.01,2,   2.828,2,-999.0000,9,-999.0000,9,-999.0000,9,  -999.0,9,  -999.0,9,-999.0000,9,  -999.00, -999.00,9,  -999.0,9,  -999.0,-999.0000,9, -999.00,9,  -999.0,9, -999.00,9, -999.00,9,     -999.0,9, -999.00,9,  -999.0,9,     -999.0,     -999.0,9,     -999.0,9,     -999.0,     -999.0,9,     -999.0,     -999.0,9,     -999.0,     -999.0,     -999.0,9,     -999.0,9,     -999.0,9,     -999.0,9,     -999.0,9,     -999.0,9,     -999.0,9,     -999.0,9
33RO20161119,        P18,      50,          1,          9,      11108,2,20161206,       0450,     1.2507,  -109.9999,       3721,  1395.7,   3.4554,  34.5930,2,  34.5921,2,     78.2,2,    78.2,2,   111.0,2,    41.0,2,    0.01,2,   2.894,2,   0.0020,2,   0.0010,2,   0.0000,2,  -999.0,9,  -999.0,9,-999.0000,9,  -999.00, -999.00,9,  -999.0,9,  -999.0,   0.0154,2, -999.00,9,  -999.0,9, -999.00,9, -999.00,9,    33.1495,2, -999.00,9,  -999.0,9,     -999.0,     -999.0,9,     -999.0,9,     -999.0,     -999.0,9,     -999.0,     -999.0,9,     -999.0,     -999.0,     -999.0,9,     -999.0,9,     -999.0,9,     -999.0,9,     -999.0,9,     -999.0,9,     -999.0,9,     -999.0,9
33RO20161119,        P18,      50,          1,         10,      11109,2,20161206,       0450,     1.2507,  -109.9999,       3721,  1224.7,   3.8772,  34.5777,2,  34.5776,2,     76.2,2,    58.4,3,   100.7,2,    41.1,2,    0.01,2,   2.898,2,-999.0000,9,-999.0000,9,-999.0000,9,  -999.0,9,  -999.0,9,   7.4434,6,    25.00, -999.00,9,  -999.0,9,  -999.0,-999.0000,9, -999.00,9,  -999.0,9, -999.00,9, -999.00,9,     -999.0,9, -999.00,9,  -999.0,9,     -999.0,     -999.0,9,     -999.0,9,     -999.0,     -999.0,9,     -999.0,     -999.0,9,     -999.0,     -999.0,     -999.0,9,     -999.0,9,     -999.0,9,     -999.0,9,     -999.0,9,     -999.0,9,     -999.0,9,     -999.0,9
33RO20161119,        P18,      50,          1,         11,      11110,2,20161206,       0450,     1.2507,  -109.9999,       3721,  1096.2,   4.5794,  34.5583,2,  34.5573,2,     73.6,2,    72.9,2,    84.6,2,    40.7,2,    0.01,2,   2.871,2,   0.0093,2,   0.0063,2,   0.0292,2,  -999.0,9,  -999.0,9,   7.4419,2,    25.00, -999.00,9,  -999.0,9,  -999.0,   0.0384,2, -999.00,9,  -999.0,9, -999.00,9, -999.00,9,    35.8146,2, -999.00,9,  -999.0,9,     -999.0,     -999.0,9,     -999.0,9,     -999.0,     -999.0,9,     -999.0,     -999.0,9,     -999.0,     -999.0,     -999.0,9,     -999.0,9,     -999.0,9,     -999.0,9,     -999.0,9,     -999.0,9,     -999.0,9,     -999.0,9
33RO20161119,        P18,      50,          1,         12,      11111,2,20161206,       0450,     1.2507,  -109.9999,       3721,   970.6,   5.1538,  34.5489,2,  34.5479,2,     72.5,2,    72.4,2,    72.9,2,    40.3,2,    0.01,2,   2.822,2,-999.0000,9,-999.0000,9,-999.0000,9,  -999.0,9,  -999.0,9,   7.4435,2,    25.00, -999.00,9,  -999.0,9,  -999.0,-999.0000,9, -999.00,9,  -999.0,9, -999.00,9, -999.00,9,     -999.0,9, -999.00,9,  -999.0,9,     -999.0,     -999.0,9,     -999.0,9,     -999.0,     -999.0,9,     -999.0,     -999.0,9,     -999.0,     -999.0,     -999.0,9,     -999.0,9,     -999.0,9,     -999.0,9,     -999.0,9,     -999.0,9,     -999.0,9,     -999.0,9
33RO20161119,        P18,      50,          1,         13,      11112,2,20161206,       0450,     1.2507,  -109.9999,       3721,   850.5,   5.6803,  34.5495,2,  34.5485,2,     67.9,2,    67.8,2,    64.0,2,    40.2,2,    0.01,2,   2.793,2,   0.0397,2,   0.0219,2,   0.0357,2,  2283.3,2,  2330.5,2,   7.4393,2,    25.00, -999.00,9,  -999.0,9,  -999.0,   0.0622,2, -999.00,9,  -999.0,9, -999.00,9, -999.00,9,    39.6272,2, -999.00,9,  -999.0,9,     -999.0,     -999.0,9,     -999.0,9,     -999.0,     -999.0,9,     -999.0,     -999.0,9,     -999.0,     -999.0,     -999.0,9,     -999.0,9,     -999.0,9,     -999.0,9,     -999.0,9,     -999.0,9,     -999.0,9,     -999.0,9
33RO20161119,        P18,      50,          1,         14,      11113,2,20161206,       0450,     1.2507,  -109.9999,       3721,   735.2,   6.0725,  34.5567,2,  34.5675,4,     59.3,2,    59.5,2,    59.6,2,    40.4,2,    0.01,2,   2.825,2,-999.0000,9,-999.0000,9,-999.0000,9,  2283.9,2,  2328.2,2,   7.4275,2,    25.00, -999.00,9,  -999.0,9,  -999.0,-999.0000,9, -999.00,9,  -999.0,9, -999.00,9, -999.00,9,     -999.0,9, -999.00,9,  -999.0,9,     -999.0,     -999.0,9,     -999.0,9,     -999.0,     -999.0,9,     -999.0,     -999.0,9,     -999.0,     -999.0,     -999.0,9,     -999.0,9,     -999.0,9,     -999.0,9,     -999.0,9,     -999.0,9,     -999.0,9,     -999.0,9
33RO20161119,        P18,      50,          1,         15,      11114,2,20161206,       0450,     1.2507,  -109.9999,       3721,   620.1,   7.2034,  34.5831,2,  34.5822,2,     49.4,2,    47.6,2,    47.7,2,    39.7,2,    0.01,2,   2.759,2,   0.1311,2,   0.0725,2,   0.0585,2,  2274.1,2,  2316.3,2,   7.4205,2,    25.00, -999.00,9,  -999.0,9,  -999.0,   0.0711,2, -999.00,9,  -999.0,9, -999.00,9, -999.00,9,    46.6426,2, -999.00,9,  -999.0,9,     -999.0,     -999.0,9,     -999.0,9,     -999.0,     -999.0,9,     -999.0,     -999.0,9,     -999.0,     -999.0,     -999.0,9,     -999.0,9,     -999.0,9,     -999.0,9,     -999.0,9,     -999.0,9,     -999.0,9,     -999.0,9
33RO20161119,        P18,      50,          1,         16,      11115,2,20161206,       0450,     1.2507,  -109.9999,       3721,   510.3,   8.2041,  34.6285,2,  34.6264,2,     29.8,2,    29.9,6,    41.4,2,    39.3,2,    0.02,2,   2.698,2,-999.0000,9,-999.0000,9,-999.0000,9,  2273.6,2,  2308.4,2,   7.3980,2,    25.00, -999.00,9,  -999.0,9,  -999.0,-999.0000,9, -999.00,9,  -999.0,9, -999.00,9, -999.00,9,     -999.0,9, -999.00,9,  -999.0,9,     -999.0,     -999.0,9,     -999.0,9,     -999.0,     -999.0,9,     -999.0,     -999.0,9,     -999.0,     -999.0,     -999.0,9,     -999.0,9,     -999.0,9,     -999.0,9,     -999.0,9,     -999.0,9,     -999.0,9,     -999.0,9
33RO20161119,        P18,      50,          1,         17,      11116,2,20161206,       0450,     1.2507,  -109.9999,       3721,   430.1,   9.5220,  34.7016,2,  34.6990,2,     15.7,2,    15.8,6,    35.7,2,    37.8,2,    0.02,2,   2.605,2,   0.4047,2,   0.2230,2,   0.0905,2,  2271.9,2,  2304.9,2,   7.3927,2,    25.00, -999.00,9,  -999.0,9,  -999.0,    0.101,2, -999.00,9,  -999.0,9, -999.00,9, -999.00,9,    63.1657,2, -999.00,9,  -999.0,9,     -999.0,     -999.0,9,     -999.0,9,     -999.0,     -999.0,9,     -999.0,     -999.0,9,     -999.0,     -999.0,     -999.0,9,     -999.0,9,     -999.0,9,     -999.0,9,     -999.0,9,     -999.0,9,     -999.0,9,     -999.0,9
33RO20161119,        P18,      50,          1,         18,      11117,2,20161206,       0450,     1.2507,  -109.9999,       3721,   315.6,  10.9049,  34.7786,2,  34.7743,2,     19.4,2,    20.2,2,    29.5,2,    34.5,2,    0.02,2,   2.393,2,-999.0000,9,-999.0000,9,-999.0000,9,  2256.3,2,  2300.6,2,   7.4311,2,    25.00, -999.00,9,  -999.0,9,  -999.0,-999.0000,9, -999.00,9,  -999.0,9, -999.00,9, -999.00,9,     -999.0,9, -999.00,9,  -999.0,9,     -999.0,     -999.0,9,     -999.0,9,     -999.0,     -999.0,9,     -999.0,     -999.0,9,     -999.0,     -999.0,     -999.0,9,     -999.0,9,     -999.0,9,     -999.0,9,     -999.0,9,     -999.0,9,     -999.0,9,     -999.0,9
33RO20161119,        P18,      50,          1,         19,      11083,2,20161206,       0450,     1.2507,  -109.9999,       3721,   235.7,  12.0064,  34.8477,2,  34.8475,2,     29.7,2,    31.5,2,    24.9,2,    31.7,2,    0.02,2,   2.188,2,   1.0954,2,   0.6081,2,   0.3002,2,  2240.6,2,  2298.9,2,   7.4837,2,    25.00, -999.00,9,  -999.0,9,  -999.0,   0.1664,2, -999.00,9,  -999.0,9, -999.00,9, -999.00,9,    58.5818,2, -999.00,9,  -999.0,9,     -999.0,     -999.0,9,     -999.0,9,     -999.0,     -999.0,9,     -999.0,     -999.0,9,     -999.0,     -999.0,     -999.0,9,     -999.0,9,     -999.0,9,     -999.0,9,     -999.0,9,     -999.0,9,     -999.0,9,     -999.0,9
33RO20161119,        P18,      50,          1,         20,      11118,2,20161206,       0450,     1.2507,  -109.9999,       3721,   165.6,  12.9138,  34.8974,2,  34.8960,2,     45.1,2,    45.6,2,    21.5,2,    29.1,2,    0.02,2,   2.021,2,-999.0000,9,-999.0000,9,-999.0000,9,  2223.2,2,  2298.4,2,   7.5369,2,    25.00, -999.00,9,  -999.0,9,  -999.0,-999.0000,9, -999.00,9,  -999.0,9, -999.00,9, -999.00,9,     -999.0,9, -999.00,9,  -999.0,9,     -999.0,     -999.0,9,     -999.0,9,     -999.0,     -999.0,9,     -999.0,     -999.0,9,     -999.0,     -999.0,     -999.0,9,     -999.0,9,     -999.0,9,     -999.0,9,     -999.0,9,     -999.0,9,     -999.0,9,     -999.0,9
33RO20161119,        P18,      50,          1,         21,      11119,2,20161206,       0450,     1.2507,  -109.9999,       3721,   100.5,  14.1549,  34.9647,2,  34.9611,2,     81.0,2,    75.1,2,    16.8,2,    24.4,2,    0.03,2,   1.724,2,   1.6641,6,   0.9424,6,   0.6048,6,  2193.8,2,  2302.6,2,   7.6289,2,    25.00, -999.00,9,  -999.0,9,  -999.0,   0.1617,2, -999.00,9,  -999.0,9, -999.00,9, -999.00,9,    40.3737,2, -999.00,9,  -999.0,9,     -999.0,     -999.0,9,     -999.0,9,     -999.0,     -999.0,9,     -999.0,     -999.0,9,     -999.0,     -999.0,     -999.0,9,     -999.0,9,     -999.0,9,     -999.0,9,     -999.0,9,     -999.0,9,     -999.0,9,     -999.0,9
33RO20161119,        P18,      50,          1,         22,      11120,2,20161206,       0450,     1.2507,  -109.9999,       3721,    54.7,  16.7556,  34.9329,2,  34.9475,4,    104.4,2,    90.2,2,    13.1,2,    20.7,2,    0.84,2,   1.550,2,-999.0000,9,-999.0000,9,-999.0000,9,  2169.9,2,  2296.0,2,   7.6841,2,    25.00, -999.00,9,  -999.0,9,  -999.0,-999.0000,9, -999.00,9,  -999.0,9, -999.00,9, -999.00,9,     -999.0,9, -999.00,9,  -999.0,9,     -999.0,     -999.0,9,     -999.0,9,     -999.0,     -999.0,9,     -999.0,     -999.0,9,     -999.0,     -999.0,     -999.0,9,     -999.0,9,     -999.0,9,     -999.0,9,     -999.0,9,     -999.0,9,     -999.0,9,     -999.0,9
33RO20161119,        P18,      50,          1,         23,      11121,2,20161206,       0450,     1.2507,  -109.9999,       3721,    40.3,  21.0427,  34.6445,2,  34.6785,2,    191.1,2,   166.6,2,     6.9,2,    11.7,2,    0.31,2,   1.036,2,-999.0000,9,-999.0000,9,-999.0000,9,  2086.8,2,  2281.5,2,   7.8525,2,    25.00, -999.00,9,  -999.0,9,  -999.0,-999.0000,9, -999.00,9,  -999.0,9, -999.00,9, -999.00,9,     -999.0,9, -999.00,9,  -999.0,9,     -999.0,     -999.0,9,     -999.0,9,     -999.0,     -999.0,9,     -999.0,     -999.0,9,     -999.0,     -999.0,     -999.0,9,     -999.0,9,     -999.0,9,     -999.0,9,     -999.0,9,     -999.0,9,     -999.0,9,     -999.0,9
33RO20161119,        P18,      50,          1,         24,      11122,2,20161206,       0450,     1.2507,  -109.9999,       3721,     3.1,  22.2229,  34.6721,2,  34.6903,2,    205.5,2,   205.9,2,     6.4,2,     9.7,2,    0.18,2,   0.825,2,   1.8778,2,   1.1433,2,   1.3914,2,  2065.3,6,  2281.6,2,   7.8962,2,    25.00, -999.00,9,  -999.0,9,  -999.0,        0,2, -999.00,9,  -999.0,9, -999.00,9, -999.00,9,    12.5827,2, -999.00,9,  -999.0,9,     -999.0,     -999.0,9,     -999.0,9,     -999.0,     -999.0,9,     -999.0,     -999.0,9,     -999.0,     -999.0,     -999.0,9,     -999.0,9,     -999.0,9,     -999.0,9,     -999.0,9,     -999.0,9,     -999.0,9,     -999.0,9