BOTTLE,20230606CCHSIOCBG
EXPOCODE,SECT_ID,STNNBR,CASTNO,SAMPNO,BTLNBR,BTLNBR_FLAG_W,DATE,TIME,LATITUDE,LONGITUDE,DEPTH,CTDPRS,CTDTMP,CTDSAL,CTDSAL_FLAG_W,SALNTY,SALNTY_FLAG_W,CTDOXY,CTDOXY_FLAG_W,OXYGEN,OXYGEN_FLAG_W,SILCAT,SILCAT_FLAG_W,NITRAT,NITRAT_FLAG_W,NITRIT,NITRIT_FLAG_W,PHSPHT,PHSPHT_FLAG_W,CFC-11,CFC-11_FLAG_W,CFC-12,CFC-12_FLAG_W,SF6,SF6_FLAG_W,TCARBN,TCARBN_FLAG_W,ALKALI,ALKALI_FLAG_W,PH_SWS,PH_SWS_FLAG_W,PH_TMP,DELC13,DELC13_FLAG_W,DELC14,DELC14_FLAG_W,C14ERR,CCL4,CCL4_FLAG_W,POC,POC_FLAG_W,DOC,DOC_FLAG_W,TDN,TDN_FLAG_W,PON,PON_FLAG_W,N2O,N2O_FLAG_W,D15N_NO3,D15N_NO3_FLAG_W,14C-DOC,14C-DOC_FLAG_W,14C-DOCERR,13C-DOC,13C-DOC_FLAG_W,N2/ARGON_UNSTRIPPED,N2/ARGON_UNSTRIPPED_FLAG_W,N2/ARGON_UNSTRIPPED_ERROR,N2/ARGON,N2/ARGON_FLAG_W,N2/ARGON_ERROR,D15N_N2,D15N_N2_FLAG_W,D15N_N2_ERROR,D15N_NO3_ERROR,D15N_NO2+NO3,D15N_NO2+NO3_FLAG_W,D18O_NO2+NO3,D18O_NO2+NO3_FLAG_W,D18O_NO3,D18O_NO3_FLAG_W,TDP,TDP_FLAG_W,N2O_ALT_1,N2O_ALT_1_FLAG_W,D15N_N2O,D15N_N2O_FLAG_W,D18O_N2O,D18O_N2O_FLAG_W,D15N_ALPHA_N2O,D15N_ALPHA_N2O_FLAG_W
,,,,,,,,,,,METERS,DBAR,ITS-90,PSS-78,,PSS-78,,UMOL/KG,,UMOL/KG,,UMOL/KG,,UMOL/KG,,UMOL/KG,,UMOL/KG,,PMOL/KG,,PMOL/KG,,FMOL/KG,,UMOL/KG,,UMOL/KG,,,,DEG C,/MILLE,,/MILLE,,/MILLE,PMOL/KG,,UG/KG,,UMOL/KG,,UMOL/KG,,UG/KG,,NMOL/KG,,/MILLE,,/MILLE,,/MILLE,/MILLE,,,,,,,,/MILLE,,/MILLE,/MILLE,/MILLE,,/MILLE,,/MILLE,,UMOL/KG,,NMOL/L,,/MILLE,,/MILLE,,/MILLE,
33RO20161119,        P18,       8,          1,          1,      11010,4,20161126,       0013,    20.5008,  -109.9990,       3110,  3159.8,   1.7078,  34.6711,2,  34.6707,2,    113.9,2,   114.1,2,   161.3,6,    38.6,6,    0.02,6,   2.679,6,   0.0083,4,   0.0064,4,   0.0046,4,  2355.4,2,  2431.3,2,   7.5169,2,    25.00, -999.00,9,  -999.0,9,  -999.0,   0.0544,4, -999.00,9,  -999.0,9, -999.00,9, -999.00,9,    22.6758,4, -999.00,9,  -999.0,9,     -999.0,     -999.0,9,      37.85,2,     -999.0,      37.85,2,     -999.0,       1.05,2,       0.04,     -999.0,     -999.0,9,     -999.0,9,     -999.0,9,     -999.0,9,21.45318305,2,        8.9,2,      54.99,2,      24.44,2
33RO20161119,        P18,       8,          1,          2,      11101,4,20161126,       0013,    20.5008,  -109.9990,       3110,  2614.2,   1.7647,  34.6653,2,  34.6648,2,    109.0,2,   109.5,2,   158.0,6,    38.9,6,    0.01,6,   2.709,6,   0.0048,4,   0.0030,4,   0.0770,4,  2358.1,2,  2428.8,6,   7.5066,2,    25.00, -999.00,9,  -999.0,9,  -999.0,  -0.0008,4, -999.00,9,  -999.0,9, -999.00,9, -999.00,9,    23.6733,4, -999.00,9,  -999.0,9,     -999.0,     -999.0,9,      37.89,2,       0.16,       37.9,2,       0.17,     -999.0,9,     -999.0,     -999.0,     -999.0,9,     -999.0,9,     -999.0,9,     -999.0,9,20.08049514,2,       9.02,2,      56.18,2,       24.3,2
33RO20161119,        P18,       8,          1,          3,      11102,4,20161126,       0013,    20.5008,  -109.9990,       3110,  2140.9,   2.0231,  34.6480,2,  34.6469,2,     90.7,2,    90.0,2,   153.7,6,    40.1,6,    0.01,6,   2.818,6,   0.0042,4,   0.0020,4,   0.0159,4,  2364.1,2,  2412.9,4,   7.4711,2,    25.00, -999.00,9,  -999.0,9,  -999.0,   0.0062,4, -999.00,9,  -999.0,9, -999.00,9, -999.00,9,    27.1032,4, -999.00,9,  -999.0,9,     -999.0,     -999.0,9,      37.76,2,     -999.0,      37.79,2,     -999.0,       1.06,2,       0.03,     -999.0,     -999.0,9,     -999.0,9,     -999.0,9,     -999.0,9,     -999.0,9,      11.57,2,      61.32,2,      20.59,2
33RO20161119,        P18,       8,          1,          4,      11103,4,20161126,       0013,    20.5008,  -109.9990,       3110,  1641.2,   2.8116,  34.6092,2,  34.6077,2,     52.3,2,    49.8,2,   141.0,6,    42.4,6,    0.01,6,   3.076,6,   0.0135,4,   0.0038,4,   0.0342,4,  2374.4,2,  2432.9,4,   7.3961,4,    25.00, -999.00,9,  -999.0,9,  -999.0,   0.0194,4, -999.00,9,  -999.0,9, -999.00,9, -999.00,9,    34.9902,4, -999.00,9,  -999.0,9,     -999.0,     -999.0,9,      37.91,2,       0.03,      37.94,2,       0.07,     -999.0,9,     -999.0,     -999.0,     -999.0,9,     -999.0,9,     -999.0,9,     -999.0,9,34.85684114,2,      10.17,2,      56.91,2,      16.84,2
33RO20161119,        P18,       8,          1,          5,      11104,4,20161126,       0013,    20.5008,  -109.9990,       3110,  1174.7,   3.8959,  34.5582,2,  34.5602,2,     20.9,2,    22.6,2,   117.7,2,    44.4,2,    0.01,2,   3.307,2,   0.0117,4,   0.0042,4,   0.0187,4,  2369.3,2,  2381.0,2,   7.3336,2,    25.00, -999.00,9,  -999.0,9,  -999.0,   0.0173,4, -999.00,9,  -999.0,9, -999.00,9, -999.00,9,    45.8257,4, -999.00,9,  -999.0,9,     -999.0,     -999.0,9,      37.79,2,     -999.0,       37.8,2,     -999.0,       1.03,2,       0.02,     -999.0,     -999.0,9,     -999.0,9,     -999.0,9,     -999.0,9,     -999.0,9,       8.82,2,       53.2,2,      20.99,2
33RO20161119,        P18,       8,          1,          6,      11105,4,20161126,       0013,    20.5008,  -109.9990,       3110,  1050.5,   4.2683,  34.5486,2,  34.5481,2,     12.9,2,    13.2,2,   109.5,2,    44.8,2,    0.01,2,   3.339,2,   0.0101,4,   0.0038,4,   0.0169,4,  2368.0,3,  2374.3,2,   7.3204,2,    25.00, -999.00,9,  -999.0,9,  -999.0,   0.0158,4, -999.00,9,  -999.0,9, -999.00,9, -999.00,9,     49.511,4, -999.00,9,  -999.0,9,     -999.0,     -999.0,9,      37.86,2,       0.14,      37.88,2,       0.14,     -999.0,9,     -999.0,     -999.0,     -999.0,9,     -999.0,9,     -999.0,9,     -999.0,9,     -999.0,9,     -999.0,9,     -999.0,9,     -999.0,9
33RO20161119,        P18,       8,          1,          7,      11106,4,20161126,       0013,    20.5008,  -109.9990,       3110,   925.2,   4.8091,  34.5285,2,  34.6705,4,      6.8,2,   114.7,4,   161.4,4,    38.7,4,    0.01,4,   2.671,4,   0.0084,4,   0.0072,4,   0.0443,4,  2361.6,4,  2406.5,4,   7.5142,4,    25.00, -999.00,9,  -999.0,9,  -999.0,   0.0069,4, -999.00,9,  -999.0,9, -999.00,9, -999.00,9,    22.7782,4, -999.00,9,  -999.0,9,     -999.0,     -999.0,9,      37.93,2,     -999.0,      37.92,2,     -999.0,       1.09,2,       0.01,     -999.0,     -999.0,9,     -999.0,9,     -999.0,9,     -999.0,9,22.70566309,2,       9.37,2,      54.05,2,       18.5,2
33RO20161119,        P18,       8,          1,          8,      11107,4,20161126,       0013,    20.5008,  -109.9990,       3110,   871.0,   5.0049,  34.5195,2,  34.6647,4,      5.9,2,   109.2,4,   158.0,4,    38.9,4,    0.01,4,   2.715,4,   0.0060,4,   0.0036,4,  -0.0135,4,  2361.8,4,  2427.0,4,   7.5089,4,    25.00, -999.00,9,  -999.0,9,  -999.0,   0.0107,4, -999.00,9,  -999.0,9, -999.00,9, -999.00,9,    23.6361,4, -999.00,9,  -999.0,9,     -999.0,     -999.0,9,      37.72,2,       0.08,      37.74,2,       0.07,     -999.0,9,     -999.0,     -999.0,     -999.0,9,     -999.0,9,     -999.0,9,     -999.0,9,21.66253122,2,        9.1,2,      53.92,2,      22.84,2
33RO20161119,        P18,       8,          1,          9,      11108,4,20161126,       0013,    20.5008,  -109.9990,       3110,   815.2,   5.2563,  34.5186,2,  34.6474,4,      4.5,2,    62.4,4,   153.6,4,    40.2,4,    0.01,4,   2.819,4,   0.0045,4,   0.0028,4,   0.0256,4,  2368.9,4,  2420.3,4,   7.4717,4,    25.00, -999.00,9,  -999.0,9,  -999.0,   -0.013,4, -999.00,9,  -999.0,9, -999.00,9, -999.00,9,    26.8256,4, -999.00,9,  -999.0,9,     -999.0,     -999.0,9,       37.9,2,     -999.0,      37.92,2,     -999.0,       1.08,2,       0.01,     -999.0,     -999.0,9,     -999.0,9,     -999.0,9,     -999.0,9,26.54082267,2,       9.22,2,      56.55,2,      20.87,2
33RO20161119,        P18,       8,          1,         10,      11109,4,20161126,       0013,    20.5008,  -109.9990,       3110,   714.2,   5.8520,  34.5075,2,  34.6097,4,      3.5,2,    52.4,4,   141.0,4,    42.5,4,    0.01,4,   3.090,4,   0.0131,4,   0.0041,4,   0.0152,4,  2372.3,4,  2404.0,4,   7.3941,4,    25.00, -999.00,9,  -999.0,9,  -999.0,   0.0098,4, -999.00,9,  -999.0,9, -999.00,9, -999.00,9,    34.5277,4, -999.00,9,  -999.0,9,     -999.0,     -999.0,9,      37.93,2,       0.07,      37.93,2,       0.06,     -999.0,9,     -999.0,     -999.0,     -999.0,9,     -999.0,9,     -999.0,9,     -999.0,9,34.86459081,2,       9.12,2,      53.74,2,      23.74,2
33RO20161119,        P18,       8,          1,         11,      11110,4,20161126,       0013,    20.5008,  -109.9990,       3110,   620.7,   6.6848,  34.5060,2,  34.5591,4,      2.7,2,    20.3,4,   117.6,4,    44.4,4,    0.02,4,   3.308,4,   0.0103,4,   0.0034,4,   0.0046,4,  2374.5,4,  2379.9,4,   7.3306,4,    25.00, -999.00,9,  -999.0,9,  -999.0,   0.0128,4, -999.00,9,  -999.0,9, -999.00,9, -999.00,9,    45.6564,4, -999.00,9,  -999.0,9,     -999.0,     -999.0,9,      37.97,2,     -999.0,       38.0,2,     -999.0,       1.02,2,       0.02,     -999.0,     -999.0,9,     -999.0,9,     -999.0,9,     -999.0,9,45.36221102,2,       8.26,2,      53.34,2,        4.4,2
33RO20161119,        P18,       8,          1,         12,      11111,4,20161126,       0013,    20.5008,  -109.9990,       3110,   525.8,   7.3176,  34.5117,2,  34.5489,4,      2.7,2,    12.5,3,   109.6,4,    44.7,4,    0.02,4,   3.333,4,   0.0097,4,   0.0034,4,   0.0037,4,  2368.5,4,  2373.3,4,   7.3166,4,    25.00, -999.00,9,  -999.0,9,  -999.0,  -0.0034,4, -999.00,9,  -999.0,9, -999.00,9, -999.00,9,     49.523,4, -999.00,9,  -999.0,9,     -999.0,     -999.0,9,      37.96,2,       0.09,      37.99,2,       0.09,     -999.0,9,     -999.0,     -999.0,     -999.0,9,     -999.0,9,     -999.0,9,     -999.0,9,50.36958908,2,       8.23,2,       52.5,2,      20.64,2
33RO20161119,        P18,       8,          1,         13,      11112,4,20161126,       0013,    20.5008,  -109.9990,       3110,   436.0,   8.4594,  34.5568,2,  34.6709,4,      2.4,2,   113.8,4,   161.4,4,    38.6,4,    0.02,4,   2.674,4,   0.0082,4,   0.0070,4,  -0.0165,4,  2359.7,4,  2428.4,4,   7.5152,4,    25.00, -999.00,9,  -999.0,9,  -999.0,   -0.001,4, -999.00,9,  -999.0,9, -999.00,9, -999.00,9,    22.7789,4, -999.00,9,  -999.0,9,     -999.0,     -999.0,9,      37.88,2,     -999.0,      37.91,2,     -999.0,       1.09,2,        0.0,     -999.0,     -999.0,9,     -999.0,9,     -999.0,9,     -999.0,9,23.21633814,2,       9.51,2,      51.88,2,      21.69,2
33RO20161119,        P18,       8,          1,         14,      11113,4,20161126,       0013,    20.5008,  -109.9990,       3110,   351.2,   9.5108,  34.5799,2,  34.6656,4,      3.1,2,   108.5,4,   158.3,4,    38.9,4,    0.02,4,   2.714,4,   0.0049,4,   0.0039,4,  -0.0120,4,  2358.9,4,  2426.6,4,   7.5012,4,    25.00, -999.00,9,  -999.0,9,  -999.0,   0.0054,4, -999.00,9,  -999.0,9, -999.00,9, -999.00,9,    23.2925,4, -999.00,9,  -999.0,9,     -999.0,     -999.0,9,      37.73,2,       0.08,      37.75,2,       0.04,     -999.0,9,     -999.0,     -999.0,     -999.0,9,     -999.0,9,     -999.0,9,     -999.0,9,31.27181989,2,      10.25,2,       55.7,2,      23.33,2
33RO20161119,        P18,       8,          1,         15,      11114,4,20161126,       0013,    20.5008,  -109.9990,       3110,   269.5,  10.8655,  34.6686,2,  34.6491,4,      2.6,2,    90.5,4,   153.8,4,    40.2,4,    0.02,4,   2.820,4,   0.0044,4,   0.0030,4,   0.0333,4,  2364.2,4,  2421.1,4,   7.4690,4,    25.00, -999.00,9,  -999.0,9,  -999.0,   0.0105,4, -999.00,9,  -999.0,9, -999.00,9, -999.00,9,    26.9346,4, -999.00,9,  -999.0,9,     -999.0,     -999.0,9,      37.86,2,     -999.0,      37.87,2,     -999.0,       1.07,2,        0.0,     -999.0,     -999.0,9,     -999.0,9,     -999.0,9,     -999.0,9,35.06554617,2,      10.18,2,      55.35,2,      18.59,2
33RO20161119,        P18,       8,          1,         16,      11115,4,20161126,       0013,    20.5008,  -109.9990,       3110,   230.5,  11.4754,  34.7030,2,  34.6082,4,      3.1,2,    52.9,4,   141.2,4,    42.8,4,    0.02,4,   3.086,4,   0.0145,4,   0.0044,4,  -0.0399,4,  2375.6,4,  2403.4,4,   7.3934,4,    25.00, -999.00,9,  -999.0,9,  -999.0,  -0.0109,4, -999.00,9,  -999.0,9, -999.00,9, -999.00,9,    34.4068,4, -999.00,9,  -999.0,9,     -999.0,     -999.0,9,      37.81,2,       0.05,       37.8,2,       0.04,     -999.0,9,     -999.0,     -999.0,     -999.0,9,     -999.0,9,     -999.0,9,     -999.0,9,34.35035566,2,        9.4,2,      54.72,2,      20.35,2
33RO20161119,        P18,       8,          1,         17,      11116,4,20161126,       0013,    20.5008,  -109.9990,       3110,   190.7,  12.1003,  34.7325,2,  34.5589,4,      2.9,2,    21.0,4,   117.5,4,    44.4,4,    0.01,4,   3.290,4,   0.0144,4,   0.0053,4,   0.0337,4,  2368.1,4,  2378.3,4,   7.3324,4,    25.00, -999.00,9,  -999.0,9,  -999.0,   0.0131,4, -999.00,9,  -999.0,9, -999.00,9, -999.00,9,    46.1517,4, -999.00,9,  -999.0,9,     -999.0,     -999.0,9,      37.94,2,     -999.0,      37.91,2,     -999.0,       1.02,2,        0.0,     -999.0,     -999.0,9,     -999.0,9,     -999.0,9,     -999.0,9,45.27896151,2,        8.8,2,      54.22,2,      21.23,2
33RO20161119,        P18,       8,          1,         18,      11117,4,20161126,       0013,    20.5008,  -109.9990,       3110,   150.6,  13.1204,  34.7499,2,  34.5473,4,      4.0,2,    12.8,4,   109.8,4,    44.8,4,    0.01,4,   3.335,4,   0.0097,4,   0.0039,4,   0.0189,4,  2363.9,4,  2372.0,4,   7.3158,4,    25.00, -999.00,9,  -999.0,9,  -999.0,  -0.0078,4, -999.00,9,  -999.0,9, -999.00,9, -999.00,9,    49.1197,4, -999.00,9,  -999.0,9,     -999.0,     -999.0,9,      37.97,2,       0.06,      37.96,2,       0.06,     -999.0,9,     -999.0,     -999.0,     -999.0,9,     -999.0,9,     -999.0,9,     -999.0,9,49.37068824,2,       8.57,2,      54.07,2,      21.71,2
33RO20161119,        P18,       8,          1,         19,      11083,4,20161126,       0013,    20.5008,  -109.9990,       3110,   120.4,  14.1877,  34.6563,2,  34.5587,4,     14.6,2,     3.4,3,    55.3,4,    31.0,4,    0.02,4,   3.000,4,   0.1723,4,   0.0995,4,   0.0410,4,  2306.3,4,  2317.5,4,   7.3353,4,    25.00, -999.00,9,  -999.0,9,  -999.0,   0.1401,4, -999.00,9,  -999.0,9, -999.00,9, -999.00,9,    29.1646,4, -999.00,9,  -999.0,9,     -999.0,     -999.0,9,       38.2,2,     -999.0,      38.19,2,     -999.0,       0.78,2,       0.01,     -999.0,     -999.0,9,     -999.0,9,     -999.0,9,     -999.0,9,38.34280501,2,      11.16,2,      60.22,2,      16.12,2
33RO20161119,        P18,       8,          1,         20,      11118,4,20161126,       0013,    20.5008,  -109.9990,       3110,    90.2,  15.5115,  34.5228,2,  34.5807,4,     32.7,2,     3.1,3,    45.5,4,    28.3,4,    0.02,4,   2.867,4,   0.3681,4,   0.2059,4,   0.1016,4,  2295.1,4,  2307.6,4,   7.3443,4,    25.00, -999.00,9,  -999.0,9,  -999.0,   0.0621,4, -999.00,9,  -999.0,9, -999.00,9, -999.00,9,    29.8509,4, -999.00,9,  -999.0,9,     -999.0,     -999.0,9,       37.6,2,       0.14,       37.8,2,       0.04,     -999.0,9,     -999.0,     -999.0,     -999.0,9,     -999.0,9,     -999.0,9,     -999.0,9,31.45143815,2,      12.43,2,      59.59,2,      32.32,2
33RO20161119,        P18,       8,          1,         21,      11119,4,20161126,       0013,    20.5008,  -109.9990,       3110,    64.9,  19.1913,  34.4882,2,  34.6681,4,     85.5,2,     2.4,4,    37.1,4,    24.5,4,    0.02,4,   2.725,4,   0.5872,4,   0.3392,4,   0.1403,4,  2286.1,4,  2301.4,4,   7.3672,4,    25.00, -999.00,9,  -999.0,9,  -999.0,   0.0695,4, -999.00,9,  -999.0,9, -999.00,9, -999.00,9,    16.0869,4, -999.00,9,  -999.0,9,     -999.0,     -999.0,9,      37.55,2,     -999.0,      37.62,2,     -999.0,       0.67,2,        0.0,     -999.0,     -999.0,9,     -999.0,9,     -999.0,9,     -999.0,9,11.44230211,2,      13.61,2,      62.72,2,      26.22,2
33RO20161119,        P18,       8,          1,         22,      11120,4,20161126,       0013,    20.5008,  -109.9990,       3110,    50.2,  21.9859,  34.3058,2,  34.3319,4,    219.6,2,   158.4,4,     4.0,4,     2.2,4,    0.13,4,   0.733,4,   1.9510,4,   1.1759,4,   1.4490,4,  2087.6,4,  2280.3,4,   7.8545,4,    25.00, -999.00,9,  -999.0,9,  -999.0,   0.8655,4, -999.00,9,  -999.0,9, -999.00,9, -999.00,9,    29.0963,4, -999.00,9,  -999.0,9,     -999.0,     -999.0,9,      37.62,2,     -999.0,      37.58,2,     -999.0,     -999.0,9,     -999.0,     -999.0,     -999.0,9,     -999.0,9,     -999.0,9,     -999.0,9, 20.6351084,2,       5.74,2,      47.87,2,      11.57,2
33RO20161119,        P18,       8,          1,         23,      11121,4,20161126,       0013,    20.5008,  -109.9990,       3110,     3.4,  27.9321,  34.3152,2,  34.7345,4,    194.0,2,     2.5,4,    32.2,4,    24.1,4,    0.02,4,   2.666,4,   0.9111,4,   0.5357,4,   0.2910,4,  2274.7,4,  2302.5,4,   7.3920,4,    25.00, -999.00,9,  -999.0,9,  -999.0,   0.0534,4, -999.00,9,  -999.0,9, -999.00,9, -999.00,9,    18.3084,4, -999.00,9,  -999.0,9,     -999.0,     -999.0,9,      38.53,2,     -999.0,      38.46,2,     -999.0,       0.65,2,       0.03,     -999.0,     -999.0,9,     -999.0,9,     -999.0,9,     -999.0,9,17.62846722,2,      13.91,2,      57.98,2,      19.63,2
33RO20161119,        P18,       8,          1,         24,      11122,4,20161126,       0013,    20.5008,  -109.9990,       3110,     3.1,  27.9325,  34.3211,2,  34.7492,4,    194.0,2,     3.0,4,    29.6,3,    23.8,3,    0.02,3,   2.611,3,   1.1598,4,   0.6901,4,   0.4197,4,  2273.4,4,  2303.7,4,   7.4079,4,    25.00, -999.00,9,  -999.0,9,  -999.0,   0.0341,4, -999.00,9,  -999.0,9, -999.00,9, -999.00,9,    24.9515,4, -999.00,9,  -999.0,9,     -999.0,     -999.0,9,      38.37,2,     -999.0,     -999.0,9,     -999.0,     -999.0,9,     -999.0,     -999.0,     -999.0,9,     -999.0,9,     -999.0,9,     -999.0,9,22.64886516,2,       8.82,2,      54.57,2,      17.65,2