BOTTLE,20230606CCHSIOCBG
EXPOCODE,SECT_ID,STNNBR,CASTNO,SAMPNO,BTLNBR,BTLNBR_FLAG_W,DATE,TIME,LATITUDE,LONGITUDE,DEPTH,CTDPRS,CTDTMP,CTDSAL,CTDSAL_FLAG_W,SALNTY,SALNTY_FLAG_W,CTDOXY,CTDOXY_FLAG_W,OXYGEN,OXYGEN_FLAG_W,SILCAT,SILCAT_FLAG_W,NITRAT,NITRAT_FLAG_W,NITRIT,NITRIT_FLAG_W,PHSPHT,PHSPHT_FLAG_W,CFC-11,CFC-11_FLAG_W,CFC-12,CFC-12_FLAG_W,SF6,SF6_FLAG_W,TCARBN,TCARBN_FLAG_W,ALKALI,ALKALI_FLAG_W,PH_SWS,PH_SWS_FLAG_W,PH_TMP,DELC13,DELC13_FLAG_W,DELC14,DELC14_FLAG_W,C14ERR,CCL4,CCL4_FLAG_W,POC,POC_FLAG_W,DOC,DOC_FLAG_W,TDN,TDN_FLAG_W,PON,PON_FLAG_W,N2O,N2O_FLAG_W,D15N_NO3,D15N_NO3_FLAG_W,14C-DOC,14C-DOC_FLAG_W,14C-DOCERR,13C-DOC,13C-DOC_FLAG_W,N2/ARGON_UNSTRIPPED,N2/ARGON_UNSTRIPPED_FLAG_W,N2/ARGON_UNSTRIPPED_ERROR,N2/ARGON,N2/ARGON_FLAG_W,N2/ARGON_ERROR,D15N_N2,D15N_N2_FLAG_W,D15N_N2_ERROR,D15N_NO3_ERROR,D15N_NO2+NO3,D15N_NO2+NO3_FLAG_W,D18O_NO2+NO3,D18O_NO2+NO3_FLAG_W,D18O_NO3,D18O_NO3_FLAG_W,TDP,TDP_FLAG_W,N2O_ALT_1,N2O_ALT_1_FLAG_W,D15N_N2O,D15N_N2O_FLAG_W,D18O_N2O,D18O_N2O_FLAG_W,D15N_ALPHA_N2O,D15N_ALPHA_N2O_FLAG_W
,,,,,,,,,,,METERS,DBAR,ITS-90,PSS-78,,PSS-78,,UMOL/KG,,UMOL/KG,,UMOL/KG,,UMOL/KG,,UMOL/KG,,UMOL/KG,,PMOL/KG,,PMOL/KG,,FMOL/KG,,UMOL/KG,,UMOL/KG,,,,DEG C,/MILLE,,/MILLE,,/MILLE,PMOL/KG,,UG/KG,,UMOL/KG,,UMOL/KG,,UG/KG,,NMOL/KG,,/MILLE,,/MILLE,,/MILLE,/MILLE,,,,,,,,/MILLE,,/MILLE,/MILLE,/MILLE,,/MILLE,,/MILLE,,UMOL/KG,,NMOL/L,,/MILLE,,/MILLE,,/MILLE,
33RO20161119,        P18,     149,          1,          1,      11010,2,20170109,       1347,   -40.5001,  -103.0003,       3896,  3928.8,   1.2245,  34.7079,2,  34.7085,2,    190.3,2,   191.6,2,   122.5,2,    33.0,2,    0.01,2,   2.302,2,   0.0019,2,   0.0016,2,   0.0000,2,  2280.6,6,  2382.9,2,   7.6039,2,    25.00, -999.00,9,  -999.0,9,  -999.0,   0.7279,2, -999.00,9,    39.2,2,   34.40,2, -999.00,9,    19.3876,2, -999.00,9,  -999.0,9,     -999.0,     -999.0,9,     -999.0,9,     -999.0,     -999.0,9,     -999.0,     -999.0,9,     -999.0,     -999.0,     -999.0,9,     -999.0,9,     -999.0,9,     -999.0,9,     -999.0,9,     -999.0,9,     -999.0,9,     -999.0,9
33RO20161119,        P18,     149,          1,          2,      11101,2,20170109,       1347,   -40.5001,  -103.0003,       3896,  3611.5,   1.3216,  34.7070,2,  34.7056,2,    185.9,2,   186.1,2,   119.8,2,    33.2,2,    0.01,2,   2.318,2,-999.0000,9,-999.0000,9,-999.0000,9,  2281.6,2,  2381.1,2,   7.6075,2,    25.00, -999.00,9,  -999.0,9,  -999.0,-999.0000,9, -999.00,9,    48.4,4,   35.40,2, -999.00,9,     -999.0,9, -999.00,9,  -999.0,9,     -999.0,     -999.0,9,     -999.0,9,     -999.0,     -999.0,9,     -999.0,     -999.0,9,     -999.0,     -999.0,     -999.0,9,     -999.0,9,     -999.0,9,     -999.0,9,     -999.0,9,     -999.0,9,     -999.0,9,     -999.0,9
33RO20161119,        P18,     149,          1,          3,      11102,2,20170109,       1347,   -40.5001,  -103.0003,       3896,  3296.0,   1.5991,  34.7036,2,  34.7036,2,    177.5,2,   178.9,2,   114.6,6,    33.5,6,    0.00,6,   2.323,6,-999.0000,9,-999.0000,9,-999.0000,9,  2282.5,2,  2379.6,2,   7.5959,2,    25.00, -999.00,9,  -999.0,9,  -999.0,-999.0000,9, -999.00,9,    40.2,2,   35.40,2, -999.00,9,     -999.0,9, -999.00,9,  -999.0,9,     -999.0,     -999.0,9,     -999.0,9,     -999.0,     -999.0,9,     -999.0,     -999.0,9,     -999.0,     -999.0,     -999.0,9,     -999.0,9,     -999.0,9,     -999.0,9,     -999.0,9,     -999.0,9,     -999.0,9,     -999.0,9
33RO20161119,        P18,     149,          1,          4,      11103,2,20170109,       1347,   -40.5001,  -103.0003,       3896,  2975.2,   1.7243,  34.6986,2,  34.6957,2,    172.1,2,   172.2,2,   112.0,6,    33.7,6,    0.01,6,   2.345,6,-999.0000,9,-999.0000,9,-999.0000,9,  2284.9,2,  2376.3,2,   7.5907,2,    25.00, -999.00,9,  -999.0,9,  -999.0,-999.0000,9, -999.00,9,    40.5,2,   36.00,2, -999.00,9,     -999.0,9, -999.00,9,  -999.0,9,     -999.0,     -999.0,9,     -999.0,9,     -999.0,     -999.0,9,     -999.0,     -999.0,9,     -999.0,     -999.0,     -999.0,9,     -999.0,9,     -999.0,9,     -999.0,9,     -999.0,9,     -999.0,9,     -999.0,9,     -999.0,9
33RO20161119,        P18,     149,          1,          5,      11104,2,20170109,       1347,   -40.5001,  -103.0003,       3896,  2692.4,   1.7838,  34.6923,2,  34.6914,2,    168.1,2,   168.1,2,   111.8,6,    34.0,6,    0.00,6,   2.362,6,-999.0000,9,-999.0000,9,-999.0000,9,  2287.1,2,  2377.2,2,   7.5830,2,    25.00, -999.00,9,  -999.0,9,  -999.0,-999.0000,9, -999.00,9,    38.1,2,   35.00,2, -999.00,9,     -999.0,9, -999.00,9,  -999.0,9,     -999.0,     -999.0,9,     -999.0,9,     -999.0,     -999.0,9,     -999.0,     -999.0,9,     -999.0,     -999.0,     -999.0,9,     -999.0,9,     -999.0,9,     -999.0,9,     -999.0,9,     -999.0,9,     -999.0,9,     -999.0,9
33RO20161119,        P18,     149,          1,          6,      11105,2,20170109,       1347,   -40.5001,  -103.0003,       3896,  2360.3,   1.9148,  34.6873,2,  34.6853,2,    167.0,2,   166.8,2,   105.8,6,    33.8,6,    0.00,6,   2.368,6,   0.0352,6,   0.0166,6,   0.0406,6,  2282.7,2,  2370.6,2,   7.5762,2,    25.00, -999.00,9,  -999.0,9,  -999.0,   1.4092,2, -999.00,9,    39.0,2,   35.00,2, -999.00,9,    21.4007,2, -999.00,9,  -999.0,9,     -999.0,     -999.0,9,     -999.0,9,     -999.0,     -999.0,9,     -999.0,     -999.0,9,     -999.0,     -999.0,     -999.0,9,     -999.0,9,     -999.0,9,     -999.0,9,     -999.0,9,     -999.0,9,     -999.0,9,     -999.0,9
33RO20161119,        P18,     149,          1,          7,      11106,2,20170109,       1347,   -40.5001,  -103.0003,       3896,  2060.4,   2.1772,  34.6602,2,  34.6831,4,    164.9,2,   165.1,2,    94.5,2,    33.9,2,    0.00,2,   2.359,2,-999.0000,9,-999.0000,9,-999.0000,9,  2273.9,2,  2357.1,2,   7.5663,2,    25.00, -999.00,9,  -999.0,9,  -999.0,-999.0000,9, -999.00,9,    37.7,2,   35.40,2, -999.00,9,     -999.0,9, -999.00,9,  -999.0,9,     -999.0,     -999.0,9,     -999.0,9,     -999.0,     -999.0,9,     -999.0,     -999.0,9,     -999.0,     -999.0,     -999.0,9,     -999.0,9,     -999.0,9,     -999.0,9,     -999.0,9,     -999.0,9,     -999.0,9,     -999.0,9
33RO20161119,        P18,     149,          1,          8,      11107,2,20170109,       1347,   -40.5001,  -103.0003,       3896,  1752.1,   2.4606,  34.5925,2,  34.5909,2,    158.0,2,   158.4,2,    85.5,2,    35.0,2,    0.01,2,   2.420,2,-999.0000,9,-999.0000,9,-999.0000,9,  2270.8,2,  2349.9,2,   7.5533,2,    25.00, -999.00,9,  -999.0,9,  -999.0,-999.0000,9, -999.00,9,    39.6,2,   36.40,2, -999.00,9,     -999.0,9, -999.00,9,  -999.0,9,     -999.0,     -999.0,9,     -999.0,9,     -999.0,     -999.0,9,     -999.0,     -999.0,9,     -999.0,     -999.0,     -999.0,9,     -999.0,9,     -999.0,9,     -999.0,9,     -999.0,9,     -999.0,9,     -999.0,9,     -999.0,9
33RO20161119,        P18,     149,          1,          9,      11108,2,20170109,       1347,   -40.5001,  -103.0003,       3896,  1475.4,   2.9296,  34.5080,2,  34.5080,2,    151.2,2,   151.1,2,    72.9,2,    36.1,2,    0.01,2,   2.513,2,   0.1425,2,   0.0714,2,   0.0000,2,  2264.4,2,  2337.3,2,   7.5341,6,    25.00, -999.00,9,  -999.0,9,  -999.0,   2.4192,2, -999.00,9,    40.0,2,   37.40,2, -999.00,9,    24.9555,2, -999.00,9,  -999.0,9,     -999.0,     -999.0,9,     -999.0,9,     -999.0,     -999.0,9,     -999.0,     -999.0,9,     -999.0,     -999.0,     -999.0,9,     -999.0,9,     -999.0,9,     -999.0,9,     -999.0,9,     -999.0,9,     -999.0,9,     -999.0,9
33RO20161119,        P18,     149,          1,         10,      11109,2,20170109,       1347,   -40.5001,  -103.0003,       3896,  1306.8,   3.2479,  34.4421,2,  34.4432,2,    157.6,2,   157.1,2,    60.7,2,    35.8,2,    0.00,2,   2.478,2,   0.2672,2,   0.1322,2,   0.0583,2,  2249.9,2,  2325.7,2,   7.5361,2,    25.00, -999.00,9,  -999.0,9,  -999.0,   2.6895,2, -999.00,9,    39.3,2,   37.20,2, -999.00,9,    25.0108,2, -999.00,9,  -999.0,9,     -999.0,     -999.0,9,     -999.0,9,     -999.0,     -999.0,9,     -999.0,     -999.0,9,     -999.0,     -999.0,     -999.0,9,     -999.0,9,     -999.0,9,     -999.0,9,     -999.0,9,     -999.0,9,     -999.0,9,     -999.0,9
33RO20161119,        P18,     149,          1,         11,      11110,2,20170109,       1347,   -40.5001,  -103.0003,       3896,  1162.4,   3.6315,  34.3697,2,  34.3701,2,    175.8,2,   175.4,6,    46.2,2,    34.3,2,    0.01,2,   2.380,2,   0.5342,2,   0.2637,2,   0.1294,2,  2225.8,2,  2306.7,6,   7.5613,2,    25.00, -999.00,9,  -999.0,9,  -999.0,   2.7028,2, -999.00,9,    39.5,2,   35.90,2, -999.00,9,    22.7524,2, -999.00,9,  -999.0,9,     -999.0,     -999.0,9,     -999.0,9,     -999.0,     -999.0,9,     -999.0,     -999.0,9,     -999.0,     -999.0,     -999.0,9,     -999.0,9,     -999.0,9,     -999.0,9,     -999.0,9,     -999.0,9,     -999.0,9,     -999.0,9
33RO20161119,        P18,     149,          1,         12,      11111,2,20170109,       1347,   -40.5001,  -103.0003,       3896,  1024.9,   4.1407,  34.3142,2,  34.3332,4,    195.6,2,   196.1,2,    33.2,2,    32.0,2,    0.01,2,   2.225,2,   1.2074,2,   0.5885,2,   0.2386,2,  2202.8,2,  2292.4,2,   7.5953,2,    25.00, -999.00,9,  -999.0,9,  -999.0,   2.8271,2, -999.00,9,    43.0,2,   32.90,2, -999.00,9,    20.5667,2, -999.00,9,  -999.0,9,     -999.0,     -999.0,9,     -999.0,9,     -999.0,     -999.0,9,     -999.0,     -999.0,9,     -999.0,     -999.0,     -999.0,9,     -999.0,9,     -999.0,9,     -999.0,9,     -999.0,9,     -999.0,9,     -999.0,9,     -999.0,9
33RO20161119,        P18,     149,          1,         13,      11112,2,20170109,       1347,   -40.5001,  -103.0003,       3896,   891.4,   4.7598,  34.2835,2,  34.2871,2,    212.2,2,   212.4,6,    22.9,2,    29.7,2,    0.01,2,   2.053,2,   1.9802,2,   0.9862,2,   0.3818,2,  2185.9,2,  2282.6,2,   7.6275,2,    25.00, -999.00,9,  -999.0,9,  -999.0,   2.6903,2, -999.00,9,    39.9,2,   32.20,2, -999.00,9,    18.4396,2, -999.00,9,  -999.0,9,     -999.0,     -999.0,9,     -999.0,9,     -999.0,     -999.0,9,     -999.0,     -999.0,9,     -999.0,     -999.0,     -999.0,9,     -999.0,9,     -999.0,9,     -999.0,9,     -999.0,9,     -999.0,9,     -999.0,9,     -999.0,9
33RO20161119,        P18,     149,          1,         14,      11113,2,20170109,       1347,   -40.5001,  -103.0003,       3896,   772.0,   5.3033,  34.2648,2,  34.2690,2,    231.1,2,   231.0,2,    15.2,2,    27.1,2,    0.01,2,   1.890,2,   2.9891,2,   1.5149,2,   0.7531,2,  2165.7,2,  2276.5,2,   7.6628,2,    25.00, -999.00,9,  -999.0,9,  -999.0,   2.4307,2, -999.00,9,    42.0,2,   28.30,2, -999.00,9,    16.7204,2, -999.00,9,  -999.0,9,     -999.0,     -999.0,9,     -999.0,9,     -999.0,     -999.0,9,     -999.0,     -999.0,9,     -999.0,     -999.0,     -999.0,9,     -999.0,9,     -999.0,9,     -999.0,9,     -999.0,9,     -999.0,9,     -999.0,9,     -999.0,9
33RO20161119,        P18,     149,          1,         15,      11114,2,20170109,       1347,   -40.5001,  -103.0003,       3896,   646.3,   5.7884,  34.2687,2,  34.2696,2,    246.3,2,   246.9,2,    10.3,2,    24.7,2,    0.02,2,   1.731,2,   3.7169,2,   1.9214,2,   1.1479,2,  2151.3,6,  2276.6,2,   7.6898,2,    25.00, -999.00,9,  -999.0,9,  -999.0,   1.6347,2, -999.00,9,    41.2,2,   25.90,2, -999.00,9,     15.858,2, -999.00,9,  -999.0,9,     -999.0,     -999.0,9,     -999.0,9,     -999.0,     -999.0,9,     -999.0,     -999.0,9,     -999.0,     -999.0,     -999.0,9,     -999.0,9,     -999.0,9,     -999.0,9,     -999.0,9,     -999.0,9,     -999.0,9,     -999.0,9
33RO20161119,        P18,     149,          1,         16,      11115,2,20170109,       1347,   -40.5001,  -103.0003,       3896,   540.3,   6.1575,  34.2848,2,  34.2857,2,    250.9,2,   251.7,2,     8.3,2,    23.4,2,    0.02,2,   1.637,2,   4.0073,2,   2.1185,2,   1.3755,2,  2148.1,2,  2274.8,2,   7.6957,2,    25.00, -999.00,9,  -999.0,9,  -999.0,   3.0702,2, -999.00,9,    44.2,2,   25.60,2, -999.00,9,    15.8322,2, -999.00,9,  -999.0,9,     -999.0,     -999.0,9,     -999.0,9,     -999.0,     -999.0,9,     -999.0,     -999.0,9,     -999.0,     -999.0,     -999.0,9,     -999.0,9,     -999.0,9,     -999.0,9,     -999.0,9,     -999.0,9,     -999.0,9,     -999.0,9
33RO20161119,        P18,     149,          1,         17,      11116,2,20170109,       1347,   -40.5001,  -103.0003,       3896,   430.3,   6.4830,  34.3026,2,  34.3013,2,    250.7,2,   251.5,2,     7.2,2,    22.5,2,    0.02,2,   1.568,2,   4.0943,2,   2.1934,2,   1.5267,2,  2145.9,2,  2274.2,2,   7.6987,2,    25.00, -999.00,9,  -999.0,9,  -999.0,   2.9432,2, -999.00,9,    43.8,2,   24.10,2, -999.00,9,    16.4923,2, -999.00,9,  -999.0,9,     -999.0,     -999.0,9,     -999.0,9,     -999.0,     -999.0,9,     -999.0,     -999.0,9,     -999.0,     -999.0,     -999.0,9,     -999.0,9,     -999.0,9,     -999.0,9,     -999.0,9,     -999.0,9,     -999.0,9,     -999.0,9
33RO20161119,        P18,     149,          1,         18,      11117,2,20170109,       1347,   -40.5001,  -103.0003,       3896,   333.5,   6.7729,  34.2949,2,  34.2935,2,    249.3,2,   249.9,2,     6.1,2,    21.9,2,    0.02,2,   1.531,2,   4.0940,2,   2.2295,2,   1.7415,2,  2144.1,2,  2272.5,2,   7.7003,2,    25.00, -999.00,9,  -999.0,9,  -999.0,   2.7894,2, -999.00,9,    42.9,2,   24.10,2, -999.00,9,    19.3504,2, -999.00,9,  -999.0,9,     -999.0,     -999.0,9,     -999.0,9,     -999.0,     -999.0,9,     -999.0,     -999.0,9,     -999.0,     -999.0,     -999.0,9,     -999.0,9,     -999.0,9,     -999.0,9,     -999.0,9,     -999.0,9,     -999.0,9,     -999.0,9
33RO20161119,        P18,     149,          1,         19,      11083,2,20170109,       1347,   -40.5001,  -103.0003,       3896,   250.5,   7.2484,  34.2462,2,  34.2717,2,    249.1,2,   249.4,2,     4.5,2,    20.8,2,    0.01,2,   1.459,2,   3.9988,2,   2.2276,2,   1.9482,2,  2137.6,2,  2269.7,2,   7.7069,2,    25.00, -999.00,9,  -999.0,9,  -999.0,    0.025,2, -999.00,9,    45.9,2,   22.20,2, -999.00,9,    23.6657,2, -999.00,9,  -999.0,9,     -999.0,     -999.0,9,     -999.0,9,     -999.0,     -999.0,9,     -999.0,     -999.0,9,     -999.0,     -999.0,     -999.0,9,     -999.0,9,     -999.0,9,     -999.0,9,     -999.0,9,     -999.0,9,     -999.0,9,     -999.0,9
33RO20161119,        P18,     149,          1,         20,      11118,2,20170109,       1347,   -40.5001,  -103.0003,       3896,   172.5,   8.5077,  34.1877,2,  34.1873,2,    250.1,2,   249.4,2,     2.4,2,    17.7,2,    0.04,2,   1.293,2,   3.7581,2,   2.1334,2,   2.1561,2,  2120.4,2,  2260.6,2,   7.7377,2,    25.00, -999.00,9,  -999.0,9,  -999.0,   0.0158,2, -999.00,9,    45.7,2,   19.30,2, -999.00,9,    24.6652,2, -999.00,9,  -999.0,9,     -999.0,     -999.0,9,     -999.0,9,     -999.0,     -999.0,9,     -999.0,     -999.0,9,     -999.0,     -999.0,     -999.0,9,     -999.0,9,     -999.0,9,       1.63,2,     -999.0,9,     -999.0,9,     -999.0,9,     -999.0,9
33RO20161119,        P18,     149,          1,         21,      11119,2,20170109,       1347,   -40.5001,  -103.0003,       3896,    98.3,  10.7249,  34.0287,2,  34.0244,2,    274.2,2,   273.0,2,     0.6,2,     9.7,2,    0.22,2,   0.884,2,   3.3209,2,   1.9202,2,   2.3696,2,  2072.6,2,  2253.2,2,   7.8354,2,    25.00, -999.00,9,  -999.0,9,  -999.0,   0.0306,2, -999.00,9,    55.1,2,   13.00,2, -999.00,9,    11.1919,2, -999.00,9,  -999.0,9,     -999.0,     -999.0,9,     -999.0,9,     -999.0,     -999.0,9,     -999.0,     -999.0,9,     -999.0,     -999.0,     -999.0,9,     -999.0,9,     -999.0,9,     -999.0,9,     -999.0,9,     -999.0,9,     -999.0,9,     -999.0,9
33RO20161119,        P18,     149,          1,         22,      11120,2,20170109,       1347,   -40.5001,  -103.0003,       3896,    51.8,  12.6983,  34.0357,2,  34.0367,2,    278.9,2,   278.3,2,     0.4,2,     6.5,2,    0.15,2,   0.653,2,   3.1101,2,   1.8161,2,   2.2342,2,  2053.6,2,  2253.8,2,   7.8803,2,    25.00, -999.00,9,  -999.0,9,  -999.0,   0.0326,2, -999.00,9,    58.4,2,    9.80,2, -999.00,9,    10.4334,2, -999.00,9,  -999.0,9,     -999.0,     -999.0,9,     -999.0,9,     -999.0,     -999.0,9,     -999.0,     -999.0,9,     -999.0,     -999.0,     -999.0,9,     -999.0,9,     -999.0,9,       0.95,2,     -999.0,9,     -999.0,9,     -999.0,9,     -999.0,9
33RO20161119,        P18,     149,          1,         23,      11121,2,20170109,       1347,   -40.5001,  -103.0003,       3896,    21.7,  16.2135,  33.9460,2,  33.9460,2,    247.1,2,   247.9,2,     0.4,2,     6.6,2,    0.17,2,   0.653,2,-999.0000,9,-999.0000,9,-999.0000,9,  2046.0,6,  2249.6,6,   7.8867,2,    25.00, -999.00,9,  -999.0,9,  -999.0,-999.0000,9, -999.00,9,    64.5,2,    9.40,2, -999.00,9,     -999.0,9, -999.00,9,  -999.0,9,     -999.0,     -999.0,9,     -999.0,9,     -999.0,     -999.0,9,     -999.0,     -999.0,9,     -999.0,     -999.0,     -999.0,9,     -999.0,9,     -999.0,9,     -999.0,9,     -999.0,9,     -999.0,9,     -999.0,9,     -999.0,9
33RO20161119,        P18,     149,          1,         24,      11122,2,20170109,       1347,   -40.5001,  -103.0003,       3896,     8.4,  16.2221,  33.9466,2,  33.9452,2,    246.6,2,   248.0,2,     0.3,2,     6.5,2,    0.18,2,   0.649,2,   2.5931,2,   1.5362,2,   1.9477,2,  2046.7,2,  2250.0,2,   7.8864,2,    25.00, -999.00,9,  -999.0,9,  -999.0,   0.0022,4, -999.00,9,    58.7,2,    9.80,2, -999.00,9,     9.0616,2, -999.00,9,  -999.0,9,     -999.0,     -999.0,9,     -999.0,9,     -999.0,     -999.0,9,     -999.0,     -999.0,9,     -999.0,     -999.0,     -999.0,9,     -999.0,9,     -999.0,9,       0.85,2,     -999.0,9,     -999.0,9,     -999.0,9,     -999.0,9