BOTTLE,20230606CCHSIOCBG
EXPOCODE,SECT_ID,STNNBR,CASTNO,SAMPNO,BTLNBR,BTLNBR_FLAG_W,DATE,TIME,LATITUDE,LONGITUDE,DEPTH,CTDPRS,CTDTMP,CTDSAL,CTDSAL_FLAG_W,SALNTY,SALNTY_FLAG_W,CTDOXY,CTDOXY_FLAG_W,OXYGEN,OXYGEN_FLAG_W,SILCAT,SILCAT_FLAG_W,NITRAT,NITRAT_FLAG_W,NITRIT,NITRIT_FLAG_W,PHSPHT,PHSPHT_FLAG_W,CFC-11,CFC-11_FLAG_W,CFC-12,CFC-12_FLAG_W,SF6,SF6_FLAG_W,TCARBN,TCARBN_FLAG_W,ALKALI,ALKALI_FLAG_W,PH_SWS,PH_SWS_FLAG_W,PH_TMP,DELC13,DELC13_FLAG_W,DELC14,DELC14_FLAG_W,C14ERR,CCL4,CCL4_FLAG_W,POC,POC_FLAG_W,DOC,DOC_FLAG_W,TDN,TDN_FLAG_W,PON,PON_FLAG_W,N2O,N2O_FLAG_W,D15N_NO3,D15N_NO3_FLAG_W,14C-DOC,14C-DOC_FLAG_W,14C-DOCERR,13C-DOC,13C-DOC_FLAG_W,N2/ARGON_UNSTRIPPED,N2/ARGON_UNSTRIPPED_FLAG_W,N2/ARGON_UNSTRIPPED_ERROR,N2/ARGON,N2/ARGON_FLAG_W,N2/ARGON_ERROR,D15N_N2,D15N_N2_FLAG_W,D15N_N2_ERROR,D15N_NO3_ERROR,D15N_NO2+NO3,D15N_NO2+NO3_FLAG_W,D18O_NO2+NO3,D18O_NO2+NO3_FLAG_W,D18O_NO3,D18O_NO3_FLAG_W,TDP,TDP_FLAG_W,N2O_ALT_1,N2O_ALT_1_FLAG_W,D15N_N2O,D15N_N2O_FLAG_W,D18O_N2O,D18O_N2O_FLAG_W,D15N_ALPHA_N2O,D15N_ALPHA_N2O_FLAG_W
,,,,,,,,,,,METERS,DBAR,ITS-90,PSS-78,,PSS-78,,UMOL/KG,,UMOL/KG,,UMOL/KG,,UMOL/KG,,UMOL/KG,,UMOL/KG,,PMOL/KG,,PMOL/KG,,FMOL/KG,,UMOL/KG,,UMOL/KG,,,,DEG C,/MILLE,,/MILLE,,/MILLE,PMOL/KG,,UG/KG,,UMOL/KG,,UMOL/KG,,UG/KG,,NMOL/KG,,/MILLE,,/MILLE,,/MILLE,/MILLE,,,,,,,,/MILLE,,/MILLE,/MILLE,/MILLE,,/MILLE,,/MILLE,,UMOL/KG,,NMOL/L,,/MILLE,,/MILLE,,/MILLE,
33RO20161119,        P18,     104,          1,          1,      11010,2,20161218,       1256,   -17.9997,  -102.9997,       4173,  4238.7,   1.8465,  34.6878,2,  34.6866,2,    150.7,2,   150.8,2,   127.2,2,    35.6,2,    0.00,2,   2.502,2,   0.0011,2,   0.0004,2,   0.0000,2,  2323.5,6,  2420.3,2,   7.5737,6,    25.00, -999.00,9,  -999.0,9,  -999.0,        0,2, -999.00,9,  -999.0,9, -999.00,9, -999.00,9,    20.1716,2, -999.00,9,  -999.0,9,     -999.0,     -999.0,9,     -999.0,9,     -999.0,     -999.0,9,     -999.0,     -999.0,9,     -999.0,     -999.0,     -999.0,9,     -999.0,9,     -999.0,9,     -999.0,9,     -999.0,9,     -999.0,9,     -999.0,9,     -999.0,9
33RO20161119,        P18,     104,          1,          2,      11101,2,20161218,       1256,   -17.9997,  -102.9997,       4173,  3793.5,   1.7968,  34.6876,2,  34.6877,2,    149.9,2,   150.0,2,   127.3,2,    35.7,2,    0.01,2,   2.490,2,-999.0000,9,-999.0000,9,-999.0000,9,  2321.1,2,  2420.0,2,   7.5739,2,    25.00, -999.00,9,  -999.0,9,  -999.0,-999.0000,9, -999.00,9,  -999.0,9, -999.00,9, -999.00,9,     -999.0,9,     4.5,2,  -999.0,9,     -999.0,     -999.0,9,     -999.0,9,     -999.0,     -999.0,9,     -999.0,     -999.0,9,     -999.0,     -999.0,     -999.0,9,     -999.0,9,     -999.0,9,     -999.0,9,     -999.0,9,     -999.0,9,     -999.0,9,     -999.0,9
33RO20161119,        P18,     104,          1,          3,      11102,2,20161218,       1256,   -17.9997,  -102.9997,       4173,  3346.3,   1.7744,  34.6853,2,  34.6840,2,    150.3,2,   149.5,2,   127.6,2,    35.8,2,    0.01,2,   2.509,2,   0.0006,2,   0.0005,2,   0.0000,2,  2319.8,2,  2419.9,2,   7.5701,2,    25.00, -999.00,9,  -999.0,9,  -999.0,   0.0042,2, -999.00,9,  -999.0,9, -999.00,9, -999.00,9,    20.7378,2, -999.00,9,  -999.0,9,     -999.0,     -999.0,9,     -999.0,9,     -999.0,     -999.0,9,     -999.0,     -999.0,9,     -999.0,     -999.0,     -999.0,9,     -999.0,9,     -999.0,9,     -999.0,9,     -999.0,9,     -999.0,9,     -999.0,9,     -999.0,9
33RO20161119,        P18,     104,          1,          4,      11103,2,20161218,       1256,   -17.9997,  -102.9997,       4173,  3048.7,   1.7786,  34.6817,2,  34.6806,2,    150.6,2,   151.0,2,   125.4,2,    35.6,2,    0.01,2,   2.502,2,-999.0000,9,-999.0000,9,-999.0000,9,  2317.9,2,  2414.6,6,   7.5705,2,    25.00, -999.00,9,  -999.0,9,  -999.0,-999.0000,9, -999.00,9,  -999.0,9, -999.00,9, -999.00,9,     -999.0,9, -999.00,9,  -999.0,9,     -999.0,     -999.0,9,     -999.0,9,     -999.0,     -999.0,9,     -999.0,     -999.0,9,     -999.0,     -999.0,     -999.0,9,     -999.0,9,     -999.0,9,     -999.0,9,     -999.0,9,     -999.0,9,     -999.0,9,     -999.0,9
33RO20161119,        P18,     104,          1,          5,      11104,2,20161218,       1256,   -17.9997,  -102.9997,       4173,  2749.4,   1.8167,  34.6754,2,  34.6747,2,    152.1,2,   151.7,2,   122.6,6,    35.6,6,    0.01,6,   2.499,6,   0.0007,2,   0.0000,2,   0.0000,2,  2312.7,2,  2404.8,2,   7.5697,2,    25.00, -999.00,9,  -999.0,9,  -999.0,   0.0542,2, -999.00,9,  -999.0,9, -999.00,9, -999.00,9,    20.5813,2, -999.00,9,  -999.0,9,     -999.0,     -999.0,9,     -999.0,9,     -999.0,     -999.0,9,     -999.0,     -999.0,9,     -999.0,     -999.0,     -999.0,9,     -999.0,9,     -999.0,9,     -999.0,9,     -999.0,9,     -999.0,9,     -999.0,9,     -999.0,9
33RO20161119,        P18,     104,          1,          6,      11105,2,20161218,       1256,   -17.9997,  -102.9997,       4173,  2430.8,   1.8977,  34.6646,2,  34.6646,2,    150.0,2,   150.7,2,   118.9,6,    35.7,6,    0.01,6,   2.494,6,-999.0000,9,-999.0000,9,-999.0000,9,  2309.1,2,  2395.7,2,   7.5620,2,    25.00, -999.00,9,  -999.0,9,  -999.0,-999.0000,9, -999.00,9,  -999.0,9, -999.00,9, -999.00,9,     -999.0,9, -999.00,9,  -999.0,9,     -999.0,     -999.0,9,     -999.0,9,     -999.0,     -999.0,9,     -999.0,     -999.0,9,     -999.0,     -999.0,     -999.0,9,     -999.0,9,     -999.0,9,     -999.0,9,     -999.0,9,     -999.0,9,     -999.0,9,     -999.0,9
33RO20161119,        P18,     104,          1,          7,      11106,2,20161218,       1256,   -17.9997,  -102.9997,       4173,  2114.9,   2.1314,  34.6450,2,  34.6448,2,    133.6,2,   133.5,2,   118.6,6,    37.1,6,    0.01,6,   2.595,6,-999.0000,9,-999.0000,9,-999.0000,9,  2316.6,2,  2396.0,2,   7.5324,2,    25.00, -999.00,9,  -999.0,9,  -999.0,-999.0000,9, -999.00,9,  -999.0,9, -999.00,9, -999.00,9,     -999.0,9, -999.00,9,  -999.0,9,     -999.0,     -999.0,9,      38.02,2,     -999.0,      38.16,2,     -999.0,     -999.0,9,     -999.0,     -999.0,     -999.0,9,     -999.0,9,     -999.0,9,     -999.0,9,21.12079074,2,       9.38,2,      49.62,2,      21.77,2
33RO20161119,        P18,     104,          1,          8,      11107,2,20161218,       1256,   -17.9997,  -102.9997,       4173,  1795.3,   2.5241,  34.6182,2,  34.6168,2,    112.6,2,   113.0,2,   114.5,6,    38.9,6,    0.01,6,   2.763,6,   0.0014,2,   0.0007,2,   0.0000,2,  2325.0,6,  2389.7,2,   7.4956,2,    25.00, -999.00,9,  -999.0,9,  -999.0,   0.0324,2, -999.00,9,  -999.0,9, -999.00,9, -999.00,9,    26.1566,2, -999.00,9,  -999.0,9,     -999.0,     -999.0,9,     -999.0,9,     -999.0,     -999.0,9,     -999.0,     -999.0,9,     -999.0,     -999.0,     -999.0,9,     -999.0,9,     -999.0,9,     -999.0,9,23.67657107,2,       9.71,2,      50.85,2,      22.49,2
33RO20161119,        P18,     104,          1,          9,      11108,2,20161218,       1256,   -17.9997,  -102.9997,       4173,  1513.5,   2.9729,  34.5881,2,  34.5879,2,    100.7,2,   100.6,2,   103.9,2,    39.8,2,    0.01,2,   2.843,2,-999.0000,9,-999.0000,9,-999.0000,9,  2318.9,2,  2380.8,2,   7.4701,2,    25.00, -999.00,9,  -999.0,9,  -999.0,-999.0000,9, -999.00,9,  -999.0,9, -999.00,9, -999.00,9,     -999.0,9,    5.71,2,  -999.0,9,     -999.0,     -999.0,9,      37.76,2,     -999.0,      37.89,2,     -999.0,     -999.0,9,     -999.0,     -999.0,     -999.0,9,     -999.0,9,     -999.0,9,     -999.0,9,25.91537203,2,       9.64,2,      50.08,2,      21.14,2
33RO20161119,        P18,     104,          1,         10,      11109,2,20161218,       1256,   -17.9997,  -102.9997,       4173,  1331.9,   3.3688,  34.5641,2,  34.5627,2,     94.2,2,    93.4,2,    93.6,2,    40.4,2,    0.01,2,   2.878,2,-999.0000,9,-999.0000,9,-999.0000,9,  2311.8,2,  2367.3,2,   7.4558,2,    25.00, -999.00,9,  -999.0,9,  -999.0,-999.0000,9, -999.00,9,  -999.0,9, -999.00,9, -999.00,9,     -999.0,9,     5.7,2,  -999.0,9,     -999.0,     -999.0,9,     -999.0,9,     -999.0,     -999.0,9,     -999.0,     -999.0,9,     -999.0,     -999.0,     -999.0,9,     -999.0,9,     -999.0,9,     -999.0,9,27.55519601,2,       9.48,2,      50.09,2,      20.82,2
33RO20161119,        P18,     104,          1,         11,      11110,2,20161218,       1256,   -17.9997,  -102.9997,       4173,  1181.4,   3.8086,  34.5420,2,  34.5444,2,     88.1,2,    88.1,6,    83.3,2,    40.9,2,    0.01,2,   2.894,2,-999.0000,9,-999.0000,9,-999.0000,9,  2305.4,2,  2356.0,2,   7.4442,2,    25.00, -999.00,9,  -999.0,9,  -999.0,-999.0000,9, -999.00,9,  -999.0,9, -999.00,9, -999.00,9,     -999.0,9,    6.15,2,  -999.0,9,     -999.0,     -999.0,9,      37.84,2,     -999.0,      37.89,2,     -999.0,     -999.0,9,     -999.0,       0.26,     -999.0,9,     -999.0,9,     -999.0,9,     -999.0,9,29.22387798,2,       9.38,2,      49.71,2,      20.77,2
33RO20161119,        P18,     104,          1,         12,      11111,2,20161218,       1256,   -17.9997,  -102.9997,       4173,  1044.5,   4.2374,  34.5234,2,  34.5230,2,     82.0,2,    81.1,2,    73.7,2,    41.2,2,    0.01,2,   2.928,2,-999.0000,9,-999.0000,9,-999.0000,9,  2298.7,2,  2347.1,2,   7.4344,2,    25.00, -999.00,9,  -999.0,9,  -999.0,-999.0000,9, -999.00,9,  -999.0,9, -999.00,9, -999.00,9,     -999.0,9,    6.19,2,  -999.0,9,     -999.0,     -999.0,9,     -999.0,9,     -999.0,     -999.0,9,     -999.0,     -999.0,9,     -999.0,     -999.0,     -999.0,9,     -999.0,9,     -999.0,9,     -999.0,9,30.54351201,2,        9.1,2,      49.38,2,      21.23,2
33RO20161119,        P18,     104,          1,         13,      11112,2,20161218,       1256,   -17.9997,  -102.9997,       4173,   920.3,   4.7004,  34.5062,2,  34.5047,2,     73.4,2,    74.3,2,    64.0,2,    41.8,2,    0.00,2,   2.945,2,-999.0000,9,-999.0000,9,-999.0000,9,  2292.7,2,  2336.6,2,   7.4219,2,    25.00, -999.00,9,  -999.0,9,  -999.0,-999.0000,9, -999.00,9,  -999.0,9, -999.00,9, -999.00,9,     -999.0,9,    6.33,2,  -999.0,9,     -999.0,     -999.0,9,      37.89,2,     -999.0,      37.97,2,     -999.0,     -999.0,9,     -999.0,     -999.0,     -999.0,9,     -999.0,9,     -999.0,9,     -999.0,9,32.75861686,2,       9.05,2,      49.24,2,      20.92,2
33RO20161119,        P18,     104,          1,         14,      11113,2,20161218,       1256,   -17.9997,  -102.9997,       4173,   794.2,   5.2436,  34.4849,2,  34.4841,2,     72.8,2,    73.6,2,    51.9,2,    41.3,2,    0.01,2,   2.900,2,   0.0138,6,   0.0082,6,   0.0000,6,  2278.0,2,  2319.6,2,   7.4208,2,    25.00, -999.00,9,  -999.0,9,  -999.0,   0.1771,2, -999.00,9,  -999.0,9, -999.00,9, -999.00,9,    38.4933,2,    6.65,2,  -999.0,9,     -999.0,     -999.0,9,      37.84,2,     -999.0,      37.96,2,     -999.0,     -999.0,9,     -999.0,     -999.0,     -999.0,9,     -999.0,9,     -999.0,9,     -999.0,9,34.68323627,2,       8.49,2,      49.15,2,      20.67,2
33RO20161119,        P18,     104,          1,         15,      11114,2,20161218,       1256,   -17.9997,  -102.9997,       4173,   670.0,   5.9284,  34.4606,2,  34.4600,2,     82.4,2,    80.7,2,    37.7,2,    39.6,2,    0.01,2,   2.759,2,   0.1131,2,   0.0612,2,   0.0000,2,  2258.0,2,  2304.1,2,   7.4337,2,    25.00, -999.00,9,  -999.0,9,  -999.0,   0.2896,2, -999.00,9,  -999.0,9, -999.00,9, -999.00,9,    40.2409,2,    6.64,2,  -999.0,9,     -999.0,     -999.0,9,       37.9,2,     -999.0,      37.95,2,     -999.0,     -999.0,9,     -999.0,       0.11,     -999.0,9,     -999.0,9,     -999.0,9,     -999.0,9,37.12511869,2,       7.94,2,       49.0,2,      14.95,2
33RO20161119,        P18,     104,          1,         16,      11115,2,20161218,       1256,   -17.9997,  -102.9997,       4173,   551.7,   6.7995,  34.4462,2,  34.4468,2,     93.5,2,    91.7,2,    25.9,2,    36.6,2,    0.01,2,   2.576,2,   0.6573,2,   0.3313,2,   0.0905,2,  2240.7,2,  2291.4,2,   7.4517,2,    25.00, -999.00,9,  -999.0,9,  -999.0,   0.3626,2, -999.00,9,  -999.0,9, -999.00,9, -999.00,9,    42.8448,2,    6.49,2,  -999.0,9,     -999.0,     -999.0,9,      37.96,2,     -999.0,      38.08,2,     -999.0,     -999.0,9,     -999.0,     -999.0,     -999.0,9,     -999.0,9,     -999.0,9,     -999.0,9,38.33573059,2,       7.36,2,      49.23,2,       13.5,2
33RO20161119,        P18,     104,          1,         17,      11116,2,20161218,       1256,   -17.9997,  -102.9997,       4173,   447.0,   8.4765,  34.5079,2,  34.5075,2,     55.0,2,    54.6,2,    22.2,2,    34.4,2,    0.01,2,   2.623,2,   1.0046,2,   0.5097,2,   0.1806,2,  2255.5,2,  2288.2,6,   7.3996,6,    25.00, -999.00,9,  -999.0,9,  -999.0,   0.4862,2, -999.00,9,  -999.0,9, -999.00,9, -999.00,9,    47.0049,2,     8.5,2,  -999.0,9,     -999.0,     -999.0,9,      37.98,2,     -999.0,       38.1,2,     -999.0,     -999.0,9,     -999.0,     -999.0,     -999.0,9,     -999.0,9,     -999.0,9,     -999.0,9,41.00672551,2,     -999.0,9,     -999.0,9,     -999.0,9
33RO20161119,        P18,     104,          1,         18,      11117,2,20161218,       1256,   -17.9997,  -102.9997,       4173,   339.8,  10.9720,  34.4686,2,  34.4702,2,    114.1,2,   107.2,6,    11.3,2,    21.9,2,    0.01,2,   1.973,2,   2.4201,2,   1.3362,2,   0.8278,2,  2196.7,2,  2281.1,2,   7.5558,2,    25.00, -999.00,9,  -999.0,9,  -999.0,   1.1234,2, -999.00,9,  -999.0,9, -999.00,9, -999.00,9,    28.4765,2, -999.00,9,  -999.0,9,     -999.0,     -999.0,9,      38.09,2,     -999.0,      38.19,2,     -999.0,     -999.0,9,     -999.0,     -999.0,     -999.0,9,     -999.0,9,     -999.0,9,     -999.0,9,26.32098676,2,        8.1,2,      47.88,2,      20.44,2
33RO20161119,        P18,     104,          1,         19,      11083,2,20161218,       1256,   -17.9997,  -102.9997,       4173,   251.0,  16.7502,  35.1705,2,  35.1719,2,    198.3,2,   195.4,2,     1.1,2,     5.6,2,    0.02,2,   0.657,2,   2.4460,2,   1.4823,2,   1.5129,2,  2105.8,2,  2324.0,2,   7.8747,2,    25.00, -999.00,9,  -999.0,9,  -999.0,   1.6597,2, -999.00,9,  -999.0,9, -999.00,9, -999.00,9,    10.8465,2,    8.81,2,  -999.0,9,     -999.0,     -999.0,9,      38.02,2,     -999.0,      38.06,2,     -999.0,     -999.0,9,     -999.0,       0.17,     -999.0,9,     -999.0,9,     -999.0,9,     -999.0,9,10.06087159,2,       6.77,2,      41.72,2,      18.84,2
33RO20161119,        P18,     104,          1,         20,      11118,2,20161218,       1256,   -17.9997,  -102.9997,       4173,   167.7,  21.1052,  35.9638,2,  35.9671,2,    206.4,2,   204.8,2,     0.7,2,     0.8,2,    0.45,2,   0.447,2,   1.9683,2,   1.2273,2,   1.5196,2,  2102.6,2,  2378.4,2,   7.9709,2,    25.00, -999.00,9,  -999.0,9,  -999.0,   1.7016,2, -999.00,9,  -999.0,9, -999.00,9, -999.00,9,     7.5021,2, -999.00,9,  -999.0,9,     -999.0,     -999.0,9,      38.18,2,     -999.0,       38.2,2,     -999.0,     -999.0,9,     -999.0,     -999.0,     -999.0,9,     -999.0,9,     -999.0,9,     -999.0,9, 7.71009454,2,       6.27,2,      44.71,2,      19.07,2
33RO20161119,        P18,     104,          1,         21,      11119,2,20161218,       1256,   -17.9997,  -102.9997,       4173,   102.5,  22.1032,  36.1001,2,  36.1026,2,    214.2,2,   213.5,2,     1.1,2,     0.2,2,    0.03,2,   0.435,2,   1.8903,2,   1.1686,2,   1.5765,2,  2087.6,2,  2383.4,2,   8.0106,2,    25.00, -999.00,9,  -999.0,9,  -999.0,   1.5854,2, -999.00,9,  -999.0,9, -999.00,9, -999.00,9,      7.127,2, -999.00,9,  -999.0,9,     -999.0,     -999.0,9,      38.15,2,     -999.0,      38.16,2,     -999.0,     -999.0,9,     -999.0,     -999.0,     -999.0,9,     -999.0,9,     -999.0,9,     -999.0,9,7.073618379,2,       6.73,2,      49.43,2,      19.33,2
33RO20161119,        P18,     104,          1,         22,      11120,2,20161218,       1256,   -17.9997,  -102.9997,       4173,    48.6,  23.3650,  36.1788,2,  36.1785,2,    218.2,2,   218.5,2,     0.7,2,     0.1,2,    0.01,2,   0.353,2,   1.7905,2,   1.1179,2,   1.4754,2,  2072.8,2,  2390.8,6,   8.0365,2,    25.00, -999.00,9,  -999.0,9,  -999.0,   1.8575,2, -999.00,9,  -999.0,9, -999.00,9, -999.00,9,     6.9061,2, -999.00,9,  -999.0,9,     -999.0,     -999.0,9,      38.18,2,     -999.0,      38.19,2,     -999.0,     -999.0,9,     -999.0,     -999.0,     -999.0,9,     -999.0,9,     -999.0,9,     -999.0,9,6.825032449,2,       6.52,2,      42.85,2,      18.71,2
33RO20161119,        P18,     104,          1,         23,      11121,2,20161218,       1256,   -17.9997,  -102.9997,       4173,    19.7,  23.7189,  36.1756,2,  36.1767,2,    215.2,2,   216.1,2,     0.6,2,     0.1,2,    0.01,2,   0.335,2,   1.7589,2,   1.1102,2,   1.4789,2,  2070.5,6,  2386.0,2,   8.0417,2,    25.00, -999.00,9,  -999.0,9,  -999.0,        0,2, -999.00,9,  -999.0,9, -999.00,9, -999.00,9,     6.8602,2, -999.00,9,  -999.0,9,     -999.0,     -999.0,9,      38.14,2,     -999.0,      38.14,2,     -999.0,     -999.0,9,     -999.0,     -999.0,     -999.0,9,     -999.0,9,     -999.0,9,     -999.0,9,6.660963236,2,        6.9,2,      42.72,2,      18.45,2
33RO20161119,        P18,     104,          1,         24,      11122,2,20161218,       1256,   -17.9997,  -102.9997,       4173,     2.8,  23.7178,  36.1760,2,  36.1757,2,    214.7,2,   215.7,2,     0.6,2,     0.1,2,    0.01,2,   0.342,2,   1.7571,2,   1.1028,2,   1.4858,2,  2070.5,2,  2388.3,2,   8.0432,2,    25.00, -999.00,9,  -999.0,9,  -999.0,        0,2, -999.00,9,  -999.0,9, -999.00,9, -999.00,9,     6.6435,2, -999.00,9,  -999.0,9,     -999.0,     -999.0,9,      38.19,2,     -999.0,       38.2,2,     -999.0,     -999.0,9,     -999.0,     -999.0,     -999.0,9,     -999.0,9,     -999.0,9,     -999.0,9,6.752066271,2,       6.72,2,      43.38,2,      18.94,2