BOTTLE,20230606CCHSIOCBG
EXPOCODE,SECT_ID,STNNBR,CASTNO,SAMPNO,BTLNBR,BTLNBR_FLAG_W,DATE,TIME,LATITUDE,LONGITUDE,DEPTH,CTDPRS,CTDTMP,CTDSAL,CTDSAL_FLAG_W,SALNTY,SALNTY_FLAG_W,CTDOXY,CTDOXY_FLAG_W,OXYGEN,OXYGEN_FLAG_W,SILCAT,SILCAT_FLAG_W,NITRAT,NITRAT_FLAG_W,NITRIT,NITRIT_FLAG_W,PHSPHT,PHSPHT_FLAG_W,CFC-11,CFC-11_FLAG_W,CFC-12,CFC-12_FLAG_W,SF6,SF6_FLAG_W,TCARBN,TCARBN_FLAG_W,ALKALI,ALKALI_FLAG_W,PH_SWS,PH_SWS_FLAG_W,PH_TMP,DELC13,DELC13_FLAG_W,DELC14,DELC14_FLAG_W,C14ERR,CCL4,CCL4_FLAG_W,POC,POC_FLAG_W,DOC,DOC_FLAG_W,TDN,TDN_FLAG_W,PON,PON_FLAG_W,N2O,N2O_FLAG_W,D15N_NO3,D15N_NO3_FLAG_W,14C-DOC,14C-DOC_FLAG_W,14C-DOCERR,13C-DOC,13C-DOC_FLAG_W,N2/ARGON_UNSTRIPPED,N2/ARGON_UNSTRIPPED_FLAG_W,N2/ARGON_UNSTRIPPED_ERROR,N2/ARGON,N2/ARGON_FLAG_W,N2/ARGON_ERROR,D15N_N2,D15N_N2_FLAG_W,D15N_N2_ERROR,D15N_NO3_ERROR,D15N_NO2+NO3,D15N_NO2+NO3_FLAG_W,D18O_NO2+NO3,D18O_NO2+NO3_FLAG_W,D18O_NO3,D18O_NO3_FLAG_W,TDP,TDP_FLAG_W,N2O_ALT_1,N2O_ALT_1_FLAG_W,D15N_N2O,D15N_N2O_FLAG_W,D18O_N2O,D18O_N2O_FLAG_W,D15N_ALPHA_N2O,D15N_ALPHA_N2O_FLAG_W
,,,,,,,,,,,METERS,DBAR,ITS-90,PSS-78,,PSS-78,,UMOL/KG,,UMOL/KG,,UMOL/KG,,UMOL/KG,,UMOL/KG,,UMOL/KG,,PMOL/KG,,PMOL/KG,,FMOL/KG,,UMOL/KG,,UMOL/KG,,,,DEG C,/MILLE,,/MILLE,,/MILLE,PMOL/KG,,UG/KG,,UMOL/KG,,UMOL/KG,,UG/KG,,NMOL/KG,,/MILLE,,/MILLE,,/MILLE,/MILLE,,,,,,,,/MILLE,,/MILLE,/MILLE,/MILLE,,/MILLE,,/MILLE,,UMOL/KG,,NMOL/L,,/MILLE,,/MILLE,,/MILLE,
33RO20161119,        P18,      94,          1,          1,      11010,2,20161216,       0237,   -12.9995,  -103.0001,       4356,  4411.2,   1.8560,  34.6782,2,  34.6782,2,    137.7,2,   137.5,2,   143.3,6,    36.6,6,    0.00,6,   2.556,6,   0.0006,2,   0.0010,2,   0.0000,2,  2340.1,2,  2428.4,2,   7.5635,6,    25.00, -999.00,9,  -999.0,9,  -999.0,        0,2, -999.00,9,  -999.0,9, -999.00,9, -999.00,9,    21.7992,2, -999.00,9,  -999.0,9,     -999.0,     -999.0,9,     -999.0,9,     -999.0,     -999.0,9,     -999.0,     -999.0,9,     -999.0,     -999.0,     -999.0,9,     -999.0,9,     -999.0,9,     -999.0,9,     -999.0,9,     -999.0,9,     -999.0,9,     -999.0,9
33RO20161119,        P18,      94,          1,          2,      11101,2,20161216,       0237,   -12.9995,  -103.0001,       4356,  4100.0,   1.8229,  34.6782,2,  34.6790,2,    136.7,2,   136.8,2,   143.4,6,    36.7,6,    0.00,6,   2.556,6,   0.0020,2,   0.0021,2,   0.0355,2,  2337.5,2,  2431.4,2,   7.5624,2,    25.00, -999.00,9,  -999.0,9,  -999.0,        0,2, -999.00,9,  -999.0,9, -999.00,9, -999.00,9,    21.2722,2, -999.00,9,  -999.0,9,     -999.0,     -999.0,9,     -999.0,9,     -999.0,     -999.0,9,     -999.0,     -999.0,9,     -999.0,     -999.0,     -999.0,9,     -999.0,9,     -999.0,9,     -999.0,9,     -999.0,9,     -999.0,9,     -999.0,9,     -999.0,9
33RO20161119,        P18,      94,          1,          3,      11102,2,20161216,       0237,   -12.9995,  -103.0001,       4356,  3805.2,   1.7935,  34.6780,2,  34.6778,2,    137.1,2,   136.4,2,   143.5,6,    36.7,6,    0.00,6,   2.561,6,-999.0000,9,-999.0000,9,-999.0000,9,  2338.5,6,  2430.6,2,   7.5601,2,    25.00, -999.00,9,  -999.0,9,  -999.0,-999.0000,9, -999.00,9,  -999.0,9, -999.00,9, -999.00,9,     -999.0,9, -999.00,9,  -999.0,9,     -999.0,     -999.0,9,     -999.0,9,     -999.0,     -999.0,9,     -999.0,     -999.0,9,     -999.0,     -999.0,     -999.0,9,     -999.0,9,     -999.0,9,     -999.0,9,     -999.0,9,     -999.0,9,     -999.0,9,     -999.0,9
33RO20161119,        P18,      94,          1,          4,      11103,2,20161216,       0237,   -12.9995,  -103.0001,       4356,  3480.4,   1.7760,  34.6775,2,  34.6787,2,    137.3,2,   136.9,2,   142.0,6,    36.7,6,    0.00,6,   2.581,6,-999.0000,9,-999.0000,9,-999.0000,9,  2336.0,2,  2428.1,2,   7.5628,2,    25.00, -999.00,9,  -999.0,9,  -999.0,-999.0000,9, -999.00,9,  -999.0,9, -999.00,9, -999.00,9,     -999.0,9, -999.00,9,  -999.0,9,     -999.0,     -999.0,9,     -999.0,9,     -999.0,     -999.0,9,     -999.0,     -999.0,9,     -999.0,     -999.0,     -999.0,9,     -999.0,9,     -999.0,9,     -999.0,9,     -999.0,9,     -999.0,9,     -999.0,9,     -999.0,9
33RO20161119,        P18,      94,          1,          5,      11104,2,20161216,       0237,   -12.9995,  -103.0001,       4356,  3159.7,   1.7707,  34.6775,2,  34.6778,2,    137.9,2,   137.6,2,   139.2,2,    36.6,2,    0.01,2,   2.563,2,-999.0000,9,-999.0000,9,-999.0000,9,  2332.4,2,  2427.8,2,   7.5614,2,    25.00, -999.00,9,  -999.0,9,  -999.0,-999.0000,9, -999.00,9,  -999.0,9, -999.00,9, -999.00,9,     -999.0,9, -999.00,9,  -999.0,9,     -999.0,     -999.0,9,     -999.0,9,     -999.0,     -999.0,9,     -999.0,     -999.0,9,     -999.0,     -999.0,     -999.0,9,     -999.0,9,     -999.0,9,     -999.0,9,     -999.0,9,     -999.0,9,     -999.0,9,     -999.0,9
33RO20161119,        P18,      94,          1,          6,      11105,2,20161216,       0237,   -12.9995,  -103.0001,       4356,  2830.0,   1.7808,  34.6774,2,  34.6774,2,    141.0,2,   140.9,2,   133.6,2,    36.3,2,    0.01,2,   2.552,2,-999.0000,9,-999.0000,9,-999.0000,9,  2329.5,6,  2421.7,2,   7.5631,2,    25.00, -999.00,9,  -999.0,9,  -999.0,-999.0000,9, -999.00,9,  -999.0,9, -999.00,9, -999.00,9,     -999.0,9, -999.00,9,  -999.0,9,     -999.0,     -999.0,9,     -999.0,9,     -999.0,     -999.0,9,     -999.0,     -999.0,9,     -999.0,     -999.0,     -999.0,9,     -999.0,9,     -999.0,9,     -999.0,9,     -999.0,9,     -999.0,9,     -999.0,9,     -999.0,9
33RO20161119,        P18,      94,          1,          7,      11106,2,20161216,       0237,   -12.9995,  -103.0001,       4356,  2495.0,   1.8432,  34.6711,2,  34.6719,2,    145.7,2,   145.7,2,   124.9,2,    35.8,2,    0.01,2,   2.513,2,-999.0000,9,-999.0000,9,-999.0000,9,  2315.8,2,  2407.3,2,   7.5607,2,    25.00, -999.00,9,  -999.0,9,  -999.0,-999.0000,9, -999.00,9,  -999.0,9, -999.00,9, -999.00,9,     -999.0,9, -999.00,9,  -999.0,9,     -999.0,     -999.0,9,     -999.0,9,     -999.0,     -999.0,9,     -999.0,     -999.0,9,     -999.0,     -999.0,     -999.0,9,     -999.0,9,     -999.0,9,     -999.0,9,     -999.0,9,     -999.0,9,     -999.0,9,     -999.0,9
33RO20161119,        P18,      94,          1,          8,      11107,2,20161216,       0237,   -12.9995,  -103.0001,       4356,  2139.9,   2.0829,  34.6517,2,  34.6518,2,    127.8,2,   127.4,2,   125.9,2,    37.3,2,    0.01,2,   2.643,2,   0.0007,2,   0.0008,2,   0.0000,2,  2325.6,2,  2407.9,2,   7.5294,2,    25.00, -999.00,9,  -999.0,9,  -999.0,   0.0157,2, -999.00,9,  -999.0,9, -999.00,9, -999.00,9,    23.2342,2, -999.00,9,  -999.0,9,     -999.0,     -999.0,9,     -999.0,9,     -999.0,     -999.0,9,     -999.0,     -999.0,9,     -999.0,     -999.0,     -999.0,9,     -999.0,9,     -999.0,9,     -999.0,9,     -999.0,9,     -999.0,9,     -999.0,9,     -999.0,9
33RO20161119,        P18,      94,          1,          9,      11108,2,20161216,       0237,   -12.9995,  -103.0001,       4356,  1760.1,   2.5111,  34.6231,2,  34.6231,2,    111.4,2,   110.6,2,   119.0,2,    38.8,2,    0.01,2,   2.734,2,-999.0000,9,-999.0000,9,-999.0000,9,  2326.1,2,  2397.5,2,   7.4983,2,    25.00, -999.00,9,  -999.0,9,  -999.0,-999.0000,9, -999.00,9,  -999.0,9, -999.00,9, -999.00,9,     -999.0,9, -999.00,9,  -999.0,9,     -999.0,     -999.0,9,     -999.0,9,     -999.0,     -999.0,9,     -999.0,     -999.0,9,     -999.0,     -999.0,     -999.0,9,     -999.0,9,     -999.0,9,     -999.0,9,     -999.0,9,     -999.0,9,     -999.0,9,     -999.0,9
33RO20161119,        P18,      94,          1,         10,      11109,2,20161216,       0237,   -12.9995,  -103.0001,       4356,  1534.7,   2.8443,  34.6011,2,  34.6086,4,    102.3,2,   101.4,2,   110.0,2,    39.6,2,    0.01,2,   2.803,2,-999.0000,9,-999.0000,9,-999.0000,9,  2320.6,2,  2386.6,2,   7.4766,2,    25.00, -999.00,9,  -999.0,9,  -999.0,-999.0000,9, -999.00,9,  -999.0,9, -999.00,9, -999.00,9,     -999.0,9, -999.00,9,  -999.0,9,     -999.0,     -999.0,9,     -999.0,9,     -999.0,     -999.0,9,     -999.0,     -999.0,9,     -999.0,     -999.0,     -999.0,9,     -999.0,9,     -999.0,9,     -999.0,9,     -999.0,9,     -999.0,9,     -999.0,9,     -999.0,9
33RO20161119,        P18,      94,          1,         11,      11110,2,20161216,       0237,   -12.9995,  -103.0001,       4356,  1370.2,   3.2706,  34.5771,2,  34.5781,2,     90.2,2,    89.3,2,   100.1,2,    40.6,2,    0.01,2,   2.899,2,   0.0010,2,   0.0016,2,   0.0343,2,  2315.9,2,  2375.2,2,   7.4524,2,    25.00, -999.00,9,  -999.0,9,  -999.0,   0.0254,2, -999.00,9,  -999.0,9, -999.00,9, -999.00,9,    30.6323,2, -999.00,9,  -999.0,9,     -999.0,     -999.0,9,     -999.0,9,     -999.0,     -999.0,9,     -999.0,     -999.0,9,     -999.0,     -999.0,     -999.0,9,     -999.0,9,     -999.0,9,     -999.0,9,     -999.0,9,     -999.0,9,     -999.0,9,     -999.0,9
33RO20161119,        P18,      94,          1,         12,      11111,2,20161216,       0237,   -12.9995,  -103.0001,       4356,  1214.6,   3.6761,  34.5590,2,  34.5583,2,     81.4,2,    81.0,2,    91.4,2,    41.4,2,    0.01,2,   2.951,2,-999.0000,9,-999.0000,9,-999.0000,9,  2314.9,2,  2360.6,2,   7.4359,2,    25.00, -999.00,9,  -999.0,9,  -999.0,-999.0000,9, -999.00,9,  -999.0,9, -999.00,9, -999.00,9,     -999.0,9, -999.00,9,  -999.0,9,     -999.0,     -999.0,9,     -999.0,9,     -999.0,     -999.0,9,     -999.0,     -999.0,9,     -999.0,     -999.0,     -999.0,9,     -999.0,9,     -999.0,9,     -999.0,9,     -999.0,9,     -999.0,9,     -999.0,9,     -999.0,9
33RO20161119,        P18,      94,          1,         13,      11112,2,20161216,       0237,   -12.9995,  -103.0001,       4356,  1074.9,   4.1820,  34.5384,2,  34.5384,2,     72.6,2,    71.5,2,    79.9,2,    42.2,2,    0.01,2,   2.970,2,-999.0000,9,-999.0000,9,-999.0000,9,  2307.2,2,  2348.1,2,   7.4190,2,    25.00, -999.00,9,  -999.0,9,  -999.0,-999.0000,9, -999.00,9,  -999.0,9, -999.00,9, -999.00,9,     -999.0,9, -999.00,9,  -999.0,9,     -999.0,     -999.0,9,     -999.0,9,     -999.0,     -999.0,9,     -999.0,     -999.0,9,     -999.0,     -999.0,     -999.0,9,     -999.0,9,     -999.0,9,     -999.0,9,     -999.0,9,     -999.0,9,     -999.0,9,     -999.0,9
33RO20161119,        P18,      94,          1,         14,      11113,2,20161216,       0237,   -12.9995,  -103.0001,       4356,   940.2,   4.7900,  34.5226,2,  34.5389,4,     65.2,2,    64.5,2,    67.6,2,    42.6,2,    0.01,2,   2.964,2,   0.0029,2,   0.0012,2,   0.0000,2,  2296.0,2,  2336.6,2,   7.4102,2,    25.00, -999.00,9,  -999.0,9,  -999.0,   0.0432,2, -999.00,9,  -999.0,9, -999.00,9, -999.00,9,    37.9372,2, -999.00,9,  -999.0,9,     -999.0,     -999.0,9,     -999.0,9,     -999.0,     -999.0,9,     -999.0,     -999.0,9,     -999.0,     -999.0,     -999.0,9,     -999.0,9,     -999.0,9,     -999.0,9,     -999.0,9,     -999.0,9,     -999.0,9,     -999.0,9
33RO20161119,        P18,      94,          1,         15,      11114,2,20161216,       0237,   -12.9995,  -103.0001,       4356,   805.0,   5.5620,  34.5218,2,  34.5223,2,     51.5,2,    50.7,2,    55.5,2,    43.1,2,    0.01,2,   2.974,2,-999.0000,9,-999.0000,9,-999.0000,9,  2296.5,2,  2321.6,2,   7.3907,2,    25.00, -999.00,9,  -999.0,9,  -999.0,-999.0000,9, -999.00,9,  -999.0,9, -999.00,9, -999.00,9,     -999.0,9, -999.00,9,  -999.0,9,     -999.0,     -999.0,9,     -999.0,9,     -999.0,     -999.0,9,     -999.0,     -999.0,9,     -999.0,     -999.0,     -999.0,9,     -999.0,9,     -999.0,9,     -999.0,9,     -999.0,9,     -999.0,9,     -999.0,9,     -999.0,9
33RO20161119,        P18,      94,          1,         16,      11115,2,20161216,       0237,   -12.9995,  -103.0001,       4356,   670.9,   6.4697,  34.5393,2,  34.5399,2,     42.6,2,    41.2,2,    45.0,2,    42.2,2,    0.01,2,   2.887,2,   0.0162,2,   0.0098,2,   0.0000,2,  2282.2,2,  2310.2,2,   7.3805,2,    25.00, -999.00,9,  -999.0,9,  -999.0,   0.0578,2, -999.00,9,  -999.0,9, -999.00,9, -999.00,9,    49.5559,2, -999.00,9,  -999.0,9,     -999.0,     -999.0,9,     -999.0,9,     -999.0,     -999.0,9,     -999.0,     -999.0,9,     -999.0,     -999.0,     -999.0,9,     -999.0,9,     -999.0,9,     -999.0,9,     -999.0,9,     -999.0,9,     -999.0,9,     -999.0,9
33RO20161119,        P18,      94,          1,         17,      11116,2,20161216,       0237,   -12.9995,  -103.0001,       4356,   555.2,   7.5389,  34.5805,2,  34.5792,2,     38.3,2,    37.2,2,    36.5,2,    39.8,2,    0.01,2,   2.741,2,   0.0721,2,   0.0422,2,   0.0000,2,  2270.8,2,  2302.4,2,   7.3946,2,    25.00, -999.00,9,  -999.0,9,  -999.0,   0.0578,2, -999.00,9,  -999.0,9, -999.00,9, -999.00,9,    52.9467,2, -999.00,9,  -999.0,9,     -999.0,     -999.0,9,     -999.0,9,     -999.0,     -999.0,9,     -999.0,     -999.0,9,     -999.0,     -999.0,     -999.0,9,     -999.0,9,     -999.0,9,     -999.0,9,     -999.0,9,     -999.0,9,     -999.0,9,     -999.0,9
33RO20161119,        P18,      94,          1,         18,      11117,2,20161216,       0237,   -12.9995,  -103.0001,       4356,   435.6,   8.7270,  34.6453,2,  34.6446,2,     29.5,2,    28.0,2,    31.2,2,    37.2,2,    0.01,2,   2.663,2,   0.1819,2,   0.1031,2,   0.0000,2,  2267.9,2,  2302.7,2,   7.4001,2,    25.00, -999.00,9,  -999.0,9,  -999.0,    0.124,2, -999.00,9,  -999.0,9, -999.00,9, -999.00,9,    58.9718,2, -999.00,9,  -999.0,9,     -999.0,     -999.0,9,     -999.0,9,     -999.0,     -999.0,9,     -999.0,     -999.0,9,     -999.0,     -999.0,     -999.0,9,     -999.0,9,     -999.0,9,     -999.0,9,     -999.0,9,     -999.0,9,     -999.0,9,     -999.0,9
33RO20161119,        P18,      94,          1,         19,      11083,2,20161216,       0237,   -12.9995,  -103.0001,       4356,   330.2,  10.1467,  34.7012,2,  34.6988,2,     10.9,2,    10.9,6,    26.4,2,    33.3,2,    0.01,2,   2.647,2,   0.4484,2,   0.2451,2,   0.0822,2,  2269.2,2,  2299.7,6,   7.3758,2,    25.00, -999.00,9,  -999.0,9,  -999.0,   0.1283,2, -999.00,9,  -999.0,9, -999.00,9, -999.00,9,    57.5685,2, -999.00,9,  -999.0,9,     -999.0,     -999.0,9,     -999.0,9,     -999.0,     -999.0,9,     -999.0,     -999.0,9,     -999.0,     -999.0,     -999.0,9,     -999.0,9,     -999.0,9,     -999.0,9,     -999.0,9,     -999.0,9,     -999.0,9,     -999.0,9
33RO20161119,        P18,      94,          1,         20,      11118,2,20161216,       0237,   -12.9995,  -103.0001,       4356,   235.2,  12.6162,  34.7606,2,  34.7613,2,     29.3,2,    23.3,2,    18.0,2,    21.4,2,    0.01,2,   2.452,2,   1.6240,6,   0.9410,6,   0.5481,6,  2251.5,2,  2299.8,2,   7.4302,2,    25.00, -999.00,9,  -999.0,9,  -999.0,   0.5816,2, -999.00,9,  -999.0,9, -999.00,9, -999.00,9,    44.0073,2, -999.00,9,  -999.0,9,     -999.0,     -999.0,9,     -999.0,9,     -999.0,     -999.0,9,     -999.0,     -999.0,9,     -999.0,     -999.0,     -999.0,9,     -999.0,9,     -999.0,9,     -999.0,9,     -999.0,9,     -999.0,9,     -999.0,9,     -999.0,9
33RO20161119,        P18,      94,          1,         21,      11119,2,20161216,       0237,   -12.9995,  -103.0001,       4356,   154.6,  17.8074,  35.3169,2,  35.3429,2,    183.2,2,   183.8,2,     1.5,2,     4.8,2,    0.04,2,   0.809,2,   2.2562,2,   1.3950,2,   1.5276,2,  2121.4,2,  2339.2,6,   7.8679,2,    25.00, -999.00,9,  -999.0,9,  -999.0,   1.4325,2, -999.00,9,  -999.0,9, -999.00,9, -999.00,9,    11.1358,2, -999.00,9,  -999.0,9,     -999.0,     -999.0,9,     -999.0,9,     -999.0,     -999.0,9,     -999.0,     -999.0,9,     -999.0,     -999.0,     -999.0,9,     -999.0,9,     -999.0,9,     -999.0,9,     -999.0,9,     -999.0,9,     -999.0,9,     -999.0,9
33RO20161119,        P18,      94,          1,         22,      11120,2,20161216,       0237,   -12.9995,  -103.0001,       4356,    70.6,  22.9345,  36.2104,2,  36.2121,2,    212.7,2,   212.7,6,     0.9,2,     0.0,2,    0.01,2,   0.324,2,   1.7938,2,   1.1333,2,   1.5067,2,  2078.1,6,  2388.0,2,   8.0271,6,    25.00, -999.00,9,  -999.0,9,  -999.0,   1.7298,2, -999.00,9,  -999.0,9, -999.00,9, -999.00,9,     6.9235,2, -999.00,9,  -999.0,9,     -999.0,     -999.0,9,     -999.0,9,     -999.0,     -999.0,9,     -999.0,     -999.0,9,     -999.0,     -999.0,     -999.0,9,     -999.0,9,     -999.0,9,     -999.0,9,     -999.0,9,     -999.0,9,     -999.0,9,     -999.0,9
33RO20161119,        P18,      94,          1,         23,      11121,2,20161216,       0237,   -12.9995,  -103.0001,       4356,    45.1,  24.0539,  35.9486,2,  36.1235,3,    212.9,2,   215.4,2,     1.0,2,     0.0,2,    0.02,2,   0.348,2,   1.7623,2,   1.1138,2,   1.4759,2,  2067.4,2,  2387.0,2,   8.0363,2,    25.00, -999.00,9,  -999.0,9,  -999.0,        0,2, -999.00,9,  -999.0,9, -999.00,9, -999.00,9,     6.8345,2, -999.00,9,  -999.0,9,     -999.0,     -999.0,9,     -999.0,9,     -999.0,     -999.0,9,     -999.0,     -999.0,9,     -999.0,     -999.0,     -999.0,9,     -999.0,9,     -999.0,9,     -999.0,9,     -999.0,9,     -999.0,9,     -999.0,9,     -999.0,9
33RO20161119,        P18,      94,          1,         24,      11122,2,20161216,       0237,   -12.9995,  -103.0001,       4356,     3.8,  24.2670,  35.8689,2,  35.8663,2,    211.7,2,   212.7,2,     1.1,2,     1.2,2,    0.06,2,   0.468,2,   1.7088,2,   1.0772,2,   1.4383,2,  2061.4,2,  2367.2,2,   8.0253,2,    25.00, -999.00,9,  -999.0,9,  -999.0,        0,2, -999.00,9,  -999.0,9, -999.00,9, -999.00,9,     6.8879,2, -999.00,9,  -999.0,9,     -999.0,     -999.0,9,     -999.0,9,     -999.0,     -999.0,9,     -999.0,     -999.0,9,     -999.0,     -999.0,     -999.0,9,     -999.0,9,     -999.0,9,     -999.0,9,     -999.0,9,     -999.0,9,     -999.0,9,     -999.0,9