BOTTLE,20230606CCHSIOCBG
EXPOCODE,SECT_ID,STNNBR,CASTNO,SAMPNO,BTLNBR,BTLNBR_FLAG_W,DATE,TIME,LATITUDE,LONGITUDE,DEPTH,CTDPRS,CTDTMP,CTDSAL,CTDSAL_FLAG_W,SALNTY,SALNTY_FLAG_W,CTDOXY,CTDOXY_FLAG_W,OXYGEN,OXYGEN_FLAG_W,SILCAT,SILCAT_FLAG_W,NITRAT,NITRAT_FLAG_W,NITRIT,NITRIT_FLAG_W,PHSPHT,PHSPHT_FLAG_W,CFC-11,CFC-11_FLAG_W,CFC-12,CFC-12_FLAG_W,SF6,SF6_FLAG_W,TCARBN,TCARBN_FLAG_W,ALKALI,ALKALI_FLAG_W,PH_SWS,PH_SWS_FLAG_W,PH_TMP,DELC13,DELC13_FLAG_W,DELC14,DELC14_FLAG_W,C14ERR,CCL4,CCL4_FLAG_W,POC,POC_FLAG_W,DOC,DOC_FLAG_W,TDN,TDN_FLAG_W,PON,PON_FLAG_W,N2O,N2O_FLAG_W,D15N_NO3,D15N_NO3_FLAG_W,14C-DOC,14C-DOC_FLAG_W,14C-DOCERR,13C-DOC,13C-DOC_FLAG_W,N2/ARGON_UNSTRIPPED,N2/ARGON_UNSTRIPPED_FLAG_W,N2/ARGON_UNSTRIPPED_ERROR,N2/ARGON,N2/ARGON_FLAG_W,N2/ARGON_ERROR,D15N_N2,D15N_N2_FLAG_W,D15N_N2_ERROR,D15N_NO3_ERROR,D15N_NO2+NO3,D15N_NO2+NO3_FLAG_W,D18O_NO2+NO3,D18O_NO2+NO3_FLAG_W,D18O_NO3,D18O_NO3_FLAG_W,TDP,TDP_FLAG_W,N2O_ALT_1,N2O_ALT_1_FLAG_W,D15N_N2O,D15N_N2O_FLAG_W,D18O_N2O,D18O_N2O_FLAG_W,D15N_ALPHA_N2O,D15N_ALPHA_N2O_FLAG_W
,,,,,,,,,,,METERS,DBAR,ITS-90,PSS-78,,PSS-78,,UMOL/KG,,UMOL/KG,,UMOL/KG,,UMOL/KG,,UMOL/KG,,UMOL/KG,,PMOL/KG,,PMOL/KG,,FMOL/KG,,UMOL/KG,,UMOL/KG,,,,DEG C,/MILLE,,/MILLE,,/MILLE,PMOL/KG,,UG/KG,,UMOL/KG,,UMOL/KG,,UG/KG,,NMOL/KG,,/MILLE,,/MILLE,,/MILLE,/MILLE,,,,,,,,/MILLE,,/MILLE,/MILLE,/MILLE,,/MILLE,,/MILLE,,UMOL/KG,,NMOL/L,,/MILLE,,/MILLE,,/MILLE,
33RO20161119,        P18,       4,          1,          1,      11010,2,20161125,       1550,    22.5017,  -109.9992,       3047,  3071.2,   1.6254,  34.6744,2,  34.6763,2,    115.8,2,   115.5,2,   165.6,6,    37.9,6,    0.02,6,   2.649,6,   0.0139,2,   0.0124,2,   0.0000,2,  2358.1,6,  2437.7,2,   7.5194,2,    25.00, -999.00,9,  -999.0,9,  -999.0,        0,2, -999.00,9,  -999.0,9, -999.00,9, -999.00,9,    22.1558,2, -999.00,9,  -999.0,9,     -999.0,     -999.0,9,     -999.0,9,     -999.0,     -999.0,9,     -999.0,     -999.0,9,     -999.0,     -999.0,     -999.0,9,     -999.0,9,     -999.0,9,     -999.0,9,     -999.0,9,     -999.0,9,     -999.0,9,     -999.0,9
33RO20161119,        P18,       4,          1,          2,      11101,2,20161125,       1550,    22.5017,  -109.9992,       3047,  2841.1,   1.7041,  34.6685,2,  34.6677,2,    110.8,2,   111.8,2,   162.0,6,    38.4,6,    0.01,6,   2.677,6,-999.0000,9,-999.0000,9,-999.0000,9,  2358.0,2,  2432.7,6,   7.5121,2,    25.00, -999.00,9,  -999.0,9,  -999.0,-999.0000,9, -999.00,9,  -999.0,9, -999.00,9, -999.00,9,     -999.0,9, -999.00,9,  -999.0,9,     -999.0,     -999.0,9,     -999.0,9,     -999.0,     -999.0,9,     -999.0,     -999.0,9,     -999.0,     -999.0,     -999.0,9,     -999.0,9,     -999.0,9,     -999.0,9,     -999.0,9,     -999.0,9,     -999.0,9,     -999.0,9
33RO20161119,        P18,       4,          1,          3,      11102,2,20161125,       1550,    22.5017,  -109.9992,       3047,  2635.5,   1.7602,  34.6656,2,  34.6647,2,    106.2,2,   106.5,2,   160.5,6,    38.4,6,    0.01,6,   2.700,6,-999.0000,9,-999.0000,9,-999.0000,9,  2360.3,2,  2432.8,2,   7.5022,2,    25.00, -999.00,9,  -999.0,9,  -999.0,-999.0000,9, -999.00,9,  -999.0,9, -999.00,9, -999.00,9,     -999.0,9, -999.00,9,  -999.0,9,     -999.0,     -999.0,9,     -999.0,9,     -999.0,     -999.0,9,     -999.0,     -999.0,9,     -999.0,     -999.0,     -999.0,9,     -999.0,9,     -999.0,9,     -999.0,9,     -999.0,9,     -999.0,9,     -999.0,9,     -999.0,9
33RO20161119,        P18,       4,          1,          4,      11103,2,20161125,       1550,    22.5017,  -109.9992,       3047,  2375.2,   1.8702,  34.6587,2,  34.6568,2,     99.5,2,    99.2,2,   157.6,6,    38.9,6,    0.01,6,   2.744,6,-999.0000,9,-999.0000,9,-999.0000,9,  2363.9,2,  2431.8,2,   7.4895,2,    25.00, -999.00,9,  -999.0,9,  -999.0,-999.0000,9, -999.00,9,  -999.0,9, -999.00,9, -999.00,9,     -999.0,9, -999.00,9,  -999.0,9,     -999.0,     -999.0,9,     -999.0,9,     -999.0,     -999.0,9,     -999.0,     -999.0,9,     -999.0,     -999.0,     -999.0,9,     -999.0,9,     -999.0,9,     -999.0,9,     -999.0,9,     -999.0,9,     -999.0,9,     -999.0,9
33RO20161119,        P18,       4,          1,          5,      11104,2,20161125,       1550,    22.5017,  -109.9992,       3047,  2146.0,   2.0233,  34.6496,2,  34.6480,2,     89.0,2,    89.4,2,   155.4,2,    39.5,2,    0.01,2,   2.809,2,-999.0000,9,-999.0000,9,-999.0000,9,  2368.0,2,  2426.5,2,   7.4695,2,    25.00, -999.00,9,  -999.0,9,  -999.0,-999.0000,9, -999.00,9,  -999.0,9, -999.00,9, -999.00,9,     -999.0,9, -999.00,9,  -999.0,9,     -999.0,     -999.0,9,      38.07,2,     -999.0,      38.25,2,     -999.0,     -999.0,9,     -999.0,     -999.0,     -999.0,9,     -999.0,9,     -999.0,9,     -999.0,9,26.30955346,2,      11.25,2,      61.97,2,      26.57,2
33RO20161119,        P18,       4,          1,          6,      11105,2,20161125,       1550,    22.5017,  -109.9992,       3047,  1940.2,   2.3120,  34.6321,2,  34.6358,2,     74.3,2,    75.8,2,   150.5,2,    40.6,2,    0.01,2,   2.906,2,   0.0098,2,   0.0043,2,   0.0122,2,  2372.4,2,  2419.1,2,   7.4379,2,    25.00, -999.00,9,  -999.0,9,  -999.0,        0,2, -999.00,9,  -999.0,9, -999.00,9, -999.00,9,    30.1394,2, -999.00,9,  -999.0,9,     -999.0,     -999.0,9,      37.98,2,     -999.0,      38.15,2,     -999.0,     -999.0,9,     -999.0,     -999.0,     -999.0,9,     -999.0,9,     -999.0,9,     -999.0,9,29.28454153,2,      11.23,2,      61.99,2,       25.9,2
33RO20161119,        P18,       4,          1,          7,      11106,2,20161125,       1550,    22.5017,  -109.9992,       3047,  1700.7,   2.6905,  34.6119,2,  34.6116,2,     57.1,2,    58.1,2,   144.4,2,    41.7,2,    0.01,2,   3.023,2,-999.0000,9,-999.0000,9,-999.0000,9,  2375.3,2,  2409.2,2,   7.4036,2,    25.00, -999.00,9,  -999.0,9,  -999.0,-999.0000,9, -999.00,9,  -999.0,9, -999.00,9, -999.00,9,     -999.0,9, -999.00,9,  -999.0,9,     -999.0,     -999.0,9,      38.26,2,     -999.0,       38.4,2,     -999.0,     -999.0,9,     -999.0,     -999.0,     -999.0,9,     -999.0,9,     -999.0,9,     -999.0,9,32.74104295,2,      11.03,2,      62.39,2,      25.06,2
33RO20161119,        P18,       4,          1,          8,      11107,2,20161125,       1550,    22.5017,  -109.9992,       3047,  1455.4,   3.1425,  34.5871,2,  34.5861,2,     40.5,2,    40.0,6,   134.8,2,    42.8,2,    0.01,2,   3.136,2,-999.0000,9,-999.0000,9,-999.0000,9,  2376.6,2,  2403.3,2,   7.3722,2,    25.00, -999.00,9,  -999.0,9,  -999.0,-999.0000,9, -999.00,9,  -999.0,9, -999.00,9, -999.00,9,     -999.0,9, -999.00,9,  -999.0,9,     -999.0,     -999.0,9,      38.03,2,     -999.0,       38.2,2,     -999.0,     -999.0,9,     -999.0,     -999.0,     -999.0,9,     -999.0,9,     -999.0,9,     -999.0,9,37.49707689,2,      10.84,2,      62.03,2,      24.56,2
33RO20161119,        P18,       4,          1,          9,      11108,2,20161125,       1550,    22.5017,  -109.9992,       3047,  1194.8,   3.7850,  34.5569,2,  34.5560,2,     23.2,2,    23.0,2,   121.5,2,    43.5,2,    0.01,2,   3.239,2,-999.0000,9,-999.0000,9,-999.0000,9,  2371.3,2,  2382.4,2,   7.3419,2,    25.00, -999.00,9,  -999.0,9,  -999.0,-999.0000,9, -999.00,9,  -999.0,9, -999.00,9, -999.00,9,     -999.0,9, -999.00,9,  -999.0,9,     -999.0,     -999.0,9,      38.11,2,     -999.0,      38.28,2,     -999.0,     -999.0,9,     -999.0,     -999.0,     -999.0,9,     -999.0,9,     -999.0,9,     -999.0,9,43.18540974,2,      10.47,2,      62.07,2,      24.27,2
33RO20161119,        P18,       4,          1,         10,      11109,2,20161125,       1550,    22.5017,  -109.9992,       3047,  1095.3,   4.1384,  34.5424,2,  34.5412,2,     16.7,2,    16.2,2,   114.4,2,    43.6,2,    0.01,2,   3.274,2,   0.0146,2,   0.0048,2,   0.0502,2,  2367.0,2,  2375.5,2,   7.3229,2,    25.00, -999.00,9,  -999.0,9,  -999.0,        0,2, -999.00,9,  -999.0,9, -999.00,9, -999.00,9,     47.975,2, -999.00,9,  -999.0,9,     -999.0,     -999.0,9,      38.06,2,     -999.0,      38.22,2,     -999.0,     -999.0,9,     -999.0,     -999.0,     -999.0,9,     -999.0,9,     -999.0,9,     -999.0,9,46.72479983,2,      10.08,2,       62.1,2,      22.95,2
33RO20161119,        P18,       4,          1,         11,      11110,2,20161125,       1550,    22.5017,  -109.9992,       3047,   935.3,   4.6944,  34.5146,2,  34.5135,2,     10.3,2,     9.9,2,   102.1,2,    43.3,2,    0.02,2,   3.345,2,-999.0000,9,-999.0000,9,-999.0000,9,  2357.2,2,  2362.6,2,   7.3148,2,    25.00, -999.00,9,  -999.0,9,  -999.0,-999.0000,9, -999.00,9,  -999.0,9, -999.00,9, -999.00,9,     -999.0,9, -999.00,9,  -999.0,9,     -999.0,     -999.0,9,      38.04,2,     -999.0,       38.2,2,     -999.0,     -999.0,9,     -999.0,     -999.0,     -999.0,9,     -999.0,9,     -999.0,9,     -999.0,9,  52.892799,2,       9.76,2,      61.61,2,      20.36,2
33RO20161119,        P18,       4,          1,         12,      11111,2,20161125,       1550,    22.5017,  -109.9992,       3047,   834.9,   5.0625,  34.5010,2,  34.5006,2,      7.8,2,     6.9,2,    95.7,2,    42.5,2,    0.01,2,   3.247,2,-999.0000,9,-999.0000,9,-999.0000,9,  2349.9,6,  2351.9,2,   7.3116,2,    25.00, -999.00,9,  -999.0,9,  -999.0,-999.0000,9, -999.00,9,  -999.0,9, -999.00,9, -999.00,9,     -999.0,9, -999.00,9,  -999.0,9,     -999.0,     -999.0,9,       38.1,2,     -999.0,      38.26,2,     -999.0,     -999.0,9,     -999.0,     -999.0,     -999.0,9,     -999.0,9,     -999.0,9,     -999.0,9,55.45599642,2,       9.54,2,      61.94,2,      19.76,2
33RO20161119,        P18,       4,          1,         13,      11112,2,20161125,       1550,    22.5017,  -109.9992,       3047,   730.0,   5.7446,  34.4877,2,  34.4876,2,      5.2,2,     4.1,2,    85.1,2,    40.6,2,    0.01,2,   3.201,2,   0.0249,2,   0.0132,2,   0.0229,2,  2339.1,2,  2344.6,2,   7.3118,2,    25.00, -999.00,9,  -999.0,9,  -999.0,   0.0165,2, -999.00,9,  -999.0,9, -999.00,9, -999.00,9,    57.9606,2, -999.00,9,  -999.0,9,     -999.0,     -999.0,9,      38.17,2,     -999.0,      38.33,2,     -999.0,     -999.0,9,     -999.0,     -999.0,     -999.0,9,     -999.0,9,     -999.0,9,     -999.0,9,61.44394965,2,       8.04,2,      53.76,2,      17.63,2
33RO20161119,        P18,       4,          1,         14,      11113,2,20161125,       1550,    22.5017,  -109.9992,       3047,   640.1,   6.4691,  34.4837,2,  34.4868,2,      3.9,2,     3.0,2,    74.5,2,    38.3,2,    0.01,2,   3.149,2,-999.0000,9,-999.0000,9,-999.0000,9,  2327.9,2,  2332.1,2,   7.3166,2,    25.00, -999.00,9,  -999.0,9,  -999.0,-999.0000,9, -999.00,9,  -999.0,9, -999.00,9, -999.00,9,     -999.0,9, -999.00,9,  -999.0,9,     -999.0,     -999.0,9,      38.26,2,     -999.0,      38.42,2,     -999.0,     -999.0,9,     -999.0,     -999.0,     -999.0,9,     -999.0,9,     -999.0,9,     -999.0,9,53.71724157,2,      10.19,2,      63.14,2,      21.94,2
33RO20161119,        P18,       4,          1,         15,      11114,2,20161125,       1550,    22.5017,  -109.9992,       3047,   550.7,   7.3329,  34.4984,2,  34.4983,2,      3.4,2,     2.1,2,    64.5,2,    35.4,2,    0.01,2,   3.077,2,-999.0000,9,-999.0000,9,-999.0000,9,  2313.3,2,  2326.0,2,   7.3247,6,    25.00, -999.00,9,  -999.0,9,  -999.0,-999.0000,9, -999.00,9,  -999.0,9, -999.00,9, -999.00,9,     -999.0,9, -999.00,9,  -999.0,9,     -999.0,     -999.0,9,      38.17,2,     -999.0,      38.33,2,     -999.0,     -999.0,9,     -999.0,     -999.0,     -999.0,9,     -999.0,9,     -999.0,9,     -999.0,9,24.48659574,2,      10.83,2,       65.3,2,      27.48,2
33RO20161119,        P18,       4,          1,         16,      11115,2,20161125,       1550,    22.5017,  -109.9992,       3047,   455.5,   8.2030,  34.4912,2,  34.4915,2,      5.1,2,     4.5,2,    55.4,2,    32.2,2,    0.01,2,   2.947,2,   0.2559,2,   0.1389,2,   0.0765,2,  2301.3,2,  2313.2,6,   7.3302,2,    25.00, -999.00,9,  -999.0,9,  -999.0,   0.0717,2, -999.00,9,  -999.0,9, -999.00,9, -999.00,9,    45.7176,2, -999.00,9,  -999.0,9,     -999.0,     -999.0,9,      38.28,2,     -999.0,      38.43,2,     -999.0,     -999.0,9,     -999.0,     -999.0,     -999.0,9,     -999.0,9,     -999.0,9,     -999.0,9,44.68304031,2,      11.14,2,       58.8,2,      24.91,2
33RO20161119,        P18,       4,          1,         17,      11116,2,20161125,       1550,    22.5017,  -109.9992,       3047,   380.8,   9.2327,  34.5419,2,  34.5396,2,      5.3,2,     4.5,2,    46.7,2,    29.0,2,    0.01,2,   2.835,2,-999.0000,9,-999.0000,9,-999.0000,9,  2292.7,2,  2308.4,2,   7.3449,2,    25.00, -999.00,9,  -999.0,9,  -999.0,-999.0000,9, -999.00,9,  -999.0,9, -999.00,9, -999.00,9,     -999.0,9, -999.00,9,  -999.0,9,     -999.0,     -999.0,9,      38.25,2,     -999.0,       38.4,2,     -999.0,     -999.0,9,     -999.0,     -999.0,     -999.0,9,     -999.0,9,     -999.0,9,     -999.0,9,36.08032855,2,      12.35,2,      60.38,2,       26.8,2
33RO20161119,        P18,       4,          1,         18,      11117,2,20161125,       1550,    22.5017,  -109.9992,       3047,   300.8,  10.6484,  34.6519,2,  34.6519,2,      2.7,2,     1.6,6,    39.6,2,    24.5,2,    0.02,2,   2.744,2,-999.0000,9,-999.0000,9,-999.0000,9,  2286.0,2,  2310.1,2,   7.3572,2,    25.00, -999.00,9,  -999.0,9,  -999.0,-999.0000,9, -999.00,9,  -999.0,9, -999.00,9, -999.00,9,     -999.0,9, -999.00,9,  -999.0,9,     -999.0,     -999.0,9,      38.42,2,     -999.0,      38.58,2,     -999.0,     -999.0,9,     -999.0,     -999.0,     -999.0,9,     -999.0,9,     -999.0,9,     -999.0,9,27.68356625,2,      14.03,2,      58.89,2,      26.87,2
33RO20161119,        P18,       4,          1,         19,      11083,2,20161125,       1550,    22.5017,  -109.9992,       3047,   235.9,  11.8020,  34.7178,2,  34.7201,2,      4.7,2,     5.1,2,    36.4,2,    24.0,2,    0.02,2,   2.696,2,   0.8569,6,   0.5029,6,   0.3029,6,  2280.4,2,  2309.9,2,   7.3859,2,    25.00, -999.00,9,  -999.0,9,  -999.0,   0.0813,2, -999.00,9,  -999.0,9, -999.00,9, -999.00,9,    29.1104,2, -999.00,9,  -999.0,9,     -999.0,     -999.0,9,      38.49,2,     -999.0,      38.64,2,     -999.0,     -999.0,9,     -999.0,     -999.0,     -999.0,9,     -999.0,9,     -999.0,9,     -999.0,9,30.84114501,2,      13.13,2,      53.68,2,      25.25,2
33RO20161119,        P18,       4,          1,         20,      11118,2,20161125,       1550,    22.5017,  -109.9992,       3047,   170.4,  12.7551,  34.6764,2,-999.0000,9,     10.1,2,  -999.0,9,    30.3,2,    23.1,2,    0.02,2,   2.594,2,-999.0000,9,-999.0000,9,-999.0000,9,  2264.7,2,  2299.4,2,   7.4037,2,    25.00, -999.00,9,  -999.0,9,  -999.0,-999.0000,9, -999.00,9,  -999.0,9, -999.00,9, -999.00,9,     -999.0,9, -999.00,9,  -999.0,9,     -999.0,     -999.0,9,      38.37,2,     -999.0,       38.5,2,     -999.0,     -999.0,9,     -999.0,     -999.0,     -999.0,9,     -999.0,9,     -999.0,9,     -999.0,9,37.97746521,2,      11.41,2,      49.99,2,      20.68,2
33RO20161119,        P18,       4,          1,         21,      11119,2,20161125,       1550,    22.5017,  -109.9992,       3047,   120.4,  15.0915,  34.6111,2,  34.6177,2,     17.3,2,    14.5,2,    23.7,2,    22.3,2,    0.03,2,   2.402,2,-999.0000,9,-999.0000,9,-999.0000,9,  2244.4,2,  2295.5,2,   7.4474,2,    25.00, -999.00,9,  -999.0,9,  -999.0,-999.0000,9, -999.00,9,  -999.0,9, -999.00,9, -999.00,9,     -999.0,9, -999.00,9,  -999.0,9,     -999.0,     -999.0,9,      38.17,2,     -999.0,      38.27,2,     -999.0,     -999.0,9,     -999.0,     -999.0,     -999.0,9,     -999.0,9,     -999.0,9,     -999.0,9,46.65145717,2,       9.45,2,      58.89,2,      23.84,2
33RO20161119,        P18,       4,          1,         22,      11120,2,20161125,       1550,    22.5017,  -109.9992,       3047,    70.4,  19.5505,  33.9007,2,  33.9169,2,    226.0,2,   214.6,2,     3.1,2,     0.1,2,    0.15,2,   0.530,2,   2.2741,2,   1.3576,2,   1.7238,2,  2039.8,2,  2260.9,2,   7.9050,2,    25.00, -999.00,9,  -999.0,9,  -999.0,    1.195,2, -999.00,9,  -999.0,9, -999.00,9, -999.00,9,    15.9645,2, -999.00,9,  -999.0,9,     -999.0,     -999.0,9,      38.09,2,     -999.0,      38.13,2,     -999.0,     -999.0,9,     -999.0,     -999.0,     -999.0,9,     -999.0,9,     -999.0,9,     -999.0,9,15.98873692,2,       7.82,2,      55.17,2,       17.9,2
33RO20161119,        P18,       4,          1,         23,      11121,2,20161125,       1550,    22.5017,  -109.9992,       3047,    30.7,  28.5000,  34.9676,2,-999.0000,9,    193.2,2,  -999.0,9,  -999.0,9,  -999.0,9, -999.00,9,-999.000,9,-999.0000,9,-999.0000,9,-999.0000,9,  -999.0,5,  -999.0,9,-999.0000,9,  -999.00, -999.00,9,  -999.0,9,  -999.0,-999.0000,9, -999.00,9,  -999.0,9, -999.00,9, -999.00,9,     -999.0,9, -999.00,9,  -999.0,9,     -999.0,     -999.0,9,     -999.0,9,     -999.0,     -999.0,9,     -999.0,     -999.0,9,     -999.0,     -999.0,     -999.0,9,     -999.0,9,     -999.0,9,     -999.0,9,     -999.0,9,     -999.0,9,     -999.0,9,     -999.0,9
33RO20161119,        P18,       4,          1,         24,      11122,2,20161125,       1550,    22.5017,  -109.9992,       3047,     3.1,  28.4577,  34.7472,2,  34.7440,2,    192.9,2,   194.0,2,  -999.0,9,  -999.0,9, -999.00,9,-999.000,9,   1.4737,2,   0.9292,2,   1.3825,2,  1986.0,2,  2310.8,2,   8.0611,2,    25.00, -999.00,9,  -999.0,9,  -999.0,   1.3537,2, -999.00,9,  -999.0,9, -999.00,9, -999.00,9,     6.6957,2, -999.00,9,  -999.0,9,     -999.0,     -999.0,9,      38.48,2,     -999.0,      38.47,2,     -999.0,     -999.0,9,     -999.0,     -999.0,     -999.0,9,     -999.0,9,     -999.0,9,     -999.0,9,7.125919531,2,       7.97,2,      52.18,2,      21.14,2