BOTTLE,20230606CCHSIOCBG
EXPOCODE,SECT_ID,STNNBR,CASTNO,SAMPNO,BTLNBR,BTLNBR_FLAG_W,DATE,TIME,LATITUDE,LONGITUDE,DEPTH,CTDPRS,CTDTMP,CTDSAL,CTDSAL_FLAG_W,SALNTY,SALNTY_FLAG_W,CTDOXY,CTDOXY_FLAG_W,OXYGEN,OXYGEN_FLAG_W,SILCAT,SILCAT_FLAG_W,NITRAT,NITRAT_FLAG_W,NITRIT,NITRIT_FLAG_W,PHSPHT,PHSPHT_FLAG_W,CFC-11,CFC-11_FLAG_W,CFC-12,CFC-12_FLAG_W,SF6,SF6_FLAG_W,TCARBN,TCARBN_FLAG_W,ALKALI,ALKALI_FLAG_W,PH_SWS,PH_SWS_FLAG_W,PH_TMP,DELC13,DELC13_FLAG_W,DELC14,DELC14_FLAG_W,C14ERR,CCL4,CCL4_FLAG_W,POC,POC_FLAG_W,DOC,DOC_FLAG_W,TDN,TDN_FLAG_W,PON,PON_FLAG_W,N2O,N2O_FLAG_W,D15N_NO3,D15N_NO3_FLAG_W,14C-DOC,14C-DOC_FLAG_W,14C-DOCERR,13C-DOC,13C-DOC_FLAG_W,N2/ARGON_UNSTRIPPED,N2/ARGON_UNSTRIPPED_FLAG_W,N2/ARGON_UNSTRIPPED_ERROR,N2/ARGON,N2/ARGON_FLAG_W,N2/ARGON_ERROR,D15N_N2,D15N_N2_FLAG_W,D15N_N2_ERROR,D15N_NO3_ERROR,D15N_NO2+NO3,D15N_NO2+NO3_FLAG_W,D18O_NO2+NO3,D18O_NO2+NO3_FLAG_W,D18O_NO3,D18O_NO3_FLAG_W,TDP,TDP_FLAG_W,N2O_ALT_1,N2O_ALT_1_FLAG_W,D15N_N2O,D15N_N2O_FLAG_W,D18O_N2O,D18O_N2O_FLAG_W,D15N_ALPHA_N2O,D15N_ALPHA_N2O_FLAG_W
,,,,,,,,,,,METERS,DBAR,ITS-90,PSS-78,,PSS-78,,UMOL/KG,,UMOL/KG,,UMOL/KG,,UMOL/KG,,UMOL/KG,,UMOL/KG,,PMOL/KG,,PMOL/KG,,FMOL/KG,,UMOL/KG,,UMOL/KG,,,,DEG C,/MILLE,,/MILLE,,/MILLE,PMOL/KG,,UG/KG,,UMOL/KG,,UMOL/KG,,UG/KG,,NMOL/KG,,/MILLE,,/MILLE,,/MILLE,/MILLE,,,,,,,,/MILLE,,/MILLE,/MILLE,/MILLE,,/MILLE,,/MILLE,,UMOL/KG,,NMOL/L,,/MILLE,,/MILLE,,/MILLE,
33RO20161119,        P18,     208,          1,          1,      11010,2,20170126,       2132,   -69.6067,  -103.0221,       4146,  4218.5,   0.3532,  34.7004,2,  34.6998,2,    213.7,2,   213.2,2,   144.3,2,    33.3,2,    0.02,2,   2.268,2,   0.4183,2,   0.1988,2,   0.0743,2,  2266.9,6,  2361.7,2,   7.5860,2,    25.00, -999.00,9,  -999.0,9,  -999.0,   0.2703,2, -999.00,9,  -999.0,9, -999.00,9, -999.00,9,    18.4057,2, -999.00,9,  -999.0,9,     -999.0,     -999.0,9,     -999.0,9,     -999.0,     -999.0,9,     -999.0,     -999.0,9,     -999.0,     -999.0,     -999.0,9,     -999.0,9,     -999.0,9,     -999.0,9,     -999.0,9,     -999.0,9,     -999.0,9,     -999.0,9
33RO20161119,        P18,     208,          1,          2,      11101,2,20170126,       2132,   -69.6067,  -103.0221,       4146,  3922.6,   0.3766,  34.7024,2,  34.7021,2,    212.7,2,   212.6,2,   137.7,2,    33.2,2,    0.01,2,   2.249,2,   0.3101,2,   0.1482,2,   0.0605,2,  2265.1,2,  2364.7,2,   7.5879,2,    25.00, -999.00,9,  -999.0,9,  -999.0,   0.1949,2, -999.00,9,  -999.0,9, -999.00,9, -999.00,9,    18.2458,2, -999.00,9,  -999.0,9,     -999.0,     -999.0,9,     -999.0,9,     -999.0,     -999.0,9,     -999.0,     -999.0,9,     -999.0,     -999.0,     -999.0,9,     -999.0,9,     -999.0,9,     -999.0,9,     -999.0,9,     -999.0,9,     -999.0,9,     -999.0,9
33RO20161119,        P18,     208,          1,          3,      11102,2,20170126,       2132,   -69.6067,  -103.0221,       4146,  3655.0,   0.4083,  34.7037,2,  34.7018,2,    211.0,2,   210.7,2,   137.5,6,    33.2,6,    0.01,6,   2.264,6,   0.2298,2,   0.1107,2,   0.0292,2,  2263.2,2,  2362.8,2,   7.5879,2,    25.00, -999.00,9,  -999.0,9,  -999.0,   0.2121,2, -999.00,9,  -999.0,9, -999.00,9, -999.00,9,    18.4296,2, -999.00,9,  -999.0,9,     -999.0,     -999.0,9,     -999.0,9,     -999.0,     -999.0,9,     -999.0,     -999.0,9,     -999.0,     -999.0,     -999.0,9,     -999.0,9,     -999.0,9,     -999.0,9,     -999.0,9,     -999.0,9,     -999.0,9,     -999.0,9
33RO20161119,        P18,     208,          1,          4,      11103,2,20170126,       2132,   -69.6067,  -103.0221,       4146,  3330.4,   0.4379,  34.7045,2,  34.7031,2,    210.0,2,   209.9,6,   134.9,6,    33.2,6,    0.01,6,   2.261,6,   0.1960,2,   0.0947,2,   0.0481,2,  2264.8,2,  2365.0,2,   7.5909,2,    25.00, -999.00,9,  -999.0,9,  -999.0,   0.1633,2, -999.00,9,  -999.0,9, -999.00,9, -999.00,9,    18.3341,2, -999.00,9,  -999.0,9,     -999.0,     -999.0,9,     -999.0,9,     -999.0,     -999.0,9,     -999.0,     -999.0,9,     -999.0,     -999.0,     -999.0,9,     -999.0,9,     -999.0,9,     -999.0,9,     -999.0,9,     -999.0,9,     -999.0,9,     -999.0,9
33RO20161119,        P18,     208,          1,          5,      11104,2,20170126,       2132,   -69.6067,  -103.0221,       4146,  3005.1,   0.4821,  34.7051,2,  34.7039,2,    208.8,2,   209.0,2,   131.9,6,    33.2,6,    0.01,6,   2.259,6,   0.1846,2,   0.0893,2,   0.0330,2,  2263.5,2,  2365.0,6,   7.5893,2,    25.00, -999.00,9,  -999.0,9,  -999.0,   0.1532,2, -999.00,9,  -999.0,9, -999.00,9, -999.00,9,    18.3547,2, -999.00,9,  -999.0,9,     -999.0,     -999.0,9,     -999.0,9,     -999.0,     -999.0,9,     -999.0,     -999.0,9,     -999.0,     -999.0,     -999.0,9,     -999.0,9,     -999.0,9,     -999.0,9,     -999.0,9,     -999.0,9,     -999.0,9,     -999.0,9
33RO20161119,        P18,     208,          1,          6,      11105,2,20170126,       2132,   -69.6067,  -103.0221,       4146,  2685.7,   0.5683,  34.7031,2,  34.7061,2,    208.1,2,   207.3,2,   127.6,6,    33.1,6,    0.01,6,   2.253,6,   0.1827,2,   0.0886,2,   0.0330,2,  2261.7,2,  2361.4,2,   7.5880,2,    25.00, -999.00,9,  -999.0,9,  -999.0,   0.1801,2, -999.00,9,  -999.0,9, -999.00,9, -999.00,9,    18.5329,2, -999.00,9,  -999.0,9,     -999.0,     -999.0,9,     -999.0,9,     -999.0,     -999.0,9,     -999.0,     -999.0,9,     -999.0,     -999.0,     -999.0,9,     -999.0,9,     -999.0,9,     -999.0,9,     -999.0,9,     -999.0,9,     -999.0,9,     -999.0,9
33RO20161119,        P18,     208,          1,          7,      11106,2,20170126,       2132,   -69.6067,  -103.0221,       4146,  2170.1,   0.7660,  34.7078,2,  34.7098,2,    203.6,2,   203.2,2,   122.2,2,    32.9,2,    0.01,2,   2.222,2,-999.0000,9,-999.0000,9,-999.0000,9,  2261.8,2,  2362.5,2,   7.5892,2,    25.00, -999.00,9,  -999.0,9,  -999.0,-999.0000,9, -999.00,9,  -999.0,9, -999.00,9, -999.00,9,     -999.0,9, -999.00,9,  -999.0,9,     -999.0,     -999.0,9,     -999.0,9,     -999.0,     -999.0,9,     -999.0,     -999.0,9,     -999.0,     -999.0,     -999.0,9,     -999.0,9,     -999.0,9,     -999.0,9,     -999.0,9,     -999.0,9,     -999.0,9,     -999.0,9
33RO20161119,        P18,     208,          1,          8,      11107,2,20170126,       2132,   -69.6067,  -103.0221,       4146,  2045.6,   0.8130,  34.7093,2,  34.7114,2,    202.5,2,   202.4,2,   120.6,2,    32.9,2,    0.01,2,   2.231,2,   0.1328,6,   0.0631,6,   0.0098,6,  2259.6,2,  2363.2,2,   7.5903,2,    25.00, -999.00,9,  -999.0,9,  -999.0,   0.2165,2, -999.00,9,  -999.0,9, -999.00,9, -999.00,9,    18.6432,2, -999.00,9,  -999.0,9,     -999.0,     -999.0,9,     -999.0,9,     -999.0,     -999.0,9,     -999.0,     -999.0,9,     -999.0,     -999.0,     -999.0,9,     -999.0,9,     -999.0,9,     -999.0,9,     -999.0,9,     -999.0,9,     -999.0,9,     -999.0,9
33RO20161119,        P18,     208,          1,          9,      11108,2,20170126,       2132,   -69.6067,  -103.0221,       4146,  1685.5,   0.9622,  34.7151,2,  34.7187,2,    200.0,2,   199.4,2,   115.3,2,    32.6,2,    0.01,2,   2.223,2,-999.0000,9,-999.0000,9,-999.0000,9,  2259.6,2,  2363.6,2,   7.5924,2,    25.00, -999.00,9,  -999.0,9,  -999.0,-999.0000,9, -999.00,9,  -999.0,9, -999.00,9, -999.00,9,     -999.0,9, -999.00,9,  -999.0,9,     -999.0,     -999.0,9,     -999.0,9,     -999.0,     -999.0,9,     -999.0,     -999.0,9,     -999.0,     -999.0,     -999.0,9,     -999.0,9,     -999.0,9,     -999.0,9,     -999.0,9,     -999.0,9,     -999.0,9,     -999.0,9
33RO20161119,        P18,     208,          1,         10,      11109,2,20170126,       2132,   -69.6067,  -103.0221,       4146,  1470.0,   1.0812,  34.7193,2,  34.7210,2,    197.1,2,   197.2,2,   111.5,2,    32.6,2,    0.01,2,   2.217,2,   0.1062,2,   0.0512,2,   0.0000,2,  2260.0,2,  2359.0,2,   7.5931,2,    25.00, -999.00,9,  -999.0,9,  -999.0,   0.3583,2, -999.00,9,  -999.0,9, -999.00,9, -999.00,9,    18.9532,2, -999.00,9,  -999.0,9,     -999.0,     -999.0,9,     -999.0,9,     -999.0,     -999.0,9,     -999.0,     -999.0,9,     -999.0,     -999.0,     -999.0,9,     -999.0,9,     -999.0,9,     -999.0,9,     -999.0,9,     -999.0,9,     -999.0,9,     -999.0,9
33RO20161119,        P18,     208,          1,         11,      11110,2,20170126,       2132,   -69.6067,  -103.0221,       4146,  1315.1,   1.1728,  34.7224,2,  34.7236,2,    195.5,2,   194.9,2,   108.7,2,    32.4,2,    0.01,2,   2.209,2,-999.0000,9,-999.0000,9,-999.0000,9,  2259.8,2,  2357.5,2,   7.5900,2,    25.00, -999.00,9,  -999.0,9,  -999.0,-999.0000,9, -999.00,9,  -999.0,9, -999.00,9, -999.00,9,     -999.0,9, -999.00,9,  -999.0,9,     -999.0,     -999.0,9,     -999.0,9,     -999.0,     -999.0,9,     -999.0,     -999.0,9,     -999.0,     -999.0,     -999.0,9,     -999.0,9,     -999.0,9,     -999.0,9,     -999.0,9,     -999.0,9,     -999.0,9,     -999.0,9
33RO20161119,        P18,     208,          1,         12,      11111,2,20170126,       2132,   -69.6067,  -103.0221,       4146,  1165.2,   1.2709,  34.7255,2,  34.7303,2,    193.9,2,   193.0,2,   105.7,2,    32.4,2,    0.01,2,   2.204,2,   0.1138,2,   0.0551,2,   0.0000,2,  2258.4,2,  2356.2,6,   7.5877,2,    25.00, -999.00,9,  -999.0,9,  -999.0,   0.5621,2, -999.00,9,  -999.0,9, -999.00,9, -999.00,9,    19.2106,2, -999.00,9,  -999.0,9,     -999.0,     -999.0,9,     -999.0,9,     -999.0,     -999.0,9,     -999.0,     -999.0,9,     -999.0,     -999.0,     -999.0,9,     -999.0,9,     -999.0,9,     -999.0,9,     -999.0,9,     -999.0,9,     -999.0,9,     -999.0,9
33RO20161119,        P18,     208,          1,         13,      11112,2,20170126,       2132,   -69.6067,  -103.0221,       4146,  1035.4,   1.3727,  34.7281,2,  34.7297,2,    192.3,2,   191.4,2,   102.3,2,    32.3,2,    0.01,2,   2.188,2,-999.0000,9,-999.0000,9,-999.0000,9,  2259.1,2,  2357.6,2,   7.5869,2,    25.00, -999.00,9,  -999.0,9,  -999.0,-999.0000,9, -999.00,9,  -999.0,9, -999.00,9, -999.00,9,     -999.0,9, -999.00,9,  -999.0,9,     -999.0,     -999.0,9,     -999.0,9,     -999.0,     -999.0,9,     -999.0,     -999.0,9,     -999.0,     -999.0,     -999.0,9,     -999.0,9,     -999.0,9,     -999.0,9,     -999.0,9,     -999.0,9,     -999.0,9,     -999.0,9
33RO20161119,        P18,     208,          1,         14,      11113,2,20170126,       2132,   -69.6067,  -103.0221,       4146,   900.2,   1.4736,  34.7299,2,  34.7313,2,    190.1,2,   189.5,2,    99.2,2,    32.2,2,    0.01,2,   2.198,2,   0.1457,2,   0.0693,2,   0.0448,2,  2258.3,2,  2355.1,2,   7.5869,2,    25.00, -999.00,9,  -999.0,9,  -999.0,   1.0637,2, -999.00,9,  -999.0,9, -999.00,9, -999.00,9,    19.5079,2, -999.00,9,  -999.0,9,     -999.0,     -999.0,9,     -999.0,9,     -999.0,     -999.0,9,     -999.0,     -999.0,9,     -999.0,     -999.0,     -999.0,9,     -999.0,9,     -999.0,9,     -999.0,9,     -999.0,9,     -999.0,9,     -999.0,9,     -999.0,9
33RO20161119,        P18,     208,          1,         15,      11114,2,20170126,       2132,   -69.6067,  -103.0221,       4146,   765.4,   1.5840,  34.7308,2,  34.7310,2,    187.7,2,   187.3,2,    96.1,2,    32.3,2,    0.01,2,   2.194,2,-999.0000,9,-999.0000,9,-999.0000,9,  2258.0,2,  2353.5,2,   7.5828,6,    25.00, -999.00,9,  -999.0,9,  -999.0,-999.0000,9, -999.00,9,  -999.0,9, -999.00,9, -999.00,9,     -999.0,9, -999.00,9,  -999.0,9,     -999.0,     -999.0,9,     -999.0,9,     -999.0,     -999.0,9,     -999.0,     -999.0,9,     -999.0,     -999.0,     -999.0,9,     -999.0,9,     -999.0,9,     -999.0,9,     -999.0,9,     -999.0,9,     -999.0,9,     -999.0,9
33RO20161119,        P18,     208,          1,         16,      11115,2,20170126,       2132,   -69.6067,  -103.0221,       4146,   633.1,   1.6956,  34.7307,2,  34.7277,2,    184.6,2,   184.7,2,    92.9,2,    32.4,2,    0.01,2,   2.208,2,   0.1926,2,   0.0927,2,   0.0312,2,  2256.9,2,  2352.4,2,   7.5786,2,    25.00, -999.00,9,  -999.0,9,  -999.0,   5.0402,2, -999.00,9,  -999.0,9, -999.00,9, -999.00,9,    19.9899,2, -999.00,9,  -999.0,9,     -999.0,     -999.0,9,     -999.0,9,     -999.0,     -999.0,9,     -999.0,     -999.0,9,     -999.0,     -999.0,     -999.0,9,     -999.0,9,     -999.0,9,     -999.0,9,     -999.0,9,     -999.0,9,     -999.0,9,     -999.0,9
33RO20161119,        P18,     208,          1,         17,      11116,2,20170126,       2132,   -69.6067,  -103.0221,       4146,   525.3,   1.7876,  34.7255,2,  34.7303,4,    181.7,2,   182.1,2,    90.2,2,    32.5,2,    0.02,2,   2.215,2,-999.0000,9,-999.0000,9,-999.0000,9,  2255.6,2,  2349.4,2,   7.5737,2,    25.00, -999.00,9,  -999.0,9,  -999.0,-999.0000,9, -999.00,9,  -999.0,9, -999.00,9, -999.00,9,     -999.0,9, -999.00,9,  -999.0,9,     -999.0,     -999.0,9,     -999.0,9,     -999.0,     -999.0,9,     -999.0,     -999.0,9,     -999.0,     -999.0,     -999.0,9,     -999.0,9,     -999.0,9,     -999.0,9,     -999.0,9,     -999.0,9,     -999.0,9,     -999.0,9
33RO20161119,        P18,     208,          1,         18,      11117,2,20170126,       2132,   -69.6067,  -103.0221,       4146,   410.4,   1.8671,  34.7141,2,  34.7120,2,    178.6,2,   177.9,2,    87.6,2,    32.9,2,    0.02,2,   2.246,2,   0.2681,2,   0.1327,2,   0.0845,2,  2257.4,2,  2344.5,2,   7.5655,2,    25.00, -999.00,9,  -999.0,9,  -999.0,   6.5055,2, -999.00,9,  -999.0,9, -999.00,9, -999.00,9,    20.7341,2, -999.00,9,  -999.0,9,     -999.0,     -999.0,9,     -999.0,9,     -999.0,     -999.0,9,     -999.0,     -999.0,9,     -999.0,     -999.0,     -999.0,9,     -999.0,9,     -999.0,9,     -999.0,9,     -999.0,9,     -999.0,9,     -999.0,9,     -999.0,9
33RO20161119,        P18,     208,          1,         19,      11083,2,20170126,       2132,   -69.6067,  -103.0221,       4146,   314.3,   1.9272,  34.6997,2,  34.6984,2,    175.1,2,   175.7,2,    85.8,2,    33.4,2,    0.01,2,   2.271,2,   0.3240,2,   0.1619,2,   0.0822,2,  2257.6,2,  2342.7,6,   7.5560,2,    25.00, -999.00,9,  -999.0,9,  -999.0,    0.487,2, -999.00,9,  -999.0,9, -999.00,9, -999.00,9,    21.0743,2, -999.00,9,  -999.0,9,     -999.0,     -999.0,9,     -999.0,9,     -999.0,     -999.0,9,     -999.0,     -999.0,9,     -999.0,     -999.0,     -999.0,9,     -999.0,9,     -999.0,9,     -999.0,9,     -999.0,9,     -999.0,9,     -999.0,9,     -999.0,9
33RO20161119,        P18,     208,          1,         20,      11118,2,20170126,       2132,   -69.6067,  -103.0221,       4146,   222.5,   1.9222,  34.6596,2,  34.6617,2,    172.0,2,   171.8,2,    83.3,2,    34.1,2,    0.02,2,   2.301,2,   0.5077,2,   0.2575,2,   0.1654,2,  2259.9,6,  2340.5,2,   7.5440,2,    25.00, -999.00,9,  -999.0,9,  -999.0,   0.3574,2, -999.00,9,  -999.0,9, -999.00,9, -999.00,9,    21.9025,2, -999.00,9,  -999.0,9,     -999.0,     -999.0,9,     -999.0,9,     -999.0,     -999.0,9,     -999.0,     -999.0,9,     -999.0,     -999.0,     -999.0,9,     -999.0,9,     -999.0,9,     -999.0,9,     -999.0,9,     -999.0,9,     -999.0,9,     -999.0,9
33RO20161119,        P18,     208,          1,         21,      11119,2,20170126,       2132,   -69.6067,  -103.0221,       4146,   145.0,   1.3045,  34.5444,2,  34.5481,2,    186.3,2,   184.4,6,    79.4,2,    34.6,2,    0.03,2,   2.355,2,   1.2408,2,   0.6539,2,   0.5568,2,  2257.0,2,  2332.7,2,   7.5307,2,    25.00, -999.00,9,  -999.0,9,  -999.0,   0.3232,2, -999.00,9,  -999.0,9, -999.00,9, -999.00,9,    22.4431,2, -999.00,9,  -999.0,9,     -999.0,     -999.0,9,     -999.0,9,     -999.0,     -999.0,9,     -999.0,     -999.0,9,     -999.0,     -999.0,     -999.0,9,     -999.0,9,     -999.0,9,     -999.0,9,     -999.0,9,     -999.0,9,     -999.0,9,     -999.0,9
33RO20161119,        P18,     208,          1,         22,      11120,2,20170126,       2132,   -69.6067,  -103.0221,       4146,    70.2,  -1.6506,  34.1249,2,  34.1128,2,    302.6,2,   306.5,2,    65.2,2,    30.2,2,    0.19,2,   2.066,2,   4.7564,2,   2.5640,2,   2.8151,2,  1726.9,4,  2304.8,2,   7.6093,2,    25.00, -999.00,9,  -999.0,9,  -999.0,   0.3055,2, -999.00,9,  -999.0,9, -999.00,9, -999.00,9,    17.9093,2, -999.00,9,  -999.0,9,     -999.0,     -999.0,9,     -999.0,9,     -999.0,     -999.0,9,     -999.0,     -999.0,9,     -999.0,     -999.0,     -999.0,9,     -999.0,9,     -999.0,9,     -999.0,9,     -999.0,9,     -999.0,9,     -999.0,9,     -999.0,9
33RO20161119,        P18,     208,          1,         23,      11121,2,20170126,       2132,   -69.6067,  -103.0221,       4146,    30.1,  -1.1768,  33.8534,2,  33.9026,2,    339.0,2,   333.0,2,    58.8,2,    28.0,2,    0.15,2,   1.967,2,-999.0000,9,-999.0000,9,-999.0000,9,  2179.9,6,  2292.9,2,   7.6476,2,    25.00, -999.00,9,  -999.0,9,  -999.0,-999.0000,9, -999.00,9,  -999.0,9, -999.00,9, -999.00,9,     -999.0,9, -999.00,9,  -999.0,9,     -999.0,     -999.0,9,     -999.0,9,     -999.0,     -999.0,9,     -999.0,     -999.0,9,     -999.0,     -999.0,     -999.0,9,     -999.0,9,     -999.0,9,     -999.0,9,     -999.0,9,     -999.0,9,     -999.0,9,     -999.0,9
33RO20161119,        P18,     208,          1,         24,      11122,2,20170126,       2132,   -69.6067,  -103.0221,       4146,     1.9,  -0.3646,  32.3356,2,  32.3403,2,    351.2,2,   350.6,2,    49.8,2,    25.0,2,    0.36,2,   1.733,2,   6.0346,2,   3.2664,2,   3.6819,2,  2079.1,2,  2188.9,2,   7.6672,2,    25.00, -999.00,9,  -999.0,9,  -999.0,   0.2795,2, -999.00,9,  -999.0,9, -999.00,9, -999.00,9,    15.5478,2, -999.00,9,  -999.0,9,     -999.0,     -999.0,9,     -999.0,9,     -999.0,     -999.0,9,     -999.0,     -999.0,9,     -999.0,     -999.0,     -999.0,9,     -999.0,9,     -999.0,9,     -999.0,9,     -999.0,9,     -999.0,9,     -999.0,9,     -999.0,9