BOTTLE,20230606CCHSIOCBG
EXPOCODE,SECT_ID,STNNBR,CASTNO,SAMPNO,BTLNBR,BTLNBR_FLAG_W,DATE,TIME,LATITUDE,LONGITUDE,DEPTH,CTDPRS,CTDTMP,CTDSAL,CTDSAL_FLAG_W,SALNTY,SALNTY_FLAG_W,CTDOXY,CTDOXY_FLAG_W,OXYGEN,OXYGEN_FLAG_W,SILCAT,SILCAT_FLAG_W,NITRAT,NITRAT_FLAG_W,NITRIT,NITRIT_FLAG_W,PHSPHT,PHSPHT_FLAG_W,CFC-11,CFC-11_FLAG_W,CFC-12,CFC-12_FLAG_W,SF6,SF6_FLAG_W,TCARBN,TCARBN_FLAG_W,ALKALI,ALKALI_FLAG_W,PH_SWS,PH_SWS_FLAG_W,PH_TMP,DELC13,DELC13_FLAG_W,DELC14,DELC14_FLAG_W,C14ERR,CCL4,CCL4_FLAG_W,POC,POC_FLAG_W,DOC,DOC_FLAG_W,TDN,TDN_FLAG_W,PON,PON_FLAG_W,N2O,N2O_FLAG_W,D15N_NO3,D15N_NO3_FLAG_W,14C-DOC,14C-DOC_FLAG_W,14C-DOCERR,13C-DOC,13C-DOC_FLAG_W,N2/ARGON_UNSTRIPPED,N2/ARGON_UNSTRIPPED_FLAG_W,N2/ARGON_UNSTRIPPED_ERROR,N2/ARGON,N2/ARGON_FLAG_W,N2/ARGON_ERROR,D15N_N2,D15N_N2_FLAG_W,D15N_N2_ERROR,D15N_NO3_ERROR,D15N_NO2+NO3,D15N_NO2+NO3_FLAG_W,D18O_NO2+NO3,D18O_NO2+NO3_FLAG_W,D18O_NO3,D18O_NO3_FLAG_W,TDP,TDP_FLAG_W,N2O_ALT_1,N2O_ALT_1_FLAG_W,D15N_N2O,D15N_N2O_FLAG_W,D18O_N2O,D18O_N2O_FLAG_W,D15N_ALPHA_N2O,D15N_ALPHA_N2O_FLAG_W
,,,,,,,,,,,METERS,DBAR,ITS-90,PSS-78,,PSS-78,,UMOL/KG,,UMOL/KG,,UMOL/KG,,UMOL/KG,,UMOL/KG,,UMOL/KG,,PMOL/KG,,PMOL/KG,,FMOL/KG,,UMOL/KG,,UMOL/KG,,,,DEG C,/MILLE,,/MILLE,,/MILLE,PMOL/KG,,UG/KG,,UMOL/KG,,UMOL/KG,,UG/KG,,NMOL/KG,,/MILLE,,/MILLE,,/MILLE,/MILLE,,,,,,,,/MILLE,,/MILLE,/MILLE,/MILLE,,/MILLE,,/MILLE,,UMOL/KG,,NMOL/L,,/MILLE,,/MILLE,,/MILLE,
33RO20161119,        P18,      56,          1,          1,      11010,2,20161207,       1003,    -0.2455,  -109.9969,       3737,  3767.9,   1.4670,  34.6913,2,  34.6911,2,    154.3,2,   153.7,2,   144.1,6,    36.2,6,    0.00,6,   2.449,6,-999.0000,9,-999.0000,9,-999.0000,9,  -999.0,9,  -999.0,9,   7.5902,2,    25.00, -999.00,9,  -999.0,9,  -999.0,-999.0000,9, -999.00,9,  -999.0,9, -999.00,9, -999.00,9,     -999.0,9, -999.00,9,  -999.0,9,     -999.0,     -999.0,9,     -999.0,9,     -999.0,     -999.0,9,     -999.0,     -999.0,9,     -999.0,     -999.0,     -999.0,9,     -999.0,9,     -999.0,9,     -999.0,9,     -999.0,9,     -999.0,9,     -999.0,9,     -999.0,9
33RO20161119,        P18,      56,          1,          2,      11101,2,20161207,       1003,    -0.2455,  -109.9969,       3737,  3420.3,   1.5780,  34.6830,2,  34.6828,2,    142.1,2,   141.8,2,   145.8,6,    37.0,6,    0.00,6,   2.514,6,-999.0000,9,-999.0000,9,-999.0000,9,  -999.0,9,  -999.0,9,-999.0000,9,  -999.00, -999.00,9,  -999.0,9,  -999.0,-999.0000,9, -999.00,9,  -999.0,9, -999.00,9, -999.00,9,     -999.0,9, -999.00,9,  -999.0,9,     -999.0,     -999.0,9,     -999.0,9,     -999.0,     -999.0,9,     -999.0,     -999.0,9,     -999.0,     -999.0,     -999.0,9,     -999.0,9,     -999.0,9,     -999.0,9,     -999.0,9,     -999.0,9,     -999.0,9,     -999.0,9
33RO20161119,        P18,      56,          1,          3,      11102,2,20161207,       1003,    -0.2455,  -109.9969,       3737,  3049.7,   1.6351,  34.6777,2,  34.6779,2,    136.0,2,   136.2,2,   144.4,6,    37.4,6,    0.00,6,   2.549,6,-999.0000,9,-999.0000,9,-999.0000,9,  -999.0,9,  -999.0,9,-999.0000,9,  -999.00, -999.00,9,  -999.0,9,  -999.0,-999.0000,9, -999.00,9,  -999.0,9, -999.00,9, -999.00,9,     -999.0,9, -999.00,9,  -999.0,9,     -999.0,     -999.0,9,     -999.0,9,     -999.0,     -999.0,9,     -999.0,     -999.0,9,     -999.0,     -999.0,     -999.0,9,     -999.0,9,     -999.0,9,     -999.0,9,     -999.0,9,     -999.0,9,     -999.0,9,     -999.0,9
33RO20161119,        P18,      56,          1,          4,      11103,2,20161207,       1003,    -0.2455,  -109.9969,       3737,  2750.3,   1.7753,  34.6693,2,  34.6704,2,    127.4,2,   127.9,2,   143.0,6,    37.9,6,    0.00,6,   2.590,6,-999.0000,9,-999.0000,9,-999.0000,9,  -999.0,9,  -999.0,9,-999.0000,9,  -999.00, -999.00,9,  -999.0,9,  -999.0,-999.0000,9, -999.00,9,  -999.0,9, -999.00,9, -999.00,9,     -999.0,9, -999.00,9,  -999.0,9,     -999.0,     -999.0,9,     -999.0,9,     -999.0,     -999.0,9,     -999.0,     -999.0,9,     -999.0,     -999.0,     -999.0,9,     -999.0,9,     -999.0,9,     -999.0,9,     -999.0,9,     -999.0,9,     -999.0,9,     -999.0,9
33RO20161119,        P18,      56,          1,          5,      11104,2,20161207,       1003,    -0.2455,  -109.9969,       3737,  2455.4,   1.9124,  34.6620,2,  34.6610,2,    118.8,2,   119.1,6,   142.8,2,    38.6,2,    0.00,2,   2.649,2,-999.0000,9,-999.0000,9,-999.0000,9,  -999.0,9,  -999.0,9,-999.0000,9,  -999.00, -999.00,9,  -999.0,9,  -999.0,-999.0000,9, -999.00,9,  -999.0,9, -999.00,9, -999.00,9,     -999.0,9, -999.00,9,  -999.0,9,     -999.0,     -999.0,9,     -999.0,9,     -999.0,     -999.0,9,     -999.0,     -999.0,9,     -999.0,     -999.0,     -999.0,9,     -999.0,9,     -999.0,9,     -999.0,9,     -999.0,9,     -999.0,9,     -999.0,9,     -999.0,9
33RO20161119,        P18,      56,          1,          6,      11105,2,20161207,       1003,    -0.2455,  -109.9969,       3737,  2170.2,   2.1085,  34.6517,2,  34.6531,2,    109.4,2,   109.9,2,   139.3,2,    39.1,2,    0.00,2,   2.700,2,-999.0000,9,-999.0000,9,-999.0000,9,  -999.0,9,  -999.0,9,-999.0000,9,  -999.00, -999.00,9,  -999.0,9,  -999.0,-999.0000,9, -999.00,9,  -999.0,9, -999.00,9, -999.00,9,     -999.0,9, -999.00,9,  -999.0,9,     -999.0,     -999.0,9,     -999.0,9,     -999.0,     -999.0,9,     -999.0,     -999.0,9,     -999.0,     -999.0,     -999.0,9,     -999.0,9,     -999.0,9,     -999.0,9,     -999.0,9,     -999.0,9,     -999.0,9,     -999.0,9
33RO20161119,        P18,      56,          1,          7,      11106,2,20161207,       1003,    -0.2455,  -109.9969,       3737,  1890.3,   2.3839,  34.6376,2,  34.6391,2,     99.6,2,   100.2,2,   134.7,2,    39.7,2,    0.00,2,   2.769,2,-999.0000,9,-999.0000,9,-999.0000,9,  -999.0,9,  -999.0,9,-999.0000,9,  -999.00, -999.00,9,  -999.0,9,  -999.0,-999.0000,9, -999.00,9,  -999.0,9, -999.00,9, -999.00,9,     -999.0,9, -999.00,9,  -999.0,9,     -999.0,     -999.0,9,     -999.0,9,     -999.0,     -999.0,9,     -999.0,     -999.0,9,     -999.0,     -999.0,     -999.0,9,     -999.0,9,     -999.0,9,     -999.0,9,     -999.0,9,     -999.0,9,     -999.0,9,     -999.0,9
33RO20161119,        P18,      56,          1,          8,      11107,2,20161207,       1003,    -0.2455,  -109.9969,       3737,  1609.3,   2.7956,  34.6166,2,  34.6171,2,     91.6,2,    92.8,6,   124.1,2,    40.1,2,    0.00,2,   2.820,2,-999.0000,9,-999.0000,9,-999.0000,9,  -999.0,9,  -999.0,9,-999.0000,9,  -999.00, -999.00,9,  -999.0,9,  -999.0,-999.0000,9, -999.00,9,  -999.0,9, -999.00,9, -999.00,9,     -999.0,9, -999.00,9,  -999.0,9,     -999.0,     -999.0,9,     -999.0,9,     -999.0,     -999.0,9,     -999.0,     -999.0,9,     -999.0,     -999.0,     -999.0,9,     -999.0,9,     -999.0,9,     -999.0,9,     -999.0,9,     -999.0,9,     -999.0,9,     -999.0,9
33RO20161119,        P18,      56,          1,          9,      11108,2,20161207,       1003,    -0.2455,  -109.9969,       3737,  1360.2,   3.3391,  34.5922,2,  34.5949,2,     87.6,2,    89.2,2,   109.5,2,    40.3,2,    0.00,2,   2.839,2,   0.0140,2,   0.0077,2,   0.0252,2,  -999.0,9,  -999.0,9,-999.0000,9,  -999.00, -999.00,9,  -999.0,9,  -999.0,   0.0267,2, -999.00,9,  -999.0,9, -999.00,9, -999.00,9,    31.0898,2, -999.00,9,  -999.0,9,     -999.0,     -999.0,9,     -999.0,9,     -999.0,     -999.0,9,     -999.0,     -999.0,9,     -999.0,     -999.0,     -999.0,9,     -999.0,9,     -999.0,9,     -999.0,9,     -999.0,9,     -999.0,9,     -999.0,9,     -999.0,9
33RO20161119,        P18,      56,          1,         10,      11109,2,20161207,       1003,    -0.2455,  -109.9969,       3737,  1194.4,   3.8717,  34.5735,2,  34.5728,2,     83.4,2,    83.5,2,    97.5,2,    40.3,2,    0.00,2,   2.846,2,-999.0000,9,-999.0000,9,-999.0000,9,  -999.0,9,  -999.0,9,   7.4576,2,    25.00, -999.00,9,  -999.0,9,  -999.0,-999.0000,9, -999.00,9,  -999.0,9, -999.00,9, -999.00,9,     -999.0,9, -999.00,9,  -999.0,9,     -999.0,     -999.0,9,     -999.0,9,     -999.0,     -999.0,9,     -999.0,     -999.0,9,     -999.0,     -999.0,     -999.0,9,     -999.0,9,     -999.0,9,     -999.0,9,     -999.0,9,     -999.0,9,     -999.0,9,     -999.0,9
33RO20161119,        P18,      56,          1,         11,      11110,2,20161207,       1003,    -0.2455,  -109.9969,       3737,  1070.1,   4.6105,  34.5569,2,  34.5577,2,     75.8,2,   156.6,4,    82.5,2,    40.5,2,    0.00,2,   2.845,2,-999.0000,9,-999.0000,9,-999.0000,9,  -999.0,9,  -999.0,9,   7.4477,2,    25.00, -999.00,9,  -999.0,9,  -999.0,-999.0000,9, -999.00,9,  -999.0,9, -999.00,9, -999.00,9,     -999.0,9, -999.00,9,  -999.0,9,     -999.0,     -999.0,9,     -999.0,9,     -999.0,     -999.0,9,     -999.0,     -999.0,9,     -999.0,     -999.0,     -999.0,9,     -999.0,9,     -999.0,9,     -999.0,9,     -999.0,9,     -999.0,9,     -999.0,9,     -999.0,9
33RO20161119,        P18,      56,          1,         12,      11111,2,20161207,       1003,    -0.2455,  -109.9969,       3737,   949.5,   4.9725,  34.5504,2,  34.5504,2,     75.3,2,   179.1,4,    75.2,2,    40.3,2,    0.00,2,   2.831,2,   0.0236,2,   0.0130,2,   0.0000,2,  -999.0,9,  -999.0,9,   7.4480,2,    25.00, -999.00,9,  -999.0,9,  -999.0,   0.0752,2, -999.00,9,  -999.0,9, -999.00,9, -999.00,9,    36.2334,2, -999.00,9,  -999.0,9,     -999.0,     -999.0,9,     -999.0,9,     -999.0,     -999.0,9,     -999.0,     -999.0,9,     -999.0,     -999.0,     -999.0,9,     -999.0,9,     -999.0,9,     -999.0,9,     -999.0,9,     -999.0,9,     -999.0,9,     -999.0,9
33RO20161119,        P18,      56,          1,         13,      11112,2,20161207,       1003,    -0.2455,  -109.9969,       3737,   828.5,   5.4909,  34.5436,2,  34.5467,2,     79.5,2,    82.8,2,    64.2,2,    39.3,2,    0.00,2,   2.756,2,-999.0000,9,-999.0000,9,-999.0000,9,  2279.8,2,  2334.7,2,   7.4601,2,    25.00, -999.00,9,  -999.0,9,  -999.0,-999.0000,9, -999.00,9,  -999.0,9, -999.00,9, -999.00,9,     -999.0,9, -999.00,9,  -999.0,9,     -999.0,     -999.0,9,     -999.0,9,     -999.0,     -999.0,9,     -999.0,     -999.0,9,     -999.0,     -999.0,     -999.0,9,     -999.0,9,     -999.0,9,     -999.0,9,     -999.0,9,     -999.0,9,     -999.0,9,     -999.0,9
33RO20161119,        P18,      56,          1,         14,      11113,2,20161207,       1003,    -0.2455,  -109.9969,       3737,   714.8,   6.5007,  34.5593,2,  34.5604,2,     66.1,2,    67.4,2,    50.7,2,    39.4,2,    0.00,2,   2.728,2,-999.0000,9,-999.0000,9,-999.0000,9,  2271.1,2,  2315.2,2,   7.4464,2,    25.00, -999.00,9,  -999.0,9,  -999.0,-999.0000,9, -999.00,9,  -999.0,9, -999.00,9, -999.00,9,     -999.0,9, -999.00,9,  -999.0,9,     -999.0,     -999.0,9,     -999.0,9,     -999.0,     -999.0,9,     -999.0,     -999.0,9,     -999.0,     -999.0,     -999.0,9,     -999.0,9,     -999.0,9,     -999.0,9,     -999.0,9,     -999.0,9,     -999.0,9,     -999.0,9
33RO20161119,        P18,      56,          1,         15,      11114,2,20161207,       1003,    -0.2455,  -109.9969,       3737,   605.2,   8.0054,  34.6191,2,  34.6217,2,     40.7,2,    41.9,2,    40.6,2,    38.8,2,    0.01,2,   2.669,2,   0.2315,6,   0.1261,6,   0.0521,6,  2270.0,2,  2305.9,2,   7.4199,2,    25.00, -999.00,9,  -999.0,9,  -999.0,   0.0792,2, -999.00,9,  -999.0,9, -999.00,9, -999.00,9,     51.356,2, -999.00,9,  -999.0,9,     -999.0,     -999.0,9,     -999.0,9,     -999.0,     -999.0,9,     -999.0,     -999.0,9,     -999.0,     -999.0,     -999.0,9,     -999.0,9,     -999.0,9,     -999.0,9,     -999.0,9,     -999.0,9,     -999.0,9,     -999.0,9
33RO20161119,        P18,      56,          1,         16,      11115,2,20161207,       1003,    -0.2455,  -109.9969,       3737,   504.4,   8.7006,  34.6561,2,  34.6588,2,     22.5,2,    23.8,2,    38.7,2,    38.8,2,    0.01,2,   2.674,2,   0.2829,2,   0.1535,2,   0.0725,2,  2272.6,2,  2307.5,2,   7.3946,2,    25.00, -999.00,9,  -999.0,9,  -999.0,   0.0675,2, -999.00,9,  -999.0,9, -999.00,9, -999.00,9,    58.1893,2, -999.00,9,  -999.0,9,     -999.0,     -999.0,9,     -999.0,9,     -999.0,     -999.0,9,     -999.0,     -999.0,9,     -999.0,     -999.0,     -999.0,9,     -999.0,9,     -999.0,9,     -999.0,9,     -999.0,9,     -999.0,9,     -999.0,9,     -999.0,9
33RO20161119,        P18,      56,          1,         17,      11116,2,20161207,       1003,    -0.2455,  -109.9969,       3737,   409.2,   9.8732,  34.7223,2,  34.7207,2,     13.5,2,    15.0,2,    34.4,2,    37.1,2,    0.01,2,   2.586,2,-999.0000,9,-999.0000,9,-999.0000,9,  2272.6,2,  2303.2,2,   7.3960,6,    25.00, -999.00,9,  -999.0,9,  -999.0,-999.0000,9, -999.00,9,  -999.0,9, -999.00,9, -999.00,9,     -999.0,9, -999.00,9,  -999.0,9,     -999.0,     -999.0,9,     -999.0,9,     -999.0,     -999.0,9,     -999.0,     -999.0,9,     -999.0,     -999.0,     -999.0,9,     -999.0,9,     -999.0,9,     -999.0,9,     -999.0,9,     -999.0,9,     -999.0,9,     -999.0,9
33RO20161119,        P18,      56,          1,         18,      11117,2,20161207,       1003,    -0.2455,  -109.9969,       3737,   314.2,  10.7180,  34.7706,2,  34.7732,2,     11.4,2,    14.9,2,    30.8,2,    35.2,2,    0.01,2,   2.484,2,   0.6947,2,   0.3810,2,   0.1560,2,  2264.0,2,  2310.7,3,   7.4146,2,    25.00, -999.00,9,  -999.0,9,  -999.0,   0.2216,2, -999.00,9,  -999.0,9, -999.00,9, -999.00,9,    66.0939,2, -999.00,9,  -999.0,9,     -999.0,     -999.0,9,     -999.0,9,     -999.0,     -999.0,9,     -999.0,     -999.0,9,     -999.0,     -999.0,     -999.0,9,     -999.0,9,     -999.0,9,     -999.0,9,     -999.0,9,     -999.0,9,     -999.0,9,     -999.0,9
33RO20161119,        P18,      56,          1,         19,      11083,2,20161207,       1003,    -0.2455,  -109.9969,       3737,   233.9,  12.6539,  34.8813,2,  34.8821,2,     82.7,2,    82.0,2,    19.6,2,    25.5,2,    0.01,2,   1.794,2,-999.0000,9,-999.0000,9,-999.0000,9,  2200.7,2,  2301.3,2,   7.6114,2,    25.00, -999.00,9,  -999.0,9,  -999.0,-999.0000,9, -999.00,9,  -999.0,9, -999.00,9, -999.00,9,     -999.0,9, -999.00,9,  -999.0,9,     -999.0,     -999.0,9,     -999.0,9,     -999.0,     -999.0,9,     -999.0,     -999.0,9,     -999.0,     -999.0,     -999.0,9,     -999.0,9,     -999.0,9,     -999.0,9,     -999.0,9,     -999.0,9,     -999.0,9,     -999.0,9
33RO20161119,        P18,      56,          1,         20,      11118,2,20161207,       1003,    -0.2455,  -109.9969,       3737,   165.7,  13.1506,  34.8907,2,  34.8904,2,    101.1,2,   101.8,2,    17.5,2,    22.8,2,    0.01,2,   1.627,2,-999.0000,9,-999.0000,9,-999.0000,9,  2182.9,2,  2303.5,2,   7.6601,2,    25.00, -999.00,9,  -999.0,9,  -999.0,-999.0000,9, -999.00,9,  -999.0,9, -999.00,9, -999.00,9,     -999.0,9, -999.00,9,  -999.0,9,     -999.0,     -999.0,9,     -999.0,9,     -999.0,     -999.0,9,     -999.0,     -999.0,9,     -999.0,     -999.0,     -999.0,9,     -999.0,9,     -999.0,9,     -999.0,9,     -999.0,9,     -999.0,9,     -999.0,9,     -999.0,9
33RO20161119,        P18,      56,          1,         21,      11119,2,20161207,       1003,    -0.2455,  -109.9969,       3737,    99.8,  15.2124,  34.9352,2,  34.9376,2,    121.4,2,   121.7,2,    13.5,2,    17.6,2,    0.02,2,   1.287,2,   1.9108,2,   1.1096,2,   0.8230,2,  2149.6,2,  2303.6,2,   7.7429,2,    25.00, -999.00,9,  -999.0,9,  -999.0,   0.3309,2, -999.00,9,  -999.0,9, -999.00,9, -999.00,9,     22.932,2, -999.00,9,  -999.0,9,     -999.0,     -999.0,9,     -999.0,9,     -999.0,     -999.0,9,     -999.0,     -999.0,9,     -999.0,     -999.0,     -999.0,9,     -999.0,9,     -999.0,9,     -999.0,9,     -999.0,9,     -999.0,9,     -999.0,9,     -999.0,9
33RO20161119,        P18,      56,          1,         22,      11120,2,20161207,       1003,    -0.2455,  -109.9969,       3737,    52.3,  17.1670,  34.9622,2,  34.9518,2,    133.9,2,   135.0,2,    10.3,2,    14.5,2,    0.17,2,   1.098,2,   1.9610,2,   1.1590,2,   0.9948,2,  2124.8,2,  2299.3,2,   7.7928,2,    25.00, -999.00,9,  -999.0,9,  -999.0,   1.2338,2, -999.00,9,  -999.0,9, -999.00,9, -999.00,9,    19.5076,2, -999.00,9,  -999.0,9,     -999.0,     -999.0,9,     -999.0,9,     -999.0,     -999.0,9,     -999.0,     -999.0,9,     -999.0,     -999.0,     -999.0,9,     -999.0,9,     -999.0,9,     -999.0,9,     -999.0,9,     -999.0,9,     -999.0,9,     -999.0,9
33RO20161119,        P18,      56,          1,         23,      11121,2,20161207,       1003,    -0.2455,  -109.9969,       3737,    19.6,  19.9581,  34.8055,2,  34.8093,2,    170.9,2,   169.2,2,     8.5,2,    12.5,2,    0.24,2,   0.988,2,-999.0000,9,-999.0000,9,-999.0000,9,  2094.2,2,  2289.9,2,   7.8420,2,    25.00, -999.00,9,  -999.0,9,  -999.0,-999.0000,9, -999.00,9,  -999.0,9, -999.00,9, -999.00,9,     -999.0,9, -999.00,9,  -999.0,9,     -999.0,     -999.0,9,     -999.0,9,     -999.0,     -999.0,9,     -999.0,     -999.0,9,     -999.0,     -999.0,     -999.0,9,     -999.0,9,     -999.0,9,     -999.0,9,     -999.0,9,     -999.0,9,     -999.0,9,     -999.0,9
33RO20161119,        P18,      56,          1,         24,      11122,2,20161207,       1003,    -0.2455,  -109.9969,       3737,     2.9,  21.5080,  34.8558,2,  34.8648,2,    191.9,2,   164.6,3,     7.2,2,    11.0,2,    0.26,2,   0.893,2,   1.8927,2,   1.1513,2,   1.2865,2,  2086.5,6,  2294.6,2,   7.8729,2,    25.00, -999.00,9,  -999.0,9,  -999.0,        0,2, -999.00,9,  -999.0,9, -999.00,9, -999.00,9,    13.8064,2, -999.00,9,  -999.0,9,     -999.0,     -999.0,9,     -999.0,9,     -999.0,     -999.0,9,     -999.0,     -999.0,9,     -999.0,     -999.0,     -999.0,9,     -999.0,9,     -999.0,9,     -999.0,9,     -999.0,9,     -999.0,9,     -999.0,9,     -999.0,9