BOTTLE,20230606CCHSIOCBG
EXPOCODE,SECT_ID,STNNBR,CASTNO,SAMPNO,BTLNBR,BTLNBR_FLAG_W,DATE,TIME,LATITUDE,LONGITUDE,DEPTH,CTDPRS,CTDTMP,CTDSAL,CTDSAL_FLAG_W,SALNTY,SALNTY_FLAG_W,CTDOXY,CTDOXY_FLAG_W,OXYGEN,OXYGEN_FLAG_W,SILCAT,SILCAT_FLAG_W,NITRAT,NITRAT_FLAG_W,NITRIT,NITRIT_FLAG_W,PHSPHT,PHSPHT_FLAG_W,CFC-11,CFC-11_FLAG_W,CFC-12,CFC-12_FLAG_W,SF6,SF6_FLAG_W,TCARBN,TCARBN_FLAG_W,ALKALI,ALKALI_FLAG_W,PH_SWS,PH_SWS_FLAG_W,PH_TMP,DELC13,DELC13_FLAG_W,DELC14,DELC14_FLAG_W,C14ERR,CCL4,CCL4_FLAG_W,POC,POC_FLAG_W,DOC,DOC_FLAG_W,TDN,TDN_FLAG_W,PON,PON_FLAG_W,N2O,N2O_FLAG_W,D15N_NO3,D15N_NO3_FLAG_W,14C-DOC,14C-DOC_FLAG_W,14C-DOCERR,13C-DOC,13C-DOC_FLAG_W,N2/ARGON_UNSTRIPPED,N2/ARGON_UNSTRIPPED_FLAG_W,N2/ARGON_UNSTRIPPED_ERROR,N2/ARGON,N2/ARGON_FLAG_W,N2/ARGON_ERROR,D15N_N2,D15N_N2_FLAG_W,D15N_N2_ERROR,D15N_NO3_ERROR,D15N_NO2+NO3,D15N_NO2+NO3_FLAG_W,D18O_NO2+NO3,D18O_NO2+NO3_FLAG_W,D18O_NO3,D18O_NO3_FLAG_W,TDP,TDP_FLAG_W,N2O_ALT_1,N2O_ALT_1_FLAG_W,D15N_N2O,D15N_N2O_FLAG_W,D18O_N2O,D18O_N2O_FLAG_W,D15N_ALPHA_N2O,D15N_ALPHA_N2O_FLAG_W
,,,,,,,,,,,METERS,DBAR,ITS-90,PSS-78,,PSS-78,,UMOL/KG,,UMOL/KG,,UMOL/KG,,UMOL/KG,,UMOL/KG,,UMOL/KG,,PMOL/KG,,PMOL/KG,,FMOL/KG,,UMOL/KG,,UMOL/KG,,,,DEG C,/MILLE,,/MILLE,,/MILLE,PMOL/KG,,UG/KG,,UMOL/KG,,UMOL/KG,,UG/KG,,NMOL/KG,,/MILLE,,/MILLE,,/MILLE,/MILLE,,,,,,,,/MILLE,,/MILLE,/MILLE,/MILLE,,/MILLE,,/MILLE,,UMOL/KG,,NMOL/L,,/MILLE,,/MILLE,,/MILLE,
33RO20161119,        P18,     155,          1,          1,      11010,2,20170111,       0414,   -43.5005,  -102.9995,       3759,  3799.0,   1.2243,  34.7084,2,  34.7095,2,    190.6,2,   190.9,2,   121.2,2,    32.7,2,    0.01,2,   2.300,2,-999.0000,9,-999.0000,9,-999.0000,9,  2279.3,2,  2383.2,6,   7.6042,2,    25.00, -999.00,9,  -999.0,9,  -999.0,-999.0000,9, -999.00,9,    39.4,2,   35.50,2, -999.00,9,     -999.0,9, -999.00,9,  -999.0,9,     -999.0,     -999.0,9,     -999.0,9,     -999.0,     -999.0,9,     -999.0,     -999.0,9,     -999.0,     -999.0,     -999.0,9,     -999.0,9,     -999.0,9,     -999.0,9,     -999.0,9,     -999.0,9,     -999.0,9,     -999.0,9
33RO20161119,        P18,     155,          1,          2,      11101,2,20170111,       0414,   -43.5005,  -102.9995,       3759,  3537.9,   1.3183,  34.7085,2,  34.7133,4,    187.2,2,   187.4,2,   118.8,2,    32.9,2,    0.01,2,   2.304,2,-999.0000,9,-999.0000,9,-999.0000,9,  2280.1,2,  2381.9,2,   7.6009,6,    25.00, -999.00,9,  -999.0,9,  -999.0,-999.0000,9, -999.00,9,    39.9,2,   34.90,2, -999.00,9,     -999.0,9, -999.00,9,  -999.0,9,     -999.0,     -999.0,9,     -999.0,9,     -999.0,     -999.0,9,     -999.0,     -999.0,9,     -999.0,     -999.0,     -999.0,9,     -999.0,9,     -999.0,9,     -999.0,9,     -999.0,9,     -999.0,9,     -999.0,9,     -999.0,9
33RO20161119,        P18,     155,          1,          3,      11102,2,20170111,       0414,   -43.5005,  -102.9995,       3759,  3295.5,   1.5273,  34.7103,2,  34.7096,2,    182.9,2,   182.4,2,   112.9,6,    32.9,6,    0.01,6,   2.298,6,-999.0000,9,-999.0000,9,-999.0000,9,  2276.9,2,  2373.8,2,   7.5933,2,    25.00, -999.00,9,  -999.0,9,  -999.0,-999.0000,9, -999.00,9,    40.3,2,   35.50,2, -999.00,9,     -999.0,9, -999.00,9,  -999.0,9,     -999.0,     -999.0,9,     -999.0,9,     -999.0,     -999.0,9,     -999.0,     -999.0,9,     -999.0,     -999.0,     -999.0,9,     -999.0,9,     -999.0,9,     -999.0,9,     -999.0,9,     -999.0,9,     -999.0,9,     -999.0,9
33RO20161119,        P18,     155,          1,          4,      11103,2,20170111,       0414,   -43.5005,  -102.9995,       3759,  2974.4,   1.6712,  34.7056,2,  34.7058,2,    176.8,2,   176.4,2,   110.2,6,    32.9,6,    0.00,6,   2.323,6,-999.0000,9,-999.0000,9,-999.0000,9,  2278.7,2,  2370.4,2,   7.5862,2,    25.00, -999.00,9,  -999.0,9,  -999.0,-999.0000,9, -999.00,9,    38.9,2,   34.10,2, -999.00,9,     -999.0,9, -999.00,9,  -999.0,9,     -999.0,     -999.0,9,     -999.0,9,     -999.0,     -999.0,9,     -999.0,     -999.0,9,     -999.0,     -999.0,     -999.0,9,     -999.0,9,     -999.0,9,     -999.0,9,     -999.0,9,     -999.0,9,     -999.0,9,     -999.0,9
33RO20161119,        P18,     155,          1,          5,      11104,2,20170111,       0414,   -43.5005,  -102.9995,       3759,  2670.5,   1.8089,  34.6999,2,  34.6999,2,    172.7,2,   172.5,2,   106.6,6,    33.0,6,    0.00,6,   2.324,6,   0.0258,2,   0.0134,2,   0.0000,2,  2279.4,2,  2371.9,2,   7.5809,2,    25.00, -999.00,9,  -999.0,9,  -999.0,   2.0524,2, -999.00,9,    39.7,2,   33.50,2, -999.00,9,    20.2281,2, -999.00,9,  -999.0,9,     -999.0,     -999.0,9,     -999.0,9,     -999.0,     -999.0,9,     -999.0,     -999.0,9,     -999.0,     -999.0,     -999.0,9,     -999.0,9,     -999.0,9,     -999.0,9,     -999.0,9,     -999.0,9,     -999.0,9,     -999.0,9
33RO20161119,        P18,     155,          1,          6,      11105,2,20170111,       0414,   -43.5005,  -102.9995,       3759,  2359.9,   2.0140,  34.6860,2,  34.6867,2,    168.5,2,   168.9,6,    99.5,6,    33.2,6,    0.00,6,   2.334,6,-999.0000,9,-999.0000,9,-999.0000,9,  2274.8,2,  2366.0,2,   7.5733,2,    25.00, -999.00,9,  -999.0,9,  -999.0,-999.0000,9, -999.00,9,    38.0,2,   36.90,2, -999.00,9,     -999.0,9, -999.00,9,  -999.0,9,     -999.0,     -999.0,9,     -999.0,9,     -999.0,     -999.0,9,     -999.0,     -999.0,9,     -999.0,     -999.0,     -999.0,9,     -999.0,9,     -999.0,9,     -999.0,9,     -999.0,9,     -999.0,9,     -999.0,9,     -999.0,9
33RO20161119,        P18,     155,          1,          7,      11106,2,20170111,       0414,   -43.5005,  -102.9995,       3759,  2060.2,   2.2296,  34.6471,2,  34.6575,4,    162.2,2,   162.3,2,    93.2,2,    33.9,2,    0.00,2,   2.389,2,   0.0557,6,   0.0272,6,   0.0141,6,  2274.1,2,  2359.7,2,   7.5606,2,    25.00, -999.00,9,  -999.0,9,  -999.0,   3.0541,2, -999.00,9,    38.7,2,   36.60,2, -999.00,9,    21.6105,2, -999.00,9,  -999.0,9,     -999.0,     -999.0,9,     -999.0,9,     -999.0,     -999.0,9,     -999.0,     -999.0,9,     -999.0,     -999.0,     -999.0,9,     -999.0,9,     -999.0,9,     -999.0,9,     -999.0,9,     -999.0,9,     -999.0,9,     -999.0,9
33RO20161119,        P18,     155,          1,          8,      11107,2,20170111,       0414,   -43.5005,  -102.9995,       3759,  1749.4,   2.5234,  34.5843,2,  34.5838,2,    153.8,2,   153.5,2,    85.6,2,    35.2,2,    0.01,2,   2.470,2,-999.0000,9,-999.0000,9,-999.0000,9,  2272.9,2,  2352.1,2,   7.5436,2,    25.00, -999.00,9,  -999.0,9,  -999.0,-999.0000,9, -999.00,9,    39.1,2,   38.10,2, -999.00,9,     -999.0,9, -999.00,9,  -999.0,9,     -999.0,     -999.0,9,     -999.0,9,     -999.0,     -999.0,9,     -999.0,     -999.0,9,     -999.0,     -999.0,     -999.0,9,     -999.0,9,     -999.0,9,     -999.0,9,     -999.0,9,     -999.0,9,     -999.0,9,     -999.0,9
33RO20161119,        P18,     155,          1,          9,      11108,2,20170111,       0414,   -43.5005,  -102.9995,       3759,  1474.8,   2.9395,  34.5103,2,  34.5137,2,    144.1,2,   143.6,2,    75.6,2,    36.3,2,    0.01,2,   2.563,2,   0.1195,2,   0.0574,2,   0.0456,2,  2270.6,6,  2338.6,2,   7.5185,2,    25.00, -999.00,9,  -999.0,9,  -999.0,   3.1811,2, -999.00,9,    41.0,2,   40.40,2, -999.00,9,    25.5298,2, -999.00,9,  -999.0,9,     -999.0,     -999.0,9,     -999.0,9,     -999.0,     -999.0,9,     -999.0,     -999.0,9,     -999.0,     -999.0,     -999.0,9,     -999.0,9,     -999.0,9,     -999.0,9,     -999.0,9,     -999.0,9,     -999.0,9,     -999.0,9
33RO20161119,        P18,     155,          1,         10,      11109,2,20170111,       0414,   -43.5005,  -102.9995,       3759,  1292.9,   3.2717,  34.4165,2,  34.4171,2,    166.2,2,   165.9,2,    56.4,2,    34.9,2,    0.01,2,   2.448,2,-999.0000,9,-999.0000,9,-999.0000,9,  2240.7,2,  2318.4,2,   7.5436,2,    25.00, -999.00,9,  -999.0,9,  -999.0,-999.0000,9, -999.00,9,    40.2,2,   38.90,2, -999.00,9,     -999.0,9, -999.00,9,  -999.0,9,     -999.0,     -999.0,9,     -999.0,9,     -999.0,     -999.0,9,     -999.0,     -999.0,9,     -999.0,     -999.0,     -999.0,9,     -999.0,9,     -999.0,9,     -999.0,9,     -999.0,9,     -999.0,9,     -999.0,9,     -999.0,9
33RO20161119,        P18,     155,          1,         11,      11110,2,20170111,       0414,   -43.5005,  -102.9995,       3759,  1148.3,   3.6291,  34.3508,2,  34.3529,2,    186.1,2,   186.6,2,    43.2,2,    33.1,2,    0.00,2,   2.306,2,   1.0629,2,   0.5190,2,   0.1628,2,  2217.4,2,  2302.9,2,   7.5717,2,    25.00, -999.00,9,  -999.0,9,  -999.0,   3.3163,2, -999.00,9,    42.3,2,   37.80,2, -999.00,9,    21.1462,2, -999.00,9,  -999.0,9,     -999.0,     -999.0,9,     -999.0,9,     -999.0,     -999.0,9,     -999.0,     -999.0,9,     -999.0,     -999.0,     -999.0,9,     -999.0,9,     -999.0,9,     -999.0,9,     -999.0,9,     -999.0,9,     -999.0,9,     -999.0,9
33RO20161119,        P18,     155,          1,         12,      11111,2,20170111,       0414,   -43.5005,  -102.9995,       3759,  1025.7,   4.0501,  34.3110,2,  34.3316,4,    200.3,2,   200.3,2,    33.7,2,    31.4,2,    0.01,2,   2.197,2,-999.0000,9,-999.0000,9,-999.0000,9,  2200.9,2,  2292.0,2,   7.5950,2,    25.00, -999.00,9,  -999.0,9,  -999.0,-999.0000,9, -999.00,9,    43.1,2,   34.90,2, -999.00,9,     -999.0,9, -999.00,9,  -999.0,9,     -999.0,     -999.0,9,     -999.0,9,     -999.0,     -999.0,9,     -999.0,     -999.0,9,     -999.0,     -999.0,     -999.0,9,     -999.0,9,     -999.0,9,     -999.0,9,     -999.0,9,     -999.0,9,     -999.0,9,     -999.0,9
33RO20161119,        P18,     155,          1,         13,      11112,2,20170111,       0414,   -43.5005,  -102.9995,       3759,   896.5,   4.6386,  34.2790,2,  34.2818,2,    214.1,2,   213.9,2,    24.4,2,    29.4,2,    0.00,2,   2.057,2,   2.4120,2,   1.2196,2,   0.5739,2,  2184.6,2,  2284.6,2,   7.6223,2,    25.00, -999.00,9,  -999.0,9,  -999.0,    3.534,2, -999.00,9,    41.2,2,   30.70,2, -999.00,9,    18.1366,2, -999.00,9,  -999.0,9,     -999.0,     -999.0,9,     -999.0,9,     -999.0,     -999.0,9,     -999.0,     -999.0,9,     -999.0,     -999.0,     -999.0,9,     -999.0,9,     -999.0,9,     -999.0,9,     -999.0,9,     -999.0,9,     -999.0,9,     -999.0,9
33RO20161119,        P18,     155,          1,         14,      11113,2,20170111,       0414,   -43.5005,  -102.9995,       3759,   755.9,   5.2491,  34.2546,2,  34.2749,4,    235.0,2,   234.9,2,    15.4,2,    26.4,2,    0.00,2,   1.858,2,-999.0000,9,-999.0000,9,-999.0000,9,  2166.0,2,  2279.1,2,   7.6635,2,    25.00, -999.00,9,  -999.0,9,  -999.0,-999.0000,9, -999.00,9,    41.3,2,   30.60,2, -999.00,9,     -999.0,9, -999.00,9,  -999.0,9,     -999.0,     -999.0,9,     -999.0,9,     -999.0,     -999.0,9,     -999.0,     -999.0,9,     -999.0,     -999.0,     -999.0,9,     -999.0,9,     -999.0,9,     -999.0,9,     -999.0,9,     -999.0,9,     -999.0,9,     -999.0,9
33RO20161119,        P18,     155,          1,         15,      11114,2,20170111,       0414,   -43.5005,  -102.9995,       3759,   652.1,   5.5735,  34.2515,2,  34.2541,2,    248.4,2,   249.0,2,    11.6,2,    24.5,2,    0.01,2,   1.737,2,   3.7105,2,   1.9672,2,   1.2758,2,  2155.5,2,  2277.0,2,   7.6831,2,    25.00, -999.00,9,  -999.0,9,  -999.0,   2.8839,2, -999.00,9,    42.6,2,   26.30,2, -999.00,9,    15.0619,2, -999.00,9,  -999.0,9,     -999.0,     -999.0,9,     -999.0,9,     -999.0,     -999.0,9,     -999.0,     -999.0,9,     -999.0,     -999.0,     -999.0,9,     -999.0,9,     -999.0,9,     -999.0,9,     -999.0,9,     -999.0,9,     -999.0,9,     -999.0,9
33RO20161119,        P18,     155,          1,         16,      11115,2,20170111,       0414,   -43.5005,  -102.9995,       3759,   538.8,   5.8885,  34.2583,2,  34.2590,2,    256.8,2,   258.3,2,     9.0,2,    22.9,2,    0.00,2,   1.645,2,   3.9780,2,   2.1601,2,   1.5913,2,  2149.4,2,  2277.0,2,   7.6970,2,    25.00, -999.00,9,  -999.0,9,  -999.0,   4.0135,2, -999.00,9,    42.4,2,   25.10,2, -999.00,9,    14.6296,2, -999.00,9,  -999.0,9,     -999.0,     -999.0,9,     -999.0,9,     -999.0,     -999.0,9,     -999.0,     -999.0,9,     -999.0,     -999.0,     -999.0,9,     -999.0,9,     -999.0,9,     -999.0,9,     -999.0,9,     -999.0,9,     -999.0,9,     -999.0,9
33RO20161119,        P18,     155,          1,         17,      11116,2,20170111,       0414,   -43.5005,  -102.9995,       3759,   434.2,   6.1617,  34.2711,2,  34.2749,2,    263.1,2,   261.4,2,     7.7,2,    21.8,2,    0.00,2,   1.578,2,   4.0530,2,   2.2289,2,   1.7580,2,  2144.4,2,  2263.4,3,   7.7060,2,    25.00, -999.00,9,  -999.0,9,  -999.0,   3.4416,2, -999.00,9,    43.6,2,   24.10,2, -999.00,9,    14.5066,2, -999.00,9,  -999.0,9,     -999.0,     -999.0,9,     -999.0,9,     -999.0,     -999.0,9,     -999.0,     -999.0,9,     -999.0,     -999.0,     -999.0,9,     -999.0,9,     -999.0,9,     -999.0,9,     -999.0,9,     -999.0,9,     -999.0,9,     -999.0,9
33RO20161119,        P18,     155,          1,         18,      11117,2,20170111,       0414,   -43.5005,  -102.9995,       3759,   334.6,   6.3717,  34.2731,2,  34.2724,2,    265.4,2,   265.6,2,     6.6,2,    20.8,2,    0.01,2,   1.523,2,   4.0705,2,   2.2746,2,   1.9910,2,  2138.4,2,  2266.2,2,   7.7152,2,    25.00, -999.00,9,  -999.0,9,  -999.0,    3.355,2, -999.00,9,    45.8,2,   22.70,2, -999.00,9,    14.8824,2, -999.00,9,  -999.0,9,     -999.0,     -999.0,9,     -999.0,9,     -999.0,     -999.0,9,     -999.0,     -999.0,9,     -999.0,     -999.0,     -999.0,9,     -999.0,9,     -999.0,9,     -999.0,9,     -999.0,9,     -999.0,9,     -999.0,9,     -999.0,9
33RO20161119,        P18,     155,          1,         19,      11083,2,20170111,       0414,   -43.5005,  -102.9995,       3759,   250.2,   6.6095,  34.2744,2,  34.2914,4,    262.5,2,   264.2,6,     5.8,2,    20.3,2,    0.01,2,   1.486,2,   4.0712,2,   2.2824,2,   2.0748,2,  2137.2,2,  2264.7,2,   7.7137,2,    25.00, -999.00,9,  -999.0,9,  -999.0,   0.0223,2, -999.00,9,    43.6,2,   24.50,2, -999.00,9,    16.2775,2, -999.00,9,  -999.0,9,     -999.0,     -999.0,9,     -999.0,9,     -999.0,     -999.0,9,     -999.0,     -999.0,9,     -999.0,     -999.0,     -999.0,9,     -999.0,9,     -999.0,9,     -999.0,9,     -999.0,9,     -999.0,9,     -999.0,9,     -999.0,9
33RO20161119,        P18,     155,          1,         20,      11118,2,20170111,       0414,   -43.5005,  -102.9995,       3759,   169.5,   6.9914,  34.2063,2,  34.2069,2,    267.5,2,   267.4,2,     4.0,2,    19.0,2,    0.02,2,   1.432,2,   4.0099,2,   2.2812,2,   2.3584,2,  2130.5,2,  2258.6,3,   7.7258,2,    25.00, -999.00,9,  -999.0,9,  -999.0,   0.0177,2, -999.00,9,    44.1,2,   19.30,2, -999.00,9,    17.7418,2, -999.00,9,  -999.0,9,     -999.0,     -999.0,9,     -999.0,9,     -999.0,     -999.0,9,     -999.0,     -999.0,9,     -999.0,     -999.0,     -999.0,9,     -999.0,9,     -999.0,9,       1.44,3,     -999.0,9,     -999.0,9,     -999.0,9,     -999.0,9
33RO20161119,        P18,     155,          1,         21,      11119,2,20170111,       0414,   -43.5005,  -102.9995,       3759,   104.7,   8.4570,  34.0790,2,  34.0794,2,    283.1,2,   281.9,2,     1.6,2,    13.6,2,    0.24,2,   1.130,2,   3.7125,2,   2.1264,2,   2.5593,2,  2098.3,2,  2260.0,2,   7.7933,2,    25.00, -999.00,9,  -999.0,9,  -999.0,   0.0382,2, -999.00,9,    46.1,2,   20.00,2, -999.00,9,    11.7165,2, -999.00,9,  -999.0,9,     -999.0,     -999.0,9,     -999.0,9,     -999.0,     -999.0,9,     -999.0,     -999.0,9,     -999.0,     -999.0,     -999.0,9,     -999.0,9,     -999.0,9,       1.33,2,     -999.0,9,     -999.0,9,     -999.0,9,     -999.0,9
33RO20161119,        P18,     155,          1,         22,      11120,2,20170111,       0414,   -43.5005,  -102.9995,       3759,    51.1,  11.2923,  34.0139,2,  34.0108,2,    278.6,2,   279.5,2,     1.1,2,    11.3,2,    0.17,2,   0.982,2,   3.3039,2,   1.9104,2,   2.3346,2,  2074.2,2,  2257.0,6,   7.8368,6,    25.00, -999.00,9,  -999.0,9,  -999.0,   0.0266,2, -999.00,9,    51.7,2,   15.90,2, -999.00,9,    10.2675,2, -999.00,9,  -999.0,9,     -999.0,     -999.0,9,     -999.0,9,     -999.0,     -999.0,9,     -999.0,     -999.0,9,     -999.0,     -999.0,     -999.0,9,     -999.0,9,     -999.0,9,       1.02,2,     -999.0,9,     -999.0,9,     -999.0,9,     -999.0,9
33RO20161119,        P18,     155,          1,         23,      11121,2,20170111,       0414,   -43.5005,  -102.9995,       3759,    20.2,  12.3058,  33.9845,2,  33.9854,2,    269.8,2,   270.5,2,     0.9,2,    11.3,2,    0.22,2,   0.982,2,-999.0000,9,-999.0000,9,-999.0000,9,  2070.2,2,  2257.7,2,   7.8452,2,    25.00, -999.00,9,  -999.0,9,  -999.0,-999.0000,9, -999.00,9,    51.5,2,   17.00,2, -999.00,9,     -999.0,9, -999.00,9,  -999.0,9,     -999.0,     -999.0,9,     -999.0,9,     -999.0,     -999.0,9,     -999.0,     -999.0,9,     -999.0,     -999.0,     -999.0,9,     -999.0,9,     -999.0,9,       1.09,2,     -999.0,9,     -999.0,9,     -999.0,9,     -999.0,9
33RO20161119,        P18,     155,          1,         24,      11122,2,20170111,       0414,   -43.5005,  -102.9995,       3759,     4.1,  12.3039,  33.9846,2,  33.9836,2,    269.2,2,   270.5,2,     0.9,2,    11.0,2,    0.22,2,   0.973,2,   3.1442,2,   1.8268,2,   2.2610,2,  2070.9,6,  2256.2,2,   7.8433,2,    25.00, -999.00,9,  -999.0,9,  -999.0,   0.0621,2, -999.00,9,    52.3,2,   15.80,2, -999.00,9,     9.9346,2, -999.00,9,  -999.0,9,     -999.0,     -999.0,9,     -999.0,9,     -999.0,     -999.0,9,     -999.0,     -999.0,9,     -999.0,     -999.0,     -999.0,9,     -999.0,9,     -999.0,9,       1.12,2,     -999.0,9,     -999.0,9,     -999.0,9,     -999.0,9