BOTTLE,20230606CCHSIOCBG
EXPOCODE,SECT_ID,STNNBR,CASTNO,SAMPNO,BTLNBR,BTLNBR_FLAG_W,DATE,TIME,LATITUDE,LONGITUDE,DEPTH,CTDPRS,CTDTMP,CTDSAL,CTDSAL_FLAG_W,SALNTY,SALNTY_FLAG_W,CTDOXY,CTDOXY_FLAG_W,OXYGEN,OXYGEN_FLAG_W,SILCAT,SILCAT_FLAG_W,NITRAT,NITRAT_FLAG_W,NITRIT,NITRIT_FLAG_W,PHSPHT,PHSPHT_FLAG_W,CFC-11,CFC-11_FLAG_W,CFC-12,CFC-12_FLAG_W,SF6,SF6_FLAG_W,TCARBN,TCARBN_FLAG_W,ALKALI,ALKALI_FLAG_W,PH_SWS,PH_SWS_FLAG_W,PH_TMP,DELC13,DELC13_FLAG_W,DELC14,DELC14_FLAG_W,C14ERR,CCL4,CCL4_FLAG_W,POC,POC_FLAG_W,DOC,DOC_FLAG_W,TDN,TDN_FLAG_W,PON,PON_FLAG_W,N2O,N2O_FLAG_W,D15N_NO3,D15N_NO3_FLAG_W,14C-DOC,14C-DOC_FLAG_W,14C-DOCERR,13C-DOC,13C-DOC_FLAG_W,N2/ARGON_UNSTRIPPED,N2/ARGON_UNSTRIPPED_FLAG_W,N2/ARGON_UNSTRIPPED_ERROR,N2/ARGON,N2/ARGON_FLAG_W,N2/ARGON_ERROR,D15N_N2,D15N_N2_FLAG_W,D15N_N2_ERROR,D15N_NO3_ERROR,D15N_NO2+NO3,D15N_NO2+NO3_FLAG_W,D18O_NO2+NO3,D18O_NO2+NO3_FLAG_W,D18O_NO3,D18O_NO3_FLAG_W,TDP,TDP_FLAG_W,N2O_ALT_1,N2O_ALT_1_FLAG_W,D15N_N2O,D15N_N2O_FLAG_W,D18O_N2O,D18O_N2O_FLAG_W,D15N_ALPHA_N2O,D15N_ALPHA_N2O_FLAG_W
,,,,,,,,,,,METERS,DBAR,ITS-90,PSS-78,,PSS-78,,UMOL/KG,,UMOL/KG,,UMOL/KG,,UMOL/KG,,UMOL/KG,,UMOL/KG,,PMOL/KG,,PMOL/KG,,FMOL/KG,,UMOL/KG,,UMOL/KG,,,,DEG C,/MILLE,,/MILLE,,/MILLE,PMOL/KG,,UG/KG,,UMOL/KG,,UMOL/KG,,UG/KG,,NMOL/KG,,/MILLE,,/MILLE,,/MILLE,/MILLE,,,,,,,,/MILLE,,/MILLE,/MILLE,/MILLE,,/MILLE,,/MILLE,,UMOL/KG,,NMOL/L,,/MILLE,,/MILLE,,/MILLE,
33RO20161119,        P18,     206,          1,          1,      11010,2,20170126,       0157,   -69.0009,  -102.9937,       4063,  4130.5,   0.3494,  34.7009,2,  34.7014,2,    212.7,2,   213.3,2,   144.0,2,    33.2,2,    0.01,2,   2.262,2,   0.3954,2,   0.1889,2,   0.0573,2,  2263.9,6,  2366.0,2,   7.5864,2,    25.00,    0.37,3,  -164.4,2,     1.9,   0.2301,2, -999.00,9,  -999.0,9, -999.00,9, -999.00,9,    18.0904,2,    4.67,2,  -999.0,9,     -999.0,     -999.0,9,     -999.0,9,     -999.0,     -999.0,9,     -999.0,     -999.0,9,     -999.0,     -999.0,       4.67,2,       2.26,2,       2.26,2,     -999.0,9,15.25444151,2,       8.56,2,      48.26,2,       23.1,2
33RO20161119,        P18,     206,          1,          2,      11101,2,20170126,       0157,   -69.0009,  -102.9937,       4063,  3788.4,   0.4032,  34.7033,2,  34.7040,2,    211.3,2,   211.8,6,   138.0,2,    33.1,2,    0.01,2,   2.253,2,   0.2454,2,   0.1180,2,   0.0518,2,  2261.3,2,  2367.5,6,   7.5875,2,    25.00,    0.58,2,  -163.9,2,     1.7,   0.2172,2, -999.00,9,  -999.0,9, -999.00,9, -999.00,9,    18.0561,2,    4.71,2,  -999.0,9,     -999.0,     -999.0,9,     -999.0,9,     -999.0,     -999.0,9,     -999.0,     -999.0,9,     -999.0,     -999.0,       4.71,2,       2.04,2,       2.04,2,     -999.0,9,     -999.0,9,     -999.0,9,     -999.0,9,     -999.0,9
33RO20161119,        P18,     206,          1,          3,      11102,2,20170126,       0157,   -69.0009,  -102.9937,       4063,  3445.4,   0.4352,  34.7042,2,  34.7036,2,    210.4,2,   210.0,2,   136.0,6,    33.1,6,    0.01,6,   2.250,6,   0.1981,2,   0.0962,2,   0.0400,2,  2263.1,2,  2364.4,2,   7.5874,2,    25.00,    0.53,2,  -165.5,2,     1.8,   0.2278,2, -999.00,9,  -999.0,9, -999.00,9, -999.00,9,    17.9578,2,    4.75,2,  -999.0,9,     -999.0,     -999.0,9,     -999.0,9,     -999.0,     -999.0,9,     -999.0,     -999.0,9,     -999.0,     -999.0,       4.75,2,       2.07,2,       2.07,2,     -999.0,9,15.19752307,2,       8.57,2,       48.4,2,      23.52,2
33RO20161119,        P18,     206,          1,          4,      11103,2,20170126,       0157,   -69.0009,  -102.9937,       4063,  3120.2,   0.4747,  34.7046,2,  34.7039,2,    209.3,2,   209.5,2,   131.5,6,    33.1,6,    0.01,6,   2.244,6,   0.1982,2,   0.0961,2,   0.0415,2,  2258.2,2,  2361.8,2,   7.5903,2,    25.00,    0.51,2,  -162.8,2,     1.9,   0.1993,2, -999.00,9,  -999.0,9, -999.00,9, -999.00,9,    18.1133,2,     4.7,2,  -999.0,9,     -999.0,     -999.0,9,     -999.0,9,     -999.0,     -999.0,9,     -999.0,     -999.0,9,     -999.0,     -999.0,        4.7,2,        1.9,2,        1.9,2,     -999.0,9,     -999.0,9,     -999.0,9,     -999.0,9,     -999.0,9
33RO20161119,        P18,     206,          1,          5,      11104,2,20170126,       0157,   -69.0009,  -102.9937,       4063,  2795.5,   0.5540,  34.7062,2,  34.7075,2,    207.9,2,   207.8,2,   128.5,6,    33.0,6,    0.01,6,   2.246,6,   0.1771,2,   0.0861,2,   0.0259,2,  2259.3,2,  2362.0,2,   7.5929,2,    25.00,    0.54,2,  -166.6,2,     1.7,   0.1888,2, -999.00,9,  -999.0,9, -999.00,9, -999.00,9,    18.1966,2,    4.75,2,  -999.0,9,     -999.0,     -999.0,9,     -999.0,9,     -999.0,     -999.0,9,     -999.0,     -999.0,9,     -999.0,     -999.0,       4.75,2,       1.97,2,       1.97,2,     -999.0,9,15.32190689,2,       8.63,2,      48.31,2,      22.91,2
33RO20161119,        P18,     206,          1,          6,      11105,2,20170126,       0157,   -69.0009,  -102.9937,       4063,  2476.1,   0.6756,  34.7086,2,  34.7082,2,    205.2,2,   205.2,2,   124.7,6,    32.9,6,    0.01,6,   2.229,6,   0.1643,2,   0.0793,2,   0.0266,2,  2256.2,2,  2360.2,2,   7.5903,2,    25.00,    0.53,2,  -166.1,2,     1.7,   0.1482,2, -999.00,9,  -999.0,9, -999.00,9, -999.00,9,      18.28,2,     4.8,2,  -999.0,9,     -999.0,     -999.0,9,     -999.0,9,     -999.0,     -999.0,9,     -999.0,     -999.0,9,     -999.0,     -999.0,        4.8,2,       2.11,2,       2.11,2,     -999.0,9,     -999.0,9,     -999.0,9,     -999.0,9,     -999.0,9
33RO20161119,        P18,     206,          1,          7,      11106,2,20170126,       0157,   -69.0009,  -102.9937,       4063,  2154.7,   0.7999,  34.7124,2,  34.7147,2,    202.7,2,   202.8,2,   121.1,2,    32.7,2,    0.01,2,   2.213,2,   0.1383,6,   0.0675,6,   0.0194,6,  2256.6,2,  2360.3,2,   7.5911,2,    25.00,    0.54,2,  -165.4,2,     2.1,   0.1796,2, -999.00,9,  -999.0,9, -999.00,9, -999.00,9,    18.5031,2,    4.73,2,  -999.0,9,     -999.0,     -999.0,9,     -999.0,9,     -999.0,     -999.0,9,     -999.0,     -999.0,9,     -999.0,     -999.0,       4.73,2,       1.96,2,       1.96,2,     -999.0,9,15.53065763,2,       8.57,2,      48.09,2,       21.9,2
33RO20161119,        P18,     206,          1,          8,      11107,2,20170126,       0157,   -69.0009,  -102.9937,       4063,  1835.4,   0.9327,  34.7171,2,  34.7170,2,    199.5,2,   200.8,2,   116.1,2,    32.5,2,    0.01,2,   2.215,2,   0.1261,2,   0.0622,2,   0.0000,2,  2258.5,2,  2361.0,2,   7.5928,2,    25.00,    0.51,2,  -167.9,2,     1.8,   0.2086,2, -999.00,9,  -999.0,9, -999.00,9, -999.00,9,    18.3232,2,    4.74,2,  -999.0,9,     -999.0,     -999.0,9,     -999.0,9,     -999.0,     -999.0,9,     -999.0,     -999.0,9,     -999.0,     -999.0,       4.74,2,       1.92,2,       1.92,2,     -999.0,9,     -999.0,9,     -999.0,9,     -999.0,9,     -999.0,9
33RO20161119,        P18,     206,          1,          9,      11108,2,20170126,       0157,   -69.0009,  -102.9937,       4063,  1555.0,   1.0739,  34.7224,2,  34.7230,2,    197.2,2,   197.6,2,   111.5,2,    32.5,2,    0.01,2,   2.200,2,   0.1100,2,   0.0528,2,   0.0000,2,  2255.3,2,  2357.7,2,   7.5903,2,    25.00,    0.55,2,  -164.1,2,     1.7,   0.2011,2, -999.00,9,  -999.0,9, -999.00,9, -999.00,9,    18.6325,2,    4.78,2,  -999.0,9,     -999.0,     -999.0,9,     -999.0,9,     -999.0,     -999.0,9,     -999.0,     -999.0,9,     -999.0,     -999.0,       4.78,2,       1.84,2,       1.84,2,     -999.0,9,15.77391757,2,        8.5,2,      47.52,2,      20.88,2
33RO20161119,        P18,     206,          1,         10,      11109,2,20170126,       0157,   -69.0009,  -102.9937,       4063,  1370.5,   1.1811,  34.7259,2,  34.7253,2,    194.7,2,   194.8,2,   108.3,2,    32.4,2,    0.01,2,   2.205,2,   0.1039,2,   0.0508,2,   0.0000,2,  2256.1,2,  2356.5,2,   7.5892,2,    25.00,    0.49,2,  -161.2,2,     1.8,   0.2064,2, -999.00,9,  -999.0,9, -999.00,9, -999.00,9,    18.7875,2,    4.76,2,  -999.0,9,     -999.0,     -999.0,9,     -999.0,9,     -999.0,     -999.0,9,     -999.0,     -999.0,9,     -999.0,     -999.0,       4.76,2,       1.82,2,       1.82,2,     -999.0,9,     -999.0,9,     -999.0,9,     -999.0,9,     -999.0,9
33RO20161119,        P18,     206,          1,         11,      11110,2,20170126,       0157,   -69.0009,  -102.9937,       4063,  1226.0,   1.2705,  34.7286,2,  34.7284,2,    193.0,2,   193.2,2,   105.4,2,    32.3,2,    0.01,2,   2.201,2,   0.1145,2,   0.0546,2,   0.0000,2,  2255.6,2,  2357.7,2,   7.5882,2,    25.00,    0.46,2,  -163.9,2,     1.8,   0.3176,2, -999.00,9,  -999.0,9, -999.00,9, -999.00,9,    19.0225,2,    4.72,2,  -999.0,9,     -999.0,     -999.0,9,     -999.0,9,     -999.0,     -999.0,9,     -999.0,     -999.0,9,     -999.0,     -999.0,       4.72,2,        2.0,2,        2.0,2,     -999.0,9,16.20170157,2,       8.41,2,      47.79,2,      20.36,2
33RO20161119,        P18,     206,          1,         12,      11111,2,20170126,       0157,   -69.0009,  -102.9937,       4063,  1085.9,   1.3718,  34.7313,2,  34.7304,2,    191.0,2,   191.9,2,   102.4,2,    32.3,2,    0.01,2,   2.171,2,   0.1292,2,   0.0621,2,   0.0301,2,  2258.4,2,  2353.2,2,   7.5849,2,    25.00,    0.46,2,  -162.4,2,     1.8,   0.3903,2, -999.00,9,  -999.0,9, -999.00,9, -999.00,9,    19.0679,2,    4.73,2,  -999.0,9,     -999.0,     -999.0,9,     -999.0,9,     -999.0,     -999.0,9,     -999.0,     -999.0,9,     -999.0,     -999.0,       4.73,2,       1.93,2,       1.93,2,     -999.0,9,     -999.0,9,     -999.0,9,     -999.0,9,     -999.0,9
33RO20161119,        P18,     206,          1,         13,      11112,2,20170126,       0157,   -69.0009,  -102.9937,       4063,   946.1,   1.4840,  34.7328,2,  34.7317,2,    189.5,2,   189.5,2,    98.8,2,    32.1,2,    0.01,2,   2.178,2,   0.1518,2,   0.0718,2,   0.0000,2,  2256.6,2,  2356.9,2,   7.5840,2,    25.00,    0.48,2,  -161.8,2,     2.1,   0.3668,2, -999.00,9,  -999.0,9, -999.00,9, -999.00,9,    19.2668,2,    4.75,2,  -999.0,9,     -999.0,     -999.0,9,     -999.0,9,     -999.0,     -999.0,9,     -999.0,     -999.0,9,     -999.0,     -999.0,       4.75,2,       1.91,2,       1.91,2,     -999.0,9,16.30405681,2,       8.34,2,      47.56,2,      19.68,2
33RO20161119,        P18,     206,          1,         14,      11113,2,20170126,       0157,   -69.0009,  -102.9937,       4063,   810.6,   1.6045,  34.7332,2,  34.7323,2,    187.4,2,   187.8,2,    95.1,2,    32.1,2,    0.01,2,   2.166,2,   0.1704,2,   0.0831,2,   0.0592,2,  2252.7,2,  2354.5,2,   7.5937,4,    25.00,    0.47,2,  -161.5,2,     1.9,   0.4206,2, -999.00,9,  -999.0,9, -999.00,9, -999.00,9,    19.5521,2,    4.75,2,  -999.0,9,     -999.0,     -999.0,9,     -999.0,9,     -999.0,     -999.0,9,     -999.0,     -999.0,9,     -999.0,     -999.0,       4.75,2,       1.82,2,       1.82,2,     -999.0,9,     -999.0,9,     -999.0,9,     -999.0,9,     -999.0,9
33RO20161119,        P18,     206,          1,         15,      11114,2,20170126,       0157,   -69.0009,  -102.9937,       4063,   685.0,   1.7121,  34.7306,2,  34.7292,2,    184.5,2,   185.1,2,    92.2,2,    32.2,2,    0.01,2,   2.181,2,   0.1946,2,   0.0948,2,   0.0633,2,  2254.8,2,  2350.1,2,   7.5813,2,    25.00,    0.48,2,  -157.6,2,     1.8,   0.5378,2, -999.00,9,  -999.0,9, -999.00,9, -999.00,9,    19.7091,2,    4.76,2,  -999.0,9,     -999.0,     -999.0,9,     -999.0,9,     -999.0,     -999.0,9,     -999.0,     -999.0,9,     -999.0,     -999.0,       4.76,2,       1.93,2,       1.93,2,     -999.0,9,16.54765027,2,       8.25,2,      47.18,2,      20.11,2
33RO20161119,        P18,     206,          1,         16,      11115,2,20170126,       0157,   -69.0009,  -102.9937,       4063,   565.0,   1.8084,  34.7245,2,  34.7260,2,    182.2,2,   182.7,2,    89.5,2,    32.3,2,    0.01,2,   2.190,2,   0.2278,2,   0.1102,2,   0.0462,2,  2253.1,2,  2348.0,2,   7.5729,2,    25.00,    0.43,2,  -154.0,2,     2.1,   0.4498,3, -999.00,9,  -999.0,9, -999.00,9, -999.00,9,    20.0989,2,    4.79,2,  -999.0,9,     -999.0,     -999.0,9,     -999.0,9,     -999.0,     -999.0,9,     -999.0,     -999.0,9,     -999.0,     -999.0,       4.79,2,       1.82,2,       1.82,2,     -999.0,9,     -999.0,9,     -999.0,9,     -999.0,9,     -999.0,9
33RO20161119,        P18,     206,          1,         17,      11116,2,20170126,       0157,   -69.0009,  -102.9937,       4063,   455.5,   1.8836,  34.7149,2,  34.7135,2,    178.8,2,   179.0,2,    87.4,2,    32.7,2,    0.01,2,   2.226,2,   0.2668,2,   0.1286,2,   0.0567,2,  2232.4,4,  2344.8,2,   7.5692,2,    25.00,    0.38,2,  -153.8,2,     1.8,   2.0989,2, -999.00,9,  -999.0,9, -999.00,9, -999.00,9,    20.5601,2,     4.8,2,  -999.0,9,     -999.0,     -999.0,9,     -999.0,9,     -999.0,     -999.0,9,     -999.0,     -999.0,9,     -999.0,     -999.0,        4.8,2,       1.87,2,       1.87,2,     -999.0,9,17.21876445,2,       7.94,2,       47.2,2,      15.99,2
33RO20161119,        P18,     206,          1,         18,      11117,2,20170126,       0157,   -69.0009,  -102.9937,       4063,   348.5,   1.9557,  34.6954,2,  34.6949,2,    174.4,2,   174.6,2,    85.1,2,    33.3,2,    0.02,2,   2.256,2,   0.3371,6,   0.1689,6,   0.1002,6,  2256.2,2,  2343.9,6,   7.5568,2,    25.00,    0.50,2,  -154.3,2,     1.8,   6.1171,2, -999.00,9,  -999.0,9, -999.00,9, -999.00,9,    21.0882,2,     4.8,2,  -999.0,9,     -999.0,     -999.0,9,     -999.0,9,     -999.0,     -999.0,9,     -999.0,     -999.0,9,     -999.0,     -999.0,        4.8,2,       2.05,2,       2.05,2,     -999.0,9,     -999.0,9,     -999.0,9,     -999.0,9,     -999.0,9
33RO20161119,        P18,     206,          1,         19,      11083,2,20170126,       0157,   -69.0009,  -102.9937,       4063,   254.7,   1.9686,  34.6692,2,  34.6696,2,    172.4,2,   172.6,2,    83.1,2,    33.8,2,    0.02,2,   2.282,2,   0.4566,2,   0.2315,2,   0.1539,2,  2256.2,6,  2340.5,2,   7.5463,2,    25.00,    0.48,2,  -150.8,2,     2.0,   7.0382,2, -999.00,9,  -999.0,9, -999.00,9, -999.00,9,    21.3838,2,    4.57,2,  -999.0,9,     -999.0,     -999.0,9,     -999.0,9,     -999.0,     -999.0,9,     -999.0,     -999.0,9,     -999.0,     -999.0,       4.81,2,       1.85,2,        1.6,2,     -999.0,9,18.38828033,2,       7.78,2,       46.2,2,      19.66,2
33RO20161119,        P18,     206,          1,         20,      11118,2,20170126,       0157,   -69.0009,  -102.9937,       4063,   254.7,   1.9726,  34.6688,2,  34.6715,2,    172.4,2,   172.2,2,    83.1,2,    33.8,2,    0.01,2,   2.277,2,   0.4543,3,   0.2311,3,   0.1196,3,  2257.3,2,  2344.4,2,   7.5458,2,    25.00,    0.48,2,  -147.1,2,     2.2,   0.4786,2, -999.00,9,  -999.0,9, -999.00,9, -999.00,9,    21.5588,2,    4.81,2,  -999.0,9,     -999.0,     -999.0,9,     -999.0,9,     -999.0,     -999.0,9,     -999.0,     -999.0,9,     -999.0,     -999.0,        4.8,2,       1.77,2,       1.64,2,     -999.0,9,     -999.0,9,     -999.0,9,     -999.0,9,     -999.0,9
33RO20161119,        P18,     206,          1,         21,      11119,2,20170126,       0157,   -69.0009,  -102.9937,       4063,   125.4,   0.7794,  34.4477,2,  34.4653,2,    204.8,2,   202.5,2,    75.1,2,    34.2,2,    0.11,2,   2.317,2,   1.9073,2,   1.0051,2,   0.9709,2,  2245.4,2,  2329.0,2,   7.5362,2,    25.00,    0.84,2,  -133.9,2,     2.1,   0.4007,2, -999.00,9,  -999.0,9, -999.00,9, -999.00,9,    21.8185,2,    4.92,2,  -999.0,9,     -999.0,     -999.0,9,     -999.0,9,     -999.0,     -999.0,9,     -999.0,     -999.0,9,     -999.0,     -999.0,       5.04,2,       1.97,2,       1.78,2,     -999.0,9,15.81030693,2,        7.2,2,      44.35,2,      17.29,2
33RO20161119,        P18,     206,          1,         22,      11120,2,20170126,       0157,   -69.0009,  -102.9937,       4063,    59.8,  -1.5345,  34.0337,2,  34.0385,2,    319.9,2,   320.1,2,    57.8,2,    29.5,2,    0.20,2,   2.046,2,   5.1704,2,   2.7749,2,   3.0368,2,  2193.2,2,  2300.1,2,   7.6198,2,    25.00,    1.12,2,  -123.6,2,     2.1,   0.3539,2, -999.00,9,  -999.0,9, -999.00,9, -999.00,9,    17.2969,2,     5.6,2,  -999.0,9,     -999.0,     -999.0,9,     -999.0,9,     -999.0,     -999.0,9,     -999.0,     -999.0,9,     -999.0,     -999.0,       5.46,2,       2.58,2,       2.18,2,     -999.0,9,     -999.0,9,     -999.0,9,     -999.0,9,     -999.0,9
33RO20161119,        P18,     206,          1,         23,      11121,2,20170126,       0157,   -69.0009,  -102.9937,       4063,    19.1,   0.5809,  33.3708,2,  33.2636,2,    345.1,2,   345.5,6,    48.5,2,    26.7,2,    0.30,2,   1.853,2,   5.8167,2,   3.1356,2,   3.5080,2,  2146.2,2,  2263.8,6,   7.6610,6,    25.00,    1.21,2,  -122.7,2,     1.9,   0.3196,2, -999.00,9,  -999.0,9, -999.00,9, -999.00,9,    15.4464,2,    6.54,2,  -999.0,9,     -999.0,     -999.0,9,     -999.0,9,     -999.0,     -999.0,9,     -999.0,     -999.0,9,     -999.0,     -999.0,       5.91,2,       2.76,2,       2.69,2,     -999.0,9,14.28353384,2,       6.71,2,      43.77,2,      15.89,2
33RO20161119,        P18,     206,          1,         24,      11122,2,20170126,       0157,   -69.0009,  -102.9937,       4063,     2.8,  -0.2058,  32.2280,2,  32.2537,2,    350.4,2,   350.2,2,    47.7,2,    24.8,2,    0.38,2,   1.654,2,   6.0010,2,   3.2505,2,   3.6684,2,  2067.5,6,  2182.9,2,   7.6713,2,    25.00,    1.25,2,  -117.4,2,     2.3,   0.2979,2, -999.00,9,  -999.0,9, -999.00,9, -999.00,9,    15.2567,2,    7.57,2,  -999.0,9,     -999.0,     -999.0,9,     -999.0,9,     -999.0,     -999.0,9,     -999.0,     -999.0,9,     -999.0,     -999.0,       6.14,2,       2.86,2,        2.7,2,     -999.0,9,14.10993754,2,       6.85,2,      44.91,2,      18.75,2