BOTTLE,20230606CCHSIOCBG
EXPOCODE,SECT_ID,STNNBR,CASTNO,SAMPNO,BTLNBR,BTLNBR_FLAG_W,DATE,TIME,LATITUDE,LONGITUDE,DEPTH,CTDPRS,CTDTMP,CTDSAL,CTDSAL_FLAG_W,SALNTY,SALNTY_FLAG_W,CTDOXY,CTDOXY_FLAG_W,OXYGEN,OXYGEN_FLAG_W,SILCAT,SILCAT_FLAG_W,NITRAT,NITRAT_FLAG_W,NITRIT,NITRIT_FLAG_W,PHSPHT,PHSPHT_FLAG_W,CFC-11,CFC-11_FLAG_W,CFC-12,CFC-12_FLAG_W,SF6,SF6_FLAG_W,TCARBN,TCARBN_FLAG_W,ALKALI,ALKALI_FLAG_W,PH_SWS,PH_SWS_FLAG_W,PH_TMP,DELC13,DELC13_FLAG_W,DELC14,DELC14_FLAG_W,C14ERR,CCL4,CCL4_FLAG_W,POC,POC_FLAG_W,DOC,DOC_FLAG_W,TDN,TDN_FLAG_W,PON,PON_FLAG_W,N2O,N2O_FLAG_W,D15N_NO3,D15N_NO3_FLAG_W,14C-DOC,14C-DOC_FLAG_W,14C-DOCERR,13C-DOC,13C-DOC_FLAG_W,N2/ARGON_UNSTRIPPED,N2/ARGON_UNSTRIPPED_FLAG_W,N2/ARGON_UNSTRIPPED_ERROR,N2/ARGON,N2/ARGON_FLAG_W,N2/ARGON_ERROR,D15N_N2,D15N_N2_FLAG_W,D15N_N2_ERROR,D15N_NO3_ERROR,D15N_NO2+NO3,D15N_NO2+NO3_FLAG_W,D18O_NO2+NO3,D18O_NO2+NO3_FLAG_W,D18O_NO3,D18O_NO3_FLAG_W,TDP,TDP_FLAG_W,N2O_ALT_1,N2O_ALT_1_FLAG_W,D15N_N2O,D15N_N2O_FLAG_W,D18O_N2O,D18O_N2O_FLAG_W,D15N_ALPHA_N2O,D15N_ALPHA_N2O_FLAG_W
,,,,,,,,,,,METERS,DBAR,ITS-90,PSS-78,,PSS-78,,UMOL/KG,,UMOL/KG,,UMOL/KG,,UMOL/KG,,UMOL/KG,,UMOL/KG,,PMOL/KG,,PMOL/KG,,FMOL/KG,,UMOL/KG,,UMOL/KG,,,,DEG C,/MILLE,,/MILLE,,/MILLE,PMOL/KG,,UG/KG,,UMOL/KG,,UMOL/KG,,UG/KG,,NMOL/KG,,/MILLE,,/MILLE,,/MILLE,/MILLE,,,,,,,,/MILLE,,/MILLE,/MILLE,/MILLE,,/MILLE,,/MILLE,,UMOL/KG,,NMOL/L,,/MILLE,,/MILLE,,/MILLE,
33RO20161119,        P18,      19,          1,          1,      11010,2,20161128,       1702,    14.9998,  -109.9998,       3785,  3799.6,   1.6299,  34.6798,2,  34.6807,2,    130.9,2,   130.6,6,   154.2,6,    37.4,6,    0.02,6,   2.583,6,   0.0059,2,   0.0048,2,   0.0000,2,  2346.0,6,  2430.7,2,   7.5723,3,    25.00,    0.10,2,  -231.6,2,     1.7,        0,2, -999.00,9,    36.2,2,   40.40,2, -999.00,9,    21.6362,2, -999.00,9,  -999.0,9,     -999.0,     -999.0,9,     -999.0,9,     -999.0,     -999.0,9,     -999.0,     -999.0,9,     -999.0,     -999.0,     -999.0,9,     -999.0,9,     -999.0,9,     -999.0,9,     -999.0,9,     -999.0,9,     -999.0,9,     -999.0,9
33RO20161119,        P18,      19,          1,          2,      11101,2,20161128,       1702,    14.9998,  -109.9998,       3785,  3543.3,   1.6323,  34.6790,2,  34.6788,2,    128.2,2,   127.9,2,   154.1,6,    37.5,6,    0.02,6,   2.594,6,-999.0000,9,-999.0000,9,-999.0000,9,  2346.7,2,  2430.4,2,   7.5401,2,    25.00, -999.00,9,  -999.0,9,  -999.0,-999.0000,9, -999.00,9,    36.9,2,   40.00,2, -999.00,9,     -999.0,9, -999.00,9,  -999.0,9,     -999.0,     -999.0,9,     -999.0,9,     -999.0,     -999.0,9,     -999.0,     -999.0,9,     -999.0,     -999.0,     -999.0,9,     -999.0,9,     -999.0,9,     -999.0,9,     -999.0,9,     -999.0,9,     -999.0,9,     -999.0,9
33RO20161119,        P18,      19,          1,          3,      11102,2,20161128,       1702,    14.9998,  -109.9998,       3785,  3290.3,   1.6776,  34.6756,2,  34.6764,2,    123.0,2,   123.1,2,   155.2,6,    38.0,6,    0.02,6,   2.627,6,-999.0000,9,-999.0000,9,-999.0000,9,  2352.4,2,  2435.6,2,   7.5300,6,    25.00,    0.02,6,  -234.6,6,     5.9,-999.0000,9, -999.00,9,    38.3,2,   40.70,2, -999.00,9,     -999.0,9, -999.00,9,  -999.0,9,     -999.0,     -999.0,9,     -999.0,9,     -999.0,     -999.0,9,     -999.0,     -999.0,9,     -999.0,     -999.0,     -999.0,9,     -999.0,9,     -999.0,9,     -999.0,9,     -999.0,9,     -999.0,9,     -999.0,9,     -999.0,9
33RO20161119,        P18,      19,          1,          4,      11103,2,20161128,       1702,    14.9998,  -109.9998,       3785,  3025.7,   1.7031,  34.6731,2,  34.6758,2,    118.5,2,   118.1,2,   155.5,6,    38.1,6,    0.02,6,   2.644,6,   0.0038,2,   0.0026,2,   0.0000,2,  2352.8,2,  2429.1,6,   7.5257,2,    25.00, -999.00,9,  -999.0,9,  -999.0,   0.0159,2, -999.00,9,    38.7,2,   39.60,2, -999.00,9,    22.7744,2, -999.00,9,  -999.0,9,     -999.0,     -999.0,9,     -999.0,9,     -999.0,     -999.0,9,     -999.0,     -999.0,9,     -999.0,     -999.0,     -999.0,9,     -999.0,9,     -999.0,9,     -999.0,9,     -999.0,9,     -999.0,9,     -999.0,9,     -999.0,9
33RO20161119,        P18,      19,          1,          5,      11104,2,20161128,       1702,    14.9998,  -109.9998,       3785,  2719.4,   1.7889,  34.6672,2,  34.6717,4,    111.0,2,   110.5,2,   155.1,2,    38.8,2,    0.02,2,   2.683,2,   0.0048,2,   0.0027,2,   0.0000,2,  2356.1,2,  2426.2,2,   7.5100,2,    25.00,    0.05,2,  -239.8,2,     1.8,   0.0178,2, -999.00,9,    38.2,2,   41.70,2, -999.00,9,    24.0413,2, -999.00,9,  -999.0,9,     -999.0,     -999.0,9,     -999.0,9,     -999.0,     -999.0,9,     -999.0,     -999.0,9,     -999.0,     -999.0,     -999.0,9,     -999.0,9,     -999.0,9,     -999.0,9,     -999.0,9,     -999.0,9,     -999.0,9,     -999.0,9
33RO20161119,        P18,      19,          1,          6,      11105,2,20161128,       1702,    14.9998,  -109.9998,       3785,  2440.2,   1.9505,  34.6576,2,  34.6575,2,    101.4,2,   100.5,2,   152.5,2,    39.6,2,    0.02,2,   2.756,2,-999.0000,9,-999.0000,9,-999.0000,9,  2360.4,2,  2428.1,2,   7.6426,4,    25.00, -999.00,9,  -999.0,9,  -999.0,-999.0000,9, -999.00,9,    38.0,2,   41.80,2, -999.00,9,     -999.0,9, -999.00,9,  -999.0,9,     -999.0,     -999.0,9,     -999.0,9,     -999.0,     -999.0,9,     -999.0,     -999.0,9,     -999.0,     -999.0,     -999.0,9,     -999.0,9,     -999.0,9,     -999.0,9,     -999.0,9,     -999.0,9,     -999.0,9,     -999.0,9
33RO20161119,        P18,      19,          1,          7,      11106,2,20161128,       1702,    14.9998,  -109.9998,       3785,  2135.5,   2.1744,  34.6457,2,  34.6467,2,     89.4,2,    89.3,2,   148.4,2,    40.0,2,    0.02,2,   2.823,2,-999.0000,9,-999.0000,9,-999.0000,9,  2362.8,2,  2437.4,4,   7.4682,2,    25.00,   -0.03,2,  -243.4,2,     1.8,-999.0000,9, -999.00,9,    36.3,2,   43.10,2, -999.00,9,     -999.0,9, -999.00,9,  -999.0,9,     -999.0,     -999.0,9,     -999.0,9,     -999.0,     -999.0,9,     -999.0,     -999.0,9,     -999.0,     -999.0,     -999.0,9,     -999.0,9,     -999.0,9,     -999.0,9,     -999.0,9,     -999.0,9,     -999.0,9,     -999.0,9
33RO20161119,        P18,      19,          1,          8,      11107,2,20161128,       1702,    14.9998,  -109.9998,       3785,  1845.3,   2.5457,  34.6262,2,  34.6267,2,     72.0,2,    72.3,2,   140.6,2,    41.7,2,    0.02,2,   2.949,2,   0.0025,2,   0.0025,2,   0.0255,2,  2366.9,2,  2409.7,2,   7.4318,2,    25.00, -999.00,9,  -999.0,9,  -999.0,        0,2, -999.00,9,    35.1,2,   45.00,2, -999.00,9,    31.6628,2, -999.00,9,  -999.0,9,     -999.0,     -999.0,9,     -999.0,9,     -999.0,     -999.0,9,     -999.0,     -999.0,9,     -999.0,     -999.0,     -999.0,9,     -999.0,9,     -999.0,9,     -999.0,9,     -999.0,9,     -999.0,9,     -999.0,9,     -999.0,9
33RO20161119,        P18,      19,          1,          9,      11108,2,20161128,       1702,    14.9998,  -109.9998,       3785,  1524.9,   3.1587,  34.5989,2,  34.5966,2,     48.9,2,    49.1,2,   127.1,2,    43.0,2,    0.02,2,   3.099,2,   0.0035,2,   0.0028,2,   0.0276,2,  2365.3,2,  2402.6,6,   7.3897,2,    25.00,   -0.09,2,  -226.0,2,     1.8,   0.0156,2, -999.00,9,  -999.0,9, -999.00,9, -999.00,9,    37.5273,2, -999.00,9,  -999.0,9,     -999.0,     -999.0,9,     -999.0,9,     -999.0,     -999.0,9,     -999.0,     -999.0,9,     -999.0,     -999.0,     -999.0,9,     -999.0,9,     -999.0,9,     -999.0,9,     -999.0,9,     -999.0,9,     -999.0,9,     -999.0,9
33RO20161119,        P18,      19,          1,         10,      11109,2,20161128,       1702,    14.9998,  -109.9998,       3785,  1314.8,   3.5894,  34.5819,2,  34.5881,2,     35.4,2,    35.2,6,   118.1,2,    44.4,2,    0.02,2,   3.201,2,   0.0035,2,   0.0018,2,   0.0000,2,  2365.0,2,  2383.5,2,   7.3590,2,    25.00, -999.00,9,  -999.0,9,  -999.0,   0.0153,2, -999.00,9,    39.1,2,   47.70,2, -999.00,9,    42.5825,2, -999.00,9,  -999.0,9,     -999.0,     -999.0,9,     -999.0,9,     -999.0,     -999.0,9,     -999.0,     -999.0,9,     -999.0,     -999.0,     -999.0,9,     -999.0,9,     -999.0,9,     -999.0,9,     -999.0,9,     -999.0,9,     -999.0,9,     -999.0,9
33RO20161119,        P18,      19,          1,         11,      11110,2,20161128,       1702,    14.9998,  -109.9998,       3785,  1183.1,   3.9778,  34.5675,2,  34.5205,4,     24.8,2,    24.7,2,   110.6,2,    44.8,2,    0.02,2,   3.269,2,-999.0000,9,-999.0000,9,-999.0000,9,  2363.5,6,  2375.0,2,   7.3403,2,    25.00,   -0.12,2,  -210.7,2,     2.5,-999.0000,9, -999.00,9,    39.0,2,   47.80,2, -999.00,9,     -999.0,9, -999.00,9,  -999.0,9,     -999.0,     -999.0,9,     -999.0,9,     -999.0,     -999.0,9,     -999.0,     -999.0,9,     -999.0,     -999.0,     -999.0,9,     -999.0,9,     -999.0,9,     -999.0,9,     -999.0,9,     -999.0,9,     -999.0,9,     -999.0,9
33RO20161119,        P18,      19,          1,         12,      11111,2,20161128,       1702,    14.9998,  -109.9998,       3785,  1051.2,   4.3829,  34.5556,2,  34.5553,2,     15.7,2,    16.0,2,   102.8,2,    44.9,2,    0.02,2,   3.316,2,-999.0000,9,-999.0000,9,-999.0000,9,  2359.4,2,  2366.9,2,   7.3236,2,    25.00, -999.00,9,  -999.0,9,  -999.0,-999.0000,9, -999.00,9,    38.9,2,   46.50,2, -999.00,9,     -999.0,9, -999.00,9,  -999.0,9,     -999.0,     -999.0,9,     -999.0,9,     -999.0,     -999.0,9,     -999.0,     -999.0,9,     -999.0,     -999.0,     -999.0,9,     -999.0,9,     -999.0,9,     -999.0,9,     -999.0,9,     -999.0,9,     -999.0,9,     -999.0,9
33RO20161119,        P18,      19,          1,         13,      11112,2,20161128,       1702,    14.9998,  -109.9998,       3785,   930.4,   4.8656,  34.5441,2,  34.5449,2,      7.8,2,     7.7,2,    94.1,2,    44.8,2,    0.02,2,   3.329,2,-999.0000,9,-999.0000,9,-999.0000,9,  2353.8,2,  2358.0,2,   7.3117,6,    25.00,   -0.17,2,  -191.9,2,     1.9,-999.0000,9, -999.00,9,    37.8,2,   47.90,2, -999.00,9,     -999.0,9, -999.00,9,  -999.0,9,     -999.0,     -999.0,9,     -999.0,9,     -999.0,     -999.0,9,     -999.0,     -999.0,9,     -999.0,     -999.0,     -999.0,9,     -999.0,9,     -999.0,9,     -999.0,9,     -999.0,9,     -999.0,9,     -999.0,9,     -999.0,9
33RO20161119,        P18,      19,          1,         14,      11113,2,20161128,       1702,    14.9998,  -109.9998,       3785,   815.6,   5.3450,  34.5378,2,  34.5410,2,      3.8,2,     4.4,2,    86.9,2,    43.7,2,    0.02,2,   3.302,2,   0.0055,6,   0.0027,6,   0.0000,6,  2347.2,2,  2349.5,2,   7.3058,2,    25.00, -999.00,9,  -999.0,9,  -999.0,        0,2, -999.00,9,    37.8,2,   48.50,2, -999.00,9,     59.491,2, -999.00,9,  -999.0,9,     -999.0,     -999.0,9,     -999.0,9,     -999.0,     -999.0,9,     -999.0,     -999.0,9,     -999.0,     -999.0,     -999.0,9,     -999.0,9,     -999.0,9,     -999.0,9,     -999.0,9,     -999.0,9,     -999.0,9,     -999.0,9
33RO20161119,        P18,      19,          1,         15,      11114,2,20161128,       1702,    14.9998,  -109.9998,       3785,   700.3,   5.9597,  34.5380,2,  34.5390,2,      2.5,2,     2.6,2,    77.8,2,    42.0,2,    0.02,2,   3.259,2,   0.0062,2,   0.0038,2,   0.0000,2,  2337.9,2,  2340.5,2,   7.3142,2,    25.00,   -0.21,2,  -162.5,2,     2.3,   0.0123,2, -999.00,9,    38.8,2,   46.30,2, -999.00,9,    48.2599,2, -999.00,9,  -999.0,9,     -999.0,     -999.0,9,     -999.0,9,     -999.0,     -999.0,9,     -999.0,     -999.0,9,     -999.0,     -999.0,     -999.0,9,     -999.0,9,     -999.0,9,     -999.0,9,     -999.0,9,     -999.0,9,     -999.0,9,     -999.0,9
33RO20161119,        P18,      19,          1,         16,      11115,2,20161128,       1702,    14.9998,  -109.9998,       3785,   580.5,   6.9336,  34.5403,2,  34.5431,2,      2.6,2,     2.4,2,    66.2,2,    37.9,2,    0.03,2,   3.159,2,-999.0000,9,-999.0000,9,-999.0000,9,  2321.3,2,  2329.3,2,   7.3245,2,    25.00, -999.00,9,  -999.0,9,  -999.0,-999.0000,9, -999.00,9,    40.2,2,   42.40,2, -999.00,9,     -999.0,9, -999.00,9,  -999.0,9,     -999.0,     -999.0,9,     -999.0,9,     -999.0,     -999.0,9,     -999.0,     -999.0,9,     -999.0,     -999.0,     -999.0,9,     -999.0,9,     -999.0,9,     -999.0,9,     -999.0,9,     -999.0,9,     -999.0,9,     -999.0,9
33RO20161119,        P18,      19,          1,         17,      11116,2,20161128,       1702,    14.9998,  -109.9998,       3785,   480.1,   8.0247,  34.5682,2,  34.5673,2,      2.3,2,     2.0,2,    55.4,2,    33.7,2,    0.02,2,   3.031,2,-999.0000,9,-999.0000,9,-999.0000,9,  2306.8,2,  2318.2,2,   7.3387,2,    25.00,   -0.17,2,  -123.7,2,     1.8,-999.0000,9, -999.00,9,    40.8,2,   36.70,2, -999.00,9,     -999.0,9, -999.00,9,  -999.0,9,     -999.0,     -999.0,9,     -999.0,9,     -999.0,     -999.0,9,     -999.0,     -999.0,9,     -999.0,     -999.0,     -999.0,9,     -999.0,9,     -999.0,9,     -999.0,9,     -999.0,9,     -999.0,9,     -999.0,9,     -999.0,9
33RO20161119,        P18,      19,          1,         18,      11117,2,20161128,       1702,    14.9998,  -109.9998,       3785,   375.3,   9.4707,  34.6277,2,  34.6285,2,      2.3,2,     2.1,2,    42.6,2,    29.0,2,    0.23,2,   2.838,2,   0.1468,2,   0.0890,2,   0.0455,2,  2292.7,2,  2307.9,2,   7.3573,2,    25.00,   -0.21,2,   -93.6,2,     1.8,   0.0334,2, -999.00,9,    42.1,2,   31.50,2, -999.00,9,     10.395,2, -999.00,9,  -999.0,9,     -999.0,     -999.0,9,     -999.0,9,     -999.0,     -999.0,9,     -999.0,     -999.0,9,     -999.0,     -999.0,     -999.0,9,     -999.0,9,     -999.0,9,     -999.0,9,     -999.0,9,     -999.0,9,     -999.0,9,     -999.0,9
33RO20161119,        P18,      19,          1,         19,      11083,2,20161128,       1702,    14.9998,  -109.9998,       3785,   284.9,  10.5176,  34.6854,2,  34.6868,2,      2.3,2,     3.2,2,    35.4,2,    25.6,2,    1.00,2,   2.697,2,   0.3407,2,   0.2002,2,   0.0768,2,  2284.1,2,  2305.3,2,   7.3691,2,    25.00,   -0.22,2,   -55.6,2,     2.1,   0.0319,2, -999.00,9,    41.6,2,   29.50,2, -999.00,9,     6.0554,2, -999.00,9,  -999.0,9,     -999.0,     -999.0,9,     -999.0,9,     -999.0,     -999.0,9,     -999.0,     -999.0,9,     -999.0,     -999.0,     -999.0,9,     -999.0,9,     -999.0,9,     -999.0,9,     -999.0,9,     -999.0,9,     -999.0,9,     -999.0,9
33RO20161119,        P18,      19,          1,         20,      11118,2,20161128,       1702,    14.9998,  -109.9998,       3785,   205.6,  11.5750,  34.7398,2,  34.7417,2,      2.4,2,     2.3,2,    30.5,2,    24.9,2,    1.47,2,   2.578,2,   0.6471,2,   0.3822,2,   0.1220,2,  2273.3,2,  2299.1,2,   7.3934,2,    25.00,   -0.37,2,   -33.3,2,     2.0,   0.0266,2, -999.00,9,    44.3,2,   28.30,2, -999.00,9,     7.0514,2, -999.00,9,  -999.0,9,     -999.0,     -999.0,9,     -999.0,9,     -999.0,     -999.0,9,     -999.0,     -999.0,9,     -999.0,     -999.0,     -999.0,9,     -999.0,9,     -999.0,9,     -999.0,9,     -999.0,9,     -999.0,9,     -999.0,9,     -999.0,9
33RO20161119,        P18,      19,          1,         21,      11119,2,20161128,       1702,    14.9998,  -109.9998,       3785,   139.8,  12.6307,  34.7721,2,  34.7730,2,      2.6,2,     3.1,2,    27.5,2,    23.0,2,    2.69,2,   2.537,2,   0.9411,2,   0.5622,2,   0.2441,2,  2265.3,2,  2297.8,2,   7.4093,2,    25.00,   -0.32,2,    -8.3,2,     2.0,   0.3414,2, -999.00,9,    44.3,2,   27.90,2, -999.00,9,      9.691,2, -999.00,9,  -999.0,9,     -999.0,     -999.0,9,     -999.0,9,     -999.0,     -999.0,9,     -999.0,     -999.0,9,     -999.0,     -999.0,     -999.0,9,     -999.0,9,     -999.0,9,     -999.0,9,     -999.0,9,     -999.0,9,     -999.0,9,     -999.0,9
33RO20161119,        P18,      19,          1,         22,      11120,2,20161128,       1702,    14.9998,  -109.9998,       3785,    74.1,  18.9150,  34.5519,2,  34.5545,2,     61.7,2,    43.5,2,    12.5,2,    19.1,2,    0.15,2,   1.893,2,   1.6361,2,   0.9919,2,   0.9616,2,  2189.9,2,  2283.7,2,   7.5954,2,    25.00,   -0.13,2,     6.2,2,     2.3,   1.2088,2, -999.00,9,    57.4,2,   22.20,2, -999.00,9,    59.0962,2, -999.00,9,  -999.0,9,     -999.0,     -999.0,9,     -999.0,9,     -999.0,     -999.0,9,     -999.0,     -999.0,9,     -999.0,     -999.0,     -999.0,9,     -999.0,9,     -999.0,9,     -999.0,9,     -999.0,9,     -999.0,9,     -999.0,9,     -999.0,9
33RO20161119,        P18,      19,          1,         23,      11121,2,20161128,       1702,    14.9998,  -109.9998,       3785,    30.5,  29.3655,  33.5344,2,  33.7292,2,    193.5,2,   193.8,2,     0.9,2,     0.0,2,    0.02,2,   0.196,2,   1.4206,2,   0.9084,2,   1.2906,2,  1908.1,2,  2229.6,6,   8.1002,2,    25.00,    1.17,2,    17.2,2,     2.1,   1.4524,2, -999.00,9,    79.1,2,    4.20,2, -999.00,9,     6.5515,2, -999.00,9,  -999.0,9,     -999.0,     -999.0,9,     -999.0,9,     -999.0,     -999.0,9,     -999.0,     -999.0,9,     -999.0,     -999.0,     -999.0,9,     -999.0,9,     -999.0,9,     -999.0,9,     -999.0,9,     -999.0,9,     -999.0,9,     -999.0,9
33RO20161119,        P18,      19,          1,         24,      11122,2,20161128,       1702,    14.9998,  -109.9998,       3785,     3.0,  29.4688,  33.7194,2,  33.7227,2,    192.8,2,   193.2,2,     0.8,2,     0.0,2,    0.02,2,   0.171,2,   1.4167,2,   0.9080,2,   1.3044,2,  1908.5,6,  2224.4,2,   8.1034,2,    25.00,    1.24,2,    21.9,2,     2.1,   0.0218,2, -999.00,9,    79.4,2,    4.00,2, -999.00,9,     6.3647,2, -999.00,9,  -999.0,9,     -999.0,     -999.0,9,     -999.0,9,     -999.0,     -999.0,9,     -999.0,     -999.0,9,     -999.0,     -999.0,     -999.0,9,     -999.0,9,     -999.0,9,     -999.0,9,     -999.0,9,     -999.0,9,     -999.0,9,     -999.0,9