BOTTLE,20230606CCHSIOCBG
EXPOCODE,SECT_ID,STNNBR,CASTNO,SAMPNO,BTLNBR,BTLNBR_FLAG_W,DATE,TIME,LATITUDE,LONGITUDE,DEPTH,CTDPRS,CTDTMP,CTDSAL,CTDSAL_FLAG_W,SALNTY,SALNTY_FLAG_W,CTDOXY,CTDOXY_FLAG_W,OXYGEN,OXYGEN_FLAG_W,SILCAT,SILCAT_FLAG_W,NITRAT,NITRAT_FLAG_W,NITRIT,NITRIT_FLAG_W,PHSPHT,PHSPHT_FLAG_W,CFC-11,CFC-11_FLAG_W,CFC-12,CFC-12_FLAG_W,SF6,SF6_FLAG_W,TCARBN,TCARBN_FLAG_W,ALKALI,ALKALI_FLAG_W,PH_SWS,PH_SWS_FLAG_W,PH_TMP,DELC13,DELC13_FLAG_W,DELC14,DELC14_FLAG_W,C14ERR,CCL4,CCL4_FLAG_W,POC,POC_FLAG_W,DOC,DOC_FLAG_W,TDN,TDN_FLAG_W,PON,PON_FLAG_W,N2O,N2O_FLAG_W,D15N_NO3,D15N_NO3_FLAG_W,14C-DOC,14C-DOC_FLAG_W,14C-DOCERR,13C-DOC,13C-DOC_FLAG_W,N2/ARGON_UNSTRIPPED,N2/ARGON_UNSTRIPPED_FLAG_W,N2/ARGON_UNSTRIPPED_ERROR,N2/ARGON,N2/ARGON_FLAG_W,N2/ARGON_ERROR,D15N_N2,D15N_N2_FLAG_W,D15N_N2_ERROR,D15N_NO3_ERROR,D15N_NO2+NO3,D15N_NO2+NO3_FLAG_W,D18O_NO2+NO3,D18O_NO2+NO3_FLAG_W,D18O_NO3,D18O_NO3_FLAG_W,TDP,TDP_FLAG_W,N2O_ALT_1,N2O_ALT_1_FLAG_W,D15N_N2O,D15N_N2O_FLAG_W,D18O_N2O,D18O_N2O_FLAG_W,D15N_ALPHA_N2O,D15N_ALPHA_N2O_FLAG_W
,,,,,,,,,,,METERS,DBAR,ITS-90,PSS-78,,PSS-78,,UMOL/KG,,UMOL/KG,,UMOL/KG,,UMOL/KG,,UMOL/KG,,UMOL/KG,,PMOL/KG,,PMOL/KG,,FMOL/KG,,UMOL/KG,,UMOL/KG,,,,DEG C,/MILLE,,/MILLE,,/MILLE,PMOL/KG,,UG/KG,,UMOL/KG,,UMOL/KG,,UG/KG,,NMOL/KG,,/MILLE,,/MILLE,,/MILLE,/MILLE,,,,,,,,/MILLE,,/MILLE,/MILLE,/MILLE,,/MILLE,,/MILLE,,UMOL/KG,,NMOL/L,,/MILLE,,/MILLE,,/MILLE,
33RO20161119,        P18,     207,          1,          1,      11010,2,20170126,       1600,   -69.5047,  -102.9941,       4088,  4149.2,   0.3456,  34.7005,2,  34.6988,2,    212.8,2,   215.3,2,   143.8,2,    33.0,2,    0.01,2,   2.266,2,   0.4188,2,   0.1982,2,   0.0913,2,  2265.8,6,  2365.2,2,   7.5846,6,    25.00, -999.00,9,  -999.0,9,  -999.0,   0.2685,2, -999.00,9,  -999.0,9, -999.00,9, -999.00,9,    18.3059,2, -999.00,9,  -999.0,9,     -999.0,     -999.0,9,     -999.0,9,     -999.0,     -999.0,9,     -999.0,     -999.0,9,     -999.0,     -999.0,     -999.0,9,     -999.0,9,     -999.0,9,     -999.0,9,     -999.0,9,     -999.0,9,     -999.0,9,     -999.0,9
33RO20161119,        P18,     207,          1,          2,      11101,2,20170126,       1600,   -69.5047,  -102.9941,       4088,  3840.5,   0.3787,  34.7025,2,  34.7011,2,    212.5,2,   211.4,2,   138.3,2,    32.9,2,    0.01,2,   2.258,2,   0.2812,2,   0.1347,2,   0.0535,2,  2262.3,2,  2363.8,6,   7.5872,2,    25.00, -999.00,9,  -999.0,9,  -999.0,    0.265,2, -999.00,9,  -999.0,9, -999.00,9, -999.00,9,    18.3456,2, -999.00,9,  -999.0,9,     -999.0,     -999.0,9,     -999.0,9,     -999.0,     -999.0,9,     -999.0,     -999.0,9,     -999.0,     -999.0,     -999.0,9,     -999.0,9,     -999.0,9,     -999.0,9,     -999.0,9,     -999.0,9,     -999.0,9,     -999.0,9
33RO20161119,        P18,     207,          1,          3,      11102,2,20170126,       1600,   -69.5047,  -102.9941,       4088,  3550.8,   0.4096,  34.7038,2,  34.7017,2,    211.2,2,   210.7,6,   137.0,6,    33.0,6,    0.01,6,   2.259,6,   0.2177,2,   0.1040,2,   0.0000,2,  2262.9,2,  2369.9,2,   7.5878,2,    25.00, -999.00,9,  -999.0,9,  -999.0,    0.205,2, -999.00,9,  -999.0,9, -999.00,9, -999.00,9,    18.3045,2, -999.00,9,  -999.0,9,     -999.0,     -999.0,9,     -999.0,9,     -999.0,     -999.0,9,     -999.0,     -999.0,9,     -999.0,     -999.0,     -999.0,9,     -999.0,9,     -999.0,9,     -999.0,9,     -999.0,9,     -999.0,9,     -999.0,9,     -999.0,9
33RO20161119,        P18,     207,          1,          4,      11103,2,20170126,       1600,   -69.5047,  -102.9941,       4088,  3225.5,   0.4457,  34.7043,2,  34.7049,2,    210.2,2,   210.0,2,   133.2,6,    33.0,6,    0.01,6,   2.255,6,   0.1979,2,   0.0953,2,   0.0424,2,  2263.0,2,  2360.3,2,   7.5909,2,    25.00, -999.00,9,  -999.0,9,  -999.0,   0.1792,2, -999.00,9,  -999.0,9, -999.00,9, -999.00,9,    18.3716,2, -999.00,9,  -999.0,9,     -999.0,     -999.0,9,     -999.0,9,     -999.0,     -999.0,9,     -999.0,     -999.0,9,     -999.0,     -999.0,     -999.0,9,     -999.0,9,     -999.0,9,     -999.0,9,     -999.0,9,     -999.0,9,     -999.0,9,     -999.0,9
33RO20161119,        P18,     207,          1,          5,      11104,2,20170126,       1600,   -69.5047,  -102.9941,       4088,  2900.8,   0.5082,  34.7053,2,  34.7135,4,    208.5,2,   208.7,2,   130.1,6,    32.8,6,    0.01,6,   2.250,6,   0.1794,2,   0.0879,2,   0.0346,2,  2262.7,2,  2360.3,2,   7.5899,2,    25.00, -999.00,9,  -999.0,9,  -999.0,   0.1811,2, -999.00,9,  -999.0,9, -999.00,9, -999.00,9,    18.4086,2, -999.00,9,  -999.0,9,     -999.0,     -999.0,9,     -999.0,9,     -999.0,     -999.0,9,     -999.0,     -999.0,9,     -999.0,     -999.0,     -999.0,9,     -999.0,9,     -999.0,9,     -999.0,9,     -999.0,9,     -999.0,9,     -999.0,9,     -999.0,9
33RO20161119,        P18,     207,          1,          6,      11105,2,20170126,       1600,   -69.5047,  -102.9941,       4088,  2577.6,   0.6154,  34.7073,2,  34.7079,2,    206.4,2,   206.3,2,   125.9,6,    32.7,6,    0.01,6,   2.229,6,   0.1755,2,   0.0839,2,   0.0412,2,  2262.0,2,  2360.6,2,   7.5911,2,    25.00, -999.00,9,  -999.0,9,  -999.0,   0.1673,2, -999.00,9,  -999.0,9, -999.00,9, -999.00,9,    18.5089,2, -999.00,9,  -999.0,9,     -999.0,     -999.0,9,     -999.0,9,     -999.0,     -999.0,9,     -999.0,     -999.0,9,     -999.0,     -999.0,     -999.0,9,     -999.0,9,     -999.0,9,     -999.0,9,     -999.0,9,     -999.0,9,     -999.0,9,     -999.0,9
33RO20161119,        P18,     207,          1,          7,      11106,2,20170126,       1600,   -69.5047,  -102.9941,       4088,  2260.3,   0.7342,  34.7099,2,  34.7153,4,    204.6,2,   204.0,2,   122.6,2,    32.5,2,    0.01,2,   2.243,2,   0.1722,2,   0.0821,2,   0.0421,2,  2260.4,2,  2360.1,2,   7.5919,2,    25.00, -999.00,9,  -999.0,9,  -999.0,   0.1821,2, -999.00,9,  -999.0,9, -999.00,9, -999.00,9,    18.6098,2, -999.00,9,  -999.0,9,     -999.0,     -999.0,9,     -999.0,9,     -999.0,     -999.0,9,     -999.0,     -999.0,9,     -999.0,     -999.0,     -999.0,9,     -999.0,9,     -999.0,9,     -999.0,9,     -999.0,9,     -999.0,9,     -999.0,9,     -999.0,9
33RO20161119,        P18,     207,          1,          8,      11107,2,20170126,       1600,   -69.5047,  -102.9941,       4088,  1940.3,   0.8643,  34.7148,2,  34.7147,2,    201.9,2,   201.4,2,   118.4,2,    32.4,2,    0.01,2,   2.209,2,   0.1262,2,   0.0605,2,   0.0000,2,  2260.6,2,  2359.4,2,   7.5936,2,    25.00, -999.00,9,  -999.0,9,  -999.0,   0.1781,2, -999.00,9,  -999.0,9, -999.00,9, -999.00,9,     18.768,2, -999.00,9,  -999.0,9,     -999.0,     -999.0,9,     -999.0,9,     -999.0,     -999.0,9,     -999.0,     -999.0,9,     -999.0,     -999.0,     -999.0,9,     -999.0,9,     -999.0,9,     -999.0,9,     -999.0,9,     -999.0,9,     -999.0,9,     -999.0,9
33RO20161119,        P18,     207,          1,          9,      11108,2,20170126,       1600,   -69.5047,  -102.9941,       4088,  1606.9,   1.0161,  34.7204,2,  34.7185,2,    198.7,2,   198.3,2,   113.1,2,    32.2,2,    0.01,2,   2.211,2,   0.1104,2,   0.0530,2,   0.0252,2,  2258.2,2,  2358.9,2,   7.5915,2,    25.00, -999.00,9,  -999.0,9,  -999.0,   0.1822,2, -999.00,9,  -999.0,9, -999.00,9, -999.00,9,    18.9384,2, -999.00,9,  -999.0,9,     -999.0,     -999.0,9,     -999.0,9,     -999.0,     -999.0,9,     -999.0,     -999.0,9,     -999.0,     -999.0,     -999.0,9,     -999.0,9,     -999.0,9,     -999.0,9,     -999.0,9,     -999.0,9,     -999.0,9,     -999.0,9
33RO20161119,        P18,     207,          1,         10,      11109,2,20170126,       1600,   -69.5047,  -102.9941,       4088,  1421.1,   1.1287,  34.7243,2,  34.7389,4,    196.9,2,   196.5,2,   109.5,2,    32.2,2,    0.01,2,   2.206,2,   0.1139,6,   0.0552,6,   0.0515,6,  2258.5,2,  2361.6,2,   7.5898,2,    25.00, -999.00,9,  -999.0,9,  -999.0,   0.1724,2, -999.00,9,  -999.0,9, -999.00,9, -999.00,9,    18.9972,2, -999.00,9,  -999.0,9,     -999.0,     -999.0,9,     -999.0,9,     -999.0,     -999.0,9,     -999.0,     -999.0,9,     -999.0,     -999.0,     -999.0,9,     -999.0,9,     -999.0,9,     -999.0,9,     -999.0,9,     -999.0,9,     -999.0,9,     -999.0,9
33RO20161119,        P18,     207,          1,         11,      11110,2,20170126,       1600,   -69.5047,  -102.9941,       4088,  1270.5,   1.2269,  34.7275,2,  34.7261,2,    195.2,2,   194.0,2,   106.2,2,    32.1,2,    0.01,2,   2.196,2,   0.1214,2,   0.0580,2,   0.0484,2,  2257.8,2,  2357.4,2,   7.5883,2,    25.00, -999.00,9,  -999.0,9,  -999.0,   0.2376,2, -999.00,9,  -999.0,9, -999.00,9, -999.00,9,    19.0483,2, -999.00,9,  -999.0,9,     -999.0,     -999.0,9,     -999.0,9,     -999.0,     -999.0,9,     -999.0,     -999.0,9,     -999.0,     -999.0,     -999.0,9,     -999.0,9,     -999.0,9,     -999.0,9,     -999.0,9,     -999.0,9,     -999.0,9,     -999.0,9
33RO20161119,        P18,     207,          1,         12,      11111,2,20170126,       1600,   -69.5047,  -102.9941,       4088,  1128.8,   1.3261,  34.7303,2,  34.7282,2,    193.4,2,   192.7,2,   103.2,2,    32.0,2,    0.01,2,   2.185,2,   0.1319,6,   0.0633,6,   0.0225,6,  2257.6,2,  2356.5,2,   7.5889,2,    25.00, -999.00,9,  -999.0,9,  -999.0,   0.2447,2, -999.00,9,  -999.0,9, -999.00,9, -999.00,9,    19.1638,2, -999.00,9,  -999.0,9,     -999.0,     -999.0,9,     -999.0,9,     -999.0,     -999.0,9,     -999.0,     -999.0,9,     -999.0,     -999.0,     -999.0,9,     -999.0,9,     -999.0,9,     -999.0,9,     -999.0,9,     -999.0,9,     -999.0,9,     -999.0,9
33RO20161119,        P18,     207,          1,         13,      11112,2,20170126,       1600,   -69.5047,  -102.9941,       4088,   990.5,   1.4311,  34.7323,2,  34.7304,2,    191.4,2,   190.6,2,   100.1,2,    32.0,2,    0.01,2,   2.187,2,   0.1394,2,   0.0669,2,   0.0352,2,  2256.7,2,  2357.2,6,   7.5636,4,    25.00, -999.00,9,  -999.0,9,  -999.0,   0.3483,2, -999.00,9,  -999.0,9, -999.00,9, -999.00,9,    19.4704,2, -999.00,9,  -999.0,9,     -999.0,     -999.0,9,     -999.0,9,     -999.0,     -999.0,9,     -999.0,     -999.0,9,     -999.0,     -999.0,     -999.0,9,     -999.0,9,     -999.0,9,     -999.0,9,     -999.0,9,     -999.0,9,     -999.0,9,     -999.0,9
33RO20161119,        P18,     207,          1,         14,      11113,2,20170126,       1600,   -69.5047,  -102.9941,       4088,   855.2,   1.5413,  34.7332,2,  34.7322,2,    189.0,2,   188.5,2,    97.0,2,    32.0,2,    0.01,2,   2.179,2,   0.1607,2,   0.0760,2,   0.0303,2,  2256.1,2,  2353.7,2,   7.5848,2,    25.00, -999.00,9,  -999.0,9,  -999.0,   0.5118,2, -999.00,9,  -999.0,9, -999.00,9, -999.00,9,    19.7761,2, -999.00,9,  -999.0,9,     -999.0,     -999.0,9,     -999.0,9,     -999.0,     -999.0,9,     -999.0,     -999.0,9,     -999.0,     -999.0,     -999.0,9,     -999.0,9,     -999.0,9,     -999.0,9,     -999.0,9,     -999.0,9,     -999.0,9,     -999.0,9
33RO20161119,        P18,     207,          1,         15,      11114,2,20170126,       1600,   -69.5047,  -102.9941,       4088,   726.4,   1.6608,  34.7317,2,  34.7322,2,    186.8,2,   185.9,2,    93.6,2,    32.1,2,    0.01,2,   2.183,2,   0.1851,2,   0.0886,2,   0.0473,2,  2256.1,2,  2349.3,2,   7.5808,2,    25.00, -999.00,9,  -999.0,9,  -999.0,   0.6114,2, -999.00,9,  -999.0,9, -999.00,9, -999.00,9,    19.8139,2, -999.00,9,  -999.0,9,     -999.0,     -999.0,9,     -999.0,9,     -999.0,     -999.0,9,     -999.0,     -999.0,9,     -999.0,     -999.0,     -999.0,9,     -999.0,9,     -999.0,9,     -999.0,9,     -999.0,9,     -999.0,9,     -999.0,9,     -999.0,9
33RO20161119,        P18,     207,          1,         16,      11115,2,20170126,       1600,   -69.5047,  -102.9941,       4088,   600.2,   1.7706,  34.7270,2,  34.7265,2,    183.8,2,   182.8,2,    90.5,2,    32.1,2,    0.01,2,   2.206,2,   0.2134,2,   0.1028,2,   0.0475,2,  2255.1,2,  2346.0,2,   7.5738,2,    25.00, -999.00,9,  -999.0,9,  -999.0,   1.3625,2, -999.00,9,  -999.0,9, -999.00,9, -999.00,9,    20.1156,2, -999.00,9,  -999.0,9,     -999.0,     -999.0,9,     -999.0,9,     -999.0,     -999.0,9,     -999.0,     -999.0,9,     -999.0,     -999.0,     -999.0,9,     -999.0,9,     -999.0,9,     -999.0,9,     -999.0,9,     -999.0,9,     -999.0,9,     -999.0,9
33RO20161119,        P18,     207,          1,         17,      11116,2,20170126,       1600,   -69.5047,  -102.9941,       4088,   490.4,   1.8439,  34.7192,2,  34.7194,2,    180.5,2,   179.8,2,    88.4,2,    32.5,2,    0.01,2,   2.207,2,   0.2468,2,   0.1211,2,   0.0637,2,  2256.3,2,  2349.8,2,   7.5674,2,    25.00, -999.00,9,  -999.0,9,  -999.0,   5.8057,2, -999.00,9,  -999.0,9, -999.00,9, -999.00,9,    20.5928,2, -999.00,9,  -999.0,9,     -999.0,     -999.0,9,     -999.0,9,     -999.0,     -999.0,9,     -999.0,     -999.0,9,     -999.0,     -999.0,     -999.0,9,     -999.0,9,     -999.0,9,     -999.0,9,     -999.0,9,     -999.0,9,     -999.0,9,     -999.0,9
33RO20161119,        P18,     207,          1,         18,      11117,2,20170126,       1600,   -69.5047,  -102.9941,       4088,   380.6,   1.9225,  34.7033,2,  34.7065,2,    176.7,2,   175.8,2,    85.8,2,    33.0,2,    0.01,2,   2.242,2,   0.3075,2,   0.1532,2,   0.1023,2,  2256.5,2,  2344.6,2,   7.5598,2,    25.00, -999.00,9,  -999.0,9,  -999.0,   5.5985,2, -999.00,9,  -999.0,9, -999.00,9, -999.00,9,     21.161,2, -999.00,9,  -999.0,9,     -999.0,     -999.0,9,     -999.0,9,     -999.0,     -999.0,9,     -999.0,     -999.0,9,     -999.0,     -999.0,     -999.0,9,     -999.0,9,     -999.0,9,     -999.0,9,     -999.0,9,     -999.0,9,     -999.0,9,     -999.0,9
33RO20161119,        P18,     207,          1,         19,      11083,2,20170126,       1600,   -69.5047,  -102.9941,       4088,   285.6,   1.9723,  34.6793,2,  34.6777,2,    173.4,2,   172.8,2,    83.6,2,    33.5,2,    0.02,2,   2.277,2,   0.4164,2,   0.2059,2,   0.1239,2,  2256.5,2,  2341.4,2,   7.5494,2,    25.00, -999.00,9,  -999.0,9,  -999.0,   6.7929,2, -999.00,9,  -999.0,9, -999.00,9, -999.00,9,    21.6826,2, -999.00,9,  -999.0,9,     -999.0,     -999.0,9,     -999.0,9,     -999.0,     -999.0,9,     -999.0,     -999.0,9,     -999.0,     -999.0,     -999.0,9,     -999.0,9,     -999.0,9,     -999.0,9,     -999.0,9,     -999.0,9,     -999.0,9,     -999.0,9
33RO20161119,        P18,     207,          1,         20,      11118,2,20170126,       1600,   -69.5047,  -102.9941,       4088,   200.2,   1.8981,  34.6333,2,  34.6334,2,    173.1,2,   171.7,2,    81.7,2,    34.2,2,    0.02,2,   2.341,2,   0.6405,2,   0.3291,2,   0.2667,2,  2257.6,2,  2337.0,2,   7.5362,2,    25.00, -999.00,9,  -999.0,9,  -999.0,   0.4639,2, -999.00,9,  -999.0,9, -999.00,9, -999.00,9,    22.4332,2, -999.00,9,  -999.0,9,     -999.0,     -999.0,9,     -999.0,9,     -999.0,     -999.0,9,     -999.0,     -999.0,9,     -999.0,     -999.0,     -999.0,9,     -999.0,9,     -999.0,9,     -999.0,9,     -999.0,9,     -999.0,9,     -999.0,9,     -999.0,9
33RO20161119,        P18,     207,          1,         21,      11119,2,20170126,       1600,   -69.5047,  -102.9941,       4088,   125.3,   1.1783,  34.4950,2,  34.5035,2,    190.4,2,   188.8,2,    76.0,2,    34.5,2,    0.05,2,   2.353,2,   1.4910,2,   0.7820,2,   0.7138,2,  2251.9,2,  2328.2,6,   7.5302,6,    25.00, -999.00,9,  -999.0,9,  -999.0,   0.4333,2, -999.00,9,  -999.0,9, -999.00,9, -999.00,9,    22.8391,2, -999.00,9,  -999.0,9,     -999.0,     -999.0,9,     -999.0,9,     -999.0,     -999.0,9,     -999.0,     -999.0,9,     -999.0,     -999.0,     -999.0,9,     -999.0,9,     -999.0,9,     -999.0,9,     -999.0,9,     -999.0,9,     -999.0,9,     -999.0,9
33RO20161119,        P18,     207,          1,         22,      11120,2,20170126,       1600,   -69.5047,  -102.9941,       4088,    60.4,  -1.4820,  34.0760,2,  34.0843,2,    311.7,2,   311.1,6,    59.5,2,    29.9,2,    0.23,2,   2.090,2,   4.9623,2,   2.6786,2,   2.9076,2,  2201.1,6,  2300.5,2,   7.6071,2,    25.00, -999.00,9,  -999.0,9,  -999.0,     0.33,2, -999.00,9,  -999.0,9, -999.00,9, -999.00,9,    17.7937,2, -999.00,9,  -999.0,9,     -999.0,     -999.0,9,     -999.0,9,     -999.0,     -999.0,9,     -999.0,     -999.0,9,     -999.0,     -999.0,     -999.0,9,     -999.0,9,     -999.0,9,     -999.0,9,     -999.0,9,     -999.0,9,     -999.0,9,     -999.0,9
33RO20161119,        P18,     207,          1,         23,      11121,2,20170126,       1600,   -69.5047,  -102.9941,       4088,    25.2,  -1.0525,  33.8315,2,  33.8755,2,    341.8,2,   337.4,2,    58.3,2,    27.6,2,    0.12,2,   1.933,2,   5.2225,2,   2.8084,2,   3.0751,2,  2175.7,2,  2293.0,2,   7.6520,2,    25.00, -999.00,9,  -999.0,9,  -999.0,    0.314,2, -999.00,9,  -999.0,9, -999.00,9, -999.00,9,    17.2657,2, -999.00,9,  -999.0,9,     -999.0,     -999.0,9,     -999.0,9,     -999.0,     -999.0,9,     -999.0,     -999.0,9,     -999.0,     -999.0,     -999.0,9,     -999.0,9,     -999.0,9,     -999.0,9,     -999.0,9,     -999.0,9,     -999.0,9,     -999.0,9
33RO20161119,        P18,     207,          1,         24,      11122,2,20170126,       1600,   -69.5047,  -102.9941,       4088,     2.9,  -0.0495,  32.3792,2,  32.4131,2,    350.9,2,   348.6,2,    46.7,2,    24.9,2,    0.36,2,   1.702,2,   5.9934,2,   3.2318,2,   3.6592,2,  2079.4,2,  2192.1,2,   7.6675,2,    25.00, -999.00,9,  -999.0,9,  -999.0,   0.3248,2, -999.00,9,  -999.0,9, -999.00,9, -999.00,9,     15.352,2, -999.00,9,  -999.0,9,     -999.0,     -999.0,9,     -999.0,9,     -999.0,     -999.0,9,     -999.0,     -999.0,9,     -999.0,     -999.0,     -999.0,9,     -999.0,9,     -999.0,9,     -999.0,9,     -999.0,9,     -999.0,9,     -999.0,9,     -999.0,9