BOTTLE,20230606CCHSIOCBG
EXPOCODE,SECT_ID,STNNBR,CASTNO,SAMPNO,BTLNBR,BTLNBR_FLAG_W,DATE,TIME,LATITUDE,LONGITUDE,DEPTH,CTDPRS,CTDTMP,CTDSAL,CTDSAL_FLAG_W,SALNTY,SALNTY_FLAG_W,CTDOXY,CTDOXY_FLAG_W,OXYGEN,OXYGEN_FLAG_W,SILCAT,SILCAT_FLAG_W,NITRAT,NITRAT_FLAG_W,NITRIT,NITRIT_FLAG_W,PHSPHT,PHSPHT_FLAG_W,CFC-11,CFC-11_FLAG_W,CFC-12,CFC-12_FLAG_W,SF6,SF6_FLAG_W,TCARBN,TCARBN_FLAG_W,ALKALI,ALKALI_FLAG_W,PH_SWS,PH_SWS_FLAG_W,PH_TMP,DELC13,DELC13_FLAG_W,DELC14,DELC14_FLAG_W,C14ERR,CCL4,CCL4_FLAG_W,POC,POC_FLAG_W,DOC,DOC_FLAG_W,TDN,TDN_FLAG_W,PON,PON_FLAG_W,N2O,N2O_FLAG_W,D15N_NO3,D15N_NO3_FLAG_W,14C-DOC,14C-DOC_FLAG_W,14C-DOCERR,13C-DOC,13C-DOC_FLAG_W,N2/ARGON_UNSTRIPPED,N2/ARGON_UNSTRIPPED_FLAG_W,N2/ARGON_UNSTRIPPED_ERROR,N2/ARGON,N2/ARGON_FLAG_W,N2/ARGON_ERROR,D15N_N2,D15N_N2_FLAG_W,D15N_N2_ERROR,D15N_NO3_ERROR,D15N_NO2+NO3,D15N_NO2+NO3_FLAG_W,D18O_NO2+NO3,D18O_NO2+NO3_FLAG_W,D18O_NO3,D18O_NO3_FLAG_W,TDP,TDP_FLAG_W,N2O_ALT_1,N2O_ALT_1_FLAG_W,D15N_N2O,D15N_N2O_FLAG_W,D18O_N2O,D18O_N2O_FLAG_W,D15N_ALPHA_N2O,D15N_ALPHA_N2O_FLAG_W
,,,,,,,,,,,METERS,DBAR,ITS-90,PSS-78,,PSS-78,,UMOL/KG,,UMOL/KG,,UMOL/KG,,UMOL/KG,,UMOL/KG,,UMOL/KG,,PMOL/KG,,PMOL/KG,,FMOL/KG,,UMOL/KG,,UMOL/KG,,,,DEG C,/MILLE,,/MILLE,,/MILLE,PMOL/KG,,UG/KG,,UMOL/KG,,UMOL/KG,,UG/KG,,NMOL/KG,,/MILLE,,/MILLE,,/MILLE,/MILLE,,,,,,,,/MILLE,,/MILLE,/MILLE,/MILLE,,/MILLE,,/MILLE,,UMOL/KG,,NMOL/L,,/MILLE,,/MILLE,,/MILLE,
33RO20161119,        P18,     165,          1,          1,      11010,2,20170113,       2034,   -48.5003,  -102.9990,       4162,  4232.9,   0.8422,  34.7093,2,  34.7108,2,    203.0,2,   204.3,2,   128.6,2,    32.6,2,    0.01,2,   2.279,2,   0.0181,2,   0.0086,2,   0.0000,2,  2273.9,6,  2380.4,2,   7.6096,6,    25.00, -999.00,9,  -999.0,9,  -999.0,   1.8516,2, -999.00,9,    39.3,2,   36.30,2, -999.00,9,    18.6275,2, -999.00,9,  -999.0,9,     -999.0,     -999.0,9,     -999.0,9,     -999.0,     -999.0,9,     -999.0,     -999.0,9,     -999.0,     -999.0,     -999.0,9,     -999.0,9,     -999.0,9,     -999.0,9,     -999.0,9,     -999.0,9,     -999.0,9,     -999.0,9
33RO20161119,        P18,     165,          1,          2,      11101,2,20170113,       2034,   -48.5003,  -102.9990,       4162,  3890.3,   1.0313,  34.7115,2,  34.7105,2,    197.9,2,   197.6,2,   123.7,2,    32.4,2,    0.01,2,   2.293,2,   0.0134,2,   0.0058,2,   0.0000,2,  2272.5,2,  2376.9,2,   7.6061,2,    25.00, -999.00,9,  -999.0,9,  -999.0,   3.6131,2, -999.00,9,    38.3,2,   37.10,2, -999.00,9,    18.6942,2, -999.00,9,  -999.0,9,     -999.0,     -999.0,9,     -999.0,9,     -999.0,     -999.0,9,     -999.0,     -999.0,9,     -999.0,     -999.0,     -999.0,9,     -999.0,9,     -999.0,9,     -999.0,9,     -999.0,9,     -999.0,9,     -999.0,9,     -999.0,9
33RO20161119,        P18,     165,          1,          3,      11102,2,20170113,       2034,   -48.5003,  -102.9990,       4162,  3549.6,   1.3705,  34.7163,2,  34.7247,4,    191.0,2,   190.3,2,   113.8,6,    32.3,6,    0.01,6,   2.262,6,-999.0000,9,-999.0000,9,-999.0000,9,  2269.0,2,  2370.4,6,   7.5983,2,    25.00, -999.00,9,  -999.0,9,  -999.0,-999.0000,9, -999.00,9,    39.0,2,   35.50,2, -999.00,9,     -999.0,9, -999.00,9,  -999.0,9,     -999.0,     -999.0,9,     -999.0,9,     -999.0,     -999.0,9,     -999.0,     -999.0,9,     -999.0,     -999.0,     -999.0,9,     -999.0,9,     -999.0,9,     -999.0,9,     -999.0,9,     -999.0,9,     -999.0,9,     -999.0,9
33RO20161119,        P18,     165,          1,          4,      11103,2,20170113,       2034,   -48.5003,  -102.9990,       4162,  3225.6,   1.5738,  34.7157,2,  34.7161,2,    185.0,2,   184.4,2,   108.6,6,    32.3,6,    0.01,6,   2.270,6,-999.0000,9,-999.0000,9,-999.0000,9,  2270.7,2,  2373.4,2,   7.5919,2,    25.00, -999.00,9,  -999.0,9,  -999.0,-999.0000,9, -999.00,9,    42.0,2,   37.10,2, -999.00,9,     -999.0,9, -999.00,9,  -999.0,9,     -999.0,     -999.0,9,     -999.0,9,     -999.0,     -999.0,9,     -999.0,     -999.0,9,     -999.0,     -999.0,     -999.0,9,     -999.0,9,     -999.0,9,     -999.0,9,     -999.0,9,     -999.0,9,     -999.0,9,     -999.0,9
33RO20161119,        P18,     165,          1,          5,      11104,2,20170113,       2034,   -48.5003,  -102.9990,       4162,  2900.6,   1.6830,  34.7090,2,  34.7092,2,    178.0,2,   178.2,2,   107.8,6,    32.7,6,    0.01,6,   2.301,6,-999.0000,9,-999.0000,9,-999.0000,9,  2275.2,2,  2375.8,2,   7.5887,2,    25.00, -999.00,9,  -999.0,9,  -999.0,-999.0000,9, -999.00,9,    38.3,2,   36.90,2, -999.00,9,     -999.0,9, -999.00,9,  -999.0,9,     -999.0,     -999.0,9,     -999.0,9,     -999.0,     -999.0,9,     -999.0,     -999.0,9,     -999.0,     -999.0,     -999.0,9,     -999.0,9,     -999.0,9,     -999.0,9,     -999.0,9,     -999.0,9,     -999.0,9,     -999.0,9
33RO20161119,        P18,     165,          1,          6,      11105,2,20170113,       2034,   -48.5003,  -102.9990,       4162,  2580.8,   1.9041,  34.7049,2,  34.7155,4,    174.2,2,   174.7,6,   100.4,6,    32.6,6,    0.01,6,   2.306,6,   0.0651,2,   0.0301,2,   0.0473,2,  2271.4,2,  2365.7,2,   7.5830,2,    25.00, -999.00,9,  -999.0,9,  -999.0,   3.7073,2, -999.00,9,    38.4,2,   38.50,2, -999.00,9,    20.2354,2, -999.00,9,  -999.0,9,     -999.0,     -999.0,9,     -999.0,9,     -999.0,     -999.0,9,     -999.0,     -999.0,9,     -999.0,     -999.0,     -999.0,9,     -999.0,9,     -999.0,9,     -999.0,9,     -999.0,9,     -999.0,9,     -999.0,9,     -999.0,9
33RO20161119,        P18,     165,          1,          7,      11106,2,20170113,       2034,   -48.5003,  -102.9990,       4162,  2259.1,   2.1579,  34.6825,2,  34.6809,2,    170.2,2,   170.2,2,    91.1,2,    32.8,2,    0.01,2,   2.318,2,-999.0000,9,-999.0000,9,-999.0000,9,  2265.8,2,  2357.8,2,   7.5712,2,    25.00, -999.00,9,  -999.0,9,  -999.0,-999.0000,9, -999.00,9,    38.2,2,   37.70,2, -999.00,9,     -999.0,9, -999.00,9,  -999.0,9,     -999.0,     -999.0,9,     -999.0,9,     -999.0,     -999.0,9,     -999.0,     -999.0,9,     -999.0,     -999.0,     -999.0,9,     -999.0,9,     -999.0,9,     -999.0,9,     -999.0,9,     -999.0,9,     -999.0,9,     -999.0,9
33RO20161119,        P18,     165,          1,          8,      11107,2,20170113,       2034,   -48.5003,  -102.9990,       4162,  1939.5,   2.4051,  34.6220,2,  34.6237,2,    165.6,2,   165.5,2,    82.9,2,    33.7,2,    0.01,2,   2.388,2,   0.1950,2,   0.0916,2,   0.0481,2,  2263.0,6,  2348.9,2,   7.5564,6,    25.00, -999.00,9,  -999.0,9,  -999.0,   3.1668,2, -999.00,9,    39.6,2,   38.20,2, -999.00,9,    22.1738,2, -999.00,9,  -999.0,9,     -999.0,     -999.0,9,     -999.0,9,     -999.0,     -999.0,9,     -999.0,     -999.0,9,     -999.0,     -999.0,     -999.0,9,     -999.0,9,     -999.0,9,     -999.0,9,     -999.0,9,     -999.0,9,     -999.0,9,     -999.0,9
33RO20161119,        P18,     165,          1,          9,      11108,2,20170113,       2034,   -48.5003,  -102.9990,       4162,  1618.1,   2.7045,  34.5272,2,  34.5261,2,    167.0,2,   167.6,2,    71.1,2,    34.3,2,    0.01,2,   2.419,2,-999.0000,9,-999.0000,9,-999.0000,9,  2252.5,2,  2338.4,2,   7.5468,2,    25.00, -999.00,9,  -999.0,9,  -999.0,-999.0000,9, -999.00,9,    43.8,2,   41.00,2, -999.00,9,     -999.0,9, -999.00,9,  -999.0,9,     -999.0,     -999.0,9,     -999.0,9,     -999.0,     -999.0,9,     -999.0,     -999.0,9,     -999.0,     -999.0,     -999.0,9,     -999.0,9,     -999.0,9,     -999.0,9,     -999.0,9,     -999.0,9,     -999.0,9,     -999.0,9
33RO20161119,        P18,     165,          1,         10,      11109,2,20170113,       2034,   -48.5003,  -102.9990,       4162,  1420.2,   3.0163,  34.4482,2,  34.4496,2,    172.6,2,   172.6,2,    60.6,2,    34.3,2,    0.01,2,   2.416,2,   0.7827,2,   0.3722,2,   0.1598,2,  2240.6,2,  2324.8,2,   7.5502,2,    25.00, -999.00,9,  -999.0,9,  -999.0,   3.5437,2, -999.00,9,    41.6,2,   40.20,2, -999.00,9,    22.8434,2, -999.00,9,  -999.0,9,     -999.0,     -999.0,9,     -999.0,9,     -999.0,     -999.0,9,     -999.0,     -999.0,9,     -999.0,     -999.0,     -999.0,9,     -999.0,9,     -999.0,9,     -999.0,9,     -999.0,9,     -999.0,9,     -999.0,9,     -999.0,9
33RO20161119,        P18,     165,          1,         11,      11110,2,20170113,       2034,   -48.5003,  -102.9990,       4162,  1270.1,   3.3366,  34.3803,2,  34.3818,2,    187.5,2,   187.7,2,    48.8,2,    33.1,2,    0.01,2,   2.330,2,-999.0000,9,-999.0000,9,-999.0000,9,  2222.4,2,  2313.9,6,   7.5694,2,    25.00, -999.00,9,  -999.0,9,  -999.0,-999.0000,9, -999.00,9,    41.1,2,   38.80,2, -999.00,9,     -999.0,9, -999.00,9,  -999.0,9,     -999.0,     -999.0,9,     -999.0,9,     -999.0,     -999.0,9,     -999.0,     -999.0,9,     -999.0,     -999.0,     -999.0,9,     -999.0,9,     -999.0,9,     -999.0,9,     -999.0,9,     -999.0,9,     -999.0,9,     -999.0,9
33RO20161119,        P18,     165,          1,         12,      11111,2,20170113,       2034,   -48.5003,  -102.9990,       4162,  1129.1,   3.8357,  34.3279,2,  34.3266,2,    198.5,2,   198.7,2,    37.9,2,    31.7,2,    0.01,2,   2.233,2,   1.7786,2,   0.8738,2,   0.3775,2,  2207.7,2,  2305.4,2,   7.5900,2,    25.00, -999.00,9,  -999.0,9,  -999.0,   4.3834,2, -999.00,9,    41.0,2,   34.80,2, -999.00,9,    20.0669,2, -999.00,9,  -999.0,9,     -999.0,     -999.0,9,     -999.0,9,     -999.0,     -999.0,9,     -999.0,     -999.0,9,     -999.0,     -999.0,     -999.0,9,     -999.0,9,     -999.0,9,     -999.0,9,     -999.0,9,     -999.0,9,     -999.0,9,     -999.0,9
33RO20161119,        P18,     165,          1,         13,      11112,2,20170113,       2034,   -48.5003,  -102.9990,       4162,   990.7,   4.3974,  34.2893,2,  34.2903,2,    211.1,2,   211.3,2,    28.1,2,    29.9,2,    0.01,2,   2.119,2,-999.0000,9,-999.0000,9,-999.0000,9,  2188.8,2,  2293.1,2,   7.6111,2,    25.00, -999.00,9,  -999.0,9,  -999.0,-999.0000,9, -999.00,9,    41.4,2,   33.70,2, -999.00,9,     -999.0,9, -999.00,9,  -999.0,9,     -999.0,     -999.0,9,     -999.0,9,     -999.0,     -999.0,9,     -999.0,     -999.0,9,     -999.0,     -999.0,     -999.0,9,     -999.0,9,     -999.0,9,     -999.0,9,     -999.0,9,     -999.0,9,     -999.0,9,     -999.0,9
33RO20161119,        P18,     165,          1,         14,      11113,2,20170113,       2034,   -48.5003,  -102.9990,       4162,   854.8,   5.0473,  34.2594,2,  34.2591,2,    229.3,2,   229.5,2,    18.7,2,    27.1,2,    0.01,2,   1.927,2,-999.0000,9,-999.0000,9,-999.0000,9,  2170.2,2,  2288.0,2,   7.6472,2,    25.00, -999.00,9,  -999.0,9,  -999.0,-999.0000,9, -999.00,9,    41.1,2,   30.90,2, -999.00,9,     -999.0,9, -999.00,9,  -999.0,9,     -999.0,     -999.0,9,     -999.0,9,     -999.0,     -999.0,9,     -999.0,     -999.0,9,     -999.0,     -999.0,     -999.0,9,     -999.0,9,     -999.0,9,     -999.0,9,     -999.0,9,     -999.0,9,     -999.0,9,     -999.0,9
33RO20161119,        P18,     165,          1,         15,      11114,2,20170113,       2034,   -48.5003,  -102.9990,       4162,   724.6,   5.4929,  34.2434,2,  34.2432,2,    250.5,2,   249.2,2,    12.4,2,    24.6,2,    0.01,2,   1.769,2,-999.0000,9,-999.0000,9,-999.0000,9,  2153.0,2,  2279.6,2,   7.6792,2,    25.00, -999.00,9,  -999.0,9,  -999.0,-999.0000,9, -999.00,9,    40.1,2,   28.90,2, -999.00,9,     -999.0,9, -999.00,9,  -999.0,9,     -999.0,     -999.0,9,     -999.0,9,     -999.0,     -999.0,9,     -999.0,     -999.0,9,     -999.0,     -999.0,     -999.0,9,     -999.0,9,     -999.0,9,     -999.0,9,     -999.0,9,     -999.0,9,     -999.0,9,     -999.0,9
33RO20161119,        P18,     165,          1,         16,      11115,2,20170113,       2034,   -48.5003,  -102.9990,       4162,   600.3,   5.9096,  34.2538,2,  34.2530,2,    266.4,2,   266.2,2,     8.6,2,    22.1,2,    0.01,2,   1.594,2,   3.9882,2,   2.1933,2,   1.9399,2,  2143.1,2,  2276.4,2,   7.7033,2,    25.00, -999.00,9,  -999.0,9,  -999.0,   4.0676,2, -999.00,9,    43.9,2,   24.70,2, -999.00,9,    13.8932,2, -999.00,9,  -999.0,9,     -999.0,     -999.0,9,     -999.0,9,     -999.0,     -999.0,9,     -999.0,     -999.0,9,     -999.0,     -999.0,     -999.0,9,     -999.0,9,     -999.0,9,     -999.0,9,     -999.0,9,     -999.0,9,     -999.0,9,     -999.0,9
33RO20161119,        P18,     165,          1,         17,      11116,2,20170113,       2034,   -48.5003,  -102.9990,       4162,   490.6,   6.1066,  34.2596,2,  34.2586,2,    271.8,2,   273.3,6,     7.1,2,    20.9,2,    0.01,2,   1.526,2,-999.0000,9,-999.0000,9,-999.0000,9,  2137.3,2,  2274.8,2,   7.7148,2,    25.00, -999.00,9,  -999.0,9,  -999.0,-999.0000,9, -999.00,9,    44.7,2,   22.70,2, -999.00,9,     -999.0,9, -999.00,9,  -999.0,9,     -999.0,     -999.0,9,     -999.0,9,     -999.0,     -999.0,9,     -999.0,     -999.0,9,     -999.0,     -999.0,     -999.0,9,     -999.0,9,     -999.0,9,     -999.0,9,     -999.0,9,     -999.0,9,     -999.0,9,     -999.0,9
33RO20161119,        P18,     165,          1,         18,      11117,2,20170113,       2034,   -48.5003,  -102.9990,       4162,   379.9,   6.3177,  34.2704,2,  34.2703,2,    271.1,2,   273.9,2,     6.3,2,    20.1,2,    0.01,2,   1.486,2,-999.0000,9,-999.0000,9,-999.0000,9,  2134.9,2,  2275.8,2,   7.7226,2,    25.00, -999.00,9,  -999.0,9,  -999.0,-999.0000,9, -999.00,9,    41.7,2,   22.90,2, -999.00,9,     -999.0,9, -999.00,9,  -999.0,9,     -999.0,     -999.0,9,     -999.0,9,     -999.0,     -999.0,9,     -999.0,     -999.0,9,     -999.0,     -999.0,     -999.0,9,     -999.0,9,     -999.0,9,     -999.0,9,     -999.0,9,     -999.0,9,     -999.0,9,     -999.0,9
33RO20161119,        P18,     165,          1,         19,      11083,2,20170113,       2034,   -48.5003,  -102.9990,       4162,   284.8,   6.5350,  34.2822,2,  34.2827,2,    271.9,2,   270.7,2,     5.9,2,    19.8,2,    0.02,2,   1.461,2,   4.0443,6,   2.2611,6,   2.1743,6,  2135.7,2,  2278.2,2,   7.7204,2,    25.00, -999.00,9,  -999.0,9,  -999.0,   0.0745,2, -999.00,9,    43.0,2,   23.00,2, -999.00,9,    14.7208,2, -999.00,9,  -999.0,9,     -999.0,     -999.0,9,     -999.0,9,     -999.0,     -999.0,9,     -999.0,     -999.0,9,     -999.0,     -999.0,     -999.0,9,     -999.0,9,     -999.0,9,     -999.0,9,     -999.0,9,     -999.0,9,     -999.0,9,     -999.0,9
33RO20161119,        P18,     165,          1,         20,      11118,2,20170113,       2034,   -48.5003,  -102.9990,       4162,   198.0,   6.7613,  34.2588,2,  34.2558,2,    273.3,2,   273.9,2,     4.6,2,    18.7,2,    0.02,2,   1.394,2,   3.9780,2,   2.2560,2,   2.3525,2,  2128.5,2,  2273.4,2,   7.7283,2,    25.00, -999.00,9,  -999.0,9,  -999.0,   0.0679,2, -999.00,9,    47.6,2,   19.80,2, -999.00,9,    14.9209,2, -999.00,9,  -999.0,9,     -999.0,     -999.0,9,     -999.0,9,     -999.0,     -999.0,9,     -999.0,     -999.0,9,     -999.0,     -999.0,     -999.0,9,     -999.0,9,     -999.0,9,       1.46,2,     -999.0,9,     -999.0,9,     -999.0,9,     -999.0,9
33RO20161119,        P18,     165,          1,         21,      11119,2,20170113,       2034,   -48.5003,  -102.9990,       4162,   124.8,   7.1056,  34.1624,2,  34.1613,2,    287.8,2,   287.9,2,     2.7,2,    15.3,2,    0.27,2,   1.255,2,   3.9341,2,   2.2377,2,   2.6434,2,  2111.4,2,  2268.7,6,   7.7651,2,    25.00, -999.00,9,  -999.0,9,  -999.0,   0.0773,2, -999.00,9,    47.9,2,   18.70,2, -999.00,9,     11.908,2, -999.00,9,  -999.0,9,     -999.0,     -999.0,9,     -999.0,9,     -999.0,     -999.0,9,     -999.0,     -999.0,9,     -999.0,     -999.0,     -999.0,9,     -999.0,9,     -999.0,9,       1.24,3,     -999.0,9,     -999.0,9,     -999.0,9,     -999.0,9
33RO20161119,        P18,     165,          1,         22,      11120,2,20170113,       2034,   -48.5003,  -102.9990,       4162,    59.6,   8.5108,  34.1339,2,  34.1339,2,    289.0,2,   289.0,2,     1.0,2,    13.5,2,    0.20,2,   1.135,2,-999.0000,9,-999.0000,9,-999.0000,9,  2096.6,2,  2268.6,2,   7.7981,2,    25.00, -999.00,9,  -999.0,9,  -999.0,-999.0000,9, -999.00,9,    50.0,2,   16.00,2, -999.00,9,     -999.0,9, -999.00,9,  -999.0,9,     -999.0,     -999.0,9,     -999.0,9,     -999.0,     -999.0,9,     -999.0,     -999.0,9,     -999.0,     -999.0,     -999.0,9,     -999.0,9,     -999.0,9,       1.22,2,     -999.0,9,     -999.0,9,     -999.0,9,     -999.0,9
33RO20161119,        P18,     165,          1,         23,      11121,2,20170113,       2034,   -48.5003,  -102.9990,       4162,    25.8,  10.0091,  34.1292,2,  34.1322,2,    284.0,2,   285.1,2,     0.4,2,    12.6,2,    0.22,2,   1.069,2,-999.0000,9,-999.0000,9,-999.0000,9,  2090.1,2,  2271.4,2,   7.8174,2,    25.00, -999.00,9,  -999.0,9,  -999.0,-999.0000,9, -999.00,9,    51.7,2,   15.60,2, -999.00,9,     -999.0,9, -999.00,9,  -999.0,9,     -999.0,     -999.0,9,     -999.0,9,     -999.0,     -999.0,9,     -999.0,     -999.0,9,     -999.0,     -999.0,     -999.0,9,     -999.0,9,     -999.0,9,       1.17,2,     -999.0,9,     -999.0,9,     -999.0,9,     -999.0,9
33RO20161119,        P18,     165,          1,         24,      11122,2,20170113,       2034,   -48.5003,  -102.9990,       4162,     4.2,  10.1453,  34.1287,2,  34.1289,2,    281.7,2,   283.4,2,     0.5,2,    12.6,2,    0.23,2,   1.063,2,   3.5312,2,   2.0260,2,   2.4557,2,  2090.8,6,  2274.5,2,   7.8159,2,    25.00, -999.00,9,  -999.0,9,  -999.0,   0.0602,2, -999.00,9,    51.1,2,   16.60,2, -999.00,9,    10.7208,2, -999.00,9,  -999.0,9,     -999.0,     -999.0,9,     -999.0,9,     -999.0,     -999.0,9,     -999.0,     -999.0,9,     -999.0,     -999.0,     -999.0,9,     -999.0,9,     -999.0,9,       1.12,2,     -999.0,9,     -999.0,9,     -999.0,9,     -999.0,9