BOTTLE,20230606CCHSIOCBG
EXPOCODE,SECT_ID,STNNBR,CASTNO,SAMPNO,BTLNBR,BTLNBR_FLAG_W,DATE,TIME,LATITUDE,LONGITUDE,DEPTH,CTDPRS,CTDTMP,CTDSAL,CTDSAL_FLAG_W,SALNTY,SALNTY_FLAG_W,CTDOXY,CTDOXY_FLAG_W,OXYGEN,OXYGEN_FLAG_W,SILCAT,SILCAT_FLAG_W,NITRAT,NITRAT_FLAG_W,NITRIT,NITRIT_FLAG_W,PHSPHT,PHSPHT_FLAG_W,CFC-11,CFC-11_FLAG_W,CFC-12,CFC-12_FLAG_W,SF6,SF6_FLAG_W,TCARBN,TCARBN_FLAG_W,ALKALI,ALKALI_FLAG_W,PH_SWS,PH_SWS_FLAG_W,PH_TMP,DELC13,DELC13_FLAG_W,DELC14,DELC14_FLAG_W,C14ERR,CCL4,CCL4_FLAG_W,POC,POC_FLAG_W,DOC,DOC_FLAG_W,TDN,TDN_FLAG_W,PON,PON_FLAG_W,N2O,N2O_FLAG_W,D15N_NO3,D15N_NO3_FLAG_W,14C-DOC,14C-DOC_FLAG_W,14C-DOCERR,13C-DOC,13C-DOC_FLAG_W,N2/ARGON_UNSTRIPPED,N2/ARGON_UNSTRIPPED_FLAG_W,N2/ARGON_UNSTRIPPED_ERROR,N2/ARGON,N2/ARGON_FLAG_W,N2/ARGON_ERROR,D15N_N2,D15N_N2_FLAG_W,D15N_N2_ERROR,D15N_NO3_ERROR,D15N_NO2+NO3,D15N_NO2+NO3_FLAG_W,D18O_NO2+NO3,D18O_NO2+NO3_FLAG_W,D18O_NO3,D18O_NO3_FLAG_W,TDP,TDP_FLAG_W,N2O_ALT_1,N2O_ALT_1_FLAG_W,D15N_N2O,D15N_N2O_FLAG_W,D18O_N2O,D18O_N2O_FLAG_W,D15N_ALPHA_N2O,D15N_ALPHA_N2O_FLAG_W
,,,,,,,,,,,METERS,DBAR,ITS-90,PSS-78,,PSS-78,,UMOL/KG,,UMOL/KG,,UMOL/KG,,UMOL/KG,,UMOL/KG,,UMOL/KG,,PMOL/KG,,PMOL/KG,,FMOL/KG,,UMOL/KG,,UMOL/KG,,,,DEG C,/MILLE,,/MILLE,,/MILLE,PMOL/KG,,UG/KG,,UMOL/KG,,UMOL/KG,,UG/KG,,NMOL/KG,,/MILLE,,/MILLE,,/MILLE,/MILLE,,,,,,,,/MILLE,,/MILLE,/MILLE,/MILLE,,/MILLE,,/MILLE,,UMOL/KG,,NMOL/L,,/MILLE,,/MILLE,,/MILLE,
33RO20161119,        P18,     146,          1,          1,      11010,2,20170108,       1741,   -38.9999,  -103.0000,       3736,  3877.4,   1.2186,  34.7079,2,  34.7120,4,    191.1,2,   190.2,2,   121.9,2,    33.0,2,    0.00,2,   2.294,2,   0.0040,2,   0.0025,2,   0.0534,2,  2279.5,6,  2383.3,2,   7.6054,6,    25.00, -999.00,9,  -999.0,9,  -999.0,   0.0811,2, -999.00,9,  -999.0,9, -999.00,9, -999.00,9,    19.5366,2, -999.00,9,  -999.0,9,     -999.0,     -999.0,9,     -999.0,9,     -999.0,     -999.0,9,     -999.0,     -999.0,9,     -999.0,     -999.0,     -999.0,9,     -999.0,9,     -999.0,9,     -999.0,9,     -999.0,9,     -999.0,9,     -999.0,9,     -999.0,9
33RO20161119,        P18,     146,          1,          2,      11101,2,20170108,       1741,   -38.9999,  -103.0000,       3736,  3494.3,   1.4189,  34.7059,2,  34.7120,4,    183.1,2,   183.0,2,   117.5,2,    33.2,2,    0.00,2,   2.317,2,   0.0040,2,   0.0028,2,   0.0368,2,  2281.4,2,  2379.6,6,   7.5953,2,    25.00, -999.00,9,  -999.0,9,  -999.0,   0.0675,2, -999.00,9,  -999.0,9, -999.00,9, -999.00,9,    19.5188,2, -999.00,9,  -999.0,9,     -999.0,     -999.0,9,     -999.0,9,     -999.0,     -999.0,9,     -999.0,     -999.0,9,     -999.0,     -999.0,     -999.0,9,     -999.0,9,     -999.0,9,     -999.0,9,     -999.0,9,     -999.0,9,     -999.0,9,     -999.0,9
33RO20161119,        P18,     146,          1,          3,      11102,2,20170108,       1741,   -38.9999,  -103.0000,       3736,  3059.9,   1.7250,  34.6972,2,  34.6979,2,    171.8,2,   171.2,2,   112.4,6,    33.7,6,    0.00,6,   2.349,6,   0.0091,2,   0.0058,2,   0.0507,2,  2284.0,2,  2395.0,4,   7.5824,2,    25.00, -999.00,9,  -999.0,9,  -999.0,   0.1194,2, -999.00,9,  -999.0,9, -999.00,9, -999.00,9,    20.5446,2, -999.00,9,  -999.0,9,     -999.0,     -999.0,9,     -999.0,9,     -999.0,     -999.0,9,     -999.0,     -999.0,9,     -999.0,     -999.0,     -999.0,9,     -999.0,9,     -999.0,9,     -999.0,9,     -999.0,9,     -999.0,9,     -999.0,9,     -999.0,9
33RO20161119,        P18,     146,          1,          4,      11103,2,20170108,       1741,   -38.9999,  -103.0000,       3736,  2824.7,   1.7793,  34.6916,2,  34.6900,2,    168.0,2,   167.8,2,   112.4,6,    34.0,6,    0.00,6,   2.374,6,   0.0117,2,   0.0056,2,   0.0305,2,  2285.8,2,  2380.4,2,   7.5799,2,    25.00, -999.00,9,  -999.0,9,  -999.0,   0.1914,2, -999.00,9,  -999.0,9, -999.00,9, -999.00,9,    20.6438,2, -999.00,9,  -999.0,9,     -999.0,     -999.0,9,     -999.0,9,     -999.0,     -999.0,9,     -999.0,     -999.0,9,     -999.0,     -999.0,     -999.0,9,     -999.0,9,     -999.0,9,     -999.0,9,     -999.0,9,     -999.0,9,     -999.0,9,     -999.0,9
33RO20161119,        P18,     146,          1,          5,      11104,2,20170108,       1741,   -38.9999,  -103.0000,       3736,  2529.8,   1.8434,  34.6852,2,  34.6829,2,    165.3,2,   165.4,2,   110.3,6,    34.1,6,    0.01,6,   2.386,6,   0.0172,2,   0.0090,2,   0.0000,2,  2286.8,2,  2379.3,2,   7.5744,2,    25.00, -999.00,9,  -999.0,9,  -999.0,   0.2026,2, -999.00,9,  -999.0,9, -999.00,9, -999.00,9,    21.0327,2, -999.00,9,  -999.0,9,     -999.0,     -999.0,9,     -999.0,9,     -999.0,     -999.0,9,     -999.0,     -999.0,9,     -999.0,     -999.0,     -999.0,9,     -999.0,9,     -999.0,9,     -999.0,9,     -999.0,9,     -999.0,9,     -999.0,9,     -999.0,9
33RO20161119,        P18,     146,          1,          6,      11105,2,20170108,       1741,   -38.9999,  -103.0000,       3736,  2239.5,   2.0120,  34.6684,2,  34.6727,2,    163.7,2,   162.0,2,   103.6,6,    34.2,6,    0.01,6,   2.391,6,   0.0283,6,   0.0138,6,   0.0000,6,  2283.1,2,  2372.4,2,   7.5665,2,    25.00, -999.00,9,  -999.0,9,  -999.0,   0.4315,2, -999.00,9,  -999.0,9, -999.00,9, -999.00,9,    21.5666,2, -999.00,9,  -999.0,9,     -999.0,     -999.0,9,     -999.0,9,     -999.0,     -999.0,9,     -999.0,     -999.0,9,     -999.0,     -999.0,     -999.0,9,     -999.0,9,     -999.0,9,     -999.0,9,     -999.0,9,     -999.0,9,     -999.0,9,     -999.0,9
33RO20161119,        P18,     146,          1,          7,      11106,2,20170108,       1741,   -38.9999,  -103.0000,       3736,  1946.0,   2.2957,  34.6237,2,  34.6389,4,    158.6,2,   157.9,2,    93.0,2,    34.7,2,    0.01,2,   2.431,2,   0.0484,2,   0.0252,2,   0.0000,2,  2276.5,2,  2360.3,2,   7.5536,2,    25.00, -999.00,9,  -999.0,9,  -999.0,   1.5187,2, -999.00,9,  -999.0,9, -999.00,9, -999.00,9,    22.2272,2, -999.00,9,  -999.0,9,     -999.0,     -999.0,9,     -999.0,9,     -999.0,     -999.0,9,     -999.0,     -999.0,9,     -999.0,     -999.0,     -999.0,9,     -999.0,9,     -999.0,9,     -999.0,9,     -999.0,9,     -999.0,9,     -999.0,9,     -999.0,9
33RO20161119,        P18,     146,          1,          8,      11107,2,20170108,       1741,   -38.9999,  -103.0000,       3736,  1655.3,   2.6529,  34.5625,2,  34.5876,4,    149.5,2,   149.1,6,    83.9,2,    35.8,2,    0.00,2,   2.492,2,   0.0619,2,   0.0308,2,   0.0000,2,  2272.7,2,  2351.7,6,   7.5372,2,    25.00, -999.00,9,  -999.0,9,  -999.0,   2.4778,2, -999.00,9,  -999.0,9, -999.00,9, -999.00,9,    24.2156,2, -999.00,9,  -999.0,9,     -999.0,     -999.0,9,     -999.0,9,     -999.0,     -999.0,9,     -999.0,     -999.0,9,     -999.0,     -999.0,     -999.0,9,     -999.0,9,     -999.0,9,     -999.0,9,     -999.0,9,     -999.0,9,     -999.0,9,     -999.0,9
33RO20161119,        P18,     146,          1,          9,      11108,2,20170108,       1741,   -38.9999,  -103.0000,       3736,  1396.4,   3.1246,  34.4879,2,  34.4935,2,    141.4,2,   141.1,2,    70.9,2,    36.9,2,    0.01,2,   2.584,2,   0.0775,2,   0.0386,2,   0.0000,2,  2266.1,6,  2335.4,2,   7.5181,2,    25.00, -999.00,9,  -999.0,9,  -999.0,   2.2025,2, -999.00,9,  -999.0,9, -999.00,9, -999.00,9,    25.6448,2, -999.00,9,  -999.0,9,     -999.0,     -999.0,9,     -999.0,9,     -999.0,     -999.0,9,     -999.0,     -999.0,9,     -999.0,     -999.0,     -999.0,9,     -999.0,9,     -999.0,9,     -999.0,9,     -999.0,9,     -999.0,9,     -999.0,9,     -999.0,9
33RO20161119,        P18,     146,          1,         10,      11109,2,20170108,       1741,   -38.9999,  -103.0000,       3736,  1215.4,   3.4290,  34.4062,2,  34.4046,2,    161.9,2,   161.3,2,    53.9,2,    35.4,2,    0.00,2,   2.467,2,   0.2676,2,   0.1315,2,   0.0475,2,  2239.3,2,  2315.9,2,   7.5409,2,    25.00, -999.00,9,  -999.0,9,  -999.0,   2.6749,2, -999.00,9,  -999.0,9, -999.00,9, -999.00,9,    24.4501,2, -999.00,9,  -999.0,9,     -999.0,     -999.0,9,     -999.0,9,     -999.0,     -999.0,9,     -999.0,     -999.0,9,     -999.0,     -999.0,     -999.0,9,     -999.0,9,     -999.0,9,     -999.0,9,     -999.0,9,     -999.0,9,     -999.0,9,     -999.0,9
33RO20161119,        P18,     146,          1,         11,      11110,2,20170108,       1741,   -38.9999,  -103.0000,       3736,  1095.5,   3.7765,  34.3446,2,  34.3427,2,    183.9,2,   183.6,2,    40.7,2,    33.4,2,    0.00,2,   2.314,2,   0.7787,2,   0.3757,2,   0.1386,2,  2214.7,2,  2301.6,2,   7.5743,6,    25.00, -999.00,9,  -999.0,9,  -999.0,   2.9563,2, -999.00,9,  -999.0,9, -999.00,9, -999.00,9,    21.8833,2, -999.00,9,  -999.0,9,     -999.0,     -999.0,9,     -999.0,9,     -999.0,     -999.0,9,     -999.0,     -999.0,9,     -999.0,     -999.0,     -999.0,9,     -999.0,9,     -999.0,9,     -999.0,9,     -999.0,9,     -999.0,9,     -999.0,9,     -999.0,9
33RO20161119,        P18,     146,          1,         12,      11111,2,20170108,       1741,   -38.9999,  -103.0000,       3736,   970.0,   4.3517,  34.2990,2,  34.2982,2,    202.9,2,   202.5,2,    28.8,2,    31.1,2,    0.00,2,   2.162,2,   1.5644,2,   0.7670,2,   0.3016,2,  2192.0,2,  2290.2,2,   7.6071,2,    25.00, -999.00,9,  -999.0,9,  -999.0,   2.8404,2, -999.00,9,  -999.0,9, -999.00,9, -999.00,9,    19.4972,2, -999.00,9,  -999.0,9,     -999.0,     -999.0,9,     -999.0,9,     -999.0,     -999.0,9,     -999.0,     -999.0,9,     -999.0,     -999.0,     -999.0,9,     -999.0,9,     -999.0,9,     -999.0,9,     -999.0,9,     -999.0,9,     -999.0,9,     -999.0,9
33RO20161119,        P18,     146,          1,         13,      11112,2,20170108,       1741,   -38.9999,  -103.0000,       3736,   850.2,   4.8895,  34.2668,2,  34.2654,2,    219.5,2,   219.6,2,    19.9,2,    28.8,2,    0.00,2,   2.001,2,   2.5712,6,   1.2823,6,   0.6035,6,  2175.6,2,  2282.3,2,   7.6375,2,    25.00, -999.00,9,  -999.0,9,  -999.0,   3.3547,2, -999.00,9,  -999.0,9, -999.00,9, -999.00,9,    17.7588,2, -999.00,9,  -999.0,9,     -999.0,     -999.0,9,     -999.0,9,     -999.0,     -999.0,9,     -999.0,     -999.0,9,     -999.0,     -999.0,     -999.0,9,     -999.0,9,     -999.0,9,     -999.0,9,     -999.0,9,     -999.0,9,     -999.0,9,     -999.0,9
33RO20161119,        P18,     146,          1,         14,      11113,2,20170108,       1741,   -38.9999,  -103.0000,       3736,   736.5,   5.4125,  34.2580,2,  34.2579,2,    237.4,2,   221.6,3,    13.0,2,    26.1,2,    0.00,2,   1.833,2,   3.2823,2,   1.6761,2,   0.8974,2,  2157.6,2,  2276.7,2,   7.6719,2,    25.00, -999.00,9,  -999.0,9,  -999.0,    2.322,2, -999.00,9,  -999.0,9, -999.00,9, -999.00,9,    16.1781,2, -999.00,9,  -999.0,9,     -999.0,     -999.0,9,     -999.0,9,     -999.0,     -999.0,9,     -999.0,     -999.0,9,     -999.0,     -999.0,     -999.0,9,     -999.0,9,     -999.0,9,     -999.0,9,     -999.0,9,     -999.0,9,     -999.0,9,     -999.0,9
33RO20161119,        P18,     146,          1,         15,      11114,2,20170108,       1741,   -38.9999,  -103.0000,       3736,   619.4,   5.8635,  34.2677,2,  34.2677,2,    249.8,2,   250.4,2,     9.4,2,    24.0,2,    0.00,2,   1.698,2,   3.8598,2,   2.0240,2,   1.2396,2,  2147.7,2,  2275.2,2,   7.6933,2,    25.00, -999.00,9,  -999.0,9,  -999.0,   1.5387,2, -999.00,9,  -999.0,9, -999.00,9, -999.00,9,    15.3701,2, -999.00,9,  -999.0,9,     -999.0,     -999.0,9,     -999.0,9,     -999.0,     -999.0,9,     -999.0,     -999.0,9,     -999.0,     -999.0,     -999.0,9,     -999.0,9,     -999.0,9,     -999.0,9,     -999.0,9,     -999.0,9,     -999.0,9,     -999.0,9
33RO20161119,        P18,     146,          1,         16,      11115,2,20170108,       1741,   -38.9999,  -103.0000,       3736,   510.0,   6.1684,  34.2768,2,  34.2762,2,    256.3,2,   255.5,6,     8.0,2,    22.9,2,    0.00,2,   1.607,2,   4.0527,2,   2.1760,2,   1.5676,2,  2142.5,2,  2274.0,2,   7.6960,2,    25.00, -999.00,9,  -999.0,9,  -999.0,   3.1041,2, -999.00,9,  -999.0,9, -999.00,9, -999.00,9,    15.4087,2, -999.00,9,  -999.0,9,     -999.0,     -999.0,9,     -999.0,9,     -999.0,     -999.0,9,     -999.0,     -999.0,9,     -999.0,     -999.0,     -999.0,9,     -999.0,9,     -999.0,9,     -999.0,9,     -999.0,9,     -999.0,9,     -999.0,9,     -999.0,9
33RO20161119,        P18,     146,          1,         17,      11116,2,20170108,       1741,   -38.9999,  -103.0000,       3736,   410.1,   6.4269,  34.2815,2,  34.2881,2,    256.4,2,   257.6,2,     6.8,2,    22.0,2,    0.01,2,   1.553,2,   4.0888,2,   2.2376,2,   1.8313,2,  2141.7,2,  2272.0,2,   7.7025,2,    25.00, -999.00,9,  -999.0,9,  -999.0,   3.0724,2, -999.00,9,  -999.0,9, -999.00,9, -999.00,9,    15.9424,2, -999.00,9,  -999.0,9,     -999.0,     -999.0,9,     -999.0,9,     -999.0,     -999.0,9,     -999.0,     -999.0,9,     -999.0,     -999.0,     -999.0,9,     -999.0,9,     -999.0,9,     -999.0,9,     -999.0,9,     -999.0,9,     -999.0,9,     -999.0,9
33RO20161119,        P18,     146,          1,         18,      11117,2,20170108,       1741,   -38.9999,  -103.0000,       3736,   313.9,   6.8080,  34.2657,2,  34.2653,2,    253.9,2,   253.5,2,     5.5,2,    21.2,2,    0.00,2,   1.528,2,   4.0995,2,   2.2560,2,   1.9401,2,  2137.6,2,  2269.2,2,   7.7091,2,    25.00, -999.00,9,  -999.0,9,  -999.0,   2.7649,2, -999.00,9,  -999.0,9, -999.00,9, -999.00,9,    19.8946,2, -999.00,9,  -999.0,9,     -999.0,     -999.0,9,     -999.0,9,     -999.0,     -999.0,9,     -999.0,     -999.0,9,     -999.0,     -999.0,     -999.0,9,     -999.0,9,     -999.0,9,     -999.0,9,     -999.0,9,     -999.0,9,     -999.0,9,     -999.0,9
33RO20161119,        P18,     146,          1,         19,      11083,2,20170108,       1741,   -38.9999,  -103.0000,       3736,   233.8,   7.4029,  34.2008,2,  34.2038,2,    249.4,2,   249.2,2,     3.9,2,    20.3,2,    0.01,2,   1.476,2,   3.9537,2,   2.2250,2,   2.0937,2,  2132.0,2,  2264.9,2,   7.7279,4,    25.00, -999.00,9,  -999.0,9,  -999.0,   2.8709,2, -999.00,9,  -999.0,9, -999.00,9, -999.00,9,    23.8143,2, -999.00,9,  -999.0,9,     -999.0,     -999.0,9,     -999.0,9,     -999.0,     -999.0,9,     -999.0,     -999.0,9,     -999.0,     -999.0,     -999.0,9,     -999.0,9,     -999.0,9,     -999.0,9,     -999.0,9,     -999.0,9,     -999.0,9,     -999.0,9
33RO20161119,        P18,     146,          1,         20,      11118,2,20170108,       1741,   -38.9999,  -103.0000,       3736,   165.5,   9.1634,  34.1395,2,  34.1390,2,    248.3,2,   247.0,2,     1.7,2,    16.2,2,    0.15,2,   1.237,2,   3.6512,2,   2.0666,2,   2.1576,2,  2112.3,2,  2261.4,2,   7.7947,4,    25.00, -999.00,9,  -999.0,9,  -999.0,   0.2195,2, -999.00,9,  -999.0,9, -999.00,9, -999.00,9,    25.3314,2, -999.00,9,  -999.0,9,     -999.0,     -999.0,9,     -999.0,9,     -999.0,     -999.0,9,     -999.0,     -999.0,9,     -999.0,     -999.0,     -999.0,9,     -999.0,9,     -999.0,9,     -999.0,9,     -999.0,9,     -999.0,9,     -999.0,9,     -999.0,9
33RO20161119,        P18,     146,          1,         21,      11119,2,20170108,       1741,   -38.9999,  -103.0000,       3736,   100.6,  10.6589,  33.9964,2,  33.9973,2,    272.4,2,   271.3,2,     0.6,2,    10.1,2,    0.25,2,   0.911,2,   3.2951,2,   1.9243,2,   2.3823,2,  2072.4,2,  2255.4,6,   7.8688,4,    25.00, -999.00,9,  -999.0,9,  -999.0,   0.5298,2, -999.00,9,  -999.0,9, -999.00,9, -999.00,9,    11.1021,2, -999.00,9,  -999.0,9,     -999.0,     -999.0,9,     -999.0,9,     -999.0,     -999.0,9,     -999.0,     -999.0,9,     -999.0,     -999.0,     -999.0,9,     -999.0,9,     -999.0,9,     -999.0,9,     -999.0,9,     -999.0,9,     -999.0,9,     -999.0,9
33RO20161119,        P18,     146,          1,         22,      11120,2,20170108,       1741,   -38.9999,  -103.0000,       3736,    46.0,  14.2334,  33.9226,2,  33.9221,2,    267.6,2,   265.5,2,     0.4,2,     7.5,2,    0.16,2,   0.740,2,   2.8831,2,   1.7052,2,   2.1560,2,  2050.7,2,  2250.9,2,   7.9000,4,    25.00, -999.00,9,  -999.0,9,  -999.0,   0.5568,2,  176.53,6,  -999.0,9, -999.00,9,   24.58,6,     9.5445,2, -999.00,9,  -999.0,9,     -999.0,     -999.0,9,     -999.0,9,     -999.0,     -999.0,9,     -999.0,     -999.0,9,     -999.0,     -999.0,     -999.0,9,     -999.0,9,     -999.0,9,     -999.0,9,     -999.0,9,     -999.0,9,     -999.0,9,     -999.0,9
33RO20161119,        P18,     146,          1,         23,      11121,2,20170108,       1741,   -38.9999,  -103.0000,       3736,    18.9,  16.4457,  33.8486,2,  33.8491,2,    246.8,2,   248.2,2,     0.5,2,     7.2,2,    0.22,2,   0.719,2,   2.5719,2,   1.5265,2,   1.9631,2,  2040.6,2,  2246.1,2,   7.8944,4,    25.00, -999.00,9,  -999.0,9,  -999.0,   1.9012,2, -999.00,9,  -999.0,9, -999.00,9, -999.00,9,     8.8298,2, -999.00,9,  -999.0,9,     -999.0,     -999.0,9,     -999.0,9,     -999.0,     -999.0,9,     -999.0,     -999.0,9,     -999.0,     -999.0,     -999.0,9,     -999.0,9,     -999.0,9,     -999.0,9,     -999.0,9,     -999.0,9,     -999.0,9,     -999.0,9
33RO20161119,        P18,     146,          1,         24,      11122,2,20170108,       1741,   -38.9999,  -103.0000,       3736,     3.4,  16.4550,  33.8485,2,  33.8473,2,    245.2,2,   247.5,2,     0.4,2,     7.2,2,    0.23,2,   0.715,2,   2.5698,2,   1.5328,2,   2.0023,2,  2043.1,6,  2246.9,2,   7.9078,4,    25.00, -999.00,9,  -999.0,9,  -999.0,   2.8132,2, -999.00,9,  -999.0,9, -999.00,9, -999.00,9,     8.9166,2, -999.00,9,  -999.0,9,     -999.0,     -999.0,9,     -999.0,9,     -999.0,     -999.0,9,     -999.0,     -999.0,9,     -999.0,     -999.0,     -999.0,9,     -999.0,9,     -999.0,9,     -999.0,9,     -999.0,9,     -999.0,9,     -999.0,9,     -999.0,9