BOTTLE,20230606CCHSIOCBG
EXPOCODE,SECT_ID,STNNBR,CASTNO,SAMPNO,BTLNBR,BTLNBR_FLAG_W,DATE,TIME,LATITUDE,LONGITUDE,DEPTH,CTDPRS,CTDTMP,CTDSAL,CTDSAL_FLAG_W,SALNTY,SALNTY_FLAG_W,CTDOXY,CTDOXY_FLAG_W,OXYGEN,OXYGEN_FLAG_W,SILCAT,SILCAT_FLAG_W,NITRAT,NITRAT_FLAG_W,NITRIT,NITRIT_FLAG_W,PHSPHT,PHSPHT_FLAG_W,CFC-11,CFC-11_FLAG_W,CFC-12,CFC-12_FLAG_W,SF6,SF6_FLAG_W,TCARBN,TCARBN_FLAG_W,ALKALI,ALKALI_FLAG_W,PH_SWS,PH_SWS_FLAG_W,PH_TMP,DELC13,DELC13_FLAG_W,DELC14,DELC14_FLAG_W,C14ERR,CCL4,CCL4_FLAG_W,POC,POC_FLAG_W,DOC,DOC_FLAG_W,TDN,TDN_FLAG_W,PON,PON_FLAG_W,N2O,N2O_FLAG_W,D15N_NO3,D15N_NO3_FLAG_W,14C-DOC,14C-DOC_FLAG_W,14C-DOCERR,13C-DOC,13C-DOC_FLAG_W,N2/ARGON_UNSTRIPPED,N2/ARGON_UNSTRIPPED_FLAG_W,N2/ARGON_UNSTRIPPED_ERROR,N2/ARGON,N2/ARGON_FLAG_W,N2/ARGON_ERROR,D15N_N2,D15N_N2_FLAG_W,D15N_N2_ERROR,D15N_NO3_ERROR,D15N_NO2+NO3,D15N_NO2+NO3_FLAG_W,D18O_NO2+NO3,D18O_NO2+NO3_FLAG_W,D18O_NO3,D18O_NO3_FLAG_W,TDP,TDP_FLAG_W,N2O_ALT_1,N2O_ALT_1_FLAG_W,D15N_N2O,D15N_N2O_FLAG_W,D18O_N2O,D18O_N2O_FLAG_W,D15N_ALPHA_N2O,D15N_ALPHA_N2O_FLAG_W
,,,,,,,,,,,METERS,DBAR,ITS-90,PSS-78,,PSS-78,,UMOL/KG,,UMOL/KG,,UMOL/KG,,UMOL/KG,,UMOL/KG,,UMOL/KG,,PMOL/KG,,PMOL/KG,,FMOL/KG,,UMOL/KG,,UMOL/KG,,,,DEG C,/MILLE,,/MILLE,,/MILLE,PMOL/KG,,UG/KG,,UMOL/KG,,UMOL/KG,,UG/KG,,NMOL/KG,,/MILLE,,/MILLE,,/MILLE,/MILLE,,,,,,,,/MILLE,,/MILLE,/MILLE,/MILLE,,/MILLE,,/MILLE,,UMOL/KG,,NMOL/L,,/MILLE,,/MILLE,,/MILLE,
33RO20161119,        P18,     163,          1,          1,      11010,2,20170113,       0732,   -47.5000,  -103.0001,       4239,  4301.4,   0.8644,  34.7094,2,  34.7100,2,    202.6,2,   202.2,2,   129.5,2,    32.5,2,    0.01,2,   2.263,2,   0.0152,2,   0.0089,2,   0.0570,2,  2276.0,6,  2381.3,6,   7.6111,2,    25.00, -999.00,9,  -999.0,9,  -999.0,   0.1969,2, -999.00,9,    38.9,2,   36.70,2, -999.00,9,    18.8167,2, -999.00,9,  -999.0,9,     -999.0,     -999.0,9,     -999.0,9,     -999.0,     -999.0,9,     -999.0,     -999.0,9,     -999.0,     -999.0,     -999.0,9,     -999.0,9,     -999.0,9,     -999.0,9,     -999.0,9,     -999.0,9,     -999.0,9,     -999.0,9
33RO20161119,        P18,     163,          1,          2,      11101,2,20170113,       0732,   -47.5000,  -103.0001,       4239,  4054.5,   0.9110,  34.7101,2,  34.7118,2,    200.4,2,   200.3,2,   127.2,2,    32.6,2,    0.01,2,   2.263,2,   0.0115,2,   0.0064,2,   0.0000,2,  2273.6,2,  2382.5,2,   7.6096,2,    25.00, -999.00,9,  -999.0,9,  -999.0,   0.6234,2, -999.00,9,    38.9,2,   33.80,2, -999.00,9,    18.9434,2, -999.00,9,  -999.0,9,     -999.0,     -999.0,9,     -999.0,9,     -999.0,     -999.0,9,     -999.0,     -999.0,9,     -999.0,     -999.0,     -999.0,9,     -999.0,9,     -999.0,9,     -999.0,9,     -999.0,9,     -999.0,9,     -999.0,9,     -999.0,9
33RO20161119,        P18,     163,          1,          3,      11102,2,20170113,       0732,   -47.5000,  -103.0001,       4239,  3796.0,   1.1113,  34.7112,2,  34.7120,2,    194.9,2,   195.2,2,   122.5,6,    32.7,6,    0.01,6,   2.275,6,-999.0000,9,-999.0000,9,-999.0000,9,  2274.9,2,  2374.8,2,   7.6062,6,    25.00, -999.00,9,  -999.0,9,  -999.0,-999.0000,9, -999.00,9,    39.5,2,   36.50,2, -999.00,9,     -999.0,9, -999.00,9,  -999.0,9,     -999.0,     -999.0,9,     -999.0,9,     -999.0,     -999.0,9,     -999.0,     -999.0,9,     -999.0,     -999.0,     -999.0,9,     -999.0,9,     -999.0,9,     -999.0,9,     -999.0,9,     -999.0,9,     -999.0,9,     -999.0,9
33RO20161119,        P18,     163,          1,          4,      11103,2,20170113,       0732,   -47.5000,  -103.0001,       4239,  3480.2,   1.4148,  34.7158,2,  34.7157,2,    189.0,2,   188.9,6,   113.7,6,    32.3,6,    0.01,6,   2.258,6,   0.0358,6,   0.0159,6,   0.0000,6,  2268.8,2,  2373.4,2,   7.5993,2,    25.00, -999.00,9,  -999.0,9,  -999.0,   1.4455,2, -999.00,9,    39.0,2,   32.40,3, -999.00,9,    19.5038,2, -999.00,9,  -999.0,9,     -999.0,     -999.0,9,     -999.0,9,     -999.0,     -999.0,9,     -999.0,     -999.0,9,     -999.0,     -999.0,     -999.0,9,     -999.0,9,     -999.0,9,     -999.0,9,     -999.0,9,     -999.0,9,     -999.0,9,     -999.0,9
33RO20161119,        P18,     163,          1,          5,      11104,2,20170113,       0732,   -47.5000,  -103.0001,       4239,  3160.7,   1.5855,  34.7134,2,  34.7141,2,    182.9,2,   182.8,2,   109.7,6,    32.5,6,    0.01,6,   2.267,6,-999.0000,9,-999.0000,9,-999.0000,9,  2271.3,2,  2371.9,2,   7.5935,2,    25.00, -999.00,9,  -999.0,9,  -999.0,-999.0000,9, -999.00,9,    38.5,2,   34.30,2, -999.00,9,     -999.0,9, -999.00,9,  -999.0,9,     -999.0,     -999.0,9,     -999.0,9,     -999.0,     -999.0,9,     -999.0,     -999.0,9,     -999.0,     -999.0,     -999.0,9,     -999.0,9,     -999.0,9,     -999.0,9,     -999.0,9,     -999.0,9,     -999.0,9,     -999.0,9
33RO20161119,        P18,     163,          1,          6,      11105,2,20170113,       0732,   -47.5000,  -103.0001,       4239,  2829.9,   1.7078,  34.7058,2,  34.7062,2,    176.2,2,   160.5,3,   108.3,6,    32.9,6,    0.01,6,   2.300,6,   0.0279,2,   0.0128,2,   0.0000,2,  2277.0,2,  2374.1,2,   7.5850,2,    25.00, -999.00,9,  -999.0,9,  -999.0,   3.0504,2, -999.00,9,    37.9,2,   37.00,2, -999.00,9,    20.4939,2, -999.00,9,  -999.0,9,     -999.0,     -999.0,9,     -999.0,9,     -999.0,     -999.0,9,     -999.0,     -999.0,9,     -999.0,     -999.0,     -999.0,9,     -999.0,9,     -999.0,9,     -999.0,9,     -999.0,9,     -999.0,9,     -999.0,9,     -999.0,9
33RO20161119,        P18,     163,          1,          7,      11106,2,20170113,       0732,   -47.5000,  -103.0001,       4239,  2494.7,   1.9215,  34.7012,2,  34.7009,2,    173.0,2,   173.8,2,   100.9,2,    33.0,2,    0.01,2,   2.297,2,-999.0000,9,-999.0000,9,-999.0000,9,  2272.3,2,  2364.4,2,   7.5807,2,    25.00, -999.00,9,  -999.0,9,  -999.0,-999.0000,9, -999.00,9,    37.0,2,   37.80,2, -999.00,9,     -999.0,9, -999.00,9,  -999.0,9,     -999.0,     -999.0,9,     -999.0,9,     -999.0,     -999.0,9,     -999.0,     -999.0,9,     -999.0,     -999.0,     -999.0,9,     -999.0,9,     -999.0,9,     -999.0,9,     -999.0,9,     -999.0,9,     -999.0,9,     -999.0,9
33RO20161119,        P18,     163,          1,          8,      11107,2,20170113,       0732,   -47.5000,  -103.0001,       4239,  2139.7,   2.2009,  34.6697,2,  34.6701,2,    167.9,2,   169.1,2,    90.8,2,    33.4,2,    0.01,2,   2.328,2,   0.1076,2,   0.0510,2,   0.0199,2,  2267.0,2,  2361.5,2,   7.5672,2,    25.00, -999.00,9,  -999.0,9,  -999.0,   3.4917,2, -999.00,9,    38.0,2,   36.70,2, -999.00,9,    21.6646,2, -999.00,9,  -999.0,9,     -999.0,     -999.0,9,     -999.0,9,     -999.0,     -999.0,9,     -999.0,     -999.0,9,     -999.0,     -999.0,     -999.0,9,     -999.0,9,     -999.0,9,     -999.0,9,     -999.0,9,     -999.0,9,     -999.0,9,     -999.0,9
33RO20161119,        P18,     163,          1,          9,      11108,2,20170113,       0732,   -47.5000,  -103.0001,       4239,  1760.0,   2.4972,  34.5926,2,  34.5934,2,    163.6,2,   163.5,2,    79.7,2,    34.4,2,    0.01,2,   2.382,2,-999.0000,9,-999.0000,9,-999.0000,9,  2262.8,2,  2345.2,2,   7.5542,6,    25.00, -999.00,9,  -999.0,9,  -999.0,-999.0000,9, -999.00,9,    37.8,2,   38.00,2, -999.00,9,     -999.0,9, -999.00,9,  -999.0,9,     -999.0,     -999.0,9,     -999.0,9,     -999.0,     -999.0,9,     -999.0,     -999.0,9,     -999.0,     -999.0,     -999.0,9,     -999.0,9,     -999.0,9,     -999.0,9,     -999.0,9,     -999.0,9,     -999.0,9,     -999.0,9
33RO20161119,        P18,     163,          1,         10,      11109,2,20170113,       0732,   -47.5000,  -103.0001,       4239,  1534.5,   2.7484,  34.5170,2,  34.5192,2,    166.6,2,   166.7,2,    69.9,2,    34.5,2,    0.01,2,   2.408,2,   0.5268,2,   0.2511,2,   0.0914,2,  2251.7,2,  2331.9,2,   7.5456,2,    25.00, -999.00,9,  -999.0,9,  -999.0,   3.8407,2, -999.00,9,    38.9,2,   37.50,2, -999.00,9,    23.3414,2, -999.00,9,  -999.0,9,     -999.0,     -999.0,9,     -999.0,9,     -999.0,     -999.0,9,     -999.0,     -999.0,9,     -999.0,     -999.0,     -999.0,9,     -999.0,9,     -999.0,9,     -999.0,9,     -999.0,9,     -999.0,9,     -999.0,9,     -999.0,9
33RO20161119,        P18,     163,          1,         11,      11110,2,20170113,       0732,   -47.5000,  -103.0001,       4239,  1369.8,   3.0502,  34.4375,2,  34.4485,2,    175.9,2,   175.4,2,    59.2,2,    34.2,2,    0.01,2,   2.382,2,-999.0000,9,-999.0000,9,-999.0000,9,  2237.1,2,  2322.7,6,   7.5532,2,    25.00, -999.00,9,  -999.0,9,  -999.0,-999.0000,9, -999.00,9,    38.0,2,   38.00,2, -999.00,9,     -999.0,9, -999.00,9,  -999.0,9,     -999.0,     -999.0,9,     -999.0,9,     -999.0,     -999.0,9,     -999.0,     -999.0,9,     -999.0,     -999.0,     -999.0,9,     -999.0,9,     -999.0,9,     -999.0,9,     -999.0,9,     -999.0,9,     -999.0,9,     -999.0,9
33RO20161119,        P18,     163,          1,         12,      11111,2,20170113,       0732,   -47.5000,  -103.0001,       4239,  1215.9,   3.4144,  34.3675,2,  34.3757,2,    190.3,2,   190.4,2,    47.0,2,    33.1,2,    0.01,2,   2.288,2,   1.4789,2,   0.7307,2,   0.3168,2,  2220.4,6,  2308.0,2,   7.5738,2,    25.00, -999.00,9,  -999.0,9,  -999.0,   4.3203,2, -999.00,9,    39.5,2,   36.30,2, -999.00,9,    21.1848,2, -999.00,9,  -999.0,9,     -999.0,     -999.0,9,     -999.0,9,     -999.0,     -999.0,9,     -999.0,     -999.0,9,     -999.0,     -999.0,     -999.0,9,     -999.0,9,     -999.0,9,     -999.0,9,     -999.0,9,     -999.0,9,     -999.0,9,     -999.0,9
33RO20161119,        P18,     163,          1,         13,      11112,2,20170113,       0732,   -47.5000,  -103.0001,       4239,  1057.2,   3.9491,  34.3168,2,  34.3156,2,    201.5,2,   202.5,2,    35.9,2,    31.6,2,    0.01,2,   2.191,2,-999.0000,9,-999.0000,9,-999.0000,9,  2201.6,2,  2302.6,2,   7.5961,2,    25.00, -999.00,9,  -999.0,9,  -999.0,-999.0000,9, -999.00,9,    40.1,2,   34.60,2, -999.00,9,     -999.0,9, -999.00,9,  -999.0,9,     -999.0,     -999.0,9,     -999.0,9,     -999.0,     -999.0,9,     -999.0,     -999.0,9,     -999.0,     -999.0,     -999.0,9,     -999.0,9,     -999.0,9,     -999.0,9,     -999.0,9,     -999.0,9,     -999.0,9,     -999.0,9
33RO20161119,        P18,     163,          1,         14,      11113,2,20170113,       0732,   -47.5000,  -103.0001,       4239,   940.1,   4.4666,  34.2881,2,  34.2880,2,    213.1,2,   213.3,2,    27.9,2,    30.0,2,    0.01,2,   2.066,2,   2.5246,2,   1.2919,2,   0.7215,2,  2188.1,2,  2294.8,2,   7.6169,2,    25.00, -999.00,9,  -999.0,9,  -999.0,   3.9069,2, -999.00,9,    39.2,2,   32.70,2, -999.00,9,    18.5411,2, -999.00,9,  -999.0,9,     -999.0,     -999.0,9,     -999.0,9,     -999.0,     -999.0,9,     -999.0,     -999.0,9,     -999.0,     -999.0,     -999.0,9,     -999.0,9,     -999.0,9,     -999.0,9,     -999.0,9,     -999.0,9,     -999.0,9,     -999.0,9
33RO20161119,        P18,     163,          1,         15,      11114,2,20170113,       0732,   -47.5000,  -103.0001,       4239,   804.6,   5.0349,  34.2519,2,  34.2526,2,    231.4,2,   231.1,2,    18.4,2,    27.5,2,    0.01,2,   1.914,2,-999.0000,9,-999.0000,9,-999.0000,9,  2169.4,2,  2282.7,2,   7.6511,2,    25.00, -999.00,9,  -999.0,9,  -999.0,-999.0000,9, -999.00,9,    39.6,2,   30.70,2, -999.00,9,     -999.0,9, -999.00,9,  -999.0,9,     -999.0,     -999.0,9,     -999.0,9,     -999.0,     -999.0,9,     -999.0,     -999.0,9,     -999.0,     -999.0,     -999.0,9,     -999.0,9,     -999.0,9,     -999.0,9,     -999.0,9,     -999.0,9,     -999.0,9,     -999.0,9
33RO20161119,        P18,     163,          1,         16,      11115,2,20170113,       0732,   -47.5000,  -103.0001,       4239,   670.1,   5.4951,  34.2383,2,  34.2373,2,    253.4,2,   253.2,2,    12.1,2,    24.8,2,    0.01,2,   1.735,2,   3.7768,2,   2.0437,2,   1.5610,2,  2152.3,2,  2277.8,2,   7.6824,2,    25.00, -999.00,9,  -999.0,9,  -999.0,   3.9268,2, -999.00,9,    40.5,2,   27.00,2, -999.00,9,    15.1942,2, -999.00,9,  -999.0,9,     -999.0,     -999.0,9,     -999.0,9,     -999.0,     -999.0,9,     -999.0,     -999.0,9,     -999.0,     -999.0,     -999.0,9,     -999.0,9,     -999.0,9,     -999.0,9,     -999.0,9,     -999.0,9,     -999.0,9,     -999.0,9
33RO20161119,        P18,     163,          1,         17,      11116,2,20170113,       0732,   -47.5000,  -103.0001,       4239,   550.7,   5.7883,  34.2406,2,  34.2450,2,    268.7,2,   267.5,2,     8.9,2,    22.5,2,    0.01,2,   1.604,2,-999.0000,9,-999.0000,9,-999.0000,9,  2142.9,2,  2276.8,2,   7.7042,2,    25.00, -999.00,9,  -999.0,9,  -999.0,-999.0000,9, -999.00,9,    40.7,2,   24.50,2, -999.00,9,     -999.0,9, -999.00,9,  -999.0,9,     -999.0,     -999.0,9,     -999.0,9,     -999.0,     -999.0,9,     -999.0,     -999.0,9,     -999.0,     -999.0,     -999.0,9,     -999.0,9,     -999.0,9,     -999.0,9,     -999.0,9,     -999.0,9,     -999.0,9,     -999.0,9
33RO20161119,        P18,     163,          1,         18,      11117,2,20170113,       0732,   -47.5000,  -103.0001,       4239,   434.2,   6.0142,  34.2505,2,  34.2520,2,    273.7,2,   273.0,2,     7.4,2,    21.4,2,    0.01,2,   1.529,2,   4.1130,2,   2.2809,2,   2.1460,2,  2137.5,2,  2274.2,2,   7.7171,2,    25.00, -999.00,9,  -999.0,9,  -999.0,   0.0813,2, -999.00,9,    43.8,2,   24.40,2, -999.00,9,    14.0059,2, -999.00,9,  -999.0,9,     -999.0,     -999.0,9,     -999.0,9,     -999.0,     -999.0,9,     -999.0,     -999.0,9,     -999.0,     -999.0,     -999.0,9,     -999.0,9,     -999.0,9,     -999.0,9,     -999.0,9,     -999.0,9,     -999.0,9,     -999.0,9
33RO20161119,        P18,     163,          1,         19,      11083,2,20170113,       0732,   -47.5000,  -103.0001,       4239,   330.8,   6.1364,  34.2453,2,  34.2450,2,    275.6,2,   275.7,6,     6.6,2,    20.8,2,    0.02,2,   1.511,2,-999.0000,9,-999.0000,9,-999.0000,9,  2135.6,2,  2275.0,2,   7.7181,2,    25.00, -999.00,9,  -999.0,9,  -999.0,-999.0000,9, -999.00,9,    48.7,2,   22.10,2, -999.00,9,     -999.0,9, -999.00,9,  -999.0,9,     -999.0,     -999.0,9,     -999.0,9,     -999.0,     -999.0,9,     -999.0,     -999.0,9,     -999.0,     -999.0,     -999.0,9,     -999.0,9,     -999.0,9,     -999.0,9,     -999.0,9,     -999.0,9,     -999.0,9,     -999.0,9
33RO20161119,        P18,     163,          1,         20,      11118,2,20170113,       0732,   -47.5000,  -103.0001,       4239,   233.4,   6.3065,  34.2298,2,  34.2324,2,    276.2,2,   275.6,2,     5.7,2,    20.2,2,    0.02,2,   1.465,2,   4.1914,2,   2.3429,2,   2.4269,2,  2132.8,2,  2272.8,2,   7.7213,2,    25.00, -999.00,9,  -999.0,9,  -999.0,   0.0625,2, -999.00,9,    46.3,2,   22.00,2, -999.00,9,    15.3582,2, -999.00,9,  -999.0,9,     -999.0,     -999.0,9,     -999.0,9,     -999.0,     -999.0,9,     -999.0,     -999.0,9,     -999.0,     -999.0,     -999.0,9,     -999.0,9,     -999.0,9,     -999.0,9,     -999.0,9,     -999.0,9,     -999.0,9,     -999.0,9
33RO20161119,        P18,     163,          1,         21,      11119,2,20170113,       0732,   -47.5000,  -103.0001,       4239,   155.2,   6.9570,  34.1771,2,  34.1759,2,    286.1,2,   286.0,2,     3.3,2,    16.2,2,    0.33,2,   1.276,2,   4.0019,2,   2.2563,2,   2.6515,2,  2115.0,2,  2269.7,2,   7.7591,2,    25.00, -999.00,9,  -999.0,9,  -999.0,   0.0602,2, -999.00,9,    48.5,2,   19.20,2, -999.00,9,    12.4593,2, -999.00,9,  -999.0,9,     -999.0,     -999.0,9,     -999.0,9,     -999.0,     -999.0,9,     -999.0,     -999.0,9,     -999.0,     -999.0,     -999.0,9,     -999.0,9,     -999.0,9,     -999.0,9,     -999.0,9,     -999.0,9,     -999.0,9,     -999.0,9
33RO20161119,        P18,     163,          1,         22,      11120,2,20170113,       0732,   -47.5000,  -103.0001,       4239,    70.2,   9.3996,  34.1021,2,  34.1061,2,    287.2,2,   285.5,2,     1.3,2,    13.7,2,    0.18,2,   1.131,2,   3.6255,2,   2.0773,2,   2.5359,2,  2092.5,2,  2264.7,2,   7.8072,2,    25.00, -999.00,9,  -999.0,9,  -999.0,   0.0719,2, -999.00,9,    50.3,2,   16.40,2, -999.00,9,    10.7923,2, -999.00,9,  -999.0,9,     -999.0,     -999.0,9,     -999.0,9,     -999.0,     -999.0,9,     -999.0,     -999.0,9,     -999.0,     -999.0,     -999.0,9,     -999.0,9,     -999.0,9,     -999.0,9,     -999.0,9,     -999.0,9,     -999.0,9,     -999.0,9
33RO20161119,        P18,     163,          1,         23,      11121,2,20170113,       0732,   -47.5000,  -103.0001,       4239,    30.3,  10.4102,  34.0916,2,  34.0973,2,    279.4,2,   280.1,2,     1.3,2,    13.6,2,    0.20,2,   1.118,2,-999.0000,9,-999.0000,9,-999.0000,9,  2089.9,2,  2267.7,6,   7.8131,2,    25.00, -999.00,9,  -999.0,9,  -999.0,-999.0000,9, -999.00,9,    55.9,2,   16.00,2, -999.00,9,     -999.0,9, -999.00,9,  -999.0,9,     -999.0,     -999.0,9,     -999.0,9,     -999.0,     -999.0,9,     -999.0,     -999.0,9,     -999.0,     -999.0,     -999.0,9,     -999.0,9,     -999.0,9,     -999.0,9,     -999.0,9,     -999.0,9,     -999.0,9,     -999.0,9
33RO20161119,        P18,     163,          1,         24,      11122,2,20170113,       0732,   -47.5000,  -103.0001,       4239,     4.5,  10.9100,  34.0981,2,  34.0972,2,    276.0,2,   277.4,2,     1.3,2,    13.5,2,    0.25,2,   1.113,2,   3.4625,2,   1.9901,2,   2.4652,2,  2090.9,6,  2271.0,2,   7.8111,2,    25.00, -999.00,9,  -999.0,9,  -999.0,   0.0676,2, -999.00,9,    59.3,2,   17.20,2, -999.00,9,    10.5692,2, -999.00,9,  -999.0,9,     -999.0,     -999.0,9,     -999.0,9,     -999.0,     -999.0,9,     -999.0,     -999.0,9,     -999.0,     -999.0,     -999.0,9,     -999.0,9,     -999.0,9,     -999.0,9,     -999.0,9,     -999.0,9,     -999.0,9,     -999.0,9