BOTTLE,20230606CCHSIOCBG
EXPOCODE,SECT_ID,STNNBR,CASTNO,SAMPNO,BTLNBR,BTLNBR_FLAG_W,DATE,TIME,LATITUDE,LONGITUDE,DEPTH,CTDPRS,CTDTMP,CTDSAL,CTDSAL_FLAG_W,SALNTY,SALNTY_FLAG_W,CTDOXY,CTDOXY_FLAG_W,OXYGEN,OXYGEN_FLAG_W,SILCAT,SILCAT_FLAG_W,NITRAT,NITRAT_FLAG_W,NITRIT,NITRIT_FLAG_W,PHSPHT,PHSPHT_FLAG_W,CFC-11,CFC-11_FLAG_W,CFC-12,CFC-12_FLAG_W,SF6,SF6_FLAG_W,TCARBN,TCARBN_FLAG_W,ALKALI,ALKALI_FLAG_W,PH_SWS,PH_SWS_FLAG_W,PH_TMP,DELC13,DELC13_FLAG_W,DELC14,DELC14_FLAG_W,C14ERR,CCL4,CCL4_FLAG_W,POC,POC_FLAG_W,DOC,DOC_FLAG_W,TDN,TDN_FLAG_W,PON,PON_FLAG_W,N2O,N2O_FLAG_W,D15N_NO3,D15N_NO3_FLAG_W,14C-DOC,14C-DOC_FLAG_W,14C-DOCERR,13C-DOC,13C-DOC_FLAG_W,N2/ARGON_UNSTRIPPED,N2/ARGON_UNSTRIPPED_FLAG_W,N2/ARGON_UNSTRIPPED_ERROR,N2/ARGON,N2/ARGON_FLAG_W,N2/ARGON_ERROR,D15N_N2,D15N_N2_FLAG_W,D15N_N2_ERROR,D15N_NO3_ERROR,D15N_NO2+NO3,D15N_NO2+NO3_FLAG_W,D18O_NO2+NO3,D18O_NO2+NO3_FLAG_W,D18O_NO3,D18O_NO3_FLAG_W,TDP,TDP_FLAG_W,N2O_ALT_1,N2O_ALT_1_FLAG_W,D15N_N2O,D15N_N2O_FLAG_W,D18O_N2O,D18O_N2O_FLAG_W,D15N_ALPHA_N2O,D15N_ALPHA_N2O_FLAG_W
,,,,,,,,,,,METERS,DBAR,ITS-90,PSS-78,,PSS-78,,UMOL/KG,,UMOL/KG,,UMOL/KG,,UMOL/KG,,UMOL/KG,,UMOL/KG,,PMOL/KG,,PMOL/KG,,FMOL/KG,,UMOL/KG,,UMOL/KG,,,,DEG C,/MILLE,,/MILLE,,/MILLE,PMOL/KG,,UG/KG,,UMOL/KG,,UMOL/KG,,UG/KG,,NMOL/KG,,/MILLE,,/MILLE,,/MILLE,/MILLE,,,,,,,,/MILLE,,/MILLE,/MILLE,/MILLE,,/MILLE,,/MILLE,,UMOL/KG,,NMOL/L,,/MILLE,,/MILLE,,/MILLE,
33RO20161119,        P18,      24,          1,          1,      11010,2,20161130,       0352,    12.5001,  -109.9996,       3751,  3813.2,   1.5792,  34.6822,2,  34.6815,2,    136.6,2,   136.1,2,   153.8,6,    37.6,6,    0.02,6,   2.567,6,   0.0055,2,   0.0042,2,   0.0443,2,  2341.2,6,  2426.8,2,   7.5487,2,    25.00, -999.00,9,  -999.0,9,  -999.0,   0.0132,2, -999.00,9,  -999.0,9, -999.00,9, -999.00,9,    21.0353,2, -999.00,9,  -999.0,9,     -999.0,     -999.0,9,      37.84,2,     -999.0,      37.92,2,     -999.0,     -999.0,9,     -999.0,     -999.0,     -999.0,9,     -999.0,9,     -999.0,9,     -999.0,9,17.75587121,2,       8.83,2,      56.14,2,      24.19,2
33RO20161119,        P18,      24,          1,          2,      11101,2,20161130,       0352,    12.5001,  -109.9996,       3751,  3399.9,   1.6403,  34.6779,2,  34.6777,2,    127.7,2,   127.3,2,   154.4,6,    38.0,6,    0.03,6,   2.614,6,   0.0055,2,   0.0033,2,   0.0000,2,  2349.3,2,  2428.4,2,   7.5359,2,    25.00, -999.00,9,  -999.0,9,  -999.0,   0.0144,4, -999.00,9,  -999.0,9, -999.00,9, -999.00,9,    21.7273,2, -999.00,9,  -999.0,9,     -999.0,     -999.0,9,      37.95,2,       0.18,      38.14,2,       0.19,     -999.0,9,     -999.0,     -999.0,     -999.0,9,     -999.0,9,     -999.0,9,     -999.0,9,18.70357472,2,       8.72,2,      57.22,2,      23.83,2
33RO20161119,        P18,      24,          1,          3,      11102,2,20161130,       0352,    12.5001,  -109.9996,       3751,  3200.6,   1.6673,  34.6759,2,  34.6764,2,    124.2,2,   123.8,2,   154.7,6,    38.3,6,    0.02,6,   2.628,6,   0.0190,4,   0.0316,4,   0.5784,4,  2349.5,2,  2429.7,6,   7.5314,2,    25.00, -999.00,9,  -999.0,9,  -999.0,   0.0065,2, -999.00,9,  -999.0,9, -999.00,9, -999.00,9,    22.3866,4, -999.00,9,  -999.0,9,     -999.0,     -999.0,9,      37.98,2,     -999.0,      38.11,2,     -999.0,       0.99,2,       0.01,     -999.0,     -999.0,9,     -999.0,9,     -999.0,9,     -999.0,9,19.18848924,2,       8.94,2,      54.88,2,      24.41,2
33RO20161119,        P18,      24,          1,          4,      11103,2,20161130,       0352,    12.5001,  -109.9996,       3751,  2924.6,   1.7376,  34.6722,2,  34.6701,2,    117.7,2,   117.3,2,   154.4,6,    38.6,6,    0.03,6,   2.661,6,-999.0000,9,-999.0000,9,-999.0000,9,  2354.8,2,  2431.7,2,   7.5226,2,    25.00, -999.00,9,  -999.0,9,  -999.0,-999.0000,9, -999.00,9,  -999.0,9, -999.00,9, -999.00,9,     -999.0,9, -999.00,9,  -999.0,9,     -999.0,     -999.0,9,      38.11,2,       0.02,      38.26,2,       0.03,     -999.0,9,     -999.0,     -999.0,     -999.0,9,     -999.0,9,     -999.0,9,     -999.0,9, 20.0111313,2,       9.26,2,      56.27,2,      24.77,2
33RO20161119,        P18,      24,          1,          5,      11104,2,20161130,       0352,    12.5001,  -109.9996,       3751,  2625.3,   1.8279,  34.6663,2,  34.6632,2,    109.8,2,  -999.0,9,   153.3,2,    38.9,2,    0.02,2,   2.715,2,-999.0000,9,-999.0000,9,-999.0000,9,  -999.0,9,  -999.0,9,-999.0000,9,  -999.00, -999.00,9,  -999.0,9,  -999.0,-999.0000,9, -999.00,9,  -999.0,9, -999.00,9, -999.00,9,     -999.0,9, -999.00,9,  -999.0,9,     -999.0,     -999.0,9,      38.07,2,     -999.0,       38.2,2,     -999.0,        1.1,2,       0.07,     -999.0,     -999.0,9,     -999.0,9,     -999.0,9,     -999.0,9, 27.0779554,2,      10.36,2,      56.47,2,      25.32,2
33RO20161119,        P18,      24,          1,          6,      11105,2,20161130,       0352,    12.5001,  -109.9996,       3751,  2340.9,   1.9359,  34.6611,2,  34.6593,2,    102.8,2,   102.7,2,   152.1,2,    39.5,2,    0.02,2,   2.765,2,   0.0032,2,   0.0021,2,   0.0405,2,  2361.2,2,  2425.7,2,   7.4607,4,    25.00, -999.00,9,  -999.0,9,  -999.0,        0,2, -999.00,9,  -999.0,9, -999.00,9, -999.00,9,    24.5151,2, -999.00,9,  -999.0,9,     -999.0,     -999.0,9,     -999.0,9,     -999.0,     -999.0,9,     -999.0,     -999.0,9,     -999.0,     -999.0,     -999.0,9,     -999.0,9,     -999.0,9,     -999.0,9,23.90966937,2,      10.28,2,      56.08,2,      24.81,2
33RO20161119,        P18,      24,          1,          7,      11106,2,20161130,       0352,    12.5001,  -109.9996,       3751,  2039.3,   2.1536,  34.6481,2,  34.6467,2,     91.2,2,    91.2,2,   148.1,2,    40.4,2,    0.03,2,   2.853,2,-999.0000,9,-999.0000,9,-999.0000,9,  2364.0,2,  2419.5,2,   7.4684,2,    25.00, -999.00,9,  -999.0,9,  -999.0,-999.0000,9, -999.00,9,  -999.0,9, -999.00,9, -999.00,9,     -999.0,9, -999.00,9,  -999.0,9,     -999.0,     -999.0,9,      37.98,2,     -999.0,      38.12,2,     -999.0,       1.08,2,       0.02,     -999.0,     -999.0,9,     -999.0,9,     -999.0,9,     -999.0,9,23.94994608,2,       9.43,2,      57.41,2,       22.7,2
33RO20161119,        P18,      24,          1,          8,      11107,2,20161130,       0352,    12.5001,  -109.9996,       3751,  1751.0,   2.5948,  34.6258,2,  34.6244,2,     72.1,2,    72.6,2,   138.9,2,    41.9,2,    0.02,2,   2.971,2,-999.0000,9,-999.0000,9,-999.0000,9,  2364.0,2,  2407.5,2,   7.4336,2,    25.00, -999.00,9,  -999.0,9,  -999.0,-999.0000,9, -999.00,9,  -999.0,9, -999.00,9, -999.00,9,     -999.0,9, -999.00,9,  -999.0,9,     -999.0,     -999.0,9,      38.03,2,       0.03,      38.17,2,       0.03,     -999.0,9,     -999.0,     -999.0,     -999.0,9,     -999.0,9,     -999.0,9,     -999.0,9,28.68046397,2,       9.35,2,      57.63,2,      22.45,2
33RO20161119,        P18,      24,          1,          9,      11108,2,20161130,       0352,    12.5001,  -109.9996,       3751,  1460.7,   3.1553,  34.6015,2,  34.6031,2,     54.8,2,    55.0,2,   126.4,2,    43.4,2,    0.02,2,   3.094,2,   0.0024,2,   0.0019,2,   0.0000,2,  2360.9,2,  2393.6,2,   7.4009,2,    25.00, -999.00,9,  -999.0,9,  -999.0,    0.016,2, -999.00,9,  -999.0,9, -999.00,9, -999.00,9,    35.4981,2, -999.00,9,  -999.0,9,     -999.0,     -999.0,9,      38.03,2,     -999.0,      38.17,2,     -999.0,       1.09,2,       0.02,     -999.0,     -999.0,9,     -999.0,9,     -999.0,9,     -999.0,9,29.65829815,2,       8.96,2,      57.12,2,       21.9,2
33RO20161119,        P18,      24,          1,         10,      11109,2,20161130,       0352,    12.5001,  -109.9996,       3751,  1270.2,   3.6389,  34.5850,2,  34.5837,2,     37.6,2,    37.1,2,   116.3,2,    44.6,2,    0.02,2,   3.208,2,-999.0000,9,-999.0000,9,-999.0000,9,  2359.8,2,  2384.2,2,   7.3620,2,    25.00, -999.00,9,  -999.0,9,  -999.0,-999.0000,9, -999.00,9,  -999.0,9, -999.00,9, -999.00,9,     -999.0,9, -999.00,9,  -999.0,9,     -999.0,     -999.0,9,      38.01,2,     -999.0,      38.16,2,     -999.0,     -999.0,9,     -999.0,     -999.0,     -999.0,9,     -999.0,9,     -999.0,9,     -999.0,9,48.42353628,2,        9.1,2,      57.86,2,      18.22,2
33RO20161119,        P18,      24,          1,         11,      11110,2,20161130,       0352,    12.5001,  -109.9996,       3751,  1139.8,   3.9860,  34.5740,2,  34.5729,2,     27.7,2,    27.8,2,   109.2,2,    45.1,2,    0.02,2,   3.276,2,-999.0000,9,-999.0000,9,-999.0000,9,  2358.1,2,  2364.4,4,   7.3462,2,    25.00, -999.00,9,  -999.0,9,  -999.0,-999.0000,9, -999.00,9,  -999.0,9, -999.00,9, -999.00,9,     -999.0,9, -999.00,9,  -999.0,9,     -999.0,     -999.0,9,      37.93,2,     -999.0,      38.07,2,     -999.0,       0.99,2,       0.01,     -999.0,     -999.0,9,     -999.0,9,     -999.0,9,     -999.0,9,46.59015272,2,       8.69,2,       57.8,2,      17.82,2
33RO20161119,        P18,      24,          1,         12,      11111,2,20161130,       0352,    12.5001,  -109.9996,       3751,  1010.0,   4.4869,  34.5617,2,  34.5601,2,     16.3,2,    16.5,6,    99.7,2,    45.6,2,    0.02,2,   3.341,2,-999.0000,9,-999.0000,9,-999.0000,9,  2354.2,6,  2359.8,2,   7.3237,2,    25.00, -999.00,9,  -999.0,9,  -999.0,-999.0000,9, -999.00,9,  -999.0,9, -999.00,9, -999.00,9,     -999.0,9, -999.00,9,  -999.0,9,     -999.0,     -999.0,9,       38.0,2,       0.07,      38.14,2,       0.09,     -999.0,9,     -999.0,     -999.0,     -999.0,9,     -999.0,9,     -999.0,9,     -999.0,9,59.24023218,2,       8.23,2,      58.14,2,      18.22,2
33RO20161119,        P18,      24,          1,         13,      11112,2,20161130,       0352,    12.5001,  -109.9996,       3751,   890.7,   5.0036,  34.5540,2,  34.5525,2,      7.3,2,     7.4,2,    90.4,2,    45.6,2,    0.03,2,   3.362,2,   0.0036,6,   0.0021,6,   0.0404,6,  2347.4,2,  2358.0,6,   7.3103,2,    25.00, -999.00,9,  -999.0,9,  -999.0,   0.0082,2, -999.00,9,  -999.0,9, -999.00,9, -999.00,9,    55.3732,2, -999.00,9,  -999.0,9,     -999.0,     -999.0,9,      37.97,2,     -999.0,       38.1,2,     -999.0,       0.88,2,     -999.0,     -999.0,     -999.0,9,     -999.0,9,     -999.0,9,     -999.0,9,66.08695784,2,       7.55,2,      58.65,2,      16.45,2
33RO20161119,        P18,      24,          1,         14,      11113,2,20161130,       0352,    12.5001,  -109.9996,       3751,   774.9,   5.5842,  34.5480,2,  34.5619,4,      3.2,2,     3.1,2,    82.6,2,    44.2,2,    0.02,2,   3.318,2,-999.0000,9,-999.0000,9,-999.0000,9,  2339.3,2,  2347.8,2,   7.3097,2,    25.00, -999.00,9,  -999.0,9,  -999.0,-999.0000,9, -999.00,9,  -999.0,9, -999.00,9, -999.00,9,     -999.0,9, -999.00,9,  -999.0,9,     -999.0,     -999.0,9,      38.11,2,     -999.0,      38.22,2,        0.2,     -999.0,9,     -999.0,     -999.0,     -999.0,9,     -999.0,9,     -999.0,9,     -999.0,9,70.46036488,2,       7.15,2,      60.96,2,      14.64,2
33RO20161119,        P18,      24,          1,         15,      11114,2,20161130,       0352,    12.5001,  -109.9996,       3751,   659.6,   6.4189,  34.5477,2,  34.5464,2,      2.6,2,     2.7,2,    71.0,2,    40.9,2,    0.04,2,   3.231,2,   0.0066,2,   0.0050,2,   0.0000,2,  2324.6,2,  2341.0,2,   7.3185,2,    25.00, -999.00,9,  -999.0,9,  -999.0,   0.0109,2, -999.00,9,  -999.0,9, -999.00,9, -999.00,9,    42.1159,2, -999.00,9,  -999.0,9,     -999.0,     -999.0,9,      38.13,2,     -999.0,      38.28,2,     -999.0,        0.8,2,       0.01,     -999.0,     -999.0,9,     -999.0,9,     -999.0,9,     -999.0,9,68.32053979,2,       7.86,2,       66.8,2,      17.42,2
33RO20161119,        P18,      24,          1,         16,      11115,2,20161130,       0352,    12.5001,  -109.9996,       3751,   546.5,   7.4390,  34.5697,2,  34.5688,2,      2.3,2,     1.6,2,    59.7,2,    36.9,2,    0.03,2,   3.135,2,-999.0000,9,-999.0000,9,-999.0000,9,  2312.3,2,  2327.6,2,   7.3312,2,    25.00, -999.00,9,  -999.0,9,  -999.0,-999.0000,9, -999.00,9,  -999.0,9, -999.00,9, -999.00,9,     -999.0,9, -999.00,9,  -999.0,9,     -999.0,     -999.0,9,      38.09,2,        0.0,      38.23,2,        0.0,     -999.0,9,     -999.0,     -999.0,     -999.0,9,     -999.0,9,     -999.0,9,     -999.0,9,31.39420434,2,      11.41,2,      74.63,2,      28.65,2
33RO20161119,        P18,      24,          1,         17,      11116,2,20161130,       0352,    12.5001,  -109.9996,       3751,   444.9,   8.5292,  34.5909,2,  34.5892,2,      2.8,2,     2.5,2,    49.2,2,    33.5,2,    0.04,2,   2.956,2,   0.0710,2,   0.0423,2,   0.0504,2,  2298.3,2,  2315.5,2,   7.3476,2,    25.00, -999.00,9,  -999.0,9,  -999.0,   0.0276,2, -999.00,9,  -999.0,9, -999.00,9, -999.00,9,    26.9142,2, -999.00,9,  -999.0,9,     -999.0,     -999.0,9,      38.23,2,     -999.0,      38.23,2,     -999.0,       0.62,2,       0.03,     -999.0,     -999.0,9,     -999.0,9,     -999.0,9,     -999.0,9,31.89139965,2,      10.03,2,      66.63,2,       24.7,2
33RO20161119,        P18,      24,          1,         18,      11117,2,20161130,       0352,    12.5001,  -109.9996,       3751,   344.9,   9.6136,  34.6408,2,  34.6430,2,      2.2,2,     1.9,6,    40.9,2,    30.5,2,    0.02,2,   2.799,2,-999.0000,9,-999.0000,9,-999.0000,9,  2289.9,2,  2310.2,2,   7.3575,2,    25.00, -999.00,9,  -999.0,9,  -999.0,-999.0000,9, -999.00,9,  -999.0,9, -999.00,9, -999.00,9,     -999.0,9, -999.00,9,  -999.0,9,     -999.0,     -999.0,9,      38.27,2,       0.04,      38.41,2,       0.05,     -999.0,9,     -999.0,     -999.0,     -999.0,9,     -999.0,9,     -999.0,9,     -999.0,9, 18.8870738,2,      10.29,2,      70.05,2,      28.04,2
33RO20161119,        P18,      24,          1,         19,      11083,2,20161130,       0352,    12.5001,  -109.9996,       3751,   259.6,  10.7974,  34.7044,2,  34.7041,2,      2.2,2,     3.4,2,    33.5,2,    27.9,2,    1.10,2,   2.638,2,   0.4582,2,   0.2644,2,   0.1008,2,  2277.3,2,  2312.5,2,   7.3760,2,    25.00, -999.00,9,  -999.0,9,  -999.0,   0.0253,2, -999.00,9,  -999.0,9, -999.00,9, -999.00,9,     10.639,2, -999.00,9,  -999.0,9,     -999.0,     -999.0,9,      38.18,2,     -999.0,      38.29,2,     -999.0,        0.4,2,       0.02,     -999.0,     -999.0,9,     -999.0,9,     -999.0,9,     -999.0,9,9.518872654,2,       13.2,2,       89.9,2,       37.7,2
33RO20161119,        P18,      24,          1,         20,      11118,2,20161130,       0352,    12.5001,  -109.9996,       3751,   184.8,  11.6503,  34.7591,2,  34.7601,2,      2.3,2,     1.7,2,    30.1,2,    28.0,2,    0.89,2,   2.559,2,-999.0000,9,-999.0000,9,-999.0000,9,  2268.4,2,  2301.6,2,   7.3962,2,    25.00, -999.00,9,  -999.0,9,  -999.0,-999.0000,9, -999.00,9,  -999.0,9, -999.00,9, -999.00,9,     -999.0,9, -999.00,9,  -999.0,9,     -999.0,     -999.0,9,       38.2,2,       0.01,      38.31,2,       0.01,     -999.0,9,     -999.0,     -999.0,     -999.0,9,     -999.0,9,     -999.0,9,     -999.0,9,13.68341688,2,      13.83,2,      85.32,2,      37.07,2
33RO20161119,        P18,      24,          1,         21,      11119,2,20161130,       0352,    12.5001,  -109.9996,       3751,   120.3,  13.0135,  34.7740,2,  34.7734,2,      2.8,2,     2.4,2,    26.8,2,    23.9,2,    1.80,2,   2.532,2,   1.0331,2,   0.6132,2,   0.3597,2,  2262.7,2,  2301.6,2,   7.4197,2,    25.00, -999.00,9,  -999.0,9,  -999.0,   0.4449,2, -999.00,9,  -999.0,9, -999.00,9, -999.00,9,    25.6846,2, -999.00,9,  -999.0,9,     -999.0,     -999.0,9,       38.3,2,     -999.0,      38.42,2,     -999.0,       0.39,2,        0.0,     -999.0,     -999.0,9,     -999.0,9,     -999.0,9,     -999.0,9,     -999.0,9,      10.39,2,      84.15,2,       31.6,2
33RO20161119,        P18,      24,          1,         22,      11120,2,20161130,       0352,    12.5001,  -109.9996,       3751,    59.9,  20.4388,  34.4907,2,  34.5022,2,     75.0,2,    60.6,2,    10.3,2,    15.9,2,    0.66,2,   1.684,2,   1.6512,2,   1.0047,2,   1.0453,2,  2162.2,2,  2283.0,2,   7.6559,2,    25.00, -999.00,9,  -999.0,9,  -999.0,    1.657,2, -999.00,9,  -999.0,9, -999.00,9, -999.00,9,    52.8715,2, -999.00,9,  -999.0,9,     -999.0,     -999.0,9,      38.25,2,     -999.0,      38.29,2,     -999.0,     -999.0,9,     -999.0,     -999.0,     -999.0,9,     -999.0,9,     -999.0,9,     -999.0,9,     -999.0,9,       6.91,2,      57.46,2,      15.75,2
33RO20161119,        P18,      24,          1,         23,      11121,2,20161130,       0352,    12.5001,  -109.9996,       3751,    25.0,  28.5814,  33.2051,2,  33.2031,2,    198.2,2,   197.5,2,     0.8,2,     0.0,2,    0.02,2,   0.185,2,   1.4762,2,   0.9354,2,   1.3278,2,  1881.0,2,  2193.4,6,   8.0962,6,    25.00, -999.00,9,  -999.0,9,  -999.0,     1.49,2, -999.00,9,  -999.0,9, -999.00,9, -999.00,9,     6.5756,2, -999.00,9,  -999.0,9,     -999.0,     -999.0,9,      38.34,2,     -999.0,      38.32,2,     -999.0,       0.47,2,       0.04,     -999.0,     -999.0,9,     -999.0,9,     -999.0,9,     -999.0,9,4.816435127,2,       9.19,2,      52.93,2,      19.54,2
33RO20161119,        P18,      24,          1,         24,      11122,2,20161130,       0352,    12.5001,  -109.9996,       3751,     4.4,  28.5918,  33.1909,2,  33.1920,2,    197.8,2,   197.8,2,     0.7,2,     0.0,2,    0.03,2,   0.167,2,   1.4621,2,   0.9311,2,   1.3490,2,  1879.9,6,  2188.9,2,   8.0964,2,    25.00, -999.00,9,  -999.0,9,  -999.0,        0,2, -999.00,9,  -999.0,9, -999.00,9, -999.00,9,     6.2939,2, -999.00,9,  -999.0,9,     -999.0,     -999.0,9,      38.39,2,     -999.0,      38.42,2,     -999.0,     -999.0,9,     -999.0,     -999.0,     -999.0,9,     -999.0,9,     -999.0,9,     -999.0,9,     -999.0,9,       8.73,2,      54.76,2,     -999.0,9