BOTTLE,20230606CCHSIOCBG
EXPOCODE,SECT_ID,STNNBR,CASTNO,SAMPNO,BTLNBR,BTLNBR_FLAG_W,DATE,TIME,LATITUDE,LONGITUDE,DEPTH,CTDPRS,CTDTMP,CTDSAL,CTDSAL_FLAG_W,SALNTY,SALNTY_FLAG_W,CTDOXY,CTDOXY_FLAG_W,OXYGEN,OXYGEN_FLAG_W,SILCAT,SILCAT_FLAG_W,NITRAT,NITRAT_FLAG_W,NITRIT,NITRIT_FLAG_W,PHSPHT,PHSPHT_FLAG_W,CFC-11,CFC-11_FLAG_W,CFC-12,CFC-12_FLAG_W,SF6,SF6_FLAG_W,TCARBN,TCARBN_FLAG_W,ALKALI,ALKALI_FLAG_W,PH_SWS,PH_SWS_FLAG_W,PH_TMP,DELC13,DELC13_FLAG_W,DELC14,DELC14_FLAG_W,C14ERR,CCL4,CCL4_FLAG_W,POC,POC_FLAG_W,DOC,DOC_FLAG_W,TDN,TDN_FLAG_W,PON,PON_FLAG_W,N2O,N2O_FLAG_W,D15N_NO3,D15N_NO3_FLAG_W,14C-DOC,14C-DOC_FLAG_W,14C-DOCERR,13C-DOC,13C-DOC_FLAG_W,N2/ARGON_UNSTRIPPED,N2/ARGON_UNSTRIPPED_FLAG_W,N2/ARGON_UNSTRIPPED_ERROR,N2/ARGON,N2/ARGON_FLAG_W,N2/ARGON_ERROR,D15N_N2,D15N_N2_FLAG_W,D15N_N2_ERROR,D15N_NO3_ERROR,D15N_NO2+NO3,D15N_NO2+NO3_FLAG_W,D18O_NO2+NO3,D18O_NO2+NO3_FLAG_W,D18O_NO3,D18O_NO3_FLAG_W,TDP,TDP_FLAG_W,N2O_ALT_1,N2O_ALT_1_FLAG_W,D15N_N2O,D15N_N2O_FLAG_W,D18O_N2O,D18O_N2O_FLAG_W,D15N_ALPHA_N2O,D15N_ALPHA_N2O_FLAG_W
,,,,,,,,,,,METERS,DBAR,ITS-90,PSS-78,,PSS-78,,UMOL/KG,,UMOL/KG,,UMOL/KG,,UMOL/KG,,UMOL/KG,,UMOL/KG,,PMOL/KG,,PMOL/KG,,FMOL/KG,,UMOL/KG,,UMOL/KG,,,,DEG C,/MILLE,,/MILLE,,/MILLE,PMOL/KG,,UG/KG,,UMOL/KG,,UMOL/KG,,UG/KG,,NMOL/KG,,/MILLE,,/MILLE,,/MILLE,/MILLE,,,,,,,,/MILLE,,/MILLE,/MILLE,/MILLE,,/MILLE,,/MILLE,,UMOL/KG,,NMOL/L,,/MILLE,,/MILLE,,/MILLE,
33RO20161119,        P18,     175,          1,          1,      11010,2,20170116,       1918,   -53.4998,  -103.0004,       4270,  4344.9,   0.8086,  34.7089,2,  34.7076,2,    235.2,2,   204.6,2,   130.2,2,    32.8,2,    0.01,2,   2.238,2,   0.1163,2,   0.0573,2,   0.0351,2,  2269.0,6,  2375.1,2,   7.6002,6,    25.00, -999.00,9,  -999.0,9,  -999.0,   0.5683,2, -999.00,9,    41.5,2,   34.00,2, -999.00,9,    18.4948,2, -999.00,9,  -999.0,9,     -999.0,     -999.0,9,     -999.0,9,     -999.0,     -999.0,9,     -999.0,     -999.0,9,     -999.0,     -999.0,     -999.0,9,     -999.0,9,     -999.0,9,     -999.0,9,     -999.0,9,     -999.0,9,     -999.0,9,     -999.0,9
33RO20161119,        P18,     175,          1,          2,      11101,2,20170116,       1918,   -53.4998,  -103.0004,       4270,  4000.8,   0.8732,  34.7109,2,  34.7117,2,    223.6,2,   203.0,2,   126.9,2,    32.7,2,    0.01,2,   2.222,2,-999.0000,9,-999.0000,9,-999.0000,9,  2266.5,2,  2370.5,6,   7.5990,2,    25.00, -999.00,9,  -999.0,9,  -999.0,-999.0000,9, -999.00,9,    41.9,2,   35.30,2, -999.00,9,     -999.0,9, -999.00,9,  -999.0,9,     -999.0,     -999.0,9,     -999.0,9,     -999.0,     -999.0,9,     -999.0,     -999.0,9,     -999.0,     -999.0,     -999.0,9,     -999.0,9,     -999.0,9,     -999.0,9,     -999.0,9,     -999.0,9,     -999.0,9,     -999.0,9
33RO20161119,        P18,     175,          1,          3,      11102,2,20170116,       1918,   -53.4998,  -103.0004,       4270,  3654.5,   1.1694,  34.7174,2,  34.7187,2,    212.5,2,   198.2,2,   117.1,6,    32.4,6,    0.01,6,   2.212,6,   0.1071,2,   0.0522,2,   0.0299,2,  2262.6,2,  2365.9,2,   7.5969,2,    25.00, -999.00,9,  -999.0,9,  -999.0,   1.4371,2, -999.00,9,    41.7,2,   36.00,2, -999.00,9,     18.976,2, -999.00,9,  -999.0,9,     -999.0,     -999.0,9,     -999.0,9,     -999.0,     -999.0,9,     -999.0,     -999.0,9,     -999.0,     -999.0,     -999.0,9,     -999.0,9,     -999.0,9,     -999.0,9,     -999.0,9,     -999.0,9,     -999.0,9,     -999.0,9
33RO20161119,        P18,     175,          1,          4,      11103,2,20170116,       1918,   -53.4998,  -103.0004,       4270,  3269.8,   1.4265,  34.7216,2,  34.7205,2,    200.8,2,   192.2,2,   110.5,6,    32.4,6,    0.01,6,   2.207,6,-999.0000,9,-999.0000,9,-999.0000,9,  2261.6,2,  2370.2,2,   7.5984,2,    25.00, -999.00,9,  -999.0,9,  -999.0,-999.0000,9, -999.00,9,    40.2,2,   34.20,2, -999.00,9,     -999.0,9, -999.00,9,  -999.0,9,     -999.0,     -999.0,9,     -999.0,9,     -999.0,     -999.0,9,     -999.0,     -999.0,9,     -999.0,     -999.0,     -999.0,9,     -999.0,9,     -999.0,9,     -999.0,9,     -999.0,9,     -999.0,9,     -999.0,9,     -999.0,9
33RO20161119,        P18,     175,          1,          5,      11104,2,20170116,       1918,   -53.4998,  -103.0004,       4270,  3004.6,   1.5614,  34.7189,2,  34.7178,2,    193.2,2,   186.9,2,   107.8,6,    32.6,6,    0.01,6,   2.224,6,   0.0537,6,   0.0265,6,   0.0384,6,  2267.7,2,  2373.3,2,   7.5916,2,    25.00, -999.00,9,  -999.0,9,  -999.0,   2.2204,2, -999.00,9,    39.2,2,   34.80,2, -999.00,9,    19.6653,2, -999.00,9,  -999.0,9,     -999.0,     -999.0,9,     -999.0,9,     -999.0,     -999.0,9,     -999.0,     -999.0,9,     -999.0,     -999.0,     -999.0,9,     -999.0,9,     -999.0,9,     -999.0,9,     -999.0,9,     -999.0,9,     -999.0,9,     -999.0,9
33RO20161119,        P18,     175,          1,          6,      11105,2,20170116,       1918,   -53.4998,  -103.0004,       4270,  2685.0,   1.7474,  34.7167,2,  34.7248,4,    184.3,2,   181.7,2,   102.6,6,    32.7,6,    0.01,6,   2.234,6,-999.0000,9,-999.0000,9,-999.0000,9,  2266.1,2,  2366.1,2,   7.5871,2,    25.00, -999.00,9,  -999.0,9,  -999.0,-999.0000,9, -999.00,9,    41.4,2,   35.40,2, -999.00,9,     -999.0,9, -999.00,9,  -999.0,9,     -999.0,     -999.0,9,     -999.0,9,     -999.0,     -999.0,9,     -999.0,     -999.0,9,     -999.0,     -999.0,     -999.0,9,     -999.0,9,     -999.0,9,     -999.0,9,     -999.0,9,     -999.0,9,     -999.0,9,     -999.0,9
33RO20161119,        P18,     175,          1,          7,      11106,2,20170116,       1918,   -53.4998,  -103.0004,       4270,  2365.5,   2.0155,  34.7094,2,  34.7080,2,    177.9,2,   178.0,2,    92.9,2,    32.6,2,    0.01,2,   2.238,2,   0.1224,2,   0.0590,2,   0.0429,2,  2261.9,2,  2356.6,2,   7.5823,2,    25.00, -999.00,9,  -999.0,9,  -999.0,   2.7084,2, -999.00,9,    39.6,2,   34.70,2, -999.00,9,    20.2754,2, -999.00,9,  -999.0,9,     -999.0,     -999.0,9,     -999.0,9,     -999.0,     -999.0,9,     -999.0,     -999.0,9,     -999.0,     -999.0,     -999.0,9,     -999.0,9,     -999.0,9,     -999.0,9,     -999.0,9,     -999.0,9,     -999.0,9,     -999.0,9
33RO20161119,        P18,     175,          1,          8,      11107,2,20170116,       1918,   -53.4998,  -103.0004,       4270,  2044.9,   2.2489,  34.6779,2,  34.6769,2,    173.2,2,   173.3,2,    85.7,2,    33.1,2,    0.01,2,   2.260,2,-999.0000,9,-999.0000,9,-999.0000,9,  2259.4,2,  2350.7,2,   7.5700,6,    25.00, -999.00,9,  -999.0,9,  -999.0,-999.0000,9, -999.00,9,    41.3,2,   36.50,2, -999.00,9,     -999.0,9, -999.00,9,  -999.0,9,     -999.0,     -999.0,9,     -999.0,9,     -999.0,     -999.0,9,     -999.0,     -999.0,9,     -999.0,     -999.0,     -999.0,9,     -999.0,9,     -999.0,9,     -999.0,9,     -999.0,9,     -999.0,9,     -999.0,9,     -999.0,9
33RO20161119,        P18,     175,          1,          9,      11108,2,20170116,       1918,   -53.4998,  -103.0004,       4270,  1685.7,   2.5026,  34.5953,2,  34.5949,2,    169.3,2,   169.6,2,    77.1,2,    34.2,2,    0.01,2,   2.334,2,   0.4481,2,   0.2196,2,   0.1147,2,  2257.0,6,  2345.0,2,   7.5535,2,    25.00, -999.00,9,  -999.0,9,  -999.0,   3.5242,2, -999.00,9,    41.2,2,   36.50,2, -999.00,9,    22.1922,2, -999.00,9,  -999.0,9,     -999.0,     -999.0,9,     -999.0,9,     -999.0,     -999.0,9,     -999.0,     -999.0,9,     -999.0,     -999.0,     -999.0,9,     -999.0,9,     -999.0,9,     -999.0,9,     -999.0,9,     -999.0,9,     -999.0,9,     -999.0,9
33RO20161119,        P18,     175,          1,         10,      11109,2,20170116,       1918,   -53.4998,  -103.0004,       4270,  1469.0,   2.7128,  34.5094,2,  34.5087,2,    173.6,2,   173.6,2,    68.1,2,    34.5,2,    0.01,2,   2.360,2,-999.0000,9,-999.0000,9,-999.0000,9,  2246.4,2,  2330.7,6,   7.5487,2,    25.00, -999.00,9,  -999.0,9,  -999.0,-999.0000,9, -999.00,9,    39.0,2,   37.70,2, -999.00,9,     -999.0,9, -999.00,9,  -999.0,9,     -999.0,     -999.0,9,     -999.0,9,     -999.0,     -999.0,9,     -999.0,     -999.0,9,     -999.0,     -999.0,     -999.0,9,     -999.0,9,     -999.0,9,     -999.0,9,     -999.0,9,     -999.0,9,     -999.0,9,     -999.0,9
33RO20161119,        P18,     175,          1,         11,      11110,2,20170116,       1918,   -53.4998,  -103.0004,       4270,  1315.0,   2.9076,  34.4438,2,  34.4433,2,    181.2,2,   180.9,2,    60.1,2,    34.3,2,    0.01,2,   2.335,2,   1.2104,2,   0.5974,2,   0.2897,2,  2236.0,2,  2322.0,2,   7.5532,2,    25.00, -999.00,9,  -999.0,9,  -999.0,   3.7661,2, -999.00,9,    41.0,2,   36.20,2, -999.00,9,    22.2983,2, -999.00,9,  -999.0,9,     -999.0,     -999.0,9,     -999.0,9,     -999.0,     -999.0,9,     -999.0,     -999.0,9,     -999.0,     -999.0,     -999.0,9,     -999.0,9,     -999.0,9,     -999.0,9,     -999.0,9,     -999.0,9,     -999.0,9,     -999.0,9
33RO20161119,        P18,     175,          1,         12,      11111,2,20170116,       1918,   -53.4998,  -103.0004,       4270,  1174.5,   3.1740,  34.3820,2,  34.3889,2,    191.4,2,   190.8,2,    51.3,2,    33.8,2,    0.01,2,   2.304,2,-999.0000,9,-999.0000,9,-999.0000,9,  2225.0,2,  2313.0,2,   7.5665,2,    25.00, -999.00,9,  -999.0,9,  -999.0,-999.0000,9, -999.00,9,    40.8,2,   36.20,2, -999.00,9,     -999.0,9, -999.00,9,  -999.0,9,     -999.0,     -999.0,9,     -999.0,9,     -999.0,     -999.0,9,     -999.0,     -999.0,9,     -999.0,     -999.0,     -999.0,9,     -999.0,9,     -999.0,9,     -999.0,9,     -999.0,9,     -999.0,9,     -999.0,9,     -999.0,9
33RO20161119,        P18,     175,          1,         13,      11112,2,20170116,       1918,   -53.4998,  -103.0004,       4270,  1036.0,   3.5642,  34.3268,2,  34.3267,2,    201.7,2,   201.9,2,    41.5,2,    33.0,2,    0.01,2,   2.215,2,   2.1184,2,   1.0774,2,   0.6072,2,  2210.4,2,  2308.1,2,   7.5807,2,    25.00, -999.00,9,  -999.0,9,  -999.0,   4.2585,2, -999.00,9,    40.8,2,   37.20,2, -999.00,9,    20.7469,2, -999.00,9,  -999.0,9,     -999.0,     -999.0,9,     -999.0,9,     -999.0,     -999.0,9,     -999.0,     -999.0,9,     -999.0,     -999.0,     -999.0,9,     -999.0,9,     -999.0,9,     -999.0,9,     -999.0,9,     -999.0,9,     -999.0,9,     -999.0,9
33RO20161119,        P18,     175,          1,         14,      11113,2,20170116,       1918,   -53.4998,  -103.0004,       4270,   900.4,   4.1441,  34.2899,2,  34.2902,2,    211.8,2,   211.9,2,    31.6,2,    30.9,2,    0.01,2,   2.101,2,-999.0000,9,-999.0000,9,-999.0000,9,  2195.6,2,  2294.4,2,   7.6043,2,    25.00, -999.00,9,  -999.0,9,  -999.0,-999.0000,9, -999.00,9,    39.7,2,   35.20,2, -999.00,9,     -999.0,9, -999.00,9,  -999.0,9,     -999.0,     -999.0,9,     -999.0,9,     -999.0,     -999.0,9,     -999.0,     -999.0,9,     -999.0,     -999.0,     -999.0,9,     -999.0,9,     -999.0,9,     -999.0,9,     -999.0,9,     -999.0,9,     -999.0,9,     -999.0,9
33RO20161119,        P18,     175,          1,         15,      11114,2,20170116,       1918,   -53.4998,  -103.0004,       4270,   765.2,   4.8960,  34.2807,2,  34.2800,2,    219.4,2,   219.7,2,    22.9,2,    29.0,2,    0.01,2,   1.967,2,   2.9283,2,   1.5374,2,   1.0145,2,  2180.0,2,  2288.8,2,   7.6281,2,    25.00, -999.00,9,  -999.0,9,  -999.0,   3.9036,2, -999.00,9,    42.9,2,   30.80,2, -999.00,9,    17.8585,2, -999.00,9,  -999.0,9,     -999.0,     -999.0,9,     -999.0,9,     -999.0,     -999.0,9,     -999.0,     -999.0,9,     -999.0,     -999.0,     -999.0,9,     -999.0,9,     -999.0,9,     -999.0,9,     -999.0,9,     -999.0,9,     -999.0,9,     -999.0,9
33RO20161119,        P18,     175,          1,         16,      11115,2,20170116,       1918,   -53.4998,  -103.0004,       4270,   660.0,   5.3789,  34.2634,2,  34.2625,2,    231.3,2,   233.0,2,    16.9,2,    26.9,2,    0.01,2,   1.843,2,   3.3284,2,   1.7816,2,   1.3504,2,  2167.7,2,  2284.0,2,   7.6533,2,    25.00, -999.00,9,  -999.0,9,  -999.0,   4.5107,2, -999.00,9,    41.3,2,   30.70,2, -999.00,9,    16.6304,2, -999.00,9,  -999.0,9,     -999.0,     -999.0,9,     -999.0,9,     -999.0,     -999.0,9,     -999.0,     -999.0,9,     -999.0,     -999.0,     -999.0,9,     -999.0,9,     -999.0,9,     -999.0,9,     -999.0,9,     -999.0,9,     -999.0,9,     -999.0,9
33RO20161119,        P18,     175,          1,         17,      11116,2,20170116,       1918,   -53.4998,  -103.0004,       4270,   544.5,   5.8080,  34.2417,2,  34.2394,2,    254.7,2,   255.1,2,    10.9,2,    24.0,2,    0.02,2,   1.668,2,   3.7822,2,   2.0728,2,   1.8588,2,  2150.3,2,  2281.2,2,   7.6890,2,    25.00, -999.00,9,  -999.0,9,  -999.0,   4.4912,2, -999.00,9,    43.8,2,   27.60,2, -999.00,9,    14.6812,2, -999.00,9,  -999.0,9,     -999.0,     -999.0,9,     -999.0,9,     -999.0,     -999.0,9,     -999.0,     -999.0,9,     -999.0,     -999.0,     -999.0,9,     -999.0,9,     -999.0,9,     -999.0,9,     -999.0,9,     -999.0,9,     -999.0,9,     -999.0,9
33RO20161119,        P18,     175,          1,         18,      11117,2,20170116,       1918,   -53.4998,  -103.0004,       4270,   425.4,   6.0733,  34.2348,2,  34.2349,2,    274.7,2,   273.8,2,     7.3,2,    21.4,2,    0.02,2,   1.502,2,   3.9575,2,   2.2233,2,   2.3054,2,  2136.9,2,  2280.5,2,   7.7186,2,    25.00, -999.00,9,  -999.0,9,  -999.0,   0.1895,2, -999.00,9,    47.4,2,   25.00,2, -999.00,9,    13.1359,2, -999.00,9,  -999.0,9,     -999.0,     -999.0,9,     -999.0,9,     -999.0,     -999.0,9,     -999.0,     -999.0,9,     -999.0,     -999.0,     -999.0,9,     -999.0,9,     -999.0,9,     -999.0,9,     -999.0,9,     -999.0,9,     -999.0,9,     -999.0,9
33RO20161119,        P18,     175,          1,         19,      11083,2,20170116,       1918,   -53.4998,  -103.0004,       4270,   320.3,   6.2313,  34.2349,2,  34.2385,2,    275.4,2,   277.5,2,     6.1,2,    20.4,2,    0.02,2,   1.431,2,   4.0100,2,   2.2554,2,   2.3957,2,  2132.1,2,  2275.8,2,   7.7268,2,    25.00, -999.00,9,  -999.0,9,  -999.0,   0.2048,2, -999.00,9,    46.3,2,   22.00,2, -999.00,9,    12.7774,2, -999.00,9,  -999.0,9,     -999.0,     -999.0,9,     -999.0,9,     -999.0,     -999.0,9,     -999.0,     -999.0,9,     -999.0,     -999.0,     -999.0,9,     -999.0,9,     -999.0,9,     -999.0,9,     -999.0,9,     -999.0,9,     -999.0,9,     -999.0,9
33RO20161119,        P18,     175,          1,         20,      11118,2,20170116,       1918,   -53.4998,  -103.0004,       4270,   231.3,   6.2441,  34.2133,2,  34.2141,2,    282.2,2,   283.9,2,     5.2,2,    19.5,2,    0.02,2,   1.388,2,   3.9900,2,   2.2771,2,   2.5715,2,  2125.0,2,  2273.5,2,   7.7377,2,    25.00, -999.00,9,  -999.0,9,  -999.0,   0.1612,2, -999.00,9,    45.6,2,   20.40,2, -999.00,9,    12.0527,2, -999.00,9,  -999.0,9,     -999.0,     -999.0,9,     -999.0,9,     -999.0,     -999.0,9,     -999.0,     -999.0,9,     -999.0,     -999.0,     -999.0,9,     -999.0,9,     -999.0,9,       1.50,2,     -999.0,9,     -999.0,9,     -999.0,9,     -999.0,9
33RO20161119,        P18,     175,          1,         21,      11119,2,20170116,       1918,   -53.4998,  -103.0004,       4270,   155.1,   6.3975,  34.2074,2,  34.2082,2,    285.5,2,   285.5,6,     4.5,2,    18.7,2,    0.06,2,   1.339,2,   4.0412,2,   2.2822,2,   2.6885,2,  2122.5,2,  2273.9,2,   7.7434,2,    25.00, -999.00,9,  -999.0,9,  -999.0,    0.116,2, -999.00,9,    48.0,2,   22.90,2, -999.00,9,    12.1057,2, -999.00,9,  -999.0,9,     -999.0,     -999.0,9,     -999.0,9,     -999.0,     -999.0,9,     -999.0,     -999.0,9,     -999.0,     -999.0,     -999.0,9,     -999.0,9,     -999.0,9,       1.47,2,     -999.0,9,     -999.0,9,     -999.0,9,     -999.0,9
33RO20161119,        P18,     175,          1,         22,      11120,2,20170116,       1918,   -53.4998,  -103.0004,       4270,    68.3,   7.6031,  34.1842,2,  34.1840,2,    292.1,2,   292.6,2,     1.7,2,    15.4,2,    0.30,2,   1.165,2,-999.0000,9,-999.0000,9,-999.0000,9,  2105.0,2,  2275.9,2,   7.7902,2,    25.00, -999.00,9,  -999.0,9,  -999.0,-999.0000,9, -999.00,9,    49.2,2,   21.00,2, -999.00,9,     -999.0,9, -999.00,9,  -999.0,9,     -999.0,     -999.0,9,     -999.0,9,     -999.0,     -999.0,9,     -999.0,     -999.0,9,     -999.0,     -999.0,     -999.0,9,     -999.0,9,     -999.0,9,       1.22,2,     -999.0,9,     -999.0,9,     -999.0,9,     -999.0,9
33RO20161119,        P18,     175,          1,         23,      11121,2,20170116,       1918,   -53.4998,  -103.0004,       4270,    30.6,   7.9536,  34.1797,2,  34.1805,2,    293.2,2,   294.8,2,     0.5,2,    14.9,2,    0.27,2,   1.112,2,   3.8710,2,   2.1962,2,   2.6333,2,  2099.7,2,  2276.4,6,   7.8048,2,    25.00, -999.00,9,  -999.0,9,  -999.0,   0.1058,2, -999.00,9,    50.8,2,   19.50,2, -999.00,9,     11.466,2, -999.00,9,  -999.0,9,     -999.0,     -999.0,9,     -999.0,9,     -999.0,     -999.0,9,     -999.0,     -999.0,9,     -999.0,     -999.0,     -999.0,9,     -999.0,9,     -999.0,9,       1.19,2,     -999.0,9,     -999.0,9,     -999.0,9,     -999.0,9
33RO20161119,        P18,     175,          1,         24,      11122,2,20170116,       1918,   -53.4998,  -103.0004,       4270,     4.6,   7.9885,  34.1798,2,  34.1793,2,    293.3,2,   294.7,2,     0.5,2,    14.8,2,    0.27,2,   1.076,2,-999.0000,9,-999.0000,9,-999.0000,9,  2099.5,6,  2275.1,2,   7.8061,2,    25.00, -999.00,9,  -999.0,9,  -999.0,-999.0000,9, -999.00,9,    49.7,2,   20.60,2, -999.00,9,     -999.0,9, -999.00,9,  -999.0,9,     -999.0,     -999.0,9,     -999.0,9,     -999.0,     -999.0,9,     -999.0,     -999.0,9,     -999.0,     -999.0,     -999.0,9,     -999.0,9,     -999.0,9,       1.17,2,     -999.0,9,     -999.0,9,     -999.0,9,     -999.0,9