BOTTLE,20230606CCHSIOCBG
EXPOCODE,SECT_ID,STNNBR,CASTNO,SAMPNO,BTLNBR,BTLNBR_FLAG_W,DATE,TIME,LATITUDE,LONGITUDE,DEPTH,CTDPRS,CTDTMP,CTDSAL,CTDSAL_FLAG_W,SALNTY,SALNTY_FLAG_W,CTDOXY,CTDOXY_FLAG_W,OXYGEN,OXYGEN_FLAG_W,SILCAT,SILCAT_FLAG_W,NITRAT,NITRAT_FLAG_W,NITRIT,NITRIT_FLAG_W,PHSPHT,PHSPHT_FLAG_W,CFC-11,CFC-11_FLAG_W,CFC-12,CFC-12_FLAG_W,SF6,SF6_FLAG_W,TCARBN,TCARBN_FLAG_W,ALKALI,ALKALI_FLAG_W,PH_SWS,PH_SWS_FLAG_W,PH_TMP,DELC13,DELC13_FLAG_W,DELC14,DELC14_FLAG_W,C14ERR,CCL4,CCL4_FLAG_W,POC,POC_FLAG_W,DOC,DOC_FLAG_W,TDN,TDN_FLAG_W,PON,PON_FLAG_W,N2O,N2O_FLAG_W,D15N_NO3,D15N_NO3_FLAG_W,14C-DOC,14C-DOC_FLAG_W,14C-DOCERR,13C-DOC,13C-DOC_FLAG_W,N2/ARGON_UNSTRIPPED,N2/ARGON_UNSTRIPPED_FLAG_W,N2/ARGON_UNSTRIPPED_ERROR,N2/ARGON,N2/ARGON_FLAG_W,N2/ARGON_ERROR,D15N_N2,D15N_N2_FLAG_W,D15N_N2_ERROR,D15N_NO3_ERROR,D15N_NO2+NO3,D15N_NO2+NO3_FLAG_W,D18O_NO2+NO3,D18O_NO2+NO3_FLAG_W,D18O_NO3,D18O_NO3_FLAG_W,TDP,TDP_FLAG_W,N2O_ALT_1,N2O_ALT_1_FLAG_W,D15N_N2O,D15N_N2O_FLAG_W,D18O_N2O,D18O_N2O_FLAG_W,D15N_ALPHA_N2O,D15N_ALPHA_N2O_FLAG_W
,,,,,,,,,,,METERS,DBAR,ITS-90,PSS-78,,PSS-78,,UMOL/KG,,UMOL/KG,,UMOL/KG,,UMOL/KG,,UMOL/KG,,UMOL/KG,,PMOL/KG,,PMOL/KG,,FMOL/KG,,UMOL/KG,,UMOL/KG,,,,DEG C,/MILLE,,/MILLE,,/MILLE,PMOL/KG,,UG/KG,,UMOL/KG,,UMOL/KG,,UG/KG,,NMOL/KG,,/MILLE,,/MILLE,,/MILLE,/MILLE,,,,,,,,/MILLE,,/MILLE,/MILLE,/MILLE,,/MILLE,,/MILLE,,UMOL/KG,,NMOL/L,,/MILLE,,/MILLE,,/MILLE,
33RO20161119,        P18,     187,          1,          1,      11010,2,20170120,       0603,   -59.5003,  -102.9989,       4520,  4568.3,   0.5382,  34.7028,2,  34.7044,2,    212.5,2,   212.1,2,   135.9,2,    32.8,2,    0.01,2,   2.244,2,   0.3164,2,   0.1506,2,   0.0672,2,  2264.2,6,  2357.2,2,   7.5930,6,    25.00,    0.47,2,  -161.0,2,     2.0,   0.2061,2, -999.00,9,    37.6,2,   35.20,2, -999.00,9,    18.3035,2, -999.00,9,  -999.0,9,     -999.0,     -999.0,9,     -999.0,9,     -999.0,     -999.0,9,     -999.0,     -999.0,9,     -999.0,     -999.0,     -999.0,9,     -999.0,9,     -999.0,9,     -999.0,9,     -999.0,9,     -999.0,9,     -999.0,9,     -999.0,9
33RO20161119,        P18,     187,          1,          2,      11101,2,20170120,       0603,   -59.5003,  -102.9989,       4520,  4414.0,   0.5630,  34.7035,2,  34.7246,4,    211.6,2,   211.4,2,   134.5,2,    32.8,2,    0.02,2,   2.246,2,   0.3061,2,   0.1468,2,   0.0625,2,  2261.8,2,  2362.7,6,   7.5938,2,    25.00,    0.49,2,  -161.4,2,     2.0,   0.1612,2, -999.00,9,    37.4,2,   35.40,2, -999.00,9,    18.4646,2, -999.00,9,    -485,2,          5,      -21.4,2,     -999.0,9,     -999.0,     -999.0,9,     -999.0,     -999.0,9,     -999.0,     -999.0,     -999.0,9,     -999.0,9,     -999.0,9,     -999.0,9,     -999.0,9,     -999.0,9,     -999.0,9,     -999.0,9
33RO20161119,        P18,     187,          1,          3,      11102,2,20170120,       0603,   -59.5003,  -102.9989,       4520,  4159.3,   0.6429,  34.7053,2,  34.7075,2,    210.2,2,   210.6,2,   131.0,6,    32.7,6,    0.02,6,   2.225,6,   0.2777,2,   0.1331,2,   0.0688,2,  2260.3,2,  2354.8,3,   7.5945,2,    25.00,    0.49,2,  -161.2,2,     2.1,   0.2237,2, -999.00,9,    37.9,2,   36.10,2, -999.00,9,    18.4135,2, -999.00,9,    -490,2,          5,      -21.4,2,     -999.0,9,     -999.0,     -999.0,9,     -999.0,     -999.0,9,     -999.0,     -999.0,     -999.0,9,     -999.0,9,     -999.0,9,     -999.0,9,     -999.0,9,     -999.0,9,     -999.0,9,     -999.0,9
33RO20161119,        P18,     187,          1,          4,      11103,2,20170120,       0603,   -59.5003,  -102.9989,       4520,  3819.8,   0.7959,  34.7081,2,  34.7098,2,    206.6,2,   206.4,2,   125.4,6,    32.5,6,    0.01,6,   2.222,6,   0.2269,2,   0.1090,2,   0.0728,2,  2259.1,2,  2361.0,2,   7.5928,2,    25.00,    0.50,2,  -163.4,2,     1.9,   0.3087,2, -999.00,9,    37.7,2,   32.30,3, -999.00,9,    18.4464,2, -999.00,9,  -999.0,9,     -999.0,     -999.0,9,     -999.0,9,     -999.0,     -999.0,9,     -999.0,     -999.0,9,     -999.0,     -999.0,     -999.0,9,     -999.0,9,     -999.0,9,     -999.0,9,     -999.0,9,     -999.0,9,     -999.0,9,     -999.0,9
33RO20161119,        P18,     187,          1,          5,      11104,2,20170120,       0603,   -59.5003,  -102.9989,       4520,  3344.6,   1.0034,  34.7151,2,  34.7139,2,    202.6,2,   202.6,2,   118.2,6,    32.3,6,    0.01,6,   2.194,6,   0.1629,2,   0.0787,2,   0.0435,2,  2258.1,2,  2357.9,2,   7.5967,2,    25.00,    0.49,2,  -167.5,2,     2.0,    0.613,2, -999.00,9,    37.7,2,   33.10,2, -999.00,9,    18.5963,2, -999.00,9,    -485,2,          5,      -22.3,2,     -999.0,9,     -999.0,     -999.0,9,     -999.0,     -999.0,9,     -999.0,     -999.0,     -999.0,9,     -999.0,9,     -999.0,9,     -999.0,9,     -999.0,9,     -999.0,9,     -999.0,9,     -999.0,9
33RO20161119,        P18,     187,          1,          6,      11105,2,20170120,       0603,   -59.5003,  -102.9989,       4520,  3059.8,   1.1441,  34.7202,2,  34.7216,2,    200.1,2,   200.2,6,   113.2,2,    32.2,2,    0.01,2,   2.188,2,   0.1394,2,   0.0682,2,   0.0605,2,  2255.9,2,  2356.5,2,   7.5955,2,    25.00,    0.50,2,  -159.1,2,     2.1,   0.9811,2, -999.00,9,    37.9,2,   34.00,2, -999.00,9,    18.7495,2, -999.00,9,    -518,2,          5,      -21.5,2,     -999.0,9,     -999.0,     -999.0,9,     -999.0,     -999.0,9,     -999.0,     -999.0,     -999.0,9,     -999.0,9,     -999.0,9,     -999.0,9,     -999.0,9,     -999.0,9,     -999.0,9,     -999.0,9
33RO20161119,        P18,     187,          1,          7,      11106,2,20170120,       0603,   -59.5003,  -102.9989,       4520,  2701.0,   1.3368,  34.7250,2,  34.7316,4,    195.4,2,   195.8,2,   107.9,6,    32.0,6,    0.01,6,   2.191,6,   0.1115,2,   0.0533,2,   0.0337,2,  2258.8,2,  2360.8,2,   7.5982,2,    25.00,    0.50,2,  -163.7,2,     3.0,   2.0049,2, -999.00,9,    39.5,2,   33.00,2, -999.00,9,    18.9035,2, -999.00,9,    -473,2,          5,      -21.3,2,     -999.0,9,     -999.0,     -999.0,9,     -999.0,     -999.0,9,     -999.0,     -999.0,     -999.0,9,     -999.0,9,     -999.0,9,     -999.0,9,     -999.0,9,     -999.0,9,     -999.0,9,     -999.0,9
33RO20161119,        P18,     187,          1,          8,      11107,2,20170120,       0603,   -59.5003,  -102.9989,       4520,  2341.0,   1.5390,  34.7269,2,  34.7267,2,    191.1,2,   191.1,2,  -999.0,9,  -999.0,9, -999.00,9,-999.000,9,-999.0000,9,-999.0000,9,-999.0000,9,  2258.5,2,  2360.3,2,   7.5992,2,    25.00,    0.46,2,  -163.2,2,     1.9,-999.0000,9, -999.00,9,    41.2,2,   34.20,2, -999.00,9,     -999.0,9, -999.00,9,    -491,2,          5,      -21.2,2,     -999.0,9,     -999.0,     -999.0,9,     -999.0,     -999.0,9,     -999.0,     -999.0,     -999.0,9,     -999.0,9,     -999.0,9,     -999.0,9,     -999.0,9,     -999.0,9,     -999.0,9,     -999.0,9
33RO20161119,        P18,     187,          1,          9,      11108,2,20170120,       0603,   -59.5003,  -102.9989,       4520,  1925.2,   1.9034,  34.7253,2,  34.7290,2,    185.8,2,   185.6,2,    90.1,2,    31.8,2,    0.01,2,   2.174,2,   0.1649,2,   0.0798,2,   0.0560,2,  2253.9,2,  2351.3,2,   7.5924,2,    25.00,    0.49,2,  -158.3,2,     2.0,   3.0477,2, -999.00,9,    40.7,2,   31.20,3, -999.00,9,    19.6371,2, -999.00,9,    -484,2,          5,      -21.3,2,     -999.0,9,     -999.0,     -999.0,9,     -999.0,     -999.0,9,     -999.0,     -999.0,     -999.0,9,     -999.0,9,     -999.0,9,     -999.0,9,     -999.0,9,     -999.0,9,     -999.0,9,     -999.0,9
33RO20161119,        P18,     187,          1,         10,      11109,2,20170120,       0603,   -59.5003,  -102.9989,       4520,  1675.7,   2.0888,  34.7067,2,  34.7081,2,    179.9,2,   180.4,2,    85.1,2,    32.3,2,    0.01,2,   2.207,2,-999.0000,9,-999.0000,9,-999.0000,9,  2252.2,2,  2346.0,2,   7.5772,2,    25.00,    0.63,2,  -154.1,2,     2.1,-999.0000,9, -999.00,9,    39.7,2,   35.60,2, -999.00,9,     -999.0,9, -999.00,9,  -999.0,9,     -999.0,     -999.0,9,     -999.0,9,     -999.0,     -999.0,9,     -999.0,     -999.0,9,     -999.0,     -999.0,     -999.0,9,     -999.0,9,     -999.0,9,     -999.0,9,     -999.0,9,     -999.0,9,     -999.0,9,     -999.0,9
33RO20161119,        P18,     187,          1,         11,      11110,2,20170120,       0603,   -59.5003,  -102.9989,       4520,  1504.3,   2.2192,  34.6817,2,  34.6875,2,    176.2,2,   177.7,2,    81.9,2,    32.7,2,    0.01,2,   2.231,2,   0.2633,2,   0.1308,2,   0.0673,2,  2254.6,2,  2344.1,2,   7.5703,2,    25.00,    0.60,2,  -152.5,2,     2.2,    3.227,2, -999.00,9,    43.5,2,   33.90,2, -999.00,9,    20.9405,2, -999.00,9,    -488,2,          5,      -21.4,2,     -999.0,9,     -999.0,     -999.0,9,     -999.0,     -999.0,9,     -999.0,     -999.0,     -999.0,9,     -999.0,9,     -999.0,9,     -999.0,9,     -999.0,9,     -999.0,9,     -999.0,9,     -999.0,9
33RO20161119,        P18,     187,          1,         12,      11111,2,20170120,       0603,   -59.5003,  -102.9989,       4520,  1344.8,   2.3051,  34.6491,2,  34.6487,2,    173.0,2,   173.3,2,    79.4,2,    33.3,2,    0.01,2,   2.266,2,-999.0000,9,-999.0000,9,-999.0000,9,  2254.6,2,  2341.7,6,   7.5618,2,    25.00,    0.61,2,  -149.6,2,     2.3,-999.0000,9, -999.00,9,    38.0,2,   35.20,2, -999.00,9,     -999.0,9, -999.00,9,  -999.0,9,     -999.0,     -999.0,9,     -999.0,9,     -999.0,     -999.0,9,     -999.0,     -999.0,9,     -999.0,     -999.0,     -999.0,9,     -999.0,9,     -999.0,9,     -999.0,9,     -999.0,9,     -999.0,9,     -999.0,9,     -999.0,9
33RO20161119,        P18,     187,          1,         13,      11112,2,20170120,       0603,   -59.5003,  -102.9989,       4520,  1179.6,   2.4253,  34.5973,2,  34.6505,4,    171.4,2,   171.3,2,    75.8,2,    34.0,2,    0.01,2,   2.319,2,   0.5355,2,   0.2675,2,   0.1456,2,  2252.9,2,  2336.6,2,   7.5529,2,    25.00,    0.60,2,  -147.2,2,     2.1,    4.425,2, -999.00,9,    38.9,2,   36.90,2, -999.00,9,    22.0608,2, -999.00,9,    -478,2,          5,      -21.3,2,     -999.0,9,     -999.0,     -999.0,9,     -999.0,     -999.0,9,     -999.0,     -999.0,     -999.0,9,     -999.0,9,     -999.0,9,     -999.0,9,     -999.0,9,     -999.0,9,     -999.0,9,     -999.0,9
33RO20161119,        P18,     187,          1,         14,      11113,2,20170120,       0603,   -59.5003,  -102.9989,       4520,  1025.4,   2.5670,  34.5443,2,  34.5489,4,    172.0,2,   171.7,2,    71.4,2,    34.4,2,    0.02,2,   2.353,2,-999.0000,9,-999.0000,9,-999.0000,9,  2249.6,6,  2332.7,2,   7.5505,2,    25.00,    0.61,2,  -140.9,2,     2.1,-999.0000,9, -999.00,9,    40.6,2,   36.20,2, -999.00,9,     -999.0,9, -999.00,9,  -999.0,9,     -999.0,     -999.0,9,     -999.0,9,     -999.0,     -999.0,9,     -999.0,     -999.0,9,     -999.0,     -999.0,     -999.0,9,     -999.0,9,     -999.0,9,     -999.0,9,     -999.0,9,     -999.0,9,     -999.0,9,     -999.0,9
33RO20161119,        P18,     187,          1,         15,      11114,2,20170120,       0603,   -59.5003,  -102.9989,       4520,   879.7,   2.7262,  34.4771,2,  34.4790,2,    177.9,2,   177.6,2,    64.3,2,    34.6,2,    0.01,2,   2.346,2,   1.0515,2,   0.5302,2,   0.2767,2,  2241.1,2,  2326.1,2,   7.5506,2,    25.00,    0.67,2,  -139.2,2,     2.1,   3.8076,2, -999.00,9,    40.3,2,   37.70,2, -999.00,9,    22.4113,2, -999.00,9,    -487,2,          5,        -21,2,     -999.0,9,     -999.0,     -999.0,9,     -999.0,     -999.0,9,     -999.0,     -999.0,     -999.0,9,     -999.0,9,     -999.0,9,     -999.0,9,     -999.0,9,     -999.0,9,     -999.0,9,     -999.0,9
33RO20161119,        P18,     187,          1,         16,      11115,2,20170120,       0603,   -59.5003,  -102.9989,       4520,   724.8,   2.9378,  34.3970,2,  34.3991,2,    189.1,2,   188.4,2,    54.6,2,    34.1,2,    0.02,2,   2.328,2,-999.0000,9,-999.0000,9,-999.0000,9,  2231.3,2,  2312.6,2,   7.5554,2,    25.00,    0.76,2,  -115.0,2,     2.1,-999.0000,9, -999.00,9,    41.9,2,   38.00,2, -999.00,9,     -999.0,9, -999.00,9,  -999.0,9,     -999.0,     -999.0,9,     -999.0,9,     -999.0,     -999.0,9,     -999.0,     -999.0,9,     -999.0,     -999.0,     -999.0,9,     -999.0,9,     -999.0,9,     -999.0,9,     -999.0,9,     -999.0,9,     -999.0,9,     -999.0,9
33RO20161119,        P18,     187,          1,         17,      11116,2,20170120,       0603,   -59.5003,  -102.9989,       4520,   600.3,   3.1969,  34.3307,2,  34.3341,2,    202.7,2,   201.5,2,    45.3,2,    33.1,2,    0.02,2,   2.254,2,   2.1514,2,   1.0991,2,   0.6702,2,  2217.6,2,  2304.2,2,   7.6040,3,    25.00,    0.74,2,   -92.9,2,     1.7,   4.8191,2, -999.00,9,    39.1,2,   34.50,2, -999.00,9,    20.8374,2, -999.00,9,    -464,2,          5,      -21.4,2,     -999.0,9,     -999.0,     -999.0,9,     -999.0,     -999.0,9,     -999.0,     -999.0,     -999.0,9,     -999.0,9,     -999.0,9,     -999.0,9,     -999.0,9,     -999.0,9,     -999.0,9,     -999.0,9
33RO20161119,        P18,     187,          1,         18,      11117,2,20170120,       0603,   -59.5003,  -102.9989,       4520,   470.8,   2.9945,  34.1921,2,  34.1912,2,    245.9,2,   247.6,2,    31.2,2,    30.6,2,    0.02,2,   2.086,2,   3.4776,6,   1.8582,6,   1.6826,6,  2190.2,2,  2290.4,2,   7.6149,2,    25.00,    0.95,2,   -68.2,2,     1.9,   4.8016,2, -999.00,9,    42.6,2,   31.00,2, -999.00,9,    17.8878,2, -999.00,9,  -999.0,9,     -999.0,     -999.0,9,     -999.0,9,     -999.0,     -999.0,9,     -999.0,     -999.0,9,     -999.0,     -999.0,     -999.0,9,     -999.0,9,     -999.0,9,     -999.0,9,     -999.0,9,     -999.0,9,     -999.0,9,     -999.0,9
33RO20161119,        P18,     187,          1,         19,      11083,2,20170120,       0603,   -59.5003,  -102.9989,       4520,   350.5,   2.9668,  34.1110,2,  34.1244,2,    271.1,2,   282.7,6,    21.0,2,    28.0,2,    0.02,2,   1.908,2,   4.2969,2,   2.3328,2,   2.4566,2,  2168.0,2,  2282.3,2,   7.6547,2,    25.00,    1.10,2,   -50.6,2,     1.8,   4.7207,2, -999.00,9,    45.3,2,   29.40,2, -999.00,9,    15.2163,2, -999.00,9,    -430,2,          5,      -21.9,2,     -999.0,9,     -999.0,     -999.0,9,     -999.0,     -999.0,9,     -999.0,     -999.0,     -999.0,9,     -999.0,9,     -999.0,9,     -999.0,9,     -999.0,9,     -999.0,9,     -999.0,9,     -999.0,9
33RO20161119,        P18,     187,          1,         20,      11118,2,20170120,       0603,   -59.5003,  -102.9989,       4520,   259.7,   3.6349,  34.1356,2,  34.1424,2,    279.9,2,   269.8,2,    19.3,2,    27.6,2,    0.05,2,   1.866,2,   3.9945,2,   2.1637,2,   2.1344,2,  2166.6,2,  2282.1,2,   7.6556,2,    25.00,    1.12,2,   -48.8,2,     2.3,   0.4545,2, -999.00,9,    41.5,2,   28.80,2, -999.00,9,    15.6754,2, -999.00,9,  -999.0,9,     -999.0,     -999.0,9,     -999.0,9,     -999.0,     -999.0,9,     -999.0,     -999.0,9,     -999.0,     -999.0,     -999.0,9,     -999.0,9,     -999.0,9,     -999.0,9,     -999.0,9,     -999.0,9,     -999.0,9,     -999.0,9
33RO20161119,        P18,     187,          1,         21,      11119,2,20170120,       0603,   -59.5003,  -102.9989,       4520,   168.9,   3.3726,  34.0539,2,  34.0542,2,    295.9,2,   303.1,2,    13.4,2,    24.9,2,    0.33,2,   1.752,2,   4.6405,2,   2.5446,2,   2.8822,2,  2145.8,6,  2273.9,2,   7.6925,6,    25.00,    1.29,2,   -42.1,2,     1.8,   0.4072,2, -999.00,9,    42.8,2,   25.50,2, -999.00,9,    13.6245,2, -999.00,9,    -420,2,          5,      -21.7,2,     -999.0,9,     -999.0,     -999.0,9,     -999.0,     -999.0,9,     -999.0,     -999.0,     -999.0,9,     -999.0,9,     -999.0,9,     -999.0,9,     -999.0,9,     -999.0,9,     -999.0,9,     -999.0,9
33RO20161119,        P18,     187,          1,         22,      11120,2,20170120,       0603,   -59.5003,  -102.9989,       4520,    82.7,   3.8377,  34.0033,2,  34.0034,2,    305.8,2,   305.3,2,     3.8,2,    22.4,2,    0.22,2,   1.784,2,   4.7346,2,   2.6133,2,   3.0240,2,  2140.5,2,  2275.8,6,   7.7117,2,    25.00,    1.34,2,   -37.7,2,     1.8,    0.381,2, -999.00,9,    50.5,2,   24.50,2, -999.00,9,     13.059,2, -999.00,9,    -402,2,          5,      -22.2,2,     -999.0,9,     -999.0,     -999.0,9,     -999.0,     -999.0,9,     -999.0,     -999.0,     -999.0,9,     -999.0,9,     -999.0,9,     -999.0,9,     -999.0,9,     -999.0,9,     -999.0,9,     -999.0,9
33RO20161119,        P18,     187,          1,         23,      11121,2,20170120,       0603,   -59.5003,  -102.9989,       4520,    30.0,   5.4529,  34.0206,2,  34.0208,2,    307.8,2,   309.3,2,     0.8,2,    20.1,2,    0.22,2,   1.376,2,   4.4800,2,   2.4755,2,   2.9401,2,  2115.9,2,  2269.7,2,   7.7697,2,    25.00,    1.66,2,   -32.5,2,     2.1,   0.2944,2, -999.00,9,    49.2,2,   21.30,2, -999.00,9,    12.3397,2, -999.00,9,  -999.0,9,     -999.0,     -999.0,9,     -999.0,9,     -999.0,     -999.0,9,     -999.0,     -999.0,9,     -999.0,     -999.0,     -999.0,9,     -999.0,9,     -999.0,9,     -999.0,9,     -999.0,9,     -999.0,9,     -999.0,9,     -999.0,9
33RO20161119,        P18,     187,          1,         24,      11122,2,20170120,       0603,   -59.5003,  -102.9989,       4520,     3.9,   5.4728,  34.0228,2,  34.0308,2,    306.6,2,   308.5,2,     0.8,2,    20.0,2,    0.22,2,   1.388,2,   4.4434,2,   2.4754,2,   2.9315,2,  2116.4,2,  2272.8,2,   7.7663,2,    25.00,    1.66,2,   -33.4,2,     2.0,   0.2572,2, -999.00,9,    47.8,2,   21.30,2, -999.00,9,     12.199,2, -999.00,9,    -393,2,          5,        -22,2,     -999.0,9,     -999.0,     -999.0,9,     -999.0,     -999.0,9,     -999.0,     -999.0,     -999.0,9,     -999.0,9,     -999.0,9,     -999.0,9,     -999.0,9,     -999.0,9,     -999.0,9,     -999.0,9