BOTTLE,20230606CCHSIOCBG
EXPOCODE,SECT_ID,STNNBR,CASTNO,SAMPNO,BTLNBR,BTLNBR_FLAG_W,DATE,TIME,LATITUDE,LONGITUDE,DEPTH,CTDPRS,CTDTMP,CTDSAL,CTDSAL_FLAG_W,SALNTY,SALNTY_FLAG_W,CTDOXY,CTDOXY_FLAG_W,OXYGEN,OXYGEN_FLAG_W,SILCAT,SILCAT_FLAG_W,NITRAT,NITRAT_FLAG_W,NITRIT,NITRIT_FLAG_W,PHSPHT,PHSPHT_FLAG_W,CFC-11,CFC-11_FLAG_W,CFC-12,CFC-12_FLAG_W,SF6,SF6_FLAG_W,TCARBN,TCARBN_FLAG_W,ALKALI,ALKALI_FLAG_W,PH_SWS,PH_SWS_FLAG_W,PH_TMP,DELC13,DELC13_FLAG_W,DELC14,DELC14_FLAG_W,C14ERR,CCL4,CCL4_FLAG_W,POC,POC_FLAG_W,DOC,DOC_FLAG_W,TDN,TDN_FLAG_W,PON,PON_FLAG_W,N2O,N2O_FLAG_W,D15N_NO3,D15N_NO3_FLAG_W,14C-DOC,14C-DOC_FLAG_W,14C-DOCERR,13C-DOC,13C-DOC_FLAG_W,N2/ARGON_UNSTRIPPED,N2/ARGON_UNSTRIPPED_FLAG_W,N2/ARGON_UNSTRIPPED_ERROR,N2/ARGON,N2/ARGON_FLAG_W,N2/ARGON_ERROR,D15N_N2,D15N_N2_FLAG_W,D15N_N2_ERROR,D15N_NO3_ERROR,D15N_NO2+NO3,D15N_NO2+NO3_FLAG_W,D18O_NO2+NO3,D18O_NO2+NO3_FLAG_W,D18O_NO3,D18O_NO3_FLAG_W,TDP,TDP_FLAG_W,N2O_ALT_1,N2O_ALT_1_FLAG_W,D15N_N2O,D15N_N2O_FLAG_W,D18O_N2O,D18O_N2O_FLAG_W,D15N_ALPHA_N2O,D15N_ALPHA_N2O_FLAG_W
,,,,,,,,,,,METERS,DBAR,ITS-90,PSS-78,,PSS-78,,UMOL/KG,,UMOL/KG,,UMOL/KG,,UMOL/KG,,UMOL/KG,,UMOL/KG,,PMOL/KG,,PMOL/KG,,FMOL/KG,,UMOL/KG,,UMOL/KG,,,,DEG C,/MILLE,,/MILLE,,/MILLE,PMOL/KG,,UG/KG,,UMOL/KG,,UMOL/KG,,UG/KG,,NMOL/KG,,/MILLE,,/MILLE,,/MILLE,/MILLE,,,,,,,,/MILLE,,/MILLE,/MILLE,/MILLE,,/MILLE,,/MILLE,,UMOL/KG,,NMOL/L,,/MILLE,,/MILLE,,/MILLE,
33RO20161119,        P18,      98,          1,          1,      11010,2,20161217,       0218,   -15.0001,  -102.9999,       4160,  4262.2,   1.8632,  34.6779,2,  34.6782,2,    137.5,2,   137.4,2,   142.3,6,    37.3,6,    0.01,6,   2.556,6,   0.0006,2,   0.0006,2,   0.0000,2,  2342.2,6,  2431.6,2,   7.5644,6,    25.00, -999.00,9,  -999.0,9,  -999.0,        0,2, -999.00,9,  -999.0,9, -999.00,9, -999.00,9,    20.9553,2, -999.00,9,  -999.0,9,     -999.0,     -999.0,9,     -999.0,9,     -999.0,     -999.0,9,     -999.0,     -999.0,9,     -999.0,     -999.0,     -999.0,9,     -999.0,9,     -999.0,9,     -999.0,9,     -999.0,9,     -999.0,9,     -999.0,9,     -999.0,9
33RO20161119,        P18,      98,          1,          2,      11101,2,20161217,       0218,   -15.0001,  -102.9999,       4160,  3850.7,   1.8317,  34.6781,2,  34.6786,2,    138.3,2,   137.5,2,   140.6,6,    37.1,6,    0.01,6,   2.557,6,-999.0000,9,-999.0000,9,-999.0000,9,  2338.6,2,  2431.4,2,   7.5629,2,    25.00, -999.00,9,  -999.0,9,  -999.0,-999.0000,9, -999.00,9,  -999.0,9, -999.00,9, -999.00,9,     -999.0,9, -999.00,9,  -999.0,9,     -999.0,     -999.0,9,     -999.0,9,     -999.0,     -999.0,9,     -999.0,     -999.0,9,     -999.0,     -999.0,     -999.0,9,     -999.0,9,     -999.0,9,     -999.0,9,     -999.0,9,     -999.0,9,     -999.0,9,     -999.0,9
33RO20161119,        P18,      98,          1,          3,      11102,2,20161217,       0218,   -15.0001,  -102.9999,       4160,  3444.8,   1.8123,  34.6785,2,  34.6784,2,    140.3,2,   140.2,2,   136.9,6,    36.8,6,    0.00,6,   2.557,6,-999.0000,9,-999.0000,9,-999.0000,9,  2336.7,2,  2428.3,2,   7.5654,2,    25.00, -999.00,9,  -999.0,9,  -999.0,-999.0000,9, -999.00,9,  -999.0,9, -999.00,9, -999.00,9,     -999.0,9, -999.00,9,  -999.0,9,     -999.0,     -999.0,9,     -999.0,9,     -999.0,     -999.0,9,     -999.0,     -999.0,9,     -999.0,     -999.0,     -999.0,9,     -999.0,9,     -999.0,9,     -999.0,9,     -999.0,9,     -999.0,9,     -999.0,9,     -999.0,9
33RO20161119,        P18,      98,          1,          4,      11103,2,20161217,       0218,   -15.0001,  -102.9999,       4160,  3120.1,   1.8062,  34.6784,2,  34.6783,2,    143.2,2,   147.7,4,   132.9,6,    36.5,6,    0.00,6,   2.543,6,-999.0000,9,-999.0000,9,-999.0000,9,  2329.5,2,  2422.9,6,   7.5711,2,    25.00, -999.00,9,  -999.0,9,  -999.0,-999.0000,9, -999.00,9,  -999.0,9, -999.00,9, -999.00,9,     -999.0,9, -999.00,9,  -999.0,9,     -999.0,     -999.0,9,     -999.0,9,     -999.0,     -999.0,9,     -999.0,     -999.0,9,     -999.0,     -999.0,     -999.0,9,     -999.0,9,     -999.0,9,     -999.0,9,     -999.0,9,     -999.0,9,     -999.0,9,     -999.0,9
33RO20161119,        P18,      98,          1,          5,      11104,2,20161217,       0218,   -15.0001,  -102.9999,       4160,  2794.4,   1.8132,  34.6761,2,  34.6772,2,    145.8,2,   147.4,2,   127.8,2,    36.1,2,    0.00,2,   2.522,2,-999.0000,9,-999.0000,9,-999.0000,9,  2323.5,2,  2415.2,2,   7.5686,2,    25.00, -999.00,9,  -999.0,9,  -999.0,-999.0000,9, -999.00,9,  -999.0,9, -999.00,9, -999.00,9,     -999.0,9, -999.00,9,  -999.0,9,     -999.0,     -999.0,9,     -999.0,9,     -999.0,     -999.0,9,     -999.0,     -999.0,9,     -999.0,     -999.0,     -999.0,9,     -999.0,9,     -999.0,9,     -999.0,9,     -999.0,9,     -999.0,9,     -999.0,9,     -999.0,9
33RO20161119,        P18,      98,          1,          6,      11105,2,20161217,       0218,   -15.0001,  -102.9999,       4160,  2474.7,   1.8522,  34.6700,2,  34.6722,2,    146.9,2,   148.1,2,   123.8,2,    36.0,2,    0.00,2,   2.494,2,-999.0000,9,-999.0000,9,-999.0000,9,  2317.3,2,  2407.6,2,   7.5649,6,    25.00, -999.00,9,  -999.0,9,  -999.0,-999.0000,9, -999.00,9,  -999.0,9, -999.00,9, -999.00,9,     -999.0,9, -999.00,9,  -999.0,9,     -999.0,     -999.0,9,     -999.0,9,     -999.0,     -999.0,9,     -999.0,     -999.0,9,     -999.0,     -999.0,     -999.0,9,     -999.0,9,     -999.0,9,     -999.0,9,     -999.0,9,     -999.0,9,     -999.0,9,     -999.0,9
33RO20161119,        P18,      98,          1,          7,      11106,2,20161217,       0218,   -15.0001,  -102.9999,       4160,  2154.0,   2.0510,  34.6525,2,  34.6555,2,    135.0,2,   135.7,2,   121.5,2,    37.0,2,    0.00,2,   2.621,2,-999.0000,9,-999.0000,9,-999.0000,9,  2322.0,6,  2403.4,2,   7.5373,2,    25.00, -999.00,9,  -999.0,9,  -999.0,-999.0000,9, -999.00,9,  -999.0,9, -999.00,9, -999.00,9,     -999.0,9, -999.00,9,  -999.0,9,     -999.0,     -999.0,9,     -999.0,9,     -999.0,     -999.0,9,     -999.0,     -999.0,9,     -999.0,     -999.0,     -999.0,9,     -999.0,9,     -999.0,9,     -999.0,9,     -999.0,9,     -999.0,9,     -999.0,9,     -999.0,9
33RO20161119,        P18,      98,          1,          8,      11107,2,20161217,       0218,   -15.0001,  -102.9999,       4160,  1835.6,   2.4315,  34.6263,2,  34.6268,2,    114.3,2,   114.7,2,   118.5,2,    38.7,2,    0.00,2,   2.791,2,-999.0000,9,-999.0000,9,-999.0000,9,  2328.2,2,  2397.2,2,   7.4994,2,    25.00, -999.00,9,  -999.0,9,  -999.0,-999.0000,9, -999.00,9,  -999.0,9, -999.00,9, -999.00,9,     -999.0,9, -999.00,9,  -999.0,9,     -999.0,     -999.0,9,     -999.0,9,     -999.0,     -999.0,9,     -999.0,     -999.0,9,     -999.0,     -999.0,     -999.0,9,     -999.0,9,     -999.0,9,     -999.0,9,     -999.0,9,     -999.0,9,     -999.0,9,     -999.0,9
33RO20161119,        P18,      98,          1,          9,      11108,2,20161217,       0218,   -15.0001,  -102.9999,       4160,  1555.7,   2.9624,  34.5936,2,  34.5950,2,     96.5,2,    95.5,2,   107.9,2,    40.4,2,    0.00,2,   2.931,2,-999.0000,9,-999.0000,9,-999.0000,9,  2326.4,2,  2380.5,2,   7.4633,2,    25.00, -999.00,9,  -999.0,9,  -999.0,-999.0000,9, -999.00,9,  -999.0,9, -999.00,9, -999.00,9,     -999.0,9, -999.00,9,  -999.0,9,     -999.0,     -999.0,9,     -999.0,9,     -999.0,     -999.0,9,     -999.0,     -999.0,9,     -999.0,     -999.0,     -999.0,9,     -999.0,9,     -999.0,9,     -999.0,9,     -999.0,9,     -999.0,9,     -999.0,9,     -999.0,9
33RO20161119,        P18,      98,          1,         10,      11109,2,20161217,       0218,   -15.0001,  -102.9999,       4160,  1370.3,   3.3382,  34.5714,2,  34.5728,2,     88.3,2,    87.4,2,    98.2,2,    41.0,2,    0.01,2,   2.982,2,-999.0000,9,-999.0000,9,-999.0000,9,  2323.5,2,  2368.9,2,   7.4463,2,    25.00, -999.00,9,  -999.0,9,  -999.0,-999.0000,9, -999.00,9,  -999.0,9, -999.00,9, -999.00,9,     -999.0,9, -999.00,9,  -999.0,9,     -999.0,     -999.0,9,     -999.0,9,     -999.0,     -999.0,9,     -999.0,     -999.0,9,     -999.0,     -999.0,     -999.0,9,     -999.0,9,     -999.0,9,     -999.0,9,     -999.0,9,     -999.0,9,     -999.0,9,     -999.0,9
33RO20161119,        P18,      98,          1,         11,      11110,2,20161217,       0218,   -15.0001,  -102.9999,       4160,  1224.9,   3.6999,  34.5542,2,  34.5527,2,     82.7,2,    82.1,2,    89.3,2,    41.6,2,    0.01,2,   3.015,2,-999.0000,9,-999.0000,9,-999.0000,9,  2318.1,2,  2359.2,2,   7.4357,2,    25.00, -999.00,9,  -999.0,9,  -999.0,-999.0000,9, -999.00,9,  -999.0,9, -999.00,9, -999.00,9,     -999.0,9, -999.00,9,  -999.0,9,     -999.0,     -999.0,9,     -999.0,9,     -999.0,     -999.0,9,     -999.0,     -999.0,9,     -999.0,     -999.0,     -999.0,9,     -999.0,9,     -999.0,9,     -999.0,9,     -999.0,9,     -999.0,9,     -999.0,9,     -999.0,9
33RO20161119,        P18,      98,          1,         12,      11111,2,20161217,       0218,   -15.0001,  -102.9999,       4160,  1085.3,   4.1636,  34.5344,2,  34.5372,2,     77.1,2,    76.2,2,    78.5,2,    42.1,2,    0.01,2,   3.023,2,   0.0015,6,   0.0011,6,   0.0000,6,  2308.5,2,  2347.1,2,   7.4258,2,    25.00, -999.00,9,  -999.0,9,  -999.0,        0,2, -999.00,9,  -999.0,9, -999.00,9, -999.00,9,    34.2904,2, -999.00,9,  -999.0,9,     -999.0,     -999.0,9,     -999.0,9,     -999.0,     -999.0,9,     -999.0,     -999.0,9,     -999.0,     -999.0,     -999.0,9,     -999.0,9,     -999.0,9,     -999.0,9,     -999.0,9,     -999.0,9,     -999.0,9,     -999.0,9
33RO20161119,        P18,      98,          1,         13,      11112,2,20161217,       0218,   -15.0001,  -102.9999,       4160,   945.0,   4.6263,  34.5211,2,  34.5210,2,     68.0,2,    66.7,2,    69.4,2,    42.9,2,    0.01,2,   3.059,2,   0.0021,2,   0.0016,2,   0.0000,2,  2303.2,2,  2333.6,2,   7.4095,2,    25.00, -999.00,9,  -999.0,9,  -999.0,   0.0595,2, -999.00,9,  -999.0,9, -999.00,9, -999.00,9,    36.7053,2, -999.00,9,  -999.0,9,     -999.0,     -999.0,9,     -999.0,9,     -999.0,     -999.0,9,     -999.0,     -999.0,9,     -999.0,     -999.0,     -999.0,9,     -999.0,9,     -999.0,9,     -999.0,9,     -999.0,9,     -999.0,9,     -999.0,9,     -999.0,9
33RO20161119,        P18,      98,          1,         14,      11113,2,20161217,       0218,   -15.0001,  -102.9999,       4160,   810.6,   5.1898,  34.5045,2,  34.5065,2,     58.6,2,    58.8,6,    58.1,2,    43.2,2,    0.01,2,   3.072,2,   0.0047,2,   0.0028,2,   0.0000,2,  2293.9,2,  2322.4,2,   7.3964,2,    25.00, -999.00,9,  -999.0,9,  -999.0,   0.0951,2, -999.00,9,  -999.0,9, -999.00,9, -999.00,9,    40.5044,2, -999.00,9,  -999.0,9,     -999.0,     -999.0,9,     -999.0,9,     -999.0,     -999.0,9,     -999.0,     -999.0,9,     -999.0,     -999.0,     -999.0,9,     -999.0,9,     -999.0,9,     -999.0,9,     -999.0,9,     -999.0,9,     -999.0,9,     -999.0,9
33RO20161119,        P18,      98,          1,         15,      11114,2,20161217,       0218,   -15.0001,  -102.9999,       4160,   685.4,   5.9020,  34.4979,2,  34.5002,2,     52.8,2,    53.4,2,    46.1,2,    42.8,2,    0.01,2,   3.010,2,   0.0313,2,   0.0172,2,   0.0000,2,  2283.4,2,  2311.5,2,   7.3871,2,    25.00, -999.00,9,  -999.0,9,  -999.0,   0.1203,2, -999.00,9,  -999.0,9, -999.00,9, -999.00,9,    44.9962,2, -999.00,9,  -999.0,9,     -999.0,     -999.0,9,     -999.0,9,     -999.0,     -999.0,9,     -999.0,     -999.0,9,     -999.0,     -999.0,     -999.0,9,     -999.0,9,     -999.0,9,     -999.0,9,     -999.0,9,     -999.0,9,     -999.0,9,     -999.0,9
33RO20161119,        P18,      98,          1,         16,      11115,2,20161217,       0218,   -15.0001,  -102.9999,       4160,   565.2,   7.0792,  34.5357,2,  34.5337,2,     48.3,2,    48.1,2,    35.8,2,    40.4,2,    0.01,2,   2.857,2,   0.1195,2,   0.0638,2,   0.0000,2,  2273.1,2,  2304.8,2,   7.3942,2,    25.00, -999.00,9,  -999.0,9,  -999.0,   0.1232,2, -999.00,9,  -999.0,9, -999.00,9, -999.00,9,    50.0183,2, -999.00,9,  -999.0,9,     -999.0,     -999.0,9,     -999.0,9,     -999.0,     -999.0,9,     -999.0,     -999.0,9,     -999.0,     -999.0,     -999.0,9,     -999.0,9,     -999.0,9,     -999.0,9,     -999.0,9,     -999.0,9,     -999.0,9,     -999.0,9
33RO20161119,        P18,      98,          1,         17,      11116,2,20161217,       0218,   -15.0001,  -102.9999,       4160,   456.3,   8.1458,  34.5702,2,  34.5687,2,     38.4,2,    38.2,6,    29.2,2,    38.2,2,    0.01,2,   2.770,2,   0.2907,2,   0.1543,2,   0.0000,2,  2269.1,2,  2297.4,2,   7.3914,2,    25.00, -999.00,9,  -999.0,9,  -999.0,   0.2258,2, -999.00,9,  -999.0,9, -999.00,9, -999.00,9,    52.5554,2, -999.00,9,  -999.0,9,     -999.0,     -999.0,9,     -999.0,9,     -999.0,     -999.0,9,     -999.0,     -999.0,9,     -999.0,     -999.0,     -999.0,9,     -999.0,9,     -999.0,9,     -999.0,9,     -999.0,9,     -999.0,9,     -999.0,9,     -999.0,9
33RO20161119,        P18,      98,          1,         18,      11117,2,20161217,       0218,   -15.0001,  -102.9999,       4160,   349.9,  10.0774,  34.6307,2,  34.6335,2,     13.8,2,    13.4,2,    24.5,2,    32.0,2,    0.01,2,   2.818,2,   0.8435,2,   0.4502,2,   0.1752,2,  2278.1,2,  2293.5,6,   7.3511,2,    25.00, -999.00,9,  -999.0,9,  -999.0,    0.551,2, -999.00,9,  -999.0,9, -999.00,9, -999.00,9,    44.2558,2, -999.00,9,  -999.0,9,     -999.0,     -999.0,9,     -999.0,9,     -999.0,     -999.0,9,     -999.0,     -999.0,9,     -999.0,     -999.0,     -999.0,9,     -999.0,9,     -999.0,9,     -999.0,9,     -999.0,9,     -999.0,9,     -999.0,9,     -999.0,9
33RO20161119,        P18,      98,          1,         19,      11083,2,20161217,       0218,   -15.0001,  -102.9999,       4160,   259.8,  12.8838,  34.7069,2,  34.6991,2,     69.4,2,    70.3,2,    12.5,2,    21.2,2,    0.02,2,   2.185,2,   2.1156,2,   1.2348,2,   0.9242,2,  2220.2,2,  2293.9,2,   7.5239,2,    25.00, -999.00,9,  -999.0,9,  -999.0,   1.4833,2, -999.00,9,  -999.0,9, -999.00,9, -999.00,9,    43.4682,2, -999.00,9,  -999.0,9,     -999.0,     -999.0,9,     -999.0,9,     -999.0,     -999.0,9,     -999.0,     -999.0,9,     -999.0,     -999.0,     -999.0,9,     -999.0,9,     -999.0,9,     -999.0,9,     -999.0,9,     -999.0,9,     -999.0,9,     -999.0,9
33RO20161119,        P18,      98,          1,         20,      11118,2,20161217,       0218,   -15.0001,  -102.9999,       4160,   180.0,  18.1394,  35.3687,2,  35.3459,4,    189.4,2,   187.9,2,     1.4,2,     5.7,2,    0.04,2,   0.836,2,   2.2623,2,   1.3990,2,   1.5460,2,  2119.3,2,  2332.1,2,   7.8768,2,    25.00, -999.00,9,  -999.0,9,  -999.0,   1.5483,2, -999.00,9,  -999.0,9, -999.00,9, -999.00,9,    10.7745,2, -999.00,9,  -999.0,9,     -999.0,     -999.0,9,     -999.0,9,     -999.0,     -999.0,9,     -999.0,     -999.0,9,     -999.0,     -999.0,     -999.0,9,     -999.0,9,     -999.0,9,     -999.0,9,     -999.0,9,     -999.0,9,     -999.0,9,     -999.0,9
33RO20161119,        P18,      98,          1,         21,      11119,2,20161217,       0218,   -15.0001,  -102.9999,       4160,   105.4,  21.9450,  36.0818,2,  36.0845,2,    212.2,2,   211.0,2,     1.1,2,     0.2,2,    0.13,2,   0.515,2,   1.8777,2,   1.1746,2,   1.5282,2,  2091.6,2,  2385.0,6,   8.0045,2,    25.00, -999.00,9,  -999.0,9,  -999.0,   1.7126,2, -999.00,9,  -999.0,9, -999.00,9, -999.00,9,     7.1501,2, -999.00,9,  -999.0,9,     -999.0,     -999.0,9,     -999.0,9,     -999.0,     -999.0,9,     -999.0,     -999.0,9,     -999.0,     -999.0,     -999.0,9,     -999.0,9,     -999.0,9,     -999.0,9,     -999.0,9,     -999.0,9,     -999.0,9,     -999.0,9
33RO20161119,        P18,      98,          1,         22,      11120,2,20161217,       0218,   -15.0001,  -102.9999,       4160,    49.5,  23.3085,  36.2117,2,  36.2058,2,    218.5,2,   218.1,2,     1.0,2,     0.0,2,    0.01,2,   0.426,2,   1.8009,2,   1.1294,2,   1.4981,2,  2078.9,2,  2391.4,2,   8.0323,2,    25.00, -999.00,9,  -999.0,9,  -999.0,   1.6113,2, -999.00,9,  -999.0,9, -999.00,9, -999.00,9,     6.8831,2, -999.00,9,  -999.0,9,     -999.0,     -999.0,9,     -999.0,9,     -999.0,     -999.0,9,     -999.0,     -999.0,9,     -999.0,     -999.0,     -999.0,9,     -999.0,9,     -999.0,9,     -999.0,9,     -999.0,9,     -999.0,9,     -999.0,9,     -999.0,9
33RO20161119,        P18,      98,          1,         23,      11121,2,20161217,       0218,   -15.0001,  -102.9999,       4160,    20.0,  24.1270,  36.0406,2,  36.0396,2,    213.1,2,   214.0,2,     1.8,2,     1.1,2,    0.04,2,   0.459,2,   1.7033,2,   1.0835,2,   1.5047,2,  2064.6,6,  2381.9,2,   8.0387,2,    25.00, -999.00,9,  -999.0,9,  -999.0,        0,2, -999.00,9,  -999.0,9, -999.00,9, -999.00,9,     6.6841,2, -999.00,9,  -999.0,9,     -999.0,     -999.0,9,     -999.0,9,     -999.0,     -999.0,9,     -999.0,     -999.0,9,     -999.0,     -999.0,     -999.0,9,     -999.0,9,     -999.0,9,     -999.0,9,     -999.0,9,     -999.0,9,     -999.0,9,     -999.0,9
33RO20161119,        P18,      98,          1,         24,      11122,2,20161217,       0218,   -15.0001,  -102.9999,       4160,     3.0,  24.1569,  36.0401,2,  36.0386,2,    212.5,2,   213.6,2,     0.9,2,     1.1,2,    0.04,2,   0.414,2,   1.7090,2,   1.0883,2,   1.4625,2,  2064.5,2,  2379.9,2,   8.0388,2,    25.00, -999.00,9,  -999.0,9,  -999.0,        0,2, -999.00,9,  -999.0,9, -999.00,9, -999.00,9,      6.614,2, -999.00,9,  -999.0,9,     -999.0,     -999.0,9,     -999.0,9,     -999.0,     -999.0,9,     -999.0,     -999.0,9,     -999.0,     -999.0,     -999.0,9,     -999.0,9,     -999.0,9,     -999.0,9,     -999.0,9,     -999.0,9,     -999.0,9,     -999.0,9