BOTTLE,20230606CCHSIOCBG
EXPOCODE,SECT_ID,STNNBR,CASTNO,SAMPNO,BTLNBR,BTLNBR_FLAG_W,DATE,TIME,LATITUDE,LONGITUDE,DEPTH,CTDPRS,CTDTMP,CTDSAL,CTDSAL_FLAG_W,SALNTY,SALNTY_FLAG_W,CTDOXY,CTDOXY_FLAG_W,OXYGEN,OXYGEN_FLAG_W,SILCAT,SILCAT_FLAG_W,NITRAT,NITRAT_FLAG_W,NITRIT,NITRIT_FLAG_W,PHSPHT,PHSPHT_FLAG_W,CFC-11,CFC-11_FLAG_W,CFC-12,CFC-12_FLAG_W,SF6,SF6_FLAG_W,TCARBN,TCARBN_FLAG_W,ALKALI,ALKALI_FLAG_W,PH_SWS,PH_SWS_FLAG_W,PH_TMP,DELC13,DELC13_FLAG_W,DELC14,DELC14_FLAG_W,C14ERR,CCL4,CCL4_FLAG_W,POC,POC_FLAG_W,DOC,DOC_FLAG_W,TDN,TDN_FLAG_W,PON,PON_FLAG_W,N2O,N2O_FLAG_W,D15N_NO3,D15N_NO3_FLAG_W,14C-DOC,14C-DOC_FLAG_W,14C-DOCERR,13C-DOC,13C-DOC_FLAG_W,N2/ARGON_UNSTRIPPED,N2/ARGON_UNSTRIPPED_FLAG_W,N2/ARGON_UNSTRIPPED_ERROR,N2/ARGON,N2/ARGON_FLAG_W,N2/ARGON_ERROR,D15N_N2,D15N_N2_FLAG_W,D15N_N2_ERROR,D15N_NO3_ERROR,D15N_NO2+NO3,D15N_NO2+NO3_FLAG_W,D18O_NO2+NO3,D18O_NO2+NO3_FLAG_W,D18O_NO3,D18O_NO3_FLAG_W,TDP,TDP_FLAG_W,N2O_ALT_1,N2O_ALT_1_FLAG_W,D15N_N2O,D15N_N2O_FLAG_W,D18O_N2O,D18O_N2O_FLAG_W,D15N_ALPHA_N2O,D15N_ALPHA_N2O_FLAG_W
,,,,,,,,,,,METERS,DBAR,ITS-90,PSS-78,,PSS-78,,UMOL/KG,,UMOL/KG,,UMOL/KG,,UMOL/KG,,UMOL/KG,,UMOL/KG,,PMOL/KG,,PMOL/KG,,FMOL/KG,,UMOL/KG,,UMOL/KG,,,,DEG C,/MILLE,,/MILLE,,/MILLE,PMOL/KG,,UG/KG,,UMOL/KG,,UMOL/KG,,UG/KG,,NMOL/KG,,/MILLE,,/MILLE,,/MILLE,/MILLE,,,,,,,,/MILLE,,/MILLE,/MILLE,/MILLE,,/MILLE,,/MILLE,,UMOL/KG,,NMOL/L,,/MILLE,,/MILLE,,/MILLE,
33RO20161119,        P18,     123,          1,          1,      11010,2,20170102,       2032,   -27.5003,  -101.5009,       3184,  3214.5,   1.8543,  34.6788,2,  34.6778,2,    163.0,2,   162.2,2,   118.0,6,    34.6,6,    0.01,6,   2.413,6,-999.0000,9,-999.0000,9,-999.0000,9,  2300.6,6,  2395.8,2,   7.5845,2,    25.00, -999.00,9,  -999.0,9,  -999.0,-999.0000,9, -999.00,9,    35.3,2,   37.10,2, -999.00,9,     -999.0,9, -999.00,9,  -999.0,9,     -999.0,     -999.0,9,     -999.0,9,     -999.0,     -999.0,9,     -999.0,     -999.0,9,     -999.0,     -999.0,     -999.0,9,     -999.0,9,     -999.0,9,     -999.0,9,     -999.0,9,     -999.0,9,     -999.0,9,     -999.0,9
33RO20161119,        P18,     123,          1,          2,      11101,2,20170102,       2032,   -27.5003,  -101.5009,       3184,  2957.6,   1.8541,  34.6729,2,  34.6699,2,    161.1,2,   161.0,2,   118.6,6,    34.8,6,    0.01,6,   2.424,6,-999.0000,9,-999.0000,9,-999.0000,9,  2299.3,2,  2394.5,2,   7.5761,2,    25.00, -999.00,9,  -999.0,9,  -999.0,-999.0000,9, -999.00,9,    37.2,2,   38.50,2, -999.00,9,     -999.0,9, -999.00,9,  -999.0,9,     -999.0,     -999.0,9,     -999.0,9,     -999.0,     -999.0,9,     -999.0,     -999.0,9,     -999.0,     -999.0,     -999.0,9,     -999.0,9,     -999.0,9,     -999.0,9,     -999.0,9,     -999.0,9,     -999.0,9,     -999.0,9
33RO20161119,        P18,     123,          1,          3,      11102,2,20170102,       2032,   -27.5003,  -101.5009,       3184,  2700.7,   1.8548,  34.6683,2,  34.6675,2,    159.5,2,   159.3,2,   118.8,6,    34.9,6,    0.01,6,   2.439,6,-999.0000,9,-999.0000,9,-999.0000,9,  2299.1,2,  2394.4,6,   7.5752,2,    25.00, -999.00,9,  -999.0,9,  -999.0,-999.0000,9, -999.00,9,    38.0,2,   36.60,2, -999.00,9,     -999.0,9, -999.00,9,  -999.0,9,     -999.0,     -999.0,9,     -999.0,9,     -999.0,     -999.0,9,     -999.0,     -999.0,9,     -999.0,     -999.0,     -999.0,9,     -999.0,9,     -999.0,9,     -999.0,9,     -999.0,9,     -999.0,9,     -999.0,9,     -999.0,9
33RO20161119,        P18,     123,          1,          4,      11103,2,20170102,       2032,   -27.5003,  -101.5009,       3184,  2449.9,   1.8704,  34.6633,2,  34.6618,2,    157.7,2,   158.0,2,   118.5,6,    35.0,6,    0.00,6,   2.447,6,-999.0000,9,-999.0000,9,-999.0000,9,  2299.3,2,  2392.2,2,   7.5741,2,    25.00, -999.00,9,  -999.0,9,  -999.0,-999.0000,9, -999.00,9,    35.9,2,   39.70,2, -999.00,9,     -999.0,9, -999.00,9,  -999.0,9,     -999.0,     -999.0,9,     -999.0,9,     -999.0,     -999.0,9,     -999.0,     -999.0,9,     -999.0,     -999.0,     -999.0,9,     -999.0,9,     -999.0,9,     -999.0,9,     -999.0,9,     -999.0,9,     -999.0,9,     -999.0,9
33RO20161119,        P18,     123,          1,          5,      11104,2,20170102,       2032,   -27.5003,  -101.5009,       3184,  2225.1,   1.9190,  34.6554,2,  34.6547,2,    156.8,2,   156.9,2,   116.3,2,    35.0,2,    0.01,2,   2.448,2,-999.0000,9,-999.0000,9,-999.0000,9,  2297.8,2,  2390.7,2,   7.5702,2,    25.00, -999.00,9,  -999.0,9,  -999.0,-999.0000,9, -999.00,9,    35.6,2,   38.00,2, -999.00,9,     -999.0,9, -999.00,9,  -999.0,9,     -999.0,     -999.0,9,     -999.0,9,     -999.0,     -999.0,9,     -999.0,     -999.0,9,     -999.0,     -999.0,     -999.0,9,     -999.0,9,     -999.0,9,     -999.0,9,     -999.0,9,     -999.0,9,     -999.0,9,     -999.0,9
33RO20161119,        P18,     123,          1,          6,      11105,2,20170102,       2032,   -27.5003,  -101.5009,       3184,  1959.3,   2.0737,  34.6363,2,  34.6361,2,    155.2,2,   155.4,2,   109.6,2,    35.2,2,    0.01,2,   2.460,2,-999.0000,9,-999.0000,9,-999.0000,9,  2292.6,2,  2384.8,2,   7.5608,2,    25.00, -999.00,9,  -999.0,9,  -999.0,-999.0000,9, -999.00,9,    35.7,2,   37.40,2, -999.00,9,     -999.0,9, -999.00,9,  -999.0,9,     -999.0,     -999.0,9,     -999.0,9,     -999.0,     -999.0,9,     -999.0,     -999.0,9,     -999.0,     -999.0,     -999.0,9,     -999.0,9,     -999.0,9,     -999.0,9,     -999.0,9,     -999.0,9,     -999.0,9,     -999.0,9
33RO20161119,        P18,     123,          1,          7,      11106,2,20170102,       2032,   -27.5003,  -101.5009,       3184,  1716.2,   2.3705,  34.6006,2,  34.5997,2,    152.4,2,   152.8,2,    98.1,2,    35.5,2,    0.02,2,   2.467,2,-999.0000,9,-999.0000,9,-999.0000,9,  2284.5,2,  2375.8,2,   7.5528,2,    25.00, -999.00,9,  -999.0,9,  -999.0,-999.0000,9, -999.00,9,    37.0,2,   38.00,2, -999.00,9,     -999.0,9, -999.00,9,  -999.0,9,     -999.0,     -999.0,9,     -999.0,9,     -999.0,     -999.0,9,     -999.0,     -999.0,9,     -999.0,     -999.0,     -999.0,9,     -999.0,9,     -999.0,9,     -999.0,9,     -999.0,9,     -999.0,9,     -999.0,9,     -999.0,9
33RO20161119,        P18,     123,          1,          8,      11107,2,20170102,       2032,   -27.5003,  -101.5009,       3184,  1479.9,   2.8605,  34.5570,2,  34.5579,2,    139.0,2,   139.0,6,    88.4,2,    36.7,2,    0.01,2,   2.570,2,-999.0000,9,-999.0000,9,-999.0000,9,  2283.4,2,  2357.8,6,   7.5274,2,    25.00, -999.00,9,  -999.0,9,  -999.0,-999.0000,9, -999.00,9,    36.5,2,   39.20,2, -999.00,9,     -999.0,9, -999.00,9,  -999.0,9,     -999.0,     -999.0,9,     -999.0,9,     -999.0,     -999.0,9,     -999.0,     -999.0,9,     -999.0,     -999.0,     -999.0,9,     -999.0,9,     -999.0,9,     -999.0,9,     -999.0,9,     -999.0,9,     -999.0,9,     -999.0,9
33RO20161119,        P18,     123,          1,          9,      11108,2,20170102,       2032,   -27.5003,  -101.5009,       3184,  1228.1,   3.4516,  34.5089,2,  34.5076,2,    125.9,2,  -999.0,9,    76.2,2,    37.7,2,    0.01,2,   2.648,2,-999.0000,9,-999.0000,9,-999.0000,9,  2277.0,2,  2342.5,2,   7.5047,6,    25.00, -999.00,9,  -999.0,9,  -999.0,-999.0000,9, -999.00,9,    36.7,2,   39.60,2, -999.00,9,     -999.0,9, -999.00,9,  -999.0,9,     -999.0,     -999.0,9,     -999.0,9,     -999.0,     -999.0,9,     -999.0,     -999.0,9,     -999.0,     -999.0,     -999.0,9,     -999.0,9,     -999.0,9,     -999.0,9,     -999.0,9,     -999.0,9,     -999.0,9,     -999.0,9
33RO20161119,        P18,     123,          1,         10,      11109,2,20170102,       2032,   -27.5003,  -101.5009,       3184,  1070.9,   3.8975,  34.4507,2,  34.4508,2,    127.3,2,   126.3,2,    61.5,2,    37.7,2,    0.01,2,   2.647,2,-999.0000,9,-999.0000,9,-999.0000,9,  2262.6,2,  2327.0,2,   7.4981,2,    25.00, -999.00,9,  -999.0,9,  -999.0,-999.0000,9, -999.00,9,    36.6,2,   41.10,2, -999.00,9,     -999.0,9, -999.00,9,  -999.0,9,     -999.0,     -999.0,9,     -999.0,9,     -999.0,     -999.0,9,     -999.0,     -999.0,9,     -999.0,     -999.0,     -999.0,9,     -999.0,9,     -999.0,9,     -999.0,9,     -999.0,9,     -999.0,9,     -999.0,9,     -999.0,9
33RO20161119,        P18,     123,          1,         11,      11110,2,20170102,       2032,   -27.5003,  -101.5009,       3184,   960.5,   4.1810,  34.3854,2,  34.3851,2,    144.9,2,   145.7,2,    46.6,2,    36.2,2,    0.01,2,   2.516,2,-999.0000,9,-999.0000,9,-999.0000,9,  2239.2,2,  2311.9,2,   7.5212,2,    25.00, -999.00,9,  -999.0,9,  -999.0,-999.0000,9, -999.00,9,    38.8,2,   39.50,2, -999.00,9,     -999.0,9, -999.00,9,  -999.0,9,     -999.0,     -999.0,9,     -999.0,9,     -999.0,     -999.0,9,     -999.0,     -999.0,9,     -999.0,     -999.0,     -999.0,9,     -999.0,9,     -999.0,9,     -999.0,9,     -999.0,9,     -999.0,9,     -999.0,9,     -999.0,9
33RO20161119,        P18,     123,          1,         12,      11111,2,20170102,       2032,   -27.5003,  -101.5009,       3184,   850.6,   4.6166,  34.3214,2,  34.3203,2,    175.3,2,   175.7,2,    30.7,2,    33.2,2,    0.00,2,   2.317,2,   1.0133,6,   0.4888,6,   0.1341,6,  2207.9,2,  2295.2,2,   7.5675,2,    25.00, -999.00,9,  -999.0,9,  -999.0,   1.5488,2, -999.00,9,    41.0,2,   38.10,2, -999.00,9,    25.4551,2, -999.00,9,  -999.0,9,     -999.0,     -999.0,9,     -999.0,9,     -999.0,     -999.0,9,     -999.0,     -999.0,9,     -999.0,     -999.0,     -999.0,9,     -999.0,9,     -999.0,9,     -999.0,9,     -999.0,9,     -999.0,9,     -999.0,9,     -999.0,9
33RO20161119,        P18,     123,          1,         13,      11112,2,20170102,       2032,   -27.5003,  -101.5009,       3184,   750.7,   5.2420,  34.2958,2,  34.2960,2,    194.4,2,   194.4,2,    20.2,2,    30.5,2,    0.00,2,   2.124,2,-999.0000,9,-999.0000,9,-999.0000,9,  2187.3,2,  2284.4,2,   7.6001,2,    25.00, -999.00,9,  -999.0,9,  -999.0,-999.0000,9, -999.00,9,    44.0,2,   32.70,2, -999.00,9,     -999.0,9, -999.00,9,  -999.0,9,     -999.0,     -999.0,9,     -999.0,9,     -999.0,     -999.0,9,     -999.0,     -999.0,9,     -999.0,     -999.0,     -999.0,9,     -999.0,9,     -999.0,9,     -999.0,9,     -999.0,9,     -999.0,9,     -999.0,9,     -999.0,9
33RO20161119,        P18,     123,          1,         14,      11113,2,20170102,       2032,   -27.5003,  -101.5009,       3184,   648.4,   5.7645,  34.2861,2,  34.2852,2,    212.6,2,   212.8,2,    13.3,2,    27.6,2,    0.01,2,   1.939,2,   3.0779,2,   1.5243,2,   0.6548,2,  2170.9,2,  2278.6,2,   7.6332,2,    25.00, -999.00,9,  -999.0,9,  -999.0,   1.9025,2, -999.00,9,    42.5,2,   28.40,2, -999.00,9,    21.7667,2, -999.00,9,  -999.0,9,     -999.0,     -999.0,9,     -999.0,9,     -999.0,     -999.0,9,     -999.0,     -999.0,9,     -999.0,     -999.0,     -999.0,9,     -999.0,9,     -999.0,9,     -999.0,9,     -999.0,9,     -999.0,9,     -999.0,9,     -999.0,9
33RO20161119,        P18,     123,          1,         15,      11114,2,20170102,       2032,   -27.5003,  -101.5009,       3184,   555.1,   6.2653,  34.3007,2,  34.2993,2,    213.6,2,   214.0,2,    10.8,2,    26.3,2,    0.00,2,   1.849,2,-999.0000,9,-999.0000,9,-999.0000,9,  2167.2,2,  2277.4,2,   7.6386,6,    25.00, -999.00,9,  -999.0,9,  -999.0,-999.0000,9, -999.00,9,    42.6,2,   28.20,2, -999.00,9,     -999.0,9, -999.00,9,  -999.0,9,     -999.0,     -999.0,9,     -999.0,9,     -999.0,     -999.0,9,     -999.0,     -999.0,9,     -999.0,     -999.0,     -999.0,9,     -999.0,9,     -999.0,9,     -999.0,9,     -999.0,9,     -999.0,9,     -999.0,9,     -999.0,9
33RO20161119,        P18,     123,          1,         16,      11115,2,20170102,       2032,   -27.5003,  -101.5009,       3184,   464.9,   7.1718,  34.3110,2,  34.3118,2,    193.1,2,   192.2,2,     9.5,2,    25.6,2,    0.00,2,   1.852,2,   3.4252,2,   1.8052,2,   1.0314,2,  2173.1,6,  2273.1,2,   7.6099,2,    25.00, -999.00,9,  -999.0,9,  -999.0,   0.0096,2, -999.00,9,    44.3,2,   28.20,2, -999.00,9,    28.0024,2, -999.00,9,  -999.0,9,     -999.0,     -999.0,9,     -999.0,9,     -999.0,     -999.0,9,     -999.0,     -999.0,9,     -999.0,     -999.0,     -999.0,9,     -999.0,9,     -999.0,9,     -999.0,9,     -999.0,9,     -999.0,9,     -999.0,9,     -999.0,9
33RO20161119,        P18,     123,          1,         17,      11116,2,20170102,       2032,   -27.5003,  -101.5009,       3184,   379.9,   8.7160,  34.2734,2,  34.2741,2,    209.3,2,   211.3,6,     4.4,2,    19.8,2,    0.01,2,   1.507,2,-999.0000,9,-999.0000,9,-999.0000,9,  2142.2,2,  2269.8,2,   7.6864,2,    25.00, -999.00,9,  -999.0,9,  -999.0,-999.0000,9, -999.00,9,    45.8,2,   23.10,2, -999.00,9,     -999.0,9, -999.00,9,  -999.0,9,     -999.0,     -999.0,9,     -999.0,9,     -999.0,     -999.0,9,     -999.0,     -999.0,9,     -999.0,     -999.0,     -999.0,9,     -999.0,9,     -999.0,9,     -999.0,9,     -999.0,9,     -999.0,9,     -999.0,9,     -999.0,9
33RO20161119,        P18,     123,          1,         18,      11117,2,20170102,       2032,   -27.5003,  -101.5009,       3184,   295.0,  12.5529,  34.5242,2,  34.5151,2,    208.5,2,   208.2,2,     1.4,2,    10.1,2,    0.01,2,   0.894,2,   3.0595,2,   1.7541,2,   1.4833,2,  2105.6,2,  2277.3,2,   7.7988,2,    25.00, -999.00,9,  -999.0,9,  -999.0,        0,2, -999.00,9,    46.1,2,   13.00,2, -999.00,9,    14.8329,2, -999.00,9,  -999.0,9,     -999.0,     -999.0,9,     -999.0,9,     -999.0,     -999.0,9,     -999.0,     -999.0,9,     -999.0,     -999.0,     -999.0,9,     -999.0,9,     -999.0,9,     -999.0,9,     -999.0,9,     -999.0,9,     -999.0,9,     -999.0,9
33RO20161119,        P18,     123,          1,         19,      11083,2,20170102,       2032,   -27.5003,  -101.5009,       3184,   225.6,  15.5526,  34.8746,2,  34.8775,2,    214.3,2,   213.4,2,     0.5,2,     3.1,2,    0.08,2,   0.465,2,-999.0000,9,-999.0000,9,-999.0000,9,  2081.2,2,  2296.4,2,   7.8836,2,    25.00, -999.00,9,  -999.0,9,  -999.0,-999.0000,9, -999.00,9,    49.0,2,    6.80,2, -999.00,9,     -999.0,9, -999.00,9,  -999.0,9,     -999.0,     -999.0,9,     -999.0,9,     -999.0,     -999.0,9,     -999.0,     -999.0,9,     -999.0,     -999.0,     -999.0,9,     -999.0,9,     -999.0,9,       0.58,2,     -999.0,9,     -999.0,9,     -999.0,9,     -999.0,9
33RO20161119,        P18,     123,          1,         20,      11118,2,20170102,       2032,   -27.5003,  -101.5009,       3184,   164.9,  19.1776,  35.4916,2,  35.4982,2,    223.1,2,   223.7,2,     0.3,2,     0.0,2,    0.01,2,   0.209,2,   2.1462,2,   1.3195,2,   1.6075,2,  2071.0,2,  2336.0,2,   7.9683,2,    25.00, -999.00,9,  -999.0,9,  -999.0,        0,2, -999.00,9,    60.4,2,    3.20,2, -999.00,9,     7.9256,2, -999.00,9,  -999.0,9,     -999.0,     -999.0,9,     -999.0,9,     -999.0,     -999.0,9,     -999.0,     -999.0,9,     -999.0,     -999.0,     -999.0,9,     -999.0,9,     -999.0,9,       0.36,2,     -999.0,9,     -999.0,9,     -999.0,9,     -999.0,9
33RO20161119,        P18,     123,          1,         21,      11119,2,20170102,       2032,   -27.5003,  -101.5009,       3184,   110.3,  20.1234,  35.6265,2,  35.6359,2,    229.7,2,   230.4,2,     0.3,2,     0.0,2,    0.00,2,   0.192,2,-999.0000,9,-999.0000,9,-999.0000,9,  2066.3,2,  2344.6,2,   7.9907,2,    25.00, -999.00,9,  -999.0,9,  -999.0,-999.0000,9, -999.00,9,    66.2,2,    2.80,2, -999.00,9,     -999.0,9, -999.00,9,  -999.0,9,     -999.0,     -999.0,9,     -999.0,9,     -999.0,     -999.0,9,     -999.0,     -999.0,9,     -999.0,     -999.0,     -999.0,9,     -999.0,9,     -999.0,9,       0.34,2,     -999.0,9,     -999.0,9,     -999.0,9,     -999.0,9
33RO20161119,        P18,     123,          1,         22,      11120,2,20170102,       2032,   -27.5003,  -101.5009,       3184,    60.4,  21.9046,  35.8273,2,  35.8244,2,    225.9,2,   225.8,2,     0.3,2,     0.0,2,    0.01,2,   0.196,2,   1.9741,2,   1.2241,2,   1.5609,2,  2075.4,2,  2358.6,6,   7.9958,2,    25.00, -999.00,9,  -999.0,9,  -999.0,   0.0087,2, -999.00,9,    65.1,2,    3.20,2, -999.00,9,     7.2243,2, -999.00,9,  -999.0,9,     -999.0,     -999.0,9,     -999.0,9,     -999.0,     -999.0,9,     -999.0,     -999.0,9,     -999.0,     -999.0,     -999.0,9,     -999.0,9,     -999.0,9,       0.28,2,     -999.0,9,     -999.0,9,     -999.0,9,     -999.0,9
33RO20161119,        P18,     123,          1,         23,      11121,2,20170102,       2032,   -27.5003,  -101.5009,       3184,    25.1,  23.2566,  35.8893,2,  35.8896,2,    213.9,2,   215.2,2,     0.3,2,     0.0,2,    0.00,2,   0.196,2,-999.0000,9,-999.0000,9,-999.0000,9,  2078.4,2,  2363.9,2,   7.9977,2,    25.00, -999.00,9,  -999.0,9,  -999.0,-999.0000,9, -999.00,9,    66.3,2,    3.60,2, -999.00,9,     -999.0,9, -999.00,9,  -999.0,9,     -999.0,     -999.0,9,     -999.0,9,     -999.0,     -999.0,9,     -999.0,     -999.0,9,     -999.0,     -999.0,     -999.0,9,     -999.0,9,     -999.0,9,       0.28,2,     -999.0,9,     -999.0,9,     -999.0,9,     -999.0,9
33RO20161119,        P18,     123,          1,         24,      11122,2,20170102,       2032,   -27.5003,  -101.5009,       3184,     2.6,  23.7228,  35.8913,2,  35.8924,2,    213.3,2,   214.4,2,     0.3,2,     0.0,2,    0.00,2,   0.193,2,   1.8154,2,   1.1301,2,   1.5113,2,  2078.6,6,  2363.0,2,   7.9982,2,    25.00, -999.00,9,  -999.0,9,  -999.0,   0.0113,2, -999.00,9,    68.3,2,    2.90,2, -999.00,9,     6.9235,2, -999.00,9,  -999.0,9,     -999.0,     -999.0,9,     -999.0,9,     -999.0,     -999.0,9,     -999.0,     -999.0,9,     -999.0,     -999.0,     -999.0,9,     -999.0,9,     -999.0,9,       0.29,2,     -999.0,9,     -999.0,9,     -999.0,9,     -999.0,9