BOTTLE,20230606CCHSIOCBG
EXPOCODE,SECT_ID,STNNBR,CASTNO,SAMPNO,BTLNBR,BTLNBR_FLAG_W,DATE,TIME,LATITUDE,LONGITUDE,DEPTH,CTDPRS,CTDTMP,CTDSAL,CTDSAL_FLAG_W,SALNTY,SALNTY_FLAG_W,CTDOXY,CTDOXY_FLAG_W,OXYGEN,OXYGEN_FLAG_W,SILCAT,SILCAT_FLAG_W,NITRAT,NITRAT_FLAG_W,NITRIT,NITRIT_FLAG_W,PHSPHT,PHSPHT_FLAG_W,CFC-11,CFC-11_FLAG_W,CFC-12,CFC-12_FLAG_W,SF6,SF6_FLAG_W,TCARBN,TCARBN_FLAG_W,ALKALI,ALKALI_FLAG_W,PH_SWS,PH_SWS_FLAG_W,PH_TMP,DELC13,DELC13_FLAG_W,DELC14,DELC14_FLAG_W,C14ERR,CCL4,CCL4_FLAG_W,POC,POC_FLAG_W,DOC,DOC_FLAG_W,TDN,TDN_FLAG_W,PON,PON_FLAG_W,N2O,N2O_FLAG_W,D15N_NO3,D15N_NO3_FLAG_W,14C-DOC,14C-DOC_FLAG_W,14C-DOCERR,13C-DOC,13C-DOC_FLAG_W,N2/ARGON_UNSTRIPPED,N2/ARGON_UNSTRIPPED_FLAG_W,N2/ARGON_UNSTRIPPED_ERROR,N2/ARGON,N2/ARGON_FLAG_W,N2/ARGON_ERROR,D15N_N2,D15N_N2_FLAG_W,D15N_N2_ERROR,D15N_NO3_ERROR,D15N_NO2+NO3,D15N_NO2+NO3_FLAG_W,D18O_NO2+NO3,D18O_NO2+NO3_FLAG_W,D18O_NO3,D18O_NO3_FLAG_W,TDP,TDP_FLAG_W,N2O_ALT_1,N2O_ALT_1_FLAG_W,D15N_N2O,D15N_N2O_FLAG_W,D18O_N2O,D18O_N2O_FLAG_W,D15N_ALPHA_N2O,D15N_ALPHA_N2O_FLAG_W
,,,,,,,,,,,METERS,DBAR,ITS-90,PSS-78,,PSS-78,,UMOL/KG,,UMOL/KG,,UMOL/KG,,UMOL/KG,,UMOL/KG,,UMOL/KG,,PMOL/KG,,PMOL/KG,,FMOL/KG,,UMOL/KG,,UMOL/KG,,,,DEG C,/MILLE,,/MILLE,,/MILLE,PMOL/KG,,UG/KG,,UMOL/KG,,UMOL/KG,,UG/KG,,NMOL/KG,,/MILLE,,/MILLE,,/MILLE,/MILLE,,,,,,,,/MILLE,,/MILLE,/MILLE,/MILLE,,/MILLE,,/MILLE,,UMOL/KG,,NMOL/L,,/MILLE,,/MILLE,,/MILLE,
33RO20161119,        P18,     170,          1,          1,      11010,2,20170115,       0711,   -51.0001,  -102.9988,       4386,  4449.5,   0.8424,  34.7096,2,  34.7139,4,    203.0,2,   203.4,2,   129.0,2,    32.2,2,    0.01,2,   2.275,2,   0.0323,2,   0.0160,2,   0.0276,2,  2272.4,6,  2378.8,2,   7.6073,2,    25.00, -999.00,9,  -999.0,9,  -999.0,   0.0869,2, -999.00,9,  -999.0,9, -999.00,9, -999.00,9,    18.4508,2, -999.00,9,  -999.0,9,     -999.0,     -999.0,9,     -999.0,9,     -999.0,     -999.0,9,     -999.0,     -999.0,9,     -999.0,     -999.0,     -999.0,9,     -999.0,9,     -999.0,9,     -999.0,9,     -999.0,9,     -999.0,9,     -999.0,9,     -999.0,9
33RO20161119,        P18,     170,          1,          2,      11101,2,20170115,       0711,   -51.0001,  -102.9988,       4386,  4116.1,   0.8568,  34.7106,2,  34.7088,2,    202.2,2,   202.7,2,   128.0,2,    32.3,2,    0.01,2,   2.287,2,   0.0335,2,   0.0190,2,   0.0590,2,  2272.4,2,  2376.1,6,   7.6060,2,    25.00, -999.00,9,  -999.0,9,  -999.0,    0.068,2, -999.00,9,  -999.0,9, -999.00,9, -999.00,9,    18.5165,2, -999.00,9,  -999.0,9,     -999.0,     -999.0,9,     -999.0,9,     -999.0,     -999.0,9,     -999.0,     -999.0,9,     -999.0,     -999.0,     -999.0,9,     -999.0,9,     -999.0,9,     -999.0,9,     -999.0,9,     -999.0,9,     -999.0,9,     -999.0,9
33RO20161119,        P18,     170,          1,          3,      11102,2,20170115,       0711,   -51.0001,  -102.9988,       4386,  3781.9,   1.0353,  34.7131,2,  34.7108,2,    197.9,2,   199.5,2,   121.5,6,    32.5,6,    0.01,2,   2.287,6,   0.0276,2,   0.0134,2,   0.0000,2,  2268.3,2,  2368.0,3,   7.6008,2,    25.00, -999.00,9,  -999.0,9,  -999.0,   0.1503,2, -999.00,9,  -999.0,9, -999.00,9, -999.00,9,    18.5403,2, -999.00,9,  -999.0,9,     -999.0,     -999.0,9,     -999.0,9,     -999.0,     -999.0,9,     -999.0,     -999.0,9,     -999.0,     -999.0,     -999.0,9,     -999.0,9,     -999.0,9,     -999.0,9,     -999.0,9,     -999.0,9,     -999.0,9,     -999.0,9
33RO20161119,        P18,     170,          1,          4,      11103,2,20170115,       0711,   -51.0001,  -102.9988,       4386,  3425.8,   1.3954,  34.7155,2,  34.7149,2,    188.8,2,   188.8,2,   113.6,6,    32.4,6,    0.01,2,   2.281,6,   0.0199,2,   0.0097,2,   0.0000,2,  2271.7,2,  2376.2,3,   7.5984,6,    25.00, -999.00,9,  -999.0,9,  -999.0,   0.2896,2, -999.00,9,  -999.0,9, -999.00,9, -999.00,9,    19.0651,2, -999.00,9,  -999.0,9,     -999.0,     -999.0,9,     -999.0,9,     -999.0,     -999.0,9,     -999.0,     -999.0,9,     -999.0,     -999.0,     -999.0,9,     -999.0,9,     -999.0,9,     -999.0,9,     -999.0,9,     -999.0,9,     -999.0,9,     -999.0,9
33RO20161119,        P18,     170,          1,          5,      11104,2,20170115,       0711,   -51.0001,  -102.9988,       4386,  3065.8,   1.6196,  34.7137,2,  34.7120,2,    181.8,2,   182.1,2,   107.8,6,    32.6,6,    0.01,6,   2.295,6,   0.0329,2,   0.0164,2,   0.0524,2,  2271.9,2,  2372.0,2,   7.5903,2,    25.00, -999.00,9,  -999.0,9,  -999.0,   0.5302,2, -999.00,9,  -999.0,9, -999.00,9, -999.00,9,    19.5481,2, -999.00,9,  -999.0,9,     -999.0,     -999.0,9,     -999.0,9,     -999.0,     -999.0,9,     -999.0,     -999.0,9,     -999.0,     -999.0,     -999.0,9,     -999.0,9,     -999.0,9,     -999.0,9,     -999.0,9,     -999.0,9,     -999.0,9,     -999.0,9
33RO20161119,        P18,     170,          1,          6,      11105,2,20170115,       0711,   -51.0001,  -102.9988,       4386,  2720.4,   1.7599,  34.7092,2,  34.7074,2,    176.0,2,   177.4,2,   104.3,6,    32.8,6,    0.01,6,   2.311,6,   0.0419,6,   0.0198,6,   0.0162,6,  2273.7,2,  2368.4,2,   7.5866,2,    25.00, -999.00,9,  -999.0,9,  -999.0,   0.9269,2, -999.00,9,  -999.0,9, -999.00,9, -999.00,9,    19.8956,2, -999.00,9,  -999.0,9,     -999.0,     -999.0,9,     -999.0,9,     -999.0,     -999.0,9,     -999.0,     -999.0,9,     -999.0,     -999.0,     -999.0,9,     -999.0,9,     -999.0,9,     -999.0,9,     -999.0,9,     -999.0,9,     -999.0,9,     -999.0,9
33RO20161119,        P18,     170,          1,          7,      11106,2,20170115,       0711,   -51.0001,  -102.9988,       4386,  2359.1,   2.0398,  34.6992,2,  34.7003,2,    173.6,2,   173.7,2,    94.2,2,    32.6,2,    0.01,2,   2.311,2,   0.0856,2,   0.0417,2,   0.0422,2,  2266.6,2,  2360.2,2,   7.5751,2,    25.00, -999.00,9,  -999.0,9,  -999.0,   1.7544,2, -999.00,9,  -999.0,9, -999.00,9, -999.00,9,    20.6033,2, -999.00,9,  -999.0,9,     -999.0,     -999.0,9,     -999.0,9,     -999.0,     -999.0,9,     -999.0,     -999.0,9,     -999.0,     -999.0,     -999.0,9,     -999.0,9,     -999.0,9,     -999.0,9,     -999.0,9,     -999.0,9,     -999.0,9,     -999.0,9
33RO20161119,        P18,     170,          1,          8,      11107,2,20170115,       0711,   -51.0001,  -102.9988,       4386,  2004.6,   2.3019,  34.6592,2,  34.6710,4,    169.7,2,   170.5,2,    83.7,2,    33.2,2,    0.01,2,   2.315,2,   0.1924,2,   0.0938,2,   0.0312,2,  2260.4,2,  2349.6,2,   7.5663,2,    25.00, -999.00,9,  -999.0,9,  -999.0,   2.0482,2, -999.00,9,  -999.0,9, -999.00,9, -999.00,9,    21.0996,2, -999.00,9,  -999.0,9,     -999.0,     -999.0,9,     -999.0,9,     -999.0,     -999.0,9,     -999.0,     -999.0,9,     -999.0,     -999.0,     -999.0,9,     -999.0,9,     -999.0,9,     -999.0,9,     -999.0,9,     -999.0,9,     -999.0,9,     -999.0,9
33RO20161119,        P18,     170,          1,          9,      11108,2,20170115,       0711,   -51.0001,  -102.9988,       4386,  1694.5,   2.5423,  34.5800,2,  34.5800,2,    168.1,2,   168.5,2,    75.5,2,    34.0,2,    0.01,2,   2.368,2,   0.4118,2,   0.1998,2,   0.1044,2,  2254.9,2,  2339.9,2,   7.5527,2,    25.00, -999.00,9,  -999.0,9,  -999.0,   2.1208,2, -999.00,9,  -999.0,9, -999.00,9, -999.00,9,      22.02,2, -999.00,9,  -999.0,9,     -999.0,     -999.0,9,     -999.0,9,     -999.0,     -999.0,9,     -999.0,     -999.0,9,     -999.0,     -999.0,     -999.0,9,     -999.0,9,     -999.0,9,     -999.0,9,     -999.0,9,     -999.0,9,     -999.0,9,     -999.0,9
33RO20161119,        P18,     170,          1,         10,      11109,2,20170115,       0711,   -51.0001,  -102.9988,       4386,  1495.5,   2.7511,  34.5029,2,  34.5034,2,    173.4,2,   173.1,2,    66.5,2,    34.3,2,    0.01,2,   2.398,2,   0.7706,2,   0.3779,2,   0.1797,2,  2246.6,6,  2328.7,2,   7.5511,6,    25.00, -999.00,9,  -999.0,9,  -999.0,   2.2359,2, -999.00,9,  -999.0,9, -999.00,9, -999.00,9,    22.3785,2, -999.00,9,  -999.0,9,     -999.0,     -999.0,9,     -999.0,9,     -999.0,     -999.0,9,     -999.0,     -999.0,9,     -999.0,     -999.0,     -999.0,9,     -999.0,9,     -999.0,9,     -999.0,9,     -999.0,9,     -999.0,9,     -999.0,9,     -999.0,9
33RO20161119,        P18,     170,          1,         11,      11110,2,20170115,       0711,   -51.0001,  -102.9988,       4386,  1335.3,   2.9879,  34.4290,2,  34.4469,4,    182.7,2,   182.9,6,    57.2,2,    33.8,2,    0.01,2,   2.364,2,   1.2490,2,   0.6242,2,   0.2803,2,  2233.3,2,  2318.8,6,   7.5581,2,    25.00, -999.00,9,  -999.0,9,  -999.0,   2.5397,2, -999.00,9,  -999.0,9, -999.00,9, -999.00,9,    21.8653,2, -999.00,9,  -999.0,9,     -999.0,     -999.0,9,     -999.0,9,     -999.0,     -999.0,9,     -999.0,     -999.0,9,     -999.0,     -999.0,     -999.0,9,     -999.0,9,     -999.0,9,     -999.0,9,     -999.0,9,     -999.0,9,     -999.0,9,     -999.0,9
33RO20161119,        P18,     170,          1,         12,      11111,2,20170115,       0711,   -51.0001,  -102.9988,       4386,  1151.7,   3.4285,  34.3495,2,  34.3473,2,    196.4,2,   196.6,6,    44.5,2,    32.6,2,    0.01,2,   2.286,2,   1.8208,2,   0.9150,2,   0.4625,2,  2215.7,2,  2309.8,2,   7.5778,2,    25.00, -999.00,9,  -999.0,9,  -999.0,   2.9359,2, -999.00,9,  -999.0,9, -999.00,9, -999.00,9,    20.5932,2, -999.00,9,  -999.0,9,     -999.0,     -999.0,9,     -999.0,9,     -999.0,     -999.0,9,     -999.0,     -999.0,9,     -999.0,     -999.0,     -999.0,9,     -999.0,9,     -999.0,9,     -999.0,9,     -999.0,9,     -999.0,9,     -999.0,9,     -999.0,9
33RO20161119,        P18,     170,          1,         13,      11112,2,20170115,       0711,   -51.0001,  -102.9988,       4386,  1029.4,   3.8383,  34.3084,2,  34.3114,2,    206.1,2,   207.7,2,    36.0,2,    31.5,2,    0.01,2,   2.211,2,   2.2273,6,   1.1316,6,   0.6084,6,  2201.6,2,  2302.7,2,   7.5934,2,    25.00, -999.00,9,  -999.0,9,  -999.0,   3.5315,2, -999.00,9,  -999.0,9, -999.00,9, -999.00,9,    19.7108,2, -999.00,9,  -999.0,9,     -999.0,     -999.0,9,     -999.0,9,     -999.0,     -999.0,9,     -999.0,     -999.0,9,     -999.0,     -999.0,     -999.0,9,     -999.0,9,     -999.0,9,     -999.0,9,     -999.0,9,     -999.0,9,     -999.0,9,     -999.0,9
33RO20161119,        P18,     170,          1,         14,      11113,2,20170115,       0711,   -51.0001,  -102.9988,       4386,   890.4,   4.4667,  34.2782,2,  34.2804,2,    216.8,2,   216.8,2,    26.4,2,    29.6,2,    0.01,2,   2.067,2,   2.7159,2,   1.4118,2,   0.8811,2,  2186.1,2,  2287.7,2,   7.6186,2,    25.00, -999.00,9,  -999.0,9,  -999.0,   3.6308,2, -999.00,9,  -999.0,9, -999.00,9, -999.00,9,    18.2587,2, -999.00,9,  -999.0,9,     -999.0,     -999.0,9,     -999.0,9,     -999.0,     -999.0,9,     -999.0,     -999.0,9,     -999.0,     -999.0,     -999.0,9,     -999.0,9,     -999.0,9,     -999.0,9,     -999.0,9,     -999.0,9,     -999.0,9,     -999.0,9
33RO20161119,        P18,     170,          1,         15,      11114,2,20170115,       0711,   -51.0001,  -102.9988,       4386,   751.6,   5.1999,  34.2620,2,  34.2727,4,    232.3,2,   231.4,2,    17.6,2,    26.9,2,    0.01,2,   1.906,2,   3.2001,2,   1.7131,2,   1.2092,2,  2170.0,2,  2283.2,2,   7.6500,2,    25.00, -999.00,9,  -999.0,9,  -999.0,   4.0762,2, -999.00,9,  -999.0,9, -999.00,9, -999.00,9,    16.6277,2, -999.00,9,  -999.0,9,     -999.0,     -999.0,9,     -999.0,9,     -999.0,     -999.0,9,     -999.0,     -999.0,9,     -999.0,     -999.0,     -999.0,9,     -999.0,9,     -999.0,9,     -999.0,9,     -999.0,9,     -999.0,9,     -999.0,9,     -999.0,9
33RO20161119,        P18,     170,          1,         16,      11115,2,20170115,       0711,   -51.0001,  -102.9988,       4386,   614.5,   5.6941,  34.2515,2,  34.2534,2,    249.4,2,   250.6,2,    11.6,2,    24.2,2,    0.01,2,   1.729,2,   3.6570,2,   2.0034,2,   1.6797,2,  2152.9,2,  2278.0,2,   7.6813,2,    25.00, -999.00,9,  -999.0,9,  -999.0,   4.2339,2, -999.00,9,  -999.0,9, -999.00,9, -999.00,9,    14.7184,2, -999.00,9,  -999.0,9,     -999.0,     -999.0,9,     -999.0,9,     -999.0,     -999.0,9,     -999.0,     -999.0,9,     -999.0,     -999.0,     -999.0,9,     -999.0,9,     -999.0,9,     -999.0,9,     -999.0,9,     -999.0,9,     -999.0,9,     -999.0,9
33RO20161119,        P18,     170,          1,         17,      11116,2,20170115,       0711,   -51.0001,  -102.9988,       4386,   500.5,   5.9355,  34.2479,2,  34.2833,4,    267.8,2,   268.8,2,     8.2,2,    21.9,2,    0.01,2,   1.585,2,   3.9444,2,   2.2049,2,   2.0766,2,  2141.2,2,  2278.1,2,   7.7080,2,    25.00, -999.00,9,  -999.0,9,  -999.0,   4.0058,2, -999.00,9,  -999.0,9, -999.00,9, -999.00,9,    13.5057,2, -999.00,9,  -999.0,9,     -999.0,     -999.0,9,     -999.0,9,     -999.0,     -999.0,9,     -999.0,     -999.0,9,     -999.0,     -999.0,     -999.0,9,     -999.0,9,     -999.0,9,     -999.0,9,     -999.0,9,     -999.0,9,     -999.0,9,     -999.0,9
33RO20161119,        P18,     170,          1,         18,      11117,2,20170115,       0711,   -51.0001,  -102.9988,       4386,   380.2,   6.2058,  34.2601,2,  34.2600,2,    270.7,2,   271.3,2,     6.9,2,    20.9,2,    0.02,2,   1.530,2,-999.0000,9,-999.0000,9,-999.0000,9,  2138.9,2,  2262.6,3,   7.7170,2,    25.00, -999.00,9,  -999.0,9,  -999.0,-999.0000,9, -999.00,9,  -999.0,9, -999.00,9, -999.00,9,     -999.0,9, -999.00,9,  -999.0,9,     -999.0,     -999.0,9,     -999.0,9,     -999.0,     -999.0,9,     -999.0,     -999.0,9,     -999.0,     -999.0,     -999.0,9,     -999.0,9,     -999.0,9,     -999.0,9,     -999.0,9,     -999.0,9,     -999.0,9,     -999.0,9
33RO20161119,        P18,     170,          1,         19,      11083,2,20170115,       0711,   -51.0001,  -102.9988,       4386,   284.7,   6.4076,  34.2671,2,  34.2676,2,    273.1,2,   273.4,2,     5.9,2,    20.0,2,    0.02,2,   1.459,2,   3.9674,2,   2.2465,2,   2.2795,2,  2135.3,2,  2260.7,3,   7.7236,2,    25.00, -999.00,9,  -999.0,9,  -999.0,   3.9369,2, -999.00,9,  -999.0,9, -999.00,9, -999.00,9,    13.1202,2, -999.00,9,  -999.0,9,     -999.0,     -999.0,9,     -999.0,9,     -999.0,     -999.0,9,     -999.0,     -999.0,9,     -999.0,     -999.0,     -999.0,9,     -999.0,9,     -999.0,9,     -999.0,9,     -999.0,9,     -999.0,9,     -999.0,9,     -999.0,9
33RO20161119,        P18,     170,          1,         20,      11118,2,20170115,       0711,   -51.0001,  -102.9988,       4386,   199.4,   6.6768,  34.2606,2,  34.2712,2,    276.0,2,   274.5,2,     4.9,2,    18.9,2,    0.02,2,   1.420,2,   3.9933,2,   2.2634,2,   2.3566,2,  2129.7,2,  2275.9,2,   7.7264,2,    25.00, -999.00,9,  -999.0,9,  -999.0,   0.0966,2, -999.00,9,  -999.0,9, -999.00,9, -999.00,9,    13.4602,2, -999.00,9,  -999.0,9,     -999.0,     -999.0,9,     -999.0,9,     -999.0,     -999.0,9,     -999.0,     -999.0,9,     -999.0,     -999.0,     -999.0,9,     -999.0,9,     -999.0,9,     -999.0,9,     -999.0,9,     -999.0,9,     -999.0,9,     -999.0,9
33RO20161119,        P18,     170,          1,         21,      11119,2,20170115,       0711,   -51.0001,  -102.9988,       4386,   120.9,   6.9115,  34.1785,2,  34.1773,2,    288.9,2,   288.4,2,     3.0,2,    15.6,2,    0.27,2,   1.282,2,   3.9754,2,   2.2503,2,   2.7067,2,  2112.9,6,  2267.5,2,   7.7610,2,    25.00, -999.00,9,  -999.0,9,  -999.0,    0.091,2, -999.00,9,  -999.0,9, -999.00,9, -999.00,9,    11.7834,2, -999.00,9,  -999.0,9,     -999.0,     -999.0,9,     -999.0,9,     -999.0,     -999.0,9,     -999.0,     -999.0,9,     -999.0,     -999.0,     -999.0,9,     -999.0,9,     -999.0,9,     -999.0,9,     -999.0,9,     -999.0,9,     -999.0,9,     -999.0,9
33RO20161119,        P18,     170,          1,         22,      11120,2,20170115,       0711,   -51.0001,  -102.9988,       4386,    75.8,   8.6317,  34.1361,2,  34.1373,2,    288.4,2,   286.6,2,     0.5,2,    13.8,2,    0.23,2,   1.161,2,   3.7267,2,   2.1207,2,   2.5620,2,  2097.2,2,  2271.0,2,   7.7972,2,    25.00, -999.00,9,  -999.0,9,  -999.0,   0.1128,2,  111.06,6,  -999.0,9, -999.00,9,   19.87,6,    11.0307,2, -999.00,9,  -999.0,9,     -999.0,     -999.0,9,     -999.0,9,     -999.0,     -999.0,9,     -999.0,     -999.0,9,     -999.0,     -999.0,     -999.0,9,     -999.0,9,     -999.0,9,     -999.0,9,     -999.0,9,     -999.0,9,     -999.0,9,     -999.0,9
33RO20161119,        P18,     170,          1,         23,      11121,2,20170115,       0711,   -51.0001,  -102.9988,       4386,    36.0,   9.5281,  34.1263,2,  34.1255,2,    282.6,2,   283.6,2,     0.1,6,    13.1,6,    0.24,6,   1.086,6,   3.6059,2,   2.0599,2,   2.4946,2,  2091.3,2,  2267.7,2,   7.8124,2,    25.00, -999.00,9,  -999.0,9,  -999.0,   0.0688,2, -999.00,9,  -999.0,9, -999.00,9, -999.00,9,    10.6947,2, -999.00,9,  -999.0,9,     -999.0,     -999.0,9,     -999.0,9,     -999.0,     -999.0,9,     -999.0,     -999.0,9,     -999.0,     -999.0,     -999.0,9,     -999.0,9,     -999.0,9,     -999.0,9,     -999.0,9,     -999.0,9,     -999.0,9,     -999.0,9
33RO20161119,        P18,     170,          1,         24,      11122,2,20170115,       0711,   -51.0001,  -102.9988,       4386,     9.5,   9.5259,  34.1261,2,  34.1255,2,    281.6,2,   283.6,2,     0.1,6,    13.3,6,    0.24,2,   1.083,6,   3.5867,2,   2.0543,2,   2.4793,2,  2091.6,2,  2268.2,2,   7.8114,2,    25.00, -999.00,9,  -999.0,9,  -999.0,    0.196,2, -999.00,9,  -999.0,9, -999.00,9, -999.00,9,    10.6554,2, -999.00,9,  -999.0,9,     -999.0,     -999.0,9,     -999.0,9,     -999.0,     -999.0,9,     -999.0,     -999.0,9,     -999.0,     -999.0,     -999.0,9,     -999.0,9,     -999.0,9,     -999.0,9,     -999.0,9,     -999.0,9,     -999.0,9,     -999.0,9