BOTTLE,20230606CCHSIOCBG
EXPOCODE,SECT_ID,STNNBR,CASTNO,SAMPNO,BTLNBR,BTLNBR_FLAG_W,DATE,TIME,LATITUDE,LONGITUDE,DEPTH,CTDPRS,CTDTMP,CTDSAL,CTDSAL_FLAG_W,SALNTY,SALNTY_FLAG_W,CTDOXY,CTDOXY_FLAG_W,OXYGEN,OXYGEN_FLAG_W,SILCAT,SILCAT_FLAG_W,NITRAT,NITRAT_FLAG_W,NITRIT,NITRIT_FLAG_W,PHSPHT,PHSPHT_FLAG_W,CFC-11,CFC-11_FLAG_W,CFC-12,CFC-12_FLAG_W,SF6,SF6_FLAG_W,TCARBN,TCARBN_FLAG_W,ALKALI,ALKALI_FLAG_W,PH_SWS,PH_SWS_FLAG_W,PH_TMP,DELC13,DELC13_FLAG_W,DELC14,DELC14_FLAG_W,C14ERR,CCL4,CCL4_FLAG_W,POC,POC_FLAG_W,DOC,DOC_FLAG_W,TDN,TDN_FLAG_W,PON,PON_FLAG_W,N2O,N2O_FLAG_W,D15N_NO3,D15N_NO3_FLAG_W,14C-DOC,14C-DOC_FLAG_W,14C-DOCERR,13C-DOC,13C-DOC_FLAG_W,N2/ARGON_UNSTRIPPED,N2/ARGON_UNSTRIPPED_FLAG_W,N2/ARGON_UNSTRIPPED_ERROR,N2/ARGON,N2/ARGON_FLAG_W,N2/ARGON_ERROR,D15N_N2,D15N_N2_FLAG_W,D15N_N2_ERROR,D15N_NO3_ERROR,D15N_NO2+NO3,D15N_NO2+NO3_FLAG_W,D18O_NO2+NO3,D18O_NO2+NO3_FLAG_W,D18O_NO3,D18O_NO3_FLAG_W,TDP,TDP_FLAG_W,N2O_ALT_1,N2O_ALT_1_FLAG_W,D15N_N2O,D15N_N2O_FLAG_W,D18O_N2O,D18O_N2O_FLAG_W,D15N_ALPHA_N2O,D15N_ALPHA_N2O_FLAG_W
,,,,,,,,,,,METERS,DBAR,ITS-90,PSS-78,,PSS-78,,UMOL/KG,,UMOL/KG,,UMOL/KG,,UMOL/KG,,UMOL/KG,,UMOL/KG,,PMOL/KG,,PMOL/KG,,FMOL/KG,,UMOL/KG,,UMOL/KG,,,,DEG C,/MILLE,,/MILLE,,/MILLE,PMOL/KG,,UG/KG,,UMOL/KG,,UMOL/KG,,UG/KG,,NMOL/KG,,/MILLE,,/MILLE,,/MILLE,/MILLE,,,,,,,,/MILLE,,/MILLE,/MILLE,/MILLE,,/MILLE,,/MILLE,,UMOL/KG,,NMOL/L,,/MILLE,,/MILLE,,/MILLE,
33RO20161119,        P18,      31,          1,          1,      11010,2,20161201,       2211,     8.9998,  -109.9999,       4117,  4157.4,   1.6116,  34.6852,2,  34.6875,2,    138.8,2,   138.7,2,   150.5,6,    37.1,6,    0.01,6,   2.529,6,   0.0038,2,   0.0020,2,   0.0314,2,  2344.3,6,  2434.5,2,   7.5959,3,    25.00, -999.00,9,  -999.0,9,  -999.0,        0,2, -999.00,9,    39.5,2,   35.70,2, -999.00,9,    21.3687,2, -999.00,9,  -999.0,9,     -999.0,     -999.0,9,     -999.0,9,     -999.0,     -999.0,9,     -999.0,     -999.0,9,     -999.0,     -999.0,     -999.0,9,     -999.0,9,     -999.0,9,     -999.0,9,     -999.0,9,     -999.0,9,     -999.0,9,     -999.0,9
33RO20161119,        P18,      31,          1,          2,      11101,2,20161201,       2211,     8.9998,  -109.9999,       4117,  3798.6,   1.6074,  34.6832,2,  34.6879,2,    135.3,2,   135.2,2,   151.4,6,    37.4,6,    0.01,6,   2.542,6,   0.0034,2,   0.0016,2,   0.0000,2,  2345.6,2,  2432.4,2,   7.5576,2,    25.00, -999.00,9,  -999.0,9,  -999.0,        0,2, -999.00,9,    39.7,2,   37.70,2, -999.00,9,    21.4358,2, -999.00,9,  -999.0,9,     -999.0,     -999.0,9,     -999.0,9,     -999.0,     -999.0,9,     -999.0,     -999.0,9,     -999.0,     -999.0,     -999.0,9,     -999.0,9,     -999.0,9,     -999.0,9,     -999.0,9,     -999.0,9,     -999.0,9,     -999.0,9
33RO20161119,        P18,      31,          1,          3,      11102,2,20161201,       2211,     8.9998,  -109.9999,       4117,  3550.3,   1.6046,  34.6821,2,  34.6814,2,    133.0,2,   132.9,2,   151.5,6,    37.4,6,    0.01,6,   2.557,6,   0.0033,2,   0.0019,2,   0.0000,2,  2344.8,2,  2433.0,2,   7.5509,2,    25.00, -999.00,9,  -999.0,9,  -999.0,   0.0135,2, -999.00,9,    40.1,2,   39.80,2, -999.00,9,    21.7959,2, -999.00,9,  -999.0,9,     -999.0,     -999.0,9,     -999.0,9,     -999.0,     -999.0,9,     -999.0,     -999.0,9,     -999.0,     -999.0,     -999.0,9,     -999.0,9,     -999.0,9,     -999.0,9,     -999.0,9,     -999.0,9,     -999.0,9,     -999.0,9
33RO20161119,        P18,      31,          1,          4,      11103,2,20161201,       2211,     8.9998,  -109.9999,       4117,  3250.6,   1.6466,  34.6790,2,  34.6782,2,    127.0,2,   127.4,2,   152.8,6,    37.8,6,    0.01,6,   2.581,6,   0.0037,2,   0.0028,2,   0.0000,2,  2348.2,2,  2431.1,6,   7.5375,2,    25.00, -999.00,9,  -999.0,9,  -999.0,        0,2, -999.00,9,    40.4,2,   33.80,3, -999.00,9,    21.8391,2, -999.00,9,  -999.0,9,     -999.0,     -999.0,9,     -999.0,9,     -999.0,     -999.0,9,     -999.0,     -999.0,9,     -999.0,     -999.0,     -999.0,9,     -999.0,9,     -999.0,9,     -999.0,9,     -999.0,9,     -999.0,9,     -999.0,9,     -999.0,9
33RO20161119,        P18,      31,          1,          5,      11104,2,20161201,       2211,     8.9998,  -109.9999,       4117,  2949.1,   1.7498,  34.6734,2,  34.6790,2,    116.8,2,   117.2,2,   152.8,2,    38.3,2,    0.01,2,   2.647,2,   0.0035,2,   0.0020,2,   0.0404,2,  2354.6,2,  2427.3,2,   7.5230,2,    25.00, -999.00,9,  -999.0,9,  -999.0,        0,2, -999.00,9,    40.0,2,   46.80,2, -999.00,9,    23.4769,2, -999.00,9,  -999.0,9,     -999.0,     -999.0,9,     -999.0,9,     -999.0,     -999.0,9,     -999.0,     -999.0,9,     -999.0,     -999.0,     -999.0,9,     -999.0,9,     -999.0,9,     -999.0,9,     -999.0,9,     -999.0,9,     -999.0,9,     -999.0,9
33RO20161119,        P18,      31,          1,          6,      11105,2,20161201,       2211,     8.9998,  -109.9999,       4117,  2645.8,   1.8378,  34.6687,2,  34.6679,2,    109.8,2,   110.2,2,   152.6,2,    38.7,2,    0.01,2,   2.679,2,   0.0041,2,   0.0022,2,   0.0000,2,  2359.3,2,  2431.2,2,   7.5111,2,    25.00, -999.00,9,  -999.0,9,  -999.0,        0,2, -999.00,9,    40.2,2,   40.40,2, -999.00,9,    23.7509,2, -999.00,9,  -999.0,9,     -999.0,     -999.0,9,     -999.0,9,     -999.0,     -999.0,9,     -999.0,     -999.0,9,     -999.0,     -999.0,     -999.0,9,     -999.0,9,     -999.0,9,     -999.0,9,     -999.0,9,     -999.0,9,     -999.0,9,     -999.0,9
33RO20161119,        P18,      31,          1,          7,      11106,2,20161201,       2211,     8.9998,  -109.9999,       4117,  2324.6,   1.9247,  34.6625,2,  34.6624,2,    104.4,2,   105.4,2,   150.5,2,    39.0,2,    0.01,2,   2.718,2,   0.0033,2,   0.0021,2,   0.0520,2,  2358.5,2,  2427.8,2,   7.5011,2,    25.00, -999.00,9,  -999.0,9,  -999.0,   0.0178,2, -999.00,9,    38.7,2,   45.30,2, -999.00,9,    24.8847,2, -999.00,9,  -999.0,9,     -999.0,     -999.0,9,     -999.0,9,     -999.0,     -999.0,9,     -999.0,     -999.0,9,     -999.0,     -999.0,     -999.0,9,     -999.0,9,     -999.0,9,     -999.0,9,     -999.0,9,     -999.0,9,     -999.0,9,     -999.0,9
33RO20161119,        P18,      31,          1,          8,      11107,2,20161201,       2211,     8.9998,  -109.9999,       4117,  2004.7,   2.2535,  34.6433,2,  34.6451,2,     90.9,2,    90.5,2,   142.9,2,    40.3,2,    0.01,2,   2.818,2,   0.0036,2,   0.0018,2,   0.0258,2,  2359.0,2,  2419.2,2,   7.4688,2,    25.00, -999.00,9,  -999.0,9,  -999.0,        0,2, -999.00,9,    38.5,2,   47.90,2, -999.00,9,    27.9453,2, -999.00,9,  -999.0,9,     -999.0,     -999.0,9,     -999.0,9,     -999.0,     -999.0,9,     -999.0,     -999.0,9,     -999.0,     -999.0,     -999.0,9,     -999.0,9,     -999.0,9,     -999.0,9,     -999.0,9,     -999.0,9,     -999.0,9,     -999.0,9
33RO20161119,        P18,      31,          1,          9,      11108,2,20161201,       2211,     8.9998,  -109.9999,       4117,  1644.0,   2.8119,  34.6166,2,  34.6129,2,     75.8,2,    76.5,2,   129.6,2,    41.1,2,    0.01,2,   2.916,2,   0.0039,2,   0.0019,2,   0.0000,2,  2353.6,2,  2401.3,2,   7.4450,2,    25.00, -999.00,9,  -999.0,9,  -999.0,        0,2, -999.00,9,    42.2,2,   43.10,2, -999.00,9,    32.0747,2, -999.00,9,  -999.0,9,     -999.0,     -999.0,9,     -999.0,9,     -999.0,     -999.0,9,     -999.0,     -999.0,9,     -999.0,     -999.0,     -999.0,9,     -999.0,9,     -999.0,9,     -999.0,9,     -999.0,9,     -999.0,9,     -999.0,9,     -999.0,9
33RO20161119,        P18,      31,          1,         10,      11109,2,20161201,       2211,     8.9998,  -109.9999,       4117,  1429.4,   3.2073,  34.6010,2,  34.6044,2,     61.7,2,    62.2,2,   122.1,2,    42.3,2,    0.01,2,   3.007,2,   0.0021,6,   0.0005,6,   0.0000,6,  2353.6,2,  2392.2,2,   7.4131,2,    25.00, -999.00,9,  -999.0,9,  -999.0,        0,2, -999.00,9,    39.8,2,   46.60,2, -999.00,9,    36.0839,2, -999.00,9,  -999.0,9,     -999.0,     -999.0,9,     -999.0,9,     -999.0,     -999.0,9,     -999.0,     -999.0,9,     -999.0,     -999.0,     -999.0,9,     -999.0,9,     -999.0,9,     -999.0,9,     -999.0,9,     -999.0,9,     -999.0,9,     -999.0,9
33RO20161119,        P18,      31,          1,         11,      11110,2,20161201,       2211,     8.9998,  -109.9999,       4117,  1274.9,   3.5279,  34.5897,2,  34.5897,2,     52.6,2,    53.2,2,   114.6,2,    43.0,2,    0.01,2,   3.061,2,   0.0035,2,   0.0023,2,   0.0548,2,  2351.2,2,  2384.2,2,   7.3966,2,    25.00, -999.00,9,  -999.0,9,  -999.0,        0,2, -999.00,9,    40.9,2,   49.10,2, -999.00,9,    38.3105,2, -999.00,9,  -999.0,9,     -999.0,     -999.0,9,     -999.0,9,     -999.0,     -999.0,9,     -999.0,     -999.0,9,     -999.0,     -999.0,     -999.0,9,     -999.0,9,     -999.0,9,     -999.0,9,     -999.0,9,     -999.0,9,     -999.0,9,     -999.0,9
33RO20161119,        P18,      31,          1,         12,      11111,2,20161201,       2211,     8.9998,  -109.9999,       4117,  1135.2,   3.9308,  34.5789,2,  34.5808,2,     40.4,2,    40.5,2,   106.6,2,    43.8,2,    0.01,2,   3.139,2,   0.0030,2,   0.0013,2,   0.0000,2,  2349.2,2,  2375.8,2,   7.3722,2,    25.00, -999.00,9,  -999.0,9,  -999.0,        0,2, -999.00,9,    39.8,2,   47.40,2, -999.00,9,    41.3181,2, -999.00,9,  -999.0,9,     -999.0,     -999.0,9,     -999.0,9,     -999.0,     -999.0,9,     -999.0,     -999.0,9,     -999.0,     -999.0,     -999.0,9,     -999.0,9,     -999.0,9,     -999.0,9,     -999.0,9,     -999.0,9,     -999.0,9,     -999.0,9
33RO20161119,        P18,      31,          1,         13,      11112,2,20161201,       2211,     8.9998,  -109.9999,       4117,   999.6,   4.4194,  34.5662,2,  34.5655,2,     28.5,2,    29.1,2,    97.5,2,    44.4,2,    0.01,2,   3.194,2,   0.0029,2,   0.0015,2,   0.0000,2,  2344.5,2,  2362.5,2,   7.3521,6,    25.00, -999.00,9,  -999.0,9,  -999.0,        0,2, -999.00,9,    40.9,2,   52.40,2, -999.00,9,     46.492,2, -999.00,9,  -999.0,9,     -999.0,     -999.0,9,     -999.0,9,     -999.0,     -999.0,9,     -999.0,     -999.0,9,     -999.0,     -999.0,     -999.0,9,     -999.0,9,     -999.0,9,     -999.0,9,     -999.0,9,     -999.0,9,     -999.0,9,     -999.0,9
33RO20161119,        P18,      31,          1,         14,      11113,2,20161201,       2211,     8.9998,  -109.9999,       4117,   874.3,   4.8706,  34.5570,2,  34.5603,2,     23.1,2,    22.6,6,    88.4,2,    44.6,2,    0.01,2,   3.202,2,   0.0030,2,   0.0014,2,   0.0171,2,  2337.9,2,  2354.4,6,   7.3432,2,    25.00, -999.00,9,  -999.0,9,  -999.0,        0,2, -999.00,9,    42.5,2,   52.80,2, -999.00,9,    49.6446,2, -999.00,9,  -999.0,9,     -999.0,     -999.0,9,     -999.0,9,     -999.0,     -999.0,9,     -999.0,     -999.0,9,     -999.0,     -999.0,     -999.0,9,     -999.0,9,     -999.0,9,     -999.0,9,     -999.0,9,     -999.0,9,     -999.0,9,     -999.0,9
33RO20161119,        P18,      31,          1,         15,      11114,2,20161201,       2211,     8.9998,  -109.9999,       4117,   749.4,   5.5060,  34.5523,2,  34.5512,2,     10.2,2,    10.8,2,    78.9,2,    44.7,2,    0.01,2,   3.234,2,   0.0033,2,   0.0028,2,   0.0513,2,  2332.7,6,  2342.3,2,   7.6775,4,    25.00, -999.00,9,  -999.0,9,  -999.0,        0,2, -999.00,9,    40.0,2,   49.20,2, -999.00,9,    57.7807,2, -999.00,9,  -999.0,9,     -999.0,     -999.0,9,     -999.0,9,     -999.0,     -999.0,9,     -999.0,     -999.0,9,     -999.0,     -999.0,     -999.0,9,     -999.0,9,     -999.0,9,     -999.0,9,     -999.0,9,     -999.0,9,     -999.0,9,     -999.0,9
33RO20161119,        P18,      31,          1,         16,      11115,2,20161201,       2211,     8.9998,  -109.9999,       4117,   624.1,   6.2367,  34.5542,2,  34.5528,2,      3.3,2,     4.3,2,    70.7,2,    42.5,2,    0.01,2,   3.213,2,   0.0048,6,   0.0033,6,   0.0104,6,  2326.3,2,  2336.4,2,   7.3172,2,    25.00, -999.00,9,  -999.0,9,  -999.0,        0,2, -999.00,9,    42.9,2,   50.70,2, -999.00,9,    62.1911,2, -999.00,9,  -999.0,9,     -999.0,     -999.0,9,     -999.0,9,     -999.0,     -999.0,9,     -999.0,     -999.0,9,     -999.0,     -999.0,     -999.0,9,     -999.0,9,     -999.0,9,     -999.0,9,     -999.0,9,     -999.0,9,     -999.0,9,     -999.0,9
33RO20161119,        P18,      31,          1,         17,      11116,2,20161201,       2211,     8.9998,  -109.9999,       4117,   515.3,   7.3583,  34.5713,2,  34.5726,2,      2.4,2,     2.4,2,    59.5,2,    37.2,2,    0.01,2,   3.098,2,  -0.0001,4,  -0.0001,4,  -0.0060,4,  2312.1,2,  2326.6,2,   7.3321,2,    25.00, -999.00,9,  -999.0,9,  -999.0,   0.0118,2, -999.00,9,    41.9,2,   43.00,2, -999.00,9,    -0.1891,4, -999.00,9,  -999.0,9,     -999.0,     -999.0,9,     -999.0,9,     -999.0,     -999.0,9,     -999.0,     -999.0,9,     -999.0,     -999.0,     -999.0,9,     -999.0,9,     -999.0,9,     -999.0,9,     -999.0,9,     -999.0,9,     -999.0,9,     -999.0,9
33RO20161119,        P18,      31,          1,         18,      11117,2,20161201,       2211,     8.9998,  -109.9999,       4117,   400.1,   8.9321,  34.6222,2,  34.6206,2,      2.4,2,     1.8,2,    44.8,2,    32.6,2,    0.01,2,   2.861,2,   0.1050,2,   0.0640,2,   0.0000,2,  2295.1,2,  2313.3,2,   7.3500,2,    25.00, -999.00,9,  -999.0,9,  -999.0,   0.0341,2, -999.00,9,    44.5,2,   33.70,2, -999.00,9,    28.8717,2, -999.00,9,  -999.0,9,     -999.0,     -999.0,9,     -999.0,9,     -999.0,     -999.0,9,     -999.0,     -999.0,9,     -999.0,     -999.0,     -999.0,9,     -999.0,9,     -999.0,9,     -999.0,9,     -999.0,9,     -999.0,9,     -999.0,9,     -999.0,9
33RO20161119,        P18,      31,          1,         19,      11083,2,20161201,       2211,     8.9998,  -109.9999,       4117,   299.7,  10.1055,  34.6802,2,  34.6811,2,      3.0,2,     3.5,6,    35.0,2,    33.0,2,    0.02,2,   2.662,2,   0.3404,2,   0.1957,2,   0.1060,2,  2278.5,2,  2302.9,2,   7.3708,2,    25.00, -999.00,9,  -999.0,9,  -999.0,   0.0484,2, -999.00,9,    45.0,2,   35.80,2, -999.00,9,    45.2223,2, -999.00,9,  -999.0,9,     -999.0,     -999.0,9,     -999.0,9,     -999.0,     -999.0,9,     -999.0,     -999.0,9,     -999.0,     -999.0,     -999.0,9,     -999.0,9,     -999.0,9,     -999.0,9,     -999.0,9,     -999.0,9,     -999.0,9,     -999.0,9
33RO20161119,        P18,      31,          1,         20,      11118,2,20161201,       2211,     8.9998,  -109.9999,       4117,   220.0,  11.2191,  34.7415,2,  34.7465,2,      3.8,2,     3.9,2,    29.5,2,    32.5,2,    0.01,2,   2.506,2,   0.6928,2,   0.3888,2,   0.1825,2,  2265.4,2,  2298.6,2,   7.3961,2,    25.00, -999.00,9,  -999.0,9,  -999.0,   0.0672,2, -999.00,9,    50.8,2,   37.30,2, -999.00,9,    47.7498,2, -999.00,9,  -999.0,9,     -999.0,     -999.0,9,     -999.0,9,     -999.0,     -999.0,9,     -999.0,     -999.0,9,     -999.0,     -999.0,     -999.0,9,     -999.0,9,     -999.0,9,     -999.0,9,     -999.0,9,     -999.0,9,     -999.0,9,     -999.0,9
33RO20161119,        P18,      31,          1,         21,      11119,2,20161201,       2211,     8.9998,  -109.9999,       4117,   144.4,  12.3786,  34.8020,2,  34.8022,2,      6.0,2,     6.3,2,    25.7,2,    32.1,2,    0.02,2,   2.395,2,   1.0453,2,   0.5834,2,   0.2755,2,  2252.3,2,  2297.0,6,   7.4260,2,    25.00, -999.00,9,  -999.0,9,  -999.0,   0.1384,2, -999.00,9,    48.7,2,   35.60,2, -999.00,9,    72.5229,2, -999.00,9,  -999.0,9,     -999.0,     -999.0,9,     -999.0,9,     -999.0,     -999.0,9,     -999.0,     -999.0,9,     -999.0,     -999.0,     -999.0,9,     -999.0,9,     -999.0,9,     -999.0,9,     -999.0,9,     -999.0,9,     -999.0,9,     -999.0,9
33RO20161119,        P18,      31,          1,         22,      11120,2,20161201,       2211,     8.9998,  -109.9999,       4117,    69.5,  16.0472,  34.7141,2,  34.7156,2,      9.7,2,     9.0,2,    18.1,2,    27.4,2,    0.21,2,   2.276,2,   1.4402,2,   0.8428,2,   0.6192,2,  2227.7,2,  2285.1,2,   7.4771,6,    25.00, -999.00,9,  -999.0,9,  -999.0,   1.1779,2, -999.00,9,    57.3,2,   30.40,2, -999.00,9,    85.1103,2, -999.00,9,  -999.0,9,     -999.0,     -999.0,9,     -999.0,9,     -999.0,     -999.0,9,     -999.0,     -999.0,9,     -999.0,     -999.0,     -999.0,9,     -999.0,9,     -999.0,9,     -999.0,9,     -999.0,9,     -999.0,9,     -999.0,9,     -999.0,9
33RO20161119,        P18,      31,          1,         23,      11121,2,20161201,       2211,     8.9998,  -109.9999,       4117,    30.2,  27.4266,  33.0370,2,  33.1697,2,    201.2,2,   199.0,2,     1.0,2,     0.0,2,    0.01,2,   0.220,2,   1.5755,2,   0.9986,2,   1.3852,2,  1901.4,6,  2187.2,2,   8.0591,2,    25.00, -999.00,9,  -999.0,9,  -999.0,   1.5718,2, -999.00,9,    78.1,2,    3.60,2, -999.00,9,    11.0966,2, -999.00,9,  -999.0,9,     -999.0,     -999.0,9,     -999.0,9,     -999.0,     -999.0,9,     -999.0,     -999.0,9,     -999.0,     -999.0,     -999.0,9,     -999.0,9,     -999.0,9,     -999.0,9,     -999.0,9,     -999.0,9,     -999.0,9,     -999.0,9
33RO20161119,        P18,      31,          1,         24,      11122,2,20161201,       2211,     8.9998,  -109.9999,       4117,     3.3,  28.1368,  32.7053,2,  32.7080,2,    196.1,2,   200.4,2,     0.7,2,     0.0,2,    0.01,2,   0.146,2,   1.5178,2,   0.9648,2,   1.4093,2,  1856.8,2,  2155.0,2,   8.0892,2,    25.00, -999.00,9,  -999.0,9,  -999.0,        0,2, -999.00,9,    77.7,2,    2.60,2, -999.00,9,     6.5822,2, -999.00,9,  -999.0,9,     -999.0,     -999.0,9,     -999.0,9,     -999.0,     -999.0,9,     -999.0,     -999.0,9,     -999.0,     -999.0,     -999.0,9,     -999.0,9,     -999.0,9,     -999.0,9,     -999.0,9,     -999.0,9,     -999.0,9,     -999.0,9