BOTTLE,20230606CCHSIOCBG
EXPOCODE,SECT_ID,STNNBR,CASTNO,SAMPNO,BTLNBR,BTLNBR_FLAG_W,DATE,TIME,LATITUDE,LONGITUDE,DEPTH,CTDPRS,CTDTMP,CTDSAL,CTDSAL_FLAG_W,SALNTY,SALNTY_FLAG_W,CTDOXY,CTDOXY_FLAG_W,OXYGEN,OXYGEN_FLAG_W,SILCAT,SILCAT_FLAG_W,NITRAT,NITRAT_FLAG_W,NITRIT,NITRIT_FLAG_W,PHSPHT,PHSPHT_FLAG_W,CFC-11,CFC-11_FLAG_W,CFC-12,CFC-12_FLAG_W,SF6,SF6_FLAG_W,TCARBN,TCARBN_FLAG_W,ALKALI,ALKALI_FLAG_W,PH_SWS,PH_SWS_FLAG_W,PH_TMP,DELC13,DELC13_FLAG_W,DELC14,DELC14_FLAG_W,C14ERR,CCL4,CCL4_FLAG_W,POC,POC_FLAG_W,DOC,DOC_FLAG_W,TDN,TDN_FLAG_W,PON,PON_FLAG_W,N2O,N2O_FLAG_W,D15N_NO3,D15N_NO3_FLAG_W,14C-DOC,14C-DOC_FLAG_W,14C-DOCERR,13C-DOC,13C-DOC_FLAG_W,N2/ARGON_UNSTRIPPED,N2/ARGON_UNSTRIPPED_FLAG_W,N2/ARGON_UNSTRIPPED_ERROR,N2/ARGON,N2/ARGON_FLAG_W,N2/ARGON_ERROR,D15N_N2,D15N_N2_FLAG_W,D15N_N2_ERROR,D15N_NO3_ERROR,D15N_NO2+NO3,D15N_NO2+NO3_FLAG_W,D18O_NO2+NO3,D18O_NO2+NO3_FLAG_W,D18O_NO3,D18O_NO3_FLAG_W,TDP,TDP_FLAG_W,N2O_ALT_1,N2O_ALT_1_FLAG_W,D15N_N2O,D15N_N2O_FLAG_W,D18O_N2O,D18O_N2O_FLAG_W,D15N_ALPHA_N2O,D15N_ALPHA_N2O_FLAG_W
,,,,,,,,,,,METERS,DBAR,ITS-90,PSS-78,,PSS-78,,UMOL/KG,,UMOL/KG,,UMOL/KG,,UMOL/KG,,UMOL/KG,,UMOL/KG,,PMOL/KG,,PMOL/KG,,FMOL/KG,,UMOL/KG,,UMOL/KG,,,,DEG C,/MILLE,,/MILLE,,/MILLE,PMOL/KG,,UG/KG,,UMOL/KG,,UMOL/KG,,UG/KG,,NMOL/KG,,/MILLE,,/MILLE,,/MILLE,/MILLE,,,,,,,,/MILLE,,/MILLE,/MILLE,/MILLE,,/MILLE,,/MILLE,,UMOL/KG,,NMOL/L,,/MILLE,,/MILLE,,/MILLE,
33RO20161119,        P18,      57,          1,          1,      11010,2,20161207,       1514,    -0.4957,  -110.0015,       3908,  3952.1,   1.4869,  34.6913,2,  34.6911,2,    154.4,2,   157.2,2,   144.0,6,    36.2,6,    0.00,6,   2.449,6,   0.0027,2,   0.0005,2,   0.0000,2,  2331.2,6,  2431.2,2,   7.5900,2,    25.00, -999.00,9,  -999.0,9,  -999.0,        0,2, -999.00,9,  -999.0,9, -999.00,9, -999.00,9,    20.3014,2, -999.00,9,  -999.0,9,     -999.0,     -999.0,9,      38.07,2,     -999.0,      38.24,2,     -999.0,     -999.0,9,     -999.0,     -999.0,     -999.0,9,     -999.0,9,     -999.0,9,     -999.0,9,     -999.0,9,     -999.0,9,     -999.0,9,     -999.0,9
33RO20161119,        P18,      57,          1,          2,      11101,2,20161207,       1514,    -0.4957,  -110.0015,       3908,  3624.0,   1.4871,  34.6894,2,  34.6882,2,    150.3,2,   151.4,2,   144.2,6,    36.3,6,    0.00,6,   2.459,6,   0.0023,2,   0.0010,2,   0.0000,2,  2331.4,2,  2432.7,2,   7.5979,2,    25.00, -999.00,9,  -999.0,9,  -999.0,        0,2, -999.00,9,  -999.0,9, -999.00,9, -999.00,9,    20.6952,2, -999.00,9,  -999.0,9,     -999.0,     -999.0,9,      38.17,2,     -999.0,     -999.0,9,     -999.0,     -999.0,9,     -999.0,     -999.0,     -999.0,9,     -999.0,9,     -999.0,9,     -999.0,9,     -999.0,9,     -999.0,9,     -999.0,9,     -999.0,9
33RO20161119,        P18,      57,          1,          3,      11102,2,20161207,       1514,    -0.4957,  -110.0015,       3908,  3301.3,   1.5904,  34.6813,2,  34.6813,2,    141.3,2,   141.3,2,   144.8,6,    37.1,6,    0.00,6,   2.514,6,   0.0015,2,   0.0009,2,   0.0000,2,  2335.9,2,  2427.8,6,   7.5735,2,    25.00, -999.00,9,  -999.0,9,  -999.0,        0,2, -999.00,9,  -999.0,9, -999.00,9, -999.00,9,    21.8589,2, -999.00,9,  -999.0,9,     -999.0,     -999.0,9,      37.99,2,     -999.0,      38.15,2,     -999.0,     -999.0,9,     -999.0,     -999.0,     -999.0,9,     -999.0,9,     -999.0,9,     -999.0,9,     -999.0,9,     -999.0,9,     -999.0,9,     -999.0,9
33RO20161119,        P18,      57,          1,          4,      11103,2,20161207,       1514,    -0.4957,  -110.0015,       3908,  2999.5,   1.6448,  34.6765,2,  34.6760,2,    136.9,2,   137.4,2,   143.2,6,    37.3,6,    0.00,6,   2.546,6,   0.0012,2,   0.0000,2,   0.0000,2,  2336.0,2,  2422.0,2,   7.5587,2,    25.00, -999.00,9,  -999.0,9,  -999.0,   0.0141,2, -999.00,9,  -999.0,9, -999.00,9, -999.00,9,    22.3668,2, -999.00,9,  -999.0,9,     -999.0,     -999.0,9,      38.26,2,     -999.0,     -999.0,9,     -999.0,     -999.0,9,     -999.0,     -999.0,     -999.0,9,     -999.0,9,     -999.0,9,     -999.0,9,     -999.0,9,     -999.0,9,     -999.0,9,     -999.0,9
33RO20161119,        P18,      57,          1,          5,      11104,2,20161207,       1514,    -0.4957,  -110.0015,       3908,  2700.6,   1.8129,  34.6682,2,  34.6671,2,    125.0,2,   125.2,2,   143.7,2,    38.0,2,    0.00,2,   2.606,2,   0.0025,2,   0.0008,2,   0.0340,2,  2345.2,2,  2422.2,2,   7.5389,2,    25.00, -999.00,9,  -999.0,9,  -999.0,        0,2, -999.00,9,  -999.0,9, -999.00,9, -999.00,9,    23.1442,2, -999.00,9,  -999.0,9,     -999.0,     -999.0,9,      37.95,2,     -999.0,      38.05,2,     -999.0,     -999.0,9,     -999.0,     -999.0,     -999.0,9,     -999.0,9,     -999.0,9,     -999.0,9,     -999.0,9,     -999.0,9,     -999.0,9,     -999.0,9
33RO20161119,        P18,      57,          1,          6,      11105,2,20161207,       1514,    -0.4957,  -110.0015,       3908,  2400.5,   1.8979,  34.6622,2,  34.6673,4,    119.9,2,   120.8,6,   142.2,2,    38.3,2,    0.00,2,   2.630,2,   0.0021,2,   0.0016,2,   0.0189,2,  2346.0,2,  2419.4,2,   7.5263,2,    25.00, -999.00,9,  -999.0,9,  -999.0,        0,2, -999.00,9,  -999.0,9, -999.00,9, -999.00,9,    24.5194,2, -999.00,9,  -999.0,9,     -999.0,     -999.0,9,      37.96,2,     -999.0,      38.12,2,     -999.0,     -999.0,9,     -999.0,     -999.0,     -999.0,9,     -999.0,9,     -999.0,9,     -999.0,9,     -999.0,9,     -999.0,9,     -999.0,9,     -999.0,9
33RO20161119,        P18,      57,          1,          7,      11106,2,20161207,       1514,    -0.4957,  -110.0015,       3908,  2101.4,   2.1369,  34.6517,2,  34.6511,2,    107.8,2,   108.8,2,   140.5,2,    39.0,2,    0.00,2,   2.719,2,   0.0022,2,   0.0014,2,   0.0373,2,  2350.8,6,  2418.1,2,   7.5049,2,    25.00, -999.00,9,  -999.0,9,  -999.0,        0,2, -999.00,9,  -999.0,9, -999.00,9, -999.00,9,    26.0242,2, -999.00,9,  -999.0,9,     -999.0,     -999.0,9,       38.0,2,     -999.0,      38.14,2,     -999.0,     -999.0,9,     -999.0,     -999.0,     -999.0,9,     -999.0,9,     -999.0,9,     -999.0,9,     -999.0,9,     -999.0,9,     -999.0,9,     -999.0,9
33RO20161119,        P18,      57,          1,          8,      11107,2,20161207,       1514,    -0.4957,  -110.0015,       3908,  1800.7,   2.4214,  34.6351,2,  34.6366,2,     99.7,2,   100.2,2,   134.0,2,    39.7,2,    0.00,2,   2.778,2,   0.0021,2,   0.0019,2,   0.0485,2,  2347.4,2,  2408.0,2,   7.4904,2,    25.00, -999.00,9,  -999.0,9,  -999.0,   0.0211,2, -999.00,9,  -999.0,9, -999.00,9, -999.00,9,    27.3163,2, -999.00,9,  -999.0,9,     -999.0,     -999.0,9,      38.05,2,     -999.0,       38.2,2,     -999.0,     -999.0,9,     -999.0,     -999.0,     -999.0,9,     -999.0,9,     -999.0,9,     -999.0,9,     -999.0,9,     -999.0,9,     -999.0,9,     -999.0,9
33RO20161119,        P18,      57,          1,          9,      11108,2,20161207,       1514,    -0.4957,  -110.0015,       3908,  1500.3,   2.9770,  34.6063,2,  34.6059,2,     93.2,2,    94.0,2,   118.3,2,    40.0,2,    0.00,2,   2.815,2,   0.0023,6,   0.0004,6,   0.0000,6,  2334.9,2,  2398.2,2,   7.4775,2,    25.00, -999.00,9,  -999.0,9,  -999.0,        0,2, -999.00,9,  -999.0,9, -999.00,9, -999.00,9,    29.9568,2, -999.00,9,  -999.0,9,     -999.0,     -999.0,9,      37.96,2,     -999.0,       38.1,2,     -999.0,     -999.0,9,     -999.0,     -999.0,     -999.0,9,     -999.0,9,     -999.0,9,     -999.0,9,     -999.0,9,     -999.0,9,     -999.0,9,     -999.0,9
33RO20161119,        P18,      57,          1,         10,      11109,2,20161207,       1514,    -0.4957,  -110.0015,       3908,  1320.3,   3.4515,  34.5861,2,  34.5870,2,     89.9,2,    90.6,2,   106.4,2,    40.2,2,    0.00,2,   2.821,2,   0.0025,2,   0.0014,2,   0.0000,2,  2324.1,2,  2385.5,2,   7.4697,2,    25.00, -999.00,9,  -999.0,9,  -999.0,        0,2, -999.00,9,  -999.0,9, -999.00,9, -999.00,9,    31.3371,2, -999.00,9,  -999.0,9,     -999.0,     -999.0,9,      37.99,2,     -999.0,      38.14,2,     -999.0,     -999.0,9,     -999.0,     -999.0,     -999.0,9,     -999.0,9,     -999.0,9,     -999.0,9,     -999.0,9,     -999.0,9,     -999.0,9,     -999.0,9
33RO20161119,        P18,      57,          1,         11,      11110,2,20161207,       1514,    -0.4957,  -110.0015,       3908,  1180.1,   3.9165,  34.5710,2,  34.5722,2,     85.5,2,    85.6,2,    95.8,2,    40.2,2,    0.00,2,   2.831,2,   0.0052,2,   0.0033,2,   0.0224,2,  2314.4,2,  2370.4,2,   7.4608,2,    25.00, -999.00,9,  -999.0,9,  -999.0,   0.0198,2, -999.00,9,  -999.0,9, -999.00,9, -999.00,9,    32.7423,2, -999.00,9,  -999.0,9,     -999.0,     -999.0,9,       37.9,2,     -999.0,      38.04,2,     -999.0,     -999.0,9,     -999.0,     -999.0,     -999.0,9,     -999.0,9,     -999.0,9,     -999.0,9,26.65891168,2,       9.09,2,      49.58,2,       21.4,2
33RO20161119,        P18,      57,          1,         12,      11111,2,20161207,       1514,    -0.4957,  -110.0015,       3908,  1048.8,   4.5024,  34.5567,2,  34.5602,2,     79.0,2,    79.8,2,    84.0,2,    40.2,2,    0.00,2,   2.830,2,   0.0113,2,   0.0067,2,   0.0000,2,  2304.3,2,  2357.3,2,   7.4525,2,    25.00, -999.00,9,  -999.0,9,  -999.0,   0.0237,2, -999.00,9,  -999.0,9, -999.00,9, -999.00,9,    34.8095,2, -999.00,9,  -999.0,9,     -999.0,     -999.0,9,      37.98,2,     -999.0,      38.13,2,     -999.0,     -999.0,9,     -999.0,     -999.0,     -999.0,9,     -999.0,9,     -999.0,9,     -999.0,9,33.76002332,2,        9.1,2,      48.74,2,      21.28,2
33RO20161119,        P18,      57,          1,         13,      11112,2,20161207,       1514,    -0.4957,  -110.0015,       3908,   919.6,   5.0592,  34.5485,2,  34.5484,2,     76.3,2,    77.7,2,    73.1,2,    39.9,2,    0.00,2,   2.802,2,   0.0235,2,   0.0130,2,   0.0000,2,  2293.8,2,  2341.6,2,   7.4492,2,    25.00, -999.00,9,  -999.0,9,  -999.0,   0.0522,2, -999.00,9,  -999.0,9, -999.00,9, -999.00,9,    36.9486,2, -999.00,9,  -999.0,9,     -999.0,     -999.0,9,      37.92,2,     -999.0,      38.05,2,     -999.0,     -999.0,9,     -999.0,     -999.0,     -999.0,9,     -999.0,9,     -999.0,9,     -999.0,9,32.24908644,2,        9.2,2,      48.95,2,      20.58,2
33RO20161119,        P18,      57,          1,         14,      11113,2,20161207,       1514,    -0.4957,  -110.0015,       3908,   795.0,   5.5817,  34.5430,2,  34.5423,2,     81.3,2,    81.4,2,    61.9,2,    39.1,2,    0.00,2,   2.727,2,   0.0673,2,   0.0370,2,   0.0000,2,  2277.4,2,  2329.8,2,   7.4653,2,    25.00, -999.00,9,  -999.0,9,  -999.0,   0.0707,2, -999.00,9,  -999.0,9, -999.00,9, -999.00,9,    36.2563,2, -999.00,9,  -999.0,9,     -999.0,     -999.0,9,      37.77,2,     -999.0,      37.83,2,     -999.0,     -999.0,9,     -999.0,     -999.0,     -999.0,9,     -999.0,9,     -999.0,9,     -999.0,9,34.60336438,2,       8.68,2,      48.38,2,      17.68,2
33RO20161119,        P18,      57,          1,         15,      11114,2,20161207,       1514,    -0.4957,  -110.0015,       3908,   675.1,   7.2531,  34.5847,2,  34.5847,2,     55.9,2,    56.8,2,    44.2,2,    38.8,2,    0.00,2,   2.677,2,   0.1745,2,   0.0949,2,   0.0497,2,  2267.2,2,  2309.5,2,   7.4403,2,    25.00, -999.00,9,  -999.0,9,  -999.0,   0.0576,2, -999.00,9,  -999.0,9, -999.00,9, -999.00,9,    45.3441,2, -999.00,9,  -999.0,9,     -999.0,     -999.0,9,      37.94,2,     -999.0,      38.04,2,     -999.0,     -999.0,9,     -999.0,     -999.0,     -999.0,9,     -999.0,9,     -999.0,9,     -999.0,9,44.20581448,2,       7.64,2,      47.13,2,      18.37,2
33RO20161119,        P18,      57,          1,         16,      11115,2,20161207,       1514,    -0.4957,  -110.0015,       3908,   565.6,   8.2897,  34.6343,2,  34.6345,2,     29.9,2,    30.5,2,    40.7,2,    39.1,2,    0.00,2,   2.707,2,   0.2281,2,   0.1252,2,   0.0468,2,  2274.6,2,  2307.1,2,   7.3983,2,    25.00, -999.00,9,  -999.0,9,  -999.0,   0.0602,2, -999.00,9,  -999.0,9, -999.00,9, -999.00,9,    55.2256,2, -999.00,9,  -999.0,9,     -999.0,     -999.0,9,     -999.0,9,     -999.0,     -999.0,9,     -999.0,     -999.0,9,     -999.0,     -999.0,     -999.0,9,     -999.0,9,     -999.0,9,     -999.0,9,     -999.0,9,       5.03,2,      47.04,2,      12.81,2
33RO20161119,        P18,      57,          1,         17,      11116,2,20161207,       1514,    -0.4957,  -110.0015,       3908,   459.6,   9.1004,  34.6788,2,  34.6775,2,     16.6,2,    17.1,6,    37.7,2,    38.6,2,    0.01,2,   2.673,2,   0.3294,2,   0.1818,2,   0.0644,2,  2275.8,2,  2304.0,2,   7.3878,2,    25.00, -999.00,9,  -999.0,9,  -999.0,   0.0633,2, -999.00,9,  -999.0,9, -999.00,9, -999.00,9,    62.0123,2, -999.00,9,  -999.0,9,     -999.0,     -999.0,9,      37.98,2,     -999.0,      38.09,2,     -999.0,     -999.0,9,     -999.0,     -999.0,     -999.0,9,     -999.0,9,     -999.0,9,     -999.0,9,     -999.0,9,       4.88,2,      45.92,2,      12.25,2
33RO20161119,        P18,      57,          1,         18,      11117,2,20161207,       1514,    -0.4957,  -110.0015,       3908,   354.5,  10.3737,  34.7497,2,  34.7512,2,     16.1,2,    16.2,2,    31.9,2,    35.9,2,    0.01,2,   2.513,2,   0.6160,2,   0.3390,2,   0.1184,2,  2265.5,2,  2302.0,6,   7.4103,6,    25.00, -999.00,9,  -999.0,9,  -999.0,   0.0847,2, -999.00,9,  -999.0,9, -999.00,9, -999.00,9,    64.1998,2, -999.00,9,  -999.0,9,     -999.0,     -999.0,9,      38.04,2,     -999.0,      38.16,2,     -999.0,     -999.0,9,     -999.0,     -999.0,     -999.0,9,     -999.0,9,     -999.0,9,     -999.0,9,     -999.0,9,       2.97,2,      43.66,2,       8.81,2
33RO20161119,        P18,      57,          1,         19,      11083,2,20161207,       1514,    -0.4957,  -110.0015,       3908,   265.1,  11.6744,  34.8307,2,  34.8284,2,     25.7,2,    25.3,2,    26.7,2,    32.7,2,    0.01,2,   2.284,2,   0.9678,2,   0.5385,2,   0.2336,2,  2250.1,2,  2303.0,2,   7.4586,2,    25.00, -999.00,9,  -999.0,9,  -999.0,   0.1554,2, -999.00,9,  -999.0,9, -999.00,9, -999.00,9,    62.5551,2, -999.00,9,  -999.0,9,     -999.0,     -999.0,9,      37.94,2,     -999.0,      38.02,2,     -999.0,     -999.0,9,     -999.0,     -999.0,     -999.0,9,     -999.0,9,     -999.0,9,     -999.0,9,     -999.0,9,       4.33,2,      44.18,2,      11.73,2
33RO20161119,        P18,      57,          1,         20,      11118,2,20161207,       1514,    -0.4957,  -110.0015,       3908,   190.3,  12.6797,  34.8893,2,  34.8904,2,     85.9,2,    84.2,2,    19.2,2,    25.3,2,    0.01,2,   1.777,2,   1.4851,6,   0.8304,6,   0.4772,6,  2197.2,2,  2305.1,2,   7.6164,2,    25.00, -999.00,9,  -999.0,9,  -999.0,   0.1968,2, -999.00,9,  -999.0,9, -999.00,9, -999.00,9,    39.5822,2, -999.00,9,  -999.0,9,     -999.0,     -999.0,9,      38.03,2,     -999.0,      38.13,2,     -999.0,     -999.0,9,     -999.0,     -999.0,     -999.0,9,     -999.0,9,     -999.0,9,     -999.0,9,     -999.0,9,        5.1,2,      43.57,2,      14.92,2
33RO20161119,        P18,      57,          1,         21,      11119,2,20161207,       1514,    -0.4957,  -110.0015,       3908,   118.7,  14.8293,  35.0104,2,  35.0043,2,    119.6,2,   119.7,2,    13.0,2,    18.6,2,    0.02,2,   1.355,2,   1.8608,2,   1.0727,2,   0.7762,2,  2158.6,2,  2309.0,2,   7.7275,2,    25.00, -999.00,9,  -999.0,9,  -999.0,   0.3574,2, -999.00,9,  -999.0,9, -999.00,9, -999.00,9,    24.2997,2, -999.00,9,  -999.0,9,     -999.0,     -999.0,9,      38.03,2,     -999.0,      38.05,2,     -999.0,     -999.0,9,     -999.0,     -999.0,     -999.0,9,     -999.0,9,     -999.0,9,     -999.0,9,18.03976059,2,       5.46,2,      43.12,2,       17.8,2
33RO20161119,        P18,      57,          1,         22,      11120,2,20161207,       1514,    -0.4957,  -110.0015,       3908,    60.7,  18.9895,  35.3632,2,  35.3595,2,    132.2,2,   126.9,2,     6.6,2,    14.2,2,    0.28,2,   1.149,2,   1.8796,2,   1.1374,2,   1.0629,2,  2142.0,2,  2326.6,2,   7.8067,2,    25.00, -999.00,9,  -999.0,9,  -999.0,   0.6236,2, -999.00,9,  -999.0,9, -999.00,9, -999.00,9,    20.7044,2, -999.00,9,  -999.0,9,     -999.0,     -999.0,9,      38.03,2,     -999.0,      38.04,2,     -999.0,     -999.0,9,     -999.0,     -999.0,     -999.0,9,     -999.0,9,     -999.0,9,     -999.0,9, 20.4833987,2,       5.21,2,      41.68,2,      16.69,2
33RO20161119,        P18,      57,          1,         23,      11121,2,20161207,       1514,    -0.4957,  -110.0015,       3908,    26.3,  19.2220,  34.8406,2,  34.8398,2,    155.7,2,   155.8,2,     8.8,2,    12.8,2,    0.26,2,   1.001,2,   1.9117,2,   1.1466,2,   1.1448,2,  2102.2,2,  2295.4,2,   7.8285,2,    25.00, -999.00,9,  -999.0,9,  -999.0,   1.0789,2, -999.00,9,  -999.0,9, -999.00,9, -999.00,9,    19.3335,2, -999.00,9,  -999.0,9,     -999.0,     -999.0,9,       38.1,2,     -999.0,       38.1,2,     -999.0,     -999.0,9,     -999.0,     -999.0,     -999.0,9,     -999.0,9,     -999.0,9,     -999.0,9,15.26752081,2,       4.89,2,      41.89,2,      17.33,2
33RO20161119,        P18,      57,          1,         24,      11122,2,20161207,       1514,    -0.4957,  -110.0015,       3908,     2.4,  21.5218,  34.8609,2,  34.8611,2,    187.2,2,   156.0,2,     7.1,2,    10.8,2,    0.25,2,   0.874,2,   1.9058,2,   1.1578,2,   1.3450,2,  2084.5,6,  2294.1,6,   7.8742,2,    25.00, -999.00,9,  -999.0,9,  -999.0,        0,2, -999.00,9,  -999.0,9, -999.00,9, -999.00,9,    13.7135,2, -999.00,9,  -999.0,9,     -999.0,     -999.0,9,      38.03,2,     -999.0,       38.0,2,     -999.0,     -999.0,9,     -999.0,     -999.0,     -999.0,9,     -999.0,9,     -999.0,9,     -999.0,9,14.09381447,2,       5.45,2,      43.64,2,       15.2,2