BOTTLE,20230606CCHSIOCBG
EXPOCODE,SECT_ID,STNNBR,CASTNO,SAMPNO,BTLNBR,BTLNBR_FLAG_W,DATE,TIME,LATITUDE,LONGITUDE,DEPTH,CTDPRS,CTDTMP,CTDSAL,CTDSAL_FLAG_W,SALNTY,SALNTY_FLAG_W,CTDOXY,CTDOXY_FLAG_W,OXYGEN,OXYGEN_FLAG_W,SILCAT,SILCAT_FLAG_W,NITRAT,NITRAT_FLAG_W,NITRIT,NITRIT_FLAG_W,PHSPHT,PHSPHT_FLAG_W,CFC-11,CFC-11_FLAG_W,CFC-12,CFC-12_FLAG_W,SF6,SF6_FLAG_W,TCARBN,TCARBN_FLAG_W,ALKALI,ALKALI_FLAG_W,PH_SWS,PH_SWS_FLAG_W,PH_TMP,DELC13,DELC13_FLAG_W,DELC14,DELC14_FLAG_W,C14ERR,CCL4,CCL4_FLAG_W,POC,POC_FLAG_W,DOC,DOC_FLAG_W,TDN,TDN_FLAG_W,PON,PON_FLAG_W,N2O,N2O_FLAG_W,D15N_NO3,D15N_NO3_FLAG_W,14C-DOC,14C-DOC_FLAG_W,14C-DOCERR,13C-DOC,13C-DOC_FLAG_W,N2/ARGON_UNSTRIPPED,N2/ARGON_UNSTRIPPED_FLAG_W,N2/ARGON_UNSTRIPPED_ERROR,N2/ARGON,N2/ARGON_FLAG_W,N2/ARGON_ERROR,D15N_N2,D15N_N2_FLAG_W,D15N_N2_ERROR,D15N_NO3_ERROR,D15N_NO2+NO3,D15N_NO2+NO3_FLAG_W,D18O_NO2+NO3,D18O_NO2+NO3_FLAG_W,D18O_NO3,D18O_NO3_FLAG_W,TDP,TDP_FLAG_W,N2O_ALT_1,N2O_ALT_1_FLAG_W,D15N_N2O,D15N_N2O_FLAG_W,D18O_N2O,D18O_N2O_FLAG_W,D15N_ALPHA_N2O,D15N_ALPHA_N2O_FLAG_W
,,,,,,,,,,,METERS,DBAR,ITS-90,PSS-78,,PSS-78,,UMOL/KG,,UMOL/KG,,UMOL/KG,,UMOL/KG,,UMOL/KG,,UMOL/KG,,PMOL/KG,,PMOL/KG,,FMOL/KG,,UMOL/KG,,UMOL/KG,,,,DEG C,/MILLE,,/MILLE,,/MILLE,PMOL/KG,,UG/KG,,UMOL/KG,,UMOL/KG,,UG/KG,,NMOL/KG,,/MILLE,,/MILLE,,/MILLE,/MILLE,,,,,,,,/MILLE,,/MILLE,/MILLE,/MILLE,,/MILLE,,/MILLE,,UMOL/KG,,NMOL/L,,/MILLE,,/MILLE,,/MILLE,
33RO20161119,        P18,     209,          1,          1,      11010,2,20170127,       0731,   -69.6910,  -102.0269,       3936,  3996.9,   0.3372,  34.7011,2,  34.7128,4,    213.0,2,   213.1,2,   143.1,2,    33.2,2,    0.01,2,   2.263,2,   0.3863,2,   0.1812,2,   0.0492,2,  2265.6,6,  2365.4,2,   7.5855,2,    25.00, -999.00,9,  -999.0,9,  -999.0,   0.2456,2, -999.00,9,  -999.0,9, -999.00,9, -999.00,9,    18.1625,2, -999.00,9,  -999.0,9,     -999.0,     -999.0,9,     -999.0,9,     -999.0,     -999.0,9,     -999.0,     -999.0,9,     -999.0,     -999.0,     -999.0,9,     -999.0,9,     -999.0,9,     -999.0,9,     -999.0,9,     -999.0,9,     -999.0,9,     -999.0,9
33RO20161119,        P18,     209,          1,          2,      11101,2,20170127,       0731,   -69.6910,  -102.0269,       3936,  3720.9,   0.3959,  34.7033,2,  34.7052,2,    211.4,2,   211.1,2,   138.5,2,    33.2,2,    0.01,2,   2.268,2,   0.2451,2,   0.1180,2,   0.0260,2,  2263.9,2,  2364.6,2,   7.5884,6,    25.00, -999.00,9,  -999.0,9,  -999.0,   0.2254,2, -999.00,9,  -999.0,9, -999.00,9, -999.00,9,    18.1914,2, -999.00,9,  -999.0,9,     -999.0,     -999.0,9,     -999.0,9,     -999.0,     -999.0,9,     -999.0,     -999.0,9,     -999.0,     -999.0,     -999.0,9,     -999.0,9,     -999.0,9,     -999.0,9,     -999.0,9,     -999.0,9,     -999.0,9,     -999.0,9
33RO20161119,        P18,     209,          1,          3,      11102,2,20170127,       0731,   -69.6910,  -102.0269,       3936,  3445.2,   0.4250,  34.7042,2,  34.7031,2,    210.5,2,   210.5,2,   135.5,6,    33.2,6,    0.01,6,   2.252,6,   0.2086,2,   0.1000,2,   0.0538,2,  2262.3,2,  2362.1,2,   7.5901,2,    25.00, -999.00,9,  -999.0,9,  -999.0,   0.2209,2, -999.00,9,  -999.0,9, -999.00,9, -999.00,9,     18.437,2, -999.00,9,  -999.0,9,     -999.0,     -999.0,9,     -999.0,9,     -999.0,     -999.0,9,     -999.0,     -999.0,9,     -999.0,     -999.0,     -999.0,9,     -999.0,9,     -999.0,9,     -999.0,9,     -999.0,9,     -999.0,9,     -999.0,9,     -999.0,9
33RO20161119,        P18,     209,          1,          4,      11103,2,20170127,       0731,   -69.6910,  -102.0269,       3936,  3120.3,   0.4685,  34.7048,2,  34.7046,2,    209.7,2,   209.1,2,   132.8,6,    33.1,6,    0.01,6,   2.250,6,   0.1851,2,   0.0895,2,   0.0286,2,  2263.9,2,  2364.2,6,   7.5934,2,    25.00, -999.00,9,  -999.0,9,  -999.0,   0.2147,2, -999.00,9,  -999.0,9, -999.00,9, -999.00,9,    18.3223,2, -999.00,9,  -999.0,9,     -999.0,     -999.0,9,     -999.0,9,     -999.0,     -999.0,9,     -999.0,     -999.0,9,     -999.0,     -999.0,     -999.0,9,     -999.0,9,     -999.0,9,     -999.0,9,     -999.0,9,     -999.0,9,     -999.0,9,     -999.0,9
33RO20161119,        P18,     209,          1,          5,      11104,2,20170127,       0731,   -69.6910,  -102.0269,       3936,  2796.0,   0.5424,  34.7061,2,  34.7056,2,    208.3,2,   208.1,6,   129.2,6,    33.0,6,    0.01,6,   2.243,6,   0.1744,2,   0.0852,2,   0.0314,2,  2261.4,2,  2363.4,2,   7.5892,2,    25.00, -999.00,9,  -999.0,9,  -999.0,   0.1751,2, -999.00,9,  -999.0,9, -999.00,9, -999.00,9,    18.4014,2, -999.00,9,  -999.0,9,     -999.0,     -999.0,9,     -999.0,9,     -999.0,     -999.0,9,     -999.0,     -999.0,9,     -999.0,     -999.0,     -999.0,9,     -999.0,9,     -999.0,9,     -999.0,9,     -999.0,9,     -999.0,9,     -999.0,9,     -999.0,9
33RO20161119,        P18,     209,          1,          6,      11105,2,20170127,       0731,   -69.6910,  -102.0269,       3936,  2475.4,   0.6607,  34.7087,2,  34.7144,4,    205.9,2,   205.0,2,   125.5,6,    32.9,6,    0.01,6,   2.245,6,   0.1589,2,   0.0772,2,   0.0502,2,  2260.1,2,  2362.5,2,   7.5911,2,    25.00, -999.00,9,  -999.0,9,  -999.0,   0.1641,2, -999.00,9,  -999.0,9, -999.00,9, -999.00,9,    18.5598,2, -999.00,9,  -999.0,9,     -999.0,     -999.0,9,     -999.0,9,     -999.0,     -999.0,9,     -999.0,     -999.0,9,     -999.0,     -999.0,     -999.0,9,     -999.0,9,     -999.0,9,     -999.0,9,     -999.0,9,     -999.0,9,     -999.0,9,     -999.0,9
33RO20161119,        P18,     209,          1,          7,      11106,2,20170127,       0731,   -69.6910,  -102.0269,       3936,  2154.9,   0.7804,  34.7119,2,  34.7108,2,    203.2,2,   202.8,2,   121.5,2,    32.7,2,    0.01,2,   2.233,2,   0.1486,2,   0.0725,2,   0.0000,2,  2258.9,2,  2361.7,2,   7.5902,2,    25.00, -999.00,9,  -999.0,9,  -999.0,   0.1604,2, -999.00,9,  -999.0,9, -999.00,9, -999.00,9,    18.6589,2, -999.00,9,  -999.0,9,     -999.0,     -999.0,9,     -999.0,9,     -999.0,     -999.0,9,     -999.0,     -999.0,9,     -999.0,     -999.0,     -999.0,9,     -999.0,9,     -999.0,9,     -999.0,9,     -999.0,9,     -999.0,9,     -999.0,9,     -999.0,9
33RO20161119,        P18,     209,          1,          8,      11107,2,20170127,       0731,   -69.6910,  -102.0269,       3936,  1834.6,   0.9139,  34.7168,2,  34.7184,2,    200.5,2,   200.3,2,   117.5,2,    32.6,2,    0.01,2,   2.214,2,   0.1184,6,   0.0575,6,   0.0272,6,  2258.9,2,  2358.1,2,   7.5951,2,    25.00, -999.00,9,  -999.0,9,  -999.0,   0.1599,2, -999.00,9,  -999.0,9, -999.00,9, -999.00,9,     18.692,2, -999.00,9,  -999.0,9,     -999.0,     -999.0,9,     -999.0,9,     -999.0,     -999.0,9,     -999.0,     -999.0,9,     -999.0,     -999.0,     -999.0,9,     -999.0,9,     -999.0,9,     -999.0,9,     -999.0,9,     -999.0,9,     -999.0,9,     -999.0,9
33RO20161119,        P18,     209,          1,          9,      11108,2,20170127,       0731,   -69.6910,  -102.0269,       3936,  1552.5,   1.0551,  34.7219,2,  34.7225,2,    197.7,2,   197.5,2,   112.4,2,    32.5,2,    0.01,2,   2.211,2,   0.1074,2,   0.0521,2,   0.0000,2,  2258.2,2,  2359.5,2,   7.5913,2,    25.00, -999.00,9,  -999.0,9,  -999.0,    0.197,2, -999.00,9,  -999.0,9, -999.00,9, -999.00,9,    18.9137,2, -999.00,9,  -999.0,9,     -999.0,     -999.0,9,     -999.0,9,     -999.0,     -999.0,9,     -999.0,     -999.0,9,     -999.0,     -999.0,     -999.0,9,     -999.0,9,     -999.0,9,     -999.0,9,     -999.0,9,     -999.0,9,     -999.0,9,     -999.0,9
33RO20161119,        P18,     209,          1,         10,      11109,2,20170127,       0731,   -69.6910,  -102.0269,       3936,  1370.8,   1.1583,  34.7255,2,  34.7266,2,    195.7,2,   195.8,2,   109.1,2,    32.4,2,    0.01,2,   2.208,2,   0.1134,2,   0.0551,2,   0.0000,2,  2257.0,2,  2359.3,2,   7.5903,2,    25.00, -999.00,9,  -999.0,9,  -999.0,    0.242,2, -999.00,9,  -999.0,9, -999.00,9, -999.00,9,    19.1504,2, -999.00,9,  -999.0,9,     -999.0,     -999.0,9,     -999.0,9,     -999.0,     -999.0,9,     -999.0,     -999.0,9,     -999.0,     -999.0,     -999.0,9,     -999.0,9,     -999.0,9,     -999.0,9,     -999.0,9,     -999.0,9,     -999.0,9,     -999.0,9
33RO20161119,        P18,     209,          1,         11,      11110,2,20170127,       0731,   -69.6910,  -102.0269,       3936,  1225.3,   1.2458,  34.7282,2,  34.7466,4,    194.1,2,   194.0,2,   106.2,2,    32.3,2,    0.01,2,   2.199,2,   0.1176,2,   0.0561,2,   0.0000,2,  2256.0,2,  2356.7,2,   7.5899,2,    25.00, -999.00,9,  -999.0,9,  -999.0,   0.2238,2, -999.00,9,  -999.0,9, -999.00,9, -999.00,9,    19.0947,2, -999.00,9,  -999.0,9,     -999.0,     -999.0,9,     -999.0,9,     -999.0,     -999.0,9,     -999.0,     -999.0,9,     -999.0,     -999.0,     -999.0,9,     -999.0,9,     -999.0,9,     -999.0,9,     -999.0,9,     -999.0,9,     -999.0,9,     -999.0,9
33RO20161119,        P18,     209,          1,         12,      11111,2,20170127,       0731,   -69.6910,  -102.0269,       3936,  1083.4,   1.3538,  34.7308,2,  34.7318,2,    191.9,2,   191.1,2,   103.1,2,    32.3,2,    0.01,2,   2.201,2,   0.1253,2,   0.0611,2,   0.0283,2,  2253.7,2,  2357.2,2,   7.5867,2,    25.00, -999.00,9,  -999.0,9,  -999.0,   0.2744,2, -999.00,9,  -999.0,9, -999.00,9, -999.00,9,    19.4728,2, -999.00,9,  -999.0,9,     -999.0,     -999.0,9,     -999.0,9,     -999.0,     -999.0,9,     -999.0,     -999.0,9,     -999.0,     -999.0,     -999.0,9,     -999.0,9,     -999.0,9,     -999.0,9,     -999.0,9,     -999.0,9,     -999.0,9,     -999.0,9
33RO20161119,        P18,     209,          1,         13,      11112,2,20170127,       0731,   -69.6910,  -102.0269,       3936,   944.1,   1.4695,  34.7330,2,  34.7326,2,    190.5,2,   190.1,2,    99.4,2,    32.2,2,    0.01,2,   2.191,2,   0.1460,2,   0.0714,2,   0.0000,2,  2252.4,2,  2355.4,2,   7.5867,2,    25.00, -999.00,9,  -999.0,9,  -999.0,    0.292,2, -999.00,9,  -999.0,9, -999.00,9, -999.00,9,    19.4996,2, -999.00,9,  -999.0,9,     -999.0,     -999.0,9,     -999.0,9,     -999.0,     -999.0,9,     -999.0,     -999.0,9,     -999.0,     -999.0,     -999.0,9,     -999.0,9,     -999.0,9,     -999.0,9,     -999.0,9,     -999.0,9,     -999.0,9,     -999.0,9
33RO20161119,        P18,     209,          1,         14,      11113,2,20170127,       0731,   -69.6910,  -102.0269,       3936,   810.4,   1.5673,  34.7333,2,  34.7325,2,    188.1,2,   187.8,2,    96.4,2,    32.2,2,    0.02,2,   2.189,2,   0.1627,2,   0.0786,2,   0.0454,2,  2252.7,2,  2352.5,6,   7.5852,2,    25.00, -999.00,9,  -999.0,9,  -999.0,   0.3616,2, -999.00,9,  -999.0,9, -999.00,9, -999.00,9,    19.8599,2, -999.00,9,  -999.0,9,     -999.0,     -999.0,9,     -999.0,9,     -999.0,     -999.0,9,     -999.0,     -999.0,9,     -999.0,     -999.0,     -999.0,9,     -999.0,9,     -999.0,9,     -999.0,9,     -999.0,9,     -999.0,9,     -999.0,9,     -999.0,9
33RO20161119,        P18,     209,          1,         15,      11114,2,20170127,       0731,   -69.6910,  -102.0269,       3936,   685.2,   1.6730,  34.7319,2,  34.7440,4,    186.3,2,   185.4,2,    93.6,2,    32.2,2,    0.01,2,   2.191,2,   0.1869,2,   0.0901,2,   0.0482,2,  2252.3,2,  2350.6,2,   7.5820,2,    25.00, -999.00,9,  -999.0,9,  -999.0,   0.4585,2, -999.00,9,  -999.0,9, -999.00,9, -999.00,9,    19.9921,2, -999.00,9,  -999.0,9,     -999.0,     -999.0,9,     -999.0,9,     -999.0,     -999.0,9,     -999.0,     -999.0,9,     -999.0,     -999.0,     -999.0,9,     -999.0,9,     -999.0,9,     -999.0,9,     -999.0,9,     -999.0,9,     -999.0,9,     -999.0,9
33RO20161119,        P18,     209,          1,         16,      11115,2,20170127,       0731,   -69.6910,  -102.0269,       3936,   585.0,   1.7548,  34.7279,2,  34.7277,2,    182.5,2,   182.7,2,    91.1,2,    32.4,2,    0.01,2,   2.195,2,   0.2103,6,   0.1020,6,   0.0703,6,  2252.9,2,  2351.6,2,   7.5759,2,    25.00, -999.00,9,  -999.0,9,  -999.0,   0.8734,2, -999.00,9,  -999.0,9, -999.00,9, -999.00,9,    20.2127,2, -999.00,9,  -999.0,9,     -999.0,     -999.0,9,     -999.0,9,     -999.0,     -999.0,9,     -999.0,     -999.0,9,     -999.0,     -999.0,     -999.0,9,     -999.0,9,     -999.0,9,     -999.0,9,     -999.0,9,     -999.0,9,     -999.0,9,     -999.0,9
33RO20161119,        P18,     209,          1,         17,      11116,2,20170127,       0731,   -69.6910,  -102.0269,       3936,   455.1,   1.8419,  34.7169,2,  34.7277,4,    178.4,2,   177.9,2,    88.5,2,    32.9,2,    0.01,2,   2.229,2,   0.2603,2,   0.1282,2,   0.0807,2,  2254.2,2,  2347.4,2,   7.5658,2,    25.00, -999.00,9,  -999.0,9,  -999.0,   5.3532,2, -999.00,9,  -999.0,9, -999.00,9, -999.00,9,    20.9208,2, -999.00,9,  -999.0,9,     -999.0,     -999.0,9,     -999.0,9,     -999.0,     -999.0,9,     -999.0,     -999.0,9,     -999.0,     -999.0,     -999.0,9,     -999.0,9,     -999.0,9,     -999.0,9,     -999.0,9,     -999.0,9,     -999.0,9,     -999.0,9
33RO20161119,        P18,     209,          1,         18,      11117,2,20170127,       0731,   -69.6910,  -102.0269,       3936,   348.1,   1.9046,  34.6993,2,  34.6987,2,    175.1,2,   174.1,2,    86.2,2,    33.3,2,    0.01,2,   2.256,2,   0.3292,2,   0.1649,2,   0.0859,2,  2255.7,2,  2345.4,2,   7.5572,2,    25.00, -999.00,9,  -999.0,9,  -999.0,   6.2939,2, -999.00,9,  -999.0,9, -999.00,9, -999.00,9,    21.3874,2, -999.00,9,  -999.0,9,     -999.0,     -999.0,9,     -999.0,9,     -999.0,     -999.0,9,     -999.0,     -999.0,9,     -999.0,     -999.0,     -999.0,9,     -999.0,9,     -999.0,9,     -999.0,9,     -999.0,9,     -999.0,9,     -999.0,9,     -999.0,9
33RO20161119,        P18,     209,          1,         19,      11083,2,20170127,       0731,   -69.6910,  -102.0269,       3936,   252.7,   1.9111,  34.6673,2,  34.6708,2,    172.0,2,   171.4,2,    84.1,2,    34.0,2,    0.02,2,   2.300,2,   0.4741,2,   0.2393,2,   0.1334,2,  2257.2,6,  2341.2,2,   7.5409,2,    25.00, -999.00,9,  -999.0,9,  -999.0,   6.9691,2, -999.00,9,  -999.0,9, -999.00,9, -999.00,9,    21.8106,2, -999.00,9,  -999.0,9,     -999.0,     -999.0,9,     -999.0,9,     -999.0,     -999.0,9,     -999.0,     -999.0,9,     -999.0,     -999.0,     -999.0,9,     -999.0,9,     -999.0,9,     -999.0,9,     -999.0,9,     -999.0,9,     -999.0,9,     -999.0,9
33RO20161119,        P18,     209,          1,         20,      11118,2,20170127,       0731,   -69.6910,  -102.0269,       3936,   175.1,   1.7952,  34.6200,2,  34.6271,2,    174.2,2,   172.8,6,    81.8,2,    34.6,2,    0.02,2,   2.351,2,   0.7546,2,   0.3867,2,   0.2996,2,  2255.9,2,  2337.9,2,   7.5319,2,    25.00, -999.00,9,  -999.0,9,  -999.0,   0.4773,2, -999.00,9,  -999.0,9, -999.00,9, -999.00,9,    22.8211,2, -999.00,9,  -999.0,9,     -999.0,     -999.0,9,     -999.0,9,     -999.0,     -999.0,9,     -999.0,     -999.0,9,     -999.0,     -999.0,     -999.0,9,     -999.0,9,     -999.0,9,     -999.0,9,     -999.0,9,     -999.0,9,     -999.0,9,     -999.0,9
33RO20161119,        P18,     209,          1,         21,      11119,2,20170127,       0731,   -69.6910,  -102.0269,       3936,   105.1,   0.4700,  34.4170,2,  34.3974,2,    216.9,2,   222.1,2,    73.7,2,    33.7,2,    0.06,2,   2.289,2,   2.5301,2,   1.3452,2,   1.3104,2,  2236.5,2,  2322.5,2,   7.5468,2,    25.00, -999.00,9,  -999.0,9,  -999.0,   0.3407,2, -999.00,9,  -999.0,9, -999.00,9, -999.00,9,    21.4943,2, -999.00,9,  -999.0,9,     -999.0,     -999.0,9,     -999.0,9,     -999.0,     -999.0,9,     -999.0,     -999.0,9,     -999.0,     -999.0,     -999.0,9,     -999.0,9,     -999.0,9,     -999.0,9,     -999.0,9,     -999.0,9,     -999.0,9,     -999.0,9
33RO20161119,        P18,     209,          1,         22,      11120,2,20170127,       0731,   -69.6910,  -102.0269,       3936,    48.5,  -1.5748,  34.0255,2,  34.0251,2,    321.5,2,   321.7,2,    60.2,2,    29.0,2,    0.16,2,   2.013,2,   5.0531,2,   2.7135,2,   2.9774,2,  2190.8,2,  2301.4,6,   7.6273,6,    25.00, -999.00,9,  -999.0,9,  -999.0,   0.3252,2, -999.00,9,  -999.0,9, -999.00,9, -999.00,9,    17.6303,2, -999.00,9,  -999.0,9,     -999.0,     -999.0,9,     -999.0,9,     -999.0,     -999.0,9,     -999.0,     -999.0,9,     -999.0,     -999.0,     -999.0,9,     -999.0,9,     -999.0,9,     -999.0,9,     -999.0,9,     -999.0,9,     -999.0,9,     -999.0,9
33RO20161119,        P18,     209,          1,         23,      11121,2,20170127,       0731,   -69.6910,  -102.0269,       3936,    20.2,   0.3269,  32.5566,2,  32.7396,2,    347.1,2,   347.7,2,    43.7,2,    25.0,2,    0.36,2,   1.699,2,   5.8276,2,   3.1312,2,   3.5338,2,  2096.8,2,  2216.2,2,   7.6758,2,    25.00, -999.00,9,  -999.0,9,  -999.0,   0.3328,2, -999.00,9,  -999.0,9, -999.00,9, -999.00,9,    15.6145,2, -999.00,9,  -999.0,9,     -999.0,     -999.0,9,     -999.0,9,     -999.0,     -999.0,9,     -999.0,     -999.0,9,     -999.0,     -999.0,     -999.0,9,     -999.0,9,     -999.0,9,     -999.0,9,     -999.0,9,     -999.0,9,     -999.0,9,     -999.0,9
33RO20161119,        P18,     209,          1,         24,      11122,2,20170127,       0731,   -69.6910,  -102.0269,       3936,     2.6,   0.3667,  32.4535,2,  32.4563,2,    346.9,2,   345.9,2,    41.0,2,    24.5,2,    0.42,2,   1.637,2,   5.9558,2,   3.2108,2,   3.6091,2,  2079.0,6,  2199.6,2,   7.6702,2,    25.00, -999.00,9,  -999.0,9,  -999.0,     0.27,2, -999.00,9,  -999.0,9, -999.00,9, -999.00,9,    15.2671,2, -999.00,9,  -999.0,9,     -999.0,     -999.0,9,     -999.0,9,     -999.0,     -999.0,9,     -999.0,     -999.0,9,     -999.0,     -999.0,     -999.0,9,     -999.0,9,     -999.0,9,     -999.0,9,     -999.0,9,     -999.0,9,     -999.0,9,     -999.0,9