BOTTLE,20230606CCHSIOCBG
EXPOCODE,SECT_ID,STNNBR,CASTNO,SAMPNO,BTLNBR,BTLNBR_FLAG_W,DATE,TIME,LATITUDE,LONGITUDE,DEPTH,CTDPRS,CTDTMP,CTDSAL,CTDSAL_FLAG_W,SALNTY,SALNTY_FLAG_W,CTDOXY,CTDOXY_FLAG_W,OXYGEN,OXYGEN_FLAG_W,SILCAT,SILCAT_FLAG_W,NITRAT,NITRAT_FLAG_W,NITRIT,NITRIT_FLAG_W,PHSPHT,PHSPHT_FLAG_W,CFC-11,CFC-11_FLAG_W,CFC-12,CFC-12_FLAG_W,SF6,SF6_FLAG_W,TCARBN,TCARBN_FLAG_W,ALKALI,ALKALI_FLAG_W,PH_SWS,PH_SWS_FLAG_W,PH_TMP,DELC13,DELC13_FLAG_W,DELC14,DELC14_FLAG_W,C14ERR,CCL4,CCL4_FLAG_W,POC,POC_FLAG_W,DOC,DOC_FLAG_W,TDN,TDN_FLAG_W,PON,PON_FLAG_W,N2O,N2O_FLAG_W,D15N_NO3,D15N_NO3_FLAG_W,14C-DOC,14C-DOC_FLAG_W,14C-DOCERR,13C-DOC,13C-DOC_FLAG_W,N2/ARGON_UNSTRIPPED,N2/ARGON_UNSTRIPPED_FLAG_W,N2/ARGON_UNSTRIPPED_ERROR,N2/ARGON,N2/ARGON_FLAG_W,N2/ARGON_ERROR,D15N_N2,D15N_N2_FLAG_W,D15N_N2_ERROR,D15N_NO3_ERROR,D15N_NO2+NO3,D15N_NO2+NO3_FLAG_W,D18O_NO2+NO3,D18O_NO2+NO3_FLAG_W,D18O_NO3,D18O_NO3_FLAG_W,TDP,TDP_FLAG_W,N2O_ALT_1,N2O_ALT_1_FLAG_W,D15N_N2O,D15N_N2O_FLAG_W,D18O_N2O,D18O_N2O_FLAG_W,D15N_ALPHA_N2O,D15N_ALPHA_N2O_FLAG_W
,,,,,,,,,,,METERS,DBAR,ITS-90,PSS-78,,PSS-78,,UMOL/KG,,UMOL/KG,,UMOL/KG,,UMOL/KG,,UMOL/KG,,UMOL/KG,,PMOL/KG,,PMOL/KG,,FMOL/KG,,UMOL/KG,,UMOL/KG,,,,DEG C,/MILLE,,/MILLE,,/MILLE,PMOL/KG,,UG/KG,,UMOL/KG,,UMOL/KG,,UG/KG,,NMOL/KG,,/MILLE,,/MILLE,,/MILLE,/MILLE,,,,,,,,/MILLE,,/MILLE,/MILLE,/MILLE,,/MILLE,,/MILLE,,UMOL/KG,,NMOL/L,,/MILLE,,/MILLE,,/MILLE,
33RO20161119,        P18,      28,          1,          1,      11010,2,20161201,       0453,    10.5006,  -110.0008,       3353,  3430.9,   1.5583,  34.6819,2,-999.0000,9,    134.9,2,  -999.0,9,   150.6,6,    37.2,6,    0.01,6,   2.510,6,   0.0045,2,   0.0028,2,   0.0000,2,  2346.0,2,  -999.0,9,-999.0000,9,  -999.00, -999.00,9,  -999.0,9,  -999.0,   0.0122,2, -999.00,9,  -999.0,9, -999.00,9, -999.00,9,    21.1963,2, -999.00,9,  -999.0,9,     -999.0,     -999.0,9,     -999.0,9,     -999.0,     -999.0,9,     -999.0,     -999.0,9,     -999.0,     -999.0,     -999.0,9,     -999.0,9,     -999.0,9,     -999.0,9,     -999.0,9,     -999.0,9,     -999.0,9,     -999.0,9
33RO20161119,        P18,      28,          1,          2,      11101,2,20161201,       0453,    10.5006,  -110.0008,       3353,  3177.7,   1.6844,  34.6762,2,  34.6746,2,    124.5,2,   123.9,2,   151.7,6,    37.8,6,    0.01,6,   2.566,6,   0.0043,2,   0.0030,2,   0.0000,2,  2349.4,2,  2430.7,2,   7.5325,2,    25.00, -999.00,9,  -999.0,9,  -999.0,        0,2, -999.00,9,  -999.0,9, -999.00,9, -999.00,9,    22.0409,2, -999.00,9,  -999.0,9,     -999.0,     -999.0,9,     -999.0,9,     -999.0,     -999.0,9,     -999.0,     -999.0,9,     -999.0,     -999.0,     -999.0,9,     -999.0,9,     -999.0,9,     -999.0,9,     -999.0,9,     -999.0,9,     -999.0,9,     -999.0,9
33RO20161119,        P18,      28,          1,          3,      11102,2,20161201,       0453,    10.5006,  -110.0008,       3353,  2990.1,   1.7321,  34.6735,2,  34.6720,2,    119.5,2,   119.5,2,   151.8,6,    38.1,6,    0.01,6,   2.595,6,-999.0000,9,-999.0000,9,-999.0000,9,  2352.0,2,  2431.7,6,   7.5239,2,    25.00, -999.00,9,  -999.0,9,  -999.0,-999.0000,9, -999.00,9,  -999.0,9, -999.00,9, -999.00,9,     -999.0,9, -999.00,9,  -999.0,9,     -999.0,     -999.0,9,     -999.0,9,     -999.0,     -999.0,9,     -999.0,     -999.0,9,     -999.0,     -999.0,     -999.0,9,     -999.0,9,     -999.0,9,     -999.0,9,     -999.0,9,     -999.0,9,     -999.0,9,     -999.0,9
33RO20161119,        P18,      28,          1,          4,      11103,2,20161201,       0453,    10.5006,  -110.0008,       3353,  2714.7,   1.7907,  34.6697,2,  34.6681,2,    113.0,2,   113.7,2,   151.6,6,    38.4,6,    0.01,6,   2.633,6,   0.0031,2,   0.0023,2,   0.0000,2,  2355.4,2,  2432.0,2,   7.5134,2,    25.00, -999.00,9,  -999.0,9,  -999.0,        0,2, -999.00,9,  -999.0,9, -999.00,9, -999.00,9,    23.0233,2, -999.00,9,  -999.0,9,     -999.0,     -999.0,9,     -999.0,9,     -999.0,     -999.0,9,     -999.0,     -999.0,9,     -999.0,     -999.0,     -999.0,9,     -999.0,9,     -999.0,9,     -999.0,9,     -999.0,9,     -999.0,9,     -999.0,9,     -999.0,9
33RO20161119,        P18,      28,          1,          5,      11104,2,20161201,       0453,    10.5006,  -110.0008,       3353,  2435.3,   1.8604,  34.6653,2,  34.6642,2,    107.8,2,   108.3,2,   150.8,2,    38.8,2,    0.01,2,   2.662,2,-999.0000,9,-999.0000,9,-999.0000,9,  2356.7,2,  2430.4,2,   7.5043,2,    25.00, -999.00,9,  -999.0,9,  -999.0,-999.0000,9, -999.00,9,  -999.0,9, -999.00,9, -999.00,9,     -999.0,9, -999.00,9,  -999.0,9,     -999.0,     -999.0,9,      38.19,2,     -999.0,      38.33,2,     -999.0,     -999.0,9,     -999.0,     -999.0,     -999.0,9,     -999.0,9,     -999.0,9,     -999.0,9,23.13211863,2,      10.33,2,      55.41,2,      26.19,2
33RO20161119,        P18,      28,          1,          6,      11105,2,20161201,       0453,    10.5006,  -110.0008,       3353,  2184.5,   2.0194,  34.6560,2,  34.6557,2,     98.3,2,    99.1,2,   148.3,2,    39.5,2,    0.01,2,   2.715,2,-999.0000,9,-999.0000,9,-999.0000,9,  2358.9,2,  2425.5,2,   7.4857,2,    25.00, -999.00,9,  -999.0,9,  -999.0,-999.0000,9, -999.00,9,  -999.0,9, -999.00,9, -999.00,9,     -999.0,9, -999.00,9,  -999.0,9,     -999.0,     -999.0,9,      37.96,2,     -999.0,      38.09,2,     -999.0,     -999.0,9,     -999.0,     -999.0,     -999.0,9,     -999.0,9,     -999.0,9,     -999.0,9,24.97509224,2,      10.48,2,      55.98,2,      24.87,2
33RO20161119,        P18,      28,          1,          7,      11106,2,20161201,       0453,    10.5006,  -110.0008,       3353,  1929.0,   2.2600,  34.6425,2,  34.6423,2,     87.9,2,    88.4,2,   143.0,2,    40.3,2,    0.01,2,   2.789,2,-999.0000,9,-999.0000,9,-999.0000,9,  2363.2,2,  2419.1,2,   7.4599,2,    25.00, -999.00,9,  -999.0,9,  -999.0,-999.0000,9, -999.00,9,  -999.0,9, -999.00,9, -999.00,9,     -999.0,9, -999.00,9,  -999.0,9,     -999.0,     -999.0,9,      38.19,2,     -999.0,      38.36,2,     -999.0,     -999.0,9,     -999.0,     -999.0,     -999.0,9,     -999.0,9,     -999.0,9,     -999.0,9, 27.0779554,2,      10.36,2,      56.47,2,      25.32,2
33RO20161119,        P18,      28,          1,          8,      11107,2,20161201,       0453,    10.5006,  -110.0008,       3353,  1654.7,   2.7421,  34.6186,2,  34.6180,2,     71.3,2,    71.4,2,   132.5,2,    41.6,2,    0.01,2,   2.901,2,   0.0028,2,   0.0016,2,   0.0314,2,  2360.8,2,  2406.6,2,   7.4291,2,    25.00, -999.00,9,  -999.0,9,  -999.0,        0,2, -999.00,9,  -999.0,9, -999.00,9, -999.00,9,    31.9879,2, -999.00,9,  -999.0,9,     -999.0,     -999.0,9,      38.16,2,     -999.0,      38.32,2,     -999.0,     -999.0,9,     -999.0,     -999.0,     -999.0,9,     -999.0,9,     -999.0,9,     -999.0,9,     -999.0,9,     -999.0,9,     -999.0,9,     -999.0,9
33RO20161119,        P18,      28,          1,          9,      11108,2,20161201,       0453,    10.5006,  -110.0008,       3353,  1365.4,   3.3637,  34.5935,2,  34.5928,2,     56.4,2,    58.4,2,   118.0,2,    42.6,2,    0.01,2,   2.998,2,-999.0000,9,-999.0000,9,-999.0000,9,  2351.8,2,  2388.9,2,   7.4056,6,    25.00, -999.00,9,  -999.0,9,  -999.0,-999.0000,9, -999.00,9,  -999.0,9, -999.00,9, -999.00,9,     -999.0,9, -999.00,9,  -999.0,9,     -999.0,     -999.0,9,      37.93,2,     -999.0,      38.08,2,     -999.0,     -999.0,9,     -999.0,     -999.0,     -999.0,9,     -999.0,9,     -999.0,9,     -999.0,9,     -999.0,9,     -999.0,9,     -999.0,9,     -999.0,9
33RO20161119,        P18,      28,          1,         10,      11109,2,20161201,       0453,    10.5006,  -110.0008,       3353,  1189.7,   3.7616,  34.5795,2,  34.5783,2,     46.2,2,    46.3,2,   109.5,2,    43.2,2,    0.01,2,   3.056,2,-999.0000,9,-999.0000,9,-999.0000,9,  2352.0,2,  2379.5,2,   7.3825,2,    25.00, -999.00,9,  -999.0,9,  -999.0,-999.0000,9, -999.00,9,  -999.0,9, -999.00,9, -999.00,9,     -999.0,9, -999.00,9,  -999.0,9,     -999.0,     -999.0,9,      38.05,2,     -999.0,       38.2,2,     -999.0,     -999.0,9,     -999.0,     -999.0,     -999.0,9,     -999.0,9,     -999.0,9,     -999.0,9,38.10497634,2,      10.01,2,      54.94,2,      19.57,2
33RO20161119,        P18,      28,          1,         11,      11110,2,20161201,       0453,    10.5006,  -110.0008,       3353,  1070.2,   4.2110,  34.5674,2,  34.5663,2,     33.0,2,    31.7,2,   101.2,2,    44.2,2,    0.01,2,   3.147,2,   0.0024,2,   0.0013,2,   0.0000,2,  2350.0,2,  2368.3,2,   7.3550,2,    25.00, -999.00,9,  -999.0,9,  -999.0,        0,2, -999.00,9,  -999.0,9, -999.00,9, -999.00,9,    45.1956,2, -999.00,9,  -999.0,9,     -999.0,     -999.0,9,      38.13,2,     -999.0,      38.31,2,     -999.0,     -999.0,9,     -999.0,     -999.0,     -999.0,9,     -999.0,9,     -999.0,9,     -999.0,9,42.40773705,2,       9.73,2,      55.35,2,      21.97,2
33RO20161119,        P18,      28,          1,         12,      11111,2,20161201,       0453,    10.5006,  -110.0008,       3353,   942.1,   4.7034,  34.5562,2,  34.5555,2,     24.3,2,    24.8,2,    91.1,2,    44.4,2,    0.01,2,   3.167,2,-999.0000,9,-999.0000,9,-999.0000,9,  2340.4,2,  2354.3,2,   7.3434,2,    25.00, -999.00,9,  -999.0,9,  -999.0,-999.0000,9, -999.00,9,  -999.0,9, -999.00,9, -999.00,9,     -999.0,9, -999.00,9,  -999.0,9,     -999.0,     -999.0,9,      37.94,2,     -999.0,      38.09,2,     -999.0,     -999.0,9,     -999.0,     -999.0,     -999.0,9,     -999.0,9,     -999.0,9,     -999.0,9,24.52874238,2,       9.21,2,      56.11,2,      21.48,2
33RO20161119,        P18,      28,          1,         13,      11112,2,20161201,       0453,    10.5006,  -110.0008,       3353,   834.4,   5.1840,  34.5505,2,  34.5492,2,     11.6,2,    11.8,6,    84.4,2,    44.7,2,    0.01,2,   3.226,2,-999.0000,9,-999.0000,9,-999.0000,9,  2339.0,2,  2349.2,6,   7.3210,2,    25.00, -999.00,9,  -999.0,9,  -999.0,-999.0000,9, -999.00,9,  -999.0,9, -999.00,9, -999.00,9,     -999.0,9, -999.00,9,  -999.0,9,     -999.0,     -999.0,9,       38.0,2,     -999.0,      38.15,2,     -999.0,     -999.0,9,     -999.0,     -999.0,     -999.0,9,     -999.0,9,     -999.0,9,     -999.0,9,57.69271762,2,       8.01,2,      52.33,2,       20.8,2
33RO20161119,        P18,      28,          1,         14,      11113,2,20161201,       0453,    10.5006,  -110.0008,       3353,   730.2,   5.6982,  34.5520,2,  34.5511,2,      5.3,2,     5.1,2,    77.2,2,    43.8,2,    0.01,2,   3.204,2,   0.0034,6,   0.0019,6,   0.0000,6,  2335.9,6,  2343.6,2,   7.3148,2,    25.00, -999.00,9,  -999.0,9,  -999.0,   0.0126,2, -999.00,9,  -999.0,9, -999.00,9, -999.00,9,    59.2031,2, -999.00,9,  -999.0,9,     -999.0,     -999.0,9,      38.05,2,     -999.0,       38.2,2,     -999.0,     -999.0,9,     -999.0,     -999.0,     -999.0,9,     -999.0,9,     -999.0,9,     -999.0,9,46.26680218,2,       7.08,2,      53.09,2,      20.85,2
33RO20161119,        P18,      28,          1,         15,      11114,2,20161201,       0453,    10.5006,  -110.0008,       3353,   619.6,   6.7284,  34.5610,2,  34.5596,2,      2.5,2,     1.9,2,    65.4,2,    40.0,2,    0.01,2,   3.128,2,-999.0000,9,-999.0000,9,-999.0000,9,  2323.5,2,  2331.6,2,   7.3225,2,    25.00, -999.00,9,  -999.0,9,  -999.0,-999.0000,9, -999.00,9,  -999.0,9, -999.00,9, -999.00,9,     -999.0,9, -999.00,9,  -999.0,9,     -999.0,     -999.0,9,      38.16,2,     -999.0,      38.33,2,     -999.0,     -999.0,9,     -999.0,     -999.0,     -999.0,9,     -999.0,9,     -999.0,9,     -999.0,9,34.36669314,2,       7.28,2,      58.61,2,      21.46,2
33RO20161119,        P18,      28,          1,         16,      11115,2,20161201,       0453,    10.5006,  -110.0008,       3353,   524.5,   7.8011,  34.5849,2,  34.5847,2,      2.4,2,     1.5,2,    55.6,2,    34.4,2,    0.24,2,   3.010,2,   0.0268,2,   0.0174,2,   0.0383,2,  2309.7,2,  2324.5,2,   7.3368,2,    25.00, -999.00,9,  -999.0,9,  -999.0,   0.0504,2, -999.00,9,  -999.0,9, -999.00,9, -999.00,9,    13.0609,2, -999.00,9,  -999.0,9,     -999.0,     -999.0,9,       38.2,2,       0.01,      38.36,2,       0.01,     -999.0,9,     -999.0,     -999.0,     -999.0,9,     -999.0,9,     -999.0,9,     -999.0,9,10.77047053,2,      17.72,2,      86.65,2,      42.19,2
33RO20161119,        P18,      28,          1,         17,      11116,2,20161201,       0453,    10.5006,  -110.0008,       3353,   434.5,   8.8605,  34.6239,2,  34.6242,2,      2.4,2,     1.9,6,    46.0,2,    31.9,2,    0.05,2,   2.870,2,-999.0000,9,-999.0000,9,-999.0000,9,  2292.9,2,  2315.8,2,   7.3500,2,    25.00, -999.00,9,  -999.0,9,  -999.0,-999.0000,9, -999.00,9,  -999.0,9, -999.00,9, -999.00,9,     -999.0,9, -999.00,9,  -999.0,9,     -999.0,     -999.0,9,      38.29,2,     -999.0,      38.44,2,     -999.0,     -999.0,9,     -999.0,     -999.0,     -999.0,9,     -999.0,9,     -999.0,9,     -999.0,9,17.53799532,2,      14.72,2,      73.47,2,      34.84,2
33RO20161119,        P18,      28,          1,         18,      11117,2,20161201,       0453,    10.5006,  -110.0008,       3353,   339.7,   9.9482,  34.6757,2,  34.6735,2,      3.0,2,     2.6,2,    36.6,2,    32.1,2,    0.02,2,   2.662,2,-999.0000,9,-999.0000,9,-999.0000,9,  2281.1,2,  2305.6,2,   7.3664,2,    25.00, -999.00,9,  -999.0,9,  -999.0,-999.0000,9, -999.00,9,  -999.0,9, -999.00,9, -999.00,9,     -999.0,9, -999.00,9,  -999.0,9,     -999.0,     -999.0,9,      38.23,2,     -999.0,      38.38,2,     -999.0,     -999.0,9,     -999.0,     -999.0,     -999.0,9,     -999.0,9,     -999.0,9,     -999.0,9,9.975370063,2,       7.53,2,      56.89,2,      23.18,2
33RO20161119,        P18,      28,          1,         19,      11083,2,20161201,       0453,    10.5006,  -110.0008,       3353,   259.9,  10.8398,  34.7266,2,  34.7256,2,      6.4,2,     6.5,2,    31.2,2,    31.8,2,    0.01,2,   2.502,2,   0.5917,2,   0.3285,2,   0.1289,2,  2269.9,2,  2301.4,2,   7.3925,2,    25.00, -999.00,9,  -999.0,9,  -999.0,   0.1335,2, -999.00,9,  -999.0,9, -999.00,9, -999.00,9,     49.371,2, -999.00,9,  -999.0,9,     -999.0,     -999.0,9,      38.07,2,     -999.0,      38.18,2,     -999.0,       0.65,2,       0.02,     -999.0,     -999.0,9,     -999.0,9,     -999.0,9,     -999.0,9,     -999.0,9,       4.57,2,      51.23,2,      20.03,2
33RO20161119,        P18,      28,          1,         20,      11118,2,20161201,       0453,    10.5006,  -110.0008,       3353,   195.0,  11.7349,  34.7725,2,  34.7964,4,      7.4,2,     7.9,2,    27.5,2,    31.6,2,    0.02,2,   2.401,2,-999.0000,9,-999.0000,9,-999.0000,9,  2257.1,2,  2299.3,2,   7.4177,2,    25.00, -999.00,9,  -999.0,9,  -999.0,-999.0000,9, -999.00,9,  -999.0,9, -999.00,9, -999.00,9,     -999.0,9, -999.00,9,  -999.0,9,     -999.0,     -999.0,9,      38.15,2,     -999.0,      38.26,2,     -999.0,     -999.0,9,     -999.0,     -999.0,     -999.0,9,     -999.0,9,     -999.0,9,     -999.0,9,     -999.0,9,     -999.0,9,     -999.0,9,     -999.0,9
33RO20161119,        P18,      28,          1,         21,      11119,2,20161201,       0453,    10.5006,  -110.0008,       3353,   135.2,  12.5429,  34.8074,2,  34.8075,2,      7.4,2,     6.6,2,    25.4,2,    31.2,2,    0.02,2,   2.355,2,   1.0904,2,   0.6085,2,   0.2907,2,  2250.1,2,  2296.3,2,   7.4317,2,    25.00, -999.00,9,  -999.0,9,  -999.0,   0.1327,2, -999.00,9,  -999.0,9, -999.00,9, -999.00,9,    72.2044,2, -999.00,9,  -999.0,9,     -999.0,     -999.0,9,      38.05,2,     -999.0,      38.15,2,     -999.0,     -999.0,9,     -999.0,     -999.0,     -999.0,9,     -999.0,9,     -999.0,9,     -999.0,9,     -999.0,9,     -999.0,9,     -999.0,9,     -999.0,9
33RO20161119,        P18,      28,          1,         22,      11120,2,20161201,       0453,    10.5006,  -110.0008,       3353,    69.6,  14.6925,  34.7689,2,  34.7697,2,      8.0,2,     7.6,2,    20.7,2,    29.3,2,    0.06,2,   2.293,2,   1.4017,2,   0.8006,2,   0.4578,2,  2238.5,2,  2290.5,6,   7.4566,2,    25.00, -999.00,9,  -999.0,9,  -999.0,   0.4386,2, -999.00,9,  -999.0,9, -999.00,9, -999.00,9,    85.0624,2, -999.00,9,  -999.0,9,     -999.0,     -999.0,9,      38.18,2,     -999.0,      38.28,2,     -999.0,     -999.0,9,     -999.0,     -999.0,     -999.0,9,     -999.0,9,     -999.0,9,     -999.0,9,     -999.0,9,     -999.0,9,     -999.0,9,     -999.0,9
33RO20161119,        P18,      28,          1,         23,      11121,2,20161201,       0453,    10.5006,  -110.0008,       3353,    34.3,  22.7241,  34.3670,2,  34.3649,2,    118.5,2,   116.0,3,     6.1,2,     9.6,2,    0.29,2,   1.129,2,   1.6167,2,   0.9873,2,   1.0778,2,  2088.7,2,  2271.6,2,   7.8090,2,    25.00, -999.00,9,  -999.0,9,  -999.0,   1.5246,2, -999.00,9,  -999.0,9, -999.00,9, -999.00,9,    47.1235,2, -999.00,9,  -999.0,9,     -999.0,     -999.0,9,      38.19,2,     -999.0,      38.22,2,     -999.0,     -999.0,9,     -999.0,     -999.0,     -999.0,9,     -999.0,9,     -999.0,9,     -999.0,9,     -999.0,9,     -999.0,9,     -999.0,9,     -999.0,9
33RO20161119,        P18,      28,          1,         24,      11122,2,20161201,       0453,    10.5006,  -110.0008,       3353,     3.0,  28.3188,  33.0554,2,  33.0559,2,    196.9,2,   198.5,2,     1.1,2,     0.0,2,    0.01,2,   0.197,2,   1.5082,2,   0.9582,2,   1.3939,2,  1879.6,6,  2180.7,2,   8.0788,6,    25.00, -999.00,9,  -999.0,9,  -999.0,        0,2, -999.00,9,  -999.0,9, -999.00,9, -999.00,9,     6.9044,2, -999.00,9,  -999.0,9,     -999.0,     -999.0,9,     -999.0,9,     -999.0,     -999.0,9,     -999.0,     -999.0,9,     -999.0,     -999.0,     -999.0,9,     -999.0,9,     -999.0,9,     -999.0,9,     -999.0,9,     -999.0,9,     -999.0,9,     -999.0,9