BOTTLE,20230606CCHSIOCBG
EXPOCODE,SECT_ID,STNNBR,CASTNO,SAMPNO,BTLNBR,BTLNBR_FLAG_W,DATE,TIME,LATITUDE,LONGITUDE,DEPTH,CTDPRS,CTDTMP,CTDSAL,CTDSAL_FLAG_W,SALNTY,SALNTY_FLAG_W,CTDOXY,CTDOXY_FLAG_W,OXYGEN,OXYGEN_FLAG_W,SILCAT,SILCAT_FLAG_W,NITRAT,NITRAT_FLAG_W,NITRIT,NITRIT_FLAG_W,PHSPHT,PHSPHT_FLAG_W,CFC-11,CFC-11_FLAG_W,CFC-12,CFC-12_FLAG_W,SF6,SF6_FLAG_W,TCARBN,TCARBN_FLAG_W,ALKALI,ALKALI_FLAG_W,PH_SWS,PH_SWS_FLAG_W,PH_TMP,DELC13,DELC13_FLAG_W,DELC14,DELC14_FLAG_W,C14ERR,CCL4,CCL4_FLAG_W,POC,POC_FLAG_W,DOC,DOC_FLAG_W,TDN,TDN_FLAG_W,PON,PON_FLAG_W,N2O,N2O_FLAG_W,D15N_NO3,D15N_NO3_FLAG_W,14C-DOC,14C-DOC_FLAG_W,14C-DOCERR,13C-DOC,13C-DOC_FLAG_W,N2/ARGON_UNSTRIPPED,N2/ARGON_UNSTRIPPED_FLAG_W,N2/ARGON_UNSTRIPPED_ERROR,N2/ARGON,N2/ARGON_FLAG_W,N2/ARGON_ERROR,D15N_N2,D15N_N2_FLAG_W,D15N_N2_ERROR,D15N_NO3_ERROR,D15N_NO2+NO3,D15N_NO2+NO3_FLAG_W,D18O_NO2+NO3,D18O_NO2+NO3_FLAG_W,D18O_NO3,D18O_NO3_FLAG_W,TDP,TDP_FLAG_W,N2O_ALT_1,N2O_ALT_1_FLAG_W,D15N_N2O,D15N_N2O_FLAG_W,D18O_N2O,D18O_N2O_FLAG_W,D15N_ALPHA_N2O,D15N_ALPHA_N2O_FLAG_W
,,,,,,,,,,,METERS,DBAR,ITS-90,PSS-78,,PSS-78,,UMOL/KG,,UMOL/KG,,UMOL/KG,,UMOL/KG,,UMOL/KG,,UMOL/KG,,PMOL/KG,,PMOL/KG,,FMOL/KG,,UMOL/KG,,UMOL/KG,,,,DEG C,/MILLE,,/MILLE,,/MILLE,PMOL/KG,,UG/KG,,UMOL/KG,,UMOL/KG,,UG/KG,,NMOL/KG,,/MILLE,,/MILLE,,/MILLE,/MILLE,,,,,,,,/MILLE,,/MILLE,/MILLE,/MILLE,,/MILLE,,/MILLE,,UMOL/KG,,NMOL/L,,/MILLE,,/MILLE,,/MILLE,
33RO20161119,        P18,      39,          1,          1,      11010,2,20161203,       2112,     4.9998,  -110.0005,       3915,  3942.6,   1.4966,  34.6892,2,  34.6882,2,    146.9,2,   147.0,2,   148.1,6,    37.0,6,    0.01,6,   2.486,6,   0.0031,2,   0.0015,2,   0.0184,2,  2337.3,6,  2434.3,2,   7.5770,6,    25.00,    0.25,2,  -220.2,2,     1.6,        0,2, -999.00,9,    37.1,2,   41.00,2, -999.00,9,    20.2365,2, -999.00,9,  -999.0,9,     -999.0,     -999.0,9,     -999.0,9,     -999.0,     -999.0,9,     -999.0,     -999.0,9,     -999.0,     -999.0,     -999.0,9,     -999.0,9,     -999.0,9,     -999.0,9,     -999.0,9,     -999.0,9,     -999.0,9,     -999.0,9
33RO20161119,        P18,      39,          1,          2,      11101,2,20161203,       2112,     4.9998,  -110.0005,       3915,  3619.9,   1.5042,  34.6875,2,  34.6886,2,    143.1,2,   142.9,2,   149.0,6,    37.1,6,    0.01,6,   2.508,6,   0.0033,2,   0.0020,2,   0.0000,2,  2340.5,2,  2434.3,6,   7.5715,2,    25.00,    0.26,2,  -223.2,2,     1.9,        0,2, -999.00,9,    39.6,2,   41.30,2, -999.00,9,    20.6126,2, -999.00,9,    -524,2,          2,      -21.5,2,     -999.0,9,     -999.0,     -999.0,9,     -999.0,     -999.0,9,     -999.0,     -999.0,     -999.0,9,     -999.0,9,     -999.0,9,     -999.0,9,     -999.0,9,     -999.0,9,     -999.0,9,     -999.0,9
33RO20161119,        P18,      39,          1,          3,      11102,2,20161203,       2112,     4.9998,  -110.0005,       3915,  3298.4,   1.5661,  34.6834,2,  34.6826,2,    135.1,2,   135.2,2,   150.1,6,    37.8,6,    0.01,6,   2.547,6,   0.0028,2,   0.0015,2,   0.0233,2,  2343.1,2,  2435.9,2,   7.5570,2,    25.00,    0.14,6,  -228.3,6,     1.8,   0.0359,2, -999.00,9,    39.0,2,   40.60,2, -999.00,9,    21.2629,2, -999.00,9,    -532,2,          2,      -21.1,2,     -999.0,9,     -999.0,     -999.0,9,     -999.0,     -999.0,9,     -999.0,     -999.0,     -999.0,9,     -999.0,9,     -999.0,9,     -999.0,9,     -999.0,9,     -999.0,9,     -999.0,9,     -999.0,9
33RO20161119,        P18,      39,          1,          4,      11103,2,20161203,       2112,     4.9998,  -110.0005,       3915,  3000.3,   1.7170,  34.6756,2,  34.6748,2,    123.6,2,   123.7,2,   150.3,6,    38.3,6,    0.01,6,   2.609,6,   0.0036,6,   0.0022,6,   0.0000,6,  2349.5,2,  2431.6,2,   7.5371,2,    25.00,    0.17,2,  -232.0,2,     2.1,   0.0176,2, -999.00,9,    38.2,2,   42.20,2, -999.00,9,    22.3921,2, -999.00,9,  -999.0,9,     -999.0,     -999.0,9,     -999.0,9,     -999.0,     -999.0,9,     -999.0,     -999.0,9,     -999.0,     -999.0,     -999.0,9,     -999.0,9,     -999.0,9,     -999.0,9,     -999.0,9,     -999.0,9,     -999.0,9,     -999.0,9
33RO20161119,        P18,      39,          1,          5,      11104,2,20161203,       2112,     4.9998,  -110.0005,       3915,  2699.4,   1.8298,  34.6692,2,  34.6687,2,    116.4,2,   116.0,2,   149.3,2,    38.6,2,    0.01,2,   2.641,2,   0.0027,2,   0.0017,2,   0.0000,2,  2353.8,2,  2423.6,2,   7.5223,2,    25.00,    0.13,2,  -231.3,2,     1.8,        0,2, -999.00,9,    36.2,2,   42.70,2, -999.00,9,    23.7571,2, -999.00,9,    -533,2,          5,     -999.0,9,     -999.0,9,     -999.0,     -999.0,9,     -999.0,     -999.0,9,     -999.0,     -999.0,     -999.0,9,     -999.0,9,     -999.0,9,     -999.0,9,     -999.0,9,     -999.0,9,     -999.0,9,     -999.0,9
33RO20161119,        P18,      39,          1,          6,      11105,2,20161203,       2112,     4.9998,  -110.0005,       3915,  2398.7,   1.9087,  34.6635,2,  34.6626,2,    110.9,2,   110.9,2,   148.0,2,    39.0,2,    0.01,2,   2.685,2,   0.0023,2,   0.0014,2,   0.0000,2,  2351.9,2,  2428.5,2,   7.5100,2,    25.00,    0.08,2,  -233.5,2,     1.6,        0,2, -999.00,9,    35.5,2,   41.00,2, -999.00,9,    23.5006,2, -999.00,9,    -530,2,          5,      -21.2,2,     -999.0,9,     -999.0,     -999.0,9,     -999.0,     -999.0,9,     -999.0,     -999.0,     -999.0,9,     -999.0,9,     -999.0,9,     -999.0,9,     -999.0,9,     -999.0,9,     -999.0,9,     -999.0,9
33RO20161119,        P18,      39,          1,          7,      11106,2,20161203,       2112,     4.9998,  -110.0005,       3915,  2099.5,   2.1588,  34.6499,2,  34.6492,2,    102.4,2,   102.2,2,   142.3,2,    39.7,2,    0.01,2,   2.741,2,   0.0018,2,   0.0007,2,   0.0164,2,  2352.7,2,  2421.1,2,   7.4934,2,    25.00,    0.11,2,  -237.5,2,     1.8,   0.0216,2, -999.00,9,    36.5,2,   46.10,2, -999.00,9,    25.5879,2, -999.00,9,    -528,2,          5,      -22.5,2,     -999.0,9,     -999.0,     -999.0,9,     -999.0,     -999.0,9,     -999.0,     -999.0,     -999.0,9,     -999.0,9,     -999.0,9,     -999.0,9,     -999.0,9,     -999.0,9,     -999.0,9,     -999.0,9
33RO20161119,        P18,      39,          1,          8,      11107,2,20161203,       2112,     4.9998,  -110.0005,       3915,  1798.8,   2.6006,  34.6297,2,  34.6303,2,     86.9,2,    87.2,2,   133.5,2,    40.6,2,    0.01,2,   2.838,2,   0.0028,2,   0.0014,2,   0.0000,2,  2352.9,2,  2407.2,2,   7.4645,2,    25.00,    0.04,2,  -237.5,2,     1.7,        0,2, -999.00,9,    38.2,2,   45.80,2, -999.00,9,    28.9988,2, -999.00,9,    -508,2,          5,      -21.3,2,     -999.0,9,     -999.0,     -999.0,9,     -999.0,     -999.0,9,     -999.0,     -999.0,     -999.0,9,     -999.0,9,     -999.0,9,     -999.0,9,     -999.0,9,     -999.0,9,     -999.0,9,     -999.0,9
33RO20161119,        P18,      39,          1,          9,      11108,2,20161203,       2112,     4.9998,  -110.0005,       3915,  1499.0,   3.1793,  34.6061,2,  34.6066,2,     72.6,2,    72.4,2,   120.6,2,    41.7,2,    0.01,2,   2.922,2,   0.0024,2,   0.0013,2,   0.0000,2,  2347.5,2,  2390.7,2,   7.4365,2,    25.00,    0.07,2,  -220.6,2,     1.8,   0.0049,2, -999.00,9,    39.1,2,   48.30,2, -999.00,9,     33.087,2, -999.00,9,  -999.0,9,     -999.0,     -999.0,9,     -999.0,9,     -999.0,     -999.0,9,     -999.0,     -999.0,9,     -999.0,     -999.0,     -999.0,9,     -999.0,9,     -999.0,9,     -999.0,9,     -999.0,9,     -999.0,9,     -999.0,9,     -999.0,9
33RO20161119,        P18,      39,          1,         10,      11109,2,20161203,       2112,     4.9998,  -110.0005,       3915,  1317.3,   3.5975,  34.5899,2,  34.5920,2,     64.7,2,    64.6,2,   110.8,2,    42.1,2,    0.01,2,   2.974,2,   0.0025,2,   0.0019,2,   0.0000,2,  2340.3,2,  2381.1,2,   7.4192,2,    25.00,    0.04,2,  -210.3,2,     1.7,   0.0135,2, -999.00,9,    40.2,2,   48.50,2, -999.00,9,    35.5183,2, -999.00,9,  -999.0,9,     -999.0,     -999.0,9,     -999.0,9,     -999.0,     -999.0,9,     -999.0,     -999.0,9,     -999.0,     -999.0,     -999.0,9,     -999.0,9,     -999.0,9,     -999.0,9,     -999.0,9,     -999.0,9,     -999.0,9,     -999.0,9
33RO20161119,        P18,      39,          1,         11,      11110,2,20161203,       2112,     4.9998,  -110.0005,       3915,  1179.2,   4.0791,  34.5785,2,  34.5778,2,     54.9,2,    54.0,2,   101.1,2,    42.8,2,    0.01,2,   3.024,2,   0.0035,2,   0.0026,2,   0.0000,2,  2334.5,6,  2367.3,2,   7.4021,2,    25.00,    0.07,2,  -198.8,2,     1.8,   0.0051,2, -999.00,9,    41.5,2,   48.20,2, -999.00,9,    38.3079,2, -999.00,9,  -999.0,9,     -999.0,     -999.0,9,     -999.0,9,     -999.0,     -999.0,9,     -999.0,     -999.0,9,     -999.0,     -999.0,     -999.0,9,     -999.0,9,     -999.0,9,     -999.0,9,     -999.0,9,     -999.0,9,     -999.0,9,     -999.0,9
33RO20161119,        P18,      39,          1,         12,      11111,2,20161203,       2112,     4.9998,  -110.0005,       3915,  1049.9,   4.5085,  34.5678,2,  34.5666,2,     48.5,2,    48.3,2,    91.3,2,    43.2,2,    0.01,2,   3.036,2,   0.0022,2,   0.0021,2,   0.0000,2,  2329.4,2,  2361.2,2,   7.3924,2,    25.00,    0.11,2,  -188.7,2,     1.8,        0,2, -999.00,9,    38.2,2,   43.70,2, -999.00,9,    41.3747,2, -999.00,9,    -502,2,          5,      -21.5,2,     -999.0,9,     -999.0,     -999.0,9,     -999.0,     -999.0,9,     -999.0,     -999.0,     -999.0,9,     -999.0,9,     -999.0,9,     -999.0,9,     -999.0,9,     -999.0,9,     -999.0,9,     -999.0,9
33RO20161119,        P18,      39,          1,         13,      11112,2,20161203,       2112,     4.9998,  -110.0005,       3915,   918.7,   5.1155,  34.5595,2,  34.5583,2,     37.1,2,    37.3,2,    80.3,2,    43.6,2,    0.01,2,   3.065,2,   0.0050,2,   0.0036,2,   0.0000,2,  2321.5,2,  2346.7,2,   7.3730,2,    25.00,    0.11,2,  -176.9,2,     1.9,        0,2, -999.00,9,    37.5,2,   46.80,2, -999.00,9,    44.8698,2, -999.00,9,  -999.0,9,     -999.0,     -999.0,9,     -999.0,9,     -999.0,     -999.0,9,     -999.0,     -999.0,9,     -999.0,     -999.0,     -999.0,9,     -999.0,9,     -999.0,9,     -999.0,9,     -999.0,9,     -999.0,9,     -999.0,9,     -999.0,9
33RO20161119,        P18,      39,          1,         14,      11113,2,20161203,       2112,     4.9998,  -110.0005,       3915,   794.8,   5.6802,  34.5585,2,  34.5604,2,     29.3,2,    28.6,2,    71.4,2,    43.5,2,    0.01,2,   3.072,2,   0.0087,2,   0.0050,2,   0.0260,2,  2315.8,2,  2336.6,2,   7.3610,2,    25.00,    0.12,2,  -163.2,2,     1.9,    0.019,2, -999.00,9,    38.5,2,   49.50,2, -999.00,9,    49.8655,2, -999.00,9,    -477,2,          5,      -21.3,2,     -999.0,9,     -999.0,     -999.0,9,     -999.0,     -999.0,9,     -999.0,     -999.0,     -999.0,9,     -999.0,9,     -999.0,9,     -999.0,9,     -999.0,9,     -999.0,9,     -999.0,9,     -999.0,9
33RO20161119,        P18,      39,          1,         15,      11114,2,20161203,       2112,     4.9998,  -110.0005,       3915,   675.4,   6.5977,  34.5686,2,  34.5679,2,     19.1,2,    18.4,2,    59.7,2,    42.7,2,    0.01,2,   3.032,2,   0.0201,2,   0.0117,2,   0.0197,2,  2305.9,2,  2326.1,2,   7.3513,2,    25.00,    0.08,2,  -143.7,2,     1.8,   0.0193,2, -999.00,9,    41.6,2,   45.70,2, -999.00,9,    55.2528,2, -999.00,9,  -999.0,9,     -999.0,     -999.0,9,     -999.0,9,     -999.0,     -999.0,9,     -999.0,     -999.0,9,     -999.0,     -999.0,     -999.0,9,     -999.0,9,     -999.0,9,     -999.0,9,     -999.0,9,     -999.0,9,     -999.0,9,     -999.0,9
33RO20161119,        P18,      39,          1,         16,      11115,2,20161203,       2112,     4.9998,  -110.0005,       3915,   564.2,   7.4621,  34.5945,2,  34.5934,2,     10.3,2,     9.3,6,    52.6,2,    40.8,2,    0.01,2,   3.007,2,   0.0368,6,   0.0228,6,   0.0144,6,  2301.2,2,  2317.4,2,   7.3449,2,    25.00,    0.02,2,  -129.6,2,     2.1,    0.019,2, -999.00,9,    42.7,2,   46.30,2, -999.00,9,    60.2092,2, -999.00,9,    -456,2,          5,      -21.4,2,     -999.0,9,     -999.0,     -999.0,9,     -999.0,     -999.0,9,     -999.0,     -999.0,     -999.0,9,     -999.0,9,     -999.0,9,     -999.0,9,     -999.0,9,     -999.0,9,     -999.0,9,     -999.0,9
33RO20161119,        P18,      39,          1,         17,      11116,2,20161203,       2112,     4.9998,  -110.0005,       3915,   460.2,   8.5868,  34.6364,2,  34.6376,2,     10.3,2,    10.0,6,    43.2,2,    38.0,2,    0.01,2,   2.816,2,   0.1557,2,   0.0865,2,   0.0665,2,  2286.3,2,  2310.0,6,   7.3666,2,    25.00,   -0.10,2,   -99.4,2,     2.6,   0.0789,2, -999.00,9,    41.2,2,   40.70,2, -999.00,9,    60.0792,2, -999.00,9,  -999.0,9,     -999.0,     -999.0,9,     -999.0,9,     -999.0,     -999.0,9,     -999.0,     -999.0,9,     -999.0,     -999.0,     -999.0,9,     -999.0,9,     -999.0,9,     -999.0,9,     -999.0,9,     -999.0,9,     -999.0,9,     -999.0,9
33RO20161119,        P18,      39,          1,         18,      11117,2,20161203,       2112,     4.9998,  -110.0005,       3915,   354.8,   9.6386,  34.6826,2,  34.6834,2,     31.1,2,    30.4,2,    33.9,2,    35.1,2,    0.02,2,   2.493,2,   0.5224,2,   0.2849,2,   0.1488,2,  2257.6,2,  2303.4,2,   7.4312,2,    25.00,    0.07,2,   -61.4,2,     2.5,   0.1288,2, -999.00,9,    41.9,2,   36.90,2, -999.00,9,     53.791,2, -999.00,9,  -999.0,9,     -999.0,      -21.4,2,     -999.0,9,     -999.0,     -999.0,9,     -999.0,     -999.0,9,     -999.0,     -999.0,     -999.0,9,     -999.0,9,     -999.0,9,     -999.0,9,     -999.0,9,     -999.0,9,     -999.0,9,     -999.0,9
33RO20161119,        P18,      39,          1,         19,      11083,2,20161203,       2112,     4.9998,  -110.0005,       3915,   266.1,  10.5613,  34.7282,2,  34.7296,2,     43.8,2,    42.7,2,    29.1,2,    32.5,2,    0.01,2,   2.277,2,   0.8590,2,   0.4639,2,   0.1643,2,  2242.1,2,  2300.9,2,   7.4746,2,    25.00,    0.10,2,   -38.2,2,     2.5,   0.1148,2, -999.00,9,    42.9,2,   36.10,2, -999.00,9,    52.9977,2, -999.00,9,  -999.0,9,     -999.0,     -999.0,9,     -999.0,9,     -999.0,     -999.0,9,     -999.0,     -999.0,9,     -999.0,     -999.0,     -999.0,9,     -999.0,9,     -999.0,9,     -999.0,9,     -999.0,9,     -999.0,9,     -999.0,9,     -999.0,9
33RO20161119,        P18,      39,          1,         20,      11118,2,20161203,       2112,     4.9998,  -110.0005,       3915,   189.8,  11.9009,  34.7624,2,  34.7639,2,     27.1,2,    29.6,2,    26.0,2,    31.6,2,    0.02,2,   2.253,2,   1.1193,2,   0.6179,2,   0.2753,2,  2237.8,2,  2292.2,2,   7.4727,2,    25.00,   -0.07,2,   -16.0,2,     2.5,    0.295,2, -999.00,9,    48.7,2,   35.60,2, -999.00,9,    68.7745,2, -999.00,9,    -390,2,          5,      -21.2,2,     -999.0,9,     -999.0,     -999.0,9,     -999.0,     -999.0,9,     -999.0,     -999.0,     -999.0,9,     -999.0,9,     -999.0,9,     -999.0,9,     -999.0,9,     -999.0,9,     -999.0,9,     -999.0,9
33RO20161119,        P18,      39,          1,         21,      11119,2,20161203,       2112,     4.9998,  -110.0005,       3915,   120.7,  17.4296,  34.7404,2,  34.7525,2,     75.3,2,    71.5,2,    13.1,2,    21.0,2,    0.08,2,   1.612,2,   1.7647,2,   1.0375,2,   0.8857,2,  2167.5,2,  2284.5,2,   7.6513,2,    25.00,    0.03,2,    23.8,2,     2.6,    1.648,2, -999.00,9,    52.9,2,   24.60,2, -999.00,9,    51.6505,2, -999.00,9,  -999.0,9,     -999.0,     -999.0,9,     -999.0,9,     -999.0,     -999.0,9,     -999.0,     -999.0,9,     -999.0,     -999.0,     -999.0,9,     -999.0,9,     -999.0,9,     -999.0,9,     -999.0,9,     -999.0,9,     -999.0,9,     -999.0,9
33RO20161119,        P18,      39,          1,         22,      11120,2,20161203,       2112,     4.9998,  -110.0005,       3915,    59.7,  25.6334,  33.6408,2,  33.6429,2,    203.5,2,   204.2,2,     1.2,2,     0.9,2,    0.04,2,   0.256,2,   1.6381,2,   1.0345,2,   1.3785,2,  1925.9,2,  2215.3,6,   8.0458,2,    25.00,    0.99,2,    28.6,2,     2.3,    1.676,2, -999.00,9,    70.0,2,    5.20,2, -999.00,9,     7.5448,2, -999.00,9,    -213,2,          5,      -20.5,2,     -999.0,9,     -999.0,     -999.0,9,     -999.0,     -999.0,9,     -999.0,     -999.0,     -999.0,9,     -999.0,9,     -999.0,9,     -999.0,9,     -999.0,9,     -999.0,9,     -999.0,9,     -999.0,9
33RO20161119,        P18,      39,          1,         23,      11121,2,20161203,       2112,     4.9998,  -110.0005,       3915,    24.8,  26.4976,  33.6447,2,  33.6434,2,    203.8,2,   204.2,2,     0.8,2,     0.2,2,    0.02,2,   0.196,2,   1.5821,2,   1.0083,2,   1.4113,2,  1914.0,2,  2213.8,2,   8.0660,6,    25.00,    1.06,2,    33.5,2,     2.8,   1.6493,2, -999.00,9,    67.7,2,    3.20,2, -999.00,9,     6.6266,2, -999.00,9,  -999.0,9,     -999.0,     -999.0,9,     -999.0,9,     -999.0,     -999.0,9,     -999.0,     -999.0,9,     -999.0,     -999.0,     -999.0,9,     -999.0,9,     -999.0,9,     -999.0,9,     -999.0,9,     -999.0,9,     -999.0,9,     -999.0,9
33RO20161119,        P18,      39,          1,         24,      11122,2,20161203,       2112,     4.9998,  -110.0005,       3915,     3.8,  26.6019,  33.6378,2,  33.6391,2,    202.4,2,   204.0,2,     0.8,2,     0.2,2,    0.02,2,   0.174,2,   1.5807,2,   1.0040,2,   1.4140,2,  1912.4,6,  2203.4,2,   8.0681,2,    25.00,    1.10,2,    29.6,2,     2.5,   0.0043,2, -999.00,9,    66.2,2,    4.40,2, -999.00,9,      6.515,2, -999.00,9,    -206,2,          5,      -20.4,2,     -999.0,9,     -999.0,     -999.0,9,     -999.0,     -999.0,9,     -999.0,     -999.0,     -999.0,9,     -999.0,9,     -999.0,9,     -999.0,9,     -999.0,9,     -999.0,9,     -999.0,9,     -999.0,9