BOTTLE,20230606CCHSIOCBG
EXPOCODE,SECT_ID,STNNBR,CASTNO,SAMPNO,BTLNBR,BTLNBR_FLAG_W,DATE,TIME,LATITUDE,LONGITUDE,DEPTH,CTDPRS,CTDTMP,CTDSAL,CTDSAL_FLAG_W,SALNTY,SALNTY_FLAG_W,CTDOXY,CTDOXY_FLAG_W,OXYGEN,OXYGEN_FLAG_W,SILCAT,SILCAT_FLAG_W,NITRAT,NITRAT_FLAG_W,NITRIT,NITRIT_FLAG_W,PHSPHT,PHSPHT_FLAG_W,CFC-11,CFC-11_FLAG_W,CFC-12,CFC-12_FLAG_W,SF6,SF6_FLAG_W,TCARBN,TCARBN_FLAG_W,ALKALI,ALKALI_FLAG_W,PH_SWS,PH_SWS_FLAG_W,PH_TMP,DELC13,DELC13_FLAG_W,DELC14,DELC14_FLAG_W,C14ERR,CCL4,CCL4_FLAG_W,POC,POC_FLAG_W,DOC,DOC_FLAG_W,TDN,TDN_FLAG_W,PON,PON_FLAG_W,N2O,N2O_FLAG_W,D15N_NO3,D15N_NO3_FLAG_W,14C-DOC,14C-DOC_FLAG_W,14C-DOCERR,13C-DOC,13C-DOC_FLAG_W,N2/ARGON_UNSTRIPPED,N2/ARGON_UNSTRIPPED_FLAG_W,N2/ARGON_UNSTRIPPED_ERROR,N2/ARGON,N2/ARGON_FLAG_W,N2/ARGON_ERROR,D15N_N2,D15N_N2_FLAG_W,D15N_N2_ERROR,D15N_NO3_ERROR,D15N_NO2+NO3,D15N_NO2+NO3_FLAG_W,D18O_NO2+NO3,D18O_NO2+NO3_FLAG_W,D18O_NO3,D18O_NO3_FLAG_W,TDP,TDP_FLAG_W,N2O_ALT_1,N2O_ALT_1_FLAG_W,D15N_N2O,D15N_N2O_FLAG_W,D18O_N2O,D18O_N2O_FLAG_W,D15N_ALPHA_N2O,D15N_ALPHA_N2O_FLAG_W
,,,,,,,,,,,METERS,DBAR,ITS-90,PSS-78,,PSS-78,,UMOL/KG,,UMOL/KG,,UMOL/KG,,UMOL/KG,,UMOL/KG,,UMOL/KG,,PMOL/KG,,PMOL/KG,,FMOL/KG,,UMOL/KG,,UMOL/KG,,,,DEG C,/MILLE,,/MILLE,,/MILLE,PMOL/KG,,UG/KG,,UMOL/KG,,UMOL/KG,,UG/KG,,NMOL/KG,,/MILLE,,/MILLE,,/MILLE,/MILLE,,,,,,,,/MILLE,,/MILLE,/MILLE,/MILLE,,/MILLE,,/MILLE,,UMOL/KG,,NMOL/L,,/MILLE,,/MILLE,,/MILLE,
33RO20161119,        P18,     193,          1,          1,      11010,2,20170122,       0031,   -62.5025,  -102.9984,       5057,  5151.2,   0.4468,  34.6992,2,-999.0000,9,    215.0,2,   214.9,2,   141.3,2,    33.0,2,    0.02,2,   2.268,2,   0.4794,2,   0.2271,2,   0.0619,2,  2263.7,6,  2363.0,2,   7.5871,2,    25.00, -999.00,9,  -999.0,9,  -999.0,   0.2962,2, -999.00,9,  -999.0,9, -999.00,9, -999.00,9,    18.5144,2, -999.00,9,  -999.0,9,     -999.0,     -999.0,9,     -999.0,9,     -999.0,     -999.0,9,     -999.0,     -999.0,9,     -999.0,     -999.0,     -999.0,9,     -999.0,9,     -999.0,9,     -999.0,9,     -999.0,9,     -999.0,9,     -999.0,9,     -999.0,9
33RO20161119,        P18,     193,          1,          2,      11101,2,20170122,       0031,   -62.5025,  -102.9984,       5057,  4765.4,   0.4331,  34.7006,2,  34.7005,2,    215.0,2,   214.4,2,   136.9,2,    32.8,2,    0.01,2,   2.260,2,   0.4168,2,   0.1980,2,   0.0688,2,  2264.5,2,  2360.6,6,   7.5876,2,    25.00, -999.00,9,  -999.0,9,  -999.0,   0.2385,2, -999.00,9,  -999.0,9, -999.00,9, -999.00,9,    18.5311,2, -999.00,9,  -999.0,9,     -999.0,     -999.0,9,     -999.0,9,     -999.0,     -999.0,9,     -999.0,     -999.0,9,     -999.0,     -999.0,     -999.0,9,     -999.0,9,     -999.0,9,     -999.0,9,     -999.0,9,     -999.0,9,     -999.0,9,     -999.0,9
33RO20161119,        P18,     193,          1,          3,      11102,2,20170122,       0031,   -62.5025,  -102.9984,       5057,  4380.5,   0.4486,  34.7021,2,  34.7039,2,    213.5,2,   213.3,2,   134.4,6,    32.7,6,    0.01,6,   2.257,6,   0.3451,2,   0.1644,2,   0.0525,2,  2262.5,2,  2360.2,2,   7.5899,2,    25.00, -999.00,9,  -999.0,9,  -999.0,   0.2072,2, -999.00,9,  -999.0,9, -999.00,9, -999.00,9,      18.56,2, -999.00,9,  -999.0,9,     -999.0,     -999.0,9,     -999.0,9,     -999.0,     -999.0,9,     -999.0,     -999.0,9,     -999.0,     -999.0,     -999.0,9,     -999.0,9,     -999.0,9,     -999.0,9,     -999.0,9,     -999.0,9,     -999.0,9,     -999.0,9
33RO20161119,        P18,     193,          1,          4,      11103,2,20170122,       0031,   -62.5025,  -102.9984,       5057,  3980.2,   0.5223,  34.7028,2,  34.7133,4,    211.1,2,   211.6,2,   129.9,6,    32.8,6,    0.01,6,   2.256,6,   0.3181,2,   0.1517,2,   0.0628,2,  2262.5,2,  2364.0,2,   7.5914,2,    25.00, -999.00,9,  -999.0,9,  -999.0,   0.2594,2, -999.00,9,  -999.0,9, -999.00,9, -999.00,9,    18.5117,2, -999.00,9,  -999.0,9,     -999.0,     -999.0,9,     -999.0,9,     -999.0,     -999.0,9,     -999.0,     -999.0,9,     -999.0,     -999.0,     -999.0,9,     -999.0,9,     -999.0,9,     -999.0,9,     -999.0,9,     -999.0,9,     -999.0,9,     -999.0,9
33RO20161119,        P18,     193,          1,          5,      11104,2,20170122,       0031,   -62.5025,  -102.9984,       5057,  3580.5,   0.6598,  34.7057,2,  34.7227,4,    207.7,2,   208.2,2,   126.6,6,    32.6,6,    0.01,6,   2.233,6,   0.2597,2,   0.1261,2,   0.0499,2,  2263.0,2,  2365.1,3,   7.5912,2,    25.00, -999.00,9,  -999.0,9,  -999.0,    0.304,2, -999.00,9,  -999.0,9, -999.00,9, -999.00,9,    18.6719,2, -999.00,9,  -999.0,9,     -999.0,     -999.0,9,     -999.0,9,     -999.0,     -999.0,9,     -999.0,     -999.0,9,     -999.0,     -999.0,     -999.0,9,     -999.0,9,     -999.0,9,     -999.0,9,     -999.0,9,     -999.0,9,     -999.0,9,     -999.0,9
33RO20161119,        P18,     193,          1,          6,      11105,2,20170122,       0031,   -62.5025,  -102.9984,       5057,  3185.2,   0.8107,  34.7099,2,  34.7102,2,    204.7,2,   205.4,2,   123.4,6,    32.5,6,    0.01,6,   2.230,6,   0.1939,2,   0.0958,2,   0.0714,2,  2263.0,2,  2360.6,2,   7.5924,2,    25.00, -999.00,9,  -999.0,9,  -999.0,   0.4153,2, -999.00,9,  -999.0,9, -999.00,9, -999.00,9,    18.8443,2, -999.00,9,  -999.0,9,     -999.0,     -999.0,9,     -999.0,9,     -999.0,     -999.0,9,     -999.0,     -999.0,9,     -999.0,     -999.0,     -999.0,9,     -999.0,9,     -999.0,9,     -999.0,9,     -999.0,9,     -999.0,9,     -999.0,9,     -999.0,9
33RO20161119,        P18,     193,          1,          7,      11106,2,20170122,       0031,   -62.5025,  -102.9984,       5057,  2794.7,   0.9505,  34.7152,2,  34.7145,2,    201.9,2,   202.6,2,   117.9,2,    32.2,2,    0.01,2,   2.222,2,-999.0000,9,-999.0000,9,-999.0000,9,  2262.6,2,  2358.7,2,   7.5942,2,    25.00, -999.00,9,  -999.0,9,  -999.0,-999.0000,9, -999.00,9,  -999.0,9, -999.00,9, -999.00,9,     -999.0,9, -999.00,9,  -999.0,9,     -999.0,     -999.0,9,     -999.0,9,     -999.0,     -999.0,9,     -999.0,     -999.0,9,     -999.0,     -999.0,     -999.0,9,     -999.0,9,     -999.0,9,     -999.0,9,     -999.0,9,     -999.0,9,     -999.0,9,     -999.0,9
33RO20161119,        P18,     193,          1,          8,      11107,2,20170122,       0031,   -62.5025,  -102.9984,       5057,  2423.3,   1.1170,  34.7215,2,  34.7223,2,    198.7,2,   199.3,2,  -999.0,9,  -999.0,9, -999.00,9,-999.000,9,   0.1308,2,   0.0636,2,   0.0329,2,  2262.7,2,  2358.1,2,   7.5984,2,    25.00, -999.00,9,  -999.0,9,  -999.0,   0.9659,2, -999.00,9,  -999.0,9, -999.00,9, -999.00,9,    18.9802,2, -999.00,9,  -999.0,9,     -999.0,     -999.0,9,     -999.0,9,     -999.0,     -999.0,9,     -999.0,     -999.0,9,     -999.0,     -999.0,     -999.0,9,     -999.0,9,     -999.0,9,     -999.0,9,     -999.0,9,     -999.0,9,     -999.0,9,     -999.0,9
33RO20161119,        P18,     193,          1,          9,      11108,2,20170122,       0031,   -62.5025,  -102.9984,       5057,  2001.4,   1.3492,  34.7289,2,  34.7280,2,    194.2,2,   195.3,2,   104.0,2,    31.9,2,    0.01,2,   2.193,2,-999.0000,9,-999.0000,9,-999.0000,9,  2260.5,2,  2357.8,2,   7.5951,2,    25.00, -999.00,9,  -999.0,9,  -999.0,-999.0000,9, -999.00,9,  -999.0,9, -999.00,9, -999.00,9,     -999.0,9, -999.00,9,  -999.0,9,     -999.0,     -999.0,9,     -999.0,9,     -999.0,     -999.0,9,     -999.0,     -999.0,9,     -999.0,     -999.0,     -999.0,9,     -999.0,9,     -999.0,9,     -999.0,9,     -999.0,9,     -999.0,9,     -999.0,9,     -999.0,9
33RO20161119,        P18,     193,          1,         10,      11109,2,20170122,       0031,   -62.5025,  -102.9984,       5057,  1683.2,   1.5920,  34.7329,2,  34.7402,4,    191.4,2,   191.6,6,    96.8,2,    31.6,2,    0.01,2,   2.166,2,   0.1538,2,   0.0765,2,   0.0000,2,  2259.4,2,  2358.1,2,   7.5928,2,    25.00, -999.00,9,  -999.0,9,  -999.0,   1.2741,2, -999.00,9,  -999.0,9, -999.00,9, -999.00,9,    19.5421,2, -999.00,9,  -999.0,9,     -999.0,     -999.0,9,     -999.0,9,     -999.0,     -999.0,9,     -999.0,     -999.0,9,     -999.0,     -999.0,     -999.0,9,     -999.0,9,     -999.0,9,     -999.0,9,     -999.0,9,     -999.0,9,     -999.0,9,     -999.0,9
33RO20161119,        P18,     193,          1,         11,      11110,2,20170122,       0031,   -62.5025,  -102.9984,       5057,  1551.1,   1.7069,  34.7324,2,  34.7343,2,    189.4,2,   189.4,2,    93.1,2,    31.5,2,    0.02,2,   2.162,2,   0.1742,2,   0.0861,2,   0.0508,2,  2257.0,2,  2355.6,2,   7.5919,2,    25.00, -999.00,9,  -999.0,9,  -999.0,   1.3882,2, -999.00,9,  -999.0,9, -999.00,9, -999.00,9,    19.5755,2, -999.00,9,  -999.0,9,     -999.0,     -999.0,9,     -999.0,9,     -999.0,     -999.0,9,     -999.0,     -999.0,9,     -999.0,     -999.0,     -999.0,9,     -999.0,9,     -999.0,9,     -999.0,9,     -999.0,9,     -999.0,9,     -999.0,9,     -999.0,9
33RO20161119,        P18,     193,          1,         12,      11111,2,20170122,       0031,   -62.5025,  -102.9984,       5057,  1387.5,   1.8404,  34.7283,2,  34.7295,2,    186.1,2,   186.9,6,    89.4,2,    31.6,2,    0.01,2,   2.170,2,   0.1948,2,   0.0956,2,   0.0644,2,  2255.0,2,  2350.6,2,   7.5883,2,    25.00, -999.00,9,  -999.0,9,  -999.0,   2.2394,2, -999.00,9,  -999.0,9, -999.00,9, -999.00,9,    19.9273,2, -999.00,9,  -999.0,9,     -999.0,     -999.0,9,     -999.0,9,     -999.0,     -999.0,9,     -999.0,     -999.0,9,     -999.0,     -999.0,     -999.0,9,     -999.0,9,     -999.0,9,     -999.0,9,     -999.0,9,     -999.0,9,     -999.0,9,     -999.0,9
33RO20161119,        P18,     193,          1,         13,      11112,2,20170122,       0031,   -62.5025,  -102.9984,       5057,  1221.9,   1.9974,  34.7149,2,  34.7125,2,    182.4,2,   182.1,2,    85.5,2,    32.0,2,    0.01,2,   2.186,2,-999.0000,9,-999.0000,9,-999.0000,9,  2256.1,2,  2351.7,2,   7.5795,2,    25.00, -999.00,9,  -999.0,9,  -999.0,-999.0000,9, -999.00,9,  -999.0,9, -999.00,9, -999.00,9,     -999.0,9, -999.00,9,  -999.0,9,     -999.0,     -999.0,9,     -999.0,9,     -999.0,     -999.0,9,     -999.0,     -999.0,9,     -999.0,     -999.0,     -999.0,9,     -999.0,9,     -999.0,9,     -999.0,9,     -999.0,9,     -999.0,9,     -999.0,9,     -999.0,9
33RO20161119,        P18,     193,          1,         14,      11113,2,20170122,       0031,   -62.5025,  -102.9984,       5057,  1006.4,   2.1226,  34.6844,2,  34.6867,2,    176.6,2,   176.6,2,    82.2,2,    32.7,2,    0.02,2,   2.241,2,   0.3152,2,   0.1605,2,   0.1028,2,  2256.5,2,  2344.7,6,   7.5650,2,    25.00, -999.00,9,  -999.0,9,  -999.0,   3.7609,2, -999.00,9,  -999.0,9, -999.00,9, -999.00,9,    21.3893,2, -999.00,9,  -999.0,9,     -999.0,     -999.0,9,     -999.0,9,     -999.0,     -999.0,9,     -999.0,     -999.0,9,     -999.0,     -999.0,     -999.0,9,     -999.0,9,     -999.0,9,     -999.0,9,     -999.0,9,     -999.0,9,     -999.0,9,     -999.0,9
33RO20161119,        P18,     193,          1,         15,      11114,2,20170122,       0031,   -62.5025,  -102.9984,       5057,   912.1,   2.1815,  34.6639,2,  34.6642,2,    174.0,2,   174.1,2,    80.8,2,    33.2,2,    0.02,2,   2.266,2,-999.0000,9,-999.0000,9,-999.0000,9,  2258.2,2,  2343.0,2,   7.5609,2,    25.00, -999.00,9,  -999.0,9,  -999.0,-999.0000,9, -999.00,9,  -999.0,9, -999.00,9, -999.00,9,     -999.0,9, -999.00,9,  -999.0,9,     -999.0,     -999.0,9,     -999.0,9,     -999.0,     -999.0,9,     -999.0,     -999.0,9,     -999.0,     -999.0,     -999.0,9,     -999.0,9,     -999.0,9,     -999.0,9,     -999.0,9,     -999.0,9,     -999.0,9,     -999.0,9
33RO20161119,        P18,     193,          1,         16,      11115,2,20170122,       0031,   -62.5025,  -102.9984,       5057,   771.0,   2.2610,  34.6245,2,  34.6224,2,    172.5,2,   172.9,2,    77.7,2,    33.8,2,    0.02,2,   2.308,2,-999.0000,9,-999.0000,9,-999.0000,9,  2257.1,6,  2338.8,2,   7.5523,6,    25.00, -999.00,9,  -999.0,9,  -999.0,-999.0000,9, -999.00,9,  -999.0,9, -999.00,9, -999.00,9,     -999.0,9, -999.00,9,  -999.0,9,     -999.0,     -999.0,9,     -999.0,9,     -999.0,     -999.0,9,     -999.0,     -999.0,9,     -999.0,     -999.0,     -999.0,9,     -999.0,9,     -999.0,9,     -999.0,9,     -999.0,9,     -999.0,9,     -999.0,9,     -999.0,9
33RO20161119,        P18,     193,          1,         17,      11116,2,20170122,       0031,   -62.5025,  -102.9984,       5057,   636.0,   2.3221,  34.5660,2,  34.5819,2,    172.6,2,   173.7,2,    73.6,2,    34.5,2,    0.02,2,   2.359,2,   0.7825,2,   0.3942,2,   0.2505,2,  2256.4,2,  2333.0,2,   7.5426,2,    25.00, -999.00,9,  -999.0,9,  -999.0,   5.8038,2, -999.00,9,  -999.0,9, -999.00,9, -999.00,9,     22.864,2, -999.00,9,  -999.0,9,     -999.0,     -999.0,9,     -999.0,9,     -999.0,     -999.0,9,     -999.0,     -999.0,9,     -999.0,     -999.0,     -999.0,9,     -999.0,9,     -999.0,9,     -999.0,9,     -999.0,9,     -999.0,9,     -999.0,9,     -999.0,9
33RO20161119,        P18,     193,          1,         18,      11117,2,20170122,       0031,   -62.5025,  -102.9984,       5057,   495.1,   2.2992,  34.4744,2,  34.4986,2,    180.3,2,   179.9,2,    67.4,2,    35.1,2,    0.02,2,   2.401,2,   1.3362,6,   0.6888,6,   0.4640,6,  2250.3,2,  2324.0,2,   7.5340,2,    25.00, -999.00,9,  -999.0,9,  -999.0,   5.7724,2, -999.00,9,  -999.0,9, -999.00,9, -999.00,9,    23.6236,2, -999.00,9,  -999.0,9,     -999.0,     -999.0,9,     -999.0,9,     -999.0,     -999.0,9,     -999.0,     -999.0,9,     -999.0,     -999.0,     -999.0,9,     -999.0,9,     -999.0,9,     -999.0,9,     -999.0,9,     -999.0,9,     -999.0,9,     -999.0,9
33RO20161119,        P18,     193,          1,         19,      11083,2,20170122,       0031,   -62.5025,  -102.9984,       5057,   376.0,   2.3595,  34.3796,2,  34.3767,2,    196.5,2,   196.9,2,    58.4,2,    34.5,2,    0.03,2,   2.352,2,   1.9897,2,   1.0227,2,   0.7501,2,  2237.1,2,  2313.8,2,   7.5436,2,    25.00, -999.00,9,  -999.0,9,  -999.0,   0.6144,2, -999.00,9,  -999.0,9, -999.00,9, -999.00,9,     22.704,2, -999.00,9,  -999.0,9,     -999.0,     -999.0,9,     -999.0,9,     -999.0,     -999.0,9,     -999.0,     -999.0,9,     -999.0,     -999.0,     -999.0,9,     -999.0,9,     -999.0,9,     -999.0,9,     -999.0,9,     -999.0,9,     -999.0,9,     -999.0,9
33RO20161119,        P18,     193,          1,         20,      11118,2,20170122,       0031,   -62.5025,  -102.9984,       5057,   271.7,   1.8367,  34.2181,2,  34.2156,2,    243.6,2,   244.8,2,    45.7,2,    32.7,2,    0.03,2,   2.228,2,   3.4324,2,   1.8300,2,   1.7205,2,  2211.7,2,  2305.7,2,   7.5842,2,    25.00, -999.00,9,  -999.0,9,  -999.0,   0.5219,2, -999.00,9,  -999.0,9, -999.00,9, -999.00,9,    19.7888,2, -999.00,9,  -999.0,9,     -999.0,     -999.0,9,     -999.0,9,     -999.0,     -999.0,9,     -999.0,     -999.0,9,     -999.0,     -999.0,     -999.0,9,     -999.0,9,     -999.0,9,     -999.0,9,     -999.0,9,     -999.0,9,     -999.0,9,     -999.0,9
33RO20161119,        P18,     193,          1,         21,      11119,2,20170122,       0031,   -62.5025,  -102.9984,       5057,   176.5,   1.0858,  34.0571,2,  34.0552,2,    298.6,2,   301.5,2,    32.6,2,    29.7,2,    0.21,2,   2.057,2,   4.9001,2,   2.6532,2,   2.8528,2,  2183.8,2,  2291.0,2,   7.6338,2,    25.00, -999.00,9,  -999.0,9,  -999.0,   0.4804,2, -999.00,9,  -999.0,9, -999.00,9, -999.00,9,    16.4011,2, -999.00,9,  -999.0,9,     -999.0,     -999.0,9,     -999.0,9,     -999.0,     -999.0,9,     -999.0,     -999.0,9,     -999.0,     -999.0,     -999.0,9,     -999.0,9,     -999.0,9,       2.03,3,     -999.0,9,     -999.0,9,     -999.0,9,     -999.0,9
33RO20161119,        P18,     193,          1,         22,      11120,2,20170122,       0031,   -62.5025,  -102.9984,       5057,    52.1,   1.6668,  33.9599,2,  33.9737,2,    334.1,2,   336.6,2,    10.4,2,    24.3,2,    0.21,2,   1.787,2,   5.4026,2,   2.9442,2,   3.2900,2,  2149.1,6,  2289.7,3,   7.7134,2,    25.00, -999.00,9,  -999.0,9,  -999.0,   0.4735,2, -999.00,9,  -999.0,9, -999.00,9, -999.00,9,    14.7813,2, -999.00,9,  -999.0,9,     -999.0,     -999.0,9,     -999.0,9,     -999.0,     -999.0,9,     -999.0,     -999.0,9,     -999.0,     -999.0,     -999.0,9,     -999.0,9,     -999.0,9,       1.77,3,     -999.0,9,     -999.0,9,     -999.0,9,     -999.0,9
33RO20161119,        P18,     193,          1,         23,      11121,2,20170122,       0031,   -62.5025,  -102.9984,       5057,    30.5,   3.1959,  33.8755,2,  33.8748,2,    326.4,2,   327.4,2,     6.7,2,    23.5,2,    0.24,2,   1.582,2,-999.0000,9,-999.0000,9,-999.0000,9,  2140.6,2,  2279.9,2,   7.7274,6,    25.00, -999.00,9,  -999.0,9,  -999.0,-999.0000,9, -999.00,9,  -999.0,9, -999.00,9, -999.00,9,     -999.0,9, -999.00,9,  -999.0,9,     -999.0,     -999.0,9,     -999.0,9,     -999.0,     -999.0,9,     -999.0,     -999.0,9,     -999.0,     -999.0,     -999.0,9,     -999.0,9,     -999.0,9,       1.62,2,     -999.0,9,     -999.0,9,     -999.0,9,     -999.0,9
33RO20161119,        P18,     193,          1,         24,      11122,2,20170122,       0031,   -62.5025,  -102.9984,       5057,     3.0,   3.1934,  33.8758,2,  33.8779,2,    325.2,2,   327.4,2,     6.7,2,    23.4,2,    0.25,2,   1.581,2,   5.2268,2,   2.8477,2,   3.2510,2,  2141.7,2,  2278.8,2,   7.7272,2,    25.00, -999.00,9,  -999.0,9,  -999.0,   0.3671,2, -999.00,9,  -999.0,9, -999.00,9, -999.00,9,    13.8553,2, -999.00,9,  -999.0,9,     -999.0,     -999.0,9,     -999.0,9,     -999.0,     -999.0,9,     -999.0,     -999.0,9,     -999.0,     -999.0,     -999.0,9,     -999.0,9,     -999.0,9,     -999.0,9,     -999.0,9,     -999.0,9,     -999.0,9,     -999.0,9