BOTTLE,20230606CCHSIOCBG
EXPOCODE,SECT_ID,STNNBR,CASTNO,SAMPNO,BTLNBR,BTLNBR_FLAG_W,DATE,TIME,LATITUDE,LONGITUDE,DEPTH,CTDPRS,CTDTMP,CTDSAL,CTDSAL_FLAG_W,SALNTY,SALNTY_FLAG_W,CTDOXY,CTDOXY_FLAG_W,OXYGEN,OXYGEN_FLAG_W,SILCAT,SILCAT_FLAG_W,NITRAT,NITRAT_FLAG_W,NITRIT,NITRIT_FLAG_W,PHSPHT,PHSPHT_FLAG_W,CFC-11,CFC-11_FLAG_W,CFC-12,CFC-12_FLAG_W,SF6,SF6_FLAG_W,TCARBN,TCARBN_FLAG_W,ALKALI,ALKALI_FLAG_W,PH_SWS,PH_SWS_FLAG_W,PH_TMP,DELC13,DELC13_FLAG_W,DELC14,DELC14_FLAG_W,C14ERR,CCL4,CCL4_FLAG_W,POC,POC_FLAG_W,DOC,DOC_FLAG_W,TDN,TDN_FLAG_W,PON,PON_FLAG_W,N2O,N2O_FLAG_W,D15N_NO3,D15N_NO3_FLAG_W,14C-DOC,14C-DOC_FLAG_W,14C-DOCERR,13C-DOC,13C-DOC_FLAG_W,N2/ARGON_UNSTRIPPED,N2/ARGON_UNSTRIPPED_FLAG_W,N2/ARGON_UNSTRIPPED_ERROR,N2/ARGON,N2/ARGON_FLAG_W,N2/ARGON_ERROR,D15N_N2,D15N_N2_FLAG_W,D15N_N2_ERROR,D15N_NO3_ERROR,D15N_NO2+NO3,D15N_NO2+NO3_FLAG_W,D18O_NO2+NO3,D18O_NO2+NO3_FLAG_W,D18O_NO3,D18O_NO3_FLAG_W,TDP,TDP_FLAG_W,N2O_ALT_1,N2O_ALT_1_FLAG_W,D15N_N2O,D15N_N2O_FLAG_W,D18O_N2O,D18O_N2O_FLAG_W,D15N_ALPHA_N2O,D15N_ALPHA_N2O_FLAG_W
,,,,,,,,,,,METERS,DBAR,ITS-90,PSS-78,,PSS-78,,UMOL/KG,,UMOL/KG,,UMOL/KG,,UMOL/KG,,UMOL/KG,,UMOL/KG,,PMOL/KG,,PMOL/KG,,FMOL/KG,,UMOL/KG,,UMOL/KG,,,,DEG C,/MILLE,,/MILLE,,/MILLE,PMOL/KG,,UG/KG,,UMOL/KG,,UMOL/KG,,UG/KG,,NMOL/KG,,/MILLE,,/MILLE,,/MILLE,/MILLE,,,,,,,,/MILLE,,/MILLE,/MILLE,/MILLE,,/MILLE,,/MILLE,,UMOL/KG,,NMOL/L,,/MILLE,,/MILLE,,/MILLE,
33RO20161119,        P18,      12,          1,          1,      11010,2,20161126,       2244,    18.5007,  -110.0006,       3441,  3474.2,   1.7203,  34.6741,2,  34.6784,4,    118.8,2,   119.6,2,   157.4,6,    38.2,6,    0.01,6,   2.638,6,   0.0063,2,   0.0059,2,   0.0332,2,  2351.9,6,  2429.4,2,   7.5193,2,    25.00, -999.00,9,  -999.0,9,  -999.0,   0.0152,2, -999.00,9,  -999.0,9, -999.00,9, -999.00,9,    22.8608,2, -999.00,9,  -999.0,9,     -999.0,     -999.0,9,     -999.0,9,     -999.0,     -999.0,9,     -999.0,     -999.0,9,     -999.0,     -999.0,     -999.0,9,     -999.0,9,     -999.0,9,     -999.0,9,     -999.0,9,     -999.0,9,     -999.0,9,     -999.0,9
33RO20161119,        P18,      12,          1,          2,      11101,2,20161126,       2244,    18.5007,  -110.0006,       3441,  3165.6,   1.7027,  34.6729,2,  34.6721,2,    117.3,2,   117.6,2,   157.6,6,    38.3,6,    0.01,6,   2.655,6,   0.0054,2,   0.0040,2,   0.0000,2,  2350.3,2,  2430.8,6,   7.5197,2,    25.00, -999.00,9,  -999.0,9,  -999.0,   0.0152,2, -999.00,9,  -999.0,9, -999.00,9, -999.00,9,    23.0549,2, -999.00,9,  -999.0,9,     -999.0,     -999.0,9,     -999.0,9,     -999.0,     -999.0,9,     -999.0,     -999.0,9,     -999.0,     -999.0,     -999.0,9,     -999.0,9,     -999.0,9,     -999.0,9,     -999.0,9,     -999.0,9,     -999.0,9,     -999.0,9
33RO20161119,        P18,      12,          1,          3,      11102,2,20161126,       2244,    18.5007,  -110.0006,       3441,  2899.7,   1.7227,  34.6691,2,  34.6786,4,    113.9,2,   113.3,2,   158.4,6,    38.7,6,    0.01,6,   2.681,6,   0.0058,2,   0.0041,2,   0.0360,2,  2354.9,2,  2429.2,2,   7.5139,2,    25.00, -999.00,9,  -999.0,9,  -999.0,   0.0191,2, -999.00,9,  -999.0,9, -999.00,9, -999.00,9,    23.1913,2, -999.00,9,  -999.0,9,     -999.0,     -999.0,9,     -999.0,9,     -999.0,     -999.0,9,     -999.0,     -999.0,9,     -999.0,     -999.0,     -999.0,9,     -999.0,9,     -999.0,9,     -999.0,9,     -999.0,9,     -999.0,9,     -999.0,9,     -999.0,9
33RO20161119,        P18,      12,          1,          4,      11103,2,20161126,       2244,    18.5007,  -110.0006,       3441,  2625.5,   1.7713,  34.6652,2,  34.6701,4,    109.5,2,   109.3,2,   157.2,6,    38.9,6,    0.01,6,   2.707,6,   0.0049,2,   0.0035,2,   0.0000,2,  2356.4,2,  2429.7,2,   7.5074,2,    25.00, -999.00,9,  -999.0,9,  -999.0,   0.0178,2, -999.00,9,  -999.0,9, -999.00,9, -999.00,9,    23.9638,2, -999.00,9,  -999.0,9,     -999.0,     -999.0,9,     -999.0,9,     -999.0,     -999.0,9,     -999.0,     -999.0,9,     -999.0,     -999.0,     -999.0,9,     -999.0,9,     -999.0,9,     -999.0,9,     -999.0,9,     -999.0,9,     -999.0,9,     -999.0,9
33RO20161119,        P18,      12,          1,          5,      11104,2,20161126,       2244,    18.5007,  -110.0006,       3441,  2351.0,   1.8828,  34.6583,2,  34.6589,2,    101.7,2,   102.6,2,   154.7,2,    39.4,2,    0.01,2,   2.752,2,   0.0032,2,   0.0031,2,   0.0000,2,  2358.5,2,  2424.8,2,   7.4919,2,    25.00, -999.00,9,  -999.0,9,  -999.0,        0,2, -999.00,9,  -999.0,9, -999.00,9, -999.00,9,    25.2077,2, -999.00,9,  -999.0,9,     -999.0,     -999.0,9,     -999.0,9,     -999.0,     -999.0,9,     -999.0,     -999.0,9,     -999.0,     -999.0,     -999.0,9,     -999.0,9,     -999.0,9,     -999.0,9,     -999.0,9,     -999.0,9,     -999.0,9,     -999.0,9
33RO20161119,        P18,      12,          1,          6,      11105,2,20161126,       2244,    18.5007,  -110.0006,       3441,  2100.9,   2.0685,  34.6493,2,  34.6539,4,     91.4,2,    91.5,6,   151.1,2,    40.1,2,    0.01,2,   2.816,2,   0.0032,2,   0.0020,2,   0.0389,2,  2363.4,2,  2421.0,2,   7.4713,2,    25.00, -999.00,9,  -999.0,9,  -999.0,   0.0122,2, -999.00,9,  -999.0,9, -999.00,9, -999.00,9,    27.0523,2, -999.00,9,  -999.0,9,     -999.0,     -999.0,9,      37.87,2,     -999.0,      38.02,2,     -999.0,     -999.0,9,     -999.0,     -999.0,     -999.0,9,     -999.0,9,     -999.0,9,     -999.0,9,26.41546276,2,      10.61,2,      57.15,2,      25.04,2
33RO20161119,        P18,      12,          1,          7,      11106,2,20161126,       2244,    18.5007,  -110.0006,       3441,  1840.4,   2.4162,  34.6279,2,  34.6293,2,     72.3,2,    73.0,2,   145.6,2,    41.4,2,    0.01,2,   2.949,2,   0.0057,6,   0.0025,6,   0.0000,6,  2366.5,2,  2414.0,2,   7.4312,2,    25.00, -999.00,9,  -999.0,9,  -999.0,    0.018,2, -999.00,9,  -999.0,9, -999.00,9, -999.00,9,    30.9418,2, -999.00,9,  -999.0,9,     -999.0,     -999.0,9,      37.93,2,     -999.0,      38.09,2,     -999.0,     -999.0,9,     -999.0,     -999.0,     -999.0,9,     -999.0,9,     -999.0,9,     -999.0,9,30.51641919,2,      10.49,2,      56.69,2,      24.66,2
33RO20161119,        P18,      12,          1,          8,      11107,2,20161126,       2244,    18.5007,  -110.0006,       3441,  1571.8,   2.8988,  34.6059,2,  34.6067,2,     52.3,2,    52.5,2,   136.4,2,    42.8,2,    0.01,2,   3.098,2,   0.0057,2,   0.0022,2,   0.0000,2,  2369.0,2,  2401.8,2,   7.3928,2,    25.00, -999.00,9,  -999.0,9,  -999.0,   0.0179,2, -999.00,9,  -999.0,9, -999.00,9, -999.00,9,     35.716,2, -999.00,9,  -999.0,9,     -999.0,     -999.0,9,      38.06,2,     -999.0,      38.22,2,     -999.0,     -999.0,9,     -999.0,     -999.0,     -999.0,9,     -999.0,9,     -999.0,9,     -999.0,9,34.87596278,2,      10.36,2,       57.5,2,       24.0,2
33RO20161119,        P18,      12,          1,          9,      11108,2,20161126,       2244,    18.5007,  -110.0006,       3441,  1310.5,   3.4590,  34.5821,2,  34.5819,2,     33.2,2,    33.3,2,   124.3,2,    44.0,2,    0.01,2,   3.212,2,   0.0073,2,   0.0031,2,   0.0000,2,  2365.5,2,  2394.1,2,   7.3568,2,    25.00, -999.00,9,  -999.0,9,  -999.0,   0.0206,2, -999.00,9,  -999.0,9, -999.00,9, -999.00,9,    41.4392,2, -999.00,9,  -999.0,9,     -999.0,     -999.0,9,       38.0,2,     -999.0,      38.15,2,     -999.0,     -999.0,9,     -999.0,     -999.0,     -999.0,9,     -999.0,9,     -999.0,9,     -999.0,9,40.55712251,2,       9.96,2,      56.78,2,      20.76,2
33RO20161119,        P18,      12,          1,         10,      11109,2,20161126,       2244,    18.5007,  -110.0006,       3441,  1150.4,   3.9046,  34.5616,2,  34.5643,2,     20.6,2,    20.8,2,   116.2,2,    44.6,2,    0.01,2,   3.296,2,   0.0091,2,   0.0038,2,   0.0327,2,  2367.4,2,  2379.1,2,   7.3284,2,    25.00, -999.00,9,  -999.0,9,  -999.0,    0.023,2, -999.00,9,  -999.0,9, -999.00,9, -999.00,9,    46.0992,2, -999.00,9,  -999.0,9,     -999.0,     -999.0,9,      38.03,2,     -999.0,      38.18,2,     -999.0,     -999.0,9,     -999.0,     -999.0,     -999.0,9,     -999.0,9,     -999.0,9,     -999.0,9, 44.6487779,2,        9.6,2,      56.85,2,      12.39,2
33RO20161119,        P18,      12,          1,         11,      11110,2,20161126,       2244,    18.5007,  -110.0006,       3441,  1030.9,   4.3287,  34.5502,2,  34.5501,2,     12.1,2,    11.9,2,   107.6,2,    44.9,2,    0.01,2,   3.339,2,   0.0077,2,   0.0036,2,   0.0303,2,  2361.4,2,  2369.6,6,   7.3137,2,    25.00, -999.00,9,  -999.0,9,  -999.0,   0.0185,2, -999.00,9,  -999.0,9, -999.00,9, -999.00,9,    51.3702,2, -999.00,9,  -999.0,9,     -999.0,     -999.0,9,      37.89,2,     -999.0,      38.05,2,     -999.0,     -999.0,9,     -999.0,     -999.0,     -999.0,9,     -999.0,9,     -999.0,9,     -999.0,9,49.83814294,2,       9.15,2,       57.1,2,      14.26,2
33RO20161119,        P18,      12,          1,         12,      11111,2,20161126,       2244,    18.5007,  -110.0006,       3441,   910.5,   4.9595,  34.5372,2,  34.5407,2,      4.8,2,     6.0,2,    96.1,2,    44.0,2,    0.01,2,   3.337,2,   0.0077,2,   0.0033,2,   0.0000,2,  2353.9,6,  2358.3,2,   7.3064,2,    25.00, -999.00,9,  -999.0,9,  -999.0,   0.0163,2, -999.00,9,  -999.0,9, -999.00,9, -999.00,9,    56.1526,2, -999.00,9,  -999.0,9,     -999.0,     -999.0,9,      38.13,2,     -999.0,      38.29,2,     -999.0,     -999.0,9,     -999.0,     -999.0,     -999.0,9,     -999.0,9,     -999.0,9,     -999.0,9, 54.8594162,2,       8.44,2,      57.84,2,      20.65,2
33RO20161119,        P18,      12,          1,         13,      11112,2,20161126,       2244,    18.5007,  -110.0006,       3441,   801.4,   5.5117,  34.5291,2,  34.5283,2,      2.9,2,     3.2,2,    87.2,2,    42.6,2,    0.01,2,   3.301,2,   0.0094,2,   0.0047,2,   0.0000,2,  2340.3,2,  2348.3,2,   7.3086,2,    25.00, -999.00,9,  -999.0,9,  -999.0,   0.0246,2, -999.00,9,  -999.0,9, -999.00,9, -999.00,9,    53.0248,2, -999.00,9,  -999.0,9,     -999.0,     -999.0,9,      38.17,2,     -999.0,      38.33,2,     -999.0,     -999.0,9,     -999.0,     -999.0,     -999.0,9,     -999.0,9,     -999.0,9,     -999.0,9, 57.1177204,2,       8.08,2,      60.05,2,      24.17,2
33RO20161119,        P18,      12,          1,         14,      11113,2,20161126,       2244,    18.5007,  -110.0006,       3441,   695.4,   6.0704,  34.5238,2,  34.5260,2,      2.5,2,     2.6,2,    79.4,2,    40.4,2,    0.01,2,   3.247,2,   0.0148,2,   0.0081,2,   0.0000,2,  2332.6,2,  2340.9,2,   7.3140,6,    25.00, -999.00,9,  -999.0,9,  -999.0,   0.0197,2, -999.00,9,  -999.0,9, -999.00,9, -999.00,9,    41.7205,2, -999.00,9,  -999.0,9,     -999.0,     -999.0,9,      38.14,2,     -999.0,      38.29,2,     -999.0,     -999.0,9,     -999.0,     -999.0,     -999.0,9,     -999.0,9,     -999.0,9,     -999.0,9,51.16725784,2,       8.59,2,      62.72,2,      26.18,2
33RO20161119,        P18,      12,          1,         15,      11114,2,20161126,       2244,    18.5007,  -110.0006,       3441,   590.6,   6.8593,  34.5166,2,  34.5199,2,      2.4,2,     2.3,6,    70.0,2,    37.1,2,    0.01,2,   3.160,2,   0.0364,2,   0.0208,2,   0.0000,2,  2322.9,2,  2333.0,2,   7.3168,2,    25.00, -999.00,9,  -999.0,9,  -999.0,   0.0295,2, -999.00,9,  -999.0,9, -999.00,9, -999.00,9,    41.5408,2, -999.00,9,  -999.0,9,     -999.0,     -999.0,9,       38.2,2,     -999.0,      38.36,2,     -999.0,     -999.0,9,     -999.0,     -999.0,     -999.0,9,     -999.0,9,     -999.0,9,     -999.0,9,43.36904195,2,       9.77,2,      62.91,2,      26.43,2
33RO20161119,        P18,      12,          1,         16,      11115,2,20161126,       2244,    18.5007,  -110.0006,       3441,   493.0,   7.8139,  34.5190,2,  34.5193,2,      2.7,2,     2.9,2,    60.0,2,    33.9,2,    0.01,2,   3.068,2,   0.1063,2,   0.0589,2,   0.0000,2,  2305.8,2,  2323.4,2,   7.3275,2,    25.00, -999.00,9,  -999.0,9,  -999.0,   0.0662,2, -999.00,9,  -999.0,9, -999.00,9, -999.00,9,     43.118,2, -999.00,9,  -999.0,9,     -999.0,     -999.0,9,      37.07,2,     -999.0,     -999.0,9,     -999.0,     -999.0,9,     -999.0,     -999.0,     -999.0,9,     -999.0,9,     -999.0,9,     -999.0,9,42.10221228,2,      10.83,2,      61.77,2,      26.84,2
33RO20161119,        P18,      12,          1,         17,      11116,2,20161126,       2244,    18.5007,  -110.0006,       3441,   405.9,   9.0173,  34.5561,2,  34.5568,2,      2.9,2,     2.9,2,    48.3,2,    29.9,2,    0.01,2,   2.912,2,   0.2554,2,   0.1405,2,   0.0546,2,  2294.9,2,  2314.0,2,   7.3396,2,    25.00, -999.00,9,  -999.0,9,  -999.0,     0.07,2, -999.00,9,  -999.0,9, -999.00,9, -999.00,9,     31.496,2, -999.00,9,  -999.0,9,     -999.0,     -999.0,9,      38.34,2,     -999.0,      38.49,2,     -999.0,     -999.0,9,     -999.0,     -999.0,     -999.0,9,     -999.0,9,     -999.0,9,     -999.0,9,34.75422048,2,      12.23,2,      62.15,2,      26.36,2
33RO20161119,        P18,      12,          1,         18,      11117,2,20161126,       2244,    18.5007,  -110.0006,       3441,   314.7,  10.5263,  34.6673,2,  34.6699,2,      2.3,2,     2.0,2,    38.2,2,    23.6,2,    0.61,2,   2.767,2,   0.3976,2,   0.2390,2,   0.0998,2,  2286.4,2,  2307.8,2,   7.3627,2,    25.00, -999.00,9,  -999.0,9,  -999.0,    0.038,2, -999.00,9,  -999.0,9, -999.00,9, -999.00,9,     6.7806,2, -999.00,9,  -999.0,9,     -999.0,     -999.0,9,      38.43,2,     -999.0,       38.6,2,     -999.0,     -999.0,9,     -999.0,     -999.0,     -999.0,9,     -999.0,9,     -999.0,9,     -999.0,9,6.443067678,2,      14.81,2,      75.76,2,      35.62,2
33RO20161119,        P18,      12,          1,         19,      11083,2,20161126,       2244,    18.5007,  -110.0006,       3441,   240.1,  11.6450,  34.7346,2,  34.7368,2,      2.4,2,     3.2,2,    33.0,2,    22.3,2,    0.88,2,   2.672,2,   0.6644,2,   0.4013,2,   0.1514,2,  2273.7,2,  2305.3,2,   7.3854,2,    25.00, -999.00,9,  -999.0,9,  -999.0,   0.0453,2, -999.00,9,  -999.0,9, -999.00,9, -999.00,9,     5.2372,2, -999.00,9,  -999.0,9,     -999.0,     -999.0,9,      38.39,2,     -999.0,      38.55,2,     -999.0,     -999.0,9,     -999.0,     -999.0,     -999.0,9,     -999.0,9,     -999.0,9,     -999.0,9,5.628657482,2,      17.03,2,       82.4,2,      38.61,2
33RO20161119,        P18,      12,          1,         20,      11118,2,20161126,       2244,    18.5007,  -110.0006,       3441,   174.9,  12.8429,  34.7612,2,  34.7672,2,      2.7,2,     2.0,2,    29.8,2,    23.2,2,    0.09,2,   2.623,2,   1.0279,2,   0.6159,2,   0.3447,2,  2266.4,2,  2302.7,2,   7.4041,2,    25.00, -999.00,9,  -999.0,9,  -999.0,   0.0548,2, -999.00,9,  -999.0,9, -999.00,9, -999.00,9,    15.8092,2, -999.00,9,  -999.0,9,     -999.0,     -999.0,9,      38.35,2,     -999.0,     -999.0,9,     -999.0,     -999.0,9,     -999.0,     -999.0,     -999.0,9,     -999.0,9,     -999.0,9,     -999.0,9,14.70544388,2,      14.99,2,      69.28,2,      33.44,2
33RO20161119,        P18,      12,          1,         21,      11119,2,20161126,       2244,    18.5007,  -110.0006,       3441,   115.1,  15.0730,  34.4027,2,  34.4117,2,     50.3,2,    44.4,2,    19.4,2,    20.6,2,    0.03,2,   2.142,2,   1.8643,2,   1.1002,2,   0.9519,2,  2211.7,2,  2280.9,2,   7.5014,2,    25.00, -999.00,9,  -999.0,9,  -999.0,   0.3225,2, -999.00,9,  -999.0,9, -999.00,9, -999.00,9,    47.5787,2, -999.00,9,  -999.0,9,     -999.0,     -999.0,9,      37.56,2,     -999.0,     -999.0,9,     -999.0,     -999.0,9,     -999.0,     -999.0,     -999.0,9,     -999.0,9,     -999.0,9,     -999.0,9,46.05072266,2,       8.42,2,      52.34,2,       9.27,2
33RO20161119,        P18,      12,          1,         22,      11120,2,20161126,       2244,    18.5007,  -110.0006,       3441,    60.3,  22.9732,  34.2632,2,  34.2718,2,    227.2,2,   224.1,2,     1.9,2,     0.0,2,    0.01,2,   0.323,2,   2.0128,2,   1.2321,2,   1.6656,2,  2009.9,2,  2275.4,2,   7.9897,2,    25.00, -999.00,9,  -999.0,9,  -999.0,    1.174,2, -999.00,9,  -999.0,9, -999.00,9, -999.00,9,    10.2949,2, -999.00,9,  -999.0,9,     -999.0,     -999.0,9,      38.12,2,     -999.0,      38.08,2,     -999.0,     -999.0,9,     -999.0,     -999.0,     -999.0,9,     -999.0,9,     -999.0,9,     -999.0,9,10.86813621,2,       7.19,2,      49.17,2,      21.02,2
33RO20161119,        P18,      12,          1,         23,      11121,2,20161126,       2244,    18.5007,  -110.0006,       3441,    25.0,  27.9888,  34.3215,2,  34.3229,2,    197.5,2,   182.0,3,     1.3,2,     0.0,2,    0.01,2,   0.241,2,   1.5169,2,   0.9549,2,   1.3820,2,  1963.0,2,  2268.7,6,   8.0609,2,    25.00, -999.00,9,  -999.0,9,  -999.0,   1.6621,2, -999.00,9,  -999.0,9, -999.00,9, -999.00,9,     6.1041,2, -999.00,9,  -999.0,9,     -999.0,     -999.0,9,      38.37,2,     -999.0,      38.29,2,     -999.0,     -999.0,9,     -999.0,     -999.0,     -999.0,9,     -999.0,9,     -999.0,9,     -999.0,9,6.602106964,2,       7.72,2,      47.71,2,      20.64,2
33RO20161119,        P18,      12,          1,         24,      11122,2,20161126,       2244,    18.5007,  -110.0006,       3441,     2.9,  28.0997,  34.3247,2,  34.3252,2,    195.6,2,   197.4,2,     1.3,2,     0.0,2,    0.01,2,   0.225,2,   1.5090,2,   0.9526,2,   1.4084,2,  1963.7,6,  2272.1,2,   8.0617,6,    25.00, -999.00,9,  -999.0,9,  -999.0,   1.5321,2, -999.00,9,  -999.0,9, -999.00,9, -999.00,9,     6.2845,2, -999.00,9,  -999.0,9,     -999.0,     -999.0,9,      38.14,2,     -999.0,      38.13,2,     -999.0,     -999.0,9,     -999.0,     -999.0,     -999.0,9,     -999.0,9,     -999.0,9,     -999.0,9,6.504792479,2,        7.9,2,      47.61,2,      20.49,2