BOTTLE,20230606CCHSIOCBG
EXPOCODE,SECT_ID,STNNBR,CASTNO,SAMPNO,BTLNBR,BTLNBR_FLAG_W,DATE,TIME,LATITUDE,LONGITUDE,DEPTH,CTDPRS,CTDTMP,CTDSAL,CTDSAL_FLAG_W,SALNTY,SALNTY_FLAG_W,CTDOXY,CTDOXY_FLAG_W,OXYGEN,OXYGEN_FLAG_W,SILCAT,SILCAT_FLAG_W,NITRAT,NITRAT_FLAG_W,NITRIT,NITRIT_FLAG_W,PHSPHT,PHSPHT_FLAG_W,CFC-11,CFC-11_FLAG_W,CFC-12,CFC-12_FLAG_W,SF6,SF6_FLAG_W,TCARBN,TCARBN_FLAG_W,ALKALI,ALKALI_FLAG_W,PH_SWS,PH_SWS_FLAG_W,PH_TMP,DELC13,DELC13_FLAG_W,DELC14,DELC14_FLAG_W,C14ERR,CCL4,CCL4_FLAG_W,POC,POC_FLAG_W,DOC,DOC_FLAG_W,TDN,TDN_FLAG_W,PON,PON_FLAG_W,N2O,N2O_FLAG_W,D15N_NO3,D15N_NO3_FLAG_W,14C-DOC,14C-DOC_FLAG_W,14C-DOCERR,13C-DOC,13C-DOC_FLAG_W,N2/ARGON_UNSTRIPPED,N2/ARGON_UNSTRIPPED_FLAG_W,N2/ARGON_UNSTRIPPED_ERROR,N2/ARGON,N2/ARGON_FLAG_W,N2/ARGON_ERROR,D15N_N2,D15N_N2_FLAG_W,D15N_N2_ERROR,D15N_NO3_ERROR,D15N_NO2+NO3,D15N_NO2+NO3_FLAG_W,D18O_NO2+NO3,D18O_NO2+NO3_FLAG_W,D18O_NO3,D18O_NO3_FLAG_W,TDP,TDP_FLAG_W,N2O_ALT_1,N2O_ALT_1_FLAG_W,D15N_N2O,D15N_N2O_FLAG_W,D18O_N2O,D18O_N2O_FLAG_W,D15N_ALPHA_N2O,D15N_ALPHA_N2O_FLAG_W
,,,,,,,,,,,METERS,DBAR,ITS-90,PSS-78,,PSS-78,,UMOL/KG,,UMOL/KG,,UMOL/KG,,UMOL/KG,,UMOL/KG,,UMOL/KG,,PMOL/KG,,PMOL/KG,,FMOL/KG,,UMOL/KG,,UMOL/KG,,,,DEG C,/MILLE,,/MILLE,,/MILLE,PMOL/KG,,UG/KG,,UMOL/KG,,UMOL/KG,,UG/KG,,NMOL/KG,,/MILLE,,/MILLE,,/MILLE,/MILLE,,,,,,,,/MILLE,,/MILLE,/MILLE,/MILLE,,/MILLE,,/MILLE,,UMOL/KG,,NMOL/L,,/MILLE,,/MILLE,,/MILLE,
33RO20161119,        P18,     168,          1,          1,      11010,2,20170114,       1656,   -50.0000,  -102.9992,       4127,  4176.6,   0.8600,  34.7098,2,  34.7085,2,    203.1,2,   201.6,2,   129.2,2,    32.5,2,    0.01,2,   2.276,2,   0.0181,2,   0.0103,2,   0.0355,2,  2274.9,6,  2380.0,2,   7.6099,2,    25.00, -999.00,9,  -999.0,9,  -999.0,   0.0826,2, -999.00,9,  -999.0,9, -999.00,9, -999.00,9,    18.5922,2,    4.68,2,  -999.0,9,     -999.0,     -999.0,9,     -999.0,9,     -999.0,     -999.0,9,     -999.0,     -999.0,9,     -999.0,     -999.0,       4.68,2,       1.79,2,       1.79,2,     -999.0,9,     -999.0,9,     -999.0,9,     -999.0,9,     -999.0,9
33RO20161119,        P18,     168,          1,          2,      11101,2,20170114,       1656,   -50.0000,  -102.9992,       4127,  3863.6,   0.9556,  34.7116,2,  34.7103,2,    200.0,2,   199.0,2,   125.5,2,    32.4,2,    0.01,2,   2.272,2,   0.0224,2,   0.0121,2,   0.0000,2,  2271.8,2,  2376.8,2,   7.6036,2,    25.00, -999.00,9,  -999.0,9,  -999.0,   0.1765,2, -999.00,9,  -999.0,9, -999.00,9, -999.00,9,    18.7645,2,    4.72,2,  -999.0,9,     -999.0,     -999.0,9,     -999.0,9,     -999.0,     -999.0,9,     -999.0,     -999.0,9,     -999.0,     -999.0,       4.72,2,       1.88,2,       1.88,2,     -999.0,9,     -999.0,9,     -999.0,9,     -999.0,9,     -999.0,9
33RO20161119,        P18,     168,          1,          3,      11102,2,20170114,       1656,   -50.0000,  -102.9992,       4127,  3550.7,   1.2808,  34.7162,2,  34.7150,2,    193.8,2,   192.6,2,   115.1,6,    32.3,6,    0.01,6,   2.260,6,   0.0349,2,   0.0178,2,   0.0000,2,  2265.2,2,  2369.4,6,   7.6006,2,    25.00, -999.00,9,  -999.0,9,  -999.0,   0.1633,2, -999.00,9,  -999.0,9, -999.00,9, -999.00,9,    18.9789,2,    4.77,2,  -999.0,9,     -999.0,     -999.0,9,     -999.0,9,     -999.0,     -999.0,9,     -999.0,     -999.0,9,     -999.0,     -999.0,       4.77,2,       1.92,2,       1.92,2,     -999.0,9,     -999.0,9,     -999.0,9,     -999.0,9,     -999.0,9
33RO20161119,        P18,     168,          1,          4,      11103,2,20170114,       1656,   -50.0000,  -102.9992,       4127,  3225.3,   1.5269,  34.7165,2,  34.7146,2,    186.3,2,   185.9,2,   109.4,6,    32.3,6,    0.01,6,   2.263,6,   0.0367,2,   0.0176,2,   0.0000,2,  2267.6,2,  2370.8,2,   7.5942,2,    25.00, -999.00,9,  -999.0,9,  -999.0,   0.3022,2, -999.00,9,  -999.0,9, -999.00,9, -999.00,9,    19.3572,2,    4.82,2,  -999.0,9,     -999.0,     -999.0,9,     -999.0,9,     -999.0,     -999.0,9,     -999.0,     -999.0,9,     -999.0,     -999.0,       4.82,2,       1.69,2,       1.69,2,     -999.0,9,     -999.0,9,     -999.0,9,     -999.0,9,     -999.0,9
33RO20161119,        P18,     168,          1,          5,      11104,2,20170114,       1656,   -50.0000,  -102.9992,       4127,  2901.9,   1.6460,  34.7103,2,  34.7109,2,    179.9,2,   179.0,2,   108.3,6,    32.7,6,    0.01,6,   2.284,6,   0.0237,2,   0.0122,2,   0.0138,2,  2270.8,2,  2374.9,2,   7.5879,2,    25.00, -999.00,9,  -999.0,9,  -999.0,   0.6501,2, -999.00,9,  -999.0,9, -999.00,9, -999.00,9,     19.638,2,    4.96,2,  -999.0,9,     -999.0,     -999.0,9,     -999.0,9,     -999.0,     -999.0,9,     -999.0,     -999.0,9,     -999.0,     -999.0,       4.96,2,        1.9,2,        1.9,2,     -999.0,9,     -999.0,9,     -999.0,9,     -999.0,9,     -999.0,9
33RO20161119,        P18,     168,          1,          6,      11105,2,20170114,       1656,   -50.0000,  -102.9992,       4127,  2580.1,   1.8398,  34.7073,2,  34.7071,2,    175.9,2,   175.7,2,   101.7,6,    32.7,6,    0.01,6,   2.284,6,   0.0505,2,   0.0245,2,   0.0000,2,  2269.5,2,  2368.0,2,   7.5827,2,    25.00, -999.00,9,  -999.0,9,  -999.0,   1.0275,2, -999.00,9,  -999.0,9, -999.00,9, -999.00,9,    20.2193,2,    4.99,2,  -999.0,9,     -999.0,     -999.0,9,     -999.0,9,     -999.0,     -999.0,9,     -999.0,     -999.0,9,     -999.0,     -999.0,       4.99,2,       2.03,2,       2.03,2,     -999.0,9,     -999.0,9,     -999.0,9,     -999.0,9,     -999.0,9
33RO20161119,        P18,     168,          1,          7,      11106,2,20170114,       1656,   -50.0000,  -102.9992,       4127,  2199.4,   2.1494,  34.6872,2,  34.6861,2,    171.5,2,   171.9,2,    90.3,2,    32.7,2,    0.01,2,   2.306,2,   0.1168,6,   0.0565,6,   0.0237,6,  2262.5,2,  2355.5,6,   7.5720,2,    25.00, -999.00,9,  -999.0,9,  -999.0,    1.399,2, -999.00,9,  -999.0,9, -999.00,9, -999.00,9,    21.0867,2,    4.99,2,  -999.0,9,     -999.0,     -999.0,9,     -999.0,9,     -999.0,     -999.0,9,     -999.0,     -999.0,9,     -999.0,     -999.0,       4.99,2,       1.94,2,       1.94,2,     -999.0,9,     -999.0,9,     -999.0,9,     -999.0,9,     -999.0,9
33RO20161119,        P18,     168,          1,          8,      11107,2,20170114,       1656,   -50.0000,  -102.9992,       4127,  1940.0,   2.3444,  34.6457,2,  34.6449,2,    168.8,2,   168.9,2,    83.5,2,    33.4,2,    0.01,2,   2.343,2,   0.2143,2,   0.1037,2,   0.0387,2,  2262.3,6,  2342.8,3,   7.5605,6,    25.00, -999.00,9,  -999.0,9,  -999.0,   2.0415,2, -999.00,9,  -999.0,9, -999.00,9, -999.00,9,    21.7108,2,    5.11,2,  -999.0,9,     -999.0,     -999.0,9,     -999.0,9,     -999.0,     -999.0,9,     -999.0,     -999.0,9,     -999.0,     -999.0,       5.11,2,       2.06,2,       2.06,2,     -999.0,9,     -999.0,9,     -999.0,9,     -999.0,9,     -999.0,9
33RO20161119,        P18,     168,          1,          9,      11108,2,20170114,       1656,   -50.0000,  -102.9992,       4127,  1620.4,   2.6196,  34.5512,2,  34.5489,2,    169.2,2,   169.0,6,    72.2,2,    34.2,2,    0.01,2,   2.387,2,   0.5499,2,   0.2694,2,   0.1095,2,  2252.0,2,  2330.1,3,   7.5491,2,    25.00, -999.00,9,  -999.0,9,  -999.0,   2.3216,2, -999.00,9,  -999.0,9, -999.00,9, -999.00,9,    22.3791,2,    5.18,2,  -999.0,9,     -999.0,     -999.0,9,     -999.0,9,     -999.0,     -999.0,9,     -999.0,     -999.0,9,     -999.0,     -999.0,       5.18,2,       2.05,2,       2.05,2,     -999.0,9,     -999.0,9,     -999.0,9,     -999.0,9,     -999.0,9
33RO20161119,        P18,     168,          1,         10,      11109,2,20170114,       1656,   -50.0000,  -102.9992,       4127,  1420.3,   2.8767,  34.4644,2,  34.4623,2,    177.3,2,   177.1,2,    62.3,2,    34.1,2,    0.01,2,   2.372,2,   0.9719,2,   0.4777,2,   0.2056,2,  2239.0,2,  2322.8,2,   7.5517,2,    25.00, -999.00,9,  -999.0,9,  -999.0,   2.3333,2, -999.00,9,  -999.0,9, -999.00,9, -999.00,9,    22.2059,2,    5.29,2,  -999.0,9,     -999.0,     -999.0,9,     -999.0,9,     -999.0,     -999.0,9,     -999.0,     -999.0,9,     -999.0,     -999.0,       5.29,2,        2.1,2,        2.1,2,     -999.0,9,     -999.0,9,     -999.0,9,     -999.0,9,     -999.0,9
33RO20161119,        P18,     168,          1,         11,      11110,2,20170114,       1656,   -50.0000,  -102.9992,       4127,  1270.5,   3.1277,  34.4008,2,  34.3993,2,    186.1,2,   186.1,2,    53.2,2,    33.6,2,    0.01,2,   2.340,2,   1.3850,2,   0.6917,2,   0.3405,2,  2225.7,2,  2314.9,2,   7.5627,2,    25.00, -999.00,9,  -999.0,9,  -999.0,   2.7978,2, -999.00,9,  -999.0,9, -999.00,9, -999.00,9,    21.3248,2,    5.41,2,  -999.0,9,     -999.0,     -999.0,9,     -999.0,9,     -999.0,     -999.0,9,     -999.0,     -999.0,9,     -999.0,     -999.0,       5.41,2,        2.2,2,        2.2,2,     -999.0,9,     -999.0,9,     -999.0,9,     -999.0,9,     -999.0,9
33RO20161119,        P18,     168,          1,         12,      11111,2,20170114,       1656,   -50.0000,  -102.9992,       4127,  1130.5,   3.5008,  34.3415,2,  34.3859,4,    198.8,2,   197.4,2,    43.3,2,    32.6,2,    0.01,2,   2.261,2,   1.8728,2,   0.9432,2,   0.4497,2,  2213.1,2,  2303.8,2,   7.5795,2,    25.00, -999.00,9,  -999.0,9,  -999.0,   3.0717,2, -999.00,9,  -999.0,9, -999.00,9, -999.00,9,    20.7051,2,    5.49,2,  -999.0,9,     -999.0,     -999.0,9,     -999.0,9,     -999.0,     -999.0,9,     -999.0,     -999.0,9,     -999.0,     -999.0,       5.49,2,       2.33,2,       2.33,2,     -999.0,9,     -999.0,9,     -999.0,9,     -999.0,9,     -999.0,9
33RO20161119,        P18,     168,          1,         13,      11112,2,20170114,       1656,   -50.0000,  -102.9992,       4127,   991.1,   4.0779,  34.2956,2,  34.2949,2,    209.5,2,   209.4,2,    32.2,2,    30.7,2,    0.01,2,   2.142,2,   2.4072,2,   1.2413,2,   0.6913,2,  2196.5,2,  2294.3,2,   7.6030,2,    25.00, -999.00,9,  -999.0,9,  -999.0,   3.4791,2, -999.00,9,  -999.0,9, -999.00,9, -999.00,9,     19.207,2,    5.61,2,  -999.0,9,     -999.0,     -999.0,9,     -999.0,9,     -999.0,     -999.0,9,     -999.0,     -999.0,9,     -999.0,     -999.0,       5.61,2,       2.42,2,       2.42,2,     -999.0,9,     -999.0,9,     -999.0,9,     -999.0,9,     -999.0,9
33RO20161119,        P18,     168,          1,         14,      11113,2,20170114,       1656,   -50.0000,  -102.9992,       4127,   856.2,   4.7648,  34.2695,2,  34.2696,2,    221.6,2,   221.7,6,    22.6,2,    28.6,2,    0.01,2,   2.006,2,   2.9067,6,   1.5330,6,   1.0103,6,  2177.3,2,  2276.6,3,   7.6301,2,    25.00, -999.00,9,  -999.0,9,  -999.0,    3.435,2, -999.00,9,  -999.0,9, -999.00,9, -999.00,9,    17.6824,2,    5.72,2,  -999.0,9,     -999.0,     -999.0,9,     -999.0,9,     -999.0,     -999.0,9,     -999.0,     -999.0,9,     -999.0,     -999.0,       5.72,2,       2.51,2,       2.51,2,     -999.0,9,     -999.0,9,     -999.0,9,     -999.0,9,     -999.0,9
33RO20161119,        P18,     168,          1,         15,      11114,2,20170114,       1656,   -50.0000,  -102.9992,       4127,   726.2,   5.2910,  34.2463,2,  34.2452,2,    240.0,2,   240.0,2,    15.3,2,    26.0,2,    0.01,2,   1.831,2,   3.4219,2,   1.8534,2,   1.4040,2,  2162.3,2,  2271.4,3,   7.6629,2,    25.00, -999.00,9,  -999.0,9,  -999.0,   3.7172,2, -999.00,9,  -999.0,9, -999.00,9, -999.00,9,    15.8699,2,    5.81,2,  -999.0,9,     -999.0,     -999.0,9,     -999.0,9,     -999.0,     -999.0,9,     -999.0,     -999.0,9,     -999.0,     -999.0,       5.81,2,       2.77,2,       2.77,2,     -999.0,9,     -999.0,9,     -999.0,9,     -999.0,9,     -999.0,9
33RO20161119,        P18,     168,          1,         16,      11115,2,20170114,       1656,   -50.0000,  -102.9992,       4127,   600.9,   5.7664,  34.2450,2,  34.2448,2,    260.2,2,   259.4,2,    10.1,2,    23.2,2,    0.01,2,   1.649,2,   3.8311,2,   2.1116,2,   1.8528,2,  2146.5,2,  2272.0,3,   7.6937,2,    25.00, -999.00,9,  -999.0,9,  -999.0,   4.3627,2, -999.00,9,  -999.0,9, -999.00,9, -999.00,9,    14.2433,2,    5.99,2,  -999.0,9,     -999.0,     -999.0,9,     -999.0,9,     -999.0,     -999.0,9,     -999.0,     -999.0,9,     -999.0,     -999.0,       5.99,2,        3.3,2,        3.3,2,     -999.0,9,     -999.0,9,     -999.0,9,     -999.0,9,     -999.0,9
33RO20161119,        P18,     168,          1,         17,      11116,2,20170114,       1656,   -50.0000,  -102.9992,       4127,   490.1,   6.0239,  34.2496,2,  34.2482,2,    272.2,2,   271.8,2,     7.6,2,    21.4,2,    0.01,2,   1.547,2,   3.9464,2,   2.2310,2,   2.1574,2,  2137.8,2,  2276.5,2,   7.7117,2,    25.00, -999.00,9,  -999.0,9,  -999.0,   4.0392,2, -999.00,9,  -999.0,9, -999.00,9, -999.00,9,    13.2105,2,    6.14,2,  -999.0,9,     -999.0,     -999.0,9,     -999.0,9,     -999.0,     -999.0,9,     -999.0,     -999.0,9,     -999.0,     -999.0,       6.14,2,        3.7,2,        3.7,2,     -999.0,9,     -999.0,9,     -999.0,9,     -999.0,9,     -999.0,9
33RO20161119,        P18,     168,          1,         18,      11117,2,20170114,       1656,   -50.0000,  -102.9992,       4127,   380.4,   6.3053,  34.2678,2,  34.2676,2,    271.7,2,   270.9,2,     6.7,2,    20.7,2,    0.01,2,   1.493,2,   4.0129,2,   2.2517,2,   2.1818,2,  2135.0,2,  2276.1,2,   7.7193,2,    25.00, -999.00,9,  -999.0,9,  -999.0,   3.8254,2, -999.00,9,  -999.0,9, -999.00,9, -999.00,9,    13.6666,2,    6.17,2,  -999.0,9,     -999.0,     -999.0,9,     -999.0,9,     -999.0,     -999.0,9,     -999.0,     -999.0,9,     -999.0,     -999.0,       6.17,2,       3.76,2,       3.76,2,     -999.0,9,     -999.0,9,     -999.0,9,     -999.0,9,     -999.0,9
33RO20161119,        P18,     168,          1,         19,      11083,2,20170114,       1656,   -50.0000,  -102.9992,       4127,   284.4,   6.4787,  34.2690,2,  34.2829,2,    274.2,2,   275.7,2,     5.6,2,    19.5,2,    0.02,2,   1.426,2,   4.0437,2,   2.2673,2,   2.4277,2,  2131.4,2,  2275.3,2,   7.7258,2,    25.00, -999.00,9,  -999.0,9,  -999.0,   3.6732,2, -999.00,9,  -999.0,9, -999.00,9, -999.00,9,    13.4445,2,    6.33,2,  -999.0,9,     -999.0,     -999.0,9,     -999.0,9,     -999.0,     -999.0,9,     -999.0,     -999.0,9,     -999.0,     -999.0,       6.37,2,       4.01,2,        3.9,2,     -999.0,9,     -999.0,9,     -999.0,9,     -999.0,9,     -999.0,9
33RO20161119,        P18,     168,          1,         20,      11118,2,20170114,       1656,   -50.0000,  -102.9992,       4127,   200.1,   6.7098,  34.2471,2,  34.2460,2,    275.4,2,   275.8,2,     4.7,2,    18.6,2,    0.03,2,   1.378,2,   3.9922,2,   2.2695,2,   2.5093,2,  2129.5,2,  2272.1,2,   7.7350,2,    25.00, -999.00,9,  -999.0,9,  -999.0,   0.1009,2, -999.00,9,  -999.0,9, -999.00,9, -999.00,9,    13.5316,2,    6.51,2,  -999.0,9,     -999.0,     -999.0,9,     -999.0,9,     -999.0,     -999.0,9,     -999.0,     -999.0,9,     -999.0,     -999.0,       6.58,2,       4.32,2,       4.28,2,     -999.0,9,     -999.0,9,     -999.0,9,     -999.0,9,     -999.0,9
33RO20161119,        P18,     168,          1,         21,      11119,2,20170114,       1656,   -50.0000,  -102.9992,       4127,   125.4,   6.8920,  34.1715,2,  34.1714,2,    287.5,2,   287.5,2,     3.2,2,    16.0,2,    0.29,2,   1.280,2,   3.9921,2,   2.2569,2,   2.7323,2,  2114.3,2,  2270.0,2,   7.7621,2,    25.00, -999.00,9,  -999.0,9,  -999.0,   0.0685,2, -999.00,9,  -999.0,9, -999.00,9, -999.00,9,    12.0135,2,    8.13,2,  -999.0,9,     -999.0,     -999.0,9,     -999.0,9,     -999.0,     -999.0,9,     -999.0,     -999.0,9,     -999.0,     -999.0,       7.52,2,       5.65,2,       5.42,2,     -999.0,9,     -999.0,9,     -999.0,9,     -999.0,9,     -999.0,9
33RO20161119,        P18,     168,          1,         22,      11120,2,20170114,       1656,   -50.0000,  -102.9992,       4127,    60.3,   8.6958,  34.1742,2,  34.1730,2,    290.5,2,   290.4,2,     0.2,2,    13.0,2,    0.24,2,   1.073,2,   3.7307,2,   2.1367,2,   2.5820,2,  2096.5,2,  2272.9,6,   7.8103,3,    25.00, -999.00,9,  -999.0,9,  -999.0,   0.1486,2, -999.00,9,  -999.0,9, -999.00,9, -999.00,9,    11.1182,2,   10.17,2,  -999.0,9,     -999.0,     -999.0,9,     -999.0,9,     -999.0,     -999.0,9,     -999.0,     -999.0,9,     -999.0,     -999.0,       9.26,2,       6.83,2,       6.54,2,     -999.0,9,     -999.0,9,     -999.0,9,     -999.0,9,     -999.0,9
33RO20161119,        P18,     168,          1,         23,      11121,2,20170114,       1656,   -50.0000,  -102.9992,       4127,    25.3,   9.6607,  34.1291,2,  34.1498,2,    281.9,2,   284.1,2,     0.2,2,    13.2,2,    0.25,2,   1.066,2,   3.5999,2,   2.0570,2,   2.5983,2,  2092.2,2,  2268.7,2,   7.8129,6,    25.00, -999.00,9,  -999.0,9,  -999.0,   0.1563,2, -999.00,9,  -999.0,9, -999.00,9, -999.00,9,    10.8067,2,    10.8,2,  -999.0,9,     -999.0,     -999.0,9,     -999.0,9,     -999.0,     -999.0,9,     -999.0,     -999.0,9,     -999.0,     -999.0,       9.51,2,       6.76,2,       6.52,2,     -999.0,9,     -999.0,9,     -999.0,9,     -999.0,9,     -999.0,9
33RO20161119,        P18,     168,          1,         24,      11122,2,20170114,       1656,   -50.0000,  -102.9992,       4127,     3.5,   9.6561,  34.1292,2,  34.1281,2,    281.5,2,   283.8,2,     0.2,2,    13.2,2,    0.25,2,   1.058,2,   3.6141,2,   2.0557,2,   2.5524,2,  2092.1,6,  2267.9,2,   7.8119,2,    25.00, -999.00,9,  -999.0,9,  -999.0,   0.5528,2, -999.00,9,  -999.0,9, -999.00,9, -999.00,9,     10.752,2,   10.79,2,  -999.0,9,     -999.0,     -999.0,9,     -999.0,9,     -999.0,     -999.0,9,     -999.0,     -999.0,9,     -999.0,     -999.0,       9.45,2,       6.68,2,       6.58,2,     -999.0,9,     -999.0,9,     -999.0,9,     -999.0,9,     -999.0,9