BOTTLE,20230606CCHSIOCBG
EXPOCODE,SECT_ID,STNNBR,CASTNO,SAMPNO,BTLNBR,BTLNBR_FLAG_W,DATE,TIME,LATITUDE,LONGITUDE,DEPTH,CTDPRS,CTDTMP,CTDSAL,CTDSAL_FLAG_W,SALNTY,SALNTY_FLAG_W,CTDOXY,CTDOXY_FLAG_W,OXYGEN,OXYGEN_FLAG_W,SILCAT,SILCAT_FLAG_W,NITRAT,NITRAT_FLAG_W,NITRIT,NITRIT_FLAG_W,PHSPHT,PHSPHT_FLAG_W,CFC-11,CFC-11_FLAG_W,CFC-12,CFC-12_FLAG_W,SF6,SF6_FLAG_W,TCARBN,TCARBN_FLAG_W,ALKALI,ALKALI_FLAG_W,PH_SWS,PH_SWS_FLAG_W,PH_TMP,DELC13,DELC13_FLAG_W,DELC14,DELC14_FLAG_W,C14ERR,CCL4,CCL4_FLAG_W,POC,POC_FLAG_W,DOC,DOC_FLAG_W,TDN,TDN_FLAG_W,PON,PON_FLAG_W,N2O,N2O_FLAG_W,D15N_NO3,D15N_NO3_FLAG_W,14C-DOC,14C-DOC_FLAG_W,14C-DOCERR,13C-DOC,13C-DOC_FLAG_W,N2/ARGON_UNSTRIPPED,N2/ARGON_UNSTRIPPED_FLAG_W,N2/ARGON_UNSTRIPPED_ERROR,N2/ARGON,N2/ARGON_FLAG_W,N2/ARGON_ERROR,D15N_N2,D15N_N2_FLAG_W,D15N_N2_ERROR,D15N_NO3_ERROR,D15N_NO2+NO3,D15N_NO2+NO3_FLAG_W,D18O_NO2+NO3,D18O_NO2+NO3_FLAG_W,D18O_NO3,D18O_NO3_FLAG_W,TDP,TDP_FLAG_W,N2O_ALT_1,N2O_ALT_1_FLAG_W,D15N_N2O,D15N_N2O_FLAG_W,D18O_N2O,D18O_N2O_FLAG_W,D15N_ALPHA_N2O,D15N_ALPHA_N2O_FLAG_W
,,,,,,,,,,,METERS,DBAR,ITS-90,PSS-78,,PSS-78,,UMOL/KG,,UMOL/KG,,UMOL/KG,,UMOL/KG,,UMOL/KG,,UMOL/KG,,PMOL/KG,,PMOL/KG,,FMOL/KG,,UMOL/KG,,UMOL/KG,,,,DEG C,/MILLE,,/MILLE,,/MILLE,PMOL/KG,,UG/KG,,UMOL/KG,,UMOL/KG,,UG/KG,,NMOL/KG,,/MILLE,,/MILLE,,/MILLE,/MILLE,,,,,,,,/MILLE,,/MILLE,/MILLE,/MILLE,,/MILLE,,/MILLE,,UMOL/KG,,NMOL/L,,/MILLE,,/MILLE,,/MILLE,
33RO20161119,        P18,      40,          1,          1,      11010,2,20161204,       0308,     4.5001,  -109.9994,       3918,  3957.8,   1.4887,  34.6898,2,  34.6895,2,    147.9,2,   147.4,2,   148.4,6,    36.7,6,    0.01,6,   2.478,6,-999.0000,9,-999.0000,9,-999.0000,9,  2336.6,6,  2434.1,2,   7.5848,2,    25.00, -999.00,9,  -999.0,9,  -999.0,-999.0000,9, -999.00,9,  -999.0,9, -999.00,9, -999.00,9,     -999.0,9, -999.00,9,  -999.0,9,     -999.0,     -999.0,9,     -999.0,9,     -999.0,     -999.0,9,     -999.0,     -999.0,9,     -999.0,     -999.0,     -999.0,9,     -999.0,9,     -999.0,9,     -999.0,9,     -999.0,9,     -999.0,9,     -999.0,9,     -999.0,9
33RO20161119,        P18,      40,          1,          2,      11101,2,20161204,       0308,     4.5001,  -109.9994,       3918,  3725.0,   1.4713,  34.6895,2,  34.6899,2,    147.1,2,   147.0,2,   148.6,6,    36.8,6,    0.01,6,   2.479,6,-999.0000,9,-999.0000,9,-999.0000,9,  2337.3,2,  2434.2,6,   7.5764,2,    25.00, -999.00,9,  -999.0,9,  -999.0,-999.0000,9, -999.00,9,  -999.0,9, -999.00,9, -999.00,9,     -999.0,9, -999.00,9,  -999.0,9,     -999.0,     -999.0,9,     -999.0,9,     -999.0,     -999.0,9,     -999.0,     -999.0,9,     -999.0,     -999.0,     -999.0,9,     -999.0,9,     -999.0,9,     -999.0,9,     -999.0,9,     -999.0,9,     -999.0,9,     -999.0,9
33RO20161119,        P18,      40,          1,          3,      11102,2,20161204,       0308,     4.5001,  -109.9994,       3918,  3505.0,   1.4723,  34.6884,2,  34.6875,2,    145.3,2,   144.8,2,   149.1,6,    37.0,6,    0.01,6,   2.490,6,-999.0000,9,-999.0000,9,-999.0000,9,  2338.9,2,  2431.2,2,   7.5734,2,    25.00, -999.00,9,  -999.0,9,  -999.0,-999.0000,9, -999.00,9,  -999.0,9, -999.00,9, -999.00,9,     -999.0,9, -999.00,9,  -999.0,9,     -999.0,     -999.0,9,     -999.0,9,     -999.0,     -999.0,9,     -999.0,     -999.0,9,     -999.0,     -999.0,     -999.0,9,     -999.0,9,     -999.0,9,     -999.0,9,     -999.0,9,     -999.0,9,     -999.0,9,     -999.0,9
33RO20161119,        P18,      40,          1,          4,      11103,2,20161204,       0308,     4.5001,  -109.9994,       3918,  3175.6,   1.6029,  34.6810,2,  34.6805,2,    132.2,2,   132.2,2,   150.2,6,    37.6,6,    0.01,6,   2.563,6,-999.0000,9,-999.0000,9,-999.0000,9,  2343.9,2,  2430.8,2,   7.5500,2,    25.00, -999.00,9,  -999.0,9,  -999.0,-999.0000,9, -999.00,9,  -999.0,9, -999.00,9, -999.00,9,     -999.0,9, -999.00,9,  -999.0,9,     -999.0,     -999.0,9,     -999.0,9,     -999.0,     -999.0,9,     -999.0,     -999.0,9,     -999.0,     -999.0,     -999.0,9,     -999.0,9,     -999.0,9,     -999.0,9,     -999.0,9,     -999.0,9,     -999.0,9,     -999.0,9
33RO20161119,        P18,      40,          1,          5,      11104,2,20161204,       0308,     4.5001,  -109.9994,       3918,  2881.3,   1.7627,  34.6733,2,  34.6735,2,    119.8,2,   119.8,2,   150.9,2,    38.3,2,    0.01,2,   2.620,2,-999.0000,9,-999.0000,9,-999.0000,9,  2352.3,2,  2431.3,2,   7.5288,2,    25.00, -999.00,9,  -999.0,9,  -999.0,-999.0000,9, -999.00,9,  -999.0,9, -999.00,9, -999.00,9,     -999.0,9, -999.00,9,  -999.0,9,     -999.0,     -999.0,9,     -999.0,9,     -999.0,     -999.0,9,     -999.0,     -999.0,9,     -999.0,     -999.0,     -999.0,9,     -999.0,9,     -999.0,9,     -999.0,9,     -999.0,9,     -999.0,9,     -999.0,9,     -999.0,9
33RO20161119,        P18,      40,          1,          6,      11105,2,20161204,       0308,     4.5001,  -109.9994,       3918,  2561.5,   1.8513,  34.6674,2,  34.6676,2,    115.8,2,   115.6,2,   148.9,2,    38.6,2,    0.01,2,   2.660,2,-999.0000,9,-999.0000,9,-999.0000,9,  2353.7,2,  2427.8,2,   7.5210,2,    25.00, -999.00,9,  -999.0,9,  -999.0,-999.0000,9, -999.00,9,  -999.0,9, -999.00,9, -999.00,9,     -999.0,9, -999.00,9,  -999.0,9,     -999.0,     -999.0,9,     -999.0,9,     -999.0,     -999.0,9,     -999.0,     -999.0,9,     -999.0,     -999.0,     -999.0,9,     -999.0,9,     -999.0,9,     -999.0,9,     -999.0,9,     -999.0,9,     -999.0,9,     -999.0,9
33RO20161119,        P18,      40,          1,          7,      11106,2,20161204,       0308,     4.5001,  -109.9994,       3918,  2259.8,   1.9978,  34.6586,2,  34.6593,2,    109.7,2,   109.9,2,   145.3,2,    39.0,2,    0.01,2,   2.693,2,-999.0000,9,-999.0000,9,-999.0000,9,  2352.2,2,  2422.8,2,   7.5097,2,    25.00, -999.00,9,  -999.0,9,  -999.0,-999.0000,9, -999.00,9,  -999.0,9, -999.00,9, -999.00,9,     -999.0,9, -999.00,9,  -999.0,9,     -999.0,     -999.0,9,      38.02,2,     -999.0,      38.15,2,     -999.0,       0.64,2,       0.04,     -999.0,     -999.0,9,     -999.0,9,     -999.0,9,     -999.0,9,24.87924964,2,       9.35,2,      51.49,2,      23.81,2
33RO20161119,        P18,      40,          1,          8,      11107,2,20161204,       0308,     4.5001,  -109.9994,       3918,  1950.2,   2.3563,  34.6398,2,  34.6395,2,     94.7,2,    94.6,2,   138.6,2,    40.1,2,    0.01,2,   2.784,2,-999.0000,9,-999.0000,9,-999.0000,9,  2353.3,2,  2412.5,2,   7.4811,2,    25.00, -999.00,9,  -999.0,9,  -999.0,-999.0000,9, -999.00,9,  -999.0,9, -999.00,9, -999.00,9,     -999.0,9, -999.00,9,  -999.0,9,     -999.0,     -999.0,9,      38.05,2,       0.05,      38.18,2,       0.06,     -999.0,9,     -999.0,     -999.0,     -999.0,9,     -999.0,9,     -999.0,9,     -999.0,9,27.55425891,2,       9.42,2,      51.15,2,      23.58,2
33RO20161119,        P18,      40,          1,          9,      11108,2,20161204,       0308,     4.5001,  -109.9994,       3918,  1604.4,   2.8645,  34.6182,2,  34.6157,2,     80.5,2,    80.0,2,   127.1,2,    41.0,2,    0.01,2,   2.880,2,-999.0000,9,-999.0000,9,-999.0000,9,  2349.3,2,  2401.2,2,   7.4523,2,    25.00, -999.00,9,  -999.0,9,  -999.0,-999.0000,9, -999.00,9,  -999.0,9, -999.00,9, -999.00,9,     -999.0,9, -999.00,9,  -999.0,9,     -999.0,     -999.0,9,      38.06,2,     -999.0,      38.15,2,     -999.0,       0.63,2,       0.05,     -999.0,     -999.0,9,     -999.0,9,     -999.0,9,     -999.0,9,     -999.0,9,       9.16,2,      54.73,2,     -999.0,9
33RO20161119,        P18,      40,          1,         10,      11109,2,20161204,       0308,     4.5001,  -109.9994,       3918,  1395.3,   3.3711,  34.5992,2,  34.5993,2,     69.1,2,    69.3,2,   116.5,2,    41.7,2,    0.01,2,   2.943,2,-999.0000,9,-999.0000,9,-999.0000,9,  2342.6,2,  2386.9,2,   7.4296,2,    25.00, -999.00,9,  -999.0,9,  -999.0,-999.0000,9, -999.00,9,  -999.0,9, -999.00,9, -999.00,9,     -999.0,9, -999.00,9,  -999.0,9,     -999.0,     -999.0,9,       38.1,2,       0.06,      38.22,2,       0.07,     -999.0,9,     -999.0,     -999.0,     -999.0,9,     -999.0,9,     -999.0,9,     -999.0,9,     -999.0,9,     -999.0,9,     -999.0,9,     -999.0,9
33RO20161119,        P18,      40,          1,         11,      11110,2,20161204,       0308,     4.5001,  -109.9994,       3918,  1255.6,   3.8117,  34.5863,2,  34.5867,2,     60.2,2,    59.9,2,   106.9,2,    42.3,2,    0.01,2,   3.004,2,-999.0000,9,-999.0000,9,-999.0000,9,  2338.9,2,  2376.8,2,   7.4132,2,    25.00, -999.00,9,  -999.0,9,  -999.0,-999.0000,9, -999.00,9,  -999.0,9, -999.00,9, -999.00,9,     -999.0,9, -999.00,9,  -999.0,9,     -999.0,     -999.0,9,      37.97,2,     -999.0,      38.09,2,     -999.0,       0.62,2,       0.02,     -999.0,     -999.0,9,     -999.0,9,     -999.0,9,     -999.0,9,36.66870182,2,       8.94,2,      51.12,2,      20.77,2
33RO20161119,        P18,      40,          1,         12,      11111,2,20161204,       0308,     4.5001,  -109.9994,       3918,  1114.6,   4.3470,  34.5706,2,  34.5773,4,     52.6,2,    52.3,2,    94.6,2,    42.8,2,    0.01,2,   3.018,2,-999.0000,9,-999.0000,9,-999.0000,9,  2325.5,6,  2365.8,2,   7.4004,2,    25.00, -999.00,9,  -999.0,9,  -999.0,-999.0000,9, -999.00,9,  -999.0,9, -999.00,9, -999.00,9,     -999.0,9, -999.00,9,  -999.0,9,     -999.0,     -999.0,9,      37.93,2,       0.07,      38.04,2,       0.08,     -999.0,9,     -999.0,     -999.0,     -999.0,9,     -999.0,9,     -999.0,9,     -999.0,9,39.43969258,2,       8.77,2,      50.58,2,      20.02,2
33RO20161119,        P18,      40,          1,         13,      11112,2,20161204,       0308,     4.5001,  -109.9994,       3918,   984.9,   4.8508,  34.5607,2,  34.5613,2,     45.1,2,    44.6,2,    84.3,2,    43.1,2,    0.01,2,   3.042,2,   0.0044,2,   0.0023,2,   0.0000,2,  2320.8,2,  2353.1,2,   7.3865,2,    25.00, -999.00,9,  -999.0,9,  -999.0,   0.0094,2, -999.00,9,  -999.0,9, -999.00,9, -999.00,9,    43.1334,2, -999.00,9,  -999.0,9,     -999.0,     -999.0,9,      38.03,2,     -999.0,      38.14,2,     -999.0,       0.67,2,       0.02,     -999.0,     -999.0,9,     -999.0,9,     -999.0,9,     -999.0,9,41.59542557,2,       8.44,2,      49.91,2,      19.11,2
33RO20161119,        P18,      40,          1,         14,      11113,2,20161204,       0308,     4.5001,  -109.9994,       3918,   849.9,   5.4647,  34.5537,2,  34.5545,2,     41.7,2,    42.3,2,    72.9,2,    42.7,2,    0.01,2,   3.010,2,-999.0000,9,-999.0000,9,-999.0000,9,  2308.9,2,  2340.2,2,   7.3912,3,    25.00, -999.00,9,  -999.0,9,  -999.0,-999.0000,9, -999.00,9,  -999.0,9, -999.00,9, -999.00,9,     -999.0,9, -999.00,9,  -999.0,9,     -999.0,     -999.0,9,      37.94,2,       0.01,      38.04,2,       0.01,     -999.0,9,     -999.0,     -999.0,     -999.0,9,     -999.0,9,     -999.0,9,     -999.0,9,44.27472774,2,       8.16,2,      50.25,2,      17.34,2
33RO20161119,        P18,      40,          1,         15,      11114,2,20161204,       0308,     4.5001,  -109.9994,       3918,   730.2,   6.2860,  34.5624,2,  34.5631,2,     32.6,2,    32.5,2,    61.6,2,    42.3,2,    0.01,2,   2.981,2,   0.0231,2,   0.0131,2,   0.0000,2,  2299.3,2,  2326.4,2,   7.3778,3,    25.00, -999.00,9,  -999.0,9,  -999.0,   0.0158,2, -999.00,9,  -999.0,9, -999.00,9, -999.00,9,    49.7837,2, -999.00,9,  -999.0,9,     -999.0,     -999.0,9,       38.0,2,     -999.0,      38.11,2,     -999.0,       0.61,2,       0.03,     -999.0,     -999.0,9,     -999.0,9,     -999.0,9,     -999.0,9,34.73750461,2,        8.0,2,      50.42,2,      15.94,2
33RO20161119,        P18,      40,          1,         16,      11115,2,20161204,       0308,     4.5001,  -109.9994,       3918,   610.2,   7.1278,  34.5845,2,  34.5841,2,     17.1,2,    17.1,2,    54.0,2,    41.8,2,    0.02,2,   2.993,2,-999.0000,9,-999.0000,9,-999.0000,9,  2299.7,2,  2317.8,2,   7.3555,6,    25.00, -999.00,9,  -999.0,9,  -999.0,-999.0000,9, -999.00,9,  -999.0,9, -999.00,9, -999.00,9,     -999.0,9, -999.00,9,  -999.0,9,     -999.0,     -999.0,9,       38.0,2,       0.02,      38.11,2,       0.02,     -999.0,9,     -999.0,     -999.0,     -999.0,9,     -999.0,9,     -999.0,9,     -999.0,9,     -999.0,9,     -999.0,9,     -999.0,9,     -999.0,9
33RO20161119,        P18,      40,          1,         17,      11116,2,20161204,       0308,     4.5001,  -109.9994,       3918,   506.4,   8.3085,  34.6271,2,  34.6277,2,      8.8,2,     8.6,6,    46.0,2,    38.8,2,    0.01,2,   2.891,2,   0.1095,2,   0.0628,2,   0.0373,2,  2293.8,2,  2311.7,6,   7.3580,2,    25.00, -999.00,9,  -999.0,9,  -999.0,    0.129,2, -999.00,9,  -999.0,9, -999.00,9, -999.00,9,    59.1826,2, -999.00,9,  -999.0,9,     -999.0,     -999.0,9,       38.1,2,     -999.0,       38.2,2,     -999.0,       0.57,2,       0.02,     -999.0,     -999.0,9,     -999.0,9,     -999.0,9,     -999.0,9, 56.8481104,2,       7.66,2,      51.18,2,       5.99,2
33RO20161119,        P18,      40,          1,         18,      11117,2,20161204,       0308,     4.5001,  -109.9994,       3918,   394.8,   9.3848,  34.6714,2,  34.6724,2,     24.9,2,    24.0,6,    36.6,2,    35.9,2,    0.02,2,   2.579,2,-999.0000,9,-999.0000,9,-999.0000,9,  2265.2,2,  2308.4,2,   7.4111,2,    25.00, -999.00,9,  -999.0,9,  -999.0,-999.0000,9, -999.00,9,  -999.0,9, -999.00,9, -999.00,9,     -999.0,9, -999.00,9,  -999.0,9,     -999.0,     -999.0,9,      38.16,2,       0.02,      38.27,2,       0.01,     -999.0,9,     -999.0,     -999.0,     -999.0,9,     -999.0,9,     -999.0,9,     -999.0,9,51.99794651,2,       7.21,2,      49.33,2,       5.91,2
33RO20161119,        P18,      40,          1,         19,      11083,2,20161204,       0308,     4.5001,  -109.9994,       3918,   301.4,  10.3860,  34.7092,2,  34.7090,2,     54.4,2,    53.8,2,    29.1,2,    32.1,2,    0.01,2,   2.244,2,   0.8915,2,   0.4835,2,   0.2071,2,  2236.6,2,  2299.2,2,   7.4948,2,    25.00, -999.00,9,  -999.0,9,  -999.0,    0.116,2, -999.00,9,  -999.0,9, -999.00,9, -999.00,9,    48.5737,2, -999.00,9,  -999.0,9,     -999.0,     -999.0,9,      38.03,2,     -999.0,      38.11,2,     -999.0,       0.53,2,       0.02,     -999.0,     -999.0,9,     -999.0,9,     -999.0,9,     -999.0,9,46.61641209,2,       6.36,2,      45.75,2,       5.87,2
33RO20161119,        P18,      40,          1,         20,      11118,2,20161204,       0308,     4.5001,  -109.9994,       3918,   221.1,  11.4065,  34.7412,2,  34.7435,2,     32.7,2,    38.4,2,    27.0,2,    31.5,2,    0.02,2,   2.238,2,   1.0638,2,   0.5876,2,   0.2721,2,  2236.4,2,  2296.6,2,   7.4833,2,    25.00, -999.00,9,  -999.0,9,  -999.0,   0.1842,2, -999.00,9,  -999.0,9, -999.00,9, -999.00,9,    61.2465,2, -999.00,9,  -999.0,9,     -999.0,     -999.0,9,      38.02,2,        0.0,      38.09,2,       0.01,     -999.0,9,     -999.0,     -999.0,     -999.0,9,     -999.0,9,     -999.0,9,     -999.0,9,57.66357504,2,       5.62,2,      44.08,2,       2.55,2
33RO20161119,        P18,      40,          1,         21,      11119,2,20161204,       0308,     4.5001,  -109.9994,       3918,   145.4,  12.6378,  34.6651,2,  34.6673,2,     83.1,2,    82.0,2,    22.7,2,    25.3,2,    0.02,2,   1.814,2,   1.5921,6,   0.8867,6,   0.5294,6,  2193.0,2,  2293.0,2,   7.5961,2,    25.00, -999.00,9,  -999.0,9,  -999.0,   0.1912,2, -999.00,9,  -999.0,9, -999.00,9, -999.00,9,    45.0563,2, -999.00,9,  -999.0,9,     -999.0,     -999.0,9,       38.1,2,     -999.0,      38.16,2,     -999.0,        0.4,2,       0.07,     -999.0,     -999.0,9,     -999.0,9,     -999.0,9,     -999.0,9,     -999.0,9,     -999.0,9,     -999.0,9,     -999.0,9
33RO20161119,        P18,      40,          1,         22,      11120,2,20161204,       0308,     4.5001,  -109.9994,       3918,    71.2,  25.6673,  33.9776,2,  33.9642,2,    191.5,2,   190.5,2,     1.6,2,     1.5,2,    0.17,2,   0.356,2,   1.6485,2,   1.0362,2,   1.3430,2,  1960.3,2,  2234.7,2,   8.0162,2,    25.00, -999.00,9,  -999.0,9,  -999.0,   1.6199,2, -999.00,9,  -999.0,9, -999.00,9, -999.00,9,    10.1099,2, -999.00,9,  -999.0,9,     -999.0,     -999.0,9,      38.28,2,     -999.0,      38.26,2,     -999.0,     -999.0,9,     -999.0,     -999.0,     -999.0,9,     -999.0,9,     -999.0,9,     -999.0,9,     -999.0,9,     -999.0,9,     -999.0,9,     -999.0,9
33RO20161119,        P18,      40,          1,         23,      11121,2,20161204,       0308,     4.5001,  -109.9994,       3918,    30.7,  26.0278,  33.5508,2,  33.5517,2,    205.5,2,   205.5,2,     1.0,2,     0.2,2,    0.02,2,   0.183,2,-999.0000,9,-999.0000,9,-999.0000,9,  1910.1,2,  2207.4,6,   8.0631,2,    25.00, -999.00,9,  -999.0,9,  -999.0,-999.0000,9, -999.00,9,  -999.0,9, -999.00,9, -999.00,9,     -999.0,9, -999.00,9,  -999.0,9,     -999.0,     -999.0,9,      38.34,2,     -999.0,      38.29,2,     -999.0,      -0.13,2,       0.01,     -999.0,     -999.0,9,     -999.0,9,     -999.0,9,     -999.0,9,     -999.0,9,       6.49,2,      48.88,2,     -999.0,9
33RO20161119,        P18,      40,          1,         24,      11122,2,20161204,       0308,     4.5001,  -109.9994,       3918,     3.6,  26.0210,  33.5484,2,  33.5510,2,    204.8,2,   205.4,2,     1.0,2,     0.2,2,    0.02,2,   0.172,2,   1.6257,2,   1.0202,2,   1.3720,2,  1910.8,6,  2206.2,2,   8.0630,2,    25.00, -999.00,9,  -999.0,9,  -999.0,        0,2, -999.00,9,  -999.0,9, -999.00,9, -999.00,9,     6.9323,2, -999.00,9,  -999.0,9,     -999.0,     -999.0,9,      38.33,2,     -999.0,      38.29,2,     -999.0,     -999.0,9,     -999.0,     -999.0,     -999.0,9,     -999.0,9,     -999.0,9,     -999.0,9,5.881662998,2,        5.9,2,      45.71,2,      16.44,2