BOTTLE,20230606CCHSIOCBG
EXPOCODE,SECT_ID,STNNBR,CASTNO,SAMPNO,BTLNBR,BTLNBR_FLAG_W,DATE,TIME,LATITUDE,LONGITUDE,DEPTH,CTDPRS,CTDTMP,CTDSAL,CTDSAL_FLAG_W,SALNTY,SALNTY_FLAG_W,CTDOXY,CTDOXY_FLAG_W,OXYGEN,OXYGEN_FLAG_W,SILCAT,SILCAT_FLAG_W,NITRAT,NITRAT_FLAG_W,NITRIT,NITRIT_FLAG_W,PHSPHT,PHSPHT_FLAG_W,CFC-11,CFC-11_FLAG_W,CFC-12,CFC-12_FLAG_W,SF6,SF6_FLAG_W,TCARBN,TCARBN_FLAG_W,ALKALI,ALKALI_FLAG_W,PH_SWS,PH_SWS_FLAG_W,PH_TMP,DELC13,DELC13_FLAG_W,DELC14,DELC14_FLAG_W,C14ERR,CCL4,CCL4_FLAG_W,POC,POC_FLAG_W,DOC,DOC_FLAG_W,TDN,TDN_FLAG_W,PON,PON_FLAG_W,N2O,N2O_FLAG_W,D15N_NO3,D15N_NO3_FLAG_W,14C-DOC,14C-DOC_FLAG_W,14C-DOCERR,13C-DOC,13C-DOC_FLAG_W,N2/ARGON_UNSTRIPPED,N2/ARGON_UNSTRIPPED_FLAG_W,N2/ARGON_UNSTRIPPED_ERROR,N2/ARGON,N2/ARGON_FLAG_W,N2/ARGON_ERROR,D15N_N2,D15N_N2_FLAG_W,D15N_N2_ERROR,D15N_NO3_ERROR,D15N_NO2+NO3,D15N_NO2+NO3_FLAG_W,D18O_NO2+NO3,D18O_NO2+NO3_FLAG_W,D18O_NO3,D18O_NO3_FLAG_W,TDP,TDP_FLAG_W,N2O_ALT_1,N2O_ALT_1_FLAG_W,D15N_N2O,D15N_N2O_FLAG_W,D18O_N2O,D18O_N2O_FLAG_W,D15N_ALPHA_N2O,D15N_ALPHA_N2O_FLAG_W
,,,,,,,,,,,METERS,DBAR,ITS-90,PSS-78,,PSS-78,,UMOL/KG,,UMOL/KG,,UMOL/KG,,UMOL/KG,,UMOL/KG,,UMOL/KG,,PMOL/KG,,PMOL/KG,,FMOL/KG,,UMOL/KG,,UMOL/KG,,,,DEG C,/MILLE,,/MILLE,,/MILLE,PMOL/KG,,UG/KG,,UMOL/KG,,UMOL/KG,,UG/KG,,NMOL/KG,,/MILLE,,/MILLE,,/MILLE,/MILLE,,,,,,,,/MILLE,,/MILLE,/MILLE,/MILLE,,/MILLE,,/MILLE,,UMOL/KG,,NMOL/L,,/MILLE,,/MILLE,,/MILLE,
33RO20161119,        P18,      26,          1,          1,      11010,2,20161130,       1603,    11.4997,  -110.0004,       3755,  3788.0,   1.5292,  34.6842,2,  34.6929,4,    141.1,2,   139.9,2,   151.8,6,    37.0,6,    0.02,6,   2.490,6,   0.0053,2,   0.0045,2,   0.0413,2,  2344.5,6,  2423.8,6,   7.5533,2,    25.00, -999.00,9,  -999.0,9,  -999.0,   0.0426,2, -999.00,9,  -999.0,9, -999.00,9, -999.00,9,    21.1809,2, -999.00,9,  -999.0,9,     -999.0,     -999.0,9,     -999.0,9,     -999.0,     -999.0,9,     -999.0,     -999.0,9,     -999.0,     -999.0,     -999.0,9,     -999.0,9,     -999.0,9,     -999.0,9,     -999.0,9,     -999.0,9,     -999.0,9,     -999.0,9
33RO20161119,        P18,      26,          1,          2,      11101,2,20161130,       1603,    11.4997,  -110.0004,       3755,  3444.9,   1.5662,  34.6812,2,  34.6822,2,    134.0,2,   134.1,2,   152.4,6,    37.4,6,    0.02,6,   2.532,6,-999.0000,9,-999.0000,9,-999.0000,9,  2347.9,2,  2426.6,2,   7.5469,2,    25.00, -999.00,9,  -999.0,9,  -999.0,-999.0000,9, -999.00,9,  -999.0,9, -999.00,9, -999.00,9,     -999.0,9, -999.00,9,  -999.0,9,     -999.0,     -999.0,9,     -999.0,9,     -999.0,     -999.0,9,     -999.0,     -999.0,9,     -999.0,     -999.0,     -999.0,9,     -999.0,9,     -999.0,9,     -999.0,9,     -999.0,9,     -999.0,9,     -999.0,9,     -999.0,9
33RO20161119,        P18,      26,          1,          3,      11102,2,20161130,       1603,    11.4997,  -110.0004,       3755,  3111.1,   1.6624,  34.6760,2,  34.6756,2,    124.0,2,   125.4,2,   153.4,6,    38.0,6,    0.02,6,   2.579,6,   0.0042,2,   0.0037,2,   0.0294,2,  2352.2,2,  2437.9,2,   7.5310,2,    25.00, -999.00,9,  -999.0,9,  -999.0,   0.0212,2, -999.00,9,  -999.0,9, -999.00,9, -999.00,9,    22.3145,2, -999.00,9,  -999.0,9,     -999.0,     -999.0,9,     -999.0,9,     -999.0,     -999.0,9,     -999.0,     -999.0,9,     -999.0,     -999.0,     -999.0,9,     -999.0,9,     -999.0,9,     -999.0,9,     -999.0,9,     -999.0,9,     -999.0,9,     -999.0,9
33RO20161119,        P18,      26,          1,          4,      11103,2,20161130,       1603,    11.4997,  -110.0004,       3755,  2827.6,   1.7455,  34.6718,2,  34.6717,2,    116.1,2,   119.4,4,   152.9,6,    38.4,6,    0.02,6,   2.626,6,-999.0000,9,-999.0000,9,-999.0000,9,  2355.2,2,  2433.5,2,   7.5190,2,    25.00, -999.00,9,  -999.0,9,  -999.0,-999.0000,9, -999.00,9,  -999.0,9, -999.00,9, -999.00,9,     -999.0,9, -999.00,9,  -999.0,9,     -999.0,     -999.0,9,     -999.0,9,     -999.0,     -999.0,9,     -999.0,     -999.0,9,     -999.0,     -999.0,     -999.0,9,     -999.0,9,     -999.0,9,     -999.0,9,     -999.0,9,     -999.0,9,     -999.0,9,     -999.0,9
33RO20161119,        P18,      26,          1,          5,      11104,2,20161130,       1603,    11.4997,  -110.0004,       3755,  2530.1,   1.8561,  34.6659,2,  34.6656,2,    108.1,2,   110.5,2,   151.5,2,    39.0,2,    0.02,2,   2.671,2,   0.0031,2,   0.0019,2,   0.0234,2,  2360.9,2,  -999.0,5,   7.5055,2,    25.00, -999.00,9,  -999.0,9,  -999.0,   0.0209,2, -999.00,9,  -999.0,9, -999.00,9, -999.00,9,    24.1331,2, -999.00,9,  -999.0,9,     -999.0,     -999.0,9,     -999.0,9,     -999.0,     -999.0,9,     -999.0,     -999.0,9,     -999.0,     -999.0,     -999.0,9,     -999.0,9,     -999.0,9,     -999.0,9,     -999.0,9,     -999.0,9,     -999.0,9,     -999.0,9
33RO20161119,        P18,      26,          1,          6,      11105,2,20161130,       1603,    11.4997,  -110.0004,       3755,  2240.7,   1.9863,  34.6579,2,  34.6579,2,    100.0,2,   101.1,2,   149.2,2,    39.5,2,    0.02,2,   2.729,2,-999.0000,9,-999.0000,9,-999.0000,9,  2362.9,2,  2424.8,2,-999.0000,5,  -999.00, -999.00,9,  -999.0,9,  -999.0,-999.0000,9, -999.00,9,  -999.0,9, -999.00,9, -999.00,9,     -999.0,9, -999.00,9,  -999.0,9,     -999.0,     -999.0,9,     -999.0,9,     -999.0,     -999.0,9,     -999.0,     -999.0,9,     -999.0,     -999.0,     -999.0,9,     -999.0,9,     -999.0,9,     -999.0,9,     -999.0,9,     -999.0,9,     -999.0,9,     -999.0,9
33RO20161119,        P18,      26,          1,          7,      11106,2,20161130,       1603,    11.4997,  -110.0004,       3755,  1946.2,   2.2793,  34.6417,2,  34.6425,2,     86.3,2,    86.6,2,   143.2,2,    40.6,2,    0.02,2,   2.819,2,   0.0023,6,   0.0011,6,   0.0000,6,  2364.8,2,  2416.4,2,   7.4636,2,    25.00, -999.00,9,  -999.0,9,  -999.0,        0,2, -999.00,9,  -999.0,9, -999.00,9, -999.00,9,    28.5442,2, -999.00,9,  -999.0,9,     -999.0,     -999.0,9,     -999.0,9,     -999.0,     -999.0,9,     -999.0,     -999.0,9,     -999.0,     -999.0,     -999.0,9,     -999.0,9,     -999.0,9,     -999.0,9,     -999.0,9,     -999.0,9,     -999.0,9,     -999.0,9
33RO20161119,        P18,      26,          1,          8,      11107,2,20161130,       1603,    11.4997,  -110.0004,       3755,  1656.7,   2.7211,  34.6201,2,  34.6204,2,     70.3,2,    71.1,2,   133.9,2,    41.8,2,    0.02,2,   2.930,2,-999.0000,9,-999.0000,9,-999.0000,9,  2364.1,6,  2405.0,2,   7.4321,2,    25.00, -999.00,9,  -999.0,9,  -999.0,-999.0000,9, -999.00,9,  -999.0,9, -999.00,9, -999.00,9,     -999.0,9, -999.00,9,  -999.0,9,     -999.0,     -999.0,9,     -999.0,9,     -999.0,     -999.0,9,     -999.0,     -999.0,9,     -999.0,     -999.0,     -999.0,9,     -999.0,9,     -999.0,9,     -999.0,9,     -999.0,9,     -999.0,9,     -999.0,9,     -999.0,9
33RO20161119,        P18,      26,          1,          9,      11108,2,20161130,       1603,    11.4997,  -110.0004,       3755,  1395.1,   3.2614,  34.5980,2,  34.5976,2,     55.7,2,    56.1,2,   121.4,2,    42.7,2,    0.03,2,   3.020,2,-999.0000,9,-999.0000,9,-999.0000,9,  2360.7,2,  2393.7,2,   7.4004,2,    25.00, -999.00,9,  -999.0,9,  -999.0,-999.0000,9, -999.00,9,  -999.0,9, -999.00,9, -999.00,9,     -999.0,9, -999.00,9,  -999.0,9,     -999.0,     -999.0,9,     -999.0,9,     -999.0,     -999.0,9,     -999.0,     -999.0,9,     -999.0,     -999.0,     -999.0,9,     -999.0,9,     -999.0,9,     -999.0,9,     -999.0,9,     -999.0,9,     -999.0,9,     -999.0,9
33RO20161119,        P18,      26,          1,         10,      11109,2,20161130,       1603,    11.4997,  -110.0004,       3755,  1225.6,   3.7810,  34.5807,2,  34.5808,2,     40.6,2,    40.7,2,   111.1,2,    44.1,2,    0.02,2,   3.128,2,-999.0000,9,-999.0000,9,-999.0000,9,  2356.8,2,  2383.2,2,   7.3692,2,    25.00, -999.00,9,  -999.0,9,  -999.0,-999.0000,9, -999.00,9,  -999.0,9, -999.00,9, -999.00,9,     -999.0,9, -999.00,9,  -999.0,9,     -999.0,     -999.0,9,     -999.0,9,     -999.0,     -999.0,9,     -999.0,     -999.0,9,     -999.0,     -999.0,     -999.0,9,     -999.0,9,     -999.0,9,     -999.0,9,     -999.0,9,     -999.0,9,     -999.0,9,     -999.0,9
33RO20161119,        P18,      26,          1,         11,      11110,2,20161130,       1603,    11.4997,  -110.0004,       3755,  1095.8,   4.2003,  34.5690,2,  34.5685,2,     31.6,2,    31.4,2,   102.4,2,    44.5,2,    0.02,2,   3.183,2,-999.0000,9,-999.0000,9,-999.0000,9,  2355.2,2,  2371.7,6,   7.3526,2,    25.00, -999.00,9,  -999.0,9,  -999.0,-999.0000,9, -999.00,9,  -999.0,9, -999.00,9, -999.00,9,     -999.0,9, -999.00,9,  -999.0,9,     -999.0,     -999.0,9,     -999.0,9,     -999.0,     -999.0,9,     -999.0,     -999.0,9,     -999.0,     -999.0,     -999.0,9,     -999.0,9,     -999.0,9,     -999.0,9,     -999.0,9,     -999.0,9,     -999.0,9,     -999.0,9
33RO20161119,        P18,      26,          1,         12,      11111,2,20161130,       1603,    11.4997,  -110.0004,       3755,   971.3,   4.7303,  34.5584,2,  34.5585,2,     18.6,2,    18.7,2,    92.3,2,    45.0,2,    0.02,2,   3.235,2,-999.0000,9,-999.0000,9,-999.0000,9,  2348.6,2,  2359.8,2,   7.3320,2,    25.00, -999.00,9,  -999.0,9,  -999.0,-999.0000,9, -999.00,9,  -999.0,9, -999.00,9, -999.00,9,     -999.0,9, -999.00,9,  -999.0,9,     -999.0,     -999.0,9,     -999.0,9,     -999.0,     -999.0,9,     -999.0,     -999.0,9,     -999.0,     -999.0,     -999.0,9,     -999.0,9,     -999.0,9,     -999.0,9,     -999.0,9,     -999.0,9,     -999.0,9,     -999.0,9
33RO20161119,        P18,      26,          1,         13,      11112,2,20161130,       1603,    11.4997,  -110.0004,       3755,   850.0,   5.3892,  34.5527,2,  34.5524,2,      8.3,2,     9.0,6,    81.8,2,    44.8,2,    0.02,2,   3.229,2,   0.0036,2,   0.0018,2,   0.0000,2,  2340.9,2,  2347.2,2,   7.3177,2,    25.00, -999.00,9,  -999.0,9,  -999.0,   0.0197,2, -999.00,9,  -999.0,9, -999.00,9, -999.00,9,    55.7586,2, -999.00,9,  -999.0,9,     -999.0,     -999.0,9,     -999.0,9,     -999.0,     -999.0,9,     -999.0,     -999.0,9,     -999.0,     -999.0,     -999.0,9,     -999.0,9,     -999.0,9,     -999.0,9,     -999.0,9,     -999.0,9,     -999.0,9,     -999.0,9
33RO20161119,        P18,      26,          1,         14,      11113,2,20161130,       1603,    11.4997,  -110.0004,       3755,   735.7,   5.9155,  34.5524,2,  34.5530,2,      4.6,2,     5.0,2,    74.3,2,    43.6,2,    0.02,2,   3.202,2,   0.0044,2,   0.0026,2,   0.0000,2,  2334.2,2,  2341.2,2,   7.3182,2,    25.00, -999.00,9,  -999.0,9,  -999.0,    0.022,2, -999.00,9,  -999.0,9, -999.00,9, -999.00,9,     58.541,2, -999.00,9,  -999.0,9,     -999.0,     -999.0,9,     -999.0,9,     -999.0,     -999.0,9,     -999.0,     -999.0,9,     -999.0,     -999.0,     -999.0,9,     -999.0,9,     -999.0,9,     -999.0,9,     -999.0,9,     -999.0,9,     -999.0,9,     -999.0,9
33RO20161119,        P18,      26,          1,         15,      11114,2,20161130,       1603,    11.4997,  -110.0004,       3755,   620.2,   6.7720,  34.5626,2,  34.5634,2,      2.2,2,     2.5,2,    65.0,2,    40.1,2,    0.02,2,   3.124,2,-999.0000,9,-999.0000,9,-999.0000,9,  2324.2,2,  2331.3,2,   7.3250,6,    25.00, -999.00,9,  -999.0,9,  -999.0,-999.0000,9, -999.00,9,  -999.0,9, -999.00,9, -999.00,9,     -999.0,9, -999.00,9,  -999.0,9,     -999.0,     -999.0,9,     -999.0,9,     -999.0,     -999.0,9,     -999.0,     -999.0,9,     -999.0,     -999.0,     -999.0,9,     -999.0,9,     -999.0,9,     -999.0,9,     -999.0,9,     -999.0,9,     -999.0,9,     -999.0,9
33RO20161119,        P18,      26,          1,         16,      11115,2,20161130,       1603,    11.4997,  -110.0004,       3755,   510.0,   7.6642,  34.5779,2,  34.5781,2,      2.2,2,     2.1,2,    56.5,2,    36.1,2,    0.02,2,   3.026,2,   0.0299,2,   0.0178,2,   0.0291,2,  2313.3,2,  2322.6,2,   7.3349,2,    25.00, -999.00,9,  -999.0,9,  -999.0,   0.0412,2, -999.00,9,  -999.0,9, -999.00,9, -999.00,9,     27.155,2, -999.00,9,  -999.0,9,     -999.0,     -999.0,9,     -999.0,9,     -999.0,     -999.0,9,     -999.0,     -999.0,9,     -999.0,     -999.0,     -999.0,9,     -999.0,9,     -999.0,9,     -999.0,9,     -999.0,9,     -999.0,9,     -999.0,9,     -999.0,9
33RO20161119,        P18,      26,          1,         17,      11116,2,20161130,       1603,    11.4997,  -110.0004,       3755,   412.1,   9.0534,  34.6237,2,  34.6261,2,      2.4,2,     2.6,2,    43.2,2,    33.4,2,    0.02,2,   2.801,2,   0.1219,2,   0.0709,2,   0.0217,2,  2294.3,2,  2311.7,2,   7.3531,2,    25.00, -999.00,9,  -999.0,9,  -999.0,   0.0467,2, -999.00,9,  -999.0,9, -999.00,9, -999.00,9,    38.8647,2, -999.00,9,  -999.0,9,     -999.0,     -999.0,9,     -999.0,9,     -999.0,     -999.0,9,     -999.0,     -999.0,9,     -999.0,     -999.0,     -999.0,9,     -999.0,9,     -999.0,9,     -999.0,9,     -999.0,9,     -999.0,9,     -999.0,9,     -999.0,9
33RO20161119,        P18,      26,          1,         18,      11117,2,20161130,       1603,    11.4997,  -110.0004,       3755,   315.7,  10.1191,  34.6883,2,  34.6854,2,      3.9,2,     5.2,2,    35.0,2,    33.3,2,    0.03,2,   2.611,2,   0.3665,2,   0.2066,2,   0.0811,2,  2279.7,2,  2304.3,2,   7.3766,2,    25.00, -999.00,9,  -999.0,9,  -999.0,   0.0538,2, -999.00,9,  -999.0,9, -999.00,9, -999.00,9,    56.1564,2, -999.00,9,  -999.0,9,     -999.0,     -999.0,9,     -999.0,9,     -999.0,     -999.0,9,     -999.0,     -999.0,9,     -999.0,     -999.0,     -999.0,9,     -999.0,9,     -999.0,9,     -999.0,9,     -999.0,9,     -999.0,9,     -999.0,9,     -999.0,9
33RO20161119,        P18,      26,          1,         19,      11083,2,20161130,       1603,    11.4997,  -110.0004,       3755,   234.9,  11.2242,  34.7416,2,  34.7430,2,      6.3,2,     7.2,2,    29.2,2,    32.6,2,    0.03,2,   2.457,2,   0.7257,2,   0.4039,2,   0.1750,2,  2269.0,2,  2300.1,2,   7.4030,2,    25.00, -999.00,9,  -999.0,9,  -999.0,   0.0987,2, -999.00,9,  -999.0,9, -999.00,9, -999.00,9,    62.6925,2, -999.00,9,  -999.0,9,     -999.0,     -999.0,9,     -999.0,9,     -999.0,     -999.0,9,     -999.0,     -999.0,9,     -999.0,     -999.0,     -999.0,9,     -999.0,9,     -999.0,9,     -999.0,9,     -999.0,9,     -999.0,9,     -999.0,9,     -999.0,9
33RO20161119,        P18,      26,          1,         20,      11118,2,20161130,       1603,    11.4997,  -110.0004,       3755,   165.6,  12.3544,  34.7992,2,  34.8013,2,      4.5,2,  -999.0,9,    25.8,2,    31.8,2,    0.03,2,   2.393,2,   1.0354,2,   0.5742,2,   0.3083,2,  2261.1,2,  2295.6,2,   7.4229,2,    25.00, -999.00,9,  -999.0,9,  -999.0,   0.1254,2, -999.00,9,  -999.0,9, -999.00,9, -999.00,9,    75.2613,2, -999.00,9,  -999.0,9,     -999.0,     -999.0,9,     -999.0,9,     -999.0,     -999.0,9,     -999.0,     -999.0,9,     -999.0,     -999.0,     -999.0,9,     -999.0,9,     -999.0,9,     -999.0,9,     -999.0,9,     -999.0,9,     -999.0,9,     -999.0,9
33RO20161119,        P18,      26,          1,         21,      11119,2,20161130,       1603,    11.4997,  -110.0004,       3755,   100.7,  14.2186,  34.7914,2,  34.7947,2,      4.0,2,  -999.0,9,    22.0,2,    29.1,2,    0.05,2,   2.368,2,   1.3120,2,   0.7530,2,   0.4415,2,  2251.1,2,  2297.4,2,   7.4403,2,    25.00, -999.00,9,  -999.0,9,  -999.0,   0.2823,2, -999.00,9,  -999.0,9, -999.00,9, -999.00,9,    79.2148,2, -999.00,9,  -999.0,9,     -999.0,     -999.0,9,     -999.0,9,     -999.0,     -999.0,9,     -999.0,     -999.0,9,     -999.0,     -999.0,     -999.0,9,     -999.0,9,     -999.0,9,     -999.0,9,     -999.0,9,     -999.0,9,     -999.0,9,     -999.0,9
33RO20161119,        P18,      26,          1,         22,      11120,2,20161130,       1603,    11.4997,  -110.0004,       3755,    50.2,  21.1657,  34.4961,2,  34.4931,2,     93.8,2,    82.4,2,     7.8,2,    14.1,2,    0.55,2,   1.426,2,   1.6118,2,   0.9741,2,   0.9882,2,  2136.4,2,  2278.3,2,   7.7211,2,    25.00, -999.00,9,  -999.0,9,  -999.0,   1.7726,2, -999.00,9,  -999.0,9, -999.00,9, -999.00,9,    54.8817,2, -999.00,9,  -999.0,9,     -999.0,     -999.0,9,     -999.0,9,     -999.0,     -999.0,9,     -999.0,     -999.0,9,     -999.0,     -999.0,     -999.0,9,     -999.0,9,     -999.0,9,     -999.0,9,     -999.0,9,     -999.0,9,     -999.0,9,     -999.0,9
33RO20161119,        P18,      26,          1,         23,      11121,2,20161130,       1603,    11.4997,  -110.0004,       3755,    20.0,  27.9567,  32.6928,2,  32.7281,2,    162.7,4,   200.1,2,     0.8,2,     0.0,2,    0.03,2,   0.155,2,   1.5198,2,   0.9637,2,   1.3349,2,  1866.4,2,  2159.7,6,   8.0824,2,    25.00, -999.00,9,  -999.0,9,  -999.0,   1.6568,2, -999.00,9,  -999.0,9, -999.00,9, -999.00,9,     7.3819,2, -999.00,9,  -999.0,9,     -999.0,     -999.0,9,     -999.0,9,     -999.0,     -999.0,9,     -999.0,     -999.0,9,     -999.0,     -999.0,     -999.0,9,     -999.0,9,     -999.0,9,     -999.0,9,     -999.0,9,     -999.0,9,     -999.0,9,     -999.0,9
33RO20161119,        P18,      26,          1,         24,      11122,2,20161130,       1603,    11.4997,  -110.0004,       3755,     3.1,  28.0051,  32.6925,2,  32.6950,2,    162.3,4,   200.2,2,     0.7,2,     0.0,2,    0.02,2,   0.148,2,   1.5148,2,   0.9605,2,   1.4090,2,  1863.0,6,  2155.3,2,   8.0870,6,    25.00, -999.00,9,  -999.0,9,  -999.0,    0.028,2, -999.00,9,  -999.0,9, -999.00,9, -999.00,9,     6.9917,2, -999.00,9,  -999.0,9,     -999.0,     -999.0,9,     -999.0,9,     -999.0,     -999.0,9,     -999.0,     -999.0,9,     -999.0,     -999.0,     -999.0,9,     -999.0,9,     -999.0,9,     -999.0,9,     -999.0,9,     -999.0,9,     -999.0,9,     -999.0,9