BOTTLE,20230606CCHSIOCBG
EXPOCODE,SECT_ID,STNNBR,CASTNO,SAMPNO,BTLNBR,BTLNBR_FLAG_W,DATE,TIME,LATITUDE,LONGITUDE,DEPTH,CTDPRS,CTDTMP,CTDSAL,CTDSAL_FLAG_W,SALNTY,SALNTY_FLAG_W,CTDOXY,CTDOXY_FLAG_W,OXYGEN,OXYGEN_FLAG_W,SILCAT,SILCAT_FLAG_W,NITRAT,NITRAT_FLAG_W,NITRIT,NITRIT_FLAG_W,PHSPHT,PHSPHT_FLAG_W,CFC-11,CFC-11_FLAG_W,CFC-12,CFC-12_FLAG_W,SF6,SF6_FLAG_W,TCARBN,TCARBN_FLAG_W,ALKALI,ALKALI_FLAG_W,PH_SWS,PH_SWS_FLAG_W,PH_TMP,DELC13,DELC13_FLAG_W,DELC14,DELC14_FLAG_W,C14ERR,CCL4,CCL4_FLAG_W,POC,POC_FLAG_W,DOC,DOC_FLAG_W,TDN,TDN_FLAG_W,PON,PON_FLAG_W,N2O,N2O_FLAG_W,D15N_NO3,D15N_NO3_FLAG_W,14C-DOC,14C-DOC_FLAG_W,14C-DOCERR,13C-DOC,13C-DOC_FLAG_W,N2/ARGON_UNSTRIPPED,N2/ARGON_UNSTRIPPED_FLAG_W,N2/ARGON_UNSTRIPPED_ERROR,N2/ARGON,N2/ARGON_FLAG_W,N2/ARGON_ERROR,D15N_N2,D15N_N2_FLAG_W,D15N_N2_ERROR,D15N_NO3_ERROR,D15N_NO2+NO3,D15N_NO2+NO3_FLAG_W,D18O_NO2+NO3,D18O_NO2+NO3_FLAG_W,D18O_NO3,D18O_NO3_FLAG_W,TDP,TDP_FLAG_W,N2O_ALT_1,N2O_ALT_1_FLAG_W,D15N_N2O,D15N_N2O_FLAG_W,D18O_N2O,D18O_N2O_FLAG_W,D15N_ALPHA_N2O,D15N_ALPHA_N2O_FLAG_W
,,,,,,,,,,,METERS,DBAR,ITS-90,PSS-78,,PSS-78,,UMOL/KG,,UMOL/KG,,UMOL/KG,,UMOL/KG,,UMOL/KG,,UMOL/KG,,PMOL/KG,,PMOL/KG,,FMOL/KG,,UMOL/KG,,UMOL/KG,,,,DEG C,/MILLE,,/MILLE,,/MILLE,PMOL/KG,,UG/KG,,UMOL/KG,,UMOL/KG,,UG/KG,,NMOL/KG,,/MILLE,,/MILLE,,/MILLE,/MILLE,,,,,,,,/MILLE,,/MILLE,/MILLE,/MILLE,,/MILLE,,/MILLE,,UMOL/KG,,NMOL/L,,/MILLE,,/MILLE,,/MILLE,
33RO20161119,        P18,      84,          1,          1,      11010,2,20161213,       1408,    -8.8199,  -104.6502,       3635,  3689.8,   1.7514,  34.6786,2,  34.6783,2,    138.8,2,   137.4,2,   143.8,6,    37.1,6,    0.00,6,   2.567,6,   0.0018,2,   0.0008,2,   0.0000,2,  2337.4,6,  2429.6,6,   7.5644,6,    25.00, -999.00,9,  -999.0,9,  -999.0,        0,2, -999.00,9,  -999.0,9, -999.00,9, -999.00,9,    21.6564,2, -999.00,9,  -999.0,9,     -999.0,     -999.0,9,     -999.0,9,     -999.0,     -999.0,9,     -999.0,     -999.0,9,     -999.0,     -999.0,     -999.0,9,     -999.0,9,     -999.0,9,     -999.0,9,     -999.0,9,     -999.0,9,     -999.0,9,     -999.0,9
33RO20161119,        P18,      84,          1,          2,      11101,2,20161213,       1408,    -8.8199,  -104.6502,       3635,  3367.9,   1.7556,  34.6767,2,  34.6778,2,    135.4,2,   135.2,2,   143.2,6,    37.3,6,    0.00,6,   2.590,6,-999.0000,9,-999.0000,9,-999.0000,9,  2335.4,2,  2426.6,2,   7.5597,2,    25.00, -999.00,9,  -999.0,9,  -999.0,-999.0000,9, -999.00,9,  -999.0,9, -999.00,9, -999.00,9,     -999.0,9, -999.00,9,  -999.0,9,     -999.0,     -999.0,9,     -999.0,9,     -999.0,     -999.0,9,     -999.0,     -999.0,9,     -999.0,     -999.0,     -999.0,9,     -999.0,9,     -999.0,9,     -999.0,9,     -999.0,9,     -999.0,9,     -999.0,9,     -999.0,9
33RO20161119,        P18,      84,          1,          3,      11102,2,20161213,       1408,    -8.8199,  -104.6502,       3635,  3049.8,   1.7738,  34.6743,2,  34.6743,2,    133.3,2,   132.9,2,   142.0,6,    37.5,6,    0.01,6,   2.608,6,-999.0000,9,-999.0000,9,-999.0000,9,  2337.3,2,  2423.7,2,   7.5520,2,    25.00, -999.00,9,  -999.0,9,  -999.0,-999.0000,9, -999.00,9,  -999.0,9, -999.00,9, -999.00,9,     -999.0,9, -999.00,9,  -999.0,9,     -999.0,     -999.0,9,     -999.0,9,     -999.0,     -999.0,9,     -999.0,     -999.0,9,     -999.0,     -999.0,     -999.0,9,     -999.0,9,     -999.0,9,     -999.0,9,     -999.0,9,     -999.0,9,     -999.0,9,     -999.0,9
33RO20161119,        P18,      84,          1,          4,      11103,2,20161213,       1408,    -8.8199,  -104.6502,       3635,  2774.5,   1.8375,  34.6702,2,  34.6695,2,    129.6,2,   129.1,2,   139.7,6,    37.6,6,    0.01,6,   2.615,6,   0.0022,2,   0.0014,2,   0.0000,2,  2337.1,2,  2418.5,2,   7.5459,2,    25.00, -999.00,9,  -999.0,9,  -999.0,        0,2, -999.00,9,  -999.0,9, -999.00,9, -999.00,9,    22.6338,2, -999.00,9,  -999.0,9,     -999.0,     -999.0,9,     -999.0,9,     -999.0,     -999.0,9,     -999.0,     -999.0,9,     -999.0,     -999.0,     -999.0,9,     -999.0,9,     -999.0,9,     -999.0,9,     -999.0,9,     -999.0,9,     -999.0,9,     -999.0,9
33RO20161119,        P18,      84,          1,          5,      11104,2,20161213,       1408,    -8.8199,  -104.6502,       3635,  2500.0,   1.9346,  34.6637,2,  34.6642,2,    122.8,2,   123.4,2,   138.9,2,    38.0,2,    0.00,2,   2.645,2,-999.0000,9,-999.0000,9,-999.0000,9,  2338.9,2,  2420.4,2,   7.5340,2,    25.00, -999.00,9,  -999.0,9,  -999.0,-999.0000,9, -999.00,9,  -999.0,9, -999.00,9, -999.00,9,     -999.0,9, -999.00,9,  -999.0,9,     -999.0,     -999.0,9,     -999.0,9,     -999.0,     -999.0,9,     -999.0,     -999.0,9,     -999.0,     -999.0,     -999.0,9,     -999.0,9,     -999.0,9,     -999.0,9,23.15825211,2,       9.44,2,       50.2,2,      24.08,2
33RO20161119,        P18,      84,          1,          6,      11105,2,20161213,       1408,    -8.8199,  -104.6502,       3635,  2199.6,   2.1209,  34.6514,2,  34.6533,2,    116.4,2,   116.4,2,   134.2,2,    38.4,2,    0.00,2,   2.680,2,-999.0000,9,-999.0000,9,-999.0000,9,  2339.1,2,  2413.8,2,   7.5176,2,    25.00, -999.00,9,  -999.0,9,  -999.0,-999.0000,9, -999.00,9,  -999.0,9, -999.00,9, -999.00,9,     -999.0,9, -999.00,9,  -999.0,9,     -999.0,     -999.0,9,     -999.0,9,     -999.0,     -999.0,9,     -999.0,     -999.0,9,     -999.0,     -999.0,     -999.0,9,     -999.0,9,     -999.0,9,     -999.0,9,     -999.0,9,     -999.0,9,     -999.0,9,     -999.0,9
33RO20161119,        P18,      84,          1,          7,      11106,2,20161213,       1408,    -8.8199,  -104.6502,       3635,  1940.1,   2.2981,  34.6398,2,  34.6430,2,    110.2,2,   110.4,6,   130.0,2,    38.9,2,    0.00,2,   2.716,2,-999.0000,9,-999.0000,9,-999.0000,9,  2337.4,6,  2407.9,2,   7.5026,2,    25.00, -999.00,9,  -999.0,9,  -999.0,-999.0000,9, -999.00,9,  -999.0,9, -999.00,9, -999.00,9,     -999.0,9, -999.00,9,  -999.0,9,     -999.0,     -999.0,9,       37.9,2,     -999.0,      38.02,2,     -999.0,     -999.0,9,     -999.0,     -999.0,     -999.0,9,     -999.0,9,     -999.0,9,     -999.0,9,25.41480357,2,       9.43,2,      50.33,2,      23.84,2
33RO20161119,        P18,      84,          1,          8,      11107,2,20161213,       1408,    -8.8199,  -104.6502,       3635,  1660.3,   2.6425,  34.6167,2,  34.6168,2,    105.6,2,   106.0,2,   118.9,2,    39.3,2,    0.00,2,   2.753,2,-999.0000,9,-999.0000,9,-999.0000,9,  2328.2,2,  2394.5,2,   7.4940,2,    25.00, -999.00,9,  -999.0,9,  -999.0,-999.0000,9, -999.00,9,  -999.0,9, -999.00,9, -999.00,9,     -999.0,9, -999.00,9,  -999.0,9,     -999.0,     -999.0,9,      37.84,2,     -999.0,      37.96,2,     -999.0,     -999.0,9,     -999.0,     -999.0,     -999.0,9,     -999.0,9,     -999.0,9,     -999.0,9, 26.4109985,2,       9.39,2,       50.0,2,      23.27,2
33RO20161119,        P18,      84,          1,          9,      11108,2,20161213,       1408,    -8.8199,  -104.6502,       3635,  1379.6,   3.2664,  34.5831,2,  34.5832,2,     96.3,2,    96.1,2,   102.7,2,    39.9,2,    0.00,2,   2.806,2,   0.0013,2,   0.0012,2,   0.0000,2,  2316.7,2,  2374.0,2,   7.4748,2,    25.00, -999.00,9,  -999.0,9,  -999.0,        0,2, -999.00,9,  -999.0,9, -999.00,9, -999.00,9,     30.051,2, -999.00,9,  -999.0,9,     -999.0,     -999.0,9,      37.83,2,     -999.0,      37.94,2,     -999.0,     -999.0,9,     -999.0,     -999.0,     -999.0,9,     -999.0,9,     -999.0,9,     -999.0,9,29.25185745,2,       9.49,2,      49.35,2,      21.99,2
33RO20161119,        P18,      84,          1,         10,      11109,2,20161213,       1408,    -8.8199,  -104.6502,       3635,  1220.6,   3.7126,  34.5632,2,  34.5633,2,     93.6,2,    94.2,2,    91.6,2,    39.9,2,    0.00,2,   2.809,2,-999.0000,9,-999.0000,9,-999.0000,9,  2305.4,2,  2362.2,2,   7.4693,2,    25.00, -999.00,9,  -999.0,9,  -999.0,-999.0000,9, -999.00,9,  -999.0,9, -999.00,9, -999.00,9,     -999.0,9, -999.00,9,  -999.0,9,     -999.0,     -999.0,9,      37.71,2,     -999.0,       37.8,2,     -999.0,     -999.0,9,     -999.0,     -999.0,     -999.0,9,     -999.0,9,     -999.0,9,     -999.0,9,30.20277086,2,       9.28,2,       48.9,2,      22.09,2
33RO20161119,        P18,      84,          1,         11,      11110,2,20161213,       1408,    -8.8199,  -104.6502,       3635,  1088.0,   4.2163,  34.5460,2,  34.5460,2,     89.0,2,    89.6,2,    80.4,2,    40.1,2,    0.00,2,   2.809,2,-999.0000,9,-999.0000,9,-999.0000,9,  2296.5,2,  2348.6,2,   7.4632,2,    25.00, -999.00,9,  -999.0,9,  -999.0,-999.0000,9, -999.00,9,  -999.0,9, -999.00,9, -999.00,9,     -999.0,9, -999.00,9,  -999.0,9,     -999.0,     -999.0,9,      37.83,2,     -999.0,      37.94,2,     -999.0,     -999.0,9,     -999.0,     -999.0,     -999.0,9,     -999.0,9,     -999.0,9,     -999.0,9,31.52754602,2,       9.25,2,      50.28,2,      22.57,2
33RO20161119,        P18,      84,          1,         12,      11111,2,20161213,       1408,    -8.8199,  -104.6502,       3635,   970.7,   4.6319,  34.5370,2,  34.5362,2,     82.5,2,    82.4,2,    72.2,2,    40.6,2,    0.00,2,   2.824,2,-999.0000,9,-999.0000,9,-999.0000,9,  2289.4,2,  2340.5,2,   7.4521,2,    25.00, -999.00,9,  -999.0,9,  -999.0,-999.0000,9, -999.00,9,  -999.0,9, -999.00,9, -999.00,9,     -999.0,9, -999.00,9,  -999.0,9,     -999.0,     -999.0,9,      37.87,2,     -999.0,      37.98,2,     -999.0,     -999.0,9,     -999.0,     -999.0,     -999.0,9,     -999.0,9,     -999.0,9,     -999.0,9,33.66329367,2,       8.99,2,      50.17,2,      22.36,2
33RO20161119,        P18,      84,          1,         13,      11112,2,20161213,       1408,    -8.8199,  -104.6502,       3635,   849.3,   5.2328,  34.5330,2,  34.5332,2,     67.6,2,    67.3,6,    62.5,2,    41.5,2,    0.00,2,   2.886,2,-999.0000,9,-999.0000,9,-999.0000,9,  2288.7,2,  2329.1,2,   7.4265,2,    25.00, -999.00,9,  -999.0,9,  -999.0,-999.0000,9, -999.00,9,  -999.0,9, -999.00,9, -999.00,9,     -999.0,9, -999.00,9,  -999.0,9,     -999.0,     -999.0,9,       37.9,2,     -999.0,      38.02,2,     -999.0,     -999.0,9,     -999.0,     -999.0,     -999.0,9,     -999.0,9,     -999.0,9,     -999.0,9,36.82884018,2,       8.78,2,       50.2,2,      22.46,2
33RO20161119,        P18,      84,          1,         14,      11113,2,20161213,       1408,    -8.8199,  -104.6502,       3635,   733.8,   6.0326,  34.5442,2,  34.5440,2,     40.4,2,    41.0,2,    53.4,2,    43.3,2,    0.00,2,   2.971,2,-999.0000,9,-999.0000,9,-999.0000,9,  2292.4,2,  2318.2,2,   7.3805,2,    25.00, -999.00,9,  -999.0,9,  -999.0,-999.0000,9, -999.00,9,  -999.0,9, -999.00,9, -999.00,9,     -999.0,9, -999.00,9,  -999.0,9,     -999.0,     -999.0,9,      37.85,2,     -999.0,      37.95,2,     -999.0,     -999.0,9,     -999.0,     -999.0,     -999.0,9,     -999.0,9,     -999.0,9,     -999.0,9,44.76246509,2,       8.13,2,      50.01,2,      18.92,2
33RO20161119,        P18,      84,          1,         15,      11114,2,20161213,       1408,    -8.8199,  -104.6502,       3635,   625.0,   7.2432,  34.5841,2,  34.5823,2,     15.2,2,    15.3,2,    43.7,2,    43.2,2,    0.00,2,   3.003,2,   0.0205,6,   0.0122,6,   0.0000,6,  2291.4,2,  2307.6,2,   7.3459,2,    25.00, -999.00,9,  -999.0,9,  -999.0,   0.0148,2, -999.00,9,  -999.0,9, -999.00,9, -999.00,9,    61.8806,2, -999.00,9,  -999.0,9,     -999.0,     -999.0,9,      37.86,2,     -999.0,      37.93,2,     -999.0,     -999.0,9,     -999.0,     -999.0,     -999.0,9,     -999.0,9,     -999.0,9,     -999.0,9,62.78316616,2,       7.12,2,      49.85,2,      17.26,2
33RO20161119,        P18,      84,          1,         16,      11115,2,20161213,       1408,    -8.8199,  -104.6502,       3635,   519.6,   8.7997,  34.6686,2,  34.6683,2,      5.9,2,     7.0,2,    37.3,2,    39.3,2,    0.00,2,   2.839,2,   0.0977,2,   0.0582,2,   0.0000,2,  2285.6,2,  2302.7,2,   7.3522,2,    25.00, -999.00,9,  -999.0,9,  -999.0,   0.0408,2, -999.00,9,  -999.0,9, -999.00,9, -999.00,9,    76.8826,2, -999.00,9,  -999.0,9,     -999.0,     -999.0,9,      37.85,2,     -999.0,      37.92,2,     -999.0,     -999.0,9,     -999.0,     -999.0,     -999.0,9,     -999.0,9,     -999.0,9,     -999.0,9,77.74459612,2,       6.93,2,      53.73,2,      15.56,2
33RO20161119,        P18,      84,          1,         17,      11116,2,20161213,       1408,    -8.8199,  -104.6502,       3635,   425.0,  10.0973,  34.7480,2,  34.7466,2,      8.4,2,     7.3,2,    32.2,2,    35.8,2,    0.00,2,   2.641,2,   0.3300,2,   0.1843,2,   0.0643,2,  2274.5,2,  2302.5,6,   7.3802,2,    25.00, -999.00,9,  -999.0,9,  -999.0,   0.0746,2, -999.00,9,  -999.0,9, -999.00,9, -999.00,9,    74.1926,2, -999.00,9,  -999.0,9,     -999.0,     -999.0,9,      37.97,2,     -999.0,      38.05,2,     -999.0,     -999.0,9,     -999.0,     -999.0,     -999.0,9,     -999.0,9,     -999.0,9,     -999.0,9,76.07449152,2,       6.69,2,      53.22,2,       16.0,2
33RO20161119,        P18,      84,          1,         18,      11117,2,20161213,       1408,    -8.8199,  -104.6502,       3635,   328.9,  11.0876,  34.8121,2,  34.8120,2,     18.5,2,    18.6,2,    27.5,2,    33.2,2,    0.00,2,   2.441,2,   0.6858,2,   0.3789,2,   0.1500,2,  2258.9,2,  2302.6,2,   7.4283,2,    25.00, -999.00,9,  -999.0,9,  -999.0,   0.1043,2, -999.00,9,  -999.0,9, -999.00,9, -999.00,9,    69.7425,2, -999.00,9,  -999.0,9,     -999.0,     -999.0,9,      37.28,2,     -999.0,     -999.0,9,     -999.0,     -999.0,9,     -999.0,     -999.0,     -999.0,9,     -999.0,9,     -999.0,9,     -999.0,9,69.01491198,2,       5.86,2,      49.14,2,      12.91,2
33RO20161119,        P18,      84,          1,         19,      11083,2,20161213,       1408,    -8.8199,  -104.6502,       3635,   250.3,  11.6569,  34.8504,2,  34.8491,2,     30.5,2,    30.9,2,    23.9,2,    31.2,2,    0.00,2,   2.297,2,   0.9175,2,   0.5101,2,   0.2282,2,  2245.2,2,  2303.0,2,   7.4725,2,    25.00, -999.00,9,  -999.0,9,  -999.0,   0.0865,2, -999.00,9,  -999.0,9, -999.00,9, -999.00,9,    65.5504,2, -999.00,9,  -999.0,9,     -999.0,     -999.0,9,      37.94,2,     -999.0,       38.0,2,     -999.0,     -999.0,9,     -999.0,     -999.0,     -999.0,9,     -999.0,9,     -999.0,9,     -999.0,9, 66.0418659,2,       5.26,2,      45.66,2,      12.43,2
33RO20161119,        P18,      84,          1,         20,      11118,2,20161213,       1408,    -8.8199,  -104.6502,       3635,   180.2,  12.7924,  34.9161,2,  34.9154,2,     10.2,2,    10.6,2,    22.1,2,    29.8,2,    0.01,2,   2.390,2,   1.1526,2,   0.6500,2,   0.3268,2,  2252.1,2,  2300.0,2,   7.4449,2,    25.00, -999.00,9,  -999.0,9,  -999.0,   0.3204,2, -999.00,9,  -999.0,9, -999.00,9, -999.00,9,    77.3526,2, -999.00,9,  -999.0,9,     -999.0,     -999.0,9,      38.07,2,     -999.0,      38.14,2,     -999.0,     -999.0,9,     -999.0,     -999.0,     -999.0,9,     -999.0,9,     -999.0,9,     -999.0,9,78.44731871,2,       4.66,2,      44.61,2,      10.43,2
33RO20161119,        P18,      84,          1,         21,      11119,2,20161213,       1408,    -8.8199,  -104.6502,       3635,   115.0,  16.9962,  35.2290,2,  35.2221,2,     87.1,2,    78.0,2,     6.9,2,    19.7,2,    0.49,2,   1.731,2,   2.0396,2,   1.2442,2,   1.1748,2,  2196.0,2,  2317.5,2,   7.6531,2,    25.00, -999.00,9,  -999.0,9,  -999.0,   1.6357,2, -999.00,9,  -999.0,9, -999.00,9, -999.00,9,    46.6522,2, -999.00,9,  -999.0,9,     -999.0,     -999.0,9,     -999.0,9,     -999.0,     -999.0,9,     -999.0,     -999.0,9,     -999.0,     -999.0,     -999.0,9,     -999.0,9,     -999.0,9,     -999.0,9,46.57807457,2,       4.54,2,      42.01,2,       11.1,2
33RO20161119,        P18,      84,          1,         22,      11120,2,20161213,       1408,    -8.8199,  -104.6502,       3635,    59.5,  24.5028,  35.3809,2,  35.3904,2,    208.3,2,   207.7,2,     2.3,2,     6.8,2,    0.14,2,   0.728,2,   1.7111,2,   1.0761,2,   1.4341,2,  2063.2,2,  2332.2,2,   7.9745,2,    25.00, -999.00,9,  -999.0,9,  -999.0,   1.6578,2, -999.00,9,  -999.0,9, -999.00,9, -999.00,9,     7.0487,2, -999.00,9,  -999.0,9,     -999.0,     -999.0,9,      38.11,2,     -999.0,      38.07,2,     -999.0,     -999.0,9,     -999.0,     -999.0,     -999.0,9,     -999.0,9,     -999.0,9,     -999.0,9,7.675800274,2,       5.52,2,      50.75,2,      17.03,2
33RO20161119,        P18,      84,          1,         23,      11121,2,20161213,       1408,    -8.8199,  -104.6502,       3635,    24.3,  24.4002,  35.3005,2,  35.3011,2,    207.9,2,   210.3,2,     2.3,2,     7.2,2,    0.14,2,   0.752,2,   1.7186,2,   1.0814,2,   1.4316,2,  2060.3,2,  2327.0,6,   7.9696,2,    25.00, -999.00,9,  -999.0,9,  -999.0,   1.7367,2, -999.00,9,  -999.0,9, -999.00,9, -999.00,9,     7.0505,2, -999.00,9,  -999.0,9,     -999.0,     -999.0,9,      38.09,2,     -999.0,      38.03,2,     -999.0,     -999.0,9,     -999.0,     -999.0,     -999.0,9,     -999.0,9,     -999.0,9,     -999.0,9,7.611541467,2,       5.29,2,      49.83,2,      16.32,2
33RO20161119,        P18,      84,          1,         24,      11122,2,20161213,       1408,    -8.8199,  -104.6502,       3635,     3.3,  24.4074,  35.3009,2,  35.3039,2,    207.2,2,   210.0,2,     2.3,2,     7.1,2,    0.14,2,   0.745,2,   1.7122,2,   1.0798,2,   1.4417,2,  2061.7,6,  2327.4,2,   7.9700,2,    25.00, -999.00,9,  -999.0,9,  -999.0,        0,2, -999.00,9,  -999.0,9, -999.00,9, -999.00,9,     6.9806,2, -999.00,9,  -999.0,9,     -999.0,     -999.0,9,     -999.0,9,     -999.0,     -999.0,9,     -999.0,     -999.0,9,     -999.0,     -999.0,     -999.0,9,     -999.0,9,     -999.0,9,     -999.0,9,7.712694669,2,       5.78,2,      47.67,2,      19.04,2