BOTTLE,20230606CCHSIOCBG
EXPOCODE,SECT_ID,STNNBR,CASTNO,SAMPNO,BTLNBR,BTLNBR_FLAG_W,DATE,TIME,LATITUDE,LONGITUDE,DEPTH,CTDPRS,CTDTMP,CTDSAL,CTDSAL_FLAG_W,SALNTY,SALNTY_FLAG_W,CTDOXY,CTDOXY_FLAG_W,OXYGEN,OXYGEN_FLAG_W,SILCAT,SILCAT_FLAG_W,NITRAT,NITRAT_FLAG_W,NITRIT,NITRIT_FLAG_W,PHSPHT,PHSPHT_FLAG_W,CFC-11,CFC-11_FLAG_W,CFC-12,CFC-12_FLAG_W,SF6,SF6_FLAG_W,TCARBN,TCARBN_FLAG_W,ALKALI,ALKALI_FLAG_W,PH_SWS,PH_SWS_FLAG_W,PH_TMP,DELC13,DELC13_FLAG_W,DELC14,DELC14_FLAG_W,C14ERR,CCL4,CCL4_FLAG_W,POC,POC_FLAG_W,DOC,DOC_FLAG_W,TDN,TDN_FLAG_W,PON,PON_FLAG_W,N2O,N2O_FLAG_W,D15N_NO3,D15N_NO3_FLAG_W,14C-DOC,14C-DOC_FLAG_W,14C-DOCERR,13C-DOC,13C-DOC_FLAG_W,N2/ARGON_UNSTRIPPED,N2/ARGON_UNSTRIPPED_FLAG_W,N2/ARGON_UNSTRIPPED_ERROR,N2/ARGON,N2/ARGON_FLAG_W,N2/ARGON_ERROR,D15N_N2,D15N_N2_FLAG_W,D15N_N2_ERROR,D15N_NO3_ERROR,D15N_NO2+NO3,D15N_NO2+NO3_FLAG_W,D18O_NO2+NO3,D18O_NO2+NO3_FLAG_W,D18O_NO3,D18O_NO3_FLAG_W,TDP,TDP_FLAG_W,N2O_ALT_1,N2O_ALT_1_FLAG_W,D15N_N2O,D15N_N2O_FLAG_W,D18O_N2O,D18O_N2O_FLAG_W,D15N_ALPHA_N2O,D15N_ALPHA_N2O_FLAG_W
,,,,,,,,,,,METERS,DBAR,ITS-90,PSS-78,,PSS-78,,UMOL/KG,,UMOL/KG,,UMOL/KG,,UMOL/KG,,UMOL/KG,,UMOL/KG,,PMOL/KG,,PMOL/KG,,FMOL/KG,,UMOL/KG,,UMOL/KG,,,,DEG C,/MILLE,,/MILLE,,/MILLE,PMOL/KG,,UG/KG,,UMOL/KG,,UMOL/KG,,UG/KG,,NMOL/KG,,/MILLE,,/MILLE,,/MILLE,/MILLE,,,,,,,,/MILLE,,/MILLE,/MILLE,/MILLE,,/MILLE,,/MILLE,,UMOL/KG,,NMOL/L,,/MILLE,,/MILLE,,/MILLE,
33RO20161119,        P18,      20,          2,          1,      11010,2,20161129,       0349,    14.4988,  -109.9998,       3543,  3554.6,   1.6284,  34.6788,2,  34.6830,4,    129.7,2,   128.2,2,   154.4,6,    37.6,6,    0.02,6,   2.599,6,   0.0048,2,   0.0050,2,   0.0000,2,  2349.5,6,  2434.2,2,   7.5395,2,    25.00, -999.00,9,  -999.0,9,  -999.0,        0,2, -999.00,9,  -999.0,9, -999.00,9, -999.00,9,    22.0888,2, -999.00,9,  -999.0,9,     -999.0,     -999.0,9,     -999.0,9,     -999.0,     -999.0,9,     -999.0,     -999.0,9,     -999.0,     -999.0,     -999.0,9,     -999.0,9,     -999.0,9,     -999.0,9,     -999.0,9,     -999.0,9,     -999.0,9,     -999.0,9
33RO20161119,        P18,      20,          2,          2,      11101,2,20161129,       0349,    14.4988,  -109.9998,       3543,  3140.7,   1.6853,  34.6745,2,  34.6732,2,    120.6,2,   120.8,2,   155.2,6,    38.1,6,    0.02,6,   2.635,6,   0.0041,2,   0.0029,2,   0.0000,2,  2354.2,2,  2430.0,2,   7.5273,2,    25.00, -999.00,9,  -999.0,9,  -999.0,   0.0397,2, -999.00,9,  -999.0,9, -999.00,9, -999.00,9,    22.7535,2, -999.00,9,  -999.0,9,     -999.0,     -999.0,9,     -999.0,9,     -999.0,     -999.0,9,     -999.0,     -999.0,9,     -999.0,     -999.0,     -999.0,9,     -999.0,9,     -999.0,9,     -999.0,9,     -999.0,9,     -999.0,9,     -999.0,9,     -999.0,9
33RO20161119,        P18,      20,          2,          3,      11102,2,20161129,       0349,    14.4988,  -109.9998,       3543,  2865.7,   1.7506,  34.6700,2,  34.6710,2,    114.3,2,   114.4,2,   155.0,6,    38.5,6,    0.02,6,   2.680,6,   0.0040,2,   0.0028,2,   0.0000,2,  2357.8,2,  2430.3,6,   7.5170,6,    25.00, -999.00,9,  -999.0,9,  -999.0,   0.0273,2, -999.00,9,  -999.0,9, -999.00,9, -999.00,9,    23.1594,2, -999.00,9,  -999.0,9,     -999.0,     -999.0,9,     -999.0,9,     -999.0,     -999.0,9,     -999.0,     -999.0,9,     -999.0,     -999.0,     -999.0,9,     -999.0,9,     -999.0,9,     -999.0,9,     -999.0,9,     -999.0,9,     -999.0,9,     -999.0,9
33RO20161119,        P18,      20,          2,          4,      11103,2,20161129,       0349,    14.4988,  -109.9998,       3543,  2609.2,   1.8160,  34.6650,2,  34.6647,2,    107.9,2,   108.8,2,   154.7,6,    38.9,6,    0.02,6,   2.719,6,   0.0043,2,   0.0032,2,   0.0283,2,  2361.6,2,  2428.2,2,   7.5065,2,    25.00, -999.00,9,  -999.0,9,  -999.0,   0.0181,2, -999.00,9,  -999.0,9, -999.00,9, -999.00,9,    23.9166,2, -999.00,9,  -999.0,9,     -999.0,     -999.0,9,     -999.0,9,     -999.0,     -999.0,9,     -999.0,     -999.0,9,     -999.0,     -999.0,     -999.0,9,     -999.0,9,     -999.0,9,     -999.0,9,     -999.0,9,     -999.0,9,     -999.0,9,     -999.0,9
33RO20161119,        P18,      20,          2,          5,      11104,2,20161129,       0349,    14.4988,  -109.9998,       3543,  2331.1,   2.0032,  34.6548,2,  34.6541,2,     97.9,2,    97.7,2,   150.4,2,    39.6,2,    0.02,2,   2.777,2,   0.0029,2,   0.0027,2,   0.0000,2,  2364.2,2,  2422.5,2,   7.4877,2,    25.00, -999.00,9,  -999.0,9,  -999.0,        0,2, -999.00,9,  -999.0,9, -999.00,9, -999.00,9,    25.7509,2, -999.00,9,  -999.0,9,     -999.0,     -999.0,9,     -999.0,9,     -999.0,     -999.0,9,     -999.0,     -999.0,9,     -999.0,     -999.0,     -999.0,9,     -999.0,9,     -999.0,9,     -999.0,9,     -999.0,9,     -999.0,9,     -999.0,9,     -999.0,9
33RO20161119,        P18,      20,          2,          6,      11105,2,20161129,       0349,    14.4988,  -109.9998,       3543,  2055.5,   2.2087,  34.6435,2,  34.6436,2,     87.4,2,    87.7,2,   146.8,2,    40.4,2,    0.02,2,   2.846,2,   0.0022,2,   0.0014,2,   0.0313,2,  2365.7,2,  2423.1,2,   7.4638,2,    25.00, -999.00,9,  -999.0,9,  -999.0,   0.0578,4, -999.00,9,  -999.0,9, -999.00,9, -999.00,9,    28.1369,2, -999.00,9,  -999.0,9,     -999.0,     -999.0,9,     -999.0,9,     -999.0,     -999.0,9,     -999.0,     -999.0,9,     -999.0,     -999.0,     -999.0,9,     -999.0,9,     -999.0,9,     -999.0,9,28.10353602,2,       9.21,2,      55.34,2,      24.48,2
33RO20161119,        P18,      20,          2,          7,      11106,2,20161129,       0349,    14.4988,  -109.9998,       3543,  1796.4,   2.5565,  34.6265,2,  34.6246,2,     71.0,2,    71.3,2,   139.7,2,    41.7,2,    0.02,2,   2.968,2,   0.0021,2,   0.0012,2,   0.0000,2,  2367.8,2,  2411.1,2,   7.4304,2,    25.00, -999.00,9,  -999.0,9,  -999.0,        0,2, -999.00,9,  -999.0,9, -999.00,9, -999.00,9,      31.54,2, -999.00,9,  -999.0,9,     -999.0,     -999.0,9,      37.82,2,     -999.0,      37.94,2,     -999.0,     -999.0,9,     -999.0,     -999.0,     -999.0,9,     -999.0,9,     -999.0,9,     -999.0,9,31.82324914,2,       9.12,2,      55.81,2,      23.63,2
33RO20161119,        P18,      20,          2,          8,      11107,2,20161129,       0349,    14.4988,  -109.9998,       3543,  1530.7,   3.1482,  34.6013,2,  34.6004,2,     50.7,2,    51.3,2,   127.1,2,    43.3,2,    0.02,2,   3.115,2,   0.0029,2,   0.0022,2,   0.0000,2,  2367.4,2,  2395.1,2,   7.3908,2,    25.00, -999.00,9,  -999.0,9,  -999.0,   0.0375,2, -999.00,9,  -999.0,9, -999.00,9, -999.00,9,    37.8371,2, -999.00,9,  -999.0,9,     -999.0,     -999.0,9,      38.05,2,     -999.0,       38.2,2,     -999.0,     -999.0,9,     -999.0,     -999.0,     -999.0,9,     -999.0,9,     -999.0,9,     -999.0,9,36.77302078,2,       8.86,2,       55.3,2,      22.34,2
33RO20161119,        P18,      20,          2,          9,      11108,2,20161129,       0349,    14.4988,  -109.9998,       3543,  1291.6,   3.6561,  34.5826,2,  34.5819,2,     33.4,2,    33.3,2,   116.3,2,    44.5,2,    0.02,2,   3.230,2,   0.0038,2,   0.0021,2,   0.0000,2,  2365.2,2,  2380.6,2,   7.3589,2,    25.00, -999.00,9,  -999.0,9,  -999.0,   0.0201,2, -999.00,9,  -999.0,9, -999.00,9, -999.00,9,    41.8951,2, -999.00,9,  -999.0,9,     -999.0,     -999.0,9,      38.05,2,     -999.0,      38.19,2,     -999.0,     -999.0,9,     -999.0,     -999.0,     -999.0,9,     -999.0,9,     -999.0,9,     -999.0,9,42.62364751,2,       8.57,2,      55.34,2,      20.94,2
33RO20161119,        P18,      20,          2,         10,      11109,2,20161129,       0349,    14.4988,  -109.9998,       3543,  1129.5,   4.1217,  34.5691,2,  34.5676,2,     22.0,2,    21.7,2,   107.2,2,    45.2,2,    0.02,2,   3.300,2,   0.0033,2,   0.0014,2,   0.0210,2,  2362.4,2,  2371.0,6,   7.3325,2,    25.00, -999.00,9,  -999.0,9,  -999.0,   0.0369,2, -999.00,9,  -999.0,9, -999.00,9, -999.00,9,    47.4436,2, -999.00,9,  -999.0,9,     -999.0,     -999.0,9,      38.05,2,     -999.0,      38.19,2,     -999.0,     -999.0,9,     -999.0,     -999.0,     -999.0,9,     -999.0,9,     -999.0,9,     -999.0,9,46.97017513,2,       8.18,2,      54.65,2,      11.43,2
33RO20161119,        P18,      20,          2,         11,      11110,2,20161129,       0349,    14.4988,  -109.9998,       3543,  1009.4,   4.4655,  34.5608,2,  34.5605,2,     14.8,2,    14.5,2,   100.7,2,    45.5,2,    0.02,2,   3.340,2,   0.0041,2,   0.0035,2,   0.0396,2,  2358.2,2,  2363.5,2,   7.3214,2,    25.00, -999.00,9,  -999.0,9,  -999.0,   0.0322,2, -999.00,9,  -999.0,9, -999.00,9, -999.00,9,    50.8213,2, -999.00,9,  -999.0,9,     -999.0,     -999.0,9,      37.97,2,     -999.0,      38.09,2,     -999.0,     -999.0,9,     -999.0,     -999.0,     -999.0,9,     -999.0,9,     -999.0,9,     -999.0,9,51.13580714,2,       7.91,2,      55.22,2,       14.9,2
33RO20161119,        P18,      20,          2,         12,      11111,2,20161129,       0349,    14.4988,  -109.9998,       3543,   896.0,   4.9579,  34.5489,2,  34.5483,2,      7.6,2,     7.6,2,    91.9,2,    45.2,2,    0.03,2,   3.329,2,   0.0036,2,   0.0016,2,   0.0000,2,  2353.7,6,  2355.0,2,   7.3113,2,    25.00, -999.00,9,  -999.0,9,  -999.0,   0.0193,2, -999.00,9,  -999.0,9, -999.00,9, -999.00,9,    55.9225,2, -999.00,9,  -999.0,9,     -999.0,     -999.0,9,      38.04,2,     -999.0,      38.17,2,     -999.0,     -999.0,9,     -999.0,     -999.0,     -999.0,9,     -999.0,9,     -999.0,9,     -999.0,9,45.02323581,2,       7.48,2,      57.79,2,      12.12,2
33RO20161119,        P18,      20,          2,         13,      11112,2,20161129,       0349,    14.4988,  -109.9998,       3543,   785.9,   5.6453,  34.5425,2,  34.5420,2,      3.1,2,     3.1,6,    81.3,2,    43.6,2,    0.02,2,   3.284,2,   0.0046,2,   0.0022,2,   0.0317,2,  2342.2,2,  2345.0,2,   7.3092,6,    25.00, -999.00,9,  -999.0,9,  -999.0,        0,2, -999.00,9,  -999.0,9, -999.00,9, -999.00,9,    59.4768,2, -999.00,9,  -999.0,9,     -999.0,     -999.0,9,      36.93,2,     -999.0,     -999.0,9,     -999.0,     -999.0,9,     -999.0,     -999.0,     -999.0,9,     -999.0,9,     -999.0,9,     -999.0,9,  50.139631,2,       7.09,2,      60.41,2,       13.0,2
33RO20161119,        P18,      20,          2,         14,      11113,2,20161129,       0349,    14.4988,  -109.9998,       3543,   675.8,   6.2026,  34.5504,2,-999.0000,9,      2.4,2,     1.2,2,    73.9,2,    41.4,2,    0.03,2,   3.248,2,   0.0059,2,   0.0038,2,   0.0000,2,  2335.1,2,  2338.5,2,   7.3181,2,    25.00, -999.00,9,  -999.0,9,  -999.0,    0.015,2, -999.00,9,  -999.0,9, -999.00,9, -999.00,9,    49.3175,2, -999.00,9,  -999.0,9,     -999.0,     -999.0,9,      38.01,2,     -999.0,      38.13,2,     -999.0,     -999.0,9,     -999.0,     -999.0,     -999.0,9,     -999.0,9,     -999.0,9,     -999.0,9,41.25488133,2,       6.74,2,      66.62,2,      16.11,2
33RO20161119,        P18,      20,          2,         15,      11114,2,20161129,       0349,    14.4988,  -109.9998,       3543,   570.8,   6.9185,  34.5655,2,  34.5668,2,      2.4,2,     1.6,6,    65.8,2,    37.9,2,    0.21,2,   3.186,2,   0.0097,2,   0.0059,2,   0.0365,2,  2323.8,2,  2330.4,2,   7.3237,2,    25.00, -999.00,9,  -999.0,9,  -999.0,   0.0469,2, -999.00,9,  -999.0,9, -999.00,9, -999.00,9,    13.7294,2, -999.00,9,  -999.0,9,     -999.0,     -999.0,9,      38.28,2,     -999.0,      38.42,2,     -999.0,     -999.0,9,     -999.0,     -999.0,     -999.0,9,     -999.0,9,     -999.0,9,     -999.0,9,12.87766108,2,      15.61,2,      93.49,2,      38.91,2
33RO20161119,        P18,      20,          2,         16,      11115,2,20161129,       0349,    14.4988,  -109.9998,       3543,   476.1,   7.7693,  34.5556,2,  34.5538,2,      3.0,2,     3.0,2,    56.2,2,    35.5,2,    0.02,2,   3.039,2,   0.0351,6,   0.0213,6,   0.0123,6,  2309.9,2,  2321.4,2,   7.3368,2,    25.00, -999.00,9,  -999.0,9,  -999.0,   0.0854,2, -999.00,9,  -999.0,9, -999.00,9, -999.00,9,    30.8231,2, -999.00,9,  -999.0,9,     -999.0,     -999.0,9,      38.17,2,     -999.0,      38.29,2,     -999.0,     -999.0,9,     -999.0,     -999.0,     -999.0,9,     -999.0,9,     -999.0,9,     -999.0,9,27.29977368,2,       9.26,2,      64.44,2,      18.97,2
33RO20161119,        P18,      20,          2,         17,      11116,2,20161129,       0349,    14.4988,  -109.9998,       3543,   385.6,   8.9221,  34.6038,2,  34.6019,2,      2.3,2,     1.9,2,    45.8,2,    31.9,2,    0.02,2,   2.908,2,   0.0969,2,   0.0581,2,   0.0000,2,  2298.0,2,  2314.0,2,   7.3508,2,    25.00, -999.00,9,  -999.0,9,  -999.0,    0.027,2, -999.00,9,  -999.0,9, -999.00,9, -999.00,9,    24.2828,2, -999.00,9,  -999.0,9,     -999.0,     -999.0,9,      38.38,2,     -999.0,      38.51,2,     -999.0,     -999.0,9,     -999.0,     -999.0,     -999.0,9,     -999.0,9,     -999.0,9,     -999.0,9,24.05156508,2,       9.27,2,      66.38,2,       24.7,2
33RO20161119,        P18,      20,          2,         18,      11117,2,20161129,       0349,    14.4988,  -109.9998,       3543,   300.4,  10.2677,  34.6751,2,  34.6770,2,      2.2,2,     1.8,2,    36.5,2,    27.6,2,    0.69,2,   2.723,2,   0.2964,2,   0.1759,2,   0.0486,2,  2286.8,2,  2306.2,2,   7.3661,2,    25.00, -999.00,9,  -999.0,9,  -999.0,   0.0875,2, -999.00,9,  -999.0,9, -999.00,9, -999.00,9,      8.694,2, -999.00,9,  -999.0,9,     -999.0,     -999.0,9,      38.37,2,     -999.0,       38.5,2,     -999.0,     -999.0,9,     -999.0,     -999.0,     -999.0,9,     -999.0,9,     -999.0,9,     -999.0,9,6.727398198,2,      16.86,2,      94.27,2,      40.02,2
33RO20161119,        P18,      20,          2,         19,      11083,2,20161129,       0349,    14.4988,  -109.9998,       3543,   220.9,  11.2735,  34.7375,2,  34.7386,2,      2.3,2,     3.4,2,    30.9,2,    28.2,2,    0.94,2,   2.571,2,   0.6263,2,   0.3500,2,   0.1092,2,  2275.2,2,  2302.5,2,   7.3877,2,    25.00, -999.00,9,  -999.0,9,  -999.0,   0.0633,2, -999.00,9,  -999.0,9, -999.00,9, -999.00,9,    17.7216,2, -999.00,9,  -999.0,9,     -999.0,     -999.0,9,       38.3,2,     -999.0,      38.42,2,     -999.0,     -999.0,9,     -999.0,     -999.0,     -999.0,9,     -999.0,9,     -999.0,9,     -999.0,9,12.69442509,2,      13.15,2,      85.28,2,      29.28,2
33RO20161119,        P18,      20,          2,         20,      11118,2,20161129,       0349,    14.4988,  -109.9998,       3543,   155.2,  12.1220,  34.7686,2,  34.7683,2,      2.4,2,     2.2,2,    28.5,2,    26.2,2,    1.54,2,   2.546,2,   0.8469,2,   0.4913,2,   0.2144,2,  2268.9,2,  2303.6,2,   7.4064,2,    25.00, -999.00,9,  -999.0,9,  -999.0,   0.1529,2, -999.00,9,  -999.0,9, -999.00,9, -999.00,9,    10.3176,2, -999.00,9,  -999.0,9,     -999.0,     -999.0,9,      38.34,2,     -999.0,      38.44,2,     -999.0,     -999.0,9,     -999.0,     -999.0,     -999.0,9,     -999.0,9,     -999.0,9,     -999.0,9,6.899256065,2,      16.96,2,     100.69,2,      42.49,2
33RO20161119,        P18,      20,          2,         21,      11119,2,20161129,       0349,    14.4988,  -109.9998,       3543,    95.1,  15.4983,  34.7194,2,  34.7228,2,      4.3,2,     2.6,2,    21.0,2,    25.1,2,    0.04,2,   2.447,2,   1.3427,2,   0.7902,2,   0.5391,2,  2245.6,2,  2291.8,2,   7.4454,2,    25.00, -999.00,9,  -999.0,9,  -999.0,   0.5317,2, -999.00,9,  -999.0,9, -999.00,9, -999.00,9,    87.1103,2, -999.00,9,  -999.0,9,     -999.0,     -999.0,9,      38.31,2,     -999.0,      38.42,2,     -999.0,     -999.0,9,     -999.0,     -999.0,     -999.0,9,     -999.0,9,     -999.0,9,     -999.0,9,83.77688019,2,       5.16,2,      60.57,2,       9.88,2
33RO20161119,        P18,      20,          2,         22,      11120,2,20161129,       0349,    14.4988,  -109.9998,       3543,    50.1,  23.5771,  34.3956,2,  34.4167,2,    141.7,2,    42.3,3,     2.9,2,     5.5,2,    0.71,2,   0.978,2,   1.7092,2,   1.0480,2,   1.2541,2,  2085.8,2,  2281.1,6,   7.8435,2,    25.00, -999.00,9,  -999.0,9,  -999.0,   1.4587,2, -999.00,9,  -999.0,9, -999.00,9, -999.00,9,    37.1848,2, -999.00,9,  -999.0,9,     -999.0,     -999.0,9,      38.25,2,     -999.0,      38.24,2,     -999.0,     -999.0,9,     -999.0,     -999.0,     -999.0,9,     -999.0,9,     -999.0,9,     -999.0,9,32.74266912,2,       4.38,2,       50.2,2,       6.43,2
33RO20161119,        P18,      20,          2,         23,      11121,2,20161129,       0349,    14.4988,  -109.9998,       3543,    20.5,  29.4847,  33.4906,2,  33.4913,2,    194.5,2,   193.2,2,     0.6,2,     0.1,2,    0.02,2,   0.193,2,   1.4145,2,   0.9021,2,   1.3252,2,  1894.1,2,  2214.2,2,   8.1051,2,    25.00, -999.00,9,  -999.0,9,  -999.0,   1.7186,2, -999.00,9,  -999.0,9, -999.00,9, -999.00,9,     6.3187,2, -999.00,9,  -999.0,9,     -999.0,     -999.0,9,      38.55,2,     -999.0,      38.51,2,     -999.0,     -999.0,9,     -999.0,     -999.0,     -999.0,9,     -999.0,9,     -999.0,9,     -999.0,9,7.078993102,2,       5.94,2,      47.34,2,     -999.0,9
33RO20161119,        P18,      20,          2,         24,      11122,2,20161129,       0349,    14.4988,  -109.9998,       3543,     2.7,  29.4817,  33.4814,2,  33.4834,2,    194.2,2,   193.6,2,     0.6,2,     0.1,2,    0.02,2,   0.179,2,   1.4217,2,   0.9016,2,   1.2831,2,  1893.1,6,  2206.1,2,   8.1043,2,    25.00, -999.00,9,  -999.0,9,  -999.0,        0,2, -999.00,9,  -999.0,9, -999.00,9, -999.00,9,     6.2767,2, -999.00,9,  -999.0,9,     -999.0,     -999.0,9,      38.43,2,     -999.0,      38.43,2,     -999.0,     -999.0,9,     -999.0,     -999.0,     -999.0,9,     -999.0,9,     -999.0,9,     -999.0,9,7.104523522,2,        6.1,2,      44.72,2,     -999.0,9