BOTTLE,20230606CCHSIOCBG
EXPOCODE,SECT_ID,STNNBR,CASTNO,SAMPNO,BTLNBR,BTLNBR_FLAG_W,DATE,TIME,LATITUDE,LONGITUDE,DEPTH,CTDPRS,CTDTMP,CTDSAL,CTDSAL_FLAG_W,SALNTY,SALNTY_FLAG_W,CTDOXY,CTDOXY_FLAG_W,OXYGEN,OXYGEN_FLAG_W,SILCAT,SILCAT_FLAG_W,NITRAT,NITRAT_FLAG_W,NITRIT,NITRIT_FLAG_W,PHSPHT,PHSPHT_FLAG_W,CFC-11,CFC-11_FLAG_W,CFC-12,CFC-12_FLAG_W,SF6,SF6_FLAG_W,TCARBN,TCARBN_FLAG_W,ALKALI,ALKALI_FLAG_W,PH_SWS,PH_SWS_FLAG_W,PH_TMP,DELC13,DELC13_FLAG_W,DELC14,DELC14_FLAG_W,C14ERR,CCL4,CCL4_FLAG_W,POC,POC_FLAG_W,DOC,DOC_FLAG_W,TDN,TDN_FLAG_W,PON,PON_FLAG_W,N2O,N2O_FLAG_W,D15N_NO3,D15N_NO3_FLAG_W,14C-DOC,14C-DOC_FLAG_W,14C-DOCERR,13C-DOC,13C-DOC_FLAG_W,N2/ARGON_UNSTRIPPED,N2/ARGON_UNSTRIPPED_FLAG_W,N2/ARGON_UNSTRIPPED_ERROR,N2/ARGON,N2/ARGON_FLAG_W,N2/ARGON_ERROR,D15N_N2,D15N_N2_FLAG_W,D15N_N2_ERROR,D15N_NO3_ERROR,D15N_NO2+NO3,D15N_NO2+NO3_FLAG_W,D18O_NO2+NO3,D18O_NO2+NO3_FLAG_W,D18O_NO3,D18O_NO3_FLAG_W,TDP,TDP_FLAG_W,N2O_ALT_1,N2O_ALT_1_FLAG_W,D15N_N2O,D15N_N2O_FLAG_W,D18O_N2O,D18O_N2O_FLAG_W,D15N_ALPHA_N2O,D15N_ALPHA_N2O_FLAG_W
,,,,,,,,,,,METERS,DBAR,ITS-90,PSS-78,,PSS-78,,UMOL/KG,,UMOL/KG,,UMOL/KG,,UMOL/KG,,UMOL/KG,,UMOL/KG,,PMOL/KG,,PMOL/KG,,FMOL/KG,,UMOL/KG,,UMOL/KG,,,,DEG C,/MILLE,,/MILLE,,/MILLE,PMOL/KG,,UG/KG,,UMOL/KG,,UMOL/KG,,UG/KG,,NMOL/KG,,/MILLE,,/MILLE,,/MILLE,/MILLE,,,,,,,,/MILLE,,/MILLE,/MILLE,/MILLE,,/MILLE,,/MILLE,,UMOL/KG,,NMOL/L,,/MILLE,,/MILLE,,/MILLE,
33RO20161119,        P18,      29,          1,          1,      11010,2,20161201,       1028,    10.0001,  -109.9998,       3310,  3339.1,   1.6742,  34.6780,2,  34.6782,2,    125.8,2,   126.5,2,   151.2,6,    37.7,6,    0.01,6,   2.551,6,   0.0049,2,   0.0034,2,   0.0660,2,  2354.5,6,  2434.4,2,   7.5482,2,    25.00,    0.00,2,  -229.4,2,     1.9,        0,2, -999.00,9,    38.2,2,   42.90,2, -999.00,9,    22.4646,2, -999.00,9,  -999.0,9,     -999.0,     -999.0,9,     -999.0,9,     -999.0,     -999.0,9,     -999.0,     -999.0,9,     -999.0,     -999.0,     -999.0,9,     -999.0,9,     -999.0,9,     -999.0,9,     -999.0,9,     -999.0,9,     -999.0,9,     -999.0,9
33RO20161119,        P18,      29,          1,          2,      11101,2,20161201,       1028,    10.0001,  -109.9998,       3310,  3026.1,   1.7264,  34.6747,2,  34.6727,2,    120.1,2,   119.7,6,   152.1,6,    38.0,6,    0.01,6,   2.588,6,   0.0055,2,   0.0036,2,   0.0327,2,  2357.6,2,  2432.8,6,   7.5269,2,    25.00,    0.00,2,  -234.2,2,     1.8,   0.0134,2, -999.00,9,    37.9,2,   42.10,2, -999.00,9,    22.7389,2, -999.00,9,  -999.0,9,     -999.0,     -999.0,9,     -999.0,9,     -999.0,     -999.0,9,     -999.0,     -999.0,9,     -999.0,     -999.0,     -999.0,9,     -999.0,9,     -999.0,9,     -999.0,9,     -999.0,9,     -999.0,9,     -999.0,9,     -999.0,9
33RO20161119,        P18,      29,          1,          3,      11102,2,20161201,       1028,    10.0001,  -109.9998,       3310,  2715.8,   1.8354,  34.6688,2,  34.6688,2,    110.5,2,   109.8,2,   151.7,6,    38.4,6,    0.01,6,   2.627,6,   0.0053,2,   0.0024,2,   0.0318,2,  2360.8,2,  2434.7,2,   7.5094,2,    25.00,   -0.12,2,  -234.8,2,     1.9,        0,2, -999.00,9,    37.4,2,   43.30,2, -999.00,9,    23.5936,2, -999.00,9,  -999.0,9,     -999.0,     -999.0,9,     -999.0,9,     -999.0,     -999.0,9,     -999.0,     -999.0,9,     -999.0,     -999.0,     -999.0,9,     -999.0,9,     -999.0,9,     -999.0,9,     -999.0,9,     -999.0,9,     -999.0,9,     -999.0,9
33RO20161119,        P18,      29,          1,          4,      11103,2,20161201,       1028,    10.0001,  -109.9998,       3310,  2460.7,   1.9009,  34.6635,2,  34.6629,2,    106.1,2,   106.0,2,   150.0,6,    38.9,6,    0.01,6,   2.661,6,   0.0025,2,   0.0013,2,   0.0000,2,  2361.2,2,  2430.2,2,   7.4992,2,    25.00,   -0.08,2,  -237.9,2,     2.4,   0.0156,2, -999.00,9,    38.0,2,   43.40,2, -999.00,9,    24.1883,2, -999.00,9,  -999.0,9,     -999.0,     -999.0,9,     -999.0,9,     -999.0,     -999.0,9,     -999.0,     -999.0,9,     -999.0,     -999.0,     -999.0,9,     -999.0,9,     -999.0,9,     -999.0,9,     -999.0,9,     -999.0,9,     -999.0,9,     -999.0,9
33RO20161119,        P18,      29,          1,          5,      11104,2,20161201,       1028,    10.0001,  -109.9998,       3310,  2194.6,   1.9958,  34.6575,2,  34.6562,2,    100.5,2,   100.5,2,   148.1,2,    39.3,2,    0.01,2,   2.695,2,   0.0037,2,   0.0019,2,   0.0247,2,  2361.6,2,  2428.3,2,   7.4880,6,    25.00,   -0.25,2,  -237.6,2,     2.0,        0,2, -999.00,9,  -999.0,9, -999.00,9, -999.00,9,     25.598,2, -999.00,9,  -999.0,9,     -999.0,     -999.0,9,     -999.0,9,     -999.0,     -999.0,9,     -999.0,     -999.0,9,     -999.0,     -999.0,     -999.0,9,     -999.0,9,     -999.0,9,     -999.0,9,     -999.0,9,     -999.0,9,     -999.0,9,     -999.0,9
33RO20161119,        P18,      29,          1,          6,      11105,2,20161201,       1028,    10.0001,  -109.9998,       3310,  1955.3,   2.2341,  34.6445,2,  34.6456,2,     89.2,2,    89.6,2,   143.3,2,    40.2,2,    0.01,2,   2.773,2,   0.0026,2,   0.0021,2,   0.0516,2,  2363.9,6,  2420.0,2,   7.4680,2,    25.00, -999.00,9,  -999.0,9,  -999.0,        0,2, -999.00,9,    38.4,2,   45.10,2, -999.00,9,    28.2205,2, -999.00,9,  -999.0,9,     -999.0,     -999.0,9,     -999.0,9,     -999.0,     -999.0,9,     -999.0,     -999.0,9,     -999.0,     -999.0,     -999.0,9,     -999.0,9,     -999.0,9,     -999.0,9,     -999.0,9,     -999.0,9,     -999.0,9,     -999.0,9
33RO20161119,        P18,      29,          1,          7,      11106,2,20161201,       1028,    10.0001,  -109.9998,       3310,  1694.5,   2.6153,  34.6250,2,  34.6236,2,     76.1,2,    76.7,2,   134.0,2,    41.1,2,    0.01,2,   2.862,2,   0.0020,2,   0.0020,2,   0.0170,2,  2361.1,2,  2409.1,2,   7.4370,2,    25.00,   -0.19,2,  -236.3,2,     1.7,        0,2, -999.00,9,    39.3,2,   46.90,2, -999.00,9,    31.5542,2, -999.00,9,  -999.0,9,     -999.0,     -999.0,9,     -999.0,9,     -999.0,     -999.0,9,     -999.0,     -999.0,9,     -999.0,     -999.0,     -999.0,9,     -999.0,9,     -999.0,9,     -999.0,9,     -999.0,9,     -999.0,9,     -999.0,9,     -999.0,9
33RO20161119,        P18,      29,          1,          8,      11107,2,20161201,       1028,    10.0001,  -109.9998,       3310,  1435.5,   3.1795,  34.6015,2,  34.6010,2,     63.5,2,    62.9,2,   121.8,2,    42.0,2,    0.01,2,   2.962,2,   0.0029,6,   0.0015,6,   0.0184,6,  2353.4,2,  2393.0,2,   7.4159,2,    25.00, -999.00,9,  -999.0,9,  -999.0,        0,2, -999.00,9,    37.6,2,   46.70,2, -999.00,9,    34.6979,2, -999.00,9,  -999.0,9,     -999.0,     -999.0,9,     -999.0,9,     -999.0,     -999.0,9,     -999.0,     -999.0,9,     -999.0,     -999.0,     -999.0,9,     -999.0,9,     -999.0,9,     -999.0,9,     -999.0,9,     -999.0,9,     -999.0,9,     -999.0,9
33RO20161119,        P18,      29,          1,          9,      11108,2,20161201,       1028,    10.0001,  -109.9998,       3310,  1214.7,   3.6861,  34.5826,2,  34.5754,4,     48.3,2,    47.3,2,   110.6,2,    43.0,2,    0.01,2,   3.038,2,   0.0039,2,   0.0030,2,   0.0594,2,  2351.1,2,  2374.9,2,   7.3867,2,    25.00,   -0.18,2,  -212.0,2,     1.9,        0,2, -999.00,9,    38.0,2,   48.10,2, -999.00,9,    38.8785,2, -999.00,9,  -999.0,9,     -999.0,     -999.0,9,     -999.0,9,     -999.0,     -999.0,9,     -999.0,     -999.0,9,     -999.0,     -999.0,     -999.0,9,     -999.0,9,     -999.0,9,     -999.0,9,     -999.0,9,     -999.0,9,     -999.0,9,     -999.0,9
33RO20161119,        P18,      29,          1,         10,      11109,2,20161201,       1028,    10.0001,  -109.9998,       3310,  1071.2,   4.1547,  34.5686,2,  34.5684,2,     35.2,2,    35.6,2,   102.0,2,    44.0,2,    0.01,2,   3.127,2,   0.0021,2,   0.0011,2,   0.0000,2,  2349.3,2,  2367.8,2,   7.3622,2,    25.00,   -0.19,2,  -207.0,2,     2.0,        0,2, -999.00,9,    38.4,2,   47.90,2, -999.00,9,    43.2628,2, -999.00,9,  -999.0,9,     -999.0,     -999.0,9,     -999.0,9,     -999.0,     -999.0,9,     -999.0,     -999.0,9,     -999.0,     -999.0,     -999.0,9,     -999.0,9,     -999.0,9,     -999.0,9,     -999.0,9,     -999.0,9,     -999.0,9,     -999.0,9
33RO20161119,        P18,      29,          1,         11,      11110,2,20161201,       1028,    10.0001,  -109.9998,       3310,   955.1,   4.5529,  34.5608,2,  34.5601,2,     24.7,2,    26.4,2,    94.7,2,    44.4,2,    0.01,2,   3.177,2,   0.0026,2,   0.0024,2,   0.0191,2,  2345.8,2,  2360.3,2,   7.3451,2,    25.00, -999.00,9,  -999.0,9,  -999.0,        0,2, -999.00,9,    40.7,2,   48.50,2, -999.00,9,    46.8428,2, -999.00,9,  -999.0,9,     -999.0,     -999.0,9,     -999.0,9,     -999.0,     -999.0,9,     -999.0,     -999.0,9,     -999.0,     -999.0,     -999.0,9,     -999.0,9,     -999.0,9,     -999.0,9,     -999.0,9,     -999.0,9,     -999.0,9,     -999.0,9
33RO20161119,        P18,      29,          1,         12,      11111,2,20161201,       1028,    10.0001,  -109.9998,       3310,   845.5,   5.1587,  34.5525,2,  34.5513,2,     12.4,2,    14.2,2,    84.4,2,    44.8,2,    0.01,2,   3.208,2,   0.0024,2,   0.0012,2,   0.0000,2,  2333.9,3,  2350.4,6,   7.3244,2,    25.00,   -0.26,6,  -180.1,6,     2.8,        0,2, -999.00,9,    41.6,2,   49.80,2, -999.00,9,    53.6724,2, -999.00,9,  -999.0,9,     -999.0,     -999.0,9,     -999.0,9,     -999.0,     -999.0,9,     -999.0,     -999.0,9,     -999.0,     -999.0,     -999.0,9,     -999.0,9,     -999.0,9,     -999.0,9,     -999.0,9,     -999.0,9,     -999.0,9,     -999.0,9
33RO20161119,        P18,      29,          1,         13,      11112,2,20161201,       1028,    10.0001,  -109.9998,       3310,   734.6,   5.8697,  34.5574,2,  34.5568,2,      3.5,2,     3.1,2,    75.5,2,    43.5,2,    0.01,2,   3.204,2,   0.0037,2,   0.0017,2,   0.0000,2,  2335.9,2,  2356.8,3,   7.3138,2,    25.00, -999.00,9,  -999.0,9,  -999.0,        0,2, -999.00,9,    40.3,2,   47.80,2, -999.00,9,    57.4749,2, -999.00,9,  -999.0,9,     -999.0,     -999.0,9,     -999.0,9,     -999.0,     -999.0,9,     -999.0,     -999.0,9,     -999.0,     -999.0,     -999.0,9,     -999.0,9,     -999.0,9,     -999.0,9,     -999.0,9,     -999.0,9,     -999.0,9,     -999.0,9
33RO20161119,        P18,      29,          1,         14,      11113,2,20161201,       1028,    10.0001,  -109.9998,       3310,   634.4,   6.5118,  34.5618,2,  34.5619,2,      2.6,2,     2.9,2,    67.8,2,    41.0,2,    0.01,2,   3.152,2,   0.0071,2,   0.0046,2,   0.0000,2,  2327.0,2,  2334.7,2,   7.3205,2,    25.00, -999.00,9,  -999.0,9,  -999.0,        0,2, -999.00,9,    43.5,2,   45.80,2, -999.00,9,    35.0006,2, -999.00,9,  -999.0,9,     -999.0,     -999.0,9,     -999.0,9,     -999.0,     -999.0,9,     -999.0,     -999.0,9,     -999.0,     -999.0,     -999.0,9,     -999.0,9,     -999.0,9,     -999.0,9,     -999.0,9,     -999.0,9,     -999.0,9,     -999.0,9
33RO20161119,        P18,      29,          1,         15,      11114,2,20161201,       1028,    10.0001,  -109.9998,       3310,   540.4,   7.2093,  34.5722,2,  34.5727,2,      2.4,2,     2.2,2,    60.5,2,    37.8,2,    0.01,2,   3.094,2,   0.0127,2,   0.0084,2,   0.0000,2,  2317.0,2,  2332.0,2,   7.3291,6,    25.00,   -0.34,6,  -141.6,6,     1.2,        0,2, -999.00,9,    41.2,2,   39.90,2, -999.00,9,    26.1772,2, -999.00,9,  -999.0,9,     -999.0,     -999.0,9,     -999.0,9,     -999.0,     -999.0,9,     -999.0,     -999.0,9,     -999.0,     -999.0,     -999.0,9,     -999.0,9,     -999.0,9,     -999.0,9,     -999.0,9,     -999.0,9,     -999.0,9,     -999.0,9
33RO20161119,        P18,      29,          1,         16,      11115,2,20161201,       1028,    10.0001,  -109.9998,       3310,   444.3,   8.6506,  34.6157,2,  34.6149,2,      2.4,2,     2.4,2,    47.7,2,    32.2,2,    0.14,2,   2.902,2,   0.0750,6,   0.0457,6,   0.0000,6,  2301.7,2,  2317.0,2,   7.3471,2,    25.00, -999.00,9,  -999.0,9,  -999.0,        0,2, -999.00,9,    43.2,2,   35.90,2, -999.00,9,    16.0253,2, -999.00,9,  -999.0,9,     -999.0,     -999.0,9,     -999.0,9,     -999.0,     -999.0,9,     -999.0,     -999.0,9,     -999.0,     -999.0,     -999.0,9,     -999.0,9,     -999.0,9,     -999.0,9,     -999.0,9,     -999.0,9,     -999.0,9,     -999.0,9
33RO20161119,        P18,      29,          1,         17,      11116,2,20161201,       1028,    10.0001,  -109.9998,       3310,   361.1,   9.7127,  34.6717,2,  34.6709,2,      4.8,2,     4.2,2,    43.9,2,    32.2,2,    0.01,2,   2.689,2,   0.2684,2,   0.1535,2,   0.0625,2,  2285.9,2,  2308.4,2,   7.3687,2,    25.00, -999.00,9,  -999.0,9,  -999.0,   0.0451,2, -999.00,9,    43.9,2,   35.90,2, -999.00,9,    38.7228,2, -999.00,9,  -999.0,9,     -999.0,     -999.0,9,     -999.0,9,     -999.0,     -999.0,9,     -999.0,     -999.0,9,     -999.0,     -999.0,     -999.0,9,     -999.0,9,     -999.0,9,     -999.0,9,     -999.0,9,     -999.0,9,     -999.0,9,     -999.0,9
33RO20161119,        P18,      29,          1,         18,      11117,2,20161201,       1028,    10.0001,  -109.9998,       3310,   279.6,  10.5474,  34.7138,2,  34.7095,2,      9.0,2,     6.9,2,    37.8,2,    32.4,2,    0.01,2,   2.520,2,   0.5219,2,   0.2908,2,   0.1193,2,  2272.9,2,  2303.1,2,   7.3883,2,    25.00,   -0.30,6,   -51.2,6,     3.5,   0.0618,2, -999.00,9,    44.5,2,   37.30,2, -999.00,9,    51.0663,2, -999.00,9,  -999.0,9,     -999.0,     -999.0,9,     -999.0,9,     -999.0,     -999.0,9,     -999.0,     -999.0,9,     -999.0,     -999.0,     -999.0,9,     -999.0,9,     -999.0,9,     -999.0,9,     -999.0,9,     -999.0,9,     -999.0,9,     -999.0,9
33RO20161119,        P18,      29,          1,         19,      11083,2,20161201,       1028,    10.0001,  -109.9998,       3310,   205.6,  11.3866,  34.7535,2,  34.7539,2,     10.7,2,    10.7,2,    33.4,2,    32.8,2,    0.02,2,   2.395,2,   0.8250,2,   0.4553,2,   0.2249,2,  2260.7,2,  2297.1,2,   7.4173,2,    25.00, -999.00,9,  -999.0,9,  -999.0,   0.0753,2, -999.00,9,    45.4,2,   36.30,2, -999.00,9,    67.2669,2, -999.00,9,  -999.0,9,     -999.0,     -999.0,9,     -999.0,9,     -999.0,     -999.0,9,     -999.0,     -999.0,9,     -999.0,     -999.0,     -999.0,9,     -999.0,9,     -999.0,9,     -999.0,9,     -999.0,9,     -999.0,9,     -999.0,9,     -999.0,9
33RO20161119,        P18,      29,          1,         20,      11118,2,20161201,       1028,    10.0001,  -109.9998,       3310,   144.6,  12.4465,  34.8063,2,  34.8063,2,      8.5,2,     8.2,2,    30.5,2,    31.5,2,    0.02,2,   2.346,2,   1.0954,2,   0.6107,2,   0.3476,2,  2253.4,2,  2297.9,2,   7.4351,2,    25.00, -999.00,5,    -7.4,6,     1.7,   0.0574,2, -999.00,9,    46.1,2,   34.90,2, -999.00,9,    74.0507,2, -999.00,9,  -999.0,9,     -999.0,     -999.0,9,     -999.0,9,     -999.0,     -999.0,9,     -999.0,     -999.0,9,     -999.0,     -999.0,     -999.0,9,     -999.0,9,     -999.0,9,     -999.0,9,     -999.0,9,     -999.0,9,     -999.0,9,     -999.0,9
33RO20161119,        P18,      29,          1,         21,      11119,2,20161201,       1028,    10.0001,  -109.9998,       3310,    94.8,  13.3396,  34.8106,2,  34.8115,2,      5.1,2,     4.2,2,    23.4,2,    30.9,2,    0.02,2,   2.347,2,   1.2419,2,   0.7012,2,   0.3398,2,  2248.6,2,  2293.9,2,   7.4351,2,    25.00,   -0.32,6,    -3.4,6,     8.1,   0.1835,2, -999.00,9,    47.4,2,   33.60,2, -999.00,9,    85.9218,2, -999.00,9,  -999.0,9,     -999.0,     -999.0,9,     -999.0,9,     -999.0,     -999.0,9,     -999.0,     -999.0,9,     -999.0,     -999.0,     -999.0,9,     -999.0,9,     -999.0,9,       2.47,2,     -999.0,9,     -999.0,9,     -999.0,9,     -999.0,9
33RO20161119,        P18,      29,          1,         22,      11120,2,20161201,       1028,    10.0001,  -109.9998,       3310,    49.8,  18.4821,  34.5690,2,  34.5954,2,     42.3,2,    33.5,3,    13.9,2,    21.6,2,    0.49,2,   1.970,2,   1.5298,2,   0.9132,2,   0.8093,2,  2197.3,2,  2282.2,2,   7.5725,2,    25.00,   -0.21,6,     8.9,6,     1.1,   1.5261,2, -999.00,9,    54.4,2,   25.30,2, -999.00,9,    74.1932,2, -999.00,9,  -999.0,9,     -999.0,     -999.0,9,     -999.0,9,     -999.0,     -999.0,9,     -999.0,     -999.0,9,     -999.0,     -999.0,     -999.0,9,     -999.0,9,     -999.0,9,       2.15,2,     -999.0,9,     -999.0,9,     -999.0,9,     -999.0,9
33RO20161119,        P18,      29,          1,         23,      11121,2,20161201,       1028,    10.0001,  -109.9998,       3310,    20.6,  27.8302,  32.7104,2,  32.7357,2,    199.4,2,   199.8,6,     0.9,2,     0.0,2,    0.02,2,   0.151,2,   1.5323,2,   0.9666,2,   1.3930,2,  1860.8,6,  2157.1,6,   8.0866,2,    25.00,    0.96,6,    19.6,6,    10.1,   1.3885,2, -999.00,9,    73.0,2,    3.80,2, -999.00,9,     7.0489,2, -999.00,9,  -999.0,9,     -999.0,     -999.0,9,     -999.0,9,     -999.0,     -999.0,9,     -999.0,     -999.0,9,     -999.0,     -999.0,     -999.0,9,     -999.0,9,     -999.0,9,       0.53,2,     -999.0,9,     -999.0,9,     -999.0,9,     -999.0,9
33RO20161119,        P18,      29,          1,         24,      11122,2,20161201,       1028,    10.0001,  -109.9998,       3310,     2.8,  28.0083,  32.7066,2,  32.7092,2,    198.5,2,   200.5,2,     0.9,2,     0.0,2,    0.01,2,   0.145,2,   1.5131,2,   0.9657,2,   1.3444,2,  1857.4,2,  2154.2,2,   8.0831,2,    25.00,    0.92,6,    23.8,6,     4.0,        0,2, -999.00,9,    75.1,2,    3.80,2, -999.00,9,     6.6092,2, -999.00,9,  -999.0,9,     -999.0,     -999.0,9,     -999.0,9,     -999.0,     -999.0,9,     -999.0,     -999.0,9,     -999.0,     -999.0,     -999.0,9,     -999.0,9,     -999.0,9,       0.45,2,     -999.0,9,     -999.0,9,     -999.0,9,     -999.0,9