BOTTLE,20230606CCHSIOCBG
EXPOCODE,SECT_ID,STNNBR,CASTNO,SAMPNO,BTLNBR,BTLNBR_FLAG_W,DATE,TIME,LATITUDE,LONGITUDE,DEPTH,CTDPRS,CTDTMP,CTDSAL,CTDSAL_FLAG_W,SALNTY,SALNTY_FLAG_W,CTDOXY,CTDOXY_FLAG_W,OXYGEN,OXYGEN_FLAG_W,SILCAT,SILCAT_FLAG_W,NITRAT,NITRAT_FLAG_W,NITRIT,NITRIT_FLAG_W,PHSPHT,PHSPHT_FLAG_W,CFC-11,CFC-11_FLAG_W,CFC-12,CFC-12_FLAG_W,SF6,SF6_FLAG_W,TCARBN,TCARBN_FLAG_W,ALKALI,ALKALI_FLAG_W,PH_SWS,PH_SWS_FLAG_W,PH_TMP,DELC13,DELC13_FLAG_W,DELC14,DELC14_FLAG_W,C14ERR,CCL4,CCL4_FLAG_W,POC,POC_FLAG_W,DOC,DOC_FLAG_W,TDN,TDN_FLAG_W,PON,PON_FLAG_W,N2O,N2O_FLAG_W,D15N_NO3,D15N_NO3_FLAG_W,14C-DOC,14C-DOC_FLAG_W,14C-DOCERR,13C-DOC,13C-DOC_FLAG_W,N2/ARGON_UNSTRIPPED,N2/ARGON_UNSTRIPPED_FLAG_W,N2/ARGON_UNSTRIPPED_ERROR,N2/ARGON,N2/ARGON_FLAG_W,N2/ARGON_ERROR,D15N_N2,D15N_N2_FLAG_W,D15N_N2_ERROR,D15N_NO3_ERROR,D15N_NO2+NO3,D15N_NO2+NO3_FLAG_W,D18O_NO2+NO3,D18O_NO2+NO3_FLAG_W,D18O_NO3,D18O_NO3_FLAG_W,TDP,TDP_FLAG_W,N2O_ALT_1,N2O_ALT_1_FLAG_W,D15N_N2O,D15N_N2O_FLAG_W,D18O_N2O,D18O_N2O_FLAG_W,D15N_ALPHA_N2O,D15N_ALPHA_N2O_FLAG_W
,,,,,,,,,,,METERS,DBAR,ITS-90,PSS-78,,PSS-78,,UMOL/KG,,UMOL/KG,,UMOL/KG,,UMOL/KG,,UMOL/KG,,UMOL/KG,,PMOL/KG,,PMOL/KG,,FMOL/KG,,UMOL/KG,,UMOL/KG,,,,DEG C,/MILLE,,/MILLE,,/MILLE,PMOL/KG,,UG/KG,,UMOL/KG,,UMOL/KG,,UG/KG,,NMOL/KG,,/MILLE,,/MILLE,,/MILLE,/MILLE,,,,,,,,/MILLE,,/MILLE,/MILLE,/MILLE,,/MILLE,,/MILLE,,UMOL/KG,,NMOL/L,,/MILLE,,/MILLE,,/MILLE,
33RO20161119,        P18,     204,          1,          1,      11010,2,20170125,       0938,   -68.0000,  -102.9991,       4487,  4566.4,   0.3850,  34.7002,2,  34.6991,2,    213.1,2,   213.7,2,   142.3,2,    32.8,2,    0.01,2,   2.224,2,   0.4428,2,   0.2111,2,   0.0797,2,  2264.2,6,  2362.9,2,   7.5887,2,    25.00, -999.00,9,  -999.0,9,  -999.0,   0.3005,2, -999.00,9,  -999.0,9, -999.00,9, -999.00,9,    18.4419,2,    4.77,2,  -999.0,9,     -999.0,     -999.0,9,     -999.0,9,     -999.0,     -999.0,9,     -999.0,     -999.0,9,     -999.0,     -999.0,       4.77,2,       1.75,2,       1.75,2,     -999.0,9,     -999.0,9,     -999.0,9,     -999.0,9,     -999.0,9
33RO20161119,        P18,     204,          1,          2,      11101,2,20170125,       0938,   -68.0000,  -102.9991,       4487,  4231.7,   0.3823,  34.7015,2,  34.6987,2,    213.7,2,   213.4,2,   136.5,2,    32.8,2,    0.01,2,   2.230,2,   0.3686,2,   0.1739,2,   0.0661,2,  2261.7,2,  2362.9,2,   7.5865,6,    25.00, -999.00,9,  -999.0,9,  -999.0,    0.252,2, -999.00,9,  -999.0,9, -999.00,9, -999.00,9,    18.4353,2,     4.8,2,  -999.0,9,     -999.0,     -999.0,9,     -999.0,9,     -999.0,     -999.0,9,     -999.0,     -999.0,9,     -999.0,     -999.0,        4.8,2,       1.82,2,       1.82,2,     -999.0,9,     -999.0,9,     -999.0,9,     -999.0,9,     -999.0,9
33RO20161119,        P18,     204,          1,          3,      11102,2,20170125,       0938,   -68.0000,  -102.9991,       4487,  3899.7,   0.4159,  34.7030,2,  34.7013,2,    211.8,2,   211.9,2,   134.2,6,    32.8,6,    0.01,6,   2.226,6,   0.2780,2,   0.1326,2,   0.0579,2,  2259.6,2,  2365.2,6,   7.5879,2,    25.00, -999.00,9,  -999.0,9,  -999.0,   0.2225,2, -999.00,9,  -999.0,9, -999.00,9, -999.00,9,    18.5051,2,    4.75,2,  -999.0,9,     -999.0,     -999.0,9,     -999.0,9,     -999.0,     -999.0,9,     -999.0,     -999.0,9,     -999.0,     -999.0,       4.75,2,       1.76,2,       1.76,2,     -999.0,9,     -999.0,9,     -999.0,9,     -999.0,9,     -999.0,9
33RO20161119,        P18,     204,          1,          4,      11103,2,20170125,       0938,   -68.0000,  -102.9991,       4487,  3550.3,   0.4817,  34.7039,2,  34.7026,2,    210.6,2,   210.3,2,   129.9,6,    32.7,6,    0.01,6,   2.236,6,   0.2511,2,   0.1203,2,   0.0507,2,  2261.0,2,  2360.6,2,   7.5877,2,    25.00, -999.00,9,  -999.0,9,  -999.0,   0.2115,2, -999.00,9,  -999.0,9, -999.00,9, -999.00,9,    18.5177,2,    4.76,2,  -999.0,9,     -999.0,     -999.0,9,     -999.0,9,     -999.0,     -999.0,9,     -999.0,     -999.0,9,     -999.0,     -999.0,       4.76,2,       1.76,2,       1.76,2,     -999.0,9,     -999.0,9,     -999.0,9,     -999.0,9,     -999.0,9
33RO20161119,        P18,     204,          1,          5,      11104,2,20170125,       0938,   -68.0000,  -102.9991,       4487,  3175.2,   0.5854,  34.7054,2,  34.7045,2,    208.2,2,   208.0,2,   126.3,6,    32.6,6,    0.01,6,   2.213,6,   0.2346,2,   0.1151,2,   0.0461,2,  2260.0,2,  2359.0,2,   7.5881,2,    25.00, -999.00,9,  -999.0,9,  -999.0,   0.2372,2, -999.00,9,  -999.0,9, -999.00,9, -999.00,9,    18.6189,2,    4.77,2,  -999.0,9,     -999.0,     -999.0,9,     -999.0,9,     -999.0,     -999.0,9,     -999.0,     -999.0,9,     -999.0,     -999.0,       4.77,2,       1.81,2,       1.81,2,     -999.0,9,     -999.0,9,     -999.0,9,     -999.0,9,     -999.0,9
33RO20161119,        P18,     204,          1,          6,      11105,2,20170125,       0938,   -68.0000,  -102.9991,       4487,  2840.3,   0.7097,  34.7079,2,  34.7108,2,    205.4,2,   205.2,2,   123.5,6,    32.4,6,    0.01,6,   2.207,6,   0.2115,2,   0.1028,2,   0.0646,2,  2260.8,2,  2359.8,2,   7.5903,2,    25.00, -999.00,9,  -999.0,9,  -999.0,   0.2072,2, -999.00,9,  -999.0,9, -999.00,9, -999.00,9,    18.7517,2,    4.74,2,  -999.0,9,     -999.0,     -999.0,9,     -999.0,9,     -999.0,     -999.0,9,     -999.0,     -999.0,9,     -999.0,     -999.0,       4.74,2,       1.73,2,       1.73,2,     -999.0,9,     -999.0,9,     -999.0,9,     -999.0,9,     -999.0,9
33RO20161119,        P18,     204,          1,          7,      11106,2,20170125,       0938,   -68.0000,  -102.9991,       4487,  2480.6,   0.8358,  34.7124,2,  34.7120,2,    203.0,2,   203.2,2,   119.7,2,    32.3,2,    0.01,2,   2.197,2,   0.1638,2,   0.0805,2,   0.0000,2,  2258.6,2,  2359.4,2,   7.5908,2,    25.00, -999.00,9,  -999.0,9,  -999.0,   0.1904,2, -999.00,9,  -999.0,9, -999.00,9, -999.00,9,    18.8272,2,    4.76,2,  -999.0,9,     -999.0,     -999.0,9,     -999.0,9,     -999.0,     -999.0,9,     -999.0,     -999.0,9,     -999.0,     -999.0,       4.76,2,       1.77,2,       1.77,2,     -999.0,9,     -999.0,9,     -999.0,9,     -999.0,9,     -999.0,9
33RO20161119,        P18,     204,          1,          8,      11107,2,20170125,       0938,   -68.0000,  -102.9991,       4487,  2120.1,   0.9887,  34.7183,2,  34.7216,2,    200.4,2,   200.3,2,   113.9,2,    32.1,2,    0.01,2,   2.182,2,   0.1377,2,   0.0676,2,   0.0000,2,  2256.7,2,  2358.7,2,   7.5914,2,    25.00, -999.00,9,  -999.0,9,  -999.0,   0.2311,2, -999.00,9,  -999.0,9, -999.00,9, -999.00,9,    18.9336,2,    4.78,2,  -999.0,9,     -999.0,     -999.0,9,     -999.0,9,     -999.0,     -999.0,9,     -999.0,     -999.0,9,     -999.0,     -999.0,       4.78,2,       1.65,2,       1.65,2,     -999.0,9,     -999.0,9,     -999.0,9,     -999.0,9,     -999.0,9
33RO20161119,        P18,     204,          1,          9,      11108,2,20170125,       0938,   -68.0000,  -102.9991,       4487,  1770.0,   1.1651,  34.7250,2,  34.7228,2,    196.1,2,   196.8,2,   108.1,2,    32.0,2,    0.01,2,   2.176,2,   0.1295,2,   0.0646,2,   0.0000,2,  2256.7,2,  2361.0,2,   7.5910,2,    25.00, -999.00,9,  -999.0,9,  -999.0,   0.2288,2, -999.00,9,  -999.0,9, -999.00,9, -999.00,9,    19.1568,2,     4.8,2,  -999.0,9,     -999.0,     -999.0,9,     -999.0,9,     -999.0,     -999.0,9,     -999.0,     -999.0,9,     -999.0,     -999.0,        4.8,2,       1.58,2,       1.58,2,     -999.0,9,     -999.0,9,     -999.0,9,     -999.0,9,     -999.0,9
33RO20161119,        P18,     204,          1,         10,      11109,2,20170125,       0938,   -68.0000,  -102.9991,       4487,  1539.0,   1.3118,  34.7295,2,  34.7303,2,    194.4,2,   194.2,2,   103.4,2,    31.8,2,    0.01,2,   2.153,2,   0.1385,6,   0.0677,6,   0.0434,6,  2256.0,2,  2360.1,2,   7.5915,2,    25.00, -999.00,9,  -999.0,9,  -999.0,   0.2962,2, -999.00,9,  -999.0,9, -999.00,9, -999.00,9,    19.1194,2,    4.78,2,  -999.0,9,     -999.0,     -999.0,9,     -999.0,9,     -999.0,     -999.0,9,     -999.0,     -999.0,9,     -999.0,     -999.0,       4.78,2,       1.77,2,       1.77,2,     -999.0,9,     -999.0,9,     -999.0,9,     -999.0,9,     -999.0,9
33RO20161119,        P18,     204,          1,         11,      11110,2,20170125,       0938,   -68.0000,  -102.9991,       4487,  1392.6,   1.4070,  34.7318,2,  34.7362,3,    192.9,2,   193.1,6,   100.2,2,    31.8,2,    0.01,2,   2.148,2,   0.1494,2,   0.0733,2,   0.0673,2,  2253.3,2,  2358.4,2,   7.5902,2,    25.00, -999.00,9,  -999.0,9,  -999.0,   0.3603,2, -999.00,9,  -999.0,9, -999.00,9, -999.00,9,    19.4061,2,    4.81,2,  -999.0,9,     -999.0,     -999.0,9,     -999.0,9,     -999.0,     -999.0,9,     -999.0,     -999.0,9,     -999.0,     -999.0,       4.81,2,       1.74,2,       1.74,2,     -999.0,9,     -999.0,9,     -999.0,9,     -999.0,9,     -999.0,9
33RO20161119,        P18,     204,          1,         12,      11111,2,20170125,       0938,   -68.0000,  -102.9991,       4487,  1229.8,   1.5291,  34.7336,2,  34.7377,3,    190.1,2,   190.6,2,    96.5,2,    31.7,2,    0.01,2,   2.146,2,   0.1703,2,   0.0832,2,   0.0278,2,  2253.1,2,  2356.4,2,   7.5896,2,    25.00, -999.00,9,  -999.0,9,  -999.0,   0.3743,2, -999.00,9,  -999.0,9, -999.00,9, -999.00,9,    19.5545,2,    4.79,2,  -999.0,9,     -999.0,     -999.0,9,     -999.0,9,     -999.0,     -999.0,9,     -999.0,     -999.0,9,     -999.0,     -999.0,       4.79,2,       1.68,2,       1.68,2,     -999.0,9,     -999.0,9,     -999.0,9,     -999.0,9,     -999.0,9
33RO20161119,        P18,     204,          1,         13,      11112,2,20170125,       0938,   -68.0000,  -102.9991,       4487,  1081.2,   1.6671,  34.7328,2,  34.7325,2,    188.2,2,   188.4,6,    92.4,2,    31.7,2,    0.01,2,   2.149,2,   0.1901,2,   0.0936,2,   0.0641,2,  2250.2,2,  2356.3,2,   7.5862,2,    25.00, -999.00,9,  -999.0,9,  -999.0,     0.48,2, -999.00,9,  -999.0,9, -999.00,9, -999.00,9,    19.7579,2,     4.8,2,  -999.0,9,     -999.0,     -999.0,9,     -999.0,9,     -999.0,     -999.0,9,     -999.0,     -999.0,9,     -999.0,     -999.0,        4.8,2,       1.69,2,       1.69,2,     -999.0,9,     -999.0,9,     -999.0,9,     -999.0,9,     -999.0,9
33RO20161119,        P18,     204,          1,         14,      11113,2,20170125,       0938,   -68.0000,  -102.9991,       4487,   933.8,   1.7910,  34.7283,2,  34.7281,2,    185.6,2,   186.1,2,    89.0,2,    31.8,2,    0.01,2,   2.144,2,   0.2160,2,   0.1079,2,   0.0586,2,  2250.4,2,  2351.2,2,   7.5825,6,    25.00, -999.00,9,  -999.0,9,  -999.0,    0.795,2, -999.00,9,  -999.0,9, -999.00,9, -999.00,9,    20.1461,2,    4.87,2,  -999.0,9,     -999.0,     -999.0,9,     -999.0,9,     -999.0,     -999.0,9,     -999.0,     -999.0,9,     -999.0,     -999.0,       4.87,2,       1.71,2,       1.71,2,     -999.0,9,     -999.0,9,     -999.0,9,     -999.0,9,     -999.0,9
33RO20161119,        P18,     204,          1,         15,      11114,2,20170125,       0938,   -68.0000,  -102.9991,       4487,   794.5,   1.9059,  34.7183,2,  34.7164,2,    182.1,2,   182.2,2,    85.9,2,    32.1,2,    0.01,2,   2.178,2,   0.2468,2,   0.1219,2,   0.0726,2,  2252.4,2,  2348.4,2,   7.5768,2,    25.00, -999.00,9,  -999.0,9,  -999.0,   1.0605,2, -999.00,9,  -999.0,9, -999.00,9, -999.00,9,    20.4682,2,    4.77,2,  -999.0,9,     -999.0,     -999.0,9,     -999.0,9,     -999.0,     -999.0,9,     -999.0,     -999.0,9,     -999.0,     -999.0,       4.77,2,       1.71,2,       1.71,2,     -999.0,9,     -999.0,9,     -999.0,9,     -999.0,9,     -999.0,9
33RO20161119,        P18,     204,          1,         16,      11115,2,20170125,       0938,   -68.0000,  -102.9991,       4487,   660.7,   2.0045,  34.7008,2,  34.6985,2,    178.3,2,   178.2,2,    83.3,2,    32.4,2,    0.01,2,   2.214,2,   0.3014,6,   0.1513,6,   0.0859,6,  2251.8,2,  2345.0,2,   7.5665,2,    25.00, -999.00,9,  -999.0,9,  -999.0,   1.9641,2, -999.00,9,  -999.0,9, -999.00,9, -999.00,9,    20.9975,2,    4.84,2,  -999.0,9,     -999.0,     -999.0,9,     -999.0,9,     -999.0,     -999.0,9,     -999.0,     -999.0,9,     -999.0,     -999.0,       4.84,2,       1.77,2,       1.77,2,     -999.0,9,     -999.0,9,     -999.0,9,     -999.0,9,     -999.0,9
33RO20161119,        P18,     204,          1,         17,      11116,2,20170125,       0938,   -68.0000,  -102.9991,       4487,   540.2,   2.0600,  34.6702,2,  34.6700,2,    175.8,2,   176.5,2,    80.6,2,    33.1,2,    0.01,2,   2.245,2,   0.4390,2,   0.2253,2,   0.1622,2,  2252.6,6,  2340.9,2,   7.5548,2,    25.00, -999.00,9,  -999.0,9,  -999.0,   7.2166,2, -999.00,9,  -999.0,9, -999.00,9, -999.00,9,    21.6514,2,    4.82,2,  -999.0,9,     -999.0,     -999.0,9,     -999.0,9,     -999.0,     -999.0,9,     -999.0,     -999.0,9,     -999.0,     -999.0,       4.82,2,       1.73,2,       1.73,2,     -999.0,9,     -999.0,9,     -999.0,9,     -999.0,9,     -999.0,9
33RO20161119,        P18,     204,          1,         18,      11117,2,20170125,       0938,   -68.0000,  -102.9991,       4487,   420.1,   2.1172,  34.6267,2,  34.6227,2,    174.5,2,   174.6,2,    77.6,2,    33.7,2,    0.01,2,   2.289,2,   0.6184,2,   0.3157,2,   0.2164,2,  2252.6,2,  2338.3,6,   7.5470,2,    25.00, -999.00,9,  -999.0,9,  -999.0,   6.4795,2, -999.00,9,  -999.0,9, -999.00,9, -999.00,9,    22.3353,2,    4.84,2,  -999.0,9,     -999.0,     -999.0,9,     -999.0,9,     -999.0,     -999.0,9,     -999.0,     -999.0,9,     -999.0,     -999.0,       4.84,2,       1.72,2,       1.72,2,     -999.0,9,     -999.0,9,     -999.0,9,     -999.0,9,     -999.0,9
33RO20161119,        P18,     204,          1,         19,      11083,2,20170125,       0938,   -68.0000,  -102.9991,       4487,   315.0,   2.0585,  34.5547,2,  34.5529,2,    179.0,2,   174.6,2,    73.9,2,    34.4,2,    0.01,2,   2.336,2,   1.0438,2,   0.5381,2,   0.4154,2,  2251.3,2,  2330.0,2,   7.5350,2,    25.00, -999.00,9,  -999.0,9,  -999.0,   6.9107,2, -999.00,9,  -999.0,9, -999.00,9, -999.00,9,    23.2353,2,     4.9,2,  -999.0,9,     -999.0,     -999.0,9,     -999.0,9,     -999.0,     -999.0,9,     -999.0,     -999.0,9,     -999.0,     -999.0,        4.9,2,       1.78,2,       1.78,2,     -999.0,9,     -999.0,9,     -999.0,9,     -999.0,9,     -999.0,9
33RO20161119,        P18,     204,          1,         20,      11118,2,20170125,       0938,   -68.0000,  -102.9991,       4487,   225.1,   1.8166,  34.4335,2,  34.4347,2,    198.3,2,   199.6,2,    66.9,2,    34.5,2,    0.01,2,   2.331,2,   1.9755,2,   1.0332,2,   0.8995,2,  2239.1,2,  2324.3,2,   7.5393,2,    25.00, -999.00,9,  -999.0,9,  -999.0,   0.4649,2, -999.00,9,  -999.0,9, -999.00,9, -999.00,9,    23.0058,2,    4.97,2,  -999.0,9,     -999.0,     -999.0,9,     -999.0,9,     -999.0,     -999.0,9,     -999.0,     -999.0,9,     -999.0,     -999.0,       5.04,2,       2.15,2,       1.74,2,     -999.0,9,     -999.0,9,     -999.0,9,     -999.0,9,     -999.0,9
33RO20161119,        P18,     204,          1,         21,      11119,2,20170125,       0938,   -68.0000,  -102.9991,       4487,   144.8,  -0.5533,  34.0416,2,  34.0402,2,    303.2,2,   303.3,2,    45.3,2,    30.2,2,    0.02,2,   2.046,2,   5.0622,2,   2.7173,2,   2.9098,2,  2190.8,2,  2299.1,2,   7.6097,2,    25.00, -999.00,9,  -999.0,9,  -999.0,   0.3961,2, -999.00,9,  -999.0,9, -999.00,9, -999.00,9,    17.7929,2,    5.27,2,  -999.0,9,     -999.0,     -999.0,9,     -999.0,9,     -999.0,     -999.0,9,     -999.0,     -999.0,9,     -999.0,     -999.0,       5.36,2,       2.53,2,       2.41,2,     -999.0,9,     -999.0,9,     -999.0,9,     -999.0,9,     -999.0,9
33RO20161119,        P18,     204,          1,         22,      11120,2,20170125,       0938,   -68.0000,  -102.9991,       4487,    70.5,  -1.4639,  33.8761,2,  33.8745,2,    341.0,2,   342.0,2,    37.6,2,    27.4,2,    0.28,2,   1.933,2,   6.0990,2,   3.2462,2,   3.6059,2,  2172.4,2,  2286.2,6,   7.6461,2,    25.00, -999.00,9,  -999.0,9,  -999.0,   0.3662,2, -999.00,9,  -999.0,9, -999.00,9, -999.00,9,    16.0871,2,    5.95,2,  -999.0,9,     -999.0,     -999.0,9,     -999.0,9,     -999.0,     -999.0,9,     -999.0,     -999.0,9,     -999.0,     -999.0,       5.59,2,        3.0,2,       2.89,2,     -999.0,9,     -999.0,9,     -999.0,9,     -999.0,9,     -999.0,9
33RO20161119,        P18,     204,          1,         23,      11121,2,20170125,       0938,   -68.0000,  -102.9991,       4487,    25.2,   1.0998,  33.6094,2,  33.6103,2,    345.4,2,   346.3,2,    20.5,2,    23.4,2,    0.32,2,   1.535,2,   5.8460,2,   3.1417,2,   3.5982,2,  2134.8,6,  2272.5,2,   7.7105,2,    25.00, -999.00,9,  -999.0,9,  -999.0,   0.3036,2, -999.00,9,  -999.0,9, -999.00,9, -999.00,9,    14.7409,2,    7.44,2,  -999.0,9,     -999.0,     -999.0,9,     -999.0,9,     -999.0,     -999.0,9,     -999.0,     -999.0,9,     -999.0,     -999.0,       6.45,2,       3.53,2,       3.42,2,     -999.0,9,     -999.0,9,     -999.0,9,     -999.0,9,     -999.0,9
33RO20161119,        P18,     204,          1,         24,      11122,2,20170125,       0938,   -68.0000,  -102.9991,       4487,     3.5,   1.1022,  33.6084,2,  33.6082,2,    344.3,2,   345.3,2,    20.5,2,    23.4,2,    0.32,2,   1.535,2,   5.8880,2,   3.1509,2,   3.5253,2,  2135.0,2,  2271.1,2,   7.7076,2,    25.00, -999.00,9,  -999.0,9,  -999.0,   0.2754,2, -999.00,9,  -999.0,9, -999.00,9, -999.00,9,    14.7598,2,    7.38,2,  -999.0,9,     -999.0,     -999.0,9,     -999.0,9,     -999.0,     -999.0,9,     -999.0,     -999.0,9,     -999.0,     -999.0,       6.45,2,       3.53,2,       3.31,2,     -999.0,9,     -999.0,9,     -999.0,9,     -999.0,9,     -999.0,9