BOTTLE,20230606CCHSIOCBG
EXPOCODE,SECT_ID,STNNBR,CASTNO,SAMPNO,BTLNBR,BTLNBR_FLAG_W,DATE,TIME,LATITUDE,LONGITUDE,DEPTH,CTDPRS,CTDTMP,CTDSAL,CTDSAL_FLAG_W,SALNTY,SALNTY_FLAG_W,CTDOXY,CTDOXY_FLAG_W,OXYGEN,OXYGEN_FLAG_W,SILCAT,SILCAT_FLAG_W,NITRAT,NITRAT_FLAG_W,NITRIT,NITRIT_FLAG_W,PHSPHT,PHSPHT_FLAG_W,CFC-11,CFC-11_FLAG_W,CFC-12,CFC-12_FLAG_W,SF6,SF6_FLAG_W,TCARBN,TCARBN_FLAG_W,ALKALI,ALKALI_FLAG_W,PH_SWS,PH_SWS_FLAG_W,PH_TMP,DELC13,DELC13_FLAG_W,DELC14,DELC14_FLAG_W,C14ERR,CCL4,CCL4_FLAG_W,POC,POC_FLAG_W,DOC,DOC_FLAG_W,TDN,TDN_FLAG_W,PON,PON_FLAG_W,N2O,N2O_FLAG_W,D15N_NO3,D15N_NO3_FLAG_W,14C-DOC,14C-DOC_FLAG_W,14C-DOCERR,13C-DOC,13C-DOC_FLAG_W,N2/ARGON_UNSTRIPPED,N2/ARGON_UNSTRIPPED_FLAG_W,N2/ARGON_UNSTRIPPED_ERROR,N2/ARGON,N2/ARGON_FLAG_W,N2/ARGON_ERROR,D15N_N2,D15N_N2_FLAG_W,D15N_N2_ERROR,D15N_NO3_ERROR,D15N_NO2+NO3,D15N_NO2+NO3_FLAG_W,D18O_NO2+NO3,D18O_NO2+NO3_FLAG_W,D18O_NO3,D18O_NO3_FLAG_W,TDP,TDP_FLAG_W,N2O_ALT_1,N2O_ALT_1_FLAG_W,D15N_N2O,D15N_N2O_FLAG_W,D18O_N2O,D18O_N2O_FLAG_W,D15N_ALPHA_N2O,D15N_ALPHA_N2O_FLAG_W
,,,,,,,,,,,METERS,DBAR,ITS-90,PSS-78,,PSS-78,,UMOL/KG,,UMOL/KG,,UMOL/KG,,UMOL/KG,,UMOL/KG,,UMOL/KG,,PMOL/KG,,PMOL/KG,,FMOL/KG,,UMOL/KG,,UMOL/KG,,,,DEG C,/MILLE,,/MILLE,,/MILLE,PMOL/KG,,UG/KG,,UMOL/KG,,UMOL/KG,,UG/KG,,NMOL/KG,,/MILLE,,/MILLE,,/MILLE,/MILLE,,,,,,,,/MILLE,,/MILLE,/MILLE,/MILLE,,/MILLE,,/MILLE,,UMOL/KG,,NMOL/L,,/MILLE,,/MILLE,,/MILLE,
33RO20161119,        P18,     130,          2,          1,      11010,2,20170104,       1830,   -31.0000,  -102.9993,       3461,  3489.4,   1.8056,  34.6891,2,  34.6875,2,    166.9,2,   166.3,2,   116.7,6,    34.5,6,    0.01,6,   2.383,6,   0.0021,2,   0.0015,2,   0.0000,2,  2297.2,6,  2395.8,2,   7.5821,6,    25.00, -999.00,9,  -999.0,9,  -999.0,   0.0223,2, -999.00,9,  -999.0,9, -999.00,9, -999.00,9,    20.9547,2,    5.22,2,  -999.0,9,     -999.0,     -999.0,9,     -999.0,9,     -999.0,     -999.0,9,     -999.0,     -999.0,9,     -999.0,     -999.0,       5.22,2,        2.3,2,        2.3,2,     -999.0,9,     -999.0,9,     -999.0,9,     -999.0,9,     -999.0,9
33RO20161119,        P18,     130,          2,          2,      11101,2,20170104,       1830,   -31.0000,  -102.9993,       3461,  3315.7,   1.7946,  34.6881,2,  34.6855,2,    166.9,2,   165.7,2,   116.5,6,    34.5,6,    0.00,6,   2.381,6,   0.0037,2,   0.0025,2,   0.0000,2,  2296.4,2,  2390.6,2,   7.5825,2,    25.00, -999.00,9,  -999.0,9,  -999.0,   0.0362,2, -999.00,9,  -999.0,9, -999.00,9, -999.00,9,    20.7349,2,    5.22,2,  -999.0,9,     -999.0,     -999.0,9,     -999.0,9,     -999.0,     -999.0,9,     -999.0,     -999.0,9,     -999.0,     -999.0,       5.22,2,       2.15,2,       2.15,2,     -999.0,9,     -999.0,9,     -999.0,9,     -999.0,9,     -999.0,9
33RO20161119,        P18,     130,          2,          3,      11102,2,20170104,       1830,   -31.0000,  -102.9993,       3461,  3140.5,   1.7898,  34.6862,2,  34.6849,2,    166.2,2,   164.5,6,   116.7,6,    34.6,6,    0.00,6,   2.385,6,   0.0025,2,   0.0022,2,   0.0000,2,  2295.2,2,  2389.6,6,   7.5813,2,    25.00, -999.00,9,  -999.0,9,  -999.0,   0.0473,2, -999.00,9,  -999.0,9, -999.00,9, -999.00,9,    20.4756,2,    5.25,2,  -999.0,9,     -999.0,     -999.0,9,     -999.0,9,     -999.0,     -999.0,9,     -999.0,     -999.0,9,     -999.0,     -999.0,       5.25,2,       2.08,2,       2.08,2,     -999.0,9,     -999.0,9,     -999.0,9,     -999.0,9,     -999.0,9
33RO20161119,        P18,     130,          2,          4,      11103,2,20170104,       1830,   -31.0000,  -102.9993,       3461,  2865.9,   1.7885,  34.6815,2,  34.6804,2,    164.8,2,   164.0,2,   116.6,6,    34.7,6,    0.01,6,   2.400,6,   0.0033,2,   0.0014,2,   0.0000,2,  2293.9,2,  2388.8,2,   7.5791,2,    25.00, -999.00,9,  -999.0,9,  -999.0,   0.0184,2, -999.00,9,  -999.0,9, -999.00,9, -999.00,9,    20.7745,2,     5.2,2,  -999.0,9,     -999.0,     -999.0,9,     -999.0,9,     -999.0,     -999.0,9,     -999.0,     -999.0,9,     -999.0,     -999.0,        5.2,2,       2.08,2,       2.08,2,     -999.0,9,     -999.0,9,     -999.0,9,     -999.0,9,     -999.0,9
33RO20161119,        P18,     130,          2,          5,      11104,2,20170104,       1830,   -31.0000,  -102.9993,       3461,  2590.4,   1.7987,  34.6745,2,  34.6733,2,    162.6,2,   162.0,2,   117.2,2,    34.8,2,    0.00,2,   2.414,2,   0.0048,2,   0.0029,2,   0.0000,2,  2296.3,2,  2388.1,2,   7.5762,2,    25.00, -999.00,9,  -999.0,9,  -999.0,   0.0543,2, -999.00,9,  -999.0,9, -999.00,9, -999.00,9,    20.5615,2,    5.16,2,  -999.0,9,     -999.0,     -999.0,9,     -999.0,9,     -999.0,     -999.0,9,     -999.0,     -999.0,9,     -999.0,     -999.0,       5.16,2,       1.98,2,       1.98,2,     -999.0,9,     -999.0,9,     -999.0,9,     -999.0,9,     -999.0,9
33RO20161119,        P18,     130,          2,          6,      11105,2,20170104,       1830,   -31.0000,  -102.9993,       3461,  2311.0,   1.8613,  34.6658,2,  34.6652,2,    160.5,2,   160.3,2,   114.9,2,    34.9,2,    0.01,2,   2.416,2,   0.0066,2,   0.0037,2,   0.0000,2,  2294.8,2,  2386.8,2,   7.5694,2,    25.00, -999.00,9,  -999.0,9,  -999.0,    0.227,2, -999.00,9,  -999.0,9, -999.00,9, -999.00,9,    21.2999,2,    5.27,2,  -999.0,9,     -999.0,     -999.0,9,     -999.0,9,     -999.0,     -999.0,9,     -999.0,     -999.0,9,     -999.0,     -999.0,       5.27,2,       2.05,2,       2.05,2,     -999.0,9,18.80043754,2,        8.7,2,      49.66,2,       21.8,2
33RO20161119,        P18,     130,          2,          7,      11106,2,20170104,       1830,   -31.0000,  -102.9993,       3461,  2030.2,   2.0898,  34.6431,2,  34.6421,2,    157.4,2,   156.8,2,   105.6,2,    35.1,2,    0.01,2,   2.439,2,   0.0132,2,   0.0075,2,   0.0467,2,  2289.1,2,  2378.5,2,   7.5601,2,    25.00, -999.00,9,  -999.0,9,  -999.0,   0.6882,2, -999.00,9,  -999.0,9, -999.00,9, -999.00,9,    22.6762,2,    5.32,2,  -999.0,9,     -999.0,     -999.0,9,     -999.0,9,     -999.0,     -999.0,9,     -999.0,     -999.0,9,     -999.0,     -999.0,       5.32,2,       2.06,2,       2.06,2,     -999.0,9,     -999.0,9,     -999.0,9,     -999.0,9,     -999.0,9
33RO20161119,        P18,     130,          2,          8,      11107,2,20170104,       1830,   -31.0000,  -102.9993,       3461,  1749.9,   2.4313,  34.5952,2,  34.5945,2,    151.6,2,   151.6,2,    95.0,2,    35.7,2,    0.00,2,   2.479,2,   0.0104,2,   0.0052,2,   0.0000,2,  2282.6,2,  2365.0,2,   7.5485,2,    25.00, -999.00,9,  -999.0,9,  -999.0,   1.5296,2, -999.00,9,  -999.0,9, -999.00,9, -999.00,9,    23.4135,2,    5.48,2,  -999.0,9,     -999.0,     -999.0,9,     -999.0,9,     -999.0,     -999.0,9,     -999.0,     -999.0,9,     -999.0,     -999.0,       5.48,2,       2.15,2,       2.15,2,     -999.0,9,19.94068728,2,       8.99,2,       48.4,2,       21.9,2
33RO20161119,        P18,     130,          2,          9,      11108,2,20170104,       1830,   -31.0000,  -102.9993,       3461,  1434.9,   3.0674,  34.5347,2,  34.5334,2,    130.5,2,   129.5,2,    83.9,2,    37.8,2,    0.00,2,   2.612,2,   0.0041,2,   0.0016,2,   0.0000,2,  2284.9,2,  2349.3,2,   7.5098,2,    25.00, -999.00,9,  -999.0,9,  -999.0,   2.2053,2, -999.00,9,  -999.0,9, -999.00,9, -999.00,9,    27.0618,2,     6.0,2,  -999.0,9,     -999.0,     -999.0,9,     -999.0,9,     -999.0,     -999.0,9,     -999.0,     -999.0,9,     -999.0,     -999.0,        6.0,2,        2.3,2,        2.3,2,     -999.0,9,     -999.0,9,     -999.0,9,     -999.0,9,     -999.0,9
33RO20161119,        P18,     130,          2,         10,      11109,2,20170104,       1830,   -31.0000,  -102.9993,       3461,  1265.0,   3.5241,  34.4929,2,  34.4916,2,    122.9,2,   121.6,2,    72.9,2,    38.5,2,    0.00,2,   2.668,2,   0.0139,2,   0.0076,2,   0.0267,2,  2276.3,2,  2338.6,2,   7.4916,2,    25.00, -999.00,9,  -999.0,9,  -999.0,   2.3132,2, -999.00,9,  -999.0,9, -999.00,9, -999.00,9,    28.9549,2,    6.22,2,  -999.0,9,     -999.0,     -999.0,9,     -999.0,9,     -999.0,     -999.0,9,     -999.0,     -999.0,9,     -999.0,     -999.0,       6.22,2,       2.27,2,       2.27,2,     -999.0,9,24.42107192,2,       8.99,2,      48.79,2,      21.61,2
33RO20161119,        P18,     130,          2,         11,      11110,2,20170104,       1830,   -31.0000,  -102.9993,       3461,  1129.6,   3.8044,  34.4262,2,  34.4249,2,    134.2,2,   129.5,2,    57.5,2,    37.6,2,    0.01,2,   2.596,2,   0.0892,2,   0.0478,2,   0.0000,2,  2256.5,2,  2321.2,6,   7.5035,2,    25.00, -999.00,9,  -999.0,9,  -999.0,   2.3796,2, -999.00,9,  -999.0,9, -999.00,9, -999.00,9,    28.6661,2,    6.23,2,  -999.0,9,     -999.0,     -999.0,9,     -999.0,9,     -999.0,     -999.0,9,     -999.0,     -999.0,9,     -999.0,     -999.0,       6.23,2,       2.34,2,       2.34,2,     -999.0,9,23.52643168,2,       8.58,2,      46.94,2,      19.61,2
33RO20161119,        P18,     130,          2,         12,      11111,2,20170104,       1830,   -31.0000,  -102.9993,       3461,  1010.3,   4.1275,  34.3490,2,  34.3467,2,    164.7,2,   164.1,2,    40.2,2,    35.0,2,    0.00,2,   2.412,2,   0.4807,2,   0.2401,2,   0.0801,2,  2222.8,2,  2301.7,2,   7.5452,2,    25.00, -999.00,9,  -999.0,9,  -999.0,    2.509,2, -999.00,9,  -999.0,9, -999.00,9, -999.00,9,    25.0408,2,    6.07,2,  -999.0,9,     -999.0,     -999.0,9,     -999.0,9,     -999.0,     -999.0,9,     -999.0,     -999.0,9,     -999.0,     -999.0,       6.07,2,        2.4,2,        2.4,2,     -999.0,9,21.33940991,2,       8.27,2,      46.39,2,      17.35,2
33RO20161119,        P18,     130,          2,         13,      11112,2,20170104,       1830,   -31.0000,  -102.9993,       3461,   890.1,   4.7190,  34.2910,2,  34.2898,2,    195.4,2,   194.2,2,    25.1,2,    31.6,2,    0.00,2,   2.173,2,   1.5145,2,   0.7295,2,   0.2128,2,  2192.5,2,  2287.8,2,   7.5944,2,    25.00, -999.00,9,  -999.0,9,  -999.0,   1.9676,2, -999.00,9,  -999.0,9, -999.00,9, -999.00,9,    22.4667,2,    6.03,2,  -999.0,9,     -999.0,     -999.0,9,     -999.0,9,     -999.0,     -999.0,9,     -999.0,     -999.0,9,     -999.0,     -999.0,       6.03,2,       2.67,2,       2.67,2,     -999.0,9,18.76239688,2,       7.85,2,      45.27,2,      15.93,2
33RO20161119,        P18,     130,          2,         14,      11113,2,20170104,       1830,   -31.0000,  -102.9993,       3461,   769.9,   5.2092,  34.2616,2,  34.2600,2,    222.9,2,   222.2,2,    15.3,2,    28.3,2,    0.00,2,   1.947,2,   2.7552,2,   1.3575,2,   0.5091,2,  2167.7,2,  2279.1,2,   7.6431,2,    25.00, -999.00,9,  -999.0,9,  -999.0,   1.2376,2, -999.00,9,  -999.0,9, -999.00,9, -999.00,9,    18.6547,2,    5.96,2,  -999.0,9,     -999.0,     -999.0,9,     -999.0,9,     -999.0,     -999.0,9,     -999.0,     -999.0,9,     -999.0,     -999.0,       5.96,2,       2.88,2,       2.88,2,     -999.0,9,16.30510345,2,       7.47,2,       43.9,2,      19.19,2
33RO20161119,        P18,     130,          2,         15,      11114,2,20170104,       1830,   -31.0000,  -102.9993,       3461,   660.3,   5.6815,  34.2645,2,  34.2634,2,    236.7,2,   236.7,2,    10.7,2,    25.9,2,    0.00,2,   1.778,2,   3.5866,2,   1.8046,2,   0.8273,2,  2154.6,2,  2277.7,2,   7.6701,2,    25.00, -999.00,9,  -999.0,9,  -999.0,    0.775,2, -999.00,9,  -999.0,9, -999.00,9, -999.00,9,     17.157,2,    5.97,2,  -999.0,9,     -999.0,     -999.0,9,     -999.0,9,     -999.0,     -999.0,9,     -999.0,     -999.0,9,     -999.0,     -999.0,       5.97,2,       3.16,2,       3.16,2,     -999.0,9,15.25119515,2,       7.25,2,      43.56,2,      19.92,2
33RO20161119,        P18,     130,          2,         16,      11115,2,20170104,       1830,   -31.0000,  -102.9993,       3461,   550.1,   6.2341,  34.2886,2,  34.2866,2,    239.7,2,   237.4,2,     8.6,2,    24.5,2,    0.01,2,   1.688,2,   3.8922,6,   2.0217,6,   1.0912,6,  2150.2,2,  2276.7,2,   7.6711,2,    25.00, -999.00,9,  -999.0,9,  -999.0,   1.2466,2, -999.00,9,  -999.0,9, -999.00,9, -999.00,9,    18.4495,2,    5.97,2,  -999.0,9,     -999.0,     -999.0,9,     -999.0,9,     -999.0,     -999.0,9,     -999.0,     -999.0,9,     -999.0,     -999.0,       5.97,2,       3.39,2,       3.39,2,     -999.0,9,15.82323113,2,       6.62,2,       43.0,2,      18.81,2
33RO20161119,        P18,     130,          2,         17,      11116,2,20170104,       1830,   -31.0000,  -102.9993,       3461,   454.8,   6.8476,  34.3029,2,  34.3014,2,    211.7,2,   210.3,2,     8.8,2,    25.3,2,    0.01,2,   1.790,2,   3.6527,2,   1.9194,2,   1.1075,2,  2165.3,2,  2275.4,2,   7.6360,2,    25.00, -999.00,9,  -999.0,9,  -999.0,   1.8233,2, -999.00,9,  -999.0,9, -999.00,9, -999.00,9,    24.4184,2,    6.48,2,  -999.0,9,     -999.0,     -999.0,9,     -999.0,9,     -999.0,     -999.0,9,     -999.0,     -999.0,9,     -999.0,     -999.0,       6.48,2,       3.83,2,       3.83,2,     -999.0,9,20.85354233,2,        6.6,2,      43.41,2,      12.04,2
33RO20161119,        P18,     130,          2,         18,      11117,2,20170104,       1830,   -31.0000,  -102.9993,       3461,   355.3,   8.5728,  34.2583,2,  34.2545,2,    209.3,2,   219.6,2,     4.0,2,    20.1,2,    0.02,2,   1.475,2,   3.6651,2,   2.0265,2,   1.4974,2,  2138.3,6,  2266.1,2,   7.6941,2,    25.00, -999.00,9,  -999.0,9,  -999.0,   2.0542,2, -999.00,9,  -999.0,9, -999.00,9, -999.00,9,    24.7511,2,    7.14,2,  -999.0,9,     -999.0,     -999.0,9,     -999.0,9,     -999.0,     -999.0,9,     -999.0,     -999.0,9,     -999.0,     -999.0,       7.21,2,       4.41,2,       4.31,2,     -999.0,9, 20.8457229,2,        6.1,2,      39.83,2,       8.76,2
33RO20161119,        P18,     130,          2,         19,      11083,2,20170104,       1830,   -31.0000,  -102.9993,       3461,   275.2,  11.5725,  34.4081,2,  34.3960,2,    215.5,2,   214.3,2,     1.4,2,    12.5,2,    0.01,2,   0.994,2,   3.2042,2,   1.8490,2,   1.5777,2,  2106.7,2,  2269.0,2,   7.7762,2,    25.00, -999.00,9,  -999.0,9,  -999.0,   1.9508,2, -999.00,9,  -999.0,9, -999.00,9, -999.00,9,    17.2387,2,    8.97,2,  -999.0,9,     -999.0,     -999.0,9,     -999.0,9,     -999.0,     -999.0,9,     -999.0,     -999.0,9,     -999.0,     -999.0,       8.98,2,       4.68,2,       4.66,2,     -999.0,9,14.97618267,2,       6.69,2,      40.24,2,       9.61,2
33RO20161119,        P18,     130,          2,         20,      11118,2,20170104,       1830,   -31.0000,  -102.9993,       3461,   199.9,  14.9617,  34.7132,2,  34.7031,2,    224.2,2,   222.7,2,     0.5,2,     3.3,2,    0.18,2,   0.460,2,   2.6456,2,   1.5889,2,   1.7482,2,  2073.0,2,  2284.2,2,   7.8822,2,    25.00, -999.00,9,  -999.0,9,  -999.0,   0.0478,2, -999.00,9,  -999.0,9, -999.00,9, -999.00,9,    10.2514,2,   11.41,2,  -999.0,9,     -999.0,     -999.0,9,     -999.0,9,     -999.0,     -999.0,9,     -999.0,     -999.0,9,     -999.0,     -999.0,      10.99,2,       7.02,2,       6.31,2,     -999.0,9,9.155440669,2,       6.76,2,      41.74,2,      18.55,2
33RO20161119,        P18,     130,          2,         21,      11119,2,20170104,       1830,   -31.0000,  -102.9993,       3461,   134.7,  16.4872,  34.7424,2,  34.7409,2,    242.7,2,   241.8,6,     0.3,2,     0.1,2,    0.03,2,   0.209,2,   2.4303,2,   1.4793,2,   1.8280,2,  2043.2,2,  2289.5,2,   7.9438,6,    25.00, -999.00,9,  -999.0,9,  -999.0,   0.0528,2, -999.00,9,  -999.0,9, -999.00,9, -999.00,9,      8.194,2, -999.00,9,  -999.0,9,     -999.0,     -999.0,9,     -999.0,9,     -999.0,     -999.0,9,     -999.0,     -999.0,9,     -999.0,     -999.0,     -999.0,9,     -999.0,9,     -999.0,9,     -999.0,9,7.856797532,2,       7.05,2,      45.95,2,      20.68,2
33RO20161119,        P18,     130,          2,         22,      11120,2,20170104,       1830,   -31.0000,  -102.9993,       3461,    70.1,  18.6275,  35.0550,2,  35.0242,2,    238.8,2,   245.8,2,     0.3,2,     0.0,2,    0.01,2,   0.150,2,   2.3046,2,   1.3994,2,   1.7748,2,  2045.9,2,  2304.7,6,   7.9663,2,    25.00, -999.00,9,  -999.0,9,  -999.0,   1.1202,2, -999.00,9,  -999.0,9, -999.00,9, -999.00,9,     8.1158,2, -999.00,9,  -999.0,9,     -999.0,     -999.0,9,     -999.0,9,     -999.0,     -999.0,9,     -999.0,     -999.0,9,     -999.0,     -999.0,     -999.0,9,     -999.0,9,     -999.0,9,     -999.0,9,7.496563628,2,       6.74,2,      46.23,2,      17.97,2
33RO20161119,        P18,     130,          2,         23,      11121,2,20170104,       1830,   -31.0000,  -102.9993,       3461,    29.8,  22.1397,  35.2833,2,-999.0000,9,    220.0,2,   221.1,2,     0.3,2,     0.0,2,    0.00,2,   0.168,2,   1.9249,2,   1.1965,2,   1.5821,2,  2054.5,6,  2319.0,2,   7.9761,2,    25.00, -999.00,9,  -999.0,9,  -999.0,   1.8345,2, -999.00,9,  -999.0,9, -999.00,9, -999.00,9,     7.0126,2, -999.00,9,  -999.0,9,     -999.0,     -999.0,9,     -999.0,9,     -999.0,     -999.0,9,     -999.0,     -999.0,9,     -999.0,     -999.0,     -999.0,9,     -999.0,9,     -999.0,9,     -999.0,9,6.789563962,2,       7.02,2,      49.92,2,      19.92,2
33RO20161119,        P18,     130,          2,         24,      11122,2,20170104,       1830,   -31.0000,  -102.9993,       3461,     2.9,  22.7542,  35.1301,2,  35.1403,2,    219.0,2,   219.7,2,     0.4,2,     0.0,2,    0.00,2,   0.169,2,   1.8942,2,   1.1935,2,   1.5493,2,  2048.2,2,  2311.7,2,   7.9730,2,    25.00, -999.00,9,  -999.0,9,  -999.0,   2.1874,2, -999.00,9,  -999.0,9, -999.00,9, -999.00,9,     6.7081,2, -999.00,9,  -999.0,9,     -999.0,     -999.0,9,     -999.0,9,     -999.0,     -999.0,9,     -999.0,     -999.0,9,     -999.0,     -999.0,     -999.0,9,     -999.0,9,     -999.0,9,     -999.0,9,6.713387839,2,       6.88,2,      45.47,2,      18.64,2