BOTTLE,20230606CCHSIOCBG
EXPOCODE,SECT_ID,STNNBR,CASTNO,SAMPNO,BTLNBR,BTLNBR_FLAG_W,DATE,TIME,LATITUDE,LONGITUDE,DEPTH,CTDPRS,CTDTMP,CTDSAL,CTDSAL_FLAG_W,SALNTY,SALNTY_FLAG_W,CTDOXY,CTDOXY_FLAG_W,OXYGEN,OXYGEN_FLAG_W,SILCAT,SILCAT_FLAG_W,NITRAT,NITRAT_FLAG_W,NITRIT,NITRIT_FLAG_W,PHSPHT,PHSPHT_FLAG_W,CFC-11,CFC-11_FLAG_W,CFC-12,CFC-12_FLAG_W,SF6,SF6_FLAG_W,TCARBN,TCARBN_FLAG_W,ALKALI,ALKALI_FLAG_W,PH_SWS,PH_SWS_FLAG_W,PH_TMP,DELC13,DELC13_FLAG_W,DELC14,DELC14_FLAG_W,C14ERR,CCL4,CCL4_FLAG_W,POC,POC_FLAG_W,DOC,DOC_FLAG_W,TDN,TDN_FLAG_W,PON,PON_FLAG_W,N2O,N2O_FLAG_W,D15N_NO3,D15N_NO3_FLAG_W,14C-DOC,14C-DOC_FLAG_W,14C-DOCERR,13C-DOC,13C-DOC_FLAG_W,N2/ARGON_UNSTRIPPED,N2/ARGON_UNSTRIPPED_FLAG_W,N2/ARGON_UNSTRIPPED_ERROR,N2/ARGON,N2/ARGON_FLAG_W,N2/ARGON_ERROR,D15N_N2,D15N_N2_FLAG_W,D15N_N2_ERROR,D15N_NO3_ERROR,D15N_NO2+NO3,D15N_NO2+NO3_FLAG_W,D18O_NO2+NO3,D18O_NO2+NO3_FLAG_W,D18O_NO3,D18O_NO3_FLAG_W,TDP,TDP_FLAG_W,N2O_ALT_1,N2O_ALT_1_FLAG_W,D15N_N2O,D15N_N2O_FLAG_W,D18O_N2O,D18O_N2O_FLAG_W,D15N_ALPHA_N2O,D15N_ALPHA_N2O_FLAG_W
,,,,,,,,,,,METERS,DBAR,ITS-90,PSS-78,,PSS-78,,UMOL/KG,,UMOL/KG,,UMOL/KG,,UMOL/KG,,UMOL/KG,,UMOL/KG,,PMOL/KG,,PMOL/KG,,FMOL/KG,,UMOL/KG,,UMOL/KG,,,,DEG C,/MILLE,,/MILLE,,/MILLE,PMOL/KG,,UG/KG,,UMOL/KG,,UMOL/KG,,UG/KG,,NMOL/KG,,/MILLE,,/MILLE,,/MILLE,/MILLE,,,,,,,,/MILLE,,/MILLE,/MILLE,/MILLE,,/MILLE,,/MILLE,,UMOL/KG,,NMOL/L,,/MILLE,,/MILLE,,/MILLE,
33RO20161119,        P18,     201,          1,          1,      11010,2,20170124,       0808,   -66.5003,  -103.0006,       4785,  4875.7,   0.4196,  34.7000,2,  34.7042,3,    213.5,2,   213.9,2,   143.6,2,    33.3,2,    0.01,2,   2.279,2,   0.4529,2,   0.2134,2,   0.0920,2,  2263.7,6,  2361.2,2,   7.5881,2,    25.00, -999.00,9,  -999.0,9,  -999.0,   0.2905,2, -999.00,9,  -999.0,9, -999.00,9, -999.00,9,    18.3014,2, -999.00,9,  -999.0,9,     -999.0,     -999.0,9,     -999.0,9,     -999.0,     -999.0,9,     -999.0,     -999.0,9,     -999.0,     -999.0,     -999.0,9,     -999.0,9,     -999.0,9,     -999.0,9,     -999.0,9,     -999.0,9,     -999.0,9,     -999.0,9
33RO20161119,        P18,     201,          1,          2,      11101,2,20170124,       0808,   -66.5003,  -103.0006,       4785,  4562.3,   0.4042,  34.7009,2,  34.6997,2,    213.9,2,   213.9,2,   138.8,2,    33.1,2,    0.01,2,   2.259,2,   0.4040,2,   0.1877,2,   0.0995,2,  2260.3,2,  2362.7,2,   7.5864,2,    25.00, -999.00,9,  -999.0,9,  -999.0,   0.2686,2, -999.00,9,  -999.0,9, -999.00,9, -999.00,9,    18.4585,2, -999.00,9,  -999.0,9,     -999.0,     -999.0,9,     -999.0,9,     -999.0,     -999.0,9,     -999.0,     -999.0,9,     -999.0,     -999.0,     -999.0,9,     -999.0,9,     -999.0,9,     -999.0,9,     -999.0,9,     -999.0,9,     -999.0,9,     -999.0,9
33RO20161119,        P18,     201,          1,          3,      11102,2,20170124,       0808,   -66.5003,  -103.0006,       4785,  4249.5,   0.4132,  34.7022,2,  34.7152,4,    213.3,2,   214.1,2,   136.1,6,    33.0,6,    0.01,6,   2.263,6,   0.3431,2,   0.1639,2,   0.0680,2,  2259.3,2,  2361.7,2,   7.5896,2,    25.00, -999.00,9,  -999.0,9,  -999.0,   0.2088,2, -999.00,9,  -999.0,9, -999.00,9, -999.00,9,    18.3652,2, -999.00,9,  -999.0,9,     -999.0,     -999.0,9,     -999.0,9,     -999.0,     -999.0,9,     -999.0,     -999.0,9,     -999.0,     -999.0,     -999.0,9,     -999.0,9,     -999.0,9,     -999.0,9,     -999.0,9,     -999.0,9,     -999.0,9,     -999.0,9
33RO20161119,        P18,     201,          1,          4,      11103,2,20170124,       0808,   -66.5003,  -103.0006,       4785,  3849.6,   0.4633,  34.7032,2,  34.7058,2,    212.2,2,   211.8,2,   132.4,6,    32.9,6,    0.01,6,   2.248,6,   0.2832,2,   0.1356,2,   0.0432,2,  2259.9,2,  2359.7,6,   7.5907,6,    25.00, -999.00,9,  -999.0,9,  -999.0,   0.2309,2, -999.00,9,  -999.0,9, -999.00,9, -999.00,9,    18.3862,2, -999.00,9,  -999.0,9,     -999.0,     -999.0,9,     -999.0,9,     -999.0,     -999.0,9,     -999.0,     -999.0,9,     -999.0,     -999.0,     -999.0,9,     -999.0,9,     -999.0,9,     -999.0,9,     -999.0,9,     -999.0,9,     -999.0,9,     -999.0,9
33RO20161119,        P18,     201,          1,          5,      11104,2,20170124,       0808,   -66.5003,  -103.0006,       4785,  3450.8,   0.5632,  34.7046,2,  34.7123,4,    209.2,2,   209.4,2,   128.2,6,    32.8,6,    0.01,6,   2.239,6,   0.2637,2,   0.1265,2,   0.0618,2,  2257.7,2,  2362.7,2,   7.5892,2,    25.00, -999.00,9,  -999.0,9,  -999.0,   0.2685,2, -999.00,9,  -999.0,9, -999.00,9, -999.00,9,    18.3749,2, -999.00,9,  -999.0,9,     -999.0,     -999.0,9,     -999.0,9,     -999.0,     -999.0,9,     -999.0,     -999.0,9,     -999.0,     -999.0,     -999.0,9,     -999.0,9,     -999.0,9,     -999.0,9,     -999.0,9,     -999.0,9,     -999.0,9,     -999.0,9
33RO20161119,        P18,     201,          1,          6,      11105,2,20170124,       0808,   -66.5003,  -103.0006,       4785,  3059.1,   0.7108,  34.7076,2,  34.7093,2,    205.8,2,   206.1,2,   125.0,6,    32.7,6,    0.01,6,   2.234,6,-999.0000,9,-999.0000,9,-999.0000,9,  2258.3,2,  2357.3,2,   7.5890,2,    25.00, -999.00,9,  -999.0,9,  -999.0,-999.0000,9, -999.00,9,  -999.0,9, -999.00,9, -999.00,9,     -999.0,9, -999.00,9,  -999.0,9,     -999.0,     -999.0,9,     -999.0,9,     -999.0,     -999.0,9,     -999.0,     -999.0,9,     -999.0,     -999.0,     -999.0,9,     -999.0,9,     -999.0,9,     -999.0,9,     -999.0,9,     -999.0,9,     -999.0,9,     -999.0,9
33RO20161119,        P18,     201,          1,          7,      11106,2,20170124,       0808,   -66.5003,  -103.0006,       4785,  2680.9,   0.8413,  34.7121,2,  34.7113,2,    203.8,2,   203.5,2,   121.2,2,    32.5,2,    0.01,2,   2.237,2,   0.1682,6,   0.0807,6,   0.0191,6,  2258.4,2,  2359.4,2,   7.5920,2,    25.00, -999.00,9,  -999.0,9,  -999.0,   0.3407,2, -999.00,9,  -999.0,9, -999.00,9, -999.00,9,    18.6604,2, -999.00,9,  -999.0,9,     -999.0,     -999.0,9,     -999.0,9,     -999.0,     -999.0,9,     -999.0,     -999.0,9,     -999.0,     -999.0,     -999.0,9,     -999.0,9,     -999.0,9,     -999.0,9,     -999.0,9,     -999.0,9,     -999.0,9,     -999.0,9
33RO20161119,        P18,     201,          1,          8,      11107,2,20170124,       0808,   -66.5003,  -103.0006,       4785,  2300.8,   0.9901,  34.7180,2,  34.7192,2,    201.1,2,   200.7,2,   115.6,2,    32.4,2,    0.01,2,   2.223,2,-999.0000,9,-999.0000,9,-999.0000,9,  2256.5,2,  2359.4,2,   7.5951,2,    25.00, -999.00,9,  -999.0,9,  -999.0,-999.0000,9, -999.00,9,  -999.0,9, -999.00,9, -999.00,9,     -999.0,9, -999.00,9,  -999.0,9,     -999.0,     -999.0,9,     -999.0,9,     -999.0,     -999.0,9,     -999.0,     -999.0,9,     -999.0,     -999.0,     -999.0,9,     -999.0,9,     -999.0,9,     -999.0,9,     -999.0,9,     -999.0,9,     -999.0,9,     -999.0,9
33RO20161119,        P18,     201,          1,          9,      11108,2,20170124,       0808,   -66.5003,  -103.0006,       4785,  1920.4,   1.1683,  34.7246,2,  34.7229,2,    197.4,2,   197.6,2,   108.6,2,    32.2,2,    0.01,2,   2.217,2,   0.1298,2,   0.0625,2,   0.0000,2,  2255.7,2,  2359.4,2,   7.5911,2,    25.00, -999.00,9,  -999.0,9,  -999.0,   1.3153,2, -999.00,9,  -999.0,9, -999.00,9, -999.00,9,    19.0017,2, -999.00,9,  -999.0,9,     -999.0,     -999.0,9,     -999.0,9,     -999.0,     -999.0,9,     -999.0,     -999.0,9,     -999.0,     -999.0,     -999.0,9,     -999.0,9,     -999.0,9,     -999.0,9,     -999.0,9,     -999.0,9,     -999.0,9,     -999.0,9
33RO20161119,        P18,     201,          1,         10,      11109,2,20170124,       0808,   -66.5003,  -103.0006,       4785,  1680.0,   1.3115,  34.7293,2,  34.7302,2,    195.0,2,   195.2,2,   104.7,2,    32.0,2,    0.01,2,   2.207,2,-999.0000,9,-999.0000,9,-999.0000,9,  2255.4,2,  2357.2,2,   7.5929,2,    25.00, -999.00,9,  -999.0,9,  -999.0,-999.0000,9, -999.00,9,  -999.0,9, -999.00,9, -999.00,9,     -999.0,9, -999.00,9,  -999.0,9,     -999.0,     -999.0,9,     -999.0,9,     -999.0,     -999.0,9,     -999.0,     -999.0,9,     -999.0,     -999.0,     -999.0,9,     -999.0,9,     -999.0,9,     -999.0,9,     -999.0,9,     -999.0,9,     -999.0,9,     -999.0,9
33RO20161119,        P18,     201,          1,         11,      11110,2,20170124,       0808,   -66.5003,  -103.0006,       4785,  1501.7,   1.4243,  34.7321,2,  34.7310,2,    193.0,2,   193.0,2,   100.8,2,    32.0,2,    0.01,2,   2.169,2,   0.1529,2,   0.0727,2,   0.0537,2,  2254.0,2,  2354.7,2,   7.5916,2,    25.00, -999.00,9,  -999.0,9,  -999.0,   1.8766,2, -999.00,9,  -999.0,9, -999.00,9, -999.00,9,    19.1483,2, -999.00,9,  -999.0,9,     -999.0,     -999.0,9,     -999.0,9,     -999.0,     -999.0,9,     -999.0,     -999.0,9,     -999.0,     -999.0,     -999.0,9,     -999.0,9,     -999.0,9,     -999.0,9,     -999.0,9,     -999.0,9,     -999.0,9,     -999.0,9
33RO20161119,        P18,     201,          1,         12,      11111,2,20170124,       0808,   -66.5003,  -103.0006,       4785,  1329.7,   1.5542,  34.7333,2,  34.7323,2,    190.9,2,   191.4,6,    96.8,2,    31.8,2,    0.01,2,   2.183,2,-999.0000,9,-999.0000,9,-999.0000,9,  2253.5,2,  2352.9,2,   7.5884,2,    25.00, -999.00,9,  -999.0,9,  -999.0,-999.0000,9, -999.00,9,  -999.0,9, -999.00,9, -999.00,9,     -999.0,9, -999.00,9,  -999.0,9,     -999.0,     -999.0,9,     -999.0,9,     -999.0,     -999.0,9,     -999.0,     -999.0,9,     -999.0,     -999.0,     -999.0,9,     -999.0,9,     -999.0,9,     -999.0,9,     -999.0,9,     -999.0,9,     -999.0,9,     -999.0,9
33RO20161119,        P18,     201,          1,         13,      11112,2,20170124,       0808,   -66.5003,  -103.0006,       4785,  1170.1,   1.6851,  34.7325,2,  34.7328,2,    188.4,2,   189.0,2,    93.0,2,    31.8,2,    0.01,2,   2.183,2,   0.1853,2,   0.0898,2,   0.0294,2,  2252.8,2,  2354.3,2,   7.5870,2,    25.00, -999.00,9,  -999.0,9,  -999.0,    5.607,2, -999.00,9,  -999.0,9, -999.00,9, -999.00,9,    19.5454,2, -999.00,9,  -999.0,9,     -999.0,     -999.0,9,     -999.0,9,     -999.0,     -999.0,9,     -999.0,     -999.0,9,     -999.0,     -999.0,     -999.0,9,     -999.0,9,     -999.0,9,     -999.0,9,     -999.0,9,     -999.0,9,     -999.0,9,     -999.0,9
33RO20161119,        P18,     201,          1,         14,      11113,2,20170124,       0808,   -66.5003,  -103.0006,       4785,  1014.7,   1.8210,  34.7272,2,  34.7325,4,    185.6,2,   185.7,2,    89.2,2,    32.0,2,    0.01,2,   2.197,2,-999.0000,9,-999.0000,9,-999.0000,9,  2252.1,2,  2350.0,2,   7.5822,2,    25.00, -999.00,9,  -999.0,9,  -999.0,-999.0000,9, -999.00,9,  -999.0,9, -999.00,9, -999.00,9,     -999.0,9, -999.00,9,  -999.0,9,     -999.0,     -999.0,9,     -999.0,9,     -999.0,     -999.0,9,     -999.0,     -999.0,9,     -999.0,     -999.0,     -999.0,9,     -999.0,9,     -999.0,9,     -999.0,9,     -999.0,9,     -999.0,9,     -999.0,9,     -999.0,9
33RO20161119,        P18,     201,          1,         15,      11114,2,20170124,       0808,   -66.5003,  -103.0006,       4785,   863.0,   1.9270,  34.7148,2,  34.7160,2,    181.6,2,   181.7,2,    86.2,2,    32.3,2,    0.01,2,   2.213,2,   0.2691,2,   0.1339,2,   0.0547,2,  2252.3,2,  2347.4,2,   7.5754,2,    25.00, -999.00,9,  -999.0,9,  -999.0,   6.9596,2, -999.00,9,  -999.0,9, -999.00,9, -999.00,9,    20.4742,2, -999.00,9,  -999.0,9,     -999.0,     -999.0,9,     -999.0,9,     -999.0,     -999.0,9,     -999.0,     -999.0,9,     -999.0,     -999.0,     -999.0,9,     -999.0,9,     -999.0,9,     -999.0,9,     -999.0,9,     -999.0,9,     -999.0,9,     -999.0,9
33RO20161119,        P18,     201,          1,         16,      11115,2,20170124,       0808,   -66.5003,  -103.0006,       4785,   711.1,   2.0145,  34.6908,2,  34.6898,2,    177.1,2,   176.7,6,    83.7,2,    33.0,2,    0.01,2,   2.263,2,-999.0000,9,-999.0000,9,-999.0000,9,  2254.3,2,  2343.2,6,   7.5587,2,    25.00, -999.00,9,  -999.0,9,  -999.0,-999.0000,9, -999.00,9,  -999.0,9, -999.00,9, -999.00,9,     -999.0,9, -999.00,9,  -999.0,9,     -999.0,     -999.0,9,     -999.0,9,     -999.0,     -999.0,9,     -999.0,     -999.0,9,     -999.0,     -999.0,     -999.0,9,     -999.0,9,     -999.0,9,     -999.0,9,     -999.0,9,     -999.0,9,     -999.0,9,     -999.0,9
33RO20161119,        P18,     201,          1,         17,      11116,2,20170124,       0808,   -66.5003,  -103.0006,       4785,   590.9,   2.0614,  34.6607,2,  34.6727,2,    174.2,2,   174.5,2,    81.0,2,    33.6,2,    0.02,2,   2.293,2,   0.4943,2,   0.2448,2,   0.1674,2,  2254.0,2,  2340.7,2,   7.5502,2,    25.00, -999.00,9,  -999.0,9,  -999.0,   6.4494,2, -999.00,9,  -999.0,9, -999.00,9, -999.00,9,    21.8186,2, -999.00,9,  -999.0,9,     -999.0,     -999.0,9,     -999.0,9,     -999.0,     -999.0,9,     -999.0,     -999.0,9,     -999.0,     -999.0,     -999.0,9,     -999.0,9,     -999.0,9,     -999.0,9,     -999.0,9,     -999.0,9,     -999.0,9,     -999.0,9
33RO20161119,        P18,     201,          1,         18,      11117,2,20170124,       0808,   -66.5003,  -103.0006,       4785,   455.0,   2.1297,  34.6025,2,  34.6111,2,    174.1,2,   173.5,2,    76.9,2,    34.3,2,    0.02,2,   2.333,2,-999.0000,9,-999.0000,9,-999.0000,9,  2252.4,6,  2335.9,2,   7.5413,2,    25.00, -999.00,9,  -999.0,9,  -999.0,-999.0000,9, -999.00,9,  -999.0,9, -999.00,9, -999.00,9,     -999.0,9, -999.00,9,  -999.0,9,     -999.0,     -999.0,9,     -999.0,9,     -999.0,     -999.0,9,     -999.0,     -999.0,9,     -999.0,     -999.0,     -999.0,9,     -999.0,9,     -999.0,9,     -999.0,9,     -999.0,9,     -999.0,9,     -999.0,9,     -999.0,9
33RO20161119,        P18,     201,          1,         19,      11083,2,20170124,       0808,   -66.5003,  -103.0006,       4785,   340.2,   2.0756,  34.5218,2,  34.5220,2,    180.0,2,   179.4,2,    72.1,2,    34.9,2,    0.02,2,   2.390,2,   1.2147,2,   0.6209,2,   0.4743,2,  2250.9,2,  2329.6,2,   7.5318,2,    25.00, -999.00,9,  -999.0,9,  -999.0,   6.2091,2, -999.00,9,  -999.0,9, -999.00,9, -999.00,9,    23.1919,2, -999.00,9,  -999.0,9,     -999.0,     -999.0,9,     -999.0,9,     -999.0,     -999.0,9,     -999.0,     -999.0,9,     -999.0,     -999.0,     -999.0,9,     -999.0,9,     -999.0,9,     -999.0,9,     -999.0,9,     -999.0,9,     -999.0,9,     -999.0,9
33RO20161119,        P18,     201,          1,         20,      11118,2,20170124,       0808,   -66.5003,  -103.0006,       4785,   239.7,   2.0358,  34.3979,2,  34.3992,2,    204.1,2,   196.7,2,    63.2,2,    34.9,2,    0.02,2,   2.392,2,   2.0044,2,   1.0521,2,   0.8451,2,  2239.9,2,  2321.9,2,   7.5351,2,    25.00, -999.00,9,  -999.0,9,  -999.0,   0.5719,2, -999.00,9,  -999.0,9, -999.00,9, -999.00,9,    23.0868,2, -999.00,9,  -999.0,9,     -999.0,     -999.0,9,     -999.0,9,     -999.0,     -999.0,9,     -999.0,     -999.0,9,     -999.0,     -999.0,     -999.0,9,     -999.0,9,     -999.0,9,     -999.0,9,     -999.0,9,     -999.0,9,     -999.0,9,     -999.0,9
33RO20161119,        P18,     201,          1,         21,      11119,2,20170124,       0808,   -66.5003,  -103.0006,       4785,   150.8,  -0.3690,  34.0095,2,  34.0151,2,    308.8,2,   305.1,2,    42.6,2,    30.4,2,    0.04,2,   2.100,2,   5.1636,2,   2.7632,2,   3.0029,2,  2188.5,2,  2294.4,2,   7.6164,2,    25.00, -999.00,9,  -999.0,9,  -999.0,   0.5751,2, -999.00,9,  -999.0,9, -999.00,9, -999.00,9,     17.444,2, -999.00,9,  -999.0,9,     -999.0,     -999.0,9,     -999.0,9,     -999.0,     -999.0,9,     -999.0,     -999.0,9,     -999.0,     -999.0,     -999.0,9,     -999.0,9,     -999.0,9,       2.03,3,     -999.0,9,     -999.0,9,     -999.0,9,     -999.0,9
33RO20161119,        P18,     201,          1,         22,      11120,2,20170124,       0808,   -66.5003,  -103.0006,       4785,    70.2,  -1.1737,  33.7420,2,  33.7463,2,    350.7,2,   351.0,2,    31.5,2,    25.7,2,    0.29,2,   1.942,2,   6.3804,2,   3.3959,2,   3.8746,2,  2161.1,2,  2277.4,2,   7.6647,2,    25.00, -999.00,9,  -999.0,9,  -999.0,   0.4675,2, -999.00,9,  -999.0,9, -999.00,9, -999.00,9,    15.7088,2, -999.00,9,  -999.0,9,     -999.0,     -999.0,9,     -999.0,9,     -999.0,     -999.0,9,     -999.0,     -999.0,9,     -999.0,     -999.0,     -999.0,9,     -999.0,9,     -999.0,9,       2.21,2,     -999.0,9,     -999.0,9,     -999.0,9,     -999.0,9
33RO20161119,        P18,     201,          1,         23,      11121,2,20170124,       0808,   -66.5003,  -103.0006,       4785,    24.0,   1.5808,  33.6494,2,  33.6508,2,    346.9,2,   346.5,2,    11.2,2,    21.5,2,    0.33,2,   1.401,2,   5.8458,2,   3.1369,2,   3.6279,2,  2130.0,2,  2279.4,2,   7.7395,2,    25.00, -999.00,9,  -999.0,9,  -999.0,   0.4549,2, -999.00,9,  -999.0,9, -999.00,9, -999.00,9,     14.618,2, -999.00,9,  -999.0,9,     -999.0,     -999.0,9,     -999.0,9,     -999.0,     -999.0,9,     -999.0,     -999.0,9,     -999.0,     -999.0,     -999.0,9,     -999.0,9,     -999.0,9,       1.38,3,     -999.0,9,     -999.0,9,     -999.0,9,     -999.0,9
33RO20161119,        P18,     201,          1,         24,      11122,2,20170124,       0808,   -66.5003,  -103.0006,       4785,     3.1,   1.6600,  33.6508,2,  33.6610,2,    324.8,4,   345.5,2,    10.8,2,    21.5,2,    0.34,2,   1.368,2,   5.7992,2,   3.1328,2,   3.6101,2,  2127.4,6,  2276.5,6,   7.7377,6,    25.00, -999.00,9,  -999.0,9,  -999.0,   0.3791,2, -999.00,9,  -999.0,9, -999.00,9, -999.00,9,    14.5207,2, -999.00,9,  -999.0,9,     -999.0,     -999.0,9,     -999.0,9,     -999.0,     -999.0,9,     -999.0,     -999.0,9,     -999.0,     -999.0,     -999.0,9,     -999.0,9,     -999.0,9,       1.34,3,     -999.0,9,     -999.0,9,     -999.0,9,     -999.0,9