BOTTLE,20230606CCHSIOCBG
EXPOCODE,SECT_ID,STNNBR,CASTNO,SAMPNO,BTLNBR,BTLNBR_FLAG_W,DATE,TIME,LATITUDE,LONGITUDE,DEPTH,CTDPRS,CTDTMP,CTDSAL,CTDSAL_FLAG_W,SALNTY,SALNTY_FLAG_W,CTDOXY,CTDOXY_FLAG_W,OXYGEN,OXYGEN_FLAG_W,SILCAT,SILCAT_FLAG_W,NITRAT,NITRAT_FLAG_W,NITRIT,NITRIT_FLAG_W,PHSPHT,PHSPHT_FLAG_W,CFC-11,CFC-11_FLAG_W,CFC-12,CFC-12_FLAG_W,SF6,SF6_FLAG_W,TCARBN,TCARBN_FLAG_W,ALKALI,ALKALI_FLAG_W,PH_SWS,PH_SWS_FLAG_W,PH_TMP,DELC13,DELC13_FLAG_W,DELC14,DELC14_FLAG_W,C14ERR,CCL4,CCL4_FLAG_W,POC,POC_FLAG_W,DOC,DOC_FLAG_W,TDN,TDN_FLAG_W,PON,PON_FLAG_W,N2O,N2O_FLAG_W,D15N_NO3,D15N_NO3_FLAG_W,14C-DOC,14C-DOC_FLAG_W,14C-DOCERR,13C-DOC,13C-DOC_FLAG_W,N2/ARGON_UNSTRIPPED,N2/ARGON_UNSTRIPPED_FLAG_W,N2/ARGON_UNSTRIPPED_ERROR,N2/ARGON,N2/ARGON_FLAG_W,N2/ARGON_ERROR,D15N_N2,D15N_N2_FLAG_W,D15N_N2_ERROR,D15N_NO3_ERROR,D15N_NO2+NO3,D15N_NO2+NO3_FLAG_W,D18O_NO2+NO3,D18O_NO2+NO3_FLAG_W,D18O_NO3,D18O_NO3_FLAG_W,TDP,TDP_FLAG_W,N2O_ALT_1,N2O_ALT_1_FLAG_W,D15N_N2O,D15N_N2O_FLAG_W,D18O_N2O,D18O_N2O_FLAG_W,D15N_ALPHA_N2O,D15N_ALPHA_N2O_FLAG_W
,,,,,,,,,,,METERS,DBAR,ITS-90,PSS-78,,PSS-78,,UMOL/KG,,UMOL/KG,,UMOL/KG,,UMOL/KG,,UMOL/KG,,UMOL/KG,,PMOL/KG,,PMOL/KG,,FMOL/KG,,UMOL/KG,,UMOL/KG,,,,DEG C,/MILLE,,/MILLE,,/MILLE,PMOL/KG,,UG/KG,,UMOL/KG,,UMOL/KG,,UG/KG,,NMOL/KG,,/MILLE,,/MILLE,,/MILLE,/MILLE,,,,,,,,/MILLE,,/MILLE,/MILLE,/MILLE,,/MILLE,,/MILLE,,UMOL/KG,,NMOL/L,,/MILLE,,/MILLE,,/MILLE,
33RO20161119,        P18,      59,          1,          1,      11010,2,20161208,       0101,    -0.9997,  -110.0002,       3983,  4018.3,   1.4861,  34.6918,2,  34.6984,4,    156.5,2,   155.8,2,   142.9,6,    36.4,6,    0.00,6,   2.451,6,   0.0036,2,   0.0021,2,   0.0445,2,  2330.9,6,  2438.2,2,   7.5939,2,    25.00, -999.00,9,  -999.0,9,  -999.0,        0,2, -999.00,9,    37.4,2,   37.70,2, -999.00,9,    20.4981,2, -999.00,9,  -999.0,9,     -999.0,     -999.0,9,     -999.0,9,     -999.0,     -999.0,9,     -999.0,     -999.0,9,     -999.0,     -999.0,     -999.0,9,     -999.0,9,     -999.0,9,     -999.0,9,     -999.0,9,     -999.0,9,     -999.0,9,     -999.0,9
33RO20161119,        P18,      59,          1,          2,      11101,2,20161208,       0101,    -0.9997,  -110.0002,       3983,  3720.7,   1.4614,  34.6916,2,  34.6924,2,    154.7,2,   154.9,2,   143.0,6,    36.3,6,    0.00,6,   2.448,6,   0.0033,2,   0.0015,2,   0.0000,2,  2330.4,2,  2441.2,2,   7.5944,2,    25.00, -999.00,9,  -999.0,9,  -999.0,        0,2, -999.00,9,    38.0,2,   38.60,2, -999.00,9,    19.8582,2, -999.00,9,  -999.0,9,     -999.0,     -999.0,9,     -999.0,9,     -999.0,     -999.0,9,     -999.0,     -999.0,9,     -999.0,     -999.0,     -999.0,9,     -999.0,9,     -999.0,9,     -999.0,9,     -999.0,9,     -999.0,9,     -999.0,9,     -999.0,9
33RO20161119,        P18,      59,          1,          3,      11102,2,20161208,       0101,    -0.9997,  -110.0002,       3983,  3294.7,   1.5910,  34.6812,2,  34.6834,2,    141.3,2,   141.3,2,   143.7,6,    37.2,6,    0.00,6,   2.532,6,   0.0026,2,   0.0012,2,   0.0371,2,  2335.3,2,  2428.4,6,   7.5655,2,    25.00, -999.00,9,  -999.0,9,  -999.0,        0,2, -999.00,9,    38.5,2,   37.80,2, -999.00,9,    21.9943,2, -999.00,9,  -999.0,9,     -999.0,     -999.0,9,     -999.0,9,     -999.0,     -999.0,9,     -999.0,     -999.0,9,     -999.0,     -999.0,     -999.0,9,     -999.0,9,     -999.0,9,     -999.0,9,     -999.0,9,     -999.0,9,     -999.0,9,     -999.0,9
33RO20161119,        P18,      59,          1,          4,      11103,2,20161208,       0101,    -0.9997,  -110.0002,       3983,  2975.2,   1.6540,  34.6752,2,  34.6777,2,    136.7,2,   137.2,2,   141.2,6,    37.5,6,    0.00,6,   2.550,6,   0.0012,2,   0.0000,2,   0.0381,2,  2333.9,2,  2421.3,2,   7.5530,2,    25.00, -999.00,9,  -999.0,9,  -999.0,        0,2, -999.00,9,    38.5,2,   38.60,2, -999.00,9,    22.1943,2, -999.00,9,  -999.0,9,     -999.0,     -999.0,9,     -999.0,9,     -999.0,     -999.0,9,     -999.0,     -999.0,9,     -999.0,     -999.0,     -999.0,9,     -999.0,9,     -999.0,9,     -999.0,9,     -999.0,9,     -999.0,9,     -999.0,9,     -999.0,9
33RO20161119,        P18,      59,          1,          5,      11104,2,20161208,       0101,    -0.9997,  -110.0002,       3983,  2670.2,   1.8221,  34.6673,2,  34.6678,2,    124.9,2,   124.9,2,   142.8,2,    38.2,2,    0.00,2,   2.609,2,   0.0037,2,   0.0024,2,   0.0000,2,  2343.2,2,  2423.8,2,   7.5349,2,    25.00, -999.00,9,  -999.0,9,  -999.0,        0,2, -999.00,9,    38.0,2,   39.90,2, -999.00,9,    23.2561,2, -999.00,9,  -999.0,9,     -999.0,     -999.0,9,     -999.0,9,     -999.0,     -999.0,9,     -999.0,     -999.0,9,     -999.0,     -999.0,     -999.0,9,     -999.0,9,     -999.0,9,     -999.0,9,     -999.0,9,     -999.0,9,     -999.0,9,     -999.0,9
33RO20161119,        P18,      59,          1,          6,      11105,2,20161208,       0101,    -0.9997,  -110.0002,       3983,  2360.2,   1.9191,  34.6609,2,  34.6614,2,    118.1,2,   118.8,2,   141.8,2,    38.6,2,    0.00,2,   2.653,2,   0.0020,6,   0.0008,6,   0.0251,6,  2345.9,6,  2422.4,2,   7.5213,2,    25.00, -999.00,9,  -999.0,9,  -999.0,     0.01,2, -999.00,9,    36.6,2,   40.00,2, -999.00,9,     24.306,2, -999.00,9,  -999.0,9,     -999.0,     -999.0,9,     -999.0,9,     -999.0,     -999.0,9,     -999.0,     -999.0,9,     -999.0,     -999.0,     -999.0,9,     -999.0,9,     -999.0,9,     -999.0,9,     -999.0,9,     -999.0,9,     -999.0,9,     -999.0,9
33RO20161119,        P18,      59,          1,          7,      11106,2,20161208,       0101,    -0.9997,  -110.0002,       3983,  2059.8,   2.2679,  34.6468,2,  34.6466,2,    102.1,2,   102.2,2,   138.8,2,    39.5,2,    0.00,2,   2.742,2,   0.0041,2,   0.0026,2,   0.0576,2,  2351.9,2,  2420.2,2,   7.4989,2,    25.00, -999.00,9,  -999.0,9,  -999.0,        0,2, -999.00,9,    36.6,2,   43.20,2, -999.00,9,    26.2764,2, -999.00,9,  -999.0,9,     -999.0,     -999.0,9,     -999.0,9,     -999.0,     -999.0,9,     -999.0,     -999.0,9,     -999.0,     -999.0,     -999.0,9,     -999.0,9,     -999.0,9,     -999.0,9,     -999.0,9,     -999.0,9,     -999.0,9,     -999.0,9
33RO20161119,        P18,      59,          1,          8,      11107,2,20161208,       0101,    -0.9997,  -110.0002,       3983,  1749.7,   2.6105,  34.6273,2,  34.6291,2,     95.7,2,    95.5,2,   129.5,2,    40.0,2,    0.00,2,   2.796,2,   0.0028,2,   0.0020,2,   0.0667,2,  2344.3,2,  2406.6,2,   7.4814,2,    25.00, -999.00,9,  -999.0,9,  -999.0,        0,2, -999.00,9,    37.2,2,   41.80,2, -999.00,9,    28.2648,2, -999.00,9,  -999.0,9,     -999.0,     -999.0,9,     -999.0,9,     -999.0,     -999.0,9,     -999.0,     -999.0,9,     -999.0,     -999.0,     -999.0,9,     -999.0,9,     -999.0,9,     -999.0,9,     -999.0,9,     -999.0,9,     -999.0,9,     -999.0,9
33RO20161119,        P18,      59,          1,          9,      11108,2,20161208,       0101,    -0.9997,  -110.0002,       3983,  1475.2,   3.0813,  34.6021,2,  34.6051,2,     92.0,2,    91.7,2,   115.1,2,    40.3,2,    0.00,2,   2.830,2,   0.0025,2,   0.0025,2,   0.0000,2,  2331.5,2,  2389.2,2,   7.4710,2,    25.00, -999.00,9,  -999.0,9,  -999.0,   0.0123,2, -999.00,9,    38.6,2,   44.50,2, -999.00,9,    29.8689,2, -999.00,9,  -999.0,9,     -999.0,     -999.0,9,     -999.0,9,     -999.0,     -999.0,9,     -999.0,     -999.0,9,     -999.0,     -999.0,     -999.0,9,     -999.0,9,     -999.0,9,     -999.0,9,     -999.0,9,     -999.0,9,     -999.0,9,     -999.0,9
33RO20161119,        P18,      59,          1,         10,      11109,2,20161208,       0101,    -0.9997,  -110.0002,       3983,  1304.9,   3.5475,  34.5837,2,  34.5845,2,     87.9,2,    88.2,2,   103.9,2,    40.3,2,    0.00,2,   2.831,2,   0.0037,2,   0.0020,2,   0.0000,2,  2321.9,2,  2375.1,2,   7.4622,2,    25.00, -999.00,9,  -999.0,9,  -999.0,        0,2, -999.00,9,    39.6,2,   43.20,2, -999.00,9,    30.9593,2, -999.00,9,  -999.0,9,     -999.0,     -999.0,9,     -999.0,9,     -999.0,     -999.0,9,     -999.0,     -999.0,9,     -999.0,     -999.0,     -999.0,9,     -999.0,9,     -999.0,9,     -999.0,9,     -999.0,9,     -999.0,9,     -999.0,9,     -999.0,9
33RO20161119,        P18,      59,          1,         11,      11110,2,20161208,       0101,    -0.9997,  -110.0002,       3983,  1164.9,   3.9782,  34.5682,2,  34.5723,2,     86.2,2,    85.9,6,    93.1,2,    40.2,2,    0.00,2,   2.815,2,   0.0060,2,   0.0035,2,   0.0265,2,  2310.9,2,  2364.8,2,   7.4642,2,    25.00, -999.00,9,  -999.0,9,  -999.0,   0.0229,2, -999.00,9,    39.0,2,   43.30,2, -999.00,9,    33.0805,2, -999.00,9,  -999.0,9,     -999.0,     -999.0,9,     -999.0,9,     -999.0,     -999.0,9,     -999.0,     -999.0,9,     -999.0,     -999.0,     -999.0,9,     -999.0,9,     -999.0,9,     -999.0,9,     -999.0,9,     -999.0,9,     -999.0,9,     -999.0,9
33RO20161119,        P18,      59,          1,         12,      11111,2,20161208,       0101,    -0.9997,  -110.0002,       3983,  1024.4,   4.6378,  34.5503,2,  34.5503,2,     86.4,2,    86.7,2,    78.5,2,    39.6,2,    0.00,2,   2.775,2,   0.0206,2,   0.0119,2,   0.0000,2,  2294.4,2,  2355.1,2,   7.4666,2,    25.00, -999.00,9,  -999.0,9,  -999.0,   0.0561,2, -999.00,9,    40.7,2,   42.50,2, -999.00,9,    32.9285,2, -999.00,9,  -999.0,9,     -999.0,     -999.0,9,     -999.0,9,     -999.0,     -999.0,9,     -999.0,     -999.0,9,     -999.0,     -999.0,     -999.0,9,     -999.0,9,     -999.0,9,     -999.0,9,     -999.0,9,     -999.0,9,     -999.0,9,     -999.0,9
33RO20161119,        P18,      59,          1,         13,      11112,2,20161208,       0101,    -0.9997,  -110.0002,       3983,   894.8,   5.1805,  34.5438,2,  34.5454,2,     82.8,2,    82.7,2,    68.2,2,    39.5,2,    0.00,2,   2.749,2,   0.0431,2,   0.0237,2,   0.0245,2,  2285.0,2,  2341.3,2,   7.4630,2,    25.00, -999.00,9,  -999.0,9,  -999.0,   0.0455,2, -999.00,9,    39.0,2,   42.70,2, -999.00,9,    34.3273,2, -999.00,9,  -999.0,9,     -999.0,     -999.0,9,     -999.0,9,     -999.0,     -999.0,9,     -999.0,     -999.0,9,     -999.0,     -999.0,     -999.0,9,     -999.0,9,     -999.0,9,     -999.0,9,     -999.0,9,     -999.0,9,     -999.0,9,     -999.0,9
33RO20161119,        P18,      59,          1,         14,      11113,2,20161208,       0101,    -0.9997,  -110.0002,       3983,   770.1,   5.7926,  34.5454,2,  34.5451,2,     76.5,2,    76.7,2,    58.4,2,    39.3,2,    0.00,2,   2.747,2,   0.0703,2,   0.0400,2,   0.0382,2,  2275.6,2,  2331.9,2,   7.4581,2,    25.00, -999.00,9,  -999.0,9,  -999.0,   0.0797,2, -999.00,9,    39.5,2,   42.70,2, -999.00,9,      36.95,2, -999.00,9,  -999.0,9,     -999.0,     -999.0,9,     -999.0,9,     -999.0,     -999.0,9,     -999.0,     -999.0,9,     -999.0,     -999.0,     -999.0,9,     -999.0,9,     -999.0,9,     -999.0,9,     -999.0,9,     -999.0,9,     -999.0,9,     -999.0,9
33RO20161119,        P18,      59,          1,         15,      11114,2,20161208,       0101,    -0.9997,  -110.0002,       3983,   650.2,   7.0515,  34.5779,2,  34.5830,2,     57.7,2,    57.7,2,    45.4,2,    39.1,2,    0.00,2,   2.718,2,   0.1539,2,   0.0847,2,   0.0375,2,  2267.7,2,  2311.9,6,   7.4174,2,    25.00, -999.00,9,  -999.0,9,  -999.0,   0.0517,2, -999.00,9,    41.1,2,   42.60,2, -999.00,9,    44.6906,2, -999.00,9,  -999.0,9,     -999.0,     -999.0,9,     -999.0,9,     -999.0,     -999.0,9,     -999.0,     -999.0,9,     -999.0,     -999.0,     -999.0,9,     -999.0,9,     -999.0,9,     -999.0,9,     -999.0,9,     -999.0,9,     -999.0,9,     -999.0,9
33RO20161119,        P18,      59,          1,         16,      11115,2,20161208,       0101,    -0.9997,  -110.0002,       3983,   540.2,   8.5087,  34.6463,2,  34.6510,2,     28.5,2,    26.7,2,    39.1,2,    39.2,2,    0.00,2,   2.689,2,   0.2520,2,   0.1393,2,   0.0277,2,  2274.3,2,  2304.4,2,   7.3969,6,    25.00, -999.00,9,  -999.0,9,  -999.0,   0.0538,2, -999.00,9,    44.4,2,   43.40,2, -999.00,9,    55.8988,2, -999.00,9,  -999.0,9,     -999.0,     -999.0,9,     -999.0,9,     -999.0,     -999.0,9,     -999.0,     -999.0,9,     -999.0,     -999.0,     -999.0,9,     -999.0,9,     -999.0,9,     -999.0,9,     -999.0,9,     -999.0,9,     -999.0,9,     -999.0,9
33RO20161119,        P18,      59,          1,         17,      11116,2,20161208,       0101,    -0.9997,  -110.0002,       3983,   435.3,   9.5784,  34.7037,2,  34.7060,2,     19.8,2,    18.0,6,    34.4,2,    37.5,2,    0.01,2,   2.596,2,   0.4338,2,   0.2407,2,   0.0787,2,  2273.4,2,  2303.1,2,   7.4010,2,    25.00, -999.00,9,  -999.0,9,  -999.0,   0.0497,2, -999.00,9,    44.3,2,   40.10,2, -999.00,9,      61.54,2, -999.00,9,  -999.0,9,     -999.0,     -999.0,9,     -999.0,9,     -999.0,     -999.0,9,     -999.0,     -999.0,9,     -999.0,     -999.0,     -999.0,9,     -999.0,9,     -999.0,9,     -999.0,9,     -999.0,9,     -999.0,9,     -999.0,9,     -999.0,9
33RO20161119,        P18,      59,          1,         18,      11117,2,20161208,       0101,    -0.9997,  -110.0002,       3983,   335.3,  10.4955,  34.7591,2,  34.7607,2,      7.1,2,     9.3,2,    32.4,2,    36.4,2,    0.01,2,   2.581,2,   0.5796,2,   0.3211,2,   0.1177,2,  2272.6,2,  2302.1,2,   7.3976,2,    25.00, -999.00,9,  -999.0,9,  -999.0,   0.1173,2, -999.00,9,    47.1,2,   40.40,2, -999.00,9,    70.6148,2, -999.00,9,  -999.0,9,     -999.0,     -999.0,9,     -999.0,9,     -999.0,     -999.0,9,     -999.0,     -999.0,9,     -999.0,     -999.0,     -999.0,9,     -999.0,9,     -999.0,9,     -999.0,9,     -999.0,9,     -999.0,9,     -999.0,9,     -999.0,9
33RO20161119,        P18,      59,          1,         19,      11083,2,20161208,       0101,    -0.9997,  -110.0002,       3983,   250.1,  12.1337,  34.8584,2,  34.8581,2,     39.8,2,    39.8,2,    23.2,2,    30.5,2,    0.01,2,   2.136,2,   1.1651,2,   0.6441,2,   0.3127,2,  2234.1,2,  2296.3,2,   7.5049,2,    25.00, -999.00,9,  -999.0,9,  -999.0,   0.2043,2, -999.00,9,    45.7,2,   33.70,2, -999.00,9,    55.7751,2, -999.00,9,  -999.0,9,     -999.0,     -999.0,9,     -999.0,9,     -999.0,     -999.0,9,     -999.0,     -999.0,9,     -999.0,     -999.0,     -999.0,9,     -999.0,9,     -999.0,9,     -999.0,9,     -999.0,9,     -999.0,9,     -999.0,9,     -999.0,9
33RO20161119,        P18,      59,          1,         20,      11118,2,20161208,       0101,    -0.9997,  -110.0002,       3983,   170.4,  12.8858,  34.9071,2,  34.9103,2,     82.7,2,    82.2,2,    18.0,2,    25.2,2,    0.01,2,   1.788,2,   1.4938,6,   0.8385,6,   0.4837,6,  2201.2,2,  2300.6,2,   7.6179,2,    25.00, -999.00,9,  -999.0,9,  -999.0,   0.1624,2, -999.00,9,    48.1,2,   27.00,2, -999.00,9,    41.4859,2, -999.00,9,  -999.0,9,     -999.0,     -999.0,9,     -999.0,9,     -999.0,     -999.0,9,     -999.0,     -999.0,9,     -999.0,     -999.0,     -999.0,9,     -999.0,9,     -999.0,9,     -999.0,9,     -999.0,9,     -999.0,9,     -999.0,9,     -999.0,9
33RO20161119,        P18,      59,          1,         21,      11119,2,20161208,       0101,    -0.9997,  -110.0002,       3983,   104.6,  15.1072,  35.0733,2,  35.0742,2,    105.7,2,   103.2,2,    11.8,2,    19.9,2,    0.02,2,   1.464,2,   1.8077,2,   1.0384,2,   0.7237,2,  2168.1,2,  2307.9,2,   7.7082,2,    25.00, -999.00,9,  -999.0,9,  -999.0,   0.8065,2, -999.00,9,    50.1,2,   22.40,2, -999.00,9,    30.4104,2, -999.00,9,  -999.0,9,     -999.0,     -999.0,9,     -999.0,9,     -999.0,     -999.0,9,     -999.0,     -999.0,9,     -999.0,     -999.0,     -999.0,9,     -999.0,9,     -999.0,9,     -999.0,9,     -999.0,9,     -999.0,9,     -999.0,9,     -999.0,9
33RO20161119,        P18,      59,          1,         22,      11120,2,20161208,       0101,    -0.9997,  -110.0002,       3983,    50.5,  20.7921,  35.1151,2,  35.1199,2,    171.0,2,   167.8,2,     5.2,2,    10.6,2,    0.32,2,   0.904,2,   1.8821,2,   1.1460,2,   1.2313,2,  2100.0,2,  2308.6,2,   7.8710,2,    25.00, -999.00,9,  -999.0,9,  -999.0,   0.9795,2, -999.00,9,    55.0,2,   13.90,2, -999.00,9,    14.3448,2, -999.00,9,  -999.0,9,     -999.0,     -999.0,9,     -999.0,9,     -999.0,     -999.0,9,     -999.0,     -999.0,9,     -999.0,     -999.0,     -999.0,9,     -999.0,9,     -999.0,9,     -999.0,9,     -999.0,9,     -999.0,9,     -999.0,9,     -999.0,9
33RO20161119,        P18,      59,          1,         23,      11121,2,20161208,       0101,    -0.9997,  -110.0002,       3983,    20.9,  21.0051,  34.9476,2,  34.9522,2,    184.9,2,   183.9,2,     5.8,2,    10.2,2,    0.23,2,   0.878,2,   1.8936,2,   1.1515,2,   1.2492,2,  2084.9,2,  2305.2,6,   7.8825,2,    25.00, -999.00,9,  -999.0,9,  -999.0,   1.2444,2, -999.00,9,    56.6,2,   12.40,2, -999.00,9,    13.4894,2, -999.00,9,  -999.0,9,     -999.0,     -999.0,9,     -999.0,9,     -999.0,     -999.0,9,     -999.0,     -999.0,9,     -999.0,     -999.0,     -999.0,9,     -999.0,9,     -999.0,9,     -999.0,9,     -999.0,9,     -999.0,9,     -999.0,9,     -999.0,9
33RO20161119,        P18,      59,          1,         24,      11122,2,20161208,       0101,    -0.9997,  -110.0002,       3983,     3.0,  22.1101,  34.9056,2,  34.9061,2,    170.4,4,   199.9,2,     5.6,2,    10.0,2,    0.23,2,   0.835,2,   1.8968,2,   1.1515,2,   1.3396,2,  2082.2,6,  2300.7,2,   7.8919,2,    25.00, -999.00,9,  -999.0,9,  -999.0,        0,2, -999.00,9,    59.6,2,   11.40,2, -999.00,9,    12.2312,2, -999.00,9,  -999.0,9,     -999.0,     -999.0,9,     -999.0,9,     -999.0,     -999.0,9,     -999.0,     -999.0,9,     -999.0,     -999.0,     -999.0,9,     -999.0,9,     -999.0,9,     -999.0,9,     -999.0,9,     -999.0,9,     -999.0,9,     -999.0,9