BOTTLE,20230606CCHSIOCBG
EXPOCODE,SECT_ID,STNNBR,CASTNO,SAMPNO,BTLNBR,BTLNBR_FLAG_W,DATE,TIME,LATITUDE,LONGITUDE,DEPTH,CTDPRS,CTDTMP,CTDSAL,CTDSAL_FLAG_W,SALNTY,SALNTY_FLAG_W,CTDOXY,CTDOXY_FLAG_W,OXYGEN,OXYGEN_FLAG_W,SILCAT,SILCAT_FLAG_W,NITRAT,NITRAT_FLAG_W,NITRIT,NITRIT_FLAG_W,PHSPHT,PHSPHT_FLAG_W,CFC-11,CFC-11_FLAG_W,CFC-12,CFC-12_FLAG_W,SF6,SF6_FLAG_W,TCARBN,TCARBN_FLAG_W,ALKALI,ALKALI_FLAG_W,PH_SWS,PH_SWS_FLAG_W,PH_TMP,DELC13,DELC13_FLAG_W,DELC14,DELC14_FLAG_W,C14ERR,CCL4,CCL4_FLAG_W,POC,POC_FLAG_W,DOC,DOC_FLAG_W,TDN,TDN_FLAG_W,PON,PON_FLAG_W,N2O,N2O_FLAG_W,D15N_NO3,D15N_NO3_FLAG_W,14C-DOC,14C-DOC_FLAG_W,14C-DOCERR,13C-DOC,13C-DOC_FLAG_W,N2/ARGON_UNSTRIPPED,N2/ARGON_UNSTRIPPED_FLAG_W,N2/ARGON_UNSTRIPPED_ERROR,N2/ARGON,N2/ARGON_FLAG_W,N2/ARGON_ERROR,D15N_N2,D15N_N2_FLAG_W,D15N_N2_ERROR,D15N_NO3_ERROR,D15N_NO2+NO3,D15N_NO2+NO3_FLAG_W,D18O_NO2+NO3,D18O_NO2+NO3_FLAG_W,D18O_NO3,D18O_NO3_FLAG_W,TDP,TDP_FLAG_W,N2O_ALT_1,N2O_ALT_1_FLAG_W,D15N_N2O,D15N_N2O_FLAG_W,D18O_N2O,D18O_N2O_FLAG_W,D15N_ALPHA_N2O,D15N_ALPHA_N2O_FLAG_W
,,,,,,,,,,,METERS,DBAR,ITS-90,PSS-78,,PSS-78,,UMOL/KG,,UMOL/KG,,UMOL/KG,,UMOL/KG,,UMOL/KG,,UMOL/KG,,PMOL/KG,,PMOL/KG,,FMOL/KG,,UMOL/KG,,UMOL/KG,,,,DEG C,/MILLE,,/MILLE,,/MILLE,PMOL/KG,,UG/KG,,UMOL/KG,,UMOL/KG,,UG/KG,,NMOL/KG,,/MILLE,,/MILLE,,/MILLE,/MILLE,,,,,,,,/MILLE,,/MILLE,/MILLE,/MILLE,,/MILLE,,/MILLE,,UMOL/KG,,NMOL/L,,/MILLE,,/MILLE,,/MILLE,
33RO20161119,        P18,      69,          1,          1,      11010,2,20161210,       0246,    -3.9998,  -110.0002,       3722,  3868.8,   1.5362,  34.6893,2,  34.6870,2,    154.7,2,   154.5,2,   143.7,6,    36.1,6,    0.00,6,   2.469,6,   0.0013,2,   0.0010,2,   0.0000,2,  2330.5,6,  2426.8,2,   7.5884,6,    25.00, -999.00,9,  -999.0,9,  -999.0,        0,2, -999.00,9,    39.0,2,   38.90,2, -999.00,9,    20.3743,2, -999.00,9,  -999.0,9,     -999.0,     -999.0,9,     -999.0,9,     -999.0,     -999.0,9,     -999.0,     -999.0,9,     -999.0,     -999.0,     -999.0,9,     -999.0,9,     -999.0,9,     -999.0,9,     -999.0,9,     -999.0,9,     -999.0,9,     -999.0,9
33RO20161119,        P18,      69,          1,          2,      11101,2,20161210,       0246,    -3.9998,  -110.0002,       3722,  3550.1,   1.5155,  34.6887,2,  34.6878,2,    153.1,2,   153.4,6,   143.5,6,    36.1,6,    0.00,6,   2.470,6,   0.0014,2,   0.0012,2,   0.0000,2,  2329.3,2,  2425.6,2,   7.5895,2,    25.00, -999.00,9,  -999.0,9,  -999.0,        0,2, -999.00,9,    39.4,2,   39.80,2, -999.00,9,    20.5142,2, -999.00,9,  -999.0,9,     -999.0,     -999.0,9,     -999.0,9,     -999.0,     -999.0,9,     -999.0,     -999.0,9,     -999.0,     -999.0,     -999.0,9,     -999.0,9,     -999.0,9,     -999.0,9,     -999.0,9,     -999.0,9,     -999.0,9,     -999.0,9
33RO20161119,        P18,      69,          1,          3,      11102,2,20161210,       0246,    -3.9998,  -110.0002,       3722,  3300.3,   1.5888,  34.6834,2,  34.6821,2,    146.0,2,   145.6,2,   144.0,6,    36.4,6,    0.00,6,   2.525,6,   0.0009,2,   0.0011,2,   0.0000,2,  2332.5,2,  2424.7,2,   7.5736,6,    25.00, -999.00,9,  -999.0,9,  -999.0,   0.0116,2, -999.00,9,    40.0,2,   40.50,2, -999.00,9,    20.9575,2, -999.00,9,  -999.0,9,     -999.0,     -999.0,9,     -999.0,9,     -999.0,     -999.0,9,     -999.0,     -999.0,9,     -999.0,     -999.0,     -999.0,9,     -999.0,9,     -999.0,9,     -999.0,9,     -999.0,9,     -999.0,9,     -999.0,9,     -999.0,9
33RO20161119,        P18,      69,          1,          4,      11103,2,20161210,       0246,    -3.9998,  -110.0002,       3722,  3000.9,   1.6919,  34.6776,2,  34.6763,2,    139.6,2,   140.0,2,   142.7,6,    36.8,6,    0.00,6,   2.553,6,   0.0020,2,   0.0015,2,   0.0000,2,  2335.0,2,  2425.6,2,   7.5621,2,    25.00, -999.00,9,  -999.0,9,  -999.0,        0,2, -999.00,9,    39.2,2,   39.80,2, -999.00,9,     22.015,2, -999.00,9,  -999.0,9,     -999.0,     -999.0,9,     -999.0,9,     -999.0,     -999.0,9,     -999.0,     -999.0,9,     -999.0,     -999.0,     -999.0,9,     -999.0,9,     -999.0,9,     -999.0,9,     -999.0,9,     -999.0,9,     -999.0,9,     -999.0,9
33RO20161119,        P18,      69,          1,          5,      11104,2,20161210,       0246,    -3.9998,  -110.0002,       3722,  2701.0,   1.8048,  34.6689,2,  34.6683,2,    131.2,2,   133.4,2,   140.8,2,    37.2,2,    0.00,2,   2.584,2,   0.0012,6,   0.0004,6,   0.0000,6,  2336.9,2,  2422.2,6,   7.5450,2,    25.00, -999.00,9,  -999.0,9,  -999.0,   0.0111,2, -999.00,9,    39.0,2,   40.60,2, -999.00,9,    23.0072,2, -999.00,9,  -999.0,9,     -999.0,     -999.0,9,     -999.0,9,     -999.0,     -999.0,9,     -999.0,     -999.0,9,     -999.0,     -999.0,     -999.0,9,     -999.0,9,     -999.0,9,     -999.0,9,     -999.0,9,     -999.0,9,     -999.0,9,     -999.0,9
33RO20161119,        P18,      69,          1,          6,      11105,2,20161210,       0246,    -3.9998,  -110.0002,       3722,  2400.0,   1.9744,  34.6591,2,  34.6600,2,    122.0,2,   122.4,2,   139.5,2,    37.8,2,    0.00,2,   2.631,2,  -0.0015,4,   0.0004,4,   0.0182,4,  2340.1,2,  2415.5,2,   7.5271,6,    25.00, -999.00,9,  -999.0,9,  -999.0,        0,2, -999.00,9,    39.1,2,   40.40,2, -999.00,9,      -0.15,4, -999.00,9,  -999.0,9,     -999.0,     -999.0,9,     -999.0,9,     -999.0,     -999.0,9,     -999.0,     -999.0,9,     -999.0,     -999.0,     -999.0,9,     -999.0,9,     -999.0,9,     -999.0,9,     -999.0,9,     -999.0,9,     -999.0,9,     -999.0,9
33RO20161119,        P18,      69,          1,          7,      11106,2,20161210,       0246,    -3.9998,  -110.0002,       3722,  2100.5,   2.2092,  34.6469,2,  34.6454,2,    110.2,2,   110.2,2,   137.7,2,    38.6,2,    0.00,2,   2.712,2,   0.0018,2,   0.0015,2,   0.0000,2,  2344.5,6,  2412.0,2,   7.5068,2,    25.00, -999.00,9,  -999.0,9,  -999.0,        0,2, -999.00,9,    38.9,2,   42.60,2, -999.00,9,    25.6312,2, -999.00,9,  -999.0,9,     -999.0,     -999.0,9,     -999.0,9,     -999.0,     -999.0,9,     -999.0,     -999.0,9,     -999.0,     -999.0,     -999.0,9,     -999.0,9,     -999.0,9,     -999.0,9,     -999.0,9,     -999.0,9,     -999.0,9,     -999.0,9
33RO20161119,        P18,      69,          1,          8,      11107,2,20161210,       0246,    -3.9998,  -110.0002,       3722,  1800.9,   2.5322,  34.6309,2,  34.6294,2,     99.1,2,    98.8,2,   132.2,2,    39.3,2,    0.00,2,   2.789,2,   0.0015,2,   0.0014,2,   0.0154,2,  2344.3,2,  2406.5,2,   7.4883,2,    25.00, -999.00,9,  -999.0,9,  -999.0,        0,2, -999.00,9,    40.9,2,   44.40,2, -999.00,9,     27.941,2, -999.00,9,  -999.0,9,     -999.0,     -999.0,9,     -999.0,9,     -999.0,     -999.0,9,     -999.0,     -999.0,9,     -999.0,     -999.0,     -999.0,9,     -999.0,9,     -999.0,9,     -999.0,9,     -999.0,9,     -999.0,9,     -999.0,9,     -999.0,9
33RO20161119,        P18,      69,          1,          9,      11108,2,20161210,       0246,    -3.9998,  -110.0002,       3722,  1500.4,   3.0844,  34.5979,2,  34.5962,2,     99.3,2,    98.9,2,   112.9,2,    39.2,2,    0.00,2,   2.785,2,   0.0022,2,   0.0026,2,   0.0533,2,  2324.8,2,  2391.2,2,   7.4826,2,    25.00, -999.00,9,  -999.0,9,  -999.0,        0,2, -999.00,9,    40.8,2,   42.90,2, -999.00,9,    29.6236,2, -999.00,9,  -999.0,9,     -999.0,     -999.0,9,     -999.0,9,     -999.0,     -999.0,9,     -999.0,     -999.0,9,     -999.0,     -999.0,     -999.0,9,     -999.0,9,     -999.0,9,     -999.0,9,     -999.0,9,     -999.0,9,     -999.0,9,     -999.0,9
33RO20161119,        P18,      69,          1,         10,      11109,2,20161210,       0246,    -3.9998,  -110.0002,       3722,  1320.9,   3.5921,  34.5744,2,  34.5744,2,    100.1,2,   100.4,6,    99.0,2,    38.7,2,    0.00,2,   2.755,2,   0.0048,2,   0.0030,2,   0.0000,2,  2309.3,2,  2374.0,2,   7.4840,2,    25.00, -999.00,9,  -999.0,9,  -999.0,    0.015,2, -999.00,9,    39.9,2,   41.00,2, -999.00,9,    29.6788,2, -999.00,9,  -999.0,9,     -999.0,     -999.0,9,     -999.0,9,     -999.0,     -999.0,9,     -999.0,     -999.0,9,     -999.0,     -999.0,     -999.0,9,     -999.0,9,     -999.0,9,     -999.0,9,     -999.0,9,     -999.0,9,     -999.0,9,     -999.0,9
33RO20161119,        P18,      69,          1,         11,      11110,2,20161210,       0246,    -3.9998,  -110.0002,       3722,  1180.9,   4.0105,  34.5621,2,  34.5614,2,     93.7,2,    92.8,2,    91.0,2,    39.1,2,    0.00,2,   2.785,2,   0.0082,2,   0.0066,2,   0.0469,2,  2303.3,2,  2362.4,2,   7.4757,2,    25.00, -999.00,9,  -999.0,9,  -999.0,   0.0163,2, -999.00,9,    39.2,2,   42.00,2, -999.00,9,    32.0641,2, -999.00,9,  -999.0,9,     -999.0,     -999.0,9,     -999.0,9,     -999.0,     -999.0,9,     -999.0,     -999.0,9,     -999.0,     -999.0,     -999.0,9,     -999.0,9,     -999.0,9,     -999.0,9,     -999.0,9,     -999.0,9,     -999.0,9,     -999.0,9
33RO20161119,        P18,      69,          1,         12,      11111,2,20161210,       0246,    -3.9998,  -110.0002,       3722,  1049.6,   4.5345,  34.5517,2,  34.5512,2,     84.4,2,    85.7,2,    81.3,2,    39.7,2,    0.00,2,   2.802,2,   0.0095,2,   0.0061,2,   0.0000,2,  2295.8,2,  2351.2,2,   7.4600,2,    25.00, -999.00,9,  -999.0,9,  -999.0,   0.0208,2, -999.00,9,    42.7,2,   43.00,2, -999.00,9,    34.4176,2, -999.00,9,  -999.0,9,     -999.0,     -999.0,9,     -999.0,9,     -999.0,     -999.0,9,     -999.0,     -999.0,9,     -999.0,     -999.0,     -999.0,9,     -999.0,9,     -999.0,9,     -999.0,9,     -999.0,9,     -999.0,9,     -999.0,9,     -999.0,9
33RO20161119,        P18,      69,          1,         13,      11112,2,20161210,       0246,    -3.9998,  -110.0002,       3722,   920.2,   5.0750,  34.5471,2,  34.5471,2,     74.8,2,    75.0,2,    72.0,2,    40.1,2,    0.01,2,   2.834,2,   0.0140,6,   0.0088,6,   0.0196,6,  2291.8,2,  2339.8,2,   7.4445,2,    25.00, -999.00,9,  -999.0,9,  -999.0,   0.0146,2, -999.00,9,    41.8,2,   44.50,2, -999.00,9,    36.9057,2, -999.00,9,  -999.0,9,     -999.0,     -999.0,9,     -999.0,9,     -999.0,     -999.0,9,     -999.0,     -999.0,9,     -999.0,     -999.0,     -999.0,9,     -999.0,9,     -999.0,9,     -999.0,9,     -999.0,9,     -999.0,9,     -999.0,9,     -999.0,9
33RO20161119,        P18,      69,          1,         14,      11113,2,20161210,       0246,    -3.9998,  -110.0002,       3722,   795.1,   5.7920,  34.5493,2,  34.5522,2,     66.3,2,    66.2,2,    61.0,2,    40.2,2,    0.00,2,   2.821,2,   0.0374,2,   0.0211,2,   0.0000,2,  2284.9,2,  2327.8,2,   7.4367,2,    25.00, -999.00,9,  -999.0,9,  -999.0,   0.0679,2, -999.00,9,    41.5,2,   45.00,2, -999.00,9,    39.4297,2, -999.00,9,  -999.0,9,     -999.0,     -999.0,9,     -999.0,9,     -999.0,     -999.0,9,     -999.0,     -999.0,9,     -999.0,     -999.0,     -999.0,9,     -999.0,9,     -999.0,9,     -999.0,9,     -999.0,9,     -999.0,9,     -999.0,9,     -999.0,9
33RO20161119,        P18,      69,          1,         15,      11114,2,20161210,       0246,    -3.9998,  -110.0002,       3722,   675.4,   6.6298,  34.5652,2,  34.5657,2,     59.9,2,    57.6,2,    51.5,2,    39.8,2,    0.00,2,   2.783,2,   0.1025,2,   0.0559,2,   0.0385,2,  2275.5,2,  2318.0,2,   7.4316,2,    25.00, -999.00,9,  -999.0,9,  -999.0,    0.048,2, -999.00,9,    40.5,2,   43.80,2, -999.00,9,    44.2385,2, -999.00,9,  -999.0,9,     -999.0,     -999.0,9,     -999.0,9,     -999.0,     -999.0,9,     -999.0,     -999.0,9,     -999.0,     -999.0,     -999.0,9,     -999.0,9,     -999.0,9,     -999.0,9,     -999.0,9,     -999.0,9,     -999.0,9,     -999.0,9
33RO20161119,        P18,      69,          1,         16,      11115,2,20161210,       0246,    -3.9998,  -110.0002,       3722,   565.5,   7.4133,  34.6017,2,  34.6017,2,     29.7,2,  -999.0,9,    47.7,2,    40.8,2,    0.01,2,   2.870,2,-999.0000,9,-999.0000,9,-999.0000,9,  -999.0,9,  -999.0,9,-999.0000,9,  -999.00, -999.00,9,  -999.0,9,  -999.0,-999.0000,9, -999.00,9,  -999.0,9, -999.00,9, -999.00,9,     -999.0,9, -999.00,9,  -999.0,9,     -999.0,     -999.0,9,     -999.0,9,     -999.0,     -999.0,9,     -999.0,     -999.0,9,     -999.0,     -999.0,     -999.0,9,     -999.0,9,     -999.0,9,     -999.0,9,     -999.0,9,     -999.0,9,     -999.0,9,     -999.0,9
33RO20161119,        P18,      69,          1,         17,      11116,2,20161210,       0246,    -3.9998,  -110.0002,       3722,   459.8,   8.1485,  34.6331,2,  34.6339,2,     27.2,2,    26.8,2,    42.0,2,    39.6,2,    0.00,2,   2.765,2,   0.1977,2,   0.1098,2,   0.0355,2,  2277.3,2,  2305.0,2,   7.3916,2,    25.00, -999.00,9,  -999.0,9,  -999.0,   0.0373,2, -999.00,9,    46.4,2,   45.80,2, -999.00,9,     59.178,2, -999.00,9,  -999.0,9,     -999.0,     -999.0,9,     -999.0,9,     -999.0,     -999.0,9,     -999.0,     -999.0,9,     -999.0,     -999.0,     -999.0,9,     -999.0,9,     -999.0,9,     -999.0,9,     -999.0,9,     -999.0,9,     -999.0,9,     -999.0,9
33RO20161119,        P18,      69,          1,         18,      11117,2,20161210,       0246,    -3.9998,  -110.0002,       3722,   354.5,   9.8591,  34.7340,2,  34.7333,2,      8.6,2,     7.3,2,    34.3,2,    36.0,2,    0.01,2,   2.700,2,   0.3124,2,   0.1772,2,   0.0694,2,  2277.3,2,  2306.0,2,   7.3775,2,    25.00, -999.00,9,  -999.0,9,  -999.0,   0.0598,2, -999.00,9,    49.8,2,   40.30,2, -999.00,9,    72.9447,2, -999.00,9,  -999.0,9,     -999.0,     -999.0,9,     -999.0,9,     -999.0,     -999.0,9,     -999.0,     -999.0,9,     -999.0,     -999.0,     -999.0,9,     -999.0,9,     -999.0,9,     -999.0,9,     -999.0,9,     -999.0,9,     -999.0,9,     -999.0,9
33RO20161119,        P18,      69,          1,         19,      11083,2,20161210,       0246,    -3.9998,  -110.0002,       3722,   265.4,  11.8061,  34.8549,2,  34.8561,2,      5.4,2,     5.3,2,    27.3,2,    32.8,2,    0.00,2,   2.488,2,   0.8502,2,   0.4712,2,   0.1892,2,  2263.6,2,  2303.6,2,   7.4090,2,    25.00, -999.00,9,  -999.0,9,  -999.0,   0.0884,2, -999.00,9,    50.6,2,   36.40,2, -999.00,9,    71.6718,2, -999.00,9,  -999.0,9,     -999.0,     -999.0,9,     -999.0,9,     -999.0,     -999.0,9,     -999.0,     -999.0,9,     -999.0,     -999.0,     -999.0,9,     -999.0,9,     -999.0,9,     -999.0,9,     -999.0,9,     -999.0,9,     -999.0,9,     -999.0,9
33RO20161119,        P18,      69,          1,         20,      11118,2,20161210,       0246,    -3.9998,  -110.0002,       3722,   190.2,  12.6962,  34.9107,2,  34.9098,2,      8.4,2,     7.4,2,    23.7,2,    32.5,2,    0.00,2,   2.371,2,   1.1219,2,   0.6220,2,   0.2982,2,  2251.8,2,  2304.1,2,   7.4418,2,    25.00, -999.00,9,  -999.0,9,  -999.0,   0.1059,2, -999.00,9,    47.7,2,   34.00,2, -999.00,9,    85.7492,2, -999.00,9,  -999.0,9,     -999.0,     -999.0,9,     -999.0,9,     -999.0,     -999.0,9,     -999.0,     -999.0,9,     -999.0,     -999.0,     -999.0,9,     -999.0,9,     -999.0,9,     -999.0,9,     -999.0,9,     -999.0,9,     -999.0,9,     -999.0,9
33RO20161119,        P18,      69,          1,         21,      11119,2,20161210,       0246,    -3.9998,  -110.0002,       3722,   120.6,  13.3658,  34.9570,2,  34.9622,2,     26.7,2,    26.2,2,    19.4,2,    30.2,2,    0.02,2,   2.170,2,   1.4171,2,   0.8012,2,   0.4352,2,  2236.5,2,  2301.7,2,   7.5013,2,    25.00, -999.00,9,  -999.0,9,  -999.0,   0.4132,2, -999.00,9,    54.3,2,   32.20,2, -999.00,9,    70.6963,2, -999.00,9,  -999.0,9,     -999.0,     -999.0,9,     -999.0,9,     -999.0,     -999.0,9,     -999.0,     -999.0,9,     -999.0,     -999.0,     -999.0,9,     -999.0,9,     -999.0,9,     -999.0,9,     -999.0,9,     -999.0,9,     -999.0,9,     -999.0,9
33RO20161119,        P18,      69,          1,         22,      11120,2,20161210,       0246,    -3.9998,  -110.0002,       3722,    60.5,  18.1082,  35.2658,2,  35.2715,2,    115.9,2,   207.0,3,     6.6,2,    15.5,2,    0.87,2,   1.450,2,   1.9771,2,   1.1975,2,   1.1582,2,  2166.6,2,  2324.6,2,   7.7472,2,    25.00, -999.00,9,  -999.0,9,  -999.0,   1.6107,2, -999.00,9,    61.5,2,   19.90,2, -999.00,9,    36.2855,2, -999.00,9,  -999.0,9,     -999.0,     -999.0,9,     -999.0,9,     -999.0,     -999.0,9,     -999.0,     -999.0,9,     -999.0,     -999.0,     -999.0,9,     -999.0,9,     -999.0,9,     -999.0,9,     -999.0,9,     -999.0,9,     -999.0,9,     -999.0,9
33RO20161119,        P18,      69,          1,         23,      11121,2,20161210,       0246,    -3.9998,  -110.0002,       3722,    40.7,  23.0251,  35.0267,2,  35.0334,2,    204.9,2,   187.4,2,     5.2,2,     9.8,2,    0.23,2,   0.860,2,   1.8642,2,   1.1370,2,   1.4269,2,  2083.7,2,  2305.8,6,   7.8965,2,    25.00, -999.00,9,  -999.0,9,  -999.0,   1.7002,2, -999.00,9,    55.5,2,   13.30,2, -999.00,9,    11.6245,2, -999.00,9,  -999.0,9,     -999.0,     -999.0,9,     -999.0,9,     -999.0,     -999.0,9,     -999.0,     -999.0,9,     -999.0,     -999.0,     -999.0,9,     -999.0,9,     -999.0,9,     -999.0,9,     -999.0,9,     -999.0,9,     -999.0,9,     -999.0,9
33RO20161119,        P18,      69,          1,         24,      11122,2,20161210,       0246,    -3.9998,  -110.0002,       3722,     4.8,  23.3717,  35.0142,2,  35.0167,2,    207.1,2,   208.8,2,     5.1,2,     9.5,2,    0.24,2,   0.847,2,   1.8564,2,   1.1400,2,   1.4001,2,  2080.2,6,  2305.0,2,   7.9057,2,    25.00, -999.00,9,  -999.0,9,  -999.0,        0,2, -999.00,9,    59.1,2,   11.80,2, -999.00,9,    10.1816,2, -999.00,9,  -999.0,9,     -999.0,     -999.0,9,     -999.0,9,     -999.0,     -999.0,9,     -999.0,     -999.0,9,     -999.0,     -999.0,     -999.0,9,     -999.0,9,     -999.0,9,     -999.0,9,     -999.0,9,     -999.0,9,     -999.0,9,     -999.0,9