BOTTLE,20230606CCHSIOCBG
EXPOCODE,SECT_ID,STNNBR,CASTNO,SAMPNO,BTLNBR,BTLNBR_FLAG_W,DATE,TIME,LATITUDE,LONGITUDE,DEPTH,CTDPRS,CTDTMP,CTDSAL,CTDSAL_FLAG_W,SALNTY,SALNTY_FLAG_W,CTDOXY,CTDOXY_FLAG_W,OXYGEN,OXYGEN_FLAG_W,SILCAT,SILCAT_FLAG_W,NITRAT,NITRAT_FLAG_W,NITRIT,NITRIT_FLAG_W,PHSPHT,PHSPHT_FLAG_W,CFC-11,CFC-11_FLAG_W,CFC-12,CFC-12_FLAG_W,SF6,SF6_FLAG_W,TCARBN,TCARBN_FLAG_W,ALKALI,ALKALI_FLAG_W,PH_SWS,PH_SWS_FLAG_W,PH_TMP,DELC13,DELC13_FLAG_W,DELC14,DELC14_FLAG_W,C14ERR,CCL4,CCL4_FLAG_W,POC,POC_FLAG_W,DOC,DOC_FLAG_W,TDN,TDN_FLAG_W,PON,PON_FLAG_W,N2O,N2O_FLAG_W,D15N_NO3,D15N_NO3_FLAG_W,14C-DOC,14C-DOC_FLAG_W,14C-DOCERR,13C-DOC,13C-DOC_FLAG_W,N2/ARGON_UNSTRIPPED,N2/ARGON_UNSTRIPPED_FLAG_W,N2/ARGON_UNSTRIPPED_ERROR,N2/ARGON,N2/ARGON_FLAG_W,N2/ARGON_ERROR,D15N_N2,D15N_N2_FLAG_W,D15N_N2_ERROR,D15N_NO3_ERROR,D15N_NO2+NO3,D15N_NO2+NO3_FLAG_W,D18O_NO2+NO3,D18O_NO2+NO3_FLAG_W,D18O_NO3,D18O_NO3_FLAG_W,TDP,TDP_FLAG_W,N2O_ALT_1,N2O_ALT_1_FLAG_W,D15N_N2O,D15N_N2O_FLAG_W,D18O_N2O,D18O_N2O_FLAG_W,D15N_ALPHA_N2O,D15N_ALPHA_N2O_FLAG_W
,,,,,,,,,,,METERS,DBAR,ITS-90,PSS-78,,PSS-78,,UMOL/KG,,UMOL/KG,,UMOL/KG,,UMOL/KG,,UMOL/KG,,UMOL/KG,,PMOL/KG,,PMOL/KG,,FMOL/KG,,UMOL/KG,,UMOL/KG,,,,DEG C,/MILLE,,/MILLE,,/MILLE,PMOL/KG,,UG/KG,,UMOL/KG,,UMOL/KG,,UG/KG,,NMOL/KG,,/MILLE,,/MILLE,,/MILLE,/MILLE,,,,,,,,/MILLE,,/MILLE,/MILLE,/MILLE,,/MILLE,,/MILLE,,UMOL/KG,,NMOL/L,,/MILLE,,/MILLE,,/MILLE,
33RO20161119,        P18,     194,          1,          1,      11010,2,20170122,       0726,   -62.9999,  -102.9995,       5026,  5117.2,   0.4342,  34.6990,2,  34.6985,2,    215.7,2,   214.8,6,   141.8,2,    32.9,2,    0.01,2,   2.268,2,   0.5041,2,   0.2404,2,   0.0692,2,  2266.3,6,  2367.2,2,   7.5877,2,    25.00, -999.00,9,  -999.0,9,  -999.0,   0.3025,2, -999.00,9,  -999.0,9, -999.00,9, -999.00,9,    18.4462,2,    4.81,2,  -999.0,9,     -999.0,     -999.0,9,     -999.0,9,     -999.0,     -999.0,9,     -999.0,     -999.0,9,     -999.0,     -999.0,       4.81,2,       1.73,2,       1.73,2,     -999.0,9,     -999.0,9,     -999.0,9,     -999.0,9,     -999.0,9
33RO20161119,        P18,     194,          1,          2,      11101,2,20170122,       0726,   -62.9999,  -102.9995,       5026,  4693.2,   0.4260,  34.7006,2,  34.7006,2,    215.0,2,   214.2,2,   136.7,6,    32.9,6,    0.01,6,   2.260,6,   0.4190,2,   0.1996,2,   0.0652,2,  2264.2,2,  2359.0,2,   7.5884,6,    25.00, -999.00,9,  -999.0,9,  -999.0,   0.2554,2, -999.00,9,  -999.0,9, -999.00,9, -999.00,9,    18.3885,2,    4.81,2,  -999.0,9,     -999.0,     -999.0,9,     -999.0,9,     -999.0,     -999.0,9,     -999.0,     -999.0,9,     -999.0,     -999.0,       4.81,2,        1.7,2,        1.7,2,     -999.0,9,     -999.0,9,     -999.0,9,     -999.0,9,     -999.0,9
33RO20161119,        P18,     194,          1,          3,      11102,2,20170122,       0726,   -62.9999,  -102.9995,       5026,  4270.3,   0.4517,  34.7021,2,  34.7015,2,    213.6,2,   214.3,2,   133.3,6,    32.8,6,    0.01,6,   2.252,6,   0.3492,2,   0.1675,2,   0.0723,2,  2264.0,2,  2362.0,6,   7.5907,2,    25.00, -999.00,9,  -999.0,9,  -999.0,   0.2738,2, -999.00,9,  -999.0,9, -999.00,9, -999.00,9,    18.3813,2,    4.86,2,  -999.0,9,     -999.0,     -999.0,9,     -999.0,9,     -999.0,     -999.0,9,     -999.0,     -999.0,9,     -999.0,     -999.0,       4.86,2,       1.75,2,       1.75,2,     -999.0,9,     -999.0,9,     -999.0,9,     -999.0,9,     -999.0,9
33RO20161119,        P18,     194,          1,          4,      11103,2,20170122,       0726,   -62.9999,  -102.9995,       5026,  3870.4,   0.5338,  34.7034,2,  34.7028,2,    211.1,2,   210.9,2,   129.5,6,    32.8,6,    0.01,6,   2.251,6,   0.3153,2,   0.1522,2,   0.0667,2,  2262.5,2,  2359.7,2,   7.5910,2,    25.00, -999.00,9,  -999.0,9,  -999.0,   0.2487,2, -999.00,9,  -999.0,9, -999.00,9, -999.00,9,    18.6224,2,    4.84,2,  -999.0,9,     -999.0,     -999.0,9,     -999.0,9,     -999.0,     -999.0,9,     -999.0,     -999.0,9,     -999.0,     -999.0,       4.84,2,       1.77,2,       1.77,2,     -999.0,9,     -999.0,9,     -999.0,9,     -999.0,9,     -999.0,9
33RO20161119,        P18,     194,          1,          5,      11104,2,20170122,       0726,   -62.9999,  -102.9995,       5026,  3468.6,   0.6830,  34.7061,2,  34.7068,2,    207.1,2,   207.0,2,   126.0,6,    32.7,6,    0.01,6,   2.246,6,   0.2474,2,   0.1205,2,   0.0000,2,  2263.0,2,  2359.0,2,   7.5901,2,    25.00, -999.00,9,  -999.0,9,  -999.0,   0.2291,2, -999.00,9,  -999.0,9, -999.00,9, -999.00,9,    18.5896,2,    4.87,2,  -999.0,9,     -999.0,     -999.0,9,     -999.0,9,     -999.0,     -999.0,9,     -999.0,     -999.0,9,     -999.0,     -999.0,       4.87,2,       1.65,2,       1.65,2,     -999.0,9,     -999.0,9,     -999.0,9,     -999.0,9,     -999.0,9
33RO20161119,        P18,     194,          1,          6,      11105,2,20170122,       0726,   -62.9999,  -102.9995,       5026,  3049.7,   0.8432,  34.7112,2,  34.7108,2,    205.0,2,   203.8,2,   121.9,6,    32.5,6,    0.01,6,   2.226,6,   0.1876,2,   0.0930,2,   0.0495,2,  2261.4,2,  2359.7,2,   7.5941,2,    25.00, -999.00,9,  -999.0,9,  -999.0,   0.2291,2, -999.00,9,  -999.0,9, -999.00,9, -999.00,9,     18.646,2,    4.85,2,  -999.0,9,     -999.0,     -999.0,9,     -999.0,9,     -999.0,     -999.0,9,     -999.0,     -999.0,9,     -999.0,     -999.0,       4.85,2,       1.83,2,       1.83,2,     -999.0,9,     -999.0,9,     -999.0,9,     -999.0,9,     -999.0,9
33RO20161119,        P18,     194,          1,          7,      11106,2,20170122,       0726,   -62.9999,  -102.9995,       5026,  2669.8,   0.9735,  34.7165,2,  34.7164,2,    202.0,2,   201.6,2,   117.0,2,    32.3,2,    0.01,2,   2.212,2,   0.1507,2,   0.0741,2,   0.0647,2,  2261.5,2,  2360.8,2,   7.5936,2,    25.00, -999.00,9,  -999.0,9,  -999.0,   0.2543,2, -999.00,9,  -999.0,9, -999.00,9, -999.00,9,    18.7512,2,    4.83,2,  -999.0,9,     -999.0,     -999.0,9,     -999.0,9,     -999.0,     -999.0,9,     -999.0,     -999.0,9,     -999.0,     -999.0,       4.83,2,       1.71,2,       1.71,2,     -999.0,9,     -999.0,9,     -999.0,9,     -999.0,9,     -999.0,9
33RO20161119,        P18,     194,          1,          8,      11107,2,20170122,       0726,   -62.9999,  -102.9995,       5026,  2269.9,   1.1682,  34.7237,2,  34.7229,2,    198.3,2,   198.2,2,   110.1,2,    32.1,2,    0.01,2,   2.206,2,   0.1336,6,   0.0650,6,   0.0181,6,  2259.6,2,  2359.0,2,   7.5965,2,    25.00, -999.00,9,  -999.0,9,  -999.0,   0.2706,2, -999.00,9,  -999.0,9, -999.00,9, -999.00,9,    18.9727,2,    4.79,2,  -999.0,9,     -999.0,     -999.0,9,     -999.0,9,     -999.0,     -999.0,9,     -999.0,     -999.0,9,     -999.0,     -999.0,       4.79,2,       1.72,2,       1.72,2,     -999.0,9,     -999.0,9,     -999.0,9,     -999.0,9,     -999.0,9
33RO20161119,        P18,     194,          1,          9,      11108,2,20170122,       0726,   -62.9999,  -102.9995,       5026,  1914.6,   1.3848,  34.7307,2,  34.7300,2,    193.9,2,   194.5,2,   102.9,2,    31.8,2,    0.01,2,   2.175,2,   0.1487,2,   0.0724,2,   0.0000,2,  2257.1,2,  2354.9,2,   7.5946,2,    25.00, -999.00,9,  -999.0,9,  -999.0,   0.4339,2, -999.00,9,  -999.0,9, -999.00,9, -999.00,9,    19.0979,2,    4.88,2,  -999.0,9,     -999.0,     -999.0,9,     -999.0,9,     -999.0,     -999.0,9,     -999.0,     -999.0,9,     -999.0,     -999.0,       4.88,2,       1.64,2,       1.64,2,     -999.0,9,     -999.0,9,     -999.0,9,     -999.0,9,     -999.0,9
33RO20161119,        P18,     194,          1,         10,      11109,2,20170122,       0726,   -62.9999,  -102.9995,       5026,  1687.0,   1.5422,  34.7328,2,  34.7333,2,    191.4,2,   192.2,2,    98.0,2,    31.7,2,    0.01,2,   2.150,2,   0.1554,2,   0.0759,2,   0.0306,2,  2256.6,2,  2358.1,2,   7.5937,2,    25.00, -999.00,9,  -999.0,9,  -999.0,   0.4685,2, -999.00,9,  -999.0,9, -999.00,9, -999.00,9,    19.0998,2,    4.87,2,  -999.0,9,     -999.0,     -999.0,9,     -999.0,9,     -999.0,     -999.0,9,     -999.0,     -999.0,9,     -999.0,     -999.0,       4.87,2,       1.63,2,       1.63,2,     -999.0,9,     -999.0,9,     -999.0,9,     -999.0,9,     -999.0,9
33RO20161119,        P18,     194,          1,         11,      11110,2,20170122,       0726,   -62.9999,  -102.9995,       5026,  1510.7,   1.6922,  34.7329,2,  34.7325,2,    189.2,2,   189.5,2,    93.1,2,    31.7,2,    0.01,2,   2.168,2,   0.1717,2,   0.0843,2,   0.0782,2,  2255.0,2,  2353.9,2,   7.5918,2,    25.00, -999.00,9,  -999.0,9,  -999.0,   0.6381,2, -999.00,9,  -999.0,9, -999.00,9, -999.00,9,    19.6112,2,    4.88,2,  -999.0,9,     -999.0,     -999.0,9,     -999.0,9,     -999.0,     -999.0,9,     -999.0,     -999.0,9,     -999.0,     -999.0,       4.88,2,       1.54,2,       1.54,2,     -999.0,9,     -999.0,9,     -999.0,9,     -999.0,9,     -999.0,9
33RO20161119,        P18,     194,          1,         12,      11111,2,20170122,       0726,   -62.9999,  -102.9995,       5026,  1332.8,   1.8325,  34.7284,2,  34.7275,2,    185.7,2,   186.7,2,    89.5,2,    31.7,2,    0.01,2,   2.179,2,   0.1928,2,   0.0965,2,   0.0501,2,  2255.1,2,  2347.8,2,   7.5881,2,    25.00, -999.00,9,  -999.0,9,  -999.0,   0.6862,2, -999.00,9,  -999.0,9, -999.00,9, -999.00,9,    19.7592,2,    4.89,2,  -999.0,9,     -999.0,     -999.0,9,     -999.0,9,     -999.0,     -999.0,9,     -999.0,     -999.0,9,     -999.0,     -999.0,       4.89,2,       1.69,2,       1.69,2,     -999.0,9,     -999.0,9,     -999.0,9,     -999.0,9,     -999.0,9
33RO20161119,        P18,     194,          1,         13,      11112,2,20170122,       0726,   -62.9999,  -102.9995,       5026,  1165.5,   1.9760,  34.7159,2,  34.7153,2,    182.0,2,   182.5,2,    85.8,2,    32.0,2,    0.01,2,   2.193,2,   0.2305,2,   0.1146,2,   0.0688,2,  2252.9,2,  2353.8,2,   7.5787,2,    25.00, -999.00,9,  -999.0,9,  -999.0,   0.8753,2, -999.00,9,  -999.0,9, -999.00,9, -999.00,9,    20.2918,2,    4.95,2,  -999.0,9,     -999.0,     -999.0,9,     -999.0,9,     -999.0,     -999.0,9,     -999.0,     -999.0,9,     -999.0,     -999.0,       4.95,2,       1.67,2,       1.67,2,     -999.0,9,     -999.0,9,     -999.0,9,     -999.0,9,     -999.0,9
33RO20161119,        P18,     194,          1,         14,      11113,2,20170122,       0726,   -62.9999,  -102.9995,       5026,  1005.4,   2.0752,  34.6958,2,  34.6949,2,    178.3,2,   177.7,2,    83.5,2,    32.6,2,    0.01,2,   2.244,2,   0.2940,2,   0.1436,2,   0.0817,2,  2254.6,2,  2350.0,2,   7.5702,2,    25.00, -999.00,9,  -999.0,9,  -999.0,   1.6717,2, -999.00,9,  -999.0,9, -999.00,9, -999.00,9,    20.9043,2,    4.93,2,  -999.0,9,     -999.0,     -999.0,9,     -999.0,9,     -999.0,     -999.0,9,     -999.0,     -999.0,9,     -999.0,     -999.0,       4.93,2,       1.59,2,       1.59,2,     -999.0,9,     -999.0,9,     -999.0,9,     -999.0,9,     -999.0,9
33RO20161119,        P18,     194,          1,         15,      11114,2,20170122,       0726,   -62.9999,  -102.9995,       5026,   851.6,   2.1667,  34.6654,2,  34.6656,2,    174.2,2,   174.5,2,    80.6,2,    33.3,2,    0.01,2,   2.280,2,   0.3841,2,   0.1925,2,   0.1296,2,  2255.1,2,  2341.6,2,   7.5578,2,    25.00, -999.00,9,  -999.0,9,  -999.0,   2.1913,2, -999.00,9,  -999.0,9, -999.00,9, -999.00,9,    21.5865,2,    4.94,2,  -999.0,9,     -999.0,     -999.0,9,     -999.0,9,     -999.0,     -999.0,9,     -999.0,     -999.0,9,     -999.0,     -999.0,       4.94,2,       1.59,2,       1.59,2,     -999.0,9,     -999.0,9,     -999.0,9,     -999.0,9,     -999.0,9
33RO20161119,        P18,     194,          1,         16,      11115,2,20170122,       0726,   -62.9999,  -102.9995,       5026,   706.0,   2.2383,  34.6239,2,  34.6229,2,    171.8,2,   172.1,2,    77.9,2,    33.9,2,    0.01,2,   2.328,2,   0.5351,6,   0.2670,6,   0.1663,6,  2256.3,2,  2338.0,6,   7.5484,2,    25.00, -999.00,9,  -999.0,9,  -999.0,   4.8686,2, -999.00,9,  -999.0,9, -999.00,9, -999.00,9,    22.1595,2,    4.97,2,  -999.0,9,     -999.0,     -999.0,9,     -999.0,9,     -999.0,     -999.0,9,     -999.0,     -999.0,9,     -999.0,     -999.0,       4.97,2,       1.68,2,       1.68,2,     -999.0,9,     -999.0,9,     -999.0,9,     -999.0,9,     -999.0,9
33RO20161119,        P18,     194,          1,         17,      11116,2,20170122,       0726,   -62.9999,  -102.9995,       5026,   564.8,   2.2797,  34.5579,2,  34.5563,2,    172.6,2,   172.4,2,    73.5,2,    34.7,2,    0.01,2,   2.375,2,   0.8422,2,   0.4283,2,   0.2851,2,  2254.2,6,  2332.1,2,   7.5374,2,    25.00, -999.00,9,  -999.0,9,  -999.0,   6.0185,2, -999.00,9,  -999.0,9, -999.00,9, -999.00,9,    22.9179,2,    4.97,2,  -999.0,9,     -999.0,     -999.0,9,     -999.0,9,     -999.0,     -999.0,9,     -999.0,     -999.0,9,     -999.0,     -999.0,       4.97,2,       1.72,2,       1.72,2,     -999.0,9,     -999.0,9,     -999.0,9,     -999.0,9,     -999.0,9
33RO20161119,        P18,     194,          1,         18,      11117,2,20170122,       0726,   -62.9999,  -102.9995,       5026,   429.4,   2.2812,  34.4568,2,  34.4551,2,    183.7,2,   182.8,2,    66.0,2,    35.1,2,    0.02,2,   2.398,2,   1.4941,2,   0.7579,2,   0.5018,2,  2246.1,2,  2321.6,2,   7.5349,2,    25.00, -999.00,9,  -999.0,9,  -999.0,   5.8714,2, -999.00,9,  -999.0,9, -999.00,9, -999.00,9,     23.402,2,    4.98,2,  -999.0,9,     -999.0,     -999.0,9,     -999.0,9,     -999.0,     -999.0,9,     -999.0,     -999.0,9,     -999.0,     -999.0,       4.98,2,       1.68,2,       1.68,2,     -999.0,9,     -999.0,9,     -999.0,9,     -999.0,9,     -999.0,9
33RO20161119,        P18,     194,          1,         19,      11083,2,20170122,       0726,   -62.9999,  -102.9995,       5026,   315.2,   2.2279,  34.3407,2,  34.3403,2,    202.7,2,   203.6,2,    56.6,2,    34.4,2,    0.02,2,   2.354,2,   2.3025,2,   1.2028,2,   0.9753,2,  2233.4,2,  2310.3,2,   7.5474,2,    25.00, -999.00,9,  -999.0,9,  -999.0,   6.2091,2, -999.00,9,  -999.0,9, -999.00,9, -999.00,9,    22.6189,2,    5.07,2,  -999.0,9,     -999.0,     -999.0,9,     -999.0,9,     -999.0,     -999.0,9,     -999.0,     -999.0,9,     -999.0,     -999.0,       5.07,2,       1.84,2,       1.84,2,     -999.0,9,     -999.0,9,     -999.0,9,     -999.0,9,     -999.0,9
33RO20161119,        P18,     194,          1,         20,      11118,2,20170122,       0726,   -62.9999,  -102.9995,       5026,   213.2,   1.1250,  34.0967,2,  34.1029,2,    280.6,2,   277.0,2,    39.0,2,    31.1,2,    0.02,2,   2.146,2,   4.3645,2,   2.3502,2,   2.3543,2,  2194.1,2,  2290.4,2,   7.6079,2,    25.00, -999.00,9,  -999.0,9,  -999.0,   0.4718,2, -999.00,9,  -999.0,9, -999.00,9, -999.00,9,    18.0493,2,    5.41,2,  -999.0,9,     -999.0,     -999.0,9,     -999.0,9,     -999.0,     -999.0,9,     -999.0,     -999.0,9,     -999.0,     -999.0,       5.41,2,       2.41,2,       2.29,2,     -999.0,9,     -999.0,9,     -999.0,9,     -999.0,9,     -999.0,9
33RO20161119,        P18,     194,          1,         21,      11119,2,20170122,       0726,   -62.9999,  -102.9995,       5026,   125.3,   0.5618,  33.9522,2,  33.9635,2,    324.9,2,   324.5,2,    27.7,2,    27.7,2,    0.20,2,   1.972,2,   5.4592,2,   2.9613,2,   3.3421,2,  2168.2,2,  2282.3,2,   7.6578,2,    25.00, -999.00,9,  -999.0,9,  -999.0,   0.5349,2, -999.00,9,  -999.0,9, -999.00,9, -999.00,9,    15.1664,2,    5.95,2,  -999.0,9,     -999.0,     -999.0,9,     -999.0,9,     -999.0,     -999.0,9,     -999.0,     -999.0,9,     -999.0,     -999.0,       5.82,2,       3.04,2,       2.81,2,     -999.0,9,     -999.0,9,     -999.0,9,     -999.0,9,     -999.0,9
33RO20161119,        P18,     194,          1,         22,      11120,2,20170122,       0726,   -62.9999,  -102.9995,       5026,    55.8,   1.3558,  33.8564,2,  33.8564,2,    342.8,2,   341.9,2,    15.7,2,    25.0,2,    0.19,2,   1.823,2,   5.6380,2,   3.0625,2,   3.4442,2,  2147.4,2,  2280.4,2,   7.7034,6,    25.00, -999.00,9,  -999.0,9,  -999.0,   0.5185,2, -999.00,9,  -999.0,9, -999.00,9, -999.00,9,    14.4674,2,    6.84,2,  -999.0,9,     -999.0,     -999.0,9,     -999.0,9,     -999.0,     -999.0,9,     -999.0,     -999.0,9,     -999.0,     -999.0,       6.52,2,       3.75,2,       3.21,2,     -999.0,9,     -999.0,9,     -999.0,9,     -999.0,9,     -999.0,9
33RO20161119,        P18,     194,          1,         23,      11121,2,20170122,       0726,   -62.9999,  -102.9995,       5026,    20.0,   3.0147,  33.8433,2,  33.8448,2,    326.1,2,   327.4,6,    11.6,2,    24.1,2,    0.24,2,   1.631,2,   5.2997,2,   2.8734,2,   3.3266,2,  2143.2,6,  2281.8,6,   7.7158,2,    25.00, -999.00,9,  -999.0,9,  -999.0,   0.3757,2, -999.00,9,  -999.0,9, -999.00,9, -999.00,9,    13.7229,2,    7.72,2,  -999.0,9,     -999.0,     -999.0,9,     -999.0,9,     -999.0,     -999.0,9,     -999.0,     -999.0,9,     -999.0,     -999.0,       6.78,2,        3.4,2,       3.35,2,     -999.0,9,     -999.0,9,     -999.0,9,     -999.0,9,     -999.0,9
33RO20161119,        P18,     194,          1,         24,      11122,2,20170122,       0726,   -62.9999,  -102.9995,       5026,     3.7,   3.0155,  33.8433,2,  33.8421,2,    325.4,2,   327.1,2,    11.7,2,    24.1,2,    0.24,2,   1.625,2,   5.2661,2,   2.8705,2,   3.2355,2,  2145.8,2,  2283.2,2,   7.7152,2,    25.00, -999.00,9,  -999.0,9,  -999.0,   0.3837,2, -999.00,9,  -999.0,9, -999.00,9, -999.00,9,     13.686,2,    7.76,2,  -999.0,9,     -999.0,     -999.0,9,     -999.0,9,     -999.0,     -999.0,9,     -999.0,     -999.0,9,     -999.0,     -999.0,        6.8,2,       3.55,2,       3.28,2,     -999.0,9,     -999.0,9,     -999.0,9,     -999.0,9,     -999.0,9