BOTTLE,20230606CCHSIOCBG
EXPOCODE,SECT_ID,STNNBR,CASTNO,SAMPNO,BTLNBR,BTLNBR_FLAG_W,DATE,TIME,LATITUDE,LONGITUDE,DEPTH,CTDPRS,CTDTMP,CTDSAL,CTDSAL_FLAG_W,SALNTY,SALNTY_FLAG_W,CTDOXY,CTDOXY_FLAG_W,OXYGEN,OXYGEN_FLAG_W,SILCAT,SILCAT_FLAG_W,NITRAT,NITRAT_FLAG_W,NITRIT,NITRIT_FLAG_W,PHSPHT,PHSPHT_FLAG_W,CFC-11,CFC-11_FLAG_W,CFC-12,CFC-12_FLAG_W,SF6,SF6_FLAG_W,TCARBN,TCARBN_FLAG_W,ALKALI,ALKALI_FLAG_W,PH_SWS,PH_SWS_FLAG_W,PH_TMP,DELC13,DELC13_FLAG_W,DELC14,DELC14_FLAG_W,C14ERR,CCL4,CCL4_FLAG_W,POC,POC_FLAG_W,DOC,DOC_FLAG_W,TDN,TDN_FLAG_W,PON,PON_FLAG_W,N2O,N2O_FLAG_W,D15N_NO3,D15N_NO3_FLAG_W,14C-DOC,14C-DOC_FLAG_W,14C-DOCERR,13C-DOC,13C-DOC_FLAG_W,N2/ARGON_UNSTRIPPED,N2/ARGON_UNSTRIPPED_FLAG_W,N2/ARGON_UNSTRIPPED_ERROR,N2/ARGON,N2/ARGON_FLAG_W,N2/ARGON_ERROR,D15N_N2,D15N_N2_FLAG_W,D15N_N2_ERROR,D15N_NO3_ERROR,D15N_NO2+NO3,D15N_NO2+NO3_FLAG_W,D18O_NO2+NO3,D18O_NO2+NO3_FLAG_W,D18O_NO3,D18O_NO3_FLAG_W,TDP,TDP_FLAG_W,N2O_ALT_1,N2O_ALT_1_FLAG_W,D15N_N2O,D15N_N2O_FLAG_W,D18O_N2O,D18O_N2O_FLAG_W,D15N_ALPHA_N2O,D15N_ALPHA_N2O_FLAG_W
,,,,,,,,,,,METERS,DBAR,ITS-90,PSS-78,,PSS-78,,UMOL/KG,,UMOL/KG,,UMOL/KG,,UMOL/KG,,UMOL/KG,,UMOL/KG,,PMOL/KG,,PMOL/KG,,FMOL/KG,,UMOL/KG,,UMOL/KG,,,,DEG C,/MILLE,,/MILLE,,/MILLE,PMOL/KG,,UG/KG,,UMOL/KG,,UMOL/KG,,UG/KG,,NMOL/KG,,/MILLE,,/MILLE,,/MILLE,/MILLE,,,,,,,,/MILLE,,/MILLE,/MILLE,/MILLE,,/MILLE,,/MILLE,,UMOL/KG,,NMOL/L,,/MILLE,,/MILLE,,/MILLE,
33RO20161119,        P18,      60,          1,          1,      11010,2,20161208,       0554,    -1.2488,  -110.0009,       3921,  3973.0,   1.4801,  34.6922,2,  34.6905,2,    156.1,2,   156.6,2,   142.6,6,    36.0,6,    0.00,6,   2.444,6,-999.0000,9,-999.0000,9,-999.0000,9,  -999.0,9,  -999.0,9,   7.5932,6,    25.00, -999.00,9,  -999.0,9,  -999.0,-999.0000,9, -999.00,9,  -999.0,9, -999.00,9, -999.00,9,     -999.0,9, -999.00,9,  -999.0,9,     -999.0,     -999.0,9,     -999.0,9,     -999.0,     -999.0,9,     -999.0,     -999.0,9,     -999.0,     -999.0,     -999.0,9,     -999.0,9,     -999.0,9,     -999.0,9,     -999.0,9,     -999.0,9,     -999.0,9,     -999.0,9
33RO20161119,        P18,      60,          1,          2,      11101,2,20161208,       0554,    -1.2488,  -110.0009,       3921,  3650.2,   1.4589,  34.6914,2,  34.6913,2,    154.3,2,   154.3,2,   142.8,6,    36.2,6,    0.00,6,   2.456,6,-999.0000,9,-999.0000,9,-999.0000,9,  -999.0,9,  -999.0,9,-999.0000,9,  -999.00, -999.00,9,  -999.0,9,  -999.0,-999.0000,9, -999.00,9,  -999.0,9, -999.00,9, -999.00,9,     -999.0,9, -999.00,9,  -999.0,9,     -999.0,     -999.0,9,     -999.0,9,     -999.0,     -999.0,9,     -999.0,     -999.0,9,     -999.0,     -999.0,     -999.0,9,     -999.0,9,     -999.0,9,     -999.0,9,     -999.0,9,     -999.0,9,     -999.0,9,     -999.0,9
33RO20161119,        P18,      60,          1,          3,      11102,2,20161208,       0554,    -1.2488,  -110.0009,       3921,  3400.7,   1.5503,  34.6848,2,  34.6858,2,    145.0,2,   145.2,6,   144.2,6,    36.8,6,    0.00,6,   2.509,6,-999.0000,9,-999.0000,9,-999.0000,9,  -999.0,9,  -999.0,9,-999.0000,9,  -999.00, -999.00,9,  -999.0,9,  -999.0,-999.0000,9, -999.00,9,  -999.0,9, -999.00,9, -999.00,9,     -999.0,9, -999.00,9,  -999.0,9,     -999.0,     -999.0,9,     -999.0,9,     -999.0,     -999.0,9,     -999.0,     -999.0,9,     -999.0,     -999.0,     -999.0,9,     -999.0,9,     -999.0,9,     -999.0,9,     -999.0,9,     -999.0,9,     -999.0,9,     -999.0,9
33RO20161119,        P18,      60,          1,          4,      11103,2,20161208,       0554,    -1.2488,  -110.0009,       3921,  3074.8,   1.6291,  34.6773,2,  34.6757,2,    138.4,2,   139.2,2,   142.1,6,    37.1,6,    0.00,6,   2.548,6,-999.0000,9,-999.0000,9,-999.0000,9,  -999.0,9,  -999.0,9,-999.0000,9,  -999.00, -999.00,9,  -999.0,9,  -999.0,-999.0000,9, -999.00,9,  -999.0,9, -999.00,9, -999.00,9,     -999.0,9, -999.00,9,  -999.0,9,     -999.0,     -999.0,9,     -999.0,9,     -999.0,     -999.0,9,     -999.0,     -999.0,9,     -999.0,     -999.0,     -999.0,9,     -999.0,9,     -999.0,9,     -999.0,9,     -999.0,9,     -999.0,9,     -999.0,9,     -999.0,9
33RO20161119,        P18,      60,          1,          5,      11104,2,20161208,       0554,    -1.2488,  -110.0009,       3921,  2774.4,   1.7817,  34.6689,2,  34.6732,4,    128.5,2,   129.3,2,   141.7,2,    37.7,2,    0.00,2,   2.600,2,-999.0000,9,-999.0000,9,-999.0000,9,  -999.0,9,  -999.0,9,-999.0000,9,  -999.00, -999.00,9,  -999.0,9,  -999.0,-999.0000,9, -999.00,9,  -999.0,9, -999.00,9, -999.00,9,     -999.0,9, -999.00,9,  -999.0,9,     -999.0,     -999.0,9,     -999.0,9,     -999.0,     -999.0,9,     -999.0,     -999.0,9,     -999.0,     -999.0,     -999.0,9,     -999.0,9,     -999.0,9,     -999.0,9,     -999.0,9,     -999.0,9,     -999.0,9,     -999.0,9
33RO20161119,        P18,      60,          1,          6,      11105,2,20161208,       0554,    -1.2488,  -110.0009,       3921,  2461.4,   1.8709,  34.6643,2,  34.6649,2,    121.2,2,   121.6,6,   142.3,2,    38.3,2,    0.00,2,   2.642,2,-999.0000,9,-999.0000,9,-999.0000,9,  -999.0,9,  -999.0,9,-999.0000,9,  -999.00, -999.00,9,  -999.0,9,  -999.0,-999.0000,9, -999.00,9,  -999.0,9, -999.00,9, -999.00,9,     -999.0,9, -999.00,9,  -999.0,9,     -999.0,     -999.0,9,     -999.0,9,     -999.0,     -999.0,9,     -999.0,     -999.0,9,     -999.0,     -999.0,     -999.0,9,     -999.0,9,     -999.0,9,     -999.0,9,     -999.0,9,     -999.0,9,     -999.0,9,     -999.0,9
33RO20161119,        P18,      60,          1,          7,      11106,2,20161208,       0554,    -1.2488,  -110.0009,       3921,  2158.0,   2.1188,  34.6542,2,  34.6556,2,    107.8,2,   108.3,2,   141.2,2,    39.1,2,    0.00,2,   2.717,2,-999.0000,9,-999.0000,9,-999.0000,9,  -999.0,9,  -999.0,9,-999.0000,9,  -999.00, -999.00,9,  -999.0,9,  -999.0,-999.0000,9, -999.00,9,  -999.0,9, -999.00,9, -999.00,9,     -999.0,9, -999.00,9,  -999.0,9,     -999.0,     -999.0,9,     -999.0,9,     -999.0,     -999.0,9,     -999.0,     -999.0,9,     -999.0,     -999.0,     -999.0,9,     -999.0,9,     -999.0,9,     -999.0,9,     -999.0,9,     -999.0,9,     -999.0,9,     -999.0,9
33RO20161119,        P18,      60,          1,          8,      11107,2,20161208,       0554,    -1.2488,  -110.0009,       3921,  1850.1,   2.4839,  34.6359,2,  34.6372,2,     96.2,2,    96.4,2,   134.1,2,    39.9,2,    0.00,2,   2.788,2,-999.0000,9,-999.0000,9,-999.0000,9,  -999.0,9,  -999.0,9,-999.0000,9,  -999.00, -999.00,9,  -999.0,9,  -999.0,-999.0000,9, -999.00,9,  -999.0,9, -999.00,9, -999.00,9,     -999.0,9, -999.00,9,  -999.0,9,     -999.0,     -999.0,9,     -999.0,9,     -999.0,     -999.0,9,     -999.0,     -999.0,9,     -999.0,     -999.0,     -999.0,9,     -999.0,9,     -999.0,9,     -999.0,9,     -999.0,9,     -999.0,9,     -999.0,9,     -999.0,9
33RO20161119,        P18,      60,          1,          9,      11108,2,20161208,       0554,    -1.2488,  -110.0009,       3921,  1544.9,   2.9488,  34.6102,2,  34.6089,2,     91.1,2,    91.0,2,   119.7,2,    40.2,2,    0.01,2,   2.821,2,   0.0025,2,   0.0000,2,   0.0000,2,  2335.9,2,  -999.0,9,   7.4723,2,    25.00, -999.00,9,  -999.0,9,  -999.0,   0.0088,2, -999.00,9,  -999.0,9, -999.00,9, -999.00,9,    29.8055,2, -999.00,9,  -999.0,9,     -999.0,     -999.0,9,     -999.0,9,     -999.0,     -999.0,9,     -999.0,     -999.0,9,     -999.0,     -999.0,     -999.0,9,     -999.0,9,     -999.0,9,     -999.0,9,     -999.0,9,     -999.0,9,     -999.0,9,     -999.0,9
33RO20161119,        P18,      60,          1,         10,      11109,2,20161208,       0554,    -1.2488,  -110.0009,       3921,  1350.3,   3.3680,  34.5925,2,  34.5955,2,     86.8,2,    86.7,2,   109.1,2,    40.1,2,    0.00,2,   2.838,2,-999.0000,9,-999.0000,9,-999.0000,9,  -999.0,9,  2384.2,2,   7.4649,2,    25.00, -999.00,9,  -999.0,9,  -999.0,-999.0000,9, -999.00,9,  -999.0,9, -999.00,9, -999.00,9,     -999.0,9, -999.00,9,  -999.0,9,     -999.0,     -999.0,9,     -999.0,9,     -999.0,     -999.0,9,     -999.0,     -999.0,9,     -999.0,     -999.0,     -999.0,9,     -999.0,9,     -999.0,9,     -999.0,9,     -999.0,9,     -999.0,9,     -999.0,9,     -999.0,9
33RO20161119,        P18,      60,          1,         11,      11110,2,20161208,       0554,    -1.2488,  -110.0009,       3921,  1211.0,   3.7394,  34.5764,2,  34.5752,2,     88.2,2,    87.4,2,    98.9,2,    40.0,2,    0.00,2,   2.829,2,   0.0057,2,   0.0040,2,   0.0000,2,  2316.2,2,  -999.0,9,   7.4631,2,    25.00, -999.00,9,  -999.0,9,  -999.0,   0.0187,2, -999.00,9,  -999.0,9, -999.00,9, -999.00,9,    31.8881,2, -999.00,9,  -999.0,9,     -999.0,     -999.0,9,     -999.0,9,     -999.0,     -999.0,9,     -999.0,     -999.0,9,     -999.0,     -999.0,     -999.0,9,     -999.0,9,     -999.0,9,     -999.0,9,     -999.0,9,     -999.0,9,     -999.0,9,     -999.0,9
33RO20161119,        P18,      60,          1,         12,      11111,2,20161208,       0554,    -1.2488,  -110.0009,       3921,  1071.0,   4.3524,  34.5639,2,  34.5628,2,     77.1,2,    76.9,2,    87.9,2,    40.6,2,    0.00,2,   2.863,2,-999.0000,9,-999.0000,9,-999.0000,9,  -999.0,9,  2358.1,2,   7.4450,2,    25.00, -999.00,9,  -999.0,9,  -999.0,-999.0000,9, -999.00,9,  -999.0,9, -999.00,9, -999.00,9,     -999.0,9, -999.00,9,  -999.0,9,     -999.0,     -999.0,9,     -999.0,9,     -999.0,     -999.0,9,     -999.0,     -999.0,9,     -999.0,     -999.0,     -999.0,9,     -999.0,9,     -999.0,9,     -999.0,9,     -999.0,9,     -999.0,9,     -999.0,9,     -999.0,9
33RO20161119,        P18,      60,          1,         13,      11112,2,20161208,       0554,    -1.2488,  -110.0009,       3921,   939.3,   4.9738,  34.5498,2,  34.5504,2,     76.6,2,    77.1,2,    73.7,2,    40.1,2,    0.00,2,   2.812,2,   0.0215,2,   0.0121,2,   0.0000,2,  2291.2,2,  -999.0,9,   7.4492,2,    25.00, -999.00,9,  -999.0,9,  -999.0,     0.07,2, -999.00,9,  -999.0,9, -999.00,9, -999.00,9,    35.2408,2, -999.00,9,  -999.0,9,     -999.0,     -999.0,9,     -999.0,9,     -999.0,     -999.0,9,     -999.0,     -999.0,9,     -999.0,     -999.0,     -999.0,9,     -999.0,9,     -999.0,9,     -999.0,9,     -999.0,9,     -999.0,9,     -999.0,9,     -999.0,9
33RO20161119,        P18,      60,          1,         14,      11113,2,20161208,       0554,    -1.2488,  -110.0009,       3921,   809.6,   5.5511,  34.5431,2,  34.5463,2,     79.4,2,    81.6,2,    62.1,2,    39.0,2,    0.00,2,   2.720,2,-999.0000,9,-999.0000,9,-999.0000,9,  -999.0,9,  2318.4,2,   7.4664,2,    25.00, -999.00,9,  -999.0,9,  -999.0,-999.0000,9, -999.00,9,  -999.0,9, -999.00,9, -999.00,9,     -999.0,9, -999.00,9,  -999.0,9,     -999.0,     -999.0,9,     -999.0,9,     -999.0,     -999.0,9,     -999.0,     -999.0,9,     -999.0,     -999.0,     -999.0,9,     -999.0,9,     -999.0,9,     -999.0,9,     -999.0,9,     -999.0,9,     -999.0,9,     -999.0,9
33RO20161119,        P18,      60,          1,         15,      11114,2,20161208,       0554,    -1.2488,  -110.0009,       3921,   690.0,   6.6235,  34.5637,2,  34.5615,2,     62.3,2,    63.5,2,    49.7,2,    39.5,2,    0.00,2,   2.727,2,   0.1163,2,   0.0629,2,   0.0192,2,  2268.8,2,  2317.0,2,   7.4430,2,    25.00, -999.00,9,  -999.0,9,  -999.0,   0.0581,2, -999.00,9,  -999.0,9, -999.00,9, -999.00,9,    41.9005,2, -999.00,9,  -999.0,9,     -999.0,     -999.0,9,     -999.0,9,     -999.0,     -999.0,9,     -999.0,     -999.0,9,     -999.0,     -999.0,     -999.0,9,     -999.0,9,     -999.0,9,     -999.0,9,     -999.0,9,     -999.0,9,     -999.0,9,     -999.0,9
33RO20161119,        P18,      60,          1,         16,      11115,2,20161208,       0554,    -1.2488,  -110.0009,       3921,   574.4,   8.3289,  34.6355,2,  34.6344,2,     42.2,2,    43.6,2,    37.5,2,    37.7,2,    0.00,2,   2.591,2,-999.0000,9,-999.0000,9,-999.0000,9,  -999.0,9,  2308.9,2,   7.4298,2,    25.00, -999.00,9,  -999.0,9,  -999.0,-999.0000,9, -999.00,9,  -999.0,9, -999.00,9, -999.00,9,     -999.0,9, -999.00,9,  -999.0,9,     -999.0,     -999.0,9,     -999.0,9,     -999.0,     -999.0,9,     -999.0,     -999.0,9,     -999.0,     -999.0,     -999.0,9,     -999.0,9,     -999.0,9,     -999.0,9,     -999.0,9,     -999.0,9,     -999.0,9,     -999.0,9
33RO20161119,        P18,      60,          1,         17,      11116,2,20161208,       0554,    -1.2488,  -110.0009,       3921,   468.7,   9.2951,  34.6883,2,  34.6879,2,     20.5,2,    23.1,2,    35.9,2,    37.9,2,    0.00,2,   2.620,2,   0.3877,6,   0.2127,6,   0.0688,6,  2268.2,2,  2305.4,2,   7.4012,6,    25.00, -999.00,9,  -999.0,9,  -999.0,   0.0597,2, -999.00,9,  -999.0,9, -999.00,9, -999.00,9,    61.2449,2, -999.00,9,  -999.0,9,     -999.0,     -999.0,9,     -999.0,9,     -999.0,     -999.0,9,     -999.0,     -999.0,9,     -999.0,     -999.0,     -999.0,9,     -999.0,9,     -999.0,9,     -999.0,9,     -999.0,9,     -999.0,9,     -999.0,9,     -999.0,9
33RO20161119,        P18,      60,          1,         18,      11117,2,20161208,       0554,    -1.2488,  -110.0009,       3921,   364.8,  10.3974,  34.7500,2,  34.7499,2,     21.3,2,    24.4,2,    30.4,2,    35.1,2,    0.01,2,   2.431,2,-999.0000,9,-999.0000,9,-999.0000,9,  2257.3,2,  2305.6,2,   7.4317,2,    25.00, -999.00,9,  -999.0,9,  -999.0,-999.0000,9, -999.00,9,  -999.0,9, -999.00,9, -999.00,9,     -999.0,9, -999.00,9,  -999.0,9,     -999.0,     -999.0,9,     -999.0,9,     -999.0,     -999.0,9,     -999.0,     -999.0,9,     -999.0,     -999.0,     -999.0,9,     -999.0,9,     -999.0,9,     -999.0,9,     -999.0,9,     -999.0,9,     -999.0,9,     -999.0,9
33RO20161119,        P18,      60,          1,         19,      11083,2,20161208,       0554,    -1.2488,  -110.0009,       3921,   274.0,  11.7567,  34.8388,2,  34.8380,2,     24.4,2,    24.7,2,    25.8,2,    32.7,2,    0.01,2,   2.275,2,   0.9845,2,   0.5460,2,   0.2216,2,  2246.0,2,  2300.3,2,   7.4614,2,    25.00, -999.00,9,  -999.0,9,  -999.0,   0.8643,2, -999.00,9,  -999.0,9, -999.00,9, -999.00,9,    62.5197,2, -999.00,9,  -999.0,9,     -999.0,     -999.0,9,     -999.0,9,     -999.0,     -999.0,9,     -999.0,     -999.0,9,     -999.0,     -999.0,     -999.0,9,     -999.0,9,     -999.0,9,     -999.0,9,     -999.0,9,     -999.0,9,     -999.0,9,     -999.0,9
33RO20161119,        P18,      60,          1,         20,      11118,2,20161208,       0554,    -1.2488,  -110.0009,       3921,   195.4,  12.4309,  34.8771,2,  34.8757,2,     64.3,2,    63.7,2,    21.1,2,    27.8,2,    0.01,2,   1.949,2,-999.0000,9,-999.0000,9,-999.0000,9,  2213.8,2,  2302.3,2,   7.5668,2,    25.00, -999.00,9,  -999.0,9,  -999.0,-999.0000,9, -999.00,9,  -999.0,9, -999.00,9, -999.00,9,     -999.0,9, -999.00,9,  -999.0,9,     -999.0,     -999.0,9,     -999.0,9,     -999.0,     -999.0,9,     -999.0,     -999.0,9,     -999.0,     -999.0,     -999.0,9,     -999.0,9,     -999.0,9,     -999.0,9,     -999.0,9,     -999.0,9,     -999.0,9,     -999.0,9
33RO20161119,        P18,      60,          1,         21,      11119,2,20161208,       0554,    -1.2488,  -110.0009,       3921,   125.0,  13.9510,  35.0096,2,  35.2184,4,     71.7,2,    71.4,2,    16.1,2,    25.0,2,    0.01,2,   1.794,2,-999.0000,9,-999.0000,9,-999.0000,9,  2200.7,2,  2305.0,2,   7.6149,2,    25.00, -999.00,9,  -999.0,9,  -999.0,-999.0000,9, -999.00,9,  -999.0,9, -999.00,9, -999.00,9,     -999.0,9, -999.00,9,  -999.0,9,     -999.0,     -999.0,9,     -999.0,9,     -999.0,     -999.0,9,     -999.0,     -999.0,9,     -999.0,     -999.0,     -999.0,9,     -999.0,9,     -999.0,9,     -999.0,9,     -999.0,9,     -999.0,9,     -999.0,9,     -999.0,9
33RO20161119,        P18,      60,          1,         22,      11120,2,20161208,       0554,    -1.2488,  -110.0009,       3921,    60.5,  21.6004,  35.2186,2,  35.0119,4,    172.3,2,   165.2,2,     5.3,2,    10.8,2,    0.47,2,   1.004,2,   1.8404,2,   1.1248,2,   1.2572,2,  2106.4,2,  2315.9,2,   7.8667,2,    25.00, -999.00,9,  -999.0,9,  -999.0,    1.293,2, -999.00,9,  -999.0,9, -999.00,9, -999.00,9,    16.1309,2, -999.00,9,  -999.0,9,     -999.0,     -999.0,9,     -999.0,9,     -999.0,     -999.0,9,     -999.0,     -999.0,9,     -999.0,     -999.0,     -999.0,9,     -999.0,9,     -999.0,9,     -999.0,9,     -999.0,9,     -999.0,9,     -999.0,9,     -999.0,9
33RO20161119,        P18,      60,          1,         23,      11121,2,20161208,       0554,    -1.2488,  -110.0009,       3921,    27.4,  21.5435,  34.9613,2,  34.9579,2,    192.6,2,   193.4,2,     5.9,2,     9.7,2,    0.22,2,   0.827,2,-999.0000,9,-999.0000,9,-999.0000,9,  2079.5,2,  -999.0,9,   7.8895,2,    25.00, -999.00,9,  -999.0,9,  -999.0,-999.0000,9, -999.00,9,  -999.0,9, -999.00,9, -999.00,9,     -999.0,9, -999.00,9,  -999.0,9,     -999.0,     -999.0,9,     -999.0,9,     -999.0,     -999.0,9,     -999.0,     -999.0,9,     -999.0,     -999.0,     -999.0,9,     -999.0,9,     -999.0,9,     -999.0,9,     -999.0,9,     -999.0,9,     -999.0,9,     -999.0,9
33RO20161119,        P18,      60,          1,         24,      11122,2,20161208,       0554,    -1.2488,  -110.0009,       3921,     3.0,  22.3349,  34.9435,2,  34.9420,2,    199.0,2,   202.7,2,     5.8,2,     9.5,2,    0.22,2,   0.807,2,   1.8941,2,   1.1518,2,   1.3860,2,  2076.8,6,  2305.8,2,   7.8988,2,    25.00, -999.00,9,  -999.0,9,  -999.0,        0,2, -999.00,9,  -999.0,9, -999.00,9, -999.00,9,    11.3124,2, -999.00,9,  -999.0,9,     -999.0,     -999.0,9,     -999.0,9,     -999.0,     -999.0,9,     -999.0,     -999.0,9,     -999.0,     -999.0,     -999.0,9,     -999.0,9,     -999.0,9,     -999.0,9,     -999.0,9,     -999.0,9,     -999.0,9,     -999.0,9