BOTTLE,20230606CCHSIOCBG
EXPOCODE,SECT_ID,STNNBR,CASTNO,SAMPNO,BTLNBR,BTLNBR_FLAG_W,DATE,TIME,LATITUDE,LONGITUDE,DEPTH,CTDPRS,CTDTMP,CTDSAL,CTDSAL_FLAG_W,SALNTY,SALNTY_FLAG_W,CTDOXY,CTDOXY_FLAG_W,OXYGEN,OXYGEN_FLAG_W,SILCAT,SILCAT_FLAG_W,NITRAT,NITRAT_FLAG_W,NITRIT,NITRIT_FLAG_W,PHSPHT,PHSPHT_FLAG_W,CFC-11,CFC-11_FLAG_W,CFC-12,CFC-12_FLAG_W,SF6,SF6_FLAG_W,TCARBN,TCARBN_FLAG_W,ALKALI,ALKALI_FLAG_W,PH_SWS,PH_SWS_FLAG_W,PH_TMP,DELC13,DELC13_FLAG_W,DELC14,DELC14_FLAG_W,C14ERR,CCL4,CCL4_FLAG_W,POC,POC_FLAG_W,DOC,DOC_FLAG_W,TDN,TDN_FLAG_W,PON,PON_FLAG_W,N2O,N2O_FLAG_W,D15N_NO3,D15N_NO3_FLAG_W,14C-DOC,14C-DOC_FLAG_W,14C-DOCERR,13C-DOC,13C-DOC_FLAG_W,N2/ARGON_UNSTRIPPED,N2/ARGON_UNSTRIPPED_FLAG_W,N2/ARGON_UNSTRIPPED_ERROR,N2/ARGON,N2/ARGON_FLAG_W,N2/ARGON_ERROR,D15N_N2,D15N_N2_FLAG_W,D15N_N2_ERROR,D15N_NO3_ERROR,D15N_NO2+NO3,D15N_NO2+NO3_FLAG_W,D18O_NO2+NO3,D18O_NO2+NO3_FLAG_W,D18O_NO3,D18O_NO3_FLAG_W,TDP,TDP_FLAG_W,N2O_ALT_1,N2O_ALT_1_FLAG_W,D15N_N2O,D15N_N2O_FLAG_W,D18O_N2O,D18O_N2O_FLAG_W,D15N_ALPHA_N2O,D15N_ALPHA_N2O_FLAG_W
,,,,,,,,,,,METERS,DBAR,ITS-90,PSS-78,,PSS-78,,UMOL/KG,,UMOL/KG,,UMOL/KG,,UMOL/KG,,UMOL/KG,,UMOL/KG,,PMOL/KG,,PMOL/KG,,FMOL/KG,,UMOL/KG,,UMOL/KG,,,,DEG C,/MILLE,,/MILLE,,/MILLE,PMOL/KG,,UG/KG,,UMOL/KG,,UMOL/KG,,UG/KG,,NMOL/KG,,/MILLE,,/MILLE,,/MILLE,/MILLE,,,,,,,,/MILLE,,/MILLE,/MILLE,/MILLE,,/MILLE,,/MILLE,,UMOL/KG,,NMOL/L,,/MILLE,,/MILLE,,/MILLE,
33RO20161119,        P18,      96,          1,          1,      11010,2,20161216,       1439,   -14.0001,  -103.0002,       4223,  4277.2,   1.8540,  34.6778,2,  34.6789,2,    137.3,2,   137.7,6,   142.8,6,    36.9,6,    0.00,6,   2.550,6,   0.0016,2,   0.0000,2,   0.0000,2,  2340.5,6,  2435.7,2,   7.5620,6,    25.00, -999.00,9,  -999.0,9,  -999.0,        0,2, -999.00,9,  -999.0,9, -999.00,9, -999.00,9,    21.5447,2, -999.00,9,  -999.0,9,     -999.0,     -999.0,9,     -999.0,9,     -999.0,     -999.0,9,     -999.0,     -999.0,9,     -999.0,     -999.0,     -999.0,9,     -999.0,9,     -999.0,9,     -999.0,9,     -999.0,9,     -999.0,9,     -999.0,9,     -999.0,9
33RO20161119,        P18,      96,          1,          2,      11101,2,20161216,       1439,   -14.0001,  -103.0002,       4223,  3915.0,   1.8154,  34.6778,2,  34.6779,2,    137.4,2,   137.7,2,   143.0,6,    36.9,6,    0.00,6,   2.555,6,-999.0000,9,-999.0000,9,-999.0000,9,  2339.9,2,  2431.9,2,   7.5637,2,    25.00, -999.00,9,  -999.0,9,  -999.0,-999.0000,9, -999.00,9,  -999.0,9, -999.00,9, -999.00,9,     -999.0,9,     5.2,2,  -999.0,9,     -999.0,     -999.0,9,     -999.0,9,     -999.0,     -999.0,9,     -999.0,     -999.0,9,     -999.0,       0.03,     -999.0,9,     -999.0,9,     -999.0,9,     -999.0,9,     -999.0,9,     -999.0,9,     -999.0,9,     -999.0,9
33RO20161119,        P18,      96,          1,          3,      11102,2,20161216,       1439,   -14.0001,  -103.0002,       4223,  3550.8,   1.7901,  34.6776,2,  34.6782,2,    137.4,2,   137.4,2,   141.5,6,    36.9,6,    0.00,6,   2.561,6,-999.0000,9,-999.0000,9,-999.0000,9,  2338.3,2,  2431.8,2,   7.5627,2,    25.00, -999.00,9,  -999.0,9,  -999.0,-999.0000,9, -999.00,9,  -999.0,9, -999.00,9, -999.00,9,     -999.0,9, -999.00,9,  -999.0,9,     -999.0,     -999.0,9,     -999.0,9,     -999.0,     -999.0,9,     -999.0,     -999.0,9,     -999.0,     -999.0,     -999.0,9,     -999.0,9,     -999.0,9,     -999.0,9,     -999.0,9,     -999.0,9,     -999.0,9,     -999.0,9
33RO20161119,        P18,      96,          1,          4,      11103,2,20161216,       1439,   -14.0001,  -103.0002,       4223,  3224.8,   1.7889,  34.6780,2,  34.6787,2,    139.4,2,   140.1,2,   137.0,6,    36.6,6,    0.00,6,   2.551,6,-999.0000,9,-999.0000,9,-999.0000,9,  2332.4,2,  2427.8,2,   7.5638,2,    25.00, -999.00,9,  -999.0,9,  -999.0,-999.0000,9, -999.00,9,  -999.0,9, -999.00,9, -999.00,9,     -999.0,9, -999.00,9,  -999.0,9,     -999.0,     -999.0,9,     -999.0,9,     -999.0,     -999.0,9,     -999.0,     -999.0,9,     -999.0,     -999.0,     -999.0,9,     -999.0,9,     -999.0,9,     -999.0,9,     -999.0,9,     -999.0,9,     -999.0,9,     -999.0,9
33RO20161119,        P18,      96,          1,          5,      11104,2,20161216,       1439,   -14.0001,  -103.0002,       4223,  2900.7,   1.7906,  34.6782,2,  34.6788,2,    143.9,2,   144.3,2,   132.1,2,    36.1,2,    0.00,2,   2.489,2,-999.0000,9,-999.0000,9,-999.0000,9,  2326.2,2,  2422.9,2,   7.5677,2,    25.00, -999.00,9,  -999.0,9,  -999.0,-999.0000,9, -999.00,9,  -999.0,9, -999.00,9, -999.00,9,     -999.0,9, -999.00,9,  -999.0,9,     -999.0,     -999.0,9,     -999.0,9,     -999.0,     -999.0,9,     -999.0,     -999.0,9,     -999.0,     -999.0,     -999.0,9,     -999.0,9,     -999.0,9,     -999.0,9,     -999.0,9,     -999.0,9,     -999.0,9,     -999.0,9
33RO20161119,        P18,      96,          1,          6,      11105,2,20161216,       1439,   -14.0001,  -103.0002,       4223,  2578.5,   1.8323,  34.6726,2,  34.6726,2,    146.6,2,   147.3,2,   126.4,2,    36.0,2,    0.00,2,   2.484,2,-999.0000,9,-999.0000,9,-999.0000,9,  2319.4,2,  2413.2,2,   7.5648,2,    25.00, -999.00,9,  -999.0,9,  -999.0,-999.0000,9, -999.00,9,  -999.0,9, -999.00,9, -999.00,9,     -999.0,9, -999.00,9,  -999.0,9,     -999.0,     -999.0,9,     -999.0,9,     -999.0,     -999.0,9,     -999.0,     -999.0,9,     -999.0,     -999.0,     -999.0,9,     -999.0,9,     -999.0,9,     -999.0,9,     -999.0,9,     -999.0,9,     -999.0,9,     -999.0,9
33RO20161119,        P18,      96,          1,          7,      11106,2,20161216,       1439,   -14.0001,  -103.0002,       4223,  2261.3,   1.9847,  34.6580,2,  34.6577,2,    139.1,2,   140.7,2,   122.3,2,    36.7,2,    0.00,2,   2.535,2,   0.0017,6,   0.0011,6,   0.0122,6,  2318.4,6,  2403.2,2,   7.5450,2,    25.00, -999.00,9,  -999.0,9,  -999.0,        0,2, -999.00,9,  -999.0,9, -999.00,9, -999.00,9,    22.0895,2, -999.00,9,  -999.0,9,     -999.0,     -999.0,9,      37.97,2,     -999.0,      38.09,2,     -999.0,     -999.0,9,     -999.0,     -999.0,     -999.0,9,     -999.0,9,     -999.0,9,     -999.0,9, 20.5361211,2,       9.64,2,      50.17,2,      22.52,2
33RO20161119,        P18,      96,          1,          8,      11107,2,20161216,       1439,   -14.0001,  -103.0002,       4223,  1939.3,   2.3418,  34.6338,2,  34.6339,2,    118.3,2,   118.3,2,   121.0,2,    38.1,2,    0.00,2,   2.665,2,-999.0000,9,-999.0000,9,-999.0000,9,  2325.9,2,  2402.1,2,   7.5109,2,    25.00, -999.00,9,  -999.0,9,  -999.0,-999.0000,9, -999.00,9,  -999.0,9, -999.00,9, -999.00,9,     -999.0,9, -999.00,9,  -999.0,9,     -999.0,     -999.0,9,      37.92,2,     -999.0,      38.04,2,     -999.0,     -999.0,9,     -999.0,     -999.0,     -999.0,9,     -999.0,9,     -999.0,9,     -999.0,9,     -999.0,9,     -999.0,9,     -999.0,9,     -999.0,9
33RO20161119,        P18,      96,          1,          9,      11108,2,20161216,       1439,   -14.0001,  -103.0002,       4223,  1618.9,   2.7679,  34.6063,2,  34.6056,2,    104.1,2,   104.1,2,   111.2,2,    39.5,2,    0.00,2,   2.761,2,-999.0000,9,-999.0000,9,-999.0000,9,  2325.7,2,  2387.6,2,   7.4818,2,    25.00, -999.00,9,  -999.0,9,  -999.0,-999.0000,9, -999.00,9,  -999.0,9, -999.00,9, -999.00,9,     -999.0,9, -999.00,9,  -999.0,9,     -999.0,     -999.0,9,      37.82,2,     -999.0,      37.92,2,     -999.0,     -999.0,9,     -999.0,     -999.0,     -999.0,9,     -999.0,9,     -999.0,9,     -999.0,9,25.44289126,2,       9.95,2,      51.44,2,      22.86,2
33RO20161119,        P18,      96,          1,         10,      11109,2,20161216,       1439,   -14.0001,  -103.0002,       4223,  1420.3,   3.1373,  34.5838,2,  34.5838,2,     92.6,2,    92.5,6,   102.6,2,    40.5,2,    0.00,2,   2.847,2,-999.0000,9,-999.0000,9,-999.0000,9,  2322.4,2,  2375.7,2,   7.4561,2,    25.00, -999.00,9,  -999.0,9,  -999.0,-999.0000,9, -999.00,9,  -999.0,9, -999.00,9, -999.00,9,     -999.0,9,     6.1,2,  -999.0,9,     -999.0,     -999.0,9,      37.88,2,     -999.0,       38.0,2,     -999.0,     -999.0,9,     -999.0,       0.03,     -999.0,9,     -999.0,9,     -999.0,9,     -999.0,9,     -999.0,9,     -999.0,9,     -999.0,9,     -999.0,9
33RO20161119,        P18,      96,          1,         11,      11110,2,20161216,       1439,   -14.0001,  -103.0002,       4223,  1268.9,   3.5174,  34.5642,2,  34.5639,2,     83.7,2,    84.7,2,    93.7,2,    41.3,2,    0.00,2,   2.906,2,-999.0000,9,-999.0000,9,-999.0000,9,  2318.7,2,  2366.6,2,   7.4393,2,    25.00, -999.00,9,  -999.0,9,  -999.0,-999.0000,9, -999.00,9,  -999.0,9, -999.00,9, -999.00,9,     -999.0,9,    6.49,2,  -999.0,9,     -999.0,     -999.0,9,      37.85,2,     -999.0,      37.96,2,     -999.0,     -999.0,9,     -999.0,       0.07,     -999.0,9,     -999.0,9,     -999.0,9,     -999.0,9,29.01070826,2,       9.83,2,      50.23,2,      22.47,2
33RO20161119,        P18,      96,          1,         12,      11111,2,20161216,       1439,   -14.0001,  -103.0002,       4223,  1130.2,   3.8967,  34.5481,2,  34.5486,2,     75.1,2,    76.5,2,    85.4,2,    42.0,2,    0.00,2,   2.945,2,-999.0000,9,-999.0000,9,-999.0000,9,  2314.2,2,  2358.8,2,   7.4223,2,    25.00, -999.00,9,  -999.0,9,  -999.0,-999.0000,9, -999.00,9,  -999.0,9, -999.00,9, -999.00,9,     -999.0,9,     6.6,2,  -999.0,9,     -999.0,     -999.0,9,      37.85,2,     -999.0,      37.95,2,     -999.0,     -999.0,9,     -999.0,       0.14,     -999.0,9,     -999.0,9,     -999.0,9,     -999.0,9,31.26937485,2,       9.69,2,      49.74,2,       21.2,2
33RO20161119,        P18,      96,          1,         13,      11112,2,20161216,       1439,   -14.0001,  -103.0002,       4223,   989.7,   4.4846,  34.5280,2,  34.5280,2,     63.6,2,    65.9,2,    73.4,2,    43.0,2,    0.00,2,   2.990,2,   0.0023,2,   0.0014,2,   0.0000,2,  2308.1,2,  2342.7,2,   7.4014,2,    25.00, -999.00,9,  -999.0,9,  -999.0,    0.048,2, -999.00,9,  -999.0,9, -999.00,9, -999.00,9,    37.4853,2,    6.96,2,  -999.0,9,     -999.0,     -999.0,9,      37.98,2,     -999.0,       38.1,2,     -999.0,     -999.0,9,     -999.0,       0.01,     -999.0,9,     -999.0,9,     -999.0,9,     -999.0,9,34.51088192,2,       9.32,2,       49.5,2,      20.51,2
33RO20161119,        P18,      96,          1,         14,      11113,2,20161216,       1439,   -14.0001,  -103.0002,       4223,   855.1,   5.0798,  34.5133,2,  34.5142,2,     55.9,2,    57.3,2,    61.1,2,    43.3,2,    0.00,2,   2.986,2,-999.0000,9,-999.0000,9,-999.0000,9,  2300.6,2,  2330.0,2,   7.3897,2,    25.00, -999.00,9,  -999.0,9,  -999.0,-999.0000,9, -999.00,9,  -999.0,9, -999.00,9, -999.00,9,     -999.0,9,    7.38,2,  -999.0,9,     -999.0,     -999.0,9,      37.79,2,     -999.0,      37.88,2,     -999.0,     -999.0,9,     -999.0,       0.17,     -999.0,9,     -999.0,9,     -999.0,9,     -999.0,9,36.78383067,2,       9.15,2,      49.68,2,      20.63,2
33RO20161119,        P18,      96,          1,         15,      11114,2,20161216,       1439,   -14.0001,  -103.0002,       4223,   724.7,   5.9104,  34.5134,2,  34.5128,2,     61.4,2,    62.4,2,    47.5,2,    41.4,2,    0.00,2,   2.845,2,-999.0000,9,-999.0000,9,-999.0000,9,  2276.7,2,  2313.5,2,   7.4124,2,    25.00, -999.00,9,  -999.0,9,  -999.0,-999.0000,9, -999.00,9,  -999.0,9, -999.00,9, -999.00,9,     -999.0,9,    7.17,2,  -999.0,9,     -999.0,     -999.0,9,      37.81,2,     -999.0,       37.9,2,     -999.0,     -999.0,9,     -999.0,       0.01,     -999.0,9,     -999.0,9,     -999.0,9,     -999.0,9,38.41538368,2,       8.63,2,      49.73,2,       15.6,2
33RO20161119,        P18,      96,          1,         16,      11115,2,20161216,       1439,   -14.0001,  -103.0002,       4223,   599.1,   7.0385,  34.5541,2,  34.5529,2,     46.9,2,    47.3,2,    38.7,2,    40.4,2,    0.00,2,   2.791,2,   0.0515,2,   0.0295,2,   0.0000,2,  2272.8,2,  2306.7,6,   7.3973,2,    25.00, -999.00,9,  -999.0,9,  -999.0,   0.0639,2, -999.00,9,  -999.0,9, -999.00,9, -999.00,9,    48.8811,2,    7.29,2,  -999.0,9,     -999.0,     -999.0,9,      37.89,2,     -999.0,      37.97,2,     -999.0,     -999.0,9,     -999.0,       0.08,     -999.0,9,     -999.0,9,     -999.0,9,     -999.0,9,45.73939118,2,       7.92,2,      49.96,2,      10.43,2
33RO20161119,        P18,      96,          1,         17,      11116,2,20161216,       1439,   -14.0001,  -103.0002,       4223,   489.9,   8.2927,  34.6220,2,  34.6210,2,     31.9,2,    33.3,2,    32.9,2,    38.4,2,    0.00,2,   2.677,2,   0.1312,2,   0.0741,2,   0.0196,2,  2270.5,2,  2302.6,2,   7.3981,2,    25.00, -999.00,9,  -999.0,9,  -999.0,   0.0756,2, -999.00,9,  -999.0,9, -999.00,9, -999.00,9,    57.2096,2,    7.47,2,  -999.0,9,     -999.0,     -999.0,9,      37.92,2,     -999.0,      38.01,2,     -999.0,     -999.0,9,     -999.0,       0.32,     -999.0,9,     -999.0,9,     -999.0,9,     -999.0,9,52.85133469,2,        7.4,2,      50.62,2,       8.68,2
33RO20161119,        P18,      96,          1,         18,      11117,2,20161216,       1439,   -14.0001,  -103.0002,       4223,   370.5,   9.7033,  34.6869,2,  34.6884,2,     15.1,2,    18.0,2,    27.6,2,    35.2,2,    0.01,2,   2.640,2,   0.3525,2,   0.1909,2,   0.0371,2,  2273.0,2,  2301.6,2,   7.3860,2,    25.00, -999.00,9,  -999.0,9,  -999.0,    0.324,2, -999.00,9,  -999.0,9, -999.00,9, -999.00,9,    59.5305,2,    7.79,2,  -999.0,9,     -999.0,     -999.0,9,      37.94,2,     -999.0,      38.04,2,     -999.0,     -999.0,9,     -999.0,       0.02,     -999.0,9,     -999.0,9,     -999.0,9,     -999.0,9,54.72020887,2,       7.15,2,      52.29,2,       8.01,2
33RO20161119,        P18,      96,          1,         19,      11083,2,20161216,       1439,   -14.0001,  -103.0002,       4223,   284.6,  11.5500,  34.7499,2,  34.7487,2,      6.2,2,     8.5,2,    23.2,2,    26.7,2,    0.00,2,   2.652,2,   0.9190,2,   0.5165,2,   0.2004,2,  2271.7,2,  2300.7,2,   7.3768,6,    25.00, -999.00,9,  -999.0,9,  -999.0,   1.0505,2, -999.00,9,  -999.0,9, -999.00,9, -999.00,9,    34.2651,2,   12.17,2,  -999.0,9,     -999.0,     -999.0,9,       38.2,2,     -999.0,      38.32,2,     -999.0,     -999.0,9,     -999.0,       0.19,     -999.0,9,     -999.0,9,     -999.0,9,     -999.0,9,41.49992092,2,        9.1,2,      56.41,2,       12.2,2
33RO20161119,        P18,      96,          1,         20,      11118,2,20161216,       1439,   -14.0001,  -103.0002,       4223,   199.8,  15.4155,  34.9990,2,  34.9613,2,    136.6,2,   133.0,2,     5.1,2,    14.1,2,    0.01,2,   1.421,2,   2.3521,2,   1.4190,2,   1.3153,2,  2162.2,2,  2311.2,2,   7.7170,2,    25.00, -999.00,9,  -999.0,9,  -999.0,   1.3603,2, -999.00,9,  -999.0,9, -999.00,9, -999.00,9,    27.7414,2,   11.29,2,  -999.0,9,     -999.0,     -999.0,9,      38.03,2,     -999.0,      38.07,2,     -999.0,     -999.0,9,     -999.0,       0.07,     -999.0,9,     -999.0,9,     -999.0,9,     -999.0,9,26.00220351,2,       6.51,2,      43.62,2,      18.56,2
33RO20161119,        P18,      96,          1,         21,      11119,2,20161216,       1439,   -14.0001,  -103.0002,       4223,   125.8,  21.0560,  35.8717,2,  35.8806,2,    199.2,2,   197.5,2,     1.0,2,     0.6,2,    1.14,2,   0.567,2,   1.9710,2,   1.2342,2,   1.5203,2,  2106.7,2,  2369.2,2,   7.9569,2,    25.00, -999.00,9,  -999.0,9,  -999.0,   1.9067,2, -999.00,9,  -999.0,9, -999.00,9, -999.00,9,     7.9162,2, -999.00,9,  -999.0,9,     -999.0,     -999.0,9,      38.08,2,     -999.0,      38.09,2,     -999.0,     -999.0,9,     -999.0,     -999.0,     -999.0,9,     -999.0,9,     -999.0,9,     -999.0,9,8.014884794,2,       7.14,2,      44.43,2,      19.72,2
33RO20161119,        P18,      96,          1,         22,      11120,2,20161216,       1439,   -14.0001,  -103.0002,       4223,    58.8,  23.6061,  35.9822,2,  36.0046,2,    212.7,2,   213.2,2,     1.1,2,     0.5,2,    0.03,2,   0.399,2,   1.7556,2,   1.1115,2,   1.4352,2,  2066.8,2,  2376.1,6,   8.0331,2,    25.00, -999.00,9,  -999.0,9,  -999.0,        0,2, -999.00,9,  -999.0,9, -999.00,9, -999.00,9,     6.8934,2, -999.00,9,  -999.0,9,     -999.0,     -999.0,9,      38.07,2,     -999.0,      38.05,2,     -999.0,     -999.0,9,     -999.0,     -999.0,     -999.0,9,     -999.0,9,     -999.0,9,     -999.0,9,7.003422483,2,       6.76,2,      46.33,2,      19.45,2
33RO20161119,        P18,      96,          1,         23,      11121,2,20161216,       1439,   -14.0001,  -103.0002,       4223,    25.2,  23.8535,  35.9242,2,  35.9270,2,    213.1,2,   214.0,2,     1.0,2,     1.5,2,    0.05,2,   0.420,2,-999.0000,9,-999.0000,9,-999.0000,9,  2061.5,6,  2371.8,2,   8.0306,2,    25.00, -999.00,9,  -999.0,9,  -999.0,-999.0000,9, -999.00,9,  -999.0,9, -999.00,9, -999.00,9,     -999.0,9, -999.00,9,  -999.0,9,     -999.0,     -999.0,9,       38.1,2,     -999.0,      38.08,2,     -999.0,     -999.0,9,     -999.0,     -999.0,     -999.0,9,     -999.0,9,     -999.0,9,     -999.0,9,6.969434873,2,       6.68,2,      45.87,2,      18.74,2
33RO20161119,        P18,      96,          1,         24,      11122,2,20161216,       1439,   -14.0001,  -103.0002,       4223,     2.4,  23.8930,  35.9265,2,  35.9250,2,    211.5,2,   213.6,2,     1.1,2,     1.5,2,    0.05,2,   0.414,2,   1.7273,2,   1.0893,2,   1.4297,2,  2061.5,2,  2376.8,2,   8.0296,2,    25.00, -999.00,9,  -999.0,9,  -999.0,        0,2, -999.00,9,  -999.0,9, -999.00,9, -999.00,9,     6.8494,2, -999.00,9,  -999.0,9,     -999.0,     -999.0,9,       38.1,2,     -999.0,      38.08,2,     -999.0,     -999.0,9,     -999.0,     -999.0,     -999.0,9,     -999.0,9,     -999.0,9,     -999.0,9,6.994786599,2,       6.69,2,      44.81,2,      17.77,2