BOTTLE,20230606CCHSIOCBG
EXPOCODE,SECT_ID,STNNBR,CASTNO,SAMPNO,BTLNBR,BTLNBR_FLAG_W,DATE,TIME,LATITUDE,LONGITUDE,DEPTH,CTDPRS,CTDTMP,CTDSAL,CTDSAL_FLAG_W,SALNTY,SALNTY_FLAG_W,CTDOXY,CTDOXY_FLAG_W,OXYGEN,OXYGEN_FLAG_W,SILCAT,SILCAT_FLAG_W,NITRAT,NITRAT_FLAG_W,NITRIT,NITRIT_FLAG_W,PHSPHT,PHSPHT_FLAG_W,CFC-11,CFC-11_FLAG_W,CFC-12,CFC-12_FLAG_W,SF6,SF6_FLAG_W,TCARBN,TCARBN_FLAG_W,ALKALI,ALKALI_FLAG_W,PH_SWS,PH_SWS_FLAG_W,PH_TMP,DELC13,DELC13_FLAG_W,DELC14,DELC14_FLAG_W,C14ERR,CCL4,CCL4_FLAG_W,POC,POC_FLAG_W,DOC,DOC_FLAG_W,TDN,TDN_FLAG_W,PON,PON_FLAG_W,N2O,N2O_FLAG_W,D15N_NO3,D15N_NO3_FLAG_W,14C-DOC,14C-DOC_FLAG_W,14C-DOCERR,13C-DOC,13C-DOC_FLAG_W,N2/ARGON_UNSTRIPPED,N2/ARGON_UNSTRIPPED_FLAG_W,N2/ARGON_UNSTRIPPED_ERROR,N2/ARGON,N2/ARGON_FLAG_W,N2/ARGON_ERROR,D15N_N2,D15N_N2_FLAG_W,D15N_N2_ERROR,D15N_NO3_ERROR,D15N_NO2+NO3,D15N_NO2+NO3_FLAG_W,D18O_NO2+NO3,D18O_NO2+NO3_FLAG_W,D18O_NO3,D18O_NO3_FLAG_W,TDP,TDP_FLAG_W,N2O_ALT_1,N2O_ALT_1_FLAG_W,D15N_N2O,D15N_N2O_FLAG_W,D18O_N2O,D18O_N2O_FLAG_W,D15N_ALPHA_N2O,D15N_ALPHA_N2O_FLAG_W
,,,,,,,,,,,METERS,DBAR,ITS-90,PSS-78,,PSS-78,,UMOL/KG,,UMOL/KG,,UMOL/KG,,UMOL/KG,,UMOL/KG,,UMOL/KG,,PMOL/KG,,PMOL/KG,,FMOL/KG,,UMOL/KG,,UMOL/KG,,,,DEG C,/MILLE,,/MILLE,,/MILLE,PMOL/KG,,UG/KG,,UMOL/KG,,UMOL/KG,,UG/KG,,NMOL/KG,,/MILLE,,/MILLE,,/MILLE,/MILLE,,,,,,,,/MILLE,,/MILLE,/MILLE,/MILLE,,/MILLE,,/MILLE,,UMOL/KG,,NMOL/L,,/MILLE,,/MILLE,,/MILLE,
33RO20161119,        P18,     138,          1,          1,      11010,2,20170106,       1747,   -35.0000,  -103.0002,       3519,  3569.9,   1.7940,  34.6892,2,  34.6901,2,    167.7,2,   167.8,2,   115.9,6,    34.3,6,    0.00,6,   2.366,6,   0.0039,2,   0.0021,2,   0.0247,2,  2293.5,6,  2390.8,2,   7.5811,6,    25.00, -999.00,9,  -999.0,9,  -999.0,   0.0313,2, -999.00,9,  -999.0,9, -999.00,9, -999.00,9,    19.9836,2, -999.00,9,  -999.0,9,     -999.0,     -999.0,9,     -999.0,9,     -999.0,     -999.0,9,     -999.0,     -999.0,9,     -999.0,     -999.0,     -999.0,9,     -999.0,9,     -999.0,9,     -999.0,9,     -999.0,9,     -999.0,9,     -999.0,9,     -999.0,9
33RO20161119,        P18,     138,          1,          2,      11101,2,20170106,       1747,   -35.0000,  -103.0002,       3519,  3310.0,   1.7694,  34.6889,2,  34.6866,2,    168.2,2,   167.0,2,   115.7,6,    34.4,6,    0.01,6,   2.367,6,   0.0048,2,   0.0028,2,   0.0000,2,  2292.4,2,  2389.2,2,   7.5798,2,    25.00, -999.00,9,  -999.0,9,  -999.0,    0.055,2, -999.00,9,  -999.0,9, -999.00,9, -999.00,9,    20.9685,2, -999.00,9,  -999.0,9,     -999.0,     -999.0,9,     -999.0,9,     -999.0,     -999.0,9,     -999.0,     -999.0,9,     -999.0,     -999.0,     -999.0,9,     -999.0,9,     -999.0,9,     -999.0,9,     -999.0,9,     -999.0,9,     -999.0,9,     -999.0,9
33RO20161119,        P18,     138,          1,          3,      11102,2,20170106,       1747,   -35.0000,  -103.0002,       3519,  3050.2,   1.7496,  34.6879,2,  34.6867,2,    167.6,2,   166.8,2,   115.7,6,    34.4,6,    0.01,6,   2.368,6,   0.0056,2,   0.0031,2,   0.0000,2,  2290.1,2,  2388.0,6,   7.5814,2,    25.00, -999.00,9,  -999.0,9,  -999.0,   0.0937,2, -999.00,9,  -999.0,9, -999.00,9, -999.00,9,    20.3861,2, -999.00,9,  -999.0,9,     -999.0,     -999.0,9,     -999.0,9,     -999.0,     -999.0,9,     -999.0,     -999.0,9,     -999.0,     -999.0,     -999.0,9,     -999.0,9,     -999.0,9,     -999.0,9,     -999.0,9,     -999.0,9,     -999.0,9,     -999.0,9
33RO20161119,        P18,     138,          1,          4,      11103,2,20170106,       1747,   -35.0000,  -103.0002,       3519,  2775.5,   1.7417,  34.6861,2,  34.6848,2,    166.9,2,   166.7,2,   115.3,6,    34.4,6,    0.00,6,   2.373,6,   0.0060,2,   0.0031,2,   0.0000,2,  2290.5,2,  2385.6,2,   7.5806,2,    25.00, -999.00,9,  -999.0,9,  -999.0,   0.0977,2, -999.00,9,  -999.0,9, -999.00,9, -999.00,9,    20.5671,2, -999.00,9,  -999.0,9,     -999.0,     -999.0,9,     -999.0,9,     -999.0,     -999.0,9,     -999.0,     -999.0,9,     -999.0,     -999.0,     -999.0,9,     -999.0,9,     -999.0,9,     -999.0,9,     -999.0,9,     -999.0,9,     -999.0,9,     -999.0,9
33RO20161119,        P18,     138,          1,          5,      11104,2,20170106,       1747,   -35.0000,  -103.0002,       3519,  2500.8,   1.7919,  34.6811,2,  34.6806,2,    164.2,2,   164.9,2,   113.8,6,    34.5,6,    0.00,6,   2.386,6,   0.0072,6,   0.0044,6,   0.0472,6,  2288.0,2,  2383.3,2,   7.5749,2,    25.00, -999.00,9,  -999.0,9,  -999.0,   0.0893,2, -999.00,9,  -999.0,9, -999.00,9, -999.00,9,     21.093,2, -999.00,9,  -999.0,9,     -999.0,     -999.0,9,     -999.0,9,     -999.0,     -999.0,9,     -999.0,     -999.0,9,     -999.0,     -999.0,     -999.0,9,     -999.0,9,     -999.0,9,     -999.0,9,     -999.0,9,     -999.0,9,     -999.0,9,     -999.0,9
33RO20161119,        P18,     138,          1,          6,      11105,2,20170106,       1747,   -35.0000,  -103.0002,       3519,  2220.0,   1.9418,  34.6655,2,  34.6677,2,    160.7,2,   160.9,2,   108.6,2,    34.7,2,    0.01,2,   2.403,2,   0.0151,2,   0.0087,2,   0.0476,2,  2287.9,2,  2380.1,2,   7.5660,2,    25.00, -999.00,9,  -999.0,9,  -999.0,   0.5253,2, -999.00,9,  -999.0,9, -999.00,9, -999.00,9,    21.4188,2, -999.00,9,  -999.0,9,     -999.0,     -999.0,9,     -999.0,9,     -999.0,     -999.0,9,     -999.0,     -999.0,9,     -999.0,     -999.0,     -999.0,9,     -999.0,9,     -999.0,9,     -999.0,9,     -999.0,9,     -999.0,9,     -999.0,9,     -999.0,9
33RO20161119,        P18,     138,          1,          7,      11106,2,20170106,       1747,   -35.0000,  -103.0002,       3519,  1939.9,   2.1954,  34.6332,2,  34.6321,2,    157.7,2,   158.0,2,    99.1,2,    35.0,2,    0.01,2,   2.413,2,   0.0311,2,   0.0148,2,   0.0000,2,  2282.4,2,  2369.0,2,   7.5574,2,    25.00, -999.00,9,  -999.0,9,  -999.0,   1.3781,2, -999.00,9,  -999.0,9, -999.00,9, -999.00,9,    22.3596,2, -999.00,9,  -999.0,9,     -999.0,     -999.0,9,     -999.0,9,     -999.0,     -999.0,9,     -999.0,     -999.0,9,     -999.0,     -999.0,     -999.0,9,     -999.0,9,     -999.0,9,     -999.0,9,     -999.0,9,     -999.0,9,     -999.0,9,     -999.0,9
33RO20161119,        P18,     138,          1,          8,      11107,2,20170106,       1747,   -35.0000,  -103.0002,       3519,  1659.9,   2.5729,  34.5782,2,  34.5769,2,    147.3,2,   147.7,2,    89.5,2,    36.2,2,    0.01,2,   2.492,2,   0.0295,2,   0.0153,2,   0.0000,2,  2277.1,2,  2358.8,2,   7.5362,2,    25.00, -999.00,9,  -999.0,9,  -999.0,   1.9898,2, -999.00,9,  -999.0,9, -999.00,9, -999.00,9,    24.5148,2, -999.00,9,  -999.0,9,     -999.0,     -999.0,9,     -999.0,9,     -999.0,     -999.0,9,     -999.0,     -999.0,9,     -999.0,     -999.0,     -999.0,9,     -999.0,9,     -999.0,9,     -999.0,9,     -999.0,9,     -999.0,9,     -999.0,9,     -999.0,9
33RO20161119,        P18,     138,          1,          9,      11108,2,20170106,       1747,   -35.0000,  -103.0002,       3519,  1379.6,   3.1030,  34.5134,2,  34.5122,2,    133.2,2,   132.6,2,    77.4,2,    37.6,2,    0.01,2,   2.606,2,   0.0213,2,   0.0117,2,   0.0000,2,  2276.7,6,  2343.5,2,   7.5086,2,    25.00, -999.00,9,  -999.0,9,  -999.0,   2.5953,2, -999.00,9,  -999.0,9, -999.00,9, -999.00,9,    26.0677,2, -999.00,9,  -999.0,9,     -999.0,     -999.0,9,     -999.0,9,     -999.0,     -999.0,9,     -999.0,     -999.0,9,     -999.0,     -999.0,     -999.0,9,     -999.0,9,     -999.0,9,     -999.0,9,     -999.0,9,     -999.0,9,     -999.0,9,     -999.0,9
33RO20161119,        P18,     138,          1,         10,      11109,2,20170106,       1747,   -35.0000,  -103.0002,       3519,  1219.7,   3.3909,  34.4468,2,  34.4474,2,    141.2,2,   140.8,2,    63.4,2,    37.3,2,    0.00,2,   2.569,2,   0.0598,2,   0.0306,2,   0.0000,2,  2257.3,2,  2327.2,2,   7.5130,6,    25.00, -999.00,9,  -999.0,9,  -999.0,   2.6897,2, -999.00,9,  -999.0,9, -999.00,9, -999.00,9,    27.0103,2, -999.00,9,  -999.0,9,     -999.0,     -999.0,9,     -999.0,9,     -999.0,     -999.0,9,     -999.0,     -999.0,9,     -999.0,     -999.0,     -999.0,9,     -999.0,9,     -999.0,9,     -999.0,9,     -999.0,9,     -999.0,9,     -999.0,9,     -999.0,9
33RO20161119,        P18,     138,          1,         11,      11110,2,20170106,       1747,   -35.0000,  -103.0002,       3519,  1089.0,   3.6951,  34.3667,2,  34.3662,2,    167.6,2,   168.0,6,    45.8,2,    35.1,2,    0.01,2,   2.414,2,   0.2990,2,   0.1535,2,   0.0461,2,  2225.0,2,  2307.4,6,   7.5497,2,    25.00, -999.00,9,  -999.0,9,  -999.0,   2.8792,2, -999.00,9,  -999.0,9, -999.00,9, -999.00,9,    23.6349,2, -999.00,9,  -999.0,9,     -999.0,     -999.0,9,     -999.0,9,     -999.0,     -999.0,9,     -999.0,     -999.0,9,     -999.0,     -999.0,     -999.0,9,     -999.0,9,     -999.0,9,     -999.0,9,     -999.0,9,     -999.0,9,     -999.0,9,     -999.0,9
33RO20161119,        P18,     138,          1,         12,      11111,2,20170106,       1747,   -35.0000,  -103.0002,       3519,   970.9,   4.2214,  34.3043,2,  34.3042,2,    194.8,2,   195.1,6,    31.1,2,    32.2,2,    0.01,2,   2.229,2,   1.0878,2,   0.5268,2,   0.1746,2,  2196.3,2,  2291.5,2,   7.5937,2,    25.00, -999.00,9,  -999.0,9,  -999.0,   2.7533,2, -999.00,9,  -999.0,9, -999.00,9, -999.00,9,    21.0892,2, -999.00,9,  -999.0,9,     -999.0,     -999.0,9,     -999.0,9,     -999.0,     -999.0,9,     -999.0,     -999.0,9,     -999.0,     -999.0,     -999.0,9,     -999.0,9,     -999.0,9,     -999.0,9,     -999.0,9,     -999.0,9,     -999.0,9,     -999.0,9
33RO20161119,        P18,     138,          1,         13,      11112,2,20170106,       1747,   -35.0000,  -103.0002,       3519,   850.2,   4.8363,  34.2686,2,  34.2679,2,    216.1,2,   216.4,2,    20.0,2,    29.5,2,    0.01,2,   2.020,2,   2.1709,2,   1.0800,2,   0.4239,2,  2174.6,2,  2282.0,2,   7.6303,2,    25.00, -999.00,9,  -999.0,9,  -999.0,   2.1673,2, -999.00,9,  -999.0,9, -999.00,9, -999.00,9,    18.0646,2, -999.00,9,  -999.0,9,     -999.0,     -999.0,9,     -999.0,9,     -999.0,     -999.0,9,     -999.0,     -999.0,9,     -999.0,     -999.0,     -999.0,9,     -999.0,9,     -999.0,9,     -999.0,9,     -999.0,9,     -999.0,9,     -999.0,9,     -999.0,9
33RO20161119,        P18,     138,          1,         14,      11113,2,20170106,       1747,   -35.0000,  -103.0002,       3519,   735.1,   5.4174,  34.2615,2,  34.2633,2,    235.9,2,   235.7,2,    12.6,2,    26.6,2,    0.01,2,   1.809,2,   3.1111,2,   1.5488,2,   0.6624,2,  2157.7,2,  2276.7,2,   7.6711,2,    25.00, -999.00,9,  -999.0,9,  -999.0,   1.3549,2, -999.00,9,  -999.0,9, -999.00,9, -999.00,9,    16.5977,2, -999.00,9,  -999.0,9,     -999.0,     -999.0,9,     -999.0,9,     -999.0,     -999.0,9,     -999.0,     -999.0,9,     -999.0,     -999.0,     -999.0,9,     -999.0,9,     -999.0,9,     -999.0,9,     -999.0,9,     -999.0,9,     -999.0,9,     -999.0,9
33RO20161119,        P18,     138,          1,         15,      11114,2,20170106,       1747,   -35.0000,  -103.0002,       3519,   624.7,   5.8148,  34.2644,2,  34.2657,2,    246.1,2,   245.6,2,     9.5,2,    24.9,2,    0.00,2,   1.704,2,   3.8363,2,   1.9870,2,   1.0859,2,  2148.9,2,  2276.0,2,   7.6855,2,    25.00, -999.00,9,  -999.0,9,  -999.0,   1.1219,2, -999.00,9,  -999.0,9, -999.00,9, -999.00,9,    16.2294,2, -999.00,9,  -999.0,9,     -999.0,     -999.0,9,     -999.0,9,     -999.0,     -999.0,9,     -999.0,     -999.0,9,     -999.0,     -999.0,     -999.0,9,     -999.0,9,     -999.0,9,     -999.0,9,     -999.0,9,     -999.0,9,     -999.0,9,     -999.0,9
33RO20161119,        P18,     138,          1,         16,      11115,2,20170106,       1747,   -35.0000,  -103.0002,       3519,   517.2,   6.2221,  34.2862,2,  34.2853,2,    247.3,2,   247.0,2,     8.0,2,    23.7,2,    0.01,2,   1.644,2,   4.0399,2,   2.1293,2,   1.2858,2,  2147.5,2,  2277.0,2,   7.6856,2,    25.00, -999.00,9,  -999.0,9,  -999.0,   1.0423,2, -999.00,9,  -999.0,9, -999.00,9, -999.00,9,    17.2445,2, -999.00,9,  -999.0,9,     -999.0,     -999.0,9,     -999.0,9,     -999.0,     -999.0,9,     -999.0,     -999.0,9,     -999.0,     -999.0,     -999.0,9,     -999.0,9,     -999.0,9,     -999.0,9,     -999.0,9,     -999.0,9,     -999.0,9,     -999.0,9
33RO20161119,        P18,     138,          1,         17,      11116,2,20170106,       1747,   -35.0000,  -103.0002,       3519,   425.0,   6.6811,  34.3054,2,  34.3037,2,    244.4,2,   244.3,2,     6.6,2,    22.7,2,    0.01,2,   1.580,2,   4.0456,2,   2.1525,2,   1.3963,2,  2144.9,2,  2274.5,2,   7.6927,2,    25.00, -999.00,9,  -999.0,9,  -999.0,   2.5182,2, -999.00,9,  -999.0,9, -999.00,9, -999.00,9,    18.7064,2, -999.00,9,  -999.0,9,     -999.0,     -999.0,9,     -999.0,9,     -999.0,     -999.0,9,     -999.0,     -999.0,9,     -999.0,     -999.0,     -999.0,9,     -999.0,9,     -999.0,9,     -999.0,9,     -999.0,9,     -999.0,9,     -999.0,9,     -999.0,9
33RO20161119,        P18,     138,          1,         18,      11117,2,20170106,       1747,   -35.0000,  -103.0002,       3519,   330.4,   7.3889,  34.2832,2,  34.2821,2,    235.7,2,   235.4,2,     5.0,2,    21.6,2,    0.01,2,   1.520,2,   3.9102,2,   2.1293,2,   1.5214,2,  2142.2,2,  2267.9,2,   7.6949,2,    25.00, -999.00,9,  -999.0,9,  -999.0,   2.4978,2, -999.00,9,  -999.0,9, -999.00,9, -999.00,9,     22.662,2, -999.00,9,  -999.0,9,     -999.0,     -999.0,9,     -999.0,9,     -999.0,     -999.0,9,     -999.0,     -999.0,9,     -999.0,     -999.0,     -999.0,9,     -999.0,9,     -999.0,9,     -999.0,9,     -999.0,9,     -999.0,9,     -999.0,9,     -999.0,9
33RO20161119,        P18,     138,          1,         19,      11083,2,20170106,       1747,   -35.0000,  -103.0002,       3519,   249.5,   8.5624,  34.2440,2,  34.2403,2,    234.1,2,   234.2,2,     2.8,2,    18.8,2,    0.01,2,   1.359,2,   3.7758,2,   2.1002,2,   1.7726,2,  2130.6,2,  2263.4,2,   7.7185,2,    25.00, -999.00,9,  -999.0,9,  -999.0,   2.4585,2, -999.00,9,  -999.0,9, -999.00,9, -999.00,9,    25.0444,2, -999.00,9,  -999.0,9,     -999.0,     -999.0,9,     -999.0,9,     -999.0,     -999.0,9,     -999.0,     -999.0,9,     -999.0,     -999.0,     -999.0,9,     -999.0,9,     -999.0,9,     -999.0,9,     -999.0,9,     -999.0,9,     -999.0,9,     -999.0,9
33RO20161119,        P18,     138,          1,         20,      11118,2,20170106,       1747,   -35.0000,  -103.0002,       3519,   179.8,  11.2009,  34.3286,2,  34.3277,2,    226.1,2,   226.1,2,     1.1,2,    12.5,2,    0.03,2,   0.988,2,   3.2561,6,   1.8872,6,   1.8795,6,  2103.7,2,  2270.0,6,   7.7806,2,    25.00, -999.00,9,  -999.0,9,  -999.0,   2.4531,2, -999.00,9,  -999.0,9, -999.00,9, -999.00,9,    19.2853,2, -999.00,9,  -999.0,9,     -999.0,     -999.0,9,     -999.0,9,     -999.0,     -999.0,9,     -999.0,     -999.0,9,     -999.0,     -999.0,     -999.0,9,     -999.0,9,     -999.0,9,     -999.0,9,     -999.0,9,     -999.0,9,     -999.0,9,     -999.0,9
33RO20161119,        P18,     138,          1,         21,      11119,2,20170106,       1747,   -35.0000,  -103.0002,       3519,   114.8,  13.4575,  34.1797,2,  34.1745,2,    250.6,2,   251.4,2,     0.3,2,     3.9,2,    0.30,2,   0.525,2,   2.8846,2,   1.6927,2,   2.0946,2,  2053.8,6,  2261.9,2,   7.8794,2,    25.00, -999.00,9,  -999.0,9,  -999.0,   0.4793,2, -999.00,9,  -999.0,9, -999.00,9, -999.00,9,    10.3055,2, -999.00,9,  -999.0,9,     -999.0,     -999.0,9,     -999.0,9,     -999.0,     -999.0,9,     -999.0,     -999.0,9,     -999.0,     -999.0,     -999.0,9,     -999.0,9,     -999.0,9,     -999.0,9,     -999.0,9,     -999.0,9,     -999.0,9,     -999.0,9
33RO20161119,        P18,     138,          1,         22,      11120,2,20170106,       1747,   -35.0000,  -103.0002,       3519,    60.9,  15.1588,  34.1757,2,  34.1768,2,    268.0,2,   268.5,2,     0.2,2,     1.2,2,    0.05,2,   0.321,2,   2.7014,2,   1.6271,2,   2.0823,2,  2028.1,2,  2257.3,2,   7.9291,2,    25.00, -999.00,9,  -999.0,9,  -999.0,   0.4739,2,  112.16,6,  -999.0,9, -999.00,9,   19.99,6,     8.7227,2, -999.00,9,  -999.0,9,     -999.0,     -999.0,9,     -999.0,9,     -999.0,     -999.0,9,     -999.0,     -999.0,9,     -999.0,     -999.0,     -999.0,9,     -999.0,9,     -999.0,9,     -999.0,9,     -999.0,9,     -999.0,9,     -999.0,9,     -999.0,9
33RO20161119,        P18,     138,          1,         23,      11121,2,20170106,       1747,   -35.0000,  -103.0002,       3519,    25.0,  19.2985,  34.1702,2,  34.1958,2,    238.1,2,   238.5,2,     0.2,2,     0.5,2,    0.02,2,   0.264,2,   2.2432,2,   1.3713,2,   1.8094,2,  2022.5,2,  2258.5,2,   7.9404,2,    25.00, -999.00,9,  -999.0,9,  -999.0,    1.835,2, -999.00,9,  -999.0,9, -999.00,9, -999.00,9,     7.7066,2, -999.00,9,  -999.0,9,     -999.0,     -999.0,9,     -999.0,9,     -999.0,     -999.0,9,     -999.0,     -999.0,9,     -999.0,     -999.0,     -999.0,9,     -999.0,9,     -999.0,9,     -999.0,9,     -999.0,9,     -999.0,9,     -999.0,9,     -999.0,9
33RO20161119,        P18,     138,          1,         24,      11122,2,20170106,       1747,   -35.0000,  -103.0002,       3519,     3.2,  20.6171,  33.9637,2,  33.9625,2,    226.6,2,   232.2,2,     0.2,2,     1.3,2,    0.03,2,   0.322,2,   2.1603,2,   1.3220,2,   1.7121,2,  2015.6,2,  2245.5,2,   7.9324,2,    25.00, -999.00,9,  -999.0,9,  -999.0,   2.2896,2, -999.00,9,  -999.0,9, -999.00,9, -999.00,9,     7.5523,2, -999.00,9,  -999.0,9,     -999.0,     -999.0,9,     -999.0,9,     -999.0,     -999.0,9,     -999.0,     -999.0,9,     -999.0,     -999.0,     -999.0,9,     -999.0,9,     -999.0,9,     -999.0,9,     -999.0,9,     -999.0,9,     -999.0,9,     -999.0,9