BOTTLE,20230606CCHSIOCBG
EXPOCODE,SECT_ID,STNNBR,CASTNO,SAMPNO,BTLNBR,BTLNBR_FLAG_W,DATE,TIME,LATITUDE,LONGITUDE,DEPTH,CTDPRS,CTDTMP,CTDSAL,CTDSAL_FLAG_W,SALNTY,SALNTY_FLAG_W,CTDOXY,CTDOXY_FLAG_W,OXYGEN,OXYGEN_FLAG_W,SILCAT,SILCAT_FLAG_W,NITRAT,NITRAT_FLAG_W,NITRIT,NITRIT_FLAG_W,PHSPHT,PHSPHT_FLAG_W,CFC-11,CFC-11_FLAG_W,CFC-12,CFC-12_FLAG_W,SF6,SF6_FLAG_W,TCARBN,TCARBN_FLAG_W,ALKALI,ALKALI_FLAG_W,PH_SWS,PH_SWS_FLAG_W,PH_TMP,DELC13,DELC13_FLAG_W,DELC14,DELC14_FLAG_W,C14ERR,CCL4,CCL4_FLAG_W,POC,POC_FLAG_W,DOC,DOC_FLAG_W,TDN,TDN_FLAG_W,PON,PON_FLAG_W,N2O,N2O_FLAG_W,D15N_NO3,D15N_NO3_FLAG_W,14C-DOC,14C-DOC_FLAG_W,14C-DOCERR,13C-DOC,13C-DOC_FLAG_W,N2/ARGON_UNSTRIPPED,N2/ARGON_UNSTRIPPED_FLAG_W,N2/ARGON_UNSTRIPPED_ERROR,N2/ARGON,N2/ARGON_FLAG_W,N2/ARGON_ERROR,D15N_N2,D15N_N2_FLAG_W,D15N_N2_ERROR,D15N_NO3_ERROR,D15N_NO2+NO3,D15N_NO2+NO3_FLAG_W,D18O_NO2+NO3,D18O_NO2+NO3_FLAG_W,D18O_NO3,D18O_NO3_FLAG_W,TDP,TDP_FLAG_W,N2O_ALT_1,N2O_ALT_1_FLAG_W,D15N_N2O,D15N_N2O_FLAG_W,D18O_N2O,D18O_N2O_FLAG_W,D15N_ALPHA_N2O,D15N_ALPHA_N2O_FLAG_W
,,,,,,,,,,,METERS,DBAR,ITS-90,PSS-78,,PSS-78,,UMOL/KG,,UMOL/KG,,UMOL/KG,,UMOL/KG,,UMOL/KG,,UMOL/KG,,PMOL/KG,,PMOL/KG,,FMOL/KG,,UMOL/KG,,UMOL/KG,,,,DEG C,/MILLE,,/MILLE,,/MILLE,PMOL/KG,,UG/KG,,UMOL/KG,,UMOL/KG,,UG/KG,,NMOL/KG,,/MILLE,,/MILLE,,/MILLE,/MILLE,,,,,,,,/MILLE,,/MILLE,/MILLE,/MILLE,,/MILLE,,/MILLE,,UMOL/KG,,NMOL/L,,/MILLE,,/MILLE,,/MILLE,
33RO20161119,        P18,     202,          1,          1,      11010,2,20170124,       1500,   -66.9973,  -103.0002,       4723,  4805.4,   0.4104,  34.7000,2,  34.6992,2,    213.6,2,   214.1,2,   143.8,2,    33.1,2,    0.02,2,   2.254,2,   0.4613,2,   0.2134,2,   0.0961,2,  2264.4,6,  2364.7,2,   7.5849,2,    25.00, -999.00,9,  -999.0,9,  -999.0,   0.3604,2, -999.00,9,  -999.0,9, -999.00,9, -999.00,9,    18.4731,2,    4.75,2,  -999.0,9,     -999.0,     -999.0,9,     -999.0,9,     -999.0,     -999.0,9,     -999.0,     -999.0,9,     -999.0,     -999.0,       4.75,2,       1.95,2,       1.95,2,     -999.0,9,     -999.0,9,     -999.0,9,     -999.0,9,     -999.0,9
33RO20161119,        P18,     202,          1,          2,      11101,2,20170124,       1500,   -66.9973,  -103.0002,       4723,  4542.2,   0.3910,  34.7007,2,  34.7015,2,    213.9,2,   213.9,2,   140.8,2,    33.1,2,    0.01,2,   2.248,2,   0.4279,2,   0.2011,2,   0.1151,2,  2262.0,2,  2360.1,6,   7.5863,2,    25.00, -999.00,9,  -999.0,9,  -999.0,   0.3076,2, -999.00,9,  -999.0,9, -999.00,9, -999.00,9,    18.3926,2,    4.74,2,  -999.0,9,     -999.0,     -999.0,9,     -999.0,9,     -999.0,     -999.0,9,     -999.0,     -999.0,9,     -999.0,     -999.0,       4.74,2,        1.9,2,        1.9,2,     -999.0,9,     -999.0,9,     -999.0,9,     -999.0,9,     -999.0,9
33RO20161119,        P18,     202,          1,          3,      11102,2,20170124,       1500,   -66.9973,  -103.0002,       4723,  4282.3,   0.4022,  34.7019,2,  34.6999,2,    213.6,2,   213.6,2,   137.4,6,    33.0,6,    0.02,6,   2.247,6,   0.3569,2,   0.1671,2,   0.0592,2,  2261.8,2,  2362.2,2,   7.5884,2,    25.00, -999.00,9,  -999.0,9,  -999.0,   0.2965,2, -999.00,9,  -999.0,9, -999.00,9, -999.00,9,    18.3505,2,    4.75,2,  -999.0,9,     -999.0,     -999.0,9,     -999.0,9,     -999.0,     -999.0,9,     -999.0,     -999.0,9,     -999.0,     -999.0,       4.75,2,       1.83,2,       1.83,2,     -999.0,9,     -999.0,9,     -999.0,9,     -999.0,9,     -999.0,9
33RO20161119,        P18,     202,          1,          4,      11103,2,20170124,       1500,   -66.9973,  -103.0002,       4723,  3885.5,   0.4492,  34.7031,2,  34.7117,4,    212.3,2,   212.2,2,   132.8,6,    32.9,6,    0.01,6,   2.237,6,   0.2934,2,   0.1386,2,   0.0258,2,  2260.5,2,  2362.4,2,   7.5886,2,    25.00, -999.00,9,  -999.0,9,  -999.0,   0.2593,2, -999.00,9,  -999.0,9, -999.00,9, -999.00,9,     18.543,2,    4.76,2,  -999.0,9,     -999.0,     -999.0,9,     -999.0,9,     -999.0,     -999.0,9,     -999.0,     -999.0,9,     -999.0,     -999.0,       4.76,2,       1.99,2,       1.99,2,     -999.0,9,     -999.0,9,     -999.0,9,     -999.0,9,     -999.0,9
33RO20161119,        P18,     202,          1,          5,      11104,2,20170124,       1500,   -66.9973,  -103.0002,       4723,  3476.4,   0.5244,  34.7044,2,  34.7027,2,    209.6,2,   210.3,2,   129.4,6,    32.9,6,    0.01,6,   2.241,6,   0.2570,2,   0.1225,2,   0.0873,2,  2260.3,2,  2363.6,2,   7.5883,2,    25.00, -999.00,9,  -999.0,9,  -999.0,   0.2613,2, -999.00,9,  -999.0,9, -999.00,9, -999.00,9,      18.31,2,    4.77,2,  -999.0,9,     -999.0,     -999.0,9,     -999.0,9,     -999.0,     -999.0,9,     -999.0,     -999.0,9,     -999.0,     -999.0,       4.77,2,       1.83,2,       1.83,2,     -999.0,9,     -999.0,9,     -999.0,9,     -999.0,9,     -999.0,9
33RO20161119,        P18,     202,          1,          6,      11105,2,20170124,       1500,   -66.9973,  -103.0002,       4723,  3061.5,   0.6699,  34.7070,2,  34.7155,4,    206.1,2,   206.9,2,   125.7,6,    32.7,6,    0.01,6,   2.235,6,   0.2238,2,   0.1057,2,   0.0000,2,  2257.6,2,  2363.7,2,   7.5899,2,    25.00, -999.00,9,  -999.0,9,  -999.0,   0.2306,2, -999.00,9,  -999.0,9, -999.00,9, -999.00,9,    18.5565,2,    4.72,2,  -999.0,9,     -999.0,     -999.0,9,     -999.0,9,     -999.0,     -999.0,9,     -999.0,     -999.0,9,     -999.0,     -999.0,       4.72,2,        1.8,2,        1.8,2,     -999.0,9,     -999.0,9,     -999.0,9,     -999.0,9,     -999.0,9
33RO20161119,        P18,     202,          1,          7,      11106,2,20170124,       1500,   -66.9973,  -103.0002,       4723,  2640.4,   0.8086,  34.7112,2,  34.7130,2,    203.8,2,   203.8,2,   122.0,2,    32.6,2,    0.01,2,   2.221,2,   0.1776,2,   0.0856,2,   0.0524,2,  2259.2,2,  2363.2,2,   7.5917,2,    25.00, -999.00,9,  -999.0,9,  -999.0,   0.2627,2, -999.00,9,  -999.0,9, -999.00,9, -999.00,9,     18.806,2,    4.74,2,  -999.0,9,     -999.0,     -999.0,9,     -999.0,9,     -999.0,     -999.0,9,     -999.0,     -999.0,9,     -999.0,     -999.0,       4.74,2,       1.69,2,       1.69,2,     -999.0,9,     -999.0,9,     -999.0,9,     -999.0,9,     -999.0,9
33RO20161119,        P18,     202,          1,          8,      11107,2,20170124,       1500,   -66.9973,  -103.0002,       4723,  2158.7,   0.9935,  34.7186,2,  34.7190,2,    200.0,2,   200.5,2,   115.3,2,    32.3,2,    0.01,2,   2.184,2,   0.1415,6,   0.0679,6,   0.0212,6,  2258.2,2,  2364.7,2,   7.5921,2,    25.00, -999.00,9,  -999.0,9,  -999.0,   0.2292,2, -999.00,9,  -999.0,9, -999.00,9, -999.00,9,    18.7715,2,    4.79,2,  -999.0,9,     -999.0,     -999.0,9,     -999.0,9,     -999.0,     -999.0,9,     -999.0,     -999.0,9,     -999.0,     -999.0,       4.79,2,       2.05,2,       2.05,2,     -999.0,9,     -999.0,9,     -999.0,9,     -999.0,9,     -999.0,9
33RO20161119,        P18,     202,          1,          9,      11108,2,20170124,       1500,   -66.9973,  -103.0002,       4723,  1885.8,   1.1225,  34.7235,2,  34.7224,2,    197.7,2,   198.1,2,   110.7,2,    32.2,2,    0.01,2,   2.191,2,   0.1332,2,   0.0629,2,   0.0000,2,  2257.2,2,  2359.5,2,   7.5925,2,    25.00, -999.00,9,  -999.0,9,  -999.0,   0.3097,2, -999.00,9,  -999.0,9, -999.00,9, -999.00,9,    19.0709,2,    4.76,2,  -999.0,9,     -999.0,     -999.0,9,     -999.0,9,     -999.0,     -999.0,9,     -999.0,     -999.0,9,     -999.0,     -999.0,       4.76,2,       1.69,2,       1.69,2,     -999.0,9,     -999.0,9,     -999.0,9,     -999.0,9,     -999.0,9
33RO20161119,        P18,     202,          1,         10,      11109,2,20170124,       1500,   -66.9973,  -103.0002,       4723,  1689.7,   1.2304,  34.7272,2,  34.7255,2,    195.6,2,   196.1,6,   106.7,2,    32.1,2,    0.01,2,   2.181,2,   0.1365,2,   0.0643,2,   0.0159,2,  2257.4,2,  2359.7,2,   7.5925,2,    25.00, -999.00,9,  -999.0,9,  -999.0,   0.3741,2, -999.00,9,  -999.0,9, -999.00,9, -999.00,9,    18.8797,2,    4.76,2,  -999.0,9,     -999.0,     -999.0,9,     -999.0,9,     -999.0,     -999.0,9,     -999.0,     -999.0,9,     -999.0,     -999.0,       4.76,2,       1.69,2,       1.69,2,     -999.0,9,     -999.0,9,     -999.0,9,     -999.0,9,     -999.0,9
33RO20161119,        P18,     202,          1,         11,      11110,2,20170124,       1500,   -66.9973,  -103.0002,       4723,  1510.0,   1.3367,  34.7305,2,  34.7373,4,    193.7,2,   194.1,2,   103.3,2,    32.0,2,    0.01,2,   2.174,2,   0.1489,2,   0.0709,2,   0.0321,2,  2256.6,2,  2356.5,2,   7.5920,2,    25.00, -999.00,9,  -999.0,9,  -999.0,   0.3687,2, -999.00,9,  -999.0,9, -999.00,9, -999.00,9,    19.1958,2,    4.78,2,  -999.0,9,     -999.0,     -999.0,9,     -999.0,9,     -999.0,     -999.0,9,     -999.0,     -999.0,9,     -999.0,     -999.0,       4.78,2,       1.78,2,       1.78,2,     -999.0,9,     -999.0,9,     -999.0,9,     -999.0,9,     -999.0,9
33RO20161119,        P18,     202,          1,         12,      11111,2,20170124,       1500,   -66.9973,  -103.0002,       4723,  1325.0,   1.4715,  34.7331,2,  34.7322,2,    191.9,2,   192.5,2,    99.1,2,    31.9,2,    0.01,2,   2.173,2,   0.1672,2,   0.0801,2,   0.0462,2,  2255.3,2,  2359.4,2,   7.5912,2,    25.00, -999.00,9,  -999.0,9,  -999.0,   0.4572,2, -999.00,9,  -999.0,9, -999.00,9, -999.00,9,      19.28,2,    4.82,2,  -999.0,9,     -999.0,     -999.0,9,     -999.0,9,     -999.0,     -999.0,9,     -999.0,     -999.0,9,     -999.0,     -999.0,       4.82,2,       1.74,2,       1.74,2,     -999.0,9,     -999.0,9,     -999.0,9,     -999.0,9,     -999.0,9
33RO20161119,        P18,     202,          1,         13,      11112,2,20170124,       1500,   -66.9973,  -103.0002,       4723,  1153.7,   1.6175,  34.7337,2,  34.7338,2,    189.8,2,   190.3,2,    94.2,2,    31.7,2,    0.02,2,   2.163,2,   0.1904,2,   0.0906,2,   0.0691,2,  2252.5,2,  2356.4,2,   7.5894,6,    25.00, -999.00,9,  -999.0,9,  -999.0,    0.564,2, -999.00,9,  -999.0,9, -999.00,9, -999.00,9,    19.3211,2,    4.79,2,  -999.0,9,     -999.0,     -999.0,9,     -999.0,9,     -999.0,     -999.0,9,     -999.0,     -999.0,9,     -999.0,     -999.0,       4.79,2,       1.68,2,       1.68,2,     -999.0,9,     -999.0,9,     -999.0,9,     -999.0,9,     -999.0,9
33RO20161119,        P18,     202,          1,         14,      11113,2,20170124,       1500,   -66.9973,  -103.0002,       4723,   989.9,   1.7405,  34.7309,2,  34.7334,2,    187.1,2,   187.6,2,    90.9,2,    31.9,2,    0.01,2,   2.170,2,   0.2095,2,   0.1017,2,   0.0710,2,  2251.5,2,  2349.3,2,   7.5854,2,    25.00, -999.00,9,  -999.0,9,  -999.0,   0.8828,2, -999.00,9,  -999.0,9, -999.00,9, -999.00,9,     19.823,2,    4.81,2,  -999.0,9,     -999.0,     -999.0,9,     -999.0,9,     -999.0,     -999.0,9,     -999.0,     -999.0,9,     -999.0,     -999.0,       4.81,2,       1.69,2,       1.69,2,     -999.0,9,     -999.0,9,     -999.0,9,     -999.0,9,     -999.0,9
33RO20161119,        P18,     202,          1,         15,      11114,2,20170124,       1500,   -66.9973,  -103.0002,       4723,   824.8,   1.8686,  34.7221,2,  34.7212,2,    183.5,2,   183.5,6,    87.6,2,    32.1,2,    0.02,2,   2.196,2,   0.2465,6,   0.1199,6,   0.0630,6,  2253.0,2,  2348.7,2,   7.5796,2,    25.00, -999.00,9,  -999.0,9,  -999.0,   1.5006,2, -999.00,9,  -999.0,9, -999.00,9, -999.00,9,    20.2663,2,    4.86,2,  -999.0,9,     -999.0,     -999.0,9,     -999.0,9,     -999.0,     -999.0,9,     -999.0,     -999.0,9,     -999.0,     -999.0,       4.86,2,       1.77,2,       1.77,2,     -999.0,9,     -999.0,9,     -999.0,9,     -999.0,9,     -999.0,9
33RO20161119,        P18,     202,          1,         16,      11115,2,20170124,       1500,   -66.9973,  -103.0002,       4723,   680.3,   1.9812,  34.7031,2,  34.7017,2,    180.2,2,   178.7,2,    84.5,2,    32.6,2,    0.02,2,   2.229,2,   0.3165,2,   0.1554,2,   0.0921,2,  2254.3,2,  2346.0,6,   7.5668,2,    25.00, -999.00,9,  -999.0,9,  -999.0,    7.596,2, -999.00,9,  -999.0,9, -999.00,9, -999.00,9,    20.8577,2,    4.83,2,  -999.0,9,     -999.0,     -999.0,9,     -999.0,9,     -999.0,     -999.0,9,     -999.0,     -999.0,9,     -999.0,     -999.0,       4.83,2,       1.65,2,       1.65,2,     -999.0,9,     -999.0,9,     -999.0,9,     -999.0,9,     -999.0,9
33RO20161119,        P18,     202,          1,         17,      11116,2,20170124,       1500,   -66.9973,  -103.0002,       4723,   524.3,   2.0455,  34.6740,2,  34.6725,2,    175.3,2,   175.3,2,    78.8,3,    34.1,3,    0.02,3,   2.329,3,   0.4283,2,   0.2141,2,   0.1237,2,  2255.4,6,  2343.2,2,   7.5543,2,    25.00, -999.00,9,  -999.0,9,  -999.0,   6.8393,2, -999.00,9,  -999.0,9, -999.00,9, -999.00,9,    21.5436,2,    4.86,2,  -999.0,9,     -999.0,     -999.0,9,     -999.0,9,     -999.0,     -999.0,9,     -999.0,     -999.0,9,     -999.0,     -999.0,       4.86,2,       1.68,2,       1.68,2,     -999.0,9,     -999.0,9,     -999.0,9,     -999.0,9,     -999.0,9
33RO20161119,        P18,     202,          1,         18,      11117,2,20170124,       1500,   -66.9973,  -103.0002,       4723,   395.0,   2.0691,  34.6241,2,  34.6247,2,    173.3,2,   174.1,2,    82.0,3,    33.4,3,    0.02,3,   2.273,3,   0.6717,2,   0.3356,2,   0.2128,2,  2254.2,2,  2333.9,2,   7.5437,2,    25.00, -999.00,9,  -999.0,9,  -999.0,   6.7652,2, -999.00,9,  -999.0,9, -999.00,9, -999.00,9,    22.2562,2,     4.9,2,  -999.0,9,     -999.0,     -999.0,9,     -999.0,9,     -999.0,     -999.0,9,     -999.0,     -999.0,9,     -999.0,     -999.0,        4.9,2,        1.8,2,        1.8,2,     -999.0,9,     -999.0,9,     -999.0,9,     -999.0,9,     -999.0,9
33RO20161119,        P18,     202,          1,         19,      11083,2,20170124,       1500,   -66.9973,  -103.0002,       4723,   280.7,   1.9362,  34.5346,2,  34.5318,2,    182.0,2,   181.6,2,    74.1,2,    34.8,2,    0.02,2,   2.372,2,   1.2589,2,   0.6428,2,   0.5135,2,  2250.9,2,  2333.8,2,   7.5311,2,    25.00, -999.00,9,  -999.0,9,  -999.0,   6.6079,2, -999.00,9,  -999.0,9, -999.00,9, -999.00,9,    23.1623,2,    4.89,2,  -999.0,9,     -999.0,     -999.0,9,     -999.0,9,     -999.0,     -999.0,9,     -999.0,     -999.0,9,     -999.0,     -999.0,        4.9,2,       1.88,2,       1.98,2,     -999.0,9,     -999.0,9,     -999.0,9,     -999.0,9,     -999.0,9
33RO20161119,        P18,     202,          1,         20,      11118,2,20170124,       1500,   -66.9973,  -103.0002,       4723,   185.2,   0.7912,  34.2745,2,  34.2743,2,    237.3,2,   240.0,2,    60.5,2,    33.5,2,    0.02,2,   2.288,2,   3.3038,2,   1.7623,2,   1.7184,2,  2223.2,2,  2309.6,6,   7.5555,2,    25.00, -999.00,9,  -999.0,9,  -999.0,   0.5452,2, -999.00,9,  -999.0,9, -999.00,9, -999.00,9,    21.1489,2,    5.07,2,  -999.0,9,     -999.0,     -999.0,9,     -999.0,9,     -999.0,     -999.0,9,     -999.0,     -999.0,9,     -999.0,     -999.0,       4.77,2,       1.68,2,       1.92,2,     -999.0,9,     -999.0,9,     -999.0,9,     -999.0,9,     -999.0,9
33RO20161119,        P18,     202,          1,         21,      11119,2,20170124,       1500,   -66.9973,  -103.0002,       4723,    85.0,  -1.4979,  33.8739,2,  33.8762,2,    338.2,2,   340.6,2,    39.7,2,    27.6,2,    0.28,2,   1.979,2,   6.1159,2,   3.2166,2,   3.5807,2,  2174.3,6,  2289.0,2,   7.6400,2,    25.00, -999.00,9,  -999.0,9,  -999.0,   0.4538,2, -999.00,9,  -999.0,9, -999.00,9, -999.00,9,    16.0861,2,    5.92,2,  -999.0,9,     -999.0,     -999.0,9,     -999.0,9,     -999.0,     -999.0,9,     -999.0,     -999.0,9,     -999.0,     -999.0,       5.41,2,       2.68,2,       2.57,2,     -999.0,9,     -999.0,9,     -999.0,9,     -999.0,9,     -999.0,9
33RO20161119,        P18,     202,          1,         22,      11120,2,20170124,       1500,   -66.9973,  -103.0002,       4723,    30.2,   1.5691,  33.6701,2,  33.6721,2,    345.0,2,   349.0,2,    10.5,2,    21.5,2,    0.34,2,   1.382,2,   5.8872,2,   3.1453,2,   3.5946,2,  2129.6,2,  2276.6,2,   7.7404,2,    25.00, -999.00,9,  -999.0,9,  -999.0,   0.4146,2, -999.00,9,  -999.0,9, -999.00,9, -999.00,9,    14.5493,2,    7.85,2,  -999.0,9,     -999.0,     -999.0,9,     -999.0,9,     -999.0,     -999.0,9,     -999.0,     -999.0,9,     -999.0,     -999.0,       7.01,2,       4.14,2,       3.75,2,     -999.0,9,     -999.0,9,     -999.0,9,     -999.0,9,     -999.0,9
33RO20161119,        P18,     202,          1,         23,      11121,2,20170124,       1500,   -66.9973,  -103.0002,       4723,    10.3,   1.7355,  33.6679,2,  33.6684,2,    345.8,2,   347.9,2,     9.7,2,    21.3,2,    0.34,2,   1.326,2,   5.8362,2,   3.1161,2,   3.5874,2,  2126.4,2,  2276.6,2,   7.7482,6,    25.00, -999.00,9,  -999.0,9,  -999.0,   0.3636,2,  282.40,6,  -999.0,9, -999.00,9,   50.93,6,    14.4652,2,    7.92,2,  -999.0,9,     -999.0,     -999.0,9,     -999.0,9,     -999.0,     -999.0,9,     -999.0,     -999.0,9,     -999.0,     -999.0,       7.08,2,       4.05,2,       3.69,2,     -999.0,9,     -999.0,9,     -999.0,9,     -999.0,9,     -999.0,9
33RO20161119,        P18,     202,          1,         24,      11122,2,20170124,       1500,   -66.9973,  -103.0002,       4723,     3.9,   1.7354,  33.6679,2,  33.6675,2,    345.5,2,   347.9,2,     9.6,2,    21.3,2,    0.34,2,   1.317,2,   5.8254,2,   3.1143,2,   3.5445,2,  2125.9,2,  2275.4,2,   7.7438,2,    25.00, -999.00,9,  -999.0,9,  -999.0,   0.3193,2, -999.00,9,  -999.0,9, -999.00,9, -999.00,9,    14.4373,2,    7.94,2,  -999.0,9,     -999.0,     -999.0,9,     -999.0,9,     -999.0,     -999.0,9,     -999.0,     -999.0,9,     -999.0,     -999.0,       7.08,2,       4.11,2,       3.57,2,     -999.0,9,     -999.0,9,     -999.0,9,     -999.0,9,     -999.0,9