BOTTLE,20230606CCHSIOCBG
EXPOCODE,SECT_ID,STNNBR,CASTNO,SAMPNO,BTLNBR,BTLNBR_FLAG_W,DATE,TIME,LATITUDE,LONGITUDE,DEPTH,CTDPRS,CTDTMP,CTDSAL,CTDSAL_FLAG_W,SALNTY,SALNTY_FLAG_W,CTDOXY,CTDOXY_FLAG_W,OXYGEN,OXYGEN_FLAG_W,SILCAT,SILCAT_FLAG_W,NITRAT,NITRAT_FLAG_W,NITRIT,NITRIT_FLAG_W,PHSPHT,PHSPHT_FLAG_W,CFC-11,CFC-11_FLAG_W,CFC-12,CFC-12_FLAG_W,SF6,SF6_FLAG_W,TCARBN,TCARBN_FLAG_W,ALKALI,ALKALI_FLAG_W,PH_SWS,PH_SWS_FLAG_W,PH_TMP,DELC13,DELC13_FLAG_W,DELC14,DELC14_FLAG_W,C14ERR,CCL4,CCL4_FLAG_W,POC,POC_FLAG_W,DOC,DOC_FLAG_W,TDN,TDN_FLAG_W,PON,PON_FLAG_W,N2O,N2O_FLAG_W,D15N_NO3,D15N_NO3_FLAG_W,14C-DOC,14C-DOC_FLAG_W,14C-DOCERR,13C-DOC,13C-DOC_FLAG_W,N2/ARGON_UNSTRIPPED,N2/ARGON_UNSTRIPPED_FLAG_W,N2/ARGON_UNSTRIPPED_ERROR,N2/ARGON,N2/ARGON_FLAG_W,N2/ARGON_ERROR,D15N_N2,D15N_N2_FLAG_W,D15N_N2_ERROR,D15N_NO3_ERROR,D15N_NO2+NO3,D15N_NO2+NO3_FLAG_W,D18O_NO2+NO3,D18O_NO2+NO3_FLAG_W,D18O_NO3,D18O_NO3_FLAG_W,TDP,TDP_FLAG_W,N2O_ALT_1,N2O_ALT_1_FLAG_W,D15N_N2O,D15N_N2O_FLAG_W,D18O_N2O,D18O_N2O_FLAG_W,D15N_ALPHA_N2O,D15N_ALPHA_N2O_FLAG_W
,,,,,,,,,,,METERS,DBAR,ITS-90,PSS-78,,PSS-78,,UMOL/KG,,UMOL/KG,,UMOL/KG,,UMOL/KG,,UMOL/KG,,UMOL/KG,,PMOL/KG,,PMOL/KG,,FMOL/KG,,UMOL/KG,,UMOL/KG,,,,DEG C,/MILLE,,/MILLE,,/MILLE,PMOL/KG,,UG/KG,,UMOL/KG,,UMOL/KG,,UG/KG,,NMOL/KG,,/MILLE,,/MILLE,,/MILLE,/MILLE,,,,,,,,/MILLE,,/MILLE,/MILLE,/MILLE,,/MILLE,,/MILLE,,UMOL/KG,,NMOL/L,,/MILLE,,/MILLE,,/MILLE,
33RO20161119,        P18,      16,          1,          1,      11010,2,20161127,       2219,    16.5005,  -110.0006,       3410,  3398.3,   1.7087,  34.6743,2,  34.6745,2,    120.0,2,   120.3,2,   155.7,6,    38.1,6,    0.01,6,   2.604,6,   0.0074,2,   0.0044,2,   0.0000,2,  2353.2,6,  2425.0,2,   7.5261,2,    25.00, -999.00,9,  -999.0,9,  -999.0,    0.016,2, -999.00,9,  -999.0,9, -999.00,9, -999.00,9,    22.6165,2, -999.00,9,  -999.0,9,     -999.0,     -999.0,9,     -999.0,9,     -999.0,     -999.0,9,     -999.0,     -999.0,9,     -999.0,     -999.0,     -999.0,9,     -999.0,9,     -999.0,9,     -999.0,9,     -999.0,9,     -999.0,9,     -999.0,9,     -999.0,9
33RO20161119,        P18,      16,          1,          2,      11101,2,20161127,       2219,    16.5005,  -110.0006,       3410,  3189.9,   1.7139,  34.6723,2,  34.6740,2,    117.9,2,   117.7,2,   156.4,6,    38.3,6,    0.01,6,   2.616,6,-999.0000,9,-999.0000,9,-999.0000,9,  2354.1,2,  2428.7,6,   7.5210,2,    25.00, -999.00,9,  -999.0,9,  -999.0,-999.0000,9, -999.00,9,  -999.0,9, -999.00,9, -999.00,9,     -999.0,9, -999.00,9,  -999.0,9,     -999.0,     -999.0,9,     -999.0,9,     -999.0,     -999.0,9,     -999.0,     -999.0,9,     -999.0,     -999.0,     -999.0,9,     -999.0,9,     -999.0,9,     -999.0,9,     -999.0,9,     -999.0,9,     -999.0,9,     -999.0,9
33RO20161119,        P18,      16,          1,          3,      11102,2,20161127,       2219,    16.5005,  -110.0006,       3410,  2991.2,   1.7122,  34.6710,2,  34.6715,2,    116.2,2,   115.8,2,   156.7,6,    38.5,6,    0.01,6,   2.625,6,-999.0000,9,-999.0000,9,-999.0000,9,  2355.6,2,  2431.2,2,   7.5188,2,    25.00, -999.00,9,  -999.0,9,  -999.0,-999.0000,9, -999.00,9,  -999.0,9, -999.00,9, -999.00,9,     -999.0,9, -999.00,9,  -999.0,9,     -999.0,     -999.0,9,     -999.0,9,     -999.0,     -999.0,9,     -999.0,     -999.0,9,     -999.0,     -999.0,     -999.0,9,     -999.0,9,     -999.0,9,     -999.0,9,     -999.0,9,     -999.0,9,     -999.0,9,     -999.0,9
33RO20161119,        P18,      16,          1,          4,      11103,2,20161127,       2219,    16.5005,  -110.0006,       3410,  2715.0,   1.7663,  34.6665,2,  34.6668,2,    110.5,2,   110.2,2,   156.6,6,    38.7,6,    0.01,6,   2.659,6,-999.0000,9,-999.0000,9,-999.0000,9,  2356.8,2,  2431.8,2,   7.5094,2,    25.00, -999.00,9,  -999.0,9,  -999.0,-999.0000,9, -999.00,9,  -999.0,9, -999.00,9, -999.00,9,     -999.0,9, -999.00,9,  -999.0,9,     -999.0,     -999.0,9,     -999.0,9,     -999.0,     -999.0,9,     -999.0,     -999.0,9,     -999.0,     -999.0,     -999.0,9,     -999.0,9,     -999.0,9,     -999.0,9,     -999.0,9,     -999.0,9,     -999.0,9,     -999.0,9
33RO20161119,        P18,      16,          1,          5,      11104,2,20161127,       2219,    16.5005,  -110.0006,       3410,  2435.9,   1.8956,  34.6590,2,  34.6592,2,    102.7,2,   102.7,2,   154.4,2,    39.3,2,    0.01,2,   2.710,2,   0.0047,2,   0.0036,2,   0.0000,2,  2359.2,2,  2427.3,2,   7.4907,6,    25.00, -999.00,9,  -999.0,9,  -999.0,   0.0197,2, -999.00,9,  -999.0,9, -999.00,9, -999.00,9,    25.5333,2, -999.00,9,  -999.0,9,     -999.0,     -999.0,9,     -999.0,9,     -999.0,     -999.0,9,     -999.0,     -999.0,9,     -999.0,     -999.0,     -999.0,9,     -999.0,9,     -999.0,9,     -999.0,9,     -999.0,9,     -999.0,9,     -999.0,9,     -999.0,9
33RO20161119,        P18,      16,          1,          6,      11105,2,20161127,       2219,    16.5005,  -110.0006,       3410,  2185.3,   2.0853,  34.6493,2,  34.6489,2,     93.4,2,    92.9,2,   149.3,2,    40.1,2,    0.01,2,   2.757,2,-999.0000,9,-999.0000,9,-999.0000,9,  2362.3,2,  2421.1,2,   7.4751,2,    25.00, -999.00,9,  -999.0,9,  -999.0,-999.0000,9, -999.00,9,  -999.0,9, -999.00,9, -999.00,9,     -999.0,9, -999.00,9,  -999.0,9,     -999.0,     -999.0,9,     -999.0,9,     -999.0,     -999.0,9,     -999.0,     -999.0,9,     -999.0,     -999.0,     -999.0,9,     -999.0,9,     -999.0,9,     -999.0,9,     -999.0,9,     -999.0,9,     -999.0,9,     -999.0,9
33RO20161119,        P18,      16,          1,          7,      11106,2,20161127,       2219,    16.5005,  -110.0006,       3410,  1930.6,   2.3983,  34.6331,2,  34.6342,2,     78.3,2,    78.1,2,   143.1,2,    41.1,2,    0.01,2,   2.862,2,-999.0000,9,-999.0000,9,-999.0000,9,  2365.9,2,  2413.8,2,   7.4731,3,    25.00, -999.00,9,  -999.0,9,  -999.0,-999.0000,9, -999.00,9,  -999.0,9, -999.00,9, -999.00,9,     -999.0,9, -999.00,9,  -999.0,9,     -999.0,     -999.0,9,     -999.0,9,     -999.0,     -999.0,9,     -999.0,     -999.0,9,     -999.0,     -999.0,     -999.0,9,     -999.0,9,     -999.0,9,     -999.0,9,     -999.0,9,     -999.0,9,     -999.0,9,     -999.0,9
33RO20161119,        P18,      16,          1,          8,      11107,2,20161127,       2219,    16.5005,  -110.0006,       3410,  1655.0,   2.7950,  34.6127,2,  34.6120,2,     61.3,2,    61.7,2,   135.3,2,    42.4,2,    0.01,2,   2.979,2,-999.0000,9,-999.0000,9,-999.0000,9,  2365.3,2,  2402.9,2,   7.4113,2,    25.00, -999.00,9,  -999.0,9,  -999.0,-999.0000,9, -999.00,9,  -999.0,9, -999.00,9, -999.00,9,     -999.0,9, -999.00,9,  -999.0,9,     -999.0,     -999.0,9,     -999.0,9,     -999.0,     -999.0,9,     -999.0,     -999.0,9,     -999.0,     -999.0,     -999.0,9,     -999.0,9,     -999.0,9,     -999.0,9,     -999.0,9,     -999.0,9,     -999.0,9,     -999.0,9
33RO20161119,        P18,      16,          1,          9,      11108,2,20161127,       2219,    16.5005,  -110.0006,       3410,  1364.5,   3.3503,  34.5862,2,  34.5851,2,     40.5,2,    41.3,2,   124.0,2,    43.8,2,    0.01,2,   3.122,2,-999.0000,9,-999.0000,9,-999.0000,9,  2366.4,2,  2389.9,2,   7.3713,2,    25.00, -999.00,9,  -999.0,9,  -999.0,-999.0000,9, -999.00,9,  -999.0,9, -999.00,9, -999.00,9,     -999.0,9, -999.00,9,  -999.0,9,     -999.0,     -999.0,9,     -999.0,9,     -999.0,     -999.0,9,     -999.0,     -999.0,9,     -999.0,     -999.0,     -999.0,9,     -999.0,9,     -999.0,9,     -999.0,9,     -999.0,9,     -999.0,9,     -999.0,9,     -999.0,9
33RO20161119,        P18,      16,          1,         10,      11109,2,20161127,       2219,    16.5005,  -110.0006,       3410,  1190.1,   3.8252,  34.5681,2,  34.5682,2,     26.5,2,    27.0,2,   114.7,2,    44.6,2,    0.01,2,   3.216,2,   0.0057,6,   0.0025,6,   0.0000,6,  2364.0,2,  2382.8,2,   7.3396,2,    25.00, -999.00,9,  -999.0,9,  -999.0,    0.022,2, -999.00,9,  -999.0,9, -999.00,9, -999.00,9,    45.6717,2, -999.00,9,  -999.0,9,     -999.0,     -999.0,9,     -999.0,9,     -999.0,     -999.0,9,     -999.0,     -999.0,9,     -999.0,     -999.0,     -999.0,9,     -999.0,9,     -999.0,9,     -999.0,9,     -999.0,9,     -999.0,9,     -999.0,9,     -999.0,9
33RO20161119,        P18,      16,          1,         11,      11110,2,20161127,       2219,    16.5005,  -110.0006,       3410,  1067.6,   4.2941,  34.5522,2,  34.5527,2,     15.1,2,    16.1,2,   106.2,2,    45.0,2,    0.01,2,   3.270,2,   0.0068,2,   0.0022,2,   0.0362,2,  2357.9,2,  2369.9,2,   7.3226,2,    25.00, -999.00,9,  -999.0,9,  -999.0,   0.0215,2, -999.00,9,  -999.0,9, -999.00,9, -999.00,9,    50.3344,2, -999.00,9,  -999.0,9,     -999.0,     -999.0,9,     -999.0,9,     -999.0,     -999.0,9,     -999.0,     -999.0,9,     -999.0,     -999.0,     -999.0,9,     -999.0,9,     -999.0,9,     -999.0,9,     -999.0,9,     -999.0,9,     -999.0,9,     -999.0,9
33RO20161119,        P18,      16,          1,         12,      11111,2,20161127,       2219,    16.5005,  -110.0006,       3410,   946.8,   4.7811,  34.5422,2,  34.5417,2,      7.4,2,     7.7,2,    97.2,2,    44.8,2,    0.01,2,   3.304,2,   0.0068,2,   0.0037,2,   0.0000,2,  2354.0,2,  2360.3,6,   7.3116,2,    25.00, -999.00,9,  -999.0,9,  -999.0,   0.0202,2, -999.00,9,  -999.0,9, -999.00,9, -999.00,9,    56.3731,2, -999.00,9,  -999.0,9,     -999.0,     -999.0,9,     -999.0,9,     -999.0,     -999.0,9,     -999.0,     -999.0,9,     -999.0,     -999.0,     -999.0,9,     -999.0,9,     -999.0,9,     -999.0,9,     -999.0,9,     -999.0,9,     -999.0,9,     -999.0,9
33RO20161119,        P18,      16,          1,         13,      11112,2,20161127,       2219,    16.5005,  -110.0006,       3410,   834.5,   5.3282,  34.5332,2,  34.5326,2,      3.8,2,     4.5,2,    88.0,2,    43.7,2,    0.01,2,   3.254,2,   0.0075,2,   0.0029,2,   0.0000,2,  2345.7,6,  2353.1,2,   7.3076,2,    25.00, -999.00,9,  -999.0,9,  -999.0,   0.0192,2, -999.00,9,  -999.0,9, -999.00,9, -999.00,9,    56.8989,2, -999.00,9,  -999.0,9,     -999.0,     -999.0,9,     -999.0,9,     -999.0,     -999.0,9,     -999.0,     -999.0,9,     -999.0,     -999.0,     -999.0,9,     -999.0,9,     -999.0,9,     -999.0,9,     -999.0,9,     -999.0,9,     -999.0,9,     -999.0,9
33RO20161119,        P18,      16,          1,         14,      11113,2,20161127,       2219,    16.5005,  -110.0006,       3410,   729.3,   5.8731,  34.5311,2,  34.5329,2,      2.5,2,     3.3,6,    80.1,2,    41.8,2,    0.02,2,   3.224,2,   0.0104,2,   0.0058,2,   0.0000,2,  2335.4,2,  2343.0,2,   7.3137,2,    25.00, -999.00,9,  -999.0,9,  -999.0,   0.0235,2, -999.00,9,  -999.0,9, -999.00,9, -999.00,9,    50.6762,2, -999.00,9,  -999.0,9,     -999.0,     -999.0,9,     -999.0,9,     -999.0,     -999.0,9,     -999.0,     -999.0,9,     -999.0,     -999.0,     -999.0,9,     -999.0,9,     -999.0,9,     -999.0,9,     -999.0,9,     -999.0,9,     -999.0,9,     -999.0,9
33RO20161119,        P18,      16,          1,         15,      11114,2,20161127,       2219,    16.5005,  -110.0006,       3410,   621.1,   6.7562,  34.5348,2,  34.5352,2,      2.4,2,     2.7,2,    69.7,2,    38.3,2,    0.01,2,   3.142,2,   0.0164,2,   0.0091,2,   0.0229,2,  2323.5,2,  2321.1,3,   7.3212,6,    25.00, -999.00,9,  -999.0,9,  -999.0,        0,2, -999.00,9,  -999.0,9, -999.00,9, -999.00,9,    40.0631,2, -999.00,9,  -999.0,9,     -999.0,     -999.0,9,     -999.0,9,     -999.0,     -999.0,9,     -999.0,     -999.0,9,     -999.0,     -999.0,     -999.0,9,     -999.0,9,     -999.0,9,     -999.0,9,     -999.0,9,     -999.0,9,     -999.0,9,     -999.0,9
33RO20161119,        P18,      16,          1,         16,      11115,2,20161127,       2219,    16.5005,  -110.0006,       3410,   526.2,   7.5962,  34.5496,2,  34.5481,2,      2.3,2,    12.9,4,    60.4,2,    35.0,2,    0.01,2,   3.051,2,   0.0315,2,   0.0189,2,   0.0000,2,  2313.2,2,  2325.4,2,   7.3307,2,    25.00, -999.00,9,  -999.0,9,  -999.0,   0.0191,2, -999.00,9,  -999.0,9, -999.00,9, -999.00,9,    25.4091,2, -999.00,9,  -999.0,9,     -999.0,     -999.0,9,     -999.0,9,     -999.0,     -999.0,9,     -999.0,     -999.0,9,     -999.0,     -999.0,     -999.0,9,     -999.0,9,     -999.0,9,     -999.0,9,     -999.0,9,     -999.0,9,     -999.0,9,     -999.0,9
33RO20161119,        P18,      16,          1,         17,      11116,2,20161127,       2219,    16.5005,  -110.0006,       3410,   434.7,   8.7158,  34.5850,2,  34.5850,2,      2.3,2,     2.1,2,    49.7,2,    30.8,2,    0.08,2,   2.924,2,   0.0947,2,   0.0559,2,   0.0000,2,  2298.7,2,  2314.0,2,   7.3441,2,    25.00, -999.00,9,  -999.0,9,  -999.0,   0.0148,2, -999.00,9,  -999.0,9, -999.00,9, -999.00,9,     17.965,2, -999.00,9,  -999.0,9,     -999.0,     -999.0,9,     -999.0,9,     -999.0,     -999.0,9,     -999.0,     -999.0,9,     -999.0,     -999.0,     -999.0,9,     -999.0,9,     -999.0,9,     -999.0,9,     -999.0,9,     -999.0,9,     -999.0,9,     -999.0,9
33RO20161119,        P18,      16,          1,         18,      11117,2,20161127,       2219,    16.5005,  -110.0006,       3410,   340.8,  10.0232,  34.6492,2,  34.6520,2,      2.3,2,     2.0,2,    38.7,2,    27.1,2,    0.47,2,   2.725,2,   0.2384,2,   0.1413,2,   0.0525,2,  2286.3,2,  2306.2,2,   7.3628,2,    25.00, -999.00,9,  -999.0,9,  -999.0,   0.0246,2, -999.00,9,  -999.0,9, -999.00,9, -999.00,9,      5.502,2, -999.00,9,  -999.0,9,     -999.0,     -999.0,9,     -999.0,9,     -999.0,     -999.0,9,     -999.0,     -999.0,9,     -999.0,     -999.0,     -999.0,9,     -999.0,9,     -999.0,9,     -999.0,9,     -999.0,9,     -999.0,9,     -999.0,9,     -999.0,9
33RO20161119,        P18,      16,          1,         19,      11083,2,20161127,       2219,    16.5005,  -110.0006,       3410,   260.7,  11.0621,  34.7173,2,  34.7180,2,      2.3,2,     3.4,2,    33.2,2,    24.0,2,    1.46,2,   2.610,2,   0.4812,2,   0.2815,2,   0.0844,2,  2278.0,2,  2304.8,2,   7.3817,2,    25.00, -999.00,9,  -999.0,9,  -999.0,    0.022,2, -999.00,9,  -999.0,9, -999.00,9, -999.00,9,    13.4872,2, -999.00,9,  -999.0,9,     -999.0,     -999.0,9,     -999.0,9,     -999.0,     -999.0,9,     -999.0,     -999.0,9,     -999.0,     -999.0,     -999.0,9,     -999.0,9,     -999.0,9,     -999.0,9,     -999.0,9,     -999.0,9,     -999.0,9,     -999.0,9
33RO20161119,        P18,      16,          1,         20,      11118,2,20161127,       2219,    16.5005,  -110.0006,       3410,   194.8,  11.7883,  34.7470,2,  34.7479,2,      2.4,2,     3.0,6,    31.2,2,    22.4,2,    1.47,2,   2.583,2,   0.6593,6,   0.3941,6,   0.1693,6,  2271.7,2,  2304.0,2,   7.3936,2,    25.00, -999.00,9,  -999.0,9,  -999.0,   0.0302,2, -999.00,9,  -999.0,9, -999.00,9, -999.00,9,    10.9436,2, -999.00,9,  -999.0,9,     -999.0,     -999.0,9,     -999.0,9,     -999.0,     -999.0,9,     -999.0,     -999.0,9,     -999.0,     -999.0,     -999.0,9,     -999.0,9,     -999.0,9,     -999.0,9,     -999.0,9,     -999.0,9,     -999.0,9,     -999.0,9
33RO20161119,        P18,      16,          1,         21,      11119,2,20161127,       2219,    16.5005,  -110.0006,       3410,   135.2,  13.8353,  34.7318,2,  34.7400,2,      2.9,2,     2.2,2,    26.9,2,    21.4,2,    0.62,2,   2.563,2,   1.1158,2,   0.6752,2,   0.3993,2,  2263.7,2,  2303.2,2,   7.4145,2,    25.00, -999.00,9,  -999.0,9,  -999.0,   0.2924,2, -999.00,9,  -999.0,9, -999.00,9, -999.00,9,    14.0599,2, -999.00,9,  -999.0,9,     -999.0,     -999.0,9,     -999.0,9,     -999.0,     -999.0,9,     -999.0,     -999.0,9,     -999.0,     -999.0,     -999.0,9,     -999.0,9,     -999.0,9,     -999.0,9,     -999.0,9,     -999.0,9,     -999.0,9,     -999.0,9
33RO20161119,        P18,      16,          1,         22,      11120,2,20161127,       2219,    16.5005,  -110.0006,       3410,    70.5,  20.0331,  34.5126,2,  34.5172,2,     51.0,2,    44.9,2,    10.7,2,    18.6,2,    0.19,2,   1.817,2,   1.6271,2,   0.9842,2,   0.9989,2,  2172.8,2,  2278.8,6,   7.6167,2,    25.00, -999.00,9,  -999.0,9,  -999.0,   1.0878,2, -999.00,9,  -999.0,9, -999.00,9, -999.00,9,    58.6089,2, -999.00,9,  -999.0,9,     -999.0,     -999.0,9,     -999.0,9,     -999.0,     -999.0,9,     -999.0,     -999.0,9,     -999.0,     -999.0,     -999.0,9,     -999.0,9,     -999.0,9,     -999.0,9,     -999.0,9,     -999.0,9,     -999.0,9,     -999.0,9
33RO20161119,        P18,      16,          1,         23,      11121,2,20161127,       2219,    16.5005,  -110.0006,       3410,    39.9,  28.6739,  33.7667,2,  33.7117,2,    198.3,2,   196.3,2,     0.9,2,     0.0,2,    0.02,2,   0.190,2,   1.5146,2,   0.9547,2,   1.3324,2,  1914.4,2,  2224.4,2,   8.0897,2,    25.00, -999.00,9,  -999.0,9,  -999.0,   1.5413,2, -999.00,9,  -999.0,9, -999.00,9, -999.00,9,     10.544,2, -999.00,9,  -999.0,9,     -999.0,     -999.0,9,     -999.0,9,     -999.0,     -999.0,9,     -999.0,     -999.0,9,     -999.0,     -999.0,     -999.0,9,     -999.0,9,     -999.0,9,     -999.0,9,     -999.0,9,     -999.0,9,     -999.0,9,     -999.0,9
33RO20161119,        P18,      16,          1,         24,      11122,2,20161127,       2219,    16.5005,  -110.0006,       3410,     2.8,  29.2521,  33.3730,2,  33.3711,2,    193.3,2,   195.1,2,     0.7,2,     0.0,2,    0.02,2,   0.148,2,   1.4488,2,   0.9191,2,   1.3269,2,  1888.1,6,  2201.0,2,   8.0991,2,    25.00, -999.00,9,  -999.0,9,  -999.0,        0,2, -999.00,9,  -999.0,9, -999.00,9, -999.00,9,     6.4681,2, -999.00,9,  -999.0,9,     -999.0,     -999.0,9,     -999.0,9,     -999.0,     -999.0,9,     -999.0,     -999.0,9,     -999.0,     -999.0,     -999.0,9,     -999.0,9,     -999.0,9,     -999.0,9,     -999.0,9,     -999.0,9,     -999.0,9,     -999.0,9