BOTTLE,20230606CCHSIOCBG
EXPOCODE,SECT_ID,STNNBR,CASTNO,SAMPNO,BTLNBR,BTLNBR_FLAG_W,DATE,TIME,LATITUDE,LONGITUDE,DEPTH,CTDPRS,CTDTMP,CTDSAL,CTDSAL_FLAG_W,SALNTY,SALNTY_FLAG_W,CTDOXY,CTDOXY_FLAG_W,OXYGEN,OXYGEN_FLAG_W,SILCAT,SILCAT_FLAG_W,NITRAT,NITRAT_FLAG_W,NITRIT,NITRIT_FLAG_W,PHSPHT,PHSPHT_FLAG_W,CFC-11,CFC-11_FLAG_W,CFC-12,CFC-12_FLAG_W,SF6,SF6_FLAG_W,TCARBN,TCARBN_FLAG_W,ALKALI,ALKALI_FLAG_W,PH_SWS,PH_SWS_FLAG_W,PH_TMP,DELC13,DELC13_FLAG_W,DELC14,DELC14_FLAG_W,C14ERR,CCL4,CCL4_FLAG_W,POC,POC_FLAG_W,DOC,DOC_FLAG_W,TDN,TDN_FLAG_W,PON,PON_FLAG_W,N2O,N2O_FLAG_W,D15N_NO3,D15N_NO3_FLAG_W,14C-DOC,14C-DOC_FLAG_W,14C-DOCERR,13C-DOC,13C-DOC_FLAG_W,N2/ARGON_UNSTRIPPED,N2/ARGON_UNSTRIPPED_FLAG_W,N2/ARGON_UNSTRIPPED_ERROR,N2/ARGON,N2/ARGON_FLAG_W,N2/ARGON_ERROR,D15N_N2,D15N_N2_FLAG_W,D15N_N2_ERROR,D15N_NO3_ERROR,D15N_NO2+NO3,D15N_NO2+NO3_FLAG_W,D18O_NO2+NO3,D18O_NO2+NO3_FLAG_W,D18O_NO3,D18O_NO3_FLAG_W,TDP,TDP_FLAG_W,N2O_ALT_1,N2O_ALT_1_FLAG_W,D15N_N2O,D15N_N2O_FLAG_W,D18O_N2O,D18O_N2O_FLAG_W,D15N_ALPHA_N2O,D15N_ALPHA_N2O_FLAG_W
,,,,,,,,,,,METERS,DBAR,ITS-90,PSS-78,,PSS-78,,UMOL/KG,,UMOL/KG,,UMOL/KG,,UMOL/KG,,UMOL/KG,,UMOL/KG,,PMOL/KG,,PMOL/KG,,FMOL/KG,,UMOL/KG,,UMOL/KG,,,,DEG C,/MILLE,,/MILLE,,/MILLE,PMOL/KG,,UG/KG,,UMOL/KG,,UMOL/KG,,UG/KG,,NMOL/KG,,/MILLE,,/MILLE,,/MILLE,/MILLE,,,,,,,,/MILLE,,/MILLE,/MILLE,/MILLE,,/MILLE,,/MILLE,,UMOL/KG,,NMOL/L,,/MILLE,,/MILLE,,/MILLE,
33RO20161119,        P18,     150,          1,          1,      11010,2,20170109,       2034,   -40.9985,  -103.0023,       3976,  4074.6,   1.1939,  34.7082,2,  34.7078,2,    192.3,2,   192.3,6,   122.6,2,    32.8,2,    0.01,2,   2.297,2,   0.0030,2,   0.0019,2,   0.0000,2,  2280.5,2,  2381.6,2,   7.6052,2,    25.00, -999.00,9,  -999.0,9,  -999.0,   0.0804,2, -999.00,9,  -999.0,9, -999.00,9, -999.00,9,    19.1294,2, -999.00,9,  -999.0,9,     -999.0,     -999.0,9,     -999.0,9,     -999.0,     -999.0,9,     -999.0,     -999.0,9,     -999.0,     -999.0,     -999.0,9,     -999.0,9,     -999.0,9,     -999.0,9,16.14317851,2,       8.38,2,      48.33,2,      22.49,2
33RO20161119,        P18,     150,          1,          2,      11101,2,20170109,       2034,   -40.9985,  -103.0023,       3976,  3639.1,   1.2622,  34.7078,2,  34.7073,2,    188.8,2,   188.6,2,   119.8,2,    32.9,2,    0.01,2,   2.311,2,   0.0037,2,   0.0031,2,   0.0000,2,  2282.3,6,  2381.4,6,   7.6021,6,    25.00, -999.00,9,  -999.0,9,  -999.0,   0.1359,2, -999.00,9,  -999.0,9, -999.00,9, -999.00,9,    18.9438,2, -999.00,9,  -999.0,9,     -999.0,     -999.0,9,     -999.0,9,     -999.0,     -999.0,9,     -999.0,     -999.0,9,     -999.0,     -999.0,     -999.0,9,     -999.0,9,     -999.0,9,     -999.0,9,     -999.0,9,     -999.0,9,     -999.0,9,     -999.0,9
33RO20161119,        P18,     150,          1,          3,      11102,2,20170109,       2034,   -40.9985,  -103.0023,       3976,  3400.9,   1.4680,  34.7066,2,  34.7077,2,    182.2,2,   182.8,2,   116.2,6,    33.1,6,    0.01,6,   2.316,6,   0.0063,2,   0.0042,2,   0.0000,2,  2280.9,2,  2368.1,4,   7.5954,2,    25.00, -999.00,9,  -999.0,9,  -999.0,   0.1611,2, -999.00,9,  -999.0,9, -999.00,9, -999.00,9,    19.5457,2, -999.00,9,  -999.0,9,     -999.0,     -999.0,9,     -999.0,9,     -999.0,     -999.0,9,     -999.0,     -999.0,9,     -999.0,     -999.0,     -999.0,9,     -999.0,9,     -999.0,9,     -999.0,9,16.69149805,2,       8.63,2,      48.32,2,      22.17,2
33RO20161119,        P18,     150,          1,          4,      11103,2,20170109,       2034,   -40.9985,  -103.0023,       3976,  3076.1,   1.6515,  34.7032,2,  34.7038,2,    175.9,2,   176.7,2,   112.2,6,    33.3,6,    0.02,6,   2.332,6,   0.0121,2,   0.0061,2,   0.0000,2,  2283.6,2,  2373.9,2,   7.5895,2,    25.00, -999.00,9,  -999.0,9,  -999.0,   0.3099,2, -999.00,9,  -999.0,9, -999.00,9, -999.00,9,    20.1132,2, -999.00,9,  -999.0,9,     -999.0,     -999.0,9,     -999.0,9,     -999.0,     -999.0,9,     -999.0,     -999.0,9,     -999.0,     -999.0,     -999.0,9,     -999.0,9,     -999.0,9,     -999.0,9,     -999.0,9,     -999.0,9,     -999.0,9,     -999.0,9
33RO20161119,        P18,     150,          1,          5,      11104,2,20170109,       2034,   -40.9985,  -103.0023,       3976,  2774.8,   1.7630,  34.6982,2,  34.7062,4,    171.6,2,   172.2,2,   109.8,6,    33.4,6,    0.01,6,   2.345,6,  -0.0021,4,   0.0003,4,   0.0103,4,  2283.3,2,  2373.8,2,   7.5837,2,    25.00, -999.00,9,  -999.0,9,  -999.0,   0.3817,2, -999.00,9,  -999.0,9, -999.00,9, -999.00,9,    -0.0034,4, -999.00,9,  -999.0,9,     -999.0,     -999.0,9,     -999.0,9,     -999.0,     -999.0,9,     -999.0,     -999.0,9,     -999.0,     -999.0,     -999.0,9,     -999.0,9,     -999.0,9,     -999.0,9,17.37649517,2,       8.57,2,      49.41,2,      22.17,2
33RO20161119,        P18,     150,          1,          6,      11105,2,20170109,       2034,   -40.9985,  -103.0023,       3976,  2460.4,   1.8867,  34.6917,2,  34.6916,2,    168.5,2,   169.4,2,   105.0,6,    33.5,6,    0.01,6,   2.354,6,   0.0291,2,   0.0138,2,   0.0000,2,  2283.3,2,  2372.0,2,   7.5780,2,    25.00, -999.00,9,  -999.0,9,  -999.0,   0.9111,2, -999.00,9,  -999.0,9, -999.00,9, -999.00,9,     20.647,2, -999.00,9,  -999.0,9,     -999.0,     -999.0,9,     -999.0,9,     -999.0,     -999.0,9,     -999.0,     -999.0,9,     -999.0,     -999.0,     -999.0,9,     -999.0,9,     -999.0,9,     -999.0,9,     -999.0,9,     -999.0,9,     -999.0,9,     -999.0,9
33RO20161119,        P18,     150,          1,          7,      11106,2,20170109,       2034,   -40.9985,  -103.0023,       3976,  2159.5,   2.1127,  34.6709,2,  34.6702,2,    165.9,2,   166.4,2,    96.5,2,    33.6,2,    0.01,2,   2.356,2,   0.0532,2,   0.0251,2,   0.0000,2,  2274.4,2,  2362.9,2,   7.5676,2,    25.00, -999.00,9,  -999.0,9,  -999.0,   1.5418,2, -999.00,9,  -999.0,9, -999.00,9, -999.00,9,    21.0499,2, -999.00,9,  -999.0,9,     -999.0,     -999.0,9,     -999.0,9,     -999.0,     -999.0,9,     -999.0,     -999.0,9,     -999.0,     -999.0,     -999.0,9,     -999.0,9,     -999.0,9,     -999.0,9,18.02384666,2,       8.44,2,      48.94,2,      22.78,2
33RO20161119,        P18,     150,          1,          8,      11107,2,20170109,       2034,   -40.9985,  -103.0023,       3976,  1850.7,   2.3745,  34.6145,2,  34.6139,2,    160.1,2,   160.5,2,    88.7,2,    34.5,2,    0.01,2,   2.422,2,   0.0927,2,   0.0544,2,   0.2395,3,  2275.1,2,  2355.2,2,   7.5536,2,    25.00, -999.00,9,  -999.0,9,  -999.0,   1.4311,2, -999.00,9,  -999.0,9, -999.00,9, -999.00,9,    22.5681,2, -999.00,9,  -999.0,9,     -999.0,     -999.0,9,     -999.0,9,     -999.0,     -999.0,9,     -999.0,     -999.0,9,     -999.0,     -999.0,     -999.0,9,     -999.0,9,     -999.0,9,     -999.0,9,     -999.0,9,     -999.0,9,     -999.0,9,     -999.0,9
33RO20161119,        P18,     150,          1,          9,      11108,2,20170109,       2034,   -40.9985,  -103.0023,       3976,  1539.6,   2.8161,  34.5269,2,  34.5272,2,    151.7,2,   151.7,2,    76.4,2,    35.8,2,    0.01,2,   2.526,2,   0.1570,2,   0.0755,2,   0.0276,2,  2268.2,6,  2336.8,2,   7.5331,2,    25.00, -999.00,9,  -999.0,9,  -999.0,   2.2186,2, -999.00,9,  -999.0,9, -999.00,9, -999.00,9,    24.4041,2, -999.00,9,  -999.0,9,     -999.0,     -999.0,9,     -999.0,9,     -999.0,     -999.0,9,     -999.0,     -999.0,9,     -999.0,     -999.0,     -999.0,9,     -999.0,9,     -999.0,9,     -999.0,9,20.35169539,2,       8.58,2,      47.82,2,      20.38,2
33RO20161119,        P18,     150,          1,         10,      11109,2,20170109,       2034,   -40.9985,  -103.0023,       3976,  1351.0,   3.1821,  34.4515,2,  34.4584,2,    156.7,2,   156.6,2,    63.0,2,    35.8,2,    0.01,2,   2.514,2,   0.2602,2,   0.1271,2,   0.0364,2,  2252.3,2,  2321.9,6,   7.5325,2,    25.00, -999.00,9,  -999.0,9,  -999.0,   2.2329,2, -999.00,9,  -999.0,9, -999.00,9, -999.00,9,    24.6161,2, -999.00,9,  -999.0,9,     -999.0,     -999.0,9,     -999.0,9,     -999.0,     -999.0,9,     -999.0,     -999.0,9,     -999.0,     -999.0,     -999.0,9,     -999.0,9,     -999.0,9,     -999.0,9,     -999.0,9,     -999.0,9,     -999.0,9,     -999.0,9
33RO20161119,        P18,     150,          1,         11,      11110,2,20170109,       2034,   -40.9985,  -103.0023,       3976,  1211.8,   3.4648,  34.3852,2,  34.3842,2,    174.1,2,   173.7,2,    49.9,2,    34.4,2,    0.01,2,   2.402,2,   0.5877,2,   0.2856,2,   0.0853,2,  2231.8,2,  2315.3,2,   7.5564,2,    25.00, -999.00,9,  -999.0,9,  -999.0,   3.1884,2, -999.00,9,  -999.0,9, -999.00,9, -999.00,9,    22.7063,2, -999.00,9,  -999.0,9,     -999.0,     -999.0,9,     -999.0,9,     -999.0,     -999.0,9,     -999.0,     -999.0,9,     -999.0,     -999.0,     -999.0,9,     -999.0,9,     -999.0,9,     -999.0,9,19.02229562,2,       7.99,2,       46.6,2,      19.56,2
33RO20161119,        P18,     150,          1,         12,      11111,2,20170109,       2034,   -40.9985,  -103.0023,       3976,  1070.3,   3.9485,  34.3263,2,  34.3255,2,    192.7,2,   192.7,2,    36.5,2,    32.4,2,    0.01,2,   2.269,2,   1.1368,6,   0.5582,6,   0.1748,6,  2207.8,2,  2295.1,2,   7.5878,6,    25.00, -999.00,9,  -999.0,9,  -999.0,   2.6453,2, -999.00,9,  -999.0,9, -999.00,9, -999.00,9,    20.4277,2, -999.00,9,  -999.0,9,     -999.0,     -999.0,9,     -999.0,9,     -999.0,     -999.0,9,     -999.0,     -999.0,9,     -999.0,     -999.0,     -999.0,9,     -999.0,9,     -999.0,9,     -999.0,9,     -999.0,9,     -999.0,9,     -999.0,9,     -999.0,9
33RO20161119,        P18,     150,          1,         13,      11112,2,20170109,       2034,   -40.9985,  -103.0023,       3976,   931.4,   4.5870,  34.2870,2,  34.2865,2,    210.5,2,   210.7,2,    25.4,2,    30.0,2,    0.01,2,   2.086,2,   2.1139,2,   1.0473,2,   0.4391,2,  2187.5,2,  2284.3,2,   7.6202,2,    25.00, -999.00,9,  -999.0,9,  -999.0,   2.8375,2, -999.00,9,  -999.0,9, -999.00,9, -999.00,9,    18.5231,2, -999.00,9,  -999.0,9,     -999.0,     -999.0,9,     -999.0,9,     -999.0,     -999.0,9,     -999.0,     -999.0,9,     -999.0,     -999.0,     -999.0,9,     -999.0,9,     -999.0,9,     -999.0,9,15.82287438,2,       7.69,2,      44.83,2,      19.07,2
33RO20161119,        P18,     150,          1,         14,      11113,2,20170109,       2034,   -40.9985,  -103.0023,       3976,   810.2,   5.1671,  34.2650,2,  34.2666,2,    227.5,2,   227.4,2,    16.9,2,    27.5,2,    0.01,2,   1.914,2,   2.8461,2,   1.4524,2,   0.7066,2,  2170.1,2,  2281.4,2,   7.6535,2,    25.00, -999.00,9,  -999.0,9,  -999.0,   3.3013,2, -999.00,9,  -999.0,9, -999.00,9, -999.00,9,    16.9005,2, -999.00,9,  -999.0,9,     -999.0,     -999.0,9,     -999.0,9,     -999.0,     -999.0,9,     -999.0,     -999.0,9,     -999.0,     -999.0,     -999.0,9,     -999.0,9,     -999.0,9,     -999.0,9,14.65826944,2,       7.09,2,      43.42,2,      17.99,2
33RO20161119,        P18,     150,          1,         15,      11114,2,20170109,       2034,   -40.9985,  -103.0023,       3976,   690.3,   5.6557,  34.2618,2,  34.2611,2,    245.2,2,   246.3,2,    11.5,2,    24.8,2,    0.01,2,   1.742,2,   3.5932,2,   1.8966,2,   1.1676,2,  2155.7,2,  2278.4,2,   7.6851,2,    25.00, -999.00,9,  -999.0,9,  -999.0,   2.0821,2, -999.00,9,  -999.0,9, -999.00,9, -999.00,9,    15.2034,2, -999.00,9,  -999.0,9,     -999.0,     -999.0,9,     -999.0,9,     -999.0,     -999.0,9,     -999.0,     -999.0,9,     -999.0,     -999.0,     -999.0,9,     -999.0,9,     -999.0,9,     -999.0,9,13.23618832,2,       6.81,2,      43.17,2,      18.71,2
33RO20161119,        P18,     150,          1,         16,      11115,2,20170109,       2034,   -40.9985,  -103.0023,       3976,   574.9,   6.0977,  34.2838,2,  34.2834,2,    252.5,2,   251.9,2,     8.8,2,    23.2,2,    0.01,2,   1.639,2,   3.8509,2,   2.0642,2,   1.3394,2,  2147.9,2,  2275.1,2,   7.6953,2,    25.00, -999.00,9,  -999.0,9,  -999.0,    2.706,2, -999.00,9,  -999.0,9, -999.00,9, -999.00,9,    14.7811,2, -999.00,9,  -999.0,9,     -999.0,     -999.0,9,     -999.0,9,     -999.0,     -999.0,9,     -999.0,     -999.0,9,     -999.0,     -999.0,     -999.0,9,     -999.0,9,     -999.0,9,     -999.0,9,12.95393323,2,       6.76,2,      42.72,2,      18.74,2
33RO20161119,        P18,     150,          1,         17,      11116,2,20170109,       2034,   -40.9985,  -103.0023,       3976,   471.0,   6.4103,  34.2996,2,  34.3014,2,    254.6,2,   254.1,2,     7.5,2,    22.2,2,    0.01,2,   1.584,2,   4.0274,2,   2.1916,2,   1.6450,2,  2144.9,2,  2271.4,2,   7.7016,2,    25.00, -999.00,9,  -999.0,9,  -999.0,   2.4866,2, -999.00,9,  -999.0,9, -999.00,9, -999.00,9,    15.3082,2, -999.00,9,  -999.0,9,     -999.0,     -999.0,9,     -999.0,9,     -999.0,     -999.0,9,     -999.0,     -999.0,9,     -999.0,     -999.0,     -999.0,9,     -999.0,9,     -999.0,9,     -999.0,9,13.01721116,2,       6.64,2,      41.34,2,      15.16,2
33RO20161119,        P18,     150,          1,         18,      11117,2,20170109,       2034,   -40.9985,  -103.0023,       3976,   365.0,   6.7346,  34.3121,2,  34.3130,2,    256.3,2,   256.0,2,     6.3,2,    21.2,2,    0.01,2,   1.513,2,   4.0055,2,   2.2358,2,   1.8072,2,  2143.2,2,  2270.3,2,   7.7115,2,    25.00, -999.00,9,  -999.0,9,  -999.0,   2.7617,2, -999.00,9,  -999.0,9, -999.00,9, -999.00,9,    15.9637,2, -999.00,9,  -999.0,9,     -999.0,     -999.0,9,     -999.0,9,     -999.0,     -999.0,9,     -999.0,     -999.0,9,     -999.0,     -999.0,     -999.0,9,     -999.0,9,     -999.0,9,     -999.0,9,     -999.0,9,     -999.0,9,     -999.0,9,     -999.0,9
33RO20161119,        P18,     150,          1,         19,      11083,2,20170109,       2034,   -40.9985,  -103.0023,       3976,   276.4,   6.9880,  34.2856,2,  34.2867,2,    254.8,2,   254.4,2,     5.2,2,    20.7,2,    0.02,2,   1.478,2,   4.0097,2,   2.2512,2,   2.0008,2,  2142.0,2,  2266.8,2,   7.7072,2,    25.00, -999.00,9,  -999.0,9,  -999.0,   3.1336,2, -999.00,9,  -999.0,9, -999.00,9, -999.00,9,    19.4337,2, -999.00,9,  -999.0,9,     -999.0,     -999.0,9,     -999.0,9,     -999.0,     -999.0,9,     -999.0,     -999.0,9,     -999.0,     -999.0,     -999.0,9,     -999.0,9,     -999.0,9,     -999.0,9,16.45922427,2,       6.19,2,      40.17,2,      18.06,2
33RO20161119,        P18,     150,          1,         20,      11118,2,20170109,       2034,   -40.9985,  -103.0023,       3976,   194.9,   7.6718,  34.2294,2,  34.2278,2,    249.6,2,   250.4,2,     3.6,2,    19.3,2,    0.02,2,   1.417,2,   3.8907,2,   2.2037,2,   2.0248,2,  2132.6,2,  2263.4,2,   7.7189,2,    25.00, -999.00,9,  -999.0,9,  -999.0,   2.9409,2, -999.00,9,  -999.0,9, -999.00,9, -999.00,9,    22.7336,2, -999.00,9,  -999.0,9,     -999.0,     -999.0,9,     -999.0,9,     -999.0,     -999.0,9,     -999.0,     -999.0,9,     -999.0,     -999.0,     -999.0,9,     -999.0,9,     -999.0,9,     -999.0,9,     -999.0,9,     -999.0,9,     -999.0,9,     -999.0,9
33RO20161119,        P18,     150,          1,         21,      11119,2,20170109,       2034,   -40.9985,  -103.0023,       3976,   125.7,   9.6441,  34.0992,2,  34.0981,2,    268.2,2,   258.8,2,     1.3,2,    13.2,2,    0.34,2,   1.092,2,   3.4757,6,   2.0206,6,   2.2929,6,  2100.0,2,  2255.7,2,   7.7852,2,    25.00, -999.00,9,  -999.0,9,  -999.0,   0.1215,2, -999.00,9,  -999.0,9, -999.00,9, -999.00,9,    17.3025,2, -999.00,9,  -999.0,9,     -999.0,     -999.0,9,     -999.0,9,     -999.0,     -999.0,9,     -999.0,     -999.0,9,     -999.0,     -999.0,     -999.0,9,     -999.0,9,     -999.0,9,     -999.0,9, 14.4150815,2,       6.04,2,      39.32,2,      17.66,2
33RO20161119,        P18,     150,          1,         22,      11120,2,20170109,       2034,   -40.9985,  -103.0023,       3976,    71.3,  11.6266,  34.0157,2,  34.0155,2,    289.8,2,   269.4,2,     0.6,2,     8.2,2,    0.26,2,   0.790,2,   3.1627,2,   1.8601,2,   2.2656,2,  2066.3,2,  2253.5,6,   7.8518,2,    25.00, -999.00,9,  -999.0,9,  -999.0,   0.2833,2, -999.00,9,  -999.0,9, -999.00,9, -999.00,9,    11.2516,2, -999.00,9,  -999.0,9,     -999.0,     -999.0,9,     -999.0,9,     -999.0,     -999.0,9,     -999.0,     -999.0,9,     -999.0,     -999.0,     -999.0,9,     -999.0,9,     -999.0,9,     -999.0,9,     -999.0,9,     -999.0,9,     -999.0,9,     -999.0,9
33RO20161119,        P18,     150,          1,         23,      11121,2,20170109,       2034,   -40.9985,  -103.0023,       3976,    35.1,  15.1735,  33.9379,2,  33.9577,2,    253.5,2,   254.2,2,     0.5,2,     7.9,2,    0.21,2,   0.770,2,   2.7028,2,   1.6119,2,   2.0850,2,  2054.3,6,  2252.9,2,   7.8773,2,    25.00, -999.00,9,  -999.0,9,  -999.0,   0.6788,2, -999.00,9,  -999.0,9, -999.00,9, -999.00,9,     9.0736,2, -999.00,9,  -999.0,9,     -999.0,     -999.0,9,     -999.0,9,     -999.0,     -999.0,9,     -999.0,     -999.0,9,     -999.0,     -999.0,     -999.0,9,     -999.0,9,     -999.0,9,     -999.0,9,7.955075936,2,       6.54,2,      47.02,2,      17.89,2
33RO20161119,        P18,     150,          1,         24,      11122,2,20170109,       2034,   -40.9985,  -103.0023,       3976,     3.8,  15.1749,  33.9384,2,  33.9411,2,    252.4,2,   254.2,6,     0.6,2,     7.9,2,    0.21,2,   0.779,2,   2.6941,2,   1.6089,2,   2.0397,2,  2054.2,2,  2251.7,2,   7.8778,2,    25.00, -999.00,9,  -999.0,9,  -999.0,    1.782,2, -999.00,9,  -999.0,9, -999.00,9, -999.00,9,     9.1007,2, -999.00,9,  -999.0,9,     -999.0,     -999.0,9,     -999.0,9,     -999.0,     -999.0,9,     -999.0,     -999.0,9,     -999.0,     -999.0,     -999.0,9,     -999.0,9,     -999.0,9,     -999.0,9,     -999.0,9,     -999.0,9,     -999.0,9,     -999.0,9