BOTTLE,20230606CCHSIOCBG
EXPOCODE,SECT_ID,STNNBR,CASTNO,SAMPNO,BTLNBR,BTLNBR_FLAG_W,DATE,TIME,LATITUDE,LONGITUDE,DEPTH,CTDPRS,CTDTMP,CTDSAL,CTDSAL_FLAG_W,SALNTY,SALNTY_FLAG_W,CTDOXY,CTDOXY_FLAG_W,OXYGEN,OXYGEN_FLAG_W,SILCAT,SILCAT_FLAG_W,NITRAT,NITRAT_FLAG_W,NITRIT,NITRIT_FLAG_W,PHSPHT,PHSPHT_FLAG_W,CFC-11,CFC-11_FLAG_W,CFC-12,CFC-12_FLAG_W,SF6,SF6_FLAG_W,TCARBN,TCARBN_FLAG_W,ALKALI,ALKALI_FLAG_W,PH_SWS,PH_SWS_FLAG_W,PH_TMP,DELC13,DELC13_FLAG_W,DELC14,DELC14_FLAG_W,C14ERR,CCL4,CCL4_FLAG_W,POC,POC_FLAG_W,DOC,DOC_FLAG_W,TDN,TDN_FLAG_W,PON,PON_FLAG_W,N2O,N2O_FLAG_W,D15N_NO3,D15N_NO3_FLAG_W,14C-DOC,14C-DOC_FLAG_W,14C-DOCERR,13C-DOC,13C-DOC_FLAG_W,N2/ARGON_UNSTRIPPED,N2/ARGON_UNSTRIPPED_FLAG_W,N2/ARGON_UNSTRIPPED_ERROR,N2/ARGON,N2/ARGON_FLAG_W,N2/ARGON_ERROR,D15N_N2,D15N_N2_FLAG_W,D15N_N2_ERROR,D15N_NO3_ERROR,D15N_NO2+NO3,D15N_NO2+NO3_FLAG_W,D18O_NO2+NO3,D18O_NO2+NO3_FLAG_W,D18O_NO3,D18O_NO3_FLAG_W,TDP,TDP_FLAG_W,N2O_ALT_1,N2O_ALT_1_FLAG_W,D15N_N2O,D15N_N2O_FLAG_W,D18O_N2O,D18O_N2O_FLAG_W,D15N_ALPHA_N2O,D15N_ALPHA_N2O_FLAG_W
,,,,,,,,,,,METERS,DBAR,ITS-90,PSS-78,,PSS-78,,UMOL/KG,,UMOL/KG,,UMOL/KG,,UMOL/KG,,UMOL/KG,,UMOL/KG,,PMOL/KG,,PMOL/KG,,FMOL/KG,,UMOL/KG,,UMOL/KG,,,,DEG C,/MILLE,,/MILLE,,/MILLE,PMOL/KG,,UG/KG,,UMOL/KG,,UMOL/KG,,UG/KG,,NMOL/KG,,/MILLE,,/MILLE,,/MILLE,/MILLE,,,,,,,,/MILLE,,/MILLE,/MILLE,/MILLE,,/MILLE,,/MILLE,,UMOL/KG,,NMOL/L,,/MILLE,,/MILLE,,/MILLE,
33RO20161119,        P18,     109,          1,          1,      11010,2,20161219,       1911,   -20.4986,  -102.9974,       4054,  4103.2,   1.8410,  34.6874,2,  34.6878,2,    150.6,2,   149.7,2,   127.3,6,    35.3,6,    0.01,6,   2.513,6,   0.0034,2,   0.0013,2,   0.0000,2,  2326.0,6,  2421.7,2,   7.5777,2,    25.00,    0.23,2,  -219.2,2,     2.3,        0,2, -999.00,9,    36.7,2,   39.20,2, -999.00,9,    20.1443,2, -999.00,9,  -999.0,9,     -999.0,     -999.0,9,     -999.0,9,     -999.0,     -999.0,9,     -999.0,     -999.0,9,     -999.0,     -999.0,     -999.0,9,     -999.0,9,     -999.0,9,     -999.0,9,     -999.0,9,     -999.0,9,     -999.0,9,     -999.0,9
33RO20161119,        P18,     109,          1,          2,      11101,2,20161219,       1911,   -20.4986,  -102.9974,       4054,  3868.4,   1.8161,  34.6872,2,  34.6890,2,    150.2,2,   149.5,2,   127.3,6,    35.4,6,    0.00,6,   2.523,6,   0.0140,2,   0.0117,2,   0.0000,2,  2323.7,2,  2419.4,2,   7.5755,6,    25.00,    0.22,2,  -217.1,2,     2.8,        0,2, -999.00,9,    36.9,2,   39.20,2, -999.00,9,    20.4852,2, -999.00,9,  -999.0,9,     -999.0,     -999.0,9,     -999.0,9,     -999.0,     -999.0,9,     -999.0,     -999.0,9,     -999.0,     -999.0,     -999.0,9,     -999.0,9,     -999.0,9,     -999.0,9,     -999.0,9,     -999.0,9,     -999.0,9,     -999.0,9
33RO20161119,        P18,     109,          1,          3,      11102,2,20161219,       1911,   -20.4986,  -102.9974,       4054,  3657.8,   1.7966,  34.6872,2,  34.6882,2,    150.1,2,   149.7,2,   127.2,6,    35.4,6,    0.00,6,   2.518,6,   0.0023,2,   0.0013,2,   0.0000,2,  2323.5,2,  2419.9,2,   7.5751,2,    25.00, -999.00,5,  -999.0,5,  -999.0,        0,2, -999.00,9,    37.0,2,   37.40,2, -999.00,9,    20.1102,2, -999.00,9,  -999.0,9,     -999.0,     -999.0,9,     -999.0,9,     -999.0,     -999.0,9,     -999.0,     -999.0,9,     -999.0,     -999.0,     -999.0,9,     -999.0,9,     -999.0,9,     -999.0,9,     -999.0,9,     -999.0,9,     -999.0,9,     -999.0,9
33RO20161119,        P18,     109,          1,          4,      11103,2,20161219,       1911,   -20.4986,  -102.9974,       4054,  3300.7,   1.7765,  34.6849,2,  34.6931,4,    151.2,2,   150.9,6,   126.0,6,    35.3,6,    0.00,6,   2.508,6,   0.0065,2,   0.0031,2,   0.0000,2,  2319.4,2,  2415.8,2,   7.5750,2,    25.00, -999.00,5,  -999.0,5,  -999.0,   0.0328,2, -999.00,9,    36.4,2,   38.00,2, -999.00,9,    20.6918,2, -999.00,9,  -999.0,9,     -999.0,     -999.0,9,     -999.0,9,     -999.0,     -999.0,9,     -999.0,     -999.0,9,     -999.0,     -999.0,     -999.0,9,     -999.0,9,     -999.0,9,     -999.0,9,     -999.0,9,     -999.0,9,     -999.0,9,     -999.0,9
33RO20161119,        P18,     109,          1,          5,      11104,2,20161219,       1911,   -20.4986,  -102.9974,       4054,  3006.8,   1.7836,  34.6808,2,  34.6821,2,    152.4,2,   152.4,2,   123.4,2,    35.1,2,    0.00,2,   2.502,2,   0.0071,2,   0.0048,2,   0.0000,2,  2314.2,2,  2410.3,6,   7.5733,2,    25.00,    0.12,3,  -221.8,2,     2.2,   0.0143,2, -999.00,9,    35.9,2,   38.30,2, -999.00,9,    20.5701,2, -999.00,9,  -999.0,9,     -999.0,     -999.0,9,     -999.0,9,     -999.0,     -999.0,9,     -999.0,     -999.0,9,     -999.0,     -999.0,     -999.0,9,     -999.0,9,     -999.0,9,     -999.0,9,     -999.0,9,     -999.0,9,     -999.0,9,     -999.0,9
33RO20161119,        P18,     109,          1,          6,      11105,2,20161219,       1911,   -20.4986,  -102.9974,       4054,  2684.8,   1.8277,  34.6733,2,  34.6919,4,    155.3,2,   155.3,2,   118.4,2,    34.8,2,    0.00,2,   2.484,2,   0.0171,2,   0.0132,2,   0.0279,2,  2305.8,2,  2400.8,2,   7.5706,2,    25.00,    0.28,2,  -217.3,2,     3.3,   0.0233,2, -999.00,9,    37.0,2,   36.20,2, -999.00,9,    20.3177,2, -999.00,9,  -999.0,9,     -999.0,     -999.0,9,     -999.0,9,     -999.0,     -999.0,9,     -999.0,     -999.0,9,     -999.0,     -999.0,     -999.0,9,     -999.0,9,     -999.0,9,     -999.0,9,     -999.0,9,     -999.0,9,     -999.0,9,     -999.0,9
33RO20161119,        P18,     109,          1,          7,      11106,2,20161219,       1911,   -20.4986,  -102.9974,       4054,  2365.7,   1.9272,  34.6595,2,  34.6642,4,    154.3,2,   154.1,2,   114.5,2,    35.0,2,    0.00,2,   2.492,2,   0.0063,2,   0.0027,2,   0.0000,2,  2302.9,2,  2393.2,2,   7.5651,2,    25.00,    0.22,2,  -212.7,2,     2.1,   0.0176,2, -999.00,9,    35.4,2,   38.60,2, -999.00,9,      21.17,2, -999.00,9,  -999.0,9,     -999.0,     -999.0,9,     -999.0,9,     -999.0,     -999.0,9,     -999.0,     -999.0,9,     -999.0,     -999.0,     -999.0,9,     -999.0,9,     -999.0,9,     -999.0,9,     -999.0,9,     -999.0,9,     -999.0,9,     -999.0,9
33RO20161119,        P18,     109,          1,          8,      11107,2,20161219,       1911,   -20.4986,  -102.9974,       4054,  2044.8,   2.1625,  34.6354,2,  34.6366,2,    143.8,2,   143.8,2,   111.0,2,    36.0,2,    0.00,2,   2.557,2,   0.0101,6,   0.0059,6,   0.0000,6,  2302.9,2,  2387.9,2,   7.5485,2,    25.00,    0.25,2,  -219.9,2,     1.9,        0,2, -999.00,9,    37.7,2,   38.40,2, -999.00,9,    22.3425,2, -999.00,9,  -999.0,9,     -999.0,     -999.0,9,     -999.0,9,     -999.0,     -999.0,9,     -999.0,     -999.0,9,     -999.0,     -999.0,     -999.0,9,     -999.0,9,     -999.0,9,     -999.0,9,     -999.0,9,     -999.0,9,     -999.0,9,     -999.0,9
33RO20161119,        P18,     109,          1,          9,      11108,2,20161219,       1911,   -20.4986,  -102.9974,       4054,  1685.3,   2.6887,  34.6021,2,  34.6012,2,    113.5,2,   112.9,2,   107.1,2,    38.8,2,    0.00,2,   2.776,2,   0.0018,2,   0.0017,2,   0.0000,2,  2317.1,6,  2383.5,2,   7.4942,2,    25.00,    0.15,2,  -221.8,2,     2.0,   0.0122,2, -999.00,9,    38.8,2,   41.40,2, -999.00,9,    26.4421,2, -999.00,9,  -999.0,9,     -999.0,     -999.0,9,     -999.0,9,     -999.0,     -999.0,9,     -999.0,     -999.0,9,     -999.0,     -999.0,     -999.0,9,     -999.0,9,     -999.0,9,     -999.0,9,     -999.0,9,     -999.0,9,     -999.0,9,     -999.0,9
33RO20161119,        P18,     109,          1,         10,      11109,2,20161219,       1911,   -20.4986,  -102.9974,       4054,  1470.0,   3.0849,  34.5743,2,  34.5759,2,    106.6,2,   107.0,2,    97.0,2,    39.4,2,    0.00,2,   2.823,2,   0.0016,2,   0.0009,2,   0.0000,2,  2311.6,2,  2371.1,2,   7.4795,2,    25.00,    0.24,2,  -208.7,2,     2.0,        0,2, -999.00,9,    37.2,2,   41.50,2, -999.00,9,    28.6675,2, -999.00,9,  -999.0,9,     -999.0,     -999.0,9,     -999.0,9,     -999.0,     -999.0,9,     -999.0,     -999.0,9,     -999.0,     -999.0,     -999.0,9,     -999.0,9,     -999.0,9,     -999.0,9,     -999.0,9,     -999.0,9,     -999.0,9,     -999.0,9
33RO20161119,        P18,     109,          1,         11,      11110,2,20161219,       1911,   -20.4986,  -102.9974,       4054,  1315.3,   3.3867,  34.5564,2,  34.5601,2,     99.7,2,    99.4,2,    90.0,2,    40.0,2,    0.00,2,   2.853,2,   0.0058,2,   0.0011,2,   0.0000,2,  2308.6,2,  2363.1,2,   7.4668,2,    25.00,    0.18,2,  -204.4,2,     2.1,   0.0165,2, -999.00,9,    36.2,2,   42.30,2, -999.00,9,    30.3785,2, -999.00,9,  -999.0,9,     -999.0,     -999.0,9,     -999.0,9,     -999.0,     -999.0,9,     -999.0,     -999.0,9,     -999.0,     -999.0,     -999.0,9,     -999.0,9,     -999.0,9,     -999.0,9,     -999.0,9,     -999.0,9,     -999.0,9,     -999.0,9
33RO20161119,        P18,     109,          1,         12,      11111,2,20161219,       1911,   -20.4986,  -102.9974,       4054,  1175.5,   3.7165,  34.5383,2,  34.5387,2,     94.9,2,    94.3,2,    82.5,2,    40.4,2,    0.00,2,   2.873,2,   0.0036,2,   0.0016,2,   0.0000,2,  2301.7,2,  2356.7,2,   7.4588,2,    25.00,    0.27,2,  -194.1,2,     2.2,   0.0322,2, -999.00,9,    39.1,2,   43.60,2, -999.00,9,    31.4035,2, -999.00,9,  -999.0,9,     -999.0,     -999.0,9,     -999.0,9,     -999.0,     -999.0,9,     -999.0,     -999.0,9,     -999.0,     -999.0,     -999.0,9,     -999.0,9,     -999.0,9,     -999.0,9,     -999.0,9,     -999.0,9,     -999.0,9,     -999.0,9
33RO20161119,        P18,     109,          1,         13,      11112,2,20161219,       1911,   -20.4986,  -102.9974,       4054,  1034.9,   4.1933,  34.5112,2,  34.5130,2,     90.0,2,    90.0,2,    70.9,2,    40.7,2,    0.00,2,   2.875,2,   0.0046,2,   0.0027,2,   0.0000,2,  2290.5,2,  2342.4,2,   7.4485,2,    25.00,    0.29,2,  -180.5,2,     1.9,   0.1195,2, -999.00,9,    38.0,2,   43.70,2, -999.00,9,    32.5918,2, -999.00,9,  -999.0,9,     -999.0,     -999.0,9,     -999.0,9,     -999.0,     -999.0,9,     -999.0,     -999.0,9,     -999.0,     -999.0,     -999.0,9,     -999.0,9,     -999.0,9,     -999.0,9,     -999.0,9,     -999.0,9,     -999.0,9,     -999.0,9
33RO20161119,        P18,     109,          1,         14,      11113,2,20161219,       1911,   -20.4986,  -102.9974,       4054,   899.8,   4.6992,  34.4810,2,  34.4871,2,     85.8,2,    85.6,2,    58.5,2,    40.9,2,    0.00,2,   2.876,2,   0.0083,2,   0.0051,2,   0.0000,2,  2279.1,2,  2326.9,2,   7.4416,2,    25.00,    0.35,2,  -159.6,2,     2.0,   0.6244,2, -999.00,9,    38.7,2,   44.00,2, -999.00,9,    35.1065,2, -999.00,9,  -999.0,9,     -999.0,     -999.0,9,     -999.0,9,     -999.0,     -999.0,9,     -999.0,     -999.0,9,     -999.0,     -999.0,     -999.0,9,     -999.0,9,     -999.0,9,     -999.0,9,     -999.0,9,     -999.0,9,     -999.0,9,     -999.0,9
33RO20161119,        P18,     109,          1,         15,      11114,2,20161219,       1911,   -20.4986,  -102.9974,       4054,   765.4,   5.2783,  34.4465,2,  34.4464,2,     89.5,2,    89.5,2,    44.1,2,    39.9,2,    0.00,2,   2.806,2,   0.0527,2,   0.0290,2,   0.0000,2,  2262.9,2,  2310.6,6,   7.4491,2,    25.00,    0.42,2,  -129.5,2,     2.2,    0.607,2, -999.00,9,    40.4,2,   42.00,2, -999.00,9,    36.9484,2, -999.00,9,  -999.0,9,     -999.0,     -999.0,9,     -999.0,9,     -999.0,     -999.0,9,     -999.0,     -999.0,9,     -999.0,     -999.0,     -999.0,9,     -999.0,9,     -999.0,9,     -999.0,9,     -999.0,9,     -999.0,9,     -999.0,9,     -999.0,9
33RO20161119,        P18,     109,          1,         16,      11115,2,20161219,       1911,   -20.4986,  -102.9974,       4054,   634.9,   5.9691,  34.3881,2,  34.3924,2,    124.3,2,   124.7,2,    25.9,2,    35.1,2,    0.00,2,   2.478,2,   0.7660,2,   0.3798,2,   0.0958,2,  2224.6,2,  2290.3,2,   7.5016,2,    25.00,    0.67,2,   -70.0,2,     3.0,   0.4898,2, -999.00,9,    42.3,2,   38.50,2, -999.00,9,    35.1632,2, -999.00,9,  -999.0,9,     -999.0,     -999.0,9,     -999.0,9,     -999.0,     -999.0,9,     -999.0,     -999.0,9,     -999.0,     -999.0,     -999.0,9,     -999.0,9,     -999.0,9,     -999.0,9,     -999.0,9,     -999.0,9,     -999.0,9,     -999.0,9
33RO20161119,        P18,     109,          1,         17,      11116,2,20161219,       1911,   -20.4986,  -102.9974,       4054,   525.2,   7.1603,  34.4260,2,  34.4295,2,    101.4,2,   100.4,2,    21.0,2,    34.2,2,    0.00,2,   2.479,2,   1.2410,2,   0.6185,2,   0.2044,2,  2230.4,2,  2285.1,2,   7.4683,6,    25.00,    0.39,2,   -48.2,2,     2.0,   0.4817,2, -999.00,9,    42.0,2,   37.20,2, -999.00,9,    40.7832,2, -999.00,9,  -999.0,9,     -999.0,     -999.0,9,     -999.0,9,     -999.0,     -999.0,9,     -999.0,     -999.0,9,     -999.0,     -999.0,     -999.0,9,     -999.0,9,     -999.0,9,     -999.0,9,     -999.0,9,     -999.0,9,     -999.0,9,     -999.0,9
33RO20161119,        P18,     109,          1,         18,      11117,2,20161219,       1911,   -20.4986,  -102.9974,       4054,   410.7,   9.2029,  34.4555,2,  34.4572,2,     87.2,2,    85.9,2,    16.2,2,    27.8,2,    0.00,2,   2.344,2,   1.9642,6,   1.0237,6,   0.4622,6,  2227.2,2,  2281.1,2,   7.4689,2,    25.00,    0.24,2,   -11.6,2,     2.0,   0.4424,2, -999.00,9,    42.6,2,   31.20,2, -999.00,9,    35.6753,2, -999.00,9,  -999.0,9,     -999.0,     -999.0,9,     -999.0,9,     -999.0,     -999.0,9,     -999.0,     -999.0,9,     -999.0,     -999.0,     -999.0,9,     -999.0,9,     -999.0,9,     -999.0,9,     -999.0,9,     -999.0,9,     -999.0,9,     -999.0,9
33RO20161119,        P18,     109,          1,         19,      11083,2,20161219,       1911,   -20.4986,  -102.9974,       4054,   314.2,  13.6814,  34.7039,2,  34.7049,2,    182.9,2,   183.3,2,     2.4,2,     8.6,2,    0.01,2,   0.982,2,   2.7585,2,   1.6058,2,   1.4017,2,  2119.1,2,  2292.6,2,   7.7927,2,    25.00,    0.76,2,    42.2,2,     2.2,   1.3547,2, -999.00,9,    47.4,2,   13.60,2, -999.00,9,    15.2253,2, -999.00,9,  -999.0,9,     -999.0,     -999.0,9,     -999.0,9,     -999.0,     -999.0,9,     -999.0,     -999.0,9,     -999.0,     -999.0,     -999.0,9,     -999.0,9,     -999.0,9,     -999.0,9,     -999.0,9,     -999.0,9,     -999.0,9,     -999.0,9
33RO20161119,        P18,     109,          1,         20,      11118,2,20161219,       1911,   -20.4986,  -102.9974,       4054,   225.2,  19.0998,  35.5684,2,  35.5787,2,    197.0,2,   195.5,2,     0.8,2,     1.5,2,    0.03,2,   0.599,2,   2.1636,2,   1.3415,2,   1.6031,2,  2110.3,2,  2351.6,2,   7.9186,2,    25.00,    0.92,2,    40.3,2,     2.2,   1.5909,2, -999.00,9,    54.0,2,    5.10,2, -999.00,9,     8.8648,2, -999.00,9,  -999.0,9,     -999.0,     -999.0,9,     -999.0,9,     -999.0,     -999.0,9,     -999.0,     -999.0,9,     -999.0,     -999.0,     -999.0,9,     -999.0,9,     -999.0,9,     -999.0,9,     -999.0,9,     -999.0,9,     -999.0,9,     -999.0,9
33RO20161119,        P18,     109,          1,         21,      11119,2,20161219,       1911,   -20.4986,  -102.9974,       4054,   145.8,  22.6583,  36.3119,2,  36.3104,2,    212.1,2,   212.8,2,     0.6,2,     0.0,2,    0.01,2,   0.328,2,   1.8195,2,   1.1454,2,   1.5078,2,  2094.0,2,  2399.8,2,   8.0146,2,    25.00,    1.21,2,    38.9,2,     2.8,   1.7938,2, -999.00,9,    70.8,2,    4.40,2, -999.00,9,     6.8922,2, -999.00,9,  -999.0,9,     -999.0,     -999.0,9,     -999.0,9,     -999.0,     -999.0,9,     -999.0,     -999.0,9,     -999.0,     -999.0,     -999.0,9,     -999.0,9,     -999.0,9,     -999.0,9,     -999.0,9,     -999.0,9,     -999.0,9,     -999.0,9
33RO20161119,        P18,     109,          1,         22,      11120,2,20161219,       1911,   -20.4986,  -102.9974,       4054,    70.8,  23.6432,  36.4016,2,  36.4010,2,    213.0,2,   213.5,6,     0.6,2,     0.0,2,    0.00,2,   0.344,2,   1.7642,2,   1.1118,2,   1.5156,2,  2092.9,2,  2406.8,2,   8.0279,2,    25.00,    1.26,2,    34.5,2,     2.2,   1.7172,2, -999.00,9,    74.4,2,    4.10,2, -999.00,9,     6.6526,2, -999.00,9,  -999.0,9,     -999.0,     -999.0,9,     -999.0,9,     -999.0,     -999.0,9,     -999.0,     -999.0,9,     -999.0,     -999.0,     -999.0,9,     -999.0,9,     -999.0,9,     -999.0,9,     -999.0,9,     -999.0,9,     -999.0,9,     -999.0,9
33RO20161119,        P18,     109,          1,         23,      11121,2,20161219,       1911,   -20.4986,  -102.9974,       4054,    30.4,  23.7806,  36.4073,2,  36.4079,2,    211.8,2,   212.9,2,     0.6,2,     0.0,2,    0.00,2,   0.339,2,   1.7597,2,   1.1057,2,   1.4419,2,  2094.1,2,  2405.7,6,   8.0293,2,    25.00,    1.20,2,    35.1,2,     3.0,   0.0163,2, -999.00,9,    71.7,2,    4.20,2, -999.00,9,     6.8033,2, -999.00,9,  -999.0,9,     -999.0,     -999.0,9,     -999.0,9,     -999.0,     -999.0,9,     -999.0,     -999.0,9,     -999.0,     -999.0,     -999.0,9,     -999.0,9,     -999.0,9,     -999.0,9,     -999.0,9,     -999.0,9,     -999.0,9,     -999.0,9
33RO20161119,        P18,     109,          1,         24,      11122,2,20161219,       1911,   -20.4986,  -102.9974,       4054,     3.6,  24.2283,  36.4320,2,  36.4368,2,    206.0,2,   211.2,2,     1.1,2,     0.0,2,    0.00,2,   0.340,2,   1.7496,2,   1.0985,2,   1.4824,2,  2093.7,6,  2407.7,2,   8.0295,2,    25.00,    1.20,2,    27.8,2,     2.6,        0,2, -999.00,9,    71.6,2,    3.70,2, -999.00,9,      6.656,2, -999.00,9,  -999.0,9,     -999.0,     -999.0,9,     -999.0,9,     -999.0,     -999.0,9,     -999.0,     -999.0,9,     -999.0,     -999.0,     -999.0,9,     -999.0,9,     -999.0,9,     -999.0,9,     -999.0,9,     -999.0,9,     -999.0,9,     -999.0,9