BOTTLE,20230606CCHSIOCBG
EXPOCODE,SECT_ID,STNNBR,CASTNO,SAMPNO,BTLNBR,BTLNBR_FLAG_W,DATE,TIME,LATITUDE,LONGITUDE,DEPTH,CTDPRS,CTDTMP,CTDSAL,CTDSAL_FLAG_W,SALNTY,SALNTY_FLAG_W,CTDOXY,CTDOXY_FLAG_W,OXYGEN,OXYGEN_FLAG_W,SILCAT,SILCAT_FLAG_W,NITRAT,NITRAT_FLAG_W,NITRIT,NITRIT_FLAG_W,PHSPHT,PHSPHT_FLAG_W,CFC-11,CFC-11_FLAG_W,CFC-12,CFC-12_FLAG_W,SF6,SF6_FLAG_W,TCARBN,TCARBN_FLAG_W,ALKALI,ALKALI_FLAG_W,PH_SWS,PH_SWS_FLAG_W,PH_TMP,DELC13,DELC13_FLAG_W,DELC14,DELC14_FLAG_W,C14ERR,CCL4,CCL4_FLAG_W,POC,POC_FLAG_W,DOC,DOC_FLAG_W,TDN,TDN_FLAG_W,PON,PON_FLAG_W,N2O,N2O_FLAG_W,D15N_NO3,D15N_NO3_FLAG_W,14C-DOC,14C-DOC_FLAG_W,14C-DOCERR,13C-DOC,13C-DOC_FLAG_W,N2/ARGON_UNSTRIPPED,N2/ARGON_UNSTRIPPED_FLAG_W,N2/ARGON_UNSTRIPPED_ERROR,N2/ARGON,N2/ARGON_FLAG_W,N2/ARGON_ERROR,D15N_N2,D15N_N2_FLAG_W,D15N_N2_ERROR,D15N_NO3_ERROR,D15N_NO2+NO3,D15N_NO2+NO3_FLAG_W,D18O_NO2+NO3,D18O_NO2+NO3_FLAG_W,D18O_NO3,D18O_NO3_FLAG_W,TDP,TDP_FLAG_W,N2O_ALT_1,N2O_ALT_1_FLAG_W,D15N_N2O,D15N_N2O_FLAG_W,D18O_N2O,D18O_N2O_FLAG_W,D15N_ALPHA_N2O,D15N_ALPHA_N2O_FLAG_W
,,,,,,,,,,,METERS,DBAR,ITS-90,PSS-78,,PSS-78,,UMOL/KG,,UMOL/KG,,UMOL/KG,,UMOL/KG,,UMOL/KG,,UMOL/KG,,PMOL/KG,,PMOL/KG,,FMOL/KG,,UMOL/KG,,UMOL/KG,,,,DEG C,/MILLE,,/MILLE,,/MILLE,PMOL/KG,,UG/KG,,UMOL/KG,,UMOL/KG,,UG/KG,,NMOL/KG,,/MILLE,,/MILLE,,/MILLE,/MILLE,,,,,,,,/MILLE,,/MILLE,/MILLE,/MILLE,,/MILLE,,/MILLE,,UMOL/KG,,NMOL/L,,/MILLE,,/MILLE,,/MILLE,
33RO20161119,        P18,      80,          1,          1,      11010,2,20161212,       1541,    -7.6498,  -106.2905,       3555,  3590.5,   1.8042,  34.6766,2,  34.6752,2,    136.3,2,   136.9,2,   143.2,6,    37.1,6,    0.01,6,   2.566,6,   0.0007,2,   0.0008,2,   0.0000,2,  2336.2,6,  2431.4,2,   7.5610,6,    25.00, -999.00,9,  -999.0,9,  -999.0,        0,2, -999.00,9,  -999.0,9, -999.00,9, -999.00,9,    22.4847,2, -999.00,9,  -999.0,9,     -999.0,     -999.0,9,     -999.0,9,     -999.0,     -999.0,9,     -999.0,     -999.0,9,     -999.0,     -999.0,     -999.0,9,     -999.0,9,     -999.0,9,     -999.0,9,     -999.0,9,     -999.0,9,     -999.0,9,     -999.0,9
33RO20161119,        P18,      80,          1,          2,      11101,2,20161212,       1541,    -7.6498,  -106.2905,       3555,  3274.3,   1.7775,  34.6766,2,  34.6751,2,    135.2,2,   134.7,2,   142.7,6,    37.1,6,    0.00,6,   2.568,6,-999.0000,9,-999.0000,9,-999.0000,9,  2337.5,2,  2425.6,2,   7.5614,2,    25.00, -999.00,9,  -999.0,9,  -999.0,-999.0000,9, -999.00,9,  -999.0,9, -999.00,9, -999.00,9,     -999.0,9, -999.00,9,  -999.0,9,     -999.0,     -999.0,9,     -999.0,9,     -999.0,     -999.0,9,     -999.0,     -999.0,9,     -999.0,     -999.0,     -999.0,9,     -999.0,9,     -999.0,9,     -999.0,9,     -999.0,9,     -999.0,9,     -999.0,9,     -999.0,9
33RO20161119,        P18,      80,          1,          3,      11102,2,20161212,       1541,    -7.6498,  -106.2905,       3555,  2959.9,   1.7708,  34.6755,2,  34.6734,2,    135.1,2,   135.2,2,   140.5,6,    37.1,6,    0.00,6,   2.570,6,-999.0000,9,-999.0000,9,-999.0000,9,  2334.2,2,  2421.8,2,   7.5581,2,    25.00, -999.00,9,  -999.0,9,  -999.0,-999.0000,9, -999.00,9,  -999.0,9, -999.00,9, -999.00,9,     -999.0,9, -999.00,9,  -999.0,9,     -999.0,     -999.0,9,     -999.0,9,     -999.0,     -999.0,9,     -999.0,     -999.0,9,     -999.0,     -999.0,     -999.0,9,     -999.0,9,     -999.0,9,     -999.0,9,     -999.0,9,     -999.0,9,     -999.0,9,     -999.0,9
33RO20161119,        P18,      80,          1,          4,      11103,2,20161212,       1541,    -7.6498,  -106.2905,       3555,  2684.8,   1.8398,  34.6701,2,  34.6686,2,    131.2,2,   131.5,2,   138.0,6,    37.3,6,    0.00,6,   2.586,6,-999.0000,9,-999.0000,9,-999.0000,9,  2333.0,2,  2420.7,6,   7.5473,2,    25.00, -999.00,9,  -999.0,9,  -999.0,-999.0000,9, -999.00,9,  -999.0,9, -999.00,9, -999.00,9,     -999.0,9, -999.00,9,  -999.0,9,     -999.0,     -999.0,9,     -999.0,9,     -999.0,     -999.0,9,     -999.0,     -999.0,9,     -999.0,     -999.0,     -999.0,9,     -999.0,9,     -999.0,9,     -999.0,9,     -999.0,9,     -999.0,9,     -999.0,9,     -999.0,9
33RO20161119,        P18,      80,          1,          5,      11104,2,20161212,       1541,    -7.6498,  -106.2905,       3555,  2408.8,   2.0073,  34.6587,2,  34.6572,2,    120.1,2,   120.6,2,   137.9,2,    37.9,2,    0.00,2,   2.627,2,-999.0000,9,-999.0000,9,-999.0000,9,  2337.0,2,  2416.8,2,   7.5260,2,    25.00, -999.00,9,  -999.0,9,  -999.0,-999.0000,9, -999.00,9,  -999.0,9, -999.00,9, -999.00,9,     -999.0,9, -999.00,9,  -999.0,9,     -999.0,     -999.0,9,     -999.0,9,     -999.0,     -999.0,9,     -999.0,     -999.0,9,     -999.0,     -999.0,     -999.0,9,     -999.0,9,     -999.0,9,     -999.0,9,     -999.0,9,     -999.0,9,     -999.0,9,     -999.0,9
33RO20161119,        P18,      80,          1,          6,      11105,2,20161212,       1541,    -7.6498,  -106.2905,       3555,  2128.5,   2.1960,  34.6467,2,  34.6456,2,    113.0,2,   113.3,2,   133.8,2,    38.3,2,    0.00,2,   2.680,2,-999.0000,9,-999.0000,9,-999.0000,9,  2337.5,2,  2412.3,2,   7.5123,6,    25.00, -999.00,9,  -999.0,9,  -999.0,-999.0000,9, -999.00,9,  -999.0,9, -999.00,9, -999.00,9,     -999.0,9, -999.00,9,  -999.0,9,     -999.0,     -999.0,9,     -999.0,9,     -999.0,     -999.0,9,     -999.0,     -999.0,9,     -999.0,     -999.0,     -999.0,9,     -999.0,9,     -999.0,9,     -999.0,9,     -999.0,9,     -999.0,9,     -999.0,9,     -999.0,9
33RO20161119,        P18,      80,          1,          7,      11106,2,20161212,       1541,    -7.6498,  -106.2905,       3555,  1848.8,   2.4291,  34.6315,2,  34.6292,2,    107.9,2,   108.1,2,   127.3,2,    38.7,2,    0.00,2,   2.724,2,   0.0012,6,   0.0016,6,   0.0000,6,  2332.1,6,  2401.8,2,   7.5009,2,    25.00, -999.00,9,  -999.0,9,  -999.0,        0,2, -999.00,9,  -999.0,9, -999.00,9, -999.00,9,    26.4908,2, -999.00,9,  -999.0,9,     -999.0,     -999.0,9,     -999.0,9,     -999.0,     -999.0,9,     -999.0,     -999.0,9,     -999.0,     -999.0,     -999.0,9,     -999.0,9,     -999.0,9,     -999.0,9,     -999.0,9,     -999.0,9,     -999.0,9,     -999.0,9
33RO20161119,        P18,      80,          1,          8,      11107,2,20161212,       1541,    -7.6498,  -106.2905,       3555,  1569.3,   2.7961,  34.6097,2,  34.6075,2,     99.4,2,    99.7,2,   117.2,2,    39.4,2,    0.00,2,   2.788,2,-999.0000,9,-999.0000,9,-999.0000,9,  2327.1,2,  2391.0,2,   7.4840,2,    25.00, -999.00,9,  -999.0,9,  -999.0,-999.0000,9, -999.00,9,  -999.0,9, -999.00,9, -999.00,9,     -999.0,9, -999.00,9,  -999.0,9,     -999.0,     -999.0,9,     -999.0,9,     -999.0,     -999.0,9,     -999.0,     -999.0,9,     -999.0,     -999.0,     -999.0,9,     -999.0,9,     -999.0,9,     -999.0,9,     -999.0,9,     -999.0,9,     -999.0,9,     -999.0,9
33RO20161119,        P18,      80,          1,          9,      11108,2,20161212,       1541,    -7.6498,  -106.2905,       3555,  1323.4,   3.3523,  34.5799,2,  34.5778,2,     95.0,2,    95.2,2,   101.6,2,    39.6,2,    0.00,2,   2.830,2,-999.0000,9,-999.0000,9,-999.0000,9,  2313.7,2,  2375.7,2,   7.4767,2,    25.00, -999.00,9,  -999.0,9,  -999.0,-999.0000,9, -999.00,9,  -999.0,9, -999.00,9, -999.00,9,     -999.0,9, -999.00,9,  -999.0,9,     -999.0,     -999.0,9,     -999.0,9,     -999.0,     -999.0,9,     -999.0,     -999.0,9,     -999.0,     -999.0,     -999.0,9,     -999.0,9,     -999.0,9,     -999.0,9,     -999.0,9,     -999.0,9,     -999.0,9,     -999.0,9
33RO20161119,        P18,      80,          1,         10,      11109,2,20161212,       1541,    -7.6498,  -106.2905,       3555,  1173.6,   3.8094,  34.5640,2,  34.5611,2,     87.3,2,    87.5,2,    92.4,2,    40.2,2,    0.00,2,   2.886,2,-999.0000,9,-999.0000,9,-999.0000,9,  2305.6,2,  2362.3,2,   7.4565,2,    25.00, -999.00,9,  -999.0,9,  -999.0,-999.0000,9, -999.00,9,  -999.0,9, -999.00,9, -999.00,9,     -999.0,9, -999.00,9,  -999.0,9,     -999.0,     -999.0,9,     -999.0,9,     -999.0,     -999.0,9,     -999.0,     -999.0,9,     -999.0,     -999.0,     -999.0,9,     -999.0,9,     -999.0,9,     -999.0,9,     -999.0,9,     -999.0,9,     -999.0,9,     -999.0,9
33RO20161119,        P18,      80,          1,         11,      11110,2,20161212,       1541,    -7.6498,  -106.2905,       3555,  1048.1,   4.2128,  34.5521,2,  34.5493,2,     79.1,2,    79.5,2,    84.2,2,    40.8,2,    0.00,2,   2.918,2,-999.0000,9,-999.0000,9,-999.0000,9,  2301.3,2,  2352.4,2,   7.4430,2,    25.00, -999.00,9,  -999.0,9,  -999.0,-999.0000,9, -999.00,9,  -999.0,9, -999.00,9, -999.00,9,     -999.0,9, -999.00,9,  -999.0,9,     -999.0,     -999.0,9,     -999.0,9,     -999.0,     -999.0,9,     -999.0,     -999.0,9,     -999.0,     -999.0,     -999.0,9,     -999.0,9,     -999.0,9,     -999.0,9,     -999.0,9,     -999.0,9,     -999.0,9,     -999.0,9
33RO20161119,        P18,      80,          1,         12,      11111,2,20161212,       1541,    -7.6498,  -106.2905,       3555,   926.3,   4.8458,  34.5393,2,  34.5373,2,     72.9,2,    72.0,2,    71.6,2,    41.3,2,    0.01,2,   2.916,2,-999.0000,9,-999.0000,9,-999.0000,9,  2292.2,2,  2339.6,2,   7.4327,2,    25.00, -999.00,9,  -999.0,9,  -999.0,-999.0000,9, -999.00,9,  -999.0,9, -999.00,9, -999.00,9,     -999.0,9, -999.00,9,  -999.0,9,     -999.0,     -999.0,9,     -999.0,9,     -999.0,     -999.0,9,     -999.0,     -999.0,9,     -999.0,     -999.0,     -999.0,9,     -999.0,9,     -999.0,9,     -999.0,9,     -999.0,9,     -999.0,9,     -999.0,9,     -999.0,9
33RO20161119,        P18,      80,          1,         13,      11112,2,20161212,       1541,    -7.6498,  -106.2905,       3555,   809.3,   5.4344,  34.5408,2,  34.5381,2,     53.0,2,    53.1,2,    62.9,2,    42.8,2,    0.01,2,   3.001,2,   0.0059,2,   0.0028,2,   0.0000,2,  2292.9,2,  2327.1,2,   7.3986,2,    25.00, -999.00,9,  -999.0,9,  -999.0,   0.0142,2, -999.00,9,  -999.0,9, -999.00,9, -999.00,9,     42.134,2, -999.00,9,  -999.0,9,     -999.0,     -999.0,9,     -999.0,9,     -999.0,     -999.0,9,     -999.0,     -999.0,9,     -999.0,     -999.0,     -999.0,9,     -999.0,9,     -999.0,9,     -999.0,9,     -999.0,9,     -999.0,9,     -999.0,9,     -999.0,9
33RO20161119,        P18,      80,          1,         14,      11113,2,20161212,       1541,    -7.6498,  -106.2905,       3555,   699.3,   6.0544,  34.5502,2,  34.5486,2,     39.2,2,    41.1,2,    54.9,2,    43.4,2,    0.01,2,   3.015,2,-999.0000,9,-999.0000,9,-999.0000,9,  2290.6,2,  2319.1,2,   7.3804,2,    25.00, -999.00,9,  -999.0,9,  -999.0,-999.0000,9, -999.00,9,  -999.0,9, -999.00,9, -999.00,9,     -999.0,9, -999.00,9,  -999.0,9,     -999.0,     -999.0,9,     -999.0,9,     -999.0,     -999.0,9,     -999.0,     -999.0,9,     -999.0,     -999.0,     -999.0,9,     -999.0,9,     -999.0,9,     -999.0,9,     -999.0,9,     -999.0,9,     -999.0,9,     -999.0,9
33RO20161119,        P18,      80,          1,         15,      11114,2,20161212,       1541,    -7.6498,  -106.2905,       3555,   588.9,   6.9870,  34.5801,2,  34.5773,2,     19.3,2,    19.5,2,    47.1,2,    43.7,2,    0.01,2,   3.041,2,-999.0000,9,-999.0000,9,-999.0000,9,  2290.5,2,  2309.7,2,   7.3505,2,    25.00, -999.00,9,  -999.0,9,  -999.0,-999.0000,9, -999.00,9,  -999.0,9, -999.00,9, -999.00,9,     -999.0,9, -999.00,9,  -999.0,9,     -999.0,     -999.0,9,     -999.0,9,     -999.0,     -999.0,9,     -999.0,     -999.0,9,     -999.0,     -999.0,     -999.0,9,     -999.0,9,     -999.0,9,     -999.0,9,     -999.0,9,     -999.0,9,     -999.0,9,     -999.0,9
33RO20161119,        P18,      80,          1,         16,      11115,2,20161212,       1541,    -7.6498,  -106.2905,       3555,   487.9,   8.5600,  34.6562,2,  34.6525,2,      6.0,2,     6.0,6,    39.4,2,    40.2,2,    0.01,2,   2.918,2,   0.0805,2,   0.0479,2,   0.0175,2,  2285.8,2,  2304.3,2,   7.3470,2,    25.00, -999.00,9,  -999.0,9,  -999.0,   0.0585,2, -999.00,9,  -999.0,9, -999.00,9, -999.00,9,    73.6992,2, -999.00,9,  -999.0,9,     -999.0,     -999.0,9,     -999.0,9,     -999.0,     -999.0,9,     -999.0,     -999.0,9,     -999.0,     -999.0,     -999.0,9,     -999.0,9,     -999.0,9,     -999.0,9,     -999.0,9,     -999.0,9,     -999.0,9,     -999.0,9
33RO20161119,        P18,      80,          1,         17,      11116,2,20161212,       1541,    -7.6498,  -106.2905,       3555,   393.7,   9.7770,  34.7273,2,  34.7232,2,      5.7,2,     5.0,6,    33.8,2,    36.7,2,    0.01,2,   2.755,2,-999.0000,9,-999.0000,9,-999.0000,9,  2276.3,2,  2302.9,2,   7.3676,2,    25.00, -999.00,9,  -999.0,9,  -999.0,-999.0000,9, -999.00,9,  -999.0,9, -999.00,9, -999.00,9,     -999.0,9, -999.00,9,  -999.0,9,     -999.0,     -999.0,9,     -999.0,9,     -999.0,     -999.0,9,     -999.0,     -999.0,9,     -999.0,     -999.0,     -999.0,9,     -999.0,9,     -999.0,9,     -999.0,9,     -999.0,9,     -999.0,9,     -999.0,9,     -999.0,9
33RO20161119,        P18,      80,          1,         18,      11117,2,20161212,       1541,    -7.6498,  -106.2905,       3555,   302.4,  10.9726,  34.8057,2,  34.8065,2,      9.3,2,     8.7,2,    28.4,2,    34.0,2,    0.01,2,   2.577,2,   0.5597,2,   0.3101,2,   0.1141,2,  2262.6,2,  2302.2,6,   7.4047,2,    25.00, -999.00,9,  -999.0,9,  -999.0,   0.1114,2, -999.00,9,  -999.0,9, -999.00,9, -999.00,9,    75.6249,2, -999.00,9,  -999.0,9,     -999.0,     -999.0,9,     -999.0,9,     -999.0,     -999.0,9,     -999.0,     -999.0,9,     -999.0,     -999.0,     -999.0,9,     -999.0,9,     -999.0,9,     -999.0,9,     -999.0,9,     -999.0,9,     -999.0,9,     -999.0,9
33RO20161119,        P18,      80,          1,         19,      11083,2,20161212,       1541,    -7.6498,  -106.2905,       3555,   223.5,  12.0182,  34.8717,2,  34.8690,2,     21.0,2,    22.4,2,    23.3,2,    30.9,2,    0.01,2,   2.378,2,-999.0000,9,-999.0000,9,-999.0000,9,  2246.7,2,  2302.5,2,   7.4592,2,    25.00, -999.00,9,  -999.0,9,  -999.0,-999.0000,9, -999.00,9,  -999.0,9, -999.00,9, -999.00,9,     -999.0,9, -999.00,9,  -999.0,9,     -999.0,     -999.0,9,     -999.0,9,     -999.0,     -999.0,9,     -999.0,     -999.0,9,     -999.0,     -999.0,     -999.0,9,     -999.0,9,     -999.0,9,     -999.0,9,     -999.0,9,     -999.0,9,     -999.0,9,     -999.0,9
33RO20161119,        P18,      80,          1,         20,      11118,2,20161212,       1541,    -7.6498,  -106.2905,       3555,   159.8,  13.5608,  34.9248,2,  34.9254,2,     13.5,2,    10.6,2,    17.2,2,    27.0,2,    0.02,2,   2.488,2,   1.5243,2,   0.8830,2,   0.5831,2,  2250.4,2,  2302.0,2,   7.4393,2,    25.00, -999.00,9,  -999.0,9,  -999.0,   1.5036,2, -999.00,9,  -999.0,9, -999.00,9, -999.00,9,     98.842,2, -999.00,9,  -999.0,9,     -999.0,     -999.0,9,     -999.0,9,     -999.0,     -999.0,9,     -999.0,     -999.0,9,     -999.0,     -999.0,     -999.0,9,     -999.0,9,     -999.0,9,     -999.0,9,     -999.0,9,     -999.0,9,     -999.0,9,     -999.0,9
33RO20161119,        P18,      80,          1,         21,      11119,2,20161212,       1541,    -7.6498,  -106.2905,       3555,    94.0,  21.2679,  35.6856,2,  35.6768,2,    178.1,2,   170.8,2,     2.4,2,     5.0,2,    1.09,2,   0.940,2,-999.0000,9,-999.0000,9,-999.0000,9,  2114.3,2,  2356.3,2,   7.9058,2,    25.00, -999.00,9,  -999.0,9,  -999.0,-999.0000,9, -999.00,9,  -999.0,9, -999.00,9, -999.00,9,     -999.0,9, -999.00,9,  -999.0,9,     -999.0,     -999.0,9,     -999.0,9,     -999.0,     -999.0,9,     -999.0,     -999.0,9,     -999.0,     -999.0,     -999.0,9,     -999.0,9,     -999.0,9,     -999.0,9,     -999.0,9,     -999.0,9,     -999.0,9,     -999.0,9
33RO20161119,        P18,      80,          1,         22,      11120,2,20161212,       1541,    -7.6498,  -106.2905,       3555,    49.2,  24.3428,  35.2960,2,  35.2936,2,    209.9,2,   209.6,2,     2.6,2,     7.2,2,    0.15,2,   0.781,2,   1.7228,2,   1.0872,2,   1.4782,2,  2061.3,2,  2327.7,2,   7.9658,2,    25.00, -999.00,9,  -999.0,9,  -999.0,   1.5997,2, -999.00,9,  -999.0,9, -999.00,9, -999.00,9,     7.4383,2, -999.00,9,  -999.0,9,     -999.0,     -999.0,9,     -999.0,9,     -999.0,     -999.0,9,     -999.0,     -999.0,9,     -999.0,     -999.0,     -999.0,9,     -999.0,9,     -999.0,9,     -999.0,9,     -999.0,9,     -999.0,9,     -999.0,9,     -999.0,9
33RO20161119,        P18,      80,          1,         23,      11121,2,20161212,       1541,    -7.6498,  -106.2905,       3555,    18.9,  24.6338,  35.2755,2,  35.2853,2,    208.3,2,   209.1,2,     2.7,2,     7.5,2,    0.16,2,   0.774,2,-999.0000,9,-999.0000,9,-999.0000,9,  2058.4,2,  2326.4,2,   7.9671,2,    25.00, -999.00,9,  -999.0,9,  -999.0,-999.0000,9, -999.00,9,  -999.0,9, -999.00,9, -999.00,9,     -999.0,9, -999.00,9,  -999.0,9,     -999.0,     -999.0,9,     -999.0,9,     -999.0,     -999.0,9,     -999.0,     -999.0,9,     -999.0,     -999.0,     -999.0,9,     -999.0,9,     -999.0,9,     -999.0,9,     -999.0,9,     -999.0,9,     -999.0,9,     -999.0,9
33RO20161119,        P18,      80,          1,         24,      11122,2,20161212,       1541,    -7.6498,  -106.2905,       3555,     3.1,  24.7029,  35.2718,2,  35.2791,2,    208.7,2,   209.6,2,     2.8,2,     7.6,2,    0.17,2,   0.771,2,   1.7038,2,   1.0815,2,   1.5900,2,  2059.8,6,  2326.7,6,   7.9643,2,    25.00, -999.00,9,  -999.0,9,  -999.0,        0,2, -999.00,9,  -999.0,9, -999.00,9, -999.00,9,     7.2256,2, -999.00,9,  -999.0,9,     -999.0,     -999.0,9,     -999.0,9,     -999.0,     -999.0,9,     -999.0,     -999.0,9,     -999.0,     -999.0,     -999.0,9,     -999.0,9,     -999.0,9,     -999.0,9,     -999.0,9,     -999.0,9,     -999.0,9,     -999.0,9