BOTTLE,20230606CCHSIOCBG
EXPOCODE,SECT_ID,STNNBR,CASTNO,SAMPNO,BTLNBR,BTLNBR_FLAG_W,DATE,TIME,LATITUDE,LONGITUDE,DEPTH,CTDPRS,CTDTMP,CTDSAL,CTDSAL_FLAG_W,SALNTY,SALNTY_FLAG_W,CTDOXY,CTDOXY_FLAG_W,OXYGEN,OXYGEN_FLAG_W,SILCAT,SILCAT_FLAG_W,NITRAT,NITRAT_FLAG_W,NITRIT,NITRIT_FLAG_W,PHSPHT,PHSPHT_FLAG_W,CFC-11,CFC-11_FLAG_W,CFC-12,CFC-12_FLAG_W,SF6,SF6_FLAG_W,TCARBN,TCARBN_FLAG_W,ALKALI,ALKALI_FLAG_W,PH_SWS,PH_SWS_FLAG_W,PH_TMP,DELC13,DELC13_FLAG_W,DELC14,DELC14_FLAG_W,C14ERR,CCL4,CCL4_FLAG_W,POC,POC_FLAG_W,DOC,DOC_FLAG_W,TDN,TDN_FLAG_W,PON,PON_FLAG_W,N2O,N2O_FLAG_W,D15N_NO3,D15N_NO3_FLAG_W,14C-DOC,14C-DOC_FLAG_W,14C-DOCERR,13C-DOC,13C-DOC_FLAG_W,N2/ARGON_UNSTRIPPED,N2/ARGON_UNSTRIPPED_FLAG_W,N2/ARGON_UNSTRIPPED_ERROR,N2/ARGON,N2/ARGON_FLAG_W,N2/ARGON_ERROR,D15N_N2,D15N_N2_FLAG_W,D15N_N2_ERROR,D15N_NO3_ERROR,D15N_NO2+NO3,D15N_NO2+NO3_FLAG_W,D18O_NO2+NO3,D18O_NO2+NO3_FLAG_W,D18O_NO3,D18O_NO3_FLAG_W,TDP,TDP_FLAG_W,N2O_ALT_1,N2O_ALT_1_FLAG_W,D15N_N2O,D15N_N2O_FLAG_W,D18O_N2O,D18O_N2O_FLAG_W,D15N_ALPHA_N2O,D15N_ALPHA_N2O_FLAG_W
,,,,,,,,,,,METERS,DBAR,ITS-90,PSS-78,,PSS-78,,UMOL/KG,,UMOL/KG,,UMOL/KG,,UMOL/KG,,UMOL/KG,,UMOL/KG,,PMOL/KG,,PMOL/KG,,FMOL/KG,,UMOL/KG,,UMOL/KG,,,,DEG C,/MILLE,,/MILLE,,/MILLE,PMOL/KG,,UG/KG,,UMOL/KG,,UMOL/KG,,UG/KG,,NMOL/KG,,/MILLE,,/MILLE,,/MILLE,/MILLE,,,,,,,,/MILLE,,/MILLE,/MILLE,/MILLE,,/MILLE,,/MILLE,,UMOL/KG,,NMOL/L,,/MILLE,,/MILLE,,/MILLE,
33RO20161119,        P18,     169,          1,          1,      11010,2,20170114,       2340,   -50.4991,  -103.0001,       4220,  4263.3,   0.8368,  34.7096,2,  34.7066,2,    203.8,2,   202.6,2,   128.7,2,    32.5,2,    0.01,2,   2.249,2,   0.0249,2,   0.0142,2,   0.0000,2,  2276.6,6,  2377.1,2,   7.6090,6,    25.00,    0.45,6,  -173.0,6,     1.6,   1.1949,2, -999.00,9,    40.3,2,   36.40,2, -999.00,9,    18.3925,2, -999.00,9,  -999.0,9,     -999.0,     -999.0,9,     -999.0,9,     -999.0,     -999.0,9,     -999.0,     -999.0,9,     -999.0,     -999.0,     -999.0,9,     -999.0,9,     -999.0,9,     -999.0,9,     -999.0,9,     -999.0,9,     -999.0,9,     -999.0,9
33RO20161119,        P18,     169,          1,          2,      11101,2,20170114,       2340,   -50.4991,  -103.0001,       4220,  3960.8,   0.8944,  34.7109,2,  34.7093,2,    201.3,2,   200.7,2,   126.7,2,    32.6,2,    0.01,2,   2.239,2,-999.0000,9,-999.0000,9,-999.0000,9,  2272.4,2,  2379.2,2,   7.6069,2,    25.00,    0.36,2,  -173.1,2,     1.9,-999.0000,9, -999.00,9,    40.3,2,   36.10,2, -999.00,9,     -999.0,9, -999.00,9,    -502,2,          5,      -21.5,2,     -999.0,9,     -999.0,     -999.0,9,     -999.0,     -999.0,9,     -999.0,     -999.0,     -999.0,9,     -999.0,9,     -999.0,9,     -999.0,9,     -999.0,9,     -999.0,9,     -999.0,9,     -999.0,9
33RO20161119,        P18,     169,          1,          3,      11102,2,20170114,       2340,   -50.4991,  -103.0001,       4220,  3635.4,   1.1586,  34.7143,2,  34.7133,2,    195.1,2,   194.8,2,   119.4,6,    32.5,6,    0.01,6,   2.239,6,   0.0279,2,   0.0141,2,   0.0000,2,  2270.9,2,  2373.5,6,   7.6016,2,    25.00,    0.28,2,  -173.4,2,     1.9,   2.1063,2, -999.00,9,    42.6,2,   35.40,2, -999.00,9,    18.7281,2, -999.00,9,    -497,2,          5,      -21.3,2,     -999.0,9,     -999.0,     -999.0,9,     -999.0,     -999.0,9,     -999.0,     -999.0,     -999.0,9,     -999.0,9,     -999.0,9,     -999.0,9,     -999.0,9,     -999.0,9,     -999.0,9,     -999.0,9
33RO20161119,        P18,     169,          1,          4,      11103,2,20170114,       2340,   -50.4991,  -103.0001,       4220,  3330.5,   1.4433,  34.7169,2,  34.7164,2,    188.8,2,   188.4,2,   111.2,6,    32.4,6,    0.01,6,   2.244,6,-999.0000,9,-999.0000,9,-999.0000,9,  2270.7,2,  2370.0,2,   7.5979,2,    25.00,    0.25,2,  -174.3,2,     1.8,-999.0000,9, -999.00,9,    42.1,2,   36.50,2, -999.00,9,     -999.0,9, -999.00,9,  -999.0,9,     -999.0,     -999.0,9,     -999.0,9,     -999.0,     -999.0,9,     -999.0,     -999.0,9,     -999.0,     -999.0,     -999.0,9,     -999.0,9,     -999.0,9,     -999.0,9,     -999.0,9,     -999.0,9,     -999.0,9,     -999.0,9
33RO20161119,        P18,     169,          1,          5,      11104,2,20170114,       2340,   -50.4991,  -103.0001,       4220,  2996.9,   1.6137,  34.7124,2,  34.7119,2,    181.4,2,   181.0,2,   108.3,6,    32.6,6,    0.01,6,   2.255,6,-999.0000,9,-999.0000,9,-999.0000,9,  2275.0,2,  2371.9,2,   7.5908,2,    25.00, -999.00,5,  -179.9,2,     1.9,-999.0000,9, -999.00,9,    40.7,2,   34.70,2, -999.00,9,     -999.0,9, -999.00,9,    -537,2,          5,        -22,2,     -999.0,9,     -999.0,     -999.0,9,     -999.0,     -999.0,9,     -999.0,     -999.0,     -999.0,9,     -999.0,9,     -999.0,9,     -999.0,9,     -999.0,9,     -999.0,9,     -999.0,9,     -999.0,9
33RO20161119,        P18,     169,          1,          6,      11105,2,20170114,       2340,   -50.4991,  -103.0001,       4220,  2686.0,   1.7610,  34.7082,2,  34.7071,2,    176.5,2,   176.2,2,   105.0,6,    32.7,6,    0.01,6,   2.276,6,-999.0000,9,-999.0000,9,-999.0000,9,  2275.1,2,  2371.9,2,   7.5833,2,    25.00,    0.40,2,  -180.4,2,     2.6,-999.0000,9, -999.00,9,    40.5,2,   37.90,2, -999.00,9,     -999.0,9, -999.00,9,    -529,2,          5,      -21.9,2,     -999.0,9,     -999.0,     -999.0,9,     -999.0,     -999.0,9,     -999.0,     -999.0,     -999.0,9,     -999.0,9,     -999.0,9,     -999.0,9,     -999.0,9,     -999.0,9,     -999.0,9,     -999.0,9
33RO20161119,        P18,     169,          1,          7,      11106,2,20170114,       2340,   -50.4991,  -103.0001,       4220,  2365.0,   2.0084,  34.7011,2,  34.6985,2,    174.0,2,   173.5,2,    95.5,2,    32.6,2,    0.01,2,   2.268,2,   0.0813,6,   0.0393,6,   0.0534,6,  2268.7,2,  2362.5,2,   7.5795,2,    25.00,    0.55,2,  -173.4,2,     2.0,   2.6511,2, -999.00,9,    43.3,2,   34.00,2, -999.00,9,    20.4865,2, -999.00,9,    -493,2,          5,      -21.3,2,     -999.0,9,     -999.0,     -999.0,9,     -999.0,     -999.0,9,     -999.0,     -999.0,     -999.0,9,     -999.0,9,     -999.0,9,     -999.0,9,     -999.0,9,     -999.0,9,     -999.0,9,     -999.0,9
33RO20161119,        P18,     169,          1,          8,      11107,2,20170114,       2340,   -50.4991,  -103.0001,       4220,  2045.1,   2.2657,  34.6690,2,  34.6597,4,    170.8,2,   170.5,2,    84.9,2,    33.0,2,    0.00,2,   2.289,2,-999.0000,9,-999.0000,9,-999.0000,9,  2263.4,6,  2351.9,2,   7.5695,2,    25.00,    0.57,2,  -158.6,2,     2.1,-999.0000,9, -999.00,9,    43.3,2,   35.70,2, -999.00,9,     -999.0,9, -999.00,9,    -529,2,          5,      -22.5,2,     -999.0,9,     -999.0,     -999.0,9,     -999.0,     -999.0,9,     -999.0,     -999.0,     -999.0,9,     -999.0,9,     -999.0,9,     -999.0,9,     -999.0,9,     -999.0,9,     -999.0,9,     -999.0,9
33RO20161119,        P18,     169,          1,          9,      11108,2,20170114,       2340,   -50.4991,  -103.0001,       4220,  1687.7,   2.5388,  34.5809,2,  34.5717,4,    168.6,2,   167.8,2,    75.7,2,    34.0,2,    0.00,2,   2.351,2,   0.4306,2,   0.2100,2,   0.1045,2,  2256.9,2,  2338.4,2,   7.5536,2,    25.00,    0.63,2,  -145.8,2,     2.2,    3.737,2, -999.00,9,    43.0,2,   37.90,2, -999.00,9,    22.1762,2, -999.00,9,  -999.0,9,     -999.0,     -999.0,9,     -999.0,9,     -999.0,     -999.0,9,     -999.0,     -999.0,9,     -999.0,     -999.0,     -999.0,9,     -999.0,9,     -999.0,9,     -999.0,9,     -999.0,9,     -999.0,9,     -999.0,9,     -999.0,9
33RO20161119,        P18,     169,          1,         10,      11109,2,20170114,       2340,   -50.4991,  -103.0001,       4220,  1470.3,   2.7707,  34.4985,2,  34.4780,4,    171.0,2,   171.8,6,    66.6,2,    34.3,2,    0.00,2,   2.369,2,-999.0000,9,-999.0000,9,-999.0000,9,  2248.6,2,  2328.7,6,   7.5488,2,    25.00,    0.65,2,  -141.3,2,     1.9,-999.0000,9, -999.00,9,    42.6,2,   38.20,2, -999.00,9,     -999.0,9, -999.00,9,    -505,2,          5,      -21.8,2,     -999.0,9,     -999.0,     -999.0,9,     -999.0,     -999.0,9,     -999.0,     -999.0,     -999.0,9,     -999.0,9,     -999.0,9,     -999.0,9,     -999.0,9,     -999.0,9,     -999.0,9,     -999.0,9
33RO20161119,        P18,     169,          1,         11,      11110,2,20170114,       2340,   -50.4991,  -103.0001,       4220,  1313.4,   2.9748,  34.4353,2,  34.4062,4,    180.7,2,   180.1,2,    58.2,2,    33.9,2,    0.01,2,   2.343,2,   1.1493,2,   0.5657,2,   0.2423,2,  2237.1,2,  2318.4,2,   7.5592,2,    25.00,    0.75,2,  -122.6,2,     2.0,   4.2044,2, -999.00,9,    41.0,2,   37.50,2, -999.00,9,    22.0303,2, -999.00,9,  -999.0,9,     -999.0,     -999.0,9,     -999.0,9,     -999.0,     -999.0,9,     -999.0,     -999.0,9,     -999.0,     -999.0,     -999.0,9,     -999.0,9,     -999.0,9,     -999.0,9,     -999.0,9,     -999.0,9,     -999.0,9,     -999.0,9
33RO20161119,        P18,     169,          1,         12,      11111,2,20170114,       2340,   -50.4991,  -103.0001,       4220,  1176.8,   3.2604,  34.3754,2,  34.3410,4,    189.9,2,   190.5,2,    48.9,2,    33.2,2,    0.01,2,   2.287,2,-999.0000,9,-999.0000,9,-999.0000,9,  2225.1,2,  2312.3,2,   7.5682,2,    25.00,    0.83,2,  -108.8,2,     2.2,-999.0000,9, -999.00,9,    42.8,2,   37.00,2, -999.00,9,     -999.0,9, -999.00,9,    -487,2,          5,        -22,2,     -999.0,9,     -999.0,     -999.0,9,     -999.0,     -999.0,9,     -999.0,     -999.0,     -999.0,9,     -999.0,9,     -999.0,9,     -999.0,9,     -999.0,9,     -999.0,9,     -999.0,9,     -999.0,9
33RO20161119,        P18,     169,          1,         13,      11112,2,20170114,       2340,   -50.4991,  -103.0001,       4220,  1036.5,   3.6843,  34.3188,2,  34.2964,4,    203.0,2,   203.0,6,    38.7,2,    31.9,2,    0.01,2,   2.188,2,   2.1479,2,   1.0772,2,   0.5919,2,  2208.0,2,  2302.9,2,   7.5885,2,    25.00,    0.98,2,   -80.9,2,     2.2,   4.1095,2, -999.00,9,    42.0,2,   34.70,2, -999.00,9,    20.1368,2, -999.00,9,  -999.0,9,     -999.0,     -999.0,9,     -999.0,9,     -999.0,     -999.0,9,     -999.0,     -999.0,9,     -999.0,     -999.0,     -999.0,9,     -999.0,9,     -999.0,9,     -999.0,9,     -999.0,9,     -999.0,9,     -999.0,9,     -999.0,9
33RO20161119,        P18,     169,          1,         14,      11113,2,20170114,       2340,   -50.4991,  -103.0001,       4220,   901.7,   4.2798,  34.2827,2,  34.2674,4,    214.2,2,   213.8,2,    28.7,2,    30.1,2,    0.01,2,   2.076,2,-999.0000,9,-999.0000,9,-999.0000,9,  2193.7,2,  2291.8,2,   7.6142,2,    25.00,    1.06,2,   -63.7,2,     2.0,-999.0000,9, -999.00,9,    44.3,2,   34.40,2, -999.00,9,     -999.0,9, -999.00,9,    -448,2,          5,      -21.5,2,     -999.0,9,     -999.0,     -999.0,9,     -999.0,     -999.0,9,     -999.0,     -999.0,     -999.0,9,     -999.0,9,     -999.0,9,     -999.0,9,     -999.0,9,     -999.0,9,     -999.0,9,     -999.0,9
33RO20161119,        P18,     169,          1,         15,      11114,2,20170114,       2340,   -50.4991,  -103.0001,       4220,   765.1,   4.8618,  34.2567,2,  34.2225,4,    227.3,2,   227.4,2,    20.4,2,    28.0,2,    0.01,2,   1.947,2,   3.1117,2,   1.6349,2,   1.1266,2,  2175.4,2,  2285.0,2,   7.6390,2,    25.00,    1.12,2,   -38.0,2,     2.3,   0.1043,2, -999.00,9,    42.7,2,   31.20,2, -999.00,9,     17.172,2, -999.00,9,  -999.0,9,     -999.0,     -999.0,9,     -999.0,9,     -999.0,     -999.0,9,     -999.0,     -999.0,9,     -999.0,     -999.0,     -999.0,9,     -999.0,9,     -999.0,9,     -999.0,9,     -999.0,9,     -999.0,9,     -999.0,9,     -999.0,9
33RO20161119,        P18,     169,          1,         16,      11115,2,20170114,       2340,   -50.4991,  -103.0001,       4220,   635.9,   5.3948,  34.2392,2,  34.2013,4,    246.8,2,   246.8,2,    13.5,2,    25.2,2,    0.01,2,   1.775,2,-999.0000,9,-999.0000,9,-999.0000,9,  2160.0,2,  2280.0,2,   7.6709,2,    25.00,    1.23,2,   -22.1,2,     2.1,-999.0000,9, -999.00,9,    44.7,2,   27.70,2, -999.00,9,     -999.0,9, -999.00,9,    -441,2,          5,      -21.4,2,     -999.0,9,     -999.0,     -999.0,9,     -999.0,     -999.0,9,     -999.0,     -999.0,     -999.0,9,     -999.0,9,     -999.0,9,     -999.0,9,     -999.0,9,     -999.0,9,     -999.0,9,     -999.0,9
33RO20161119,        P18,     169,          1,         17,      11116,2,20170114,       2340,   -50.4991,  -103.0001,       4220,   524.6,   5.7836,  34.2443,2,  34.1983,4,    260.9,2,   261.6,2,     9.6,2,    22.9,2,    0.01,2,   1.630,2,   3.8781,2,   2.1407,2,   1.9240,2,  2148.3,2,  2277.9,2,   7.6989,2,    25.00,    1.26,2,   -14.3,2,     1.9,   0.1029,2, -999.00,9,    45.5,2,   27.20,2, -999.00,9,    14.0745,2, -999.00,9,  -999.0,9,     -999.0,     -999.0,9,     -999.0,9,     -999.0,     -999.0,9,     -999.0,     -999.0,9,     -999.0,     -999.0,     -999.0,9,     -999.0,9,     -999.0,9,     -999.0,9,     -999.0,9,     -999.0,9,     -999.0,9,     -999.0,9
33RO20161119,        P18,     169,          1,         18,      11117,2,20170114,       2340,   -50.4991,  -103.0001,       4220,   410.9,   6.0476,  34.2526,2,  34.1963,4,    269.8,2,   270.0,2,     7.6,2,    21.3,2,    0.01,2,   1.525,2,-999.0000,9,-999.0000,9,-999.0000,9,  2140.7,2,  2277.0,2,   7.7166,2,    25.00,    1.28,2,    -8.2,2,     2.3,-999.0000,9, -999.00,9,    45.4,2,   23.70,2, -999.00,9,     -999.0,9, -999.00,9,    -453,2,          5,      -22.1,2,     -999.0,9,     -999.0,     -999.0,9,     -999.0,     -999.0,9,     -999.0,     -999.0,     -999.0,9,     -999.0,9,     -999.0,9,     -999.0,9,     -999.0,9,     -999.0,9,     -999.0,9,     -999.0,9
33RO20161119,        P18,     169,          1,         19,      11083,2,20170114,       2340,   -50.4991,  -103.0001,       4220,   315.3,   6.2639,  34.2609,2,  34.1991,4,    270.4,2,   270.6,2,     6.7,2,    20.6,2,    0.01,2,   1.487,2,   4.0252,2,   2.2395,2,   2.1981,2,  2139.1,2,  2276.3,2,   7.7201,2,    25.00,    1.30,2,    -0.1,2,     2.0,   0.0779,2, -999.00,9,    41.3,2,   23.70,2, -999.00,9,    13.4085,2, -999.00,9,  -999.0,9,     -999.0,     -999.0,9,     -999.0,9,     -999.0,     -999.0,9,     -999.0,     -999.0,9,     -999.0,     -999.0,     -999.0,9,     -999.0,9,     -999.0,9,     -999.0,9,     -999.0,9,     -999.0,9,     -999.0,9,     -999.0,9
33RO20161119,        P18,     169,          1,         20,      11118,2,20170114,       2340,   -50.4991,  -103.0001,       4220,   225.4,   6.4496,  34.2679,2,  34.2411,4,    275.2,2,   274.7,2,     5.7,2,    19.6,2,    0.01,2,   1.438,2,-999.0000,9,-999.0000,9,-999.0000,9,  2135.3,2,  2276.7,2,   7.7259,2,    25.00,    1.27,2,     1.8,2,     1.9,-999.0000,9, -999.00,9,    46.4,2,   22.40,2, -999.00,9,     -999.0,9, -999.00,9,    -443,2,          5,      -22.2,2,     -999.0,9,     -999.0,     -999.0,9,     -999.0,     -999.0,9,     -999.0,     -999.0,     -999.0,9,     -999.0,9,     -999.0,9,     -999.0,9,     -999.0,9,     -999.0,9,     -999.0,9,     -999.0,9
33RO20161119,        P18,     169,          1,         21,      11119,2,20170114,       2340,   -50.4991,  -103.0001,       4220,   145.8,   6.7125,  34.1999,2,  34.2015,2,    282.4,2,   282.3,2,     3.8,2,    17.4,2,    0.16,2,   1.302,2,   4.0100,2,   2.2613,2,   2.6325,2,  2121.2,2,  2272.9,6,   7.7482,2,    25.00,    1.36,2,    -0.3,2,     2.0,   0.0513,2, -999.00,9,    48.7,2,   21.00,2, -999.00,9,     12.354,2, -999.00,9,  -999.0,9,     -999.0,     -999.0,9,     -999.0,9,     -999.0,     -999.0,9,     -999.0,     -999.0,9,     -999.0,     -999.0,     -999.0,9,     -999.0,9,     -999.0,9,     -999.0,9,     -999.0,9,     -999.0,9,     -999.0,9,     -999.0,9
33RO20161119,        P18,     169,          1,         22,      11120,2,20170114,       2340,   -50.4991,  -103.0001,       4220,    70.3,   8.7685,  34.1263,2,  34.1722,4,    287.3,2,   285.9,2,     0.6,2,    14.0,2,    0.22,2,   1.131,2,-999.0000,9,-999.0000,9,-999.0000,9,  2099.4,2,  2268.9,2,   7.8004,6,    25.00,    1.49,2,     2.2,2,     2.4,-999.0000,9, -999.00,9,    47.2,2,   17.00,2, -999.00,9,     -999.0,9, -999.00,9,    -335,2,          5,      -21.8,2,     -999.0,9,     -999.0,     -999.0,9,     -999.0,     -999.0,9,     -999.0,     -999.0,     -999.0,9,     -999.0,9,     -999.0,9,     -999.0,9,     -999.0,9,     -999.0,9,     -999.0,9,     -999.0,9
33RO20161119,        P18,     169,          1,         23,      11121,2,20170114,       2340,   -50.4991,  -103.0001,       4220,    30.7,   9.6142,  34.1205,2,  34.1511,4,    284.0,2,   282.8,2,     0.2,2,    13.5,2,    0.24,2,   1.082,2,-999.0000,9,-999.0000,9,-999.0000,9,  2093.9,6,  2267.6,2,   7.8111,2,    25.00,    1.41,2,    -3.0,2,     2.5,-999.0000,9, -999.00,9,    49.0,2,   15.90,2, -999.00,9,     -999.0,9, -999.00,9,  -999.0,9,     -999.0,     -999.0,9,     -999.0,9,     -999.0,     -999.0,9,     -999.0,     -999.0,9,     -999.0,     -999.0,     -999.0,9,     -999.0,9,     -999.0,9,     -999.0,9,     -999.0,9,     -999.0,9,     -999.0,9,     -999.0,9
33RO20161119,        P18,     169,          1,         24,      11122,2,20170114,       2340,   -50.4991,  -103.0001,       4220,     3.8,   9.6128,  34.1204,2,  34.1568,4,    282.9,2,   283.2,2,     0.2,2,    13.6,2,    0.24,2,   1.071,2,   3.5883,2,   2.0547,2,   2.5390,2,  2093.3,2,  2267.8,2,   7.8104,2,    25.00,    1.44,2,     1.5,2,     2.4,   0.0588,2, -999.00,9,    49.1,2,   16.90,2, -999.00,9,    10.7017,2, -999.00,9,    -355,2,          5,      -21.9,2,     -999.0,9,     -999.0,     -999.0,9,     -999.0,     -999.0,9,     -999.0,     -999.0,     -999.0,9,     -999.0,9,     -999.0,9,     -999.0,9,     -999.0,9,     -999.0,9,     -999.0,9,     -999.0,9