BOTTLE,20230606CCHSIOCBG
EXPOCODE,SECT_ID,STNNBR,CASTNO,SAMPNO,BTLNBR,BTLNBR_FLAG_W,DATE,TIME,LATITUDE,LONGITUDE,DEPTH,CTDPRS,CTDTMP,CTDSAL,CTDSAL_FLAG_W,SALNTY,SALNTY_FLAG_W,CTDOXY,CTDOXY_FLAG_W,OXYGEN,OXYGEN_FLAG_W,SILCAT,SILCAT_FLAG_W,NITRAT,NITRAT_FLAG_W,NITRIT,NITRIT_FLAG_W,PHSPHT,PHSPHT_FLAG_W,CFC-11,CFC-11_FLAG_W,CFC-12,CFC-12_FLAG_W,SF6,SF6_FLAG_W,TCARBN,TCARBN_FLAG_W,ALKALI,ALKALI_FLAG_W,PH_SWS,PH_SWS_FLAG_W,PH_TMP,DELC13,DELC13_FLAG_W,DELC14,DELC14_FLAG_W,C14ERR,CCL4,CCL4_FLAG_W,POC,POC_FLAG_W,DOC,DOC_FLAG_W,TDN,TDN_FLAG_W,PON,PON_FLAG_W,N2O,N2O_FLAG_W,D15N_NO3,D15N_NO3_FLAG_W,14C-DOC,14C-DOC_FLAG_W,14C-DOCERR,13C-DOC,13C-DOC_FLAG_W,N2/ARGON_UNSTRIPPED,N2/ARGON_UNSTRIPPED_FLAG_W,N2/ARGON_UNSTRIPPED_ERROR,N2/ARGON,N2/ARGON_FLAG_W,N2/ARGON_ERROR,D15N_N2,D15N_N2_FLAG_W,D15N_N2_ERROR,D15N_NO3_ERROR,D15N_NO2+NO3,D15N_NO2+NO3_FLAG_W,D18O_NO2+NO3,D18O_NO2+NO3_FLAG_W,D18O_NO3,D18O_NO3_FLAG_W,TDP,TDP_FLAG_W,N2O_ALT_1,N2O_ALT_1_FLAG_W,D15N_N2O,D15N_N2O_FLAG_W,D18O_N2O,D18O_N2O_FLAG_W,D15N_ALPHA_N2O,D15N_ALPHA_N2O_FLAG_W
,,,,,,,,,,,METERS,DBAR,ITS-90,PSS-78,,PSS-78,,UMOL/KG,,UMOL/KG,,UMOL/KG,,UMOL/KG,,UMOL/KG,,UMOL/KG,,PMOL/KG,,PMOL/KG,,FMOL/KG,,UMOL/KG,,UMOL/KG,,,,DEG C,/MILLE,,/MILLE,,/MILLE,PMOL/KG,,UG/KG,,UMOL/KG,,UMOL/KG,,UG/KG,,NMOL/KG,,/MILLE,,/MILLE,,/MILLE,/MILLE,,,,,,,,/MILLE,,/MILLE,/MILLE,/MILLE,,/MILLE,,/MILLE,,UMOL/KG,,NMOL/L,,/MILLE,,/MILLE,,/MILLE,
33RO20161119,        P18,      68,          1,          1,      11010,2,20161209,       2058,    -3.5002,  -110.0000,       3946,  3984.5,   1.5149,  34.6909,2,  34.6903,2,    156.2,2,   157.2,2,   145.1,6,    36.7,6,    0.00,6,   2.484,6,   0.0024,2,   0.0015,2,   0.0000,2,  2327.3,6,  2429.1,2,   7.5943,6,    25.00, -999.00,9,  -999.0,9,  -999.0,        0,2, -999.00,9,  -999.0,9, -999.00,9, -999.00,9,    20.3388,2, -999.00,9,  -999.0,9,     -999.0,     -999.0,9,      37.94,2,     -999.0,      38.09,2,     -999.0,       1.01,2,       0.02,     -999.0,     -999.0,9,     -999.0,9,     -999.0,9,     -999.0,9,     -999.0,9,     -999.0,9,     -999.0,9,     -999.0,9
33RO20161119,        P18,      68,          1,          2,      11101,2,20161209,       2058,    -3.5002,  -110.0000,       3946,  3600.4,   1.5101,  34.6890,2,  34.6882,2,    153.3,2,   152.9,2,   145.8,6,    36.9,6,    0.01,6,   2.501,6,-999.0000,9,-999.0000,9,-999.0000,9,  2328.4,2,  2427.6,6,   7.5866,2,    25.00, -999.00,9,  -999.0,9,  -999.0,-999.0000,9, -999.00,9,  -999.0,9, -999.00,9, -999.00,9,     -999.0,9,    5.53,2,  -999.0,9,     -999.0,     -999.0,9,      37.92,2,       0.06,      38.08,2,       0.07,     -999.0,9,     -999.0,       0.22,     -999.0,9,     -999.0,9,     -999.0,9,     -999.0,9,     -999.0,9,     -999.0,9,     -999.0,9,     -999.0,9
33RO20161119,        P18,      68,          1,          3,      11102,2,20161209,       2058,    -3.5002,  -110.0000,       3946,  3200.5,   1.6213,  34.6797,2,  34.6781,2,    143.1,2,   143.2,2,   144.7,6,    37.5,6,    0.00,6,   2.564,6,-999.0000,9,-999.0000,9,-999.0000,9,  2331.1,2,  2423.0,2,   7.5639,6,    25.00, -999.00,9,  -999.0,9,  -999.0,-999.0000,9, -999.00,9,  -999.0,9, -999.00,9, -999.00,9,     -999.0,9, -999.00,9,  -999.0,9,     -999.0,     -999.0,9,      37.97,2,     -999.0,      38.12,2,     -999.0,       1.04,2,       0.01,     -999.0,     -999.0,9,     -999.0,9,     -999.0,9,     -999.0,9,     -999.0,9,     -999.0,9,     -999.0,9,     -999.0,9
33RO20161119,        P18,      68,          1,          4,      11103,2,20161209,       2058,    -3.5002,  -110.0000,       3946,  2899.8,   1.7175,  34.6750,2,  34.6756,2,    136.4,2,   136.7,2,   144.6,6,    37.9,6,    0.00,6,   2.599,6,-999.0000,9,-999.0000,9,-999.0000,9,  2334.6,2,  2426.2,2,   7.5578,2,    25.00, -999.00,9,  -999.0,9,  -999.0,-999.0000,9, -999.00,9,  -999.0,9, -999.00,9, -999.00,9,     -999.0,9, -999.00,9,  -999.0,9,     -999.0,     -999.0,9,      37.79,2,       0.02,      37.92,2,       0.02,     -999.0,9,     -999.0,     -999.0,     -999.0,9,     -999.0,9,     -999.0,9,     -999.0,9,     -999.0,9,     -999.0,9,     -999.0,9,     -999.0,9
33RO20161119,        P18,      68,          1,          5,      11104,2,20161209,       2058,    -3.5002,  -110.0000,       3946,  2599.1,   1.8601,  34.6659,2,  34.6647,2,    125.3,2,   125.0,2,   145.0,2,    38.6,2,    0.00,2,   2.678,2,-999.0000,9,-999.0000,9,-999.0000,9,  2341.3,2,  2422.5,2,   7.5362,2,    25.00, -999.00,9,  -999.0,9,  -999.0,-999.0000,9, -999.00,9,  -999.0,9, -999.00,9, -999.00,9,     -999.0,9, -999.00,9,  -999.0,9,     -999.0,     -999.0,9,      37.89,2,     -999.0,      38.04,2,     -999.0,       1.03,2,       0.01,     -999.0,     -999.0,9,     -999.0,9,     -999.0,9,     -999.0,9,     -999.0,9,     -999.0,9,     -999.0,9,     -999.0,9
33RO20161119,        P18,      68,          1,          6,      11105,2,20161209,       2058,    -3.5002,  -110.0000,       3946,  2300.0,   2.0361,  34.6568,2,  34.6559,2,    114.7,2,   116.3,6,   143.6,2,    39.2,2,    0.00,2,   2.719,2,-999.0000,9,-999.0000,9,-999.0000,9,  2343.2,2,  2419.2,2,   7.5199,2,    25.00, -999.00,9,  -999.0,9,  -999.0,-999.0000,9, -999.00,9,  -999.0,9, -999.00,9, -999.00,9,     -999.0,9, -999.00,9,  -999.0,9,     -999.0,     -999.0,9,      37.98,2,       0.14,      38.14,2,       0.18,     -999.0,9,     -999.0,     -999.0,     -999.0,9,     -999.0,9,     -999.0,9,     -999.0,9,     -999.0,9,     -999.0,9,     -999.0,9,     -999.0,9
33RO20161119,        P18,      68,          1,          7,      11106,2,20161209,       2058,    -3.5002,  -110.0000,       3946,  2000.6,   2.3165,  34.6424,2,  34.6410,2,    104.7,2,   104.8,2,   138.8,2,    39.8,2,    0.00,2,   2.785,2,-999.0000,9,-999.0000,9,-999.0000,9,  2344.9,6,  2413.1,2,   7.4975,2,    25.00, -999.00,9,  -999.0,9,  -999.0,-999.0000,9, -999.00,9,  -999.0,9, -999.00,9, -999.00,9,     -999.0,9, -999.00,9,  -999.0,9,     -999.0,     -999.0,9,       38.0,2,     -999.0,      38.17,2,     -999.0,       1.01,2,        0.0,     -999.0,     -999.0,9,     -999.0,9,     -999.0,9,     -999.0,9,25.84506881,2,       9.45,2,      51.53,2,      21.09,2
33RO20161119,        P18,      68,          1,          8,      11107,2,20161209,       2058,    -3.5002,  -110.0000,       3946,  1700.3,   2.7133,  34.6193,2,  34.6194,2,     98.2,2,    97.7,2,   127.6,2,    40.5,2,    0.00,2,   2.835,2,-999.0000,9,-999.0000,9,-999.0000,9,  2337.7,2,  2398.1,2,   7.4834,2,    25.00, -999.00,9,  -999.0,9,  -999.0,-999.0000,9, -999.00,9,  -999.0,9, -999.00,9, -999.00,9,     -999.0,9, -999.00,9,  -999.0,9,     -999.0,     -999.0,9,       37.9,2,     -999.0,      38.02,2,     -999.0,     -999.0,9,     -999.0,     -999.0,     -999.0,9,     -999.0,9,     -999.0,9,     -999.0,9,28.24860321,2,       9.41,2,      51.98,2,      21.74,2
33RO20161119,        P18,      68,          1,          9,      11108,2,20161209,       2058,    -3.5002,  -110.0000,       3946,  1440.3,   3.1803,  34.5943,2,  34.5952,2,     96.4,2,    96.6,2,   112.7,2,    40.4,2,    0.00,2,   2.844,2,   0.0018,6,   0.0016,6,   0.0219,6,  2322.4,2,  2383.7,2,   7.4806,2,    25.00, -999.00,9,  -999.0,9,  -999.0,        0,2, -999.00,9,  -999.0,9, -999.00,9, -999.00,9,    29.9191,2,    6.34,2,  -999.0,9,     -999.0,     -999.0,9,      37.94,2,     -999.0,      38.07,2,     -999.0,       1.06,2,     -999.0,        0.1,     -999.0,9,     -999.0,9,     -999.0,9,     -999.0,9,28.86999919,2,       9.33,2,      51.01,2,      21.27,2
33RO20161119,        P18,      68,          1,         10,      11109,2,20161209,       2058,    -3.5002,  -110.0000,       3946,  1275.1,   3.6535,  34.5743,2,  34.5748,2,     95.9,2,    95.9,2,   100.1,2,    40.2,2,    0.00,2,   2.828,2,-999.0000,9,-999.0000,9,-999.0000,9,  2310.9,2,  2373.5,2,   7.4779,2,    25.00, -999.00,9,  -999.0,9,  -999.0,-999.0000,9, -999.00,9,  -999.0,9, -999.00,9, -999.00,9,     -999.0,9,    6.47,2,  -999.0,9,     -999.0,     -999.0,9,      37.87,2,       0.03,      37.98,2,       0.04,     -999.0,9,     -999.0,       0.07,     -999.0,9,     -999.0,9,     -999.0,9,     -999.0,9,29.55627948,2,        9.2,2,      50.71,2,      21.63,2
33RO20161119,        P18,      68,          1,         11,      11110,2,20161209,       2058,    -3.5002,  -110.0000,       3946,  1135.0,   4.0967,  34.5597,2,  34.5584,2,     93.0,2,    92.3,2,    90.0,2,    40.2,2,    0.00,2,   2.829,2,   0.0095,2,   0.0067,2,   0.0000,2,  2300.9,2,  2365.7,2,   7.4727,2,    25.00, -999.00,9,  -999.0,9,  -999.0,   0.0211,2, -999.00,9,  -999.0,9, -999.00,9, -999.00,9,    31.9447,2,    6.58,2,  -999.0,9,     -999.0,     -999.0,9,      37.88,2,     -999.0,      37.96,2,     -999.0,       1.03,2,     -999.0,       0.31,     -999.0,9,     -999.0,9,     -999.0,9,     -999.0,9,30.62138271,2,       9.05,2,      49.85,2,      20.27,2
33RO20161119,        P18,      68,          1,         12,      11111,2,20161209,       2058,    -3.5002,  -110.0000,       3946,  1005.3,   4.5519,  34.5509,2,  34.5525,2,     85.7,2,    86.8,2,    81.7,2,    40.5,2,    0.00,2,   2.841,2,-999.0000,9,-999.0000,9,-999.0000,9,  2293.8,2,  2356.4,2,   7.4621,2,    25.00, -999.00,9,  -999.0,9,  -999.0,-999.0000,9, -999.00,9,  -999.0,9, -999.00,9, -999.00,9,     -999.0,9,    6.68,2,  -999.0,9,     -999.0,     -999.0,9,      37.89,2,        0.1,       38.0,2,       0.12,     -999.0,9,     -999.0,       0.03,     -999.0,9,     -999.0,9,     -999.0,9,     -999.0,9,32.59228411,2,       8.83,2,      49.57,2,      21.06,2
33RO20161119,        P18,      68,          1,         13,      11112,2,20161209,       2058,    -3.5002,  -110.0000,       3946,   879.8,   5.1613,  34.5481,2,  34.5472,2,     72.5,2,    72.6,2,    71.9,2,    41.3,2,    0.00,2,   2.888,2,   0.0170,2,   0.0108,2,   0.0000,2,  2290.4,2,  2338.3,2,   7.4411,2,    25.00, -999.00,9,  -999.0,9,  -999.0,   0.0512,2, -999.00,9,  -999.0,9, -999.00,9, -999.00,9,    37.1762,2,    6.93,2,  -999.0,9,     -999.0,     -999.0,9,      38.02,2,     -999.0,      38.13,2,     -999.0,       0.96,2,     -999.0,       0.05,     -999.0,9,     -999.0,9,     -999.0,9,     -999.0,9,35.57066544,2,       8.61,2,      49.58,2,      21.24,2
33RO20161119,        P18,      68,          1,         14,      11113,2,20161209,       2058,    -3.5002,  -110.0000,       3946,   754.9,   5.9821,  34.5592,2,  34.5594,2,     53.3,2,    52.6,2,    61.9,2,    42.3,2,    0.00,2,   2.928,2,-999.0000,9,-999.0000,9,-999.0000,9,  2288.3,2,  2332.3,2,   7.4118,2,    25.00, -999.00,9,  -999.0,9,  -999.0,-999.0000,9, -999.00,9,  -999.0,9, -999.00,9, -999.00,9,     -999.0,9,    7.39,2,  -999.0,9,     -999.0,     -999.0,9,       37.9,2,     -999.0,       38.0,2,     -999.0,     -999.0,9,     -999.0,       0.02,     -999.0,9,     -999.0,9,     -999.0,9,     -999.0,9,41.84873666,2,       8.02,2,      48.98,2,      20.55,2
33RO20161119,        P18,      68,          1,         15,      11114,2,20161209,       2058,    -3.5002,  -110.0000,       3946,   640.1,   6.7064,  34.5716,2,  34.5725,2,     48.3,2,    52.5,2,    52.0,2,    41.2,2,    0.00,2,   2.829,2,   0.0961,2,   0.0530,2,   0.0299,2,  2276.8,2,  2315.2,2,   7.4197,2,    25.00, -999.00,9,  -999.0,9,  -999.0,    0.047,2, -999.00,9,  -999.0,9, -999.00,9, -999.00,9,    45.5584,2,    7.43,2,  -999.0,9,     -999.0,     -999.0,9,      38.05,2,     -999.0,      38.17,2,     -999.0,       0.92,2,     -999.0,       0.28,     -999.0,9,     -999.0,9,     -999.0,9,     -999.0,9,43.66421585,2,       7.74,2,      48.56,2,      12.39,2
33RO20161119,        P18,      68,          1,         16,      11115,2,20161209,       2058,    -3.5002,  -110.0000,       3946,   531.0,   7.6509,  34.6093,2,  34.6104,2,     33.2,2,    33.7,2,    45.4,2,    41.2,2,    0.00,2,   2.838,2,-999.0000,9,-999.0000,9,-999.0000,9,  2276.0,2,  2309.6,2,   7.3930,2,    25.00, -999.00,9,  -999.0,9,  -999.0,-999.0000,9, -999.00,9,  -999.0,9, -999.00,9, -999.00,9,     -999.0,9,    7.46,2,  -999.0,9,     -999.0,     -999.0,9,      37.91,2,       0.16,       38.0,2,       0.18,     -999.0,9,     -999.0,       0.02,     -999.0,9,     -999.0,9,     -999.0,9,     -999.0,9,52.05948719,2,       7.11,2,      48.53,2,      11.34,2
33RO20161119,        P18,      68,          1,         17,      11116,2,20161209,       2058,    -3.5002,  -110.0000,       3946,   425.2,   8.6996,  34.6640,2,  34.6642,2,     17.2,2,    15.9,2,    39.5,2,    40.3,2,    0.01,2,   2.795,2,   0.2270,2,   0.1255,2,   0.0370,2,  2279.3,2,  2305.5,6,   7.3747,2,    25.00, -999.00,9,  -999.0,9,  -999.0,   0.0406,2, -999.00,9,  -999.0,9, -999.00,9, -999.00,9,     68.011,2,    8.25,2,  -999.0,9,     -999.0,     -999.0,9,      37.87,2,     -999.0,      37.95,2,     -999.0,     -999.0,9,     -999.0,       0.09,     -999.0,9,     -999.0,9,     -999.0,9,     -999.0,9,64.70704486,2,       6.62,2,       50.3,2,      10.07,2
33RO20161119,        P18,      68,          1,         18,      11117,2,20161209,       2058,    -3.5002,  -110.0000,       3946,   324.5,  10.3664,  34.7653,2,  34.7629,2,      4.5,2,     3.6,2,    33.3,2,    35.1,2,    0.01,2,   2.714,2,   0.3970,2,   0.2262,2,   0.0724,2,  2274.7,2,  2309.4,2,   7.3760,2,    25.00, -999.00,9,  -999.0,9,  -999.0,   0.0732,2, -999.00,9,  -999.0,9, -999.00,9, -999.00,9,    59.9793,2,    9.25,2,  -999.0,9,     -999.0,     -999.0,9,      37.24,2,       0.06,     -999.0,9,     -999.0,     -999.0,9,     -999.0,       0.14,     -999.0,9,     -999.0,9,     -999.0,9,     -999.0,9,     -999.0,9,       7.56,2,      60.09,2,      24.04,2
33RO20161119,        P18,      68,          1,         19,      11083,2,20161209,       2058,    -3.5002,  -110.0000,       3946,   240.0,  11.9513,  34.8647,2,  34.8633,2,      7.2,2,     7.1,2,    27.0,2,    33.5,2,    0.01,2,   2.478,2,   0.8995,2,   0.4923,2,   0.1991,2,  2262.3,2,  2305.8,2,   7.4154,2,    25.00, -999.00,9,  -999.0,9,  -999.0,    0.117,2, -999.00,9,  -999.0,9, -999.00,9, -999.00,9,    74.0842,2,    7.83,2,  -999.0,9,     -999.0,     -999.0,9,      38.02,2,     -999.0,      38.11,2,     -999.0,        0.8,2,       0.01,        0.1,     -999.0,9,     -999.0,9,     -999.0,9,     -999.0,9,     -999.0,9,     -999.0,9,     -999.0,9,     -999.0,9
33RO20161119,        P18,      68,          1,         20,      11118,2,20161209,       2058,    -3.5002,  -110.0000,       3946,   165.4,  13.0101,  34.9310,2,  34.9339,2,     19.1,2,    18.3,2,    21.9,2,    32.1,2,    0.01,2,   2.284,2,   1.2865,2,   0.7170,2,   0.3254,2,  2240.6,2,  2301.5,2,   7.4774,2,    25.00, -999.00,9,  -999.0,9,  -999.0,   0.1391,2, -999.00,9,  -999.0,9, -999.00,9, -999.00,9,    73.4645,2,     7.0,2,  -999.0,9,     -999.0,     -999.0,9,      38.16,2,        0.0,      38.26,2,        0.0,     -999.0,9,     -999.0,       0.22,     -999.0,9,     -999.0,9,     -999.0,9,     -999.0,9,73.23790804,2,       3.86,2,       40.2,2,       4.36,2
33RO20161119,        P18,      68,          1,         21,      11119,2,20161209,       2058,    -3.5002,  -110.0000,       3946,    99.4,  14.0816,  34.9906,2,  34.9895,2,     55.8,2,    60.1,2,    16.9,2,    26.8,2,    0.04,2,   1.883,2,   1.6224,2,   0.9199,2,   0.5656,2,  2205.3,2,  2301.5,2,   7.5927,2,    25.00, -999.00,9,  -999.0,9,  -999.0,   0.3459,2, -999.00,9,  -999.0,9, -999.00,9, -999.00,9,    47.8062,2,     7.2,2,  -999.0,9,     -999.0,     -999.0,9,      37.99,2,     -999.0,      38.05,2,     -999.0,       0.75,2,     -999.0,       0.02,     -999.0,9,     -999.0,9,     -999.0,9,     -999.0,9,45.79663939,2,       4.49,2,      39.02,2,       6.25,2
33RO20161119,        P18,      68,          1,         22,      11120,2,20161209,       2058,    -3.5002,  -110.0000,       3946,    50.2,  17.4752,  35.2593,2,  35.2489,2,    112.4,2,   102.3,2,     6.9,2,    17.0,2,    1.00,2,   1.563,2,   2.0310,2,   1.2156,2,   1.1050,2,  2178.1,2,  2319.5,2,   7.7102,2,    25.00, -999.00,9,  -999.0,9,  -999.0,   1.8082,2, -999.00,9,  -999.0,9, -999.00,9, -999.00,9,    41.4085,2,    9.67,2,  -999.0,9,     -999.0,     -999.0,9,      38.16,2,     -999.0,      38.22,2,     -999.0,     -999.0,9,     -999.0,       0.04,     -999.0,9,     -999.0,9,     -999.0,9,     -999.0,9,40.20503371,2,       4.34,2,      39.61,2,        5.3,2
33RO20161119,        P18,      68,          1,         23,      11121,2,20161209,       2058,    -3.5002,  -110.0000,       3946,    20.4,  23.6503,  35.1258,2,  35.1254,2,    206.7,2,   211.4,2,     4.9,2,    10.0,2,    0.27,2,   0.905,2,   1.8016,2,   1.1192,2,   1.4128,2,  2081.0,2,  2315.9,6,   7.9096,2,    25.00, -999.00,9,  -999.0,9,  -999.0,   1.9024,2, -999.00,9,  -999.0,9, -999.00,9, -999.00,9,     9.6142,2,   14.19,2,  -999.0,9,     -999.0,     -999.0,9,      38.22,2,     -999.0,      38.21,2,     -999.0,       0.54,2,        0.0,       0.06,     -999.0,9,     -999.0,9,     -999.0,9,     -999.0,9,10.08437047,2,       4.92,2,      44.66,2,     -999.0,9
33RO20161119,        P18,      68,          1,         24,      11122,2,20161209,       2058,    -3.5002,  -110.0000,       3946,     3.3,  23.9195,  35.1297,2,  35.1332,2,    202.0,2,   208.6,2,     4.8,2,     9.9,2,    0.28,2,   0.875,2,   1.8016,2,   1.1272,2,   1.6059,2,  2080.9,6,  2314.7,2,   7.9104,2,    25.00, -999.00,9,  -999.0,9,  -999.0,        0,2, -999.00,9,  -999.0,9, -999.00,9, -999.00,9,      9.149,2,   14.12,2,  -999.0,9,     -999.0,     -999.0,9,      38.17,2,     -999.0,      38.17,2,     -999.0,     -999.0,9,     -999.0,       0.14,     -999.0,9,     -999.0,9,     -999.0,9,     -999.0,9,9.717419977,2,       5.21,2,      45.88,2,     -999.0,9