BOTTLE,20230606CCHSIOCBG
EXPOCODE,SECT_ID,STNNBR,CASTNO,SAMPNO,BTLNBR,BTLNBR_FLAG_W,DATE,TIME,LATITUDE,LONGITUDE,DEPTH,CTDPRS,CTDTMP,CTDSAL,CTDSAL_FLAG_W,SALNTY,SALNTY_FLAG_W,CTDOXY,CTDOXY_FLAG_W,OXYGEN,OXYGEN_FLAG_W,SILCAT,SILCAT_FLAG_W,NITRAT,NITRAT_FLAG_W,NITRIT,NITRIT_FLAG_W,PHSPHT,PHSPHT_FLAG_W,CFC-11,CFC-11_FLAG_W,CFC-12,CFC-12_FLAG_W,SF6,SF6_FLAG_W,TCARBN,TCARBN_FLAG_W,ALKALI,ALKALI_FLAG_W,PH_SWS,PH_SWS_FLAG_W,PH_TMP,DELC13,DELC13_FLAG_W,DELC14,DELC14_FLAG_W,C14ERR,CCL4,CCL4_FLAG_W,POC,POC_FLAG_W,DOC,DOC_FLAG_W,TDN,TDN_FLAG_W,PON,PON_FLAG_W,N2O,N2O_FLAG_W,D15N_NO3,D15N_NO3_FLAG_W,14C-DOC,14C-DOC_FLAG_W,14C-DOCERR,13C-DOC,13C-DOC_FLAG_W,N2/ARGON_UNSTRIPPED,N2/ARGON_UNSTRIPPED_FLAG_W,N2/ARGON_UNSTRIPPED_ERROR,N2/ARGON,N2/ARGON_FLAG_W,N2/ARGON_ERROR,D15N_N2,D15N_N2_FLAG_W,D15N_N2_ERROR,D15N_NO3_ERROR,D15N_NO2+NO3,D15N_NO2+NO3_FLAG_W,D18O_NO2+NO3,D18O_NO2+NO3_FLAG_W,D18O_NO3,D18O_NO3_FLAG_W,TDP,TDP_FLAG_W,N2O_ALT_1,N2O_ALT_1_FLAG_W,D15N_N2O,D15N_N2O_FLAG_W,D18O_N2O,D18O_N2O_FLAG_W,D15N_ALPHA_N2O,D15N_ALPHA_N2O_FLAG_W
,,,,,,,,,,,METERS,DBAR,ITS-90,PSS-78,,PSS-78,,UMOL/KG,,UMOL/KG,,UMOL/KG,,UMOL/KG,,UMOL/KG,,UMOL/KG,,PMOL/KG,,PMOL/KG,,FMOL/KG,,UMOL/KG,,UMOL/KG,,,,DEG C,/MILLE,,/MILLE,,/MILLE,PMOL/KG,,UG/KG,,UMOL/KG,,UMOL/KG,,UG/KG,,NMOL/KG,,/MILLE,,/MILLE,,/MILLE,/MILLE,,,,,,,,/MILLE,,/MILLE,/MILLE,/MILLE,,/MILLE,,/MILLE,,UMOL/KG,,NMOL/L,,/MILLE,,/MILLE,,/MILLE,
33RO20161119,        P18,     192,          1,          1,      11010,2,20170121,       1731,   -62.0001,  -102.9965,       5078,  5177.6,   0.4580,  34.6994,2,  34.6997,2,    215.9,2,   214.5,2,   141.8,2,    32.9,2,    0.02,2,   2.252,2,   0.4605,2,   0.2179,2,   0.0658,2,  2263.3,6,  2364.9,2,   7.5854,2,    25.00, -999.00,9,  -999.0,9,  -999.0,   0.3499,2, -999.00,9,  -999.0,9, -999.00,9, -999.00,9,    18.5043,2,    4.81,2,  -999.0,9,     -999.0,     -999.0,9,     -999.0,9,     -999.0,     -999.0,9,     -999.0,     -999.0,9,     -999.0,     -999.0,       4.81,2,       1.84,2,       1.84,2,     -999.0,9,16.36062352,2,       8.41,2,      48.45,2,      23.36,2
33RO20161119,        P18,     192,          1,          2,      11101,2,20170121,       1731,   -62.0001,  -102.9965,       5078,  4789.4,   0.4614,  34.7009,2,  34.7017,2,    214.2,2,   213.9,2,   135.3,2,    32.8,2,    0.01,2,   2.254,2,   0.3903,2,   0.1854,2,   0.0832,2,  2262.2,2,  2361.4,6,   7.5874,2,    25.00, -999.00,9,  -999.0,9,  -999.0,   0.3027,2, -999.00,9,  -999.0,9, -999.00,9, -999.00,9,    18.5373,2,    4.83,2,  -999.0,9,     -999.0,     -999.0,9,     -999.0,9,     -999.0,     -999.0,9,     -999.0,     -999.0,9,     -999.0,     -999.0,       4.83,2,       1.82,2,       1.82,2,     -999.0,9,     -999.0,9,     -999.0,9,     -999.0,9,     -999.0,9
33RO20161119,        P18,     192,          1,          3,      11102,2,20170121,       1731,   -62.0001,  -102.9965,       5078,  4400.2,   0.4752,  34.7019,2,  34.7060,3,    213.4,2,   213.0,2,   132.7,6,    32.8,6,    0.01,6,   2.254,6,   0.3558,2,   0.1705,2,   0.0508,2,  2261.9,2,  2359.0,2,   7.5884,2,    25.00, -999.00,9,  -999.0,9,  -999.0,   0.2469,2, -999.00,9,  -999.0,9, -999.00,9, -999.00,9,    18.6239,2,    4.84,2,  -999.0,9,     -999.0,     -999.0,9,     -999.0,9,     -999.0,     -999.0,9,     -999.0,     -999.0,9,     -999.0,     -999.0,       4.84,2,       1.95,2,       1.95,2,     -999.0,9,16.46400819,2,       8.42,2,      47.96,2,      22.58,2
33RO20161119,        P18,     192,          1,          4,      11103,2,20170121,       1731,   -62.0001,  -102.9965,       5078,  4000.1,   0.5861,  34.7036,2,  34.7189,4,    210.6,2,   210.4,2,   128.9,6,    32.8,6,    0.01,6,   2.242,6,   0.3057,2,   0.1476,2,   0.0505,2,  2260.2,2,  2360.6,2,   7.5897,2,    25.00, -999.00,9,  -999.0,9,  -999.0,   0.2236,2, -999.00,9,  -999.0,9, -999.00,9, -999.00,9,    18.6729,2,    4.85,2,  -999.0,9,     -999.0,     -999.0,9,     -999.0,9,     -999.0,     -999.0,9,     -999.0,     -999.0,9,     -999.0,     -999.0,       4.85,2,       1.79,2,       1.79,2,     -999.0,9,     -999.0,9,     -999.0,9,     -999.0,9,     -999.0,9
33RO20161119,        P18,     192,          1,          5,      11104,2,20170121,       1731,   -62.0001,  -102.9965,       5078,  3601.3,   0.7457,  34.7072,2,  34.7064,2,    207.3,2,   206.8,2,   125.4,6,    32.6,6,    0.01,6,   2.236,6,   0.2371,2,   0.1160,2,   0.0433,2,  2257.3,2,  2367.1,3,   7.5899,2,    25.00, -999.00,9,  -999.0,9,  -999.0,   0.2225,2, -999.00,9,  -999.0,9, -999.00,9, -999.00,9,    18.7666,2,    4.83,2,  -999.0,9,     -999.0,     -999.0,9,     -999.0,9,     -999.0,     -999.0,9,     -999.0,     -999.0,9,     -999.0,     -999.0,       4.83,2,       2.11,2,       2.11,2,     -999.0,9,16.73252374,2,       8.42,2,      48.13,2,      22.18,2
33RO20161119,        P18,     192,          1,          6,      11105,2,20170121,       1731,   -62.0001,  -102.9965,       5078,  3199.6,   0.8942,  34.7122,2,  34.7279,4,    203.1,2,   203.7,2,   120.8,6,    32.4,6,    0.01,6,   2.229,6,   0.1781,6,   0.0870,6,   0.0486,6,  2258.8,2,  2360.7,2,   7.5909,2,    25.00, -999.00,9,  -999.0,9,  -999.0,   0.1938,2, -999.00,9,  -999.0,9, -999.00,9, -999.00,9,    18.7815,2,    4.86,2,  -999.0,9,     -999.0,     -999.0,9,     -999.0,9,     -999.0,     -999.0,9,     -999.0,     -999.0,9,     -999.0,     -999.0,       4.86,2,       1.88,2,       1.88,2,     -999.0,9,     -999.0,9,     -999.0,9,     -999.0,9,     -999.0,9
33RO20161119,        P18,     192,          1,          7,      11106,2,20170121,       1731,   -62.0001,  -102.9965,       5078,  2800.0,   1.0507,  34.7183,2,  34.7187,2,    200.1,2,   201.0,2,   114.8,2,    32.3,2,    0.01,2,   2.196,2,   0.1419,2,   0.0714,2,   0.0253,2,  2258.1,2,  2360.2,2,   7.5924,2,    25.00, -999.00,9,  -999.0,9,  -999.0,   0.2937,2, -999.00,9,  -999.0,9, -999.00,9, -999.00,9,    18.9469,2,    4.84,2,  -999.0,9,     -999.0,     -999.0,9,     -999.0,9,     -999.0,     -999.0,9,     -999.0,     -999.0,9,     -999.0,     -999.0,       4.84,2,       1.82,2,       1.82,2,     -999.0,9,16.83930702,2,       8.48,2,      48.89,2,      22.64,2
33RO20161119,        P18,     192,          1,          8,      11107,2,20170121,       1731,   -62.0001,  -102.9965,       5078,  2401.4,   1.2239,  34.7244,2,  34.7253,2,    197.6,2,   197.8,2,   109.0,2,    32.0,2,    0.01,2,   2.193,2,   0.1241,2,   0.0614,2,   0.0425,2,  2258.1,2,  2360.0,2,   7.5942,2,    25.00, -999.00,9,  -999.0,9,  -999.0,   0.3185,2, -999.00,9,  -999.0,9, -999.00,9, -999.00,9,    19.1475,2,    4.88,2,  -999.0,9,     -999.0,     -999.0,9,     -999.0,9,     -999.0,     -999.0,9,     -999.0,     -999.0,9,     -999.0,     -999.0,       4.88,2,       1.77,2,       1.77,2,     -999.0,9,     -999.0,9,     -999.0,9,     -999.0,9,     -999.0,9
33RO20161119,        P18,     192,          1,          9,      11108,2,20170121,       1731,   -62.0001,  -102.9965,       5078,  2000.0,   1.4093,  34.7295,2,  34.7297,2,    194.1,2,   194.0,2,   102.8,2,    31.8,2,    0.01,2,   2.180,2,   0.1279,2,   0.0626,2,   0.0000,2,  2258.3,2,  2364.1,3,   7.5971,2,    25.00, -999.00,9,  -999.0,9,  -999.0,   0.3698,2, -999.00,9,  -999.0,9, -999.00,9, -999.00,9,    19.0817,2,     4.9,2,  -999.0,9,     -999.0,     -999.0,9,     -999.0,9,     -999.0,     -999.0,9,     -999.0,     -999.0,9,     -999.0,     -999.0,        4.9,2,       1.79,2,       1.79,2,     -999.0,9,17.08248229,2,       8.54,2,      49.51,2,      21.62,2
33RO20161119,        P18,     192,          1,         10,      11109,2,20170121,       1731,   -62.0001,  -102.9965,       5078,  1750.3,   1.5767,  34.7321,2,  34.7336,2,    191.3,2,   191.7,6,    97.5,2,    31.7,2,    0.01,2,   2.151,2,   0.1447,2,   0.0725,2,   0.0346,2,  2254.6,2,  2358.4,2,   7.5931,2,    25.00, -999.00,9,  -999.0,9,  -999.0,   0.6456,2, -999.00,9,  -999.0,9, -999.00,9, -999.00,9,    19.4075,2,    4.97,2,  -999.0,9,     -999.0,     -999.0,9,     -999.0,9,     -999.0,     -999.0,9,     -999.0,     -999.0,9,     -999.0,     -999.0,       4.97,2,       1.91,2,       1.91,2,     -999.0,9,     -999.0,9,     -999.0,9,     -999.0,9,     -999.0,9
33RO20161119,        P18,     192,          1,         11,      11110,2,20170121,       1731,   -62.0001,  -102.9965,       5078,  1570.7,   1.7321,  34.7314,2,  34.7355,2,    188.8,2,   189.0,2,    93.0,2,    31.6,2,    0.01,2,   2.165,2,   0.1632,2,   0.0796,2,   0.0437,2,  2253.9,2,  2359.0,2,   7.5911,2,    25.00, -999.00,9,  -999.0,9,  -999.0,   0.8526,2, -999.00,9,  -999.0,9, -999.00,9, -999.00,9,    19.8164,2,    4.94,2,  -999.0,9,     -999.0,     -999.0,9,     -999.0,9,     -999.0,     -999.0,9,     -999.0,     -999.0,9,     -999.0,     -999.0,       4.94,2,       1.79,2,       1.79,2,     -999.0,9, 17.8004933,2,       8.12,2,      48.42,2,      20.83,2
33RO20161119,        P18,     192,          1,         12,      11111,2,20170121,       1731,   -62.0001,  -102.9965,       5078,  1390.1,   1.8788,  34.7257,2,  34.7241,2,    185.5,2,   185.6,2,    88.7,2,    31.7,2,    0.01,2,   2.185,2,   0.1916,2,   0.0952,2,   0.0466,2,  2251.8,2,  2351.4,2,   7.5858,2,    25.00, -999.00,9,  -999.0,9,  -999.0,   0.7854,2, -999.00,9,  -999.0,9, -999.00,9, -999.00,9,    19.9775,2,    4.95,2,  -999.0,9,     -999.0,     -999.0,9,     -999.0,9,     -999.0,     -999.0,9,     -999.0,     -999.0,9,     -999.0,     -999.0,       4.95,2,       1.82,2,       1.82,2,     -999.0,9,     -999.0,9,     -999.0,9,     -999.0,9,     -999.0,9
33RO20161119,        P18,     192,          1,         13,      11112,2,20170121,       1731,   -62.0001,  -102.9965,       5078,  1220.8,   2.0253,  34.7103,2,  34.7119,2,    180.5,2,   181.1,2,    85.1,2,    32.1,2,    0.02,2,   2.208,2,   0.2277,2,   0.1152,2,   0.0494,2,  2251.7,2,  2348.7,2,   7.5786,2,    25.00, -999.00,9,  -999.0,9,  -999.0,   1.2264,2, -999.00,9,  -999.0,9, -999.00,9, -999.00,9,    20.5618,2,    4.97,2,  -999.0,9,     -999.0,     -999.0,9,     -999.0,9,     -999.0,     -999.0,9,     -999.0,     -999.0,9,     -999.0,     -999.0,       4.97,2,       1.74,2,       1.74,2,     -999.0,9,     -999.0,9,     -999.0,9,     -999.0,9,     -999.0,9
33RO20161119,        P18,     192,          1,         14,      11113,2,20170121,       1731,   -62.0001,  -102.9965,       5078,  1056.0,   2.1428,  34.6842,2,  34.6954,4,    176.5,2,   176.9,6,    82.0,2,    32.8,2,    0.01,2,   2.226,2,   0.3040,2,   0.1524,2,   0.0645,2,  2253.7,2,  2348.5,2,   7.5684,2,    25.00, -999.00,9,  -999.0,9,  -999.0,   1.4135,2, -999.00,9,  -999.0,9, -999.00,9, -999.00,9,     21.325,2,    4.99,2,  -999.0,9,     -999.0,     -999.0,9,     -999.0,9,     -999.0,     -999.0,9,     -999.0,     -999.0,9,     -999.0,     -999.0,       4.99,2,       1.78,2,       1.78,2,     -999.0,9,     -999.0,9,     -999.0,9,     -999.0,9,     -999.0,9
33RO20161119,        P18,     192,          1,         15,      11114,2,20170121,       1731,   -62.0001,  -102.9965,       5078,   900.7,   2.2414,  34.6458,2,  34.6478,2,    172.9,2,   172.9,2,    79.2,2,    33.7,2,    0.01,2,   2.279,2,   0.4268,2,   0.2146,2,   0.1099,2,  2256.1,2,  2346.3,2,   7.5581,2,    25.00, -999.00,9,  -999.0,9,  -999.0,   3.0883,2, -999.00,9,  -999.0,9, -999.00,9, -999.00,9,    21.9061,2,    5.03,2,  -999.0,9,     -999.0,     -999.0,9,     -999.0,9,     -999.0,     -999.0,9,     -999.0,     -999.0,9,     -999.0,     -999.0,       5.03,2,       1.62,2,       1.62,2,     -999.0,9,  19.762105,2,       7.95,2,      46.89,2,       20.0,2
33RO20161119,        P18,     192,          1,         16,      11115,2,20170121,       1731,   -62.0001,  -102.9965,       5078,   749.9,   2.3349,  34.5869,2,  34.5863,2,    171.1,2,   171.8,2,    75.1,2,    34.3,2,    0.01,2,   2.338,2,   0.6538,6,   0.3296,6,   0.1789,6,  2252.2,6,  2339.2,2,   7.5445,2,    25.00, -999.00,9,  -999.0,9,  -999.0,   4.0199,2, -999.00,9,  -999.0,9, -999.00,9, -999.00,9,    22.5656,2,    5.03,2,  -999.0,9,     -999.0,     -999.0,9,     -999.0,9,     -999.0,     -999.0,9,     -999.0,     -999.0,9,     -999.0,     -999.0,       5.03,2,       1.69,2,       1.69,2,     -999.0,9,20.08213542,2,       7.85,2,      46.28,2,      20.41,2
33RO20161119,        P18,     192,          1,         17,      11116,2,20170121,       1731,   -62.0001,  -102.9965,       5078,   610.7,   2.4332,  34.5101,2,  34.5119,2,    175.6,2,   175.1,2,    69.0,2,    34.9,2,    0.02,2,   2.379,2,   1.0376,2,   0.5242,2,   0.2983,2,  2248.9,2,  2328.4,6,   7.5388,2,    25.00, -999.00,9,  -999.0,9,  -999.0,   6.2697,2, -999.00,9,  -999.0,9, -999.00,9, -999.00,9,     23.147,2,     5.1,2,  -999.0,9,     -999.0,     -999.0,9,     -999.0,9,     -999.0,     -999.0,9,     -999.0,     -999.0,9,     -999.0,     -999.0,        5.1,2,        1.8,2,        1.8,2,     -999.0,9,20.48456256,2,       7.63,2,      45.73,2,       19.8,2
33RO20161119,        P18,     192,          1,         18,      11117,2,20170121,       1731,   -62.0001,  -102.9965,       5078,   469.9,   2.5959,  34.4249,2,  34.4233,2,    185.3,2,   184.5,2,    60.6,2,    34.7,2,    0.02,2,   2.355,2,   1.5274,2,   0.7729,2,   0.4867,2,  2238.8,2,  2319.3,2,   7.5442,2,    25.00, -999.00,9,  -999.0,9,  -999.0,    6.659,2, -999.00,9,  -999.0,9, -999.00,9, -999.00,9,    23.0158,2,    5.18,2,  -999.0,9,     -999.0,     -999.0,9,     -999.0,9,     -999.0,     -999.0,9,     -999.0,     -999.0,9,     -999.0,     -999.0,       5.18,2,       1.82,2,       1.82,2,     -999.0,9,20.40384595,2,       7.56,2,      45.01,2,      19.51,2
33RO20161119,        P18,     192,          1,         19,      11083,2,20170121,       1731,   -62.0001,  -102.9965,       5078,   349.3,   2.5208,  34.2979,2,  34.3008,2,    210.0,2,   210.3,2,    49.3,2,    33.7,2,    0.02,2,   2.305,2,   2.5850,2,   1.3315,2,   0.9678,2,  2223.7,2,  2310.6,2,   7.5591,2,    25.00, -999.00,9,  -999.0,9,  -999.0,   5.6685,2, -999.00,9,  -999.0,9, -999.00,9, -999.00,9,    21.7506,2,    5.27,2,  -999.0,9,     -999.0,     -999.0,9,     -999.0,9,     -999.0,     -999.0,9,     -999.0,     -999.0,9,     -999.0,     -999.0,       5.27,2,        2.4,2,        2.4,2,     -999.0,9,19.30288793,2,       7.13,2,      44.12,2,      17.24,2
33RO20161119,        P18,     192,          1,         20,      11118,2,20170121,       1731,   -62.0001,  -102.9965,       5078,   228.0,   2.3251,  34.1549,2,  34.1547,2,    259.2,2,   250.9,2,    36.4,2,    31.5,2,    0.02,2,   2.140,2,   3.7627,2,   1.9970,2,   1.8011,2,  2195.6,2,  2292.8,2,   7.5991,2,    25.00, -999.00,9,  -999.0,9,  -999.0,   0.5736,2, -999.00,9,  -999.0,9, -999.00,9, -999.00,9,    19.1785,2,    5.27,2,  -999.0,9,     -999.0,     -999.0,9,     -999.0,9,     -999.0,     -999.0,9,     -999.0,     -999.0,9,     -999.0,     -999.0,       5.36,2,       2.39,2,       2.25,2,     -999.0,9,17.26016777,2,       6.89,2,      43.54,2,      19.08,2
33RO20161119,        P18,     192,          1,         21,      11119,2,20170121,       1731,   -62.0001,  -102.9965,       5078,   154.3,   1.9627,  34.0230,2,  34.0224,2,    297.6,2,   297.7,2,    24.5,2,    28.6,2,    0.02,2,   1.957,2,   4.7987,2,   2.5931,2,   2.7443,2,  2168.1,2,  2282.5,2,   7.6503,2,    25.00, -999.00,9,  -999.0,9,  -999.0,   0.5515,2, -999.00,9,  -999.0,9, -999.00,9, -999.00,9,    15.5369,2,    5.59,2,  -999.0,9,     -999.0,     -999.0,9,     -999.0,9,     -999.0,     -999.0,9,     -999.0,     -999.0,9,     -999.0,     -999.0,       5.59,2,       2.69,2,       2.68,2,     -999.0,9,14.95012579,2,       5.63,2,      44.35,2,      19.23,2
33RO20161119,        P18,     192,          1,         22,      11120,2,20170121,       1731,   -62.0001,  -102.9965,       5078,    69.9,   2.7143,  33.9223,2,  33.9216,2,    321.0,2,   321.5,2,     9.4,2,    24.0,2,    0.23,2,   1.812,2,   5.1983,2,   2.8004,2,   3.2557,2,  2142.8,2,  2281.6,6,   7.7058,2,    25.00, -999.00,9,  -999.0,9,  -999.0,   0.4884,2, -999.00,9,  -999.0,9, -999.00,9, -999.00,9,    13.9547,2,    7.01,2,  -999.0,9,     -999.0,     -999.0,9,     -999.0,9,     -999.0,     -999.0,9,     -999.0,     -999.0,9,     -999.0,     -999.0,        6.5,2,       3.74,2,       3.47,2,     -999.0,9,12.68755981,2,       6.01,2,      44.19,2,      19.67,2
33RO20161119,        P18,     192,          1,         23,      11121,2,20170121,       1731,   -62.0001,  -102.9965,       5078,    25.5,   4.1231,  33.9091,2,  33.9095,2,    323.0,2,   325.2,2,     0.5,2,    21.7,2,    0.28,2,   1.380,2,   4.9406,2,   2.6907,2,   3.1120,2,  2118.6,6,  2277.1,2,   7.7726,2,    25.00, -999.00,9,  -999.0,9,  -999.0,    0.454,2, -999.00,9,  -999.0,9, -999.00,9, -999.00,9,    13.5209,2,    7.93,2,  -999.0,9,     -999.0,     -999.0,9,     -999.0,9,     -999.0,     -999.0,9,     -999.0,     -999.0,9,     -999.0,     -999.0,       7.21,2,       4.31,2,       4.23,2,     -999.0,9,12.37293457,2,       5.59,2,      43.84,2,      17.71,2
33RO20161119,        P18,     192,          1,         24,      11122,2,20170121,       1731,   -62.0001,  -102.9965,       5078,     3.8,   4.1331,  33.9094,2,  33.9087,2,    322.1,2,   325.3,2,     0.4,2,    21.7,2,    0.27,2,   1.367,2,   4.8948,2,   2.6699,2,   3.1471,2,  2118.3,2,  2277.8,2,   7.7688,2,    25.00, -999.00,9,  -999.0,9,  -999.0,   0.3821,2, -999.00,9,  -999.0,9, -999.00,9, -999.00,9,    13.5804,2,    8.04,2,  -999.0,9,     -999.0,     -999.0,9,     -999.0,9,     -999.0,     -999.0,9,     -999.0,     -999.0,9,     -999.0,     -999.0,       7.22,2,       4.34,2,       4.18,2,     -999.0,9, 12.8649972,2,       6.05,2,      43.88,2,      16.02,2