BOTTLE,20230606CCHSIOCBG
EXPOCODE,SECT_ID,STNNBR,CASTNO,SAMPNO,BTLNBR,BTLNBR_FLAG_W,DATE,TIME,LATITUDE,LONGITUDE,DEPTH,CTDPRS,CTDTMP,CTDSAL,CTDSAL_FLAG_W,SALNTY,SALNTY_FLAG_W,CTDOXY,CTDOXY_FLAG_W,OXYGEN,OXYGEN_FLAG_W,SILCAT,SILCAT_FLAG_W,NITRAT,NITRAT_FLAG_W,NITRIT,NITRIT_FLAG_W,PHSPHT,PHSPHT_FLAG_W,CFC-11,CFC-11_FLAG_W,CFC-12,CFC-12_FLAG_W,SF6,SF6_FLAG_W,TCARBN,TCARBN_FLAG_W,ALKALI,ALKALI_FLAG_W,PH_SWS,PH_SWS_FLAG_W,PH_TMP,DELC13,DELC13_FLAG_W,DELC14,DELC14_FLAG_W,C14ERR,CCL4,CCL4_FLAG_W,POC,POC_FLAG_W,DOC,DOC_FLAG_W,TDN,TDN_FLAG_W,PON,PON_FLAG_W,N2O,N2O_FLAG_W,D15N_NO3,D15N_NO3_FLAG_W,14C-DOC,14C-DOC_FLAG_W,14C-DOCERR,13C-DOC,13C-DOC_FLAG_W,N2/ARGON_UNSTRIPPED,N2/ARGON_UNSTRIPPED_FLAG_W,N2/ARGON_UNSTRIPPED_ERROR,N2/ARGON,N2/ARGON_FLAG_W,N2/ARGON_ERROR,D15N_N2,D15N_N2_FLAG_W,D15N_N2_ERROR,D15N_NO3_ERROR,D15N_NO2+NO3,D15N_NO2+NO3_FLAG_W,D18O_NO2+NO3,D18O_NO2+NO3_FLAG_W,D18O_NO3,D18O_NO3_FLAG_W,TDP,TDP_FLAG_W,N2O_ALT_1,N2O_ALT_1_FLAG_W,D15N_N2O,D15N_N2O_FLAG_W,D18O_N2O,D18O_N2O_FLAG_W,D15N_ALPHA_N2O,D15N_ALPHA_N2O_FLAG_W
,,,,,,,,,,,METERS,DBAR,ITS-90,PSS-78,,PSS-78,,UMOL/KG,,UMOL/KG,,UMOL/KG,,UMOL/KG,,UMOL/KG,,UMOL/KG,,PMOL/KG,,PMOL/KG,,FMOL/KG,,UMOL/KG,,UMOL/KG,,,,DEG C,/MILLE,,/MILLE,,/MILLE,PMOL/KG,,UG/KG,,UMOL/KG,,UMOL/KG,,UG/KG,,NMOL/KG,,/MILLE,,/MILLE,,/MILLE,/MILLE,,,,,,,,/MILLE,,/MILLE,/MILLE,/MILLE,,/MILLE,,/MILLE,,UMOL/KG,,NMOL/L,,/MILLE,,/MILLE,,/MILLE,
33RO20161119,        P18,     117,          2,          1,      11010,2,20170101,       0904,   -24.4999,  -102.3335,       3642,  3766.0,   1.8393,  34.6859,2,  34.6859,2,    151.7,2,   153.5,2,   128.6,6,    35.5,6,    0.01,6,   2.490,6,   0.0023,2,   0.0013,2,   0.0000,2,  2324.3,6,  2417.3,2,   7.5790,2,    25.00, -999.00,9,  -999.0,9,  -999.0,   1.2088,2, -999.00,9,    35.1,2,   38.50,2, -999.00,9,    20.6948,2, -999.00,9,  -999.0,9,     -999.0,     -999.0,9,     -999.0,9,     -999.0,     -999.0,9,     -999.0,     -999.0,9,     -999.0,     -999.0,     -999.0,9,     -999.0,9,     -999.0,9,     -999.0,9,     -999.0,9,     -999.0,9,     -999.0,9,     -999.0,9
33RO20161119,        P18,     117,          2,          2,      11101,2,20170101,       0904,   -24.4999,  -102.3335,       3642,  3400.9,   1.8132,  34.6838,2,  34.6824,2,    152.6,2,   152.3,6,   127.2,6,    35.5,6,    0.01,6,   2.483,6,-999.0000,9,-999.0000,9,-999.0000,9,  2318.7,2,  2413.1,2,   7.5765,6,    25.00, -999.00,9,  -999.0,9,  -999.0,-999.0000,9, -999.00,9,    35.6,2,   36.90,2, -999.00,9,     -999.0,9, -999.00,9,  -999.0,9,     -999.0,     -999.0,9,     -999.0,9,     -999.0,     -999.0,9,     -999.0,     -999.0,9,     -999.0,     -999.0,     -999.0,9,     -999.0,9,     -999.0,9,     -999.0,9,     -999.0,9,     -999.0,9,     -999.0,9,     -999.0,9
33RO20161119,        P18,     117,          2,          3,      11102,2,20170101,       0904,   -24.4999,  -102.3335,       3642,  2989.9,   1.8154,  34.6780,2,  34.6776,2,    155.1,2,   155.8,2,   123.7,6,    35.2,6,    0.01,6,   2.467,6,-999.0000,9,-999.0000,9,-999.0000,9,  2310.4,2,  2408.0,2,   7.5758,2,    25.00, -999.00,9,  -999.0,9,  -999.0,-999.0000,9, -999.00,9,    36.3,2,   36.90,2, -999.00,9,     -999.0,9, -999.00,9,  -999.0,9,     -999.0,     -999.0,9,     -999.0,9,     -999.0,     -999.0,9,     -999.0,     -999.0,9,     -999.0,     -999.0,     -999.0,9,     -999.0,9,     -999.0,9,     -999.0,9,     -999.0,9,     -999.0,9,     -999.0,9,     -999.0,9
33RO20161119,        P18,     117,          2,          4,      11103,2,20170101,       0904,   -24.4999,  -102.3335,       3642,  2774.7,   1.8362,  34.6731,2,  34.6727,2,    156.7,2,   156.5,2,   120.6,6,    35.0,6,    0.01,6,   2.446,6,-999.0000,9,-999.0000,9,-999.0000,9,  2305.8,2,  2397.5,6,   7.5774,2,    25.00, -999.00,9,  -999.0,9,  -999.0,-999.0000,9, -999.00,9,    35.7,2,   37.40,2, -999.00,9,     -999.0,9, -999.00,9,    -578,2,          5,      -21.8,2,     -999.0,9,     -999.0,     -999.0,9,     -999.0,     -999.0,9,     -999.0,     -999.0,     -999.0,9,     -999.0,9,     -999.0,9,     -999.0,9,     -999.0,9,     -999.0,9,     -999.0,9,     -999.0,9
33RO20161119,        P18,     117,          2,          5,      11104,2,20170101,       0904,   -24.4999,  -102.3335,       3642,  2500.0,   1.8836,  34.6648,2,  34.6681,2,    156.2,2,   157.1,2,   118.0,2,    35.1,2,    0.01,2,   2.451,2,-999.0000,9,-999.0000,9,-999.0000,9,  2301.1,2,  2400.6,2,   7.5725,2,    25.00, -999.00,9,  -999.0,9,  -999.0,-999.0000,9, -999.00,9,    37.3,2,   36.00,2, -999.00,9,     -999.0,9, -999.00,9,  -999.0,9,     -999.0,     -999.0,9,     -999.0,9,     -999.0,     -999.0,9,     -999.0,     -999.0,9,     -999.0,     -999.0,     -999.0,9,     -999.0,9,     -999.0,9,     -999.0,9,     -999.0,9,     -999.0,9,     -999.0,9,     -999.0,9
33RO20161119,        P18,     117,          2,          6,      11105,2,20170101,       0904,   -24.4999,  -102.3335,       3642,  2200.7,   1.9807,  34.6519,2,  34.6521,2,    153.3,2,   154.4,2,   115.0,2,    35.3,2,    0.01,2,   2.463,2,-999.0000,9,-999.0000,9,-999.0000,9,  2300.1,2,  2387.0,2,   7.5656,2,    25.00, -999.00,9,  -999.0,9,  -999.0,-999.0000,9, -999.00,9,    37.4,2,   37.80,2, -999.00,9,     -999.0,9, -999.00,9,  -999.0,9,     -999.0,     -999.0,9,     -999.0,9,     -999.0,     -999.0,9,     -999.0,     -999.0,9,     -999.0,     -999.0,     -999.0,9,     -999.0,9,     -999.0,9,     -999.0,9,     -999.0,9,     -999.0,9,     -999.0,9,     -999.0,9
33RO20161119,        P18,     117,          2,          7,      11106,2,20170101,       0904,   -24.4999,  -102.3335,       3642,  1940.3,   2.1597,  34.6313,2,  34.6336,2,    149.4,2,   150.5,2,   109.8,2,    35.6,2,    0.01,2,   2.499,2,-999.0000,9,-999.0000,9,-999.0000,9,  2298.4,2,  2381.3,2,   7.5568,2,    25.00, -999.00,9,  -999.0,9,  -999.0,-999.0000,9, -999.00,9,    35.9,2,   37.70,2, -999.00,9,     -999.0,9, -999.00,9,  -999.0,9,     -999.0,     -999.0,9,     -999.0,9,     -999.0,     -999.0,9,     -999.0,     -999.0,9,     -999.0,     -999.0,     -999.0,9,     -999.0,9,     -999.0,9,     -999.0,9,     -999.0,9,     -999.0,9,     -999.0,9,     -999.0,9
33RO20161119,        P18,     117,          2,          8,      11107,2,20170101,       0904,   -24.4999,  -102.3335,       3642,  1660.2,   2.5196,  34.5966,2,  34.5971,2,    140.8,2,   141.7,2,   101.4,2,    36.4,2,    0.01,2,   2.551,2,-999.0000,9,-999.0000,9,-999.0000,9,  2293.2,2,  2368.3,2,   7.5391,2,    25.00, -999.00,9,  -999.0,9,  -999.0,-999.0000,9, -999.00,9,    37.1,2,   38.10,2, -999.00,9,     -999.0,9, -999.00,9,  -999.0,9,     -999.0,     -999.0,9,     -999.0,9,     -999.0,     -999.0,9,     -999.0,     -999.0,9,     -999.0,     -999.0,     -999.0,9,     -999.0,9,     -999.0,9,     -999.0,9,     -999.0,9,     -999.0,9,     -999.0,9,     -999.0,9
33RO20161119,        P18,     117,          2,          9,      11108,2,20170101,       0904,   -24.4999,  -102.3335,       3642,  1381.1,   3.0494,  34.5560,2,  34.5559,2,    134.4,2,   133.7,2,    90.1,2,    36.9,2,    0.01,2,   2.596,2,-999.0000,9,-999.0000,9,-999.0000,9,  2287.0,2,  2363.0,2,   7.5262,2,    25.00, -999.00,9,  -999.0,9,  -999.0,-999.0000,9, -999.00,9,    38.2,2,   39.00,2, -999.00,9,     -999.0,9, -999.00,9,  -999.0,9,     -999.0,     -999.0,9,     -999.0,9,     -999.0,     -999.0,9,     -999.0,     -999.0,9,     -999.0,     -999.0,     -999.0,9,     -999.0,9,     -999.0,9,     -999.0,9,     -999.0,9,     -999.0,9,     -999.0,9,     -999.0,9
33RO20161119,        P18,     117,          2,         10,      11109,2,20170101,       0904,   -24.4999,  -102.3335,       3642,  1220.2,   3.4177,  34.5333,2,  34.5339,2,    128.2,2,   127.4,2,    82.1,2,    37.3,2,    0.01,2,   2.619,2,-999.0000,9,-999.0000,9,-999.0000,9,  2281.4,2,  2352.8,2,   7.5181,2,    25.00, -999.00,9,  -999.0,9,  -999.0,-999.0000,9, -999.00,9,    38.7,2,   38.30,2, -999.00,9,     -999.0,9, -999.00,9,    -519,2,          5,      -21.4,2,     -999.0,9,     -999.0,     -999.0,9,     -999.0,     -999.0,9,     -999.0,     -999.0,     -999.0,9,     -999.0,9,     -999.0,9,     -999.0,9,     -999.0,9,     -999.0,9,     -999.0,9,     -999.0,9
33RO20161119,        P18,     117,          2,         11,      11110,2,20170101,       0904,   -24.4999,  -102.3335,       3642,  1090.6,   3.7880,  34.5036,2,  34.5060,2,    123.8,2,   124.9,2,    72.5,2,    37.5,2,    0.01,2,   2.635,2,-999.0000,9,-999.0000,9,-999.0000,9,  2273.3,2,  2343.3,2,   7.5100,2,    25.00, -999.00,9,  -999.0,9,  -999.0,-999.0000,9, -999.00,9,    38.5,2,   41.10,2, -999.00,9,     -999.0,9, -999.00,9,  -999.0,9,     -999.0,     -999.0,9,     -999.0,9,     -999.0,     -999.0,9,     -999.0,     -999.0,9,     -999.0,     -999.0,     -999.0,9,     -999.0,9,     -999.0,9,     -999.0,9,     -999.0,9,     -999.0,9,     -999.0,9,     -999.0,9
33RO20161119,        P18,     117,          2,         12,      11111,2,20170101,       0904,   -24.4999,  -102.3335,       3642,   969.7,   4.1144,  34.4556,2,  34.4660,3,    125.7,2,   161.3,4,    60.3,2,    37.6,2,    0.01,2,   2.630,2,   0.0485,6,   0.0256,6,   0.0417,6,  2261.3,2,  2328.4,2,   7.5046,2,    25.00, -999.00,9,  -999.0,9,  -999.0,   0.7364,2, -999.00,9,    41.2,2,   39.90,2, -999.00,9,    28.9769,2, -999.00,9,  -999.0,9,     -999.0,     -999.0,9,     -999.0,9,     -999.0,     -999.0,9,     -999.0,     -999.0,9,     -999.0,     -999.0,     -999.0,9,     -999.0,9,     -999.0,9,     -999.0,9,     -999.0,9,     -999.0,9,     -999.0,9,     -999.0,9
33RO20161119,        P18,     117,          2,         13,      11112,2,20170101,       0904,   -24.4999,  -102.3335,       3642,   850.3,   4.6269,  34.3955,2,  34.3980,2,    132.7,2,   132.4,2,    44.1,2,    36.9,2,    0.01,2,   2.572,2,-999.0000,9,-999.0000,9,-999.0000,9,  2244.0,2,  2310.6,2,   7.3398,4,    25.00, -999.00,9,  -999.0,9,  -999.0,-999.0000,9, -999.00,9,    38.5,2,   37.70,2, -999.00,9,     -999.0,9, -999.00,9,  -999.0,9,     -999.0,     -999.0,9,     -999.0,9,     -999.0,     -999.0,9,     -999.0,     -999.0,9,     -999.0,     -999.0,     -999.0,9,     -999.0,9,     -999.0,9,     -999.0,9,     -999.0,9,     -999.0,9,     -999.0,9,     -999.0,9
33RO20161119,        P18,     117,          2,         14,      11113,2,20170101,       0904,   -24.4999,  -102.3335,       3642,   735.2,   5.1757,  34.3455,2,  34.3466,2,    157.7,2,   156.5,2,    29.5,2,    33.8,2,    0.01,2,   2.372,2,   1.0893,2,   0.5320,2,   0.1901,2,  2217.5,2,  2294.4,2,   7.7705,4,    25.00, -999.00,9,  -999.0,9,  -999.0,    1.557,2, -999.00,9,    41.4,2,   35.10,2, -999.00,9,    29.2952,2, -999.00,9,  -999.0,9,     -999.0,     -999.0,9,     -999.0,9,     -999.0,     -999.0,9,     -999.0,     -999.0,9,     -999.0,     -999.0,     -999.0,9,     -999.0,9,     -999.0,9,     -999.0,9,     -999.0,9,     -999.0,9,     -999.0,9,     -999.0,9
33RO20161119,        P18,     117,          2,         15,      11114,2,20170101,       0904,   -24.4999,  -102.3335,       3642,   626.7,   5.7258,  34.3164,2,  34.3160,2,    182.4,2,   181.3,2,    18.6,2,    30.6,2,    0.01,2,   2.150,2,-999.0000,9,-999.0000,9,-999.0000,9,  2193.3,2,  2284.4,6,   7.5868,2,    25.00, -999.00,9,  -999.0,9,  -999.0,-999.0000,9, -999.00,9,    40.3,2,   31.70,2, -999.00,9,     -999.0,9, -999.00,9,  -999.0,9,     -999.0,     -999.0,9,     -999.0,9,     -999.0,     -999.0,9,     -999.0,     -999.0,9,     -999.0,     -999.0,     -999.0,9,     -999.0,9,     -999.0,9,     -999.0,9,     -999.0,9,     -999.0,9,     -999.0,9,     -999.0,9
33RO20161119,        P18,     117,          2,         16,      11115,2,20170101,       0904,   -24.4999,  -102.3335,       3642,   519.9,   6.6633,  34.3571,2,  34.3563,2,    156.6,2,   155.1,4,    16.6,2,    30.7,2,    0.01,2,   2.196,2,   2.3741,2,   1.1811,2,   0.4589,2,  2202.3,6,  2283.1,2,   7.5466,2,    25.00, -999.00,9,  -999.0,9,  -999.0,   1.6855,2, -999.00,9,    41.9,2,   31.40,2, -999.00,9,    31.3782,2, -999.00,9,  -999.0,9,     -999.0,     -999.0,9,     -999.0,9,     -999.0,     -999.0,9,     -999.0,     -999.0,9,     -999.0,     -999.0,     -999.0,9,     -999.0,9,     -999.0,9,     -999.0,9,     -999.0,9,     -999.0,9,     -999.0,9,     -999.0,9
33RO20161119,        P18,     117,          2,         17,      11116,2,20170101,       0904,   -24.4999,  -102.3335,       3642,   425.5,   8.0773,  34.4008,2,  34.3976,2,    132.5,2,   116.2,2,    15.9,2,    29.8,2,    0.01,2,   2.275,2,-999.0000,9,-999.0000,9,-999.0000,9,  2218.9,2,  2278.3,2,   7.4952,2,    25.00, -999.00,9,  -999.0,9,  -999.0,-999.0000,9, -999.00,9,    43.2,2,   30.70,2, -999.00,9,     -999.0,9, -999.00,9,  -999.0,9,     -999.0,     -999.0,9,     -999.0,9,     -999.0,     -999.0,9,     -999.0,     -999.0,9,     -999.0,     -999.0,     -999.0,9,     -999.0,9,     -999.0,9,     -999.0,9,     -999.0,9,     -999.0,9,     -999.0,9,     -999.0,9
33RO20161119,        P18,     117,          2,         18,      11117,2,20170101,       0904,   -24.4999,  -102.3335,       3642,   330.6,  10.0099,  34.3125,2,  34.3146,2,    195.4,2,   194.8,2,     4.4,2,    17.7,2,    0.01,2,   1.416,2,   3.3507,3,   1.8465,3,   1.3710,3,  2141.1,2,  2266.8,2,   7.6966,2,    25.00, -999.00,9,  -999.0,9,  -999.0,        0,2, -999.00,9,    44.1,2,   19.50,2, -999.00,9,    22.8844,2, -999.00,9,  -999.0,9,     -999.0,     -999.0,9,     -999.0,9,     -999.0,     -999.0,9,     -999.0,     -999.0,9,     -999.0,     -999.0,     -999.0,9,     -999.0,9,     -999.0,9,     -999.0,9,     -999.0,9,     -999.0,9,     -999.0,9,     -999.0,9
33RO20161119,        P18,     117,          2,         19,      11083,2,20170101,       0904,   -24.4999,  -102.3335,       3642,   249.8,  13.7428,  34.6076,2,  34.6031,2,    201.3,2,   200.3,2,     1.3,2,     8.5,2,    0.01,2,   0.840,2,-999.0000,9,-999.0000,9,-999.0000,9,  2105.1,2,  2284.2,2,   7.8139,2,    25.00, -999.00,9,  -999.0,9,  -999.0,-999.0000,9, -999.00,9,    46.7,2,   11.80,2, -999.00,9,     -999.0,9, -999.00,9,  -999.0,9,     -999.0,     -999.0,9,     -999.0,9,     -999.0,     -999.0,9,     -999.0,     -999.0,9,     -999.0,     -999.0,     -999.0,9,     -999.0,9,     -999.0,9,     -999.0,9,     -999.0,9,     -999.0,9,     -999.0,9,     -999.0,9
33RO20161119,        P18,     117,          2,         20,      11118,2,20170101,       0904,   -24.4999,  -102.3335,       3642,   183.4,  17.5096,  35.1802,2,  35.1796,2,    212.9,2,   213.0,2,     0.5,2,     1.0,2,    0.10,2,   0.360,2,   2.3599,2,   1.4350,2,   1.6158,2,  2083.2,2,  2317.9,2,   7.9236,2,    25.00, -999.00,9,  -999.0,9,  -999.0,        0,2, -999.00,9,    54.5,2,    4.10,2, -999.00,9,     9.0292,2, -999.00,9,    -311,2,          5,      -20.9,2,     -999.0,9,     -999.0,     -999.0,9,     -999.0,     -999.0,9,     -999.0,     -999.0,     -999.0,9,     -999.0,9,     -999.0,9,     -999.0,9,     -999.0,9,     -999.0,9,     -999.0,9,     -999.0,9
33RO20161119,        P18,     117,          2,         21,      11119,2,20170101,       0904,   -24.4999,  -102.3335,       3642,   117.7,  20.0226,  35.6082,2,  35.6128,2,    227.6,2,   228.7,2,     0.4,2,     0.0,2,    0.01,2,   0.181,2,-999.0000,9,-999.0000,9,-999.0000,9,  2070.0,2,  2345.9,2,   7.9895,2,    25.00, -999.00,9,  -999.0,9,  -999.0,-999.0000,9, -999.00,9,    64.1,2,    2.60,2, -999.00,9,     -999.0,9, -999.00,9,  -999.0,9,     -999.0,     -999.0,9,     -999.0,9,     -999.0,     -999.0,9,     -999.0,     -999.0,9,     -999.0,     -999.0,     -999.0,9,     -999.0,9,     -999.0,9,     -999.0,9,     -999.0,9,     -999.0,9,     -999.0,9,     -999.0,9
33RO20161119,        P18,     117,          2,         22,      11120,2,20170101,       0904,   -24.4999,  -102.3335,       3642,    61.0,  22.5649,  36.0290,2,  36.0233,2,    221.1,2,   222.3,2,     0.4,2,     0.0,2,    0.01,2,   0.222,2,   1.9168,2,   1.1875,2,   1.5384,2,  2084.2,2,  2378.0,2,   8.0082,6,    25.00, -999.00,9,  -999.0,9,  -999.0,   0.0079,2, -999.00,9,    66.1,2,    3.30,2, -999.00,9,     7.1543,2, -999.00,9,  -999.0,9,     -999.0,     -999.0,9,     -999.0,9,     -999.0,     -999.0,9,     -999.0,     -999.0,9,     -999.0,     -999.0,     -999.0,9,     -999.0,9,     -999.0,9,     -999.0,9,     -999.0,9,     -999.0,9,     -999.0,9,     -999.0,9
33RO20161119,        P18,     117,          2,         23,      11121,2,20170101,       0904,   -24.4999,  -102.3335,       3642,    26.7,  24.1262,  36.1619,2,  36.1674,2,    210.8,2,   212.8,6,     0.4,2,     0.0,2,    0.01,2,   0.225,2,-999.0000,9,-999.0000,9,-999.0000,9,  2092.6,6,  2388.0,2,   8.0080,2,    25.00, -999.00,9,  -999.0,9,  -999.0,-999.0000,9, -999.00,9,    66.6,2,    2.90,2, -999.00,9,     -999.0,9, -999.00,9,  -999.0,9,     -999.0,     -999.0,9,     -999.0,9,     -999.0,     -999.0,9,     -999.0,     -999.0,9,     -999.0,     -999.0,     -999.0,9,     -999.0,9,     -999.0,9,     -999.0,9,     -999.0,9,     -999.0,9,     -999.0,9,     -999.0,9
33RO20161119,        P18,     117,          2,         24,      11122,2,20170101,       0904,   -24.4999,  -102.3335,       3642,     3.0,  24.3057,  36.1639,2,  36.1635,2,    209.7,2,   210.8,2,     0.4,2,     0.0,2,    0.01,2,   0.232,2,   1.7630,2,   1.1007,2,   1.4895,2,  2091.1,2,  2384.9,6,   8.0088,2,    25.00, -999.00,9,  -999.0,9,  -999.0,        0,2, -999.00,9,    68.3,2,    2.90,2, -999.00,9,     6.6829,2, -999.00,9,  -999.0,9,     -999.0,     -999.0,9,     -999.0,9,     -999.0,     -999.0,9,     -999.0,     -999.0,9,     -999.0,     -999.0,     -999.0,9,     -999.0,9,     -999.0,9,     -999.0,9,     -999.0,9,     -999.0,9,     -999.0,9,     -999.0,9