BOTTLE,20230606CCHSIOCBG
EXPOCODE,SECT_ID,STNNBR,CASTNO,SAMPNO,BTLNBR,BTLNBR_FLAG_W,DATE,TIME,LATITUDE,LONGITUDE,DEPTH,CTDPRS,CTDTMP,CTDSAL,CTDSAL_FLAG_W,SALNTY,SALNTY_FLAG_W,CTDOXY,CTDOXY_FLAG_W,OXYGEN,OXYGEN_FLAG_W,SILCAT,SILCAT_FLAG_W,NITRAT,NITRAT_FLAG_W,NITRIT,NITRIT_FLAG_W,PHSPHT,PHSPHT_FLAG_W,CFC-11,CFC-11_FLAG_W,CFC-12,CFC-12_FLAG_W,SF6,SF6_FLAG_W,TCARBN,TCARBN_FLAG_W,ALKALI,ALKALI_FLAG_W,PH_SWS,PH_SWS_FLAG_W,PH_TMP,DELC13,DELC13_FLAG_W,DELC14,DELC14_FLAG_W,C14ERR,CCL4,CCL4_FLAG_W,POC,POC_FLAG_W,DOC,DOC_FLAG_W,TDN,TDN_FLAG_W,PON,PON_FLAG_W,N2O,N2O_FLAG_W,D15N_NO3,D15N_NO3_FLAG_W,14C-DOC,14C-DOC_FLAG_W,14C-DOCERR,13C-DOC,13C-DOC_FLAG_W,N2/ARGON_UNSTRIPPED,N2/ARGON_UNSTRIPPED_FLAG_W,N2/ARGON_UNSTRIPPED_ERROR,N2/ARGON,N2/ARGON_FLAG_W,N2/ARGON_ERROR,D15N_N2,D15N_N2_FLAG_W,D15N_N2_ERROR,D15N_NO3_ERROR,D15N_NO2+NO3,D15N_NO2+NO3_FLAG_W,D18O_NO2+NO3,D18O_NO2+NO3_FLAG_W,D18O_NO3,D18O_NO3_FLAG_W,TDP,TDP_FLAG_W,N2O_ALT_1,N2O_ALT_1_FLAG_W,D15N_N2O,D15N_N2O_FLAG_W,D18O_N2O,D18O_N2O_FLAG_W,D15N_ALPHA_N2O,D15N_ALPHA_N2O_FLAG_W
,,,,,,,,,,,METERS,DBAR,ITS-90,PSS-78,,PSS-78,,UMOL/KG,,UMOL/KG,,UMOL/KG,,UMOL/KG,,UMOL/KG,,UMOL/KG,,PMOL/KG,,PMOL/KG,,FMOL/KG,,UMOL/KG,,UMOL/KG,,,,DEG C,/MILLE,,/MILLE,,/MILLE,PMOL/KG,,UG/KG,,UMOL/KG,,UMOL/KG,,UG/KG,,NMOL/KG,,/MILLE,,/MILLE,,/MILLE,/MILLE,,,,,,,,/MILLE,,/MILLE,/MILLE,/MILLE,,/MILLE,,/MILLE,,UMOL/KG,,NMOL/L,,/MILLE,,/MILLE,,/MILLE,
33RO20161119,        P18,      73,          1,          1,      11010,2,20161211,       0130,    -5.5901,  -109.1799,       3444,  3471.8,   1.6068,  34.6843,2,  34.6844,2,    148.1,2,   147.7,2,   141.9,6,    36.2,6,    0.00,6,   2.484,6,   0.0017,2,   0.0008,2,   0.0000,2,  2330.9,6,  2427.4,2,   7.5793,2,    25.00, -999.00,9,  -999.0,9,  -999.0,    0.011,2, -999.00,9,    36.7,2,   38.80,2, -999.00,9,    20.5583,2, -999.00,9,  -999.0,9,     -999.0,     -999.0,9,     -999.0,9,     -999.0,     -999.0,9,     -999.0,     -999.0,9,     -999.0,     -999.0,     -999.0,9,     -999.0,9,     -999.0,9,     -999.0,9,     -999.0,9,     -999.0,9,     -999.0,9,     -999.0,9
33RO20161119,        P18,      73,          1,          2,      11101,2,20161211,       0130,    -5.5901,  -109.1799,       3444,  3219.5,   1.6422,  34.6812,2,  34.6821,2,    143.7,2,   143.4,2,   142.3,6,    36.5,6,    0.00,6,   2.504,6,   0.0035,2,   0.0028,2,   0.0348,2,  2331.5,2,  2425.6,2,   7.5820,2,    25.00, -999.00,9,  -999.0,9,  -999.0,        0,2, -999.00,9,    36.9,2,   38.50,2, -999.00,9,    20.7531,2, -999.00,9,  -999.0,9,     -999.0,     -999.0,9,     -999.0,9,     -999.0,     -999.0,9,     -999.0,     -999.0,9,     -999.0,     -999.0,     -999.0,9,     -999.0,9,     -999.0,9,     -999.0,9,     -999.0,9,     -999.0,9,     -999.0,9,     -999.0,9
33RO20161119,        P18,      73,          1,          3,      11102,2,20161211,       0130,    -5.5901,  -109.1799,       3444,  3029.8,   1.6958,  34.6780,2,  34.6938,4,    138.9,2,   138.9,2,   142.2,6,    36.8,6,    0.00,6,   2.530,6,   0.0024,2,   0.0014,2,   0.0238,2,  2333.6,2,  2424.2,2,   7.5685,2,    25.00, -999.00,9,  -999.0,9,  -999.0,        0,2, -999.00,9,    38.9,2,   38.40,2, -999.00,9,    21.1665,2, -999.00,9,  -999.0,9,     -999.0,     -999.0,9,     -999.0,9,     -999.0,     -999.0,9,     -999.0,     -999.0,9,     -999.0,     -999.0,     -999.0,9,     -999.0,9,     -999.0,9,     -999.0,9,     -999.0,9,     -999.0,9,     -999.0,9,     -999.0,9
33RO20161119,        P18,      73,          1,          4,      11103,2,20161211,       0130,    -5.5901,  -109.1799,       3444,  2791.1,   1.7771,  34.6727,2,  34.6767,2,    132.4,2,   131.9,2,   141.9,6,    37.1,6,    0.00,6,   2.562,6,   0.0017,2,   0.0016,2,   0.0000,2,  2338.2,2,  2427.0,2,   7.5567,2,    25.00, -999.00,9,  -999.0,9,  -999.0,        0,2, -999.00,9,    38.9,2,   39.70,2, -999.00,9,    21.9009,2, -999.00,9,  -999.0,9,     -999.0,     -999.0,9,     -999.0,9,     -999.0,     -999.0,9,     -999.0,     -999.0,9,     -999.0,     -999.0,     -999.0,9,     -999.0,9,     -999.0,9,     -999.0,9,     -999.0,9,     -999.0,9,     -999.0,9,     -999.0,9
33RO20161119,        P18,      73,          1,          5,      11104,2,20161211,       0130,    -5.5901,  -109.1799,       3444,  2519.8,   1.8957,  34.6644,2,  34.6648,2,    124.5,2,   124.0,2,   140.6,2,    37.7,2,    0.00,2,   2.614,2,   0.0013,2,   0.0013,2,   0.0418,2,  2341.0,2,  2422.4,2,   7.5356,2,    25.00, -999.00,9,  -999.0,9,  -999.0,        0,2, -999.00,9,    39.4,2,   39.90,2, -999.00,9,    22.8337,2, -999.00,9,  -999.0,9,     -999.0,     -999.0,9,     -999.0,9,     -999.0,     -999.0,9,     -999.0,     -999.0,9,     -999.0,     -999.0,     -999.0,9,     -999.0,9,     -999.0,9,     -999.0,9,     -999.0,9,     -999.0,9,     -999.0,9,     -999.0,9
33RO20161119,        P18,      73,          1,          6,      11105,2,20161211,       0130,    -5.5901,  -109.1799,       3444,  2224.9,   2.0754,  34.6536,2,  34.6545,2,    116.7,2,   116.4,2,   137.1,2,    38.1,2,    0.00,2,   2.661,2,   0.0015,2,   0.0008,2,   0.0000,2,  2342.3,6,  2414.8,2,   7.5226,2,    25.00, -999.00,9,  -999.0,9,  -999.0,        0,2, -999.00,9,    38.4,2,   40.50,2, -999.00,9,    23.8509,2, -999.00,9,  -999.0,9,     -999.0,     -999.0,9,     -999.0,9,     -999.0,     -999.0,9,     -999.0,     -999.0,9,     -999.0,     -999.0,     -999.0,9,     -999.0,9,     -999.0,9,     -999.0,9,     -999.0,9,     -999.0,9,     -999.0,9,     -999.0,9
33RO20161119,        P18,      73,          1,          7,      11106,2,20161211,       0130,    -5.5901,  -109.1799,       3444,  1965.6,   2.3090,  34.6384,2,  34.6409,2,    112.0,2,   111.7,2,   130.6,2,    38.4,2,    0.00,2,   2.688,2,   0.0018,2,   0.0008,2,   0.0000,2,  2336.0,2,  2407.5,2,   7.5090,2,    25.00, -999.00,9,  -999.0,9,  -999.0,   0.0103,2, -999.00,9,    37.7,2,   42.80,2, -999.00,9,     25.233,2, -999.00,9,  -999.0,9,     -999.0,     -999.0,9,     -999.0,9,     -999.0,     -999.0,9,     -999.0,     -999.0,9,     -999.0,     -999.0,     -999.0,9,     -999.0,9,     -999.0,9,     -999.0,9,     -999.0,9,     -999.0,9,     -999.0,9,     -999.0,9
33RO20161119,        P18,      73,          1,          8,      11107,2,20161211,       0130,    -5.5901,  -109.1799,       3444,  1709.5,   2.6100,  34.6222,2,  34.6240,2,    103.7,2,   103.8,2,   124.6,2,    39.0,2,    0.00,2,   2.750,2,   0.0016,2,   0.0005,2,   0.0000,2,  2334.2,2,  2398.4,2,   7.4961,2,    25.00, -999.00,9,  -999.0,9,  -999.0,        0,2, -999.00,9,    39.3,2,   44.00,2, -999.00,9,    26.7616,2, -999.00,9,  -999.0,9,     -999.0,     -999.0,9,     -999.0,9,     -999.0,     -999.0,9,     -999.0,     -999.0,9,     -999.0,     -999.0,     -999.0,9,     -999.0,9,     -999.0,9,     -999.0,9,     -999.0,9,     -999.0,9,     -999.0,9,     -999.0,9
33RO20161119,        P18,      73,          1,          9,      11108,2,20161211,       0130,    -5.5901,  -109.1799,       3444,  1410.4,   3.1320,  34.5957,2,  34.5961,2,     95.5,2,    94.7,6,   111.2,2,    39.6,2,    0.00,2,   2.803,2,   0.0020,2,   0.0015,2,   0.0000,2,  2326.1,2,  2390.3,2,   7.4781,2,    25.00, -999.00,9,  -999.0,9,  -999.0,   0.0092,2, -999.00,9,    38.6,2,   44.30,2, -999.00,9,    29.4578,2, -999.00,9,  -999.0,9,     -999.0,     -999.0,9,     -999.0,9,     -999.0,     -999.0,9,     -999.0,     -999.0,9,     -999.0,     -999.0,     -999.0,9,     -999.0,9,     -999.0,9,     -999.0,9,     -999.0,9,     -999.0,9,     -999.0,9,     -999.0,9
33RO20161119,        P18,      73,          1,         10,      11109,2,20161211,       0130,    -5.5901,  -109.1799,       3444,  1210.5,   3.6334,  34.5725,2,  34.5768,2,     95.3,2,    94.5,2,    97.4,2,    39.4,2,    0.00,2,   2.786,2,   0.0039,2,   0.0020,2,   0.0000,2,  2310.5,2,  2371.4,2,   7.4764,2,    25.00, -999.00,9,  -999.0,9,  -999.0,        0,2, -999.00,9,    37.7,2,   45.40,2, -999.00,9,    30.7603,2, -999.00,9,  -999.0,9,     -999.0,     -999.0,9,     -999.0,9,     -999.0,     -999.0,9,     -999.0,     -999.0,9,     -999.0,     -999.0,     -999.0,9,     -999.0,9,     -999.0,9,     -999.0,9,     -999.0,9,     -999.0,9,     -999.0,9,     -999.0,9
33RO20161119,        P18,      73,          1,         11,      11110,2,20161211,       0130,    -5.5901,  -109.1799,       3444,  1090.7,   4.0759,  34.5551,2,  34.5560,2,     88.8,2,    88.0,2,    86.2,2,    39.9,2,    0.00,2,   2.826,2,   0.0032,6,   0.0025,6,   0.0115,6,  2301.9,2,  2358.2,2,   7.4634,2,    25.00, -999.00,9,  -999.0,9,  -999.0,        0,2, -999.00,9,    42.4,2,   44.90,2, -999.00,9,    31.9969,2, -999.00,9,  -999.0,9,     -999.0,     -999.0,9,     -999.0,9,     -999.0,     -999.0,9,     -999.0,     -999.0,9,     -999.0,     -999.0,     -999.0,9,     -999.0,9,     -999.0,9,     -999.0,9,     -999.0,9,     -999.0,9,     -999.0,9,     -999.0,9
33RO20161119,        P18,      73,          1,         12,      11111,2,20161211,       0130,    -5.5901,  -109.1799,       3444,   965.0,   4.6303,  34.5444,2,  34.5466,2,     76.0,2,    75.8,2,    76.2,2,    40.7,2,    0.00,2,   2.881,2,   0.0044,2,   0.0036,2,   0.0000,2,  2297.2,2,  2343.5,2,   7.4407,2,    25.00, -999.00,9,  -999.0,9,  -999.0,   0.0106,2, -999.00,9,    38.4,2,   46.10,2, -999.00,9,    35.0591,2, -999.00,9,  -999.0,9,     -999.0,     -999.0,9,     -999.0,9,     -999.0,     -999.0,9,     -999.0,     -999.0,9,     -999.0,     -999.0,     -999.0,9,     -999.0,9,     -999.0,9,     -999.0,9,     -999.0,9,     -999.0,9,     -999.0,9,     -999.0,9
33RO20161119,        P18,      73,          1,         13,      11112,2,20161211,       0130,    -5.5901,  -109.1799,       3444,   855.3,   5.2344,  34.5417,2,  34.5428,2,     65.3,2,    65.1,2,    66.6,2,    41.4,2,    0.00,2,   2.895,2,   0.0090,2,   0.0050,2,   0.0000,2,  2292.5,2,  2333.3,2,   7.4237,2,    25.00, -999.00,9,  -999.0,9,  -999.0,   0.0145,2, -999.00,9,    39.5,2,   46.80,2, -999.00,9,    38.4077,2, -999.00,9,  -999.0,9,     -999.0,     -999.0,9,     -999.0,9,     -999.0,     -999.0,9,     -999.0,     -999.0,9,     -999.0,     -999.0,     -999.0,9,     -999.0,9,     -999.0,9,     -999.0,9,     -999.0,9,     -999.0,9,     -999.0,9,     -999.0,9
33RO20161119,        P18,      73,          1,         14,      11113,2,20161211,       0130,    -5.5901,  -109.1799,       3444,   745.2,   6.1184,  34.5564,2,  34.5595,2,     40.5,2,    40.2,2,    56.7,2,    42.8,2,    0.00,2,   2.955,2,   0.0213,2,   0.0125,2,   0.0000,2,  2293.4,2,  2320.0,2,   7.3828,2,    25.00, -999.00,9,  -999.0,9,  -999.0,   0.0159,2, -999.00,9,    42.5,2,   48.30,2, -999.00,9,    47.5452,2, -999.00,9,  -999.0,9,     -999.0,     -999.0,9,     -999.0,9,     -999.0,     -999.0,9,     -999.0,     -999.0,9,     -999.0,     -999.0,     -999.0,9,     -999.0,9,     -999.0,9,     -999.0,9,     -999.0,9,     -999.0,9,     -999.0,9,     -999.0,9
33RO20161119,        P18,      73,          1,         15,      11114,2,20161211,       0130,    -5.5901,  -109.1799,       3444,   639.7,   7.1489,  34.5903,2,  34.5895,2,     14.2,2,    13.5,2,    47.9,2,    43.6,2,    0.00,2,   3.022,2,   0.0268,2,   0.0158,2,   0.0281,2,  2294.1,2,  2313.2,2,   7.3431,2,    25.00, -999.00,9,  -999.0,9,  -999.0,   0.0131,2, -999.00,9,    41.2,2,   48.60,2, -999.00,9,    64.0865,2, -999.00,9,  -999.0,9,     -999.0,     -999.0,9,     -999.0,9,     -999.0,     -999.0,9,     -999.0,     -999.0,9,     -999.0,     -999.0,     -999.0,9,     -999.0,9,     -999.0,9,     -999.0,9,     -999.0,9,     -999.0,9,     -999.0,9,     -999.0,9
33RO20161119,        P18,      73,          1,         16,      11115,2,20161211,       0130,    -5.5901,  -109.1799,       3444,   535.1,   8.6512,  34.6619,2,  34.6639,2,      6.0,2,     6.8,2,    39.1,2,    39.7,2,    0.00,2,   2.856,2,   0.0994,2,   0.0568,2,   0.0536,2,  2286.3,2,  2306.0,6,   7.3500,2,    25.00, -999.00,9,  -999.0,9,  -999.0,   0.0338,2, -999.00,9,    44.5,2,   45.90,2, -999.00,9,    77.1008,2, -999.00,9,  -999.0,9,     -999.0,     -999.0,9,     -999.0,9,     -999.0,     -999.0,9,     -999.0,     -999.0,9,     -999.0,     -999.0,     -999.0,9,     -999.0,9,     -999.0,9,     -999.0,9,     -999.0,9,     -999.0,9,     -999.0,9,     -999.0,9
33RO20161119,        P18,      73,          1,         17,      11116,2,20161211,       0130,    -5.5901,  -109.1799,       3444,   461.0,   9.5969,  34.7173,2,  34.7248,2,      5.6,2,     7.3,6,    35.1,2,    36.6,2,    0.00,2,   2.719,2,   0.2484,2,   0.1410,2,   0.0657,2,  2280.4,2,  2307.4,2,   7.3719,6,    25.00, -999.00,9,  -999.0,9,  -999.0,   0.0723,2, -999.00,9,    44.7,2,   42.60,2, -999.00,9,    72.3612,2, -999.00,9,  -999.0,9,     -999.0,     -999.0,9,     -999.0,9,     -999.0,     -999.0,9,     -999.0,     -999.0,9,     -999.0,     -999.0,     -999.0,9,     -999.0,9,     -999.0,9,     -999.0,9,     -999.0,9,     -999.0,9,     -999.0,9,     -999.0,9
33RO20161119,        P18,      73,          1,         18,      11117,2,20161211,       0130,    -5.5901,  -109.1799,       3444,   350.4,  11.3735,  34.8289,2,  34.8270,2,     25.4,2,    23.7,2,    26.6,2,    32.1,2,    0.01,2,   2.364,2,   0.7945,2,   0.4431,2,   0.2139,2,  2251.9,2,  2303.0,2,   7.4475,2,    25.00, -999.00,9,  -999.0,9,  -999.0,   0.0637,2, -999.00,9,    44.3,2,   36.10,2, -999.00,9,    66.9255,2, -999.00,9,  -999.0,9,     -999.0,     -999.0,9,     -999.0,9,     -999.0,     -999.0,9,     -999.0,     -999.0,9,     -999.0,     -999.0,     -999.0,9,     -999.0,9,     -999.0,9,     -999.0,9,     -999.0,9,     -999.0,9,     -999.0,9,     -999.0,9
33RO20161119,        P18,      73,          1,         19,      11083,2,20161211,       0130,    -5.5901,  -109.1799,       3444,   270.0,  12.4615,  34.8934,2,  34.9094,3,     14.9,2,    15.3,2,    23.9,2,    32.0,2,    0.00,2,   2.301,2,   1.0684,6,   0.5972,6,   0.2718,6,  2246.7,2,  2301.0,2,   7.4552,2,    25.00, -999.00,9,  -999.0,9,  -999.0,   0.0649,2, -999.00,9,    46.7,2,   32.80,2, -999.00,9,    76.2105,2, -999.00,9,  -999.0,9,     -999.0,     -999.0,9,     -999.0,9,     -999.0,     -999.0,9,     -999.0,     -999.0,9,     -999.0,     -999.0,     -999.0,9,     -999.0,9,     -999.0,9,     -999.0,9,     -999.0,9,     -999.0,9,     -999.0,9,     -999.0,9
33RO20161119,        P18,      73,          1,         20,      11118,2,20161211,       0130,    -5.5901,  -109.1799,       3444,   195.7,  13.0407,  34.9312,2,  34.9395,2,     11.7,2,    10.3,2,    22.3,2,    31.8,2,    0.01,2,   2.307,2,   1.2292,2,   0.6907,2,   0.3390,2,  2247.5,2,  2299.6,2,   7.4553,2,    25.00, -999.00,9,  -999.0,9,  -999.0,    0.101,2, -999.00,9,    51.3,2,   35.70,2, -999.00,9,    78.0122,2, -999.00,9,  -999.0,9,     -999.0,     -999.0,9,     -999.0,9,     -999.0,     -999.0,9,     -999.0,     -999.0,9,     -999.0,     -999.0,     -999.0,9,     -999.0,9,     -999.0,9,       2.39,2,     -999.0,9,     -999.0,9,     -999.0,9,     -999.0,9
33RO20161119,        P18,      73,          1,         21,      11119,2,20161211,       0130,    -5.5901,  -109.1799,       3444,   135.6,  13.6235,  34.9600,2,  34.9665,2,     47.6,2,    44.0,3,    19.0,2,    27.8,2,    0.02,2,   1.995,2,   1.4923,2,   0.8457,2,   0.4976,2,  2216.6,2,  2304.3,2,   7.5503,2,    25.00, -999.00,9,  -999.0,9,  -999.0,   1.1362,2, -999.00,9,    45.5,2,   31.40,2, -999.00,9,    55.5227,2, -999.00,9,  -999.0,9,     -999.0,     -999.0,9,     -999.0,9,     -999.0,     -999.0,9,     -999.0,     -999.0,9,     -999.0,     -999.0,     -999.0,9,     -999.0,9,     -999.0,9,       2.11,2,     -999.0,9,     -999.0,9,     -999.0,9,     -999.0,9
33RO20161119,        P18,      73,          1,         22,      11120,2,20161211,       0130,    -5.5901,  -109.1799,       3444,    70.2,  22.9435,  35.3299,2,  35.2955,2,    199.3,2,   175.8,3,     5.0,2,    10.1,2,    0.23,2,   1.021,2,   1.7805,2,   1.0926,2,   1.2620,2,  2099.7,2,  2325.9,6,   7.8907,2,    25.00, -999.00,9,  -999.0,9,  -999.0,   1.7125,2, -999.00,9,    59.6,2,   14.70,2, -999.00,9,    17.3915,2, -999.00,9,  -999.0,9,     -999.0,     -999.0,9,     -999.0,9,     -999.0,     -999.0,9,     -999.0,     -999.0,9,     -999.0,     -999.0,     -999.0,9,     -999.0,9,     -999.0,9,     -999.0,9,     -999.0,9,     -999.0,9,     -999.0,9,     -999.0,9
33RO20161119,        P18,      73,          1,         23,      11121,2,20161211,       0130,    -5.5901,  -109.1799,       3444,    30.2,  24.2613,  35.2014,2,  35.2066,2,    210.2,2,   209.4,2,     2.4,2,     7.0,2,    0.15,2,   0.733,2,   1.7324,2,   1.0921,2,   1.4634,2,  2062.7,2,  2321.6,2,   7.9556,2,    25.00, -999.00,9,  -999.0,9,  -999.0,   1.5413,2, -999.00,9,    58.2,2,   11.20,2, -999.00,9,     7.6747,2, -999.00,9,  -999.0,9,     -999.0,     -999.0,9,     -999.0,9,     -999.0,     -999.0,9,     -999.0,     -999.0,9,     -999.0,     -999.0,     -999.0,9,     -999.0,9,     -999.0,9,       1.03,2,     -999.0,9,     -999.0,9,     -999.0,9,     -999.0,9
33RO20161119,        P18,      73,          1,         24,      11122,2,20161211,       0130,    -5.5901,  -109.1799,       3444,     4.5,  24.4231,  35.1807,2,  35.1925,2,    210.0,2,   210.1,2,     2.2,2,     7.0,2,    0.15,2,   0.721,2,   1.7251,2,   1.0877,2,   1.4425,2,  2060.2,6,  2323.3,2,   7.9611,2,    25.00, -999.00,9,  -999.0,9,  -999.0,        0,2, -999.00,9,    59.9,2,   10.10,2, -999.00,9,     7.2609,2, -999.00,9,  -999.0,9,     -999.0,     -999.0,9,     -999.0,9,     -999.0,     -999.0,9,     -999.0,     -999.0,9,     -999.0,     -999.0,     -999.0,9,     -999.0,9,     -999.0,9,       1.14,2,     -999.0,9,     -999.0,9,     -999.0,9,     -999.0,9