BOTTLE,20230606CCHSIOCBG
EXPOCODE,SECT_ID,STNNBR,CASTNO,SAMPNO,BTLNBR,BTLNBR_FLAG_W,DATE,TIME,LATITUDE,LONGITUDE,DEPTH,CTDPRS,CTDTMP,CTDSAL,CTDSAL_FLAG_W,SALNTY,SALNTY_FLAG_W,CTDOXY,CTDOXY_FLAG_W,OXYGEN,OXYGEN_FLAG_W,SILCAT,SILCAT_FLAG_W,NITRAT,NITRAT_FLAG_W,NITRIT,NITRIT_FLAG_W,PHSPHT,PHSPHT_FLAG_W,CFC-11,CFC-11_FLAG_W,CFC-12,CFC-12_FLAG_W,SF6,SF6_FLAG_W,TCARBN,TCARBN_FLAG_W,ALKALI,ALKALI_FLAG_W,PH_SWS,PH_SWS_FLAG_W,PH_TMP,DELC13,DELC13_FLAG_W,DELC14,DELC14_FLAG_W,C14ERR,CCL4,CCL4_FLAG_W,POC,POC_FLAG_W,DOC,DOC_FLAG_W,TDN,TDN_FLAG_W,PON,PON_FLAG_W,N2O,N2O_FLAG_W,D15N_NO3,D15N_NO3_FLAG_W,14C-DOC,14C-DOC_FLAG_W,14C-DOCERR,13C-DOC,13C-DOC_FLAG_W,N2/ARGON_UNSTRIPPED,N2/ARGON_UNSTRIPPED_FLAG_W,N2/ARGON_UNSTRIPPED_ERROR,N2/ARGON,N2/ARGON_FLAG_W,N2/ARGON_ERROR,D15N_N2,D15N_N2_FLAG_W,D15N_N2_ERROR,D15N_NO3_ERROR,D15N_NO2+NO3,D15N_NO2+NO3_FLAG_W,D18O_NO2+NO3,D18O_NO2+NO3_FLAG_W,D18O_NO3,D18O_NO3_FLAG_W,TDP,TDP_FLAG_W,N2O_ALT_1,N2O_ALT_1_FLAG_W,D15N_N2O,D15N_N2O_FLAG_W,D18O_N2O,D18O_N2O_FLAG_W,D15N_ALPHA_N2O,D15N_ALPHA_N2O_FLAG_W
,,,,,,,,,,,METERS,DBAR,ITS-90,PSS-78,,PSS-78,,UMOL/KG,,UMOL/KG,,UMOL/KG,,UMOL/KG,,UMOL/KG,,UMOL/KG,,PMOL/KG,,PMOL/KG,,FMOL/KG,,UMOL/KG,,UMOL/KG,,,,DEG C,/MILLE,,/MILLE,,/MILLE,PMOL/KG,,UG/KG,,UMOL/KG,,UMOL/KG,,UG/KG,,NMOL/KG,,/MILLE,,/MILLE,,/MILLE,/MILLE,,,,,,,,/MILLE,,/MILLE,/MILLE,/MILLE,,/MILLE,,/MILLE,,UMOL/KG,,NMOL/L,,/MILLE,,/MILLE,,/MILLE,
33RO20161119,        P18,     132,          1,          1,      11010,2,20170105,       0548,   -32.0001,  -102.9993,       3658,  3695.3,   1.8105,  34.6904,2,  34.6891,2,    166.9,2,   166.7,2,   116.1,6,    34.3,6,    0.01,6,   2.357,6,   0.0016,2,   0.0015,2,   0.0000,2,  2290.6,6,  2388.8,2,   7.5836,2,    25.00, -999.00,9,  -999.0,9,  -999.0,   0.0167,2, -999.00,9,  -999.0,9, -999.00,9, -999.00,9,    21.3214,2, -999.00,9,  -999.0,9,     -999.0,     -999.0,9,     -999.0,9,     -999.0,     -999.0,9,     -999.0,     -999.0,9,     -999.0,     -999.0,     -999.0,9,     -999.0,9,     -999.0,9,     -999.0,9,     -999.0,9,     -999.0,9,     -999.0,9,     -999.0,9
33RO20161119,        P18,     132,          1,          2,      11101,2,20170105,       0548,   -32.0001,  -102.9993,       3658,  3450.5,   1.7849,  34.6904,2,  34.6889,2,    168.0,2,   166.0,2,   116.1,6,    34.3,6,    0.00,6,   2.361,6,   0.0035,2,   0.0024,2,   0.0000,2,  2292.5,2,  2388.4,6,   7.5837,2,    25.00, -999.00,9,  -999.0,9,  -999.0,   0.0181,2, -999.00,9,  -999.0,9, -999.00,9, -999.00,9,    21.1322,2, -999.00,9,  -999.0,9,     -999.0,     -999.0,9,     -999.0,9,     -999.0,     -999.0,9,     -999.0,     -999.0,9,     -999.0,     -999.0,     -999.0,9,     -999.0,9,     -999.0,9,     -999.0,9,     -999.0,9,     -999.0,9,     -999.0,9,     -999.0,9
33RO20161119,        P18,     132,          1,          3,      11102,2,20170105,       0548,   -32.0001,  -102.9993,       3658,  3199.9,   1.7634,  34.6899,2,  34.6916,2,    166.6,2,   167.4,2,   116.1,6,    34.2,6,    0.00,6,   2.363,6,   0.0031,2,   0.0016,2,   0.0000,2,  2291.0,2,  2389.3,2,   7.5819,6,    25.00, -999.00,9,  -999.0,9,  -999.0,   0.0424,2, -999.00,9,  -999.0,9, -999.00,9, -999.00,9,    20.5298,2, -999.00,9,  -999.0,9,     -999.0,     -999.0,9,     -999.0,9,     -999.0,     -999.0,9,     -999.0,     -999.0,9,     -999.0,     -999.0,     -999.0,9,     -999.0,9,     -999.0,9,     -999.0,9,     -999.0,9,     -999.0,9,     -999.0,9,     -999.0,9
33RO20161119,        P18,     132,          1,          4,      11103,2,20170105,       0548,   -32.0001,  -102.9993,       3658,  2926.0,   1.7568,  34.6876,2,  34.6884,2,    166.3,2,   165.8,2,   115.7,6,    34.3,6,    0.00,6,   2.372,6,   0.0032,6,   0.0022,6,   0.0000,6,  2292.9,2,  2387.6,2,   7.5812,2,    25.00, -999.00,9,  -999.0,9,  -999.0,   0.0223,2, -999.00,9,  -999.0,9, -999.00,9, -999.00,9,    20.9163,2, -999.00,9,  -999.0,9,     -999.0,     -999.0,9,     -999.0,9,     -999.0,     -999.0,9,     -999.0,     -999.0,9,     -999.0,     -999.0,     -999.0,9,     -999.0,9,     -999.0,9,     -999.0,9,     -999.0,9,     -999.0,9,     -999.0,9,     -999.0,9
33RO20161119,        P18,     132,          1,          5,      11104,2,20170105,       0548,   -32.0001,  -102.9993,       3658,  2625.1,   1.7866,  34.6825,2,  34.6834,2,    164.6,2,   164.6,6,   114.3,6,    34.3,6,    0.01,6,   2.367,6,   0.0073,2,   0.0027,2,   0.0000,2,  2289.5,2,  2385.0,2,   7.5777,2,    25.00, -999.00,9,  -999.0,9,  -999.0,   0.0936,2, -999.00,9,  -999.0,9, -999.00,9, -999.00,9,    20.8529,2, -999.00,9,  -999.0,9,     -999.0,     -999.0,9,     -999.0,9,     -999.0,     -999.0,9,     -999.0,     -999.0,9,     -999.0,     -999.0,     -999.0,9,     -999.0,9,     -999.0,9,     -999.0,9,     -999.0,9,     -999.0,9,     -999.0,9,     -999.0,9
33RO20161119,        P18,     132,          1,          6,      11105,2,20170105,       0548,   -32.0001,  -102.9993,       3658,  2340.5,   1.8984,  34.6695,2,  34.6720,2,    160.6,2,   160.6,2,   110.9,2,    34.5,2,    0.00,2,   2.385,2,   0.0068,2,   0.0041,2,   0.0000,2,  2289.7,2,  2378.0,2,   7.5688,2,    25.00, -999.00,9,  -999.0,9,  -999.0,   0.3604,2, -999.00,9,  -999.0,9, -999.00,9, -999.00,9,    21.8752,2, -999.00,9,  -999.0,9,     -999.0,     -999.0,9,     -999.0,9,     -999.0,     -999.0,9,     -999.0,     -999.0,9,     -999.0,     -999.0,     -999.0,9,     -999.0,9,     -999.0,9,     -999.0,9,     -999.0,9,     -999.0,9,     -999.0,9,     -999.0,9
33RO20161119,        P18,     132,          1,          7,      11106,2,20170105,       0548,   -32.0001,  -102.9993,       3658,  2039.8,   2.1471,  34.6369,2,  34.6385,2,    154.3,2,   154.5,2,   104.1,2,    35.2,2,    0.01,2,   2.435,2,   0.0126,2,   0.0065,2,   0.0000,2,  2286.0,2,  2370.4,2,   7.5561,2,    25.00, -999.00,9,  -999.0,9,  -999.0,   1.0469,2, -999.00,9,  -999.0,9, -999.00,9, -999.00,9,    22.6813,2, -999.00,9,  -999.0,9,     -999.0,     -999.0,9,     -999.0,9,     -999.0,     -999.0,9,     -999.0,     -999.0,9,     -999.0,     -999.0,     -999.0,9,     -999.0,9,     -999.0,9,     -999.0,9,     -999.0,9,     -999.0,9,     -999.0,9,     -999.0,9
33RO20161119,        P18,     132,          1,          8,      11107,2,20170105,       0548,   -32.0001,  -102.9993,       3658,  1750.2,   2.5398,  34.5890,2,  34.6007,4,    141.5,2,   141.7,2,    95.6,2,    36.4,2,    0.00,2,   2.529,2,   0.0041,2,   0.0021,2,   0.0000,2,  2286.1,2,  2364.3,2,   7.5329,2,    25.00, -999.00,9,  -999.0,9,  -999.0,   1.2954,2, -999.00,9,  -999.0,9, -999.00,9, -999.00,9,    24.9149,2, -999.00,9,  -999.0,9,     -999.0,     -999.0,9,     -999.0,9,     -999.0,     -999.0,9,     -999.0,     -999.0,9,     -999.0,     -999.0,     -999.0,9,     -999.0,9,     -999.0,9,     -999.0,9,     -999.0,9,     -999.0,9,     -999.0,9,     -999.0,9
33RO20161119,        P18,     132,          1,          9,      11108,2,20170105,       0548,   -32.0001,  -102.9993,       3658,  1459.9,   3.0748,  34.5379,2,  34.5380,2,    125.3,2,   124.8,2,    84.4,2,    37.9,2,    0.00,2,   2.646,2,   0.0033,2,   0.0022,2,   0.0000,2,  2285.3,2,  2353.3,2,   7.5017,2,    25.00, -999.00,9,  -999.0,9,  -999.0,   1.6001,2, -999.00,9,  -999.0,9, -999.00,9, -999.00,9,    28.2343,2, -999.00,9,  -999.0,9,     -999.0,     -999.0,9,     -999.0,9,     -999.0,     -999.0,9,     -999.0,     -999.0,9,     -999.0,     -999.0,     -999.0,9,     -999.0,9,     -999.0,9,     -999.0,9,     -999.0,9,     -999.0,9,     -999.0,9,     -999.0,9
33RO20161119,        P18,     132,          1,         10,      11109,2,20170105,       0548,   -32.0001,  -102.9993,       3658,  1269.7,   3.4681,  34.4631,2,  34.4638,2,    131.7,2,   130.2,2,    66.5,2,    37.8,2,    0.00,2,   2.608,2,   0.0280,2,   0.0163,2,   0.0000,2,  2267.3,2,  2331.9,6,   7.5013,2,    25.00, -999.00,9,  -999.0,9,  -999.0,   2.4242,2, -999.00,9,  -999.0,9, -999.00,9, -999.00,9,    28.5028,2, -999.00,9,  -999.0,9,     -999.0,     -999.0,9,     -999.0,9,     -999.0,     -999.0,9,     -999.0,     -999.0,9,     -999.0,     -999.0,     -999.0,9,     -999.0,9,     -999.0,9,     -999.0,9,     -999.0,9,     -999.0,9,     -999.0,9,     -999.0,9
33RO20161119,        P18,     132,          1,         11,      11110,2,20170105,       0548,   -32.0001,  -102.9993,       3658,  1139.4,   3.7633,  34.4021,2,  34.4029,2,    146.4,2,   146.5,2,    52.5,2,    36.5,2,    0.01,2,   2.518,2,   0.1389,2,   0.0735,2,   0.0339,2,  2244.2,6,  2314.8,2,   7.5223,2,    25.00, -999.00,9,  -999.0,9,  -999.0,   2.9285,2, -999.00,9,  -999.0,9, -999.00,9, -999.00,9,    27.1175,2, -999.00,9,  -999.0,9,     -999.0,     -999.0,9,     -999.0,9,     -999.0,     -999.0,9,     -999.0,     -999.0,9,     -999.0,     -999.0,     -999.0,9,     -999.0,9,     -999.0,9,     -999.0,9,     -999.0,9,     -999.0,9,     -999.0,9,     -999.0,9
33RO20161119,        P18,     132,          1,         12,      11111,2,20170105,       0548,   -32.0001,  -102.9993,       3658,  1009.3,   4.2292,  34.3130,2,  34.3146,2,    188.2,2,   187.0,2,    32.3,2,    32.8,2,    0.01,2,   2.251,2,   0.8672,6,   0.4187,6,   0.1138,6,  2203.6,2,  2295.2,2,   7.5833,2,    25.00, -999.00,9,  -999.0,9,  -999.0,   2.4595,2, -999.00,9,  -999.0,9, -999.00,9, -999.00,9,    22.4896,2, -999.00,9,  -999.0,9,     -999.0,     -999.0,9,     -999.0,9,     -999.0,     -999.0,9,     -999.0,     -999.0,9,     -999.0,     -999.0,     -999.0,9,     -999.0,9,     -999.0,9,     -999.0,9,     -999.0,9,     -999.0,9,     -999.0,9,     -999.0,9
33RO20161119,        P18,     132,          1,         13,      11112,2,20170105,       0548,   -32.0001,  -102.9993,       3658,   890.4,   4.9025,  34.2818,2,  34.2810,2,    201.4,2,   201.2,2,    21.6,2,    30.5,2,    0.01,2,   2.098,2,   1.8535,2,   0.9040,2,   0.3139,2,  2184.8,2,  2283.6,2,   7.6090,2,    25.00, -999.00,9,  -999.0,9,  -999.0,   1.0704,2, -999.00,9,  -999.0,9, -999.00,9, -999.00,9,    21.4625,2, -999.00,9,  -999.0,9,     -999.0,     -999.0,9,     -999.0,9,     -999.0,     -999.0,9,     -999.0,     -999.0,9,     -999.0,     -999.0,     -999.0,9,     -999.0,9,     -999.0,9,     -999.0,9,     -999.0,9,     -999.0,9,     -999.0,9,     -999.0,9
33RO20161119,        P18,     132,          1,         14,      11113,2,20170105,       0548,   -32.0001,  -102.9993,       3658,   769.4,   5.4621,  34.2651,2,  34.2660,2,    225.7,2,   224.4,2,    13.2,2,    27.5,2,    0.01,2,   1.887,2,   3.0920,2,   1.5374,2,   0.5840,2,  2163.3,2,  2276.5,2,   7.6515,2,    25.00, -999.00,9,  -999.0,9,  -999.0,   0.8565,2, -999.00,9,  -999.0,9, -999.00,9, -999.00,9,    18.7996,2, -999.00,9,  -999.0,9,     -999.0,     -999.0,9,     -999.0,9,     -999.0,     -999.0,9,     -999.0,     -999.0,9,     -999.0,     -999.0,     -999.0,9,     -999.0,9,     -999.0,9,     -999.0,9,     -999.0,9,     -999.0,9,     -999.0,9,     -999.0,9
33RO20161119,        P18,     132,          1,         15,      11114,2,20170105,       0548,   -32.0001,  -102.9993,       3658,   659.9,   5.9045,  34.2717,2,  34.2730,2,    243.4,2,   243.2,2,     9.3,2,    24.7,2,    0.01,2,   1.707,2,   3.8125,2,   1.9725,2,   0.9940,2,  2148.7,2,  2274.0,2,   7.6827,2,    25.00, -999.00,9,  -999.0,9,  -999.0,   1.7237,2, -999.00,9,  -999.0,9, -999.00,9, -999.00,9,    16.5348,2, -999.00,9,  -999.0,9,     -999.0,     -999.0,9,     -999.0,9,     -999.0,     -999.0,9,     -999.0,     -999.0,9,     -999.0,     -999.0,     -999.0,9,     -999.0,9,     -999.0,9,     -999.0,9,     -999.0,9,     -999.0,9,     -999.0,9,     -999.0,9
33RO20161119,        P18,     132,          1,         16,      11115,2,20170105,       0548,   -32.0001,  -102.9993,       3658,   544.7,   6.4071,  34.2963,2,  34.2965,2,    240.3,2,   241.2,2,     7.6,2,    23.6,2,    0.01,2,   1.626,2,   3.9861,2,   2.1118,2,   1.2681,2,  2145.6,2,  2273.2,2,   7.6804,2,    25.00, -999.00,9,  -999.0,9,  -999.0,   1.9041,2, -999.00,9,  -999.0,9, -999.00,9, -999.00,9,    18.0981,2, -999.00,9,  -999.0,9,     -999.0,     -999.0,9,     -999.0,9,     -999.0,     -999.0,9,     -999.0,     -999.0,9,     -999.0,     -999.0,     -999.0,9,     -999.0,9,     -999.0,9,     -999.0,9,     -999.0,9,     -999.0,9,     -999.0,9,     -999.0,9
33RO20161119,        P18,     132,          1,         17,      11116,2,20170105,       0548,   -32.0001,  -102.9993,       3658,   445.2,   7.1656,  34.2656,2,  34.2679,2,    230.7,2,   231.0,2,     5.8,6,    22.6,6,    0.01,6,   1.592,6,   3.9320,2,   2.1287,2,   1.5136,2,  2144.0,2,  2266.0,2,   7.6764,2,    25.00, -999.00,9,  -999.0,9,  -999.0,   2.1548,2, -999.00,9,  -999.0,9, -999.00,9, -999.00,9,      24.05,2, -999.00,9,  -999.0,9,     -999.0,     -999.0,9,     -999.0,9,     -999.0,     -999.0,9,     -999.0,     -999.0,9,     -999.0,     -999.0,     -999.0,9,     -999.0,9,     -999.0,9,     -999.0,9,     -999.0,9,     -999.0,9,     -999.0,9,     -999.0,9
33RO20161119,        P18,     132,          1,         18,      11117,2,20170105,       0548,   -32.0001,  -102.9993,       3658,   344.6,   9.6957,  34.2822,2,  34.2835,2,    214.5,2,   213.1,6,     3.0,2,    17.5,2,    0.01,2,   1.313,2,   3.4960,2,   1.9623,2,   1.5049,2,  2128.3,2,  2261.5,2,   7.7188,2,    25.00, -999.00,9,  -999.0,9,  -999.0,   2.0666,2, -999.00,9,  -999.0,9, -999.00,9, -999.00,9,    22.8063,2, -999.00,9,  -999.0,9,     -999.0,     -999.0,9,     -999.0,9,     -999.0,     -999.0,9,     -999.0,     -999.0,9,     -999.0,     -999.0,     -999.0,9,     -999.0,9,     -999.0,9,     -999.0,9,     -999.0,9,     -999.0,9,     -999.0,9,     -999.0,9
33RO20161119,        P18,     132,          1,         19,      11083,2,20170105,       0548,   -32.0001,  -102.9993,       3658,   260.4,  12.7228,  34.4678,2,  34.4652,2,    215.5,2,   214.3,2,     0.8,2,     9.7,2,    0.01,2,   0.824,2,   3.0240,2,   1.7770,2,   1.7043,2,  2096.3,2,  2271.3,2,   7.8061,2,    25.00, -999.00,9,  -999.0,9,  -999.0,   2.0617,2, -999.00,9,  -999.0,9, -999.00,9, -999.00,9,    14.6494,2, -999.00,9,  -999.0,9,     -999.0,     -999.0,9,     -999.0,9,     -999.0,     -999.0,9,     -999.0,     -999.0,9,     -999.0,     -999.0,     -999.0,9,     -999.0,9,     -999.0,9,     -999.0,9,     -999.0,9,     -999.0,9,     -999.0,9,     -999.0,9
33RO20161119,        P18,     132,          1,         20,      11118,2,20170105,       0548,   -32.0001,  -102.9993,       3658,   184.9,  15.6988,  34.6993,2,  34.7023,2,    235.5,2,   233.2,2,     0.4,2,     1.1,2,    0.16,2,   0.329,2,   2.5403,2,   1.5284,2,   1.8477,2,  2056.8,2,  2285.2,2,   7.9158,2,    25.00, -999.00,9,  -999.0,9,  -999.0,   0.0195,2, -999.00,9,  -999.0,9, -999.00,9, -999.00,9,     9.1025,2, -999.00,9,  -999.0,9,     -999.0,     -999.0,9,     -999.0,9,     -999.0,     -999.0,9,     -999.0,     -999.0,9,     -999.0,     -999.0,     -999.0,9,     -999.0,9,     -999.0,9,     -999.0,9,     -999.0,9,     -999.0,9,     -999.0,9,     -999.0,9
33RO20161119,        P18,     132,          1,         21,      11119,2,20170105,       0548,   -32.0001,  -102.9993,       3658,   120.6,  16.8954,  34.8307,2,  34.8293,2,    241.1,2,   241.1,2,     0.3,2,     0.0,2,    0.01,2,   0.180,2,   2.3743,2,   1.4458,2,   1.8542,2,  2042.3,2,  2293.9,2,   7.9539,2,    25.00, -999.00,9,  -999.0,9,  -999.0,   0.0415,2, -999.00,9,  -999.0,9, -999.00,9, -999.00,9,     8.0208,2, -999.00,9,  -999.0,9,     -999.0,     -999.0,9,     -999.0,9,     -999.0,     -999.0,9,     -999.0,     -999.0,9,     -999.0,     -999.0,     -999.0,9,     -999.0,9,     -999.0,9,     -999.0,9,     -999.0,9,     -999.0,9,     -999.0,9,     -999.0,9
33RO20161119,        P18,     132,          1,         22,      11120,2,20170105,       0548,   -32.0001,  -102.9993,       3658,    60.6,  18.7387,  35.0982,2,  35.0910,2,    242.2,2,   240.2,2,     0.3,2,     0.0,2,    0.01,2,   0.174,2,   2.2721,2,   1.3894,2,   1.7834,2,  2045.9,2,  2308.9,6,   7.9706,2,    25.00, -999.00,9,  -999.0,9,  -999.0,   0.0495,2, -999.00,9,  -999.0,9, -999.00,9, -999.00,9,     7.8446,2, -999.00,9,  -999.0,9,     -999.0,     -999.0,9,     -999.0,9,     -999.0,     -999.0,9,     -999.0,     -999.0,9,     -999.0,     -999.0,     -999.0,9,     -999.0,9,     -999.0,9,     -999.0,9,     -999.0,9,     -999.0,9,     -999.0,9,     -999.0,9
33RO20161119,        P18,     132,          1,         23,      11121,2,20170105,       0548,   -32.0001,  -102.9993,       3658,    25.2,  21.4350,  34.9376,2,  34.9506,2,    222.1,2,   224.6,2,     0.3,2,     0.0,2,    0.00,2,   0.169,2,   2.0189,2,   1.2446,2,   1.6295,2,  2042.2,6,  2298.7,2,   7.9643,6,    25.00, -999.00,9,  -999.0,9,  -999.0,   0.2601,2, -999.00,9,  -999.0,9, -999.00,9, -999.00,9,     7.1692,2, -999.00,9,  -999.0,9,     -999.0,     -999.0,9,     -999.0,9,     -999.0,     -999.0,9,     -999.0,     -999.0,9,     -999.0,     -999.0,     -999.0,9,     -999.0,9,     -999.0,9,     -999.0,9,     -999.0,9,     -999.0,9,     -999.0,9,     -999.0,9
33RO20161119,        P18,     132,          1,         24,      11122,2,20170105,       0548,   -32.0001,  -102.9993,       3658,     3.3,  21.8757,  34.9346,2,  34.9361,2,    220.8,2,   222.9,2,     0.3,2,     0.0,2,    0.00,2,   0.165,2,   1.9898,2,   1.2286,2,   1.6317,2,  2041.9,2,  2297.2,2,   7.9643,2,    25.00, -999.00,9,  -999.0,9,  -999.0,   0.8456,2, -999.00,9,  -999.0,9, -999.00,9, -999.00,9,      7.119,2, -999.00,9,  -999.0,9,     -999.0,     -999.0,9,     -999.0,9,     -999.0,     -999.0,9,     -999.0,     -999.0,9,     -999.0,     -999.0,     -999.0,9,     -999.0,9,     -999.0,9,     -999.0,9,     -999.0,9,     -999.0,9,     -999.0,9,     -999.0,9