BOTTLE,20230606CCHSIOCBG
EXPOCODE,SECT_ID,STNNBR,CASTNO,SAMPNO,BTLNBR,BTLNBR_FLAG_W,DATE,TIME,LATITUDE,LONGITUDE,DEPTH,CTDPRS,CTDTMP,CTDSAL,CTDSAL_FLAG_W,SALNTY,SALNTY_FLAG_W,CTDOXY,CTDOXY_FLAG_W,OXYGEN,OXYGEN_FLAG_W,SILCAT,SILCAT_FLAG_W,NITRAT,NITRAT_FLAG_W,NITRIT,NITRIT_FLAG_W,PHSPHT,PHSPHT_FLAG_W,CFC-11,CFC-11_FLAG_W,CFC-12,CFC-12_FLAG_W,SF6,SF6_FLAG_W,TCARBN,TCARBN_FLAG_W,ALKALI,ALKALI_FLAG_W,PH_SWS,PH_SWS_FLAG_W,PH_TMP,DELC13,DELC13_FLAG_W,DELC14,DELC14_FLAG_W,C14ERR,CCL4,CCL4_FLAG_W,POC,POC_FLAG_W,DOC,DOC_FLAG_W,TDN,TDN_FLAG_W,PON,PON_FLAG_W,N2O,N2O_FLAG_W,D15N_NO3,D15N_NO3_FLAG_W,14C-DOC,14C-DOC_FLAG_W,14C-DOCERR,13C-DOC,13C-DOC_FLAG_W,N2/ARGON_UNSTRIPPED,N2/ARGON_UNSTRIPPED_FLAG_W,N2/ARGON_UNSTRIPPED_ERROR,N2/ARGON,N2/ARGON_FLAG_W,N2/ARGON_ERROR,D15N_N2,D15N_N2_FLAG_W,D15N_N2_ERROR,D15N_NO3_ERROR,D15N_NO2+NO3,D15N_NO2+NO3_FLAG_W,D18O_NO2+NO3,D18O_NO2+NO3_FLAG_W,D18O_NO3,D18O_NO3_FLAG_W,TDP,TDP_FLAG_W,N2O_ALT_1,N2O_ALT_1_FLAG_W,D15N_N2O,D15N_N2O_FLAG_W,D18O_N2O,D18O_N2O_FLAG_W,D15N_ALPHA_N2O,D15N_ALPHA_N2O_FLAG_W
,,,,,,,,,,,METERS,DBAR,ITS-90,PSS-78,,PSS-78,,UMOL/KG,,UMOL/KG,,UMOL/KG,,UMOL/KG,,UMOL/KG,,UMOL/KG,,PMOL/KG,,PMOL/KG,,FMOL/KG,,UMOL/KG,,UMOL/KG,,,,DEG C,/MILLE,,/MILLE,,/MILLE,PMOL/KG,,UG/KG,,UMOL/KG,,UMOL/KG,,UG/KG,,NMOL/KG,,/MILLE,,/MILLE,,/MILLE,/MILLE,,,,,,,,/MILLE,,/MILLE,/MILLE,/MILLE,,/MILLE,,/MILLE,,UMOL/KG,,NMOL/L,,/MILLE,,/MILLE,,/MILLE,
33RO20161119,        P18,      74,          1,          1,      11010,2,20161211,       0710,    -5.8802,  -108.7601,       3395,  3438.1,   1.6963,  34.6803,2,  34.6858,4,    142.5,2,   142.6,2,   142.3,6,    36.5,6,    0.00,6,   2.526,6,-999.0000,9,-999.0000,9,-999.0000,9,  2333.5,6,  2428.9,2,   7.5708,6,    25.00, -999.00,9,  -999.0,9,  -999.0,-999.0000,9, -999.00,9,  -999.0,9, -999.00,9, -999.00,9,     -999.0,9, -999.00,9,  -999.0,9,     -999.0,     -999.0,9,     -999.0,9,     -999.0,     -999.0,9,     -999.0,     -999.0,9,     -999.0,     -999.0,     -999.0,9,     -999.0,9,     -999.0,9,     -999.0,9,     -999.0,9,     -999.0,9,     -999.0,9,     -999.0,9
33RO20161119,        P18,      74,          1,          2,      11101,2,20161211,       0710,    -5.8802,  -108.7601,       3395,  3150.7,   1.7202,  34.6780,2,  34.6785,2,    139.3,2,   138.6,6,   142.3,6,    36.7,6,    0.00,6,   2.550,6,-999.0000,9,-999.0000,9,-999.0000,9,  2334.1,2,  2428.3,6,   7.5640,2,    25.00, -999.00,9,  -999.0,9,  -999.0,-999.0000,9, -999.00,9,  -999.0,9, -999.00,9, -999.00,9,     -999.0,9, -999.00,9,  -999.0,9,     -999.0,     -999.0,9,     -999.0,9,     -999.0,     -999.0,9,     -999.0,     -999.0,9,     -999.0,     -999.0,     -999.0,9,     -999.0,9,     -999.0,9,     -999.0,9,     -999.0,9,     -999.0,9,     -999.0,9,     -999.0,9
33RO20161119,        P18,      74,          1,          3,      11102,2,20161211,       0710,    -5.8802,  -108.7601,       3395,  2864.5,   1.7729,  34.6744,2,  34.6734,2,    134.8,2,   135.0,2,   142.0,6,    36.9,6,    0.00,6,   2.576,6,-999.0000,9,-999.0000,9,-999.0000,9,  2337.5,2,  2426.4,2,   7.5567,2,    25.00, -999.00,9,  -999.0,9,  -999.0,-999.0000,9, -999.00,9,  -999.0,9, -999.00,9, -999.00,9,     -999.0,9, -999.00,9,  -999.0,9,     -999.0,     -999.0,9,     -999.0,9,     -999.0,     -999.0,9,     -999.0,     -999.0,9,     -999.0,     -999.0,     -999.0,9,     -999.0,9,     -999.0,9,     -999.0,9,     -999.0,9,     -999.0,9,     -999.0,9,     -999.0,9
33RO20161119,        P18,      74,          1,          4,      11103,2,20161211,       0710,    -5.8802,  -108.7601,       3395,  2609.8,   1.8499,  34.6682,2,  34.6684,2,    129.2,2,   128.8,2,   140.4,6,    37.3,6,    0.00,6,   2.587,2,-999.0000,9,-999.0000,9,-999.0000,9,  2337.0,2,  2420.0,2,   7.5432,2,    25.00, -999.00,9,  -999.0,9,  -999.0,-999.0000,9, -999.00,9,  -999.0,9, -999.00,9, -999.00,9,     -999.0,9, -999.00,9,  -999.0,9,     -999.0,     -999.0,9,     -999.0,9,     -999.0,     -999.0,9,     -999.0,     -999.0,9,     -999.0,     -999.0,     -999.0,9,     -999.0,9,     -999.0,9,     -999.0,9,     -999.0,9,     -999.0,9,     -999.0,9,     -999.0,9
33RO20161119,        P18,      74,          1,          5,      11104,2,20161211,       0710,    -5.8802,  -108.7601,       3395,  2329.4,   2.0418,  34.6560,2,  34.6572,2,    118.8,2,   118.5,2,   137.8,2,    38.1,2,    0.00,2,   2.665,2,-999.0000,9,-999.0000,9,-999.0000,9,  2342.0,2,  2415.4,2,   7.5215,2,    25.00, -999.00,9,  -999.0,9,  -999.0,-999.0000,9, -999.00,9,  -999.0,9, -999.00,9, -999.00,9,     -999.0,9, -999.00,9,  -999.0,9,     -999.0,     -999.0,9,     -999.0,9,     -999.0,     -999.0,9,     -999.0,     -999.0,9,     -999.0,     -999.0,     -999.0,9,     -999.0,9,     -999.0,9,     -999.0,9,     -999.0,9,     -999.0,9,     -999.0,9,     -999.0,9
33RO20161119,        P18,      74,          1,          6,      11105,2,20161211,       0710,    -5.8802,  -108.7601,       3395,  2054.7,   2.2750,  34.6423,2,  34.6419,2,    110.0,2,   109.7,2,   133.8,2,    38.8,2,    0.00,2,   2.711,2,-999.0000,9,-999.0000,9,-999.0000,9,  2341.5,6,  2410.0,2,   7.5064,2,    25.00, -999.00,9,  -999.0,9,  -999.0,-999.0000,9, -999.00,9,  -999.0,9, -999.00,9, -999.00,9,     -999.0,9, -999.00,9,  -999.0,9,     -999.0,     -999.0,9,      37.83,2,     -999.0,      37.94,2,     -999.0,     -999.0,9,     -999.0,     -999.0,     -999.0,9,     -999.0,9,     -999.0,9,     -999.0,9,25.44922194,2,       9.53,2,      51.34,2,      22.07,2
33RO20161119,        P18,      74,          1,          7,      11106,2,20161211,       0710,    -5.8802,  -108.7601,       3395,  1795.0,   2.5319,  34.6264,2,  34.6332,4,    105.1,2,   105.6,2,   126.7,2,    39.1,2,    0.00,2,   2.742,2,-999.0000,9,-999.0000,9,-999.0000,9,  2338.1,2,  2401.2,2,   7.4960,2,    25.00, -999.00,9,  -999.0,9,  -999.0,-999.0000,9, -999.00,9,  -999.0,9, -999.00,9, -999.00,9,     -999.0,9, -999.00,9,  -999.0,9,     -999.0,     -999.0,9,      36.72,3,     -999.0,     -999.0,9,     -999.0,     -999.0,9,     -999.0,     -999.0,     -999.0,9,     -999.0,9,     -999.0,9,     -999.0,9,26.43850979,2,       9.43,2,      51.35,2,       22.5,2
33RO20161119,        P18,      74,          1,          8,      11107,2,20161211,       0710,    -5.8802,  -108.7601,       3395,  1529.5,   2.9137,  34.6052,2,  34.6050,2,    100.0,2,   100.1,6,   116.4,2,    39.4,2,    0.00,2,   2.783,2,-999.0000,9,-999.0000,9,-999.0000,9,  2327.6,2,  2387.0,2,   7.4850,2,    25.00, -999.00,9,  -999.0,9,  -999.0,-999.0000,9, -999.00,9,  -999.0,9, -999.00,9, -999.00,9,     -999.0,9, -999.00,9,  -999.0,9,     -999.0,     -999.0,9,       38.0,2,     -999.0,      38.16,2,     -999.0,     -999.0,9,     -999.0,     -999.0,     -999.0,9,     -999.0,9,     -999.0,9,     -999.0,9,28.02916952,2,       9.51,2,      51.62,2,      20.91,2
33RO20161119,        P18,      74,          1,          9,      11108,2,20161211,       0710,    -5.8802,  -108.7601,       3395,  1288.0,   3.4248,  34.5820,2,  34.5872,2,     95.5,2,    95.2,2,   103.5,2,    39.5,2,    0.00,2,   2.789,2,   0.0017,2,   0.0015,2,   0.0000,2,  2318.1,2,  2378.3,2,   7.4851,2,    25.00, -999.00,9,  -999.0,9,  -999.0,        0,2, -999.00,9,  -999.0,9, -999.00,9, -999.00,9,    29.6172,2,    9.31,2,  -999.0,9,     -999.0,     -999.0,9,      38.01,2,     -999.0,      38.14,2,     -999.0,     -999.0,9,     -999.0,     -999.0,     -999.0,9,     -999.0,9,     -999.0,9,     -999.0,9,29.49256644,2,       9.25,2,      50.55,2,      21.12,2
33RO20161119,        P18,      74,          1,         10,      11109,2,20161211,       0710,    -5.8802,  -108.7601,       3395,  1130.2,   3.8745,  34.5638,2,  34.5652,2,     94.7,2,    94.4,2,    91.7,2,    39.3,2,    0.00,2,   2.785,2,-999.0000,9,-999.0000,9,-999.0000,9,  2305.2,2,  2364.6,2,   7.4742,2,    25.00, -999.00,9,  -999.0,9,  -999.0,-999.0000,9, -999.00,9,  -999.0,9, -999.00,9, -999.00,9,     -999.0,9,    8.95,2,  -999.0,9,     -999.0,     -999.0,9,       38.0,2,     -999.0,      38.13,2,     -999.0,     -999.0,9,     -999.0,       0.02,     -999.0,9,     -999.0,9,     -999.0,9,     -999.0,9,     -999.0,9,     -999.0,9,     -999.0,9,     -999.0,9
33RO20161119,        P18,      74,          1,         11,      11110,2,20161211,       0710,    -5.8802,  -108.7601,       3395,  1009.2,   4.2517,  34.5511,2,  34.5509,2,     88.0,2,    88.4,2,    83.1,2,    39.8,2,    0.00,2,   2.826,2,   0.0054,2,   0.0034,2,   0.0315,2,  2299.2,2,  2355.4,2,   7.4647,2,    25.00, -999.00,9,  -999.0,9,  -999.0,   0.0111,2, -999.00,9,  -999.0,9, -999.00,9, -999.00,9,    32.1437,2,   14.18,2,  -999.0,9,     -999.0,     -999.0,9,      37.93,2,     -999.0,      38.05,2,     -999.0,     -999.0,9,     -999.0,     -999.0,     -999.0,9,     -999.0,9,     -999.0,9,     -999.0,9,31.59594282,2,       9.14,2,      49.52,2,      21.48,2
33RO20161119,        P18,      74,          1,         12,      11111,2,20161211,       0710,    -5.8802,  -108.7601,       3395,   894.9,   4.7955,  34.5414,2,  34.5411,2,     72.3,2,    72.2,2,    73.0,2,    41.3,2,    0.00,2,   2.896,2,-999.0000,9,-999.0000,9,-999.0000,9,  2294.9,2,  2343.1,2,   7.4325,2,    25.00, -999.00,9,  -999.0,9,  -999.0,-999.0000,9, -999.00,9,  -999.0,9, -999.00,9, -999.00,9,     -999.0,9,   14.99,3,  -999.0,9,     -999.0,     -999.0,9,      37.94,2,     -999.0,      38.06,2,     -999.0,     -999.0,9,     -999.0,       1.31,     -999.0,9,     -999.0,9,     -999.0,9,     -999.0,9,35.20059131,2,       9.13,2,      50.38,2,      21.31,2
33RO20161119,        P18,      74,          1,         13,      11112,2,20161211,       0710,    -5.8802,  -108.7601,       3395,   785.0,   5.4394,  34.5382,2,  34.5369,2,     60.7,2,    61.2,2,    61.8,2,    42.0,2,    0.00,2,   2.924,2,   0.0062,2,   0.0040,2,   0.0000,2,  2290.4,2,  2330.6,2,   7.4141,2,    25.00, -999.00,9,  -999.0,9,  -999.0,   0.0223,2, -999.00,9,  -999.0,9, -999.00,9, -999.00,9,    39.7714,2,   15.43,3,  -999.0,9,     -999.0,     -999.0,9,      37.68,2,     -999.0,      37.75,2,     -999.0,     -999.0,9,     -999.0,     -999.0,     -999.0,9,     -999.0,9,     -999.0,9,     -999.0,9,38.64978519,2,       8.56,2,      49.49,2,      21.35,2
33RO20161119,        P18,      74,          1,         14,      11113,2,20161211,       0710,    -5.8802,  -108.7601,       3395,   674.8,   6.5333,  34.5634,2,  34.6269,4,     29.5,2,     9.3,3,    42.5,4,    41.8,4,    0.00,4,   2.968,4,-999.0000,9,-999.0000,9,-999.0000,9,  2292.0,2,  2308.8,3,   7.3480,2,    25.00, -999.00,9,  -999.0,9,  -999.0,-999.0000,9, -999.00,9,  -999.0,9, -999.00,9, -999.00,9,     -999.0,9,   11.75,2,  -999.0,9,     -999.0,     -999.0,9,      37.68,2,     -999.0,      37.77,2,     -999.0,     -999.0,9,     -999.0,       0.55,     -999.0,9,     -999.0,9,     -999.0,9,     -999.0,9,69.74180958,2,       6.89,2,       50.3,2,      17.55,2
33RO20161119,        P18,      74,          1,         15,      11114,2,20161211,       0710,    -5.8802,  -108.7601,       3395,   570.0,   7.9398,  34.6252,2,  34.6248,2,      9.9,2,    10.0,2,    42.6,2,    41.9,2,    0.00,2,   2.948,2,   0.0529,2,   0.0312,2,   0.0000,2,  2292.6,2,  2307.3,2,   7.3456,2,    25.00, -999.00,9,  -999.0,9,  -999.0,   0.0514,2, -999.00,9,  -999.0,9, -999.00,9, -999.00,9,    72.2896,2,   11.81,3,  -999.0,9,     -999.0,     -999.0,9,      38.01,2,     -999.0,      38.12,2,     -999.0,     -999.0,9,     -999.0,       2.85,     -999.0,9,     -999.0,9,     -999.0,9,     -999.0,9,70.49651813,2,       6.83,2,      50.74,2,       15.6,2
33RO20161119,        P18,      74,          1,         16,      11115,2,20161211,       0710,    -5.8802,  -108.7601,       3395,   479.3,   8.9621,  34.6795,2,  34.6779,2,      6.9,2,     6.7,2,    38.0,2,    38.7,2,    0.00,2,   2.822,2,-999.0000,9,-999.0000,9,-999.0000,9,  2286.6,2,  2305.4,2,   7.3551,2,    25.00, -999.00,9,  -999.0,9,  -999.0,-999.0000,9, -999.00,9,  -999.0,9, -999.00,9, -999.00,9,     -999.0,9, -999.00,9,  -999.0,9,     -999.0,     -999.0,9,      37.99,2,     -999.0,      38.12,2,     -999.0,     -999.0,9,     -999.0,     -999.0,     -999.0,9,     -999.0,9,     -999.0,9,     -999.0,9, 75.4890196,2,       6.84,2,      54.16,2,      15.27,2
33RO20161119,        P18,      74,          1,         17,      11116,2,20161211,       0710,    -5.8802,  -108.7601,       3395,   384.0,  10.3106,  34.7615,2,  34.7690,2,     14.4,2,    13.9,2,    31.1,2,    35.0,2,    0.01,2,   2.598,2,   0.4523,2,   0.2519,2,   0.1070,2,  2269.2,2,  2302.7,6,   7.4022,2,    25.00, -999.00,9,  -999.0,9,  -999.0,   0.0765,2, -999.00,9,  -999.0,9, -999.00,9, -999.00,9,    70.8003,2,   12.59,3,  -999.0,9,     -999.0,     -999.0,9,      38.03,2,     -999.0,      38.14,2,     -999.0,     -999.0,9,     -999.0,       2.23,     -999.0,9,     -999.0,9,     -999.0,9,     -999.0,9,70.65954168,2,       6.29,2,      50.84,2,      14.03,2
33RO20161119,        P18,      74,          1,         18,      11117,2,20161211,       0710,    -5.8802,  -108.7601,       3395,   300.7,  11.5883,  34.8426,2,  34.8416,2,     17.7,2,    19.7,2,    26.4,2,    32.3,2,    0.01,2,   2.397,2,-999.0000,9,-999.0000,9,-999.0000,9,  2254.9,2,  2302.8,2,   7.4422,6,    25.00, -999.00,9,  -999.0,9,  -999.0,-999.0000,9, -999.00,9,  -999.0,9, -999.00,9, -999.00,9,     -999.0,9,    7.68,2,  -999.0,9,     -999.0,     -999.0,9,      37.32,2,     -999.0,     -999.0,9,     -999.0,     -999.0,9,     -999.0,       0.07,     -999.0,9,     -999.0,9,     -999.0,9,     -999.0,9,70.19220978,2,       5.15,2,      45.96,2,      11.24,2
33RO20161119,        P18,      74,          1,         19,      11083,2,20161211,       0710,    -5.8802,  -108.7601,       3395,   220.0,  12.6222,  34.9024,2,  34.9440,4,     16.6,2,    16.6,2,    23.4,2,    32.0,2,    0.01,2,   2.272,2,   1.1360,2,   0.6330,2,   0.3265,2,  2247.3,2,  2302.0,2,   7.4608,2,    25.00, -999.00,9,  -999.0,9,  -999.0,   0.8735,2, -999.00,9,  -999.0,9, -999.00,9, -999.00,9,    74.9711,2,    6.94,2,  -999.0,9,     -999.0,     -999.0,9,      38.17,2,     -999.0,      38.26,2,     -999.0,     -999.0,9,     -999.0,       0.33,     -999.0,9,     -999.0,9,     -999.0,9,     -999.0,9,73.51874825,2,       4.06,2,      41.51,2,       9.68,2
33RO20161119,        P18,      74,          1,         20,      11118,2,20161211,       0710,    -5.8802,  -108.7601,       3395,   155.0,  13.2808,  34.9459,2,  34.9452,2,     31.3,2,    24.0,2,    20.3,2,    30.6,2,    0.02,2,   2.175,2,-999.0000,9,-999.0000,9,-999.0000,9,  2235.8,2,  2301.3,2,   7.4978,2,    25.00, -999.00,9,  -999.0,9,  -999.0,-999.0000,9, -999.00,9,  -999.0,9, -999.00,9, -999.00,9,     -999.0,9,    6.26,2,  -999.0,9,     -999.0,     -999.0,9,      38.16,2,     -999.0,      38.24,2,     -999.0,     -999.0,9,     -999.0,       0.06,     -999.0,9,     -999.0,9,     -999.0,9,     -999.0,9,67.70818703,2,       3.75,2,      39.06,2,       8.91,2
33RO20161119,        P18,      74,          1,         21,      11119,2,20161211,       0710,    -5.8802,  -108.7601,       3395,    94.6,  20.6703,  35.1159,2,  35.1716,2,    165.5,2,   159.9,2,     6.3,2,    12.0,2,    0.24,2,   1.108,2,   1.7910,6,   1.0855,6,   1.1590,6,  2117.5,2,  2317.1,2,   7.8421,2,    25.00, -999.00,9,  -999.0,9,  -999.0,   0.9611,2, -999.00,9,  -999.0,9, -999.00,9, -999.00,9,    22.9943,2,   12.42,2,  -999.0,9,     -999.0,     -999.0,9,      38.19,2,     -999.0,      38.21,2,     -999.0,     -999.0,9,     -999.0,       0.48,     -999.0,9,     -999.0,9,     -999.0,9,     -999.0,9,22.07048002,2,       4.09,2,      39.49,2,      12.99,2
33RO20161119,        P18,      74,          1,         22,      11120,2,20161211,       0710,    -5.8802,  -108.7601,       3395,    49.7,  24.2297,  35.2463,2,  35.2453,2,    209.8,2,   209.1,2,     2.6,2,     7.1,2,    0.15,2,   0.748,2,-999.0000,9,-999.0000,9,-999.0000,9,  2063.7,2,  2325.0,2,   7.9585,2,    25.00, -999.00,9,  -999.0,9,  -999.0,-999.0000,9, -999.00,9,  -999.0,9, -999.00,9, -999.00,9,     -999.0,9,   15.07,2,  -999.0,9,     -999.0,     -999.0,9,      38.21,2,     -999.0,     -999.0,9,     -999.0,     -999.0,9,     -999.0,       0.06,     -999.0,9,     -999.0,9,     -999.0,9,     -999.0,9,8.033596316,2,       4.95,2,      48.51,2,      16.64,2
33RO20161119,        P18,      74,          1,         23,      11121,2,20161211,       0710,    -5.8802,  -108.7601,       3395,    19.8,  24.3696,  35.2559,2,  35.2553,2,    210.7,2,   209.9,2,     2.5,2,     7.0,2,    0.15,2,   0.726,2,-999.0000,9,-999.0000,9,-999.0000,9,  2062.5,2,  2323.3,6,   7.9645,2,    25.00, -999.00,9,  -999.0,9,  -999.0,-999.0000,9, -999.00,9,  -999.0,9, -999.00,9, -999.00,9,     -999.0,9,   15.04,2,  -999.0,9,     -999.0,     -999.0,9,      38.22,2,     -999.0,     -999.0,9,     -999.0,     -999.0,9,     -999.0,       0.11,     -999.0,9,     -999.0,9,     -999.0,9,     -999.0,9,7.844593107,2,       5.31,2,      44.43,2,      16.14,2
33RO20161119,        P18,      74,          1,         24,      11122,2,20161211,       0710,    -5.8802,  -108.7601,       3395,     2.8,  24.3624,  35.2558,2,  35.2543,2,    209.9,2,   209.7,2,     2.5,2,     7.0,2,    0.15,2,   0.722,2,   1.7327,2,   1.0896,2,   1.4065,2,  2063.4,6,  2326.0,2,   7.9616,2,    25.00, -999.00,9,  -999.0,9,  -999.0,        0,2, -999.00,9,  -999.0,9, -999.00,9, -999.00,9,     7.4317,2,   14.71,2,  -999.0,9,     -999.0,     -999.0,9,      38.24,2,     -999.0,      38.22,2,     -999.0,     -999.0,9,     -999.0,       0.34,     -999.0,9,     -999.0,9,     -999.0,9,     -999.0,9,8.731491748,2,       4.35,2,      45.48,2,       15.5,2