BOTTLE,20230606CCHSIOCBG
EXPOCODE,SECT_ID,STNNBR,CASTNO,SAMPNO,BTLNBR,BTLNBR_FLAG_W,DATE,TIME,LATITUDE,LONGITUDE,DEPTH,CTDPRS,CTDTMP,CTDSAL,CTDSAL_FLAG_W,SALNTY,SALNTY_FLAG_W,CTDOXY,CTDOXY_FLAG_W,OXYGEN,OXYGEN_FLAG_W,SILCAT,SILCAT_FLAG_W,NITRAT,NITRAT_FLAG_W,NITRIT,NITRIT_FLAG_W,PHSPHT,PHSPHT_FLAG_W,CFC-11,CFC-11_FLAG_W,CFC-12,CFC-12_FLAG_W,SF6,SF6_FLAG_W,TCARBN,TCARBN_FLAG_W,ALKALI,ALKALI_FLAG_W,PH_SWS,PH_SWS_FLAG_W,PH_TMP,DELC13,DELC13_FLAG_W,DELC14,DELC14_FLAG_W,C14ERR,CCL4,CCL4_FLAG_W,POC,POC_FLAG_W,DOC,DOC_FLAG_W,TDN,TDN_FLAG_W,PON,PON_FLAG_W,N2O,N2O_FLAG_W,D15N_NO3,D15N_NO3_FLAG_W,14C-DOC,14C-DOC_FLAG_W,14C-DOCERR,13C-DOC,13C-DOC_FLAG_W,N2/ARGON_UNSTRIPPED,N2/ARGON_UNSTRIPPED_FLAG_W,N2/ARGON_UNSTRIPPED_ERROR,N2/ARGON,N2/ARGON_FLAG_W,N2/ARGON_ERROR,D15N_N2,D15N_N2_FLAG_W,D15N_N2_ERROR,D15N_NO3_ERROR,D15N_NO2+NO3,D15N_NO2+NO3_FLAG_W,D18O_NO2+NO3,D18O_NO2+NO3_FLAG_W,D18O_NO3,D18O_NO3_FLAG_W,TDP,TDP_FLAG_W,N2O_ALT_1,N2O_ALT_1_FLAG_W,D15N_N2O,D15N_N2O_FLAG_W,D18O_N2O,D18O_N2O_FLAG_W,D15N_ALPHA_N2O,D15N_ALPHA_N2O_FLAG_W
,,,,,,,,,,,METERS,DBAR,ITS-90,PSS-78,,PSS-78,,UMOL/KG,,UMOL/KG,,UMOL/KG,,UMOL/KG,,UMOL/KG,,UMOL/KG,,PMOL/KG,,PMOL/KG,,FMOL/KG,,UMOL/KG,,UMOL/KG,,,,DEG C,/MILLE,,/MILLE,,/MILLE,PMOL/KG,,UG/KG,,UMOL/KG,,UMOL/KG,,UG/KG,,NMOL/KG,,/MILLE,,/MILLE,,/MILLE,/MILLE,,,,,,,,/MILLE,,/MILLE,/MILLE,/MILLE,,/MILLE,,/MILLE,,UMOL/KG,,NMOL/L,,/MILLE,,/MILLE,,/MILLE,
33RO20161119,        P18,      51,          1,          1,      11010,2,20161206,       0938,     1.0000,  -110.0000,       3810,  3850.4,   1.4866,  34.6905,2,  34.6904,2,    149.5,2,   148.6,2,   148.4,6,    36.6,6,    0.01,6,   2.448,6,   0.0026,2,   0.0009,2,   0.0000,2,  2339.6,6,  2440.6,2,   7.6149,3,    25.00, -999.00,9,  -999.0,9,  -999.0,        0,2, -999.00,9,    38.2,2,   39.20,2, -999.00,9,    20.3152,2, -999.00,9,  -999.0,9,     -999.0,     -999.0,9,     -999.0,9,     -999.0,     -999.0,9,     -999.0,     -999.0,9,     -999.0,     -999.0,     -999.0,9,     -999.0,9,     -999.0,9,     -999.0,9,     -999.0,9,     -999.0,9,     -999.0,9,     -999.0,9
33RO20161119,        P18,      51,          1,          2,      11101,2,20161206,       0938,     1.0000,  -110.0000,       3810,  3523.9,   1.5121,  34.6873,2,  34.6865,2,    144.3,2,   143.8,2,   148.2,6,    36.9,6,    0.01,6,   2.478,6,   0.0021,2,   0.0006,2,   0.0480,2,  2342.5,2,  2434.0,6,   7.5783,2,    25.00, -999.00,9,  -999.0,9,  -999.0,        0,2, -999.00,9,    38.5,2,   39.80,2, -999.00,9,    20.6394,2, -999.00,9,  -999.0,9,     -999.0,     -999.0,9,     -999.0,9,     -999.0,     -999.0,9,     -999.0,     -999.0,9,     -999.0,     -999.0,     -999.0,9,     -999.0,9,     -999.0,9,     -999.0,9,     -999.0,9,     -999.0,9,     -999.0,9,     -999.0,9
33RO20161119,        P18,      51,          1,          3,      11102,2,20161206,       0938,     1.0000,  -110.0000,       3810,  3199.8,   1.6423,  34.6776,2,  34.6764,2,    135.9,2,   135.6,2,   144.6,6,    37.3,6,    0.01,6,   2.541,6,   0.0014,2,   0.0005,2,   0.0000,2,  2341.7,2,  2426.5,2,   7.5547,2,    25.00, -999.00,9,  -999.0,9,  -999.0,        0,2, -999.00,9,    38.8,2,   39.90,2, -999.00,9,    21.8036,2, -999.00,9,  -999.0,9,     -999.0,     -999.0,9,     -999.0,9,     -999.0,     -999.0,9,     -999.0,     -999.0,9,     -999.0,     -999.0,     -999.0,9,     -999.0,9,     -999.0,9,     -999.0,9,     -999.0,9,     -999.0,9,     -999.0,9,     -999.0,9
33RO20161119,        P18,      51,          1,          4,      11103,2,20161206,       0938,     1.0000,  -110.0000,       3810,  2902.3,   1.7337,  34.6731,2,  34.6740,2,    129.6,2,   129.3,2,   144.9,6,    37.7,6,    0.01,6,   2.565,6,   0.0023,2,   0.0010,2,   0.0000,2,  2346.1,2,  2422.0,2,   7.5463,2,    25.00, -999.00,9,  -999.0,9,  -999.0,        0,2, -999.00,9,    38.3,2,   40.70,2, -999.00,9,    22.2127,2, -999.00,9,  -999.0,9,     -999.0,     -999.0,9,     -999.0,9,     -999.0,     -999.0,9,     -999.0,     -999.0,9,     -999.0,     -999.0,     -999.0,9,     -999.0,9,     -999.0,9,     -999.0,9,     -999.0,9,     -999.0,9,     -999.0,9,     -999.0,9
33RO20161119,        P18,      51,          1,          5,      11104,2,20161206,       0938,     1.0000,  -110.0000,       3810,  2625.4,   1.8522,  34.6660,2,  34.6673,2,    121.5,2,   120.4,2,   144.2,2,    38.2,2,    0.01,2,   2.630,2,   0.0027,2,   0.0019,2,   0.0188,2,  2349.5,2,  2422.0,2,   7.5305,2,    25.00, -999.00,9,  -999.0,9,  -999.0,        0,2, -999.00,9,    37.8,2,   40.40,2, -999.00,9,    23.4166,2, -999.00,9,  -999.0,9,     -999.0,     -999.0,9,     -999.0,9,     -999.0,     -999.0,9,     -999.0,     -999.0,9,     -999.0,     -999.0,     -999.0,9,     -999.0,9,     -999.0,9,     -999.0,9,     -999.0,9,     -999.0,9,     -999.0,9,     -999.0,9
33RO20161119,        P18,      51,          1,          6,      11105,2,20161206,       0938,     1.0000,  -110.0000,       3810,  2339.8,   1.9606,  34.6587,2,  34.6608,2,    115.7,2,   115.0,2,   142.1,2,    38.6,2,    0.01,2,   2.649,2,   0.0011,2,   0.0011,2,   0.0000,2,  2350.3,2,  2419.4,2,   7.5194,2,    25.00, -999.00,9,  -999.0,9,  -999.0,        0,2, -999.00,9,    37.2,2,   39.70,2, -999.00,9,    24.5693,2, -999.00,9,  -999.0,9,     -999.0,     -999.0,9,     -999.0,9,     -999.0,     -999.0,9,     -999.0,     -999.0,9,     -999.0,     -999.0,     -999.0,9,     -999.0,9,     -999.0,9,     -999.0,9,     -999.0,9,     -999.0,9,     -999.0,9,     -999.0,9
33RO20161119,        P18,      51,          1,          7,      11106,2,20161206,       0938,     1.0000,  -110.0000,       3810,  2039.7,   2.2544,  34.6442,2,  34.6439,2,    104.3,2,   104.0,2,   137.5,2,    39.3,2,    0.01,2,   2.730,2,   0.0023,2,   0.0006,2,   0.0000,2,  2350.9,6,  2414.6,2,   7.4966,6,    25.00, -999.00,9,  -999.0,9,  -999.0,        0,2, -999.00,9,    35.5,2,   41.50,2, -999.00,9,    25.6579,2, -999.00,9,  -999.0,9,     -999.0,     -999.0,9,     -999.0,9,     -999.0,     -999.0,9,     -999.0,     -999.0,9,     -999.0,     -999.0,     -999.0,9,     -999.0,9,     -999.0,9,     -999.0,9,     -999.0,9,     -999.0,9,     -999.0,9,     -999.0,9
33RO20161119,        P18,      51,          1,          8,      11107,2,20161206,       0938,     1.0000,  -110.0000,       3810,  1749.4,   2.6369,  34.6239,2,  34.6258,2,     95.7,2,    95.4,2,   128.2,2,    39.9,2,    0.01,2,   2.787,2,   0.0021,2,   0.0013,2,   0.0000,2,  2347.4,2,  2400.4,2,   7.4816,2,    25.00, -999.00,9,  -999.0,9,  -999.0,   0.0105,2, -999.00,9,    35.6,2,   43.10,2, -999.00,9,    28.1056,2, -999.00,9,  -999.0,9,     -999.0,     -999.0,9,     -999.0,9,     -999.0,     -999.0,9,     -999.0,     -999.0,9,     -999.0,     -999.0,     -999.0,9,     -999.0,9,     -999.0,9,     -999.0,9,     -999.0,9,     -999.0,9,     -999.0,9,     -999.0,9
33RO20161119,        P18,      51,          1,          9,      11108,2,20161206,       0938,     1.0000,  -110.0000,       3810,  1459.7,   3.2286,  34.5993,2,  34.6001,2,     83.8,2,    83.1,2,   115.1,2,    40.6,2,    0.01,2,   2.856,2,   0.0027,2,   0.0019,2,   0.0364,2,  2338.0,2,  2387.1,2,   7.4568,2,    25.00, -999.00,9,  -999.0,9,  -999.0,        0,2, -999.00,9,    35.9,2,   44.30,2, -999.00,9,    31.5788,2, -999.00,9,  -999.0,9,     -999.0,     -999.0,9,     -999.0,9,     -999.0,     -999.0,9,     -999.0,     -999.0,9,     -999.0,     -999.0,     -999.0,9,     -999.0,9,     -999.0,9,     -999.0,9,     -999.0,9,     -999.0,9,     -999.0,9,     -999.0,9
33RO20161119,        P18,      51,          1,         10,      11109,2,20161206,       0938,     1.0000,  -110.0000,       3810,  1268.9,   3.6495,  34.5835,2,  34.5841,2,     80.5,2,    80.0,2,   104.8,2,    40.8,2,    0.01,2,   2.866,2,   0.0043,2,   0.0016,2,   0.0000,2,  2328.0,2,  2374.8,2,   7.4512,2,    25.00, -999.00,9,  -999.0,9,  -999.0,        0,2, -999.00,9,    38.2,2,   42.80,2, -999.00,9,    33.3786,2, -999.00,9,  -999.0,9,     -999.0,     -999.0,9,     -999.0,9,     -999.0,     -999.0,9,     -999.0,     -999.0,9,     -999.0,     -999.0,     -999.0,9,     -999.0,9,     -999.0,9,     -999.0,9,     -999.0,9,     -999.0,9,     -999.0,9,     -999.0,9
33RO20161119,        P18,      51,          1,         11,      11110,2,20161206,       0938,     1.0000,  -110.0000,       3810,  1138.9,   4.1045,  34.5703,2,  34.5702,2,     75.9,2,    73.6,2,    94.9,2,    41.0,2,    0.01,2,   2.891,2,   0.0035,2,   0.0024,2,   0.0000,2,  2319.0,2,  2367.2,2,   7.4420,2,    25.00, -999.00,9,  -999.0,9,  -999.0,   0.0174,2, -999.00,9,    37.4,2,   43.40,2, -999.00,9,    34.7841,2, -999.00,9,  -999.0,9,     -999.0,     -999.0,9,     -999.0,9,     -999.0,     -999.0,9,     -999.0,     -999.0,9,     -999.0,     -999.0,     -999.0,9,     -999.0,9,     -999.0,9,     -999.0,9,     -999.0,9,     -999.0,9,     -999.0,9,     -999.0,9
33RO20161119,        P18,      51,          1,         12,      11111,2,20161206,       0938,     1.0000,  -110.0000,       3810,  1010.5,   4.6882,  34.5557,2,  34.5562,2,     75.0,2,    75.7,2,    81.3,2,    40.5,2,    0.01,2,   2.842,2,   0.0127,2,   0.0081,2,   0.0377,2,  2302.9,2,  2337.2,3,   7.4449,2,    25.00, -999.00,9,  -999.0,9,  -999.0,   0.0303,2, -999.00,9,    38.8,2,   43.90,2, -999.00,9,    35.4418,2, -999.00,9,  -999.0,9,     -999.0,     -999.0,9,     -999.0,9,     -999.0,     -999.0,9,     -999.0,     -999.0,9,     -999.0,     -999.0,     -999.0,9,     -999.0,9,     -999.0,9,     -999.0,9,     -999.0,9,     -999.0,9,     -999.0,9,     -999.0,9
33RO20161119,        P18,      51,          1,         13,      11112,2,20161206,       0938,     1.0000,  -110.0000,       3810,   889.5,   5.4424,  34.5489,2,  34.5500,2,     68.3,2,    68.1,2,    68.4,2,    40.3,2,    0.01,2,   2.836,2,   0.0270,6,   0.0157,6,   0.0000,6,  2292.7,2,  2336.7,2,   7.4365,2,    25.00, -999.00,9,  -999.0,9,  -999.0,   0.0341,2, -999.00,9,    39.4,2,   43.60,2, -999.00,9,    37.7244,2, -999.00,9,  -999.0,9,     -999.0,     -999.0,9,     -999.0,9,     -999.0,     -999.0,9,     -999.0,     -999.0,9,     -999.0,     -999.0,     -999.0,9,     -999.0,9,     -999.0,9,     -999.0,9,     -999.0,9,     -999.0,9,     -999.0,9,     -999.0,9
33RO20161119,        P18,      51,          1,         14,      11113,2,20161206,       0938,     1.0000,  -110.0000,       3810,   775.6,   5.7833,  34.5525,2,  34.5564,2,     63.7,2,    64.5,2,    62.8,2,    40.3,2,    0.01,2,   2.816,2,   0.0417,2,   0.0228,2,   0.0000,2,  2288.1,2,  2329.6,2,   7.4341,2,    25.00, -999.00,9,  -999.0,9,  -999.0,   0.0722,2, -999.00,9,    38.5,2,   43.80,2, -999.00,9,    39.2191,2, -999.00,9,  -999.0,9,     -999.0,     -999.0,9,     -999.0,9,     -999.0,     -999.0,9,     -999.0,     -999.0,9,     -999.0,     -999.0,     -999.0,9,     -999.0,9,     -999.0,9,     -999.0,9,     -999.0,9,     -999.0,9,     -999.0,9,     -999.0,9
33RO20161119,        P18,      51,          1,         15,      11114,2,20161206,       0938,     1.0000,  -110.0000,       3810,   659.0,   6.4838,  34.5634,2,  34.5635,2,     55.9,2,    56.8,2,    53.8,2,    40.0,2,    0.02,2,   2.792,2,   0.0866,2,   0.0481,2,   0.0000,2,  2278.8,2,  2316.6,2,   7.4279,2,    25.00, -999.00,9,  -999.0,9,  -999.0,   0.0602,2, -999.00,9,    38.9,2,   43.70,2, -999.00,9,    43.0401,2, -999.00,9,  -999.0,9,     -999.0,     -999.0,9,     -999.0,9,     -999.0,     -999.0,9,     -999.0,     -999.0,9,     -999.0,     -999.0,     -999.0,9,     -999.0,9,     -999.0,9,     -999.0,9,     -999.0,9,     -999.0,9,     -999.0,9,     -999.0,9
33RO20161119,        P18,      51,          1,         16,      11115,2,20161206,       0938,     1.0000,  -110.0000,       3810,   545.5,   7.9860,  34.6159,2,  34.6175,2,     36.5,2,    34.6,6,  -999.0,9,  -999.0,9, -999.00,9,-999.000,9,   0.1953,2,   0.1054,2,   0.0313,2,  2273.6,2,  2304.8,2,   7.4036,2,    25.00, -999.00,9,  -999.0,9,  -999.0,   0.0648,2, -999.00,9,    39.8,2,   42.40,2, -999.00,9,    51.3897,2, -999.00,9,  -999.0,9,     -999.0,     -999.0,9,     -999.0,9,     -999.0,     -999.0,9,     -999.0,     -999.0,9,     -999.0,     -999.0,     -999.0,9,     -999.0,9,     -999.0,9,     -999.0,9,     -999.0,9,     -999.0,9,     -999.0,9,     -999.0,9
33RO20161119,        P18,      51,          1,         17,      11116,2,20161206,       0938,     1.0000,  -110.0000,       3810,   444.6,   9.3086,  34.6903,2,  34.6891,2,     15.1,2,    15.7,6,    36.7,2,    38.2,2,    0.01,2,   2.648,2,   0.3683,2,   0.2009,2,   0.0603,2,  2274.5,2,  2303.8,2,   7.3881,6,    25.00, -999.00,9,  -999.0,9,  -999.0,   0.0906,2, -999.00,9,    40.0,2,   41.50,2, -999.00,9,     63.417,2, -999.00,9,  -999.0,9,     -999.0,     -999.0,9,     -999.0,9,     -999.0,     -999.0,9,     -999.0,     -999.0,9,     -999.0,     -999.0,     -999.0,9,     -999.0,9,     -999.0,9,     -999.0,9,     -999.0,9,     -999.0,9,     -999.0,9,     -999.0,9
33RO20161119,        P18,      51,          1,         18,      11117,2,20161206,       0938,     1.0000,  -110.0000,       3810,   344.9,  10.5179,  34.7553,2,  34.7547,2,     23.5,2,    22.4,2,    30.4,2,    35.0,2,    0.02,2,   2.410,2,   0.6904,2,   0.3787,2,   0.1500,2,  2258.9,2,  2301.7,2,   7.4298,2,    25.00, -999.00,9,  -999.0,9,  -999.0,   0.1136,2, -999.00,9,    43.0,2,   39.40,2, -999.00,9,     60.431,2, -999.00,9,  -999.0,9,     -999.0,     -999.0,9,     -999.0,9,     -999.0,     -999.0,9,     -999.0,     -999.0,9,     -999.0,     -999.0,     -999.0,9,     -999.0,9,     -999.0,9,     -999.0,9,     -999.0,9,     -999.0,9,     -999.0,9,     -999.0,9
33RO20161119,        P18,      51,          1,         19,      11083,2,20161206,       0938,     1.0000,  -110.0000,       3810,   260.2,  11.9418,  34.8443,2,  34.8593,4,     29.4,2,    29.0,2,    25.2,2,    32.0,2,    0.02,2,   2.203,2,   1.0718,2,   0.5936,2,   0.2713,2,  2245.2,2,  2301.0,2,   7.4756,2,    25.00, -999.00,9,  -999.0,9,  -999.0,   0.1441,2, -999.00,9,    44.6,2,   36.70,2, -999.00,9,    58.7078,2, -999.00,9,  -999.0,9,     -999.0,     -999.0,9,     -999.0,9,     -999.0,     -999.0,9,     -999.0,     -999.0,9,     -999.0,     -999.0,     -999.0,9,     -999.0,9,     -999.0,9,     -999.0,9,     -999.0,9,     -999.0,9,     -999.0,9,     -999.0,9
33RO20161119,        P18,      51,          1,         20,      11118,2,20161206,       0938,     1.0000,  -110.0000,       3810,   185.1,  12.8040,  34.8921,2,  34.8919,2,     45.1,2,    45.6,2,    21.6,2,    29.3,2,    0.02,2,   2.007,2,   1.3294,2,   0.7452,2,   0.4078,2,  2225.8,2,  2301.8,2,   7.5338,2,    25.00, -999.00,9,  -999.0,9,  -999.0,    0.138,2, -999.00,9,    45.5,2,   32.10,2, -999.00,9,    53.4153,2, -999.00,9,  -999.0,9,     -999.0,     -999.0,9,     -999.0,9,     -999.0,     -999.0,9,     -999.0,     -999.0,9,     -999.0,     -999.0,     -999.0,9,     -999.0,9,     -999.0,9,     -999.0,9,     -999.0,9,     -999.0,9,     -999.0,9,     -999.0,9
33RO20161119,        P18,      51,          1,         21,      11119,2,20161206,       0938,     1.0000,  -110.0000,       3810,   120.4,  13.4101,  34.9242,2,  34.9226,2,     57.7,2,    56.3,2,    19.4,2,    27.3,2,    0.02,2,   1.872,2,   1.4849,2,   0.8376,2,   0.4927,2,  2211.6,2,  2303.3,2,   7.5740,2,    25.00, -999.00,9,  -999.0,9,  -999.0,   0.2154,2, -999.00,9,    47.6,2,   30.50,2, -999.00,9,    47.1015,2, -999.00,9,  -999.0,9,     -999.0,     -999.0,9,     -999.0,9,     -999.0,     -999.0,9,     -999.0,     -999.0,9,     -999.0,     -999.0,     -999.0,9,     -999.0,9,     -999.0,9,     -999.0,9,     -999.0,9,     -999.0,9,     -999.0,9,     -999.0,9
33RO20161119,        P18,      51,          1,         22,      11120,2,20161206,       0938,     1.0000,  -110.0000,       3810,    59.9,  15.9237,  34.9654,2,  34.9648,2,     73.4,2,    70.6,2,    14.5,2,    23.2,2,    0.56,2,   1.658,2,   1.7501,6,   1.0110,6,   0.7585,6,  2186.6,2,  2298.3,6,   7.6436,2,    25.00, -999.00,9,  -999.0,9,  -999.0,   0.2058,2, -999.00,9,    49.4,2,   26.10,2, -999.00,9,    36.4234,2, -999.00,9,  -999.0,9,     -999.0,     -999.0,9,     -999.0,9,     -999.0,     -999.0,9,     -999.0,     -999.0,9,     -999.0,     -999.0,     -999.0,9,     -999.0,9,     -999.0,9,     -999.0,9,     -999.0,9,     -999.0,9,     -999.0,9,     -999.0,9
33RO20161119,        P18,      51,          1,         23,      11121,2,20161206,       0938,     1.0000,  -110.0000,       3810,    24.3,  21.2485,  34.6877,2,  34.6937,2,    190.0,2,   183.1,2,     7.1,2,    11.2,2,    0.24,2,   0.899,2,   1.8508,2,   1.1213,2,   1.2235,2,  2082.3,6,  2285.6,2,   7.8639,2,    25.00, -999.00,9,  -999.0,9,  -999.0,   1.6107,2, -999.00,9,    54.9,2,   15.00,2, -999.00,9,    16.9357,2, -999.00,9,  -999.0,9,     -999.0,     -999.0,9,     -999.0,9,     -999.0,     -999.0,9,     -999.0,     -999.0,9,     -999.0,     -999.0,     -999.0,9,     -999.0,9,     -999.0,9,     -999.0,9,     -999.0,9,     -999.0,9,     -999.0,9,     -999.0,9
33RO20161119,        P18,      51,          1,         24,      11122,2,20161206,       0938,     1.0000,  -110.0000,       3810,     3.0,  22.2502,  34.7724,2,  34.7661,2,    202.9,2,   202.7,2,     7.0,2,    10.7,2,    0.24,2,   0.852,2,   1.8892,2,   1.1559,2,   1.4323,2,  2081.1,2,  2290.4,2,   7.8789,2,    25.00, -999.00,9,  -999.0,9,  -999.0,        0,2, -999.00,9,    58.2,2,   13.90,2, -999.00,9,    11.8925,2, -999.00,9,  -999.0,9,     -999.0,     -999.0,9,     -999.0,9,     -999.0,     -999.0,9,     -999.0,     -999.0,9,     -999.0,     -999.0,     -999.0,9,     -999.0,9,     -999.0,9,     -999.0,9,     -999.0,9,     -999.0,9,     -999.0,9,     -999.0,9