BOTTLE,20230606CCHSIOCBG
EXPOCODE,SECT_ID,STNNBR,CASTNO,SAMPNO,BTLNBR,BTLNBR_FLAG_W,DATE,TIME,LATITUDE,LONGITUDE,DEPTH,CTDPRS,CTDTMP,CTDSAL,CTDSAL_FLAG_W,SALNTY,SALNTY_FLAG_W,CTDOXY,CTDOXY_FLAG_W,OXYGEN,OXYGEN_FLAG_W,SILCAT,SILCAT_FLAG_W,NITRAT,NITRAT_FLAG_W,NITRIT,NITRIT_FLAG_W,PHSPHT,PHSPHT_FLAG_W,CFC-11,CFC-11_FLAG_W,CFC-12,CFC-12_FLAG_W,SF6,SF6_FLAG_W,TCARBN,TCARBN_FLAG_W,ALKALI,ALKALI_FLAG_W,PH_SWS,PH_SWS_FLAG_W,PH_TMP,DELC13,DELC13_FLAG_W,DELC14,DELC14_FLAG_W,C14ERR,CCL4,CCL4_FLAG_W,POC,POC_FLAG_W,DOC,DOC_FLAG_W,TDN,TDN_FLAG_W,PON,PON_FLAG_W,N2O,N2O_FLAG_W,D15N_NO3,D15N_NO3_FLAG_W,14C-DOC,14C-DOC_FLAG_W,14C-DOCERR,13C-DOC,13C-DOC_FLAG_W,N2/ARGON_UNSTRIPPED,N2/ARGON_UNSTRIPPED_FLAG_W,N2/ARGON_UNSTRIPPED_ERROR,N2/ARGON,N2/ARGON_FLAG_W,N2/ARGON_ERROR,D15N_N2,D15N_N2_FLAG_W,D15N_N2_ERROR,D15N_NO3_ERROR,D15N_NO2+NO3,D15N_NO2+NO3_FLAG_W,D18O_NO2+NO3,D18O_NO2+NO3_FLAG_W,D18O_NO3,D18O_NO3_FLAG_W,TDP,TDP_FLAG_W,N2O_ALT_1,N2O_ALT_1_FLAG_W,D15N_N2O,D15N_N2O_FLAG_W,D18O_N2O,D18O_N2O_FLAG_W,D15N_ALPHA_N2O,D15N_ALPHA_N2O_FLAG_W
,,,,,,,,,,,METERS,DBAR,ITS-90,PSS-78,,PSS-78,,UMOL/KG,,UMOL/KG,,UMOL/KG,,UMOL/KG,,UMOL/KG,,UMOL/KG,,PMOL/KG,,PMOL/KG,,FMOL/KG,,UMOL/KG,,UMOL/KG,,,,DEG C,/MILLE,,/MILLE,,/MILLE,PMOL/KG,,UG/KG,,UMOL/KG,,UMOL/KG,,UG/KG,,NMOL/KG,,/MILLE,,/MILLE,,/MILLE,/MILLE,,,,,,,,/MILLE,,/MILLE,/MILLE,/MILLE,,/MILLE,,/MILLE,,UMOL/KG,,NMOL/L,,/MILLE,,/MILLE,,/MILLE,
33RO20161119,        P18,       1,          3,         14,      11113,2,20161124,       1417,    22.6884,  -110.0001,       2619,   509.9,   7.4096,  34.4741,2,  34.4729,2,      4.6,2,     4.2,2,    63.1,2,    35.4,2,    0.01,2,   3.032,2,   0.1313,2,   0.0708,2,   0.0610,2,  2315.4,2,  2321.0,2,   7.3246,2,    25.00, -999.00,9,  -999.0,9,  -999.0,   0.0807,2, -999.00,9,  -999.0,9, -999.00,9, -999.00,9,    44.9369,2, -999.00,9,  -999.0,9,     -999.0,     -999.0,9,     -999.0,9,     -999.0,     -999.0,9,     -999.0,     -999.0,9,     -999.0,     -999.0,     -999.0,9,     -999.0,9,     -999.0,9,     -999.0,9,     -999.0,9,     -999.0,9,     -999.0,9,     -999.0,9
33RO20161119,        P18,       1,          3,         15,      11114,2,20161124,       1417,    22.6884,  -110.0001,       2619,   435.0,   8.2806,  34.4847,2,  34.4825,2,      6.0,2,     5.4,2,    53.9,2,    32.7,2,    0.01,2,   2.910,2,   0.2930,2,   0.1572,2,   0.0886,2,  2302.1,2,  2311.3,2,   7.3366,2,    25.00,   -0.52,2,  -102.9,2,     2.5,   0.0731,2, -999.00,9,  -999.0,9, -999.00,9, -999.00,9,    44.5526,2, -999.00,9,  -999.0,9,     -999.0,     -999.0,9,     -999.0,9,     -999.0,     -999.0,9,     -999.0,     -999.0,9,     -999.0,     -999.0,     -999.0,9,     -999.0,9,     -999.0,9,     -999.0,9,     -999.0,9,     -999.0,9,     -999.0,9,     -999.0,9
33RO20161119,        P18,       1,          3,         16,      11115,2,20161124,       1417,    22.6884,  -110.0001,       2619,   369.9,   9.0500,  34.4889,2,  34.4888,2,      9.7,2,     9.8,2,    46.7,2,    30.3,2,    0.01,2,   2.797,2,   0.5866,2,   0.3101,2,   0.1592,2,  2292.7,2,  2304.1,2,   7.3456,2,    25.00, -999.00,9,  -999.0,9,  -999.0,   0.1332,2, -999.00,9,  -999.0,9, -999.00,9, -999.00,9,    37.5183,2, -999.00,9,  -999.0,9,     -999.0,     -999.0,9,     -999.0,9,     -999.0,     -999.0,9,     -999.0,     -999.0,9,     -999.0,     -999.0,     -999.0,9,     -999.0,9,     -999.0,9,     -999.0,9,     -999.0,9,     -999.0,9,     -999.0,9,     -999.0,9
33RO20161119,        P18,       1,          3,         17,      11116,2,20161124,       1417,    22.6884,  -110.0001,       2619,   305.7,  10.0100,  34.5352,2,  34.5343,2,     11.2,2,    10.4,2,    39.7,2,    27.7,2,    0.01,2,   2.717,2,   0.8058,2,   0.4312,2,   0.1808,2,  2282.2,2,  2300.9,2,   7.3642,2,    25.00,   -0.44,2,   -57.7,2,     2.4,   0.1184,2, -999.00,9,  -999.0,9, -999.00,9, -999.00,9,    30.5115,2, -999.00,9,  -999.0,9,     -999.0,     -999.0,9,     -999.0,9,     -999.0,     -999.0,9,     -999.0,     -999.0,9,     -999.0,     -999.0,     -999.0,9,     -999.0,9,     -999.0,9,     -999.0,9,     -999.0,9,     -999.0,9,     -999.0,9,     -999.0,9
33RO20161119,        P18,       1,          3,         18,      11117,2,20161124,       1417,    22.6884,  -110.0001,       2619,   241.0,  11.2231,  34.5979,2,  34.5999,2,     13.6,2,    12.7,2,    34.5,2,    25.5,2,    0.01,2,   2.615,2,   1.0754,2,   0.6029,2,   0.3033,2,  2274.7,2,  2299.2,2,   7.3872,2,    25.00,   -0.46,2,   -39.2,2,     2.5,   0.1138,2, -999.00,9,  -999.0,9, -999.00,9, -999.00,9,    30.6829,2, -999.00,9,  -999.0,9,     -999.0,     -999.0,9,     -999.0,9,     -999.0,     -999.0,9,     -999.0,     -999.0,9,     -999.0,     -999.0,     -999.0,9,     -999.0,9,     -999.0,9,     -999.0,9,     -999.0,9,     -999.0,9,     -999.0,9,     -999.0,9
33RO20161119,        P18,       1,          3,         19,      11083,2,20161124,       1417,    22.6884,  -110.0001,       2619,   184.0,  12.3046,  34.6127,2,  34.6121,2,     16.9,2,    16.8,2,    32.5,2,    24.8,2,    0.01,2,   2.580,2,   1.3845,2,   0.7927,2,   0.5269,2,  2267.3,2,  2299.5,2,   7.4116,2,    25.00,   -0.54,2,   -28.7,2,     2.7,   0.1451,2, -999.00,9,  -999.0,9, -999.00,9, -999.00,9,     37.596,2, -999.00,9,  -999.0,9,     -999.0,     -999.0,9,     -999.0,9,     -999.0,     -999.0,9,     -999.0,     -999.0,9,     -999.0,     -999.0,     -999.0,9,     -999.0,9,     -999.0,9,     -999.0,9,     -999.0,9,     -999.0,9,     -999.0,9,     -999.0,9
33RO20161119,        P18,       1,          3,         20,      11118,2,20161124,       1417,    22.6884,  -110.0001,       2619,   139.5,  13.4461,  34.4000,2,  34.4118,2,     50.7,2,    47.3,2,    24.6,2,    22.5,2,    0.02,2,   2.250,2,-999.0000,9,-999.0000,9,-999.0000,9,  2233.3,2,  2283.2,2,   7.4749,2,    25.00,   -0.87,3,   -21.8,2,     2.6,-999.0000,9, -999.00,9,  -999.0,9, -999.00,9, -999.00,9,     -999.0,9, -999.00,9,  -999.0,9,     -999.0,     -999.0,9,     -999.0,9,     -999.0,     -999.0,9,     -999.0,     -999.0,9,     -999.0,     -999.0,     -999.0,9,     -999.0,9,     -999.0,9,     -999.0,9,     -999.0,9,     -999.0,9,     -999.0,9,     -999.0,9
33RO20161119,        P18,       1,          3,         21,      11119,2,20161124,       1417,    22.6884,  -110.0001,       2619,   100.1,  14.7244,  33.7483,2,  33.7584,2,    173.8,2,   153.9,2,     9.8,2,    10.2,2,    0.06,2,   1.198,2,   2.6475,2,   1.5538,2,   1.6912,2,  2121.0,2,  2244.1,6,   7.7003,2,    25.00,    0.50,2,     5.6,2,     2.7,   0.6783,2, -999.00,9,  -999.0,9, -999.00,9, -999.00,9,    22.5071,2, -999.00,9,  -999.0,9,     -999.0,     -999.0,9,     -999.0,9,     -999.0,     -999.0,9,     -999.0,     -999.0,9,     -999.0,     -999.0,     -999.0,9,     -999.0,9,     -999.0,9,     -999.0,9,     -999.0,9,     -999.0,9,     -999.0,9,     -999.0,9
33RO20161119,        P18,       1,          3,         22,      11120,2,20161124,       1417,    22.6884,  -110.0001,       2619,    60.1,  21.3270,  34.1838,2,  34.2529,2,    219.4,2,   214.4,2,     2.3,2,     0.1,2,    0.03,2,   0.443,2,   2.0995,2,   1.2668,2,   1.6662,2,  2040.5,2,  2278.6,2,   7.9498,6,    25.00,    1.07,2,     7.5,2,     2.8,   0.9866,2, -999.00,9,  -999.0,9, -999.00,9, -999.00,9,    15.2363,2, -999.00,9,  -999.0,9,     -999.0,     -999.0,9,     -999.0,9,     -999.0,     -999.0,9,     -999.0,     -999.0,9,     -999.0,     -999.0,     -999.0,9,     -999.0,9,     -999.0,9,     -999.0,9,     -999.0,9,     -999.0,9,     -999.0,9,     -999.0,9
33RO20161119,        P18,       1,          3,         23,      11121,2,20161124,       1417,    22.6884,  -110.0001,       2619,    25.0,  27.8930,  34.5202,2,-999.0000,9,    194.8,2,   196.1,6,     1.5,2,     0.1,2,    0.01,2,   0.301,2,   1.5139,6,   0.9507,6,   1.3599,6,  1985.9,6,  2289.5,2,   8.0557,2,    25.00,    1.27,2,    11.4,2,     2.6,   1.2743,2, -999.00,9,  -999.0,9, -999.00,9, -999.00,9,     6.3926,2, -999.00,9,  -999.0,9,     -999.0,     -999.0,9,     -999.0,9,     -999.0,     -999.0,9,     -999.0,     -999.0,9,     -999.0,     -999.0,     -999.0,9,     -999.0,9,     -999.0,9,     -999.0,9,     -999.0,9,     -999.0,9,     -999.0,9,     -999.0,9
33RO20161119,        P18,       1,          3,         24,      11122,2,20161124,       1417,    22.6884,  -110.0001,       2619,     3.1,  27.8825,  34.5273,2,-999.0000,9,    194.3,2,  -999.0,9,  -999.0,9,  -999.0,9, -999.00,9,-999.000,9,-999.0000,9,-999.0000,9,-999.0000,9,  -999.0,9,  -999.0,9,-999.0000,9,  -999.00, -999.00,9,  -999.0,9,  -999.0,-999.0000,9, -999.00,9,  -999.0,9, -999.00,9, -999.00,9,     -999.0,9, -999.00,9,  -999.0,9,     -999.0,     -999.0,9,     -999.0,9,     -999.0,     -999.0,9,     -999.0,     -999.0,9,     -999.0,     -999.0,     -999.0,9,     -999.0,9,     -999.0,9,     -999.0,9,     -999.0,9,     -999.0,9,     -999.0,9,     -999.0,9
33RO20161119,        P18,       2,          2,          1,      11010,2,20161124,       1854,    22.8696,  -110.0003,       2619,   216.9,  12.0459,  34.6560,2,  34.6643,2,     11.4,2,     0.6,4,    34.3,6,    24.0,6,    0.03,6,   2.646,6,   1.1508,2,   0.6587,2,   0.4324,2,  2273.5,2,  2303.9,2,   7.3985,2,    25.00, -999.00,9,  -999.0,9,  -999.0,   0.1215,2, -999.00,9,  -999.0,9, -999.00,9, -999.00,9,      33.09,2, -999.00,9,  -999.0,9,     -999.0,     -999.0,9,      38.34,2,       0.08,      38.49,2,       0.09,       0.59,2,       0.01,     -999.0,     -999.0,9,     -999.0,9,     -999.0,9,     -999.0,9, 32.0553049,2,      13.42,2,      59.17,2,      26.29,2
33RO20161119,        P18,       2,          2,          2,      11101,2,20161124,       1854,    22.8696,  -110.0003,       2619,   205.6,  12.1949,  34.6530,2,  34.6571,2,     13.2,2,    13.2,6,    33.5,2,    23.8,6,    0.03,6,   2.614,6,   1.2076,2,   0.6974,2,   0.4802,2,  2273.2,2,  2306.6,2,   7.4051,2,    25.00, -999.00,9,  -999.0,9,  -999.0,   0.1041,2, -999.00,9,  -999.0,9, -999.00,9, -999.00,9,    34.1133,2, -999.00,9,  -999.0,9,     -999.0,     -999.0,9,      38.35,2,       0.01,      38.49,2,       0.01,       0.57,2,       0.01,     -999.0,     -999.0,9,     -999.0,9,     -999.0,9,     -999.0,9, 32.6273332,2,      13.11,2,      58.34,2,       24.2,2
33RO20161119,        P18,       2,          2,          3,      11102,2,20161124,       1854,    22.8696,  -110.0003,       2619,   175.7,  12.9159,  34.6378,2,  34.6407,2,     21.3,2,    20.2,2,    31.7,2,    23.2,2,    0.03,2,   2.535,2,   1.3989,2,   0.8127,2,   0.6140,2,  2268.1,2,  2301.4,2,   7.4235,2,    25.00, -999.00,9,  -999.0,9,  -999.0,   0.1354,2, -999.00,9,  -999.0,9, -999.00,9, -999.00,9,    36.4291,2, -999.00,9,  -999.0,9,     -999.0,     -999.0,9,      38.34,2,       0.05,      38.48,2,       0.06,       0.57,2,       0.03,     -999.0,     -999.0,9,     -999.0,9,     -999.0,9,     -999.0,9,35.20734297,2,      12.16,2,      56.75,2,      23.66,2
33RO20161119,        P18,       2,          2,          4,      11103,2,20161124,       1854,    22.8696,  -110.0003,       2619,   146.0,  13.4896,  34.5356,2,  34.5388,2,     39.2,2,    36.8,2,    28.1,2,    22.0,2,    0.04,2,   2.363,2,   1.6791,2,   0.9819,2,   0.8370,2,  2253.7,2,  2293.6,2,   7.4629,2,    25.00, -999.00,9,  -999.0,9,  -999.0,    0.185,2, -999.00,9,  -999.0,9, -999.00,9, -999.00,9,    37.7515,2, -999.00,9,  -999.0,9,     -999.0,     -999.0,9,      38.27,2,       0.05,      38.39,2,       0.05,       0.55,2,       0.02,     -999.0,     -999.0,9,     -999.0,9,     -999.0,9,     -999.0,9,36.35965623,2,      11.16,2,      55.74,2,      23.22,2
33RO20161119,        P18,       2,          2,          5,      11104,2,20161124,       1854,    22.8696,  -110.0003,       2619,   116.4,  14.0645,  34.3440,2,  34.3472,2,     67.2,2,    64.5,2,    22.5,2,    19.0,2,    0.04,2,   2.063,2,   2.0179,2,   1.1719,2,   1.1276,2,  2219.0,2,  2279.8,2,   7.5201,2,    25.00, -999.00,9,  -999.0,9,  -999.0,   0.2961,2, -999.00,9,  -999.0,9, -999.00,9, -999.00,9,    36.4675,2, -999.00,9,  -999.0,9,     -999.0,     -999.0,9,       38.2,2,       0.03,      38.31,2,       0.04,       0.55,2,       0.02,     -999.0,     -999.0,9,     -999.0,9,     -999.0,9,     -999.0,9,35.24173928,2,      10.22,2,      55.13,2,      20.12,2
33RO20161119,        P18,       2,          2,          6,      11105,2,20161124,       1854,    22.8696,  -110.0003,       2619,    96.5,  14.8794,  33.9571,2,  34.0174,2,    166.9,2,   116.8,6,    14.7,2,    12.4,2,    0.08,2,   1.512,2,   2.3482,2,   1.3808,2,   1.4475,2,  2159.1,2,  2259.8,2,   7.6364,6,    25.00, -999.00,9,  -999.0,9,  -999.0,   0.5426,2, -999.00,9,  -999.0,9, -999.00,9, -999.00,9,    28.1436,2, -999.00,9,  -999.0,9,     -999.0,     -999.0,9,      38.12,2,       0.11,       38.2,2,       0.04,       0.56,2,       0.01,     -999.0,     -999.0,9,     -999.0,9,     -999.0,9,     -999.0,9,27.77812259,2,       9.43,2,      54.28,2,      20.36,2
33RO20161119,        P18,       2,          2,          7,      11106,2,20161124,       1854,    22.8696,  -110.0003,       2619,    76.8,  16.9239,  33.6302,2,  33.6282,2,    235.6,2,   225.7,4,     3.5,2,     0.1,2,    0.05,2,   0.502,2,   2.6008,2,   1.5339,2,   1.9372,2,  2044.6,2,  2242.4,2,   7.8731,2,    25.00, -999.00,9,  -999.0,9,  -999.0,   1.1702,2, -999.00,9,  -999.0,9, -999.00,9, -999.00,9,    12.6854,2, -999.00,9,  -999.0,9,     -999.0,     -999.0,9,      38.08,2,        0.0,      38.14,2,       0.02,       0.58,2,        0.0,     -999.0,     -999.0,9,     -999.0,9,     -999.0,9,     -999.0,9, 12.9696904,2,       8.71,2,      52.02,2,      19.56,2
33RO20161119,        P18,       2,          2,          8,      11107,2,20161124,       1854,    22.8696,  -110.0003,       2619,    62.1,  20.5495,  33.6588,2,  33.6539,2,    239.3,2,   237.7,2,     2.3,2,     0.0,2,    0.02,2,   0.332,2,   2.3208,2,   1.3816,2,   1.9005,2,  2014.5,2,  2244.1,2,   7.9422,2,    25.00, -999.00,9,  -999.0,9,  -999.0,   1.4766,2, -999.00,9,  -999.0,9, -999.00,9, -999.00,9,     9.7481,2, -999.00,9,  -999.0,9,     -999.0,     -999.0,9,      38.04,2,     -999.0,      38.07,2,     -999.0,       0.48,2,        0.0,     -999.0,     -999.0,9,     -999.0,9,     -999.0,9,     -999.0,9,10.14543758,2,       8.53,2,       53.2,2,      21.01,2
33RO20161119,        P18,       2,          2,          9,      11108,2,20161124,       1854,    22.8696,  -110.0003,       2619,    32.7,  25.1281,  34.1194,2,  34.1020,2,    207.2,2,   207.8,2,     2.1,2,     0.0,2,    0.01,2,   0.269,2,   1.7631,2,   1.0800,2,   1.5242,2,  2008.6,2,  2270.2,2,   8.0039,2,    25.00, -999.00,9,  -999.0,9,  -999.0,   1.6429,2, -999.00,9,  -999.0,9, -999.00,9, -999.00,9,     6.8435,2, -999.00,9,  -999.0,9,     -999.0,     -999.0,9,      38.25,2,     -999.0,      38.18,2,     -999.0,       0.43,2,     -999.0,     -999.0,     -999.0,9,     -999.0,9,     -999.0,9,     -999.0,9,7.136665096,2,       8.08,2,      52.61,2,      21.08,2
33RO20161119,        P18,       2,          2,         10,      11109,2,20161124,       1854,    22.8696,  -110.0003,       2619,     3.3,  26.2906,  34.3760,2,  34.3628,2,    196.3,2,   202.0,2,     1.9,2,     0.0,2,    0.02,2,   0.287,2,   1.6437,6,   1.0138,6,   1.4978,6,  1999.8,6,  2284.5,6,   8.0280,2,    25.00, -999.00,9,  -999.0,9,  -999.0,   1.5972,2, -999.00,9,  -999.0,9, -999.00,9, -999.00,9,     6.4918,2, -999.00,9,  -999.0,9,     -999.0,     -999.0,9,      38.37,2,     -999.0,      38.36,2,     -999.0,       0.59,3,        0.1,     -999.0,     -999.0,9,     -999.0,9,     -999.0,9,     -999.0,9,6.899739167,2,       8.34,2,      54.18,2,      21.53,2
33RO20161119,        P18,       2,          2,         11,      11110,2,20161124,       1854,    22.8696,  -110.0003,       2619,     3.4,  26.2932,  34.3765,2,-999.0000,9,    196.3,2,  -999.0,9,  -999.0,9,  -999.0,9, -999.00,9,-999.000,9,-999.0000,9,-999.0000,9,-999.0000,9,  -999.0,9,  -999.0,9,-999.0000,9,  -999.00, -999.00,9,  -999.0,9,  -999.0,-999.0000,9, -999.00,9,  -999.0,9, -999.00,9, -999.00,9,     -999.0,9, -999.00,9,  -999.0,9,     -999.0,     -999.0,9,     -999.0,9,     -999.0,     -999.0,9,     -999.0,     -999.0,9,     -999.0,     -999.0,     -999.0,9,     -999.0,9,     -999.0,9,     -999.0,9,     -999.0,9,     -999.0,9,     -999.0,9,     -999.0,9