BOTTLE,20230606CCHSIOCBG
EXPOCODE,SECT_ID,STNNBR,CASTNO,SAMPNO,BTLNBR,BTLNBR_FLAG_W,DATE,TIME,LATITUDE,LONGITUDE,DEPTH,CTDPRS,CTDTMP,CTDSAL,CTDSAL_FLAG_W,SALNTY,SALNTY_FLAG_W,CTDOXY,CTDOXY_FLAG_W,OXYGEN,OXYGEN_FLAG_W,SILCAT,SILCAT_FLAG_W,NITRAT,NITRAT_FLAG_W,NITRIT,NITRIT_FLAG_W,PHSPHT,PHSPHT_FLAG_W,CFC-11,CFC-11_FLAG_W,CFC-12,CFC-12_FLAG_W,SF6,SF6_FLAG_W,TCARBN,TCARBN_FLAG_W,ALKALI,ALKALI_FLAG_W,PH_SWS,PH_SWS_FLAG_W,PH_TMP,DELC13,DELC13_FLAG_W,DELC14,DELC14_FLAG_W,C14ERR,CCL4,CCL4_FLAG_W,POC,POC_FLAG_W,DOC,DOC_FLAG_W,TDN,TDN_FLAG_W,PON,PON_FLAG_W,N2O,N2O_FLAG_W,D15N_NO3,D15N_NO3_FLAG_W,14C-DOC,14C-DOC_FLAG_W,14C-DOCERR,13C-DOC,13C-DOC_FLAG_W,N2/ARGON_UNSTRIPPED,N2/ARGON_UNSTRIPPED_FLAG_W,N2/ARGON_UNSTRIPPED_ERROR,N2/ARGON,N2/ARGON_FLAG_W,N2/ARGON_ERROR,D15N_N2,D15N_N2_FLAG_W,D15N_N2_ERROR,D15N_NO3_ERROR,D15N_NO2+NO3,D15N_NO2+NO3_FLAG_W,D18O_NO2+NO3,D18O_NO2+NO3_FLAG_W,D18O_NO3,D18O_NO3_FLAG_W,TDP,TDP_FLAG_W,N2O_ALT_1,N2O_ALT_1_FLAG_W,D15N_N2O,D15N_N2O_FLAG_W,D18O_N2O,D18O_N2O_FLAG_W,D15N_ALPHA_N2O,D15N_ALPHA_N2O_FLAG_W
,,,,,,,,,,,METERS,DBAR,ITS-90,PSS-78,,PSS-78,,UMOL/KG,,UMOL/KG,,UMOL/KG,,UMOL/KG,,UMOL/KG,,UMOL/KG,,PMOL/KG,,PMOL/KG,,FMOL/KG,,UMOL/KG,,UMOL/KG,,,,DEG C,/MILLE,,/MILLE,,/MILLE,PMOL/KG,,UG/KG,,UMOL/KG,,UMOL/KG,,UG/KG,,NMOL/KG,,/MILLE,,/MILLE,,/MILLE,/MILLE,,,,,,,,/MILLE,,/MILLE,/MILLE,/MILLE,,/MILLE,,/MILLE,,UMOL/KG,,NMOL/L,,/MILLE,,/MILLE,,/MILLE,
33RO20161119,        P18,      86,          1,          1,      11010,2,20161214,       0146,    -9.4104,  -103.8201,       4127,  4175.4,   1.8232,  34.6781,2,  34.6929,4,    137.9,2,   136.6,2,   143.5,6,    36.8,6,    0.01,6,   2.547,6,   0.0017,2,   0.0008,2,   0.0000,2,  2340.1,6,  2430.8,2,   7.5618,6,    25.00, -999.00,9,  -999.0,9,  -999.0,        0,2, -999.00,9,  -999.0,9, -999.00,9, -999.00,9,    21.5114,2, -999.00,9,  -999.0,9,     -999.0,     -999.0,9,     -999.0,9,     -999.0,     -999.0,9,     -999.0,     -999.0,9,     -999.0,     -999.0,     -999.0,9,     -999.0,9,     -999.0,9,     -999.0,9,     -999.0,9,     -999.0,9,     -999.0,9,     -999.0,9
33RO20161119,        P18,      86,          1,          2,      11101,2,20161214,       0146,    -9.4104,  -103.8201,       4127,  3735.9,   1.7836,  34.6778,2,  34.6793,2,    135.9,2,   135.4,2,   143.2,6,    37.0,6,    0.00,6,   2.542,6,   0.0014,2,   0.0011,2,   0.0000,2,  2338.6,2,  2429.7,6,   7.5620,2,    25.00, -999.00,9,  -999.0,9,  -999.0,        0,2, -999.00,9,  -999.0,9, -999.00,9, -999.00,9,    21.7801,2, -999.00,9,  -999.0,9,     -999.0,     -999.0,9,     -999.0,9,     -999.0,     -999.0,9,     -999.0,     -999.0,9,     -999.0,     -999.0,     -999.0,9,     -999.0,9,     -999.0,9,     -999.0,9,     -999.0,9,     -999.0,9,     -999.0,9,     -999.0,9
33RO20161119,        P18,      86,          1,          3,      11102,2,20161214,       0146,    -9.4104,  -103.8201,       4127,  3295.0,   1.7588,  34.6768,2,  34.6762,2,    135.2,2,   134.5,2,   142.5,6,    37.0,6,    0.00,6,   2.547,6,-999.0000,9,-999.0000,9,-999.0000,9,  2338.3,2,  2428.4,2,   7.5587,2,    25.00, -999.00,9,  -999.0,9,  -999.0,-999.0000,9, -999.00,9,  -999.0,9, -999.00,9, -999.00,9,     -999.0,9, -999.00,9,  -999.0,9,     -999.0,     -999.0,9,     -999.0,9,     -999.0,     -999.0,9,     -999.0,     -999.0,9,     -999.0,     -999.0,     -999.0,9,     -999.0,9,     -999.0,9,     -999.0,9,     -999.0,9,     -999.0,9,     -999.0,9,     -999.0,9
33RO20161119,        P18,      86,          1,          4,      11103,2,20161214,       0146,    -9.4104,  -103.8201,       4127,  2975.2,   1.7718,  34.6746,2,  34.6740,2,    133.5,2,   132.5,2,   141.1,6,    37.0,6,    0.00,6,   2.561,6,-999.0000,9,-999.0000,9,-999.0000,9,  2336.1,2,  2425.0,2,   7.5530,2,    25.00, -999.00,9,  -999.0,9,  -999.0,-999.0000,9, -999.00,9,  -999.0,9, -999.00,9, -999.00,9,     -999.0,9, -999.00,9,  -999.0,9,     -999.0,     -999.0,9,     -999.0,9,     -999.0,     -999.0,9,     -999.0,     -999.0,9,     -999.0,     -999.0,     -999.0,9,     -999.0,9,     -999.0,9,     -999.0,9,     -999.0,9,     -999.0,9,     -999.0,9,     -999.0,9
33RO20161119,        P18,      86,          1,          5,      11104,2,20161214,       0146,    -9.4104,  -103.8201,       4127,  2670.1,   1.8114,  34.6715,2,  34.6703,2,    129.7,2,   129.9,2,   139.2,2,    37.1,2,    0.00,2,   2.569,2,-999.0000,9,-999.0000,9,-999.0000,9,  2338.4,2,  2422.0,2,   7.5468,2,    25.00, -999.00,9,  -999.0,9,  -999.0,-999.0000,9, -999.00,9,  -999.0,9, -999.00,9, -999.00,9,     -999.0,9, -999.00,9,  -999.0,9,     -999.0,     -999.0,9,     -999.0,9,     -999.0,     -999.0,9,     -999.0,     -999.0,9,     -999.0,     -999.0,     -999.0,9,     -999.0,9,     -999.0,9,     -999.0,9,     -999.0,9,     -999.0,9,     -999.0,9,     -999.0,9
33RO20161119,        P18,      86,          1,          6,      11105,2,20161214,       0146,    -9.4104,  -103.8201,       4127,  2360.0,   1.9827,  34.6608,2,  34.6605,2,    121.6,2,   121.2,2,   136.3,2,    37.7,2,    0.00,2,   2.627,2,-999.0000,9,-999.0000,9,-999.0000,9,  2340.5,6,  2416.2,2,   7.5273,2,    25.00, -999.00,9,  -999.0,9,  -999.0,-999.0000,9, -999.00,9,  -999.0,9, -999.00,9, -999.00,9,     -999.0,9, -999.00,9,  -999.0,9,     -999.0,     -999.0,9,     -999.0,9,     -999.0,     -999.0,9,     -999.0,     -999.0,9,     -999.0,     -999.0,     -999.0,9,     -999.0,9,     -999.0,9,     -999.0,9,     -999.0,9,     -999.0,9,     -999.0,9,     -999.0,9
33RO20161119,        P18,      86,          1,          7,      11106,2,20161214,       0146,    -9.4104,  -103.8201,       4127,  2060.7,   2.2015,  34.6461,2,  34.6450,2,    113.5,2,   113.1,2,   131.5,2,    38.3,2,    0.00,2,   2.673,2,-999.0000,9,-999.0000,9,-999.0000,9,  2339.0,2,  2410.9,2,   7.5119,2,    25.00, -999.00,9,  -999.0,9,  -999.0,-999.0000,9, -999.00,9,  -999.0,9, -999.00,9, -999.00,9,     -999.0,9, -999.00,9,  -999.0,9,     -999.0,     -999.0,9,     -999.0,9,     -999.0,     -999.0,9,     -999.0,     -999.0,9,     -999.0,     -999.0,     -999.0,9,     -999.0,9,     -999.0,9,     -999.0,9,     -999.0,9,     -999.0,9,     -999.0,9,     -999.0,9
33RO20161119,        P18,      86,          1,          8,      11107,2,20161214,       0146,    -9.4104,  -103.8201,       4127,  1751.0,   2.5541,  34.6234,2,  34.6222,2,    104.7,2,   105.1,2,   122.0,2,    39.1,2,    0.00,2,   2.743,2,-999.0000,9,-999.0000,9,-999.0000,9,  2334.6,2,  2398.6,2,   7.4924,2,    25.00, -999.00,9,  -999.0,9,  -999.0,-999.0000,9, -999.00,9,  -999.0,9, -999.00,9, -999.00,9,     -999.0,9, -999.00,9,  -999.0,9,     -999.0,     -999.0,9,     -999.0,9,     -999.0,     -999.0,9,     -999.0,     -999.0,9,     -999.0,     -999.0,     -999.0,9,     -999.0,9,     -999.0,9,     -999.0,9,     -999.0,9,     -999.0,9,     -999.0,9,     -999.0,9
33RO20161119,        P18,      86,          1,          9,      11108,2,20161214,       0146,    -9.4104,  -103.8201,       4127,  1475.0,   3.0802,  34.5934,2,  34.6018,4,     94.1,2,    93.0,6,   108.0,2,    39.9,2,    0.00,2,   2.820,2,-999.0000,9,-999.0000,9,-999.0000,9,  2325.4,2,  2380.9,2,   7.4673,2,    25.00, -999.00,9,  -999.0,9,  -999.0,-999.0000,9, -999.00,9,  -999.0,9, -999.00,9, -999.00,9,     -999.0,9, -999.00,9,  -999.0,9,     -999.0,     -999.0,9,     -999.0,9,     -999.0,     -999.0,9,     -999.0,     -999.0,9,     -999.0,     -999.0,     -999.0,9,     -999.0,9,     -999.0,9,     -999.0,9,     -999.0,9,     -999.0,9,     -999.0,9,     -999.0,9
33RO20161119,        P18,      86,          1,         10,      11109,2,20161214,       0146,    -9.4104,  -103.8201,       4127,  1305.7,   3.5176,  34.5726,2,  34.5713,2,     92.2,2,    91.3,2,    96.8,2,    39.8,2,    0.00,2,   2.807,2,-999.0000,9,-999.0000,9,-999.0000,9,  2313.7,2,  2361.0,3,   7.4644,2,    25.00, -999.00,9,  -999.0,9,  -999.0,-999.0000,9, -999.00,9,  -999.0,9, -999.00,9, -999.00,9,     -999.0,9, -999.00,9,  -999.0,9,     -999.0,     -999.0,9,     -999.0,9,     -999.0,     -999.0,9,     -999.0,     -999.0,9,     -999.0,     -999.0,     -999.0,9,     -999.0,9,     -999.0,9,     -999.0,9,     -999.0,9,     -999.0,9,     -999.0,9,     -999.0,9
33RO20161119,        P18,      86,          1,         11,      11110,2,20161214,       0146,    -9.4104,  -103.8201,       4127,  1165.1,   3.9235,  34.5584,2,  34.5588,2,     82.9,2,    84.3,2,    88.5,2,    40.5,2,    0.00,2,   2.850,2,   0.0021,6,   0.0013,6,   0.0000,6,  2308.1,2,  2352.3,2,   7.4527,2,    25.00, -999.00,9,  -999.0,9,  -999.0,    0.015,2, -999.00,9,  -999.0,9, -999.00,9, -999.00,9,    33.1837,2, -999.00,9,  -999.0,9,     -999.0,     -999.0,9,     -999.0,9,     -999.0,     -999.0,9,     -999.0,     -999.0,9,     -999.0,     -999.0,     -999.0,9,     -999.0,9,     -999.0,9,     -999.0,9,     -999.0,9,     -999.0,9,     -999.0,9,     -999.0,9
33RO20161119,        P18,      86,          1,         12,      11111,2,20161214,       0146,    -9.4104,  -103.8201,       4127,  1024.6,   4.3850,  34.5458,2,  34.5450,2,     76.8,2,    76.3,2,    79.1,2,    41.0,2,    0.01,2,   2.885,2,   0.0028,2,   0.0013,2,   0.0000,2,  2302.4,2,  2347.0,2,   7.4402,2,    25.00, -999.00,9,  -999.0,9,  -999.0,   0.0081,2, -999.00,9,  -999.0,9, -999.00,9, -999.00,9,    34.5873,2, -999.00,9,  -999.0,9,     -999.0,     -999.0,9,     -999.0,9,     -999.0,     -999.0,9,     -999.0,     -999.0,9,     -999.0,     -999.0,     -999.0,9,     -999.0,9,     -999.0,9,     -999.0,9,     -999.0,9,     -999.0,9,     -999.0,9,     -999.0,9
33RO20161119,        P18,      86,          1,         13,      11112,2,20161214,       0146,    -9.4104,  -103.8201,       4127,   895.1,   4.9946,  34.5346,2,  34.5342,2,     67.8,2,    68.6,2,    67.1,2,    41.3,2,    0.00,2,   2.908,2,   0.0029,2,   0.0018,2,   0.0371,2,  2293.8,2,  2336.4,2,   7.4253,2,    25.00, -999.00,9,  -999.0,9,  -999.0,   0.0105,2, -999.00,9,  -999.0,9, -999.00,9, -999.00,9,    38.1393,2, -999.00,9,  -999.0,9,     -999.0,     -999.0,9,     -999.0,9,     -999.0,     -999.0,9,     -999.0,     -999.0,9,     -999.0,     -999.0,     -999.0,9,     -999.0,9,     -999.0,9,     -999.0,9,     -999.0,9,     -999.0,9,     -999.0,9,     -999.0,9
33RO20161119,        P18,      86,          1,         14,      11113,2,20161214,       0146,    -9.4104,  -103.8201,       4127,   770.1,   5.8168,  34.5392,2,  34.5389,2,     38.3,2,    37.8,2,    56.3,2,    43.6,2,    0.00,2,   3.029,2,   0.0055,2,   0.0028,2,   0.0000,2,  2297.0,2,  2322.0,2,   7.3706,2,    25.00, -999.00,9,  -999.0,9,  -999.0,   0.0122,2, -999.00,9,  -999.0,9, -999.00,9, -999.00,9,     47.926,2, -999.00,9,  -999.0,9,     -999.0,     -999.0,9,     -999.0,9,     -999.0,     -999.0,9,     -999.0,     -999.0,9,     -999.0,     -999.0,     -999.0,9,     -999.0,9,     -999.0,9,     -999.0,9,     -999.0,9,     -999.0,9,     -999.0,9,     -999.0,9
33RO20161119,        P18,      86,          1,         15,      11114,2,20161214,       0146,    -9.4104,  -103.8201,       4127,   650.3,   6.8246,  34.5668,2,  34.5656,2,     17.1,2,    16.6,2,    46.7,2,    43.8,2,    0.00,2,   3.040,2,   0.0120,2,   0.0081,2,   0.0000,2,  2297.4,2,  2311.5,2,   7.3405,2,    25.00, -999.00,9,  -999.0,9,  -999.0,   0.0177,2, -999.00,9,  -999.0,9, -999.00,9, -999.00,9,    59.8241,2, -999.00,9,  -999.0,9,     -999.0,     -999.0,9,     -999.0,9,     -999.0,     -999.0,9,     -999.0,     -999.0,9,     -999.0,     -999.0,     -999.0,9,     -999.0,9,     -999.0,9,     -999.0,9,     -999.0,9,     -999.0,9,     -999.0,9,     -999.0,9
33RO20161119,        P18,      86,          1,         16,      11115,2,20161214,       0146,    -9.4104,  -103.8201,       4127,   540.4,   8.3402,  34.6401,2,  34.6351,2,      7.2,2,     8.0,2,    38.5,2,    40.6,2,    0.00,2,   2.884,2,   0.0555,2,   0.0333,2,   0.0000,2,  2288.1,2,  2305.4,2,   7.3476,6,    25.00, -999.00,9,  -999.0,9,  -999.0,   0.0242,2, -999.00,9,  -999.0,9, -999.00,9, -999.00,9,    74.7024,2, -999.00,9,  -999.0,9,     -999.0,     -999.0,9,     -999.0,9,     -999.0,     -999.0,9,     -999.0,     -999.0,9,     -999.0,     -999.0,     -999.0,9,     -999.0,9,     -999.0,9,     -999.0,9,     -999.0,9,     -999.0,9,     -999.0,9,     -999.0,9
33RO20161119,        P18,      86,          1,         17,      11116,2,20161214,       0146,    -9.4104,  -103.8201,       4127,   435.6,   9.7277,  34.7244,2,  34.7246,2,      4.6,2,     4.7,2,    33.6,2,    36.4,2,    0.00,2,   2.712,2,   0.2117,2,   0.1229,2,   0.0425,2,  2281.6,2,  2303.1,6,   7.3668,2,    25.00, -999.00,9,  -999.0,9,  -999.0,   0.0512,2, -999.00,9,  -999.0,9, -999.00,9, -999.00,9,    67.1632,2, -999.00,9,  -999.0,9,     -999.0,     -999.0,9,     -999.0,9,     -999.0,     -999.0,9,     -999.0,     -999.0,9,     -999.0,     -999.0,     -999.0,9,     -999.0,9,     -999.0,9,     -999.0,9,     -999.0,9,     -999.0,9,     -999.0,9,     -999.0,9
33RO20161119,        P18,      86,          1,         18,      11117,2,20161214,       0146,    -9.4104,  -103.8201,       4127,   335.1,  10.9188,  34.8013,2,  34.7981,2,     11.7,2,     9.3,6,    28.9,2,    33.5,2,    0.01,2,   2.514,2,   0.5604,2,   0.3164,2,   0.1137,2,  2269.1,2,  2301.5,2,   7.4045,2,    25.00, -999.00,9,  -999.0,9,  -999.0,   0.0889,2, -999.00,9,  -999.0,9, -999.00,9, -999.00,9,    68.0756,2, -999.00,9,  -999.0,9,     -999.0,     -999.0,9,     -999.0,9,     -999.0,     -999.0,9,     -999.0,     -999.0,9,     -999.0,     -999.0,     -999.0,9,     -999.0,9,     -999.0,9,     -999.0,9,     -999.0,9,     -999.0,9,     -999.0,9,     -999.0,9
33RO20161119,        P18,      86,          1,         19,      11083,2,20161214,       0146,    -9.4104,  -103.8201,       4127,   250.4,  11.8370,  34.8612,2,  34.8598,2,     26.5,2,    24.7,2,    23.7,2,    31.1,2,    0.01,2,   2.301,2,   0.9355,2,   0.5189,2,   0.2511,2,  2248.6,2,  2301.8,2,   7.4623,3,    25.00, -999.00,9,  -999.0,9,  -999.0,   0.0922,2, -999.00,9,  -999.0,9, -999.00,9, -999.00,9,    68.8164,2, -999.00,9,  -999.0,9,     -999.0,     -999.0,9,     -999.0,9,     -999.0,     -999.0,9,     -999.0,     -999.0,9,     -999.0,     -999.0,     -999.0,9,     -999.0,9,     -999.0,9,     -999.0,9,     -999.0,9,     -999.0,9,     -999.0,9,     -999.0,9
33RO20161119,        P18,      86,          1,         20,      11118,2,20161214,       0146,    -9.4104,  -103.8201,       4127,   170.2,  13.0353,  34.9091,2,  34.9116,2,     13.8,2,    11.5,2,    18.9,2,    27.6,2,    0.01,2,   2.411,2,   1.3340,2,   0.7606,2,   0.4199,2,  2254.7,2,  2301.3,2,   7.4448,2,    25.00, -999.00,9,  -999.0,9,  -999.0,   0.5572,2, -999.00,9,  -999.0,9, -999.00,9, -999.00,9,    82.2855,2, -999.00,9,  -999.0,9,     -999.0,     -999.0,9,     -999.0,9,     -999.0,     -999.0,9,     -999.0,     -999.0,9,     -999.0,     -999.0,     -999.0,9,     -999.0,9,     -999.0,9,     -999.0,9,     -999.0,9,     -999.0,9,     -999.0,9,     -999.0,9
33RO20161119,        P18,      86,          1,         21,      11119,2,20161214,       0146,    -9.4104,  -103.8201,       4127,   105.3,  18.3566,  35.4198,2,  35.4082,2,    167.1,2,   159.1,2,     2.4,2,     9.4,2,    0.19,2,   1.000,2,   2.2126,2,   1.3514,2,   1.5142,2,  2140.4,2,  2338.5,2,   7.8320,2,    25.00, -999.00,9,  -999.0,9,  -999.0,   1.4548,2, -999.00,9,  -999.0,9, -999.00,9, -999.00,9,    16.7436,2, -999.00,9,  -999.0,9,     -999.0,     -999.0,9,     -999.0,9,     -999.0,     -999.0,9,     -999.0,     -999.0,9,     -999.0,     -999.0,     -999.0,9,     -999.0,9,     -999.0,9,     -999.0,9,     -999.0,9,     -999.0,9,     -999.0,9,     -999.0,9
33RO20161119,        P18,      86,          1,         22,      11120,2,20161214,       0146,    -9.4104,  -103.8201,       4127,    55.1,  24.0875,  35.6158,2,  35.6215,2,    214.8,2,   213.6,2,     2.1,2,     5.0,2,    0.11,2,   0.597,2,   1.7340,2,   1.0946,2,   1.5320,2,  2064.1,2,  2346.4,2,   7.9988,2,    25.00, -999.00,9,  -999.0,9,  -999.0,   1.6419,2, -999.00,9,  -999.0,9, -999.00,9, -999.00,9,     7.2019,2, -999.00,9,  -999.0,9,     -999.0,     -999.0,9,     -999.0,9,     -999.0,     -999.0,9,     -999.0,     -999.0,9,     -999.0,     -999.0,     -999.0,9,     -999.0,9,     -999.0,9,     -999.0,9,     -999.0,9,     -999.0,9,     -999.0,9,     -999.0,9
33RO20161119,        P18,      86,          1,         23,      11121,2,20161214,       0146,    -9.4104,  -103.8201,       4127,    19.9,  24.5186,  35.3541,2,  35.3550,2,    208.0,2,   209.8,2,     2.2,2,     7.0,2,    0.15,2,   0.664,2,-999.0000,9,-999.0000,9,-999.0000,9,  2063.9,2,  2331.8,6,   7.9769,2,    25.00, -999.00,9,  -999.0,9,  -999.0,-999.0000,9, -999.00,9,  -999.0,9, -999.00,9, -999.00,9,     -999.0,9, -999.00,9,  -999.0,9,     -999.0,     -999.0,9,     -999.0,9,     -999.0,     -999.0,9,     -999.0,     -999.0,9,     -999.0,     -999.0,     -999.0,9,     -999.0,9,     -999.0,9,     -999.0,9,     -999.0,9,     -999.0,9,     -999.0,9,     -999.0,9
33RO20161119,        P18,      86,          1,         24,      11122,2,20161214,       0146,    -9.4104,  -103.8201,       4127,     3.5,  24.5404,  35.3557,2,  35.3550,2,    207.9,2,   210.2,2,     2.2,2,     6.9,2,    0.15,2,   0.674,2,   1.7063,2,   1.0744,2,   1.4889,2,  2062.3,6,  2330.1,2,   7.9767,2,    25.00, -999.00,9,  -999.0,9,  -999.0,        0,2, -999.00,9,  -999.0,9, -999.00,9, -999.00,9,     7.0461,2, -999.00,9,  -999.0,9,     -999.0,     -999.0,9,     -999.0,9,     -999.0,     -999.0,9,     -999.0,     -999.0,9,     -999.0,     -999.0,     -999.0,9,     -999.0,9,     -999.0,9,     -999.0,9,     -999.0,9,     -999.0,9,     -999.0,9,     -999.0,9