BOTTLE,20230606CCHSIOCBG
EXPOCODE,SECT_ID,STNNBR,CASTNO,SAMPNO,BTLNBR,BTLNBR_FLAG_W,DATE,TIME,LATITUDE,LONGITUDE,DEPTH,CTDPRS,CTDTMP,CTDSAL,CTDSAL_FLAG_W,SALNTY,SALNTY_FLAG_W,CTDOXY,CTDOXY_FLAG_W,OXYGEN,OXYGEN_FLAG_W,SILCAT,SILCAT_FLAG_W,NITRAT,NITRAT_FLAG_W,NITRIT,NITRIT_FLAG_W,PHSPHT,PHSPHT_FLAG_W,CFC-11,CFC-11_FLAG_W,CFC-12,CFC-12_FLAG_W,SF6,SF6_FLAG_W,TCARBN,TCARBN_FLAG_W,ALKALI,ALKALI_FLAG_W,PH_SWS,PH_SWS_FLAG_W,PH_TMP,DELC13,DELC13_FLAG_W,DELC14,DELC14_FLAG_W,C14ERR,CCL4,CCL4_FLAG_W,POC,POC_FLAG_W,DOC,DOC_FLAG_W,TDN,TDN_FLAG_W,PON,PON_FLAG_W,N2O,N2O_FLAG_W,D15N_NO3,D15N_NO3_FLAG_W,14C-DOC,14C-DOC_FLAG_W,14C-DOCERR,13C-DOC,13C-DOC_FLAG_W,N2/ARGON_UNSTRIPPED,N2/ARGON_UNSTRIPPED_FLAG_W,N2/ARGON_UNSTRIPPED_ERROR,N2/ARGON,N2/ARGON_FLAG_W,N2/ARGON_ERROR,D15N_N2,D15N_N2_FLAG_W,D15N_N2_ERROR,D15N_NO3_ERROR,D15N_NO2+NO3,D15N_NO2+NO3_FLAG_W,D18O_NO2+NO3,D18O_NO2+NO3_FLAG_W,D18O_NO3,D18O_NO3_FLAG_W,TDP,TDP_FLAG_W,N2O_ALT_1,N2O_ALT_1_FLAG_W,D15N_N2O,D15N_N2O_FLAG_W,D18O_N2O,D18O_N2O_FLAG_W,D15N_ALPHA_N2O,D15N_ALPHA_N2O_FLAG_W
,,,,,,,,,,,METERS,DBAR,ITS-90,PSS-78,,PSS-78,,UMOL/KG,,UMOL/KG,,UMOL/KG,,UMOL/KG,,UMOL/KG,,UMOL/KG,,PMOL/KG,,PMOL/KG,,FMOL/KG,,UMOL/KG,,UMOL/KG,,,,DEG C,/MILLE,,/MILLE,,/MILLE,PMOL/KG,,UG/KG,,UMOL/KG,,UMOL/KG,,UG/KG,,NMOL/KG,,/MILLE,,/MILLE,,/MILLE,/MILLE,,,,,,,,/MILLE,,/MILLE,/MILLE,/MILLE,,/MILLE,,/MILLE,,UMOL/KG,,NMOL/L,,/MILLE,,/MILLE,,/MILLE,
33RO20161119,        P18,      64,          1,          1,      11010,2,20161209,       0117,    -2.2501,  -109.9999,       3903,  3954.1,   1.4812,  34.6921,2,  34.6907,2,    158.4,2,   157.9,2,   141.1,6,    36.2,6,    0.00,6,   2.441,6,-999.0000,9,-999.0000,9,-999.0000,9,  -999.0,9,  -999.0,9,   7.5939,6,    25.00, -999.00,9,  -999.0,9,  -999.0,-999.0000,9, -999.00,9,  -999.0,9, -999.00,9, -999.00,9,     -999.0,9, -999.00,9,  -999.0,9,     -999.0,     -999.0,9,     -999.0,9,     -999.0,     -999.0,9,     -999.0,     -999.0,9,     -999.0,     -999.0,     -999.0,9,     -999.0,9,     -999.0,9,     -999.0,9,     -999.0,9,     -999.0,9,     -999.0,9,     -999.0,9
33RO20161119,        P18,      64,          1,          2,      11101,2,20161209,       0117,    -2.2501,  -109.9999,       3903,  3625.9,   1.4748,  34.6906,2,  34.6901,2,    156.7,2,   155.8,2,   141.1,6,    36.3,6,    0.00,6,   2.452,6,-999.0000,9,-999.0000,9,-999.0000,9,  -999.0,9,  -999.0,9,   7.5888,6,    25.00, -999.00,9,  -999.0,9,  -999.0,-999.0000,9, -999.00,9,  -999.0,9, -999.00,9, -999.00,9,     -999.0,9, -999.00,9,  -999.0,9,     -999.0,     -999.0,9,     -999.0,9,     -999.0,     -999.0,9,     -999.0,     -999.0,9,     -999.0,     -999.0,     -999.0,9,     -999.0,9,     -999.0,9,     -999.0,9,     -999.0,9,     -999.0,9,     -999.0,9,     -999.0,9
33RO20161119,        P18,      64,          1,          3,      11102,2,20161209,       0117,    -2.2501,  -109.9999,       3903,  3400.0,   1.5564,  34.6838,2,  34.6823,2,    144.9,2,   144.2,2,   144.1,6,    37.1,6,    0.00,6,   2.520,6,-999.0000,9,-999.0000,9,-999.0000,9,  -999.0,9,  -999.0,9,-999.0000,9,  -999.00, -999.00,9,  -999.0,9,  -999.0,-999.0000,9, -999.00,9,  -999.0,9, -999.00,9, -999.00,9,     -999.0,9, -999.00,9,  -999.0,9,     -999.0,     -999.0,9,     -999.0,9,     -999.0,     -999.0,9,     -999.0,     -999.0,9,     -999.0,     -999.0,     -999.0,9,     -999.0,9,     -999.0,9,     -999.0,9,     -999.0,9,     -999.0,9,     -999.0,9,     -999.0,9
33RO20161119,        P18,      64,          1,          4,      11103,2,20161209,       0117,    -2.2501,  -109.9999,       3903,  3100.0,   1.6435,  34.6763,2,  34.6762,2,    140.2,2,   140.1,2,   140.3,6,    37.2,6,    0.00,6,   2.544,6,-999.0000,9,-999.0000,9,-999.0000,9,  -999.0,9,  -999.0,9,-999.0000,9,  -999.00, -999.00,9,  -999.0,9,  -999.0,-999.0000,9, -999.00,9,  -999.0,9, -999.00,9, -999.00,9,     -999.0,9, -999.00,9,  -999.0,9,     -999.0,     -999.0,9,     -999.0,9,     -999.0,     -999.0,9,     -999.0,     -999.0,9,     -999.0,     -999.0,     -999.0,9,     -999.0,9,     -999.0,9,     -999.0,9,     -999.0,9,     -999.0,9,     -999.0,9,     -999.0,9
33RO20161119,        P18,      64,          1,          5,      11104,2,20161209,       0117,    -2.2501,  -109.9999,       3903,  2799.2,   1.7745,  34.6722,2,  34.6716,2,    132.5,2,   132.2,2,   141.0,2,    37.6,2,    0.00,2,   2.580,2,-999.0000,9,-999.0000,9,-999.0000,9,  -999.0,9,  -999.0,9,-999.0000,9,  -999.00, -999.00,9,  -999.0,9,  -999.0,-999.0000,9, -999.00,9,  -999.0,9, -999.00,9, -999.00,9,     -999.0,9, -999.00,9,  -999.0,9,     -999.0,     -999.0,9,     -999.0,9,     -999.0,     -999.0,9,     -999.0,     -999.0,9,     -999.0,     -999.0,     -999.0,9,     -999.0,9,     -999.0,9,     -999.0,9,     -999.0,9,     -999.0,9,     -999.0,9,     -999.0,9
33RO20161119,        P18,      64,          1,          6,      11105,2,20161209,       0117,    -2.2501,  -109.9999,       3903,  2500.7,   1.9140,  34.6621,2,  34.6612,2,    121.3,2,   121.1,6,   140.9,2,    38.5,2,    0.00,2,   2.652,2,-999.0000,9,-999.0000,9,-999.0000,9,  -999.0,9,  -999.0,9,-999.0000,9,  -999.00, -999.00,9,  -999.0,9,  -999.0,-999.0000,9, -999.00,9,  -999.0,9, -999.00,9, -999.00,9,     -999.0,9, -999.00,9,  -999.0,9,     -999.0,     -999.0,9,     -999.0,9,     -999.0,     -999.0,9,     -999.0,     -999.0,9,     -999.0,     -999.0,     -999.0,9,     -999.0,9,     -999.0,9,     -999.0,9,     -999.0,9,     -999.0,9,     -999.0,9,     -999.0,9
33RO20161119,        P18,      64,          1,          7,      11106,2,20161209,       0117,    -2.2501,  -109.9999,       3903,  2200.5,   2.1047,  34.6546,2,  34.6558,2,    109.7,2,   110.2,2,   141.1,2,    39.2,2,    0.00,2,   2.710,2,-999.0000,9,-999.0000,9,-999.0000,9,  -999.0,9,  -999.0,9,-999.0000,9,  -999.00, -999.00,9,  -999.0,9,  -999.0,-999.0000,9, -999.00,9,  -999.0,9, -999.00,9, -999.00,9,     -999.0,9, -999.00,9,  -999.0,9,     -999.0,     -999.0,9,     -999.0,9,     -999.0,     -999.0,9,     -999.0,     -999.0,9,     -999.0,     -999.0,     -999.0,9,     -999.0,9,     -999.0,9,     -999.0,9,     -999.0,9,     -999.0,9,     -999.0,9,     -999.0,9
33RO20161119,        P18,      64,          1,          8,      11107,2,20161209,       0117,    -2.2501,  -109.9999,       3903,  1900.2,   2.5009,  34.6354,2,  34.6349,2,     96.2,2,    96.2,2,   134.1,2,    40.1,2,    0.00,2,   2.801,2,-999.0000,9,-999.0000,9,-999.0000,9,  -999.0,9,  -999.0,9,-999.0000,9,  -999.00, -999.00,9,  -999.0,9,  -999.0,-999.0000,9, -999.00,9,  -999.0,9, -999.00,9, -999.00,9,     -999.0,9, -999.00,9,  -999.0,9,     -999.0,     -999.0,9,     -999.0,9,     -999.0,     -999.0,9,     -999.0,     -999.0,9,     -999.0,     -999.0,     -999.0,9,     -999.0,9,     -999.0,9,     -999.0,9,     -999.0,9,     -999.0,9,     -999.0,9,     -999.0,9
33RO20161119,        P18,      64,          1,          9,      11108,2,20161209,       0117,    -2.2501,  -109.9999,       3903,  1560.6,   2.9915,  34.6091,2,  34.6076,2,     89.7,2,    89.3,2,   119.7,2,    40.5,2,    0.00,2,   2.844,2,-999.0000,9,-999.0000,9,-999.0000,9,  -999.0,9,  -999.0,9,-999.0000,9,  -999.00, -999.00,9,  -999.0,9,  -999.0,-999.0000,9, -999.00,9,  -999.0,9, -999.00,9, -999.00,9,     -999.0,9, -999.00,9,  -999.0,9,     -999.0,     -999.0,9,     -999.0,9,     -999.0,     -999.0,9,     -999.0,     -999.0,9,     -999.0,     -999.0,     -999.0,9,     -999.0,9,     -999.0,9,     -999.0,9,     -999.0,9,     -999.0,9,     -999.0,9,     -999.0,9
33RO20161119,        P18,      64,          1,         10,      11109,2,20161209,       0117,    -2.2501,  -109.9999,       3903,  1365.2,   3.3555,  34.5922,2,  34.5906,2,     87.8,2,    87.4,6,   109.6,2,    40.6,2,    0.00,2,   2.841,2,-999.0000,9,-999.0000,9,-999.0000,9,  -999.0,9,  -999.0,9,-999.0000,9,  -999.00, -999.00,9,  -999.0,9,  -999.0,-999.0000,9, -999.00,9,  -999.0,9, -999.00,9, -999.00,9,     -999.0,9, -999.00,9,  -999.0,9,     -999.0,     -999.0,9,     -999.0,9,     -999.0,     -999.0,9,     -999.0,     -999.0,9,     -999.0,     -999.0,     -999.0,9,     -999.0,9,     -999.0,9,     -999.0,9,     -999.0,9,     -999.0,9,     -999.0,9,     -999.0,9
33RO20161119,        P18,      64,          1,         11,      11110,2,20161209,       0117,    -2.2501,  -109.9999,       3903,  1225.3,   3.7686,  34.5799,2,  34.5837,2,     81.9,2,    80.8,2,   101.0,2,    40.8,2,    0.00,2,   2.867,2,-999.0000,9,-999.0000,9,-999.0000,9,  -999.0,9,  -999.0,9,-999.0000,9,  -999.00, -999.00,9,  -999.0,9,  -999.0,-999.0000,9, -999.00,9,  -999.0,9, -999.00,9, -999.00,9,     -999.0,9, -999.00,9,  -999.0,9,     -999.0,     -999.0,9,     -999.0,9,     -999.0,     -999.0,9,     -999.0,     -999.0,9,     -999.0,     -999.0,     -999.0,9,     -999.0,9,     -999.0,9,     -999.0,9,     -999.0,9,     -999.0,9,     -999.0,9,     -999.0,9
33RO20161119,        P18,      64,          1,         12,      11111,2,20161209,       0117,    -2.2501,  -109.9999,       3903,  1095.6,   4.2675,  34.5631,2,  34.5630,2,     80.9,2,    80.0,2,    88.7,2,    40.6,2,    0.00,2,   2.831,2,-999.0000,9,-999.0000,9,-999.0000,9,  -999.0,9,  -999.0,9,-999.0000,9,  -999.00, -999.00,9,  -999.0,9,  -999.0,-999.0000,9, -999.00,9,  -999.0,9, -999.00,9, -999.00,9,     -999.0,9, -999.00,9,  -999.0,9,     -999.0,     -999.0,9,     -999.0,9,     -999.0,     -999.0,9,     -999.0,     -999.0,9,     -999.0,     -999.0,     -999.0,9,     -999.0,9,     -999.0,9,     -999.0,9,     -999.0,9,     -999.0,9,     -999.0,9,     -999.0,9
33RO20161119,        P18,      64,          1,         13,      11112,2,20161209,       0117,    -2.2501,  -109.9999,       3903,   960.1,   4.7783,  34.5552,2,  34.5727,4,     73.3,2,    73.7,2,    78.8,2,    41.0,2,    0.00,2,   2.854,2,-999.0000,9,-999.0000,9,-999.0000,9,  2302.7,2,  2346.8,2,   7.4432,2,    25.00, -999.00,9,  -999.0,9,  -999.0,-999.0000,9, -999.00,9,  -999.0,9, -999.00,9, -999.00,9,     -999.0,9, -999.00,9,  -999.0,9,     -999.0,     -999.0,9,     -999.0,9,     -999.0,     -999.0,9,     -999.0,     -999.0,9,     -999.0,     -999.0,     -999.0,9,     -999.0,9,     -999.0,9,     -999.0,9,     -999.0,9,     -999.0,9,     -999.0,9,     -999.0,9
33RO20161119,        P18,      64,          1,         14,      11113,2,20161209,       0117,    -2.2501,  -109.9999,       3903,   835.3,   5.4032,  34.5527,2,  34.5641,4,     65.0,2,    64.9,2,    68.5,2,    41.0,2,    0.00,2,   2.857,2,-999.0000,9,-999.0000,9,-999.0000,9,  2294.5,2,  2337.5,2,   7.4309,2,    25.00, -999.00,9,  -999.0,9,  -999.0,-999.0000,9, -999.00,9,  -999.0,9, -999.00,9, -999.00,9,     -999.0,9, -999.00,9,  -999.0,9,     -999.0,     -999.0,9,     -999.0,9,     -999.0,     -999.0,9,     -999.0,     -999.0,9,     -999.0,     -999.0,     -999.0,9,     -999.0,9,     -999.0,9,     -999.0,9,     -999.0,9,     -999.0,9,     -999.0,9,     -999.0,9
33RO20161119,        P18,      64,          1,         15,      11114,2,20161209,       0117,    -2.2501,  -109.9999,       3903,   710.2,   6.2228,  34.5534,2,  34.5540,2,     70.2,2,    66.0,2,    54.5,2,    39.9,2,    0.00,2,   2.760,2,-999.0000,9,-999.0000,9,-999.0000,9,  2277.1,2,  2322.7,2,   7.4420,2,    25.00, -999.00,9,  -999.0,9,  -999.0,-999.0000,9, -999.00,9,  -999.0,9, -999.00,9, -999.00,9,     -999.0,9, -999.00,9,  -999.0,9,     -999.0,     -999.0,9,     -999.0,9,     -999.0,     -999.0,9,     -999.0,     -999.0,9,     -999.0,     -999.0,     -999.0,9,     -999.0,9,     -999.0,9,     -999.0,9,     -999.0,9,     -999.0,9,     -999.0,9,     -999.0,9
33RO20161119,        P18,      64,          1,         16,      11115,2,20161209,       0117,    -2.2501,  -109.9999,       3903,   601.0,   7.2872,  34.5973,2,  34.5954,2,     31.2,2,    31.8,2,    48.4,2,    41.5,2,    0.00,2,   2.870,2,-999.0000,9,-999.0000,9,-999.0000,9,  2286.7,2,  2314.2,2,   7.3854,2,    25.00, -999.00,9,  -999.0,9,  -999.0,-999.0000,9, -999.00,9,  -999.0,9, -999.00,9, -999.00,9,     -999.0,9, -999.00,9,  -999.0,9,     -999.0,     -999.0,9,     -999.0,9,     -999.0,     -999.0,9,     -999.0,     -999.0,9,     -999.0,     -999.0,     -999.0,9,     -999.0,9,     -999.0,9,     -999.0,9,     -999.0,9,     -999.0,9,     -999.0,9,     -999.0,9
33RO20161119,        P18,      64,          1,         17,      11116,2,20161209,       0117,    -2.2501,  -109.9999,       3903,   495.1,   8.6035,  34.6576,2,  34.6579,2,     20.9,2,    21.3,2,    38.2,2,    39.5,2,    0.00,2,   2.720,2,-999.0000,9,-999.0000,9,-999.0000,9,  2276.5,2,  2305.0,2,   7.3877,2,    25.00, -999.00,9,  -999.0,9,  -999.0,-999.0000,9, -999.00,9,  -999.0,9, -999.00,9, -999.00,9,     -999.0,9, -999.00,9,  -999.0,9,     -999.0,     -999.0,9,     -999.0,9,     -999.0,     -999.0,9,     -999.0,     -999.0,9,     -999.0,     -999.0,     -999.0,9,     -999.0,9,     -999.0,9,     -999.0,9,     -999.0,9,     -999.0,9,     -999.0,9,     -999.0,9
33RO20161119,        P18,      64,          1,         18,      11117,2,20161209,       0117,    -2.2501,  -109.9999,       3903,   365.4,  10.1922,  34.7437,2,  34.7428,2,     41.4,2,    42.2,2,    28.8,2,    33.8,2,    0.01,2,   2.355,2,-999.0000,9,-999.0000,9,-999.0000,9,  2251.6,2,  2307.3,2,   7.4680,3,    25.00, -999.00,9,  -999.0,9,  -999.0,-999.0000,9, -999.00,9,  -999.0,9, -999.00,9, -999.00,9,     -999.0,9, -999.00,9,  -999.0,9,     -999.0,     -999.0,9,     -999.0,9,     -999.0,     -999.0,9,     -999.0,     -999.0,9,     -999.0,     -999.0,     -999.0,9,     -999.0,9,     -999.0,9,     -999.0,9,     -999.0,9,     -999.0,9,     -999.0,9,     -999.0,9
33RO20161119,        P18,      64,          1,         19,      11083,2,20161209,       0117,    -2.2501,  -109.9999,       3903,   266.0,  11.8917,  34.8577,2,  34.8604,2,      9.5,2,     9.6,2,    26.2,2,    33.4,2,    0.00,2,   2.414,2,-999.0000,9,-999.0000,9,-999.0000,9,  2259.7,2,  2301.2,2,   7.4275,2,    25.00, -999.00,9,  -999.0,9,  -999.0,-999.0000,9, -999.00,9,  -999.0,9, -999.00,9, -999.00,9,     -999.0,9, -999.00,9,  -999.0,9,     -999.0,     -999.0,9,     -999.0,9,     -999.0,     -999.0,9,     -999.0,     -999.0,9,     -999.0,     -999.0,     -999.0,9,     -999.0,9,     -999.0,9,     -999.0,9,     -999.0,9,     -999.0,9,     -999.0,9,     -999.0,9
33RO20161119,        P18,      64,          1,         20,      11118,2,20161209,       0117,    -2.2501,  -109.9999,       3903,   180.8,  12.8323,  34.9157,2,  34.9206,2,     11.0,2,    13.8,2,    22.8,2,    32.1,2,    0.01,2,   2.285,2,-999.0000,9,-999.0000,9,-999.0000,9,  2250.1,2,  2299.6,2,   7.4620,2,    25.00, -999.00,9,  -999.0,9,  -999.0,-999.0000,9, -999.00,9,  -999.0,9, -999.00,9, -999.00,9,     -999.0,9, -999.00,9,  -999.0,9,     -999.0,     -999.0,9,     -999.0,9,     -999.0,     -999.0,9,     -999.0,     -999.0,9,     -999.0,     -999.0,     -999.0,9,     -999.0,9,     -999.0,9,     -999.0,9,     -999.0,9,     -999.0,9,     -999.0,9,     -999.0,9
33RO20161119,        P18,      64,          1,         21,      11119,2,20161209,       0117,    -2.2501,  -109.9999,       3903,   139.6,  13.4185,  34.9476,2,  34.9465,2,     32.1,2,    31.1,2,    20.2,2,    29.9,2,    0.01,2,   2.106,2,-999.0000,9,-999.0000,9,-999.0000,9,  2231.6,2,  2303.4,2,   7.5145,2,    25.00, -999.00,9,  -999.0,9,  -999.0,-999.0000,9, -999.00,9,  -999.0,9, -999.00,9, -999.00,9,     -999.0,9, -999.00,9,  -999.0,9,     -999.0,     -999.0,9,     -999.0,9,     -999.0,     -999.0,9,     -999.0,     -999.0,9,     -999.0,     -999.0,     -999.0,9,     -999.0,9,     -999.0,9,     -999.0,9,     -999.0,9,     -999.0,9,     -999.0,9,     -999.0,9
33RO20161119,        P18,      64,          1,         22,      11120,2,20161209,       0117,    -2.2501,  -109.9999,       3903,    70.3,  14.8176,  35.0262,2,  35.0240,2,     68.2,2,    66.4,2,    15.8,2,    24.7,2,    0.33,2,   1.775,2,-999.0000,9,-999.0000,9,-999.0000,9,  2199.5,2,  2305.2,2,   7.6210,2,    25.00, -999.00,9,  -999.0,9,  -999.0,-999.0000,9, -999.00,9,  -999.0,9, -999.00,9, -999.00,9,     -999.0,9, -999.00,9,  -999.0,9,     -999.0,     -999.0,9,     -999.0,9,     -999.0,     -999.0,9,     -999.0,     -999.0,9,     -999.0,     -999.0,     -999.0,9,     -999.0,9,     -999.0,9,     -999.0,9,     -999.0,9,     -999.0,9,     -999.0,9,     -999.0,9
33RO20161119,        P18,      64,          1,         23,      11121,2,20161209,       0117,    -2.2501,  -109.9999,       3903,    30.3,  22.8572,  35.1837,2,  35.1837,2,    195.2,2,   191.1,2,     4.8,2,    10.4,2,    0.34,2,   0.913,2,-999.0000,9,-999.0000,9,-999.0000,9,  2094.3,2,  2317.1,6,   7.8911,2,    25.00, -999.00,9,  -999.0,9,  -999.0,-999.0000,9, -999.00,9,  -999.0,9, -999.00,9, -999.00,9,     -999.0,9, -999.00,9,  -999.0,9,     -999.0,     -999.0,9,     -999.0,9,     -999.0,     -999.0,9,     -999.0,     -999.0,9,     -999.0,     -999.0,     -999.0,9,     -999.0,9,     -999.0,9,     -999.0,9,     -999.0,9,     -999.0,9,     -999.0,9,     -999.0,9
33RO20161119,        P18,      64,          1,         24,      11122,2,20161209,       0117,    -2.2501,  -109.9999,       3903,     3.1,  23.2160,  35.1888,2,  35.1884,2,    200.2,2,   202.0,2,     4.4,2,     9.6,2,    0.33,2,   0.856,2,-999.0000,9,-999.0000,9,-999.0000,9,  2088.1,6,  2317.0,2,   7.9052,2,    25.00, -999.00,9,  -999.0,9,  -999.0,-999.0000,9, -999.00,9,  -999.0,9, -999.00,9, -999.00,9,     -999.0,9, -999.00,9,  -999.0,9,     -999.0,     -999.0,9,     -999.0,9,     -999.0,     -999.0,9,     -999.0,     -999.0,9,     -999.0,     -999.0,     -999.0,9,     -999.0,9,     -999.0,9,     -999.0,9,     -999.0,9,     -999.0,9,     -999.0,9,     -999.0,9