BOTTLE,20230606CCHSIOCBG
EXPOCODE,SECT_ID,STNNBR,CASTNO,SAMPNO,BTLNBR,BTLNBR_FLAG_W,DATE,TIME,LATITUDE,LONGITUDE,DEPTH,CTDPRS,CTDTMP,CTDSAL,CTDSAL_FLAG_W,SALNTY,SALNTY_FLAG_W,CTDOXY,CTDOXY_FLAG_W,OXYGEN,OXYGEN_FLAG_W,SILCAT,SILCAT_FLAG_W,NITRAT,NITRAT_FLAG_W,NITRIT,NITRIT_FLAG_W,PHSPHT,PHSPHT_FLAG_W,CFC-11,CFC-11_FLAG_W,CFC-12,CFC-12_FLAG_W,SF6,SF6_FLAG_W,TCARBN,TCARBN_FLAG_W,ALKALI,ALKALI_FLAG_W,PH_SWS,PH_SWS_FLAG_W,PH_TMP,DELC13,DELC13_FLAG_W,DELC14,DELC14_FLAG_W,C14ERR,CCL4,CCL4_FLAG_W,POC,POC_FLAG_W,DOC,DOC_FLAG_W,TDN,TDN_FLAG_W,PON,PON_FLAG_W,N2O,N2O_FLAG_W,D15N_NO3,D15N_NO3_FLAG_W,14C-DOC,14C-DOC_FLAG_W,14C-DOCERR,13C-DOC,13C-DOC_FLAG_W,N2/ARGON_UNSTRIPPED,N2/ARGON_UNSTRIPPED_FLAG_W,N2/ARGON_UNSTRIPPED_ERROR,N2/ARGON,N2/ARGON_FLAG_W,N2/ARGON_ERROR,D15N_N2,D15N_N2_FLAG_W,D15N_N2_ERROR,D15N_NO3_ERROR,D15N_NO2+NO3,D15N_NO2+NO3_FLAG_W,D18O_NO2+NO3,D18O_NO2+NO3_FLAG_W,D18O_NO3,D18O_NO3_FLAG_W,TDP,TDP_FLAG_W,N2O_ALT_1,N2O_ALT_1_FLAG_W,D15N_N2O,D15N_N2O_FLAG_W,D18O_N2O,D18O_N2O_FLAG_W,D15N_ALPHA_N2O,D15N_ALPHA_N2O_FLAG_W
,,,,,,,,,,,METERS,DBAR,ITS-90,PSS-78,,PSS-78,,UMOL/KG,,UMOL/KG,,UMOL/KG,,UMOL/KG,,UMOL/KG,,UMOL/KG,,PMOL/KG,,PMOL/KG,,FMOL/KG,,UMOL/KG,,UMOL/KG,,,,DEG C,/MILLE,,/MILLE,,/MILLE,PMOL/KG,,UG/KG,,UMOL/KG,,UMOL/KG,,UG/KG,,NMOL/KG,,/MILLE,,/MILLE,,/MILLE,/MILLE,,,,,,,,/MILLE,,/MILLE,/MILLE,/MILLE,,/MILLE,,/MILLE,,UMOL/KG,,NMOL/L,,/MILLE,,/MILLE,,/MILLE,
33RO20161119,        P18,      90,          1,          1,      11010,2,20161215,       0222,   -11.0001,  -103.0002,       4279,  4346.6,   1.8441,  34.6781,2,  34.6779,2,    136.3,2,   135.8,2,   143.9,6,    37.0,6,    0.01,6,   2.565,6,   0.0002,2,   0.0019,2,   0.0297,2,  2339.8,6,  2429.6,2,   7.5636,6,    25.00, -999.00,9,  -999.0,9,  -999.0,        0,2, -999.00,9,  -999.0,9, -999.00,9, -999.00,9,    20.3145,2, -999.00,9,  -999.0,9,     -999.0,     -999.0,9,     -999.0,9,     -999.0,     -999.0,9,     -999.0,     -999.0,9,     -999.0,     -999.0,     -999.0,9,     -999.0,9,     -999.0,9,     -999.0,9,     -999.0,9,     -999.0,9,     -999.0,9,     -999.0,9
33RO20161119,        P18,      90,          1,          2,      11101,2,20161215,       0222,   -11.0001,  -103.0002,       4279,  3950.2,   1.8003,  34.6779,2,  34.6793,2,    136.2,2,   136.2,2,   143.9,6,    36.9,6,    0.01,6,   2.567,6,   0.0007,2,   0.0011,2,   0.0000,2,  2337.2,2,  2429.0,2,   7.5596,2,    25.00, -999.00,9,  -999.0,9,  -999.0,        0,2, -999.00,9,  -999.0,9, -999.00,9, -999.00,9,    21.0156,2,    4.94,2,  -999.0,9,     -999.0,     -999.0,9,     -999.0,9,     -999.0,     -999.0,9,     -999.0,     -999.0,9,     -999.0,     -999.0,     -999.0,9,     -999.0,9,     -999.0,9,     -999.0,9,     -999.0,9,     -999.0,9,     -999.0,9,     -999.0,9
33RO20161119,        P18,      90,          1,          3,      11102,2,20161215,       0222,   -11.0001,  -103.0002,       4279,  3549.9,   1.7732,  34.6776,2,  34.6772,2,    135.2,2,   135.3,2,   143.4,6,    37.0,6,    0.01,6,   2.569,6,-999.0000,9,-999.0000,9,-999.0000,9,  2338.9,2,  2431.3,6,   7.5613,2,    25.00, -999.00,9,  -999.0,9,  -999.0,-999.0000,9, -999.00,9,  -999.0,9, -999.00,9, -999.00,9,     -999.0,9, -999.00,9,  -999.0,9,     -999.0,     -999.0,9,     -999.0,9,     -999.0,     -999.0,9,     -999.0,     -999.0,9,     -999.0,     -999.0,     -999.0,9,     -999.0,9,     -999.0,9,     -999.0,9,     -999.0,9,     -999.0,9,     -999.0,9,     -999.0,9
33RO20161119,        P18,      90,          1,          4,      11103,2,20161215,       0222,   -11.0001,  -103.0002,       4279,  3226.0,   1.7585,  34.6774,2,  34.6758,2,    135.2,2,   135.5,2,   141.7,6,    36.9,6,    0.00,6,   2.573,6,-999.0000,9,-999.0000,9,-999.0000,9,  2338.7,2,  2431.9,2,   7.5628,2,    25.00, -999.00,9,  -999.0,9,  -999.0,-999.0000,9, -999.00,9,  -999.0,9, -999.00,9, -999.00,9,     -999.0,9, -999.00,9,  -999.0,9,     -999.0,     -999.0,9,     -999.0,9,     -999.0,     -999.0,9,     -999.0,     -999.0,9,     -999.0,     -999.0,     -999.0,9,     -999.0,9,     -999.0,9,     -999.0,9,     -999.0,9,     -999.0,9,     -999.0,9,     -999.0,9
33RO20161119,        P18,      90,          1,          5,      11104,2,20161215,       0222,   -11.0001,  -103.0002,       4279,  2899.1,   1.7631,  34.6781,2,  34.6789,2,    137.6,2,   138.8,2,   136.7,2,    36.7,2,    0.00,2,   2.539,2,-999.0000,9,-999.0000,9,-999.0000,9,  2331.7,2,  2424.6,2,   7.5649,2,    25.00, -999.00,9,  -999.0,9,  -999.0,-999.0000,9, -999.00,9,  -999.0,9, -999.00,9, -999.00,9,     -999.0,9, -999.00,9,  -999.0,9,     -999.0,     -999.0,9,     -999.0,9,     -999.0,     -999.0,9,     -999.0,     -999.0,9,     -999.0,     -999.0,     -999.0,9,     -999.0,9,     -999.0,9,     -999.0,9,     -999.0,9,     -999.0,9,     -999.0,9,     -999.0,9
33RO20161119,        P18,      90,          1,          6,      11105,2,20161215,       0222,   -11.0001,  -103.0002,       4279,  2579.9,   1.7950,  34.6742,2,  34.6732,2,    135.7,2,   137.9,2,   133.9,2,    36.7,2,    0.00,2,   2.552,2,-999.0000,9,-999.0000,9,-999.0000,9,  2324.8,2,  2420.2,2,   7.5570,2,    25.00, -999.00,9,  -999.0,9,  -999.0,-999.0000,9, -999.00,9,  -999.0,9, -999.00,9, -999.00,9,     -999.0,9, -999.00,9,  -999.0,9,     -999.0,     -999.0,9,     -999.0,9,     -999.0,     -999.0,9,     -999.0,     -999.0,9,     -999.0,     -999.0,     -999.0,9,     -999.0,9,     -999.0,9,     -999.0,9,     -999.0,9,     -999.0,9,     -999.0,9,     -999.0,9
33RO20161119,        P18,      90,          1,          7,      11106,2,20161215,       0222,   -11.0001,  -103.0002,       4279,  2259.8,   1.9239,  34.6636,2,  34.6632,2,    130.8,2,   132.8,2,   129.1,2,    36.9,2,    0.00,2,   2.577,2,-999.0000,9,-999.0000,9,-999.0000,9,  2327.2,6,  2411.3,2,   7.5422,2,    25.00, -999.00,9,  -999.0,9,  -999.0,-999.0000,9, -999.00,9,  -999.0,9, -999.00,9, -999.00,9,     -999.0,9, -999.00,9,  -999.0,9,     -999.0,     -999.0,9,     -999.0,9,     -999.0,     -999.0,9,     -999.0,     -999.0,9,     -999.0,     -999.0,     -999.0,9,     -999.0,9,     -999.0,9,     -999.0,9,22.26230964,2,       9.43,2,      51.49,2,      22.72,2
33RO20161119,        P18,      90,          1,          8,      11107,2,20161215,       0222,   -11.0001,  -103.0002,       4279,  1940.2,   2.2508,  34.6408,2,  34.6400,2,    115.7,2,   116.3,2,   127.0,2,    38.2,2,    0.00,2,   2.697,2,-999.0000,9,-999.0000,9,-999.0000,9,  2331.6,2,  2405.2,2,   7.5137,2,    25.00, -999.00,9,  -999.0,9,  -999.0,-999.0000,9, -999.00,9,  -999.0,9, -999.00,9, -999.00,9,     -999.0,9, -999.00,9,  -999.0,9,     -999.0,     -999.0,9,     -999.0,9,     -999.0,     -999.0,9,     -999.0,     -999.0,9,     -999.0,     -999.0,     -999.0,9,     -999.0,9,     -999.0,9,     -999.0,9,24.31730641,2,       9.67,2,      51.47,2,      23.16,2
33RO20161119,        P18,      90,          1,          9,      11108,2,20161215,       0222,   -11.0001,  -103.0002,       4279,  1619.7,   2.6887,  34.6131,2,  34.6133,2,    100.8,2,   100.9,2,   117.0,2,    39.2,2,    0.00,2,   2.812,2,-999.0000,9,-999.0000,9,-999.0000,9,  2329.2,2,  2387.6,2,   7.4816,2,    25.00, -999.00,9,  -999.0,9,  -999.0,-999.0000,9, -999.00,9,  -999.0,9, -999.00,9, -999.00,9,     -999.0,9, -999.00,9,  -999.0,9,     -999.0,     -999.0,9,     -999.0,9,     -999.0,     -999.0,9,     -999.0,     -999.0,9,     -999.0,     -999.0,     -999.0,9,     -999.0,9,     -999.0,9,     -999.0,9,27.49772982,2,       9.61,2,      52.29,2,      22.08,2
33RO20161119,        P18,      90,          1,         10,      11109,2,20161215,       0222,   -11.0001,  -103.0002,       4279,  1420.8,   3.0731,  34.5902,2,  34.5911,2,     93.4,2,    92.3,2,   106.8,2,    40.1,2,    0.00,2,   2.857,2,  -0.0002,2,   0.0000,2,   0.0000,2,  2323.6,2,  2378.1,2,   7.4601,2,    25.00, -999.00,9,  -999.0,9,  -999.0,        0,2, -999.00,9,  -999.0,9, -999.00,9, -999.00,9,    28.0596,2,    5.65,2,  -999.0,9,     -999.0,     -999.0,9,     -999.0,9,     -999.0,     -999.0,9,     -999.0,     -999.0,9,     -999.0,     -999.0,     -999.0,9,     -999.0,9,     -999.0,9,     -999.0,9,29.06246762,2,       9.51,2,      51.83,2,      22.96,2
33RO20161119,        P18,      90,          1,         11,      11110,2,20161215,       0222,   -11.0001,  -103.0002,       4279,  1271.1,   3.4628,  34.5684,2,  34.5712,2,     87.9,2,    87.9,2,    95.8,2,    40.5,2,    0.00,2,   2.887,2,  -0.0002,2,   0.0009,2,   0.0387,2,  2315.0,2,  2367.0,2,   7.4516,2,    25.00, -999.00,9,  -999.0,9,  -999.0,        0,2, -999.00,9,  -999.0,9, -999.00,9, -999.00,9,     29.853,2,    5.84,2,  -999.0,9,     -999.0,     -999.0,9,     -999.0,9,     -999.0,     -999.0,9,     -999.0,     -999.0,9,     -999.0,     -999.0,     -999.0,9,     -999.0,9,     -999.0,9,     -999.0,9, 30.5808559,2,       9.47,2,       51.3,2,      22.68,2
33RO20161119,        P18,      90,          1,         12,      11111,2,20161215,       0222,   -11.0001,  -103.0002,       4279,  1130.3,   3.9749,  34.5462,2,  34.5465,2,     78.0,2,    78.9,6,    84.3,2,    41.4,2,    0.01,2,   2.922,2,-999.0000,9,-999.0000,9,-999.0000,9,  2309.4,2,  2353.8,2,   7.4360,2,    25.00, -999.00,9,  -999.0,9,  -999.0,-999.0000,9, -999.00,9,  -999.0,9, -999.00,9, -999.00,9,     -999.0,9,    6.29,2,  -999.0,9,     -999.0,     -999.0,9,     -999.0,9,     -999.0,     -999.0,9,     -999.0,     -999.0,9,     -999.0,       0.27,     -999.0,9,     -999.0,9,     -999.0,9,     -999.0,9,33.01300153,2,       9.26,2,      50.52,2,      23.14,2
33RO20161119,        P18,      90,          1,         13,      11112,2,20161215,       0222,   -11.0001,  -103.0002,       4279,   990.4,   4.5053,  34.5298,2,  34.5524,4,     72.3,2,    72.1,2,    72.8,2,    41.5,2,    0.00,2,   2.932,2,-999.0000,9,-999.0000,9,-999.0000,9,  2300.7,2,  2339.9,2,   7.4242,2,    25.00, -999.00,9,  -999.0,9,  -999.0,-999.0000,9, -999.00,9,  -999.0,9, -999.00,9, -999.00,9,     -999.0,9,    6.27,2,  -999.0,9,     -999.0,     -999.0,9,     -999.0,9,     -999.0,     -999.0,9,     -999.0,     -999.0,9,     -999.0,     -999.0,     -999.0,9,     -999.0,9,     -999.0,9,     -999.0,9,34.99848995,2,       9.06,2,       50.5,2,      20.29,2
33RO20161119,        P18,      90,          1,         14,      11113,2,20161215,       0222,   -11.0001,  -103.0002,       4279,   855.0,   5.1754,  34.5231,2,  34.5335,4,     55.7,2,    56.3,2,    62.0,2,    43.1,2,    0.01,2,   2.989,2,   0.0020,6,   0.0023,6,   0.0000,6,  2295.0,2,  2328.9,2,   7.3967,2,    25.00, -999.00,9,  -999.0,9,  -999.0,   0.0121,2, -999.00,9,  -999.0,9, -999.00,9, -999.00,9,    38.1331,2,    6.61,2,  -999.0,9,     -999.0,     -999.0,9,     -999.0,9,     -999.0,     -999.0,9,     -999.0,     -999.0,9,     -999.0,     -999.0,     -999.0,9,     -999.0,9,     -999.0,9,     -999.0,9,39.07300932,2,       8.75,2,      50.08,2,      21.88,2
33RO20161119,        P18,      90,          1,         15,      11114,2,20161215,       0222,   -11.0001,  -103.0002,       4279,   719.2,   5.9983,  34.5312,2,  34.5313,2,     39.0,2,    38.6,2,    51.5,2,    43.4,2,    0.01,2,   3.014,2,   0.0051,2,   0.0037,2,   0.0000,2,  2290.9,2,  2316.0,2,   7.3724,2,    25.00, -999.00,9,  -999.0,9,  -999.0,   0.0307,2, -999.00,9,  -999.0,9, -999.00,9, -999.00,9,    46.0392,2,    6.67,2,  -999.0,9,     -999.0,     -999.0,9,     -999.0,9,     -999.0,     -999.0,9,     -999.0,     -999.0,9,     -999.0,     -999.0,     -999.0,9,     -999.0,9,     -999.0,9,     -999.0,9,46.78034212,2,       8.18,2,       49.5,2,      19.68,2
33RO20161119,        P18,      90,          1,         16,      11115,2,20161215,       0222,   -11.0001,  -103.0002,       4279,   600.1,   7.0972,  34.5688,2,  34.5678,2,     26.6,2,    26.7,2,    41.9,2,    42.2,2,    0.01,2,   2.942,2,   0.0262,2,   0.0158,2,   0.0000,2,  2286.3,2,  2307.0,2,   7.3639,2,    25.00, -999.00,9,  -999.0,9,  -999.0,   0.0412,2, -999.00,9,  -999.0,9, -999.00,9, -999.00,9,    54.0161,2,    7.14,2,  -999.0,9,     -999.0,     -999.0,9,     -999.0,9,     -999.0,     -999.0,9,     -999.0,     -999.0,9,     -999.0,       0.19,     -999.0,9,     -999.0,9,     -999.0,9,     -999.0,9,56.51773698,2,       7.36,2,      50.15,2,       17.2,2
33RO20161119,        P18,      90,          1,         17,      11116,2,20161215,       0222,   -11.0001,  -103.0002,       4279,   480.0,   8.3793,  34.6389,2,  34.6454,2,     15.0,2,    15.4,2,    36.3,2,    39.9,2,    0.01,2,   2.822,2,-999.0000,5,-999.0000,5,-999.0000,5,  2281.9,2,  2304.9,6,   7.3646,2,    25.00, -999.00,9,  -999.0,9,  -999.0,   0.0441,2, -999.00,9,  -999.0,9, -999.00,9, -999.00,9,     -999.0,5,    7.03,2,  -999.0,9,     -999.0,     -999.0,9,     -999.0,9,     -999.0,     -999.0,9,     -999.0,     -999.0,9,     -999.0,     -999.0,     -999.0,9,     -999.0,9,     -999.0,9,     -999.0,9,67.36672897,2,       6.94,2,      51.61,2,      11.72,2
33RO20161119,        P18,      90,          1,         18,      11117,2,20161215,       0222,   -11.0001,  -103.0002,       4279,   355.2,   9.8782,  34.7235,2,  34.7264,2,     15.0,2,    14.6,2,    29.3,2,    35.7,2,    0.01,2,   2.629,2,   0.3184,2,   0.1798,2,   0.0677,2,  2268.7,2,  2302.5,2,   7.3966,6,    25.00, -999.00,9,  -999.0,9,  -999.0,    0.272,2, -999.00,9,  -999.0,9, -999.00,9, -999.00,9,    64.1458,2,    6.91,2,  -999.0,9,     -999.0,     -999.0,9,     -999.0,9,     -999.0,     -999.0,9,     -999.0,     -999.0,9,     -999.0,     -999.0,     -999.0,9,     -999.0,9,     -999.0,9,     -999.0,9,65.05509794,2,       6.65,2,      51.48,2,      14.93,2
33RO20161119,        P18,      90,          1,         19,      11083,2,20161215,       0222,   -11.0001,  -103.0002,       4279,   255.3,  11.6802,  34.7879,2,  34.8001,2,      6.0,2,     5.8,2,    23.5,2,    28.4,2,    0.01,2,   2.610,2,   0.8432,2,   0.4829,2,   0.2109,2,  2271.3,2,  2298.8,2,   7.3917,2,    25.00, -999.00,9,  -999.0,9,  -999.0,    0.826,2, -999.00,9,  -999.0,9, -999.00,9, -999.00,9,    48.8217,2,     9.6,2,  -999.0,9,     -999.0,     -999.0,9,     -999.0,9,     -999.0,     -999.0,9,     -999.0,     -999.0,9,     -999.0,     -999.0,     -999.0,9,     -999.0,9,     -999.0,9,     -999.0,9,49.99403872,2,       7.65,2,      53.66,2,      17.84,2
33RO20161119,        P18,      90,          1,         20,      11118,2,20161215,       0222,   -11.0001,  -103.0002,       4279,   180.1,  14.9645,  34.9631,2,  34.9511,2,    128.2,2,   120.9,2,     5.8,2,    15.8,2,    0.02,2,   1.500,2,   2.3038,2,   1.3948,2,   1.2786,2,  2171.0,2,  2308.5,2,   7.6975,2,    25.00, -999.00,9,  -999.0,9,  -999.0,   1.4121,2, -999.00,9,  -999.0,9, -999.00,9, -999.00,9,    29.4076,2,   10.69,2,  -999.0,9,     -999.0,     -999.0,9,     -999.0,9,     -999.0,     -999.0,9,     -999.0,     -999.0,9,     -999.0,       0.17,     -999.0,9,     -999.0,9,     -999.0,9,     -999.0,9,30.46504525,2,     -999.0,9,     -999.0,9,     -999.0,9
33RO20161119,        P18,      90,          1,         21,      11119,2,20161215,       0222,   -11.0001,  -103.0002,       4279,   109.8,  20.7911,  35.8304,2,  35.7893,2,    195.2,2,   193.8,2,     1.1,2,     2.1,2,    0.96,2,   0.611,2,   2.0161,2,   1.2700,2,   1.5864,2,  2109.6,2,  2368.0,2,   7.9441,2,    25.00, -999.00,9,  -999.0,9,  -999.0,   1.4047,2, -999.00,9,  -999.0,9, -999.00,9, -999.00,9,     8.0819,2, -999.00,9,  -999.0,9,     -999.0,     -999.0,9,     -999.0,9,     -999.0,     -999.0,9,     -999.0,     -999.0,9,     -999.0,     -999.0,     -999.0,9,     -999.0,9,     -999.0,9,     -999.0,9,8.966401464,2,       7.21,2,      42.84,2,      18.05,2
33RO20161119,        P18,      90,          1,         22,      11120,2,20161215,       0222,   -11.0001,  -103.0002,       4279,    60.3,  24.1573,  35.7970,2,  35.8439,2,    212.3,2,   212.8,6,     1.2,2,     2.8,2,    0.07,2,   0.507,2,   1.7277,2,   1.0962,2,   1.4704,2,  2064.8,2,  2364.0,6,   8.0245,2,    25.00, -999.00,9,  -999.0,9,  -999.0,   1.5922,2, -999.00,9,  -999.0,9, -999.00,9, -999.00,9,     6.7147,2, -999.00,9,  -999.0,9,     -999.0,     -999.0,9,     -999.0,9,     -999.0,     -999.0,9,     -999.0,     -999.0,9,     -999.0,     -999.0,     -999.0,9,     -999.0,9,     -999.0,9,     -999.0,9,     -999.0,9,     -999.0,9,     -999.0,9,     -999.0,9
33RO20161119,        P18,      90,          1,         23,      11121,2,20161215,       0222,   -11.0001,  -103.0002,       4279,    25.2,  24.3561,  35.7378,2,  35.7377,2,    209.5,2,   210.3,2,     1.5,2,     4.2,2,    0.09,2,   0.560,2,   1.6848,2,   1.0736,2,   1.4368,2,  2059.0,6,  2357.4,2,   8.0152,2,    25.00, -999.00,9,  -999.0,9,  -999.0,        0,2, -999.00,9,  -999.0,9, -999.00,9, -999.00,9,     6.5668,2, -999.00,9,  -999.0,9,     -999.0,     -999.0,9,     -999.0,9,     -999.0,     -999.0,9,     -999.0,     -999.0,9,     -999.0,     -999.0,     -999.0,9,     -999.0,9,     -999.0,9,     -999.0,9, 7.34793583,2,        5.9,2,      49.75,2,       19.0,2
33RO20161119,        P18,      90,          1,         24,      11122,2,20161215,       0222,   -11.0001,  -103.0002,       4279,     3.5,  24.3985,  35.7196,2,  35.7192,2,    207.7,2,   209.6,2,     1.6,2,     4.4,2,    0.10,2,   0.554,2,   1.6815,2,   1.0738,2,   1.4652,2,  2062.5,2,  2356.8,2,   8.0125,2,    25.00, -999.00,9,  -999.0,9,  -999.0,        0,2, -999.00,9,  -999.0,9, -999.00,9, -999.00,9,     6.4283,2, -999.00,9,  -999.0,9,     -999.0,     -999.0,9,      38.11,2,     -999.0,      38.24,2,     -999.0,     -999.0,9,     -999.0,     -999.0,     -999.0,9,     -999.0,9,     -999.0,9,     -999.0,9,7.527392737,2,       6.27,2,      44.05,2,      19.46,2