BOTTLE,20230606CCHSIOCBG
EXPOCODE,SECT_ID,STNNBR,CASTNO,SAMPNO,BTLNBR,BTLNBR_FLAG_W,DATE,TIME,LATITUDE,LONGITUDE,DEPTH,CTDPRS,CTDTMP,CTDSAL,CTDSAL_FLAG_W,SALNTY,SALNTY_FLAG_W,CTDOXY,CTDOXY_FLAG_W,OXYGEN,OXYGEN_FLAG_W,SILCAT,SILCAT_FLAG_W,NITRAT,NITRAT_FLAG_W,NITRIT,NITRIT_FLAG_W,PHSPHT,PHSPHT_FLAG_W,CFC-11,CFC-11_FLAG_W,CFC-12,CFC-12_FLAG_W,SF6,SF6_FLAG_W,TCARBN,TCARBN_FLAG_W,ALKALI,ALKALI_FLAG_W,PH_SWS,PH_SWS_FLAG_W,PH_TMP,DELC13,DELC13_FLAG_W,DELC14,DELC14_FLAG_W,C14ERR,CCL4,CCL4_FLAG_W,POC,POC_FLAG_W,DOC,DOC_FLAG_W,TDN,TDN_FLAG_W,PON,PON_FLAG_W,N2O,N2O_FLAG_W,D15N_NO3,D15N_NO3_FLAG_W,14C-DOC,14C-DOC_FLAG_W,14C-DOCERR,13C-DOC,13C-DOC_FLAG_W,N2/ARGON_UNSTRIPPED,N2/ARGON_UNSTRIPPED_FLAG_W,N2/ARGON_UNSTRIPPED_ERROR,N2/ARGON,N2/ARGON_FLAG_W,N2/ARGON_ERROR,D15N_N2,D15N_N2_FLAG_W,D15N_N2_ERROR,D15N_NO3_ERROR,D15N_NO2+NO3,D15N_NO2+NO3_FLAG_W,D18O_NO2+NO3,D18O_NO2+NO3_FLAG_W,D18O_NO3,D18O_NO3_FLAG_W,TDP,TDP_FLAG_W,N2O_ALT_1,N2O_ALT_1_FLAG_W,D15N_N2O,D15N_N2O_FLAG_W,D18O_N2O,D18O_N2O_FLAG_W,D15N_ALPHA_N2O,D15N_ALPHA_N2O_FLAG_W
,,,,,,,,,,,METERS,DBAR,ITS-90,PSS-78,,PSS-78,,UMOL/KG,,UMOL/KG,,UMOL/KG,,UMOL/KG,,UMOL/KG,,UMOL/KG,,PMOL/KG,,PMOL/KG,,FMOL/KG,,UMOL/KG,,UMOL/KG,,,,DEG C,/MILLE,,/MILLE,,/MILLE,PMOL/KG,,UG/KG,,UMOL/KG,,UMOL/KG,,UG/KG,,NMOL/KG,,/MILLE,,/MILLE,,/MILLE,/MILLE,,,,,,,,/MILLE,,/MILLE,/MILLE,/MILLE,,/MILLE,,/MILLE,,UMOL/KG,,NMOL/L,,/MILLE,,/MILLE,,/MILLE,
33RO20161119,        P18,      45,          1,          1,      11010,2,20161205,       0537,     2.5017,  -109.9998,       3741,  3781.5,   1.4788,  34.6896,2,  34.6888,2,    147.2,2,   147.8,2,   148.2,6,    36.7,6,    0.01,6,   2.489,6,   0.0021,2,   0.0000,2,   0.0294,2,  2339.8,6,  2434.8,2,-999.0000,5,  -999.00, -999.00,9,  -999.0,9,  -999.0,        0,2, -999.00,9,  -999.0,9, -999.00,9, -999.00,9,    20.9789,2, -999.00,9,  -999.0,9,     -999.0,     -999.0,9,     -999.0,9,     -999.0,     -999.0,9,     -999.0,     -999.0,9,     -999.0,     -999.0,     -999.0,9,     -999.0,9,     -999.0,9,     -999.0,9,     -999.0,9,     -999.0,9,     -999.0,9,     -999.0,9
33RO20161119,        P18,      45,          1,          2,      11101,2,20161205,       0537,     2.5017,  -109.9998,       3741,  3539.8,   1.5228,  34.6862,2,  34.6847,2,    143.1,2,   143.8,2,   147.8,6,    36.8,6,    0.01,6,   2.511,6,   0.0024,2,   0.0007,2,   0.0340,2,  2339.7,2,  2432.0,6,   7.5786,2,    25.00, -999.00,9,  -999.0,9,  -999.0,        0,2, -999.00,9,  -999.0,9, -999.00,9, -999.00,9,    20.9849,2, -999.00,9,  -999.0,9,     -999.0,     -999.0,9,     -999.0,9,     -999.0,     -999.0,9,     -999.0,     -999.0,9,     -999.0,     -999.0,     -999.0,9,     -999.0,9,     -999.0,9,     -999.0,9,     -999.0,9,     -999.0,9,     -999.0,9,     -999.0,9
33RO20161119,        P18,      45,          1,          3,      11102,2,20161205,       0537,     2.5017,  -109.9998,       3741,  3300.1,   1.5800,  34.6815,2,  34.6811,2,    139.7,2,   140.2,2,   145.9,6,    37.0,6,    0.01,6,   2.538,6,   0.0025,6,   0.0014,6,   0.0166,6,  2340.9,2,  2438.1,3,   7.5583,2,    25.00, -999.00,9,  -999.0,9,  -999.0,        0,2, -999.00,9,  -999.0,9, -999.00,9, -999.00,9,    21.9347,2, -999.00,9,  -999.0,9,     -999.0,     -999.0,9,     -999.0,9,     -999.0,     -999.0,9,     -999.0,     -999.0,9,     -999.0,     -999.0,     -999.0,9,     -999.0,9,     -999.0,9,     -999.0,9,     -999.0,9,     -999.0,9,     -999.0,9,     -999.0,9
33RO20161119,        P18,      45,          1,          4,      11103,2,20161205,       0537,     2.5017,  -109.9998,       3741,  2980.3,   1.6939,  34.6740,2,  34.6736,2,    130.5,2,   131.4,2,   145.0,6,    37.7,6,    0.01,6,   2.591,6,   0.0012,2,   0.0006,2,   0.0000,2,  2344.3,2,  2424.2,2,   7.5444,2,    25.00, -999.00,9,  -999.0,9,  -999.0,        0,2, -999.00,9,  -999.0,9, -999.00,9, -999.00,9,     22.674,2, -999.00,9,  -999.0,9,     -999.0,     -999.0,9,     -999.0,9,     -999.0,     -999.0,9,     -999.0,     -999.0,9,     -999.0,     -999.0,     -999.0,9,     -999.0,9,     -999.0,9,     -999.0,9,     -999.0,9,     -999.0,9,     -999.0,9,     -999.0,9
33RO20161119,        P18,      45,          1,          5,      11104,2,20161205,       0537,     2.5017,  -109.9998,       3741,  2700.4,   1.7658,  34.6705,2,  34.6730,2,    122.9,2,   124.3,2,   147.0,2,    38.0,2,    0.01,2,   2.619,2,   0.0019,2,   0.0011,2,   0.0110,2,  2350.9,2,  2423.9,2,   7.5343,2,    25.00, -999.00,9,  -999.0,9,  -999.0,        0,2, -999.00,9,  -999.0,9, -999.00,9, -999.00,9,    23.6519,2, -999.00,9,  -999.0,9,     -999.0,     -999.0,9,     -999.0,9,     -999.0,     -999.0,9,     -999.0,     -999.0,9,     -999.0,     -999.0,     -999.0,9,     -999.0,9,     -999.0,9,     -999.0,9,     -999.0,9,     -999.0,9,     -999.0,9,     -999.0,9
33RO20161119,        P18,      45,          1,          6,      11105,2,20161205,       0537,     2.5017,  -109.9998,       3741,  2400.1,   1.9023,  34.6632,2,  34.6624,2,    115.8,2,   116.9,2,   145.4,2,    38.6,2,    0.01,2,   2.668,2,   0.0017,2,   0.0007,2,   0.0000,2,  2355.1,2,  2422.7,2,   7.5224,2,    25.00, -999.00,9,  -999.0,9,  -999.0,        0,2, -999.00,9,  -999.0,9, -999.00,9, -999.00,9,    23.9418,2, -999.00,9,  -999.0,9,     -999.0,     -999.0,9,     -999.0,9,     -999.0,     -999.0,9,     -999.0,     -999.0,9,     -999.0,     -999.0,     -999.0,9,     -999.0,9,     -999.0,9,     -999.0,9,     -999.0,9,     -999.0,9,     -999.0,9,     -999.0,9
33RO20161119,        P18,      45,          1,          7,      11106,2,20161205,       0537,     2.5017,  -109.9998,       3741,  2099.9,   2.2695,  34.6435,2,  34.6424,2,    102.8,2,   103.2,2,   137.8,2,    39.5,2,    0.01,2,   2.767,2,   0.0024,2,   0.0016,2,   0.0000,2,  2350.8,6,  2413.8,2,   7.4978,2,    25.00, -999.00,9,  -999.0,9,  -999.0,        0,2, -999.00,9,  -999.0,9, -999.00,9, -999.00,9,    26.9882,2, -999.00,9,  -999.0,9,     -999.0,     -999.0,9,      38.03,2,     -999.0,      38.18,2,     -999.0,     -999.0,9,     -999.0,     -999.0,     -999.0,9,     -999.0,9,     -999.0,9,     -999.0,9,26.49887818,2,       9.27,2,      51.36,2,      23.92,2
33RO20161119,        P18,      45,          1,          8,      11107,2,20161205,       0537,     2.5017,  -109.9998,       3741,  1800.1,   2.5911,  34.6281,2,  34.6274,2,     94.4,2,    94.4,2,   130.9,2,    40.0,2,    0.01,2,   2.819,2,   0.0017,2,   0.0000,2,   0.0000,2,  2350.7,2,  2402.2,2,   7.4777,2,    25.00, -999.00,9,  -999.0,9,  -999.0,        0,2, -999.00,9,  -999.0,9, -999.00,9, -999.00,9,    28.3396,2, -999.00,9,  -999.0,9,     -999.0,     -999.0,9,      38.14,2,     -999.0,       38.3,2,     -999.0,     -999.0,9,     -999.0,     -999.0,     -999.0,9,     -999.0,9,     -999.0,9,     -999.0,9,28.65652274,2,       9.39,2,      51.63,2,      22.61,2
33RO20161119,        P18,      45,          1,          9,      11108,2,20161205,       0537,     2.5017,  -109.9998,       3741,  1501.0,   3.0547,  34.6064,2,  34.6058,2,     85.9,2,    86.2,2,   119.4,2,    40.6,2,    0.01,2,   2.861,2,   0.0020,2,   0.0016,2,   0.0000,2,  2341.7,2,  2392.0,2,   7.4627,2,    25.00, -999.00,9,  -999.0,9,  -999.0,        0,2, -999.00,9,  -999.0,9, -999.00,9, -999.00,9,    30.9073,2, -999.00,9,  -999.0,9,     -999.0,     -999.0,9,      37.84,2,     -999.0,      37.97,2,     -999.0,     -999.0,9,     -999.0,     -999.0,     -999.0,9,     -999.0,9,     -999.0,9,     -999.0,9,31.36493592,2,        9.3,2,      50.83,2,      20.39,2
33RO20161119,        P18,      45,          1,         10,      11109,2,20161205,       0537,     2.5017,  -109.9998,       3741,  1320.8,   3.5484,  34.5918,2,  34.5964,2,     74.5,2,    75.1,2,   109.8,2,    41.2,2,    0.01,2,   2.924,2,   0.0033,2,   0.0028,2,   0.0421,2,  2336.3,2,  2381.0,2,   7.4402,2,    25.00, -999.00,9,  -999.0,9,  -999.0,        0,2, -999.00,9,  -999.0,9, -999.00,9, -999.00,9,    34.3148,2, -999.00,9,  -999.0,9,     -999.0,     -999.0,9,      37.79,2,     -999.0,      37.92,2,     -999.0,     -999.0,9,     -999.0,     -999.0,     -999.0,9,     -999.0,9,     -999.0,9,     -999.0,9,33.82187192,2,       9.04,2,      49.98,2,      21.21,2
33RO20161119,        P18,      45,          1,         11,      11110,2,20161205,       0537,     2.5017,  -109.9998,       3741,  1179.9,   4.0080,  34.5772,2,  34.5782,2,     65.9,2,    66.6,2,    99.9,2,    41.7,2,    0.01,2,   2.957,2,   0.0024,2,   0.0008,2,   0.0000,2,  2330.4,2,  2369.0,2,   7.4257,2,    25.00, -999.00,9,  -999.0,9,  -999.0,        0,2, -999.00,9,  -999.0,9, -999.00,9, -999.00,9,     36.857,2, -999.00,9,  -999.0,9,     -999.0,     -999.0,9,      37.89,2,     -999.0,      38.04,2,     -999.0,     -999.0,9,     -999.0,     -999.0,     -999.0,9,     -999.0,9,     -999.0,9,     -999.0,9,36.73606284,2,       8.94,2,      50.31,2,      21.39,2
33RO20161119,        P18,      45,          1,         12,      11111,2,20161205,       0537,     2.5017,  -109.9998,       3741,  1050.2,   4.5040,  34.5660,2,  34.5657,2,     62.4,2,    62.9,2,    88.7,2,    41.6,2,    0.01,2,   2.952,2,   0.0046,2,   0.0025,2,   0.0000,2,  2319.9,2,  2357.4,2,   7.4200,2,    25.00, -999.00,9,  -999.0,9,  -999.0,        0,2, -999.00,9,  -999.0,9, -999.00,9, -999.00,9,    38.0131,2, -999.00,9,  -999.0,9,     -999.0,     -999.0,9,      37.96,2,     -999.0,       38.1,2,     -999.0,     -999.0,9,     -999.0,     -999.0,     -999.0,9,     -999.0,9,     -999.0,9,     -999.0,9,38.35520344,2,       8.68,2,      49.41,2,      20.82,2
33RO20161119,        P18,      45,          1,         13,      11112,2,20161205,       0537,     2.5017,  -109.9998,       3741,   920.3,   5.0380,  34.5528,2,  34.5522,2,     63.9,2,    64.1,2,    76.6,2,    41.1,2,    0.01,2,   2.899,2,   0.0101,6,   0.0062,6,   0.0000,6,  2304.6,2,  2344.4,2,   7.4268,2,    25.00, -999.00,9,  -999.0,9,  -999.0,        0,2, -999.00,9,  -999.0,9, -999.00,9, -999.00,9,    38.3012,2, -999.00,9,  -999.0,9,     -999.0,     -999.0,9,       38.0,2,     -999.0,      38.14,2,     -999.0,     -999.0,9,     -999.0,     -999.0,     -999.0,9,     -999.0,9,     -999.0,9,     -999.0,9,38.61256726,2,       8.53,2,       49.2,2,      19.57,2
33RO20161119,        P18,      45,          1,         14,      11113,2,20161205,       0537,     2.5017,  -109.9998,       3741,   794.7,   5.7416,  34.5508,2,  34.5515,2,     62.5,2,    62.9,2,    63.9,2,    40.5,2,    0.01,2,   2.846,2,   0.0350,2,   0.0201,2,   0.0000,2,  2290.2,2,  2330.3,2,   7.4297,2,    25.00, -999.00,9,  -999.0,9,  -999.0,   0.0427,2, -999.00,9,  -999.0,9, -999.00,9, -999.00,9,    40.4918,2, -999.00,9,  -999.0,9,     -999.0,     -999.0,9,      37.87,2,     -999.0,       38.0,2,     -999.0,     -999.0,9,     -999.0,     -999.0,     -999.0,9,     -999.0,9,     -999.0,9,     -999.0,9,40.21938376,2,       8.14,2,      48.49,2,      17.56,2
33RO20161119,        P18,      45,          1,         15,      11114,2,20161205,       0537,     2.5017,  -109.9998,       3741,   673.2,   6.3969,  34.5617,2,  34.5609,2,     49.0,2,    48.8,2,    56.7,2,    40.8,2,    0.01,2,   2.873,2,   0.0537,2,   0.0302,2,   0.0431,2,  2288.1,2,  2320.5,2,   7.4110,2,    25.00, -999.00,9,  -999.0,9,  -999.0,    0.059,2, -999.00,9,  -999.0,9, -999.00,9, -999.00,9,    44.3214,2, -999.00,9,  -999.0,9,     -999.0,     -999.0,9,      37.96,2,     -999.0,      38.09,2,     -999.0,     -999.0,9,     -999.0,     -999.0,     -999.0,9,     -999.0,9,     -999.0,9,     -999.0,9, 45.0206416,2,       7.78,2,      48.36,2,      13.41,2
33RO20161119,        P18,      45,          1,         16,      11115,2,20161205,       0537,     2.5017,  -109.9998,       3741,   564.0,   7.6738,  34.5985,2,  34.5986,2,     37.3,2,    38.4,2,    44.9,2,    39.2,2,    0.01,2,   2.760,2,   0.1594,2,   0.0861,2,   0.0611,2,  2277.1,2,  2312.5,2,   7.4068,2,    25.00, -999.00,9,  -999.0,9,  -999.0,   0.0797,2, -999.00,9,  -999.0,9, -999.00,9, -999.00,9,    50.7475,2, -999.00,9,  -999.0,9,     -999.0,     -999.0,9,      37.92,2,     -999.0,      38.04,2,     -999.0,     -999.0,9,     -999.0,     -999.0,     -999.0,9,     -999.0,9,     -999.0,9,     -999.0,9,50.38693391,2,       7.51,2,      47.84,2,      11.62,2
33RO20161119,        P18,      45,          1,         17,      11116,2,20161205,       0537,     2.5017,  -109.9998,       3741,   459.6,   9.0945,  34.6744,2,  34.6735,2,     24.7,2,    25.6,6,    36.5,2,    37.9,2,    0.01,2,   2.622,2,   0.3717,2,   0.2011,2,   0.1240,2,  2269.4,2,  2303.7,6,   7.4057,6,    25.00, -999.00,9,  -999.0,9,  -999.0,   0.0791,2, -999.00,9,  -999.0,9, -999.00,9, -999.00,9,    58.3007,2, -999.00,9,  -999.0,9,     -999.0,     -999.0,9,       37.8,2,     -999.0,       37.9,2,     -999.0,     -999.0,9,     -999.0,     -999.0,     -999.0,9,     -999.0,9,     -999.0,9,     -999.0,9,57.73567381,2,       6.51,2,       47.2,2,       3.58,2
33RO20161119,        P18,      45,          1,         18,      11117,2,20161205,       0537,     2.5017,  -109.9998,       3741,   356.7,   9.8210,  34.7063,2,  34.7056,2,     31.5,2,    31.6,2,    32.5,2,    35.3,2,    0.02,2,   2.459,2,   0.5946,2,   0.3235,2,   0.1281,2,  2257.7,2,  2302.0,2,   7.4376,2,    25.00, -999.00,9,  -999.0,9,  -999.0,   0.0937,2, -999.00,9,  -999.0,9, -999.00,9, -999.00,9,    55.1613,2, -999.00,9,  -999.0,9,     -999.0,     -999.0,9,      37.96,2,     -999.0,      38.07,2,     -999.0,     -999.0,9,     -999.0,     -999.0,     -999.0,9,     -999.0,9,     -999.0,9,     -999.0,9,55.33096674,2,       6.44,2,      46.86,2,       6.96,2
33RO20161119,        P18,      45,          1,         19,      11083,2,20161205,       0537,     2.5017,  -109.9998,       3741,   265.4,  11.6815,  34.8101,2,  34.8100,2,     24.5,2,    25.1,6,    26.7,2,    32.7,2,    0.01,2,   2.301,2,   1.0128,2,   0.5599,2,   0.2561,2,  2248.1,2,  2298.4,2,   7.4590,2,    25.00, -999.00,9,  -999.0,9,  -999.0,   0.1114,2, -999.00,9,  -999.0,9, -999.00,9, -999.00,9,    60.5186,2, -999.00,9,  -999.0,9,     -999.0,     -999.0,9,      38.04,2,     -999.0,      38.14,2,     -999.0,     -999.0,9,     -999.0,     -999.0,     -999.0,9,     -999.0,9,     -999.0,9,     -999.0,9,61.25614951,2,        5.3,2,      44.04,2,       2.28,2
33RO20161119,        P18,      45,          1,         20,      11118,2,20161205,       0537,     2.5017,  -109.9998,       3741,   189.5,  12.7285,  34.8826,2,  34.8803,2,     40.2,2,    39.0,2,    22.4,2,    30.0,2,    0.02,2,   2.113,2,   1.2816,2,   0.7141,2,   0.3616,2,  2228.7,2,  2298.8,2,   7.5173,2,    25.00, -999.00,9,  -999.0,9,  -999.0,   0.1471,2, -999.00,9,  -999.0,9, -999.00,9, -999.00,9,    55.3922,2, -999.00,9,  -999.0,9,     -999.0,     -999.0,9,      38.02,2,     -999.0,       38.1,2,     -999.0,     -999.0,9,     -999.0,     -999.0,     -999.0,9,     -999.0,9,     -999.0,9,     -999.0,9,56.09241075,2,       5.02,2,      41.26,2,       2.69,2
33RO20161119,        P18,      45,          1,         21,      11119,2,20161205,       0537,     2.5017,  -109.9998,       3741,   119.5,  13.9338,  34.9485,2,  34.9472,2,     70.7,2,    71.9,2,    17.4,2,    25.2,2,    0.02,2,   1.791,2,   1.6209,2,   0.9152,2,   0.5790,2,  2199.1,2,  2302.0,2,   7.6147,2,    25.00, -999.00,9,  -999.0,9,  -999.0,   0.4642,2, -999.00,9,  -999.0,9, -999.00,9, -999.00,9,    41.2992,2, -999.00,9,  -999.0,9,     -999.0,     -999.0,9,      38.04,2,     -999.0,       38.1,2,     -999.0,     -999.0,9,     -999.0,     -999.0,     -999.0,9,     -999.0,9,     -999.0,9,     -999.0,9,41.58881217,2,        5.2,2,      40.34,2,       7.62,2
33RO20161119,        P18,      45,          1,         22,      11120,2,20161205,       0537,     2.5017,  -109.9998,       3741,    59.2,  18.0919,  34.8790,2,  34.8750,2,    114.6,2,   111.2,2,    10.1,2,    16.7,2,    0.59,2,   1.367,2,   1.8455,2,   1.0784,2,   0.9264,2,  2142.6,2,  2295.4,2,   7.7443,2,    25.00, -999.00,9,  -999.0,9,  -999.0,    1.627,2, -999.00,9,  -999.0,9, -999.00,9, -999.00,9,    31.4971,2, -999.00,9,  -999.0,9,     -999.0,     -999.0,9,      38.11,2,     -999.0,      38.15,2,     -999.0,     -999.0,9,     -999.0,     -999.0,     -999.0,9,     -999.0,9,     -999.0,9,     -999.0,9,31.35677487,2,        4.4,2,       40.6,2,      11.26,2
33RO20161119,        P18,      45,          1,         23,      11121,2,20161205,       0537,     2.5017,  -109.9998,       3741,    25.4,  25.9731,  33.6329,2,  33.6427,2,    204.1,2,   204.5,2,     1.0,2,     0.4,2,    0.03,2,   0.216,2,   1.6285,2,   1.0212,2,   1.4416,2,  1921.5,2,  2211.7,6,   8.0587,2,    25.00, -999.00,9,  -999.0,9,  -999.0,   1.6491,2, -999.00,9,  -999.0,9, -999.00,9, -999.00,9,     7.2525,2, -999.00,9,  -999.0,9,     -999.0,     -999.0,9,      38.31,2,     -999.0,      38.31,2,     -999.0,     -999.0,9,     -999.0,     -999.0,     -999.0,9,     -999.0,9,     -999.0,9,     -999.0,9,7.894523992,2,       5.76,2,      45.98,2,     -999.0,9
33RO20161119,        P18,      45,          1,         24,      11122,2,20161205,       0537,     2.5017,  -109.9998,       3741,     3.6,  26.0281,  33.6105,2,  33.6108,2,    203.8,2,   205.4,2,     1.0,2,     0.2,2,    0.02,2,   0.196,2,   1.6092,2,   1.0190,2,   1.4033,2,  1918.8,6,  2204.0,2,   8.0635,2,    25.00, -999.00,9,  -999.0,9,  -999.0,        0,2, -999.00,9,  -999.0,9, -999.00,9, -999.00,9,     6.8847,2, -999.00,9,  -999.0,9,     -999.0,     -999.0,9,      38.35,2,     -999.0,      38.34,2,     -999.0,     -999.0,9,     -999.0,     -999.0,     -999.0,9,     -999.0,9,     -999.0,9,     -999.0,9,7.573741809,2,       6.72,2,      49.69,2,      18.42,2