BOTTLE,20230606CCHSIOCBG
EXPOCODE,SECT_ID,STNNBR,CASTNO,SAMPNO,BTLNBR,BTLNBR_FLAG_W,DATE,TIME,LATITUDE,LONGITUDE,DEPTH,CTDPRS,CTDTMP,CTDSAL,CTDSAL_FLAG_W,SALNTY,SALNTY_FLAG_W,CTDOXY,CTDOXY_FLAG_W,OXYGEN,OXYGEN_FLAG_W,SILCAT,SILCAT_FLAG_W,NITRAT,NITRAT_FLAG_W,NITRIT,NITRIT_FLAG_W,PHSPHT,PHSPHT_FLAG_W,CFC-11,CFC-11_FLAG_W,CFC-12,CFC-12_FLAG_W,SF6,SF6_FLAG_W,TCARBN,TCARBN_FLAG_W,ALKALI,ALKALI_FLAG_W,PH_SWS,PH_SWS_FLAG_W,PH_TMP,DELC13,DELC13_FLAG_W,DELC14,DELC14_FLAG_W,C14ERR,CCL4,CCL4_FLAG_W,POC,POC_FLAG_W,DOC,DOC_FLAG_W,TDN,TDN_FLAG_W,PON,PON_FLAG_W,N2O,N2O_FLAG_W,D15N_NO3,D15N_NO3_FLAG_W,14C-DOC,14C-DOC_FLAG_W,14C-DOCERR,13C-DOC,13C-DOC_FLAG_W,N2/ARGON_UNSTRIPPED,N2/ARGON_UNSTRIPPED_FLAG_W,N2/ARGON_UNSTRIPPED_ERROR,N2/ARGON,N2/ARGON_FLAG_W,N2/ARGON_ERROR,D15N_N2,D15N_N2_FLAG_W,D15N_N2_ERROR,D15N_NO3_ERROR,D15N_NO2+NO3,D15N_NO2+NO3_FLAG_W,D18O_NO2+NO3,D18O_NO2+NO3_FLAG_W,D18O_NO3,D18O_NO3_FLAG_W,TDP,TDP_FLAG_W,N2O_ALT_1,N2O_ALT_1_FLAG_W,D15N_N2O,D15N_N2O_FLAG_W,D18O_N2O,D18O_N2O_FLAG_W,D15N_ALPHA_N2O,D15N_ALPHA_N2O_FLAG_W
,,,,,,,,,,,METERS,DBAR,ITS-90,PSS-78,,PSS-78,,UMOL/KG,,UMOL/KG,,UMOL/KG,,UMOL/KG,,UMOL/KG,,UMOL/KG,,PMOL/KG,,PMOL/KG,,FMOL/KG,,UMOL/KG,,UMOL/KG,,,,DEG C,/MILLE,,/MILLE,,/MILLE,PMOL/KG,,UG/KG,,UMOL/KG,,UMOL/KG,,UG/KG,,NMOL/KG,,/MILLE,,/MILLE,,/MILLE,/MILLE,,,,,,,,/MILLE,,/MILLE,/MILLE,/MILLE,,/MILLE,,/MILLE,,UMOL/KG,,NMOL/L,,/MILLE,,/MILLE,,/MILLE,
33RO20161119,        P18,     133,          1,          1,      11010,2,20170105,       1131,   -32.5000,  -103.0000,       3585,  3622.8,   1.8002,  34.6906,2,  34.6900,2,    167.0,2,   168.2,2,   116.6,6,    34.3,6,    0.00,6,   2.373,6,   0.0037,2,   0.0018,2,   0.0000,2,  2295.4,6,  2391.2,6,   7.5820,2,    25.00, -999.00,9,  -999.0,9,  -999.0,   2.2796,2, -999.00,9,    36.5,2,   36.40,2, -999.00,9,    20.6597,2, -999.00,9,  -999.0,9,     -999.0,     -999.0,9,     -999.0,9,     -999.0,     -999.0,9,     -999.0,     -999.0,9,     -999.0,     -999.0,     -999.0,9,     -999.0,9,     -999.0,9,     -999.0,9,     -999.0,9,     -999.0,9,     -999.0,9,     -999.0,9
33RO20161119,        P18,     133,          1,          2,      11101,2,20170105,       1131,   -32.5000,  -103.0000,       3585,  3455.9,   1.7823,  34.6907,2,  34.6949,4,    166.6,2,   166.2,2,   116.4,6,    34.3,6,    0.00,6,   2.373,6,-999.0000,9,-999.0000,9,-999.0000,9,  2294.6,2,  2389.6,2,   7.5848,2,    25.00, -999.00,9,  -999.0,9,  -999.0,-999.0000,9, -999.00,9,    35.9,2,   37.70,2, -999.00,9,     -999.0,9, -999.00,9,  -999.0,9,     -999.0,     -999.0,9,     -999.0,9,     -999.0,     -999.0,9,     -999.0,     -999.0,9,     -999.0,     -999.0,     -999.0,9,     -999.0,9,     -999.0,9,     -999.0,9,     -999.0,9,     -999.0,9,     -999.0,9,     -999.0,9
33RO20161119,        P18,     133,          1,          3,      11102,2,20170105,       1131,   -32.5000,  -103.0000,       3585,  3290.4,   1.7666,  34.6905,2,  34.6918,2,    167.3,2,   166.1,2,   116.4,6,    34.3,6,    0.00,6,   2.368,6,-999.0000,9,-999.0000,9,-999.0000,9,  2294.0,2,  2388.2,2,   7.5829,2,    25.00, -999.00,9,  -999.0,9,  -999.0,-999.0000,9, -999.00,9,    35.4,2,   35.10,2, -999.00,9,     -999.0,9, -999.00,9,  -999.0,9,     -999.0,     -999.0,9,     -999.0,9,     -999.0,     -999.0,9,     -999.0,     -999.0,9,     -999.0,     -999.0,     -999.0,9,     -999.0,9,     -999.0,9,     -999.0,9,     -999.0,9,     -999.0,9,     -999.0,9,     -999.0,9
33RO20161119,        P18,     133,          1,          4,      11103,2,20170105,       1131,   -32.5000,  -103.0000,       3585,  3023.3,   1.7525,  34.6890,2,  34.6904,2,    166.5,2,   166.3,2,   116.2,6,    34.4,6,    0.00,6,   2.368,6,-999.0000,9,-999.0000,9,-999.0000,9,  2294.2,2,  2388.1,2,   7.5815,6,    25.00, -999.00,9,  -999.0,9,  -999.0,-999.0000,9, -999.00,9,    35.0,2,   37.70,2, -999.00,9,     -999.0,9, -999.00,9,  -999.0,9,     -999.0,     -999.0,9,     -999.0,9,     -999.0,     -999.0,9,     -999.0,     -999.0,9,     -999.0,     -999.0,     -999.0,9,     -999.0,9,     -999.0,9,     -999.0,9,     -999.0,9,     -999.0,9,     -999.0,9,     -999.0,9
33RO20161119,        P18,     133,          1,          5,      11104,2,20170105,       1131,   -32.5000,  -103.0000,       3585,  2720.5,   1.7720,  34.6846,2,  34.6929,4,    165.2,2,   165.4,2,   115.0,6,    34.4,6,    0.00,6,   2.391,6,-999.0000,9,-999.0000,9,-999.0000,9,  2292.2,2,  2384.1,2,   7.5782,2,    25.00, -999.00,9,  -999.0,9,  -999.0,-999.0000,9, -999.00,9,    38.0,2,   36.10,2, -999.00,9,     -999.0,9, -999.00,9,  -999.0,9,     -999.0,     -999.0,9,     -999.0,9,     -999.0,     -999.0,9,     -999.0,     -999.0,9,     -999.0,     -999.0,     -999.0,9,     -999.0,9,     -999.0,9,     -999.0,9,     -999.0,9,     -999.0,9,     -999.0,9,     -999.0,9
33RO20161119,        P18,     133,          1,          6,      11105,2,20170105,       1131,   -32.5000,  -103.0000,       3585,  2439.6,   1.8670,  34.6739,2,  34.6740,2,    161.5,2,   162.3,6,   112.3,2,    34.6,2,    0.00,2,   2.389,2,-999.0000,9,-999.0000,9,-999.0000,9,  2290.6,2,  2381.5,2,   7.5722,2,    25.00, -999.00,9,  -999.0,9,  -999.0,-999.0000,9, -999.00,9,    37.9,2,   36.50,2, -999.00,9,     -999.0,9, -999.00,9,  -999.0,9,     -999.0,     -999.0,9,     -999.0,9,     -999.0,     -999.0,9,     -999.0,     -999.0,9,     -999.0,     -999.0,     -999.0,9,     -999.0,9,     -999.0,9,     -999.0,9,     -999.0,9,     -999.0,9,     -999.0,9,     -999.0,9
33RO20161119,        P18,     133,          1,          7,      11106,2,20170105,       1131,   -32.5000,  -103.0000,       3585,  2134.4,   2.0717,  34.6472,2,  34.6487,2,    152.9,2,   153.1,2,   107.8,2,    35.4,2,    0.00,2,   2.448,2,-999.0000,9,-999.0000,9,-999.0000,9,  2294.1,2,  2377.6,2,   7.5544,2,    25.00, -999.00,9,  -999.0,9,  -999.0,-999.0000,9, -999.00,9,    37.2,2,   39.50,2, -999.00,9,     -999.0,9, -999.00,9,  -999.0,9,     -999.0,     -999.0,9,     -999.0,9,     -999.0,     -999.0,9,     -999.0,     -999.0,9,     -999.0,     -999.0,     -999.0,9,     -999.0,9,     -999.0,9,     -999.0,9,     -999.0,9,     -999.0,9,     -999.0,9,     -999.0,9
33RO20161119,        P18,     133,          1,          8,      11107,2,20170105,       1131,   -32.5000,  -103.0000,       3585,  1845.9,   2.4082,  34.6047,2,  34.6065,2,    143.9,2,   144.6,2,    99.2,2,    36.3,2,    0.00,2,   2.512,2,-999.0000,9,-999.0000,9,-999.0000,9,  2289.8,2,  2369.1,2,   7.5397,2,    25.00, -999.00,9,  -999.0,9,  -999.0,-999.0000,9, -999.00,9,    37.7,2,   40.30,2, -999.00,9,     -999.0,9, -999.00,9,  -999.0,9,     -999.0,     -999.0,9,     -999.0,9,     -999.0,     -999.0,9,     -999.0,     -999.0,9,     -999.0,     -999.0,     -999.0,9,     -999.0,9,     -999.0,9,     -999.0,9,     -999.0,9,     -999.0,9,     -999.0,9,     -999.0,9
33RO20161119,        P18,     133,          1,          9,      11108,2,20170105,       1131,   -32.5000,  -103.0000,       3585,  1524.9,   2.9357,  34.5528,2,  34.5558,2,    128.2,2,   128.0,2,    88.2,2,    37.7,2,    0.00,2,   2.620,2,-999.0000,9,-999.0000,9,-999.0000,9,  2289.3,2,  2356.4,2,   7.5091,2,    25.00, -999.00,9,  -999.0,9,  -999.0,-999.0000,9, -999.00,9,    38.2,2,   40.30,2, -999.00,9,     -999.0,9, -999.00,9,  -999.0,9,     -999.0,     -999.0,9,     -999.0,9,     -999.0,     -999.0,9,     -999.0,     -999.0,9,     -999.0,     -999.0,     -999.0,9,     -999.0,9,     -999.0,9,     -999.0,9,     -999.0,9,     -999.0,9,     -999.0,9,     -999.0,9
33RO20161119,        P18,     133,          1,         10,      11109,2,20170105,       1131,   -32.5000,  -103.0000,       3585,  1315.3,   3.3490,  34.4977,2,  34.4975,2,    125.7,2,   125.0,2,    74.4,2,    38.1,2,    0.00,2,   2.657,2,   0.0095,6,   0.0059,6,   0.0000,6,  2278.0,2,  2340.9,2,   7.4954,2,    25.00, -999.00,9,  -999.0,9,  -999.0,   2.2131,2, -999.00,9,    37.7,2,   40.70,2, -999.00,9,    29.1805,2, -999.00,9,  -999.0,9,     -999.0,     -999.0,9,     -999.0,9,     -999.0,     -999.0,9,     -999.0,     -999.0,9,     -999.0,     -999.0,     -999.0,9,     -999.0,9,     -999.0,9,     -999.0,9,     -999.0,9,     -999.0,9,     -999.0,9,     -999.0,9
33RO20161119,        P18,     133,          1,         11,      11110,2,20170105,       1131,   -32.5000,  -103.0000,       3585,  1185.9,   3.5898,  34.4210,2,  34.4317,2,    145.5,2,   142.8,2,    57.5,2,    37.0,2,    0.00,2,   2.565,2,   0.0946,2,   0.0504,2,   0.0000,2,  2253.7,2,  2320.1,6,   7.5149,2,    25.00, -999.00,9,  -999.0,9,  -999.0,    1.525,2, -999.00,9,    39.5,2,   40.00,2, -999.00,9,    27.3042,2, -999.00,9,  -999.0,9,     -999.0,     -999.0,9,     -999.0,9,     -999.0,     -999.0,9,     -999.0,     -999.0,9,     -999.0,     -999.0,     -999.0,9,     -999.0,9,     -999.0,9,     -999.0,9,     -999.0,9,     -999.0,9,     -999.0,9,     -999.0,9
33RO20161119,        P18,     133,          1,         12,      11111,2,20170105,       1131,   -32.5000,  -103.0000,       3585,  1049.8,   3.9970,  34.3455,2,  34.3489,2,    170.3,2,   170.9,2,    40.2,2,    34.5,2,    0.00,2,   2.369,2,   0.4763,2,   0.2379,2,   0.0848,2,  2221.3,6,  2298.1,2,   7.5553,2,    25.00, -999.00,9,  -999.0,9,  -999.0,    0.755,2, -999.00,9,    40.8,2,   37.50,2, -999.00,9,    24.4942,2, -999.00,9,  -999.0,9,     -999.0,     -999.0,9,     -999.0,9,     -999.0,     -999.0,9,     -999.0,     -999.0,9,     -999.0,     -999.0,     -999.0,9,     -999.0,9,     -999.0,9,     -999.0,9,     -999.0,9,     -999.0,9,     -999.0,9,     -999.0,9
33RO20161119,        P18,     133,          1,         13,      11112,2,20170105,       1131,   -32.5000,  -103.0000,       3585,   930.5,   4.5823,  34.2980,2,  34.3267,4,    192.0,2,   190.4,2,    27.2,2,    32.1,2,    0.00,2,   2.204,2,-999.0000,9,-999.0000,9,-999.0000,9,  2199.3,2,  2290.1,2,   7.5893,2,    25.00, -999.00,9,  -999.0,9,  -999.0,-999.0000,9, -999.00,9,    41.6,2,   35.90,2, -999.00,9,     -999.0,9, -999.00,9,  -999.0,9,     -999.0,     -999.0,9,     -999.0,9,     -999.0,     -999.0,9,     -999.0,     -999.0,9,     -999.0,     -999.0,     -999.0,9,     -999.0,9,     -999.0,9,     -999.0,9,     -999.0,9,     -999.0,9,     -999.0,9,     -999.0,9
33RO20161119,        P18,     133,          1,         14,      11113,2,20170105,       1131,   -32.5000,  -103.0000,       3585,   817.1,   5.1035,  34.2687,2,  34.2694,2,    214.7,2,   214.3,2,    17.3,2,    29.2,2,    0.00,2,   1.992,2,   2.4411,2,   1.1935,2,   0.4108,2,  2175.6,2,  2281.9,2,   7.6325,6,    25.00, -999.00,9,  -999.0,9,  -999.0,   1.2614,2, -999.00,9,    42.1,2,   31.10,2, -999.00,9,    20.5252,2, -999.00,9,  -999.0,9,     -999.0,     -999.0,9,     -999.0,9,     -999.0,     -999.0,9,     -999.0,     -999.0,9,     -999.0,     -999.0,     -999.0,9,     -999.0,9,     -999.0,9,     -999.0,9,     -999.0,9,     -999.0,9,     -999.0,9,     -999.0,9
33RO20161119,        P18,     133,          1,         15,      11114,2,20170105,       1131,   -32.5000,  -103.0000,       3585,   702.8,   5.5898,  34.2643,2,  34.2678,2,    233.3,2,   233.5,2,    11.4,2,    26.4,2,    0.00,2,   1.798,2,   3.3824,2,   1.7011,2,   0.7211,2,  2159.7,2,  2276.2,2,   7.6708,2,    25.00, -999.00,9,  -999.0,9,  -999.0,    2.074,2, -999.00,9,    42.7,2,   29.40,2, -999.00,9,    17.6698,2, -999.00,9,  -999.0,9,     -999.0,     -999.0,9,     -999.0,9,     -999.0,     -999.0,9,     -999.0,     -999.0,9,     -999.0,     -999.0,     -999.0,9,     -999.0,9,     -999.0,9,     -999.0,9,     -999.0,9,     -999.0,9,     -999.0,9,     -999.0,9
33RO20161119,        P18,     133,          1,         16,      11115,2,20170105,       1131,   -32.5000,  -103.0000,       3585,   582.6,   6.2402,  34.2952,2,  34.2981,2,    220.2,2,   220.0,2,    10.1,2,    26.1,2,    0.00,2,   1.799,2,-999.0000,9,-999.0000,9,-999.0000,9,  2164.7,2,  2274.6,2,   7.6445,2,    25.00, -999.00,9,  -999.0,9,  -999.0,-999.0000,9, -999.00,9,    43.0,2,   29.00,2, -999.00,9,     -999.0,9, -999.00,9,  -999.0,9,     -999.0,     -999.0,9,     -999.0,9,     -999.0,     -999.0,9,     -999.0,     -999.0,9,     -999.0,     -999.0,     -999.0,9,     -999.0,9,     -999.0,9,     -999.0,9,     -999.0,9,     -999.0,9,     -999.0,9,     -999.0,9
33RO20161119,        P18,     133,          1,         17,      11116,2,20170105,       1131,   -32.5000,  -103.0000,       3585,   482.7,   6.9296,  34.2994,2,  34.3000,2,    213.2,2,   212.1,6,     8.2,2,    24.9,2,    0.00,2,   1.737,2,   3.6851,3,   1.9544,3,   1.1602,3,  2163.2,2,  2271.3,2,   7.6419,2,    25.00, -999.00,9,  -999.0,9,  -999.0,   2.5383,2, -999.00,9,    44.0,2,   27.30,2, -999.00,9,    24.7548,3, -999.00,9,  -999.0,9,     -999.0,     -999.0,9,     -999.0,9,     -999.0,     -999.0,9,     -999.0,     -999.0,9,     -999.0,     -999.0,     -999.0,9,     -999.0,9,     -999.0,9,     -999.0,9,     -999.0,9,     -999.0,9,     -999.0,9,     -999.0,9
33RO20161119,        P18,     133,          1,         18,      11117,2,20170105,       1131,   -32.5000,  -103.0000,       3585,   376.7,   8.6781,  34.2831,2,  34.2827,2,    206.7,2,   219.9,2,     3.8,2,    19.6,2,    0.00,2,   1.432,2,   3.6539,2,   2.0164,2,   1.4545,2,  2138.4,2,  2266.7,2,   7.7017,2,    25.00, -999.00,9,  -999.0,9,  -999.0,   2.0424,2, -999.00,9,    44.9,2,   22.10,2, -999.00,9,    24.1473,2, -999.00,9,  -999.0,9,     -999.0,     -999.0,9,     -999.0,9,     -999.0,     -999.0,9,     -999.0,     -999.0,9,     -999.0,     -999.0,     -999.0,9,     -999.0,9,     -999.0,9,     -999.0,9,     -999.0,9,     -999.0,9,     -999.0,9,     -999.0,9
33RO20161119,        P18,     133,          1,         19,      11083,2,20170105,       1131,   -32.5000,  -103.0000,       3585,   286.0,  11.3679,  34.4162,2,  34.4259,2,    218.3,2,   217.6,2,     1.2,2,    12.4,2,    0.01,2,   0.974,2,   3.2278,2,   1.8589,2,   1.6064,2,  2109.6,2,  2269.4,2,   7.7790,2,    25.00, -999.00,9,  -999.0,9,  -999.0,   2.4899,2, -999.00,9,    48.4,2,   13.90,2, -999.00,9,    17.6659,2, -999.00,9,  -999.0,9,     -999.0,     -999.0,9,     -999.0,9,     -999.0,     -999.0,9,     -999.0,     -999.0,9,     -999.0,     -999.0,     -999.0,9,     -999.0,9,     -999.0,9,     -999.0,9,     -999.0,9,     -999.0,9,     -999.0,9,     -999.0,9
33RO20161119,        P18,     133,          1,         20,      11118,2,20170105,       1131,   -32.5000,  -103.0000,       3585,   207.6,  14.5756,  34.6564,2,  34.6591,2,    219.2,2,   218.1,2,     0.5,2,     4.8,2,    0.08,2,   0.540,2,   2.7161,2,   1.6260,2,   1.7467,2,  2081.4,2,  2282.8,2,   7.8654,2,    25.00, -999.00,9,  -999.0,9,  -999.0,   0.0123,2, -999.00,9,    53.2,2,    8.30,2, -999.00,9,    11.2502,2, -999.00,9,  -999.0,9,     -999.0,     -999.0,9,     -999.0,9,     -999.0,     -999.0,9,     -999.0,     -999.0,9,     -999.0,     -999.0,     -999.0,9,     -999.0,9,     -999.0,9,     -999.0,9,     -999.0,9,     -999.0,9,     -999.0,9,     -999.0,9
33RO20161119,        P18,     133,          1,         21,      11119,2,20170105,       1131,   -32.5000,  -103.0000,       3585,   144.4,  16.5189,  34.7568,2,  34.7565,2,    237.1,2,   238.2,2,     0.1,2,     0.0,2,    0.03,2,   0.204,2,   2.4110,2,   1.4661,2,   1.8456,2,  2049.8,2,  2290.5,2,   7.9414,2,    25.00, -999.00,9,  -999.0,9,  -999.0,   0.0175,2, -999.00,9,    62.1,2,    3.30,2, -999.00,9,       8.25,2, -999.00,9,  -999.0,9,     -999.0,     -999.0,9,     -999.0,9,     -999.0,     -999.0,9,     -999.0,     -999.0,9,     -999.0,     -999.0,     -999.0,9,     -999.0,9,     -999.0,9,     -999.0,9,     -999.0,9,     -999.0,9,     -999.0,9,     -999.0,9
33RO20161119,        P18,     133,          1,         22,      11120,2,20170105,       1131,   -32.5000,  -103.0000,       3585,    71.1,  18.0080,  34.8922,2,  34.8851,2,    244.7,2,   244.4,2,     0.2,2,     0.0,2,    0.00,2,   0.149,2,   2.3733,2,   1.4341,2,   1.8291,2,  2041.2,2,  2295.8,2,   7.9651,2,    25.00, -999.00,9,  -999.0,9,  -999.0,   0.0116,2, -999.00,9,    64.6,2,    2.00,2, -999.00,9,      8.681,2, -999.00,9,  -999.0,9,     -999.0,     -999.0,9,     -999.0,9,     -999.0,     -999.0,9,     -999.0,     -999.0,9,     -999.0,     -999.0,     -999.0,9,     -999.0,9,     -999.0,9,     -999.0,9,     -999.0,9,     -999.0,9,     -999.0,9,     -999.0,9
33RO20161119,        P18,     133,          1,         23,      11121,2,20170105,       1131,   -32.5000,  -103.0000,       3585,    31.9,  21.4477,  34.8400,2,  34.8350,2,    222.0,2,   227.1,2,     0.2,2,     0.0,2,    0.00,2,   0.141,2,   2.0573,2,   1.2665,2,   1.6576,2,  2041.9,2,  2292.3,6,   7.9606,2,    25.00, -999.00,9,  -999.0,9,  -999.0,   0.0151,2, -999.00,9,    66.1,2,    2.80,2, -999.00,9,     7.3938,2, -999.00,9,  -999.0,9,     -999.0,     -999.0,9,     -999.0,9,     -999.0,     -999.0,9,     -999.0,     -999.0,9,     -999.0,     -999.0,     -999.0,9,     -999.0,9,     -999.0,9,     -999.0,9,     -999.0,9,     -999.0,9,     -999.0,9,     -999.0,9
33RO20161119,        P18,     133,          1,         24,      11122,2,20170105,       1131,   -32.5000,  -103.0000,       3585,     3.0,  21.9012,  34.8686,2,  34.8686,2,    220.2,2,   222.5,2,     0.2,2,     0.0,2,    0.00,2,   0.168,2,   1.9743,2,   1.2290,2,   1.5982,2,  2043.6,6,  2294.7,2,   7.9603,2,    25.00, -999.00,9,  -999.0,9,  -999.0,    0.023,2, -999.00,9,    67.3,2,    3.00,2, -999.00,9,     7.4549,2, -999.00,9,  -999.0,9,     -999.0,     -999.0,9,     -999.0,9,     -999.0,     -999.0,9,     -999.0,     -999.0,9,     -999.0,     -999.0,     -999.0,9,     -999.0,9,     -999.0,9,     -999.0,9,     -999.0,9,     -999.0,9,     -999.0,9,     -999.0,9