BOTTLE,20230606CCHSIOCBG
EXPOCODE,SECT_ID,STNNBR,CASTNO,SAMPNO,BTLNBR,BTLNBR_FLAG_W,DATE,TIME,LATITUDE,LONGITUDE,DEPTH,CTDPRS,CTDTMP,CTDSAL,CTDSAL_FLAG_W,SALNTY,SALNTY_FLAG_W,CTDOXY,CTDOXY_FLAG_W,OXYGEN,OXYGEN_FLAG_W,SILCAT,SILCAT_FLAG_W,NITRAT,NITRAT_FLAG_W,NITRIT,NITRIT_FLAG_W,PHSPHT,PHSPHT_FLAG_W,CFC-11,CFC-11_FLAG_W,CFC-12,CFC-12_FLAG_W,SF6,SF6_FLAG_W,TCARBN,TCARBN_FLAG_W,ALKALI,ALKALI_FLAG_W,PH_SWS,PH_SWS_FLAG_W,PH_TMP,DELC13,DELC13_FLAG_W,DELC14,DELC14_FLAG_W,C14ERR,CCL4,CCL4_FLAG_W,POC,POC_FLAG_W,DOC,DOC_FLAG_W,TDN,TDN_FLAG_W,PON,PON_FLAG_W,N2O,N2O_FLAG_W,D15N_NO3,D15N_NO3_FLAG_W,14C-DOC,14C-DOC_FLAG_W,14C-DOCERR,13C-DOC,13C-DOC_FLAG_W,N2/ARGON_UNSTRIPPED,N2/ARGON_UNSTRIPPED_FLAG_W,N2/ARGON_UNSTRIPPED_ERROR,N2/ARGON,N2/ARGON_FLAG_W,N2/ARGON_ERROR,D15N_N2,D15N_N2_FLAG_W,D15N_N2_ERROR,D15N_NO3_ERROR,D15N_NO2+NO3,D15N_NO2+NO3_FLAG_W,D18O_NO2+NO3,D18O_NO2+NO3_FLAG_W,D18O_NO3,D18O_NO3_FLAG_W,TDP,TDP_FLAG_W,N2O_ALT_1,N2O_ALT_1_FLAG_W,D15N_N2O,D15N_N2O_FLAG_W,D18O_N2O,D18O_N2O_FLAG_W,D15N_ALPHA_N2O,D15N_ALPHA_N2O_FLAG_W
,,,,,,,,,,,METERS,DBAR,ITS-90,PSS-78,,PSS-78,,UMOL/KG,,UMOL/KG,,UMOL/KG,,UMOL/KG,,UMOL/KG,,UMOL/KG,,PMOL/KG,,PMOL/KG,,FMOL/KG,,UMOL/KG,,UMOL/KG,,,,DEG C,/MILLE,,/MILLE,,/MILLE,PMOL/KG,,UG/KG,,UMOL/KG,,UMOL/KG,,UG/KG,,NMOL/KG,,/MILLE,,/MILLE,,/MILLE,/MILLE,,,,,,,,/MILLE,,/MILLE,/MILLE,/MILLE,,/MILLE,,/MILLE,,UMOL/KG,,NMOL/L,,/MILLE,,/MILLE,,/MILLE,
33RO20161119,        P18,      79,          1,          1,      11010,2,20161212,       1000,    -7.3500,  -106.7100,       3483,  3528.0,   1.8085,  34.6763,2,  34.6761,2,    135.3,2,   135.2,2,   143.1,6,    37.1,6,    0.00,6,   2.566,6,   0.0008,2,   0.0000,2,   0.0000,2,  2336.9,6,  2430.4,2,   7.5633,6,    25.00, -999.00,9,  -999.0,9,  -999.0,        0,2, -999.00,9,    36.2,2,   38.80,2, -999.00,9,    21.9931,2, -999.00,9,  -999.0,9,     -999.0,     -999.0,9,     -999.0,9,     -999.0,     -999.0,9,     -999.0,     -999.0,9,     -999.0,     -999.0,     -999.0,9,     -999.0,9,     -999.0,9,     -999.0,9,     -999.0,9,     -999.0,9,     -999.0,9,     -999.0,9
33RO20161119,        P18,      79,          1,          2,      11101,2,20161212,       1000,    -7.3500,  -106.7100,       3483,  3280.1,   1.7874,  34.6765,2,  34.6761,2,    135.6,2,   135.1,2,   142.6,6,    37.1,6,    0.00,6,   2.556,6,   0.0009,2,   0.0010,2,   0.0000,2,  2336.9,2,  2427.9,2,   7.5631,2,    25.00, -999.00,9,  -999.0,9,  -999.0,        0,2, -999.00,9,    37.2,2,   40.10,2, -999.00,9,     21.981,2, -999.00,9,  -999.0,9,     -999.0,     -999.0,9,     -999.0,9,     -999.0,     -999.0,9,     -999.0,     -999.0,9,     -999.0,     -999.0,     -999.0,9,     -999.0,9,     -999.0,9,     -999.0,9,     -999.0,9,     -999.0,9,     -999.0,9,     -999.0,9
33RO20161119,        P18,      79,          1,          3,      11102,2,20161212,       1000,    -7.3500,  -106.7100,       3483,  3034.4,   1.7714,  34.6762,2,  34.6761,2,    135.4,2,   135.4,2,   142.1,6,    37.1,6,    0.00,6,   2.564,6,   0.0019,2,   0.0000,2,   0.0000,2,  2334.1,2,  2427.6,6,   7.5629,2,    25.00, -999.00,9,  -999.0,9,  -999.0,        0,2, -999.00,9,    37.2,2,   39.50,2, -999.00,9,    22.5961,2, -999.00,9,  -999.0,9,     -999.0,     -999.0,9,     -999.0,9,     -999.0,     -999.0,9,     -999.0,     -999.0,9,     -999.0,     -999.0,     -999.0,9,     -999.0,9,     -999.0,9,     -999.0,9,     -999.0,9,     -999.0,9,     -999.0,9,     -999.0,9
33RO20161119,        P18,      79,          1,          4,      11103,2,20161212,       1000,    -7.3500,  -106.7100,       3483,  2789.4,   1.8026,  34.6735,2,  34.6731,2,    135.0,2,   135.4,2,   137.8,6,    36.9,6,    0.00,6,   2.559,6,   0.0009,2,   0.0008,2,   0.0000,2,  2330.6,2,  2418.2,2,   7.5575,2,    25.00, -999.00,9,  -999.0,9,  -999.0,   0.0116,2, -999.00,9,    38.5,2,   39.60,2, -999.00,9,    21.5233,2, -999.00,9,  -999.0,9,     -999.0,     -999.0,9,     -999.0,9,     -999.0,     -999.0,9,     -999.0,     -999.0,9,     -999.0,     -999.0,     -999.0,9,     -999.0,9,     -999.0,9,     -999.0,9,     -999.0,9,     -999.0,9,     -999.0,9,     -999.0,9
33RO20161119,        P18,      79,          1,          5,      11104,2,20161212,       1000,    -7.3500,  -106.7100,       3483,  2520.0,   1.9391,  34.6630,2,  34.6621,2,    121.8,2,   121.5,2,   140.8,2,    37.9,2,    0.01,2,   2.643,2,   0.0036,2,   0.0021,2,   0.0000,2,  2337.9,2,  2418.9,2,   7.5317,2,    25.00, -999.00,9,  -999.0,9,  -999.0,        0,2, -999.00,9,    39.5,2,   41.30,2, -999.00,9,    23.1985,2, -999.00,9,  -999.0,9,     -999.0,     -999.0,9,     -999.0,9,     -999.0,     -999.0,9,     -999.0,     -999.0,9,     -999.0,     -999.0,     -999.0,9,     -999.0,9,     -999.0,9,     -999.0,9,     -999.0,9,     -999.0,9,     -999.0,9,     -999.0,9
33RO20161119,        P18,      79,          1,          6,      11105,2,20161212,       1000,    -7.3500,  -106.7100,       3483,  2225.0,   2.1170,  34.6516,2,  34.6521,2,    114.9,2,   115.2,2,   136.8,2,    38.4,2,    0.01,2,   2.677,2,   0.0017,2,   0.0012,2,   0.0000,2,  2337.3,2,  2418.6,2,   7.5165,2,    25.00, -999.00,9,  -999.0,9,  -999.0,   0.0134,2, -999.00,9,    35.7,2,   43.40,2, -999.00,9,    24.7407,2, -999.00,9,  -999.0,9,     -999.0,     -999.0,9,     -999.0,9,     -999.0,     -999.0,9,     -999.0,     -999.0,9,     -999.0,     -999.0,     -999.0,9,     -999.0,9,     -999.0,9,     -999.0,9,     -999.0,9,     -999.0,9,     -999.0,9,     -999.0,9
33RO20161119,        P18,      79,          1,          7,      11106,2,20161212,       1000,    -7.3500,  -106.7100,       3483,  1964.2,   2.3439,  34.6369,2,  34.6377,2,    110.1,2,   111.5,2,   130.4,2,    38.6,2,    0.00,2,   2.731,2,   0.0019,6,   0.0014,6,   0.0119,6,  2333.7,6,  2406.5,2,   7.5034,6,    25.00, -999.00,9,  -999.0,9,  -999.0,        0,2, -999.00,9,    34.9,2,   41.50,2, -999.00,9,    25.4796,2, -999.00,9,  -999.0,9,     -999.0,     -999.0,9,     -999.0,9,     -999.0,     -999.0,9,     -999.0,     -999.0,9,     -999.0,     -999.0,     -999.0,9,     -999.0,9,     -999.0,9,     -999.0,9,     -999.0,9,     -999.0,9,     -999.0,9,     -999.0,9
33RO20161119,        P18,      79,          1,          8,      11107,2,20161212,       1000,    -7.3500,  -106.7100,       3483,  1709.2,   2.5779,  34.6230,2,  34.6237,2,    105.2,2,   104.7,6,   124.4,2,    39.0,2,    0.00,2,   2.756,2,   0.0015,2,   0.0012,2,   0.0000,2,  2330.1,2,  2397.8,2,   7.4949,2,    25.00, -999.00,9,  -999.0,9,  -999.0,        0,2, -999.00,9,    35.0,2,   41.90,2, -999.00,9,    27.6438,2, -999.00,9,  -999.0,9,     -999.0,     -999.0,9,     -999.0,9,     -999.0,     -999.0,9,     -999.0,     -999.0,9,     -999.0,     -999.0,     -999.0,9,     -999.0,9,     -999.0,9,     -999.0,9,     -999.0,9,     -999.0,9,     -999.0,9,     -999.0,9
33RO20161119,        P18,      79,          1,          9,      11108,2,20161212,       1000,    -7.3500,  -106.7100,       3483,  1407.5,   3.1485,  34.5876,2,  34.5870,2,    106.8,2,   106.5,2,   104.9,2,    38.7,2,    0.00,2,   2.743,2,   0.0016,2,   0.0009,2,   0.0000,2,  2308.9,2,  2377.3,2,   7.4953,2,    25.00, -999.00,9,  -999.0,9,  -999.0,        0,2, -999.00,9,    37.7,2,   42.90,2, -999.00,9,    28.6549,2, -999.00,9,  -999.0,9,     -999.0,     -999.0,9,     -999.0,9,     -999.0,     -999.0,9,     -999.0,     -999.0,9,     -999.0,     -999.0,     -999.0,9,     -999.0,9,     -999.0,9,     -999.0,9,     -999.0,9,     -999.0,9,     -999.0,9,     -999.0,9
33RO20161119,        P18,      79,          1,         10,      11109,2,20161212,       1000,    -7.3500,  -106.7100,       3483,  1209.3,   3.7038,  34.5662,2,  34.5660,2,     99.0,2,    98.5,2,    93.3,2,    39.1,2,    0.00,2,   2.763,2,   0.0031,2,   0.0025,2,   0.0000,2,  2299.4,2,  2363.5,2,   7.4789,2,    25.00, -999.00,9,  -999.0,9,  -999.0,        0,2, -999.00,9,    36.5,2,   41.90,2, -999.00,9,    29.8727,2, -999.00,9,  -999.0,9,     -999.0,     -999.0,9,     -999.0,9,     -999.0,     -999.0,9,     -999.0,     -999.0,9,     -999.0,     -999.0,     -999.0,9,     -999.0,9,     -999.0,9,     -999.0,9,     -999.0,9,     -999.0,9,     -999.0,9,     -999.0,9
33RO20161119,        P18,      79,          1,         11,      11110,2,20161212,       1000,    -7.3500,  -106.7100,       3483,  1087.7,   4.1539,  34.5539,2,  34.5527,2,     83.7,2,    83.4,6,    85.5,2,    40.4,2,    0.00,2,   2.864,2,   0.0032,2,   0.0025,2,   0.0000,2,  2300.6,2,  2354.3,2,   7.4525,2,    25.00, -999.00,9,  -999.0,9,  -999.0,        0,2, -999.00,9,    38.5,2,   44.20,2, -999.00,9,    33.6241,2, -999.00,9,  -999.0,9,     -999.0,     -999.0,9,     -999.0,9,     -999.0,     -999.0,9,     -999.0,     -999.0,9,     -999.0,     -999.0,     -999.0,9,     -999.0,9,     -999.0,9,     -999.0,9,     -999.0,9,     -999.0,9,     -999.0,9,     -999.0,9
33RO20161119,        P18,      79,          1,         12,      11111,2,20161212,       1000,    -7.3500,  -106.7100,       3483,   964.1,   4.6287,  34.5451,2,  34.5497,2,     71.4,2,    71.1,2,    77.0,2,    41.4,2,    0.00,2,   2.927,2,   0.0034,2,   0.0028,2,   0.0000,2,  2297.1,2,  2341.7,2,   7.4281,2,    25.00, -999.00,9,  -999.0,9,  -999.0,    0.011,2, -999.00,9,    39.7,2,   45.90,2, -999.00,9,    35.7767,2, -999.00,9,  -999.0,9,     -999.0,     -999.0,9,     -999.0,9,     -999.0,     -999.0,9,     -999.0,     -999.0,9,     -999.0,     -999.0,     -999.0,9,     -999.0,9,     -999.0,9,     -999.0,9,     -999.0,9,     -999.0,9,     -999.0,9,     -999.0,9
33RO20161119,        P18,      79,          1,         13,      11112,2,20161212,       1000,    -7.3500,  -106.7100,       3483,   854.3,   5.2521,  34.5415,2,  34.5426,2,     60.1,2,    59.4,2,    66.6,2,    42.1,2,    0.00,2,   2.939,2,   0.0076,2,   0.0038,2,   0.0000,2,  2291.4,2,  2331.6,2,   7.4101,2,    25.00, -999.00,9,  -999.0,9,  -999.0,   0.0109,2, -999.00,9,    37.4,2,   45.90,2, -999.00,9,    40.4868,2, -999.00,9,  -999.0,9,     -999.0,     -999.0,9,     -999.0,9,     -999.0,     -999.0,9,     -999.0,     -999.0,9,     -999.0,     -999.0,     -999.0,9,     -999.0,9,     -999.0,9,     -999.0,9,     -999.0,9,     -999.0,9,     -999.0,9,     -999.0,9
33RO20161119,        P18,      79,          1,         14,      11113,2,20161212,       1000,    -7.3500,  -106.7100,       3483,   744.5,   5.9558,  34.5477,2,  34.5463,2,     42.5,2,    43.3,2,    56.1,2,    43.0,2,    0.00,2,   2.975,2,   0.0091,2,   0.0050,2,   0.0000,2,  2287.8,2,  2314.1,2,   7.3850,2,    25.00, -999.00,9,  -999.0,9,  -999.0,   0.0149,2, -999.00,9,    40.2,2,   46.70,2, -999.00,9,    46.5663,2, -999.00,9,  -999.0,9,     -999.0,     -999.0,9,     -999.0,9,     -999.0,     -999.0,9,     -999.0,     -999.0,9,     -999.0,     -999.0,     -999.0,9,     -999.0,9,     -999.0,9,     -999.0,9,     -999.0,9,     -999.0,9,     -999.0,9,     -999.0,9
33RO20161119,        P18,      79,          1,         15,      11114,2,20161212,       1000,    -7.3500,  -106.7100,       3483,   638.7,   6.7402,  34.5690,2,  34.5693,2,     23.0,2,    23.4,2,    48.3,2,    43.6,2,    0.00,2,   3.007,2,   0.0135,6,   0.0077,6,   0.0000,6,  2290.6,2,  2312.1,2,   7.3545,2,    25.00, -999.00,9,  -999.0,9,  -999.0,   0.0125,2, -999.00,9,    40.2,2,   48.00,2, -999.00,9,    57.6463,2, -999.00,9,  -999.0,9,     -999.0,     -999.0,9,     -999.0,9,     -999.0,     -999.0,9,     -999.0,     -999.0,9,     -999.0,     -999.0,     -999.0,9,     -999.0,9,     -999.0,9,     -999.0,9,     -999.0,9,     -999.0,9,     -999.0,9,     -999.0,9
33RO20161119,        P18,      79,          1,         16,      11115,2,20161212,       1000,    -7.3500,  -106.7100,       3483,   533.0,   8.1516,  34.6331,2,  34.6312,2,      9.3,2,    10.1,2,    40.1,2,    41.2,2,    0.00,2,   2.908,2,   0.0583,2,   0.0330,2,   0.0000,2,  2284.7,2,  2306.4,2,   7.3462,2,    25.00, -999.00,9,  -999.0,9,  -999.0,    0.024,2, -999.00,9,    43.0,2,   45.30,2, -999.00,9,    72.4619,2, -999.00,9,  -999.0,9,     -999.0,     -999.0,9,     -999.0,9,     -999.0,     -999.0,9,     -999.0,     -999.0,9,     -999.0,     -999.0,     -999.0,9,     -999.0,9,     -999.0,9,     -999.0,9,     -999.0,9,     -999.0,9,     -999.0,9,     -999.0,9
33RO20161119,        P18,      79,          1,         17,      11116,2,20161212,       1000,    -7.3500,  -106.7100,       3483,   445.1,   9.1060,  34.6869,2,  34.6893,2,      4.9,2,     6.0,2,    36.6,2,    38.3,2,    0.00,2,   2.810,2,   0.1335,2,   0.0771,2,   0.0000,2,  2280.1,2,  2303.7,6,   7.3534,2,    25.00, -999.00,9,  -999.0,9,  -999.0,   0.0396,2, -999.00,9,    43.2,2,   41.30,2, -999.00,9,    68.4113,2, -999.00,9,  -999.0,9,     -999.0,     -999.0,9,     -999.0,9,     -999.0,     -999.0,9,     -999.0,     -999.0,9,     -999.0,     -999.0,     -999.0,9,     -999.0,9,     -999.0,9,     -999.0,9,     -999.0,9,     -999.0,9,     -999.0,9,     -999.0,9
33RO20161119,        P18,      79,          1,         18,      11117,2,20161212,       1000,    -7.3500,  -106.7100,       3483,   349.6,  10.3404,  34.7637,2,  34.7624,2,      6.0,2,     7.4,2,    31.3,2,    35.1,2,    0.00,2,   2.644,2,   0.3641,2,   0.2069,2,   0.0763,2,  2271.5,2,  2303.1,2,   7.3845,2,    25.00, -999.00,9,  -999.0,9,  -999.0,   0.0809,2, -999.00,9,    44.2,2,   39.50,2, -999.00,9,    76.2406,2, -999.00,9,  -999.0,9,     -999.0,     -999.0,9,     -999.0,9,     -999.0,     -999.0,9,     -999.0,     -999.0,9,     -999.0,     -999.0,     -999.0,9,     -999.0,9,     -999.0,9,     -999.0,9,     -999.0,9,     -999.0,9,     -999.0,9,     -999.0,9
33RO20161119,        P18,      79,          1,         19,      11083,2,20161212,       1000,    -7.3500,  -106.7100,       3483,   268.6,  11.2493,  34.8239,2,  34.8263,2,     14.1,2,    16.5,2,    26.8,2,    33.1,2,    0.01,2,   2.457,2,   0.6880,2,   0.3796,2,   0.1497,2,  2258.0,2,  2300.6,2,   7.4243,2,    25.00, -999.00,9,  -999.0,9,  -999.0,   0.0853,2, -999.00,9,    45.3,2,   36.20,2, -999.00,9,    71.3774,2, -999.00,9,  -999.0,9,     -999.0,     -999.0,9,     -999.0,9,     -999.0,     -999.0,9,     -999.0,     -999.0,9,     -999.0,     -999.0,     -999.0,9,     -999.0,9,     -999.0,9,     -999.0,9,     -999.0,9,     -999.0,9,     -999.0,9,     -999.0,9
33RO20161119,        P18,      79,          1,         20,      11118,2,20161212,       1000,    -7.3500,  -106.7100,       3483,   194.1,  12.2404,  34.8843,2,  34.8833,2,     15.5,2,    15.4,2,    23.0,2,    30.6,2,    0.01,2,   2.388,2,   0.9822,2,   0.5557,2,   0.2305,2,  2251.4,2,  2301.8,2,   7.4459,2,    25.00, -999.00,9,  -999.0,9,  -999.0,    0.178,2, -999.00,9,    44.8,2,   33.90,2, -999.00,9,    74.3135,2, -999.00,9,  -999.0,9,     -999.0,     -999.0,9,     -999.0,9,     -999.0,     -999.0,9,     -999.0,     -999.0,9,     -999.0,     -999.0,     -999.0,9,     -999.0,9,     -999.0,9,     -999.0,9,     -999.0,9,     -999.0,9,     -999.0,9,     -999.0,9
33RO20161119,        P18,      79,          1,         21,      11119,2,20161212,       1000,    -7.3500,  -106.7100,       3483,   134.5,  14.3993,  34.9981,2,  34.9993,2,     39.4,2,    38.4,2,    12.9,2,    24.6,2,    0.02,2,   2.150,2,   1.7862,2,   1.0541,2,   0.8181,2,  2225.8,2,  2304.7,2,   7.5216,2,    25.00, -999.00,9,  -999.0,9,  -999.0,   1.8029,2, -999.00,9,    49.8,2,   28.20,2, -999.00,9,    71.4461,2, -999.00,9,  -999.0,9,     -999.0,     -999.0,9,     -999.0,9,     -999.0,     -999.0,9,     -999.0,     -999.0,9,     -999.0,     -999.0,     -999.0,9,     -999.0,9,     -999.0,9,     -999.0,9,     -999.0,9,     -999.0,9,     -999.0,9,     -999.0,9
33RO20161119,        P18,      79,          1,         22,      11120,2,20161212,       1000,    -7.3500,  -106.7100,       3483,    69.4,  24.6840,  35.6314,2,  35.6363,2,    209.5,2,   209.9,2,     1.9,2,     5.0,2,    0.10,2,   0.641,2,   1.6937,2,   1.0777,2,   1.4515,2,  2058.0,2,  2346.7,2,   8.0006,2,    25.00, -999.00,9,  -999.0,9,  -999.0,   1.7554,2, -999.00,9,    64.5,2,    9.80,2, -999.00,9,     7.3207,2, -999.00,9,  -999.0,9,     -999.0,     -999.0,9,     -999.0,9,     -999.0,     -999.0,9,     -999.0,     -999.0,9,     -999.0,     -999.0,     -999.0,9,     -999.0,9,     -999.0,9,     -999.0,9,     -999.0,9,     -999.0,9,     -999.0,9,     -999.0,9
33RO20161119,        P18,      79,          1,         23,      11121,2,20161212,       1000,    -7.3500,  -106.7100,       3483,    30.7,  24.8221,  35.2686,2,  35.2687,2,    208.4,2,   207.9,2,     2.9,2,     8.1,2,    0.18,2,   0.781,2,   1.7091,2,   1.0678,2,   1.4369,2,  2064.4,2,  2326.3,6,   7.9642,2,    25.00, -999.00,9,  -999.0,9,  -999.0,   1.8638,2, -999.00,9,    62.3,2,   11.70,2, -999.00,9,     7.0927,2, -999.00,9,  -999.0,9,     -999.0,     -999.0,9,     -999.0,9,     -999.0,     -999.0,9,     -999.0,     -999.0,9,     -999.0,     -999.0,     -999.0,9,     -999.0,9,     -999.0,9,     -999.0,9,     -999.0,9,     -999.0,9,     -999.0,9,     -999.0,9
33RO20161119,        P18,      79,          1,         24,      11122,2,20161212,       1000,    -7.3500,  -106.7100,       3483,     2.8,  24.8115,  35.2628,2,  35.2685,2,    207.3,2,   208.7,2,     2.9,2,     8.1,2,    0.18,2,   0.765,2,   1.6902,2,   1.0666,2,   1.4297,2,  2063.6,6,  2324.7,2,   7.9570,2,    25.00, -999.00,9,  -999.0,9,  -999.0,        0,2, -999.00,9,    60.4,2,   11.80,2, -999.00,9,     7.0195,2, -999.00,9,  -999.0,9,     -999.0,     -999.0,9,     -999.0,9,     -999.0,     -999.0,9,     -999.0,     -999.0,9,     -999.0,     -999.0,     -999.0,9,     -999.0,9,     -999.0,9,     -999.0,9,     -999.0,9,     -999.0,9,     -999.0,9,     -999.0,9