BOTTLE,20230606CCHSIOCBG
EXPOCODE,SECT_ID,STNNBR,CASTNO,SAMPNO,BTLNBR,BTLNBR_FLAG_W,DATE,TIME,LATITUDE,LONGITUDE,DEPTH,CTDPRS,CTDTMP,CTDSAL,CTDSAL_FLAG_W,SALNTY,SALNTY_FLAG_W,CTDOXY,CTDOXY_FLAG_W,OXYGEN,OXYGEN_FLAG_W,SILCAT,SILCAT_FLAG_W,NITRAT,NITRAT_FLAG_W,NITRIT,NITRIT_FLAG_W,PHSPHT,PHSPHT_FLAG_W,CFC-11,CFC-11_FLAG_W,CFC-12,CFC-12_FLAG_W,SF6,SF6_FLAG_W,TCARBN,TCARBN_FLAG_W,ALKALI,ALKALI_FLAG_W,PH_SWS,PH_SWS_FLAG_W,PH_TMP,DELC13,DELC13_FLAG_W,DELC14,DELC14_FLAG_W,C14ERR,CCL4,CCL4_FLAG_W,POC,POC_FLAG_W,DOC,DOC_FLAG_W,TDN,TDN_FLAG_W,PON,PON_FLAG_W,N2O,N2O_FLAG_W,D15N_NO3,D15N_NO3_FLAG_W,14C-DOC,14C-DOC_FLAG_W,14C-DOCERR,13C-DOC,13C-DOC_FLAG_W,N2/ARGON_UNSTRIPPED,N2/ARGON_UNSTRIPPED_FLAG_W,N2/ARGON_UNSTRIPPED_ERROR,N2/ARGON,N2/ARGON_FLAG_W,N2/ARGON_ERROR,D15N_N2,D15N_N2_FLAG_W,D15N_N2_ERROR,D15N_NO3_ERROR,D15N_NO2+NO3,D15N_NO2+NO3_FLAG_W,D18O_NO2+NO3,D18O_NO2+NO3_FLAG_W,D18O_NO3,D18O_NO3_FLAG_W,TDP,TDP_FLAG_W,N2O_ALT_1,N2O_ALT_1_FLAG_W,D15N_N2O,D15N_N2O_FLAG_W,D18O_N2O,D18O_N2O_FLAG_W,D15N_ALPHA_N2O,D15N_ALPHA_N2O_FLAG_W
,,,,,,,,,,,METERS,DBAR,ITS-90,PSS-78,,PSS-78,,UMOL/KG,,UMOL/KG,,UMOL/KG,,UMOL/KG,,UMOL/KG,,UMOL/KG,,PMOL/KG,,PMOL/KG,,FMOL/KG,,UMOL/KG,,UMOL/KG,,,,DEG C,/MILLE,,/MILLE,,/MILLE,PMOL/KG,,UG/KG,,UMOL/KG,,UMOL/KG,,UG/KG,,NMOL/KG,,/MILLE,,/MILLE,,/MILLE,/MILLE,,,,,,,,/MILLE,,/MILLE,/MILLE,/MILLE,,/MILLE,,/MILLE,,UMOL/KG,,NMOL/L,,/MILLE,,/MILLE,,/MILLE,
33RO20161119,        P18,     183,          1,          1,      11010,2,20170119,       0043,   -57.5005,  -102.9978,       4421,  4101.0,   0.7339,  34.7074,2,  34.7130,4,    206.8,2,   207.6,2,   130.1,2,    32.9,2,    0.01,2,   2.272,2,   0.2217,2,   0.1046,2,   0.0546,2,  2266.6,6,  2366.0,2,   7.5976,2,    25.00, -999.00,9,  -999.0,9,  -999.0,   0.2433,2, -999.00,9,    39.9,2,   34.90,2, -999.00,9,    18.7003,2, -999.00,9,  -999.0,9,     -999.0,     -999.0,9,     -999.0,9,     -999.0,     -999.0,9,     -999.0,     -999.0,9,     -999.0,     -999.0,     -999.0,9,     -999.0,9,     -999.0,9,     -999.0,9,     -999.0,9,     -999.0,9,     -999.0,9,     -999.0,9
33RO20161119,        P18,     183,          1,          2,      11101,2,20170119,       0043,   -57.5005,  -102.9978,       4421,  3700.9,   0.9132,  34.7118,2,  34.7117,2,    203.3,2,   203.3,6,   123.7,2,    32.7,2,    0.01,2,   2.250,2,   0.1657,2,   0.0801,2,   0.0401,2,  2263.1,2,  2365.2,2,   7.5992,2,    25.00, -999.00,9,  -999.0,9,  -999.0,   0.5433,2, -999.00,9,    41.1,2,   35.20,2, -999.00,9,    18.7141,2, -999.00,9,  -999.0,9,     -999.0,     -999.0,9,     -999.0,9,     -999.0,     -999.0,9,     -999.0,     -999.0,9,     -999.0,     -999.0,     -999.0,9,     -999.0,9,     -999.0,9,     -999.0,9,     -999.0,9,     -999.0,9,     -999.0,9,     -999.0,9
33RO20161119,        P18,     183,          1,          3,      11102,2,20170119,       0043,   -57.5005,  -102.9978,       4421,  3451.0,   1.0791,  34.7157,2,  34.7163,2,    200.1,2,   200.1,2,   119.1,6,    32.6,6,    0.01,6,   2.252,6,   0.1403,2,   0.0674,2,   0.0474,2,  2263.9,2,  2364.0,2,   7.5989,2,    25.00, -999.00,9,  -999.0,9,  -999.0,    1.011,2, -999.00,9,    40.3,2,   34.80,2, -999.00,9,    18.8354,2, -999.00,9,  -999.0,9,     -999.0,     -999.0,9,     -999.0,9,     -999.0,     -999.0,9,     -999.0,     -999.0,9,     -999.0,     -999.0,     -999.0,9,     -999.0,9,     -999.0,9,     -999.0,9,     -999.0,9,     -999.0,9,     -999.0,9,     -999.0,9
33RO20161119,        P18,     183,          1,          4,      11103,2,20170119,       0043,   -57.5005,  -102.9978,       4421,  3151.3,   1.2551,  34.7198,2,  34.7370,4,    196.6,2,   197.0,2,   113.3,6,    32.5,6,    0.01,6,   2.245,6,   0.1127,2,   0.0541,2,   0.0000,2,  2261.5,2,  2364.3,2,   7.5999,2,    25.00, -999.00,9,  -999.0,9,  -999.0,   1.4822,2, -999.00,9,    40.2,2,   34.10,2, -999.00,9,    19.0886,2, -999.00,9,  -999.0,9,     -999.0,     -999.0,9,     -999.0,9,     -999.0,     -999.0,9,     -999.0,     -999.0,9,     -999.0,     -999.0,     -999.0,9,     -999.0,9,     -999.0,9,     -999.0,9,     -999.0,9,     -999.0,9,     -999.0,9,     -999.0,9
33RO20161119,        P18,     183,          1,          5,      11104,2,20170119,       0043,   -57.5005,  -102.9978,       4421,  2851.1,   1.4128,  34.7226,2,  34.7223,2,    193.2,2,   193.0,2,   108.7,6,    32.4,6,    0.01,6,   2.240,6,-999.0000,9,-999.0000,9,-999.0000,9,  2263.2,2,  2364.5,2,   7.5979,2,    25.00, -999.00,9,  -999.0,9,  -999.0,-999.0000,9, -999.00,9,    40.0,2,   34.50,2, -999.00,9,     -999.0,9, -999.00,9,  -999.0,9,     -999.0,     -999.0,9,     -999.0,9,     -999.0,     -999.0,9,     -999.0,     -999.0,9,     -999.0,     -999.0,     -999.0,9,     -999.0,9,     -999.0,9,     -999.0,9,     -999.0,9,     -999.0,9,     -999.0,9,     -999.0,9
33RO20161119,        P18,     183,          1,          6,      11105,2,20170119,       0043,   -57.5005,  -102.9978,       4421,  2541.0,   1.5852,  34.7244,2,  34.7298,4,    189.6,2,   189.9,2,   103.2,6,    32.4,6,    0.01,6,   2.232,6,   0.0931,2,   0.0443,2,   0.0475,2,  2262.1,2,  2360.9,2,   7.5963,2,    25.00, -999.00,9,  -999.0,9,  -999.0,   2.6013,2, -999.00,9,    39.9,2,   36.00,2, -999.00,9,     19.419,2, -999.00,9,  -999.0,9,     -999.0,     -999.0,9,     -999.0,9,     -999.0,     -999.0,9,     -999.0,     -999.0,9,     -999.0,     -999.0,     -999.0,9,     -999.0,9,     -999.0,9,     -999.0,9,     -999.0,9,     -999.0,9,     -999.0,9,     -999.0,9
33RO20161119,        P18,     183,          1,          7,      11106,2,20170119,       0043,   -57.5005,  -102.9978,       4421,  2222.2,   1.7757,  34.7152,2,  34.7143,2,    181.1,2,   180.9,2,   100.9,2,    32.8,2,    0.01,2,   2.264,2,-999.0000,9,-999.0000,9,-999.0000,9,  2265.1,2,  2364.1,3,   7.5882,2,    25.00, -999.00,9,  -999.0,9,  -999.0,-999.0000,9, -999.00,9,    41.5,2,   34.60,2, -999.00,9,     -999.0,9, -999.00,9,  -999.0,9,     -999.0,     -999.0,9,     -999.0,9,     -999.0,     -999.0,9,     -999.0,     -999.0,9,     -999.0,     -999.0,     -999.0,9,     -999.0,9,     -999.0,9,     -999.0,9,     -999.0,9,     -999.0,9,     -999.0,9,     -999.0,9
33RO20161119,        P18,     183,          1,          8,      11107,2,20170119,       0043,   -57.5005,  -102.9978,       4421,  1900.8,   2.0542,  34.7073,2,  34.7231,4,    179.5,2,   179.0,2,    89.6,2,    32.7,2,    0.01,2,   2.251,2,   0.1613,2,   0.0760,2,   0.0508,2,  2258.6,2,  2352.9,2,   7.5824,2,    25.00, -999.00,9,  -999.0,9,  -999.0,   3.0763,2, -999.00,9,    39.9,2,   34.40,2, -999.00,9,    20.5029,2, -999.00,9,  -999.0,9,     -999.0,     -999.0,9,     -999.0,9,     -999.0,     -999.0,9,     -999.0,     -999.0,9,     -999.0,     -999.0,     -999.0,9,     -999.0,9,     -999.0,9,     -999.0,9,     -999.0,9,     -999.0,9,     -999.0,9,     -999.0,9
33RO20161119,        P18,     183,          1,          9,      11108,2,20170119,       0043,   -57.5005,  -102.9978,       4421,  1580.5,   2.2802,  34.6633,2,  34.6620,2,    172.8,2,   172.8,2,    83.1,2,    33.5,2,    0.01,2,   2.302,2,-999.0000,9,-999.0000,9,-999.0000,9,  2258.5,2,  2347.6,2,   7.5673,6,    25.00, -999.00,9,  -999.0,9,  -999.0,-999.0000,9, -999.00,9,    38.9,2,   34.50,2, -999.00,9,     -999.0,9, -999.00,9,  -999.0,9,     -999.0,     -999.0,9,     -999.0,9,     -999.0,     -999.0,9,     -999.0,     -999.0,9,     -999.0,     -999.0,     -999.0,9,     -999.0,9,     -999.0,9,     -999.0,9,     -999.0,9,     -999.0,9,     -999.0,9,     -999.0,9
33RO20161119,        P18,     183,          1,         10,      11109,2,20170119,       0043,   -57.5005,  -102.9978,       4421,  1380.1,   2.4168,  34.6162,2,  34.6156,2,    171.3,2,   171.8,2,    78.3,2,    34.0,2,    0.01,2,   2.355,2,   0.4298,2,   0.2112,2,   0.1214,2,  2255.8,6,  2341.0,2,   7.5563,2,    25.00, -999.00,9,  -999.0,9,  -999.0,   3.8567,2, -999.00,9,    41.4,2,   36.50,2, -999.00,9,    22.0589,2, -999.00,9,  -999.0,9,     -999.0,     -999.0,9,     -999.0,9,     -999.0,     -999.0,9,     -999.0,     -999.0,9,     -999.0,     -999.0,     -999.0,9,     -999.0,9,     -999.0,9,     -999.0,9,     -999.0,9,     -999.0,9,     -999.0,9,     -999.0,9
33RO20161119,        P18,     183,          1,         11,      11110,2,20170119,       0043,   -57.5005,  -102.9978,       4421,  1230.4,   2.5293,  34.5657,2,  34.5683,2,    171.2,2,   171.6,2,    73.9,2,    34.6,2,    0.01,2,   2.382,2,-999.0000,9,-999.0000,9,-999.0000,9,  2253.6,2,  2335.4,6,   7.5510,2,    25.00, -999.00,9,  -999.0,9,  -999.0,-999.0000,9, -999.00,9,    40.0,2,   37.00,2, -999.00,9,     -999.0,9, -999.00,9,  -999.0,9,     -999.0,     -999.0,9,     -999.0,9,     -999.0,     -999.0,9,     -999.0,     -999.0,9,     -999.0,     -999.0,     -999.0,9,     -999.0,9,     -999.0,9,     -999.0,9,     -999.0,9,     -999.0,9,     -999.0,9,     -999.0,9
33RO20161119,        P18,     183,          1,         12,      11111,2,20170119,       0043,   -57.5005,  -102.9978,       4421,  1090.6,   2.6556,  34.5087,2,  34.5106,2,    174.7,2,   174.6,2,    68.2,2,    34.8,2,    0.01,2,   2.389,2,   0.8884,2,   0.4413,2,   0.2534,2,  2247.4,2,  2330.0,2,   7.5484,2,    25.00, -999.00,9,  -999.0,9,  -999.0,   3.7497,2, -999.00,9,    40.4,2,   35.50,2, -999.00,9,    22.5444,2, -999.00,9,  -999.0,9,     -999.0,     -999.0,9,     -999.0,9,     -999.0,     -999.0,9,     -999.0,     -999.0,9,     -999.0,     -999.0,     -999.0,9,     -999.0,9,     -999.0,9,     -999.0,9,     -999.0,9,     -999.0,9,     -999.0,9,     -999.0,9
33RO20161119,        P18,     183,          1,         13,      11112,2,20170119,       0043,   -57.5005,  -102.9978,       4421,   961.4,   2.8445,  34.4471,2,  34.4475,2,    181.0,2,   181.0,2,    61.2,2,    34.7,2,    0.01,2,   2.381,2,-999.0000,9,-999.0000,9,-999.0000,9,  2238.7,2,  2322.6,2,   7.5549,2,    25.00, -999.00,9,  -999.0,9,  -999.0,-999.0000,9, -999.00,9,    41.2,2,   38.70,2, -999.00,9,     -999.0,9, -999.00,9,  -999.0,9,     -999.0,     -999.0,9,     -999.0,9,     -999.0,     -999.0,9,     -999.0,     -999.0,9,     -999.0,     -999.0,     -999.0,9,     -999.0,9,     -999.0,9,     -999.0,9,     -999.0,9,     -999.0,9,     -999.0,9,     -999.0,9
33RO20161119,        P18,     183,          1,         14,      11113,2,20170119,       0043,   -57.5005,  -102.9978,       4421,   835.5,   3.0401,  34.3869,2,  34.3857,2,    190.6,2,   190.2,2,    53.2,2,    34.0,2,    0.01,2,   2.350,2,   1.6530,2,   0.8316,2,   0.4833,2,  2229.1,2,  2314.3,2,   7.5648,2,    25.00, -999.00,9,  -999.0,9,  -999.0,   4.1406,2, -999.00,9,    40.3,2,   35.90,2, -999.00,9,    21.8741,2, -999.00,9,  -999.0,9,     -999.0,     -999.0,9,     -999.0,9,     -999.0,     -999.0,9,     -999.0,     -999.0,9,     -999.0,     -999.0,     -999.0,9,     -999.0,9,     -999.0,9,     -999.0,9,     -999.0,9,     -999.0,9,     -999.0,9,     -999.0,9
33RO20161119,        P18,     183,          1,         15,      11114,2,20170119,       0043,   -57.5005,  -102.9978,       4421,   710.8,   3.3511,  34.3307,2,  34.3316,2,    201.3,2,   201.1,2,    44.1,2,    33.2,2,    0.01,2,   2.275,2,-999.0000,9,-999.0000,9,-999.0000,9,  2215.5,2,  2303.3,2,   7.5778,2,    25.00, -999.00,9,  -999.0,9,  -999.0,-999.0000,9, -999.00,9,    39.7,2,   35.70,2, -999.00,9,     -999.0,9, -999.00,9,  -999.0,9,     -999.0,     -999.0,9,     -999.0,9,     -999.0,     -999.0,9,     -999.0,     -999.0,9,     -999.0,     -999.0,     -999.0,9,     -999.0,9,     -999.0,9,     -999.0,9,     -999.0,9,     -999.0,9,     -999.0,9,     -999.0,9
33RO20161119,        P18,     183,          1,         16,      11115,2,20170119,       0043,   -57.5005,  -102.9978,       4421,   591.9,   3.7074,  34.2709,2,  34.2676,2,    211.8,2,   216.4,2,    34.4,2,    31.7,2,    0.01,2,   2.179,2,   2.7900,2,   1.4389,2,   0.9615,2,  2200.2,2,  2295.1,2,   7.5957,2,    25.00, -999.00,9,  -999.0,9,  -999.0,   4.2155,3, -999.00,9,    42.6,2,   31.30,2, -999.00,9,    19.6261,2, -999.00,9,  -999.0,9,     -999.0,     -999.0,9,     -999.0,9,     -999.0,     -999.0,9,     -999.0,     -999.0,9,     -999.0,     -999.0,     -999.0,9,     -999.0,9,     -999.0,9,     -999.0,9,     -999.0,9,     -999.0,9,     -999.0,9,     -999.0,9
33RO20161119,        P18,     183,          1,         17,      11116,2,20170119,       0043,   -57.5005,  -102.9978,       4421,   481.1,   4.1230,  34.2177,2,  34.2182,2,    238.1,2,   234.9,2,    24.6,2,    29.6,2,    0.01,2,   2.012,2,   3.3305,2,   1.7684,2,   1.4267,2,  2181.7,2,  2286.1,2,   7.6260,2,    25.00, -999.00,9,  -999.0,9,  -999.0,   4.7102,2, -999.00,9,    42.8,2,   31.20,2, -999.00,9,    17.7404,2, -999.00,9,  -999.0,9,     -999.0,     -999.0,9,     -999.0,9,     -999.0,     -999.0,9,     -999.0,     -999.0,9,     -999.0,     -999.0,     -999.0,9,     -999.0,9,     -999.0,9,     -999.0,9,     -999.0,9,     -999.0,9,     -999.0,9,     -999.0,9
33RO20161119,        P18,     183,          1,         18,      11117,2,20170119,       0043,   -57.5005,  -102.9978,       4421,   370.3,   4.3004,  34.1645,2,  34.1653,2,    264.1,2,   262.4,2,    16.8,2,    26.9,2,    0.02,2,   1.841,2,   3.8952,2,   2.1128,2,   2.0246,2,  2163.2,2,  2279.2,2,   7.6669,2,    25.00, -999.00,9,  -999.0,9,  -999.0,   4.6784,2, -999.00,9,    42.4,2,   29.20,2, -999.00,9,    15.4499,2, -999.00,9,  -999.0,9,     -999.0,     -999.0,9,     -999.0,9,     -999.0,     -999.0,9,     -999.0,     -999.0,9,     -999.0,     -999.0,     -999.0,9,     -999.0,9,     -999.0,9,     -999.0,9,     -999.0,9,     -999.0,9,     -999.0,9,     -999.0,9
33RO20161119,        P18,     183,          1,         19,      11083,2,20170119,       0043,   -57.5005,  -102.9978,       4421,   276.5,   4.7708,  34.1777,2,  34.1779,2,    274.5,2,   271.4,2,    13.1,2,    25.1,2,    0.02,2,   1.755,2,   3.9869,2,   2.1846,2,   2.2178,2,  2153.2,2,  2278.6,2,   7.6863,2,    25.00, -999.00,9,  -999.0,9,  -999.0,    4.677,2, -999.00,9,    42.2,2,   26.00,2, -999.00,9,    14.5092,2, -999.00,9,  -999.0,9,     -999.0,     -999.0,9,     -999.0,9,     -999.0,     -999.0,9,     -999.0,     -999.0,9,     -999.0,     -999.0,     -999.0,9,     -999.0,9,     -999.0,9,     -999.0,9,     -999.0,9,     -999.0,9,     -999.0,9,     -999.0,9
33RO20161119,        P18,     183,          1,         20,      11118,2,20170119,       0043,   -57.5005,  -102.9978,       4421,   194.9,   5.1669,  34.1911,2,  34.1903,2,    277.5,2,   279.1,2,    10.1,2,    23.2,2,    0.08,2,   1.639,2,   4.0653,2,   2.2532,2,   2.4155,2,  2143.5,2,  2278.7,2,   7.7079,2,    25.00, -999.00,9,  -999.0,9,  -999.0,   0.4429,2, -999.00,9,    46.0,2,   25.50,2, -999.00,9,    13.4269,2, -999.00,9,  -999.0,9,     -999.0,     -999.0,9,     -999.0,9,     -999.0,     -999.0,9,     -999.0,     -999.0,9,     -999.0,     -999.0,     -999.0,9,     -999.0,9,     -999.0,9,       1.63,3,     -999.0,9,     -999.0,9,     -999.0,9,     -999.0,9
33RO20161119,        P18,     183,          1,         21,      11119,2,20170119,       0043,   -57.5005,  -102.9978,       4421,   125.2,   5.5915,  34.2155,2,  34.2194,2,    274.5,2,   279.7,2,     8.6,2,    22.1,2,    0.14,2,   1.571,2,   4.0631,3,   2.2502,3,   2.4172,3,  2139.8,2,  2275.4,2,   7.7153,2,    25.00, -999.00,9,  -999.0,9,  -999.0,   0.3952,2, -999.00,9,    46.3,2,   25.00,2, -999.00,9,    13.0633,3, -999.00,9,  -999.0,9,     -999.0,     -999.0,9,     -999.0,9,     -999.0,     -999.0,9,     -999.0,     -999.0,9,     -999.0,     -999.0,     -999.0,9,     -999.0,9,     -999.0,9,       1.35,3,     -999.0,9,     -999.0,9,     -999.0,9,     -999.0,9
33RO20161119,        P18,     183,          1,         22,      11120,2,20170119,       0043,   -57.5005,  -102.9978,       4421,    61.4,   6.5593,  34.1425,2,  34.1435,2,    300.4,2,   300.9,2,     1.2,2,    18.5,2,    0.20,2,   1.324,2,   4.1679,6,   2.3382,6,   2.7666,6,  2115.3,2,  2275.1,2,   7.7771,2,    25.00, -999.00,9,  -999.0,9,  -999.0,   0.3661,2, -999.00,9,    49.1,2,   20.80,2, -999.00,9,    11.9829,2, -999.00,9,  -999.0,9,     -999.0,     -999.0,9,     -999.0,9,     -999.0,     -999.0,9,     -999.0,     -999.0,9,     -999.0,     -999.0,     -999.0,9,     -999.0,9,     -999.0,9,       1.37,2,     -999.0,9,     -999.0,9,     -999.0,9,     -999.0,9
33RO20161119,        P18,     183,          1,         23,      11121,2,20170119,       0043,   -57.5005,  -102.9978,       4421,    25.8,   6.8768,  34.1586,2,  34.1600,2,    299.3,2,   298.9,6,     1.0,2,    17.5,2,    0.21,2,   1.256,2,-999.0000,9,-999.0000,9,-999.0000,9,  2110.6,2,  2275.5,6,   7.7888,2,    25.00, -999.00,9,  -999.0,9,  -999.0,-999.0000,9, -999.00,9,    49.9,2,   19.80,2, -999.00,9,     -999.0,9, -999.00,9,  -999.0,9,     -999.0,     -999.0,9,     -999.0,9,     -999.0,     -999.0,9,     -999.0,     -999.0,9,     -999.0,     -999.0,     -999.0,9,     -999.0,9,     -999.0,9,       1.38,2,     -999.0,9,     -999.0,9,     -999.0,9,     -999.0,9
33RO20161119,        P18,     183,          1,         24,      11122,2,20170119,       0043,   -57.5005,  -102.9978,       4421,     4.2,   6.8746,  34.1589,2,  34.1579,2,    298.3,2,   298.9,2,     0.9,2,    17.7,2,    0.21,2,   1.256,2,   4.0991,2,   2.2924,2,   2.7043,2,  2108.2,2,  2275.2,2,   7.7866,6,    25.00, -999.00,9,  -999.0,9,  -999.0,   0.2219,2, -999.00,9,    49.9,2,   19.50,2, -999.00,9,    11.7279,2, -999.00,9,  -999.0,9,     -999.0,     -999.0,9,     -999.0,9,     -999.0,     -999.0,9,     -999.0,     -999.0,9,     -999.0,     -999.0,     -999.0,9,     -999.0,9,     -999.0,9,       1.38,2,     -999.0,9,     -999.0,9,     -999.0,9,     -999.0,9