BOTTLE,20230606CCHSIOCBG
EXPOCODE,SECT_ID,STNNBR,CASTNO,SAMPNO,BTLNBR,BTLNBR_FLAG_W,DATE,TIME,LATITUDE,LONGITUDE,DEPTH,CTDPRS,CTDTMP,CTDSAL,CTDSAL_FLAG_W,SALNTY,SALNTY_FLAG_W,CTDOXY,CTDOXY_FLAG_W,OXYGEN,OXYGEN_FLAG_W,SILCAT,SILCAT_FLAG_W,NITRAT,NITRAT_FLAG_W,NITRIT,NITRIT_FLAG_W,PHSPHT,PHSPHT_FLAG_W,CFC-11,CFC-11_FLAG_W,CFC-12,CFC-12_FLAG_W,SF6,SF6_FLAG_W,TCARBN,TCARBN_FLAG_W,ALKALI,ALKALI_FLAG_W,PH_SWS,PH_SWS_FLAG_W,PH_TMP,DELC13,DELC13_FLAG_W,DELC14,DELC14_FLAG_W,C14ERR,CCL4,CCL4_FLAG_W,POC,POC_FLAG_W,DOC,DOC_FLAG_W,TDN,TDN_FLAG_W,PON,PON_FLAG_W,N2O,N2O_FLAG_W,D15N_NO3,D15N_NO3_FLAG_W,14C-DOC,14C-DOC_FLAG_W,14C-DOCERR,13C-DOC,13C-DOC_FLAG_W,N2/ARGON_UNSTRIPPED,N2/ARGON_UNSTRIPPED_FLAG_W,N2/ARGON_UNSTRIPPED_ERROR,N2/ARGON,N2/ARGON_FLAG_W,N2/ARGON_ERROR,D15N_N2,D15N_N2_FLAG_W,D15N_N2_ERROR,D15N_NO3_ERROR,D15N_NO2+NO3,D15N_NO2+NO3_FLAG_W,D18O_NO2+NO3,D18O_NO2+NO3_FLAG_W,D18O_NO3,D18O_NO3_FLAG_W,TDP,TDP_FLAG_W,N2O_ALT_1,N2O_ALT_1_FLAG_W,D15N_N2O,D15N_N2O_FLAG_W,D18O_N2O,D18O_N2O_FLAG_W,D15N_ALPHA_N2O,D15N_ALPHA_N2O_FLAG_W
,,,,,,,,,,,METERS,DBAR,ITS-90,PSS-78,,PSS-78,,UMOL/KG,,UMOL/KG,,UMOL/KG,,UMOL/KG,,UMOL/KG,,UMOL/KG,,PMOL/KG,,PMOL/KG,,FMOL/KG,,UMOL/KG,,UMOL/KG,,,,DEG C,/MILLE,,/MILLE,,/MILLE,PMOL/KG,,UG/KG,,UMOL/KG,,UMOL/KG,,UG/KG,,NMOL/KG,,/MILLE,,/MILLE,,/MILLE,/MILLE,,,,,,,,/MILLE,,/MILLE,/MILLE,/MILLE,,/MILLE,,/MILLE,,UMOL/KG,,NMOL/L,,/MILLE,,/MILLE,,/MILLE,
33RO20161119,        P18,      71,          1,          1,      11010,2,20161210,       1344,    -4.9998,  -109.9999,       3617,  3643.6,   1.5867,  34.6861,2,  34.6978,4,    151.0,2,   150.7,2,   141.8,6,    35.9,6,    0.00,6,   2.466,6,   0.0016,2,   0.0010,2,   0.0000,2,  2330.8,6,  2430.5,2,   7.5819,2,    25.00,    0.18,2,  -219.4,2,     1.7,        0,2, -999.00,9,    37.1,2,   37.40,2, -999.00,9,    20.7568,2, -999.00,9,  -999.0,9,     -999.0,     -999.0,9,     -999.0,9,     -999.0,     -999.0,9,     -999.0,     -999.0,9,     -999.0,     -999.0,     -999.0,9,     -999.0,9,     -999.0,9,     -999.0,9,     -999.0,9,     -999.0,9,     -999.0,9,     -999.0,9
33RO20161119,        P18,      71,          1,          2,      11101,2,20161210,       1344,    -4.9998,  -109.9999,       3617,  3285.0,   1.5816,  34.6843,2,  34.6830,2,    148.1,2,   147.8,2,   142.1,6,    36.0,6,    0.00,6,   2.492,6,   0.0025,2,   0.0010,2,   0.0000,2,  2329.2,2,  2428.1,2,   7.5807,2,    25.00, -999.00,9,  -999.0,9,  -999.0,   0.0148,2, -999.00,9,    37.8,2,   39.30,2, -999.00,9,    20.9744,2, -999.00,9,  -999.0,9,     -999.0,     -999.0,9,     -999.0,9,     -999.0,     -999.0,9,     -999.0,     -999.0,9,     -999.0,     -999.0,     -999.0,9,     -999.0,9,     -999.0,9,     -999.0,9,     -999.0,9,     -999.0,9,     -999.0,9,     -999.0,9
33RO20161119,        P18,      71,          1,          3,      11102,2,20161210,       1344,    -4.9998,  -109.9999,       3617,  2959.5,   1.7264,  34.6767,2,  34.6759,2,    137.6,2,   137.6,6,   142.0,6,    36.7,6,    0.00,6,   2.541,6,   0.0082,2,   0.0036,2,   0.0000,2,  2335.3,2,  2426.9,2,   7.5618,2,    25.00,   -0.02,3,  -227.1,6,     1.5,        0,2, -999.00,9,    37.9,2,   39.70,2, -999.00,9,    21.3778,2, -999.00,9,  -999.0,9,     -999.0,     -999.0,9,     -999.0,9,     -999.0,     -999.0,9,     -999.0,     -999.0,9,     -999.0,     -999.0,     -999.0,9,     -999.0,9,     -999.0,9,     -999.0,9,     -999.0,9,     -999.0,9,     -999.0,9,     -999.0,9
33RO20161119,        P18,      71,          1,          4,      11103,2,20161210,       1344,    -4.9998,  -109.9999,       3617,  2683.9,   1.8155,  34.6709,2,  34.6688,2,    131.1,2,   130.9,2,   140.6,6,    37.1,6,    0.00,6,   2.573,6,   0.0019,2,   0.0008,2,   0.0330,2,  2336.8,2,  2425.1,6,   7.5496,2,    25.00, -999.00,9,  -999.0,9,  -999.0,        0,2, -999.00,9,    37.0,2,   38.50,2, -999.00,9,    21.8852,2, -999.00,9,  -999.0,9,     -999.0,     -999.0,9,     -999.0,9,     -999.0,     -999.0,9,     -999.0,     -999.0,9,     -999.0,     -999.0,     -999.0,9,     -999.0,9,     -999.0,9,     -999.0,9,     -999.0,9,     -999.0,9,     -999.0,9,     -999.0,9
33RO20161119,        P18,      71,          1,          5,      11104,2,20161210,       1344,    -4.9998,  -109.9999,       3617,  2409.8,   2.0048,  34.6582,2,  34.6560,2,    120.0,2,   120.2,2,   139.0,2,    37.9,2,    0.00,2,   2.640,2,   0.0015,2,   0.0009,2,   0.0000,2,  2341.4,2,  2420.8,2,   7.5250,2,    25.00,    0.02,2,  -242.7,2,     1.8,        0,2, -999.00,9,    37.0,2,   40.80,2, -999.00,9,    23.4006,2, -999.00,9,  -999.0,9,     -999.0,     -999.0,9,     -999.0,9,     -999.0,     -999.0,9,     -999.0,     -999.0,9,     -999.0,     -999.0,     -999.0,9,     -999.0,9,     -999.0,9,     -999.0,9,     -999.0,9,     -999.0,9,     -999.0,9,     -999.0,9
33RO20161119,        P18,      71,          1,          6,      11105,2,20161210,       1344,    -4.9998,  -109.9999,       3617,  2129.6,   2.2026,  34.6467,2,  34.6447,2,    112.3,2,   112.5,2,   135.5,2,    38.5,2,    0.00,2,   2.689,2,   0.0020,2,   0.0008,2,   0.0000,2,  2341.7,6,  2414.8,2,   7.5102,2,    25.00, -999.00,9,  -999.0,9,  -999.0,        0,2, -999.00,9,    37.6,2,   42.40,2, -999.00,9,    25.2893,2, -999.00,9,  -999.0,9,     -999.0,     -999.0,9,     -999.0,9,     -999.0,     -999.0,9,     -999.0,     -999.0,9,     -999.0,     -999.0,     -999.0,9,     -999.0,9,     -999.0,9,     -999.0,9,     -999.0,9,     -999.0,9,     -999.0,9,     -999.0,9
33RO20161119,        P18,      71,          1,          7,      11106,2,20161210,       1344,    -4.9998,  -109.9999,       3617,  1850.5,   2.4580,  34.6315,2,  34.6309,2,    106.5,2,   106.1,2,   129.3,2,    38.5,2,    0.00,2,   2.726,2,   0.0021,2,   0.0011,2,   0.0000,2,  2337.3,2,  2404.5,2,   7.4967,2,    25.00,   -0.03,2,  -226.8,2,     1.5,        0,2, -999.00,9,    37.2,2,   41.10,2, -999.00,9,    26.1143,2, -999.00,9,  -999.0,9,     -999.0,     -999.0,9,     -999.0,9,     -999.0,     -999.0,9,     -999.0,     -999.0,9,     -999.0,     -999.0,     -999.0,9,     -999.0,9,     -999.0,9,     -999.0,9,     -999.0,9,     -999.0,9,     -999.0,9,     -999.0,9
33RO20161119,        P18,      71,          1,          8,      11107,2,20161210,       1344,    -4.9998,  -109.9999,       3617,  1570.0,   2.8447,  34.6096,2,  34.6092,2,    101.0,2,   101.1,2,   118.3,2,    39.2,2,    0.00,2,   2.762,2,   0.0019,6,   0.0014,6,   0.0000,6,  2329.0,2,  2390.8,2,   7.4863,2,    25.00, -999.00,9,  -999.0,9,  -999.0,        0,2, -999.00,9,    39.5,2,   43.30,2, -999.00,9,    27.7047,2, -999.00,9,  -999.0,9,     -999.0,     -999.0,9,     -999.0,9,     -999.0,     -999.0,9,     -999.0,     -999.0,9,     -999.0,     -999.0,     -999.0,9,     -999.0,9,     -999.0,9,     -999.0,9,     -999.0,9,     -999.0,9,     -999.0,9,     -999.0,9
33RO20161119,        P18,      71,          1,          9,      11108,2,20161210,       1344,    -4.9998,  -109.9999,       3617,  1324.6,   3.3482,  34.5860,2,  34.5870,2,     94.4,2,    93.5,2,   105.6,2,    39.4,2,    0.00,2,   2.800,2,   0.0029,2,   0.0012,2,   0.0000,2,  2320.2,2,  2389.8,2,   7.4747,2,    25.00,   -0.04,2,  -208.4,2,     1.5,   0.0101,2, -999.00,9,    40.6,2,   42.30,2, -999.00,9,    29.6769,2, -999.00,9,  -999.0,9,     -999.0,     -999.0,9,     -999.0,9,     -999.0,     -999.0,9,     -999.0,     -999.0,9,     -999.0,     -999.0,     -999.0,9,     -999.0,9,     -999.0,9,     -999.0,9,     -999.0,9,     -999.0,9,     -999.0,9,     -999.0,9
33RO20161119,        P18,      71,          1,         10,      11109,2,20161210,       1344,    -4.9998,  -109.9999,       3617,  1175.3,   3.7620,  34.5677,2,  34.5672,2,     98.4,2,    97.3,2,    94.1,2,    39.0,2,    0.00,2,   2.743,2,   0.0061,2,   0.0035,2,   0.0000,2,  2304.6,2,  2367.9,2,   7.4802,2,    25.00, -999.00,9,  -999.0,9,  -999.0,     0.01,2, -999.00,9,    40.0,2,   41.10,2, -999.00,9,    30.3515,2, -999.00,9,  -999.0,9,     -999.0,     -999.0,9,     -999.0,9,     -999.0,     -999.0,9,     -999.0,     -999.0,9,     -999.0,     -999.0,     -999.0,9,     -999.0,9,     -999.0,9,     -999.0,9,     -999.0,9,     -999.0,9,     -999.0,9,     -999.0,9
33RO20161119,        P18,      71,          1,         11,      11110,2,20161210,       1344,    -4.9998,  -109.9999,       3617,  1051.1,   4.2851,  34.5515,2,  34.5518,2,     92.1,2,    91.8,2,    82.7,2,    39.0,2,    0.00,2,   2.765,2,   0.0091,2,   0.0054,2,   0.0000,2,  2295.8,2,  2360.3,2,   7.4704,2,    25.00,    0.20,2,  -181.2,2,     1.9,   0.0183,2, -999.00,9,    38.7,2,   41.40,2, -999.00,9,    31.6585,2, -999.00,9,  -999.0,9,     -999.0,     -999.0,9,     -999.0,9,     -999.0,     -999.0,9,     -999.0,     -999.0,9,     -999.0,     -999.0,     -999.0,9,     -999.0,9,     -999.0,9,     -999.0,9,     -999.0,9,     -999.0,9,     -999.0,9,     -999.0,9
33RO20161119,        P18,      71,          1,         12,      11111,2,20161210,       1344,    -4.9998,  -109.9999,       3617,   930.0,   4.8151,  34.5423,2,  34.5411,2,     80.9,2,    81.4,2,    71.7,2,    39.6,2,    0.01,2,   2.795,2,   0.0105,2,   0.0061,2,   0.0000,2,  2290.8,2,  2342.8,2,   7.4530,2,    25.00, -999.00,9,  -999.0,9,  -999.0,   0.0116,2, -999.00,9,    38.9,2,   41.70,2, -999.00,9,    34.1913,2, -999.00,9,  -999.0,9,     -999.0,     -999.0,9,     -999.0,9,     -999.0,     -999.0,9,     -999.0,     -999.0,9,     -999.0,     -999.0,     -999.0,9,     -999.0,9,     -999.0,9,     -999.0,9,     -999.0,9,     -999.0,9,     -999.0,9,     -999.0,9
33RO20161119,        P18,      71,          1,         13,      11112,2,20161210,       1344,    -4.9998,  -109.9999,       3617,   809.7,   5.5635,  34.5438,2,  34.5424,2,     55.2,2,    56.3,2,    61.7,2,    42.1,2,    0.00,2,   2.926,2,   0.0099,2,   0.0063,2,   0.0000,2,  2291.2,2,  2326.3,2,   7.4079,2,    25.00,    0.14,2,  -150.0,2,     1.7,   0.0202,2, -999.00,9,    39.1,2,   44.40,2, -999.00,9,    41.5833,2, -999.00,9,  -999.0,9,     -999.0,     -999.0,9,     -999.0,9,     -999.0,     -999.0,9,     -999.0,     -999.0,9,     -999.0,     -999.0,     -999.0,9,     -999.0,9,     -999.0,9,     -999.0,9,     -999.0,9,     -999.0,9,     -999.0,9,     -999.0,9
33RO20161119,        P18,      71,          1,         14,      11113,2,20161210,       1344,    -4.9998,  -109.9999,       3617,   701.3,   6.3563,  34.5619,2,  34.5603,2,     37.7,2,    38.2,2,    53.5,2,    42.9,2,    0.00,2,   2.951,2,   0.0251,2,   0.0134,2,   0.0192,2,  2291.5,2,  2318.9,2,   7.3816,2,    25.00, -999.00,9,  -999.0,9,  -999.0,   0.0231,2, -999.00,9,    39.8,2,   46.30,2, -999.00,9,    50.2674,2, -999.00,9,  -999.0,9,     -999.0,     -999.0,9,     -999.0,9,     -999.0,     -999.0,9,     -999.0,     -999.0,9,     -999.0,     -999.0,     -999.0,9,     -999.0,9,     -999.0,9,     -999.0,9,     -999.0,9,     -999.0,9,     -999.0,9,     -999.0,9
33RO20161119,        P18,      71,          1,         15,      11114,2,20161210,       1344,    -4.9998,  -109.9999,       3617,   591.2,   7.4621,  34.6039,2,  34.6015,2,     12.0,2,    11.7,2,    45.9,2,    43.1,2,    0.00,2,   3.004,2,   0.0395,2,   0.0227,2,   0.0236,2,  2294.3,2,  2307.6,2,   7.3426,2,    25.00,   -0.03,2,  -119.8,2,     1.6,   0.0367,2, -999.00,9,    39.3,2,   46.60,2, -999.00,9,    67.2573,2, -999.00,9,  -999.0,9,     -999.0,     -999.0,9,     -999.0,9,     -999.0,     -999.0,9,     -999.0,     -999.0,9,     -999.0,     -999.0,     -999.0,9,     -999.0,9,     -999.0,9,     -999.0,9,     -999.0,9,     -999.0,9,     -999.0,9,     -999.0,9
33RO20161119,        P18,      71,          1,         16,      11115,2,20161210,       1344,    -4.9998,  -109.9999,       3617,   489.7,   8.7819,  34.6693,2,  34.6729,2,      8.7,2,    10.5,2,    39.8,2,    39.1,2,    0.00,2,   2.807,2,   0.1930,6,   0.1082,6,   0.0390,6,  2285.5,2,  2307.3,2,   7.3597,2,    25.00, -999.00,9,  -999.0,9,  -999.0,    0.029,2, -999.00,9,    39.9,2,   42.60,2, -999.00,9,    72.9937,2, -999.00,9,  -999.0,9,     -999.0,     -999.0,9,     -999.0,9,     -999.0,     -999.0,9,     -999.0,     -999.0,9,     -999.0,     -999.0,     -999.0,9,     -999.0,9,     -999.0,9,     -999.0,9,     -999.0,9,     -999.0,9,     -999.0,9,     -999.0,9
33RO20161119,        P18,      71,          1,         17,      11116,2,20161210,       1344,    -4.9998,  -109.9999,       3617,   395.3,  10.3852,  34.7660,2,  34.7669,2,      4.7,2,     6.7,2,    32.4,2,    34.1,2,    0.00,2,   2.648,2,   0.4059,2,   0.2318,2,   0.0938,2,  2277.1,2,  2303.4,6,   7.3798,6,    25.00,   -0.12,2,   -54.9,2,     1.8,   0.0984,2, -999.00,9,    41.2,2,   36.10,2, -999.00,9,    65.0228,2, -999.00,9,  -999.0,9,     -999.0,     -999.0,9,     -999.0,9,     -999.0,     -999.0,9,     -999.0,     -999.0,9,     -999.0,     -999.0,     -999.0,9,     -999.0,9,     -999.0,9,     -999.0,9,     -999.0,9,     -999.0,9,     -999.0,9,     -999.0,9
33RO20161119,        P18,      71,          1,         18,      11117,2,20161210,       1344,    -4.9998,  -109.9999,       3617,   304.8,  11.6221,  34.8456,2,  34.8467,2,     30.4,2,    28.4,2,    25.0,2,    31.2,2,    0.02,2,   2.312,2,   0.9101,2,   0.5038,2,   0.1888,2,  2248.9,2,  2302.2,2,   7.4636,2,    25.00,   -0.04,2,   -19.1,2,     2.7,   0.0652,2, -999.00,9,    41.6,2,   35.10,2, -999.00,9,    66.1966,2, -999.00,9,  -999.0,9,     -999.0,     -999.0,9,     -999.0,9,     -999.0,     -999.0,9,     -999.0,     -999.0,9,     -999.0,     -999.0,     -999.0,9,     -999.0,9,     -999.0,9,     -999.0,9,     -999.0,9,     -999.0,9,     -999.0,9,     -999.0,9
33RO20161119,        P18,      71,          1,         19,      11083,2,20161210,       1344,    -4.9998,  -109.9999,       3617,   225.8,  12.4435,  34.8949,2,  34.8938,2,      9.3,2,    12.1,2,    24.1,2,    32.1,2,    0.01,2,   2.340,2,   1.0467,2,   0.5810,2,   0.2411,2,  2253.5,2,  2299.9,2,   7.4415,2,    25.00,   -0.26,2,    -5.8,2,     1.8,   0.0772,2, -999.00,9,    43.2,2,   35.90,2, -999.00,9,    77.3517,2, -999.00,9,  -999.0,9,     -999.0,     -999.0,9,     -999.0,9,     -999.0,     -999.0,9,     -999.0,     -999.0,9,     -999.0,     -999.0,     -999.0,9,     -999.0,9,     -999.0,9,     -999.0,9,     -999.0,9,     -999.0,9,     -999.0,9,     -999.0,9
33RO20161119,        P18,      71,          1,         20,      11118,2,20161210,       1344,    -4.9998,  -109.9999,       3617,   161.0,  13.0958,  34.9346,2,  34.9328,2,     12.0,2,    12.3,6,    21.9,2,    30.7,2,    0.01,2,   2.311,2,   1.2665,2,   0.7153,2,   0.3228,2,  2248.5,2,  2298.7,2,   7.4586,2,    25.00,   -0.26,2,     2.4,2,     1.9,   0.1562,2, -999.00,9,    44.7,2,   35.50,2, -999.00,9,    77.8119,2, -999.00,9,  -999.0,9,     -999.0,     -999.0,9,     -999.0,9,     -999.0,     -999.0,9,     -999.0,     -999.0,9,     -999.0,     -999.0,     -999.0,9,     -999.0,9,     -999.0,9,     -999.0,9,     -999.0,9,     -999.0,9,     -999.0,9,     -999.0,9
33RO20161119,        P18,      71,          1,         21,      11119,2,20161210,       1344,    -4.9998,  -109.9999,       3617,    95.0,  15.1793,  35.0559,2,  35.0489,2,     50.1,2,    42.6,2,    15.5,2,    22.8,2,    0.19,2,   2.039,2,   1.7161,2,   0.9957,2,   0.6950,2,  2223.1,2,  2306.6,2,   7.5567,2,    25.00,   -0.06,2,    22.8,2,     2.0,   1.6036,2, -999.00,9,    47.6,2,   27.70,2, -999.00,9,    57.3503,2, -999.00,9,  -999.0,9,     -999.0,     -999.0,9,     -999.0,9,     -999.0,     -999.0,9,     -999.0,     -999.0,9,     -999.0,     -999.0,     -999.0,9,     -999.0,9,     -999.0,9,     -999.0,9,     -999.0,9,     -999.0,9,     -999.0,9,     -999.0,9
33RO20161119,        P18,      71,          1,         22,      11120,2,20161210,       1344,    -4.9998,  -109.9999,       3617,    50.1,  23.3123,  34.9391,2,  34.9390,2,    209.0,2,   208.7,2,     4.8,2,     8.5,2,    0.18,2,   0.843,2,   1.8350,2,   1.1332,2,   1.3906,2,  2075.8,2,  2303.4,2,   7.9070,2,    25.00,    0.93,2,    27.6,2,     2.0,   1.6217,2, -999.00,9,    57.4,2,   13.40,2, -999.00,9,     9.7893,2, -999.00,9,  -999.0,9,     -999.0,     -999.0,9,     -999.0,9,     -999.0,     -999.0,9,     -999.0,     -999.0,9,     -999.0,     -999.0,     -999.0,9,     -999.0,9,     -999.0,9,     -999.0,9,     -999.0,9,     -999.0,9,     -999.0,9,     -999.0,9
33RO20161119,        P18,      71,          1,         23,      11121,2,20161210,       1344,    -4.9998,  -109.9999,       3617,    20.6,  23.6675,  34.9984,2,  35.0007,2,    207.2,2,   210.0,2,     4.2,2,     8.4,2,    0.19,2,   0.835,2,   1.7940,2,   1.1194,2,   1.4373,2,  2074.3,2,  2309.2,2,   7.9163,2,    25.00,    1.06,2,    29.4,2,     1.9,    1.678,2, -999.00,9,    57.1,2,   12.20,2, -999.00,9,      8.823,2, -999.00,9,  -999.0,9,     -999.0,     -999.0,9,     -999.0,9,     -999.0,     -999.0,9,     -999.0,     -999.0,9,     -999.0,     -999.0,     -999.0,9,     -999.0,9,     -999.0,9,     -999.0,9,     -999.0,9,     -999.0,9,     -999.0,9,     -999.0,9
33RO20161119,        P18,      71,          1,         24,      11122,2,20161210,       1344,    -4.9998,  -109.9999,       3617,     2.8,  23.6739,  34.9988,2,  34.9984,2,    206.0,2,   143.1,3,     4.2,2,     8.4,2,    0.20,2,   0.831,2,   1.7958,2,   1.1175,2,   1.4281,2,  2073.0,6,  2312.5,6,   7.9166,2,    25.00,    1.03,2,    31.2,2,     2.0,        0,2, -999.00,9,    56.6,2,   11.60,2, -999.00,9,     8.7586,2, -999.00,9,  -999.0,9,     -999.0,     -999.0,9,     -999.0,9,     -999.0,     -999.0,9,     -999.0,     -999.0,9,     -999.0,     -999.0,     -999.0,9,     -999.0,9,     -999.0,9,     -999.0,9,     -999.0,9,     -999.0,9,     -999.0,9,     -999.0,9