BOTTLE,20230606CCHSIOCBG
EXPOCODE,SECT_ID,STNNBR,CASTNO,SAMPNO,BTLNBR,BTLNBR_FLAG_W,DATE,TIME,LATITUDE,LONGITUDE,DEPTH,CTDPRS,CTDTMP,CTDSAL,CTDSAL_FLAG_W,SALNTY,SALNTY_FLAG_W,CTDOXY,CTDOXY_FLAG_W,OXYGEN,OXYGEN_FLAG_W,SILCAT,SILCAT_FLAG_W,NITRAT,NITRAT_FLAG_W,NITRIT,NITRIT_FLAG_W,PHSPHT,PHSPHT_FLAG_W,CFC-11,CFC-11_FLAG_W,CFC-12,CFC-12_FLAG_W,SF6,SF6_FLAG_W,TCARBN,TCARBN_FLAG_W,ALKALI,ALKALI_FLAG_W,PH_SWS,PH_SWS_FLAG_W,PH_TMP,DELC13,DELC13_FLAG_W,DELC14,DELC14_FLAG_W,C14ERR,CCL4,CCL4_FLAG_W,POC,POC_FLAG_W,DOC,DOC_FLAG_W,TDN,TDN_FLAG_W,PON,PON_FLAG_W,N2O,N2O_FLAG_W,D15N_NO3,D15N_NO3_FLAG_W,14C-DOC,14C-DOC_FLAG_W,14C-DOCERR,13C-DOC,13C-DOC_FLAG_W,N2/ARGON_UNSTRIPPED,N2/ARGON_UNSTRIPPED_FLAG_W,N2/ARGON_UNSTRIPPED_ERROR,N2/ARGON,N2/ARGON_FLAG_W,N2/ARGON_ERROR,D15N_N2,D15N_N2_FLAG_W,D15N_N2_ERROR,D15N_NO3_ERROR,D15N_NO2+NO3,D15N_NO2+NO3_FLAG_W,D18O_NO2+NO3,D18O_NO2+NO3_FLAG_W,D18O_NO3,D18O_NO3_FLAG_W,TDP,TDP_FLAG_W,N2O_ALT_1,N2O_ALT_1_FLAG_W,D15N_N2O,D15N_N2O_FLAG_W,D18O_N2O,D18O_N2O_FLAG_W,D15N_ALPHA_N2O,D15N_ALPHA_N2O_FLAG_W
,,,,,,,,,,,METERS,DBAR,ITS-90,PSS-78,,PSS-78,,UMOL/KG,,UMOL/KG,,UMOL/KG,,UMOL/KG,,UMOL/KG,,UMOL/KG,,PMOL/KG,,PMOL/KG,,FMOL/KG,,UMOL/KG,,UMOL/KG,,,,DEG C,/MILLE,,/MILLE,,/MILLE,PMOL/KG,,UG/KG,,UMOL/KG,,UMOL/KG,,UG/KG,,NMOL/KG,,/MILLE,,/MILLE,,/MILLE,/MILLE,,,,,,,,/MILLE,,/MILLE,/MILLE,/MILLE,,/MILLE,,/MILLE,,UMOL/KG,,NMOL/L,,/MILLE,,/MILLE,,/MILLE,
33RO20161119,        P18,      93,          1,          1,      11010,2,20161215,       2028,   -12.4998,  -103.0000,       4186,  4228.0,   1.8322,  34.6781,2,  34.6786,2,    137.7,2,   136.9,2,   143.0,6,    36.4,6,    0.00,6,   2.537,6,   0.0041,2,   0.0018,2,   0.0000,2,  2340.8,6,  2430.8,2,   7.5627,6,    25.00, -999.00,9,  -999.0,9,  -999.0,        0,2, -999.00,9,    35.7,2,   41.50,2, -999.00,9,    21.6352,2, -999.00,9,  -999.0,9,     -999.0,     -999.0,9,     -999.0,9,     -999.0,     -999.0,9,     -999.0,     -999.0,9,     -999.0,     -999.0,     -999.0,9,     -999.0,9,     -999.0,9,     -999.0,9,     -999.0,9,     -999.0,9,     -999.0,9,     -999.0,9
33RO20161119,        P18,      93,          1,          2,      11101,2,20161215,       2028,   -12.4998,  -103.0000,       4186,  3900.8,   1.7987,  34.6780,2,  34.6790,2,    137.0,2,   136.6,2,   142.7,6,    36.3,6,    0.01,6,   2.541,6,   0.0026,2,   0.0011,2,   0.0225,2,  2339.1,2,  2431.7,6,   7.5640,2,    25.00, -999.00,9,  -999.0,9,  -999.0,        0,2, -999.00,9,    34.7,2,   42.80,2, -999.00,9,    21.2682,2, -999.00,9,  -999.0,9,     -999.0,     -999.0,9,     -999.0,9,     -999.0,     -999.0,9,     -999.0,     -999.0,9,     -999.0,     -999.0,     -999.0,9,     -999.0,9,     -999.0,9,     -999.0,9,     -999.0,9,     -999.0,9,     -999.0,9,     -999.0,9
33RO20161119,        P18,      93,          1,          3,      11102,2,20161215,       2028,   -12.4998,  -103.0000,       4186,  3550.3,   1.7798,  34.6773,2,  34.6772,2,    136.6,2,   136.0,6,   142.0,6,    36.4,6,    0.00,6,   2.528,6,   0.0015,2,   0.0000,2,   0.0000,2,  2337.3,2,  2431.0,2,   7.5630,2,    25.00, -999.00,9,  -999.0,9,  -999.0,        0,2, -999.00,9,    36.8,2,   40.20,2, -999.00,9,    21.4085,2, -999.00,9,  -999.0,9,     -999.0,     -999.0,9,     -999.0,9,     -999.0,     -999.0,9,     -999.0,     -999.0,9,     -999.0,     -999.0,     -999.0,9,     -999.0,9,     -999.0,9,     -999.0,9,     -999.0,9,     -999.0,9,     -999.0,9,     -999.0,9
33RO20161119,        P18,      93,          1,          4,      11103,2,20161215,       2028,   -12.4998,  -103.0000,       4186,  3225.1,   1.7715,  34.6774,2,  34.6776,2,    137.5,2,   137.2,2,   139.4,6,    36.3,6,    0.00,6,   2.540,6,   0.0030,2,   0.0009,2,   0.0000,2,  2336.6,2,  2427.4,2,   7.5636,2,    25.00, -999.00,9,  -999.0,9,  -999.0,   0.0121,2, -999.00,9,    36.5,2,   41.60,2, -999.00,9,    21.4468,2, -999.00,9,  -999.0,9,     -999.0,     -999.0,9,     -999.0,9,     -999.0,     -999.0,9,     -999.0,     -999.0,9,     -999.0,     -999.0,     -999.0,9,     -999.0,9,     -999.0,9,     -999.0,9,     -999.0,9,     -999.0,9,     -999.0,9,     -999.0,9
33RO20161119,        P18,      93,          1,          5,      11104,2,20161215,       2028,   -12.4998,  -103.0000,       4186,  2900.1,   1.7785,  34.6777,2,  34.6774,2,    140.4,2,   140.6,2,   134.1,2,    35.7,2,    0.00,2,   2.518,2,   0.0019,6,   0.0006,6,   0.0000,6,  2332.1,2,  2421.4,2,   7.5653,2,    25.00, -999.00,9,  -999.0,9,  -999.0,        0,2, -999.00,9,    35.2,2,   40.80,2, -999.00,9,    21.3575,2, -999.00,9,  -999.0,9,     -999.0,     -999.0,9,     -999.0,9,     -999.0,     -999.0,9,     -999.0,     -999.0,9,     -999.0,     -999.0,     -999.0,9,     -999.0,9,     -999.0,9,     -999.0,9,     -999.0,9,     -999.0,9,     -999.0,9,     -999.0,9
33RO20161119,        P18,      93,          1,          6,      11105,2,20161215,       2028,   -12.4998,  -103.0000,       4186,  2580.1,   1.8272,  34.6729,2,  34.6898,4,    141.8,2,   142.4,2,   128.2,2,    35.5,2,    0.00,2,   2.496,2,   0.0022,2,   0.0012,2,   0.0380,2,  2325.0,6,  2414.7,2,   7.5608,2,    25.00, -999.00,9,  -999.0,9,  -999.0,        0,2, -999.00,9,    35.6,2,   41.00,2, -999.00,9,    21.1893,2, -999.00,9,  -999.0,9,     -999.0,     -999.0,9,     -999.0,9,     -999.0,     -999.0,9,     -999.0,     -999.0,9,     -999.0,     -999.0,     -999.0,9,     -999.0,9,     -999.0,9,     -999.0,9,     -999.0,9,     -999.0,9,     -999.0,9,     -999.0,9
33RO20161119,        P18,      93,          1,          7,      11106,2,20161215,       2028,   -12.4998,  -103.0000,       4186,  2250.7,   1.9798,  34.6596,2,  34.6595,2,    132.0,2,   132.3,2,   126.7,2,    36.3,2,    0.00,2,   2.553,2,   0.0037,2,   0.0018,2,   0.0000,2,  2325.8,2,  2410.3,2,   7.5392,2,    25.00, -999.00,9,  -999.0,9,  -999.0,        0,2, -999.00,9,    35.8,2,   42.20,2, -999.00,9,    22.6501,2, -999.00,9,  -999.0,9,     -999.0,     -999.0,9,     -999.0,9,     -999.0,     -999.0,9,     -999.0,     -999.0,9,     -999.0,     -999.0,     -999.0,9,     -999.0,9,     -999.0,9,     -999.0,9,     -999.0,9,     -999.0,9,     -999.0,9,     -999.0,9
33RO20161119,        P18,      93,          1,          8,      11107,2,20161215,       2028,   -12.4998,  -103.0000,       4186,  1939.2,   2.2820,  34.6380,2,  34.6369,2,    119.2,2,   118.7,2,   123.4,2,    37.3,2,    0.01,2,   2.630,2,   0.0012,2,   0.0000,2,   0.0000,2,  2329.3,2,  2403.6,2,   7.5170,2,    25.00, -999.00,9,  -999.0,9,  -999.0,        0,2, -999.00,9,    38.4,2,   42.50,2, -999.00,9,    24.8686,2, -999.00,9,  -999.0,9,     -999.0,     -999.0,9,     -999.0,9,     -999.0,     -999.0,9,     -999.0,     -999.0,9,     -999.0,     -999.0,     -999.0,9,     -999.0,9,     -999.0,9,     -999.0,9,     -999.0,9,     -999.0,9,     -999.0,9,     -999.0,9
33RO20161119,        P18,      93,          1,          9,      11108,2,20161215,       2028,   -12.4998,  -103.0000,       4186,  1619.8,   2.7296,  34.6097,2,  34.6094,2,    102.8,2,   102.3,2,   114.0,2,    38.6,2,    0.00,2,   2.754,2,   0.0023,2,   0.0000,2,   0.0000,2,  2326.8,2,  2390.8,2,   7.4822,2,    25.00, -999.00,9,  -999.0,9,  -999.0,        0,2, -999.00,9,    38.1,2,   45.50,2, -999.00,9,    27.2877,2, -999.00,9,  -999.0,9,     -999.0,     -999.0,9,     -999.0,9,     -999.0,     -999.0,9,     -999.0,     -999.0,9,     -999.0,     -999.0,     -999.0,9,     -999.0,9,     -999.0,9,     -999.0,9,     -999.0,9,     -999.0,9,     -999.0,9,     -999.0,9
33RO20161119,        P18,      93,          1,         10,      11109,2,20161215,       2028,   -12.4998,  -103.0000,       4186,  1420.2,   3.1143,  34.5876,2,  34.5870,2,     91.3,2,    90.6,2,   105.1,2,    39.7,2,    0.00,2,   2.842,2,   0.0026,2,   0.0006,2,   0.0000,2,  2324.9,2,  2377.7,2,   7.4554,2,    25.00, -999.00,9,  -999.0,9,  -999.0,        0,2, -999.00,9,    37.7,2,   46.90,2, -999.00,9,    29.6472,2, -999.00,9,  -999.0,9,     -999.0,     -999.0,9,     -999.0,9,     -999.0,     -999.0,9,     -999.0,     -999.0,9,     -999.0,     -999.0,     -999.0,9,     -999.0,9,     -999.0,9,     -999.0,9,     -999.0,9,     -999.0,9,     -999.0,9,     -999.0,9
33RO20161119,        P18,      93,          1,         11,      11110,2,20161215,       2028,   -12.4998,  -103.0000,       4186,  1269.9,   3.4684,  34.5691,2,  34.5693,2,     85.2,2,    84.4,2,    96.0,2,    40.2,2,    0.00,2,   2.892,2,   0.0014,6,   0.0005,6,   0.0000,6,  2320.1,2,  2367.0,2,   7.4456,2,    25.00, -999.00,9,  -999.0,9,  -999.0,        0,2, -999.00,9,    36.7,2,   45.50,2, -999.00,9,    31.4521,2, -999.00,9,  -999.0,9,     -999.0,     -999.0,9,     -999.0,9,     -999.0,     -999.0,9,     -999.0,     -999.0,9,     -999.0,     -999.0,     -999.0,9,     -999.0,9,     -999.0,9,     -999.0,9,     -999.0,9,     -999.0,9,     -999.0,9,     -999.0,9
33RO20161119,        P18,      93,          1,         12,      11111,2,20161215,       2028,   -12.4998,  -103.0000,       4186,  1130.9,   3.9102,  34.5493,2,  34.5501,2,     77.4,2,    76.4,2,    85.7,2,    41.0,2,    0.00,2,   2.944,2,   0.0012,2,   0.0009,2,   0.0000,2,  2313.2,2,  2357.8,2,   7.4291,2,    25.00, -999.00,9,  -999.0,9,  -999.0,        0,2, -999.00,9,    37.9,2,   48.20,2, -999.00,9,    34.1743,2, -999.00,9,  -999.0,9,     -999.0,     -999.0,9,     -999.0,9,     -999.0,     -999.0,9,     -999.0,     -999.0,9,     -999.0,     -999.0,     -999.0,9,     -999.0,9,     -999.0,9,     -999.0,9,     -999.0,9,     -999.0,9,     -999.0,9,     -999.0,9
33RO20161119,        P18,      93,          1,         13,      11112,2,20161215,       2028,   -12.4998,  -103.0000,       4186,   989.7,   4.5471,  34.5272,2,  34.5273,2,     71.8,2,    70.7,2,    71.2,2,    41.2,2,    0.00,2,   2.918,2,   0.0023,2,   0.0013,2,   0.0000,2,  2299.9,2,  2341.6,2,   7.4206,2,    25.00, -999.00,9,  -999.0,9,  -999.0,   0.0171,2, -999.00,9,    38.3,2,   46.20,2, -999.00,9,    35.8539,2, -999.00,9,  -999.0,9,     -999.0,     -999.0,9,     -999.0,9,     -999.0,     -999.0,9,     -999.0,     -999.0,9,     -999.0,     -999.0,     -999.0,9,     -999.0,9,     -999.0,9,     -999.0,9,     -999.0,9,     -999.0,9,     -999.0,9,     -999.0,9
33RO20161119,        P18,      93,          1,         14,      11113,2,20161215,       2028,   -12.4998,  -103.0000,       4186,   854.5,   5.1917,  34.5178,2,  34.5198,2,     56.1,2,    56.1,2,    59.9,2,    42.3,2,    0.00,2,   2.955,2,   0.0041,2,   0.0024,2,   0.0000,2,  2293.8,2,  2326.1,2,   7.3957,2,    25.00, -999.00,9,  -999.0,9,  -999.0,   0.0298,2, -999.00,9,    37.5,2,   48.20,2, -999.00,9,    40.3233,2, -999.00,9,  -999.0,9,     -999.0,     -999.0,9,     -999.0,9,     -999.0,     -999.0,9,     -999.0,     -999.0,9,     -999.0,     -999.0,     -999.0,9,     -999.0,9,     -999.0,9,     -999.0,9,     -999.0,9,     -999.0,9,     -999.0,9,     -999.0,9
33RO20161119,        P18,      93,          1,         15,      11114,2,20161215,       2028,   -12.4998,  -103.0000,       4186,   725.4,   6.2074,  34.5357,2,  34.5349,2,     41.1,2,    39.7,2,    48.3,2,    42.2,2,    0.01,2,   2.942,2,   0.0088,2,   0.0052,2,   0.0000,2,  2288.4,2,  2315.2,2,   7.3771,2,    25.00, -999.00,9,  -999.0,9,  -999.0,   0.0349,2, -999.00,9,    42.7,2,   47.00,2, -999.00,9,    47.6193,2, -999.00,9,  -999.0,9,     -999.0,     -999.0,9,     -999.0,9,     -999.0,     -999.0,9,     -999.0,     -999.0,9,     -999.0,     -999.0,     -999.0,9,     -999.0,9,     -999.0,9,     -999.0,9,     -999.0,9,     -999.0,9,     -999.0,9,     -999.0,9
33RO20161119,        P18,      93,          1,         16,      11115,2,20161215,       2028,   -12.4998,  -103.0000,       4186,   600.0,   7.2559,  34.5784,2,  34.5787,2,     28.2,2,    28.1,2,    40.7,2,    40.9,2,    0.01,2,   2.859,2,   0.0344,2,   0.0195,2,   0.0000,2,  2282.8,2,  2307.6,2,   7.3695,2,    25.00, -999.00,9,  -999.0,9,  -999.0,   0.0525,2, -999.00,9,    44.4,2,   46.20,2, -999.00,9,    57.7518,2, -999.00,9,  -999.0,9,     -999.0,     -999.0,9,     -999.0,9,     -999.0,     -999.0,9,     -999.0,     -999.0,9,     -999.0,     -999.0,     -999.0,9,     -999.0,9,     -999.0,9,     -999.0,9,     -999.0,9,     -999.0,9,     -999.0,9,     -999.0,9
33RO20161119,        P18,      93,          1,         17,      11116,2,20161215,       2028,   -12.4998,  -103.0000,       4186,   490.2,   8.4545,  34.6411,2,  34.6418,2,     25.9,2,    24.7,2,    34.1,2,    38.1,2,    0.00,2,   2.697,2,   0.1154,2,   0.0668,2,   0.0148,2,  2272.0,2,  2305.3,2,   7.3901,2,    25.00, -999.00,9,  -999.0,9,  -999.0,   0.0659,2, -999.00,9,    45.4,2,   44.30,2, -999.00,9,    61.4554,2, -999.00,9,  -999.0,9,     -999.0,     -999.0,9,     -999.0,9,     -999.0,     -999.0,9,     -999.0,     -999.0,9,     -999.0,     -999.0,     -999.0,9,     -999.0,9,     -999.0,9,     -999.0,9,     -999.0,9,     -999.0,9,     -999.0,9,     -999.0,9
33RO20161119,        P18,      93,          1,         18,      11117,2,20161215,       2028,   -12.4998,  -103.0000,       4186,   379.9,   9.7016,  34.7150,2,  34.7159,2,     20.8,2,    21.4,2,    28.9,2,    35.1,2,    0.00,2,   2.551,2,   0.3075,2,   0.1720,2,   0.0729,2,  2265.1,2,  2302.7,6,   7.4094,2,    25.00, -999.00,9,  -999.0,9,  -999.0,   0.2674,2, -999.00,9,    45.5,2,   40.40,2, -999.00,9,    64.1163,2, -999.00,9,  -999.0,9,     -999.0,     -999.0,9,     -999.0,9,     -999.0,     -999.0,9,     -999.0,     -999.0,9,     -999.0,     -999.0,     -999.0,9,     -999.0,9,     -999.0,9,     -999.0,9,     -999.0,9,     -999.0,9,     -999.0,9,     -999.0,9
33RO20161119,        P18,      93,          1,         19,      11083,2,20161215,       2028,   -12.4998,  -103.0000,       4186,   285.6,  11.0986,  34.7573,2,  34.7567,2,     10.8,2,    10.2,6,    23.8,2,    30.2,2,    0.01,2,   2.561,2,   0.7141,2,   0.3952,2,   0.1186,2,  2266.5,2,  2298.6,2,   7.3937,2,    25.00, -999.00,9,  -999.0,9,  -999.0,   0.9644,2, -999.00,9,    46.6,2,   34.60,2, -999.00,9,    58.6972,2, -999.00,9,  -999.0,9,     -999.0,     -999.0,9,     -999.0,9,     -999.0,     -999.0,9,     -999.0,     -999.0,9,     -999.0,     -999.0,     -999.0,9,     -999.0,9,     -999.0,9,     -999.0,9,     -999.0,9,     -999.0,9,     -999.0,9,     -999.0,9
33RO20161119,        P18,      93,          1,         20,      11118,2,20161215,       2028,   -12.4998,  -103.0000,       4186,   200.5,  14.8281,  34.9605,2,  34.9596,2,     96.7,2,    91.7,2,     7.7,2,    18.4,2,    0.01,2,   1.722,2,   2.1845,2,   1.3123,2,   1.1417,2,  2196.3,2,  2306.2,2,   7.6282,2,    25.00, -999.00,9,  -999.0,9,  -999.0,   1.5334,2, -999.00,9,    52.7,2,   19.80,2, -999.00,9,    43.4904,2, -999.00,9,  -999.0,9,     -999.0,     -999.0,9,     -999.0,9,     -999.0,     -999.0,9,     -999.0,     -999.0,9,     -999.0,     -999.0,     -999.0,9,     -999.0,9,     -999.0,9,     -999.0,9,     -999.0,9,     -999.0,9,     -999.0,9,     -999.0,9
33RO20161119,        P18,      93,          1,         21,      11119,2,20161215,       2028,   -12.4998,  -103.0000,       4186,   125.1,  20.2116,  35.7396,2,  35.7488,2,    195.9,2,   195.3,2,     0.8,2,     2.3,2,    0.92,2,   0.553,2,   2.0435,2,   1.2822,2,   1.5387,2,  2109.9,2,  2366.6,6,   7.9371,2,    25.00, -999.00,9,  -999.0,9,  -999.0,   1.5983,2, -999.00,9,    60.3,2,    5.20,2, -999.00,9,     8.1089,2, -999.00,9,  -999.0,9,     -999.0,     -999.0,9,     -999.0,9,     -999.0,     -999.0,9,     -999.0,     -999.0,9,     -999.0,     -999.0,     -999.0,9,     -999.0,9,     -999.0,9,     -999.0,9,     -999.0,9,     -999.0,9,     -999.0,9,     -999.0,9
33RO20161119,        P18,      93,          1,         22,      11120,2,20161215,       2028,   -12.4998,  -103.0000,       4186,    60.3,  23.0256,  36.1554,2,  36.1559,2,    213.9,2,   214.4,2,     1.2,2,     3.3,2,    0.08,2,   0.471,2,   1.7996,2,   1.1304,2,   1.5446,2,  2071.2,2,  2385.2,2,   8.0373,2,    25.00, -999.00,9,  -999.0,9,  -999.0,   1.6234,2, -999.00,9,    71.9,2,    2.80,2, -999.00,9,     6.8991,2, -999.00,9,  -999.0,9,     -999.0,     -999.0,9,     -999.0,9,     -999.0,     -999.0,9,     -999.0,     -999.0,9,     -999.0,     -999.0,     -999.0,9,     -999.0,9,     -999.0,9,     -999.0,9,     -999.0,9,     -999.0,9,     -999.0,9,     -999.0,9
33RO20161119,        P18,      93,          1,         23,      11121,2,20161215,       2028,   -12.4998,  -103.0000,       4186,    25.0,  24.1915,  35.8248,2,  35.8257,2,    211.4,2,   213.1,2,     1.2,2,     3.3,2,    0.08,2,   0.460,2,   1.7211,2,   1.0887,2,   1.4941,2,  2061.6,2,  2362.4,2,   8.0204,2,    25.00, -999.00,9,  -999.0,9,  -999.0,        0,2, -999.00,9,    70.1,2,    5.90,2, -999.00,9,     6.8478,2, -999.00,9,  -999.0,9,     -999.0,     -999.0,9,     -999.0,9,     -999.0,     -999.0,9,     -999.0,     -999.0,9,     -999.0,     -999.0,     -999.0,9,     -999.0,9,     -999.0,9,     -999.0,9,     -999.0,9,     -999.0,9,     -999.0,9,     -999.0,9
33RO20161119,        P18,      93,          1,         24,      11122,2,20161215,       2028,   -12.4998,  -103.0000,       4186,     3.2,  24.4540,  35.8280,2,  35.8277,2,    210.6,2,   212.8,2,     1.2,2,     3.4,2,    0.09,2,   0.468,2,   1.7040,2,   1.0854,2,   1.4607,2,  2063.0,6,  2363.5,2,   8.0201,6,    25.00, -999.00,9,  -999.0,9,  -999.0,   0.0138,2, -999.00,9,    70.0,2,    7.30,2, -999.00,9,     6.6948,2, -999.00,9,  -999.0,9,     -999.0,     -999.0,9,     -999.0,9,     -999.0,     -999.0,9,     -999.0,     -999.0,9,     -999.0,     -999.0,     -999.0,9,     -999.0,9,     -999.0,9,     -999.0,9,     -999.0,9,     -999.0,9,     -999.0,9,     -999.0,9