BOTTLE,20230606CCHSIOCBG
EXPOCODE,SECT_ID,STNNBR,CASTNO,SAMPNO,BTLNBR,BTLNBR_FLAG_W,DATE,TIME,LATITUDE,LONGITUDE,DEPTH,CTDPRS,CTDTMP,CTDSAL,CTDSAL_FLAG_W,SALNTY,SALNTY_FLAG_W,CTDOXY,CTDOXY_FLAG_W,OXYGEN,OXYGEN_FLAG_W,SILCAT,SILCAT_FLAG_W,NITRAT,NITRAT_FLAG_W,NITRIT,NITRIT_FLAG_W,PHSPHT,PHSPHT_FLAG_W,CFC-11,CFC-11_FLAG_W,CFC-12,CFC-12_FLAG_W,SF6,SF6_FLAG_W,TCARBN,TCARBN_FLAG_W,ALKALI,ALKALI_FLAG_W,PH_SWS,PH_SWS_FLAG_W,PH_TMP,DELC13,DELC13_FLAG_W,DELC14,DELC14_FLAG_W,C14ERR,CCL4,CCL4_FLAG_W,POC,POC_FLAG_W,DOC,DOC_FLAG_W,TDN,TDN_FLAG_W,PON,PON_FLAG_W,N2O,N2O_FLAG_W,D15N_NO3,D15N_NO3_FLAG_W,14C-DOC,14C-DOC_FLAG_W,14C-DOCERR,13C-DOC,13C-DOC_FLAG_W,N2/ARGON_UNSTRIPPED,N2/ARGON_UNSTRIPPED_FLAG_W,N2/ARGON_UNSTRIPPED_ERROR,N2/ARGON,N2/ARGON_FLAG_W,N2/ARGON_ERROR,D15N_N2,D15N_N2_FLAG_W,D15N_N2_ERROR,D15N_NO3_ERROR,D15N_NO2+NO3,D15N_NO2+NO3_FLAG_W,D18O_NO2+NO3,D18O_NO2+NO3_FLAG_W,D18O_NO3,D18O_NO3_FLAG_W,TDP,TDP_FLAG_W,N2O_ALT_1,N2O_ALT_1_FLAG_W,D15N_N2O,D15N_N2O_FLAG_W,D18O_N2O,D18O_N2O_FLAG_W,D15N_ALPHA_N2O,D15N_ALPHA_N2O_FLAG_W
,,,,,,,,,,,METERS,DBAR,ITS-90,PSS-78,,PSS-78,,UMOL/KG,,UMOL/KG,,UMOL/KG,,UMOL/KG,,UMOL/KG,,UMOL/KG,,PMOL/KG,,PMOL/KG,,FMOL/KG,,UMOL/KG,,UMOL/KG,,,,DEG C,/MILLE,,/MILLE,,/MILLE,PMOL/KG,,UG/KG,,UMOL/KG,,UMOL/KG,,UG/KG,,NMOL/KG,,/MILLE,,/MILLE,,/MILLE,/MILLE,,,,,,,,/MILLE,,/MILLE,/MILLE,/MILLE,,/MILLE,,/MILLE,,UMOL/KG,,NMOL/L,,/MILLE,,/MILLE,,/MILLE,
33RO20161119,        P18,     142,          1,          1,      11010,2,20170107,       1701,   -37.0006,  -102.9984,       4012,  4070.0,   1.2611,  34.7069,2,  34.7058,2,    189.1,2,   189.3,2,   122.5,2,    33.3,2,    0.01,2,   2.280,2,   0.0040,2,   0.0026,2,   0.0000,2,  2276.1,6,  2384.0,2,   7.6044,2,    25.00, -999.00,9,  -999.0,9,  -999.0,   0.0556,2, -999.00,9,  -999.0,9, -999.00,9, -999.00,9,    19.3818,2, -999.00,9,  -999.0,9,     -999.0,     -999.0,9,     -999.0,9,     -999.0,     -999.0,9,     -999.0,     -999.0,9,     -999.0,     -999.0,     -999.0,9,     -999.0,9,     -999.0,9,     -999.0,9,     -999.0,9,     -999.0,9,     -999.0,9,     -999.0,9
33RO20161119,        P18,     142,          1,          2,      11101,2,20170107,       1701,   -37.0006,  -102.9984,       4012,  3776.4,   1.2696,  34.7065,2,  34.7080,2,    187.7,2,   187.4,2,   121.5,6,    33.2,6,    0.01,6,   2.292,6,   0.0053,2,   0.0031,2,   0.0000,2,  2278.3,2,  2381.7,6,   7.6022,2,    25.00, -999.00,9,  -999.0,9,  -999.0,   0.0705,2, -999.00,9,  -999.0,9, -999.00,9, -999.00,9,     19.783,2, -999.00,9,  -999.0,9,     -999.0,     -999.0,9,     -999.0,9,     -999.0,     -999.0,9,     -999.0,     -999.0,9,     -999.0,     -999.0,     -999.0,9,     -999.0,9,     -999.0,9,     -999.0,9,     -999.0,9,     -999.0,9,     -999.0,9,     -999.0,9
33RO20161119,        P18,     142,          1,          3,      11102,2,20170107,       1701,   -37.0006,  -102.9984,       4012,  3505.6,   1.5061,  34.7015,2,  34.7024,2,    178.8,2,   178.9,2,   117.3,6,    33.5,6,    0.00,6,   2.318,6,   0.0055,2,   0.0025,2,   0.0000,2,  2278.6,2,  2382.7,2,   7.5922,6,    25.00, -999.00,9,  -999.0,9,  -999.0,   0.0673,2, -999.00,9,  -999.0,9, -999.00,9, -999.00,9,    20.1312,2, -999.00,9,  -999.0,9,     -999.0,     -999.0,9,     -999.0,9,     -999.0,     -999.0,9,     -999.0,     -999.0,9,     -999.0,     -999.0,     -999.0,9,     -999.0,9,     -999.0,9,     -999.0,9,     -999.0,9,     -999.0,9,     -999.0,9,     -999.0,9
33RO20161119,        P18,     142,          1,          4,      11103,2,20170107,       1701,   -37.0006,  -102.9984,       4012,  3175.1,   1.7126,  34.6951,2,  34.6945,2,    171.0,2,   171.2,6,   113.8,6,    33.8,6,    0.00,6,   2.333,6,   0.0107,2,   0.0054,2,   0.0000,2,  2282.5,2,  2380.8,2,   7.5854,2,    25.00, -999.00,9,  -999.0,9,  -999.0,   0.0804,2, -999.00,9,  -999.0,9, -999.00,9, -999.00,9,    20.7102,2, -999.00,9,  -999.0,9,     -999.0,     -999.0,9,     -999.0,9,     -999.0,     -999.0,9,     -999.0,     -999.0,9,     -999.0,     -999.0,     -999.0,9,     -999.0,9,     -999.0,9,     -999.0,9,     -999.0,9,     -999.0,9,     -999.0,9,     -999.0,9
33RO20161119,        P18,     142,          1,          5,      11104,2,20170107,       1701,   -37.0006,  -102.9984,       4012,  2880.3,   1.7826,  34.6889,2,  34.6877,2,    167.2,2,   166.9,2,   113.3,6,    34.1,6,    0.01,6,   2.351,6,   0.0109,2,   0.0058,2,   0.0000,2,  2286.1,2,  2384.0,2,   7.5789,2,    25.00, -999.00,9,  -999.0,9,  -999.0,   0.0642,2, -999.00,9,  -999.0,9, -999.00,9, -999.00,9,     20.674,2, -999.00,9,  -999.0,9,     -999.0,     -999.0,9,     -999.0,9,     -999.0,     -999.0,9,     -999.0,     -999.0,9,     -999.0,     -999.0,     -999.0,9,     -999.0,9,     -999.0,9,     -999.0,9,     -999.0,9,     -999.0,9,     -999.0,9,     -999.0,9
33RO20161119,        P18,     142,          1,          6,      11105,2,20170107,       1701,   -37.0006,  -102.9984,       4012,  2529.9,   1.8593,  34.6828,2,  34.6851,2,    164.6,2,   164.9,2,   110.4,6,    34.2,6,    0.01,6,   2.356,6,   0.0186,2,   0.0091,2,   0.0000,2,  2282.8,2,  2378.8,2,   7.5730,2,    25.00, -999.00,9,  -999.0,9,  -999.0,   0.0898,2, -999.00,9,  -999.0,9, -999.00,9, -999.00,9,     20.965,2, -999.00,9,  -999.0,9,     -999.0,     -999.0,9,     -999.0,9,     -999.0,     -999.0,9,     -999.0,     -999.0,9,     -999.0,     -999.0,     -999.0,9,     -999.0,9,     -999.0,9,     -999.0,9,     -999.0,9,     -999.0,9,     -999.0,9,     -999.0,9
33RO20161119,        P18,     142,          1,          7,      11106,2,20170107,       1701,   -37.0006,  -102.9984,       4012,  2259.7,   2.0400,  34.6601,2,  34.6619,2,    160.8,2,   160.4,2,   104.5,2,    34.5,2,    0.01,2,   2.406,2,   0.0213,6,   0.0111,6,   0.0371,6,  2280.9,2,  2372.5,2,   7.5639,2,    25.00, -999.00,9,  -999.0,9,  -999.0,   0.2707,2, -999.00,9,  -999.0,9, -999.00,9, -999.00,9,    22.0987,2, -999.00,9,  -999.0,9,     -999.0,     -999.0,9,     -999.0,9,     -999.0,     -999.0,9,     -999.0,     -999.0,9,     -999.0,     -999.0,     -999.0,9,     -999.0,9,     -999.0,9,     -999.0,9,     -999.0,9,     -999.0,9,     -999.0,9,     -999.0,9
33RO20161119,        P18,     142,          1,          8,      11107,2,20170107,       1701,   -37.0006,  -102.9984,       4012,  1948.9,   2.3180,  34.6165,2,  34.6169,2,    152.2,2,   152.1,2,    97.4,2,    35.5,2,    0.00,2,   2.469,2,   0.0210,2,   0.0102,2,   0.0000,2,  2279.5,2,  2365.3,2,   7.5482,2,    25.00, -999.00,9,  -999.0,9,  -999.0,     1.55,2, -999.00,9,  -999.0,9, -999.00,9, -999.00,9,    22.9474,2, -999.00,9,  -999.0,9,     -999.0,     -999.0,9,     -999.0,9,     -999.0,     -999.0,9,     -999.0,     -999.0,9,     -999.0,     -999.0,     -999.0,9,     -999.0,9,     -999.0,9,     -999.0,9,     -999.0,9,     -999.0,9,     -999.0,9,     -999.0,9
33RO20161119,        P18,     142,          1,          9,      11108,2,20170107,       1701,   -37.0006,  -102.9984,       4012,  1649.7,   2.7431,  34.5640,2,  34.5625,2,    136.6,2,   136.5,2,    89.1,2,    36.9,2,    0.00,2,   2.594,2,   0.0191,2,   0.0096,2,   0.0000,2,  2281.0,2,  2358.2,2,   7.5217,2,    25.00, -999.00,9,  -999.0,9,  -999.0,   2.2031,2, -999.00,9,  -999.0,9, -999.00,9, -999.00,9,    25.4153,2, -999.00,9,  -999.0,9,     -999.0,     -999.0,9,     -999.0,9,     -999.0,     -999.0,9,     -999.0,     -999.0,9,     -999.0,     -999.0,     -999.0,9,     -999.0,9,     -999.0,9,     -999.0,9,     -999.0,9,     -999.0,9,     -999.0,9,     -999.0,9
33RO20161119,        P18,     142,          1,         10,      11109,2,20170107,       1701,   -37.0006,  -102.9984,       4012,  1394.6,   3.1389,  34.5014,2,  34.5067,2,    130.6,2,   129.3,2,    75.8,2,    37.9,2,    0.00,2,   2.647,2,   0.0232,2,   0.0126,2,   0.0000,2,  2275.4,6,  2341.4,2,   7.4989,2,    25.00, -999.00,9,  -999.0,9,  -999.0,    2.552,2, -999.00,9,  -999.0,9, -999.00,9, -999.00,9,    27.6777,2, -999.00,9,  -999.0,9,     -999.0,     -999.0,9,     -999.0,9,     -999.0,     -999.0,9,     -999.0,     -999.0,9,     -999.0,     -999.0,     -999.0,9,     -999.0,9,     -999.0,9,     -999.0,9,     -999.0,9,     -999.0,9,     -999.0,9,     -999.0,9
33RO20161119,        P18,     142,          1,         11,      11110,2,20170107,       1701,   -37.0006,  -102.9984,       4012,  1254.9,   3.3913,  34.4275,2,  34.4387,2,    148.4,2,   147.1,2,    59.3,2,    36.8,2,    0.00,2,   2.546,2,   0.1161,2,   0.0610,2,   0.0000,2,  2247.9,2,  2321.8,6,   7.5183,2,    25.00, -999.00,9,  -999.0,9,  -999.0,   2.7356,2, -999.00,9,  -999.0,9, -999.00,9, -999.00,9,    26.1172,2, -999.00,9,  -999.0,9,     -999.0,     -999.0,9,     -999.0,9,     -999.0,     -999.0,9,     -999.0,     -999.0,9,     -999.0,     -999.0,     -999.0,9,     -999.0,9,     -999.0,9,     -999.0,9,     -999.0,9,     -999.0,9,     -999.0,9,     -999.0,9
33RO20161119,        P18,     142,          1,         12,      11111,2,20170107,       1701,   -37.0006,  -102.9984,       4012,  1114.8,   3.7691,  34.3498,2,  34.3547,2,    176.0,2,   174.9,2,    42.3,2,    34.4,2,    0.01,2,   2.368,2,   0.4546,2,   0.2248,2,   0.0963,2,  2216.6,2,  2302.9,2,   7.5614,2,    25.00, -999.00,9,  -999.0,9,  -999.0,   2.6496,2, -999.00,9,  -999.0,9, -999.00,9, -999.00,9,    23.2573,2, -999.00,9,  -999.0,9,     -999.0,     -999.0,9,     -999.0,9,     -999.0,     -999.0,9,     -999.0,     -999.0,9,     -999.0,     -999.0,     -999.0,9,     -999.0,9,     -999.0,9,     -999.0,9,     -999.0,9,     -999.0,9,     -999.0,9,     -999.0,9
33RO20161119,        P18,     142,          1,         13,      11112,2,20170107,       1701,   -37.0006,  -102.9984,       4012,   985.6,   4.4312,  34.2895,2,  34.2964,2,    203.1,2,   202.5,2,    27.1,2,    31.3,2,    0.01,2,   2.153,2,   1.5492,2,   0.7601,2,   0.2707,2,  2186.1,2,  2289.4,2,   7.6065,2,    25.00, -999.00,9,  -999.0,9,  -999.0,   2.6249,2, -999.00,9,  -999.0,9, -999.00,9, -999.00,9,     19.529,2, -999.00,9,  -999.0,9,     -999.0,     -999.0,9,     -999.0,9,     -999.0,     -999.0,9,     -999.0,     -999.0,9,     -999.0,     -999.0,     -999.0,9,     -999.0,9,     -999.0,9,     -999.0,9,     -999.0,9,     -999.0,9,     -999.0,9,     -999.0,9
33RO20161119,        P18,     142,          1,         14,      11113,2,20170107,       1701,   -37.0006,  -102.9984,       4012,   850.2,   5.0499,  34.2609,2,  34.2790,4,    222.4,2,   222.2,2,    16.9,2,    28.5,2,    0.01,2,   1.968,2,   2.5709,2,   1.2726,2,   0.5643,2,  2164.5,2,  2278.9,2,   7.6448,2,    25.00, -999.00,9,  -999.0,9,  -999.0,   1.6665,2, -999.00,9,  -999.0,9, -999.00,9, -999.00,9,    17.9662,2, -999.00,9,  -999.0,9,     -999.0,     -999.0,9,     -999.0,9,     -999.0,     -999.0,9,     -999.0,     -999.0,9,     -999.0,     -999.0,     -999.0,9,     -999.0,9,     -999.0,9,     -999.0,9,     -999.0,9,     -999.0,9,     -999.0,9,     -999.0,9
33RO20161119,        P18,     142,          1,         15,      11114,2,20170107,       1701,   -37.0006,  -102.9984,       4012,   729.5,   5.5682,  34.2587,2,  34.2584,2,    239.9,2,   239.4,2,    11.1,2,    25.8,2,    0.02,2,   1.772,2,   3.5112,2,   1.7662,2,   0.8452,2,  2150.7,2,  2274.6,2,   7.6736,2,    25.00, -999.00,9,  -999.0,9,  -999.0,   1.0763,2, -999.00,9,  -999.0,9, -999.00,9, -999.00,9,     16.656,2, -999.00,9,  -999.0,9,     -999.0,     -999.0,9,     -999.0,9,     -999.0,     -999.0,9,     -999.0,     -999.0,9,     -999.0,     -999.0,     -999.0,9,     -999.0,9,     -999.0,9,     -999.0,9,     -999.0,9,     -999.0,9,     -999.0,9,     -999.0,9
33RO20161119,        P18,     142,          1,         16,      11115,2,20170107,       1701,   -37.0006,  -102.9984,       4012,   610.8,   5.9978,  34.2737,2,  34.2835,2,    246.2,2,   245.8,2,     8.7,2,    24.3,2,    0.02,2,   1.676,2,   3.9733,2,   2.0510,2,   1.2090,2,  2145.2,2,  2273.8,2,   7.6835,2,    25.00, -999.00,9,  -999.0,9,  -999.0,   1.1308,2, -999.00,9,  -999.0,9, -999.00,9, -999.00,9,    17.1158,2, -999.00,9,  -999.0,9,     -999.0,     -999.0,9,     -999.0,9,     -999.0,     -999.0,9,     -999.0,     -999.0,9,     -999.0,     -999.0,     -999.0,9,     -999.0,9,     -999.0,9,     -999.0,9,     -999.0,9,     -999.0,9,     -999.0,9,     -999.0,9
33RO20161119,        P18,     142,          1,         17,      11116,2,20170107,       1701,   -37.0006,  -102.9984,       4012,   505.8,   6.3339,  34.2864,2,  34.2862,2,    245.7,2,   245.3,2,     7.7,2,    23.5,2,    0.02,2,   1.615,2,   4.0672,2,   2.1624,2,   1.4085,2,  2145.3,2,  2263.0,4,   7.6858,2,    25.00, -999.00,9,  -999.0,9,  -999.0,   2.7268,2, -999.00,9,  -999.0,9, -999.00,9, -999.00,9,    18.1219,2, -999.00,9,  -999.0,9,     -999.0,     -999.0,9,     -999.0,9,     -999.0,     -999.0,9,     -999.0,     -999.0,9,     -999.0,     -999.0,     -999.0,9,     -999.0,9,     -999.0,9,     -999.0,9,     -999.0,9,     -999.0,9,     -999.0,9,     -999.0,9
33RO20161119,        P18,     142,          1,         18,      11117,2,20170107,       1701,   -37.0006,  -102.9984,       4012,   395.1,   6.9329,  34.2628,2,  34.2656,2,    241.9,2,   242.7,2,     5.7,2,    22.3,2,    0.03,2,   1.550,2,   4.0433,2,   2.1945,2,   1.6464,2,  2138.7,2,  2269.3,2,   7.6906,2,    25.00, -999.00,9,  -999.0,9,  -999.0,   2.6809,2, -999.00,9,  -999.0,9, -999.00,9, -999.00,9,    21.5625,2, -999.00,9,  -999.0,9,     -999.0,     -999.0,9,     -999.0,9,     -999.0,     -999.0,9,     -999.0,     -999.0,9,     -999.0,     -999.0,     -999.0,9,     -999.0,9,     -999.0,9,     -999.0,9,     -999.0,9,     -999.0,9,     -999.0,9,     -999.0,9
33RO20161119,        P18,     142,          1,         19,      11083,2,20170107,       1701,   -37.0006,  -102.9984,       4012,   299.8,   8.1654,  34.2188,2,  34.2224,2,    231.7,2,   230.7,2,     3.5,2,    20.1,2,    0.01,2,   1.441,2,   3.8114,2,   2.1146,2,   1.7816,2,  2130.2,2,  2263.9,2,   7.7006,2,    25.00, -999.00,9,  -999.0,9,  -999.0,    2.627,2, -999.00,9,  -999.0,9, -999.00,9, -999.00,9,    24.8415,2, -999.00,9,  -999.0,9,     -999.0,     -999.0,9,     -999.0,9,     -999.0,     -999.0,9,     -999.0,     -999.0,9,     -999.0,     -999.0,     -999.0,9,     -999.0,9,     -999.0,9,     -999.0,9,     -999.0,9,     -999.0,9,     -999.0,9,     -999.0,9
33RO20161119,        P18,     142,          1,         20,      11118,2,20170107,       1701,   -37.0006,  -102.9984,       4012,   215.6,  10.4709,  34.2018,2,  34.2090,2,    227.9,2,   226.8,2,     1.3,2,    15.0,2,    0.02,2,   1.132,2,   3.3925,6,   1.9589,6,   1.9453,6,  2106.1,2,  2248.9,3,   7.7556,2,    25.00, -999.00,9,  -999.0,9,  -999.0,    2.614,2, -999.00,9,  -999.0,9, -999.00,9, -999.00,9,    20.9173,2, -999.00,9,  -999.0,9,     -999.0,     -999.0,9,     -999.0,9,     -999.0,     -999.0,9,     -999.0,     -999.0,9,     -999.0,     -999.0,     -999.0,9,     -999.0,9,     -999.0,9,     -999.0,9,     -999.0,9,     -999.0,9,     -999.0,9,     -999.0,9
33RO20161119,        P18,     142,          1,         21,      11119,2,20170107,       1701,   -37.0006,  -102.9984,       4012,   139.7,  12.6879,  34.0535,2,  34.0558,2,    253.9,2,   253.3,6,     0.3,2,     5.9,2,    0.33,2,   0.657,2,   3.0051,2,   1.7548,2,   2.1403,2,  2057.0,2,  2256.6,6,   7.8616,2,    25.00, -999.00,9,  -999.0,9,  -999.0,   0.5744,2, -999.00,9,  -999.0,9, -999.00,9, -999.00,9,    10.7261,2, -999.00,9,  -999.0,9,     -999.0,     -999.0,9,     -999.0,9,     -999.0,     -999.0,9,     -999.0,     -999.0,9,     -999.0,     -999.0,     -999.0,9,     -999.0,9,     -999.0,9,     -999.0,9,     -999.0,9,     -999.0,9,     -999.0,9,     -999.0,9
33RO20161119,        P18,     142,          1,         22,      11120,2,20170107,       1701,   -37.0006,  -102.9984,       4012,    60.7,  15.2856,  34.0773,2,  34.0777,2,    268.1,2,   266.0,2,     0.3,2,     1.8,2,    0.06,2,   0.345,2,   2.7371,2,   1.6217,2,   2.0028,2,  2024.6,2,  2257.1,2,   7.9262,6,    25.00, -999.00,9,  -999.0,9,  -999.0,   0.6451,2, -999.00,9,  -999.0,9, -999.00,9, -999.00,9,     9.3815,2, -999.00,9,  -999.0,9,     -999.0,     -999.0,9,     -999.0,9,     -999.0,     -999.0,9,     -999.0,     -999.0,9,     -999.0,     -999.0,     -999.0,9,     -999.0,9,     -999.0,9,     -999.0,9,     -999.0,9,     -999.0,9,     -999.0,9,     -999.0,9
33RO20161119,        P18,     142,          1,         23,      11121,2,20170107,       1701,   -37.0006,  -102.9984,       4012,    29.9,  18.0396,  34.0221,2,  34.0209,2,    242.8,2,   243.6,2,     0.3,2,     1.5,2,    0.03,2,   0.325,2,   2.3822,2,   1.4360,2,   1.8592,2,  2019.8,6,  2252.6,2,   7.9265,2,    25.00, -999.00,9,  -999.0,9,  -999.0,   1.7912,2, -999.00,9,  -999.0,9, -999.00,9, -999.00,9,     8.3621,2, -999.00,9,  -999.0,9,     -999.0,     -999.0,9,     -999.0,9,     -999.0,     -999.0,9,     -999.0,     -999.0,9,     -999.0,     -999.0,     -999.0,9,     -999.0,9,     -999.0,9,     -999.0,9,     -999.0,9,     -999.0,9,     -999.0,9,     -999.0,9
33RO20161119,        P18,     142,          1,         24,      11122,2,20170107,       1701,   -37.0006,  -102.9984,       4012,     2.7,  19.4472,  34.0537,2,  34.0520,2,    231.2,2,   235.4,2,     0.2,2,     1.5,2,    0.04,2,   0.341,2,   2.2681,2,   1.3816,2,   1.8095,2,  2021.2,2,  2255.0,2,   7.9267,2,    25.00, -999.00,9,  -999.0,9,  -999.0,   2.4867,2, -999.00,9,  -999.0,9, -999.00,9, -999.00,9,     8.0589,2, -999.00,9,  -999.0,9,     -999.0,     -999.0,9,     -999.0,9,     -999.0,     -999.0,9,     -999.0,     -999.0,9,     -999.0,     -999.0,     -999.0,9,     -999.0,9,     -999.0,9,     -999.0,9,     -999.0,9,     -999.0,9,     -999.0,9,     -999.0,9