BOTTLE,20230606CCHSIOCBG
EXPOCODE,SECT_ID,STNNBR,CASTNO,SAMPNO,BTLNBR,BTLNBR_FLAG_W,DATE,TIME,LATITUDE,LONGITUDE,DEPTH,CTDPRS,CTDTMP,CTDSAL,CTDSAL_FLAG_W,SALNTY,SALNTY_FLAG_W,CTDOXY,CTDOXY_FLAG_W,OXYGEN,OXYGEN_FLAG_W,SILCAT,SILCAT_FLAG_W,NITRAT,NITRAT_FLAG_W,NITRIT,NITRIT_FLAG_W,PHSPHT,PHSPHT_FLAG_W,CFC-11,CFC-11_FLAG_W,CFC-12,CFC-12_FLAG_W,SF6,SF6_FLAG_W,TCARBN,TCARBN_FLAG_W,ALKALI,ALKALI_FLAG_W,PH_SWS,PH_SWS_FLAG_W,PH_TMP,DELC13,DELC13_FLAG_W,DELC14,DELC14_FLAG_W,C14ERR,CCL4,CCL4_FLAG_W,POC,POC_FLAG_W,DOC,DOC_FLAG_W,TDN,TDN_FLAG_W,PON,PON_FLAG_W,N2O,N2O_FLAG_W,D15N_NO3,D15N_NO3_FLAG_W,14C-DOC,14C-DOC_FLAG_W,14C-DOCERR,13C-DOC,13C-DOC_FLAG_W,N2/ARGON_UNSTRIPPED,N2/ARGON_UNSTRIPPED_FLAG_W,N2/ARGON_UNSTRIPPED_ERROR,N2/ARGON,N2/ARGON_FLAG_W,N2/ARGON_ERROR,D15N_N2,D15N_N2_FLAG_W,D15N_N2_ERROR,D15N_NO3_ERROR,D15N_NO2+NO3,D15N_NO2+NO3_FLAG_W,D18O_NO2+NO3,D18O_NO2+NO3_FLAG_W,D18O_NO3,D18O_NO3_FLAG_W,TDP,TDP_FLAG_W,N2O_ALT_1,N2O_ALT_1_FLAG_W,D15N_N2O,D15N_N2O_FLAG_W,D18O_N2O,D18O_N2O_FLAG_W,D15N_ALPHA_N2O,D15N_ALPHA_N2O_FLAG_W
,,,,,,,,,,,METERS,DBAR,ITS-90,PSS-78,,PSS-78,,UMOL/KG,,UMOL/KG,,UMOL/KG,,UMOL/KG,,UMOL/KG,,UMOL/KG,,PMOL/KG,,PMOL/KG,,FMOL/KG,,UMOL/KG,,UMOL/KG,,,,DEG C,/MILLE,,/MILLE,,/MILLE,PMOL/KG,,UG/KG,,UMOL/KG,,UMOL/KG,,UG/KG,,NMOL/KG,,/MILLE,,/MILLE,,/MILLE,/MILLE,,,,,,,,/MILLE,,/MILLE,/MILLE,/MILLE,,/MILLE,,/MILLE,,UMOL/KG,,NMOL/L,,/MILLE,,/MILLE,,/MILLE,
33RO20161119,        P18,       3,          1,          1,      11010,2,20161124,       2137,    22.7705,  -110.0000,       1250,  1256.0,   3.5487,  34.5695,2,  34.5695,2,     28.9,2,    28.3,2,   126.4,6,    44.6,6,    0.02,6,   3.224,6,   0.0169,2,   0.0056,2,   0.0000,2,  2373.6,6,  2389.2,2,   7.3711,2,    25.00, -999.00,9,  -999.0,9,  -999.0,   0.0448,2, -999.00,9,  -999.0,9, -999.00,9, -999.00,9,    43.9071,2, -999.00,9,  -999.0,9,     -999.0,     -999.0,9,     -999.0,9,     -999.0,     -999.0,9,     -999.0,     -999.0,9,     -999.0,     -999.0,     -999.0,9,     -999.0,9,     -999.0,9,     -999.0,9,     -999.0,9,     -999.0,9,     -999.0,9,     -999.0,9
33RO20161119,        P18,       3,          1,          2,      11101,2,20161124,       2137,    22.7705,  -110.0000,       1250,  1095.5,   4.1188,  34.5466,2,  34.5453,2,     17.5,2,    17.4,2,   115.4,6,    44.0,6,    0.01,6,   3.265,6,-999.0000,9,-999.0000,9,-999.0000,9,  2369.1,2,  2377.4,2,   7.3283,2,    25.00, -999.00,9,  -999.0,9,  -999.0,-999.0000,9, -999.00,9,  -999.0,9, -999.00,9, -999.00,9,     -999.0,9, -999.00,9,  -999.0,9,     -999.0,     -999.0,9,     -999.0,9,     -999.0,     -999.0,9,     -999.0,     -999.0,9,     -999.0,     -999.0,     -999.0,9,     -999.0,9,     -999.0,9,     -999.0,9,     -999.0,9,     -999.0,9,     -999.0,9,     -999.0,9
33RO20161119,        P18,       3,          1,          3,      11102,2,20161124,       2137,    22.7705,  -110.0000,       1250,   965.0,   4.5361,  34.5266,2,  34.5249,2,     11.8,2,    11.1,2,   105.8,2,    44.3,2,    0.01,2,   3.269,2,   0.0143,2,   0.0070,2,   0.0323,2,  2360.2,2,  -999.0,5,   7.3168,2,    25.00, -999.00,9,  -999.0,9,  -999.0,   0.0269,2, -999.00,9,  -999.0,9, -999.00,9, -999.00,9,    52.1009,2, -999.00,9,  -999.0,9,     -999.0,     -999.0,9,     -999.0,9,     -999.0,     -999.0,9,     -999.0,     -999.0,9,     -999.0,     -999.0,     -999.0,9,     -999.0,9,     -999.0,9,     -999.0,9,     -999.0,9,     -999.0,9,     -999.0,9,     -999.0,9
33RO20161119,        P18,       3,          1,          4,      11103,2,20161124,       2137,    22.7705,  -110.0000,       1250,   866.0,   5.0367,  34.5075,2,  34.5065,2,      7.6,2,     7.0,2,    96.7,2,    43.5,2,    0.01,2,   3.249,2,-999.0000,9,-999.0000,9,-999.0000,9,  2353.8,2,  2359.5,6,   7.3130,2,    25.00, -999.00,9,  -999.0,9,  -999.0,-999.0000,9, -999.00,9,  -999.0,9, -999.00,9, -999.00,9,     -999.0,9, -999.00,9,  -999.0,9,     -999.0,     -999.0,9,     -999.0,9,     -999.0,     -999.0,9,     -999.0,     -999.0,9,     -999.0,     -999.0,     -999.0,9,     -999.0,9,     -999.0,9,     -999.0,9,     -999.0,9,     -999.0,9,     -999.0,9,     -999.0,9
33RO20161119,        P18,       3,          1,          5,      11104,2,20161124,       2137,    22.7705,  -110.0000,       1250,   765.9,   5.3922,  34.4918,2,  34.5001,2,      6.2,2,     5.9,2,    89.9,2,    42.6,2,    0.01,2,   3.222,2,   0.0179,6,   0.0103,6,   0.0270,6,  2342.8,2,  2348.9,2,   7.3110,2,    25.00, -999.00,9,  -999.0,9,  -999.0,   0.0417,2, -999.00,9,  -999.0,9, -999.00,9, -999.00,9,    58.2129,2, -999.00,9,  -999.0,9,     -999.0,     -999.0,9,     -999.0,9,     -999.0,     -999.0,9,     -999.0,     -999.0,9,     -999.0,     -999.0,     -999.0,9,     -999.0,9,     -999.0,9,     -999.0,9,     -999.0,9,     -999.0,9,     -999.0,9,     -999.0,9
33RO20161119,        P18,       3,          1,          6,      11105,2,20161124,       2137,    22.7705,  -110.0000,       1250,   665.1,   6.1586,  34.4962,2,  34.4948,2,      3.8,2,     3.6,2,    80.0,2,    39.7,2,    0.01,2,   3.179,2,-999.0000,9,-999.0000,9,-999.0000,9,  2331.9,2,  2340.3,2,   7.3161,2,    25.00, -999.00,9,  -999.0,9,  -999.0,-999.0000,9, -999.00,9,  -999.0,9, -999.00,9, -999.00,9,     -999.0,9, -999.00,9,  -999.0,9,     -999.0,     -999.0,9,     -999.0,9,     -999.0,     -999.0,9,     -999.0,     -999.0,9,     -999.0,     -999.0,     -999.0,9,     -999.0,9,     -999.0,9,     -999.0,9,     -999.0,9,     -999.0,9,     -999.0,9,     -999.0,9
33RO20161119,        P18,       3,          1,          7,      11106,2,20161124,       2137,    22.7705,  -110.0000,       1250,   566.4,   6.9022,  34.5076,2,  34.5075,2,      3.3,2,     3.3,6,    72.1,2,    37.0,2,    0.01,2,   3.121,2,   0.0888,2,   0.0517,2,   0.0384,2,  2322.4,2,  2331.3,2,   7.3236,2,    25.00, -999.00,9,  -999.0,9,  -999.0,   0.0305,2, -999.00,9,  -999.0,9, -999.00,9, -999.00,9,    52.2118,2, -999.00,9,  -999.0,9,     -999.0,     -999.0,9,     -999.0,9,     -999.0,     -999.0,9,     -999.0,     -999.0,9,     -999.0,     -999.0,     -999.0,9,     -999.0,9,     -999.0,9,     -999.0,9,     -999.0,9,     -999.0,9,     -999.0,9,     -999.0,9
33RO20161119,        P18,       3,          1,          8,      11107,2,20161124,       2137,    22.7705,  -110.0000,       1250,   480.5,   7.7244,  34.5061,2,  34.5056,2,      3.7,2,     3.4,2,    62.3,2,    34.2,2,    0.01,2,   3.027,2,-999.0000,9,-999.0000,9,-999.0000,9,  -999.0,5,  2322.5,2,   7.3285,2,    25.00, -999.00,9,  -999.0,9,  -999.0,-999.0000,9, -999.00,9,  -999.0,9, -999.00,9, -999.00,9,     -999.0,9, -999.00,9,  -999.0,9,     -999.0,     -999.0,9,     -999.0,9,     -999.0,     -999.0,9,     -999.0,     -999.0,9,     -999.0,     -999.0,     -999.0,9,     -999.0,9,     -999.0,9,     -999.0,9,     -999.0,9,     -999.0,9,     -999.0,9,     -999.0,9
33RO20161119,        P18,       3,          1,          9,      11108,2,20161124,       2137,    22.7705,  -110.0000,       1250,   425.4,   8.4249,  34.5215,2,  34.5199,2,      4.1,2,     3.7,2,    55.2,2,    31.8,2,    0.01,2,   2.941,2,   0.2703,2,   0.1493,2,   0.0912,2,  2302.8,2,  2314.4,2,   7.3352,6,    25.00, -999.00,9,  -999.0,9,  -999.0,   0.0646,2, -999.00,9,  -999.0,9, -999.00,9, -999.00,9,     44.929,2, -999.00,9,  -999.0,9,     -999.0,     -999.0,9,     -999.0,9,     -999.0,     -999.0,9,     -999.0,     -999.0,9,     -999.0,     -999.0,     -999.0,9,     -999.0,9,     -999.0,9,     -999.0,9,     -999.0,9,     -999.0,9,     -999.0,9,     -999.0,9
33RO20161119,        P18,       3,          1,         10,      11109,2,20161124,       2137,    22.7705,  -110.0000,       1250,   374.8,   9.2289,  34.5502,2,  34.5491,2,      4.7,2,     4.1,2,    48.1,2,    29.2,2,    0.01,2,   2.850,2,-999.0000,9,-999.0000,9,-999.0000,9,  2293.1,2,  2312.0,2,   7.3437,2,    25.00, -999.00,9,  -999.0,9,  -999.0,-999.0000,9, -999.00,9,  -999.0,9, -999.00,9, -999.00,9,     -999.0,9, -999.00,9,  -999.0,9,     -999.0,     -999.0,9,     -999.0,9,     -999.0,     -999.0,9,     -999.0,     -999.0,9,     -999.0,     -999.0,     -999.0,9,     -999.0,9,     -999.0,9,     -999.0,9,     -999.0,9,     -999.0,9,     -999.0,9,     -999.0,9
33RO20161119,        P18,       3,          1,         11,      11110,2,20161124,       2137,    22.7705,  -110.0000,       1250,   334.8,   9.7600,  34.5707,2,  34.5697,2,      5.6,2,     5.1,2,    44.3,2,    27.8,2,    0.01,2,   2.801,2,   0.5417,2,   0.3032,2,   0.1244,2,  2289.6,2,  2308.4,2,   7.3509,2,    25.00, -999.00,9,  -999.0,9,  -999.0,   0.0689,2, -999.00,9,  -999.0,9, -999.00,9, -999.00,9,    33.3377,2, -999.00,9,  -999.0,9,     -999.0,     -999.0,9,     -999.0,9,     -999.0,     -999.0,9,     -999.0,     -999.0,9,     -999.0,     -999.0,     -999.0,9,     -999.0,9,     -999.0,9,     -999.0,9,     -999.0,9,     -999.0,9,     -999.0,9,     -999.0,9
33RO20161119,        P18,       3,          1,         12,      11111,2,20161124,       2137,    22.7705,  -110.0000,       1250,   294.7,  10.1302,  34.5361,2,  34.5389,2,     13.7,2,    10.6,2,    39.7,2,    27.0,2,    0.02,2,   2.701,2,-999.0000,9,-999.0000,9,-999.0000,9,  2278.1,2,  2304.5,2,   7.3648,2,    25.00, -999.00,9,  -999.0,9,  -999.0,-999.0000,9, -999.00,9,  -999.0,9, -999.00,9, -999.00,9,     -999.0,9, -999.00,9,  -999.0,9,     -999.0,     -999.0,9,     -999.0,9,     -999.0,     -999.0,9,     -999.0,     -999.0,9,     -999.0,     -999.0,     -999.0,9,     -999.0,9,     -999.0,9,     -999.0,9,     -999.0,9,     -999.0,9,     -999.0,9,     -999.0,9
33RO20161119,        P18,       3,          1,         13,      11112,2,20161124,       2137,    22.7705,  -110.0000,       1250,   250.3,  11.5434,  34.6613,2,  34.6477,2,      7.9,2,     8.5,6,    36.0,2,    24.8,2,    0.02,2,   2.683,2,   0.9720,2,   0.5554,2,   0.3023,2,  2274.7,2,  2305.2,2,   7.3837,2,    25.00, -999.00,9,  -999.0,9,  -999.0,   0.0969,2, -999.00,9,  -999.0,9, -999.00,9, -999.00,9,    30.2553,2, -999.00,9,  -999.0,9,     -999.0,     -999.0,9,     -999.0,9,     -999.0,     -999.0,9,     -999.0,     -999.0,9,     -999.0,     -999.0,     -999.0,9,     -999.0,9,     -999.0,9,     -999.0,9,     -999.0,9,     -999.0,9,     -999.0,9,     -999.0,9
33RO20161119,        P18,       3,          1,         14,      11113,2,20161124,       2137,    22.7705,  -110.0000,       1250,   215.0,  11.8947,  34.6570,2,-999.0000,9,     11.8,2,  -999.0,9,  -999.0,9,  -999.0,9, -999.00,9,-999.000,9,-999.0000,9,-999.0000,9,-999.0000,9,  -999.0,9,  -999.0,9,-999.0000,9,  -999.00, -999.00,9,  -999.0,9,  -999.0,-999.0000,9, -999.00,9,  -999.0,9, -999.00,9, -999.00,9,     -999.0,9, -999.00,9,  -999.0,9,     -999.0,     -999.0,9,     -999.0,9,     -999.0,     -999.0,9,     -999.0,     -999.0,9,     -999.0,     -999.0,     -999.0,9,     -999.0,9,     -999.0,9,     -999.0,9,     -999.0,9,     -999.0,9,     -999.0,9,     -999.0,9
33RO20161119,        P18,       3,          1,         15,      11114,2,20161124,       2137,    22.7705,  -110.0000,       1250,   184.8,  12.4058,  34.6652,2,  34.6654,2,     14.0,2,    13.2,2,    33.9,2,    24.1,2,    0.02,2,   2.638,2,   1.2229,2,   0.7128,2,   0.4990,2,  2271.3,2,  2293.1,2,   7.4057,2,    25.00, -999.00,9,  -999.0,9,  -999.0,   0.1222,2, -999.00,9,  -999.0,9, -999.00,9, -999.00,9,    34.5542,2, -999.00,9,  -999.0,9,     -999.0,     -999.0,9,     -999.0,9,     -999.0,     -999.0,9,     -999.0,     -999.0,9,     -999.0,     -999.0,     -999.0,9,     -999.0,9,     -999.0,9,     -999.0,9,     -999.0,9,     -999.0,9,     -999.0,9,     -999.0,9
33RO20161119,        P18,       3,          1,         16,      11115,2,20161124,       2137,    22.7705,  -110.0000,       1250,   154.9,  12.7374,  34.4032,2,  34.4034,2,     48.2,2,    42.4,2,    27.0,2,    22.8,2,    0.02,2,   2.331,2,-999.0000,9,-999.0000,9,-999.0000,9,  2237.3,2,  2285.2,2,   7.4482,2,    25.00, -999.00,9,  -999.0,9,  -999.0,-999.0000,9, -999.00,9,  -999.0,9, -999.00,9, -999.00,9,     -999.0,9, -999.00,9,  -999.0,9,     -999.0,     -999.0,9,     -999.0,9,     -999.0,     -999.0,9,     -999.0,     -999.0,9,     -999.0,     -999.0,     -999.0,9,     -999.0,9,     -999.0,9,     -999.0,9,     -999.0,9,     -999.0,9,     -999.0,9,     -999.0,9
33RO20161119,        P18,       3,          1,         17,      11116,2,20161124,       2137,    22.7705,  -110.0000,       1250,   125.5,  13.3289,  34.1268,2,  34.1321,2,     93.1,2,    78.3,2,    20.3,2,    19.2,2,    0.03,2,   1.956,2,   2.3473,6,   1.3607,6,   1.2383,6,  2195.6,2,  2263.0,2,   7.5218,2,    25.00, -999.00,9,  -999.0,9,  -999.0,    0.298,2, -999.00,9,  -999.0,9, -999.00,9, -999.00,9,    34.8221,2, -999.00,9,  -999.0,9,     -999.0,     -999.0,9,     -999.0,9,     -999.0,     -999.0,9,     -999.0,     -999.0,9,     -999.0,     -999.0,     -999.0,9,     -999.0,9,     -999.0,9,     -999.0,9,     -999.0,9,     -999.0,9,     -999.0,9,     -999.0,9
33RO20161119,        P18,       3,          1,         18,      11117,2,20161124,       2137,    22.7705,  -110.0000,       1250,   106.0,  13.7407,  33.8632,2,-999.0000,9,    135.8,2,  -999.0,9,  -999.0,9,  -999.0,9, -999.00,9,-999.000,9,-999.0000,9,-999.0000,9,-999.0000,9,  -999.0,9,  -999.0,9,-999.0000,9,  -999.00, -999.00,9,  -999.0,9,  -999.0,-999.0000,9, -999.00,9,  -999.0,9, -999.00,9, -999.00,9,     -999.0,9, -999.00,9,  -999.0,9,     -999.0,     -999.0,9,     -999.0,9,     -999.0,     -999.0,9,     -999.0,     -999.0,9,     -999.0,     -999.0,     -999.0,9,     -999.0,9,     -999.0,9,     -999.0,9,     -999.0,9,     -999.0,9,     -999.0,9,     -999.0,9
33RO20161119,        P18,       3,          1,         19,      11083,2,20161124,       2137,    22.7705,  -110.0000,       1250,    85.4,  16.2602,  33.6812,2,  33.6887,2,    229.1,2,   211.8,2,     4.7,2,     0.3,2,    0.10,2,   0.663,2,   2.5943,2,   1.5340,2,   1.8655,2,  2063.2,2,  2249.1,2,   7.8384,2,    25.00, -999.00,9,  -999.0,9,  -999.0,   0.9463,2, -999.00,9,  -999.0,9, -999.00,9, -999.00,9,    14.9643,2, -999.00,9,  -999.0,9,     -999.0,     -999.0,9,     -999.0,9,     -999.0,     -999.0,9,     -999.0,     -999.0,9,     -999.0,     -999.0,     -999.0,9,     -999.0,9,     -999.0,9,     -999.0,9,     -999.0,9,     -999.0,9,     -999.0,9,     -999.0,9
33RO20161119,        P18,       3,          1,         20,      11118,2,20161124,       2137,    22.7705,  -110.0000,       1250,    65.1,  18.5829,  33.3835,2,  33.3858,2,    256.9,2,   252.2,2,     1.9,2,     0.0,2,    0.02,2,   0.276,2,   2.5227,2,   1.4979,2,   2.0028,2,  2000.2,6,  2229.2,2,   7.9392,2,    25.00, -999.00,9,  -999.0,9,  -999.0,   1.7842,2, -999.00,9,  -999.0,9, -999.00,9, -999.00,9,      8.711,2, -999.00,9,  -999.0,9,     -999.0,     -999.0,9,     -999.0,9,     -999.0,     -999.0,9,     -999.0,     -999.0,9,     -999.0,     -999.0,     -999.0,9,     -999.0,9,     -999.0,9,     -999.0,9,     -999.0,9,     -999.0,9,     -999.0,9,     -999.0,9
33RO20161119,        P18,       3,          1,         21,      11119,2,20161124,       2137,    22.7705,  -110.0000,       1250,    40.4,  23.7220,  33.8364,2,  34.4625,4,    217.3,2,   199.1,2,     1.7,2,     0.0,2,    0.02,2,   0.281,2,   1.5642,2,   0.9781,2,   1.4541,2,  1989.5,2,  2287.4,2,   8.0462,6,    25.00, -999.00,9,  -999.0,9,  -999.0,   1.3729,2, -999.00,9,  -999.0,9, -999.00,9, -999.00,9,     6.7638,2, -999.00,9,  -999.0,9,     -999.0,     -999.0,9,     -999.0,9,     -999.0,     -999.0,9,     -999.0,     -999.0,9,     -999.0,     -999.0,     -999.0,9,     -999.0,9,     -999.0,9,     -999.0,9,     -999.0,9,     -999.0,9,     -999.0,9,     -999.0,9
33RO20161119,        P18,       3,          1,         22,      11120,2,20161124,       2137,    22.7705,  -110.0000,       1250,    20.3,  27.3301,  34.4815,2,  34.4862,2,    197.2,2,   198.1,2,     1.6,2,     0.0,2,    0.01,2,   0.279,2,   1.5528,2,   0.9728,2,   1.4072,2,  1986.4,2,  2289.4,6,   8.0479,2,    25.00, -999.00,9,  -999.0,9,  -999.0,   1.3544,2, -999.00,9,  -999.0,9, -999.00,9, -999.00,9,     6.6349,2, -999.00,9,  -999.0,9,     -999.0,     -999.0,9,     -999.0,9,     -999.0,     -999.0,9,     -999.0,     -999.0,9,     -999.0,     -999.0,     -999.0,9,     -999.0,9,     -999.0,9,     -999.0,9,     -999.0,9,     -999.0,9,     -999.0,9,     -999.0,9
33RO20161119,        P18,       3,          1,         23,      11121,2,20161124,       2137,    22.7705,  -110.0000,       1250,     3.0,  27.6040,  34.4895,2,-999.0000,9,    122.2,2,  -999.0,9,  -999.0,9,  -999.0,9, -999.00,9,-999.000,9,-999.0000,9,-999.0000,9,-999.0000,9,  -999.0,9,  -999.0,9,-999.0000,9,  -999.00, -999.00,9,  -999.0,9,  -999.0,-999.0000,9, -999.00,9,  -999.0,9, -999.00,9, -999.00,9,     -999.0,9, -999.00,9,  -999.0,9,     -999.0,     -999.0,9,     -999.0,9,     -999.0,     -999.0,9,     -999.0,     -999.0,9,     -999.0,     -999.0,     -999.0,9,     -999.0,9,     -999.0,9,     -999.0,9,     -999.0,9,     -999.0,9,     -999.0,9,     -999.0,9
33RO20161119,        P18,       3,          1,         24,      11122,2,20161124,       2137,    22.7705,  -110.0000,       1250,     3.1,  27.5713,  34.4933,2,-999.0000,9,    139.4,2,  -999.0,9,  -999.0,9,  -999.0,9, -999.00,9,-999.000,9,-999.0000,9,-999.0000,9,-999.0000,9,  -999.0,9,  -999.0,9,-999.0000,9,  -999.00, -999.00,9,  -999.0,9,  -999.0,-999.0000,9, -999.00,9,  -999.0,9, -999.00,9, -999.00,9,     -999.0,9, -999.00,9,  -999.0,9,     -999.0,     -999.0,9,     -999.0,9,     -999.0,     -999.0,9,     -999.0,     -999.0,9,     -999.0,     -999.0,     -999.0,9,     -999.0,9,     -999.0,9,     -999.0,9,     -999.0,9,     -999.0,9,     -999.0,9,     -999.0,9