BOTTLE,20230606CCHSIOCBG
EXPOCODE,SECT_ID,STNNBR,CASTNO,SAMPNO,BTLNBR,BTLNBR_FLAG_W,DATE,TIME,LATITUDE,LONGITUDE,DEPTH,CTDPRS,CTDTMP,CTDSAL,CTDSAL_FLAG_W,SALNTY,SALNTY_FLAG_W,CTDOXY,CTDOXY_FLAG_W,OXYGEN,OXYGEN_FLAG_W,SILCAT,SILCAT_FLAG_W,NITRAT,NITRAT_FLAG_W,NITRIT,NITRIT_FLAG_W,PHSPHT,PHSPHT_FLAG_W,CFC-11,CFC-11_FLAG_W,CFC-12,CFC-12_FLAG_W,SF6,SF6_FLAG_W,TCARBN,TCARBN_FLAG_W,ALKALI,ALKALI_FLAG_W,PH_SWS,PH_SWS_FLAG_W,PH_TMP,DELC13,DELC13_FLAG_W,DELC14,DELC14_FLAG_W,C14ERR,CCL4,CCL4_FLAG_W,POC,POC_FLAG_W,DOC,DOC_FLAG_W,TDN,TDN_FLAG_W,PON,PON_FLAG_W,N2O,N2O_FLAG_W,D15N_NO3,D15N_NO3_FLAG_W,14C-DOC,14C-DOC_FLAG_W,14C-DOCERR,13C-DOC,13C-DOC_FLAG_W,N2/ARGON_UNSTRIPPED,N2/ARGON_UNSTRIPPED_FLAG_W,N2/ARGON_UNSTRIPPED_ERROR,N2/ARGON,N2/ARGON_FLAG_W,N2/ARGON_ERROR,D15N_N2,D15N_N2_FLAG_W,D15N_N2_ERROR,D15N_NO3_ERROR,D15N_NO2+NO3,D15N_NO2+NO3_FLAG_W,D18O_NO2+NO3,D18O_NO2+NO3_FLAG_W,D18O_NO3,D18O_NO3_FLAG_W,TDP,TDP_FLAG_W,N2O_ALT_1,N2O_ALT_1_FLAG_W,D15N_N2O,D15N_N2O_FLAG_W,D18O_N2O,D18O_N2O_FLAG_W,D15N_ALPHA_N2O,D15N_ALPHA_N2O_FLAG_W
,,,,,,,,,,,METERS,DBAR,ITS-90,PSS-78,,PSS-78,,UMOL/KG,,UMOL/KG,,UMOL/KG,,UMOL/KG,,UMOL/KG,,UMOL/KG,,PMOL/KG,,PMOL/KG,,FMOL/KG,,UMOL/KG,,UMOL/KG,,,,DEG C,/MILLE,,/MILLE,,/MILLE,PMOL/KG,,UG/KG,,UMOL/KG,,UMOL/KG,,UG/KG,,NMOL/KG,,/MILLE,,/MILLE,,/MILLE,/MILLE,,,,,,,,/MILLE,,/MILLE,/MILLE,/MILLE,,/MILLE,,/MILLE,,UMOL/KG,,NMOL/L,,/MILLE,,/MILLE,,/MILLE,
33RO20161119,        P18,     131,          1,          1,      11010,2,20170105,       0006,   -31.5000,  -103.0000,       3531,  3569.5,   1.8001,  34.6903,2,  34.6927,2,    166.3,2,   166.3,2,   116.6,6,    34.6,6,    0.00,6,   2.363,6,-999.0000,9,-999.0000,9,-999.0000,9,  2296.1,6,  2393.4,2,   7.5855,2,    25.00, -999.00,9,  -999.0,9,  -999.0,-999.0000,9, -999.00,9,    36.2,2,   35.40,2, -999.00,9,     -999.0,9, -999.00,9,  -999.0,9,     -999.0,     -999.0,9,     -999.0,9,     -999.0,     -999.0,9,     -999.0,     -999.0,9,     -999.0,     -999.0,     -999.0,9,     -999.0,9,     -999.0,9,     -999.0,9,     -999.0,9,     -999.0,9,     -999.0,9,     -999.0,9
33RO20161119,        P18,     131,          1,          2,      11101,2,20170105,       0006,   -31.5000,  -103.0000,       3531,  3216.6,   1.7742,  34.6892,2,  34.6896,2,    166.5,2,   165.7,2,   116.7,6,    34.7,6,    0.00,6,   2.364,6,-999.0000,9,-999.0000,9,-999.0000,9,  2293.6,2,  2391.6,2,   7.5816,6,    25.00, -999.00,9,  -999.0,9,  -999.0,-999.0000,9, -999.00,9,    36.0,2,   35.90,2, -999.00,9,     -999.0,9, -999.00,9,  -999.0,9,     -999.0,     -999.0,9,     -999.0,9,     -999.0,     -999.0,9,     -999.0,     -999.0,9,     -999.0,     -999.0,     -999.0,9,     -999.0,9,     -999.0,9,     -999.0,9,     -999.0,9,     -999.0,9,     -999.0,9,     -999.0,9
33RO20161119,        P18,     131,          1,          3,      11102,2,20170105,       0006,   -31.5000,  -103.0000,       3531,  2865.3,   1.7639,  34.6861,2,  34.6852,2,    165.3,2,   165.3,2,   116.6,6,    34.7,6,    0.00,6,   2.363,6,-999.0000,9,-999.0000,9,-999.0000,9,  2292.8,2,  2389.5,6,   7.5819,2,    25.00, -999.00,9,  -999.0,9,  -999.0,-999.0000,9, -999.00,9,    39.2,2,   36.80,2, -999.00,9,     -999.0,9, -999.00,9,  -999.0,9,     -999.0,     -999.0,9,     -999.0,9,     -999.0,     -999.0,9,     -999.0,     -999.0,9,     -999.0,     -999.0,     -999.0,9,     -999.0,9,     -999.0,9,     -999.0,9,     -999.0,9,     -999.0,9,     -999.0,9,     -999.0,9
33RO20161119,        P18,     131,          1,          4,      11103,2,20170105,       0006,   -31.5000,  -103.0000,       3531,  2609.9,   1.7808,  34.6804,2,  34.6787,2,    163.6,2,   163.9,6,   115.9,6,    34.8,6,    0.00,6,   2.371,6,-999.0000,9,-999.0000,9,-999.0000,9,  2293.5,2,  2385.6,2,   7.5777,2,    25.00, -999.00,9,  -999.0,9,  -999.0,-999.0000,9, -999.00,9,    39.5,2,   36.90,2, -999.00,9,     -999.0,9, -999.00,9,  -999.0,9,     -999.0,     -999.0,9,     -999.0,9,     -999.0,     -999.0,9,     -999.0,     -999.0,9,     -999.0,     -999.0,     -999.0,9,     -999.0,9,     -999.0,9,     -999.0,9,     -999.0,9,     -999.0,9,     -999.0,9,     -999.0,9
33RO20161119,        P18,     131,          1,          5,      11104,2,20170105,       0006,   -31.5000,  -103.0000,       3531,  2324.0,   1.8886,  34.6679,2,  34.6705,2,    160.5,2,   160.6,2,   112.3,2,    35.0,2,    0.00,2,   2.387,2,-999.0000,9,-999.0000,9,-999.0000,9,  2292.4,2,  2382.0,2,   7.5700,2,    25.00, -999.00,9,  -999.0,9,  -999.0,-999.0000,9, -999.00,9,    39.0,2,   36.10,2, -999.00,9,     -999.0,9, -999.00,9,  -999.0,9,     -999.0,     -999.0,9,     -999.0,9,     -999.0,     -999.0,9,     -999.0,     -999.0,9,     -999.0,     -999.0,     -999.0,9,     -999.0,9,     -999.0,9,     -999.0,9,     -999.0,9,     -999.0,9,     -999.0,9,     -999.0,9
33RO20161119,        P18,     131,          1,          6,      11105,2,20170105,       0006,   -31.5000,  -103.0000,       3531,  2055.1,   2.1083,  34.6415,2,  34.6491,4,    156.3,2,   156.4,2,   105.0,2,    35.3,2,    0.00,2,   2.395,2,-999.0000,9,-999.0000,9,-999.0000,9,  2288.7,2,  2377.4,2,   7.5609,2,    25.00, -999.00,9,  -999.0,9,  -999.0,-999.0000,9, -999.00,9,    35.9,2,   37.60,2, -999.00,9,     -999.0,9, -999.00,9,  -999.0,9,     -999.0,     -999.0,9,     -999.0,9,     -999.0,     -999.0,9,     -999.0,     -999.0,9,     -999.0,     -999.0,     -999.0,9,     -999.0,9,     -999.0,9,     -999.0,9,     -999.0,9,     -999.0,9,     -999.0,9,     -999.0,9
33RO20161119,        P18,     131,          1,          7,      11106,2,20170105,       0006,   -31.5000,  -103.0000,       3531,  1794.6,   2.4273,  34.5999,2,  34.5986,2,    146.7,2,   147.0,2,    97.4,2,    36.3,2,    0.00,2,   2.468,2,-999.0000,9,-999.0000,9,-999.0000,9,  2287.5,2,  2383.4,3,   7.5430,2,    25.00, -999.00,9,  -999.0,9,  -999.0,-999.0000,9, -999.00,9,    35.5,2,   39.40,2, -999.00,9,     -999.0,9, -999.00,9,  -999.0,9,     -999.0,     -999.0,9,     -999.0,9,     -999.0,     -999.0,9,     -999.0,     -999.0,9,     -999.0,     -999.0,     -999.0,9,     -999.0,9,     -999.0,9,     -999.0,9,     -999.0,9,     -999.0,9,     -999.0,9,     -999.0,9
33RO20161119,        P18,     131,          1,          8,      11107,2,20170105,       0006,   -31.5000,  -103.0000,       3531,  1531.1,   2.9043,  34.5535,2,  34.5532,2,    131.1,2,   130.5,2,    88.3,2,    37.8,2,    0.00,2,   2.593,2,-999.0000,9,-999.0000,9,-999.0000,9,  2286.1,2,  2356.2,2,   7.5128,2,    25.00, -999.00,9,  -999.0,9,  -999.0,-999.0000,9, -999.00,9,    36.6,2,   41.70,2, -999.00,9,     -999.0,9, -999.00,9,  -999.0,9,     -999.0,     -999.0,9,     -999.0,9,     -999.0,     -999.0,9,     -999.0,     -999.0,9,     -999.0,     -999.0,     -999.0,9,     -999.0,9,     -999.0,9,     -999.0,9,     -999.0,9,     -999.0,9,     -999.0,9,     -999.0,9
33RO20161119,        P18,     131,          1,          9,      11108,2,20170105,       0006,   -31.5000,  -103.0000,       3531,  1290.0,   3.4280,  34.4878,2,  34.4882,2,    126.3,2,   125.8,2,    72.4,2,    38.4,2,    0.01,2,   2.621,2,   0.0119,6,   0.0077,6,   0.0110,6,  2276.1,2,  2337.1,6,   7.4991,2,    25.00, -999.00,9,  -999.0,9,  -999.0,   2.4612,2, -999.00,9,    38.9,2,   40.90,2, -999.00,9,    28.6424,2, -999.00,9,  -999.0,9,     -999.0,     -999.0,9,     -999.0,9,     -999.0,     -999.0,9,     -999.0,     -999.0,9,     -999.0,     -999.0,     -999.0,9,     -999.0,9,     -999.0,9,     -999.0,9,     -999.0,9,     -999.0,9,     -999.0,9,     -999.0,9
33RO20161119,        P18,     131,          1,         10,      11109,2,20170105,       0006,   -31.5000,  -103.0000,       3531,  1130.5,   3.7497,  34.3987,2,  34.3999,2,    148.1,2,   147.7,2,    52.8,2,    36.8,2,    0.00,2,   2.499,2,-999.0000,9,-999.0000,9,-999.0000,9,  2246.3,2,  2313.8,2,   7.5217,2,    25.00, -999.00,9,  -999.0,9,  -999.0,-999.0000,9, -999.00,9,    39.2,2,   39.10,2, -999.00,9,     -999.0,9, -999.00,9,  -999.0,9,     -999.0,     -999.0,9,     -999.0,9,     -999.0,     -999.0,9,     -999.0,     -999.0,9,     -999.0,     -999.0,     -999.0,9,     -999.0,9,     -999.0,9,     -999.0,9,     -999.0,9,     -999.0,9,     -999.0,9,     -999.0,9
33RO20161119,        P18,     131,          1,         11,      11110,2,20170105,       0006,   -31.5000,  -103.0000,       3531,   987.9,   4.2867,  34.3119,2,  34.3123,2,    185.5,2,   185.8,2,    32.2,2,    33.1,2,    0.00,2,   2.237,2,   0.9481,2,   0.4559,2,   0.1223,2,  2206.5,2,  2291.7,2,   7.5791,2,    25.00, -999.00,9,  -999.0,9,  -999.0,   2.5073,2, -999.00,9,    39.0,2,   35.30,2, -999.00,9,    22.9676,2, -999.00,9,  -999.0,9,     -999.0,     -999.0,9,     -999.0,9,     -999.0,     -999.0,9,     -999.0,     -999.0,9,     -999.0,     -999.0,     -999.0,9,     -999.0,9,     -999.0,9,     -999.0,9,     -999.0,9,     -999.0,9,     -999.0,9,     -999.0,9
33RO20161119,        P18,     131,          1,         12,      11111,2,20170105,       0006,   -31.5000,  -103.0000,       3531,   895.0,   4.7505,  34.2728,2,  34.2741,2,    210.5,2,   209.5,2,    22.0,2,    30.5,2,    0.00,2,   2.050,2,   1.9480,2,   0.9488,2,   0.3162,2,  2182.6,2,  2284.3,2,   7.6200,6,    25.00, -999.00,9,  -999.0,9,  -999.0,   1.7634,2, -999.00,9,    40.6,2,   33.90,2, -999.00,9,    19.5618,2, -999.00,9,  -999.0,9,     -999.0,     -999.0,9,     -999.0,9,     -999.0,     -999.0,9,     -999.0,     -999.0,9,     -999.0,     -999.0,     -999.0,9,     -999.0,9,     -999.0,9,     -999.0,9,     -999.0,9,     -999.0,9,     -999.0,9,     -999.0,9
33RO20161119,        P18,     131,          1,         13,      11112,2,20170105,       0006,   -31.5000,  -103.0000,       3531,   785.2,   5.2578,  34.2571,2,  34.2564,2,    229.5,2,   229.7,2,    14.4,2,    27.7,2,    0.00,2,   1.848,2,   2.9142,2,   1.4579,2,   0.5710,2,  2164.1,2,  2277.7,2,   7.6563,2,    25.00, -999.00,9,  -999.0,9,  -999.0,   0.8716,2, -999.00,9,    42.1,2,   30.10,2, -999.00,9,    17.0006,2, -999.00,9,  -999.0,9,     -999.0,     -999.0,9,     -999.0,9,     -999.0,     -999.0,9,     -999.0,     -999.0,9,     -999.0,     -999.0,     -999.0,9,     -999.0,9,     -999.0,9,     -999.0,9,     -999.0,9,     -999.0,9,     -999.0,9,     -999.0,9
33RO20161119,        P18,     131,          1,         14,      11113,2,20170105,       0006,   -31.5000,  -103.0000,       3531,   670.0,   5.7656,  34.2660,2,  34.2651,2,    240.2,2,   240.8,2,    10.2,2,    25.6,2,    0.00,2,   1.708,2,   3.6956,2,   1.8894,2,   0.8720,2,  2154.4,2,  2275.6,2,   7.6777,2,    25.00, -999.00,9,  -999.0,9,  -999.0,   0.9161,2, -999.00,9,    41.7,2,   27.70,2, -999.00,9,    16.4961,2, -999.00,9,  -999.0,9,     -999.0,     -999.0,9,     -999.0,9,     -999.0,     -999.0,9,     -999.0,     -999.0,9,     -999.0,     -999.0,     -999.0,9,     -999.0,9,     -999.0,9,     -999.0,9,     -999.0,9,     -999.0,9,     -999.0,9,     -999.0,9
33RO20161119,        P18,     131,          1,         15,      11114,2,20170105,       0006,   -31.5000,  -103.0000,       3531,   570.2,   6.2492,  34.2894,2,  34.2872,2,    242.7,2,   242.5,2,     8.3,2,    24.3,2,    0.01,2,   1.636,2,   3.9705,2,   2.0744,2,   1.1645,2,  2151.2,2,  2274.9,2,   7.6840,2,    25.00, -999.00,9,  -999.0,9,  -999.0,   2.0773,2, -999.00,9,    45.4,2,   27.80,2, -999.00,9,     17.434,2, -999.00,9,  -999.0,9,     -999.0,     -999.0,9,     -999.0,9,     -999.0,     -999.0,9,     -999.0,     -999.0,9,     -999.0,     -999.0,     -999.0,9,     -999.0,9,     -999.0,9,     -999.0,9,     -999.0,9,     -999.0,9,     -999.0,9,     -999.0,9
33RO20161119,        P18,     131,          1,         16,      11115,2,20170105,       0006,   -31.5000,  -103.0000,       3531,   475.1,   6.7888,  34.3036,2,  34.3025,2,    242.7,2,   242.3,2,     6.5,2,    22.7,2,    0.00,2,   1.539,2,   4.0069,2,   2.1571,2,   1.4289,2,  2147.2,2,  2272.9,2,   7.6885,2,    25.00, -999.00,9,  -999.0,9,  -999.0,   1.9685,2, -999.00,9,    43.7,2,   24.70,2, -999.00,9,    19.4867,2, -999.00,9,  -999.0,9,     -999.0,     -999.0,9,     -999.0,9,     -999.0,     -999.0,9,     -999.0,     -999.0,9,     -999.0,     -999.0,     -999.0,9,     -999.0,9,     -999.0,9,     -999.0,9,     -999.0,9,     -999.0,9,     -999.0,9,     -999.0,9
33RO20161119,        P18,     131,          1,         17,      11116,2,20170105,       0006,   -31.5000,  -103.0000,       3531,   385.4,   7.7715,  34.2516,2,  34.2523,2,    225.9,2,   225.4,2,     4.9,2,    21.8,2,    0.01,2,   1.514,2,   3.8473,2,   2.0890,2,   1.5172,2,  2145.5,2,  2267.2,2,   7.6829,2,    25.00, -999.00,9,  -999.0,9,  -999.0,   2.0835,2, -999.00,9,    44.1,2,   24.00,2, -999.00,9,      25.58,2, -999.00,9,  -999.0,9,     -999.0,     -999.0,9,     -999.0,9,     -999.0,     -999.0,9,     -999.0,     -999.0,9,     -999.0,     -999.0,     -999.0,9,     -999.0,9,     -999.0,9,     -999.0,9,     -999.0,9,     -999.0,9,     -999.0,9,     -999.0,9
33RO20161119,        P18,     131,          1,         18,      11117,2,20170105,       0006,   -31.5000,  -103.0000,       3531,   299.7,  10.5780,  34.2980,2,  34.2966,2,    220.4,2,   219.7,2,     1.6,2,    15.1,2,    0.01,2,   1.112,2,   3.3768,2,   1.9411,2,   1.6585,2,  2115.7,2,  2267.4,2,   7.7550,2,    25.00, -999.00,9,  -999.0,9,  -999.0,   2.0292,2, -999.00,9,    45.4,2,   17.10,2, -999.00,9,    20.5907,2, -999.00,9,  -999.0,9,     -999.0,     -999.0,9,     -999.0,9,     -999.0,     -999.0,9,     -999.0,     -999.0,9,     -999.0,     -999.0,     -999.0,9,     -999.0,9,     -999.0,9,     -999.0,9,     -999.0,9,     -999.0,9,     -999.0,9,     -999.0,9
33RO20161119,        P18,     131,          1,         19,      11083,2,20170105,       0006,   -31.5000,  -103.0000,       3531,   220.6,  13.9271,  34.5836,2,  34.5636,2,    217.6,2,   215.9,2,     0.7,2,     7.2,2,    0.02,2,   0.635,2,   2.8571,2,   1.6887,2,   1.7439,2,  2087.5,6,  2277.2,2,   7.8390,2,    25.00, -999.00,9,  -999.0,9,  -999.0,        0,2, -999.00,9,    50.5,2,    8.60,2, -999.00,9,    12.5288,2, -999.00,9,  -999.0,9,     -999.0,     -999.0,9,     -999.0,9,     -999.0,     -999.0,9,     -999.0,     -999.0,9,     -999.0,     -999.0,     -999.0,9,     -999.0,9,     -999.0,9,       0.73,2,     -999.0,9,     -999.0,9,     -999.0,9,     -999.0,9
33RO20161119,        P18,     131,          1,         20,      11118,2,20170105,       0006,   -31.5000,  -103.0000,       3531,   155.1,  16.4910,  34.7592,2,  34.7835,2,    235.9,2,   235.7,6,     0.3,2,     0.3,2,    0.06,2,   0.204,2,   2.5240,2,   1.5384,2,   1.9229,2,  2052.5,2,  2289.8,2,   7.9394,2,    25.00, -999.00,9,  -999.0,9,  -999.0,   0.0078,2, -999.00,9,    60.5,2,    3.60,2, -999.00,9,     8.4924,2, -999.00,9,  -999.0,9,     -999.0,     -999.0,9,     -999.0,9,     -999.0,     -999.0,9,     -999.0,     -999.0,9,     -999.0,     -999.0,     -999.0,9,     -999.0,9,     -999.0,9,       0.38,2,     -999.0,9,     -999.0,9,     -999.0,9,     -999.0,9
33RO20161119,        P18,     131,          1,         21,      11119,2,20170105,       0006,   -31.5000,  -103.0000,       3531,    95.1,  17.3019,  34.8333,2,  34.8374,2,    243.6,2,   244.7,2,     0.4,2,     0.2,2,    0.01,2,   0.148,2,   2.3686,2,   1.4397,2,   1.8102,2,  2043.1,2,  2292.5,2,   7.9596,2,    25.00, -999.00,9,  -999.0,9,  -999.0,        0,2, -999.00,9,    64.5,2,    2.30,2, -999.00,9,     8.0425,2, -999.00,9,  -999.0,9,     -999.0,     -999.0,9,     -999.0,9,     -999.0,     -999.0,9,     -999.0,     -999.0,9,     -999.0,     -999.0,     -999.0,9,     -999.0,9,     -999.0,9,       0.28,2,     -999.0,9,     -999.0,9,     -999.0,9,     -999.0,9
33RO20161119,        P18,     131,          1,         22,      11120,2,20170105,       0006,   -31.5000,  -103.0000,       3531,    50.3,  18.8177,  34.8750,2,  34.8495,2,    244.2,2,   244.0,2,     0.4,2,     0.2,2,    0.00,2,   0.147,2,   2.3378,2,   1.4277,2,   1.7720,2,  2042.1,2,  2291.5,2,   7.9611,2,    25.00, -999.00,9,  -999.0,9,  -999.0,   0.0078,2, -999.00,9,    62.5,2,    2.30,2, -999.00,9,     7.9767,2, -999.00,9,  -999.0,9,     -999.0,     -999.0,9,     -999.0,9,     -999.0,     -999.0,9,     -999.0,     -999.0,9,     -999.0,     -999.0,     -999.0,9,     -999.0,9,     -999.0,9,       0.33,2,     -999.0,9,     -999.0,9,     -999.0,9,     -999.0,9
33RO20161119,        P18,     131,          1,         23,      11121,2,20170105,       0006,   -31.5000,  -103.0000,       3531,    20.3,  21.7092,  34.8526,2,  34.8531,2,    221.6,2,   222.9,2,     0.3,2,     0.2,2,    0.00,2,   0.165,2,-999.0000,9,-999.0000,9,-999.0000,9,  2043.4,2,  2294.6,6,   7.9601,2,    25.00, -999.00,9,  -999.0,9,  -999.0,-999.0000,9, -999.00,9,    65.4,2,    3.30,2, -999.00,9,     -999.0,9, -999.00,9,  -999.0,9,     -999.0,     -999.0,9,     -999.0,9,     -999.0,     -999.0,9,     -999.0,     -999.0,9,     -999.0,     -999.0,     -999.0,9,     -999.0,9,     -999.0,9,       0.28,2,     -999.0,9,     -999.0,9,     -999.0,9,     -999.0,9
33RO20161119,        P18,     131,          1,         24,      11122,2,20170105,       0006,   -31.5000,  -103.0000,       3531,     2.5,  22.3570,  34.8545,2,  34.8556,2,    218.5,2,   221.2,2,     0.3,2,     0.2,2,    0.00,2,   0.164,2,   1.9669,2,   1.2169,2,   1.6135,2,  2043.1,6,  2296.2,2,   7.9616,2,    25.00, -999.00,9,  -999.0,9,  -999.0,   0.0152,2, -999.00,9,    65.8,2,    2.70,2, -999.00,9,     7.0061,2, -999.00,9,  -999.0,9,     -999.0,     -999.0,9,     -999.0,9,     -999.0,     -999.0,9,     -999.0,     -999.0,9,     -999.0,     -999.0,     -999.0,9,     -999.0,9,     -999.0,9,       0.33,2,     -999.0,9,     -999.0,9,     -999.0,9,     -999.0,9