BOTTLE,20230606CCHSIOCBG
EXPOCODE,SECT_ID,STNNBR,CASTNO,SAMPNO,BTLNBR,BTLNBR_FLAG_W,DATE,TIME,LATITUDE,LONGITUDE,DEPTH,CTDPRS,CTDTMP,CTDSAL,CTDSAL_FLAG_W,SALNTY,SALNTY_FLAG_W,CTDOXY,CTDOXY_FLAG_W,OXYGEN,OXYGEN_FLAG_W,SILCAT,SILCAT_FLAG_W,NITRAT,NITRAT_FLAG_W,NITRIT,NITRIT_FLAG_W,PHSPHT,PHSPHT_FLAG_W,CFC-11,CFC-11_FLAG_W,CFC-12,CFC-12_FLAG_W,SF6,SF6_FLAG_W,TCARBN,TCARBN_FLAG_W,ALKALI,ALKALI_FLAG_W,PH_SWS,PH_SWS_FLAG_W,PH_TMP,DELC13,DELC13_FLAG_W,DELC14,DELC14_FLAG_W,C14ERR,CCL4,CCL4_FLAG_W,POC,POC_FLAG_W,DOC,DOC_FLAG_W,TDN,TDN_FLAG_W,PON,PON_FLAG_W,N2O,N2O_FLAG_W,D15N_NO3,D15N_NO3_FLAG_W,14C-DOC,14C-DOC_FLAG_W,14C-DOCERR,13C-DOC,13C-DOC_FLAG_W,N2/ARGON_UNSTRIPPED,N2/ARGON_UNSTRIPPED_FLAG_W,N2/ARGON_UNSTRIPPED_ERROR,N2/ARGON,N2/ARGON_FLAG_W,N2/ARGON_ERROR,D15N_N2,D15N_N2_FLAG_W,D15N_N2_ERROR,D15N_NO3_ERROR,D15N_NO2+NO3,D15N_NO2+NO3_FLAG_W,D18O_NO2+NO3,D18O_NO2+NO3_FLAG_W,D18O_NO3,D18O_NO3_FLAG_W,TDP,TDP_FLAG_W,N2O_ALT_1,N2O_ALT_1_FLAG_W,D15N_N2O,D15N_N2O_FLAG_W,D18O_N2O,D18O_N2O_FLAG_W,D15N_ALPHA_N2O,D15N_ALPHA_N2O_FLAG_W
,,,,,,,,,,,METERS,DBAR,ITS-90,PSS-78,,PSS-78,,UMOL/KG,,UMOL/KG,,UMOL/KG,,UMOL/KG,,UMOL/KG,,UMOL/KG,,PMOL/KG,,PMOL/KG,,FMOL/KG,,UMOL/KG,,UMOL/KG,,,,DEG C,/MILLE,,/MILLE,,/MILLE,PMOL/KG,,UG/KG,,UMOL/KG,,UMOL/KG,,UG/KG,,NMOL/KG,,/MILLE,,/MILLE,,/MILLE,/MILLE,,,,,,,,/MILLE,,/MILLE,/MILLE,/MILLE,,/MILLE,,/MILLE,,UMOL/KG,,NMOL/L,,/MILLE,,/MILLE,,/MILLE,
33RO20161119,        P18,     121,          1,          1,      11010,2,20170102,       0945,   -26.5001,  -101.4997,       3467,  3503.7,   1.8940,  34.6770,2,  34.6835,4,    162.8,2,   162.4,2,   118.4,6,    34.6,6,    0.00,6,   2.422,6,   0.0050,2,   0.0033,2,   0.0284,2,  2300.2,6,  2394.4,6,   7.5815,2,    25.00, -999.00,9,  -999.0,9,  -999.0,   1.6318,2, -999.00,9,    35.4,2,   36.50,2, -999.00,9,    20.1082,2, -999.00,9,  -999.0,9,     -999.0,     -999.0,9,     -999.0,9,     -999.0,     -999.0,9,     -999.0,     -999.0,9,     -999.0,     -999.0,     -999.0,9,     -999.0,9,     -999.0,9,     -999.0,9,     -999.0,9,     -999.0,9,     -999.0,9,     -999.0,9
33RO20161119,        P18,     121,          1,          2,      11101,2,20170102,       0945,   -26.5001,  -101.4997,       3467,  3323.4,   1.8839,  34.6756,2,  34.6757,2,    162.0,2,   160.3,2,   118.7,6,    34.7,6,    0.00,6,   2.433,6,-999.0000,9,-999.0000,9,-999.0000,9,  2300.2,2,  2393.0,2,   7.5810,2,    25.00, -999.00,9,  -999.0,9,  -999.0,-999.0000,9, -999.00,9,    36.5,2,   38.70,2, -999.00,9,     -999.0,9, -999.00,9,  -999.0,9,     -999.0,     -999.0,9,     -999.0,9,     -999.0,     -999.0,9,     -999.0,     -999.0,9,     -999.0,     -999.0,     -999.0,9,     -999.0,9,     -999.0,9,     -999.0,9,     -999.0,9,     -999.0,9,     -999.0,9,     -999.0,9
33RO20161119,        P18,     121,          1,          3,      11102,2,20170102,       0945,   -26.5001,  -101.4997,       3467,  3140.8,   1.8741,  34.6741,2,  34.6741,2,    161.0,2,   161.0,2,   119.0,6,    34.8,6,    0.00,6,   2.435,6,-999.0000,9,-999.0000,9,-999.0000,9,  2300.2,2,  2395.5,2,   7.5773,2,    25.00, -999.00,9,  -999.0,9,  -999.0,-999.0000,9, -999.00,9,    36.8,2,   37.70,2, -999.00,9,     -999.0,9, -999.00,9,  -999.0,9,     -999.0,     -999.0,9,     -999.0,9,     -999.0,     -999.0,9,     -999.0,     -999.0,9,     -999.0,     -999.0,     -999.0,9,     -999.0,9,     -999.0,9,     -999.0,9,     -999.0,9,     -999.0,9,     -999.0,9,     -999.0,9
33RO20161119,        P18,     121,          1,          4,      11103,2,20170102,       0945,   -26.5001,  -101.4997,       3467,  2864.6,   1.8691,  34.6702,2,  34.6704,2,    159.5,2,   158.3,2,   119.3,6,    34.9,6,    0.00,6,   2.433,6,-999.0000,9,-999.0000,9,-999.0000,9,  2300.9,2,  2395.9,2,   7.5759,2,    25.00, -999.00,9,  -999.0,9,  -999.0,-999.0000,9, -999.00,9,    37.6,2,   37.40,2, -999.00,9,     -999.0,9, -999.00,9,  -999.0,9,     -999.0,     -999.0,9,     -999.0,9,     -999.0,     -999.0,9,     -999.0,     -999.0,9,     -999.0,     -999.0,     -999.0,9,     -999.0,9,     -999.0,9,     -999.0,9,     -999.0,9,     -999.0,9,     -999.0,9,     -999.0,9
33RO20161119,        P18,     121,          1,          5,      11104,2,20170102,       0945,   -26.5001,  -101.4997,       3467,  2589.9,   1.8757,  34.6651,2,  34.6654,2,    158.2,2,   157.6,2,   118.6,2,    34.9,2,    0.00,2,   2.426,2,-999.0000,9,-999.0000,9,-999.0000,9,  2301.3,2,  2394.2,2,   7.5758,2,    25.00, -999.00,9,  -999.0,9,  -999.0,-999.0000,9, -999.00,9,    34.8,2,   39.80,2, -999.00,9,     -999.0,9, -999.00,9,  -999.0,9,     -999.0,     -999.0,9,     -999.0,9,     -999.0,     -999.0,9,     -999.0,     -999.0,9,     -999.0,     -999.0,     -999.0,9,     -999.0,9,     -999.0,9,     -999.0,9,     -999.0,9,     -999.0,9,     -999.0,9,     -999.0,9
33RO20161119,        P18,     121,          1,          6,      11105,2,20170102,       0945,   -26.5001,  -101.4997,       3467,  2310.2,   1.9159,  34.6573,2,  34.6643,4,    156.4,2,   156.3,6,   117.1,2,    35.1,2,    0.01,2,   2.448,2,-999.0000,9,-999.0000,9,-999.0000,9,  2299.0,2,  2391.4,2,   7.5704,2,    25.00, -999.00,9,  -999.0,9,  -999.0,-999.0000,9, -999.00,9,    36.8,2,   36.70,2, -999.00,9,     -999.0,9, -999.00,9,  -999.0,9,     -999.0,     -999.0,9,     -999.0,9,     -999.0,     -999.0,9,     -999.0,     -999.0,9,     -999.0,     -999.0,     -999.0,9,     -999.0,9,     -999.0,9,     -999.0,9,     -999.0,9,     -999.0,9,     -999.0,9,     -999.0,9
33RO20161119,        P18,     121,          1,          7,      11106,2,20170102,       0945,   -26.5001,  -101.4997,       3467,  2049.9,   2.0452,  34.6425,2,  34.6438,2,    153.7,2,   153.0,2,   112.5,2,    35.4,2,    0.00,2,   2.472,2,-999.0000,9,-999.0000,9,-999.0000,9,  2297.7,2,  2386.7,2,   7.5632,2,    25.00, -999.00,9,  -999.0,9,  -999.0,-999.0000,9, -999.00,9,    36.7,2,   39.00,2, -999.00,9,     -999.0,9, -999.00,9,  -999.0,9,     -999.0,     -999.0,9,     -999.0,9,     -999.0,     -999.0,9,     -999.0,     -999.0,9,     -999.0,     -999.0,     -999.0,9,     -999.0,9,     -999.0,9,     -999.0,9,     -999.0,9,     -999.0,9,     -999.0,9,     -999.0,9
33RO20161119,        P18,     121,          1,          8,      11107,2,20170102,       0945,   -26.5001,  -101.4997,       3467,  1749.7,   2.3348,  34.6092,2,  34.6106,2,    149.6,2,   147.9,2,   103.2,2,    35.7,2,    0.01,2,   2.504,2,   0.0043,6,   0.0024,6,   0.0000,6,  2291.0,2,  2375.9,2,   7.5504,2,    25.00, -999.00,9,  -999.0,9,  -999.0,   0.7377,2, -999.00,9,    38.4,2,   39.00,2, -999.00,9,    22.4245,2, -999.00,9,  -999.0,9,     -999.0,     -999.0,9,     -999.0,9,     -999.0,     -999.0,9,     -999.0,     -999.0,9,     -999.0,     -999.0,     -999.0,9,     -999.0,9,     -999.0,9,     -999.0,9,     -999.0,9,     -999.0,9,     -999.0,9,     -999.0,9
33RO20161119,        P18,     121,          1,          9,      11108,2,20170102,       0945,   -26.5001,  -101.4997,       3467,  1434.8,   2.9339,  34.5530,2,  34.5536,2,    139.9,2,   138.8,2,    88.3,2,    36.5,2,    0.00,2,   2.569,2,-999.0000,9,-999.0000,9,-999.0000,9,  2281.5,2,  2357.5,2,   7.5335,2,    25.00, -999.00,9,  -999.0,9,  -999.0,-999.0000,9, -999.00,9,    38.2,2,   38.20,2, -999.00,9,     -999.0,9, -999.00,9,  -999.0,9,     -999.0,     -999.0,9,     -999.0,9,     -999.0,     -999.0,9,     -999.0,     -999.0,9,     -999.0,     -999.0,     -999.0,9,     -999.0,9,     -999.0,9,     -999.0,9,     -999.0,9,     -999.0,9,     -999.0,9,     -999.0,9
33RO20161119,        P18,     121,          1,         10,      11109,2,20170102,       0945,   -26.5001,  -101.4997,       3467,  1264.5,   3.3462,  34.5236,2,  34.5230,2,    127.3,2,   126.0,2,    80.3,2,    37.6,2,    0.00,2,   2.655,2,-999.0000,9,-999.0000,9,-999.0000,9,  2281.2,2,  2348.0,2,   7.5102,2,    25.00, -999.00,9,  -999.0,9,  -999.0,-999.0000,9, -999.00,9,    36.4,2,   41.00,2, -999.00,9,     -999.0,9, -999.00,9,  -999.0,9,     -999.0,     -999.0,9,     -999.0,9,     -999.0,     -999.0,9,     -999.0,     -999.0,9,     -999.0,     -999.0,     -999.0,9,     -999.0,9,     -999.0,9,     -999.0,9,     -999.0,9,     -999.0,9,     -999.0,9,     -999.0,9
33RO20161119,        P18,     121,          1,         11,      11110,2,20170102,       0945,   -26.5001,  -101.4997,       3467,  1129.8,   3.7027,  34.4909,2,  34.4892,2,    121.0,2,   119.6,2,    71.4,2,    38.1,2,    0.01,2,   2.656,2,-999.0000,9,-999.0000,9,-999.0000,9,  2274.6,2,  2337.4,2,   7.4949,2,    25.00, -999.00,9,  -999.0,9,  -999.0,-999.0000,9, -999.00,9,    38.0,2,   42.20,2, -999.00,9,     -999.0,9, -999.00,9,  -999.0,9,     -999.0,     -999.0,9,     -999.0,9,     -999.0,     -999.0,9,     -999.0,     -999.0,9,     -999.0,     -999.0,     -999.0,9,     -999.0,9,     -999.0,9,     -999.0,9,     -999.0,9,     -999.0,9,     -999.0,9,     -999.0,9
33RO20161119,        P18,     121,          1,         12,      11111,2,20170102,       0945,   -26.5001,  -101.4997,       3467,  1010.0,   4.0618,  34.4362,2,  34.4356,2,    126.6,2,   125.4,2,    57.6,2,    37.7,2,    0.02,2,   2.627,2,-999.0000,9,-999.0000,9,-999.0000,9,  2259.3,2,  2323.6,2,   7.4972,6,    25.00, -999.00,9,  -999.0,9,  -999.0,-999.0000,9, -999.00,9,    39.2,2,   41.30,2, -999.00,9,     -999.0,9, -999.00,9,  -999.0,9,     -999.0,     -999.0,9,     -999.0,9,     -999.0,     -999.0,9,     -999.0,     -999.0,9,     -999.0,     -999.0,     -999.0,9,     -999.0,9,     -999.0,9,     -999.0,9,     -999.0,9,     -999.0,9,     -999.0,9,     -999.0,9
33RO20161119,        P18,     121,          1,         13,      11112,2,20170102,       0945,   -26.5001,  -101.4997,       3467,   890.1,   4.5335,  34.3889,2,  34.3874,2,    137.4,2,   137.2,2,    43.9,2,    36.4,2,    0.00,2,   2.558,2,-999.0000,9,-999.0000,9,-999.0000,9,  2241.5,2,  2306.3,2,   7.5130,2,    25.00, -999.00,9,  -999.0,9,  -999.0,-999.0000,9, -999.00,9,    40.8,2,   38.60,2, -999.00,9,     -999.0,9, -999.00,9,  -999.0,9,     -999.0,     -999.0,9,     -999.0,9,     -999.0,     -999.0,9,     -999.0,     -999.0,9,     -999.0,     -999.0,     -999.0,9,     -999.0,9,     -999.0,9,     -999.0,9,     -999.0,9,     -999.0,9,     -999.0,9,     -999.0,9
33RO20161119,        P18,     121,          1,         14,      11113,2,20170102,       0945,   -26.5001,  -101.4997,       3467,   769.9,   5.1375,  34.3412,2,  34.3432,2,    163.5,2,   163.0,2,    29.3,2,    33.2,2,    0.00,2,   2.322,2,   1.3302,2,   0.6553,2,   0.2286,2,  2214.0,2,  2292.0,2,   7.5549,2,    25.00, -999.00,9,  -999.0,9,  -999.0,   0.8174,2, -999.00,9,    42.0,2,   35.00,2, -999.00,9,    27.0877,2, -999.00,9,  -999.0,9,     -999.0,     -999.0,9,     -999.0,9,     -999.0,     -999.0,9,     -999.0,     -999.0,9,     -999.0,     -999.0,     -999.0,9,     -999.0,9,     -999.0,9,     -999.0,9,     -999.0,9,     -999.0,9,     -999.0,9,     -999.0,9
33RO20161119,        P18,     121,          1,         15,      11114,2,20170102,       0945,   -26.5001,  -101.4997,       3467,   660.8,   5.6892,  34.3189,2,  34.3189,2,    178.3,2,   178.6,2,    19.6,2,    30.8,2,    0.00,2,   2.163,2,   2.1687,2,   1.0762,2,   0.3848,2,  2195.9,2,  2283.3,6,   7.5851,2,    25.00, -999.00,9,  -999.0,9,  -999.0,    1.501,2, -999.00,9,    43.0,2,   34.70,2, -999.00,9,    26.4587,2, -999.00,9,  -999.0,9,     -999.0,     -999.0,9,     -999.0,9,     -999.0,     -999.0,9,     -999.0,     -999.0,9,     -999.0,     -999.0,     -999.0,9,     -999.0,9,     -999.0,9,     -999.0,9,     -999.0,9,     -999.0,9,     -999.0,9,     -999.0,9
33RO20161119,        P18,     121,          1,         16,      11115,2,20170102,       0945,   -26.5001,  -101.4997,       3467,   550.8,   6.5083,  34.3365,2,  34.3357,2,    171.0,2,   170.0,2,    15.3,2,    29.6,2,    0.00,2,   2.111,2,   2.6903,2,   1.3671,2,   0.5894,2,  2195.5,2,  2278.7,2,   7.5669,2,    25.00, -999.00,9,  -999.0,9,  -999.0,   1.6527,2, -999.00,9,    41.8,2,   33.20,2, -999.00,9,    28.9213,2, -999.00,9,  -999.0,9,     -999.0,     -999.0,9,     -999.0,9,     -999.0,     -999.0,9,     -999.0,     -999.0,9,     -999.0,     -999.0,     -999.0,9,     -999.0,9,     -999.0,9,     -999.0,9,     -999.0,9,     -999.0,9,     -999.0,9,     -999.0,9
33RO20161119,        P18,     121,          1,         17,      11116,2,20170102,       0945,   -26.5001,  -101.4997,       3467,   455.6,   7.5991,  34.3584,2,  34.3593,2,    144.6,2,   144.7,2,    13.8,2,    28.7,2,    0.00,2,   2.127,2,-999.0000,9,-999.0000,9,-999.0000,9,  2202.8,2,  2257.4,3,   7.5390,2,    25.00, -999.00,9,  -999.0,9,  -999.0,-999.0000,9, -999.00,9,    43.2,2,   31.50,2, -999.00,9,     -999.0,9, -999.00,9,  -999.0,9,     -999.0,     -999.0,9,     -999.0,9,     -999.0,     -999.0,9,     -999.0,     -999.0,9,     -999.0,     -999.0,     -999.0,9,     -999.0,9,     -999.0,9,     -999.0,9,     -999.0,9,     -999.0,9,     -999.0,9,     -999.0,9
33RO20161119,        P18,     121,          1,         18,      11117,2,20170102,       0945,   -26.5001,  -101.4997,       3467,   355.0,  10.3628,  34.3342,2,  34.3346,2,    174.7,2,   172.3,2,     6.2,2,    18.7,2,    0.01,2,   1.562,2,   3.0274,2,   1.7103,2,   1.2478,2,  2152.2,6,  2272.2,2,   7.6624,2,    25.00, -999.00,9,  -999.0,9,  -999.0,   1.8852,2, -999.00,9,    43.3,2,   21.30,2, -999.00,9,    23.2015,2, -999.00,9,  -999.0,9,     -999.0,     -999.0,9,     -999.0,9,     -999.0,     -999.0,9,     -999.0,     -999.0,9,     -999.0,     -999.0,     -999.0,9,     -999.0,9,     -999.0,9,     -999.0,9,     -999.0,9,     -999.0,9,     -999.0,9,     -999.0,9
33RO20161119,        P18,     121,          1,         19,      11083,2,20170102,       0945,   -26.5001,  -101.4997,       3467,   275.3,  13.1542,  34.5264,2,  34.5236,2,    199.6,2,   197.7,6,     1.7,2,    10.3,2,    0.01,2,   0.965,2,   2.8630,2,   1.6897,2,   1.5613,2,  2109.6,2,  2278.9,2,   7.7949,2,    25.00, -999.00,9,  -999.0,9,  -999.0,        0,2, -999.00,9,    44.5,2,   11.90,2, -999.00,9,    14.2825,2, -999.00,9,  -999.0,9,     -999.0,     -999.0,9,     -999.0,9,     -999.0,     -999.0,9,     -999.0,     -999.0,9,     -999.0,     -999.0,     -999.0,9,     -999.0,9,     -999.0,9,     -999.0,9,     -999.0,9,     -999.0,9,     -999.0,9,     -999.0,9
33RO20161119,        P18,     121,          1,         20,      11118,2,20170102,       0945,   -26.5001,  -101.4997,       3467,   200.9,  16.8097,  35.0442,2,  35.0340,2,    205.2,2,   203.8,2,     0.6,2,     3.6,2,    0.04,2,   0.565,2,   2.4191,2,   1.4820,2,   1.6368,2,  2094.5,2,  2311.9,2,   7.8868,2,    25.00, -999.00,9,  -999.0,9,  -999.0,   0.0151,2, -999.00,9,    50.6,2,    7.60,2, -999.00,9,     9.5196,2, -999.00,9,  -999.0,9,     -999.0,     -999.0,9,     -999.0,9,     -999.0,     -999.0,9,     -999.0,     -999.0,9,     -999.0,     -999.0,     -999.0,9,     -999.0,9,     -999.0,9,     -999.0,9,     -999.0,9,     -999.0,9,     -999.0,9,     -999.0,9
33RO20161119,        P18,     121,          1,         21,      11119,2,20170102,       0945,   -26.5001,  -101.4997,       3467,   136.0,  20.3011,  35.7203,2,  35.7180,2,    222.9,2,   223.8,2,     0.3,2,     0.0,2,    0.00,2,   0.212,2,   2.0332,2,   1.2666,2,   1.5870,2,  2074.8,2,  2350.9,2,   7.9890,2,    25.00, -999.00,9,  -999.0,9,  -999.0,        0,2, -999.00,9,    61.4,2,    2.30,2, -999.00,9,        7.1,2, -999.00,9,  -999.0,9,     -999.0,     -999.0,9,     -999.0,9,     -999.0,     -999.0,9,     -999.0,     -999.0,9,     -999.0,     -999.0,     -999.0,9,     -999.0,9,     -999.0,9,     -999.0,9,     -999.0,9,     -999.0,9,     -999.0,9,     -999.0,9
33RO20161119,        P18,     121,          1,         22,      11120,2,20170102,       0945,   -26.5001,  -101.4997,       3467,    69.5,  22.5105,  36.0723,2,  36.0830,2,    221.6,2,   221.0,2,     0.4,2,     0.0,2,    0.00,2,   0.245,2,   1.8733,2,   1.1747,2,   1.5693,2,  2083.6,2,  2378.6,6,   8.0087,2,    25.00, -999.00,9,  -999.0,9,  -999.0,   0.0207,2, -999.00,9,    65.0,2,    2.30,2, -999.00,9,     6.7715,2, -999.00,9,  -999.0,9,     -999.0,     -999.0,9,     -999.0,9,     -999.0,     -999.0,9,     -999.0,     -999.0,9,     -999.0,     -999.0,     -999.0,9,     -999.0,9,     -999.0,9,     -999.0,9,     -999.0,9,     -999.0,9,     -999.0,9,     -999.0,9
33RO20161119,        P18,     121,          1,         23,      11121,2,20170102,       0945,   -26.5001,  -101.4997,       3467,    29.8,  24.0784,  36.2825,2,  36.2866,2,    210.1,2,   211.2,2,     0.4,2,     0.0,2,    0.00,2,   0.248,2,-999.0000,9,-999.0000,9,-999.0000,9,  2091.7,2,  2394.8,2,   8.0167,6,    25.00, -999.00,9,  -999.0,9,  -999.0,-999.0000,9, -999.00,9,    67.4,2,    3.30,2, -999.00,9,     -999.0,9, -999.00,9,  -999.0,9,     -999.0,     -999.0,9,     -999.0,9,     -999.0,     -999.0,9,     -999.0,     -999.0,9,     -999.0,     -999.0,     -999.0,9,     -999.0,9,     -999.0,9,     -999.0,9,     -999.0,9,     -999.0,9,     -999.0,9,     -999.0,9
33RO20161119,        P18,     121,          1,         24,      11122,2,20170102,       0945,   -26.5001,  -101.4997,       3467,     3.2,  24.0739,  36.2823,2,  36.2826,2,    209.2,2,   210.5,2,     0.4,2,     0.0,2,    0.00,2,   0.248,2,   1.7253,2,   1.0964,2,   1.4616,2,  2093.2,6,  2394.2,2,   8.0161,2,    25.00, -999.00,9,  -999.0,9,  -999.0,   0.0225,2, -999.00,9,    68.7,2,    4.70,2, -999.00,9,      6.361,2, -999.00,9,  -999.0,9,     -999.0,     -999.0,9,     -999.0,9,     -999.0,     -999.0,9,     -999.0,     -999.0,9,     -999.0,     -999.0,     -999.0,9,     -999.0,9,     -999.0,9,     -999.0,9,     -999.0,9,     -999.0,9,     -999.0,9,     -999.0,9