BOTTLE,20230606CCHSIOCBG
EXPOCODE,SECT_ID,STNNBR,CASTNO,SAMPNO,BTLNBR,BTLNBR_FLAG_W,DATE,TIME,LATITUDE,LONGITUDE,DEPTH,CTDPRS,CTDTMP,CTDSAL,CTDSAL_FLAG_W,SALNTY,SALNTY_FLAG_W,CTDOXY,CTDOXY_FLAG_W,OXYGEN,OXYGEN_FLAG_W,SILCAT,SILCAT_FLAG_W,NITRAT,NITRAT_FLAG_W,NITRIT,NITRIT_FLAG_W,PHSPHT,PHSPHT_FLAG_W,CFC-11,CFC-11_FLAG_W,CFC-12,CFC-12_FLAG_W,SF6,SF6_FLAG_W,TCARBN,TCARBN_FLAG_W,ALKALI,ALKALI_FLAG_W,PH_SWS,PH_SWS_FLAG_W,PH_TMP,DELC13,DELC13_FLAG_W,DELC14,DELC14_FLAG_W,C14ERR,CCL4,CCL4_FLAG_W,POC,POC_FLAG_W,DOC,DOC_FLAG_W,TDN,TDN_FLAG_W,PON,PON_FLAG_W,N2O,N2O_FLAG_W,D15N_NO3,D15N_NO3_FLAG_W,14C-DOC,14C-DOC_FLAG_W,14C-DOCERR,13C-DOC,13C-DOC_FLAG_W,N2/ARGON_UNSTRIPPED,N2/ARGON_UNSTRIPPED_FLAG_W,N2/ARGON_UNSTRIPPED_ERROR,N2/ARGON,N2/ARGON_FLAG_W,N2/ARGON_ERROR,D15N_N2,D15N_N2_FLAG_W,D15N_N2_ERROR,D15N_NO3_ERROR,D15N_NO2+NO3,D15N_NO2+NO3_FLAG_W,D18O_NO2+NO3,D18O_NO2+NO3_FLAG_W,D18O_NO3,D18O_NO3_FLAG_W,TDP,TDP_FLAG_W,N2O_ALT_1,N2O_ALT_1_FLAG_W,D15N_N2O,D15N_N2O_FLAG_W,D18O_N2O,D18O_N2O_FLAG_W,D15N_ALPHA_N2O,D15N_ALPHA_N2O_FLAG_W
,,,,,,,,,,,METERS,DBAR,ITS-90,PSS-78,,PSS-78,,UMOL/KG,,UMOL/KG,,UMOL/KG,,UMOL/KG,,UMOL/KG,,UMOL/KG,,PMOL/KG,,PMOL/KG,,FMOL/KG,,UMOL/KG,,UMOL/KG,,,,DEG C,/MILLE,,/MILLE,,/MILLE,PMOL/KG,,UG/KG,,UMOL/KG,,UMOL/KG,,UG/KG,,NMOL/KG,,/MILLE,,/MILLE,,/MILLE,/MILLE,,,,,,,,/MILLE,,/MILLE,/MILLE,/MILLE,,/MILLE,,/MILLE,,UMOL/KG,,NMOL/L,,/MILLE,,/MILLE,,/MILLE,
33RO20161119,        P18,      75,          1,          1,      11010,2,20161211,       1245,    -6.1799,  -108.3499,       3208,  3255.4,   1.7070,  34.6793,2,  34.6782,2,    140.6,2,   140.5,2,   142.2,6,    36.6,6,    0.00,6,   2.519,6,   0.0022,2,   0.0010,2,   0.0287,2,  2335.0,6,  2426.7,6,   7.5721,6,    25.00, -999.00,9,  -999.0,9,  -999.0,        0,2, -999.00,9,    37.0,2,   40.20,2, -999.00,9,    21.0641,2, -999.00,9,  -999.0,9,     -999.0,     -999.0,9,     -999.0,9,     -999.0,     -999.0,9,     -999.0,     -999.0,9,     -999.0,     -999.0,     -999.0,9,     -999.0,9,     -999.0,9,     -999.0,9,     -999.0,9,     -999.0,9,     -999.0,9,     -999.0,9
33RO20161119,        P18,      75,          1,          2,      11101,2,20161211,       1245,    -6.1799,  -108.3499,       3208,  2974.1,   1.7175,  34.6776,2,  34.6800,2,    138.2,2,   138.5,2,   141.9,6,    36.8,6,    0.00,6,   2.530,6,   0.0015,2,   0.0011,2,   0.0291,2,  2332.0,2,  2425.9,2,   7.5698,2,    25.00, -999.00,9,  -999.0,9,  -999.0,        0,2, -999.00,9,    37.1,2,   39.30,2, -999.00,9,    21.5291,2, -999.00,9,  -999.0,9,     -999.0,     -999.0,9,     -999.0,9,     -999.0,     -999.0,9,     -999.0,     -999.0,9,     -999.0,     -999.0,     -999.0,9,     -999.0,9,     -999.0,9,     -999.0,9,     -999.0,9,     -999.0,9,     -999.0,9,     -999.0,9
33RO20161119,        P18,      75,          1,          3,      11102,2,20161211,       1245,    -6.1799,  -108.3499,       3208,  2700.3,   1.8257,  34.6711,2,  34.6703,2,    132.4,2,   132.6,2,   139.4,6,    37.1,6,    0.00,6,   2.566,6,   0.0023,2,   0.0010,2,   0.0000,2,  2335.2,2,  2424.1,2,   7.5535,2,    25.00, -999.00,9,  -999.0,9,  -999.0,        0,2, -999.00,9,    36.6,2,   40.60,2, -999.00,9,    22.6495,2, -999.00,9,  -999.0,9,     -999.0,     -999.0,9,     -999.0,9,     -999.0,     -999.0,9,     -999.0,     -999.0,9,     -999.0,     -999.0,     -999.0,9,     -999.0,9,     -999.0,9,     -999.0,9,     -999.0,9,     -999.0,9,     -999.0,9,     -999.0,9
33RO20161119,        P18,      75,          1,          4,      11103,2,20161211,       1245,    -6.1799,  -108.3499,       3208,  2450.9,   1.9281,  34.6635,2,  34.6650,2,    126.0,2,   125.7,2,   138.1,6,    37.5,6,    0.00,6,   2.603,6,   0.0020,2,   0.0008,2,   0.0281,2,  2336.3,2,  2417.9,2,   7.5399,2,    25.00, -999.00,9,  -999.0,9,  -999.0,        0,2, -999.00,9,    37.1,2,   38.80,2, -999.00,9,    23.4128,2, -999.00,9,  -999.0,9,     -999.0,     -999.0,9,     -999.0,9,     -999.0,     -999.0,9,     -999.0,     -999.0,9,     -999.0,     -999.0,     -999.0,9,     -999.0,9,     -999.0,9,     -999.0,9,     -999.0,9,     -999.0,9,     -999.0,9,     -999.0,9
33RO20161119,        P18,      75,          1,          5,      11104,2,20161211,       1245,    -6.1799,  -108.3499,       3208,  2223.8,   2.1772,  34.6481,2,  34.6473,2,    115.4,2,   115.5,6,   134.1,2,    38.2,2,    0.00,2,   2.672,2,   0.0021,2,   0.0013,2,   0.0000,2,  2339.0,2,  2413.8,2,   7.5153,2,    25.00, -999.00,9,  -999.0,9,  -999.0,        0,2, -999.00,9,    35.0,2,   40.50,2, -999.00,9,    24.7431,2, -999.00,9,  -999.0,9,     -999.0,     -999.0,9,     -999.0,9,     -999.0,     -999.0,9,     -999.0,     -999.0,9,     -999.0,     -999.0,     -999.0,9,     -999.0,9,     -999.0,9,     -999.0,9,     -999.0,9,     -999.0,9,     -999.0,9,     -999.0,9
33RO20161119,        P18,      75,          1,          6,      11105,2,20161211,       1245,    -6.1799,  -108.3499,       3208,  1959.8,   2.3790,  34.6370,2,  34.6365,2,    106.3,2,   106.5,2,   132.0,2,    38.8,2,    0.00,2,   2.709,2,   0.0020,2,   0.0010,2,   0.0211,2,  2340.5,6,  2410.6,2,   7.5001,2,    25.00, -999.00,9,  -999.0,9,  -999.0,   0.0108,2, -999.00,9,    37.5,2,   41.50,2, -999.00,9,    25.9798,2, -999.00,9,  -999.0,9,     -999.0,     -999.0,9,     -999.0,9,     -999.0,     -999.0,9,     -999.0,     -999.0,9,     -999.0,     -999.0,     -999.0,9,     -999.0,9,     -999.0,9,     -999.0,9,     -999.0,9,     -999.0,9,     -999.0,9,     -999.0,9
33RO20161119,        P18,      75,          1,          7,      11106,2,20161211,       1245,    -6.1799,  -108.3499,       3208,  1719.9,   2.6274,  34.6217,2,  34.6217,2,    102.8,2,   103.9,6,   124.2,2,    38.9,2,    0.00,2,   2.730,2,   0.0023,6,   0.0017,6,   0.0097,6,  2332.5,2,  2401.0,2,   7.4919,2,    25.00, -999.00,9,  -999.0,9,  -999.0,        0,2, -999.00,9,    36.7,2,   40.80,2, -999.00,9,    27.2927,2, -999.00,9,  -999.0,9,     -999.0,     -999.0,9,     -999.0,9,     -999.0,     -999.0,9,     -999.0,     -999.0,9,     -999.0,     -999.0,     -999.0,9,     -999.0,9,     -999.0,9,     -999.0,9,     -999.0,9,     -999.0,9,     -999.0,9,     -999.0,9
33RO20161119,        P18,      75,          1,          8,      11107,2,20161211,       1245,    -6.1799,  -108.3499,       3208,  1479.6,   3.0176,  34.6022,2,  34.6011,2,     96.4,2,    96.6,2,   114.9,2,    39.3,2,    0.00,2,   2.774,2,   0.0014,2,   0.0000,2,   0.0265,2,  2327.2,2,  2389.5,2,   7.4800,2,    25.00, -999.00,9,  -999.0,9,  -999.0,        0,2, -999.00,9,    38.5,2,   41.60,2, -999.00,9,    29.0694,2, -999.00,9,  -999.0,9,     -999.0,     -999.0,9,     -999.0,9,     -999.0,     -999.0,9,     -999.0,     -999.0,9,     -999.0,     -999.0,     -999.0,9,     -999.0,9,     -999.0,9,     -999.0,9,     -999.0,9,     -999.0,9,     -999.0,9,     -999.0,9
33RO20161119,        P18,      75,          1,          9,      11108,2,20161211,       1245,    -6.1799,  -108.3499,       3208,  1229.5,   3.4936,  34.5791,2,  34.5796,2,     95.8,2,    95.6,2,   101.3,2,    39.2,2,    0.00,2,   2.764,2,   0.0040,2,   0.0018,2,   0.0000,2,  2312.8,2,  2375.9,2,   7.4769,2,    25.00, -999.00,9,  -999.0,9,  -999.0,   0.0129,2, -999.00,9,    38.7,2,   42.60,2, -999.00,9,    30.2159,2, -999.00,9,  -999.0,9,     -999.0,     -999.0,9,     -999.0,9,     -999.0,     -999.0,9,     -999.0,     -999.0,9,     -999.0,     -999.0,     -999.0,9,     -999.0,9,     -999.0,9,     -999.0,9,     -999.0,9,     -999.0,9,     -999.0,9,     -999.0,9
33RO20161119,        P18,      75,          1,         10,      11109,2,20161211,       1245,    -6.1799,  -108.3499,       3208,  1069.7,   4.0197,  34.5586,2,  34.5586,2,     94.0,2,    93.4,2,    88.1,2,    39.1,2,    0.00,2,   2.769,2,   0.0075,2,   0.0040,2,   0.0000,2,  2299.0,2,  2357.0,2,   7.4728,2,    25.00, -999.00,9,  -999.0,9,  -999.0,        0,2, -999.00,9,    37.3,2,   42.90,2, -999.00,9,    31.6912,2, -999.00,9,  -999.0,9,     -999.0,     -999.0,9,     -999.0,9,     -999.0,     -999.0,9,     -999.0,     -999.0,9,     -999.0,     -999.0,     -999.0,9,     -999.0,9,     -999.0,9,     -999.0,9,     -999.0,9,     -999.0,9,     -999.0,9,     -999.0,9
33RO20161119,        P18,      75,          1,         11,      11110,2,20161211,       1245,    -6.1799,  -108.3499,       3208,   958.9,   4.4711,  34.5468,2,  34.5459,2,     80.8,2,    81.9,2,    78.9,2,    40.2,2,    0.00,2,   2.847,2,   0.0057,2,   0.0031,2,   0.0416,2,  2297.3,2,  2347.7,2,   7.4517,2,    25.00, -999.00,9,  -999.0,9,  -999.0,        0,2, -999.00,9,    39.8,2,   43.90,2, -999.00,9,     33.853,2, -999.00,9,  -999.0,9,     -999.0,     -999.0,9,     -999.0,9,     -999.0,     -999.0,9,     -999.0,     -999.0,9,     -999.0,     -999.0,     -999.0,9,     -999.0,9,     -999.0,9,     -999.0,9,     -999.0,9,     -999.0,9,     -999.0,9,     -999.0,9
33RO20161119,        P18,      75,          1,         12,      11111,2,20161211,       1245,    -6.1799,  -108.3499,       3208,   849.7,   5.0713,  34.5403,2,  34.5478,4,     65.6,2,    66.2,2,    68.4,2,    41.5,2,    0.00,2,   2.915,2,   0.0052,2,   0.0028,2,   0.0000,2,  2293.9,2,  2337.4,2,   7.4212,2,    25.00, -999.00,9,  -999.0,9,  -999.0,        0,2, -999.00,9,    37.7,2,   44.50,2, -999.00,9,    38.5011,2, -999.00,9,  -999.0,9,     -999.0,     -999.0,9,     -999.0,9,     -999.0,     -999.0,9,     -999.0,     -999.0,9,     -999.0,     -999.0,     -999.0,9,     -999.0,9,     -999.0,9,     -999.0,9,     -999.0,9,     -999.0,9,     -999.0,9,     -999.0,9
33RO20161119,        P18,      75,          1,         13,      11112,2,20161211,       1245,    -6.1799,  -108.3499,       3208,   750.6,   5.8427,  34.5436,2,  34.5537,4,     49.5,2,    51.1,2,    56.6,2,    42.2,2,    0.00,2,   2.939,2,   0.0092,2,   0.0059,2,   0.0265,2,  2288.2,2,  2323.0,2,   7.3968,2,    25.00, -999.00,9,  -999.0,9,  -999.0,   0.0145,2, -999.00,9,    39.1,2,   47.50,2, -999.00,9,    43.6301,2, -999.00,9,  -999.0,9,     -999.0,     -999.0,9,     -999.0,9,     -999.0,     -999.0,9,     -999.0,     -999.0,9,     -999.0,     -999.0,     -999.0,9,     -999.0,9,     -999.0,9,     -999.0,9,     -999.0,9,     -999.0,9,     -999.0,9,     -999.0,9
33RO20161119,        P18,      75,          1,         14,      11113,2,20161211,       1245,    -6.1799,  -108.3499,       3208,   649.2,   7.0491,  34.5846,2,  34.5851,2,     19.5,2,    21.3,2,    47.5,2,    43.2,2,    0.00,2,   2.992,2,   0.0256,2,   0.0142,2,   0.0000,2,  2291.7,2,  2296.2,4,   7.3526,2,    25.00, -999.00,9,  -999.0,9,  -999.0,   0.0168,2, -999.00,9,    40.2,2,   46.70,2, -999.00,9,    60.2554,2, -999.00,9,  -999.0,9,     -999.0,     -999.0,9,     -999.0,9,     -999.0,     -999.0,9,     -999.0,     -999.0,9,     -999.0,     -999.0,     -999.0,9,     -999.0,9,     -999.0,9,     -999.0,9,     -999.0,9,     -999.0,9,     -999.0,9,     -999.0,9
33RO20161119,        P18,      75,          1,         15,      11114,2,20161211,       1245,    -6.1799,  -108.3499,       3208,   555.4,   8.0019,  34.6289,2,  34.6283,2,      9.5,2,    10.0,2,    42.4,2,    41.5,2,    0.00,2,   2.940,2,   0.0582,2,   0.0334,2,   0.0000,2,  2289.3,2,  2305.2,2,   7.3476,6,    25.00, -999.00,9,  -999.0,9,  -999.0,   0.0392,2, -999.00,9,    41.4,2,   47.00,2, -999.00,9,    75.2352,2, -999.00,9,  -999.0,9,     -999.0,     -999.0,9,     -999.0,9,     -999.0,     -999.0,9,     -999.0,     -999.0,9,     -999.0,     -999.0,     -999.0,9,     -999.0,9,     -999.0,9,     -999.0,9,     -999.0,9,     -999.0,9,     -999.0,9,     -999.0,9
33RO20161119,        P18,      75,          1,         16,      11115,2,20161211,       1245,    -6.1799,  -108.3499,       3208,   462.8,   9.2126,  34.6943,2,  34.6930,2,     10.1,2,    10.7,2,    36.3,2,    37.8,2,    0.00,2,   2.744,2,   0.2094,2,   0.1186,2,   0.0425,2,  2279.3,2,  2303.9,2,   7.3677,2,    25.00, -999.00,9,  -999.0,9,  -999.0,   0.0455,2, -999.00,9,    41.6,2,   42.00,2, -999.00,9,    72.5373,2, -999.00,9,  -999.0,9,     -999.0,     -999.0,9,     -999.0,9,     -999.0,     -999.0,9,     -999.0,     -999.0,9,     -999.0,     -999.0,     -999.0,9,     -999.0,9,     -999.0,9,     -999.0,9,     -999.0,9,     -999.0,9,     -999.0,9,     -999.0,9
33RO20161119,        P18,      75,          1,         17,      11116,2,20161211,       1245,    -6.1799,  -108.3499,       3208,   379.5,  10.1554,  34.7527,2,  34.7519,2,     16.1,2,    15.3,2,    31.7,2,    35.2,2,    0.01,2,   2.593,2,   0.4207,2,   0.2347,2,   0.0837,2,  2267.4,2,  2300.2,2,   7.3986,2,    25.00, -999.00,9,  -999.0,9,  -999.0,   0.0852,2, -999.00,9,    43.2,2,   38.60,2, -999.00,9,    72.4545,2, -999.00,9,  -999.0,9,     -999.0,     -999.0,9,     -999.0,9,     -999.0,     -999.0,9,     -999.0,     -999.0,9,     -999.0,     -999.0,     -999.0,9,     -999.0,9,     -999.0,9,     -999.0,9,     -999.0,9,     -999.0,9,     -999.0,9,     -999.0,9
33RO20161119,        P18,      75,          1,         18,      11117,2,20161211,       1245,    -6.1799,  -108.3499,       3208,   294.8,  11.4122,  34.8350,2,  34.8332,2,     27.3,2,    30.6,2,    24.3,2,    31.6,2,    0.01,2,   2.349,2,   0.8067,6,   0.4443,6,   0.1928,6,  2247.8,2,  2302.3,6,   7.4670,2,    25.00, -999.00,9,  -999.0,9,  -999.0,   0.0871,2, -999.00,9,    43.5,2,   34.90,2, -999.00,9,    67.0471,2, -999.00,9,  -999.0,9,     -999.0,     -999.0,9,     -999.0,9,     -999.0,     -999.0,9,     -999.0,     -999.0,9,     -999.0,     -999.0,     -999.0,9,     -999.0,9,     -999.0,9,     -999.0,9,     -999.0,9,     -999.0,9,     -999.0,9,     -999.0,9
33RO20161119,        P18,      75,          1,         19,      11083,2,20161211,       1245,    -6.1799,  -108.3499,       3208,   225.1,  12.4003,  34.8883,2,  34.8897,2,     21.6,2,    23.6,2,    21.1,2,    29.1,2,    0.01,2,   2.372,2,   1.0773,2,   0.6042,2,   0.3004,2,  2247.0,2,  -999.0,5,   7.4617,2,    25.00, -999.00,9,  -999.0,9,  -999.0,   0.1725,2, -999.00,9,    45.6,2,   30.50,2, -999.00,9,    75.2671,2, -999.00,9,  -999.0,9,     -999.0,     -999.0,9,     -999.0,9,     -999.0,     -999.0,9,     -999.0,     -999.0,9,     -999.0,     -999.0,     -999.0,9,     -999.0,9,     -999.0,9,       2.47,2,     -999.0,9,     -999.0,9,     -999.0,9,     -999.0,9
33RO20161119,        P18,      75,          1,         20,      11118,2,20161211,       1245,    -6.1799,  -108.3499,       3208,   165.2,  14.0017,  34.9691,2,  34.9657,2,     50.8,2,    46.6,2,    12.8,2,    23.4,2,    0.02,2,   2.087,2,   1.7648,2,   1.0309,2,   0.7156,2,  2223.9,2,  2305.2,2,   7.5392,2,    25.00, -999.00,9,  -999.0,9,  -999.0,   0.9451,2, -999.00,9,    48.4,2,   25.30,2, -999.00,9,    63.2711,2, -999.00,9,  -999.0,9,     -999.0,     -999.0,9,     -999.0,9,     -999.0,     -999.0,9,     -999.0,     -999.0,9,     -999.0,     -999.0,     -999.0,9,     -999.0,9,     -999.0,9,       2.20,2,     -999.0,9,     -999.0,9,     -999.0,9,     -999.0,9
33RO20161119,        P18,      75,          1,         21,      11119,2,20161211,       1245,    -6.1799,  -108.3499,       3208,   107.2,  22.0440,  35.3182,2,  35.3062,2,    177.3,2,   168.6,2,     4.2,2,     9.3,2,    0.55,2,   1.070,2,   1.8540,2,   1.1415,2,   1.3269,2,  2112.2,2,  2330.2,2,   7.8713,2,    25.00, -999.00,9,  -999.0,9,  -999.0,   1.8196,2, -999.00,9,    57.2,2,   16.50,2, -999.00,9,     17.156,2, -999.00,9,  -999.0,9,     -999.0,     -999.0,9,     -999.0,9,     -999.0,     -999.0,9,     -999.0,     -999.0,9,     -999.0,     -999.0,     -999.0,9,     -999.0,9,     -999.0,9,       1.42,2,     -999.0,9,     -999.0,9,     -999.0,9,     -999.0,9
33RO20161119,        P18,      75,          1,         22,      11120,2,20161211,       1245,    -6.1799,  -108.3499,       3208,    59.8,  24.4707,  35.3543,2,  35.3586,2,    210.6,2,   209.9,2,     2.7,2,     6.9,2,    0.16,2,   0.736,2,   1.7425,2,   1.0837,2,   1.4556,2,  2065.3,2,  2330.6,6,   7.9678,2,    25.00, -999.00,9,  -999.0,9,  -999.0,   1.7705,2, -999.00,9,    59.3,2,   11.40,2, -999.00,9,     7.5069,2, -999.00,9,  -999.0,9,     -999.0,     -999.0,9,     -999.0,9,     -999.0,     -999.0,9,     -999.0,     -999.0,9,     -999.0,     -999.0,     -999.0,9,     -999.0,9,     -999.0,9,       1.00,2,     -999.0,9,     -999.0,9,     -999.0,9,     -999.0,9
33RO20161119,        P18,      75,          1,         23,      11121,2,20161211,       1245,    -6.1799,  -108.3499,       3208,    24.7,  24.5656,  35.2964,2,  35.2973,2,    209.7,2,   210.8,2,     2.8,2,     7.7,2,    0.17,2,   0.778,2,   1.7176,2,   1.0787,2,   1.4823,2,  2066.9,6,  2329.6,2,   7.9585,2,    25.00, -999.00,9,  -999.0,9,  -999.0,    1.642,2, -999.00,9,    58.1,2,   10.80,2, -999.00,9,     7.2149,2, -999.00,9,  -999.0,9,     -999.0,     -999.0,9,     -999.0,9,     -999.0,     -999.0,9,     -999.0,     -999.0,9,     -999.0,     -999.0,     -999.0,9,     -999.0,9,     -999.0,9,       1.05,2,     -999.0,9,     -999.0,9,     -999.0,9,     -999.0,9
33RO20161119,        P18,      75,          1,         24,      11122,2,20161211,       1245,    -6.1799,  -108.3499,       3208,     3.0,  24.5695,  35.2897,2,  35.2884,2,    209.1,2,   208.5,2,     2.8,2,     7.8,2,    0.17,2,   0.774,2,   1.7155,2,   1.0777,2,   1.4237,2,  2069.1,2,  2324.7,2,   7.9563,2,    25.00, -999.00,9,  -999.0,9,  -999.0,        0,2, -999.00,9,    61.8,2,   10.60,2, -999.00,9,     7.2397,2, -999.00,9,  -999.0,9,     -999.0,     -999.0,9,     -999.0,9,     -999.0,     -999.0,9,     -999.0,     -999.0,9,     -999.0,     -999.0,     -999.0,9,     -999.0,9,     -999.0,9,       1.18,2,     -999.0,9,     -999.0,9,     -999.0,9,     -999.0,9