BOTTLE,20230606CCHSIOCBG
EXPOCODE,SECT_ID,STNNBR,CASTNO,SAMPNO,BTLNBR,BTLNBR_FLAG_W,DATE,TIME,LATITUDE,LONGITUDE,DEPTH,CTDPRS,CTDTMP,CTDSAL,CTDSAL_FLAG_W,SALNTY,SALNTY_FLAG_W,CTDOXY,CTDOXY_FLAG_W,OXYGEN,OXYGEN_FLAG_W,SILCAT,SILCAT_FLAG_W,NITRAT,NITRAT_FLAG_W,NITRIT,NITRIT_FLAG_W,PHSPHT,PHSPHT_FLAG_W,CFC-11,CFC-11_FLAG_W,CFC-12,CFC-12_FLAG_W,SF6,SF6_FLAG_W,TCARBN,TCARBN_FLAG_W,ALKALI,ALKALI_FLAG_W,PH_SWS,PH_SWS_FLAG_W,PH_TMP,DELC13,DELC13_FLAG_W,DELC14,DELC14_FLAG_W,C14ERR,CCL4,CCL4_FLAG_W,POC,POC_FLAG_W,DOC,DOC_FLAG_W,TDN,TDN_FLAG_W,PON,PON_FLAG_W,N2O,N2O_FLAG_W,D15N_NO3,D15N_NO3_FLAG_W,14C-DOC,14C-DOC_FLAG_W,14C-DOCERR,13C-DOC,13C-DOC_FLAG_W,N2/ARGON_UNSTRIPPED,N2/ARGON_UNSTRIPPED_FLAG_W,N2/ARGON_UNSTRIPPED_ERROR,N2/ARGON,N2/ARGON_FLAG_W,N2/ARGON_ERROR,D15N_N2,D15N_N2_FLAG_W,D15N_N2_ERROR,D15N_NO3_ERROR,D15N_NO2+NO3,D15N_NO2+NO3_FLAG_W,D18O_NO2+NO3,D18O_NO2+NO3_FLAG_W,D18O_NO3,D18O_NO3_FLAG_W,TDP,TDP_FLAG_W,N2O_ALT_1,N2O_ALT_1_FLAG_W,D15N_N2O,D15N_N2O_FLAG_W,D18O_N2O,D18O_N2O_FLAG_W,D15N_ALPHA_N2O,D15N_ALPHA_N2O_FLAG_W
,,,,,,,,,,,METERS,DBAR,ITS-90,PSS-78,,PSS-78,,UMOL/KG,,UMOL/KG,,UMOL/KG,,UMOL/KG,,UMOL/KG,,UMOL/KG,,PMOL/KG,,PMOL/KG,,FMOL/KG,,UMOL/KG,,UMOL/KG,,,,DEG C,/MILLE,,/MILLE,,/MILLE,PMOL/KG,,UG/KG,,UMOL/KG,,UMOL/KG,,UG/KG,,NMOL/KG,,/MILLE,,/MILLE,,/MILLE,/MILLE,,,,,,,,/MILLE,,/MILLE,/MILLE,/MILLE,,/MILLE,,/MILLE,,UMOL/KG,,NMOL/L,,/MILLE,,/MILLE,,/MILLE,
33RO20161119,        P18,      47,          1,          1,      11010,2,20161205,       1441,     2.0003,  -110.0001,       3749,  3796.5,   1.4960,  34.6889,2,  34.7068,4,    145.7,2,   145.7,2,   148.9,6,    36.9,6,    0.01,6,   2.532,6,   0.0021,2,   0.0017,2,   0.0000,2,  2339.0,6,  2436.8,2,   7.5777,2,    25.00,    0.26,2,  -215.9,2,     1.9,        0,2, -999.00,9,    37.9,2,   37.60,2, -999.00,9,    21.1003,2, -999.00,9,  -999.0,9,     -999.0,     -999.0,9,     -999.0,9,     -999.0,     -999.0,9,     -999.0,     -999.0,9,     -999.0,     -999.0,     -999.0,9,     -999.0,9,     -999.0,9,     -999.0,9,     -999.0,9,     -999.0,9,     -999.0,9,     -999.0,9
33RO20161119,        P18,      47,          1,          2,      11101,2,20161205,       1441,     2.0003,  -110.0001,       3749,  3450.0,   1.5441,  34.6850,2,  34.6851,2,    142.0,2,   142.1,2,   147.6,6,    37.1,6,    0.01,6,   2.564,6,   0.0029,2,   0.0025,2,   0.0128,2,  2338.9,2,  2431.8,2,   7.5696,6,    25.00, -999.00,9,  -999.0,9,  -999.0,        0,2, -999.00,9,    37.1,2,   39.60,2, -999.00,9,    21.7323,2, -999.00,9,  -999.0,9,     -999.0,     -999.0,9,     -999.0,9,     -999.0,     -999.0,9,     -999.0,     -999.0,9,     -999.0,     -999.0,     -999.0,9,     -999.0,9,     -999.0,9,     -999.0,9,     -999.0,9,     -999.0,9,     -999.0,9,     -999.0,9
33RO20161119,        P18,      47,          1,          3,      11102,2,20161205,       1441,     2.0003,  -110.0001,       3749,  3111.0,   1.6566,  34.6761,2,  34.6761,2,    134.5,2,   134.4,2,   144.5,6,    37.4,6,    0.01,6,   2.610,6,   0.0008,2,   0.0000,2,   0.0000,2,  2338.3,2,  2424.7,6,   7.5499,6,    25.00,    0.20,2,  -227.2,2,     1.7,        0,2, -999.00,9,    37.3,2,   39.10,2, -999.00,9,    22.1365,2, -999.00,9,  -999.0,9,     -999.0,     -999.0,9,     -999.0,9,     -999.0,     -999.0,9,     -999.0,     -999.0,9,     -999.0,     -999.0,     -999.0,9,     -999.0,9,     -999.0,9,     -999.0,9,     -999.0,9,     -999.0,9,     -999.0,9,     -999.0,9
33RO20161119,        P18,      47,          1,          4,      11103,2,20161205,       1441,     2.0003,  -110.0001,       3749,  2824.4,   1.7536,  34.6709,2,  34.6721,2,    125.8,2,   125.9,2,   145.9,6,    38.0,6,    0.01,6,   2.645,6,   0.0019,2,   0.0009,2,   0.0263,2,  2344.7,2,  2424.5,2,   7.5373,2,    25.00, -999.00,9,  -999.0,9,  -999.0,        0,2, -999.00,9,    38.9,2,   39.60,2, -999.00,9,    22.6843,2, -999.00,9,  -999.0,9,     -999.0,     -999.0,9,     -999.0,9,     -999.0,     -999.0,9,     -999.0,     -999.0,9,     -999.0,     -999.0,     -999.0,9,     -999.0,9,     -999.0,9,     -999.0,9,     -999.0,9,     -999.0,9,     -999.0,9,     -999.0,9
33RO20161119,        P18,      47,          1,          5,      11104,2,20161205,       1441,     2.0003,  -110.0001,       3749,  2530.4,   1.8808,  34.6646,2,  34.6641,2,    116.9,2,   117.2,2,   145.9,2,    38.7,2,    0.01,2,   2.711,2,   0.0010,2,   0.0000,2,   0.0181,2,  2350.8,2,  2425.4,2,   7.5255,2,    25.00,    0.05,2,  -234.5,2,     1.8,   0.0143,2, -999.00,9,    37.9,2,   39.20,2, -999.00,9,    23.6234,2, -999.00,9,  -999.0,9,     -999.0,     -999.0,9,     -999.0,9,     -999.0,     -999.0,9,     -999.0,     -999.0,9,     -999.0,     -999.0,     -999.0,9,     -999.0,9,     -999.0,9,     -999.0,9,     -999.0,9,     -999.0,9,     -999.0,9,     -999.0,9
33RO20161119,        P18,      47,          1,          6,      11105,2,20161205,       1441,     2.0003,  -110.0001,       3749,  2240.5,   2.1568,  34.6484,2,  34.6488,2,    107.4,2,   107.5,2,   139.6,2,    39.3,2,    0.01,2,   2.764,2,   0.0060,2,   0.0014,2,   0.0355,2,  2347.6,6,  2420.0,2,   7.5020,2,    25.00, -999.00,9,  -999.0,9,  -999.0,        0,2, -999.00,9,    40.9,2,   41.80,2, -999.00,9,    26.0267,2, -999.00,9,  -999.0,9,     -999.0,     -999.0,9,     -999.0,9,     -999.0,     -999.0,9,     -999.0,     -999.0,9,     -999.0,     -999.0,     -999.0,9,     -999.0,9,     -999.0,9,     -999.0,9,     -999.0,9,     -999.0,9,     -999.0,9,     -999.0,9
33RO20161119,        P18,      47,          1,          7,      11106,2,20161205,       1441,     2.0003,  -110.0001,       3749,  1946.1,   2.4410,  34.6346,2,  34.6352,2,     98.6,2,    98.9,2,   134.1,2,    40.0,2,    0.01,2,   2.819,2,   0.0021,6,   0.0015,6,   0.0052,6,  2348.2,2,  2410.0,2,   7.4848,2,    25.00,    0.00,2,  -230.1,2,     1.7,        0,2, -999.00,9,    35.8,2,   42.80,2, -999.00,9,    27.6092,2, -999.00,9,  -999.0,9,     -999.0,     -999.0,9,     -999.0,9,     -999.0,     -999.0,9,     -999.0,     -999.0,9,     -999.0,     -999.0,     -999.0,9,     -999.0,9,     -999.0,9,     -999.0,9,     -999.0,9,     -999.0,9,     -999.0,9,     -999.0,9
33RO20161119,        P18,      47,          1,          8,      11107,2,20161205,       1441,     2.0003,  -110.0001,       3749,  1651.3,   2.9487,  34.6144,2,  34.6198,4,     85.4,2,    85.3,2,   123.7,2,    40.8,2,    0.01,2,   2.918,2,   0.0026,2,   0.0013,2,   0.0236,2,  2342.8,2,  2398.5,2,   7.4621,2,    25.00, -999.00,9,  -999.0,9,  -999.0,        0,2, -999.00,9,    38.0,2,   45.00,2, -999.00,9,    30.5092,2, -999.00,9,  -999.0,9,     -999.0,     -999.0,9,     -999.0,9,     -999.0,     -999.0,9,     -999.0,     -999.0,9,     -999.0,     -999.0,     -999.0,9,     -999.0,9,     -999.0,9,     -999.0,9,     -999.0,9,     -999.0,9,     -999.0,9,     -999.0,9
33RO20161119,        P18,      47,          1,          9,      11108,2,20161205,       1441,     2.0003,  -110.0001,       3749,  1389.0,   3.4106,  34.5965,2,  34.5982,2,     77.7,2,    77.4,2,   113.0,2,    41.2,2,    0.01,2,   2.966,2,   0.0021,2,   0.0011,2,   0.0000,2,  2336.8,2,  2383.6,2,   7.4458,2,    25.00,    0.00,2,  -208.6,2,     1.9,        0,2, -999.00,9,    40.6,2,   45.10,2, -999.00,9,     33.084,2, -999.00,9,  -999.0,9,     -999.0,     -999.0,9,     -999.0,9,     -999.0,     -999.0,9,     -999.0,     -999.0,9,     -999.0,     -999.0,     -999.0,9,     -999.0,9,     -999.0,9,     -999.0,9,     -999.0,9,     -999.0,9,     -999.0,9,     -999.0,9
33RO20161119,        P18,      47,          1,         10,      11109,2,20161205,       1441,     2.0003,  -110.0001,       3749,  1223.4,   3.9312,  34.5796,2,  34.5797,2,     67.9,2,    67.7,2,   101.6,2,    41.9,2,    0.01,2,   3.008,2,   0.0019,2,   0.0014,2,   0.0181,2,  2326.2,2,  2368.7,2,   7.4265,2,    25.00, -999.00,9,  -999.0,9,  -999.0,   0.0135,2, -999.00,9,    41.0,2,   46.00,2, -999.00,9,     36.003,2, -999.00,9,  -999.0,9,     -999.0,     -999.0,9,     -999.0,9,     -999.0,     -999.0,9,     -999.0,     -999.0,9,     -999.0,     -999.0,     -999.0,9,     -999.0,9,     -999.0,9,     -999.0,9,     -999.0,9,     -999.0,9,     -999.0,9,     -999.0,9
33RO20161119,        P18,      47,          1,         11,      11110,2,20161205,       1441,     2.0003,  -110.0001,       3749,  1095.0,   4.4628,  34.5673,2,  34.5675,2,     62.6,2,    62.6,2,    90.4,2,    42.0,2,    0.01,2,   3.006,2,   0.0061,2,   0.0027,2,   0.0000,2,  2316.5,2,  2355.6,2,   7.4195,2,    25.00,    0.07,2,  -185.3,2,     1.7,        0,2, -999.00,9,    41.3,2,   46.00,2, -999.00,9,    38.0648,2, -999.00,9,  -999.0,9,     -999.0,     -999.0,9,     -999.0,9,     -999.0,     -999.0,9,     -999.0,     -999.0,9,     -999.0,     -999.0,     -999.0,9,     -999.0,9,     -999.0,9,     -999.0,9,     -999.0,9,     -999.0,9,     -999.0,9,     -999.0,9
33RO20161119,        P18,      47,          1,         12,      11111,2,20161205,       1441,     2.0003,  -110.0001,       3749,   969.9,   5.0866,  34.5557,2,  34.5569,2,     61.2,2,    61.3,2,    76.8,2,    41.4,2,    0.01,2,   2.974,2,   0.0088,2,   0.0058,2,   0.0265,2,  2301.9,2,  2340.7,2,   7.4197,2,    25.00, -999.00,9,  -999.0,9,  -999.0,   0.0359,2, -999.00,9,    41.3,2,   43.10,2, -999.00,9,     39.229,2, -999.00,9,  -999.0,9,     -999.0,     -999.0,9,     -999.0,9,     -999.0,     -999.0,9,     -999.0,     -999.0,9,     -999.0,     -999.0,     -999.0,9,     -999.0,9,     -999.0,9,     -999.0,9,     -999.0,9,     -999.0,9,     -999.0,9,     -999.0,9
33RO20161119,        P18,      47,          1,         13,      11112,2,20161205,       1441,     2.0003,  -110.0001,       3749,   849.8,   5.6066,  34.5531,2,  34.5532,2,     56.2,2,    56.9,2,    67.8,2,    41.5,2,    0.01,2,   2.954,2,   0.0191,2,   0.0106,2,   0.0000,2,  2294.2,2,  2332.8,2,   7.4165,2,    25.00,    0.06,2,  -155.7,2,     1.8,   0.0467,2, -999.00,9,    41.1,2,   42.70,2, -999.00,9,    41.0784,2, -999.00,9,  -999.0,9,     -999.0,     -999.0,9,     -999.0,9,     -999.0,     -999.0,9,     -999.0,     -999.0,9,     -999.0,     -999.0,     -999.0,9,     -999.0,9,     -999.0,9,     -999.0,9,     -999.0,9,     -999.0,9,     -999.0,9,     -999.0,9
33RO20161119,        P18,      47,          1,         14,      11113,2,20161205,       1441,     2.0003,  -110.0001,       3749,   732.7,   6.3150,  34.5578,2,  34.5585,2,     55.9,2,    55.4,2,    56.9,2,    40.4,2,    0.01,2,   2.869,2,   0.0652,2,   0.0357,2,   0.0245,2,  2281.7,2,  2320.5,2,   7.4247,2,    25.00, -999.00,9,  -999.0,9,  -999.0,   0.0618,2, -999.00,9,    41.7,2,   42.00,2, -999.00,9,    43.3145,2, -999.00,9,  -999.0,9,     -999.0,     -999.0,9,     -999.0,9,     -999.0,     -999.0,9,     -999.0,     -999.0,9,     -999.0,     -999.0,     -999.0,9,     -999.0,9,     -999.0,9,     -999.0,9,     -999.0,9,     -999.0,9,     -999.0,9,     -999.0,9
33RO20161119,        P18,      47,          1,         15,      11114,2,20161205,       1441,     2.0003,  -110.0001,       3749,   620.0,   7.1233,  34.5790,2,  34.5845,2,     51.7,2,    52.1,2,    47.7,2,    39.4,2,    0.01,2,   2.794,2,   0.1355,2,   0.0739,2,   0.0000,2,  2271.0,2,  2315.9,2,   7.4268,2,    25.00,    0.24,2,  -115.7,2,     1.8,   0.0481,2, -999.00,9,    42.3,2,   41.70,2, -999.00,9,    45.2116,2, -999.00,9,  -999.0,9,     -999.0,     -999.0,9,     -999.0,9,     -999.0,     -999.0,9,     -999.0,     -999.0,9,     -999.0,     -999.0,     -999.0,9,     -999.0,9,     -999.0,9,     -999.0,9,     -999.0,9,     -999.0,9,     -999.0,9,     -999.0,9
33RO20161119,        P18,      47,          1,         16,      11115,2,20161205,       1441,     2.0003,  -110.0001,       3749,   510.6,   8.5733,  34.6475,2,  34.6451,2,     24.2,2,    25.1,6,    39.9,2,    39.3,2,    0.02,2,   2.752,2,   0.2473,2,   0.1362,2,   0.0500,2,  2273.7,2,  2305.3,6,   7.3939,2,    25.00, -999.00,9,  -999.0,9,  -999.0,   0.0464,2, -999.00,9,    42.8,2,   41.00,2, -999.00,9,    56.1544,2, -999.00,9,  -999.0,9,     -999.0,     -999.0,9,     -999.0,9,     -999.0,     -999.0,9,     -999.0,     -999.0,9,     -999.0,     -999.0,     -999.0,9,     -999.0,9,     -999.0,9,     -999.0,9,     -999.0,9,     -999.0,9,     -999.0,9,     -999.0,9
33RO20161119,        P18,      47,          1,         17,      11116,2,20161205,       1441,     2.0003,  -110.0001,       3749,   410.1,   9.3684,  34.6939,2,  34.6963,2,     12.5,2,    12.6,6,    36.9,2,    38.5,2,    0.02,2,   2.715,2,   0.3633,2,   0.2005,2,   0.0764,2,  2274.9,2,  2303.1,2,   7.3822,6,    25.00,   -0.04,2,   -69.6,2,     1.8,   0.1003,2, -999.00,9,    43.2,2,   43.50,2, -999.00,9,    63.4931,2, -999.00,9,  -999.0,9,     -999.0,     -999.0,9,     -999.0,9,     -999.0,     -999.0,9,     -999.0,     -999.0,9,     -999.0,     -999.0,     -999.0,9,     -999.0,9,     -999.0,9,     -999.0,9,     -999.0,9,     -999.0,9,     -999.0,9,     -999.0,9
33RO20161119,        P18,      47,          1,         18,      11117,2,20161205,       1441,     2.0003,  -110.0001,       3749,   314.6,  10.5135,  34.7436,2,  34.7444,2,     29.5,2,    29.8,2,    30.2,2,    34.3,2,    0.02,2,   2.416,2,   0.7657,2,   0.4196,2,   0.2344,2,  2250.5,2,  2300.2,2,   7.4468,2,    25.00,    0.04,2,   -38.3,2,     2.0,   0.0807,2, -999.00,9,    45.2,2,   37.80,2, -999.00,9,    57.6558,2, -999.00,9,  -999.0,9,     -999.0,     -999.0,9,     -999.0,9,     -999.0,     -999.0,9,     -999.0,     -999.0,9,     -999.0,     -999.0,     -999.0,9,     -999.0,9,     -999.0,9,     -999.0,9,     -999.0,9,     -999.0,9,     -999.0,9,     -999.0,9
33RO20161119,        P18,      47,          1,         19,      11083,2,20161205,       1441,     2.0003,  -110.0001,       3749,   235.0,  12.0506,  34.8374,2,  34.8374,2,     25.9,2,    27.5,2,    25.5,2,    32.3,2,    0.02,2,   2.281,2,   1.0893,6,   0.6062,6,   0.2840,6,  2240.7,2,  2298.6,2,   7.4719,2,    25.00,   -0.10,2,    -8.6,2,     2.0,   0.0951,2, -999.00,9,    44.5,2,   34.10,2, -999.00,9,    61.4321,2, -999.00,9,  -999.0,9,     -999.0,     -999.0,9,     -999.0,9,     -999.0,     -999.0,9,     -999.0,     -999.0,9,     -999.0,     -999.0,     -999.0,9,     -999.0,9,     -999.0,9,     -999.0,9,     -999.0,9,     -999.0,9,     -999.0,9,     -999.0,9
33RO20161119,        P18,      47,          1,         20,      11118,2,20161205,       1441,     2.0003,  -110.0001,       3749,   164.7,  13.2021,  34.9130,2,  34.9143,2,     54.0,2,    53.2,2,    20.1,2,    28.1,2,    0.02,2,   2.010,2,   1.4546,2,   0.8108,2,   0.4346,2,  2213.2,2,  2301.3,2,   7.5636,2,    25.00,    0.06,2,     5.5,2,     1.9,   0.1181,2, -999.00,9,    46.6,2,   30.50,2, -999.00,9,    50.2657,2, -999.00,9,  -999.0,9,     -999.0,     -999.0,9,     -999.0,9,     -999.0,     -999.0,9,     -999.0,     -999.0,9,     -999.0,     -999.0,     -999.0,9,     -999.0,9,     -999.0,9,     -999.0,9,     -999.0,9,     -999.0,9,     -999.0,9,     -999.0,9
33RO20161119,        P18,      47,          1,         21,      11119,2,20161205,       1441,     2.0003,  -110.0001,       3749,   100.3,  14.1235,  34.9380,2,  34.9383,2,     60.5,2,    59.8,2,    17.8,2,    26.4,2,    0.03,2,   1.903,2,   1.6112,2,   0.9149,2,   0.5596,2,  2201.3,2,  2298.2,2,   7.5943,2,    25.00,    0.26,2,    13.0,2,     2.0,    0.429,2, -999.00,9,    45.3,2,   27.50,2, -999.00,9,    44.1252,2, -999.00,9,  -999.0,9,     -999.0,     -999.0,9,     -999.0,9,     -999.0,     -999.0,9,     -999.0,     -999.0,9,     -999.0,     -999.0,     -999.0,9,     -999.0,9,     -999.0,9,     -999.0,9,     -999.0,9,     -999.0,9,     -999.0,9,     -999.0,9
33RO20161119,        P18,      47,          1,         22,      11120,2,20161205,       1441,     2.0003,  -110.0001,       3749,    50.5,  18.8130,  34.8220,2,  34.8666,2,    127.1,2,   117.4,2,     9.9,2,    16.4,2,    0.72,2,   1.360,2,   1.8298,2,   1.0814,2,   0.9749,2,  2132.7,2,  2293.2,6,   7.7596,2,    25.00,    0.34,2,    25.8,2,     3.2,   1.3458,2, -999.00,9,    51.9,2,   19.60,2, -999.00,9,    29.4112,2, -999.00,9,  -999.0,9,     -999.0,     -999.0,9,     -999.0,9,     -999.0,     -999.0,9,     -999.0,     -999.0,9,     -999.0,     -999.0,     -999.0,9,     -999.0,9,     -999.0,9,     -999.0,9,     -999.0,9,     -999.0,9,     -999.0,9,     -999.0,9
33RO20161119,        P18,      47,          1,         23,      11121,2,20161205,       1441,     2.0003,  -110.0001,       3749,    20.2,  25.6956,  33.6482,2,  33.6744,2,    182.3,4,   202.0,2,     1.3,2,     0.5,2,    0.04,2,   0.257,2,   1.6430,2,   1.0410,2,   1.4054,2,  1942.8,2,  2219.4,2,   8.0362,2,    25.00,    1.13,2,    27.2,2,     2.0,   1.5171,2, -999.00,9,    73.1,2,    4.50,2, -999.00,9,     8.8416,2, -999.00,9,  -999.0,9,     -999.0,     -999.0,9,     -999.0,9,     -999.0,     -999.0,9,     -999.0,     -999.0,9,     -999.0,     -999.0,     -999.0,9,     -999.0,9,     -999.0,9,     -999.0,9,     -999.0,9,     -999.0,9,     -999.0,9,     -999.0,9
33RO20161119,        P18,      47,          1,         24,      11122,2,20161205,       1441,     2.0003,  -110.0001,       3749,     3.1,  25.6926,  33.6499,2,  33.6515,2,    181.9,4,   204.9,2,     1.2,2,     0.3,2,    0.03,2,   0.250,2,   1.6138,2,   1.0253,2,   1.3944,2,  1922.3,6,  2214.1,2,   8.0565,2,    25.00,    1.18,2,    26.3,2,     2.7,        0,2, -999.00,9,    67.9,2,    3.30,2, -999.00,9,     7.2342,2, -999.00,9,  -999.0,9,     -999.0,     -999.0,9,     -999.0,9,     -999.0,     -999.0,9,     -999.0,     -999.0,9,     -999.0,     -999.0,     -999.0,9,     -999.0,9,     -999.0,9,     -999.0,9,     -999.0,9,     -999.0,9,     -999.0,9,     -999.0,9