BOTTLE,20230606CCHSIOCBG
EXPOCODE,SECT_ID,STNNBR,CASTNO,SAMPNO,BTLNBR,BTLNBR_FLAG_W,DATE,TIME,LATITUDE,LONGITUDE,DEPTH,CTDPRS,CTDTMP,CTDSAL,CTDSAL_FLAG_W,SALNTY,SALNTY_FLAG_W,CTDOXY,CTDOXY_FLAG_W,OXYGEN,OXYGEN_FLAG_W,SILCAT,SILCAT_FLAG_W,NITRAT,NITRAT_FLAG_W,NITRIT,NITRIT_FLAG_W,PHSPHT,PHSPHT_FLAG_W,CFC-11,CFC-11_FLAG_W,CFC-12,CFC-12_FLAG_W,SF6,SF6_FLAG_W,TCARBN,TCARBN_FLAG_W,ALKALI,ALKALI_FLAG_W,PH_SWS,PH_SWS_FLAG_W,PH_TMP,DELC13,DELC13_FLAG_W,DELC14,DELC14_FLAG_W,C14ERR,CCL4,CCL4_FLAG_W,POC,POC_FLAG_W,DOC,DOC_FLAG_W,TDN,TDN_FLAG_W,PON,PON_FLAG_W,N2O,N2O_FLAG_W,D15N_NO3,D15N_NO3_FLAG_W,14C-DOC,14C-DOC_FLAG_W,14C-DOCERR,13C-DOC,13C-DOC_FLAG_W,N2/ARGON_UNSTRIPPED,N2/ARGON_UNSTRIPPED_FLAG_W,N2/ARGON_UNSTRIPPED_ERROR,N2/ARGON,N2/ARGON_FLAG_W,N2/ARGON_ERROR,D15N_N2,D15N_N2_FLAG_W,D15N_N2_ERROR,D15N_NO3_ERROR,D15N_NO2+NO3,D15N_NO2+NO3_FLAG_W,D18O_NO2+NO3,D18O_NO2+NO3_FLAG_W,D18O_NO3,D18O_NO3_FLAG_W,TDP,TDP_FLAG_W,N2O_ALT_1,N2O_ALT_1_FLAG_W,D15N_N2O,D15N_N2O_FLAG_W,D18O_N2O,D18O_N2O_FLAG_W,D15N_ALPHA_N2O,D15N_ALPHA_N2O_FLAG_W
,,,,,,,,,,,METERS,DBAR,ITS-90,PSS-78,,PSS-78,,UMOL/KG,,UMOL/KG,,UMOL/KG,,UMOL/KG,,UMOL/KG,,UMOL/KG,,PMOL/KG,,PMOL/KG,,FMOL/KG,,UMOL/KG,,UMOL/KG,,,,DEG C,/MILLE,,/MILLE,,/MILLE,PMOL/KG,,UG/KG,,UMOL/KG,,UMOL/KG,,UG/KG,,NMOL/KG,,/MILLE,,/MILLE,,/MILLE,/MILLE,,,,,,,,/MILLE,,/MILLE,/MILLE,/MILLE,,/MILLE,,/MILLE,,UMOL/KG,,NMOL/L,,/MILLE,,/MILLE,,/MILLE,
33RO20161119,        P18,      10,          1,          1,      11010,2,20161126,       1127,    19.4999,  -109.9986,       3259,  3271.4,   1.7042,  34.6701,2,  34.6717,2,    116.0,2,   115.9,6,   160.7,6,    38.4,6,    0.01,6,   2.664,6,   0.0071,2,   0.0077,2,   0.0000,2,  2358.2,6,  2436.3,2,   7.5183,2,    25.00, -999.00,9,  -999.0,9,  -999.0,    0.013,2, -999.00,9,  -999.0,9, -999.00,9, -999.00,9,    22.5779,2, -999.00,9,  -999.0,9,     -999.0,     -999.0,9,     -999.0,9,     -999.0,     -999.0,9,     -999.0,     -999.0,9,     -999.0,     -999.0,     -999.0,9,     -999.0,9,     -999.0,9,     -999.0,9,     -999.0,9,     -999.0,9,     -999.0,9,     -999.0,9
33RO20161119,        P18,      10,          1,          2,      11101,2,20161126,       1127,    19.4999,  -109.9986,       3259,  2991.1,   1.7082,  34.6704,2,  34.6705,2,    114.0,2,   114.2,2,   159.8,6,    38.5,6,    0.02,6,   2.670,6,-999.0000,9,-999.0000,9,-999.0000,9,  2359.9,2,  2430.0,6,   7.5154,2,    25.00, -999.00,9,  -999.0,9,  -999.0,-999.0000,9, -999.00,9,  -999.0,9, -999.00,9, -999.00,9,     -999.0,9, -999.00,9,  -999.0,9,     -999.0,     -999.0,9,     -999.0,9,     -999.0,     -999.0,9,     -999.0,     -999.0,9,     -999.0,     -999.0,     -999.0,9,     -999.0,9,     -999.0,9,     -999.0,9,     -999.0,9,     -999.0,9,     -999.0,9,     -999.0,9
33RO20161119,        P18,      10,          1,          3,      11102,2,20161126,       1127,    19.4999,  -109.9986,       3259,  2785.8,   1.7609,  34.6675,2,  34.6664,2,    110.7,2,   109.9,2,   158.3,6,    38.8,6,    0.02,6,   2.699,6,-999.0000,9,-999.0000,9,-999.0000,9,  2362.9,2,  2428.8,2,   7.5059,6,    25.00, -999.00,9,  -999.0,9,  -999.0,-999.0000,9, -999.00,9,  -999.0,9, -999.00,9, -999.00,9,     -999.0,9, -999.00,9,  -999.0,9,     -999.0,     -999.0,9,     -999.0,9,     -999.0,     -999.0,9,     -999.0,     -999.0,9,     -999.0,     -999.0,     -999.0,9,     -999.0,9,     -999.0,9,     -999.0,9,     -999.0,9,     -999.0,9,     -999.0,9,     -999.0,9
33RO20161119,        P18,      10,          1,          4,      11103,2,20161126,       1127,    19.4999,  -109.9986,       3259,  2526.6,   1.8246,  34.6632,2,  34.6619,2,    105.6,2,   105.0,2,   156.3,6,    39.2,6,    0.01,6,   2.721,6,   0.0044,6,   0.0033,6,   0.0000,6,  2363.3,2,  2426.4,2,   7.4998,2,    25.00, -999.00,9,  -999.0,9,  -999.0,   0.0156,2, -999.00,9,  -999.0,9, -999.00,9, -999.00,9,    24.5422,2, -999.00,9,  -999.0,9,     -999.0,     -999.0,9,     -999.0,9,     -999.0,     -999.0,9,     -999.0,     -999.0,9,     -999.0,     -999.0,     -999.0,9,     -999.0,9,     -999.0,9,     -999.0,9,     -999.0,9,     -999.0,9,     -999.0,9,     -999.0,9
33RO20161119,        P18,      10,          1,          5,      11104,2,20161126,       1127,    19.4999,  -109.9986,       3259,  2310.3,   1.9066,  34.6574,2,  34.6570,2,    100.3,2,    99.8,2,   154.6,2,    39.5,2,    0.01,2,   2.757,2,-999.0000,9,-999.0000,9,-999.0000,9,  2365.0,2,  2424.2,2,   7.4855,2,    25.00, -999.00,9,  -999.0,9,  -999.0,-999.0000,9, -999.00,9,  -999.0,9, -999.00,9, -999.00,9,     -999.0,9, -999.00,9,  -999.0,9,     -999.0,     -999.0,9,     -999.0,9,     -999.0,     -999.0,9,     -999.0,     -999.0,9,     -999.0,     -999.0,     -999.0,9,     -999.0,9,     -999.0,9,     -999.0,9,     -999.0,9,     -999.0,9,     -999.0,9,     -999.0,9
33RO20161119,        P18,      10,          1,          6,      11105,2,20161126,       1127,    19.4999,  -109.9986,       3259,  2040.3,   2.1385,  34.6421,2,  34.6440,2,     86.5,2,    86.0,2,   150.7,2,    40.4,2,    0.01,2,   2.854,2,   0.0038,2,   0.0034,2,   0.0000,2,  2369.6,2,  2417.3,2,   7.4579,2,    25.00, -999.00,9,  -999.0,9,  -999.0,        0,2, -999.00,9,  -999.0,9, -999.00,9, -999.00,9,    27.5185,2, -999.00,9,  -999.0,9,     -999.0,     -999.0,9,     -999.0,9,     -999.0,     -999.0,9,     -999.0,     -999.0,9,     -999.0,     -999.0,     -999.0,9,     -999.0,9,     -999.0,9,     -999.0,9,     -999.0,9,     -999.0,9,     -999.0,9,     -999.0,9
33RO20161119,        P18,      10,          1,          7,      11106,2,20161126,       1127,    19.4999,  -109.9986,       3259,  1800.7,   2.4427,  34.6276,2,  34.6286,2,     70.8,2,    71.0,2,   145.2,2,    41.5,2,    0.02,2,   2.943,2,-999.0000,9,-999.0000,9,-999.0000,9,  2370.7,2,  2410.6,2,   7.4146,3,    25.00, -999.00,9,  -999.0,9,  -999.0,-999.0000,9, -999.00,9,  -999.0,9, -999.00,9, -999.00,9,     -999.0,9, -999.00,9,  -999.0,9,     -999.0,     -999.0,9,     -999.0,9,     -999.0,     -999.0,9,     -999.0,     -999.0,9,     -999.0,     -999.0,     -999.0,9,     -999.0,9,     -999.0,9,     -999.0,9,     -999.0,9,     -999.0,9,     -999.0,9,     -999.0,9
33RO20161119,        P18,      10,          1,          8,      11107,2,20161126,       1127,    19.4999,  -109.9986,       3259,  1565.1,   2.8372,  34.6085,2,  34.6078,2,     54.2,2,    53.9,2,   137.3,2,    42.6,2,    0.02,2,   3.058,2,   0.0059,2,   0.0023,2,   0.0000,2,  2371.6,2,  2400.9,2,   7.3996,2,    25.00, -999.00,9,  -999.0,9,  -999.0,   0.0152,2, -999.00,9,  -999.0,9, -999.00,9, -999.00,9,    34.8994,2, -999.00,9,  -999.0,9,     -999.0,     -999.0,9,     -999.0,9,     -999.0,     -999.0,9,     -999.0,     -999.0,9,     -999.0,     -999.0,     -999.0,9,     -999.0,9,     -999.0,9,     -999.0,9,     -999.0,9,     -999.0,9,     -999.0,9,     -999.0,9
33RO20161119,        P18,      10,          1,          9,      11108,2,20161126,       1127,    19.4999,  -109.9986,       3259,  1283.8,   3.4809,  34.5720,2,  34.5713,2,     31.3,2,    31.1,2,   126.3,2,    43.9,2,    0.01,2,   3.238,2,-999.0000,9,-999.0000,9,-999.0000,9,  2372.5,2,  2384.6,2,   7.3517,2,    25.00, -999.00,9,  -999.0,9,  -999.0,-999.0000,9, -999.00,9,  -999.0,9, -999.00,9, -999.00,9,     -999.0,9, -999.00,9,  -999.0,9,     -999.0,     -999.0,9,     -999.0,9,     -999.0,     -999.0,9,     -999.0,     -999.0,9,     -999.0,     -999.0,     -999.0,9,     -999.0,9,     -999.0,9,     -999.0,9,     -999.0,9,     -999.0,9,     -999.0,9,     -999.0,9
33RO20161119,        P18,      10,          1,         10,      11109,2,20161126,       1127,    19.4999,  -109.9986,       3259,  1105.5,   4.0429,  34.5503,2,  34.5477,2,     18.5,2,    18.3,2,   113.8,2,    44.5,2,    0.01,2,   3.298,2,   0.0095,6,   0.0036,6,   0.0316,6,  2368.2,2,  2373.3,2,   7.3257,2,    25.00, -999.00,9,  -999.0,9,  -999.0,   0.0252,2, -999.00,9,  -999.0,9, -999.00,9, -999.00,9,    47.6076,2, -999.00,9,  -999.0,9,     -999.0,     -999.0,9,     -999.0,9,     -999.0,     -999.0,9,     -999.0,     -999.0,9,     -999.0,     -999.0,     -999.0,9,     -999.0,9,     -999.0,9,     -999.0,9,     -999.0,9,     -999.0,9,     -999.0,9,     -999.0,9
33RO20161119,        P18,      10,          1,         11,      11110,2,20161126,       1127,    19.4999,  -109.9986,       3259,   996.3,   4.3803,  34.5323,2,  34.5371,2,     13.3,2,    12.8,2,   107.4,2,    44.3,2,    0.02,2,   3.306,2,-999.0000,9,-999.0000,9,-999.0000,9,  2362.0,6,  2365.2,2,   7.3141,2,    25.00, -999.00,9,  -999.0,9,  -999.0,-999.0000,9, -999.00,9,  -999.0,9, -999.00,9, -999.00,9,     -999.0,9, -999.00,9,  -999.0,9,     -999.0,     -999.0,9,     -999.0,9,     -999.0,     -999.0,9,     -999.0,     -999.0,9,     -999.0,     -999.0,     -999.0,9,     -999.0,9,     -999.0,9,     -999.0,9,     -999.0,9,     -999.0,9,     -999.0,9,     -999.0,9
33RO20161119,        P18,      10,          1,         12,      11111,2,20161126,       1127,    19.4999,  -109.9986,       3259,   885.6,   4.8738,  34.5114,2,  34.5121,2,      8.9,2,     8.6,2,    97.6,2,    43.5,2,    0.01,2,   3.282,2,   0.0087,2,   0.0047,2,   0.0000,2,  2352.3,2,  2355.6,2,   7.3150,2,    25.00, -999.00,9,  -999.0,9,  -999.0,   0.0221,2, -999.00,9,  -999.0,9, -999.00,9, -999.00,9,    53.5312,2, -999.00,9,  -999.0,9,     -999.0,     -999.0,9,     -999.0,9,     -999.0,     -999.0,9,     -999.0,     -999.0,9,     -999.0,     -999.0,     -999.0,9,     -999.0,9,     -999.0,9,     -999.0,9,     -999.0,9,     -999.0,9,     -999.0,9,     -999.0,9
33RO20161119,        P18,      10,          1,         13,      11112,2,20161126,       1127,    19.4999,  -109.9986,       3259,   784.9,   5.2985,  34.5026,2,  34.5067,2,      6.2,2,     5.7,2,    90.3,2,    42.6,2,    0.01,2,   3.265,2,-999.0000,9,-999.0000,9,-999.0000,9,  2346.5,2,  2347.2,2,   7.3113,2,    25.00, -999.00,9,  -999.0,9,  -999.0,-999.0000,9, -999.00,9,  -999.0,9, -999.00,9, -999.00,9,     -999.0,9, -999.00,9,  -999.0,9,     -999.0,     -999.0,9,     -999.0,9,     -999.0,     -999.0,9,     -999.0,     -999.0,9,     -999.0,     -999.0,     -999.0,9,     -999.0,9,     -999.0,9,     -999.0,9,     -999.0,9,     -999.0,9,     -999.0,9,     -999.0,9
33RO20161119,        P18,      10,          1,         14,      11113,2,20161126,       1127,    19.4999,  -109.9986,       3259,   680.6,   5.9729,  34.5074,2,  34.5054,2,      3.5,2,     3.3,2,    80.8,2,    40.7,2,    0.02,2,   3.237,2,   0.0155,2,   0.0085,2,   0.0000,2,  2335.4,2,  2339.3,2,   7.3147,2,    25.00, -999.00,9,  -999.0,9,  -999.0,        0,2, -999.00,9,  -999.0,9, -999.00,9, -999.00,9,    51.8316,2, -999.00,9,  -999.0,9,     -999.0,     -999.0,9,     -999.0,9,     -999.0,     -999.0,9,     -999.0,     -999.0,9,     -999.0,     -999.0,     -999.0,9,     -999.0,9,     -999.0,9,     -999.0,9,     -999.0,9,     -999.0,9,     -999.0,9,     -999.0,9
33RO20161119,        P18,      10,          1,         15,      11114,2,20161126,       1127,    19.4999,  -109.9986,       3259,   585.3,   6.6666,  34.4885,2,  34.4874,2,      3.8,2,     3.5,2,    71.5,2,    38.1,2,    0.01,2,   3.155,2,-999.0000,9,-999.0000,9,-999.0000,9,  2324.4,2,  2328.1,2,   7.3185,2,    25.00, -999.00,9,  -999.0,9,  -999.0,-999.0000,9, -999.00,9,  -999.0,9, -999.00,9, -999.00,9,     -999.0,9, -999.00,9,  -999.0,9,     -999.0,     -999.0,9,     -999.0,9,     -999.0,     -999.0,9,     -999.0,     -999.0,9,     -999.0,     -999.0,     -999.0,9,     -999.0,9,     -999.0,9,     -999.0,9,     -999.0,9,     -999.0,9,     -999.0,9,     -999.0,9
33RO20161119,        P18,      10,          1,         16,      11115,2,20161126,       1127,    19.4999,  -109.9986,       3259,   494.1,   7.6908,  34.4925,2,  34.4907,2,      3.9,2,     4.0,2,    59.6,2,    34.6,2,    0.01,2,   3.024,2,   0.1210,2,   0.0669,2,   0.0364,2,  2307.7,2,  2314.0,6,   7.3279,2,    25.00, -999.00,9,  -999.0,9,  -999.0,   0.0421,2, -999.00,9,  -999.0,9, -999.00,9, -999.00,9,    46.5467,2, -999.00,9,  -999.0,9,     -999.0,     -999.0,9,     -999.0,9,     -999.0,     -999.0,9,     -999.0,     -999.0,9,     -999.0,     -999.0,     -999.0,9,     -999.0,9,     -999.0,9,     -999.0,9,     -999.0,9,     -999.0,9,     -999.0,9,     -999.0,9
33RO20161119,        P18,      10,          1,         17,      11116,2,20161126,       1127,    19.4999,  -109.9986,       3259,   410.6,   8.7471,  34.5346,2,  34.5347,2,      3.8,2,     3.8,2,    50.6,2,    31.0,2,    0.02,2,   2.916,2,-999.0000,9,-999.0000,9,-999.0000,9,  2297.8,2,  2309.4,2,   7.3375,2,    25.00, -999.00,9,  -999.0,9,  -999.0,-999.0000,9, -999.00,9,  -999.0,9, -999.00,9, -999.00,9,     -999.0,9, -999.00,9,  -999.0,9,     -999.0,     -999.0,9,     -999.0,9,     -999.0,     -999.0,9,     -999.0,     -999.0,9,     -999.0,     -999.0,     -999.0,9,     -999.0,9,     -999.0,9,     -999.0,9,     -999.0,9,     -999.0,9,     -999.0,9,     -999.0,9
33RO20161119,        P18,      10,          1,         18,      11117,2,20161126,       1127,    19.4999,  -109.9986,       3259,   321.7,   9.8633,  34.5993,2,  34.5981,2,      3.1,2,     3.1,2,    42.6,2,    27.0,2,    0.02,2,   2.820,2,   0.4147,2,   0.2329,2,   0.0926,2,  2289.7,2,  2306.7,2,   7.3516,2,    25.00, -999.00,9,  -999.0,9,  -999.0,   0.0699,2, -999.00,9,  -999.0,9, -999.00,9, -999.00,9,    24.4134,2, -999.00,9,  -999.0,9,     -999.0,     -999.0,9,     -999.0,9,     -999.0,     -999.0,9,     -999.0,     -999.0,9,     -999.0,     -999.0,     -999.0,9,     -999.0,9,     -999.0,9,     -999.0,9,     -999.0,9,     -999.0,9,     -999.0,9,     -999.0,9
33RO20161119,        P18,      10,          1,         19,      11083,2,20161126,       1127,    19.4999,  -109.9986,       3259,   246.4,  11.1416,  34.6874,2,  34.6378,4,      2.6,2,    85.0,4,   103.7,4,    34.1,4,    0.02,4,   2.791,4,-999.0000,9,-999.0000,9,-999.0000,9,  2346.5,4,  2385.5,4,   7.4562,4,    25.00, -999.00,9,  -999.0,9,  -999.0,-999.0000,9, -999.00,9,  -999.0,9, -999.00,9, -999.00,9,     -999.0,9, -999.00,9,  -999.0,9,     -999.0,     -999.0,9,     -999.0,9,     -999.0,     -999.0,9,     -999.0,     -999.0,9,     -999.0,     -999.0,     -999.0,9,     -999.0,9,     -999.0,9,     -999.0,9,     -999.0,9,     -999.0,9,     -999.0,9,     -999.0,9
33RO20161119,        P18,      10,          1,         20,      11118,2,20161126,       1127,    19.4999,  -109.9986,       3259,   185.5,  12.1606,  34.7207,2,  34.7224,2,      4.3,2,     4.0,2,    32.5,2,    24.0,2,    0.03,2,   2.646,2,   0.9846,2,   0.5787,2,   0.3250,2,  2274.4,2,  2304.9,2,   7.3935,2,    25.00, -999.00,9,  -999.0,9,  -999.0,   0.0465,2, -999.00,9,  -999.0,9, -999.00,9, -999.00,9,    26.3377,2, -999.00,9,  -999.0,9,     -999.0,     -999.0,9,     -999.0,9,     -999.0,     -999.0,9,     -999.0,     -999.0,9,     -999.0,     -999.0,     -999.0,9,     -999.0,9,     -999.0,9,     -999.0,9,     -999.0,9,     -999.0,9,     -999.0,9,     -999.0,9
33RO20161119,        P18,      10,          1,         21,      11119,2,20161126,       1127,    19.4999,  -109.9986,       3259,   125.2,  13.4537,  34.6405,2,  34.6399,2,     15.8,2,    14.3,2,    28.4,2,    23.8,2,    0.03,2,   2.545,2,-999.0000,9,-999.0000,9,-999.0000,9,  2259.4,2,  2299.0,2,   7.4194,2,    25.00, -999.00,9,  -999.0,9,  -999.0,-999.0000,9, -999.00,9,  -999.0,9, -999.00,9, -999.00,9,     -999.0,9, -999.00,9,  -999.0,9,     -999.0,     -999.0,9,     -999.0,9,     -999.0,     -999.0,9,     -999.0,     -999.0,9,     -999.0,     -999.0,     -999.0,9,     -999.0,9,     -999.0,9,     -999.0,9,     -999.0,9,     -999.0,9,     -999.0,9,     -999.0,9
33RO20161119,        P18,      10,          1,         22,      11120,2,20161126,       1127,    19.4999,  -109.9986,       3259,    69.9,  16.9553,  34.3978,2,  34.4131,2,     93.7,2,    75.6,2,    15.3,2,    16.3,2,    0.06,2,   1.798,2,   1.9638,2,   1.1686,2,   1.1903,2,  2181.9,2,  2281.2,2,   7.6053,6,    25.00, -999.00,9,  -999.0,9,  -999.0,   0.3308,2, -999.00,9,  -999.0,9, -999.00,9, -999.00,9,      40.13,2, -999.00,9,  -999.0,9,     -999.0,     -999.0,9,     -999.0,9,     -999.0,     -999.0,9,     -999.0,     -999.0,9,     -999.0,     -999.0,     -999.0,9,     -999.0,9,     -999.0,9,     -999.0,9,     -999.0,9,     -999.0,9,     -999.0,9,     -999.0,9
33RO20161119,        P18,      10,          1,         23,      11121,2,20161126,       1127,    19.4999,  -109.9986,       3259,    30.6,  28.5828,  34.9164,2,  34.7753,2,    200.1,2,   199.3,2,     2.3,2,     0.0,2,    0.02,2,   0.401,2,   1.5699,2,   0.9762,2,   1.3959,2,  2010.9,2,  2309.0,6,   8.0428,2,    25.00, -999.00,9,  -999.0,9,  -999.0,   1.1832,2, -999.00,9,  -999.0,9, -999.00,9, -999.00,9,     8.0691,2, -999.00,9,  -999.0,9,     -999.0,     -999.0,9,     -999.0,9,     -999.0,     -999.0,9,     -999.0,     -999.0,9,     -999.0,     -999.0,     -999.0,9,     -999.0,9,     -999.0,9,     -999.0,9,     -999.0,9,     -999.0,9,     -999.0,9,     -999.0,9
33RO20161119,        P18,      10,          1,         24,      11122,2,20161126,       1127,    19.4999,  -109.9986,       3259,     2.9,  28.4543,  34.7395,2,  34.7372,2,    194.0,2,   209.9,3,     2.0,2,     0.0,2,    0.01,2,   0.355,2,   1.4798,2,   0.9276,2,   1.3956,2,  1994.0,6,  2302.7,2,   8.0641,2,    25.00, -999.00,9,  -999.0,9,  -999.0,   1.2757,2, -999.00,9,  -999.0,9, -999.00,9, -999.00,9,     6.4243,2, -999.00,9,  -999.0,9,     -999.0,     -999.0,9,     -999.0,9,     -999.0,     -999.0,9,     -999.0,     -999.0,9,     -999.0,     -999.0,     -999.0,9,     -999.0,9,     -999.0,9,     -999.0,9,     -999.0,9,     -999.0,9,     -999.0,9,     -999.0,9