BOTTLE,20230606CCHSIOCBG
EXPOCODE,SECT_ID,STNNBR,CASTNO,SAMPNO,BTLNBR,BTLNBR_FLAG_W,DATE,TIME,LATITUDE,LONGITUDE,DEPTH,CTDPRS,CTDTMP,CTDSAL,CTDSAL_FLAG_W,SALNTY,SALNTY_FLAG_W,CTDOXY,CTDOXY_FLAG_W,OXYGEN,OXYGEN_FLAG_W,SILCAT,SILCAT_FLAG_W,NITRAT,NITRAT_FLAG_W,NITRIT,NITRIT_FLAG_W,PHSPHT,PHSPHT_FLAG_W,CFC-11,CFC-11_FLAG_W,CFC-12,CFC-12_FLAG_W,SF6,SF6_FLAG_W,TCARBN,TCARBN_FLAG_W,ALKALI,ALKALI_FLAG_W,PH_SWS,PH_SWS_FLAG_W,PH_TMP,DELC13,DELC13_FLAG_W,DELC14,DELC14_FLAG_W,C14ERR,CCL4,CCL4_FLAG_W,POC,POC_FLAG_W,DOC,DOC_FLAG_W,TDN,TDN_FLAG_W,PON,PON_FLAG_W,N2O,N2O_FLAG_W,D15N_NO3,D15N_NO3_FLAG_W,14C-DOC,14C-DOC_FLAG_W,14C-DOCERR,13C-DOC,13C-DOC_FLAG_W,N2/ARGON_UNSTRIPPED,N2/ARGON_UNSTRIPPED_FLAG_W,N2/ARGON_UNSTRIPPED_ERROR,N2/ARGON,N2/ARGON_FLAG_W,N2/ARGON_ERROR,D15N_N2,D15N_N2_FLAG_W,D15N_N2_ERROR,D15N_NO3_ERROR,D15N_NO2+NO3,D15N_NO2+NO3_FLAG_W,D18O_NO2+NO3,D18O_NO2+NO3_FLAG_W,D18O_NO3,D18O_NO3_FLAG_W,TDP,TDP_FLAG_W,N2O_ALT_1,N2O_ALT_1_FLAG_W,D15N_N2O,D15N_N2O_FLAG_W,D18O_N2O,D18O_N2O_FLAG_W,D15N_ALPHA_N2O,D15N_ALPHA_N2O_FLAG_W
,,,,,,,,,,,METERS,DBAR,ITS-90,PSS-78,,PSS-78,,UMOL/KG,,UMOL/KG,,UMOL/KG,,UMOL/KG,,UMOL/KG,,UMOL/KG,,PMOL/KG,,PMOL/KG,,FMOL/KG,,UMOL/KG,,UMOL/KG,,,,DEG C,/MILLE,,/MILLE,,/MILLE,PMOL/KG,,UG/KG,,UMOL/KG,,UMOL/KG,,UG/KG,,NMOL/KG,,/MILLE,,/MILLE,,/MILLE,/MILLE,,,,,,,,/MILLE,,/MILLE,/MILLE,/MILLE,,/MILLE,,/MILLE,,UMOL/KG,,NMOL/L,,/MILLE,,/MILLE,,/MILLE,
33RO20161119,        P18,     179,          1,          1,      11010,2,20170117,       2209,   -55.5005,  -103.0007,       4659,  4721.1,   0.7266,  34.7048,2,  34.7078,2,    208.6,2,   208.0,2,   131.1,2,    33.0,2,    0.01,2,   2.233,2,   0.2657,2,   0.1246,2,   0.0542,2,  2266.3,6,  2361.2,2,   7.5932,2,    25.00,    0.45,6,  -165.0,6,     1.2,   0.1116,2, -999.00,9,    41.7,2,   31.80,2, -999.00,9,    18.4617,2, -999.00,9,  -999.0,9,     -999.0,     -999.0,9,     -999.0,9,     -999.0,     -999.0,9,     -999.0,     -999.0,9,     -999.0,     -999.0,     -999.0,9,     -999.0,9,     -999.0,9,     -999.0,9,     -999.0,9,     -999.0,9,     -999.0,9,     -999.0,9
33RO20161119,        P18,     179,          1,          2,      11101,2,20170117,       2209,   -55.5005,  -103.0007,       4659,  4252.2,   0.7881,  34.7076,2,  34.7081,2,    206.0,2,   205.8,2,   128.9,2,    33.0,2,    0.01,2,   2.231,2,   0.2137,2,   0.1026,2,   0.0497,2,  2263.5,2,  2367.8,2,   7.5976,2,    25.00,    0.62,2,  -163.4,2,     1.7,   0.1738,2, -999.00,9,    44.0,2,   32.60,2, -999.00,9,    18.6643,2, -999.00,9,  -999.0,9,     -999.0,     -999.0,9,     -999.0,9,     -999.0,     -999.0,9,     -999.0,     -999.0,9,     -999.0,     -999.0,     -999.0,9,     -999.0,9,     -999.0,9,     -999.0,9,     -999.0,9,     -999.0,9,     -999.0,9,     -999.0,9
33RO20161119,        P18,     179,          1,          3,      11102,2,20170117,       2209,   -55.5005,  -103.0007,       4659,  3785.0,   1.0646,  34.7142,2,  34.7145,2,    201.2,2,   200.6,2,   119.4,6,    32.5,6,    0.01,6,   2.207,6,   0.1527,2,   0.0738,2,   0.0383,2,  2263.0,2,  2369.2,2,   7.5963,2,    25.00,    0.61,2,  -169.7,2,     1.8,   0.5571,2, -999.00,9,    42.0,2,   31.30,2, -999.00,9,    18.6117,2, -999.00,9,  -999.0,9,     -999.0,     -999.0,9,     -999.0,9,     -999.0,     -999.0,9,     -999.0,     -999.0,9,     -999.0,     -999.0,     -999.0,9,     -999.0,9,     -999.0,9,     -999.0,9,     -999.0,9,     -999.0,9,     -999.0,9,     -999.0,9
33RO20161119,        P18,     179,          1,          4,      11103,2,20170117,       2209,   -55.5005,  -103.0007,       4659,  3426.0,   1.2929,  34.7203,2,  34.7190,2,    196.8,2,   196.7,2,   112.0,6,    32.2,6,    0.01,6,   2.200,6,   0.1117,2,   0.0555,2,   0.0335,2,  2261.3,2,  2366.3,2,   7.5986,2,    25.00,    0.49,2,  -165.1,2,     1.8,   1.0713,2, -999.00,9,    42.1,2,   31.50,2, -999.00,9,    18.9658,2, -999.00,9,  -999.0,9,     -999.0,     -999.0,9,     -999.0,9,     -999.0,     -999.0,9,     -999.0,     -999.0,9,     -999.0,     -999.0,     -999.0,9,     -999.0,9,     -999.0,9,     -999.0,9,     -999.0,9,     -999.0,9,     -999.0,9,     -999.0,9
33RO20161119,        P18,     179,          1,          5,      11104,2,20170117,       2209,   -55.5005,  -103.0007,       4659,  3063.9,   1.4772,  34.7208,2,  34.7215,2,    190.9,2,   190.9,2,   107.7,6,    32.3,6,    0.01,6,   2.197,6,   0.0793,2,   0.0379,2,   0.0428,2,  2265.5,2,  2366.9,2,   7.5959,2,    25.00,    0.55,2,  -172.2,2,     1.7,   1.7504,2, -999.00,9,    42.6,2,   32.00,2, -999.00,9,    19.1357,2, -999.00,9,  -999.0,9,     -999.0,     -999.0,9,     -999.0,9,     -999.0,     -999.0,9,     -999.0,     -999.0,9,     -999.0,     -999.0,     -999.0,9,     -999.0,9,     -999.0,9,     -999.0,9,     -999.0,9,     -999.0,9,     -999.0,9,     -999.0,9
33RO20161119,        P18,     179,          1,          6,      11105,2,20170117,       2209,   -55.5005,  -103.0007,       4659,  2719.0,   1.6364,  34.7182,2,  34.7174,2,    185.7,2,   185.0,2,   104.6,6,    32.4,6,    0.01,6,   2.218,6,   0.0704,2,   0.0339,2,   0.0604,2,  2267.8,2,  2370.6,2,   7.5942,2,    25.00,    0.57,2,  -175.7,2,     1.7,   2.4228,2, -999.00,9,    42.7,2,   31.80,2, -999.00,9,    19.4861,2, -999.00,9,  -999.0,9,     -999.0,     -999.0,9,     -999.0,9,     -999.0,     -999.0,9,     -999.0,     -999.0,9,     -999.0,     -999.0,     -999.0,9,     -999.0,9,     -999.0,9,     -999.0,9,     -999.0,9,     -999.0,9,     -999.0,9,     -999.0,9
33RO20161119,        P18,     179,          1,          7,      11106,2,20170117,       2209,   -55.5005,  -103.0007,       4659,  2360.3,   1.9486,  34.7176,2,  34.7166,2,    182.6,2,   182.1,2,    92.8,2,    32.0,2,    0.01,2,   2.183,2,   0.1312,2,   0.0646,2,   0.0000,2,  2258.8,2,  2363.2,2,   7.5876,2,    25.00,    0.61,2,  -162.8,2,     1.7,   2.6943,2, -999.00,9,    39.5,2,   34.60,2, -999.00,9,    20.1032,2, -999.00,9,  -999.0,9,     -999.0,     -999.0,9,     -999.0,9,     -999.0,     -999.0,9,     -999.0,     -999.0,9,     -999.0,     -999.0,     -999.0,9,     -999.0,9,     -999.0,9,     -999.0,9,     -999.0,9,     -999.0,9,     -999.0,9,     -999.0,9
33RO20161119,        P18,     179,          1,          8,      11107,2,20170117,       2209,   -55.5005,  -103.0007,       4659,  2004.6,   2.2137,  34.6871,2,  34.6883,2,    175.8,2,   175.5,2,    84.9,2,    32.7,2,    0.01,2,   2.234,2,-999.0000,9,-999.0000,9,-999.0000,9,  2258.8,2,  2352.2,2,   7.5736,6,    25.00,    0.58,2,  -161.9,2,     1.8,-999.0000,9, -999.00,9,    40.6,2,   34.90,2, -999.00,9,     -999.0,9, -999.00,9,  -999.0,9,     -999.0,     -999.0,9,     -999.0,9,     -999.0,     -999.0,9,     -999.0,     -999.0,9,     -999.0,     -999.0,     -999.0,9,     -999.0,9,     -999.0,9,     -999.0,9,     -999.0,9,     -999.0,9,     -999.0,9,     -999.0,9
33RO20161119,        P18,     179,          1,          9,      11108,2,20170117,       2209,   -55.5005,  -103.0007,       4659,  1695.5,   2.4282,  34.6189,2,  34.6167,2,    170.7,2,   170.8,6,    77.5,2,    33.7,2,    0.01,2,   2.298,2,   0.4382,2,   0.2162,2,   0.1067,2,  2256.2,2,  2342.6,6,   7.5555,2,    25.00,    0.55,2,  -149.8,2,     1.7,   2.8279,2, -999.00,9,    41.7,2,   36.30,2, -999.00,9,    22.0159,2, -999.00,9,  -999.0,9,     -999.0,     -999.0,9,     -999.0,9,     -999.0,     -999.0,9,     -999.0,     -999.0,9,     -999.0,     -999.0,     -999.0,9,     -999.0,9,     -999.0,9,     -999.0,9,     -999.0,9,     -999.0,9,     -999.0,9,     -999.0,9
33RO20161119,        P18,     179,          1,         10,      11109,2,20170117,       2209,   -55.5005,  -103.0007,       4659,  1493.2,   2.5909,  34.5481,2,  34.5484,2,    171.9,2,   171.6,2,    71.9,2,    34.5,2,    0.01,2,   2.340,2,-999.0000,9,-999.0000,9,-999.0000,9,  2252.5,6,  2334.9,2,   7.5482,2,    25.00,    0.56,2,  -140.3,2,     1.8,-999.0000,9, -999.00,9,    41.5,2,   36.80,2, -999.00,9,     -999.0,9, -999.00,9,  -999.0,9,     -999.0,     -999.0,9,     -999.0,9,     -999.0,     -999.0,9,     -999.0,     -999.0,9,     -999.0,     -999.0,     -999.0,9,     -999.0,9,     -999.0,9,     -999.0,9,     -999.0,9,     -999.0,9,     -999.0,9,     -999.0,9
33RO20161119,        P18,     179,          1,         11,      11110,2,20170117,       2209,   -55.5005,  -103.0007,       4659,  1335.1,   2.7635,  34.4745,2,  34.4747,2,    177.5,2,   177.4,2,    64.1,2,    34.6,2,    0.00,2,   2.346,2,   1.0651,2,   0.5387,2,   0.3318,2,  2244.4,2,  2333.1,2,   7.5508,2,    25.00,    0.55,2,  -133.3,2,     1.9,   3.3854,2, -999.00,9,    40.6,2,   38.10,2, -999.00,9,    22.4877,2, -999.00,9,  -999.0,9,     -999.0,     -999.0,9,     -999.0,9,     -999.0,     -999.0,9,     -999.0,     -999.0,9,     -999.0,     -999.0,     -999.0,9,     -999.0,9,     -999.0,9,     -999.0,9,     -999.0,9,     -999.0,9,     -999.0,9,     -999.0,9
33RO20161119,        P18,     179,          1,         12,      11111,2,20170117,       2209,   -55.5005,  -103.0007,       4659,  1179.6,   3.0802,  34.3980,2,  34.3973,2,    188.3,2,   187.7,2,    53.9,2,    33.9,2,    0.01,2,   2.316,2,-999.0000,9,-999.0000,9,-999.0000,9,  2229.9,2,  2319.9,2,   7.5622,2,    25.00,    0.65,2,  -113.3,2,     1.9,-999.0000,9, -999.00,9,    41.0,2,   37.20,2, -999.00,9,     -999.0,9, -999.00,9,  -999.0,9,     -999.0,     -999.0,9,     -999.0,9,     -999.0,     -999.0,9,     -999.0,     -999.0,9,     -999.0,     -999.0,     -999.0,9,     -999.0,9,     -999.0,9,     -999.0,9,     -999.0,9,     -999.0,9,     -999.0,9,     -999.0,9
33RO20161119,        P18,     179,          1,         13,      11112,2,20170117,       2209,   -55.5005,  -103.0007,       4659,  1029.4,   3.4449,  34.3411,2,  34.3396,2,    198.7,2,   198.5,2,    44.2,2,    32.7,2,    0.01,2,   2.239,2,   1.9777,2,   1.0184,2,   0.5719,2,  2216.7,2,  2307.1,2,   7.5780,2,    25.00,    0.74,2,   -95.8,2,     1.9,   4.2512,2, -999.00,9,    40.3,2,   37.30,2, -999.00,9,    20.7778,2, -999.00,9,  -999.0,9,     -999.0,     -999.0,9,     -999.0,9,     -999.0,     -999.0,9,     -999.0,     -999.0,9,     -999.0,     -999.0,     -999.0,9,     -999.0,9,     -999.0,9,     -999.0,9,     -999.0,9,     -999.0,9,     -999.0,9,     -999.0,9
33RO20161119,        P18,     179,          1,         14,      11113,2,20170117,       2209,   -55.5005,  -103.0007,       4659,   890.3,   4.0045,  34.2907,2,  34.2897,2,    211.4,2,   210.9,2,    33.1,2,    31.3,2,    0.01,2,   2.119,2,-999.0000,9,-999.0000,9,-999.0000,9,  2199.4,2,  2296.7,2,   7.6003,2,    25.00,    0.87,2,   -73.2,2,     3.0,-999.0000,9, -999.00,9,    40.2,2,   34.40,2, -999.00,9,     -999.0,9, -999.00,9,  -999.0,9,     -999.0,     -999.0,9,     -999.0,9,     -999.0,     -999.0,9,     -999.0,     -999.0,9,     -999.0,     -999.0,     -999.0,9,     -999.0,9,     -999.0,9,     -999.0,9,     -999.0,9,     -999.0,9,     -999.0,9,     -999.0,9
33RO20161119,        P18,     179,          1,         15,      11114,2,20170117,       2209,   -55.5005,  -103.0007,       4659,   749.6,   4.6050,  34.2571,2,  34.2572,2,    230.4,2,   225.0,2,    23.6,2,    28.9,2,    0.01,2,   1.977,2,   3.0456,2,   1.6201,2,   1.1975,2,  2183.4,2,  2290.7,2,   7.6277,2,    25.00,    0.98,2,   -50.2,2,     1.9,   3.8565,2, -999.00,9,    40.8,2,   32.00,2, -999.00,9,    17.7254,2, -999.00,9,  -999.0,9,     -999.0,     -999.0,9,     -999.0,9,     -999.0,     -999.0,9,     -999.0,     -999.0,9,     -999.0,     -999.0,     -999.0,9,     -999.0,9,     -999.0,9,     -999.0,9,     -999.0,9,     -999.0,9,     -999.0,9,     -999.0,9
33RO20161119,        P18,     179,          1,         16,      11115,2,20170117,       2209,   -55.5005,  -103.0007,       4659,   620.1,   5.2759,  34.2589,2,  34.2582,2,    233.6,2,   232.4,6,    17.3,2,    26.7,2,    0.01,2,   1.988,2,   3.2934,6,   1.7678,6,   1.3283,6,  2169.7,2,  2286.8,2,   7.6507,2,    25.00,    1.01,2,   -34.1,2,     2.0,    4.025,2, -999.00,9,    43.2,2,   30.80,2, -999.00,9,    16.6633,2, -999.00,9,  -999.0,9,     -999.0,     -999.0,9,     -999.0,9,     -999.0,     -999.0,9,     -999.0,     -999.0,9,     -999.0,     -999.0,     -999.0,9,     -999.0,9,     -999.0,9,     -999.0,9,     -999.0,9,     -999.0,9,     -999.0,9,     -999.0,9
33RO20161119,        P18,     179,          1,         17,      11116,2,20170117,       2209,   -55.5005,  -103.0007,       4659,   499.6,   5.6683,  34.2338,2,  34.2345,2,    265.4,2,   256.2,3,    11.2,2,    24.1,2,    0.01,2,   1.728,2,   3.7669,2,   2.0681,2,   1.8957,2,  2152.4,2,  2282.2,2,   7.6888,2,    25.00,    1.19,2,   -16.6,2,     1.8,   4.4528,2, -999.00,9,    43.9,2,   27.30,2, -999.00,9,    14.6586,2, -999.00,9,  -999.0,9,     -999.0,     -999.0,9,     -999.0,9,     -999.0,     -999.0,9,     -999.0,     -999.0,9,     -999.0,     -999.0,     -999.0,9,     -999.0,9,     -999.0,9,     -999.0,9,     -999.0,9,     -999.0,9,     -999.0,9,     -999.0,9
33RO20161119,        P18,     179,          1,         18,      11117,2,20170117,       2209,   -55.5005,  -103.0007,       4659,   385.0,   5.8473,  34.2159,2,  34.2158,2,    278.4,2,   280.8,2,     7.1,2,    21.1,2,    0.02,2,   1.490,2,   4.0471,2,   2.2577,2,   2.5238,2,  2135.5,2,  2276.8,2,   7.7249,2,    25.00,    1.37,2,   -12.6,2,     1.8,   4.3471,2, -999.00,9,    45.7,2,   23.60,2, -999.00,9,    12.7409,2, -999.00,9,  -999.0,9,     -999.0,     -999.0,9,     -999.0,9,     -999.0,     -999.0,9,     -999.0,     -999.0,9,     -999.0,     -999.0,     -999.0,9,     -999.0,9,     -999.0,9,     -999.0,9,     -999.0,9,     -999.0,9,     -999.0,9,     -999.0,9
33RO20161119,        P18,     179,          1,         19,      11083,2,20170117,       2209,   -55.5005,  -103.0007,       4659,   284.1,   6.1158,  34.2325,2,  34.2317,2,    276.5,2,   276.3,2,     6.6,2,    20.9,2,    0.02,2,   1.469,2,   3.9884,2,   2.2482,2,   2.4250,2,  2136.3,2,  2281.9,2,   7.7250,2,    25.00,    1.34,2,    -6.5,2,     1.9,   0.3699,2, -999.00,9,    44.7,2,   21.20,2, -999.00,9,    12.8681,2, -999.00,9,  -999.0,9,     -999.0,     -999.0,9,     -999.0,9,     -999.0,     -999.0,9,     -999.0,     -999.0,9,     -999.0,     -999.0,     -999.0,9,     -999.0,9,     -999.0,9,     -999.0,9,     -999.0,9,     -999.0,9,     -999.0,9,     -999.0,9
33RO20161119,        P18,     179,          1,         20,      11118,2,20170117,       2209,   -55.5005,  -103.0007,       4659,   199.9,   6.2636,  34.2310,2,  34.2302,2,    279.9,2,   280.7,2,     5.5,2,    20.0,2,    0.03,2,   1.406,2,   4.0314,2,   2.2679,2,   2.5732,2,  2131.9,2,  2281.0,2,   7.7319,2,    25.00,    1.39,2,    -6.9,2,     1.8,   0.2897,2, -999.00,9,    47.0,2,   20.90,2, -999.00,9,    12.4512,2, -999.00,9,  -999.0,9,     -999.0,     -999.0,9,     -999.0,9,     -999.0,     -999.0,9,     -999.0,     -999.0,9,     -999.0,     -999.0,     -999.0,9,     -999.0,9,     -999.0,9,       1.45,2,     -999.0,9,     -999.0,9,     -999.0,9,     -999.0,9
33RO20161119,        P18,     179,          1,         21,      11119,2,20170117,       2209,   -55.5005,  -103.0007,       4659,   117.7,   6.5106,  34.2298,2,  34.2284,2,    284.2,2,   281.9,2,     4.6,2,    19.0,2,    0.07,2,   1.349,2,   3.9990,2,   2.2612,2,   2.6401,2,  2128.3,2,  2277.8,2,   7.7409,2,    25.00,    1.36,2,    -1.8,2,     1.9,   0.2493,2, -999.00,9,    47.3,2,   19.60,2, -999.00,9,    12.2136,2, -999.00,9,  -999.0,9,     -999.0,     -999.0,9,     -999.0,9,     -999.0,     -999.0,9,     -999.0,     -999.0,9,     -999.0,     -999.0,     -999.0,9,     -999.0,9,     -999.0,9,       1.41,2,     -999.0,9,     -999.0,9,     -999.0,9,     -999.0,9
33RO20161119,        P18,     179,          1,         22,      11120,2,20170117,       2209,   -55.5005,  -103.0007,       4659,    54.9,   7.6436,  34.1813,2,  34.1807,2,    295.2,2,   294.7,2,     0.4,2,    15.6,2,    0.25,2,   1.135,2,   3.8941,2,   2.2216,2,   2.7362,2,  2104.7,2,  2277.2,2,   7.7995,2,    25.00,    1.66,2,    -5.3,2,     1.8,   0.2366,2, -999.00,9,    48.4,2,   17.00,2, -999.00,9,    11.4255,2, -999.00,9,  -999.0,9,     -999.0,     -999.0,9,     -999.0,9,     -999.0,     -999.0,9,     -999.0,     -999.0,9,     -999.0,     -999.0,     -999.0,9,     -999.0,9,     -999.0,9,       1.13,3,     -999.0,9,     -999.0,9,     -999.0,9,     -999.0,9
33RO20161119,        P18,     179,          1,         23,      11121,2,20170117,       2209,   -55.5005,  -103.0007,       4659,    19.8,   7.7486,  34.1703,2,  34.1701,2,    295.5,2,   294.5,2,     0.3,2,    15.5,2,    0.25,2,   1.137,2,-999.0000,9,-999.0000,9,-999.0000,9,  2104.4,2,  2274.9,6,   7.8016,2,    25.00,    1.54,2,    -6.7,2,     1.9,-999.0000,9, -999.00,9,    49.8,2,   18.30,2, -999.00,9,     -999.0,9, -999.00,9,  -999.0,9,     -999.0,     -999.0,9,     -999.0,9,     -999.0,     -999.0,9,     -999.0,     -999.0,9,     -999.0,     -999.0,     -999.0,9,     -999.0,9,     -999.0,9,       1.17,2,     -999.0,9,     -999.0,9,     -999.0,9,     -999.0,9
33RO20161119,        P18,     179,          1,         24,      11122,2,20170117,       2209,   -55.5005,  -103.0007,       4659,     3.1,   7.7615,  34.1702,2,  34.1706,2,    294.8,2,   294.3,2,     0.3,2,    15.5,2,    0.26,2,   1.191,2,   3.9050,2,   2.2137,2,   2.6679,2,  2103.1,6,  2274.1,2,   7.7991,2,    25.00,    1.51,2,    -3.9,2,     2.0,     0.17,2, -999.00,9,    50.7,2,   16.20,2, -999.00,9,    11.5452,2, -999.00,9,  -999.0,9,     -999.0,     -999.0,9,     -999.0,9,     -999.0,     -999.0,9,     -999.0,     -999.0,9,     -999.0,     -999.0,     -999.0,9,     -999.0,9,     -999.0,9,       1.21,3,     -999.0,9,     -999.0,9,     -999.0,9,     -999.0,9