BOTTLE,20230606CCHSIOCBG
EXPOCODE,SECT_ID,STNNBR,CASTNO,SAMPNO,BTLNBR,BTLNBR_FLAG_W,DATE,TIME,LATITUDE,LONGITUDE,DEPTH,CTDPRS,CTDTMP,CTDSAL,CTDSAL_FLAG_W,SALNTY,SALNTY_FLAG_W,CTDOXY,CTDOXY_FLAG_W,OXYGEN,OXYGEN_FLAG_W,SILCAT,SILCAT_FLAG_W,NITRAT,NITRAT_FLAG_W,NITRIT,NITRIT_FLAG_W,PHSPHT,PHSPHT_FLAG_W,CFC-11,CFC-11_FLAG_W,CFC-12,CFC-12_FLAG_W,SF6,SF6_FLAG_W,TCARBN,TCARBN_FLAG_W,ALKALI,ALKALI_FLAG_W,PH_SWS,PH_SWS_FLAG_W,PH_TMP,DELC13,DELC13_FLAG_W,DELC14,DELC14_FLAG_W,C14ERR,CCL4,CCL4_FLAG_W,POC,POC_FLAG_W,DOC,DOC_FLAG_W,TDN,TDN_FLAG_W,PON,PON_FLAG_W,N2O,N2O_FLAG_W,D15N_NO3,D15N_NO3_FLAG_W,14C-DOC,14C-DOC_FLAG_W,14C-DOCERR,13C-DOC,13C-DOC_FLAG_W,N2/ARGON_UNSTRIPPED,N2/ARGON_UNSTRIPPED_FLAG_W,N2/ARGON_UNSTRIPPED_ERROR,N2/ARGON,N2/ARGON_FLAG_W,N2/ARGON_ERROR,D15N_N2,D15N_N2_FLAG_W,D15N_N2_ERROR,D15N_NO3_ERROR,D15N_NO2+NO3,D15N_NO2+NO3_FLAG_W,D18O_NO2+NO3,D18O_NO2+NO3_FLAG_W,D18O_NO3,D18O_NO3_FLAG_W,TDP,TDP_FLAG_W,N2O_ALT_1,N2O_ALT_1_FLAG_W,D15N_N2O,D15N_N2O_FLAG_W,D18O_N2O,D18O_N2O_FLAG_W,D15N_ALPHA_N2O,D15N_ALPHA_N2O_FLAG_W
,,,,,,,,,,,METERS,DBAR,ITS-90,PSS-78,,PSS-78,,UMOL/KG,,UMOL/KG,,UMOL/KG,,UMOL/KG,,UMOL/KG,,UMOL/KG,,PMOL/KG,,PMOL/KG,,FMOL/KG,,UMOL/KG,,UMOL/KG,,,,DEG C,/MILLE,,/MILLE,,/MILLE,PMOL/KG,,UG/KG,,UMOL/KG,,UMOL/KG,,UG/KG,,NMOL/KG,,/MILLE,,/MILLE,,/MILLE,/MILLE,,,,,,,,/MILLE,,/MILLE,/MILLE,/MILLE,,/MILLE,,/MILLE,,UMOL/KG,,NMOL/L,,/MILLE,,/MILLE,,/MILLE,
33RO20161119,        P18,      35,          1,          1,      11010,2,20161202,       2218,     7.0001,  -110.0000,       3755,  3793.2,   1.5458,  34.6862,2,  34.6851,2,    141.1,2,   142.1,2,   150.8,6,    37.2,6,    0.01,6,   2.530,6,   0.0035,6,   0.0019,6,   0.0184,6,  2343.9,6,  2436.6,2,   7.5696,2,    25.00,   -0.01,2,  -223.6,2,     1.6,        0,2, -999.00,9,    38.4,2,   38.30,2, -999.00,9,      21.19,2, -999.00,9,  -999.0,9,     -999.0,     -999.0,9,     -999.0,9,     -999.0,     -999.0,9,     -999.0,     -999.0,9,     -999.0,     -999.0,     -999.0,9,     -999.0,9,     -999.0,9,     -999.0,9,     -999.0,9,     -999.0,9,     -999.0,9,     -999.0,9
33RO20161119,        P18,      35,          1,          2,      11101,2,20161202,       2218,     7.0001,  -110.0000,       3755,  3349.8,   1.5985,  34.6820,2,  34.6831,2,    132.9,2,   132.8,2,   152.2,6,    37.6,6,    0.01,6,   2.582,6,   0.0032,2,   0.0018,2,   0.0000,2,  2348.2,2,  2431.6,2,   7.5528,2,    25.00, -999.00,9,  -999.0,9,  -999.0,        0,2, -999.00,9,    39.2,2,   39.40,2, -999.00,9,    22.3169,2, -999.00,9,  -999.0,9,     -999.0,     -999.0,9,     -999.0,9,     -999.0,     -999.0,9,     -999.0,     -999.0,9,     -999.0,     -999.0,     -999.0,9,     -999.0,9,     -999.0,9,     -999.0,9,     -999.0,9,     -999.0,9,     -999.0,9,     -999.0,9
33RO20161119,        P18,      35,          1,          3,      11102,2,20161202,       2218,     7.0001,  -110.0000,       3755,  3109.6,   1.7202,  34.6756,2,  34.6756,2,    121.7,2,   121.3,2,   153.6,6,    38.3,6,    0.01,6,   2.636,6,   0.0040,2,   0.0022,2,   0.0000,2,  2354.8,2,  2412.3,3,   7.5323,2,    25.00,   -0.04,2,  -231.3,2,     1.5,   0.0131,2, -999.00,9,    39.4,2,   41.90,2, -999.00,9,    22.7069,2, -999.00,9,  -999.0,9,     -999.0,     -999.0,9,     -999.0,9,     -999.0,     -999.0,9,     -999.0,     -999.0,9,     -999.0,     -999.0,     -999.0,9,     -999.0,9,     -999.0,9,     -999.0,9,     -999.0,9,     -999.0,9,     -999.0,9,     -999.0,9
33RO20161119,        P18,      35,          1,          4,      11103,2,20161202,       2218,     7.0001,  -110.0000,       3755,  2823.9,   1.8502,  34.6689,2,  34.6686,2,    111.8,2,   111.6,2,   153.1,6,    38.9,6,    0.01,6,   2.686,6,   0.0040,2,   0.0023,2,   0.0222,2,  2359.6,2,  2430.7,6,   7.5157,2,    25.00, -999.00,9,  -999.0,9,  -999.0,        0,2, -999.00,9,    38.8,2,   41.40,2, -999.00,9,    24.3046,2, -999.00,9,  -999.0,9,     -999.0,     -999.0,9,     -999.0,9,     -999.0,     -999.0,9,     -999.0,     -999.0,9,     -999.0,     -999.0,     -999.0,9,     -999.0,9,     -999.0,9,     -999.0,9,     -999.0,9,     -999.0,9,     -999.0,9,     -999.0,9
33RO20161119,        P18,      35,          1,          5,      11104,2,20161202,       2218,     7.0001,  -110.0000,       3755,  2529.6,   1.9125,  34.6641,2,  34.6669,2,    108.7,2,   108.6,2,   151.1,2,    39.2,2,    0.01,2,   2.713,2,   0.0031,2,   0.0009,2,   0.0235,2,  2360.0,2,  2427.5,2,   7.5081,6,    25.00,   -0.12,2,  -236.2,2,     1.5,        0,2, -999.00,9,    39.0,2,   42.90,2, -999.00,9,    24.8091,2, -999.00,9,  -999.0,9,     -999.0,     -999.0,9,     -999.0,9,     -999.0,     -999.0,9,     -999.0,     -999.0,9,     -999.0,     -999.0,     -999.0,9,     -999.0,9,     -999.0,9,     -999.0,9,     -999.0,9,     -999.0,9,     -999.0,9,     -999.0,9
33RO20161119,        P18,      35,          1,          6,      11105,2,20161202,       2218,     7.0001,  -110.0000,       3755,  2239.5,   2.0909,  34.6530,2,  34.6550,2,    101.5,2,   101.1,2,   146.5,2,    39.8,2,    0.01,2,   2.767,2,   0.0017,2,   0.0000,2,   0.0000,2,  2356.1,2,  2423.2,2,   7.4913,2,    25.00, -999.00,9,  -999.0,9,  -999.0,        0,2, -999.00,9,    39.3,2,   43.90,2, -999.00,9,    26.6651,2, -999.00,9,  -999.0,9,     -999.0,     -999.0,9,     -999.0,9,     -999.0,     -999.0,9,     -999.0,     -999.0,9,     -999.0,     -999.0,     -999.0,9,     -999.0,9,     -999.0,9,     -999.0,9,     -999.0,9,     -999.0,9,     -999.0,9,     -999.0,9
33RO20161119,        P18,      35,          1,          7,      11106,2,20161202,       2218,     7.0001,  -110.0000,       3755,  1944.8,   2.3847,  34.6361,2,  34.6361,2,     93.3,2,    93.3,2,   138.8,2,    40.5,2,    0.02,2,   2.838,2,   0.0023,6,   0.0012,6,   0.0191,6,  2354.0,2,  2411.5,2,   7.4711,2,    25.00,   -0.09,2,  -233.6,2,     1.6,        0,2, -999.00,9,    39.6,2,   42.90,2, -999.00,9,    28.4785,2, -999.00,9,  -999.0,9,     -999.0,     -999.0,9,     -999.0,9,     -999.0,     -999.0,9,     -999.0,     -999.0,9,     -999.0,     -999.0,     -999.0,9,     -999.0,9,     -999.0,9,     -999.0,9,     -999.0,9,     -999.0,9,     -999.0,9,     -999.0,9
33RO20161119,        P18,      35,          1,          8,      11107,2,20161202,       2218,     7.0001,  -110.0000,       3755,  1653.9,   2.7628,  34.6171,2,  34.6269,4,     83.0,2,    82.5,2,   130.2,2,    40.9,2,    0.02,2,   2.898,2,   0.0021,2,   0.0009,2,   0.0000,2,  2351.2,2,  2401.5,2,   7.4546,2,    25.00, -999.00,9,  -999.0,9,  -999.0,        0,2, -999.00,9,    39.3,2,   45.40,2, -999.00,9,    31.3394,2, -999.00,9,  -999.0,9,     -999.0,     -999.0,9,     -999.0,9,     -999.0,     -999.0,9,     -999.0,     -999.0,9,     -999.0,     -999.0,     -999.0,9,     -999.0,9,     -999.0,9,     -999.0,9,     -999.0,9,     -999.0,9,     -999.0,9,     -999.0,9
33RO20161119,        P18,      35,          1,          9,      11108,2,20161202,       2218,     7.0001,  -110.0000,       3755,  1394.2,   3.3166,  34.5961,2,  34.5954,2,     71.5,2,    71.4,2,   117.2,2,    41.7,2,    0.02,2,   2.954,2,   0.0025,2,   0.0006,2,   0.0000,2,  2343.0,2,  2375.7,3,   7.4329,2,    25.00,   -0.15,2,  -218.6,2,     1.6,        0,2, -999.00,9,    38.9,2,   43.90,2, -999.00,9,    34.0348,2, -999.00,9,  -999.0,9,     -999.0,     -999.0,9,     -999.0,9,     -999.0,     -999.0,9,     -999.0,     -999.0,9,     -999.0,     -999.0,     -999.0,9,     -999.0,9,     -999.0,9,     -999.0,9,     -999.0,9,     -999.0,9,     -999.0,9,     -999.0,9
33RO20161119,        P18,      35,          1,         10,      11109,2,20161202,       2218,     7.0001,  -110.0000,       3755,  1224.3,   3.7915,  34.5807,2,  34.5864,2,     62.7,2,    61.9,2,   107.1,2,    42.5,2,    0.02,2,   3.015,2,   0.0037,2,   0.0025,2,   0.0000,2,  2341.0,2,  2375.7,2,   7.4148,2,    25.00, -999.00,9,  -999.0,9,  -999.0,   0.0128,2, -999.00,9,    40.2,2,   44.60,2, -999.00,9,    37.1961,2, -999.00,9,  -999.0,9,     -999.0,     -999.0,9,     -999.0,9,     -999.0,     -999.0,9,     -999.0,     -999.0,9,     -999.0,     -999.0,     -999.0,9,     -999.0,9,     -999.0,9,     -999.0,9,     -999.0,9,     -999.0,9,     -999.0,9,     -999.0,9
33RO20161119,        P18,      35,          1,         11,      11110,2,20161202,       2218,     7.0001,  -110.0000,       3755,  1095.2,   4.1824,  34.5728,2,  34.5730,2,     45.3,2,    44.6,2,   100.8,2,    43.7,2,    0.02,2,   3.122,2,   0.0035,2,   0.0018,2,   0.0000,2,  2339.9,2,  2367.6,2,   7.3820,2,    25.00,   -0.24,2,  -200.8,2,     1.6,   0.0213,2, -999.00,9,    40.7,2,   46.80,2, -999.00,9,    42.3728,2, -999.00,9,  -999.0,9,     -999.0,     -999.0,9,     -999.0,9,     -999.0,     -999.0,9,     -999.0,     -999.0,9,     -999.0,     -999.0,     -999.0,9,     -999.0,9,     -999.0,9,     -999.0,9,     -999.0,9,     -999.0,9,     -999.0,9,     -999.0,9
33RO20161119,        P18,      35,          1,         12,      11111,2,20161202,       2218,     7.0001,  -110.0000,       3755,   970.8,   4.7161,  34.5638,2,  34.5641,2,     31.7,2,    31.4,2,    90.5,2,    44.5,2,    0.01,2,   3.175,2,   0.0042,2,   0.0027,2,   0.0000,2,  2336.4,2,  2357.0,6,   7.3576,2,    25.00, -999.00,9,  -999.0,9,  -999.0,        0,2, -999.00,9,    41.3,2,   48.80,2, -999.00,9,    46.4472,2, -999.00,9,  -999.0,9,     -999.0,     -999.0,9,     -999.0,9,     -999.0,     -999.0,9,     -999.0,     -999.0,9,     -999.0,     -999.0,     -999.0,9,     -999.0,9,     -999.0,9,     -999.0,9,     -999.0,9,     -999.0,9,     -999.0,9,     -999.0,9
33RO20161119,        P18,      35,          1,         13,      11112,2,20161202,       2218,     7.0001,  -110.0000,       3755,   850.1,   5.2737,  34.5589,2,  34.5587,2,     23.3,2,    23.2,2,    80.4,2,    44.8,2,    0.01,2,   3.192,2,   0.0040,2,   0.0022,2,   0.0000,2,  2331.5,2,  2344.6,2,   7.3442,2,    25.00,    0.01,2,  -171.9,2,     1.7,        0,2, -999.00,9,    41.8,2,   47.90,2, -999.00,9,    51.5069,2, -999.00,9,  -999.0,9,     -999.0,     -999.0,9,     -999.0,9,     -999.0,     -999.0,9,     -999.0,     -999.0,9,     -999.0,     -999.0,     -999.0,9,     -999.0,9,     -999.0,9,     -999.0,9,     -999.0,9,     -999.0,9,     -999.0,9,     -999.0,9
33RO20161119,        P18,      35,          1,         14,      11113,2,20161202,       2218,     7.0001,  -110.0000,       3755,   735.1,   5.8811,  34.5599,2,  34.5591,2,     17.3,2,    17.7,2,    70.8,2,    44.3,2,    0.01,2,   3.149,2,   0.0065,2,   0.0034,2,   0.0000,2,  2320.8,6,  2336.9,2,   7.3424,2,    25.00, -999.00,9,  -999.0,9,  -999.0,        0,2, -999.00,9,    42.3,2,   50.00,2, -999.00,9,    56.1115,2, -999.00,9,  -999.0,9,     -999.0,     -999.0,9,     -999.0,9,     -999.0,     -999.0,9,     -999.0,     -999.0,9,     -999.0,     -999.0,     -999.0,9,     -999.0,9,     -999.0,9,     -999.0,9,     -999.0,9,     -999.0,9,     -999.0,9,     -999.0,9
33RO20161119,        P18,      35,          1,         15,      11114,2,20161202,       2218,     7.0001,  -110.0000,       3755,   620.0,   6.7070,  34.5677,2,  34.5673,2,      6.7,2,     6.2,2,    62.2,2,    42.4,2,    0.01,2,   3.134,2,   0.0101,2,   0.0054,2,   0.0000,2,  2312.4,2,  2326.1,2,   7.3299,6,    25.00,   -0.08,2,  -146.3,2,     1.8,        0,2, -999.00,9,    40.7,2,   46.50,2, -999.00,9,    62.0519,2, -999.00,9,  -999.0,9,     -999.0,     -999.0,9,     -999.0,9,     -999.0,     -999.0,9,     -999.0,     -999.0,9,     -999.0,     -999.0,     -999.0,9,     -999.0,9,     -999.0,9,     -999.0,9,     -999.0,9,     -999.0,9,     -999.0,9,     -999.0,9
33RO20161119,        P18,      35,          1,         16,      11115,2,20161202,       2218,     7.0001,  -110.0000,       3755,   509.3,   7.8922,  34.6016,2,  34.6006,2,      2.7,2,     2.9,6,    52.4,2,    38.1,2,    0.01,2,   3.043,2,   0.0330,2,   0.0199,2,   0.0000,2,  2304.7,2,  2317.3,2,   7.3381,2,    25.00, -999.00,9,  -999.0,9,  -999.0,    0.031,2, -999.00,9,    42.9,2,   39.20,2, -999.00,9,    56.6402,2, -999.00,9,  -999.0,9,     -999.0,     -999.0,9,     -999.0,9,     -999.0,     -999.0,9,     -999.0,     -999.0,9,     -999.0,     -999.0,     -999.0,9,     -999.0,9,     -999.0,9,     -999.0,9,     -999.0,9,     -999.0,9,     -999.0,9,     -999.0,9
33RO20161119,        P18,      35,          1,         17,      11116,2,20161202,       2218,     7.0001,  -110.0000,       3755,   409.9,   9.1107,  34.6547,2,  34.6535,2,      8.2,2,     7.1,6,    41.6,2,    35.6,2,    0.01,2,   2.813,2,   0.2079,2,   0.1160,2,   0.0620,2,  2285.7,2,  2308.3,2,   7.3687,2,    25.00,    0.00,2,   -86.6,2,     1.8,   0.0708,2, -999.00,9,    44.6,2,   38.70,2, -999.00,9,     53.459,2, -999.00,9,  -999.0,9,     -999.0,     -999.0,9,     -999.0,9,     -999.0,     -999.0,9,     -999.0,     -999.0,9,     -999.0,     -999.0,     -999.0,9,     -999.0,9,     -999.0,9,     -999.0,9,     -999.0,9,     -999.0,9,     -999.0,9,     -999.0,9
33RO20161119,        P18,      35,          1,         18,      11117,2,20161202,       2218,     7.0001,  -110.0000,       3755,   315.3,  10.0559,  34.7010,2,  34.6989,2,     21.1,2,    21.4,2,    33.5,2,    34.1,2,    0.02,2,   2.521,2,   0.5667,2,   0.3062,2,   0.1387,2,  2264.5,2,  2302.0,2,   7.4168,2,    25.00,    0.00,2,   -62.4,2,     1.9,   0.0962,2, -999.00,9,    44.4,2,   37.80,2, -999.00,9,    53.7599,2, -999.00,9,  -999.0,9,     -999.0,     -999.0,9,     -999.0,9,     -999.0,     -999.0,9,     -999.0,     -999.0,9,     -999.0,     -999.0,     -999.0,9,     -999.0,9,     -999.0,9,     -999.0,9,     -999.0,9,     -999.0,9,     -999.0,9,     -999.0,9
33RO20161119,        P18,      35,          1,         19,      11083,2,20161202,       2218,     7.0001,  -110.0000,       3755,   235.3,  10.9176,  34.7398,2,  34.7394,2,     30.9,2,    31.7,2,    28.8,2,    32.7,2,    0.02,2,   2.338,2,   0.8747,2,   0.4758,2,   0.1670,2,  2246.7,2,  2299.0,2,   7.4570,2,    25.00,    0.08,2,   -30.1,2,     2.0,   0.1142,2, -999.00,9,    47.0,2,   35.70,2, -999.00,9,    58.1378,2, -999.00,9,  -999.0,9,     -999.0,     -999.0,9,     -999.0,9,     -999.0,     -999.0,9,     -999.0,     -999.0,9,     -999.0,     -999.0,     -999.0,9,     -999.0,9,     -999.0,9,     -999.0,9,     -999.0,9,     -999.0,9,     -999.0,9,     -999.0,9
33RO20161119,        P18,      35,          1,         20,      11118,2,20161202,       2218,     7.0001,  -110.0000,       3755,   164.4,  11.9878,  34.7842,2,  34.7854,2,     18.5,2,    19.6,2,    26.0,2,    32.5,2,    0.02,2,   2.325,2,   1.0907,2,   0.6002,2,   0.2798,2,  2247.3,2,  2295.8,2,   7.4513,2,    25.00,   -0.10,2,   -15.1,2,     2.3,   0.2266,2, -999.00,9,    47.3,2,   33.80,2, -999.00,9,    75.1366,2, -999.00,9,  -999.0,9,     -999.0,     -999.0,9,     -999.0,9,     -999.0,     -999.0,9,     -999.0,     -999.0,9,     -999.0,     -999.0,     -999.0,9,     -999.0,9,     -999.0,9,     -999.0,9,     -999.0,9,     -999.0,9,     -999.0,9,     -999.0,9
33RO20161119,        P18,      35,          1,         21,      11119,2,20161202,       2218,     7.0001,  -110.0000,       3755,    99.9,  17.7757,  34.6981,2,  34.7126,2,     83.4,2,    83.3,2,    11.5,2,    18.5,2,    0.28,2,   1.472,2,   1.8789,2,   1.1124,2,   0.9552,2,  2156.6,2,  2285.1,2,   7.6789,2,    25.00,    0.13,2,    26.9,2,     2.3,   1.2544,2, -999.00,9,    57.7,2,   21.20,2, -999.00,9,    51.6491,2, -999.00,9,  -999.0,9,     -999.0,     -999.0,9,     -999.0,9,     -999.0,     -999.0,9,     -999.0,     -999.0,9,     -999.0,     -999.0,     -999.0,9,     -999.0,9,     -999.0,9,     -999.0,9,     -999.0,9,     -999.0,9,     -999.0,9,     -999.0,9
33RO20161119,        P18,      35,          1,         22,      11120,2,20161202,       2218,     7.0001,  -110.0000,       3755,    50.2,  26.3567,  34.0960,2,  34.0894,2,    211.4,2,   210.6,2,     1.1,2,     0.3,2,    0.03,2,   0.267,2,   1.6299,2,   1.0340,2,   1.3865,2,  1956.1,2,  2245.4,2,   8.0424,2,    25.00,    1.07,2,    27.0,2,     2.1,   1.7033,2, -999.00,9,    68.8,2,    4.20,2, -999.00,9,     8.2882,2, -999.00,9,  -999.0,9,     -999.0,     -999.0,9,     -999.0,9,     -999.0,     -999.0,9,     -999.0,     -999.0,9,     -999.0,     -999.0,     -999.0,9,     -999.0,9,     -999.0,9,     -999.0,9,     -999.0,9,     -999.0,9,     -999.0,9,     -999.0,9
33RO20161119,        P18,      35,          1,         23,      11121,2,20161202,       2218,     7.0001,  -110.0000,       3755,    20.3,  27.5831,  32.2818,2,  32.2877,2,    200.5,2,   201.9,2,     0.7,2,     0.1,2,    0.01,2,   0.118,2,   1.5336,2,   0.9778,2,   1.3792,2,  1828.9,2,  2124.5,2,   8.0915,2,    25.00,    1.05,2,    33.5,2,     2.0,   1.4934,2, -999.00,9,    70.1,2,    3.20,2, -999.00,9,     6.3304,2, -999.00,9,  -999.0,9,     -999.0,     -999.0,9,     -999.0,9,     -999.0,     -999.0,9,     -999.0,     -999.0,9,     -999.0,     -999.0,     -999.0,9,     -999.0,9,     -999.0,9,     -999.0,9,     -999.0,9,     -999.0,9,     -999.0,9,     -999.0,9
33RO20161119,        P18,      35,          1,         24,      11122,2,20161202,       2218,     7.0001,  -110.0000,       3755,     4.2,  27.5769,  32.2835,2,  32.2842,2,    199.5,2,   202.3,2,     0.7,2,     0.0,2,    0.01,2,   0.126,2,   1.5425,2,   0.9795,2,   1.3985,2,  1827.5,6,  2121.4,2,   8.0931,2,    25.00,    1.05,2,    30.9,2,     2.1,        0,2, -999.00,9,    71.3,2,    3.10,2, -999.00,9,     6.3993,2, -999.00,9,  -999.0,9,     -999.0,     -999.0,9,     -999.0,9,     -999.0,     -999.0,9,     -999.0,     -999.0,9,     -999.0,     -999.0,     -999.0,9,     -999.0,9,     -999.0,9,     -999.0,9,     -999.0,9,     -999.0,9,     -999.0,9,     -999.0,9