BOTTLE,20230606CCHSIOCBG
EXPOCODE,SECT_ID,STNNBR,CASTNO,SAMPNO,BTLNBR,BTLNBR_FLAG_W,DATE,TIME,LATITUDE,LONGITUDE,DEPTH,CTDPRS,CTDTMP,CTDSAL,CTDSAL_FLAG_W,SALNTY,SALNTY_FLAG_W,CTDOXY,CTDOXY_FLAG_W,OXYGEN,OXYGEN_FLAG_W,SILCAT,SILCAT_FLAG_W,NITRAT,NITRAT_FLAG_W,NITRIT,NITRIT_FLAG_W,PHSPHT,PHSPHT_FLAG_W,CFC-11,CFC-11_FLAG_W,CFC-12,CFC-12_FLAG_W,SF6,SF6_FLAG_W,TCARBN,TCARBN_FLAG_W,ALKALI,ALKALI_FLAG_W,PH_SWS,PH_SWS_FLAG_W,PH_TMP,DELC13,DELC13_FLAG_W,DELC14,DELC14_FLAG_W,C14ERR,CCL4,CCL4_FLAG_W,POC,POC_FLAG_W,DOC,DOC_FLAG_W,TDN,TDN_FLAG_W,PON,PON_FLAG_W,N2O,N2O_FLAG_W,D15N_NO3,D15N_NO3_FLAG_W,14C-DOC,14C-DOC_FLAG_W,14C-DOCERR,13C-DOC,13C-DOC_FLAG_W,N2/ARGON_UNSTRIPPED,N2/ARGON_UNSTRIPPED_FLAG_W,N2/ARGON_UNSTRIPPED_ERROR,N2/ARGON,N2/ARGON_FLAG_W,N2/ARGON_ERROR,D15N_N2,D15N_N2_FLAG_W,D15N_N2_ERROR,D15N_NO3_ERROR,D15N_NO2+NO3,D15N_NO2+NO3_FLAG_W,D18O_NO2+NO3,D18O_NO2+NO3_FLAG_W,D18O_NO3,D18O_NO3_FLAG_W,TDP,TDP_FLAG_W,N2O_ALT_1,N2O_ALT_1_FLAG_W,D15N_N2O,D15N_N2O_FLAG_W,D18O_N2O,D18O_N2O_FLAG_W,D15N_ALPHA_N2O,D15N_ALPHA_N2O_FLAG_W
,,,,,,,,,,,METERS,DBAR,ITS-90,PSS-78,,PSS-78,,UMOL/KG,,UMOL/KG,,UMOL/KG,,UMOL/KG,,UMOL/KG,,UMOL/KG,,PMOL/KG,,PMOL/KG,,FMOL/KG,,UMOL/KG,,UMOL/KG,,,,DEG C,/MILLE,,/MILLE,,/MILLE,PMOL/KG,,UG/KG,,UMOL/KG,,UMOL/KG,,UG/KG,,NMOL/KG,,/MILLE,,/MILLE,,/MILLE,/MILLE,,,,,,,,/MILLE,,/MILLE,/MILLE,/MILLE,,/MILLE,,/MILLE,,UMOL/KG,,NMOL/L,,/MILLE,,/MILLE,,/MILLE,
33RO20161119,        P18,     184,          1,          1,      11010,2,20170119,       0849,   -58.0003,  -103.0000,       4542,  4671.3,   0.6157,  34.7035,2,  34.7070,2,    210.9,2,   211.1,2,   133.1,2,    32.8,2,    0.01,2,   2.261,2,   0.3051,2,   0.1446,2,   0.0605,2,  2262.8,6,  2363.5,6,   7.5947,2,    25.00, -999.00,9,  -999.0,9,  -999.0,    0.216,2, -999.00,9,  -999.0,9, -999.00,9, -999.00,9,    18.5331,2,    4.79,2,  -999.0,9,     -999.0,     -999.0,9,     -999.0,9,     -999.0,     -999.0,9,     -999.0,     -999.0,9,     -999.0,     -999.0,       4.79,2,       1.81,2,       1.81,2,     -999.0,9,     -999.0,9,     -999.0,9,     -999.0,9,     -999.0,9
33RO20161119,        P18,     184,          1,          2,      11101,2,20170119,       0849,   -58.0003,  -103.0000,       4542,  4420.3,   0.6421,  34.7047,2,  34.7086,2,    209.9,2,   210.0,2,   132.5,6,    32.7,6,    0.01,6,   2.252,6,   0.2800,2,   0.1333,2,   0.0589,2,  2262.0,2,  2361.4,2,   7.5944,2,    25.00, -999.00,9,  -999.0,9,  -999.0,   0.2057,2, -999.00,9,  -999.0,9, -999.00,9, -999.00,9,    18.4729,2,    4.75,2,  -999.0,9,     -999.0,     -999.0,9,     -999.0,9,     -999.0,     -999.0,9,     -999.0,     -999.0,9,     -999.0,     -999.0,       4.75,2,       1.74,2,       1.74,2,     -999.0,9,     -999.0,9,     -999.0,9,     -999.0,9,     -999.0,9
33RO20161119,        P18,     184,          1,          3,      11102,2,20170119,       0849,   -58.0003,  -103.0000,       4542,  4165.1,   0.7190,  34.7070,2,  34.7090,2,    207.8,2,   207.9,6,   130.0,6,    32.7,6,    0.01,6,   2.251,6,   0.2313,2,   0.1102,2,   0.0586,2,  2261.5,2,  2359.4,2,   7.5964,6,    25.00, -999.00,9,  -999.0,9,  -999.0,   0.1363,2, -999.00,9,  -999.0,9, -999.00,9, -999.00,9,    18.5346,2,    4.79,2,  -999.0,9,     -999.0,     -999.0,9,     -999.0,9,     -999.0,     -999.0,9,     -999.0,     -999.0,9,     -999.0,     -999.0,       4.79,2,       1.74,2,       1.74,2,     -999.0,9,     -999.0,9,     -999.0,9,     -999.0,9,     -999.0,9
33RO20161119,        P18,     184,          1,          4,      11103,2,20170119,       0849,   -58.0003,  -103.0000,       4542,  3825.7,   0.8731,  34.7107,2,  34.7123,2,    204.7,2,   204.1,2,   124.8,6,    32.6,6,    0.01,6,   2.248,6,   0.1836,2,   0.0876,2,   0.0350,2,  2262.2,2,  2369.4,2,   7.6000,2,    25.00, -999.00,9,  -999.0,9,  -999.0,   0.1514,2, -999.00,9,  -999.0,9, -999.00,9, -999.00,9,    18.6995,2,    4.79,2,  -999.0,9,     -999.0,     -999.0,9,     -999.0,9,     -999.0,     -999.0,9,     -999.0,     -999.0,9,     -999.0,     -999.0,       4.79,2,       1.76,2,       1.76,2,     -999.0,9,     -999.0,9,     -999.0,9,     -999.0,9,     -999.0,9
33RO20161119,        P18,     184,          1,          5,      11104,2,20170119,       0849,   -58.0003,  -103.0000,       4542,  3452.7,   1.1091,  34.7168,2,  34.7210,4,    200.5,2,   199.8,2,   116.7,6,    32.3,6,    0.01,6,   2.238,6,   0.1413,2,   0.0673,2,   0.0000,2,  2259.7,2,  2362.0,2,   7.5993,2,    25.00, -999.00,9,  -999.0,9,  -999.0,   0.2379,2, -999.00,9,  -999.0,9, -999.00,9, -999.00,9,    18.7499,2,    4.84,2,  -999.0,9,     -999.0,     -999.0,9,     -999.0,9,     -999.0,     -999.0,9,     -999.0,     -999.0,9,     -999.0,     -999.0,       4.84,2,       1.66,2,       1.66,2,     -999.0,9,     -999.0,9,     -999.0,9,     -999.0,9,     -999.0,9
33RO20161119,        P18,     184,          1,          6,      11105,2,20170119,       0849,   -58.0003,  -103.0000,       4542,  3059.5,   1.3420,  34.7237,2,  34.7499,4,    195.9,2,   195.7,2,   108.8,6,    32.1,6,    0.01,6,   2.209,6,   0.1080,6,   0.0526,6,   0.0497,6,  2257.1,2,  2359.8,2,   7.5987,2,    25.00, -999.00,9,  -999.0,9,  -999.0,   0.3589,2, -999.00,9,  -999.0,9, -999.00,9, -999.00,9,    19.1504,2,    4.81,2,  -999.0,9,     -999.0,     -999.0,9,     -999.0,9,     -999.0,     -999.0,9,     -999.0,     -999.0,9,     -999.0,     -999.0,       4.81,2,       1.71,2,       1.71,2,     -999.0,9,     -999.0,9,     -999.0,9,     -999.0,9,     -999.0,9
33RO20161119,        P18,     184,          1,          7,      11106,2,20170119,       0849,   -58.0003,  -103.0000,       4542,  2699.7,   1.5105,  34.7220,2,  34.7306,4,    190.1,2,   189.4,2,   105.9,2,    32.3,2,    0.01,2,   2.227,2,   0.0784,2,   0.0373,2,   0.0478,2,  2261.7,2,  2363.5,2,   7.5959,2,    25.00, -999.00,9,  -999.0,9,  -999.0,   0.6023,2, -999.00,9,  -999.0,9, -999.00,9, -999.00,9,    19.2256,2,    4.92,2,  -999.0,9,     -999.0,     -999.0,9,     -999.0,9,     -999.0,     -999.0,9,     -999.0,     -999.0,9,     -999.0,     -999.0,       4.92,2,       1.82,2,       1.82,2,     -999.0,9,     -999.0,9,     -999.0,9,     -999.0,9,     -999.0,9
33RO20161119,        P18,     184,          1,          8,      11107,2,20170119,       0849,   -58.0003,  -103.0000,       4542,  2340.8,   1.7290,  34.7215,2,  34.7321,4,    185.2,2,   185.0,2,    99.7,2,    32.2,2,    0.01,2,   2.229,2,   0.0973,2,   0.0464,2,   0.0000,2,  2259.8,2,  2359.8,2,   7.5944,2,    25.00, -999.00,9,  -999.0,9,  -999.0,   0.8823,2, -999.00,9,  -999.0,9, -999.00,9, -999.00,9,    19.6243,2,    4.95,2,  -999.0,9,     -999.0,     -999.0,9,     -999.0,9,     -999.0,     -999.0,9,     -999.0,     -999.0,9,     -999.0,     -999.0,       4.95,2,       1.69,2,       1.69,2,     -999.0,9,17.69725163,2,       8.36,2,      48.01,2,      19.74,2
33RO20161119,        P18,     184,          1,          9,      11108,2,20170119,       0849,   -58.0003,  -103.0000,       4542,  1926.0,   2.0555,  34.7064,2,  34.7074,2,    178.1,2,   178.4,2,    89.3,2,    32.4,2,    0.01,2,   2.248,2,   0.1544,2,   0.0754,2,   0.0760,2,  2254.2,2,  2354.1,2,   7.5821,2,    25.00, -999.00,9,  -999.0,9,  -999.0,   0.9536,2, -999.00,9,  -999.0,9, -999.00,9, -999.00,9,     20.407,2,    4.98,2,  -999.0,9,     -999.0,     -999.0,9,     -999.0,9,     -999.0,     -999.0,9,     -999.0,     -999.0,9,     -999.0,     -999.0,       4.98,2,       1.66,2,       1.66,2,     -999.0,9,     -999.0,9,     -999.0,9,     -999.0,9,     -999.0,9
33RO20161119,        P18,     184,          1,         10,      11109,2,20170119,       0849,   -58.0003,  -103.0000,       4542,  1674.9,   2.2324,  34.6766,2,  34.6791,2,    174.3,2,   174.4,2,    83.3,2,    32.9,2,    0.01,2,   2.282,2,   0.2451,2,   0.1200,2,   0.0662,2,  2252.9,2,  2349.2,6,   7.5711,2,    25.00, -999.00,9,  -999.0,9,  -999.0,    1.287,2, -999.00,9,  -999.0,9, -999.00,9, -999.00,9,    21.0626,2,    4.96,2,  -999.0,9,     -999.0,     -999.0,9,     -999.0,9,     -999.0,     -999.0,9,     -999.0,     -999.0,9,     -999.0,     -999.0,       4.96,2,       1.69,2,       1.69,2,     -999.0,9,19.11706772,2,       8.15,2,      47.22,2,      19.31,2
33RO20161119,        P18,     184,          1,         11,      11110,2,20170119,       0849,   -58.0003,  -103.0000,       4542,  1504.6,   2.3562,  34.6407,2,  34.6543,4,    171.4,2,   171.7,2,    80.1,2,    33.5,2,    0.01,2,   2.320,2,   0.3377,2,   0.1644,2,   0.0908,2,  2253.2,2,  2346.6,2,   7.5618,2,    25.00, -999.00,9,  -999.0,9,  -999.0,   1.6052,2, -999.00,9,  -999.0,9, -999.00,9, -999.00,9,    21.7821,2,    5.02,2,  -999.0,9,     -999.0,     -999.0,9,     -999.0,9,     -999.0,     -999.0,9,     -999.0,     -999.0,9,     -999.0,     -999.0,       5.02,2,       2.41,2,       2.41,2,     -999.0,9,     -999.0,9,     -999.0,9,     -999.0,9,     -999.0,9
33RO20161119,        P18,     184,          1,         12,      11111,2,20170119,       0849,   -58.0003,  -103.0000,       4542,  1345.1,   2.4713,  34.5933,2,  34.5948,2,    170.3,2,   170.5,2,    75.8,2,    34.0,2,    0.01,2,   2.353,2,   0.5075,2,   0.2519,2,   0.1241,2,  2252.0,6,  2336.5,2,   7.5554,2,    25.00, -999.00,9,  -999.0,9,  -999.0,   2.0369,2, -999.00,9,  -999.0,9, -999.00,9, -999.00,9,    22.1895,2,    5.03,2,  -999.0,9,     -999.0,     -999.0,9,     -999.0,9,     -999.0,     -999.0,9,     -999.0,     -999.0,9,     -999.0,     -999.0,       5.03,2,       2.11,2,       2.11,2,     -999.0,9,20.02104471,2,       8.08,2,      46.44,2,      18.41,2
33RO20161119,        P18,     184,          1,         13,      11112,2,20170119,       0849,   -58.0003,  -103.0000,       4542,  1180.3,   2.5928,  34.5337,2,  34.5364,2,    172.7,2,   173.1,2,    70.3,2,    34.4,2,    0.01,2,   2.377,2,   0.7732,6,   0.3856,6,   0.1716,6,  2248.9,2,  2333.2,2,   7.5491,6,    25.00, -999.00,9,  -999.0,9,  -999.0,    2.602,2, -999.00,9,  -999.0,9, -999.00,9, -999.00,9,    22.5169,2,    5.05,2,  -999.0,9,     -999.0,     -999.0,9,     -999.0,9,     -999.0,     -999.0,9,     -999.0,     -999.0,9,     -999.0,     -999.0,       5.05,2,       1.76,2,       1.76,2,     -999.0,9,     -999.0,9,     -999.0,9,     -999.0,9,     -999.0,9
33RO20161119,        P18,     184,          1,         14,      11113,2,20170119,       0849,   -58.0003,  -103.0000,       4542,  1025.5,   2.7477,  34.4618,2,  34.4659,2,    179.7,2,   179.0,2,    62.9,2,    34.5,2,    0.01,2,   2.399,2,   1.1869,2,   0.5922,2,   0.3200,2,  2237.5,2,  2321.7,2,   7.5520,2,    25.00, -999.00,9,  -999.0,9,  -999.0,   4.4745,2, -999.00,9,  -999.0,9, -999.00,9, -999.00,9,    22.5982,2,    5.18,2,  -999.0,9,     -999.0,     -999.0,9,     -999.0,9,     -999.0,     -999.0,9,     -999.0,     -999.0,9,     -999.0,     -999.0,       5.18,2,       1.86,2,       1.86,2,     -999.0,9,20.46921369,2,       7.85,2,      45.54,2,       18.1,2
33RO20161119,        P18,     184,          1,         15,      11114,2,20170119,       0849,   -58.0003,  -103.0000,       4542,   880.4,   3.0458,  34.3959,2,  34.4125,4,    188.8,2,   188.9,2,    54.0,2,    34.0,2,    0.01,2,   2.353,2,   1.5665,2,   0.7863,2,   0.4118,2,  2228.5,2,  2313.2,2,   7.5644,2,    25.00, -999.00,9,  -999.0,9,  -999.0,   4.3322,2, -999.00,9,  -999.0,9, -999.00,9, -999.00,9,    21.8211,2,    5.29,2,  -999.0,9,     -999.0,     -999.0,9,     -999.0,9,     -999.0,     -999.0,9,     -999.0,     -999.0,9,     -999.0,     -999.0,       5.29,2,        2.0,2,        2.0,2,     -999.0,9,19.53153705,2,       7.73,2,      45.94,2,      18.97,2
33RO20161119,        P18,     184,          1,         16,      11115,2,20170119,       0849,   -58.0003,  -103.0000,       4542,   726.7,   3.4788,  34.3321,2,  34.3325,2,    202.6,2,   201.1,2,    42.4,2,    32.7,2,    0.01,2,   2.255,2,   2.0991,2,   1.0690,2,   0.6173,2,  2210.2,2,  2303.8,2,   7.5808,2,    25.00, -999.00,9,  -999.0,9,  -999.0,   4.6089,2, -999.00,9,  -999.0,9, -999.00,9, -999.00,9,     20.664,2,    5.42,2,  -999.0,9,     -999.0,     -999.0,9,     -999.0,9,     -999.0,     -999.0,9,     -999.0,     -999.0,9,     -999.0,     -999.0,       5.42,2,       2.09,2,       2.09,2,     -999.0,9,18.56216495,2,       7.43,2,      45.27,2,      18.99,2
33RO20161119,        P18,     184,          1,         17,      11116,2,20170119,       0849,   -58.0003,  -103.0000,       4542,   601.7,   3.8124,  34.2604,2,  34.2673,2,    215.1,2,   218.8,2,    31.9,2,    31.0,2,    0.02,2,   2.133,2,   2.8902,2,   1.5056,2,   1.0589,2,  2193.7,2,  2293.4,2,   7.6034,2,    25.00, -999.00,9,  -999.0,9,  -999.0,   4.7368,2, -999.00,9,  -999.0,9, -999.00,9, -999.00,9,    19.1673,2,    5.62,2,  -999.0,9,     -999.0,     -999.0,9,     -999.0,9,     -999.0,     -999.0,9,     -999.0,     -999.0,9,     -999.0,     -999.0,       5.62,2,       2.38,2,       2.38,2,     -999.0,9,17.20864598,2,       7.42,2,       44.6,2,       16.4,2
33RO20161119,        P18,     184,          1,         18,      11117,2,20170119,       0849,   -58.0003,  -103.0000,       4542,   469.2,   4.2410,  34.2030,2,  34.2030,2,    246.1,2,   244.5,2,    21.3,2,    28.2,2,    0.01,2,   1.954,2,   3.5326,2,   1.8872,2,   1.5716,2,  2171.2,2,  2286.8,2,   7.6439,2,    25.00, -999.00,9,  -999.0,9,  -999.0,   4.7487,2, -999.00,9,  -999.0,9, -999.00,9, -999.00,9,     16.784,2,     5.8,2,  -999.0,9,     -999.0,     -999.0,9,     -999.0,9,     -999.0,     -999.0,9,     -999.0,     -999.0,9,     -999.0,     -999.0,        5.8,2,       2.61,2,       2.61,2,     -999.0,9,15.37415049,2,       6.84,2,      45.13,2,      18.59,2
33RO20161119,        P18,     184,          1,         19,      11083,2,20170119,       0849,   -58.0003,  -103.0000,       4542,   350.9,   4.4379,  34.1555,2,  34.1539,2,    272.6,2,   275.1,2,    13.6,2,    25.2,2,    0.03,2,   1.758,2,   4.1031,2,   2.2449,2,   2.3327,2,  2151.1,2,  2279.4,2,   7.6867,2,    25.00, -999.00,9,  -999.0,9,  -999.0,   4.7936,2, -999.00,9,  -999.0,9, -999.00,9, -999.00,9,    14.4438,2,    6.07,2,  -999.0,9,     -999.0,     -999.0,9,     -999.0,9,     -999.0,     -999.0,9,     -999.0,     -999.0,9,     -999.0,     -999.0,       6.09,2,       3.25,2,       3.35,2,     -999.0,9,13.33377304,2,       6.93,2,      44.99,2,      18.75,2
33RO20161119,        P18,     184,          1,         20,      11118,2,20170119,       0849,   -58.0003,  -103.0000,       4542,   259.8,   4.8762,  34.1678,2,  34.1757,2,    279.2,2,   279.2,2,    11.0,2,    23.8,2,    0.03,2,   1.660,2,   4.1233,2,   2.2641,2,   2.4234,2,  2141.3,2,  2276.7,2,   7.6997,2,    25.00, -999.00,9,  -999.0,9,  -999.0,   0.4373,2, -999.00,9,  -999.0,9, -999.00,9, -999.00,9,    13.7096,2,    6.18,2,  -999.0,9,     -999.0,     -999.0,9,     -999.0,9,     -999.0,     -999.0,9,     -999.0,     -999.0,9,     -999.0,     -999.0,       6.17,2,       3.51,2,       3.48,2,     -999.0,9,12.60121089,2,     -999.0,9,     -999.0,9,     -999.0,9
33RO20161119,        P18,     184,          1,         21,      11119,2,20170119,       0849,   -58.0003,  -103.0000,       4542,   169.9,   5.0184,  34.1502,2,  34.1500,2,    287.0,2,   287.7,2,     8.9,2,    22.4,2,    0.25,2,   1.614,2,   4.2699,2,   2.3681,2,   2.6525,2,  2137.7,2,  2273.7,2,   7.7132,2,    25.00, -999.00,9,  -999.0,9,  -999.0,   0.3201,2, -999.00,9,  -999.0,9, -999.00,9, -999.00,9,    13.1246,2,    6.34,2,  -999.0,9,     -999.0,     -999.0,9,     -999.0,9,     -999.0,     -999.0,9,     -999.0,     -999.0,9,     -999.0,     -999.0,       6.18,2,       3.76,2,       3.76,2,     -999.0,9,12.18724827,2,       6.89,2,      43.27,2,      18.95,2
33RO20161119,        P18,     184,          1,         22,      11120,2,20170119,       0849,   -58.0003,  -103.0000,       4542,    84.5,   5.8332,  34.1755,2,  34.1774,2,    297.8,2,   296.5,6,     4.6,2,    19.5,2,    0.21,2,   1.457,2,   4.2301,2,   2.3634,2,   2.7765,2,  2124.0,2,  2278.9,6,   7.7470,2,    25.00, -999.00,9,  -999.0,9,  -999.0,   0.3397,2, -999.00,9,  -999.0,9, -999.00,9, -999.00,9,    12.1434,2,    7.42,2,  -999.0,9,     -999.0,     -999.0,9,     -999.0,9,     -999.0,     -999.0,9,     -999.0,     -999.0,9,     -999.0,     -999.0,       6.99,2,       4.55,2,       4.42,2,     -999.0,9,11.38465795,2,       6.54,2,      44.19,2,      17.57,2
33RO20161119,        P18,     184,          1,         23,      11121,2,20170119,       0849,   -58.0003,  -103.0000,       4542,    30.2,   6.9893,  34.1820,2,  34.1820,2,    296.2,2,   296.6,2,     0.5,2,    16.8,2,    0.20,2,   1.234,2,   4.0766,2,   2.2759,2,   2.7306,2,  2105.7,6,  2278.0,2,   7.7929,2,    25.00, -999.00,9,  -999.0,9,  -999.0,   0.2168,2, -999.00,9,  -999.0,9, -999.00,9, -999.00,9,    11.6928,2,    8.62,2,  -999.0,9,     -999.0,     -999.0,9,     -999.0,9,     -999.0,     -999.0,9,     -999.0,     -999.0,9,     -999.0,     -999.0,       7.95,2,       5.14,2,       5.18,2,     -999.0,9, 10.8424797,2,        6.8,2,      44.63,2,      17.77,2
33RO20161119,        P18,     184,          1,         24,      11122,2,20170119,       0849,   -58.0003,  -103.0000,       4542,     4.3,   6.9855,  34.1816,2,  34.1810,2,    297.9,2,   296.7,2,     0.6,2,    16.7,2,    0.20,2,   1.239,2,   4.0582,2,   2.2665,2,   2.6899,2,  2106.7,2,  2274.9,2,   7.7929,2,    25.00, -999.00,9,  -999.0,9,  -999.0,   0.2295,2, -999.00,9,  -999.0,9, -999.00,9, -999.00,9,    11.6293,2,    8.65,2,  -999.0,9,     -999.0,     -999.0,9,     -999.0,9,     -999.0,     -999.0,9,     -999.0,     -999.0,9,     -999.0,     -999.0,       7.95,2,       5.23,2,       5.24,2,     -999.0,9,10.97181194,2,        6.3,2,      43.83,2,      18.96,2