BOTTLE,20230606CCHSIOCBG
EXPOCODE,SECT_ID,STNNBR,CASTNO,SAMPNO,BTLNBR,BTLNBR_FLAG_W,DATE,TIME,LATITUDE,LONGITUDE,DEPTH,CTDPRS,CTDTMP,CTDSAL,CTDSAL_FLAG_W,SALNTY,SALNTY_FLAG_W,CTDOXY,CTDOXY_FLAG_W,OXYGEN,OXYGEN_FLAG_W,SILCAT,SILCAT_FLAG_W,NITRAT,NITRAT_FLAG_W,NITRIT,NITRIT_FLAG_W,PHSPHT,PHSPHT_FLAG_W,CFC-11,CFC-11_FLAG_W,CFC-12,CFC-12_FLAG_W,SF6,SF6_FLAG_W,TCARBN,TCARBN_FLAG_W,ALKALI,ALKALI_FLAG_W,PH_SWS,PH_SWS_FLAG_W,PH_TMP,DELC13,DELC13_FLAG_W,DELC14,DELC14_FLAG_W,C14ERR,CCL4,CCL4_FLAG_W,POC,POC_FLAG_W,DOC,DOC_FLAG_W,TDN,TDN_FLAG_W,PON,PON_FLAG_W,N2O,N2O_FLAG_W,D15N_NO3,D15N_NO3_FLAG_W,14C-DOC,14C-DOC_FLAG_W,14C-DOCERR,13C-DOC,13C-DOC_FLAG_W,N2/ARGON_UNSTRIPPED,N2/ARGON_UNSTRIPPED_FLAG_W,N2/ARGON_UNSTRIPPED_ERROR,N2/ARGON,N2/ARGON_FLAG_W,N2/ARGON_ERROR,D15N_N2,D15N_N2_FLAG_W,D15N_N2_ERROR,D15N_NO3_ERROR,D15N_NO2+NO3,D15N_NO2+NO3_FLAG_W,D18O_NO2+NO3,D18O_NO2+NO3_FLAG_W,D18O_NO3,D18O_NO3_FLAG_W,TDP,TDP_FLAG_W,N2O_ALT_1,N2O_ALT_1_FLAG_W,D15N_N2O,D15N_N2O_FLAG_W,D18O_N2O,D18O_N2O_FLAG_W,D15N_ALPHA_N2O,D15N_ALPHA_N2O_FLAG_W
,,,,,,,,,,,METERS,DBAR,ITS-90,PSS-78,,PSS-78,,UMOL/KG,,UMOL/KG,,UMOL/KG,,UMOL/KG,,UMOL/KG,,UMOL/KG,,PMOL/KG,,PMOL/KG,,FMOL/KG,,UMOL/KG,,UMOL/KG,,,,DEG C,/MILLE,,/MILLE,,/MILLE,PMOL/KG,,UG/KG,,UMOL/KG,,UMOL/KG,,UG/KG,,NMOL/KG,,/MILLE,,/MILLE,,/MILLE,/MILLE,,,,,,,,/MILLE,,/MILLE,/MILLE,/MILLE,,/MILLE,,/MILLE,,UMOL/KG,,NMOL/L,,/MILLE,,/MILLE,,/MILLE,
33RO20161119,        P18,     114,          1,          1,      11010,2,20161221,       0049,   -22.9985,  -103.0001,       3986,  4044.7,   1.8550,  34.6863,2,  34.6894,2,    150.6,2,   149.7,2,   126.6,6,    35.4,6,    0.00,6,   2.479,6,-999.0000,9,-999.0000,9,-999.0000,9,  2321.2,6,  2419.5,2,   7.5747,2,    25.00, -999.00,9,  -999.0,9,  -999.0,-999.0000,9, -999.00,9,  -999.0,9, -999.00,9, -999.00,9,     -999.0,9, -999.00,9,  -999.0,9,     -999.0,     -999.0,9,     -999.0,9,     -999.0,     -999.0,9,     -999.0,     -999.0,9,     -999.0,     -999.0,     -999.0,9,     -999.0,9,     -999.0,9,     -999.0,9,     -999.0,9,     -999.0,9,     -999.0,9,     -999.0,9
33RO20161119,        P18,     114,          1,          2,      11101,2,20161221,       0049,   -22.9985,  -103.0001,       3986,  3725.6,   1.8222,  34.6860,2,  34.6891,2,    150.2,2,   149.8,2,   126.2,6,    35.4,6,    0.00,6,   2.476,6,-999.0000,9,-999.0000,9,-999.0000,9,  2320.9,2,  2419.7,2,   7.5749,2,    25.00, -999.00,9,  -999.0,9,  -999.0,-999.0000,9, -999.00,9,  -999.0,9, -999.00,9, -999.00,9,     -999.0,9, -999.00,9,  -999.0,9,     -999.0,     -999.0,9,     -999.0,9,     -999.0,     -999.0,9,     -999.0,     -999.0,9,     -999.0,     -999.0,     -999.0,9,     -999.0,9,     -999.0,9,     -999.0,9,     -999.0,9,     -999.0,9,     -999.0,9,     -999.0,9
33RO20161119,        P18,     114,          1,          3,      11102,2,20161221,       0049,   -22.9985,  -103.0001,       3986,  3400.5,   1.7987,  34.6847,2,  34.6847,2,    151.2,2,   150.8,2,   125.1,6,    35.4,6,    0.00,6,   2.472,6,-999.0000,9,-999.0000,9,-999.0000,9,  2318.1,2,  2417.2,2,   7.5745,2,    25.00, -999.00,9,  -999.0,9,  -999.0,-999.0000,9, -999.00,9,  -999.0,9, -999.00,9, -999.00,9,     -999.0,9, -999.00,9,  -999.0,9,     -999.0,     -999.0,9,     -999.0,9,     -999.0,     -999.0,9,     -999.0,     -999.0,9,     -999.0,     -999.0,     -999.0,9,     -999.0,9,     -999.0,9,     -999.0,9,     -999.0,9,     -999.0,9,     -999.0,9,     -999.0,9
33RO20161119,        P18,     114,          1,          4,      11103,2,20161221,       0049,   -22.9985,  -103.0001,       3986,  3074.2,   1.8014,  34.6803,2,  34.6797,2,    153.3,2,   153.4,2,   122.0,6,    35.2,6,    0.00,6,   2.457,6,-999.0000,9,-999.0000,9,-999.0000,9,  2310.9,2,  2410.7,6,   7.5761,2,    25.00, -999.00,9,  -999.0,9,  -999.0,-999.0000,9, -999.00,9,  -999.0,9, -999.00,9, -999.00,9,     -999.0,9, -999.00,9,  -999.0,9,     -999.0,     -999.0,9,     -999.0,9,     -999.0,     -999.0,9,     -999.0,     -999.0,9,     -999.0,     -999.0,     -999.0,9,     -999.0,9,     -999.0,9,     -999.0,9,     -999.0,9,     -999.0,9,     -999.0,9,     -999.0,9
33RO20161119,        P18,     114,          1,          5,      11104,2,20161221,       0049,   -22.9985,  -103.0001,       3986,  2745.0,   1.8364,  34.6729,2,  34.6716,2,    156.5,2,   156.2,2,   117.6,2,    34.9,2,    0.00,2,   2.441,2,-999.0000,9,-999.0000,9,-999.0000,9,  2304.9,2,  2400.6,2,   7.5728,2,    25.00, -999.00,9,  -999.0,9,  -999.0,-999.0000,9, -999.00,9,  -999.0,9, -999.00,9, -999.00,9,     -999.0,9, -999.00,9,  -999.0,9,     -999.0,     -999.0,9,     -999.0,9,     -999.0,     -999.0,9,     -999.0,     -999.0,9,     -999.0,     -999.0,     -999.0,9,     -999.0,9,     -999.0,9,     -999.0,9,     -999.0,9,     -999.0,9,     -999.0,9,     -999.0,9
33RO20161119,        P18,     114,          1,          6,      11105,2,20161221,       0049,   -22.9985,  -103.0001,       3986,  2459.2,   1.8986,  34.6631,2,  34.6621,2,    155.5,2,   154.9,2,   114.8,2,    35.0,2,    0.00,2,   2.440,2,-999.0000,9,-999.0000,9,-999.0000,9,  2299.8,2,  2395.6,2,   7.5682,2,    25.00, -999.00,9,  -999.0,9,  -999.0,-999.0000,9, -999.00,9,  -999.0,9, -999.00,9, -999.00,9,     -999.0,9, -999.00,9,  -999.0,9,     -999.0,     -999.0,9,     -999.0,9,     -999.0,     -999.0,9,     -999.0,     -999.0,9,     -999.0,     -999.0,     -999.0,9,     -999.0,9,     -999.0,9,     -999.0,9,     -999.0,9,     -999.0,9,     -999.0,9,     -999.0,9
33RO20161119,        P18,     114,          1,          7,      11106,2,20161221,       0049,   -22.9985,  -103.0001,       3986,  2159.1,   2.0334,  34.6464,2,  34.6640,4,    152.0,2,   152.7,2,   110.7,2,    35.0,2,    0.00,2,   2.467,2,-999.0000,9,-999.0000,9,-999.0000,9,  2296.8,2,  2390.9,2,   7.5605,2,    25.00, -999.00,9,  -999.0,9,  -999.0,-999.0000,9, -999.00,9,  -999.0,9, -999.00,9, -999.00,9,     -999.0,9, -999.00,9,  -999.0,9,     -999.0,     -999.0,9,     -999.0,9,     -999.0,     -999.0,9,     -999.0,     -999.0,9,     -999.0,     -999.0,     -999.0,9,     -999.0,9,     -999.0,9,     -999.0,9,     -999.0,9,     -999.0,9,     -999.0,9,     -999.0,9
33RO20161119,        P18,     114,          1,          8,      11107,2,20161221,       0049,   -22.9985,  -103.0001,       3986,  1850.2,   2.3260,  34.6159,2,  34.6147,2,    144.3,2,   143.6,2,   104.0,2,    36.0,2,    0.00,2,   2.522,2,-999.0000,9,-999.0000,9,-999.0000,9,  2295.9,6,  2383.2,2,   7.5477,2,    25.00, -999.00,9,  -999.0,9,  -999.0,-999.0000,9, -999.00,9,  -999.0,9, -999.00,9, -999.00,9,     -999.0,9, -999.00,9,  -999.0,9,     -999.0,     -999.0,9,     -999.0,9,     -999.0,     -999.0,9,     -999.0,     -999.0,9,     -999.0,     -999.0,     -999.0,9,     -999.0,9,     -999.0,9,     -999.0,9,     -999.0,9,     -999.0,9,     -999.0,9,     -999.0,9
33RO20161119,        P18,     114,          1,          9,      11108,2,20161221,       0049,   -22.9985,  -103.0001,       3986,  1539.8,   2.8757,  34.5795,2,  34.5795,2,    122.7,2,   122.6,2,    97.5,2,    37.7,2,    0.00,2,   2.662,2,-999.0000,9,-999.0000,9,-999.0000,9,  2299.4,2,  2374.2,2,   7.5113,2,    25.00, -999.00,9,  -999.0,9,  -999.0,-999.0000,9, -999.00,9,  -999.0,9, -999.00,9, -999.00,9,     -999.0,9, -999.00,9,  -999.0,9,     -999.0,     -999.0,9,     -999.0,9,     -999.0,     -999.0,9,     -999.0,     -999.0,9,     -999.0,     -999.0,     -999.0,9,     -999.0,9,     -999.0,9,     -999.0,9,     -999.0,9,     -999.0,9,     -999.0,9,     -999.0,9
33RO20161119,        P18,     114,          1,         10,      11109,2,20161221,       0049,   -22.9985,  -103.0001,       3986,  1349.7,   3.2400,  34.5521,2,  34.5533,2,    127.7,2,   126.6,2,    86.4,2,    37.2,2,    0.00,2,   2.608,2,-999.0000,9,-999.0000,9,-999.0000,9,  2283.8,2,  2359.9,2,   7.5156,2,    25.00, -999.00,9,  -999.0,9,  -999.0,-999.0000,9, -999.00,9,  -999.0,9, -999.00,9, -999.00,9,     -999.0,9, -999.00,9,  -999.0,9,     -999.0,     -999.0,9,     -999.0,9,     -999.0,     -999.0,9,     -999.0,     -999.0,9,     -999.0,     -999.0,     -999.0,9,     -999.0,9,     -999.0,9,     -999.0,9,     -999.0,9,     -999.0,9,     -999.0,9,     -999.0,9
33RO20161119,        P18,     114,          1,         11,      11110,2,20161221,       0049,   -22.9985,  -103.0001,       3986,  1210.1,   3.5698,  34.5309,2,  34.5343,2,    125.9,2,   125.2,2,    78.8,2,    37.1,2,    0.00,2,   2.615,2,-999.0000,9,-999.0000,9,-999.0000,9,  2276.5,2,  2352.5,2,   7.5135,2,    25.00, -999.00,9,  -999.0,9,  -999.0,-999.0000,9, -999.00,9,  -999.0,9, -999.00,9, -999.00,9,     -999.0,9, -999.00,9,  -999.0,9,     -999.0,     -999.0,9,     -999.0,9,     -999.0,     -999.0,9,     -999.0,     -999.0,9,     -999.0,     -999.0,     -999.0,9,     -999.0,9,     -999.0,9,     -999.0,9,     -999.0,9,     -999.0,9,     -999.0,9,     -999.0,9
33RO20161119,        P18,     114,          1,         12,      11111,2,20161221,       0049,   -22.9985,  -103.0001,       3986,  1069.4,   3.9439,  34.4972,2,  34.5109,2,    125.1,2,   124.0,2,    68.0,2,    37.2,2,    0.00,2,   2.622,2,   0.0110,6,   0.0061,6,   0.0000,6,  2265.8,2,  2342.0,2,   7.5103,2,    25.00, -999.00,9,  -999.0,9,  -999.0,   1.4452,2, -999.00,9,  -999.0,9, -999.00,9, -999.00,9,    28.2331,2, -999.00,9,  -999.0,9,     -999.0,     -999.0,9,     -999.0,9,     -999.0,     -999.0,9,     -999.0,     -999.0,9,     -999.0,     -999.0,     -999.0,9,     -999.0,9,     -999.0,9,     -999.0,9,     -999.0,9,     -999.0,9,     -999.0,9,     -999.0,9
33RO20161119,        P18,     114,          1,         13,      11112,2,20161221,       0049,   -22.9985,  -103.0001,       3986,   941.0,   4.2526,  34.4386,2,  34.4374,2,    125.9,2,   124.8,2,    54.4,2,    37.4,2,    0.00,2,   2.615,2,-999.0000,9,-999.0000,9,-999.0000,9,  2254.9,2,  2322.5,2,   7.5010,2,    25.00, -999.00,9,  -999.0,9,  -999.0,-999.0000,9, -999.00,9,  -999.0,9, -999.00,9, -999.00,9,     -999.0,9, -999.00,9,  -999.0,9,     -999.0,     -999.0,9,     -999.0,9,     -999.0,     -999.0,9,     -999.0,     -999.0,9,     -999.0,     -999.0,     -999.0,9,     -999.0,9,     -999.0,9,     -999.0,9,     -999.0,9,     -999.0,9,     -999.0,9,     -999.0,9
33RO20161119,        P18,     114,          1,         14,      11113,2,20161221,       0049,   -22.9985,  -103.0001,       3986,   809.8,   4.7642,  34.3675,2,  34.3694,2,    145.3,2,   144.0,2,    36.6,2,    35.5,2,    0.00,2,   2.464,2,   0.3760,2,   0.1908,2,   0.0417,2,  2224.9,2,  2304.7,2,   7.5272,2,    25.00, -999.00,9,  -999.0,9,  -999.0,   1.2034,2, -999.00,9,  -999.0,9, -999.00,9, -999.00,9,     29.261,2, -999.00,9,  -999.0,9,     -999.0,     -999.0,9,     -999.0,9,     -999.0,     -999.0,9,     -999.0,     -999.0,9,     -999.0,     -999.0,     -999.0,9,     -999.0,9,     -999.0,9,     -999.0,9,     -999.0,9,     -999.0,9,     -999.0,9,     -999.0,9
33RO20161119,        P18,     114,          1,         15,      11114,2,20161221,       0049,   -22.9985,  -103.0001,       3986,   689.4,   5.4384,  34.3313,2,  34.3330,2,    168.2,2,   166.3,6,    23.3,2,    32.4,2,    0.00,2,   2.260,2,-999.0000,9,-999.0000,9,-999.0000,9,  2201.8,2,  2289.9,2,   7.5631,2,    25.00, -999.00,9,  -999.0,9,  -999.0,-999.0000,9, -999.00,9,  -999.0,9, -999.00,9, -999.00,9,     -999.0,9, -999.00,9,  -999.0,9,     -999.0,     -999.0,9,     -999.0,9,     -999.0,     -999.0,9,     -999.0,     -999.0,9,     -999.0,     -999.0,     -999.0,9,     -999.0,9,     -999.0,9,     -999.0,9,     -999.0,9,     -999.0,9,     -999.0,9,     -999.0,9
33RO20161119,        P18,     114,          1,         16,      11115,2,20161221,       0049,   -22.9985,  -103.0001,       3986,   574.7,   6.1617,  34.3297,2,  34.3303,2,    176.6,2,   175.1,2,    16.0,2,    29.9,2,    0.00,2,   2.111,2,   2.4208,2,   1.1778,2,   0.4106,2,  2189.3,2,  2282.4,2,   7.5786,6,    25.00, -999.00,9,  -999.0,9,  -999.0,    1.766,2, -999.00,9,  -999.0,9, -999.00,9, -999.00,9,    28.8879,2, -999.00,9,  -999.0,9,     -999.0,     -999.0,9,     -999.0,9,     -999.0,     -999.0,9,     -999.0,     -999.0,9,     -999.0,     -999.0,     -999.0,9,     -999.0,9,     -999.0,9,     -999.0,9,     -999.0,9,     -999.0,9,     -999.0,9,     -999.0,9
33RO20161119,        P18,     114,          1,         17,      11116,2,20161221,       0049,   -22.9985,  -103.0001,       3986,   470.6,   7.5205,  34.3778,2,  34.3780,2,    132.9,2,   132.9,2,    15.0,2,    29.9,2,    0.00,2,   2.198,2,-999.0000,9,-999.0000,9,-999.0000,9,  2207.1,2,  2280.5,6,   7.5211,2,    25.00, -999.00,9,  -999.0,9,  -999.0,-999.0000,9, -999.00,9,  -999.0,9, -999.00,9, -999.00,9,     -999.0,9, -999.00,9,  -999.0,9,     -999.0,     -999.0,9,     -999.0,9,     -999.0,     -999.0,9,     -999.0,     -999.0,9,     -999.0,     -999.0,     -999.0,9,     -999.0,9,     -999.0,9,     -999.0,9,     -999.0,9,     -999.0,9,     -999.0,9,     -999.0,9
33RO20161119,        P18,     114,          1,         18,      11117,2,20161221,       0049,   -22.9985,  -103.0001,       3986,   364.8,   9.8741,  34.3766,2,  34.3797,2,    135.9,2,   133.9,6,    10.2,2,    22.5,2,    0.00,2,   1.894,2,   2.7569,2,   1.4840,2,   0.9362,2,  2183.6,2,  2275.4,2,   7.5785,2,    25.00, -999.00,9,  -999.0,9,  -999.0,   1.8027,2, -999.00,9,  -999.0,9, -999.00,9, -999.00,9,    29.5897,2, -999.00,9,  -999.0,9,     -999.0,     -999.0,9,     -999.0,9,     -999.0,     -999.0,9,     -999.0,     -999.0,9,     -999.0,     -999.0,     -999.0,9,     -999.0,9,     -999.0,9,     -999.0,9,     -999.0,9,     -999.0,9,     -999.0,9,     -999.0,9
33RO20161119,        P18,     114,          1,         19,      11083,2,20161221,       0049,   -22.9985,  -103.0001,       3986,   274.9,  13.4075,  34.5759,2,  34.5752,2,    201.6,2,   199.2,2,     1.5,2,     9.5,2,    0.01,2,   0.878,2,-999.0000,9,-999.0000,9,-999.0000,9,  2104.6,2,  2284.7,2,   7.8057,2,    25.00, -999.00,9,  -999.0,9,  -999.0,-999.0000,9, -999.00,9,  -999.0,9, -999.00,9, -999.00,9,     -999.0,9, -999.00,9,  -999.0,9,     -999.0,     -999.0,9,     -999.0,9,     -999.0,     -999.0,9,     -999.0,     -999.0,9,     -999.0,     -999.0,     -999.0,9,     -999.0,9,     -999.0,9,     -999.0,9,     -999.0,9,     -999.0,9,     -999.0,9,     -999.0,9
33RO20161119,        P18,     114,          1,         20,      11118,2,20161221,       0049,   -22.9985,  -103.0001,       3986,   195.2,  19.1367,  35.5214,2,  35.4859,2,    220.7,2,   213.8,2,     0.4,2,     0.1,2,    0.03,2,   0.250,2,   2.1863,2,   1.3365,2,   1.6145,2,  2075.2,2,  2339.1,2,   7.9611,2,    25.00, -999.00,9,  -999.0,9,  -999.0,        0,2, -999.00,9,  -999.0,9, -999.00,9, -999.00,9,     8.1954,2, -999.00,9,  -999.0,9,     -999.0,     -999.0,9,     -999.0,9,     -999.0,     -999.0,9,     -999.0,     -999.0,9,     -999.0,     -999.0,     -999.0,9,     -999.0,9,     -999.0,9,     -999.0,9,     -999.0,9,     -999.0,9,     -999.0,9,     -999.0,9
33RO20161119,        P18,     114,          1,         21,      11119,2,20161221,       0049,   -22.9985,  -103.0001,       3986,   124.8,  21.1977,  35.9565,2,  35.9548,2,    224.1,2,   223.6,2,     0.3,2,     0.0,2,    0.00,2,   0.198,2,-999.0000,9,-999.0000,9,-999.0000,9,  2075.4,2,  2371.7,2,   8.0032,2,    25.00, -999.00,9,  -999.0,9,  -999.0,-999.0000,9, -999.00,9,  -999.0,9, -999.00,9, -999.00,9,     -999.0,9, -999.00,9,  -999.0,9,     -999.0,     -999.0,9,     -999.0,9,     -999.0,     -999.0,9,     -999.0,     -999.0,9,     -999.0,     -999.0,     -999.0,9,     -999.0,9,     -999.0,9,     -999.0,9,     -999.0,9,     -999.0,9,     -999.0,9,     -999.0,9
33RO20161119,        P18,     114,          1,         22,      11120,2,20161221,       0049,   -22.9985,  -103.0001,       3986,    60.5,  23.3285,  36.2335,2,  36.2360,2,    214.8,2,   215.0,2,     0.3,2,     0.0,2,    0.00,2,   0.234,2,   1.8288,2,   1.1306,2,   1.5007,2,  2087.8,2,  2392.1,2,   8.0143,6,    25.00, -999.00,9,  -999.0,9,  -999.0,        0,2, -999.00,9,  -999.0,9, -999.00,9, -999.00,9,     7.1655,2, -999.00,9,  -999.0,9,     -999.0,     -999.0,9,     -999.0,9,     -999.0,     -999.0,9,     -999.0,     -999.0,9,     -999.0,     -999.0,     -999.0,9,     -999.0,9,     -999.0,9,     -999.0,9,     -999.0,9,     -999.0,9,     -999.0,9,     -999.0,9
33RO20161119,        P18,     114,          1,         23,      11121,2,20161221,       0049,   -22.9985,  -103.0001,       3986,    25.0,  23.9206,  36.2998,2,  36.3069,2,    210.9,2,   212.0,2,     0.3,2,     0.0,2,    0.01,2,   0.255,2,-999.0000,9,-999.0000,9,-999.0000,9,  2090.5,6,  2397.6,2,   8.0144,2,    25.00, -999.00,9,  -999.0,9,  -999.0,-999.0000,9, -999.00,9,  -999.0,9, -999.00,9, -999.00,9,     -999.0,9, -999.00,9,  -999.0,9,     -999.0,     -999.0,9,     -999.0,9,     -999.0,     -999.0,9,     -999.0,     -999.0,9,     -999.0,     -999.0,     -999.0,9,     -999.0,9,     -999.0,9,     -999.0,9,     -999.0,9,     -999.0,9,     -999.0,9,     -999.0,9
33RO20161119,        P18,     114,          1,         24,      11122,2,20161221,       0049,   -22.9985,  -103.0001,       3986,     3.1,  24.3776,  36.3297,2,  36.3275,2,    208.3,2,   210.1,2,     0.3,2,     0.0,2,    0.00,2,   0.264,2,   1.7402,2,   1.0865,2,   1.4413,2,  2093.1,2,  2399.6,2,   8.0143,2,    25.00, -999.00,9,  -999.0,9,  -999.0,        0,2, -999.00,9,  -999.0,9, -999.00,9, -999.00,9,     6.7284,2, -999.00,9,  -999.0,9,     -999.0,     -999.0,9,     -999.0,9,     -999.0,     -999.0,9,     -999.0,     -999.0,9,     -999.0,     -999.0,     -999.0,9,     -999.0,9,     -999.0,9,     -999.0,9,     -999.0,9,     -999.0,9,     -999.0,9,     -999.0,9