BOTTLE,20230606CCHSIOCBG
EXPOCODE,SECT_ID,STNNBR,CASTNO,SAMPNO,BTLNBR,BTLNBR_FLAG_W,DATE,TIME,LATITUDE,LONGITUDE,DEPTH,CTDPRS,CTDTMP,CTDSAL,CTDSAL_FLAG_W,SALNTY,SALNTY_FLAG_W,CTDOXY,CTDOXY_FLAG_W,OXYGEN,OXYGEN_FLAG_W,SILCAT,SILCAT_FLAG_W,NITRAT,NITRAT_FLAG_W,NITRIT,NITRIT_FLAG_W,PHSPHT,PHSPHT_FLAG_W,CFC-11,CFC-11_FLAG_W,CFC-12,CFC-12_FLAG_W,SF6,SF6_FLAG_W,TCARBN,TCARBN_FLAG_W,ALKALI,ALKALI_FLAG_W,PH_SWS,PH_SWS_FLAG_W,PH_TMP,DELC13,DELC13_FLAG_W,DELC14,DELC14_FLAG_W,C14ERR,CCL4,CCL4_FLAG_W,POC,POC_FLAG_W,DOC,DOC_FLAG_W,TDN,TDN_FLAG_W,PON,PON_FLAG_W,N2O,N2O_FLAG_W,D15N_NO3,D15N_NO3_FLAG_W,14C-DOC,14C-DOC_FLAG_W,14C-DOCERR,13C-DOC,13C-DOC_FLAG_W,N2/ARGON_UNSTRIPPED,N2/ARGON_UNSTRIPPED_FLAG_W,N2/ARGON_UNSTRIPPED_ERROR,N2/ARGON,N2/ARGON_FLAG_W,N2/ARGON_ERROR,D15N_N2,D15N_N2_FLAG_W,D15N_N2_ERROR,D15N_NO3_ERROR,D15N_NO2+NO3,D15N_NO2+NO3_FLAG_W,D18O_NO2+NO3,D18O_NO2+NO3_FLAG_W,D18O_NO3,D18O_NO3_FLAG_W,TDP,TDP_FLAG_W,N2O_ALT_1,N2O_ALT_1_FLAG_W,D15N_N2O,D15N_N2O_FLAG_W,D18O_N2O,D18O_N2O_FLAG_W,D15N_ALPHA_N2O,D15N_ALPHA_N2O_FLAG_W
,,,,,,,,,,,METERS,DBAR,ITS-90,PSS-78,,PSS-78,,UMOL/KG,,UMOL/KG,,UMOL/KG,,UMOL/KG,,UMOL/KG,,UMOL/KG,,PMOL/KG,,PMOL/KG,,FMOL/KG,,UMOL/KG,,UMOL/KG,,,,DEG C,/MILLE,,/MILLE,,/MILLE,PMOL/KG,,UG/KG,,UMOL/KG,,UMOL/KG,,UG/KG,,NMOL/KG,,/MILLE,,/MILLE,,/MILLE,/MILLE,,,,,,,,/MILLE,,/MILLE,/MILLE,/MILLE,,/MILLE,,/MILLE,,UMOL/KG,,NMOL/L,,/MILLE,,/MILLE,,/MILLE,
33RO20161119,        P18,      18,          1,          1,      11010,2,20161128,       1027,    15.5007,  -110.0002,       3770,  3839.6,   1.6787,  34.6781,2,  34.7014,4,    127.4,2,   127.1,2,   154.3,6,    37.5,6,    0.02,6,   2.595,6,   0.0049,2,   0.0032,2,   0.0000,2,  2344.6,6,  2434.9,2,   7.5368,2,    25.00, -999.00,9,  -999.0,9,  -999.0,        0,2, -999.00,9,  -999.0,9, -999.00,9, -999.00,9,    22.0226,2, -999.00,9,  -999.0,9,     -999.0,     -999.0,9,     -999.0,9,     -999.0,     -999.0,9,     -999.0,     -999.0,9,     -999.0,     -999.0,     -999.0,9,     -999.0,9,     -999.0,9,     -999.0,9,     -999.0,9,     -999.0,9,     -999.0,9,     -999.0,9
33RO20161119,        P18,      18,          1,          2,      11101,2,20161128,       1027,    15.5007,  -110.0002,       3770,  3501.3,   1.6571,  34.6777,2,  34.6803,2,    126.1,2,   125.8,6,   154.3,6,    37.5,6,    0.02,6,   2.599,6,   0.0058,2,   0.0032,2,   0.0000,2,  2346.4,2,  2431.2,6,   7.5367,2,    25.00, -999.00,9,  -999.0,9,  -999.0,    0.135,2, -999.00,9,  -999.0,9, -999.00,9, -999.00,9,    22.0667,2, -999.00,9,  -999.0,9,     -999.0,     -999.0,9,     -999.0,9,     -999.0,     -999.0,9,     -999.0,     -999.0,9,     -999.0,     -999.0,     -999.0,9,     -999.0,9,     -999.0,9,     -999.0,9,     -999.0,9,     -999.0,9,     -999.0,9,     -999.0,9
33RO20161119,        P18,      18,          1,          3,      11102,2,20161128,       1027,    15.5007,  -110.0002,       3770,  3200.2,   1.6768,  34.6756,2,  34.6776,2,    121.9,2,   121.9,2,   155.0,6,    37.9,6,    0.02,6,   2.620,6,   0.0059,6,   0.0037,6,   0.0077,6,  2349.5,2,  2427.9,2,   7.5312,2,    25.00, -999.00,9,  -999.0,9,  -999.0,        0,2, -999.00,9,  -999.0,9, -999.00,9, -999.00,9,    22.5176,2, -999.00,9,  -999.0,9,     -999.0,     -999.0,9,     -999.0,9,     -999.0,     -999.0,9,     -999.0,     -999.0,9,     -999.0,     -999.0,     -999.0,9,     -999.0,9,     -999.0,9,     -999.0,9,     -999.0,9,     -999.0,9,     -999.0,9,     -999.0,9
33RO20161119,        P18,      18,          1,          4,      11103,2,20161128,       1027,    15.5007,  -110.0002,       3770,  2626.0,   1.8111,  34.6654,2,  34.6654,2,    109.1,2,   108.8,2,   154.5,6,    38.8,6,    0.02,6,   2.701,6,   0.0045,2,   0.0033,2,   0.0000,2,  2357.1,2,  2426.6,2,   7.5100,2,    25.00, -999.00,9,  -999.0,9,  -999.0,        0,2, -999.00,9,  -999.0,9, -999.00,9, -999.00,9,    24.0545,2, -999.00,9,  -999.0,9,     -999.0,     -999.0,9,     -999.0,9,     -999.0,     -999.0,9,     -999.0,     -999.0,9,     -999.0,     -999.0,     -999.0,9,     -999.0,9,     -999.0,9,     -999.0,9,     -999.0,9,     -999.0,9,     -999.0,9,     -999.0,9
33RO20161119,        P18,      18,          1,          5,      11104,2,20161128,       1027,    15.5007,  -110.0002,       3770,  2039.5,   2.2771,  34.6395,2,  34.6390,2,     84.2,2,    83.7,2,   145.5,2,    40.6,2,    0.02,2,   2.844,2,   0.0024,2,   0.0019,2,   0.0000,2,  2360.1,2,  2416.1,2,   7.4578,2,    25.00, -999.00,9,  -999.0,9,  -999.0,        0,2, -999.00,9,  -999.0,9, -999.00,9, -999.00,9,    28.4767,2, -999.00,9,  -999.0,9,     -999.0,     -999.0,9,     -999.0,9,     -999.0,     -999.0,9,     -999.0,     -999.0,9,     -999.0,     -999.0,     -999.0,9,     -999.0,9,     -999.0,9,     -999.0,9,     -999.0,9,     -999.0,9,     -999.0,9,     -999.0,9
33RO20161119,        P18,      18,          1,          6,      11105,2,20161128,       1027,    15.5007,  -110.0002,       3770,  1460.0,   3.2218,  34.5947,2,  34.5967,2,     46.7,2,    47.4,2,   126.2,2,    43.4,2,    0.02,2,   3.102,2,   0.0037,2,   0.0018,2,   0.0000,2,  2363.5,6,  2392.0,2,   7.3824,2,    25.00, -999.00,9,  -999.0,9,  -999.0,   0.0176,2, -999.00,9,  -999.0,9, -999.00,9, -999.00,9,    37.9207,2, -999.00,9,  -999.0,9,     -999.0,     -999.0,9,     -999.0,9,     -999.0,     -999.0,9,     -999.0,     -999.0,9,     -999.0,     -999.0,     -999.0,9,     -999.0,9,     -999.0,9,     -999.0,9,     -999.0,9,     -999.0,9,     -999.0,9,     -999.0,9
33RO20161119,        P18,      18,          1,          7,      11106,2,20161128,       1027,    15.5007,  -110.0002,       3770,  1139.3,   4.0081,  34.5623,2,  34.5724,4,     22.7,2,    23.2,2,   110.6,2,    44.5,2,    0.02,2,   3.262,2,   0.0068,2,   0.0031,2,   0.0258,2,  2359.5,2,  2373.7,2,   7.3375,2,    25.00, -999.00,9,  -999.0,9,  -999.0,        0,2, -999.00,9,  -999.0,9, -999.00,9, -999.00,9,    46.4867,2, -999.00,9,  -999.0,9,     -999.0,     -999.0,9,     -999.0,9,     -999.0,     -999.0,9,     -999.0,     -999.0,9,     -999.0,     -999.0,     -999.0,9,     -999.0,9,     -999.0,9,     -999.0,9,     -999.0,9,     -999.0,9,     -999.0,9,     -999.0,9
33RO20161119,        P18,      18,          1,          8,      11107,2,20161128,       1027,    15.5007,  -110.0002,       3770,  1009.0,   4.5494,  34.5464,2,  34.5499,2,     11.3,2,    11.4,2,   101.1,2,    44.7,2,    0.03,2,   3.328,2,   0.0054,2,   0.0030,2,   0.0000,2,  2357.2,2,  2359.7,2,   7.3165,2,    25.00, -999.00,9,  -999.0,9,  -999.0,        0,2, -999.00,9,  -999.0,9, -999.00,9, -999.00,9,    52.0955,2, -999.00,9,  -999.0,9,     -999.0,     -999.0,9,     -999.0,9,     -999.0,     -999.0,9,     -999.0,     -999.0,9,     -999.0,     -999.0,     -999.0,9,     -999.0,9,     -999.0,9,     -999.0,9,     -999.0,9,     -999.0,9,     -999.0,9,     -999.0,9
33RO20161119,        P18,      18,          1,          9,      11108,2,20161128,       1027,    15.5007,  -110.0002,       3770,   890.7,   5.1569,  34.5381,2,  34.5373,2,      5.4,2,     5.3,2,    89.4,2,    43.9,2,    0.03,2,   3.287,2,   0.0074,2,   0.0041,2,   0.0000,2,  2344.7,2,  2355.8,2,   7.3122,2,    25.00, -999.00,9,  -999.0,9,  -999.0,   0.0186,2, -999.00,9,  -999.0,9, -999.00,9, -999.00,9,    57.6894,2, -999.00,9,  -999.0,9,     -999.0,     -999.0,9,     -999.0,9,     -999.0,     -999.0,9,     -999.0,     -999.0,9,     -999.0,     -999.0,     -999.0,9,     -999.0,9,     -999.0,9,     -999.0,9,     -999.0,9,     -999.0,9,     -999.0,9,     -999.0,9
33RO20161119,        P18,      18,          1,         10,      11109,2,20161128,       1027,    15.5007,  -110.0002,       3770,   774.5,   5.7401,  34.5363,2,  34.5385,2,      3.0,2,     3.0,2,    80.4,2,    42.5,2,    0.02,2,   3.256,2,   0.0058,2,   0.0030,2,   0.0192,2,  2334.8,2,  2348.5,2,   7.3097,2,    25.00, -999.00,9,  -999.0,9,  -999.0,        0,2, -999.00,9,  -999.0,9, -999.00,9, -999.00,9,    50.2789,2, -999.00,9,  -999.0,9,     -999.0,     -999.0,9,     -999.0,9,     -999.0,     -999.0,9,     -999.0,     -999.0,9,     -999.0,     -999.0,     -999.0,9,     -999.0,9,     -999.0,9,     -999.0,9,     -999.0,9,     -999.0,9,     -999.0,9,     -999.0,9
33RO20161119,        P18,      18,          1,         11,      11110,2,20161128,       1027,    15.5007,  -110.0002,       3770,   660.8,   6.5304,  34.5349,2,  34.5366,2,      3.2,2,     2.5,2,    70.2,2,    39.7,2,    0.03,2,   3.180,2,   0.0094,2,   0.0054,2,   0.0000,2,  2323.8,2,  2336.9,2,   7.3228,2,    25.00, -999.00,9,  -999.0,9,  -999.0,        0,2, -999.00,9,  -999.0,9, -999.00,9, -999.00,9,    44.3857,2, -999.00,9,  -999.0,9,     -999.0,     -999.0,9,     -999.0,9,     -999.0,     -999.0,9,     -999.0,     -999.0,9,     -999.0,     -999.0,     -999.0,9,     -999.0,9,     -999.0,9,     -999.0,9,     -999.0,9,     -999.0,9,     -999.0,9,     -999.0,9
33RO20161119,        P18,      18,          1,         12,      11111,2,20161128,       1027,    15.5007,  -110.0002,       3770,   545.8,   7.2854,  34.5430,2,  34.5420,2,      3.2,2,     3.5,2,    62.4,2,    36.4,2,    0.02,2,   3.088,2,   0.0229,2,   0.0136,2,   0.0000,2,  2314.3,2,  2328.6,2,   7.3306,2,    25.00, -999.00,9,  -999.0,9,  -999.0,   0.0305,2, -999.00,9,  -999.0,9, -999.00,9, -999.00,9,    28.6701,2, -999.00,9,  -999.0,9,     -999.0,     -999.0,9,     -999.0,9,     -999.0,     -999.0,9,     -999.0,     -999.0,9,     -999.0,     -999.0,     -999.0,9,     -999.0,9,     -999.0,9,     -999.0,9,     -999.0,9,     -999.0,9,     -999.0,9,     -999.0,9
33RO20161119,        P18,      18,          1,         13,      11112,2,20161128,       1027,    15.5007,  -110.0002,       3770,   445.5,   8.4024,  34.5679,2,  34.5679,2,      3.0,2,     3.1,2,    49.0,2,    34.7,2,    0.02,2,   2.910,2,   0.0715,2,   0.0408,2,   0.0000,2,  2297.1,2,  2312.4,6,   7.3450,6,    25.00, -999.00,9,  -999.0,9,  -999.0,        0,2, -999.00,9,  -999.0,9, -999.00,9, -999.00,9,    39.1541,2, -999.00,9,  -999.0,9,     -999.0,     -999.0,9,     -999.0,9,     -999.0,     -999.0,9,     -999.0,     -999.0,9,     -999.0,     -999.0,     -999.0,9,     -999.0,9,     -999.0,9,     -999.0,9,     -999.0,9,     -999.0,9,     -999.0,9,     -999.0,9
33RO20161119,        P18,      18,          1,         14,      11113,2,20161128,       1027,    15.5007,  -110.0002,       3770,   345.9,   9.7100,  34.6344,2,  34.6357,2,      2.3,2,     2.1,2,    40.8,2,    28.2,2,    0.36,2,   2.794,2,   0.1799,2,   0.1090,2,   0.0561,2,  2286.8,2,  2308.8,2,   7.3514,2,    25.00, -999.00,9,  -999.0,9,  -999.0,   0.0193,2, -999.00,9,  -999.0,9, -999.00,9, -999.00,9,     7.8744,2, -999.00,9,  -999.0,9,     -999.0,     -999.0,9,     -999.0,9,     -999.0,     -999.0,9,     -999.0,     -999.0,9,     -999.0,     -999.0,     -999.0,9,     -999.0,9,     -999.0,9,     -999.0,9,     -999.0,9,     -999.0,9,     -999.0,9,     -999.0,9
33RO20161119,        P18,      18,          1,         15,      11114,2,20161128,       1027,    15.5007,  -110.0002,       3770,   259.1,  11.0630,  34.7126,2,  34.7322,4,      2.4,2,     3.0,2,    33.0,2,    24.1,2,    1.31,2,   2.650,2,   0.4686,2,   0.2734,2,   0.1051,2,  2275.9,2,  -999.0,5,   7.3778,2,    25.00, -999.00,9,  -999.0,9,  -999.0,   0.0336,2, -999.00,9,  -999.0,9, -999.00,9, -999.00,9,     7.7605,2, -999.00,9,  -999.0,9,     -999.0,     -999.0,9,     -999.0,9,     -999.0,     -999.0,9,     -999.0,     -999.0,9,     -999.0,     -999.0,     -999.0,9,     -999.0,9,     -999.0,9,     -999.0,9,     -999.0,9,     -999.0,9,     -999.0,9,     -999.0,9
33RO20161119,        P18,      18,          1,         16,      11115,2,20161128,       1027,    15.5007,  -110.0002,       3770,   185.3,  12.2191,  34.7620,2,  34.7637,2,      2.5,2,     2.9,2,    28.9,2,    23.5,2,    2.24,2,   2.560,2,   0.8346,2,   0.4960,2,   0.2033,2,  2264.7,2,  2302.2,2,   7.4041,2,    25.00, -999.00,9,  -999.0,9,  -999.0,    0.084,2, -999.00,9,  -999.0,9, -999.00,9, -999.00,9,     9.5555,2, -999.00,9,  -999.0,9,     -999.0,     -999.0,9,     -999.0,9,     -999.0,     -999.0,9,     -999.0,     -999.0,9,     -999.0,     -999.0,     -999.0,9,     -999.0,9,     -999.0,9,     -999.0,9,     -999.0,9,     -999.0,9,     -999.0,9,     -999.0,9
33RO20161119,        P18,      18,          1,         17,      11116,2,20161128,       1027,    15.5007,  -110.0002,       3770,   120.2,  14.0916,  34.5246,2,  34.7220,2,      3.7,2,     2.0,2,    24.6,2,    23.3,2,    0.05,2,   2.533,2,   1.2057,2,   0.7145,2,   0.4579,2,  2256.6,2,  2302.1,2,   7.4242,2,    25.00, -999.00,9,  -999.0,9,  -999.0,   0.1558,2, -999.00,9,  -999.0,9, -999.00,9, -999.00,9,    39.4778,2, -999.00,9,  -999.0,9,     -999.0,     -999.0,9,     -999.0,9,     -999.0,     -999.0,9,     -999.0,     -999.0,9,     -999.0,     -999.0,     -999.0,9,     -999.0,9,     -999.0,9,     -999.0,9,     -999.0,9,     -999.0,9,     -999.0,9,     -999.0,9
33RO20161119,        P18,      18,          1,         18,      11117,2,20161128,       1027,    15.5007,  -110.0002,       3770,   100.5,  15.8714,  34.3626,2,  34.6483,2,     14.3,2,     6.5,2,    20.5,2,    23.5,2,    0.05,2,   2.401,2,   1.4151,2,   0.8389,2,   0.6430,2,  2239.6,2,  2293.1,2,   7.4561,2,    25.00, -999.00,9,  -999.0,9,  -999.0,   0.2991,2, -999.00,9,  -999.0,9, -999.00,9, -999.00,9,    66.5377,2, -999.00,9,  -999.0,9,     -999.0,     -999.0,9,     -999.0,9,     -999.0,     -999.0,9,     -999.0,     -999.0,9,     -999.0,     -999.0,     -999.0,9,     -999.0,9,     -999.0,9,     -999.0,9,     -999.0,9,     -999.0,9,     -999.0,9,     -999.0,9
33RO20161119,        P18,      18,          1,         19,      11083,2,20161128,       1027,    15.5007,  -110.0002,       3770,    84.8,  17.9394,  33.9970,2,  34.5822,2,     61.5,2,    22.8,2,    15.9,2,    21.7,2,    0.08,2,   2.146,2,   1.5531,2,   0.9280,2,   0.8634,2,  2213.0,2,  2285.4,2,   7.5227,2,    25.00, -999.00,9,  -999.0,9,  -999.0,   0.3221,2, -999.00,9,  -999.0,9, -999.00,9, -999.00,9,    63.8597,2, -999.00,9,  -999.0,9,     -999.0,     -999.0,9,     -999.0,9,     -999.0,     -999.0,9,     -999.0,     -999.0,9,     -999.0,     -999.0,     -999.0,9,     -999.0,9,     -999.0,9,     -999.0,9,     -999.0,9,     -999.0,9,     -999.0,9,     -999.0,9
33RO20161119,        P18,      18,          1,         20,      11118,2,20161128,       1027,    15.5007,  -110.0002,       3770,    75.0,  19.9134,  34.1323,2,  34.5357,2,    103.3,2,    56.4,2,    10.5,2,    16.7,2,    0.24,2,   1.731,2,   1.6703,2,   1.0002,2,   1.0673,2,  2168.1,2,  2284.1,2,   7.6414,2,    25.00, -999.00,9,  -999.0,9,  -999.0,   0.5467,2, -999.00,9,  -999.0,9, -999.00,9, -999.00,9,    55.2809,2, -999.00,9,  -999.0,9,     -999.0,     -999.0,9,     -999.0,9,     -999.0,     -999.0,9,     -999.0,     -999.0,9,     -999.0,     -999.0,     -999.0,9,     -999.0,9,     -999.0,9,     -999.0,9,     -999.0,9,     -999.0,9,     -999.0,9,     -999.0,9
33RO20161119,        P18,      18,          1,         21,      11119,2,20161128,       1027,    15.5007,  -110.0002,       3770,    65.3,  22.4916,  34.2343,2,  34.4797,2,    165.6,2,   145.1,2,     4.3,2,     3.7,2,    0.55,2,   0.897,2,   1.7962,2,   1.0933,2,   1.3318,2,  2082.9,2,  2270.2,2,   7.8589,2,    25.00, -999.00,9,  -999.0,9,  -999.0,   0.5975,2, -999.00,9,  -999.0,9, -999.00,9, -999.00,9,    30.9348,2, -999.00,9,  -999.0,9,     -999.0,     -999.0,9,     -999.0,9,     -999.0,     -999.0,9,     -999.0,     -999.0,9,     -999.0,     -999.0,     -999.0,9,     -999.0,9,     -999.0,9,     -999.0,9,     -999.0,9,     -999.0,9,     -999.0,9,     -999.0,9
33RO20161119,        P18,      18,          1,         22,      11120,2,20161128,       1027,    15.5007,  -110.0002,       3770,    49.1,  25.5220,  34.4068,2,  34.4073,2,    195.4,2,   189.1,2,     1.8,2,     0.0,2,    0.03,2,   0.480,2,   1.7272,6,   1.0640,6,   1.3690,6,  2016.5,2,  2280.2,2,   7.9842,6,    25.00, -999.00,9,  -999.0,9,  -999.0,   0.6614,2, -999.00,9,  -999.0,9, -999.00,9, -999.00,9,      19.95,2, -999.00,9,  -999.0,9,     -999.0,     -999.0,9,     -999.0,9,     -999.0,     -999.0,9,     -999.0,     -999.0,9,     -999.0,     -999.0,     -999.0,9,     -999.0,9,     -999.0,9,     -999.0,9,     -999.0,9,     -999.0,9,     -999.0,9,     -999.0,9
33RO20161119,        P18,      18,          1,         23,      11121,2,20161128,       1027,    15.5007,  -110.0002,       3770,    33.4,  29.5115,  33.8283,2,  33.8356,2,    194.6,2,   192.7,6,     0.8,2,     0.0,2,    0.02,2,   0.211,2,   1.4254,2,   0.9058,2,   1.3482,2,  1910.8,6,  2230.9,6,   8.1020,2,    25.00, -999.00,9,  -999.0,9,  -999.0,   1.2774,2, -999.00,9,  -999.0,9, -999.00,9, -999.00,9,     6.3494,2, -999.00,9,  -999.0,9,     -999.0,     -999.0,9,     -999.0,9,     -999.0,     -999.0,9,     -999.0,     -999.0,9,     -999.0,     -999.0,     -999.0,9,     -999.0,9,     -999.0,9,     -999.0,9,     -999.0,9,     -999.0,9,     -999.0,9,     -999.0,9
33RO20161119,        P18,      18,          1,         24,      11122,2,20161128,       1027,    15.5007,  -110.0002,       3770,     2.5,  29.5035,  33.8302,2,  33.8281,2,    193.9,2,   192.9,2,     0.8,2,     0.0,2,    0.02,2,   0.179,2,   1.4232,2,   0.9011,2,   1.3180,2,  1911.0,2,  2236.5,2,   8.1015,2,    25.00, -999.00,9,  -999.0,9,  -999.0,        0,2, -999.00,9,  -999.0,9, -999.00,9, -999.00,9,     6.2519,2, -999.00,9,  -999.0,9,     -999.0,     -999.0,9,     -999.0,9,     -999.0,     -999.0,9,     -999.0,     -999.0,9,     -999.0,     -999.0,     -999.0,9,     -999.0,9,     -999.0,9,     -999.0,9,     -999.0,9,     -999.0,9,     -999.0,9,     -999.0,9