BOTTLE,20230606CCHSIOCBG
EXPOCODE,SECT_ID,STNNBR,CASTNO,SAMPNO,BTLNBR,BTLNBR_FLAG_W,DATE,TIME,LATITUDE,LONGITUDE,DEPTH,CTDPRS,CTDTMP,CTDSAL,CTDSAL_FLAG_W,SALNTY,SALNTY_FLAG_W,CTDOXY,CTDOXY_FLAG_W,OXYGEN,OXYGEN_FLAG_W,SILCAT,SILCAT_FLAG_W,NITRAT,NITRAT_FLAG_W,NITRIT,NITRIT_FLAG_W,PHSPHT,PHSPHT_FLAG_W,CFC-11,CFC-11_FLAG_W,CFC-12,CFC-12_FLAG_W,SF6,SF6_FLAG_W,TCARBN,TCARBN_FLAG_W,ALKALI,ALKALI_FLAG_W,PH_SWS,PH_SWS_FLAG_W,PH_TMP,DELC13,DELC13_FLAG_W,DELC14,DELC14_FLAG_W,C14ERR,CCL4,CCL4_FLAG_W,POC,POC_FLAG_W,DOC,DOC_FLAG_W,TDN,TDN_FLAG_W,PON,PON_FLAG_W,N2O,N2O_FLAG_W,D15N_NO3,D15N_NO3_FLAG_W,14C-DOC,14C-DOC_FLAG_W,14C-DOCERR,13C-DOC,13C-DOC_FLAG_W,N2/ARGON_UNSTRIPPED,N2/ARGON_UNSTRIPPED_FLAG_W,N2/ARGON_UNSTRIPPED_ERROR,N2/ARGON,N2/ARGON_FLAG_W,N2/ARGON_ERROR,D15N_N2,D15N_N2_FLAG_W,D15N_N2_ERROR,D15N_NO3_ERROR,D15N_NO2+NO3,D15N_NO2+NO3_FLAG_W,D18O_NO2+NO3,D18O_NO2+NO3_FLAG_W,D18O_NO3,D18O_NO3_FLAG_W,TDP,TDP_FLAG_W,N2O_ALT_1,N2O_ALT_1_FLAG_W,D15N_N2O,D15N_N2O_FLAG_W,D18O_N2O,D18O_N2O_FLAG_W,D15N_ALPHA_N2O,D15N_ALPHA_N2O_FLAG_W
,,,,,,,,,,,METERS,DBAR,ITS-90,PSS-78,,PSS-78,,UMOL/KG,,UMOL/KG,,UMOL/KG,,UMOL/KG,,UMOL/KG,,UMOL/KG,,PMOL/KG,,PMOL/KG,,FMOL/KG,,UMOL/KG,,UMOL/KG,,,,DEG C,/MILLE,,/MILLE,,/MILLE,PMOL/KG,,UG/KG,,UMOL/KG,,UMOL/KG,,UG/KG,,NMOL/KG,,/MILLE,,/MILLE,,/MILLE,/MILLE,,,,,,,,/MILLE,,/MILLE,/MILLE,/MILLE,,/MILLE,,/MILLE,,UMOL/KG,,NMOL/L,,/MILLE,,/MILLE,,/MILLE,
33RO20161119,        P18,      66,          1,          1,      11010,2,20161209,       1036,    -2.7497,  -110.0000,       3809,  3909.4,   1.4839,  34.6918,2,  34.6898,2,    158.0,2,  -999.0,9,   142.7,6,    36.0,6,    0.00,6,   2.429,6,-999.0000,9,-999.0000,9,-999.0000,9,  -999.0,9,  -999.0,9,   7.5948,6,    25.00, -999.00,9,  -999.0,9,  -999.0,-999.0000,9, -999.00,9,  -999.0,9, -999.00,9, -999.00,9,     -999.0,9, -999.00,9,  -999.0,9,     -999.0,     -999.0,9,     -999.0,9,     -999.0,     -999.0,9,     -999.0,     -999.0,9,     -999.0,     -999.0,     -999.0,9,     -999.0,9,     -999.0,9,     -999.0,9,     -999.0,9,     -999.0,9,     -999.0,9,     -999.0,9
33RO20161119,        P18,      66,          1,          2,      11101,2,20161209,       1036,    -2.7497,  -110.0000,       3809,  3553.8,   1.4701,  34.6906,2,  34.6898,2,    155.8,2,  -999.0,9,   143.5,6,    36.1,6,    0.00,6,   2.441,6,-999.0000,9,-999.0000,9,-999.0000,9,  -999.0,9,  -999.0,9,-999.0000,9,  -999.00, -999.00,9,  -999.0,9,  -999.0,-999.0000,9, -999.00,9,  -999.0,9, -999.00,9, -999.00,9,     -999.0,9, -999.00,9,  -999.0,9,     -999.0,     -999.0,9,     -999.0,9,     -999.0,     -999.0,9,     -999.0,     -999.0,9,     -999.0,     -999.0,     -999.0,9,     -999.0,9,     -999.0,9,     -999.0,9,     -999.0,9,     -999.0,9,     -999.0,9,     -999.0,9
33RO20161119,        P18,      66,          1,          3,      11102,2,20161209,       1036,    -2.7497,  -110.0000,       3809,  3199.5,   1.6196,  34.6787,2,  34.6772,2,    142.2,2,  -999.0,9,   142.6,6,    36.9,6,    0.00,6,   2.515,6,-999.0000,9,-999.0000,9,-999.0000,9,  -999.0,9,  -999.0,9,-999.0000,9,  -999.00, -999.00,9,  -999.0,9,  -999.0,-999.0000,9, -999.00,9,  -999.0,9, -999.00,9, -999.00,9,     -999.0,9, -999.00,9,  -999.0,9,     -999.0,     -999.0,9,     -999.0,9,     -999.0,     -999.0,9,     -999.0,     -999.0,9,     -999.0,     -999.0,     -999.0,9,     -999.0,9,     -999.0,9,     -999.0,9,     -999.0,9,     -999.0,9,     -999.0,9,     -999.0,9
33RO20161119,        P18,      66,          1,          4,      11103,2,20161209,       1036,    -2.7497,  -110.0000,       3809,  2924.4,   1.7230,  34.6746,2,  34.6735,2,    135.9,2,  -999.0,9,   142.7,6,    37.2,6,    0.00,6,   2.546,6,-999.0000,9,-999.0000,9,-999.0000,9,  -999.0,9,  -999.0,9,-999.0000,9,  -999.00, -999.00,9,  -999.0,9,  -999.0,-999.0000,9, -999.00,9,  -999.0,9, -999.00,9, -999.00,9,     -999.0,9, -999.00,9,  -999.0,9,     -999.0,     -999.0,9,     -999.0,9,     -999.0,     -999.0,9,     -999.0,     -999.0,9,     -999.0,     -999.0,     -999.0,9,     -999.0,9,     -999.0,9,     -999.0,9,     -999.0,9,     -999.0,9,     -999.0,9,     -999.0,9
33RO20161119,        P18,      66,          1,          5,      11104,2,20161209,       1036,    -2.7497,  -110.0000,       3809,  2625.7,   1.8451,  34.6668,2,  34.6650,2,    126.3,2,  -999.0,9,   143.0,2,    38.1,2,    0.00,2,   2.621,2,-999.0000,9,-999.0000,9,-999.0000,9,  -999.0,9,  -999.0,9,-999.0000,9,  -999.00, -999.00,9,  -999.0,9,  -999.0,-999.0000,9, -999.00,9,  -999.0,9, -999.00,9, -999.00,9,     -999.0,9, -999.00,9,  -999.0,9,     -999.0,     -999.0,9,     -999.0,9,     -999.0,     -999.0,9,     -999.0,     -999.0,9,     -999.0,     -999.0,     -999.0,9,     -999.0,9,     -999.0,9,     -999.0,9,     -999.0,9,     -999.0,9,     -999.0,9,     -999.0,9
33RO20161119,        P18,      66,          1,          6,      11105,2,20161209,       1036,    -2.7497,  -110.0000,       3809,  2339.2,   2.0471,  34.6572,2,  34.6577,2,    113.4,2,  -999.0,9,   142.8,2,    38.8,2,    0.00,2,   2.682,2,-999.0000,9,-999.0000,9,-999.0000,9,  -999.0,9,  -999.0,9,-999.0000,9,  -999.00, -999.00,9,  -999.0,9,  -999.0,-999.0000,9, -999.00,9,  -999.0,9, -999.00,9, -999.00,9,     -999.0,9, -999.00,9,  -999.0,9,     -999.0,     -999.0,9,     -999.0,9,     -999.0,     -999.0,9,     -999.0,     -999.0,9,     -999.0,     -999.0,     -999.0,9,     -999.0,9,     -999.0,9,     -999.0,9,     -999.0,9,     -999.0,9,     -999.0,9,     -999.0,9
33RO20161119,        P18,      66,          1,          7,      11106,2,20161209,       1036,    -2.7497,  -110.0000,       3809,  2039.5,   2.3096,  34.6454,2,  34.6469,2,    101.3,2,  -999.0,9,   140.5,2,    39.6,2,    0.00,2,   2.749,2,-999.0000,9,-999.0000,9,-999.0000,9,  -999.0,9,  -999.0,9,-999.0000,9,  -999.00, -999.00,9,  -999.0,9,  -999.0,-999.0000,9, -999.00,9,  -999.0,9, -999.00,9, -999.00,9,     -999.0,9, -999.00,9,  -999.0,9,     -999.0,     -999.0,9,     -999.0,9,     -999.0,     -999.0,9,     -999.0,     -999.0,9,     -999.0,     -999.0,     -999.0,9,     -999.0,9,     -999.0,9,     -999.0,9,     -999.0,9,     -999.0,9,     -999.0,9,     -999.0,9
33RO20161119,        P18,      66,          1,          8,      11107,2,20161209,       1036,    -2.7497,  -110.0000,       3809,  1749.3,   2.7237,  34.6237,2,  34.6238,2,     92.7,2,  -999.0,9,   129.5,2,    40.3,2,    0.00,2,   2.823,2,-999.0000,9,-999.0000,9,-999.0000,9,  -999.0,9,  -999.0,9,-999.0000,9,  -999.00, -999.00,9,  -999.0,9,  -999.0,-999.0000,9, -999.00,9,  -999.0,9, -999.00,9, -999.00,9,     -999.0,9, -999.00,9,  -999.0,9,     -999.0,     -999.0,9,     -999.0,9,     -999.0,     -999.0,9,     -999.0,     -999.0,9,     -999.0,     -999.0,     -999.0,9,     -999.0,9,     -999.0,9,     -999.0,9,     -999.0,9,     -999.0,9,     -999.0,9,     -999.0,9
33RO20161119,        P18,      66,          1,          9,      11108,2,20161209,       1036,    -2.7497,  -110.0000,       3809,  1460.3,   3.1518,  34.5999,2,  34.5994,2,     90.8,2,  -999.0,9,   115.6,2,    40.3,2,    0.00,2,   2.823,2,   0.0016,2,   0.0014,2,   0.0000,2,  2333.2,2,  2391.5,2,   7.4736,2,    25.00, -999.00,9,  -999.0,9,  -999.0,   0.0135,2, -999.00,9,  -999.0,9, -999.00,9, -999.00,9,    29.9586,2, -999.00,9,  -999.0,9,     -999.0,     -999.0,9,     -999.0,9,     -999.0,     -999.0,9,     -999.0,     -999.0,9,     -999.0,     -999.0,     -999.0,9,     -999.0,9,     -999.0,9,     -999.0,9,     -999.0,9,     -999.0,9,     -999.0,9,     -999.0,9
33RO20161119,        P18,      66,          1,         10,      11109,2,20161209,       1036,    -2.7497,  -110.0000,       3809,  1269.8,   3.5582,  34.5825,2,  34.5832,2,     89.7,2,  -999.0,9,   104.6,2,    40.3,2,    0.00,2,   2.837,2,-999.0000,9,-999.0000,9,-999.0000,9,  -999.0,9,  -999.0,9,   7.4653,2,    25.00, -999.00,9,  -999.0,9,  -999.0,-999.0000,9, -999.00,9,  -999.0,9, -999.00,9, -999.00,9,     -999.0,9, -999.00,9,  -999.0,9,     -999.0,     -999.0,9,     -999.0,9,     -999.0,     -999.0,9,     -999.0,     -999.0,9,     -999.0,     -999.0,     -999.0,9,     -999.0,9,     -999.0,9,     -999.0,9,     -999.0,9,     -999.0,9,     -999.0,9,     -999.0,9
33RO20161119,        P18,      66,          1,         11,      11110,2,20161209,       1036,    -2.7497,  -110.0000,       3809,  1138.4,   3.9929,  34.5630,2,  34.5626,2,     93.0,2,  -999.0,9,    91.1,2,    39.6,2,    0.00,2,   2.769,2,   0.0070,2,   0.0054,2,   0.0000,2,  2306.6,2,  2361.8,2,   7.4734,2,    25.00, -999.00,9,  -999.0,9,  -999.0,   0.0195,2, -999.00,9,  -999.0,9, -999.00,9, -999.00,9,    32.1934,2, -999.00,9,  -999.0,9,     -999.0,     -999.0,9,     -999.0,9,     -999.0,     -999.0,9,     -999.0,     -999.0,9,     -999.0,     -999.0,     -999.0,9,     -999.0,9,     -999.0,9,     -999.0,9,     -999.0,9,     -999.0,9,     -999.0,9,     -999.0,9
33RO20161119,        P18,      66,          1,         12,      11111,2,20161209,       1036,    -2.7497,  -110.0000,       3809,  1009.6,   4.5736,  34.5534,2,  34.5534,2,     81.8,2,  -999.0,9,    81.1,2,    40.2,2,    0.00,2,   2.804,2,-999.0000,9,-999.0000,9,-999.0000,9,  -999.0,9,  -999.0,9,   7.4563,2,    25.00, -999.00,9,  -999.0,9,  -999.0,-999.0000,9, -999.00,9,  -999.0,9, -999.00,9, -999.00,9,     -999.0,9, -999.00,9,  -999.0,9,     -999.0,     -999.0,9,     -999.0,9,     -999.0,     -999.0,9,     -999.0,     -999.0,9,     -999.0,     -999.0,     -999.0,9,     -999.0,9,     -999.0,9,     -999.0,9,     -999.0,9,     -999.0,9,     -999.0,9,     -999.0,9
33RO20161119,        P18,      66,          1,         13,      11112,2,20161209,       1036,    -2.7497,  -110.0000,       3809,   890.2,   5.2371,  34.5501,2,  34.5500,2,     69.6,2,  -999.0,9,    70.7,2,    40.7,2,    0.00,2,   2.842,2,   0.0182,2,   0.0108,2,   0.0000,2,  2293.1,2,  2336.1,2,   7.4382,2,    25.00, -999.00,9,  -999.0,9,  -999.0,   0.0452,2, -999.00,9,  -999.0,9, -999.00,9, -999.00,9,    37.2963,2, -999.00,9,  -999.0,9,     -999.0,     -999.0,9,     -999.0,9,     -999.0,     -999.0,9,     -999.0,     -999.0,9,     -999.0,     -999.0,     -999.0,9,     -999.0,9,     -999.0,9,     -999.0,9,     -999.0,9,     -999.0,9,     -999.0,9,     -999.0,9
33RO20161119,        P18,      66,          1,         14,      11113,2,20161209,       1036,    -2.7497,  -110.0000,       3809,   772.0,   5.9346,  34.5597,2,  34.5595,2,     52.1,2,  -999.0,9,    62.3,2,    41.7,2,    0.00,2,   2.894,2,-999.0000,9,-999.0000,9,-999.0000,9,  2292.8,2,  -999.0,9,   7.4075,2,    25.00, -999.00,9,  -999.0,9,  -999.0,-999.0000,9, -999.00,9,  -999.0,9, -999.00,9, -999.00,9,     -999.0,9, -999.00,9,  -999.0,9,     -999.0,     -999.0,9,     -999.0,9,     -999.0,     -999.0,9,     -999.0,     -999.0,9,     -999.0,     -999.0,     -999.0,9,     -999.0,9,     -999.0,9,     -999.0,9,     -999.0,9,     -999.0,9,     -999.0,9,     -999.0,9
33RO20161119,        P18,      66,          1,         15,      11114,2,20161209,       1036,    -2.7497,  -110.0000,       3809,   659.9,   6.5866,  34.5724,2,  34.5720,2,     44.4,2,  -999.0,9,    54.7,2,    41.6,2,    0.00,2,   2.861,2,-999.0000,9,-999.0000,9,-999.0000,9,  2288.8,2,  2319.4,2,   7.4009,2,    25.00, -999.00,9,  -999.0,9,  -999.0,-999.0000,9, -999.00,9,  -999.0,9, -999.00,9, -999.00,9,     -999.0,9, -999.00,9,  -999.0,9,     -999.0,     -999.0,9,     -999.0,9,     -999.0,     -999.0,9,     -999.0,     -999.0,9,     -999.0,     -999.0,     -999.0,9,     -999.0,9,     -999.0,9,     -999.0,9,     -999.0,9,     -999.0,9,     -999.0,9,     -999.0,9
33RO20161119,        P18,      66,          1,         16,      11115,2,20161209,       1036,    -2.7497,  -110.0000,       3809,   545.9,   7.4813,  34.6024,2,  34.6011,2,     36.4,2,  -999.0,9,    46.2,2,    40.5,2,    0.00,2,   2.790,2,   0.1398,6,   0.0784,6,   0.0458,6,  2279.6,2,  2307.0,2,   7.3967,2,    25.00, -999.00,9,  -999.0,9,  -999.0,   0.0528,2, -999.00,9,  -999.0,9, -999.00,9, -999.00,9,     52.635,2, -999.00,9,  -999.0,9,     -999.0,     -999.0,9,     -999.0,9,     -999.0,     -999.0,9,     -999.0,     -999.0,9,     -999.0,     -999.0,     -999.0,9,     -999.0,9,     -999.0,9,     -999.0,9,     -999.0,9,     -999.0,9,     -999.0,9,     -999.0,9
33RO20161119,        P18,      66,          1,         17,      11116,2,20161209,       1036,    -2.7497,  -110.0000,       3809,   444.7,   8.7217,  34.6662,2,  34.6644,2,      9.6,2,  -999.0,9,    39.7,2,    39.7,2,    0.00,2,   2.788,2,-999.0000,9,-999.0000,9,-999.0000,9,  2285.2,2,  2303.8,2,   7.3638,2,    25.00, -999.00,9,  -999.0,9,  -999.0,-999.0000,9, -999.00,9,  -999.0,9, -999.00,9, -999.00,9,     -999.0,9, -999.00,9,  -999.0,9,     -999.0,     -999.0,9,     -999.0,9,     -999.0,     -999.0,9,     -999.0,     -999.0,9,     -999.0,     -999.0,     -999.0,9,     -999.0,9,     -999.0,9,     -999.0,9,     -999.0,9,     -999.0,9,     -999.0,9,     -999.0,9
33RO20161119,        P18,      66,          1,         18,      11117,2,20161209,       1036,    -2.7497,  -110.0000,       3809,   343.6,  10.7521,  34.7898,2,  34.7866,2,      5.9,2,  -999.0,9,    30.9,2,    34.0,2,    0.00,2,   2.578,2,   0.5102,2,   0.2869,2,   0.1061,2,  2273.7,2,  2299.4,2,   7.3894,2,    25.00, -999.00,9,  -999.0,9,  -999.0,   0.0866,2, -999.00,9,  -999.0,9, -999.00,9, -999.00,9,    63.8776,2, -999.00,9,  -999.0,9,     -999.0,     -999.0,9,     -999.0,9,     -999.0,     -999.0,9,     -999.0,     -999.0,9,     -999.0,     -999.0,     -999.0,9,     -999.0,9,     -999.0,9,     -999.0,9,     -999.0,9,     -999.0,9,     -999.0,9,     -999.0,9
33RO20161119,        P18,      66,          1,         19,      11083,2,20161209,       1036,    -2.7497,  -110.0000,       3809,   260.0,  12.3515,  34.8881,2,  34.8886,2,      4.5,2,  -999.0,9,    25.6,2,    32.9,2,    0.01,2,   2.406,2,-999.0000,9,-999.0000,9,-999.0000,9,  2260.7,2,  2299.3,2,   7.4192,2,    25.00, -999.00,9,  -999.0,9,  -999.0,-999.0000,9, -999.00,9,  -999.0,9, -999.00,9, -999.00,9,     -999.0,9, -999.00,9,  -999.0,9,     -999.0,     -999.0,9,     -999.0,9,     -999.0,     -999.0,9,     -999.0,     -999.0,9,     -999.0,     -999.0,     -999.0,9,     -999.0,9,     -999.0,9,     -999.0,9,     -999.0,9,     -999.0,9,     -999.0,9,     -999.0,9
33RO20161119,        P18,      66,          1,         20,      11118,2,20161209,       1036,    -2.7497,  -110.0000,       3809,   184.6,  13.2332,  34.9420,2,  34.9430,2,     16.5,2,  -999.0,9,    21.3,2,    31.6,2,    0.01,2,   2.249,2,   1.3418,2,   0.7480,2,   0.4054,2,  2245.2,2,  2298.9,2,   7.4706,2,    25.00, -999.00,9,  -999.0,9,  -999.0,   0.1437,2, -999.00,9,  -999.0,9, -999.00,9, -999.00,9,    78.5762,2, -999.00,9,  -999.0,9,     -999.0,     -999.0,9,     -999.0,9,     -999.0,     -999.0,9,     -999.0,     -999.0,9,     -999.0,     -999.0,     -999.0,9,     -999.0,9,     -999.0,9,     -999.0,9,     -999.0,9,     -999.0,9,     -999.0,9,     -999.0,9
33RO20161119,        P18,      66,          1,         21,      11119,2,20161209,       1036,    -2.7497,  -110.0000,       3809,   119.3,  14.2043,  34.9945,2,  34.9943,2,     62.9,2,  -999.0,9,    16.9,2,    26.0,2,    0.02,2,   1.819,2,-999.0000,9,-999.0000,9,-999.0000,9,  2206.9,2,  2315.2,3,   7.5981,2,    25.00, -999.00,9,  -999.0,9,  -999.0,-999.0000,9, -999.00,9,  -999.0,9, -999.00,9, -999.00,9,     -999.0,9, -999.00,9,  -999.0,9,     -999.0,     -999.0,9,     -999.0,9,     -999.0,     -999.0,9,     -999.0,     -999.0,9,     -999.0,     -999.0,     -999.0,9,     -999.0,9,     -999.0,9,     -999.0,9,     -999.0,9,     -999.0,9,     -999.0,9,     -999.0,9
33RO20161119,        P18,      66,          1,         22,      11120,2,20161209,       1036,    -2.7497,  -110.0000,       3809,    60.0,  15.6149,  35.0534,2,  35.0530,2,     80.5,2,  -999.0,9,    14.3,2,    22.4,2,    0.52,2,   1.659,2,   1.7286,2,   1.0002,2,   0.6545,2,  2190.0,2,  2306.6,2,   7.6568,2,    25.00, -999.00,9,  -999.0,9,  -999.0,   1.6107,2, -999.00,9,  -999.0,9, -999.00,9, -999.00,9,    49.2472,2, -999.00,9,  -999.0,9,     -999.0,     -999.0,9,     -999.0,9,     -999.0,     -999.0,9,     -999.0,     -999.0,9,     -999.0,     -999.0,     -999.0,9,     -999.0,9,     -999.0,9,     -999.0,9,     -999.0,9,     -999.0,9,     -999.0,9,     -999.0,9
33RO20161119,        P18,      66,          1,         23,      11121,2,20161209,       1036,    -2.7497,  -110.0000,       3809,    24.3,  23.4537,  35.1286,2,  35.1319,2,    205.7,2,  -999.0,9,     4.7,2,    10.0,2,    0.29,2,   0.874,2,-999.0000,9,-999.0000,9,-999.0000,9,  -999.0,9,  -999.0,9,   7.9019,2,    25.00, -999.00,9,  -999.0,9,  -999.0,-999.0000,9, -999.00,9,  -999.0,9, -999.00,9, -999.00,9,     -999.0,9, -999.00,9,  -999.0,9,     -999.0,     -999.0,9,     -999.0,9,     -999.0,     -999.0,9,     -999.0,     -999.0,9,     -999.0,     -999.0,     -999.0,9,     -999.0,9,     -999.0,9,     -999.0,9,     -999.0,9,     -999.0,9,     -999.0,9,     -999.0,9
33RO20161119,        P18,      66,          1,         24,      11122,2,20161209,       1036,    -2.7497,  -110.0000,       3809,     3.0,  23.4688,  35.1299,2,  35.1302,2,    205.8,2,  -999.0,9,     4.7,2,     9.9,2,    0.29,2,   0.862,2,   1.8000,2,   1.1183,2,   1.4095,2,  2085.0,6,  2316.6,2,   7.9055,2,    25.00, -999.00,9,  -999.0,9,  -999.0,        0,2, -999.00,9,  -999.0,9, -999.00,9, -999.00,9,     9.7701,2, -999.00,9,  -999.0,9,     -999.0,     -999.0,9,     -999.0,9,     -999.0,     -999.0,9,     -999.0,     -999.0,9,     -999.0,     -999.0,     -999.0,9,     -999.0,9,     -999.0,9,     -999.0,9,     -999.0,9,     -999.0,9,     -999.0,9,     -999.0,9