BOTTLE,20230606CCHSIOCBG
EXPOCODE,SECT_ID,STNNBR,CASTNO,SAMPNO,BTLNBR,BTLNBR_FLAG_W,DATE,TIME,LATITUDE,LONGITUDE,DEPTH,CTDPRS,CTDTMP,CTDSAL,CTDSAL_FLAG_W,SALNTY,SALNTY_FLAG_W,CTDOXY,CTDOXY_FLAG_W,OXYGEN,OXYGEN_FLAG_W,SILCAT,SILCAT_FLAG_W,NITRAT,NITRAT_FLAG_W,NITRIT,NITRIT_FLAG_W,PHSPHT,PHSPHT_FLAG_W,CFC-11,CFC-11_FLAG_W,CFC-12,CFC-12_FLAG_W,SF6,SF6_FLAG_W,TCARBN,TCARBN_FLAG_W,ALKALI,ALKALI_FLAG_W,PH_SWS,PH_SWS_FLAG_W,PH_TMP,DELC13,DELC13_FLAG_W,DELC14,DELC14_FLAG_W,C14ERR,CCL4,CCL4_FLAG_W,POC,POC_FLAG_W,DOC,DOC_FLAG_W,TDN,TDN_FLAG_W,PON,PON_FLAG_W,N2O,N2O_FLAG_W,D15N_NO3,D15N_NO3_FLAG_W,14C-DOC,14C-DOC_FLAG_W,14C-DOCERR,13C-DOC,13C-DOC_FLAG_W,N2/ARGON_UNSTRIPPED,N2/ARGON_UNSTRIPPED_FLAG_W,N2/ARGON_UNSTRIPPED_ERROR,N2/ARGON,N2/ARGON_FLAG_W,N2/ARGON_ERROR,D15N_N2,D15N_N2_FLAG_W,D15N_N2_ERROR,D15N_NO3_ERROR,D15N_NO2+NO3,D15N_NO2+NO3_FLAG_W,D18O_NO2+NO3,D18O_NO2+NO3_FLAG_W,D18O_NO3,D18O_NO3_FLAG_W,TDP,TDP_FLAG_W,N2O_ALT_1,N2O_ALT_1_FLAG_W,D15N_N2O,D15N_N2O_FLAG_W,D18O_N2O,D18O_N2O_FLAG_W,D15N_ALPHA_N2O,D15N_ALPHA_N2O_FLAG_W
,,,,,,,,,,,METERS,DBAR,ITS-90,PSS-78,,PSS-78,,UMOL/KG,,UMOL/KG,,UMOL/KG,,UMOL/KG,,UMOL/KG,,UMOL/KG,,PMOL/KG,,PMOL/KG,,FMOL/KG,,UMOL/KG,,UMOL/KG,,,,DEG C,/MILLE,,/MILLE,,/MILLE,PMOL/KG,,UG/KG,,UMOL/KG,,UMOL/KG,,UG/KG,,NMOL/KG,,/MILLE,,/MILLE,,/MILLE,/MILLE,,,,,,,,/MILLE,,/MILLE,/MILLE,/MILLE,,/MILLE,,/MILLE,,UMOL/KG,,NMOL/L,,/MILLE,,/MILLE,,/MILLE,
33RO20161119,        P18,      23,          1,          1,      11010,2,20161129,       2147,    13.0001,  -110.0007,       3267,  3289.1,   1.6637,  34.6761,2,  34.6755,2,    124.4,2,   124.6,2,   153.7,6,    37.9,6,    0.02,6,   2.581,6,   0.0055,2,   0.0042,2,   0.0258,2,  2350.4,6,  2430.4,2,   7.5310,2,    25.00, -999.00,9,  -999.0,9,  -999.0,    0.024,2, -999.00,9,    37.2,2,   39.60,2, -999.00,9,    21.6156,2, -999.00,9,  -999.0,9,     -999.0,     -999.0,9,     -999.0,9,     -999.0,     -999.0,9,     -999.0,     -999.0,9,     -999.0,     -999.0,     -999.0,9,     -999.0,9,     -999.0,9,     -999.0,9,     -999.0,9,     -999.0,9,     -999.0,9,     -999.0,9
33RO20161119,        P18,      23,          1,          2,      11101,2,20161129,       2147,    13.0001,  -110.0007,       3267,  2714.3,   1.7953,  34.6674,2,  34.6696,2,    112.0,2,   111.8,2,   153.0,6,    38.7,6,    0.02,6,   2.656,6,   0.0053,2,   0.0028,2,   0.0187,2,  2356.3,2,  2427.8,2,   7.5122,2,    25.00, -999.00,9,  -999.0,9,  -999.0,   0.0133,2, -999.00,9,    38.0,2,   41.20,2, -999.00,9,    23.3543,2, -999.00,9,  -999.0,9,     -999.0,     -999.0,9,     -999.0,9,     -999.0,     -999.0,9,     -999.0,     -999.0,9,     -999.0,     -999.0,     -999.0,9,     -999.0,9,     -999.0,9,     -999.0,9,     -999.0,9,     -999.0,9,     -999.0,9,     -999.0,9
33RO20161119,        P18,      23,          1,          3,      11102,2,20161129,       2147,    13.0001,  -110.0007,       3267,  2195.3,   2.0170,  34.6563,2,  34.6578,2,     98.1,2,    98.0,2,   149.5,6,    39.6,6,    0.02,6,   2.741,6,   0.0024,2,   0.0019,2,   0.0000,2,  2362.7,2,  2425.5,6,   7.4859,2,    25.00, -999.00,9,  -999.0,9,  -999.0,        0,2, -999.00,9,    39.3,2,   42.30,2, -999.00,9,    25.7455,2, -999.00,9,  -999.0,9,     -999.0,     -999.0,9,     -999.0,9,     -999.0,     -999.0,9,     -999.0,     -999.0,9,     -999.0,     -999.0,     -999.0,9,     -999.0,9,     -999.0,9,     -999.0,9,     -999.0,9,     -999.0,9,     -999.0,9,     -999.0,9
33RO20161119,        P18,      23,          1,          4,      11103,2,20161129,       2147,    13.0001,  -110.0007,       3267,  1695.0,   2.6568,  34.6211,2,  34.6239,2,     68.5,2,    68.7,2,   136.9,6,    41.8,6,    0.02,6,   2.932,6,   0.0017,2,   0.0015,2,   0.0000,2,  2364.9,2,  2408.4,2,   7.4282,6,    25.00, -999.00,9,  -999.0,9,  -999.0,   0.0137,2, -999.00,9,    41.0,2,   45.40,2, -999.00,9,    32.3137,2, -999.00,9,  -999.0,9,     -999.0,     -999.0,9,     -999.0,9,     -999.0,     -999.0,9,     -999.0,     -999.0,9,     -999.0,     -999.0,     -999.0,9,     -999.0,9,     -999.0,9,     -999.0,9,     -999.0,9,     -999.0,9,     -999.0,9,     -999.0,9
33RO20161119,        P18,      23,          1,          5,      11104,2,20161129,       2147,    13.0001,  -110.0007,       3267,  1215.1,   3.8118,  34.5792,2,  34.5789,2,     38.6,2,    38.8,2,   110.6,2,    43.9,2,    0.02,2,   3.139,2,   0.0020,2,   0.0013,2,   0.0000,2,  2353.1,2,  2378.5,2,   7.3691,2,    25.00, -999.00,9,  -999.0,9,  -999.0,   0.0083,2, -999.00,9,    39.8,2,   46.80,2, -999.00,9,    40.5302,2, -999.00,9,  -999.0,9,     -999.0,     -999.0,9,     -999.0,9,     -999.0,     -999.0,9,     -999.0,     -999.0,9,     -999.0,     -999.0,     -999.0,9,     -999.0,9,     -999.0,9,     -999.0,9,     -999.0,9,     -999.0,9,     -999.0,9,     -999.0,9
33RO20161119,        P18,      23,          1,          6,      11105,2,20161129,       2147,    13.0001,  -110.0007,       3267,  1085.2,   4.2327,  34.5677,2,  34.5683,2,     28.1,2,    28.0,2,   102.1,2,    44.6,2,    0.02,2,   3.194,2,   0.0022,2,   0.0014,2,   0.0000,2,  2349.4,2,  2367.1,2,   7.3503,2,    25.00, -999.00,9,  -999.0,9,  -999.0,        0,2, -999.00,9,    39.0,2,   48.20,2, -999.00,9,    45.6728,2, -999.00,9,  -999.0,9,     -999.0,     -999.0,9,     -999.0,9,     -999.0,     -999.0,9,     -999.0,     -999.0,9,     -999.0,     -999.0,     -999.0,9,     -999.0,9,     -999.0,9,     -999.0,9,     -999.0,9,     -999.0,9,     -999.0,9,     -999.0,9
33RO20161119,        P18,      23,          1,          7,      11106,2,20161129,       2147,    13.0001,  -110.0007,       3267,   955.7,   4.7223,  34.5582,2,  34.5584,2,     18.0,2,    19.3,2,    93.5,2,    44.9,2,    0.02,2,   3.230,2,   0.0050,6,   0.0030,6,   0.0000,6,  2345.6,2,  2356.9,2,   7.3316,2,    25.00, -999.00,9,  -999.0,9,  -999.0,   0.0288,2, -999.00,9,    41.7,2,   49.50,2, -999.00,9,    50.2385,2, -999.00,9,  -999.0,9,     -999.0,     -999.0,9,     -999.0,9,     -999.0,     -999.0,9,     -999.0,     -999.0,9,     -999.0,     -999.0,     -999.0,9,     -999.0,9,     -999.0,9,     -999.0,9,     -999.0,9,     -999.0,9,     -999.0,9,     -999.0,9
33RO20161119,        P18,      23,          1,          8,      11107,2,20161129,       2147,    13.0001,  -110.0007,       3267,   900.9,   4.9175,  34.5553,2,  34.5559,2,     13.0,2,    13.6,2,    90.0,2,    45.2,2,    0.02,2,   3.264,2,   0.0022,2,   0.0015,2,   0.0000,2,  2342.8,3,  2353.5,2,   7.3254,2,    25.00, -999.00,9,  -999.0,9,  -999.0,   0.0188,2, -999.00,9,    38.3,2,   48.70,2, -999.00,9,    52.1038,2, -999.00,9,  -999.0,9,     -999.0,     -999.0,9,     -999.0,9,     -999.0,     -999.0,9,     -999.0,     -999.0,9,     -999.0,     -999.0,     -999.0,9,     -999.0,9,     -999.0,9,     -999.0,9,     -999.0,9,     -999.0,9,     -999.0,9,     -999.0,9
33RO20161119,        P18,      23,          1,          9,      11108,2,20161129,       2147,    13.0001,  -110.0007,       3267,   846.4,   5.1195,  34.5466,2,  34.5447,2,      6.6,2,     6.8,2,    87.9,2,    44.9,2,    0.02,2,   3.272,2,   0.0038,2,   0.0021,2,   0.0209,2,  2345.7,6,  2352.4,2,   7.3134,2,    25.00, -999.00,9,  -999.0,9,  -999.0,        0,2, -999.00,9,    41.6,2,   51.20,2, -999.00,9,    51.9113,2, -999.00,9,  -999.0,9,     -999.0,     -999.0,9,     -999.0,9,     -999.0,     -999.0,9,     -999.0,     -999.0,9,     -999.0,     -999.0,     -999.0,9,     -999.0,9,     -999.0,9,     -999.0,9,     -999.0,9,     -999.0,9,     -999.0,9,     -999.0,9
33RO20161119,        P18,      23,          1,         10,      11109,2,20161129,       2147,    13.0001,  -110.0007,       3267,   736.4,   5.7884,  34.5452,2,  34.5461,2,      3.6,2,     4.0,6,    77.8,2,    43.4,2,    0.02,2,   3.217,2,   0.0054,2,   0.0022,2,   0.0000,2,  2334.8,2,  2343.6,2,   7.3148,2,    25.00, -999.00,9,  -999.0,9,  -999.0,    0.011,2, -999.00,9,    40.5,2,   46.50,2, -999.00,9,    58.1734,2, -999.00,9,  -999.0,9,     -999.0,     -999.0,9,     -999.0,9,     -999.0,     -999.0,9,     -999.0,     -999.0,9,     -999.0,     -999.0,     -999.0,9,     -999.0,9,     -999.0,9,     -999.0,9,     -999.0,9,     -999.0,9,     -999.0,9,     -999.0,9
33RO20161119,        P18,      23,          1,         11,      11110,2,20161129,       2147,    13.0001,  -110.0007,       3267,   635.8,   6.5420,  34.5400,2,  34.5459,2,      2.8,2,     2.8,2,    69.5,2,    39.7,2,    0.02,2,   3.144,2,   0.0084,2,   0.0047,2,   0.0278,2,  2326.2,2,  2333.6,2,   7.3234,2,    25.00, -999.00,9,  -999.0,9,  -999.0,    0.008,2, -999.00,9,    41.8,2,   43.00,2, -999.00,9,    37.0132,2, -999.00,9,  -999.0,9,     -999.0,     -999.0,9,     -999.0,9,     -999.0,     -999.0,9,     -999.0,     -999.0,9,     -999.0,     -999.0,     -999.0,9,     -999.0,9,     -999.0,9,     -999.0,9,     -999.0,9,     -999.0,9,     -999.0,9,     -999.0,9
33RO20161119,        P18,      23,          1,         12,      11111,2,20161129,       2147,    13.0001,  -110.0007,       3267,   540.8,   7.4903,  34.5515,2,  34.5581,2,      2.5,2,     2.5,2,    59.9,2,    35.8,2,    0.02,2,   3.047,2,   0.0233,2,   0.0144,2,   0.0404,2,  2311.4,2,  2324.6,2,   7.3344,2,    25.00, -999.00,9,  -999.0,9,  -999.0,    0.022,2, -999.00,9,    41.4,2,   39.40,2, -999.00,9,    16.7762,2, -999.00,9,  -999.0,9,     -999.0,     -999.0,9,     -999.0,9,     -999.0,     -999.0,9,     -999.0,     -999.0,9,     -999.0,     -999.0,     -999.0,9,     -999.0,9,     -999.0,9,     -999.0,9,     -999.0,9,     -999.0,9,     -999.0,9,     -999.0,9
33RO20161119,        P18,      23,          1,         13,      11112,2,20161129,       2147,    13.0001,  -110.0007,       3267,   443.8,   8.6884,  34.5924,2,  34.5915,2,      2.2,2,     2.1,2,    47.8,2,    32.6,2,    0.02,2,   2.902,2,   0.0747,2,   0.0452,2,   0.0000,2,  2294.7,2,  2315.7,6,   7.3465,2,    25.00, -999.00,9,  -999.0,9,  -999.0,   0.0296,2, -999.00,9,    41.9,2,   35.60,2, -999.00,9,    28.9065,2, -999.00,9,  -999.0,9,     -999.0,     -999.0,9,     -999.0,9,     -999.0,     -999.0,9,     -999.0,     -999.0,9,     -999.0,     -999.0,     -999.0,9,     -999.0,9,     -999.0,9,     -999.0,9,     -999.0,9,     -999.0,9,     -999.0,9,     -999.0,9
33RO20161119,        P18,      23,          1,         14,      11113,2,20161129,       2147,    13.0001,  -110.0007,       3267,   360.5,   9.6930,  34.6364,2,  34.6421,2,      2.2,2,     2.4,2,    38.7,2,    32.3,2,    0.03,2,   2.731,2,   0.2100,2,   0.1211,2,   0.0456,2,  2283.0,2,  2303.8,2,   7.3571,2,    25.00, -999.00,9,  -999.0,9,  -999.0,   0.0298,2, -999.00,9,    45.3,2,   36.30,2, -999.00,9,    27.0331,2, -999.00,9,  -999.0,9,     -999.0,     -999.0,9,     -999.0,9,     -999.0,     -999.0,9,     -999.0,     -999.0,9,     -999.0,     -999.0,     -999.0,9,     -999.0,9,     -999.0,9,     -999.0,9,     -999.0,9,     -999.0,9,     -999.0,9,     -999.0,9
33RO20161119,        P18,      23,          1,         15,      11114,2,20161129,       2147,    13.0001,  -110.0007,       3267,   280.5,  10.5351,  34.6848,2,  34.6869,2,      2.2,2,     1.8,2,    34.0,2,    28.1,2,    1.22,2,   2.647,2,   0.3898,2,   0.2235,2,   0.0962,2,  2273.7,2,  2303.6,2,   7.3722,2,    25.00, -999.00,9,  -999.0,9,  -999.0,   0.0333,2, -999.00,9,    45.5,2,   32.70,2, -999.00,9,    12.0226,2, -999.00,9,  -999.0,9,     -999.0,     -999.0,9,     -999.0,9,     -999.0,     -999.0,9,     -999.0,     -999.0,9,     -999.0,     -999.0,     -999.0,9,     -999.0,9,     -999.0,9,     -999.0,9,     -999.0,9,     -999.0,9,     -999.0,9,     -999.0,9
33RO20161119,        P18,      23,          1,         16,      11115,2,20161129,       2147,    13.0001,  -110.0007,       3267,   210.1,  11.3056,  34.7346,2,  34.7353,2,      2.3,2,     2.4,2,    31.3,2,    25.6,2,    1.44,2,   2.606,2,   0.5642,2,   0.3297,2,   0.1090,2,  2273.9,2,  2303.6,2,   7.3877,2,    25.00, -999.00,9,  -999.0,9,  -999.0,   0.0184,2, -999.00,9,    47.8,2,   29.20,2, -999.00,9,     8.3675,2, -999.00,9,  -999.0,9,     -999.0,     -999.0,9,     -999.0,9,     -999.0,     -999.0,9,     -999.0,     -999.0,9,     -999.0,     -999.0,     -999.0,9,     -999.0,9,     -999.0,9,     -999.0,9,     -999.0,9,     -999.0,9,     -999.0,9,     -999.0,9
33RO20161119,        P18,      23,          1,         17,      11116,2,20161129,       2147,    13.0001,  -110.0007,       3267,   145.9,  12.1755,  34.7616,2,  34.7609,2,      2.4,2,     2.5,2,    28.6,2,    25.0,2,    2.01,2,   2.531,2,   0.8269,2,   0.4938,2,   0.2234,2,  2264.1,2,  2302.6,2,   7.4070,2,    25.00, -999.00,9,  -999.0,9,  -999.0,   0.0969,2, -999.00,9,    48.9,2,   29.70,2, -999.00,9,    20.4635,2, -999.00,9,  -999.0,9,     -999.0,     -999.0,9,     -999.0,9,     -999.0,     -999.0,9,     -999.0,     -999.0,9,     -999.0,     -999.0,     -999.0,9,     -999.0,9,     -999.0,9,     -999.0,9,     -999.0,9,     -999.0,9,     -999.0,9,     -999.0,9
33RO20161119,        P18,      23,          1,         18,      11117,2,20161129,       2147,    13.0001,  -110.0007,       3267,    95.7,  14.3936,  34.7481,2,  34.7559,2,      3.0,2,     2.4,6,    23.0,2,    26.2,2,    0.05,2,   2.433,2,   1.2490,2,   0.7324,2,   0.4616,2,  2247.6,2,  2291.8,2,   7.4344,2,    25.00, -999.00,9,  -999.0,9,  -999.0,   0.2024,2, -999.00,9,    52.9,2,   28.70,2, -999.00,9,    60.2291,2, -999.00,9,  -999.0,9,     -999.0,     -999.0,9,     -999.0,9,     -999.0,     -999.0,9,     -999.0,     -999.0,9,     -999.0,     -999.0,     -999.0,9,     -999.0,9,     -999.0,9,     -999.0,9,     -999.0,9,     -999.0,9,     -999.0,9,     -999.0,9
33RO20161119,        P18,      23,          1,         19,      11083,2,20161129,       2147,    13.0001,  -110.0007,       3267,    81.1,  16.2688,  34.6754,2,  34.6657,2,      7.2,2,     7.0,2,    18.7,2,    25.7,2,    0.05,2,   2.310,2,   1.4367,2,   0.8524,2,   0.6370,2,  2231.1,2,  2284.8,2,   7.4680,2,    25.00, -999.00,9,  -999.0,9,  -999.0,   0.4901,2, -999.00,9,    56.2,2,   29.20,2, -999.00,9,    80.0217,2, -999.00,9,  -999.0,9,     -999.0,     -999.0,9,     -999.0,9,     -999.0,     -999.0,9,     -999.0,     -999.0,9,     -999.0,     -999.0,     -999.0,9,     -999.0,9,     -999.0,9,     -999.0,9,     -999.0,9,     -999.0,9,     -999.0,9,     -999.0,9
33RO20161119,        P18,      23,          1,         20,      11118,2,20161129,       2147,    13.0001,  -110.0007,       3267,    71.1,  19.2648,  34.5078,2,  34.6661,4,     62.2,2,    42.8,2,    12.5,2,    19.0,2,    0.26,2,   1.882,2,   1.6283,2,   0.9896,2,   0.9615,2,  2184.1,2,  2282.1,2,   7.5941,2,    25.00, -999.00,9,  -999.0,9,  -999.0,    0.674,2, -999.00,9,    59.3,2,   22.50,2, -999.00,9,    56.2922,2, -999.00,9,  -999.0,9,     -999.0,     -999.0,9,     -999.0,9,     -999.0,     -999.0,9,     -999.0,     -999.0,9,     -999.0,     -999.0,     -999.0,9,     -999.0,9,     -999.0,9,     -999.0,9,     -999.0,9,     -999.0,9,     -999.0,9,     -999.0,9
33RO20161119,        P18,      23,          1,         21,      11119,2,20161129,       2147,    13.0001,  -110.0007,       3267,    55.5,  24.2400,  34.4429,2,  34.4462,2,    180.1,2,   166.1,2,     2.8,2,     1.2,2,    0.14,2,   0.664,2,   1.7306,2,   1.0698,2,   1.3200,2,  2054.3,2,  2283.0,2,   7.9169,2,    25.00, -999.00,9,  -999.0,9,  -999.0,   0.9549,2, -999.00,9,    75.2,2,    7.30,2, -999.00,9,    28.4853,2, -999.00,9,  -999.0,9,     -999.0,     -999.0,9,     -999.0,9,     -999.0,     -999.0,9,     -999.0,     -999.0,9,     -999.0,     -999.0,     -999.0,9,     -999.0,9,     -999.0,9,     -999.0,9,     -999.0,9,     -999.0,9,     -999.0,9,     -999.0,9
33RO20161119,        P18,      23,          1,         22,      11120,2,20161129,       2147,    13.0001,  -110.0007,       3267,    34.6,  27.7296,  33.9213,2,  33.8577,2,    203.4,2,   201.1,2,     1.0,2,     0.0,2,    0.02,2,   0.272,2,   1.5901,2,   1.0054,2,   1.3542,2,  1952.7,2,  2228.3,2,   8.0440,2,    25.00, -999.00,9,  -999.0,9,  -999.0,   1.6934,2, -999.00,9,    82.2,2,    4.00,2, -999.00,9,    13.6584,2, -999.00,9,  -999.0,9,     -999.0,     -999.0,9,     -999.0,9,     -999.0,     -999.0,9,     -999.0,     -999.0,9,     -999.0,     -999.0,     -999.0,9,     -999.0,9,     -999.0,9,     -999.0,9,     -999.0,9,     -999.0,9,     -999.0,9,     -999.0,9
33RO20161119,        P18,      23,          1,         23,      11121,2,20161129,       2147,    13.0001,  -110.0007,       3267,    19.9,  28.8344,  33.2948,2,  33.2963,2,    198.1,2,   198.0,2,     0.7,2,     0.0,2,    0.02,2,   0.132,2,   1.4539,2,   0.9309,2,   1.3331,2,  1886.0,2,  2198.3,6,   8.0990,2,    25.00, -999.00,9,  -999.0,9,  -999.0,   1.6644,2, -999.00,9,    81.8,2,    5.20,2, -999.00,9,     6.3962,2, -999.00,9,  -999.0,9,     -999.0,     -999.0,9,     -999.0,9,     -999.0,     -999.0,9,     -999.0,     -999.0,9,     -999.0,     -999.0,     -999.0,9,     -999.0,9,     -999.0,9,     -999.0,9,     -999.0,9,     -999.0,9,     -999.0,9,     -999.0,9
33RO20161119,        P18,      23,          1,         24,      11122,2,20161129,       2147,    13.0001,  -110.0007,       3267,     4.2,  29.0594,  33.3161,2,  33.3164,2,    198.1,2,   197.6,2,     0.7,2,     0.0,2,    0.02,2,   0.134,2,   1.4597,2,   0.9256,2,   1.3387,2,  1886.1,6,  2197.1,2,   8.0970,6,    25.00, -999.00,9,  -999.0,9,  -999.0,   0.0143,2, -999.00,9,    81.3,2,    4.70,2, -999.00,9,     6.3796,2, -999.00,9,  -999.0,9,     -999.0,     -999.0,9,     -999.0,9,     -999.0,     -999.0,9,     -999.0,     -999.0,9,     -999.0,     -999.0,     -999.0,9,     -999.0,9,     -999.0,9,     -999.0,9,     -999.0,9,     -999.0,9,     -999.0,9,     -999.0,9