BOTTLE,20230606CCHSIOCBG
EXPOCODE,SECT_ID,STNNBR,CASTNO,SAMPNO,BTLNBR,BTLNBR_FLAG_W,DATE,TIME,LATITUDE,LONGITUDE,DEPTH,CTDPRS,CTDTMP,CTDSAL,CTDSAL_FLAG_W,SALNTY,SALNTY_FLAG_W,CTDOXY,CTDOXY_FLAG_W,OXYGEN,OXYGEN_FLAG_W,SILCAT,SILCAT_FLAG_W,NITRAT,NITRAT_FLAG_W,NITRIT,NITRIT_FLAG_W,PHSPHT,PHSPHT_FLAG_W,CFC-11,CFC-11_FLAG_W,CFC-12,CFC-12_FLAG_W,SF6,SF6_FLAG_W,TCARBN,TCARBN_FLAG_W,ALKALI,ALKALI_FLAG_W,PH_SWS,PH_SWS_FLAG_W,PH_TMP,DELC13,DELC13_FLAG_W,DELC14,DELC14_FLAG_W,C14ERR,CCL4,CCL4_FLAG_W,POC,POC_FLAG_W,DOC,DOC_FLAG_W,TDN,TDN_FLAG_W,PON,PON_FLAG_W,N2O,N2O_FLAG_W,D15N_NO3,D15N_NO3_FLAG_W,14C-DOC,14C-DOC_FLAG_W,14C-DOCERR,13C-DOC,13C-DOC_FLAG_W,N2/ARGON_UNSTRIPPED,N2/ARGON_UNSTRIPPED_FLAG_W,N2/ARGON_UNSTRIPPED_ERROR,N2/ARGON,N2/ARGON_FLAG_W,N2/ARGON_ERROR,D15N_N2,D15N_N2_FLAG_W,D15N_N2_ERROR,D15N_NO3_ERROR,D15N_NO2+NO3,D15N_NO2+NO3_FLAG_W,D18O_NO2+NO3,D18O_NO2+NO3_FLAG_W,D18O_NO3,D18O_NO3_FLAG_W,TDP,TDP_FLAG_W,N2O_ALT_1,N2O_ALT_1_FLAG_W,D15N_N2O,D15N_N2O_FLAG_W,D18O_N2O,D18O_N2O_FLAG_W,D15N_ALPHA_N2O,D15N_ALPHA_N2O_FLAG_W
,,,,,,,,,,,METERS,DBAR,ITS-90,PSS-78,,PSS-78,,UMOL/KG,,UMOL/KG,,UMOL/KG,,UMOL/KG,,UMOL/KG,,UMOL/KG,,PMOL/KG,,PMOL/KG,,FMOL/KG,,UMOL/KG,,UMOL/KG,,,,DEG C,/MILLE,,/MILLE,,/MILLE,PMOL/KG,,UG/KG,,UMOL/KG,,UMOL/KG,,UG/KG,,NMOL/KG,,/MILLE,,/MILLE,,/MILLE,/MILLE,,,,,,,,/MILLE,,/MILLE,/MILLE,/MILLE,,/MILLE,,/MILLE,,UMOL/KG,,NMOL/L,,/MILLE,,/MILLE,,/MILLE,
33RO20161119,        P18,     110,          1,          1,      11010,2,20161220,       0108,   -21.0000,  -103.0001,       4070,  4124.5,   1.8426,  34.6873,2,  34.6869,2,    150.1,2,   149.7,2,   126.8,6,    35.4,6,    0.00,6,   2.514,6,-999.0000,9,-999.0000,9,-999.0000,9,  2324.6,6,  2421.5,2,   7.5736,2,    25.00, -999.00,9,  -999.0,9,  -999.0,-999.0000,9, -999.00,9,  -999.0,9, -999.00,9, -999.00,9,     -999.0,9, -999.00,9,  -999.0,9,     -999.0,     -999.0,9,     -999.0,9,     -999.0,     -999.0,9,     -999.0,     -999.0,9,     -999.0,     -999.0,     -999.0,9,     -999.0,9,     -999.0,9,     -999.0,9,     -999.0,9,     -999.0,9,     -999.0,9,     -999.0,9
33RO20161119,        P18,     110,          1,          2,      11101,2,20161220,       0108,   -21.0000,  -103.0001,       4070,  3800.6,   1.8146,  34.6868,2,  34.6861,2,    150.4,2,   149.8,2,   126.8,6,    35.4,6,    0.00,6,   2.510,6,-999.0000,9,-999.0000,9,-999.0000,9,  2321.3,2,  2419.3,6,   7.5737,2,    25.00, -999.00,9,  -999.0,9,  -999.0,-999.0000,9, -999.00,9,  -999.0,9, -999.00,9, -999.00,9,     -999.0,9, -999.00,9,  -999.0,9,     -999.0,     -999.0,9,     -999.0,9,     -999.0,     -999.0,9,     -999.0,     -999.0,9,     -999.0,     -999.0,     -999.0,9,     -999.0,9,     -999.0,9,     -999.0,9,     -999.0,9,     -999.0,9,     -999.0,9,     -999.0,9
33RO20161119,        P18,     110,          1,          3,      11102,2,20161220,       0108,   -21.0000,  -103.0001,       4070,  3444.9,   1.7855,  34.6856,2,  34.6846,2,    150.8,2,   150.3,2,   126.3,6,    35.4,6,    0.00,6,   2.508,6,-999.0000,9,-999.0000,9,-999.0000,9,  2319.1,2,  2419.4,2,   7.5752,2,    25.00, -999.00,9,  -999.0,9,  -999.0,-999.0000,9, -999.00,9,  -999.0,9, -999.00,9, -999.00,9,     -999.0,9, -999.00,9,  -999.0,9,     -999.0,     -999.0,9,     -999.0,9,     -999.0,     -999.0,9,     -999.0,     -999.0,9,     -999.0,     -999.0,     -999.0,9,     -999.0,9,     -999.0,9,     -999.0,9,     -999.0,9,     -999.0,9,     -999.0,9,     -999.0,9
33RO20161119,        P18,     110,          1,          4,      11103,2,20161220,       0108,   -21.0000,  -103.0001,       4070,  3119.8,   1.7777,  34.6825,2,  34.6814,2,    151.6,2,   152.0,2,   124.3,6,    35.3,6,    0.00,6,   2.510,6,-999.0000,9,-999.0000,9,-999.0000,9,  2315.4,2,  2414.1,2,   7.5731,6,    25.00, -999.00,9,  -999.0,9,  -999.0,-999.0000,9, -999.00,9,  -999.0,9, -999.00,9, -999.00,9,     -999.0,9, -999.00,9,  -999.0,9,     -999.0,     -999.0,9,     -999.0,9,     -999.0,     -999.0,9,     -999.0,     -999.0,9,     -999.0,     -999.0,     -999.0,9,     -999.0,9,     -999.0,9,     -999.0,9,     -999.0,9,     -999.0,9,     -999.0,9,     -999.0,9
33RO20161119,        P18,     110,          1,          5,      11104,2,20161220,       0108,   -21.0000,  -103.0001,       4070,  2795.5,   1.8032,  34.6768,2,  34.6755,2,    154.8,2,   154.6,2,   120.2,2,    35.0,2,    0.00,2,   2.503,2,-999.0000,9,-999.0000,9,-999.0000,9,  2307.5,2,  2403.6,2,   7.5722,2,    25.00, -999.00,9,  -999.0,9,  -999.0,-999.0000,9, -999.00,9,  -999.0,9, -999.00,9, -999.00,9,     -999.0,9, -999.00,9,  -999.0,9,     -999.0,     -999.0,9,     -999.0,9,     -999.0,     -999.0,9,     -999.0,     -999.0,9,     -999.0,     -999.0,     -999.0,9,     -999.0,9,     -999.0,9,     -999.0,9,     -999.0,9,     -999.0,9,     -999.0,9,     -999.0,9
33RO20161119,        P18,     110,          1,          6,      11105,2,20161220,       0108,   -21.0000,  -103.0001,       4070,  2474.8,   1.8768,  34.6659,2,  34.6645,2,    155.2,2,   155.3,2,   116.1,2,    34.9,2,    0.00,2,   2.494,2,-999.0000,9,-999.0000,9,-999.0000,9,  2301.7,2,  2397.8,2,   7.5684,2,    25.00, -999.00,9,  -999.0,9,  -999.0,-999.0000,9, -999.00,9,  -999.0,9, -999.00,9, -999.00,9,     -999.0,9, -999.00,9,  -999.0,9,     -999.0,     -999.0,9,     -999.0,9,     -999.0,     -999.0,9,     -999.0,     -999.0,9,     -999.0,     -999.0,     -999.0,9,     -999.0,9,     -999.0,9,     -999.0,9,     -999.0,9,     -999.0,9,     -999.0,9,     -999.0,9
33RO20161119,        P18,     110,          1,          7,      11106,2,20161220,       0108,   -21.0000,  -103.0001,       4070,  2154.5,   2.0365,  34.6468,2,  34.6456,2,    150.5,2,   150.7,2,   111.9,2,    35.3,2,    0.00,2,   2.516,2,-999.0000,9,-999.0000,9,-999.0000,9,  2300.7,2,  2393.4,2,   7.5579,2,    25.00, -999.00,9,  -999.0,9,  -999.0,-999.0000,9, -999.00,9,  -999.0,9, -999.00,9, -999.00,9,     -999.0,9, -999.00,9,  -999.0,9,     -999.0,     -999.0,9,     -999.0,9,     -999.0,     -999.0,9,     -999.0,     -999.0,9,     -999.0,     -999.0,     -999.0,9,     -999.0,9,     -999.0,9,     -999.0,9,     -999.0,9,     -999.0,9,     -999.0,9,     -999.0,9
33RO20161119,        P18,     110,          1,          8,      11107,2,20161220,       0108,   -21.0000,  -103.0001,       4070,  1836.1,   2.4081,  34.6153,2,  34.6144,2,    132.2,2,   131.9,2,   107.7,2,    37.0,2,    0.00,2,   2.646,2,-999.0000,9,-999.0000,9,-999.0000,9,  2307.7,6,  2384.1,2,   7.5264,2,    25.00, -999.00,9,  -999.0,9,  -999.0,-999.0000,9, -999.00,9,  -999.0,9, -999.00,9, -999.00,9,     -999.0,9, -999.00,9,  -999.0,9,     -999.0,     -999.0,9,     -999.0,9,     -999.0,     -999.0,9,     -999.0,     -999.0,9,     -999.0,     -999.0,     -999.0,9,     -999.0,9,     -999.0,9,     -999.0,9,     -999.0,9,     -999.0,9,     -999.0,9,     -999.0,9
33RO20161119,        P18,     110,          1,          9,      11108,2,20161220,       0108,   -21.0000,  -103.0001,       4070,  1554.6,   2.8826,  34.5856,2,  34.5854,2,    112.9,2,   112.4,2,   101.1,2,    38.5,2,    0.00,2,   2.772,2,-999.0000,9,-999.0000,9,-999.0000,9,  2309.8,2,  2377.3,2,   7.4948,2,    25.00, -999.00,9,  -999.0,9,  -999.0,-999.0000,9, -999.00,9,  -999.0,9, -999.00,9, -999.00,9,     -999.0,9, -999.00,9,  -999.0,9,     -999.0,     -999.0,9,     -999.0,9,     -999.0,     -999.0,9,     -999.0,     -999.0,9,     -999.0,     -999.0,     -999.0,9,     -999.0,9,     -999.0,9,     -999.0,9,     -999.0,9,     -999.0,9,     -999.0,9,     -999.0,9
33RO20161119,        P18,     110,          1,         10,      11109,2,20161220,       0108,   -21.0000,  -103.0001,       4070,  1369.7,   3.2282,  34.5632,2,  34.5630,2,    107.2,2,   107.1,6,    92.5,2,    39.1,2,    0.00,2,   2.801,2,-999.0000,9,-999.0000,9,-999.0000,9,  2303.8,2,  2365.9,2,   7.4820,2,    25.00, -999.00,9,  -999.0,9,  -999.0,-999.0000,9, -999.00,9,  -999.0,9, -999.00,9, -999.00,9,     -999.0,9, -999.00,9,  -999.0,9,     -999.0,     -999.0,9,     -999.0,9,     -999.0,     -999.0,9,     -999.0,     -999.0,9,     -999.0,     -999.0,     -999.0,9,     -999.0,9,     -999.0,9,     -999.0,9,     -999.0,9,     -999.0,9,     -999.0,9,     -999.0,9
33RO20161119,        P18,     110,          1,         11,      11110,2,20161220,       0108,   -21.0000,  -103.0001,       4070,  1225.1,   3.6034,  34.5426,2,  34.5417,2,    101.0,2,   100.2,2,    84.2,2,    39.6,2,    0.00,2,   2.842,2,-999.0000,9,-999.0000,9,-999.0000,9,  2297.6,2,  2358.0,2,   7.4694,2,    25.00, -999.00,9,  -999.0,9,  -999.0,-999.0000,9, -999.00,9,  -999.0,9, -999.00,9, -999.00,9,     -999.0,9, -999.00,9,  -999.0,9,     -999.0,     -999.0,9,     -999.0,9,     -999.0,     -999.0,9,     -999.0,     -999.0,9,     -999.0,     -999.0,     -999.0,9,     -999.0,9,     -999.0,9,     -999.0,9,     -999.0,9,     -999.0,9,     -999.0,9,     -999.0,9
33RO20161119,        P18,     110,          1,         12,      11111,2,20161220,       0108,   -21.0000,  -103.0001,       4070,  1084.7,   4.0125,  34.5215,2,  34.5209,2,     91.7,2,    92.7,2,    74.9,2,    40.2,2,    0.01,2,   2.883,2,   0.0021,6,   0.0018,6,   0.0000,6,  2291.7,2,  2349.0,2,   7.4547,2,    25.00, -999.00,9,  -999.0,9,  -999.0,    0.222,2, -999.00,9,  -999.0,9, -999.00,9, -999.00,9,    32.6808,2, -999.00,9,  -999.0,9,     -999.0,     -999.0,9,     -999.0,9,     -999.0,     -999.0,9,     -999.0,     -999.0,9,     -999.0,     -999.0,     -999.0,9,     -999.0,9,     -999.0,9,     -999.0,9,     -999.0,9,     -999.0,9,     -999.0,9,     -999.0,9
33RO20161119,        P18,     110,          1,         13,      11112,2,20161220,       0108,   -21.0000,  -103.0001,       4070,   944.7,   4.4430,  34.4809,2,  34.4815,2,    105.1,2,   104.1,2,    60.4,2,    38.7,2,    0.00,2,   2.771,2,-999.0000,9,-999.0000,9,-999.0000,9,  2271.1,2,  2331.6,2,   7.4767,2,    25.00, -999.00,9,  -999.0,9,  -999.0,-999.0000,9, -999.00,9,  -999.0,9, -999.00,9, -999.00,9,     -999.0,9, -999.00,9,  -999.0,9,     -999.0,     -999.0,9,     -999.0,9,     -999.0,     -999.0,9,     -999.0,     -999.0,9,     -999.0,     -999.0,     -999.0,9,     -999.0,9,     -999.0,9,     -999.0,9,     -999.0,9,     -999.0,9,     -999.0,9,     -999.0,9
33RO20161119,        P18,     110,          1,         14,      11113,2,20161220,       0108,   -21.0000,  -103.0001,       4070,   809.5,   4.8516,  34.4139,2,  34.4146,2,    117.3,2,   119.2,2,    43.4,2,    37.5,2,    0.01,2,   2.615,2,   0.0911,2,   0.0495,2,   0.0000,2,  2245.8,2,  2310.6,2,   7.4995,2,    25.00, -999.00,9,  -999.0,9,  -999.0,   0.6524,2, -999.00,9,  -999.0,9, -999.00,9, -999.00,9,    31.3325,2, -999.00,9,  -999.0,9,     -999.0,     -999.0,9,     -999.0,9,     -999.0,     -999.0,9,     -999.0,     -999.0,9,     -999.0,     -999.0,     -999.0,9,     -999.0,9,     -999.0,9,     -999.0,9,     -999.0,9,     -999.0,9,     -999.0,9,     -999.0,9
33RO20161119,        P18,     110,          1,         15,      11114,2,20161220,       0108,   -21.0000,  -103.0001,       4070,   685.3,   5.6073,  34.3660,2,  34.3645,2,    147.8,2,   141.9,2,    26.3,2,    34.2,2,    0.00,2,   2.389,2,-999.0000,9,-999.0000,9,-999.0000,9,  2216.2,2,  2291.1,2,   7.5294,2,    25.00, -999.00,9,  -999.0,9,  -999.0,-999.0000,9, -999.00,9,  -999.0,9, -999.00,9, -999.00,9,     -999.0,9, -999.00,9,  -999.0,9,     -999.0,     -999.0,9,     -999.0,9,     -999.0,     -999.0,9,     -999.0,     -999.0,9,     -999.0,     -999.0,     -999.0,9,     -999.0,9,     -999.0,9,     -999.0,9,     -999.0,9,     -999.0,9,     -999.0,9,     -999.0,9
33RO20161119,        P18,     110,          1,         16,      11115,2,20161220,       0108,   -21.0000,  -103.0001,       4070,   574.7,   6.2301,  34.3341,2,  34.3364,2,    176.9,2,   174.8,2,    15.8,4,    29.6,4,    0.00,4,   2.120,4,   2.2909,2,   1.1286,2,   0.4105,2,  2189.6,2,  2281.0,2,   7.5785,2,    25.00, -999.00,9,  -999.0,9,  -999.0,   0.5199,2, -999.00,9,  -999.0,9, -999.00,9, -999.00,9,    28.2596,2, -999.00,9,  -999.0,9,     -999.0,     -999.0,9,     -999.0,9,     -999.0,     -999.0,9,     -999.0,     -999.0,9,     -999.0,     -999.0,     -999.0,9,     -999.0,9,     -999.0,9,     -999.0,9,     -999.0,9,     -999.0,9,     -999.0,9,     -999.0,9
33RO20161119,        P18,     110,          1,         17,      11116,2,20161220,       0108,   -21.0000,  -103.0001,       4070,   460.2,   8.0025,  34.4314,2,  34.4321,2,    100.2,2,    96.4,2,    17.8,2,    31.4,2,    0.00,2,   2.406,2,   1.7815,2,   0.8930,2,   0.3460,2,  2229.6,2,  2281.1,2,   7.4661,2,    25.00, -999.00,9,  -999.0,9,  -999.0,   0.5354,2, -999.00,9,  -999.0,9, -999.00,9, -999.00,9,    39.6655,2, -999.00,9,  -999.0,9,     -999.0,     -999.0,9,     -999.0,9,     -999.0,     -999.0,9,     -999.0,     -999.0,9,     -999.0,     -999.0,     -999.0,9,     -999.0,9,     -999.0,9,     -999.0,9,     -999.0,9,     -999.0,9,     -999.0,9,     -999.0,9
33RO20161119,        P18,     110,          1,         18,      11117,2,20161220,       0108,   -21.0000,  -103.0001,       4070,   350.8,  11.4959,  34.4524,2,  34.4554,2,    171.6,2,   167.9,2,     4.9,2,    15.0,2,    0.01,2,   1.354,2,   2.9474,2,   1.6417,2,   1.1771,2,  2142.8,2,  2279.6,6,   7.7037,2,    25.00, -999.00,9,  -999.0,9,  -999.0,   1.2367,2, -999.00,9,  -999.0,9, -999.00,9, -999.00,9,    20.6114,2, -999.00,9,  -999.0,9,     -999.0,     -999.0,9,     -999.0,9,     -999.0,     -999.0,9,     -999.0,     -999.0,9,     -999.0,     -999.0,     -999.0,9,     -999.0,9,     -999.0,9,     -999.0,9,     -999.0,9,     -999.0,9,     -999.0,9,     -999.0,9
33RO20161119,        P18,     110,          1,         19,      11083,2,20161220,       0108,   -21.0000,  -103.0001,       4070,   255.2,  17.5617,  35.2907,2,  35.2673,2,    193.8,2,   192.0,2,     0.9,2,     4.1,2,    0.01,2,   0.657,2,   2.3491,2,   1.4358,2,   1.5102,2,  2111.4,2,  2328.9,2,   7.8794,2,    25.00, -999.00,9,  -999.0,9,  -999.0,   1.3773,2, -999.00,9,  -999.0,9, -999.00,9, -999.00,9,    10.5513,2, -999.00,9,  -999.0,9,     -999.0,     -999.0,9,     -999.0,9,     -999.0,     -999.0,9,     -999.0,     -999.0,9,     -999.0,     -999.0,     -999.0,9,     -999.0,9,     -999.0,9,     -999.0,9,     -999.0,9,     -999.0,9,     -999.0,9,     -999.0,9
33RO20161119,        P18,     110,          1,         20,      11118,2,20161220,       0108,   -21.0000,  -103.0001,       4070,   175.1,  21.7441,  36.1522,2,  36.1508,2,    212.6,2,   213.3,2,     0.4,2,     0.0,2,    0.01,2,   0.243,2,   1.9166,2,   1.1935,2,   1.5206,2,  2091.2,2,  2389.7,2,   8.0019,2,    25.00, -999.00,9,  -999.0,9,  -999.0,   1.7029,2, -999.00,9,  -999.0,9, -999.00,9, -999.00,9,     7.1437,2, -999.00,9,  -999.0,9,     -999.0,     -999.0,9,     -999.0,9,     -999.0,     -999.0,9,     -999.0,     -999.0,9,     -999.0,     -999.0,     -999.0,9,     -999.0,9,     -999.0,9,     -999.0,9,     -999.0,9,     -999.0,9,     -999.0,9,     -999.0,9
33RO20161119,        P18,     110,          1,         21,      11119,2,20161220,       0108,   -21.0000,  -103.0001,       4070,   105.0,  23.0477,  36.4050,2,  36.4187,2,    216.9,2,   216.5,6,     0.5,2,     0.0,2,    0.00,2,   0.236,2,   1.7997,2,   1.1335,2,   1.4834,2,  2090.7,2,  2403.4,2,   8.0288,2,    25.00, -999.00,9,  -999.0,9,  -999.0,   1.7427,2, -999.00,9,  -999.0,9, -999.00,9, -999.00,9,     6.8692,2, -999.00,9,  -999.0,9,     -999.0,     -999.0,9,     -999.0,9,     -999.0,     -999.0,9,     -999.0,     -999.0,9,     -999.0,     -999.0,     -999.0,9,     -999.0,9,     -999.0,9,     -999.0,9,     -999.0,9,     -999.0,9,     -999.0,9,     -999.0,9
33RO20161119,        P18,     110,          1,         22,      11120,2,20161220,       0108,   -21.0000,  -103.0001,       4070,    50.1,  23.9453,  36.4946,2,  36.4921,2,    211.7,2,   212.3,2,     0.6,2,     0.0,2,    0.00,2,   0.295,2,   1.7395,2,   1.0924,2,   1.4408,2,  2093.3,2,  2411.4,6,   8.0334,6,    25.00, -999.00,9,  -999.0,9,  -999.0,        0,2, -999.00,9,  -999.0,9, -999.00,9, -999.00,9,     6.5848,2, -999.00,9,  -999.0,9,     -999.0,     -999.0,9,     -999.0,9,     -999.0,     -999.0,9,     -999.0,     -999.0,9,     -999.0,     -999.0,     -999.0,9,     -999.0,9,     -999.0,9,     -999.0,9,     -999.0,9,     -999.0,9,     -999.0,9,     -999.0,9
33RO20161119,        P18,     110,          1,         23,      11121,2,20161220,       0108,   -21.0000,  -103.0001,       4070,    20.6,  24.1679,  36.4532,2,  36.4555,2,    209.8,2,   211.2,2,     0.5,2,     0.0,2,    0.00,2,   0.320,2,-999.0000,9,-999.0000,9,-999.0000,9,  2092.7,6,  2408.8,2,   8.0301,2,    25.00, -999.00,9,  -999.0,9,  -999.0,-999.0000,9, -999.00,9,  -999.0,9, -999.00,9, -999.00,9,     -999.0,9, -999.00,9,  -999.0,9,     -999.0,     -999.0,9,     -999.0,9,     -999.0,     -999.0,9,     -999.0,     -999.0,9,     -999.0,     -999.0,     -999.0,9,     -999.0,9,     -999.0,9,     -999.0,9,     -999.0,9,     -999.0,9,     -999.0,9,     -999.0,9
33RO20161119,        P18,     110,          1,         24,      11122,2,20161220,       0108,   -21.0000,  -103.0001,       4070,     4.1,  24.2645,  36.4560,2,  36.4535,2,    206.2,2,   211.0,2,     0.5,2,     0.0,2,    0.00,2,   0.304,2,   1.7414,2,   1.0914,2,   1.4741,2,  2094.8,2,  2410.8,2,   8.0294,2,    25.00, -999.00,9,  -999.0,9,  -999.0,        0,2, -999.00,9,  -999.0,9, -999.00,9, -999.00,9,     6.5953,2, -999.00,9,  -999.0,9,     -999.0,     -999.0,9,     -999.0,9,     -999.0,     -999.0,9,     -999.0,     -999.0,9,     -999.0,     -999.0,     -999.0,9,     -999.0,9,     -999.0,9,     -999.0,9,     -999.0,9,     -999.0,9,     -999.0,9,     -999.0,9