BOTTLE,20230606CCHSIOCBG
EXPOCODE,SECT_ID,STNNBR,CASTNO,SAMPNO,BTLNBR,BTLNBR_FLAG_W,DATE,TIME,LATITUDE,LONGITUDE,DEPTH,CTDPRS,CTDTMP,CTDSAL,CTDSAL_FLAG_W,SALNTY,SALNTY_FLAG_W,CTDOXY,CTDOXY_FLAG_W,OXYGEN,OXYGEN_FLAG_W,SILCAT,SILCAT_FLAG_W,NITRAT,NITRAT_FLAG_W,NITRIT,NITRIT_FLAG_W,PHSPHT,PHSPHT_FLAG_W,CFC-11,CFC-11_FLAG_W,CFC-12,CFC-12_FLAG_W,SF6,SF6_FLAG_W,TCARBN,TCARBN_FLAG_W,ALKALI,ALKALI_FLAG_W,PH_SWS,PH_SWS_FLAG_W,PH_TMP,DELC13,DELC13_FLAG_W,DELC14,DELC14_FLAG_W,C14ERR,CCL4,CCL4_FLAG_W,POC,POC_FLAG_W,DOC,DOC_FLAG_W,TDN,TDN_FLAG_W,PON,PON_FLAG_W,N2O,N2O_FLAG_W,D15N_NO3,D15N_NO3_FLAG_W,14C-DOC,14C-DOC_FLAG_W,14C-DOCERR,13C-DOC,13C-DOC_FLAG_W,N2/ARGON_UNSTRIPPED,N2/ARGON_UNSTRIPPED_FLAG_W,N2/ARGON_UNSTRIPPED_ERROR,N2/ARGON,N2/ARGON_FLAG_W,N2/ARGON_ERROR,D15N_N2,D15N_N2_FLAG_W,D15N_N2_ERROR,D15N_NO3_ERROR,D15N_NO2+NO3,D15N_NO2+NO3_FLAG_W,D18O_NO2+NO3,D18O_NO2+NO3_FLAG_W,D18O_NO3,D18O_NO3_FLAG_W,TDP,TDP_FLAG_W,N2O_ALT_1,N2O_ALT_1_FLAG_W,D15N_N2O,D15N_N2O_FLAG_W,D18O_N2O,D18O_N2O_FLAG_W,D15N_ALPHA_N2O,D15N_ALPHA_N2O_FLAG_W
,,,,,,,,,,,METERS,DBAR,ITS-90,PSS-78,,PSS-78,,UMOL/KG,,UMOL/KG,,UMOL/KG,,UMOL/KG,,UMOL/KG,,UMOL/KG,,PMOL/KG,,PMOL/KG,,FMOL/KG,,UMOL/KG,,UMOL/KG,,,,DEG C,/MILLE,,/MILLE,,/MILLE,PMOL/KG,,UG/KG,,UMOL/KG,,UMOL/KG,,UG/KG,,NMOL/KG,,/MILLE,,/MILLE,,/MILLE,/MILLE,,,,,,,,/MILLE,,/MILLE,/MILLE,/MILLE,,/MILLE,,/MILLE,,UMOL/KG,,NMOL/L,,/MILLE,,/MILLE,,/MILLE,
33RO20161119,        P18,     147,          1,          1,      11010,2,20170109,       0024,   -39.5005,  -103.0044,       3936,  3986.4,   1.2373,  34.7077,2,  34.7064,2,    190.6,2,   191.4,2,   122.4,2,    33.1,2,    0.01,2,   2.320,2,-999.0000,9,-999.0000,9,-999.0000,9,  2282.0,6,  2385.4,2,   7.6044,2,    25.00, -999.00,9,  -999.0,9,  -999.0,-999.0000,9, -999.00,9,    38.4,2,   34.00,2, -999.00,9,     -999.0,9, -999.00,9,  -999.0,9,     -999.0,     -999.0,9,     -999.0,9,     -999.0,     -999.0,9,     -999.0,     -999.0,9,     -999.0,     -999.0,     -999.0,9,     -999.0,9,     -999.0,9,     -999.0,9,     -999.0,9,     -999.0,9,     -999.0,9,     -999.0,9
33RO20161119,        P18,     147,          1,          2,      11101,2,20170109,       0024,   -39.5005,  -103.0044,       3936,  3694.2,   1.2580,  34.7074,2,  34.7025,4,    188.2,2,   188.0,2,   121.0,2,    33.1,2,    0.01,2,   2.333,2,-999.0000,9,-999.0000,9,-999.0000,9,  2281.0,2,  2381.6,2,   7.6049,6,    25.00, -999.00,9,  -999.0,9,  -999.0,-999.0000,9, -999.00,9,    41.2,2,   34.30,2, -999.00,9,     -999.0,9, -999.00,9,  -999.0,9,     -999.0,     -999.0,9,     -999.0,9,     -999.0,     -999.0,9,     -999.0,     -999.0,9,     -999.0,     -999.0,     -999.0,9,     -999.0,9,     -999.0,9,     -999.0,9,     -999.0,9,     -999.0,9,     -999.0,9,     -999.0,9
33RO20161119,        P18,     147,          1,          3,      11102,2,20170109,       0024,   -39.5005,  -103.0044,       3936,  3401.2,   1.4799,  34.7058,2,  34.7069,2,    181.6,2,   181.0,2,   116.2,6,    33.3,6,    0.00,6,   2.324,6,-999.0000,9,-999.0000,9,-999.0000,9,  2280.8,2,  2378.5,6,   7.5970,2,    25.00, -999.00,9,  -999.0,9,  -999.0,-999.0000,9, -999.00,9,    39.0,2,   36.10,2, -999.00,9,     -999.0,9, -999.00,9,  -999.0,9,     -999.0,     -999.0,9,     -999.0,9,     -999.0,     -999.0,9,     -999.0,     -999.0,9,     -999.0,     -999.0,     -999.0,9,     -999.0,9,     -999.0,9,     -999.0,9,     -999.0,9,     -999.0,9,     -999.0,9,     -999.0,9
33RO20161119,        P18,     147,          1,          4,      11103,2,20170109,       0024,   -39.5005,  -103.0044,       3936,  3076.0,   1.6878,  34.7018,2,  34.7026,2,    174.3,2,   174.6,2,   112.0,6,    33.5,6,    0.00,6,   2.341,6,-999.0000,9,-999.0000,9,-999.0000,9,  2282.7,2,  2377.7,2,   7.5896,2,    25.00, -999.00,9,  -999.0,9,  -999.0,-999.0000,9, -999.00,9,    41.3,2,   35.50,2, -999.00,9,     -999.0,9, -999.00,9,  -999.0,9,     -999.0,     -999.0,9,     -999.0,9,     -999.0,     -999.0,9,     -999.0,     -999.0,9,     -999.0,     -999.0,     -999.0,9,     -999.0,9,     -999.0,9,     -999.0,9,     -999.0,9,     -999.0,9,     -999.0,9,     -999.0,9
33RO20161119,        P18,     147,          1,          5,      11104,2,20170109,       0024,   -39.5005,  -103.0044,       3936,  2776.6,   1.7800,  34.6956,2,  34.6986,2,    169.2,2,   170.2,2,   110.7,6,    33.8,6,    0.00,6,   2.361,6,-999.0000,9,-999.0000,9,-999.0000,9,  2283.5,2,  2375.8,2,   7.5822,2,    25.00, -999.00,9,  -999.0,9,  -999.0,-999.0000,9, -999.00,9,    38.2,2,   36.90,2, -999.00,9,     -999.0,9, -999.00,9,  -999.0,9,     -999.0,     -999.0,9,     -999.0,9,     -999.0,     -999.0,9,     -999.0,     -999.0,9,     -999.0,     -999.0,     -999.0,9,     -999.0,9,     -999.0,9,     -999.0,9,     -999.0,9,     -999.0,9,     -999.0,9,     -999.0,9
33RO20161119,        P18,     147,          1,          6,      11105,2,20170109,       0024,   -39.5005,  -103.0044,       3936,  2461.3,   1.8868,  34.6886,2,  34.6954,4,    167.0,2,   167.1,2,   107.2,6,    33.8,6,    0.00,6,   2.372,6,-999.0000,9,-999.0000,9,-999.0000,9,  2284.7,2,  2373.9,2,   7.5752,2,    25.00, -999.00,9,  -999.0,9,  -999.0,-999.0000,9, -999.00,9,    38.6,2,   34.50,2, -999.00,9,     -999.0,9, -999.00,9,  -999.0,9,     -999.0,     -999.0,9,     -999.0,9,     -999.0,     -999.0,9,     -999.0,     -999.0,9,     -999.0,     -999.0,     -999.0,9,     -999.0,9,     -999.0,9,     -999.0,9,     -999.0,9,     -999.0,9,     -999.0,9,     -999.0,9
33RO20161119,        P18,     147,          1,          7,      11106,2,20170109,       0024,   -39.5005,  -103.0044,       3936,  2162.1,   2.1288,  34.6656,2,  34.6638,2,    164.2,2,   164.6,2,    97.3,2,    33.9,2,    0.00,2,   2.372,2,-999.0000,9,-999.0000,9,-999.0000,9,  2275.9,2,  2363.7,2,   7.5679,2,    25.00, -999.00,9,  -999.0,9,  -999.0,-999.0000,9, -999.00,9,    38.3,2,   37.30,2, -999.00,9,     -999.0,9, -999.00,9,  -999.0,9,     -999.0,     -999.0,9,     -999.0,9,     -999.0,     -999.0,9,     -999.0,     -999.0,9,     -999.0,     -999.0,     -999.0,9,     -999.0,9,     -999.0,9,     -999.0,9,     -999.0,9,     -999.0,9,     -999.0,9,     -999.0,9
33RO20161119,        P18,     147,          1,          8,      11107,2,20170109,       0024,   -39.5005,  -103.0044,       3936,  1852.1,   2.3942,  34.6078,2,  34.6155,4,    158.7,2,   159.1,2,    88.8,2,    34.8,2,    0.00,2,   2.435,2,-999.0000,9,-999.0000,9,-999.0000,9,  2273.1,2,  2351.8,6,   7.5535,2,    25.00, -999.00,9,  -999.0,9,  -999.0,-999.0000,9, -999.00,9,    39.3,2,   39.80,2, -999.00,9,     -999.0,9, -999.00,9,  -999.0,9,     -999.0,     -999.0,9,     -999.0,9,     -999.0,     -999.0,9,     -999.0,     -999.0,9,     -999.0,     -999.0,     -999.0,9,     -999.0,9,     -999.0,9,     -999.0,9,     -999.0,9,     -999.0,9,     -999.0,9,     -999.0,9
33RO20161119,        P18,     147,          1,          9,      11108,2,20170109,       0024,   -39.5005,  -103.0044,       3936,  1540.8,   2.8868,  34.5203,2,  34.5182,2,    148.6,2,   149.0,6,    75.9,2,    36.2,2,    0.01,2,   2.538,2,   0.1046,2,   0.0515,2,   0.0362,2,  2267.3,2,  2339.4,2,   7.5300,2,    25.00, -999.00,9,  -999.0,9,  -999.0,   2.6329,2, -999.00,9,    39.7,2,   40.10,2, -999.00,9,     24.717,2, -999.00,9,  -999.0,9,     -999.0,     -999.0,9,     -999.0,9,     -999.0,     -999.0,9,     -999.0,     -999.0,9,     -999.0,     -999.0,     -999.0,9,     -999.0,9,     -999.0,9,     -999.0,9,     -999.0,9,     -999.0,9,     -999.0,9,     -999.0,9
33RO20161119,        P18,     147,          1,         10,      11109,2,20170109,       0024,   -39.5005,  -103.0044,       3936,  1350.2,   3.2774,  34.4565,2,  34.4695,4,    145.9,2,   145.9,2,    64.7,2,    36.7,2,    0.01,2,   2.570,2,-999.0000,9,-999.0000,9,-999.0000,9,  2258.1,6,  2325.5,2,   7.5229,2,    25.00, -999.00,9,  -999.0,9,  -999.0,-999.0000,9, -999.00,9,    40.0,2,   41.20,2, -999.00,9,     -999.0,9, -999.00,9,  -999.0,9,     -999.0,     -999.0,9,     -999.0,9,     -999.0,     -999.0,9,     -999.0,     -999.0,9,     -999.0,     -999.0,     -999.0,9,     -999.0,9,     -999.0,9,     -999.0,9,     -999.0,9,     -999.0,9,     -999.0,9,     -999.0,9
33RO20161119,        P18,     147,          1,         11,      11110,2,20170109,       0024,   -39.5005,  -103.0044,       3936,  1211.7,   3.5704,  34.3833,2,  34.3966,4,    165.7,2,   168.5,2,    49.2,2,    34.9,2,    0.01,2,   2.421,2,   0.3784,6,   0.1869,6,   0.0657,6,  2231.6,2,  2309.7,2,   7.5517,2,    25.00, -999.00,9,  -999.0,9,  -999.0,   2.9368,2, -999.00,9,    43.5,2,   39.50,2, -999.00,9,     23.655,2, -999.00,9,  -999.0,9,     -999.0,     -999.0,9,     -999.0,9,     -999.0,     -999.0,9,     -999.0,     -999.0,9,     -999.0,     -999.0,     -999.0,9,     -999.0,9,     -999.0,9,     -999.0,9,     -999.0,9,     -999.0,9,     -999.0,9,     -999.0,9
33RO20161119,        P18,     147,          1,         12,      11111,2,20170109,       0024,   -39.5005,  -103.0044,       3936,  1070.0,   4.0194,  34.3222,2,  34.3205,2,    190.6,2,   191.2,2,    35.5,2,    32.7,2,    0.01,2,   2.258,2,-999.0000,9,-999.0000,9,-999.0000,9,  2205.7,2,  2293.2,2,   7.5881,2,    25.00, -999.00,9,  -999.0,9,  -999.0,-999.0000,9, -999.00,9,    40.6,2,   36.20,2, -999.00,9,     -999.0,9, -999.00,9,  -999.0,9,     -999.0,     -999.0,9,     -999.0,9,     -999.0,     -999.0,9,     -999.0,     -999.0,9,     -999.0,     -999.0,     -999.0,9,     -999.0,9,     -999.0,9,     -999.0,9,     -999.0,9,     -999.0,9,     -999.0,9,     -999.0,9
33RO20161119,        P18,     147,          1,         13,      11112,2,20170109,       0024,   -39.5005,  -103.0044,       3936,   941.0,   4.6336,  34.2851,2,  34.2840,2,    210.3,2,   209.9,2,    24.6,2,    30.0,2,    0.00,2,   2.093,2,   1.9787,2,   0.9780,2,   0.3868,2,  2184.6,2,  2286.4,2,   7.6220,2,    25.00, -999.00,9,  -999.0,9,  -999.0,   2.4279,2, -999.00,9,    42.2,2,   33.50,2, -999.00,9,     18.711,2, -999.00,9,  -999.0,9,     -999.0,     -999.0,9,     -999.0,9,     -999.0,     -999.0,9,     -999.0,     -999.0,9,     -999.0,     -999.0,     -999.0,9,     -999.0,9,     -999.0,9,     -999.0,9,     -999.0,9,     -999.0,9,     -999.0,9,     -999.0,9
33RO20161119,        P18,     147,          1,         14,      11113,2,20170109,       0024,   -39.5005,  -103.0044,       3936,   810.8,   5.2156,  34.2650,2,  34.2716,2,    229.1,2,   227.7,2,    16.2,2,    27.5,2,    0.00,2,   1.912,2,-999.0000,9,-999.0000,9,-999.0000,9,  2166.8,2,  2279.7,2,   7.6606,2,    25.00, -999.00,9,  -999.0,9,  -999.0,-999.0000,9, -999.00,9,    42.6,2,   30.80,2, -999.00,9,     -999.0,9, -999.00,9,  -999.0,9,     -999.0,     -999.0,9,     -999.0,9,     -999.0,     -999.0,9,     -999.0,     -999.0,9,     -999.0,     -999.0,     -999.0,9,     -999.0,9,     -999.0,9,     -999.0,9,     -999.0,9,     -999.0,9,     -999.0,9,     -999.0,9
33RO20161119,        P18,     147,          1,         15,      11114,2,20170109,       0024,   -39.5005,  -103.0044,       3936,   691.1,   5.7048,  34.2616,2,  34.2602,2,    248.8,2,   247.7,6,    10.9,2,    24.6,2,    0.00,2,   1.723,2,   3.7190,2,   1.9401,2,   1.1968,2,  2152.6,2,  2275.7,2,   7.6888,2,    25.00, -999.00,9,  -999.0,9,  -999.0,   1.5644,2, -999.00,9,    42.6,2,   26.90,2, -999.00,9,      15.44,2, -999.00,9,  -999.0,9,     -999.0,     -999.0,9,     -999.0,9,     -999.0,     -999.0,9,     -999.0,     -999.0,9,     -999.0,     -999.0,     -999.0,9,     -999.0,9,     -999.0,9,     -999.0,9,     -999.0,9,     -999.0,9,     -999.0,9,     -999.0,9
33RO20161119,        P18,     147,          1,         16,      11115,2,20170109,       0024,   -39.5005,  -103.0044,       3936,   574.6,   6.0768,  34.2766,2,  34.2749,2,    254.5,2,   254.0,2,     8.7,2,    23.2,2,    0.00,2,   1.638,2,   3.9700,2,   0.0000,4,   0.0000,2,  2146.1,2,  2274.8,2,   7.6968,2,    25.00, -999.00,9,  -999.0,9,  -999.0,   2.9821,2, -999.00,9,    43.4,2,   25.90,2, -999.00,9,    15.2677,2, -999.00,9,  -999.0,9,     -999.0,     -999.0,9,     -999.0,9,     -999.0,     -999.0,9,     -999.0,     -999.0,9,     -999.0,     -999.0,     -999.0,9,     -999.0,9,     -999.0,9,     -999.0,9,     -999.0,9,     -999.0,9,     -999.0,9,     -999.0,9
33RO20161119,        P18,     147,          1,         17,      11116,2,20170109,       0024,   -39.5005,  -103.0044,       3936,   471.1,   6.4112,  34.2917,2,  34.2914,2,    255.8,2,   256.8,2,     7.3,2,    22.2,2,    0.01,2,   1.573,2,   4.0414,2,   2.2078,2,   1.6709,2,  2142.6,2,  2272.8,2,   7.7170,4,    25.00, -999.00,9,  -999.0,9,  -999.0,   2.9448,2, -999.00,9,    43.5,2,   25.80,2, -999.00,9,    15.3679,2, -999.00,9,  -999.0,9,     -999.0,     -999.0,9,     -999.0,9,     -999.0,     -999.0,9,     -999.0,     -999.0,9,     -999.0,     -999.0,     -999.0,9,     -999.0,9,     -999.0,9,     -999.0,9,     -999.0,9,     -999.0,9,     -999.0,9,     -999.0,9
33RO20161119,        P18,     147,          1,         18,      11117,2,20170109,       0024,   -39.5005,  -103.0044,       3936,   365.7,   6.7279,  34.2965,2,  34.2947,2,    256.2,2,   254.8,2,     6.2,2,    21.3,2,    0.01,2,   1.507,2,   4.1007,2,   2.2447,2,   1.8632,2,  2140.7,2,  2272.5,2,   7.7308,4,    25.00, -999.00,9,  -999.0,9,  -999.0,   2.7782,2, -999.00,9,    45.2,2,   25.40,2, -999.00,9,    17.4805,2, -999.00,9,  -999.0,9,     -999.0,     -999.0,9,     -999.0,9,     -999.0,     -999.0,9,     -999.0,     -999.0,9,     -999.0,     -999.0,     -999.0,9,     -999.0,9,     -999.0,9,     -999.0,9,     -999.0,9,     -999.0,9,     -999.0,9,     -999.0,9
33RO20161119,        P18,     147,          1,         19,      11083,2,20170109,       0024,   -39.5005,  -103.0044,       3936,   275.1,   7.2279,  34.2378,2,  34.2374,2,    251.6,2,   250.9,2,     4.4,2,    20.4,2,    0.01,2,   1.463,2,   4.0190,2,   2.2280,2,   1.9597,2,  2135.3,2,  2267.1,2,   7.7192,4,    25.00, -999.00,9,  -999.0,9,  -999.0,   2.8077,2, -999.00,9,    46.0,2,   23.50,2, -999.00,9,    22.7197,2, -999.00,9,  -999.0,9,     -999.0,     -999.0,9,     -999.0,9,     -999.0,     -999.0,9,     -999.0,     -999.0,9,     -999.0,     -999.0,     -999.0,9,     -999.0,9,     -999.0,9,     -999.0,9,     -999.0,9,     -999.0,9,     -999.0,9,     -999.0,9
33RO20161119,        P18,     147,          1,         20,      11118,2,20170109,       0024,   -39.5005,  -103.0044,       3936,   195.4,   8.3740,  34.1696,2,  34.1703,2,    248.7,2,   247.7,2,     2.6,2,    18.1,2,    0.04,2,   1.350,2,   3.8073,2,   2.1498,2,   2.1409,2,  2122.9,2,  2262.2,2,   7.7333,2,    25.00, -999.00,9,  -999.0,9,  -999.0,   0.0101,2, -999.00,9,    48.4,2,   21.00,2, -999.00,9,    25.8297,2, -999.00,9,  -999.0,9,     -999.0,     -999.0,9,     -999.0,9,     -999.0,     -999.0,9,     -999.0,     -999.0,9,     -999.0,     -999.0,     -999.0,9,     -999.0,9,     -999.0,9,     -999.0,9,     -999.0,9,     -999.0,9,     -999.0,9,     -999.0,9
33RO20161119,        P18,     147,          1,         21,      11119,2,20170109,       0024,   -39.5005,  -103.0044,       3936,   125.9,  10.3859,  34.0091,2,  34.0056,2,    268.1,2,   266.4,2,     1.0,2,    11.3,2,    0.32,2,   0.984,2,   3.3528,2,   1.9484,2,   2.2847,2,  2081.8,2,  2252.7,2,   7.8157,6,    25.00, -999.00,9,  -999.0,9,  -999.0,   0.0073,2, -999.00,9,    54.0,2,   15.40,2, -999.00,9,    12.5064,2, -999.00,9,  -999.0,9,     -999.0,     -999.0,9,     -999.0,9,     -999.0,     -999.0,9,     -999.0,     -999.0,9,     -999.0,     -999.0,     -999.0,9,     -999.0,9,     -999.0,9,     -999.0,9,     -999.0,9,     -999.0,9,     -999.0,9,     -999.0,9
33RO20161119,        P18,     147,          1,         22,      11120,2,20170109,       0024,   -39.5005,  -103.0044,       3936,    59.4,  12.9423,  33.9232,2,  33.9248,2,    278.1,2,   277.3,2,     0.6,2,     7.8,2,    0.16,2,   0.765,2,   3.0786,2,   1.7999,2,   2.2393,2,  2051.4,2,  2249.5,2,   7.8756,2,    25.00, -999.00,9,  -999.0,9,  -999.0,  -0.0032,2, -999.00,9,    57.4,2,   11.50,2, -999.00,9,    10.0645,2, -999.00,9,  -999.0,9,     -999.0,     -999.0,9,     -999.0,9,     -999.0,     -999.0,9,     -999.0,     -999.0,9,     -999.0,     -999.0,     -999.0,9,     -999.0,9,     -999.0,9,     -999.0,9,     -999.0,9,     -999.0,9,     -999.0,9,     -999.0,9
33RO20161119,        P18,     147,          1,         23,      11121,2,20170109,       0024,   -39.5005,  -103.0044,       3936,    25.4,  16.2119,  33.9060,2,  33.9043,2,    248.3,2,   248.2,2,     0.5,2,     6.7,2,    0.19,2,   0.712,2,   2.5756,2,   1.5377,2,   1.9577,2,  2045.5,2,  2250.2,6,   7.8843,2,    25.00, -999.00,9,  -999.0,9,  -999.0,    0.018,2, -999.00,9,    57.6,2,   11.20,2, -999.00,9,     8.9131,2, -999.00,9,  -999.0,9,     -999.0,     -999.0,9,     -999.0,9,     -999.0,     -999.0,9,     -999.0,     -999.0,9,     -999.0,     -999.0,     -999.0,9,     -999.0,9,     -999.0,9,     -999.0,9,     -999.0,9,     -999.0,9,     -999.0,9,     -999.0,9
33RO20161119,        P18,     147,          1,         24,      11122,2,20170109,       0024,   -39.5005,  -103.0044,       3936,     4.8,  16.2187,  33.9052,2,  33.9052,2,    247.6,2,   248.1,2,     0.5,2,     6.7,2,    0.20,2,   0.702,2,   2.5991,2,   1.5455,2,   1.9795,2,  2045.1,6,  2250.1,2,   7.8861,2,    25.00, -999.00,9,  -999.0,9,  -999.0,   0.0309,2, -999.00,9,    58.6,2,   10.20,2, -999.00,9,     8.9468,2, -999.00,9,  -999.0,9,     -999.0,     -999.0,9,     -999.0,9,     -999.0,     -999.0,9,     -999.0,     -999.0,9,     -999.0,     -999.0,     -999.0,9,     -999.0,9,     -999.0,9,     -999.0,9,     -999.0,9,     -999.0,9,     -999.0,9,     -999.0,9