BOTTLE,20230606CCHSIOCBG
EXPOCODE,SECT_ID,STNNBR,CASTNO,SAMPNO,BTLNBR,BTLNBR_FLAG_W,DATE,TIME,LATITUDE,LONGITUDE,DEPTH,CTDPRS,CTDTMP,CTDSAL,CTDSAL_FLAG_W,SALNTY,SALNTY_FLAG_W,CTDOXY,CTDOXY_FLAG_W,OXYGEN,OXYGEN_FLAG_W,SILCAT,SILCAT_FLAG_W,NITRAT,NITRAT_FLAG_W,NITRIT,NITRIT_FLAG_W,PHSPHT,PHSPHT_FLAG_W,CFC-11,CFC-11_FLAG_W,CFC-12,CFC-12_FLAG_W,SF6,SF6_FLAG_W,TCARBN,TCARBN_FLAG_W,ALKALI,ALKALI_FLAG_W,PH_SWS,PH_SWS_FLAG_W,PH_TMP,DELC13,DELC13_FLAG_W,DELC14,DELC14_FLAG_W,C14ERR,CCL4,CCL4_FLAG_W,POC,POC_FLAG_W,DOC,DOC_FLAG_W,TDN,TDN_FLAG_W,PON,PON_FLAG_W,N2O,N2O_FLAG_W,D15N_NO3,D15N_NO3_FLAG_W,14C-DOC,14C-DOC_FLAG_W,14C-DOCERR,13C-DOC,13C-DOC_FLAG_W,N2/ARGON_UNSTRIPPED,N2/ARGON_UNSTRIPPED_FLAG_W,N2/ARGON_UNSTRIPPED_ERROR,N2/ARGON,N2/ARGON_FLAG_W,N2/ARGON_ERROR,D15N_N2,D15N_N2_FLAG_W,D15N_N2_ERROR,D15N_NO3_ERROR,D15N_NO2+NO3,D15N_NO2+NO3_FLAG_W,D18O_NO2+NO3,D18O_NO2+NO3_FLAG_W,D18O_NO3,D18O_NO3_FLAG_W,TDP,TDP_FLAG_W,N2O_ALT_1,N2O_ALT_1_FLAG_W,D15N_N2O,D15N_N2O_FLAG_W,D18O_N2O,D18O_N2O_FLAG_W,D15N_ALPHA_N2O,D15N_ALPHA_N2O_FLAG_W
,,,,,,,,,,,METERS,DBAR,ITS-90,PSS-78,,PSS-78,,UMOL/KG,,UMOL/KG,,UMOL/KG,,UMOL/KG,,UMOL/KG,,UMOL/KG,,PMOL/KG,,PMOL/KG,,FMOL/KG,,UMOL/KG,,UMOL/KG,,,,DEG C,/MILLE,,/MILLE,,/MILLE,PMOL/KG,,UG/KG,,UMOL/KG,,UMOL/KG,,UG/KG,,NMOL/KG,,/MILLE,,/MILLE,,/MILLE,/MILLE,,,,,,,,/MILLE,,/MILLE,/MILLE,/MILLE,,/MILLE,,/MILLE,,UMOL/KG,,NMOL/L,,/MILLE,,/MILLE,,/MILLE,
33RO20161119,        P18,     161,          1,          1,      11010,2,20170112,       1904,   -46.5001,  -103.0000,       3857,  3912.7,   1.0512,  34.7099,2,  34.7087,2,    196.7,2,   196.7,2,   125.1,2,    32.5,2,    0.01,2,   2.277,2,   0.0085,2,   0.0050,2,   0.0000,2,  2278.0,6,  2384.0,2,   7.6073,2,    25.00, -999.00,9,  -999.0,9,  -999.0,   2.0326,2, -999.00,9,    39.2,2,   35.40,2, -999.00,9,    18.7104,2, -999.00,9,  -999.0,9,     -999.0,     -999.0,9,     -999.0,9,     -999.0,     -999.0,9,     -999.0,     -999.0,9,     -999.0,     -999.0,     -999.0,9,     -999.0,9,     -999.0,9,     -999.0,9,     -999.0,9,     -999.0,9,     -999.0,9,     -999.0,9
33RO20161119,        P18,     161,          1,          2,      11101,2,20170112,       1904,   -46.5001,  -103.0000,       3857,  3509.8,   1.3761,  34.7123,2,  34.7108,2,    188.3,2,   187.9,6,   115.9,2,    32.4,2,    0.01,2,   2.265,2,   0.0188,2,   0.0098,2,   0.0000,2,  2274.2,2,  2377.9,2,   7.5989,2,    25.00, -999.00,9,  -999.0,9,  -999.0,   2.7487,2, -999.00,9,    41.0,2,   36.70,2, -999.00,9,    19.2643,2, -999.00,9,  -999.0,9,     -999.0,     -999.0,9,     -999.0,9,     -999.0,     -999.0,9,     -999.0,     -999.0,9,     -999.0,     -999.0,     -999.0,9,     -999.0,9,     -999.0,9,     -999.0,9,     -999.0,9,     -999.0,9,     -999.0,9,     -999.0,9
33RO20161119,        P18,     161,          1,          3,      11102,2,20170112,       1904,   -46.5001,  -103.0000,       3857,  3110.6,   1.6214,  34.7095,2,  34.7095,2,    180.0,2,   179.7,2,   110.1,6,    32.7,6,    0.01,6,   2.300,6,-999.0000,9,-999.0000,9,-999.0000,9,  2274.9,2,  2374.1,2,   7.5898,6,    25.00, -999.00,9,  -999.0,9,  -999.0,-999.0000,9, -999.00,9,    39.6,2,   34.30,2, -999.00,9,     -999.0,9, -999.00,9,  -999.0,9,     -999.0,     -999.0,9,     -999.0,9,     -999.0,     -999.0,9,     -999.0,     -999.0,9,     -999.0,     -999.0,     -999.0,9,     -999.0,9,     -999.0,9,     -999.0,9,     -999.0,9,     -999.0,9,     -999.0,9,     -999.0,9
33RO20161119,        P18,     161,          1,          4,      11103,2,20170112,       1904,   -46.5001,  -103.0000,       3857,  2824.6,   1.7227,  34.7041,2,  34.7029,2,    174.9,2,   175.4,2,   108.8,6,    33.0,6,    0.01,6,   2.317,6,-999.0000,9,-999.0000,9,-999.0000,9,  2276.5,2,  2365.6,3,   7.5850,2,    25.00, -999.00,9,  -999.0,9,  -999.0,-999.0000,9, -999.00,9,    40.7,2,   34.90,2, -999.00,9,     -999.0,9, -999.00,9,  -999.0,9,     -999.0,     -999.0,9,     -999.0,9,     -999.0,     -999.0,9,     -999.0,     -999.0,9,     -999.0,     -999.0,     -999.0,9,     -999.0,9,     -999.0,9,     -999.0,9,     -999.0,9,     -999.0,9,     -999.0,9,     -999.0,9
33RO20161119,        P18,     161,          1,          5,      11104,2,20170112,       1904,   -46.5001,  -103.0000,       3857,  2530.7,   1.8885,  34.6966,2,  34.6952,2,    170.8,2,   171.2,2,   104.0,6,    33.2,6,    0.01,6,   2.333,6,-999.0000,9,-999.0000,9,-999.0000,9,  2276.7,2,  2371.5,6,   7.5771,2,    25.00, -999.00,9,  -999.0,9,  -999.0,-999.0000,9, -999.00,9,    40.4,2,   33.20,2, -999.00,9,     -999.0,9, -999.00,9,  -999.0,9,     -999.0,     -999.0,9,     -999.0,9,     -999.0,     -999.0,9,     -999.0,     -999.0,9,     -999.0,     -999.0,     -999.0,9,     -999.0,9,     -999.0,9,     -999.0,9,     -999.0,9,     -999.0,9,     -999.0,9,     -999.0,9
33RO20161119,        P18,     161,          1,          6,      11105,2,20170112,       1904,   -46.5001,  -103.0000,       3857,  2238.9,   2.1209,  34.6748,2,  34.6738,2,    167.2,2,   167.2,2,    95.5,6,    33.3,6,    0.01,6,   2.344,6,   0.0574,2,   0.0272,2,   0.0000,2,  2272.1,2,  2363.6,2,   7.5682,2,    25.00, -999.00,9,  -999.0,9,  -999.0,   3.3213,2, -999.00,9,    40.8,2,   35.00,2, -999.00,9,    21.3878,2, -999.00,9,  -999.0,9,     -999.0,     -999.0,9,     -999.0,9,     -999.0,     -999.0,9,     -999.0,     -999.0,9,     -999.0,     -999.0,     -999.0,9,     -999.0,9,     -999.0,9,     -999.0,9,     -999.0,9,     -999.0,9,     -999.0,9,     -999.0,9
33RO20161119,        P18,     161,          1,          7,      11106,2,20170112,       1904,   -46.5001,  -103.0000,       3857,  1945.3,   2.3354,  34.6280,2,  34.6270,2,    160.6,2,   160.8,2,    89.8,2,    34.0,2,    0.01,2,   2.387,2,-999.0000,9,-999.0000,9,-999.0000,9,  2269.6,2,  2356.6,3,   7.5541,3,    25.00, -999.00,9,  -999.0,9,  -999.0,-999.0000,9, -999.00,9,    41.0,2,   36.00,2, -999.00,9,     -999.0,9, -999.00,9,  -999.0,9,     -999.0,     -999.0,9,     -999.0,9,     -999.0,     -999.0,9,     -999.0,     -999.0,9,     -999.0,     -999.0,     -999.0,9,     -999.0,9,     -999.0,9,     -999.0,9,     -999.0,9,     -999.0,9,     -999.0,9,     -999.0,9
33RO20161119,        P18,     161,          1,          8,      11107,2,20170112,       1904,   -46.5001,  -103.0000,       3857,  1654.7,   2.6378,  34.5619,2,  34.5600,2,    152.3,2,   152.5,2,    81.8,2,    35.4,2,    0.01,2,   2.493,2,   0.1461,2,   0.0696,2,   0.0254,2,  2269.2,2,  2349.8,3,   7.5369,3,    25.00, -999.00,9,  -999.0,9,  -999.0,   3.4145,2, -999.00,9,    41.5,2,   37.70,2, -999.00,9,    24.0888,2, -999.00,9,  -999.0,9,     -999.0,     -999.0,9,     -999.0,9,     -999.0,     -999.0,9,     -999.0,     -999.0,9,     -999.0,     -999.0,     -999.0,9,     -999.0,9,     -999.0,9,     -999.0,9,     -999.0,9,     -999.0,9,     -999.0,9,     -999.0,9
33RO20161119,        P18,     161,          1,          9,      11108,2,20170112,       1904,   -46.5001,  -103.0000,       3857,  1394.6,   3.0160,  34.4652,2,  34.4632,2,    162.5,2,   162.2,2,    64.5,2,    35.0,2,    0.01,2,   2.467,2,-999.0000,9,-999.0000,9,-999.0000,9,  2250.0,6,  2327.2,2,   7.5415,6,    25.00, -999.00,9,  -999.0,9,  -999.0,-999.0000,9, -999.00,9,    40.3,2,   37.50,2, -999.00,9,     -999.0,9, -999.00,9,  -999.0,9,     -999.0,     -999.0,9,     -999.0,9,     -999.0,     -999.0,9,     -999.0,     -999.0,9,     -999.0,     -999.0,     -999.0,9,     -999.0,9,     -999.0,9,     -999.0,9,     -999.0,9,     -999.0,9,     -999.0,9,     -999.0,9
33RO20161119,        P18,     161,          1,         10,      11109,2,20170112,       1904,   -46.5001,  -103.0000,       3857,  1217.9,   3.3553,  34.3836,2,  34.3823,2,    182.6,2,   183.1,2,    49.4,2,    33.7,2,    0.01,2,   2.347,2,   1.0685,2,   0.5197,2,   0.1957,2,  2224.2,2,  2311.2,2,   7.5633,2,    25.00, -999.00,9,  -999.0,9,  -999.0,   3.4088,2, -999.00,9,    40.3,2,   37.80,2, -999.00,9,    21.8105,2, -999.00,9,  -999.0,9,     -999.0,     -999.0,9,     -999.0,9,     -999.0,     -999.0,9,     -999.0,     -999.0,9,     -999.0,     -999.0,     -999.0,9,     -999.0,9,     -999.0,9,     -999.0,9,     -999.0,9,     -999.0,9,     -999.0,9,     -999.0,9
33RO20161119,        P18,     161,          1,         11,      11110,2,20170112,       1904,   -46.5001,  -103.0000,       3857,  1094.7,   3.7895,  34.3317,2,  34.3305,2,    195.8,2,   196.4,2,    38.9,2,    32.2,2,    0.01,2,   2.260,2,-999.0000,9,-999.0000,9,-999.0000,9,  2207.7,2,  2301.7,6,   7.5851,2,    25.00, -999.00,9,  -999.0,9,  -999.0,-999.0000,9, -999.00,9,    40.4,2,   34.80,2, -999.00,9,     -999.0,9, -999.00,9,  -999.0,9,     -999.0,     -999.0,9,     -999.0,9,     -999.0,     -999.0,9,     -999.0,     -999.0,9,     -999.0,     -999.0,     -999.0,9,     -999.0,9,     -999.0,9,     -999.0,9,     -999.0,9,     -999.0,9,     -999.0,9,     -999.0,9
33RO20161119,        P18,     161,          1,         12,      11111,2,20170112,       1904,   -46.5001,  -103.0000,       3857,   970.3,   4.3225,  34.2968,2,  34.2952,2,    207.8,2,   208.2,2,    29.4,2,    31.4,2,    0.02,2,   2.133,2,   2.1925,2,   1.1080,2,   0.4945,2,  2191.8,2,  2295.9,2,   7.6079,2,    25.00, -999.00,9,  -999.0,9,  -999.0,   3.5106,2, -999.00,9,    42.9,2,   35.80,2, -999.00,9,      18.86,2, -999.00,9,  -999.0,9,     -999.0,     -999.0,9,     -999.0,9,     -999.0,     -999.0,9,     -999.0,     -999.0,9,     -999.0,     -999.0,     -999.0,9,     -999.0,9,     -999.0,9,     -999.0,9,     -999.0,9,     -999.0,9,     -999.0,9,     -999.0,9
33RO20161119,        P18,     161,          1,         13,      11112,2,20170112,       1904,   -46.5001,  -103.0000,       3857,   850.6,   4.8505,  34.2732,2,  34.2726,2,    219.2,2,   219.6,2,    21.7,2,    28.7,2,    0.01,2,   1.991,2,-999.0000,9,-999.0000,9,-999.0000,9,  2177.3,2,  2286.5,2,   7.6308,2,    25.00, -999.00,9,  -999.0,9,  -999.0,-999.0000,9, -999.00,9,    42.1,2,   32.60,2, -999.00,9,     -999.0,9, -999.00,9,  -999.0,9,     -999.0,     -999.0,9,     -999.0,9,     -999.0,     -999.0,9,     -999.0,     -999.0,9,     -999.0,     -999.0,     -999.0,9,     -999.0,9,     -999.0,9,     -999.0,9,     -999.0,9,     -999.0,9,     -999.0,9,     -999.0,9
33RO20161119,        P18,     161,          1,         14,      11113,2,20170112,       1904,   -46.5001,  -103.0000,       3857,   734.9,   5.2990,  34.2515,2,  34.2508,2,    237.8,2,   238.3,2,    14.9,2,    26.6,2,    0.01,2,   1.846,2,   3.3961,2,   1.7876,2,   1.1465,2,  2162.1,2,  2280.6,2,   7.6643,2,    25.00, -999.00,9,  -999.0,9,  -999.0,   3.0865,2, -999.00,9,    44.3,2,   28.40,2, -999.00,9,    16.2454,2, -999.00,9,  -999.0,9,     -999.0,     -999.0,9,     -999.0,9,     -999.0,     -999.0,9,     -999.0,     -999.0,9,     -999.0,     -999.0,     -999.0,9,     -999.0,9,     -999.0,9,     -999.0,9,     -999.0,9,     -999.0,9,     -999.0,9,     -999.0,9
33RO20161119,        P18,     161,          1,         15,      11114,2,20170112,       1904,   -46.5001,  -103.0000,       3857,   620.6,   5.7034,  34.2559,2,  34.2555,2,    251.4,2,   251.6,2,    10.8,2,    24.2,2,    0.01,2,   1.708,2,-999.0000,9,-999.0000,9,-999.0000,9,  2149.2,2,  2280.5,2,   7.6878,2,    25.00, -999.00,9,  -999.0,9,  -999.0,-999.0000,9, -999.00,9,    43.0,2,   26.60,2, -999.00,9,     -999.0,9, -999.00,9,  -999.0,9,     -999.0,     -999.0,9,     -999.0,9,     -999.0,     -999.0,9,     -999.0,     -999.0,9,     -999.0,     -999.0,     -999.0,9,     -999.0,9,     -999.0,9,     -999.0,9,     -999.0,9,     -999.0,9,     -999.0,9,     -999.0,9
33RO20161119,        P18,     161,          1,         16,      11115,2,20170112,       1904,   -46.5001,  -103.0000,       3857,   510.0,   6.0131,  34.2620,2,  34.2614,2,    263.5,2,   264.5,2,     8.2,2,    22.4,2,    0.01,2,   1.586,2,   4.0642,2,   2.2114,2,   1.8251,2,  2142.6,2,  2278.7,2,   7.7041,2,    25.00, -999.00,9,  -999.0,9,  -999.0,   3.9522,2, -999.00,9,    43.3,2,   24.40,2, -999.00,9,    14.2413,2, -999.00,9,  -999.0,9,     -999.0,     -999.0,9,     -999.0,9,     -999.0,     -999.0,9,     -999.0,     -999.0,9,     -999.0,     -999.0,     -999.0,9,     -999.0,9,     -999.0,9,     -999.0,9,     -999.0,9,     -999.0,9,     -999.0,9,     -999.0,9
33RO20161119,        P18,     161,          1,         17,      11116,2,20170112,       1904,   -46.5001,  -103.0000,       3857,   409.9,   6.2402,  34.2728,2,  34.2718,2,    267.3,2,   267.8,2,     7.1,2,    21.3,2,    0.01,2,   1.547,2,-999.0000,9,-999.0000,9,-999.0000,9,  2139.9,2,  2275.1,2,   7.7134,2,    25.00, -999.00,9,  -999.0,9,  -999.0,-999.0000,9, -999.00,9,    43.0,2,   23.50,2, -999.00,9,     -999.0,9, -999.00,9,  -999.0,9,     -999.0,     -999.0,9,     -999.0,9,     -999.0,     -999.0,9,     -999.0,     -999.0,9,     -999.0,     -999.0,     -999.0,9,     -999.0,9,     -999.0,9,     -999.0,9,     -999.0,9,     -999.0,9,     -999.0,9,     -999.0,9
33RO20161119,        P18,     161,          1,         18,      11117,2,20170112,       1904,   -46.5001,  -103.0000,       3857,   315.7,   6.4468,  34.2816,2,  34.2806,2,    267.7,2,   267.6,2,     6.3,2,    20.7,2,    0.02,2,   1.503,2,   4.0770,2,   2.2694,2,   2.0805,2,  2136.7,2,  2276.7,2,   7.7187,2,    25.00, -999.00,9,  -999.0,9,  -999.0,   3.8037,2, -999.00,9,    44.2,2,   23.80,2, -999.00,9,    14.7765,2, -999.00,9,  -999.0,9,     -999.0,     -999.0,9,     -999.0,9,     -999.0,     -999.0,9,     -999.0,     -999.0,9,     -999.0,     -999.0,     -999.0,9,     -999.0,9,     -999.0,9,     -999.0,9,     -999.0,9,     -999.0,9,     -999.0,9,     -999.0,9
33RO20161119,        P18,     161,          1,         19,      11083,2,20170112,       1904,   -46.5001,  -103.0000,       3857,   234.8,   6.5865,  34.2696,2,  34.2707,2,    268.0,2,   268.1,2,     5.6,2,    20.3,2,    0.02,2,   1.486,2,   4.1146,6,   2.2973,6,   2.1919,6,  2135.5,2,  2273.9,2,   7.7173,2,    25.00, -999.00,9,  -999.0,9,  -999.0,    0.057,2, -999.00,9,    44.3,2,   22.90,2, -999.00,9,    16.2575,2, -999.00,9,  -999.0,9,     -999.0,     -999.0,9,     -999.0,9,     -999.0,     -999.0,9,     -999.0,     -999.0,9,     -999.0,     -999.0,     -999.0,9,     -999.0,9,     -999.0,9,       1.49,3,     -999.0,9,     -999.0,9,     -999.0,9,     -999.0,9
33RO20161119,        P18,     161,          1,         20,      11118,2,20170112,       1904,   -46.5001,  -103.0000,       3857,   164.7,   6.9073,  34.2291,2,  34.2297,2,    271.0,2,   270.4,2,     4.3,2,    19.4,2,    0.05,2,   1.432,2,   4.0588,2,   2.2950,2,   2.3770,2,  2128.7,2,  2270.5,2,   7.7253,2,    25.00, -999.00,9,  -999.0,9,  -999.0,   0.0434,2, -999.00,9,    47.7,2,   20.70,2, -999.00,9,     17.235,2, -999.00,9,  -999.0,9,     -999.0,     -999.0,9,     -999.0,9,     -999.0,     -999.0,9,     -999.0,     -999.0,9,     -999.0,     -999.0,     -999.0,9,     -999.0,9,     -999.0,9,       1.41,3,     -999.0,9,     -999.0,9,     -999.0,9,     -999.0,9
33RO20161119,        P18,     161,          1,         21,      11119,2,20170112,       1904,   -46.5001,  -103.0000,       3857,   100.3,   8.1337,  34.1143,2,  34.1280,2,    285.7,2,   286.7,6,     2.0,2,    14.4,2,    0.22,2,   1.144,2,   3.7970,2,   2.1666,2,   2.5898,2,  2098.4,6,  2266.5,6,   7.7881,2,    25.00, -999.00,9,  -999.0,9,  -999.0,   0.0423,2, -999.00,9,    49.8,2,   18.80,2, -999.00,9,    12.2014,2, -999.00,9,  -999.0,9,     -999.0,     -999.0,9,     -999.0,9,     -999.0,     -999.0,9,     -999.0,     -999.0,9,     -999.0,     -999.0,     -999.0,9,     -999.0,9,     -999.0,9,       1.21,2,     -999.0,9,     -999.0,9,     -999.0,9,     -999.0,9
33RO20161119,        P18,     161,          1,         22,      11120,2,20170112,       1904,   -46.5001,  -103.0000,       3857,    53.7,  10.4908,  34.0993,2,  34.0996,2,    279.7,2,   281.8,2,     1.7,2,    13.0,2,    0.18,2,   1.077,2,-999.0000,9,-999.0000,9,-999.0000,9,  2085.9,2,  2269.3,2,   7.8183,2,    25.00, -999.00,9,  -999.0,9,  -999.0,-999.0000,9, -999.00,9,    54.6,2,   15.70,2, -999.00,9,     -999.0,9, -999.00,9,  -999.0,9,     -999.0,     -999.0,9,     -999.0,9,     -999.0,     -999.0,9,     -999.0,     -999.0,9,     -999.0,     -999.0,     -999.0,9,     -999.0,9,     -999.0,9,       1.09,3,     -999.0,9,     -999.0,9,     -999.0,9,     -999.0,9
33RO20161119,        P18,     161,          1,         23,      11121,2,20170112,       1904,   -46.5001,  -103.0000,       3857,    24.9,  10.7761,  34.1047,2,  34.1039,2,    279.0,2,   280.0,2,     1.6,2,    13.0,2,    0.19,2,   1.075,2,   3.4513,2,   1.9833,2,   2.4103,2,  2085.7,2,  2271.2,2,   7.8200,2,    25.00, -999.00,9,  -999.0,9,  -999.0,   0.0561,2, -999.00,9,    52.7,2,   15.70,2, -999.00,9,    10.6308,2, -999.00,9,  -999.0,9,     -999.0,     -999.0,9,     -999.0,9,     -999.0,     -999.0,9,     -999.0,     -999.0,9,     -999.0,     -999.0,     -999.0,9,     -999.0,9,     -999.0,9,       1.25,2,     -999.0,9,     -999.0,9,     -999.0,9,     -999.0,9
33RO20161119,        P18,     161,          1,         24,      11122,2,20170112,       1904,   -46.5001,  -103.0000,       3857,     2.8,  11.8505,  34.0542,2,-999.0000,9,    266.7,2,  -999.0,9,  -999.0,9,  -999.0,9, -999.00,9,-999.000,9,-999.0000,9,-999.0000,9,-999.0000,9,  -999.0,9,  -999.0,9,-999.0000,9,  -999.00, -999.00,9,  -999.0,9,  -999.0,-999.0000,9, -999.00,9,  -999.0,9, -999.00,9, -999.00,9,     -999.0,9, -999.00,9,  -999.0,9,     -999.0,     -999.0,9,     -999.0,9,     -999.0,     -999.0,9,     -999.0,     -999.0,9,     -999.0,     -999.0,     -999.0,9,     -999.0,9,     -999.0,9,     -999.0,9,     -999.0,9,     -999.0,9,     -999.0,9,     -999.0,9