BOTTLE,20230606CCHSIOCBG
EXPOCODE,SECT_ID,STNNBR,CASTNO,SAMPNO,BTLNBR,BTLNBR_FLAG_W,DATE,TIME,LATITUDE,LONGITUDE,DEPTH,CTDPRS,CTDTMP,CTDSAL,CTDSAL_FLAG_W,SALNTY,SALNTY_FLAG_W,CTDOXY,CTDOXY_FLAG_W,OXYGEN,OXYGEN_FLAG_W,SILCAT,SILCAT_FLAG_W,NITRAT,NITRAT_FLAG_W,NITRIT,NITRIT_FLAG_W,PHSPHT,PHSPHT_FLAG_W,CFC-11,CFC-11_FLAG_W,CFC-12,CFC-12_FLAG_W,SF6,SF6_FLAG_W,TCARBN,TCARBN_FLAG_W,ALKALI,ALKALI_FLAG_W,PH_SWS,PH_SWS_FLAG_W,PH_TMP,DELC13,DELC13_FLAG_W,DELC14,DELC14_FLAG_W,C14ERR,CCL4,CCL4_FLAG_W,POC,POC_FLAG_W,DOC,DOC_FLAG_W,TDN,TDN_FLAG_W,PON,PON_FLAG_W,N2O,N2O_FLAG_W,D15N_NO3,D15N_NO3_FLAG_W,14C-DOC,14C-DOC_FLAG_W,14C-DOCERR,13C-DOC,13C-DOC_FLAG_W,N2/ARGON_UNSTRIPPED,N2/ARGON_UNSTRIPPED_FLAG_W,N2/ARGON_UNSTRIPPED_ERROR,N2/ARGON,N2/ARGON_FLAG_W,N2/ARGON_ERROR,D15N_N2,D15N_N2_FLAG_W,D15N_N2_ERROR,D15N_NO3_ERROR,D15N_NO2+NO3,D15N_NO2+NO3_FLAG_W,D18O_NO2+NO3,D18O_NO2+NO3_FLAG_W,D18O_NO3,D18O_NO3_FLAG_W,TDP,TDP_FLAG_W,N2O_ALT_1,N2O_ALT_1_FLAG_W,D15N_N2O,D15N_N2O_FLAG_W,D18O_N2O,D18O_N2O_FLAG_W,D15N_ALPHA_N2O,D15N_ALPHA_N2O_FLAG_W
,,,,,,,,,,,METERS,DBAR,ITS-90,PSS-78,,PSS-78,,UMOL/KG,,UMOL/KG,,UMOL/KG,,UMOL/KG,,UMOL/KG,,UMOL/KG,,PMOL/KG,,PMOL/KG,,FMOL/KG,,UMOL/KG,,UMOL/KG,,,,DEG C,/MILLE,,/MILLE,,/MILLE,PMOL/KG,,UG/KG,,UMOL/KG,,UMOL/KG,,UG/KG,,NMOL/KG,,/MILLE,,/MILLE,,/MILLE,/MILLE,,,,,,,,/MILLE,,/MILLE,/MILLE,/MILLE,,/MILLE,,/MILLE,,UMOL/KG,,NMOL/L,,/MILLE,,/MILLE,,/MILLE,
33RO20161119,        P18,     116,          2,          1,      11010,2,20170101,       0129,   -23.9002,  -103.0002,       3959,  4002.6,   1.8595,  34.6868,2,  34.6877,2,    151.5,2,   150.7,6,   129.1,6,    35.1,6,    0.01,6,   2.509,6,   0.0011,2,   0.0009,2,   0.0000,2,  2322.6,6,  2415.9,2,   7.5773,6,    25.00, -999.00,9,  -999.0,9,  -999.0,        0,2, -999.00,9,  -999.0,9, -999.00,9, -999.00,9,    20.4226,2, -999.00,9,  -999.0,9,     -999.0,     -999.0,9,     -999.0,9,     -999.0,     -999.0,9,     -999.0,     -999.0,9,     -999.0,     -999.0,     -999.0,9,     -999.0,9,     -999.0,9,     -999.0,9,20.84861184,2,       8.93,2,      49.81,2,      25.16,2
33RO20161119,        P18,     116,          2,          2,      11101,2,20170101,       0129,   -23.9002,  -103.0002,       3959,  3600.6,   1.8192,  34.6858,2,  34.6864,2,    151.6,2,   150.8,2,   128.6,6,    35.1,6,    0.00,6,   2.493,6,   0.0037,2,   0.0027,2,   0.0000,2,  2318.8,2,  2413.3,2,   7.5775,2,    25.00, -999.00,9,  -999.0,9,  -999.0,        0,2, -999.00,9,  -999.0,9, -999.00,9, -999.00,9,    20.1628,2, -999.00,9,  -999.0,9,     -999.0,     -999.0,9,     -999.0,9,     -999.0,     -999.0,9,     -999.0,     -999.0,9,     -999.0,     -999.0,     -999.0,9,     -999.0,9,     -999.0,9,     -999.0,9,     -999.0,9,     -999.0,9,     -999.0,9,     -999.0,9
33RO20161119,        P18,     116,          2,          3,      11102,2,20170101,       0129,   -23.9002,  -103.0002,       3959,  3294.9,   1.8014,  34.6831,2,  34.6834,2,    152.8,2,   153.2,2,   127.0,6,    35.1,6,    0.00,6,   2.493,6,   0.0041,6,   0.0012,6,   0.0000,6,  2315.5,2,  2412.3,6,   7.5751,2,    25.00, -999.00,9,  -999.0,9,  -999.0,        0,2, -999.00,9,  -999.0,9, -999.00,9, -999.00,9,    21.2284,2, -999.00,9,  -999.0,9,     -999.0,     -999.0,9,     -999.0,9,     -999.0,     -999.0,9,     -999.0,     -999.0,9,     -999.0,     -999.0,     -999.0,9,     -999.0,9,     -999.0,9,     -999.0,9, 21.0714272,2,        9.0,2,      48.31,2,      25.09,2
33RO20161119,        P18,     116,          2,          4,      11103,2,20170101,       0129,   -23.9002,  -103.0002,       3959,  2975.2,   1.8122,  34.6780,2,  34.6784,2,    155.3,2,   155.5,2,   123.2,6,    34.8,6,    0.01,6,   2.469,6,   0.0015,2,   0.0015,2,   0.0000,2,  2307.8,2,  2405.6,2,   7.5763,2,    25.00, -999.00,9,  -999.0,9,  -999.0,        0,2, -999.00,9,  -999.0,9, -999.00,9, -999.00,9,    21.2326,2, -999.00,9,  -999.0,9,     -999.0,     -999.0,9,     -999.0,9,     -999.0,     -999.0,9,     -999.0,     -999.0,9,     -999.0,     -999.0,     -999.0,9,     -999.0,9,     -999.0,9,     -999.0,9,     -999.0,9,     -999.0,9,     -999.0,9,     -999.0,9
33RO20161119,        P18,     116,          2,          5,      11104,2,20170101,       0129,   -23.9002,  -103.0002,       3959,  2645.8,   1.8540,  34.6695,2,  34.6699,2,    157.1,2,   157.4,2,   119.5,2,    34.6,2,    0.01,2,   2.455,2,   0.0002,2,   0.0007,2,   0.0000,2,  2300.7,2,  2402.8,2,   7.5735,2,    25.00, -999.00,9,  -999.0,9,  -999.0,        0,2, -999.00,9,  -999.0,9, -999.00,9, -999.00,9,    20.9908,2, -999.00,9,  -999.0,9,     -999.0,     -999.0,9,     -999.0,9,     -999.0,     -999.0,9,     -999.0,     -999.0,9,     -999.0,     -999.0,     -999.0,9,     -999.0,9,     -999.0,9,     -999.0,9,15.91032814,2,       8.55,2,      49.86,2,      23.06,2
33RO20161119,        P18,     116,          2,          6,      11105,2,20170101,       0129,   -23.9002,  -103.0002,       3959,  2360.2,   1.9173,  34.6594,2,  34.6586,2,    156.1,2,   156.5,2,   116.5,2,    34.6,2,    0.00,2,   2.466,2,   0.0008,2,   0.0000,2,   0.0000,2,  2299.8,2,  2397.3,2,   7.5697,2,    25.00, -999.00,9,  -999.0,9,  -999.0,   0.0228,2, -999.00,9,  -999.0,9, -999.00,9, -999.00,9,    21.6723,2, -999.00,9,  -999.0,9,     -999.0,     -999.0,9,     -999.0,9,     -999.0,     -999.0,9,     -999.0,     -999.0,9,     -999.0,     -999.0,     -999.0,9,     -999.0,9,     -999.0,9,     -999.0,9,     -999.0,9,     -999.0,9,     -999.0,9,     -999.0,9
33RO20161119,        P18,     116,          2,          7,      11106,2,20170101,       0129,   -23.9002,  -103.0002,       3959,  2059.8,   2.0678,  34.6413,2,  34.6408,2,    152.3,2,   153.2,2,   112.0,2,    34.8,2,    0.00,2,   2.494,2,   0.0012,2,   0.0020,2,   0.0000,2,  2296.5,2,  2391.8,2,   7.5615,2,    25.00, -999.00,9,  -999.0,9,  -999.0,   0.0499,2, -999.00,9,  -999.0,9, -999.00,9, -999.00,9,    21.5936,2, -999.00,9,  -999.0,9,     -999.0,     -999.0,9,      37.98,2,     -999.0,      38.14,2,     -999.0,     -999.0,9,     -999.0,     -999.0,     -999.0,9,     -999.0,9,     -999.0,9,     -999.0,9,21.59471308,2,        8.6,2,      47.82,2,       22.3,2
33RO20161119,        P18,     116,          2,          8,      11107,2,20170101,       0129,   -23.9002,  -103.0002,       3959,  1750.8,   2.3925,  34.6074,2,  34.6088,2,    144.3,2,   146.0,2,   103.8,2,    35.6,2,    0.00,2,   2.547,2,   0.0026,2,   0.0023,2,   0.0000,2,  2292.9,2,  2379.8,2,   7.5441,2,    25.00, -999.00,9,  -999.0,9,  -999.0,   0.1352,2, -999.00,9,  -999.0,9, -999.00,9, -999.00,9,    23.7311,2, -999.00,9,  -999.0,9,     -999.0,     -999.0,9,     -999.0,9,     -999.0,     -999.0,9,     -999.0,     -999.0,9,     -999.0,     -999.0,     -999.0,9,     -999.0,9,     -999.0,9,     -999.0,9,     -999.0,9,     -999.0,9,     -999.0,9,     -999.0,9
33RO20161119,        P18,     116,          2,          9,      11108,2,20170101,       0129,   -23.9002,  -103.0002,       3959,  1475.5,   2.8550,  34.5666,2,  34.5658,2,    138.1,2,   138.8,2,    92.9,2,    36.2,2,    0.01,2,   2.578,2,   0.0019,2,   0.0017,2,   0.0000,2,  2283.0,2,  2361.5,2,   7.5316,2,    25.00, -999.00,9,  -999.0,9,  -999.0,   0.2825,2, -999.00,9,  -999.0,9, -999.00,9, -999.00,9,    25.2078,2, -999.00,9,  -999.0,9,     -999.0,     -999.0,9,      37.83,2,     -999.0,      37.96,2,     -999.0,     -999.0,9,     -999.0,     -999.0,     -999.0,9,     -999.0,9,     -999.0,9,     -999.0,9,23.28092725,2,       8.78,2,      49.07,2,      20.94,2
33RO20161119,        P18,     116,          2,         10,      11109,2,20170101,       0129,   -23.9002,  -103.0002,       3959,  1305.5,   3.2706,  34.5408,2,  34.5404,2,    134.4,2,   134.0,2,    84.4,2,    36.4,2,    0.01,2,   2.592,2,   0.0048,2,   0.0021,2,   0.0000,2,  2277.9,2,  2353.4,2,   7.5270,2,    25.00, -999.00,9,  -999.0,9,  -999.0,   0.8904,2, -999.00,9,  -999.0,9, -999.00,9, -999.00,9,    25.5038,2, -999.00,9,  -999.0,9,     -999.0,     -999.0,9,     -999.0,9,     -999.0,     -999.0,9,     -999.0,     -999.0,9,     -999.0,     -999.0,     -999.0,9,     -999.0,9,     -999.0,9,     -999.0,9,     -999.0,9,     -999.0,9,     -999.0,9,     -999.0,9
33RO20161119,        P18,     116,          2,         11,      11110,2,20170101,       0129,   -23.9002,  -103.0002,       3959,  1165.5,   3.5813,  34.5095,2,  34.5112,2,    130.3,2,   130.3,2,    75.1,2,    36.6,2,    0.01,2,   2.615,2,   0.0131,2,   0.0086,2,   0.0000,2,  2272.3,2,  2341.9,2,   7.5157,2,    25.00, -999.00,9,  -999.0,9,  -999.0,   1.6022,2, -999.00,9,  -999.0,9, -999.00,9, -999.00,9,    25.9218,2, -999.00,9,  -999.0,9,     -999.0,     -999.0,9,      37.82,2,     -999.0,      37.95,2,     -999.0,     -999.0,9,     -999.0,     -999.0,     -999.0,9,     -999.0,9,     -999.0,9,     -999.0,9,24.41044891,2,       8.47,2,      47.98,2,      20.04,2
33RO20161119,        P18,     116,          2,         12,      11111,2,20170101,       0129,   -23.9002,  -103.0002,       3959,  1025.2,   3.9715,  34.4623,2,  34.4689,2,    125.1,2,   126.7,2,    63.1,2,    37.3,2,    0.01,2,   2.642,2,   0.0571,2,   0.0302,2,   0.0000,2,  2264.3,2,  2327.9,2,   7.5016,2,    25.00, -999.00,9,  -999.0,9,  -999.0,    2.101,2, -999.00,9,  -999.0,9, -999.00,9, -999.00,9,    28.5544,2, -999.00,9,  -999.0,9,     -999.0,     -999.0,9,      37.79,2,     -999.0,      37.91,2,     -999.0,     -999.0,9,     -999.0,     -999.0,     -999.0,9,     -999.0,9,     -999.0,9,     -999.0,9,27.56688477,2,       8.62,2,      47.67,2,      19.06,2
33RO20161119,        P18,     116,          2,         13,      11112,2,20170101,       0129,   -23.9002,  -103.0002,       3959,   895.6,   4.4624,  34.4134,2,  34.4134,2,    126.9,2,   127.8,2,    48.9,2,    36.8,2,    0.01,2,   2.621,2,   0.1879,2,   0.0970,2,   0.0000,2,  2246.2,2,  2311.0,2,   7.4987,2,    25.00, -999.00,9,  -999.0,9,  -999.0,   0.8496,2, -999.00,9,  -999.0,9, -999.00,9, -999.00,9,    30.5374,2, -999.00,9,  -999.0,9,     -999.0,     -999.0,9,      37.88,2,     -999.0,      38.01,2,     -999.0,     -999.0,9,     -999.0,     -999.0,     -999.0,9,     -999.0,9,     -999.0,9,     -999.0,9,29.13576688,2,       8.12,2,      47.31,2,      17.83,2
33RO20161119,        P18,     116,          2,         14,      11113,2,20170101,       0129,   -23.9002,  -103.0002,       3959,   770.6,   5.0593,  34.3425,2,  34.3476,2,    162.2,2,   159.3,2,    30.0,2,    33.3,2,    0.01,2,   2.376,2,   1.0816,2,   0.5308,2,   0.2005,2,  2213.1,2,  2291.2,2,   7.5503,2,    25.00, -999.00,9,  -999.0,9,  -999.0,   0.6425,2, -999.00,9,  -999.0,9, -999.00,9, -999.00,9,    28.7605,2, -999.00,9,  -999.0,9,     -999.0,     -999.0,9,      37.85,2,     -999.0,      37.97,2,     -999.0,     -999.0,9,     -999.0,     -999.0,     -999.0,9,     -999.0,9,     -999.0,9,     -999.0,9,27.54545165,2,       7.44,2,      46.29,2,      17.67,2
33RO20161119,        P18,     116,          2,         15,      11114,2,20170101,       0129,   -23.9002,  -103.0002,       3959,   650.5,   5.5732,  34.2990,2,  34.2989,2,    197.2,2,   195.9,2,    17.5,2,    28.8,2,    0.01,2,   2.095,2,   2.4331,2,   1.1999,2,   0.4551,2,  2183.7,2,  2285.5,2,   7.6049,2,    25.00, -999.00,9,  -999.0,9,  -999.0,   0.6213,2, -999.00,9,  -999.0,9, -999.00,9, -999.00,9,     23.585,2, -999.00,9,  -999.0,9,     -999.0,     -999.0,9,      37.75,2,     -999.0,      37.85,2,     -999.0,     -999.0,9,     -999.0,     -999.0,     -999.0,9,     -999.0,9,     -999.0,9,     -999.0,9,25.31306354,2,        7.1,2,      45.96,2,      16.24,2
33RO20161119,        P18,     116,          2,         16,      11115,2,20170101,       0129,   -23.9002,  -103.0002,       3959,   530.9,   6.3313,  34.3090,2,  34.3091,2,    203.3,2,   204.0,2,    11.9,2,    26.1,2,    0.01,2,   1.914,2,   3.3499,2,   1.6988,2,   0.7959,2,  2173.5,2,  2278.8,6,   7.6238,2,    25.00, -999.00,9,  -999.0,9,  -999.0,   1.1106,2, -999.00,9,  -999.0,9, -999.00,9, -999.00,9,    24.3607,2, -999.00,9,  -999.0,9,     -999.0,     -999.0,9,      37.91,2,     -999.0,      38.02,2,     -999.0,     -999.0,9,     -999.0,     -999.0,     -999.0,9,     -999.0,9,     -999.0,9,     -999.0,9,31.95567421,2,       6.95,2,      47.27,2,      12.94,2
33RO20161119,        P18,     116,          2,         17,      11116,2,20170101,       0129,   -23.9002,  -103.0002,       3959,   435.4,   7.8349,  34.3779,2,  34.3778,2,    127.5,2,   131.2,2,    14.9,2,    28.3,2,    0.01,2,   2.215,2,   2.5138,2,   1.3040,2,   0.6226,2,  2205.9,6,  2279.4,2,   7.5170,2,    25.00, -999.00,9,  -999.0,9,  -999.0,    0.987,2, -999.00,9,  -999.0,9, -999.00,9, -999.00,9,    33.6984,2, -999.00,9,  -999.0,9,     -999.0,     -999.0,9,      37.84,2,     -999.0,      37.92,2,     -999.0,     -999.0,9,     -999.0,     -999.0,     -999.0,9,     -999.0,9,     -999.0,9,     -999.0,9,31.05259527,2,        6.5,2,      45.55,2,      13.96,2
33RO20161119,        P18,     116,          2,         18,      11117,2,20170101,       0129,   -23.9002,  -103.0002,       3959,   335.5,  10.3536,  34.3395,2,  34.3378,2,    190.9,2,   181.5,2,     5.4,2,    16.7,2,    0.01,2,   1.492,2,   3.1498,2,   1.7582,2,   1.2646,2,  2145.2,2,  2271.8,2,   7.6832,2,    25.00, -999.00,9,  -999.0,9,  -999.0,   1.4711,2, -999.00,9,  -999.0,9, -999.00,9, -999.00,9,    22.6363,2, -999.00,9,  -999.0,9,     -999.0,     -999.0,9,      37.97,2,     -999.0,      38.05,2,     -999.0,     -999.0,9,     -999.0,     -999.0,     -999.0,9,     -999.0,9,     -999.0,9,     -999.0,9,21.51741177,2,       6.26,2,      42.03,2,      15.79,2
33RO20161119,        P18,     116,          2,         19,      11083,2,20170101,       0129,   -23.9002,  -103.0002,       3959,   230.6,  15.9424,  34.9514,2,  34.9582,2,    203.8,2,   203.2,2,     0.9,2,     3.1,2,    0.02,2,   0.592,2,   2.5387,2,   1.5325,2,   1.6042,2,  2093.9,2,  2307.2,2,   7.8775,2,    25.00, -999.00,9,  -999.0,9,  -999.0,   1.6312,2, -999.00,9,  -999.0,9, -999.00,9, -999.00,9,    10.2988,2, -999.00,9,  -999.0,9,     -999.0,     -999.0,9,      38.07,2,     -999.0,      38.12,2,     -999.0,     -999.0,9,     -999.0,     -999.0,     -999.0,9,     -999.0,9,     -999.0,9,     -999.0,9,13.46219802,2,       6.36,2,      40.61,2,      18.01,2
33RO20161119,        P18,     116,          2,         20,      11118,2,20170101,       0129,   -23.9002,  -103.0002,       3959,   169.7,  19.6416,  35.6343,2,  35.6332,2,    218.2,2,   217.1,2,     0.5,2,     0.0,2,    0.01,2,   0.263,2,   2.1113,6,   1.3075,6,   1.5479,6,  2081.7,2,  2350.6,2,   7.9702,2,    25.00, -999.00,9,  -999.0,9,  -999.0,   1.6276,2, -999.00,9,  -999.0,9, -999.00,9, -999.00,9,     7.9027,2, -999.00,9,  -999.0,9,     -999.0,     -999.0,9,      38.03,2,     -999.0,      38.05,2,     -999.0,     -999.0,9,     -999.0,     -999.0,     -999.0,9,     -999.0,9,     -999.0,9,     -999.0,9,8.414823609,2,       6.39,2,      45.84,2,      17.99,2
33RO20161119,        P18,     116,          2,         21,      11119,2,20170101,       0129,   -23.9002,  -103.0002,       3959,   105.1,  21.9462,  36.0828,2,  36.0830,2,    222.9,2,   223.2,2,     0.5,2,     0.0,2,    0.01,2,   0.232,2,   1.9312,2,   1.2010,2,   1.5563,2,  2081.8,2,  2379.6,2,   8.0126,2,    25.00, -999.00,9,  -999.0,9,  -999.0,        0,2, -999.00,9,  -999.0,9, -999.00,9, -999.00,9,     7.2751,2, -999.00,9,  -999.0,9,     -999.0,     -999.0,9,      38.11,2,     -999.0,      38.11,2,     -999.0,     -999.0,9,     -999.0,     -999.0,     -999.0,9,     -999.0,9,     -999.0,9,     -999.0,9,7.928255012,2,       6.49,2,      43.33,2,       19.2,2
33RO20161119,        P18,     116,          2,         22,      11120,2,20170101,       0129,   -23.9002,  -103.0002,       3959,    50.6,  24.0051,  36.3712,2,  36.3594,2,    212.3,2,   213.9,2,     0.5,2,     0.0,2,    0.01,2,   0.258,2,   1.7822,2,   1.1122,2,   1.4696,2,  2093.2,2,  2399.7,2,   8.0194,2,    25.00, -999.00,9,  -999.0,9,  -999.0,        0,2, -999.00,9,  -999.0,9, -999.00,9, -999.00,9,     6.8088,2, -999.00,9,  -999.0,9,     -999.0,     -999.0,9,      38.13,2,     -999.0,      38.14,2,     -999.0,     -999.0,9,     -999.0,     -999.0,     -999.0,9,     -999.0,9,     -999.0,9,     -999.0,9,7.497491681,2,        6.6,2,      42.98,2,      18.64,2
33RO20161119,        P18,     116,          2,         23,      11121,2,20170101,       0129,   -23.9002,  -103.0002,       3959,    20.3,  24.7167,  36.3638,2,  36.3640,2,    209.2,2,   209.5,6,     0.5,2,     0.0,2,    0.00,2,   0.286,2,   1.7251,2,   1.0806,2,   1.4249,2,  2094.2,6,  2397.9,6,   8.0203,6,    25.00, -999.00,9,  -999.0,9,  -999.0,        0,2, -999.00,9,  -999.0,9, -999.00,9, -999.00,9,     6.6135,2, -999.00,9,  -999.0,9,     -999.0,     -999.0,9,      38.14,2,     -999.0,      38.14,2,     -999.0,     -999.0,9,     -999.0,     -999.0,     -999.0,9,     -999.0,9,     -999.0,9,     -999.0,9,7.338264194,2,       6.49,2,      48.27,2,      19.58,2
33RO20161119,        P18,     116,          2,         24,      11122,2,20170101,       0129,   -23.9002,  -103.0002,       3959,     2.8,  25.0840,  36.3996,2,  36.4002,2,    207.1,2,   207.9,2,     0.5,2,     0.0,2,    0.01,2,   0.298,2,   1.6959,2,   1.0672,2,   1.4303,2,  2098.1,2,  2399.0,2,   8.0204,2,    25.00, -999.00,9,  -999.0,9,  -999.0,        0,2, -999.00,9,  -999.0,9, -999.00,9, -999.00,9,     6.5329,2, -999.00,9,  -999.0,9,     -999.0,     -999.0,9,      38.17,2,     -999.0,      38.18,2,     -999.0,     -999.0,9,     -999.0,     -999.0,     -999.0,9,     -999.0,9,     -999.0,9,     -999.0,9,7.174568803,2,       6.23,2,      44.73,2,      18.22,2