BOTTLE,20230606CCHSIOCBG
EXPOCODE,SECT_ID,STNNBR,CASTNO,SAMPNO,BTLNBR,BTLNBR_FLAG_W,DATE,TIME,LATITUDE,LONGITUDE,DEPTH,CTDPRS,CTDTMP,CTDSAL,CTDSAL_FLAG_W,SALNTY,SALNTY_FLAG_W,CTDOXY,CTDOXY_FLAG_W,OXYGEN,OXYGEN_FLAG_W,SILCAT,SILCAT_FLAG_W,NITRAT,NITRAT_FLAG_W,NITRIT,NITRIT_FLAG_W,PHSPHT,PHSPHT_FLAG_W,CFC-11,CFC-11_FLAG_W,CFC-12,CFC-12_FLAG_W,SF6,SF6_FLAG_W,TCARBN,TCARBN_FLAG_W,ALKALI,ALKALI_FLAG_W,PH_SWS,PH_SWS_FLAG_W,PH_TMP,DELC13,DELC13_FLAG_W,DELC14,DELC14_FLAG_W,C14ERR,CCL4,CCL4_FLAG_W,POC,POC_FLAG_W,DOC,DOC_FLAG_W,TDN,TDN_FLAG_W,PON,PON_FLAG_W,N2O,N2O_FLAG_W,D15N_NO3,D15N_NO3_FLAG_W,14C-DOC,14C-DOC_FLAG_W,14C-DOCERR,13C-DOC,13C-DOC_FLAG_W,N2/ARGON_UNSTRIPPED,N2/ARGON_UNSTRIPPED_FLAG_W,N2/ARGON_UNSTRIPPED_ERROR,N2/ARGON,N2/ARGON_FLAG_W,N2/ARGON_ERROR,D15N_N2,D15N_N2_FLAG_W,D15N_N2_ERROR,D15N_NO3_ERROR,D15N_NO2+NO3,D15N_NO2+NO3_FLAG_W,D18O_NO2+NO3,D18O_NO2+NO3_FLAG_W,D18O_NO3,D18O_NO3_FLAG_W,TDP,TDP_FLAG_W,N2O_ALT_1,N2O_ALT_1_FLAG_W,D15N_N2O,D15N_N2O_FLAG_W,D18O_N2O,D18O_N2O_FLAG_W,D15N_ALPHA_N2O,D15N_ALPHA_N2O_FLAG_W
,,,,,,,,,,,METERS,DBAR,ITS-90,PSS-78,,PSS-78,,UMOL/KG,,UMOL/KG,,UMOL/KG,,UMOL/KG,,UMOL/KG,,UMOL/KG,,PMOL/KG,,PMOL/KG,,FMOL/KG,,UMOL/KG,,UMOL/KG,,,,DEG C,/MILLE,,/MILLE,,/MILLE,PMOL/KG,,UG/KG,,UMOL/KG,,UMOL/KG,,UG/KG,,NMOL/KG,,/MILLE,,/MILLE,,/MILLE,/MILLE,,,,,,,,/MILLE,,/MILLE,/MILLE,/MILLE,,/MILLE,,/MILLE,,UMOL/KG,,NMOL/L,,/MILLE,,/MILLE,,/MILLE,
33RO20161119,        P18,     198,          1,          1,      11010,2,20170123,       1124,   -64.9999,  -103.0003,       4942,  5024.1,   0.4412,  34.6999,2,  34.6993,2,    213.4,2,   213.2,2,   144.8,2,    33.0,2,    0.01,2,   2.256,2,   0.4428,2,   0.2091,2,   0.0894,2,  2263.3,6,  2367.3,2,   7.5875,2,    25.00, -999.00,9,  -999.0,9,  -999.0,   0.3123,2, -999.00,9,  -999.0,9, -999.00,9, -999.00,9,    18.1672,2,    4.74,2,  -999.0,9,     -999.0,     -999.0,9,     -999.0,9,     -999.0,     -999.0,9,     -999.0,     -999.0,9,     -999.0,     -999.0,       4.74,2,       1.78,2,       1.78,2,     -999.0,9,     -999.0,9,     -999.0,9,     -999.0,9,     -999.0,9
33RO20161119,        P18,     198,          1,          2,      11101,2,20170123,       1124,   -64.9999,  -103.0003,       4942,  4708.9,   0.4375,  34.7014,2,  34.7027,2,    213.6,2,   213.6,2,   137.7,2,    32.8,2,    0.01,2,   2.231,2,   0.3742,2,   0.1782,2,   0.0667,2,  2261.5,2,  2365.0,2,   7.5890,6,    25.00, -999.00,9,  -999.0,9,  -999.0,   0.2819,2, -999.00,9,  -999.0,9, -999.00,9, -999.00,9,    18.5413,2,    4.78,2,  -999.0,9,     -999.0,     -999.0,9,     -999.0,9,     -999.0,     -999.0,9,     -999.0,     -999.0,9,     -999.0,     -999.0,       4.78,2,        1.8,2,        1.8,2,     -999.0,9,     -999.0,9,     -999.0,9,     -999.0,9,     -999.0,9
33RO20161119,        P18,     198,          1,          3,      11102,2,20170123,       1124,   -64.9999,  -103.0003,       4942,  4402.3,   0.4474,  34.7022,2,  34.7023,2,    212.9,2,   212.8,2,   135.3,6,    33.0,6,    0.01,6,   2.247,6,   0.3362,2,   0.1599,2,   0.0623,2,  2260.0,2,  2362.3,6,   7.5898,2,    25.00, -999.00,9,  -999.0,9,  -999.0,   0.2999,2, -999.00,9,  -999.0,9, -999.00,9, -999.00,9,    18.2574,2,    4.78,2,  -999.0,9,     -999.0,     -999.0,9,     -999.0,9,     -999.0,     -999.0,9,     -999.0,     -999.0,9,     -999.0,     -999.0,       4.78,2,       1.87,2,       1.87,2,     -999.0,9,     -999.0,9,     -999.0,9,     -999.0,9,     -999.0,9
33RO20161119,        P18,     198,          1,          4,      11103,2,20170123,       1124,   -64.9999,  -103.0003,       4942,  4001.9,   0.5046,  34.7035,2,  34.7023,2,    211.8,2,   211.2,2,   131.2,6,    32.9,6,    0.01,6,   2.240,6,   0.2754,2,   0.1327,2,   0.0529,2,  2261.1,2,  2360.6,2,   7.5928,2,    25.00, -999.00,9,  -999.0,9,  -999.0,   0.2077,2, -999.00,9,  -999.0,9, -999.00,9, -999.00,9,    18.1744,2,    4.79,2,  -999.0,9,     -999.0,     -999.0,9,     -999.0,9,     -999.0,     -999.0,9,     -999.0,     -999.0,9,     -999.0,     -999.0,       4.79,2,       1.89,2,       1.89,2,     -999.0,9,     -999.0,9,     -999.0,9,     -999.0,9,     -999.0,9
33RO20161119,        P18,     198,          1,          5,      11104,2,20170123,       1124,   -64.9999,  -103.0003,       4942,  3601.1,   0.6251,  34.7053,2,  34.7036,2,    208.8,2,   209.0,2,   127.1,6,    32.8,6,    0.01,6,   2.236,6,   0.2493,2,   0.1177,2,   0.0394,2,  2258.0,2,  2359.8,2,   7.5911,2,    25.00, -999.00,9,  -999.0,9,  -999.0,   0.2044,2, -999.00,9,  -999.0,9, -999.00,9, -999.00,9,    18.6939,2,    4.82,2,  -999.0,9,     -999.0,     -999.0,9,     -999.0,9,     -999.0,     -999.0,9,     -999.0,     -999.0,9,     -999.0,     -999.0,       4.82,2,       1.85,2,       1.85,2,     -999.0,9,     -999.0,9,     -999.0,9,     -999.0,9,     -999.0,9
33RO20161119,        P18,     198,          1,          6,      11105,2,20170123,       1124,   -64.9999,  -103.0003,       4942,  3198.0,   0.7773,  34.7089,2,  34.7104,2,    205.9,2,   205.8,6,   123.9,6,    32.6,6,    0.01,6,   2.223,6,   0.1995,2,   0.0976,2,   0.0291,2,  2258.6,2,  2358.6,2,   7.5934,2,    25.00, -999.00,9,  -999.0,9,  -999.0,    0.242,2, -999.00,9,  -999.0,9, -999.00,9, -999.00,9,     18.395,2,    4.81,2,  -999.0,9,     -999.0,     -999.0,9,     -999.0,9,     -999.0,     -999.0,9,     -999.0,     -999.0,9,     -999.0,     -999.0,       4.81,2,       1.78,2,       1.78,2,     -999.0,9,     -999.0,9,     -999.0,9,     -999.0,9,     -999.0,9
33RO20161119,        P18,     198,          1,          7,      11106,2,20170123,       1124,   -64.9999,  -103.0003,       4942,  2797.3,   0.9133,  34.7142,2,  34.7132,2,    202.3,2,   202.5,2,   118.9,2,    32.3,2,    0.01,2,   2.219,2,   0.1567,6,   0.0762,6,   0.0158,6,  2257.3,2,  2360.0,2,   7.5919,2,    25.00, -999.00,9,  -999.0,9,  -999.0,   0.2436,2, -999.00,9,  -999.0,9, -999.00,9, -999.00,9,    18.2146,2,     4.8,2,  -999.0,9,     -999.0,     -999.0,9,     -999.0,9,     -999.0,     -999.0,9,     -999.0,     -999.0,9,     -999.0,     -999.0,        4.8,2,       1.82,2,       1.82,2,     -999.0,9,     -999.0,9,     -999.0,9,     -999.0,9,     -999.0,9
33RO20161119,        P18,     198,          1,          8,      11107,2,20170123,       1124,   -64.9999,  -103.0003,       4942,  2402.2,   1.0844,  34.7206,2,  34.7462,4,    199.3,2,   199.5,2,   112.7,2,    32.1,2,    0.01,2,   2.197,2,   0.1269,2,   0.0645,2,   0.0000,2,  2256.0,2,  2358.3,2,   7.5973,2,    25.00, -999.00,9,  -999.0,9,  -999.0,    0.277,2, -999.00,9,  -999.0,9, -999.00,9, -999.00,9,    18.8201,2,    4.83,2,  -999.0,9,     -999.0,     -999.0,9,     -999.0,9,     -999.0,     -999.0,9,     -999.0,     -999.0,9,     -999.0,     -999.0,       4.83,2,       1.92,2,       1.92,2,     -999.0,9,     -999.0,9,     -999.0,9,     -999.0,9,     -999.0,9
33RO20161119,        P18,     198,          1,          9,      11108,2,20170123,       1124,   -64.9999,  -103.0003,       4942,  2001.4,   1.3014,  34.7280,2,  34.7297,2,    195.0,2,   197.4,2,   105.8,2,    31.9,2,    0.01,2,   2.183,2,   0.1295,2,   0.0646,2,   0.0731,2,  2254.4,2,  2357.7,2,   7.5939,2,    25.00, -999.00,9,  -999.0,9,  -999.0,   0.3683,2, -999.00,9,  -999.0,9, -999.00,9, -999.00,9,    18.8558,2,    4.87,2,  -999.0,9,     -999.0,     -999.0,9,     -999.0,9,     -999.0,     -999.0,9,     -999.0,     -999.0,9,     -999.0,     -999.0,       4.87,2,       1.78,2,       1.78,2,     -999.0,9,     -999.0,9,     -999.0,9,     -999.0,9,     -999.0,9
33RO20161119,        P18,     198,          1,         10,      11109,2,20170123,       1124,   -64.9999,  -103.0003,       4942,  1750.4,   1.4726,  34.7320,2,  34.7342,2,    192.6,2,   193.0,2,    99.9,2,    31.7,2,    0.01,2,   2.169,2,   0.1515,2,   0.0740,2,   0.0369,2,  2252.3,2,  2356.0,2,   7.5913,2,    25.00, -999.00,9,  -999.0,9,  -999.0,   0.4313,2, -999.00,9,  -999.0,9, -999.00,9, -999.00,9,    19.3669,2,    4.85,2,  -999.0,9,     -999.0,     -999.0,9,     -999.0,9,     -999.0,     -999.0,9,     -999.0,     -999.0,9,     -999.0,     -999.0,       4.85,2,       1.98,2,       1.98,2,     -999.0,9,     -999.0,9,     -999.0,9,     -999.0,9,     -999.0,9
33RO20161119,        P18,     198,          1,         11,      11110,2,20170123,       1124,   -64.9999,  -103.0003,       4942,  1571.0,   1.6077,  34.7334,2,  34.7315,2,    190.4,2,   191.5,2,    95.9,2,    31.6,2,    0.01,2,   2.164,2,   0.1629,2,   0.0808,2,   0.0521,2,  2252.3,2,  2356.6,2,   7.5902,2,    25.00, -999.00,9,  -999.0,9,  -999.0,   0.5861,2, -999.00,9,  -999.0,9, -999.00,9, -999.00,9,    19.1479,2,    4.88,2,  -999.0,9,     -999.0,     -999.0,9,     -999.0,9,     -999.0,     -999.0,9,     -999.0,     -999.0,9,     -999.0,     -999.0,       4.88,2,       1.67,2,       1.67,2,     -999.0,9,     -999.0,9,     -999.0,9,     -999.0,9,     -999.0,9
33RO20161119,        P18,     198,          1,         12,      11111,2,20170123,       1124,   -64.9999,  -103.0003,       4942,  1391.0,   1.7529,  34.7317,2,  34.7366,4,    187.5,2,   188.2,2,    91.6,2,    31.6,2,    0.01,2,   2.160,2,   0.1844,2,   0.0907,2,   0.0928,2,  2253.3,2,  2356.1,2,   7.5871,2,    25.00, -999.00,9,  -999.0,9,  -999.0,   0.8127,2, -999.00,9,  -999.0,9, -999.00,9, -999.00,9,    19.7098,2,    4.91,2,  -999.0,9,     -999.0,     -999.0,9,     -999.0,9,     -999.0,     -999.0,9,     -999.0,     -999.0,9,     -999.0,     -999.0,       4.91,2,       1.87,2,       1.87,2,     -999.0,9,     -999.0,9,     -999.0,9,     -999.0,9,     -999.0,9
33RO20161119,        P18,     198,          1,         13,      11112,2,20170123,       1124,   -64.9999,  -103.0003,       4942,  1222.0,   1.8972,  34.7237,2,  34.7285,4,    184.3,2,   184.6,2,    87.9,2,    31.8,2,    0.01,2,   2.167,2,   0.2053,2,   0.1041,2,   0.0511,2,  2251.1,2,  2352.5,2,   7.5827,2,    25.00, -999.00,9,  -999.0,9,  -999.0,      1.3,2, -999.00,9,  -999.0,9, -999.00,9, -999.00,9,    19.8804,2,    4.92,2,  -999.0,9,     -999.0,     -999.0,9,     -999.0,9,     -999.0,     -999.0,9,     -999.0,     -999.0,9,     -999.0,     -999.0,       4.92,2,        1.8,2,        1.8,2,     -999.0,9,     -999.0,9,     -999.0,9,     -999.0,9,     -999.0,9
33RO20161119,        P18,     198,          1,         14,      11113,2,20170123,       1124,   -64.9999,  -103.0003,       4942,  1055.7,   2.0147,  34.7087,2,  34.7078,2,    180.0,2,   181.3,2,    84.7,2,    32.2,2,    0.01,2,   2.203,2,   0.2509,2,   0.1242,2,   0.0913,2,  2254.2,2,  2347.1,6,   7.5746,2,    25.00, -999.00,9,  -999.0,9,  -999.0,   1.5804,2, -999.00,9,  -999.0,9, -999.00,9, -999.00,9,    20.7061,2,    4.93,2,  -999.0,9,     -999.0,     -999.0,9,     -999.0,9,     -999.0,     -999.0,9,     -999.0,     -999.0,9,     -999.0,     -999.0,       4.93,2,       1.77,2,       1.77,2,     -999.0,9,     -999.0,9,     -999.0,9,     -999.0,9,     -999.0,9
33RO20161119,        P18,     198,          1,         15,      11114,2,20170123,       1124,   -64.9999,  -103.0003,       4942,   901.1,   2.1097,  34.6847,2,  34.6837,2,    175.7,2,   176.2,2,    81.0,2,    32.7,2,    0.01,2,   2.237,2,   0.3258,2,   0.1616,2,   0.0969,2,  2251.3,2,  2349.6,2,   7.5649,2,    25.00, -999.00,9,  -999.0,9,  -999.0,   3.3296,2, -999.00,9,  -999.0,9, -999.00,9, -999.00,9,    21.2108,2,    4.95,2,  -999.0,9,     -999.0,     -999.0,9,     -999.0,9,     -999.0,     -999.0,9,     -999.0,     -999.0,9,     -999.0,     -999.0,       4.95,2,       1.92,2,       1.92,2,     -999.0,9,     -999.0,9,     -999.0,9,     -999.0,9,     -999.0,9
33RO20161119,        P18,     198,          1,         16,      11115,2,20170123,       1124,   -64.9999,  -103.0003,       4942,   749.3,   2.1965,  34.6407,2,  34.6389,2,    173.3,2,   172.9,2,    79.2,6,    33.8,6,    0.01,6,   2.309,6,   0.4738,2,   0.2411,2,   0.1391,2,  2254.0,2,  2345.6,2,   7.5502,2,    25.00, -999.00,9,  -999.0,9,  -999.0,   3.7902,2, -999.00,9,  -999.0,9, -999.00,9, -999.00,9,    21.7864,2,    4.96,2,  -999.0,9,     -999.0,     -999.0,9,     -999.0,9,     -999.0,     -999.0,9,     -999.0,     -999.0,9,     -999.0,     -999.0,       4.96,2,       1.76,2,       1.76,2,     -999.0,9,     -999.0,9,     -999.0,9,     -999.0,9,     -999.0,9
33RO20161119,        P18,     198,          1,         17,      11116,2,20170123,       1124,   -64.9999,  -103.0003,       4942,   610.8,   2.2483,  34.5899,2,  34.5886,2,    172.6,2,   172.0,2,    75.7,2,    34.5,2,    0.01,2,   2.353,2,   0.7032,2,   0.3550,2,   0.2117,2,  2252.7,2,  2336.0,2,   7.5403,2,    25.00, -999.00,9,  -999.0,9,  -999.0,     6.41,2, -999.00,9,  -999.0,9, -999.00,9, -999.00,9,    22.7021,2,     5.0,2,  -999.0,9,     -999.0,     -999.0,9,     -999.0,9,     -999.0,     -999.0,9,     -999.0,     -999.0,9,     -999.0,     -999.0,        5.0,2,       1.76,2,       1.76,2,     -999.0,9,     -999.0,9,     -999.0,9,     -999.0,9,     -999.0,9
33RO20161119,        P18,     198,          1,         18,      11117,2,20170123,       1124,   -64.9999,  -103.0003,       4942,   470.4,   2.2660,  34.5063,2,  34.5058,2,    178.5,2,   177.6,2,    70.0,2,    35.2,2,    0.02,2,   2.399,2,   1.1694,2,   0.5981,2,   0.4427,2,  2247.8,6,  2327.8,2,   7.5350,2,    25.00, -999.00,9,  -999.0,9,  -999.0,   7.0964,2, -999.00,9,  -999.0,9, -999.00,9, -999.00,9,    22.8589,2,    5.03,2,  -999.0,9,     -999.0,     -999.0,9,     -999.0,9,     -999.0,     -999.0,9,     -999.0,     -999.0,9,     -999.0,     -999.0,       5.03,2,       1.75,2,       1.75,2,     -999.0,9,     -999.0,9,     -999.0,9,     -999.0,9,     -999.0,9
33RO20161119,        P18,     198,          1,         19,      11083,2,20170123,       1124,   -64.9999,  -103.0003,       4942,   351.1,   2.2652,  34.4069,2,  34.4049,2,    189.7,2,   191.0,2,    62.0,6,    35.2,6,    0.02,6,   2.382,2,   1.7984,2,   0.9401,2,   0.6754,2,  2238.7,2,  2316.6,2,   7.5372,2,    25.00, -999.00,9,  -999.0,9,  -999.0,    6.033,2, -999.00,9,  -999.0,9, -999.00,9, -999.00,9,    22.9618,2,    5.09,2,  -999.0,9,     -999.0,     -999.0,9,     -999.0,9,     -999.0,     -999.0,9,     -999.0,     -999.0,9,     -999.0,     -999.0,       5.13,2,       2.07,2,       2.03,2,     -999.0,9,     -999.0,9,     -999.0,9,     -999.0,9,     -999.0,9
33RO20161119,        P18,     198,          1,         20,      11118,2,20170123,       1124,   -64.9999,  -103.0003,       4942,   243.2,   1.7336,  34.2149,2,  34.2152,2,    236.3,2,   238.3,2,    47.9,2,    33.6,2,    0.03,2,   2.262,2,   3.3546,6,   1.7955,6,   1.6502,6,  2211.0,2,  2305.8,2,   7.5698,2,    25.00, -999.00,9,  -999.0,9,  -999.0,   6.3753,2, -999.00,9,  -999.0,9, -999.00,9, -999.00,9,    20.4639,2,    5.24,2,  -999.0,9,     -999.0,     -999.0,9,     -999.0,9,     -999.0,     -999.0,9,     -999.0,     -999.0,9,     -999.0,     -999.0,       5.29,2,       2.36,2,       2.32,2,     -999.0,9,     -999.0,9,     -999.0,9,     -999.0,9,     -999.0,9
33RO20161119,        P18,     198,          1,         21,      11119,2,20170123,       1124,   -64.9999,  -103.0003,       4942,   155.3,  -0.0759,  33.9397,2,  33.9375,2,    329.7,2,   329.5,2,    31.4,6,    28.5,6,    0.23,6,   1.984,6,   5.6302,2,   3.0530,2,   3.3641,2,  2167.3,2,  2283.0,2,   7.6506,6,    25.00, -999.00,9,  -999.0,9,  -999.0,   0.4189,2, -999.00,9,  -999.0,9, -999.00,9, -999.00,9,    15.1811,2,    5.78,2,  -999.0,9,     -999.0,     -999.0,9,     -999.0,9,     -999.0,     -999.0,9,     -999.0,     -999.0,9,     -999.0,     -999.0,       5.64,2,       3.13,2,       2.96,2,     -999.0,9,     -999.0,9,     -999.0,9,     -999.0,9,     -999.0,9
33RO20161119,        P18,     198,          1,         22,      11120,2,20170123,       1124,   -64.9999,  -103.0003,       4942,    70.5,  -0.3276,  33.7903,2,  33.7905,2,    343.9,2,   344.8,2,    25.1,2,    26.1,2,    0.26,2,   1.907,2,   6.0531,2,   3.2596,2,   3.7016,2,  2155.6,2,  2277.1,2,   7.6701,2,    25.00, -999.00,9,  -999.0,9,  -999.0,   0.4408,2, -999.00,9,  -999.0,9, -999.00,9, -999.00,9,    15.1535,2,    6.47,2,  -999.0,9,     -999.0,     -999.0,9,     -999.0,9,     -999.0,     -999.0,9,     -999.0,     -999.0,9,     -999.0,     -999.0,       6.08,2,       3.51,2,       3.45,2,     -999.0,9,     -999.0,9,     -999.0,9,     -999.0,9,     -999.0,9
33RO20161119,        P18,     198,          1,         23,      11121,2,20170123,       1124,   -64.9999,  -103.0003,       4942,    24.8,   2.0085,  33.7029,2,  33.7096,2,    333.1,2,   337.9,2,     6.5,2,    22.9,2,    0.26,2,   1.374,2,   5.5889,2,   3.0491,2,   3.4868,2,  2131.9,2,  2276.0,6,   7.6729,3,    25.00, -999.00,9,  -999.0,9,  -999.0,   0.2449,2, -999.00,9,  -999.0,9, -999.00,9, -999.00,9,    14.1942,2,     7.8,2,  -999.0,9,     -999.0,     -999.0,9,     -999.0,9,     -999.0,     -999.0,9,     -999.0,     -999.0,9,     -999.0,     -999.0,       7.07,2,       3.96,2,        3.9,2,     -999.0,9,     -999.0,9,     -999.0,9,     -999.0,9,     -999.0,9
33RO20161119,        P18,     198,          1,         24,      11122,2,20170123,       1124,   -64.9999,  -103.0003,       4942,     4.1,   2.0088,  33.7028,2,  33.7030,2,    332.2,2,   338.0,2,     6.5,2,    22.9,2,    0.26,2,   1.388,2,   5.6052,2,   3.0450,2,   3.4937,2,  2134.5,6,  2274.4,2,   7.7222,2,    25.00, -999.00,9,  -999.0,9,  -999.0,   0.2278,2, -999.00,9,  -999.0,9, -999.00,9, -999.00,9,    14.0592,2,     7.8,2,  -999.0,9,     -999.0,     -999.0,9,     -999.0,9,     -999.0,     -999.0,9,     -999.0,     -999.0,9,     -999.0,     -999.0,       7.01,2,       3.97,2,       3.83,2,     -999.0,9,     -999.0,9,     -999.0,9,     -999.0,9,     -999.0,9