BOTTLE,20230606CCHSIOCBG
EXPOCODE,SECT_ID,STNNBR,CASTNO,SAMPNO,BTLNBR,BTLNBR_FLAG_W,DATE,TIME,LATITUDE,LONGITUDE,DEPTH,CTDPRS,CTDTMP,CTDSAL,CTDSAL_FLAG_W,SALNTY,SALNTY_FLAG_W,CTDOXY,CTDOXY_FLAG_W,OXYGEN,OXYGEN_FLAG_W,SILCAT,SILCAT_FLAG_W,NITRAT,NITRAT_FLAG_W,NITRIT,NITRIT_FLAG_W,PHSPHT,PHSPHT_FLAG_W,CFC-11,CFC-11_FLAG_W,CFC-12,CFC-12_FLAG_W,SF6,SF6_FLAG_W,TCARBN,TCARBN_FLAG_W,ALKALI,ALKALI_FLAG_W,PH_SWS,PH_SWS_FLAG_W,PH_TMP,DELC13,DELC13_FLAG_W,DELC14,DELC14_FLAG_W,C14ERR,CCL4,CCL4_FLAG_W,POC,POC_FLAG_W,DOC,DOC_FLAG_W,TDN,TDN_FLAG_W,PON,PON_FLAG_W,N2O,N2O_FLAG_W,D15N_NO3,D15N_NO3_FLAG_W,14C-DOC,14C-DOC_FLAG_W,14C-DOCERR,13C-DOC,13C-DOC_FLAG_W,N2/ARGON_UNSTRIPPED,N2/ARGON_UNSTRIPPED_FLAG_W,N2/ARGON_UNSTRIPPED_ERROR,N2/ARGON,N2/ARGON_FLAG_W,N2/ARGON_ERROR,D15N_N2,D15N_N2_FLAG_W,D15N_N2_ERROR,D15N_NO3_ERROR,D15N_NO2+NO3,D15N_NO2+NO3_FLAG_W,D18O_NO2+NO3,D18O_NO2+NO3_FLAG_W,D18O_NO3,D18O_NO3_FLAG_W,TDP,TDP_FLAG_W,N2O_ALT_1,N2O_ALT_1_FLAG_W,D15N_N2O,D15N_N2O_FLAG_W,D18O_N2O,D18O_N2O_FLAG_W,D15N_ALPHA_N2O,D15N_ALPHA_N2O_FLAG_W
,,,,,,,,,,,METERS,DBAR,ITS-90,PSS-78,,PSS-78,,UMOL/KG,,UMOL/KG,,UMOL/KG,,UMOL/KG,,UMOL/KG,,UMOL/KG,,PMOL/KG,,PMOL/KG,,FMOL/KG,,UMOL/KG,,UMOL/KG,,,,DEG C,/MILLE,,/MILLE,,/MILLE,PMOL/KG,,UG/KG,,UMOL/KG,,UMOL/KG,,UG/KG,,NMOL/KG,,/MILLE,,/MILLE,,/MILLE,/MILLE,,,,,,,,/MILLE,,/MILLE,/MILLE,/MILLE,,/MILLE,,/MILLE,,UMOL/KG,,NMOL/L,,/MILLE,,/MILLE,,/MILLE,
33RO20161119,        P18,      78,          1,          1,      11010,2,20161212,       0447,    -7.0600,  -107.1202,       3144,  3177.4,   1.7904,  34.6762,2,  34.7204,4,    135.8,2,   135.5,2,   141.2,6,    36.7,6,    0.00,6,   2.546,6,-999.0000,9,-999.0000,9,-999.0000,9,  2338.5,6,  2423.6,2,   7.5604,6,    25.00,    0.05,2,  -230.5,2,     1.6,-999.0000,9, -999.00,9,  -999.0,9, -999.00,9, -999.00,9,     -999.0,9, -999.00,9,  -999.0,9,     -999.0,     -999.0,9,     -999.0,9,     -999.0,     -999.0,9,     -999.0,     -999.0,9,     -999.0,     -999.0,     -999.0,9,     -999.0,9,     -999.0,9,     -999.0,9,     -999.0,9,     -999.0,9,     -999.0,9,     -999.0,9
33RO20161119,        P18,      78,          1,          2,      11101,2,20161212,       0447,    -7.0600,  -107.1202,       3144,  2939.9,   1.7787,  34.6760,2,  34.6761,2,    136.2,2,   135.5,2,   140.3,6,    36.8,6,    0.00,6,   2.545,6,-999.0000,9,-999.0000,9,-999.0000,9,  2337.1,2,  2422.7,6,   7.5601,2,    25.00,    0.14,2,  -229.9,2,     1.7,-999.0000,9, -999.00,9,  -999.0,9, -999.00,9, -999.00,9,     -999.0,9, -999.00,9,    -535,2,          5,      -21.6,2,     -999.0,9,     -999.0,     -999.0,9,     -999.0,     -999.0,9,     -999.0,     -999.0,     -999.0,9,     -999.0,9,     -999.0,9,     -999.0,9,     -999.0,9,     -999.0,9,     -999.0,9,     -999.0,9
33RO20161119,        P18,      78,          1,          3,      11102,2,20161212,       0447,    -7.0600,  -107.1202,       3144,  2719.6,   1.7917,  34.6743,2,  34.6750,2,    136.2,2,   136.0,2,   136.8,6,    36.4,6,    0.00,6,   2.534,6,-999.0000,9,-999.0000,9,-999.0000,9,  2333.8,2,  2423.5,2,   7.5561,2,    25.00,    0.05,6,  -230.6,6,     1.3,-999.0000,9, -999.00,9,  -999.0,9, -999.00,9, -999.00,9,     -999.0,9, -999.00,9,    -540,2,          5,      -21.2,2,     -999.0,9,     -999.0,     -999.0,9,     -999.0,     -999.0,9,     -999.0,     -999.0,     -999.0,9,     -999.0,9,     -999.0,9,     -999.0,9,     -999.0,9,     -999.0,9,     -999.0,9,     -999.0,9
33RO20161119,        P18,      78,          1,          4,      11103,2,20161212,       0447,    -7.0600,  -107.1202,       3144,  2500.6,   1.8979,  34.6656,2,  34.6708,4,    125.5,2,   127.8,2,   139.5,6,    37.2,6,    0.00,6,   2.601,6,-999.0000,9,-999.0000,9,-999.0000,9,  2338.1,2,  2421.2,2,   7.5377,2,    25.00,   -0.11,2,  -237.1,2,     2.0,-999.0000,9, -999.00,9,  -999.0,9, -999.00,9, -999.00,9,     -999.0,9, -999.00,9,    -523,2,          5,      -21.3,2,     -999.0,9,     -999.0,     -999.0,9,     -999.0,     -999.0,9,     -999.0,     -999.0,     -999.0,9,     -999.0,9,     -999.0,9,     -999.0,9,     -999.0,9,     -999.0,9,     -999.0,9,     -999.0,9
33RO20161119,        P18,      78,          1,          5,      11104,2,20161212,       0447,    -7.0600,  -107.1202,       3144,  2280.1,   2.0374,  34.6562,2,  34.6569,2,    119.3,2,   119.2,2,   136.5,2,    37.5,2,    0.00,2,   2.628,2,-999.0000,9,-999.0000,9,-999.0000,9,  2339.2,6,  2416.0,2,   7.5243,2,    25.00,   -0.03,2,  -236.2,2,     1.5,-999.0000,9, -999.00,9,  -999.0,9, -999.00,9, -999.00,9,     -999.0,9, -999.00,9,    -541,2,          5,      -21.5,2,     -999.0,9,     -999.0,     -999.0,9,     -999.0,     -999.0,9,     -999.0,     -999.0,     -999.0,9,     -999.0,9,     -999.0,9,     -999.0,9,     -999.0,9,     -999.0,9,     -999.0,9,     -999.0,9
33RO20161119,        P18,      78,          1,          6,      11105,2,20161212,       0447,    -7.0600,  -107.1202,       3144,  2059.5,   2.2203,  34.6445,2,  34.6441,2,    113.5,2,   113.5,2,   132.4,2,    37.9,2,    0.00,2,   2.676,2,-999.0000,9,-999.0000,9,-999.0000,9,  2337.2,2,  2410.3,2,   7.5111,6,    25.00,    0.06,2,  -236.5,2,     1.7,-999.0000,9, -999.00,9,  -999.0,9, -999.00,9, -999.00,9,     -999.0,9, -999.00,9,    -532,2,          5,      -21.5,2,     -999.0,9,     -999.0,     -999.0,9,     -999.0,     -999.0,9,     -999.0,     -999.0,     -999.0,9,     -999.0,9,     -999.0,9,     -999.0,9,     -999.0,9,     -999.0,9,     -999.0,9,     -999.0,9
33RO20161119,        P18,      78,          1,          7,      11106,2,20161212,       0447,    -7.0600,  -107.1202,       3144,  1839.9,   2.4612,  34.6299,2,  34.6281,2,    107.1,2,   106.5,2,   126.8,2,    38.5,2,    0.00,2,   2.716,2,-999.0000,9,-999.0000,9,-999.0000,9,  2333.8,2,  2401.4,2,   7.4973,2,    25.00,    0.01,2,  -233.4,2,     1.5,-999.0000,9, -999.00,9,  -999.0,9, -999.00,9, -999.00,9,     -999.0,9, -999.00,9,    -520,2,          5,      -21.4,2,     -999.0,9,     -999.0,     -999.0,9,     -999.0,     -999.0,9,     -999.0,     -999.0,     -999.0,9,     -999.0,9,     -999.0,9,     -999.0,9,     -999.0,9,     -999.0,9,     -999.0,9,     -999.0,9
33RO20161119,        P18,      78,          1,          8,      11107,2,20161212,       0447,    -7.0600,  -107.1202,       3144,  1570.1,   2.8359,  34.6063,2,  34.6048,2,    104.8,2,   104.8,2,   114.5,2,    38.5,2,    0.00,2,   2.737,2,-999.0000,9,-999.0000,9,-999.0000,9,  2324.4,2,  2388.1,2,   7.4923,2,    25.00,    0.05,2,  -220.4,2,     1.5,-999.0000,9, -999.00,9,  -999.0,9, -999.00,9, -999.00,9,     -999.0,9, -999.00,9,    -533,2,          5,      -21.6,2,     -999.0,9,     -999.0,     -999.0,9,     -999.0,     -999.0,9,     -999.0,     -999.0,     -999.0,9,     -999.0,9,     -999.0,9,     -999.0,9,     -999.0,9,     -999.0,9,     -999.0,9,     -999.0,9
33RO20161119,        P18,      78,          1,          9,      11108,2,20161212,       0447,    -7.0600,  -107.1202,       3144,  1309.8,   3.4569,  34.5767,2,  34.5767,2,     95.5,2,    95.2,2,    99.3,2,    39.1,2,    0.00,2,   2.800,2,-999.0000,9,-999.0000,9,-999.0000,9,  2313.4,2,  2368.9,2,   7.4753,2,    25.00,    0.13,2,  -205.5,2,     1.6,-999.0000,9, -999.00,9,  -999.0,9, -999.00,9, -999.00,9,     -999.0,9,    5.39,2,  -999.0,9,     -999.0,     -999.0,9,     -999.0,9,     -999.0,     -999.0,9,     -999.0,     -999.0,9,     -999.0,        0.0,     -999.0,9,     -999.0,9,     -999.0,9,     -999.0,9,     -999.0,9,     -999.0,9,     -999.0,9,     -999.0,9
33RO20161119,        P18,      78,          1,         10,      11109,2,20161212,       0447,    -7.0600,  -107.1202,       3144,  1149.9,   3.9079,  34.5596,2,  34.5594,2,     95.9,2,    94.8,2,    89.0,2,    39.3,2,    0.00,2,   2.774,2,-999.0000,9,-999.0000,9,-999.0000,9,  2301.9,2,  2358.2,2,   7.4758,2,    25.00,    0.20,2,  -187.6,2,     1.6,-999.0000,9, -999.00,9,  -999.0,9, -999.00,9, -999.00,9,     -999.0,9,    5.53,2,    -510,2,          5,      -21.2,2,      37.85,2,     -999.0,      37.95,2,     -999.0,     -999.0,9,     -999.0,       0.26,     -999.0,9,     -999.0,9,     -999.0,9,     -999.0,9,29.98158653,2,       9.08,2,      48.66,2,      21.36,2
33RO20161119,        P18,      78,          1,         11,      11110,2,20161212,       0447,    -7.0600,  -107.1202,       3144,  1030.1,   4.3855,  34.5481,2,  34.5486,2,     80.3,2,    80.5,2,    80.4,2,    40.2,2,    0.01,2,   2.861,2,-999.0000,9,-999.0000,9,-999.0000,9,  2300.2,2,  2347.5,2,   7.4461,2,    25.00,    0.18,2,  -178.6,2,     1.7,-999.0000,9, -999.00,9,  -999.0,9, -999.00,9, -999.00,9,     -999.0,9,    5.73,2,  -999.0,9,     -999.0,     -999.0,9,      36.84,2,     -999.0,     -999.0,9,     -999.0,     -999.0,9,     -999.0,       0.13,     -999.0,9,     -999.0,9,     -999.0,9,     -999.0,9, 33.8953945,2,       8.93,2,       48.6,2,      21.69,2
33RO20161119,        P18,      78,          1,         12,      11111,2,20161212,       0447,    -7.0600,  -107.1202,       3144,   910.7,   4.8868,  34.5427,2,  34.5417,2,     65.2,2,    65.3,2,    72.2,2,    41.4,2,    0.00,2,   2.924,2,   0.0031,2,   0.0032,2,   0.0000,2,  2298.1,2,  2339.5,2,   7.4204,2,    25.00,    0.15,2,  -164.5,2,     2.1,   0.0144,2, -999.00,9,  -999.0,9, -999.00,9, -999.00,9,    38.0863,2,    5.95,2,    -490,2,          5,      -21.3,2,      36.88,2,     -999.0,     -999.0,9,     -999.0,     -999.0,9,     -999.0,       0.18,     -999.0,9,     -999.0,9,     -999.0,9,     -999.0,9,36.90283464,2,       8.77,2,      48.53,2,      20.12,2
33RO20161119,        P18,      78,          1,         13,      11112,2,20161212,       0447,    -7.0600,  -107.1202,       3144,   800.8,   5.4613,  34.5435,2,  34.5423,2,     52.5,2,    52.2,2,    63.6,2,    42.3,2,    0.00,2,   2.973,2,-999.0000,9,-999.0000,9,-999.0000,9,  2296.3,2,  2329.7,2,   7.3980,2,    25.00,    0.16,2,  -155.1,2,     2.8,-999.0000,9, -999.00,9,  -999.0,9, -999.00,9, -999.00,9,     -999.0,9,    5.38,2,  -999.0,9,     -999.0,     -999.0,9,     -999.0,9,     -999.0,     -999.0,9,     -999.0,     -999.0,9,     -999.0,       0.12,     -999.0,9,     -999.0,9,     -999.0,9,     -999.0,9,40.52280605,2,       8.42,2,       48.6,2,      19.92,2
33RO20161119,        P18,      78,          1,         14,      11113,2,20161212,       0447,    -7.0600,  -107.1202,       3144,   694.5,   6.2827,  34.5583,2,  34.5566,2,     33.8,2,    34.9,2,    53.8,2,    43.0,2,    0.00,2,   2.972,2,   0.0126,2,   0.0079,2,   0.0000,2,  2293.6,2,  2317.7,2,   7.3739,2,    25.00,    0.05,2,  -138.4,2,     2.2,   0.0281,2, -999.00,9,  -999.0,9, -999.00,9, -999.00,9,    49.3981,2,    5.67,2,    -461,2,          5,      -21.4,2,     -999.0,9,     -999.0,     -999.0,9,     -999.0,     -999.0,9,     -999.0,       0.42,     -999.0,9,     -999.0,9,     -999.0,9,     -999.0,9,47.78892968,2,        7.8,2,      48.42,2,      19.57,2
33RO20161119,        P18,      78,          1,         15,      11114,2,20161212,       0447,    -7.0600,  -107.1202,       3144,   589.6,   7.1288,  34.5862,2,  34.5859,2,     19.0,2,    17.8,6,    45.9,2,    42.8,2,    0.01,2,   2.986,2,-999.0000,9,-999.0000,9,-999.0000,9,  2293.0,2,  2308.2,2,   7.3508,2,    25.00,    0.07,2,  -123.1,2,     2.0,-999.0000,9, -999.00,9,  -999.0,9, -999.00,9, -999.00,9,     -999.0,9,    6.19,2,  -999.0,9,     -999.0,     -999.0,9,     -999.0,9,     -999.0,     -999.0,9,     -999.0,     -999.0,9,     -999.0,       0.04,     -999.0,9,     -999.0,9,     -999.0,9,     -999.0,9,60.27470422,2,       7.13,2,      48.53,2,       18.4,2
33RO20161119,        P18,      78,          1,         16,      11115,2,20161212,       0447,    -7.0600,  -107.1202,       3144,   495.1,   8.4647,  34.6489,2,  34.6489,2,      8.2,2,     8.3,2,    37.8,2,    39.8,2,    0.00,2,   2.845,2,   0.0739,2,   0.0447,2,   0.0423,2,  2285.5,2,  2303.7,6,   7.3521,2,    25.00,    0.08,2,   -93.9,2,     1.9,   0.0618,2, -999.00,9,  -999.0,9, -999.00,9, -999.00,9,     72.945,2,    6.32,2,  -999.0,9,     -999.0,     -999.0,9,     -999.0,9,     -999.0,     -999.0,9,     -999.0,     -999.0,9,     -999.0,       0.48,     -999.0,9,     -999.0,9,     -999.0,9,     -999.0,9,72.57360502,2,       6.73,2,       51.4,2,      18.18,2
33RO20161119,        P18,      78,          1,         17,      11116,2,20161212,       0447,    -7.0600,  -107.1202,       3144,   405.1,   9.8005,  34.7302,2,  34.7285,2,      9.1,2,     7.9,2,    33.4,2,    36.1,2,    0.01,2,   2.683,2,-999.0000,9,-999.0000,9,-999.0000,9,  2277.7,2,  2303.7,2,   7.3782,2,    25.00,    0.01,2,   -64.7,2,     2.4,-999.0000,9, -999.00,9,  -999.0,9, -999.00,9, -999.00,9,     -999.0,9,    6.33,2,  -999.0,9,     -999.0,     -999.0,9,     -999.0,9,     -999.0,     -999.0,9,     -999.0,     -999.0,9,     -999.0,       0.51,     -999.0,9,     -999.0,9,     -999.0,9,     -999.0,9,72.87608578,2,       6.77,2,      53.02,2,      16.48,2
33RO20161119,        P18,      78,          1,         18,      11117,2,20161212,       0447,    -7.0600,  -107.1202,       3144,   314.7,  10.7408,  34.7904,2,  34.7894,2,     14.5,2,    12.7,2,    29.2,2,    33.8,2,    0.01,2,   2.533,2,   0.5584,6,   0.3066,6,   0.1256,6,  2267.2,2,  2297.2,2,   7.4087,2,    25.00,   -0.02,2,   -43.6,2,     2.3,   0.0604,2, -999.00,9,  -999.0,9, -999.00,9, -999.00,9,    72.2546,2,    7.19,2,    -405,2,          5,      -21.4,2,     -999.0,9,     -999.0,     -999.0,9,     -999.0,     -999.0,9,     -999.0,       0.13,     -999.0,9,     -999.0,9,     -999.0,9,     -999.0,9,69.80927618,2,       6.14,2,      49.71,2,      13.16,2
33RO20161119,        P18,      78,          1,         19,      11083,2,20161212,       0447,    -7.0600,  -107.1202,       3144,   239.7,  11.3802,  34.8315,2,  34.8289,2,     23.4,2,    80.8,3,    25.8,2,    31.9,2,    0.01,2,   2.360,2,-999.0000,9,-999.0000,9,-999.0000,9,  2253.2,2,  2301.1,2,   7.4495,2,    25.00,    0.00,2,   -27.6,2,     2.3,-999.0000,9, -999.00,9,  -999.0,9, -999.00,9, -999.00,9,     -999.0,9,    6.83,2,  -999.0,9,     -999.0,     -999.0,9,     -999.0,9,     -999.0,     -999.0,9,     -999.0,     -999.0,9,     -999.0,       0.04,     -999.0,9,     -999.0,9,     -999.0,9,     -999.0,9,66.38754024,2,       5.46,2,      46.33,2,      10.33,2
33RO20161119,        P18,      78,          1,         20,      11118,2,20161212,       0447,    -7.0600,  -107.1202,       3144,   179.5,  12.6238,  34.8964,2,  34.9026,2,     11.5,2,    11.8,2,    20.7,2,    28.7,2,    0.01,2,   2.422,2,   1.1506,2,   0.6535,2,   0.3333,2,  2254.9,2,  2300.2,2,   7.4428,2,    25.00,   -0.22,2,     4.7,2,     2.7,   0.6154,2, -999.00,9,  -999.0,9, -999.00,9, -999.00,9,    79.6777,2,    7.33,2,    -380,2,          5,      -21.3,2,     -999.0,9,     -999.0,     -999.0,9,     -999.0,     -999.0,9,     -999.0,       0.04,     -999.0,9,     -999.0,9,     -999.0,9,     -999.0,9, 81.3818972,2,       4.71,2,       44.1,2,       8.69,2
33RO20161119,        P18,      78,          1,         21,      11119,2,20161212,       0447,    -7.0600,  -107.1202,       3144,   115.3,  18.6956,  35.4806,2,  35.4529,2,    167.5,2,   158.3,2,     2.3,2,     8.9,2,    0.61,2,   1.043,2,   2.1811,2,   1.3394,2,   1.5309,2,  2141.9,2,  2340.8,2,   7.8339,2,    25.00,    0.83,2,    35.0,2,     2.4,   1.4017,2, -999.00,9,  -999.0,9, -999.00,9, -999.00,9,    15.9481,2,    9.14,3,  -999.0,9,     -999.0,     -999.0,9,     -999.0,9,     -999.0,     -999.0,9,     -999.0,     -999.0,9,     -999.0,       2.64,     -999.0,9,     -999.0,9,     -999.0,9,     -999.0,9,  16.281277,2,       6.08,2,      40.51,2,      11.88,2
33RO20161119,        P18,      78,          1,         22,      11120,2,20161212,       0447,    -7.0600,  -107.1202,       3144,    60.2,  23.8668,  35.2543,2,  35.3297,2,    202.7,2,   201.2,2,     2.5,2,     6.9,2,    0.17,2,   0.789,2,   1.7612,2,   1.1036,2,   1.4394,2,  2076.8,2,  2329.4,6,   7.9463,2,    25.00,    0.83,2,    26.0,2,     2.4,   1.7702,2, -999.00,9,  -999.0,9, -999.00,9, -999.00,9,     9.1932,2,   11.88,2,    -262,2,          5,      -21.6,2,     -999.0,9,     -999.0,     -999.0,9,     -999.0,     -999.0,9,     -999.0,       0.07,     -999.0,9,     -999.0,9,     -999.0,9,     -999.0,9, 9.67975497,2,       5.96,2,      43.67,2,      19.03,2
33RO20161119,        P18,      78,          1,         23,      11121,2,20161212,       0447,    -7.0600,  -107.1202,       3144,    25.6,  24.7907,  35.2619,2,  35.2639,2,    208.9,2,   207.7,2,     2.8,2,     8.2,2,    0.18,2,   0.778,2,-999.0000,9,-999.0000,9,-999.0000,9,  2068.8,6,  2324.1,2,   7.9564,2,    25.00,    0.99,2,    30.3,2,     3.1,-999.0000,9, -999.00,9,  -999.0,9, -999.00,9, -999.00,9,     -999.0,9,    13.4,2,  -999.0,9,     -999.0,     -999.0,9,      38.22,2,     -999.0,      38.24,2,     -999.0,     -999.0,9,     -999.0,       0.11,     -999.0,9,     -999.0,9,     -999.0,9,     -999.0,9,  7.8622298,2,       5.72,2,      45.19,2,      18.59,2
33RO20161119,        P18,      78,          1,         24,      11122,2,20161212,       0447,    -7.0600,  -107.1202,       3144,     3.5,  24.7921,  35.2561,2,  35.2548,2,    208.4,2,   207.6,2,     2.8,2,     8.3,2,    0.18,2,   0.781,2,   1.7070,2,   1.0706,2,   1.4471,2,  2066.8,2,  2324.8,2,   7.9505,2,    25.00,    0.91,2,    26.9,2,     2.6,        0,2, -999.00,9,  -999.0,9, -999.00,9, -999.00,9,     7.1628,2,   14.18,3,    -268,2,          5,      -21.4,2,     -999.0,9,     -999.0,     -999.0,9,     -999.0,     -999.0,9,     -999.0,       0.75,     -999.0,9,     -999.0,9,     -999.0,9,     -999.0,9,27.49772982,2,       9.61,2,      52.29,2,      22.08,2