BOTTLE,20230606CCHSIOCBG
EXPOCODE,SECT_ID,STNNBR,CASTNO,SAMPNO,BTLNBR,BTLNBR_FLAG_W,DATE,TIME,LATITUDE,LONGITUDE,DEPTH,CTDPRS,CTDTMP,CTDSAL,CTDSAL_FLAG_W,SALNTY,SALNTY_FLAG_W,CTDOXY,CTDOXY_FLAG_W,OXYGEN,OXYGEN_FLAG_W,SILCAT,SILCAT_FLAG_W,NITRAT,NITRAT_FLAG_W,NITRIT,NITRIT_FLAG_W,PHSPHT,PHSPHT_FLAG_W,CFC-11,CFC-11_FLAG_W,CFC-12,CFC-12_FLAG_W,SF6,SF6_FLAG_W,TCARBN,TCARBN_FLAG_W,ALKALI,ALKALI_FLAG_W,PH_SWS,PH_SWS_FLAG_W,PH_TMP,DELC13,DELC13_FLAG_W,DELC14,DELC14_FLAG_W,C14ERR,CCL4,CCL4_FLAG_W,POC,POC_FLAG_W,DOC,DOC_FLAG_W,TDN,TDN_FLAG_W,PON,PON_FLAG_W,N2O,N2O_FLAG_W,D15N_NO3,D15N_NO3_FLAG_W,14C-DOC,14C-DOC_FLAG_W,14C-DOCERR,13C-DOC,13C-DOC_FLAG_W,N2/ARGON_UNSTRIPPED,N2/ARGON_UNSTRIPPED_FLAG_W,N2/ARGON_UNSTRIPPED_ERROR,N2/ARGON,N2/ARGON_FLAG_W,N2/ARGON_ERROR,D15N_N2,D15N_N2_FLAG_W,D15N_N2_ERROR,D15N_NO3_ERROR,D15N_NO2+NO3,D15N_NO2+NO3_FLAG_W,D18O_NO2+NO3,D18O_NO2+NO3_FLAG_W,D18O_NO3,D18O_NO3_FLAG_W,TDP,TDP_FLAG_W,N2O_ALT_1,N2O_ALT_1_FLAG_W,D15N_N2O,D15N_N2O_FLAG_W,D18O_N2O,D18O_N2O_FLAG_W,D15N_ALPHA_N2O,D15N_ALPHA_N2O_FLAG_W
,,,,,,,,,,,METERS,DBAR,ITS-90,PSS-78,,PSS-78,,UMOL/KG,,UMOL/KG,,UMOL/KG,,UMOL/KG,,UMOL/KG,,UMOL/KG,,PMOL/KG,,PMOL/KG,,FMOL/KG,,UMOL/KG,,UMOL/KG,,,,DEG C,/MILLE,,/MILLE,,/MILLE,PMOL/KG,,UG/KG,,UMOL/KG,,UMOL/KG,,UG/KG,,NMOL/KG,,/MILLE,,/MILLE,,/MILLE,/MILLE,,,,,,,,/MILLE,,/MILLE,/MILLE,/MILLE,,/MILLE,,/MILLE,,UMOL/KG,,NMOL/L,,/MILLE,,/MILLE,,/MILLE,
33RO20161119,        P18,      53,          1,          1,      11010,2,20161206,       1922,     0.5012,  -110.0003,       3800,  3838.8,   1.4805,  34.6910,2,  34.6918,2,    152.3,2,   150.3,2,   146.1,6,    36.3,6,    0.00,6,   2.455,6,   0.0026,2,   0.0015,2,   0.0000,2,  2336.6,6,  2433.4,2,   7.5946,6,    25.00, -999.00,9,  -999.0,9,  -999.0,        0,2, -999.00,9,  -999.0,9, -999.00,9, -999.00,9,    20.1844,2, -999.00,9,  -999.0,9,     -999.0,     -999.0,9,      38.06,2,     -999.0,      38.02,2,     -999.0,     -999.0,9,     -999.0,     -999.0,     -999.0,9,     -999.0,9,     -999.0,9,     -999.0,9,     -999.0,9,     -999.0,9,     -999.0,9,     -999.0,9
33RO20161119,        P18,      53,          1,          2,      11101,2,20161206,       1922,     0.5012,  -110.0003,       3800,  3449.6,   1.5671,  34.6840,2,  34.6840,2,    142.3,2,   141.6,2,   145.6,6,    36.9,6,    0.00,6,   2.505,6,   0.0031,2,   0.0018,2,   0.0000,2,  2338.1,2,  2428.1,6,   7.5680,2,    25.00, -999.00,9,  -999.0,9,  -999.0,        0,2, -999.00,9,  -999.0,9, -999.00,9, -999.00,9,    20.6628,2,    5.32,2,  -999.0,9,     -999.0,     -999.0,9,      37.92,2,     -999.0,      37.93,2,     -999.0,     -999.0,9,     -999.0,       0.38,     -999.0,9,     -999.0,9,     -999.0,9,     -999.0,9,     -999.0,9,     -999.0,9,     -999.0,9,     -999.0,9
33RO20161119,        P18,      53,          1,          3,      11102,2,20161206,       1922,     0.5012,  -110.0003,       3800,  3109.5,   1.6732,  34.6756,2,  34.6769,2,    134.1,2,   133.3,2,   143.9,6,    37.3,6,    0.00,6,   2.555,6,   0.0024,2,   0.0014,2,   0.0000,2,  2339.6,2,  2426.3,2,   7.5474,2,    25.00, -999.00,9,  -999.0,9,  -999.0,        0,2, -999.00,9,  -999.0,9, -999.00,9, -999.00,9,     22.077,2, -999.00,9,  -999.0,9,     -999.0,     -999.0,9,       37.9,2,     -999.0,      37.92,2,     -999.0,     -999.0,9,     -999.0,     -999.0,     -999.0,9,     -999.0,9,     -999.0,9,     -999.0,9,     -999.0,9,     -999.0,9,     -999.0,9,     -999.0,9
33RO20161119,        P18,      53,          1,          4,      11103,2,20161206,       1922,     0.5012,  -110.0003,       3800,  2825.4,   1.7833,  34.6712,2,  34.6712,2,    126.3,2,   126.0,2,   144.9,6,    37.8,6,    0.00,6,   2.594,6,   0.0046,2,   0.0027,2,   0.0557,2,  2348.0,2,  2430.5,2,   7.5423,2,    25.00, -999.00,9,  -999.0,9,  -999.0,        0,2, -999.00,9,  -999.0,9, -999.00,9, -999.00,9,    22.6044,2, -999.00,9,  -999.0,9,     -999.0,     -999.0,9,      38.05,2,     -999.0,      38.06,2,     -999.0,     -999.0,9,     -999.0,     -999.0,     -999.0,9,     -999.0,9,     -999.0,9,     -999.0,9,     -999.0,9,     -999.0,9,     -999.0,9,     -999.0,9
33RO20161119,        P18,      53,          1,          5,      11104,2,20161206,       1922,     0.5012,  -110.0003,       3800,  2528.4,   1.8692,  34.6646,2,  34.6660,2,    121.0,2,   120.8,2,   142.9,2,    38.2,2,    0.00,2,   2.623,2,   0.0020,2,   0.0009,2,   0.0313,2,  2345.9,2,  -999.0,5,   7.5285,2,    25.00, -999.00,9,  -999.0,9,  -999.0,        0,2, -999.00,9,  -999.0,9, -999.00,9, -999.00,9,     23.243,2, -999.00,9,  -999.0,9,     -999.0,     -999.0,9,      37.99,2,     -999.0,       38.0,2,     -999.0,     -999.0,9,     -999.0,     -999.0,     -999.0,9,     -999.0,9,     -999.0,9,     -999.0,9,     -999.0,9,     -999.0,9,     -999.0,9,     -999.0,9
33RO20161119,        P18,      53,          1,          6,      11105,2,20161206,       1922,     0.5012,  -110.0003,       3800,  2240.5,   2.0423,  34.6544,2,-999.0000,9,    112.5,2,   112.4,2,   140.7,2,    38.7,2,    0.00,2,   2.680,2,   0.0017,2,   0.0008,2,   0.0236,2,  2350.7,2,  2417.8,2,   7.5099,2,    25.00, -999.00,9,  -999.0,9,  -999.0,   0.0198,2, -999.00,9,  -999.0,9, -999.00,9, -999.00,9,    24.7494,2, -999.00,9,  -999.0,9,     -999.0,     -999.0,9,      37.97,2,     -999.0,      37.98,2,     -999.0,     -999.0,9,     -999.0,     -999.0,     -999.0,9,     -999.0,9,     -999.0,9,     -999.0,9,     -999.0,9,     -999.0,9,     -999.0,9,     -999.0,9
33RO20161119,        P18,      53,          1,          7,      11106,2,20161206,       1922,     0.5012,  -110.0003,       3800,  1945.7,   2.3242,  34.6408,2,  34.6407,2,    101.9,2,   101.4,2,   135.7,2,    39.3,2,    0.00,2,   2.749,2,   0.0092,2,   0.0059,2,   0.0253,2,  2350.6,6,  2411.7,2,   7.4920,2,    25.00, -999.00,9,  -999.0,9,  -999.0,        0,2, -999.00,9,  -999.0,9, -999.00,9, -999.00,9,    26.4894,2, -999.00,9,  -999.0,9,     -999.0,     -999.0,9,       37.8,2,     -999.0,      37.82,2,     -999.0,     -999.0,9,     -999.0,     -999.0,     -999.0,9,     -999.0,9,     -999.0,9,     -999.0,9,     -999.0,9,     -999.0,9,     -999.0,9,     -999.0,9
33RO20161119,        P18,      53,          1,          8,      11107,2,20161206,       1922,     0.5012,  -110.0003,       3800,  1655.1,   2.7830,  34.6177,2,  34.6252,4,     92.4,2,    91.9,2,   124.6,2,    40.0,2,    0.00,2,   2.809,2,   0.0019,6,   0.0012,6,   0.0000,6,  2344.0,2,  2397.9,2,   7.4737,2,    25.00, -999.00,9,  -999.0,9,  -999.0,        0,2, -999.00,9,  -999.0,9, -999.00,9, -999.00,9,    28.5729,2, -999.00,9,  -999.0,9,     -999.0,     -999.0,9,      38.11,2,     -999.0,      38.03,2,     -999.0,     -999.0,9,     -999.0,     -999.0,     -999.0,9,     -999.0,9,     -999.0,9,     -999.0,9,     -999.0,9,     -999.0,9,     -999.0,9,     -999.0,9
33RO20161119,        P18,      53,          1,          9,      11108,2,20161206,       1922,     0.5012,  -110.0003,       3800,  1394.8,   3.3859,  34.5929,2,  34.5932,2,     82.7,2,    82.4,2,   110.4,2,    40.4,2,    0.00,2,   2.851,2,   0.0047,2,   0.0019,2,   0.0000,2,  2333.5,2,  2389.4,2,   7.4569,2,    25.00, -999.00,9,  -999.0,9,  -999.0,        0,2, -999.00,9,  -999.0,9, -999.00,9, -999.00,9,    31.8304,2,    6.67,2,  -999.0,9,     -999.0,     -999.0,9,      37.98,2,     -999.0,      37.89,2,     -999.0,     -999.0,9,     -999.0,        0.3,     -999.0,9,     -999.0,9,     -999.0,9,     -999.0,9,     -999.0,9,     -999.0,9,     -999.0,9,     -999.0,9
33RO20161119,        P18,      53,          1,         10,      11109,2,20161206,       1922,     0.5012,  -110.0003,       3800,  1226.1,   3.8743,  34.5754,2,  34.5743,2,     80.5,2,    79.7,2,    98.4,2,    40.5,2,    0.00,2,   2.851,2,   0.0029,2,   0.0018,2,   0.0000,2,  2322.0,2,  2370.2,2,   7.4508,2,    25.00, -999.00,9,  -999.0,9,  -999.0,   0.0192,2, -999.00,9,  -999.0,9, -999.00,9, -999.00,9,    32.7536,2,    6.89,2,  -999.0,9,     -999.0,     -999.0,9,      37.95,2,     -999.0,      37.95,2,     -999.0,     -999.0,9,     -999.0,       0.64,     -999.0,9,     -999.0,9,     -999.0,9,     -999.0,9,     -999.0,9,     -999.0,9,     -999.0,9,     -999.0,9
33RO20161119,        P18,      53,          1,         11,      11110,2,20161206,       1922,     0.5012,  -110.0003,       3800,  1095.6,   4.4249,  34.5601,2,  34.5651,3,     77.6,2,    77.1,2,    85.9,2,    40.3,2,    0.00,2,   2.842,2,   0.0085,2,   0.0047,2,   0.0000,2,  2308.6,2,  2356.4,2,   7.4486,2,    25.00, -999.00,9,  -999.0,9,  -999.0,   0.0332,2, -999.00,9,  -999.0,9, -999.00,9, -999.00,9,    34.4322,2,    6.77,2,  -999.0,9,     -999.0,     -999.0,9,      37.82,2,     -999.0,      37.83,2,     -999.0,     -999.0,9,     -999.0,       0.11,     -999.0,9,     -999.0,9,     -999.0,9,     -999.0,9,     -999.0,9,     -999.0,9,     -999.0,9,     -999.0,9
33RO20161119,        P18,      53,          1,         12,      11111,2,20161206,       1922,     0.5012,  -110.0003,       3800,   970.0,   5.0460,  34.5493,2,  34.5490,2,     75.1,2,    74.4,2,    73.6,2,    39.9,2,    0.00,2,   2.811,2,   0.0233,2,   0.0126,2,   0.0000,2,  2295.1,2,  2342.8,2,   7.4456,2,    25.00, -999.00,9,  -999.0,9,  -999.0,   0.0556,2, -999.00,9,  -999.0,9, -999.00,9, -999.00,9,    35.8211,2,    7.28,2,  -999.0,9,     -999.0,     -999.0,9,      37.71,2,     -999.0,      37.71,2,     -999.0,     -999.0,9,     -999.0,       0.16,     -999.0,9,     -999.0,9,     -999.0,9,     -999.0,9,35.68259597,2,        8.6,2,      48.41,2,      21.59,2
33RO20161119,        P18,      53,          1,         13,      11112,2,20161206,       1922,     0.5012,  -110.0003,       3800,   850.5,   5.4390,  34.5459,2,  34.5466,2,     75.3,2,    74.3,2,    66.0,2,    39.5,2,    0.00,2,   2.768,2,   0.0450,2,   0.0219,2,   0.0230,2,  2287.2,2,  2336.8,2,   7.4497,2,    25.00, -999.00,9,  -999.0,9,  -999.0,   0.0548,2, -999.00,9,  -999.0,9, -999.00,9, -999.00,9,    35.8615,2,    7.18,2,  -999.0,9,     -999.0,     -999.0,9,      37.71,2,     -999.0,      37.71,2,     -999.0,     -999.0,9,     -999.0,       0.03,     -999.0,9,     -999.0,9,     -999.0,9,     -999.0,9,36.40450889,2,       8.49,2,      48.61,2,      21.67,2
33RO20161119,        P18,      53,          1,         14,      11113,2,20161206,       1922,     0.5012,  -110.0003,       3800,   734.6,   6.0528,  34.5498,2,  34.5493,2,     72.1,2,    71.4,2,    56.0,2,    39.0,2,    0.00,2,   2.726,2,   0.0849,2,   0.0468,2,   0.0183,2,  2275.8,2,  2324.7,2,   7.4518,2,    25.00, -999.00,9,  -999.0,9,  -999.0,   0.0819,2, -999.00,9,  -999.0,9, -999.00,9, -999.00,9,    38.5087,2,    7.38,2,  -999.0,9,     -999.0,     -999.0,9,      37.92,2,     -999.0,      37.93,2,     -999.0,     -999.0,9,     -999.0,       0.06,     -999.0,9,     -999.0,9,     -999.0,9,     -999.0,9,38.43650508,2,       8.12,2,      47.38,2,      15.31,2
33RO20161119,        P18,      53,          1,         15,      11114,2,20161206,       1922,     0.5012,  -110.0003,       3800,   620.1,   7.3474,  34.5899,2,  34.5903,2,     49.4,2,    49.8,2,    44.7,2,    39.0,2,    0.00,2,   2.705,2,   0.1685,2,   0.0919,2,   0.0000,2,  2271.9,2,  2308.7,2,   7.4287,2,    25.00, -999.00,9,  -999.0,9,  -999.0,    0.048,2, -999.00,9,  -999.0,9, -999.00,9, -999.00,9,    45.9167,2,    7.64,2,  -999.0,9,     -999.0,     -999.0,9,      38.11,2,     -999.0,      37.93,2,     -999.0,     -999.0,9,     -999.0,       0.39,     -999.0,9,     -999.0,9,     -999.0,9,     -999.0,9,46.16080489,2,       7.36,2,      47.22,2,      12.49,2
33RO20161119,        P18,      53,          1,         16,      11115,2,20161206,       1922,     0.5012,  -110.0003,       3800,   510.3,   8.3286,  34.6377,2,  34.6401,2,     23.9,2,    23.9,2,    41.2,2,    39.4,2,    0.00,2,   2.736,2,   0.2139,2,   0.1173,2,   0.0341,2,  2279.0,2,  2305.7,6,   7.3880,2,    25.00, -999.00,9,  -999.0,9,  -999.0,   0.0662,2, -999.00,9,  -999.0,9, -999.00,9, -999.00,9,    56.0409,2,    8.44,2,  -999.0,9,     -999.0,     -999.0,9,      37.89,2,     -999.0,      37.91,2,     -999.0,     -999.0,9,     -999.0,       0.73,     -999.0,9,     -999.0,9,     -999.0,9,     -999.0,9,56.05455202,2,       6.89,2,      46.93,2,      15.13,2
33RO20161119,        P18,      53,          1,         17,      11116,2,20161206,       1922,     0.5012,  -110.0003,       3800,   410.1,   9.7476,  34.7158,2,  34.7156,2,     10.8,2,    12.2,6,    34.8,2,    37.3,2,    0.00,2,   2.589,2,   0.4529,2,   0.2454,2,   0.1151,2,  2274.0,2,  2301.0,2,   7.3893,6,    25.00, -999.00,9,  -999.0,9,  -999.0,   0.0725,2, -999.00,9,  -999.0,9, -999.00,9, -999.00,9,    65.2486,2,    8.21,2,  -999.0,9,     -999.0,     -999.0,9,      38.03,2,     -999.0,      38.03,2,     -999.0,     -999.0,9,     -999.0,       0.05,     -999.0,9,     -999.0,9,     -999.0,9,     -999.0,9,65.95351714,2,       6.07,2,      46.72,2,       5.22,2
33RO20161119,        P18,      53,          1,         18,      11117,2,20161206,       1922,     0.5012,  -110.0003,       3800,   315.5,  10.6644,  34.7661,2,  34.7695,2,     18.6,2,    17.5,6,    30.1,2,    34.9,2,    0.01,2,   2.440,2,   0.7005,2,   0.3896,2,   0.1678,2,  2261.1,2,  2298.8,2,   7.4228,2,    25.00, -999.00,9,  -999.0,9,  -999.0,   0.1293,2, -999.00,9,  -999.0,9, -999.00,9, -999.00,9,    62.3641,2,    8.66,2,  -999.0,9,     -999.0,     -999.0,9,      37.93,2,     -999.0,      37.96,2,     -999.0,     -999.0,9,     -999.0,       0.35,     -999.0,9,     -999.0,9,     -999.0,9,     -999.0,9,62.43892905,2,       5.74,2,      45.44,2,      11.47,2
33RO20161119,        P18,      53,          1,         19,      11083,2,20161206,       1922,     0.5012,  -110.0003,       3800,   235.7,  12.3250,  34.8686,2,  34.8684,2,     52.8,2,    51.9,2,    22.3,2,    29.0,2,    0.01,2,   2.021,2,   1.2598,2,   0.7035,2,   0.3550,2,  2224.6,2,  2304.4,2,   7.5390,2,    25.00, -999.00,9,  -999.0,9,  -999.0,   0.2016,2, -999.00,9,  -999.0,9, -999.00,9, -999.00,9,     49.569,2,    7.05,2,  -999.0,9,     -999.0,     -999.0,9,      38.01,2,     -999.0,      38.04,2,     -999.0,     -999.0,9,     -999.0,       0.08,     -999.0,9,     -999.0,9,     -999.0,9,     -999.0,9,49.75364014,2,       5.35,2,      42.82,2,      11.54,2
33RO20161119,        P18,      53,          1,         20,      11118,2,20161206,       1922,     0.5012,  -110.0003,       3800,   165.1,  12.8981,  34.8879,2,  34.8884,2,     75.4,2,    79.9,2,    19.1,2,    25.2,2,    0.01,2,   1.782,2,   1.5078,6,   0.8458,6,   0.5063,6,  2197.3,2,  2302.3,2,   7.6145,2,    25.00, -999.00,9,  -999.0,9,  -999.0,   0.1586,2, -999.00,9,  -999.0,9, -999.00,9, -999.00,9,    39.5356,2,    7.02,2,  -999.0,9,     -999.0,     -999.0,9,       37.9,2,     -999.0,      37.92,2,     -999.0,     -999.0,9,     -999.0,       0.52,     -999.0,9,     -999.0,9,     -999.0,9,     -999.0,9,40.21791024,2,       5.61,2,      42.37,2,      14.57,2
33RO20161119,        P18,      53,          1,         21,      11119,2,20161206,       1922,     0.5012,  -110.0003,       3800,   100.4,  14.3646,  34.9313,2,  34.9313,2,     72.6,2,    72.8,2,    16.8,2,    24.2,2,    0.04,2,   1.710,2,   1.6684,2,   0.9609,2,   0.6116,2,  2191.9,2,  2300.7,2,   7.6274,2,    25.00, -999.00,9,  -999.0,9,  -999.0,   0.2118,2, -999.00,9,  -999.0,9, -999.00,9, -999.00,9,    39.5525,2,     6.8,2,  -999.0,9,     -999.0,     -999.0,9,      37.99,2,     -999.0,       38.0,2,     -999.0,     -999.0,9,     -999.0,       0.32,     -999.0,9,     -999.0,9,     -999.0,9,     -999.0,9,39.28374072,2,       5.18,2,      39.67,2,       3.94,2
33RO20161119,        P18,      53,          1,         22,      11120,2,20161206,       1922,     0.5012,  -110.0003,       3800,    50.4,  16.7284,  34.9486,2,  34.9481,2,     83.9,2,    81.1,2,    13.3,2,    21.4,2,    0.50,2,   1.576,2,   1.7580,2,   1.0317,2,   0.8109,2,  2172.2,2,  2299.8,6,   7.6733,2,    25.00, -999.00,9,  -999.0,9,  -999.0,   0.8099,2, -999.00,9,  -999.0,9, -999.00,9, -999.00,9,    34.3988,2, -999.00,9,  -999.0,9,     -999.0,     -999.0,9,      38.03,2,     -999.0,      38.05,2,     -999.0,     -999.0,9,     -999.0,     -999.0,     -999.0,9,     -999.0,9,     -999.0,9,     -999.0,9,35.20382246,2,       4.67,2,      39.67,2,      11.96,2
33RO20161119,        P18,      53,          1,         23,      11121,2,20161206,       1922,     0.5012,  -110.0003,       3800,    20.8,  19.7299,  34.7946,2,  34.8037,2,    153.3,2,   149.5,2,     8.9,2,    14.4,2,    0.51,2,   1.151,2,   1.8237,2,   1.0996,2,   1.0890,2,  2112.2,2,  2291.0,2,   7.8053,2,    25.00, -999.00,9,  -999.0,9,  -999.0,   1.2718,2, -999.00,9,  -999.0,9, -999.00,9, -999.00,9,    22.4365,2,    10.0,2,  -999.0,9,     -999.0,     -999.0,9,      37.99,2,     -999.0,      38.01,2,     -999.0,     -999.0,9,     -999.0,       0.15,     -999.0,9,     -999.0,9,     -999.0,9,     -999.0,9,23.64126213,2,       4.79,2,      40.51,2,      16.54,2
33RO20161119,        P18,      53,          1,         24,      11122,2,20161206,       1922,     0.5012,  -110.0003,       3800,     3.3,  22.2148,  34.8825,2,  34.8820,2,    168.3,4,   201.2,2,     7.3,2,    10.8,2,    0.27,2,   0.882,2,   1.8977,2,   1.1563,2,   1.3502,2,  2086.3,6,  2294.8,2,   7.8777,2,    25.00, -999.00,9,  -999.0,9,  -999.0,        0,2, -999.00,9,  -999.0,9, -999.00,9, -999.00,9,    12.2377,2,   13.15,2,  -999.0,9,     -999.0,     -999.0,9,       38.0,2,     -999.0,      38.01,2,     -999.0,     -999.0,9,     -999.0,       0.17,     -999.0,9,     -999.0,9,     -999.0,9,     -999.0,9,12.78174024,2,       5.36,2,      43.14,2,      17.48,2