BOTTLE,20230606CCHSIOCBG
EXPOCODE,SECT_ID,STNNBR,CASTNO,SAMPNO,BTLNBR,BTLNBR_FLAG_W,DATE,TIME,LATITUDE,LONGITUDE,DEPTH,CTDPRS,CTDTMP,CTDSAL,CTDSAL_FLAG_W,SALNTY,SALNTY_FLAG_W,CTDOXY,CTDOXY_FLAG_W,OXYGEN,OXYGEN_FLAG_W,SILCAT,SILCAT_FLAG_W,NITRAT,NITRAT_FLAG_W,NITRIT,NITRIT_FLAG_W,PHSPHT,PHSPHT_FLAG_W,CFC-11,CFC-11_FLAG_W,CFC-12,CFC-12_FLAG_W,SF6,SF6_FLAG_W,TCARBN,TCARBN_FLAG_W,ALKALI,ALKALI_FLAG_W,PH_SWS,PH_SWS_FLAG_W,PH_TMP,DELC13,DELC13_FLAG_W,DELC14,DELC14_FLAG_W,C14ERR,CCL4,CCL4_FLAG_W,POC,POC_FLAG_W,DOC,DOC_FLAG_W,TDN,TDN_FLAG_W,PON,PON_FLAG_W,N2O,N2O_FLAG_W,D15N_NO3,D15N_NO3_FLAG_W,14C-DOC,14C-DOC_FLAG_W,14C-DOCERR,13C-DOC,13C-DOC_FLAG_W,N2/ARGON_UNSTRIPPED,N2/ARGON_UNSTRIPPED_FLAG_W,N2/ARGON_UNSTRIPPED_ERROR,N2/ARGON,N2/ARGON_FLAG_W,N2/ARGON_ERROR,D15N_N2,D15N_N2_FLAG_W,D15N_N2_ERROR,D15N_NO3_ERROR,D15N_NO2+NO3,D15N_NO2+NO3_FLAG_W,D18O_NO2+NO3,D18O_NO2+NO3_FLAG_W,D18O_NO3,D18O_NO3_FLAG_W,TDP,TDP_FLAG_W,N2O_ALT_1,N2O_ALT_1_FLAG_W,D15N_N2O,D15N_N2O_FLAG_W,D18O_N2O,D18O_N2O_FLAG_W,D15N_ALPHA_N2O,D15N_ALPHA_N2O_FLAG_W
,,,,,,,,,,,METERS,DBAR,ITS-90,PSS-78,,PSS-78,,UMOL/KG,,UMOL/KG,,UMOL/KG,,UMOL/KG,,UMOL/KG,,UMOL/KG,,PMOL/KG,,PMOL/KG,,FMOL/KG,,UMOL/KG,,UMOL/KG,,,,DEG C,/MILLE,,/MILLE,,/MILLE,PMOL/KG,,UG/KG,,UMOL/KG,,UMOL/KG,,UG/KG,,NMOL/KG,,/MILLE,,/MILLE,,/MILLE,/MILLE,,,,,,,,/MILLE,,/MILLE,/MILLE,/MILLE,,/MILLE,,/MILLE,,UMOL/KG,,NMOL/L,,/MILLE,,/MILLE,,/MILLE,
33RO20161119,        P18,     143,          1,          1,      11010,2,20170107,       2255,   -37.5003,  -102.9994,       3477,  3517.3,   1.4567,  34.7033,2,  34.7195,4,    180.7,2,   181.1,2,   119.0,2,    33.9,2,    0.02,2,   2.366,2,-999.0000,9,-999.0000,9,-999.0000,9,  2285.9,6,  2383.7,2,   7.5950,6,    25.00, -999.00,9,  -999.0,9,  -999.0,-999.0000,9, -999.00,9,    37.7,2,   36.70,2, -999.00,9,     -999.0,9, -999.00,9,  -999.0,9,     -999.0,     -999.0,9,     -999.0,9,     -999.0,     -999.0,9,     -999.0,     -999.0,9,     -999.0,     -999.0,     -999.0,9,     -999.0,9,     -999.0,9,     -999.0,9,     -999.0,9,     -999.0,9,     -999.0,9,     -999.0,9
33RO20161119,        P18,     143,          1,          2,      11101,2,20170107,       2255,   -37.5003,  -102.9994,       3477,  3191.3,   1.7262,  34.6965,2,  34.6946,2,    171.8,2,   171.4,2,   114.0,6,    34.3,6,    0.01,6,   2.404,6,-999.0000,9,-999.0000,9,-999.0000,9,  2287.7,2,  2380.7,6,   7.5850,2,    25.00, -999.00,9,  -999.0,9,  -999.0,-999.0000,9, -999.00,9,    38.8,2,   35.60,2, -999.00,9,     -999.0,9, -999.00,9,  -999.0,9,     -999.0,     -999.0,9,     -999.0,9,     -999.0,     -999.0,9,     -999.0,     -999.0,9,     -999.0,     -999.0,     -999.0,9,     -999.0,9,     -999.0,9,     -999.0,9,     -999.0,9,     -999.0,9,     -999.0,9,     -999.0,9
33RO20161119,        P18,     143,          1,          3,      11102,2,20170107,       2255,   -37.5003,  -102.9994,       3477,  2864.0,   1.7849,  34.6894,2,  34.6871,2,    167.1,2,   167.0,2,   114.7,6,    34.7,6,    0.01,6,   2.427,6,-999.0000,9,-999.0000,9,-999.0000,9,  2291.2,2,  2388.8,3,   7.5796,2,    25.00, -999.00,9,  -999.0,9,  -999.0,-999.0000,9, -999.00,9,    40.3,2,   38.00,2, -999.00,9,     -999.0,9, -999.00,9,  -999.0,9,     -999.0,     -999.0,9,     -999.0,9,     -999.0,     -999.0,9,     -999.0,     -999.0,9,     -999.0,     -999.0,     -999.0,9,     -999.0,9,     -999.0,9,     -999.0,9,     -999.0,9,     -999.0,9,     -999.0,9,     -999.0,9
33RO20161119,        P18,     143,          1,          4,      11103,2,20170107,       2255,   -37.5003,  -102.9994,       3477,  2610.1,   1.8250,  34.6855,2,  34.6826,2,    165.4,2,   165.4,2,   113.1,6,    34.8,6,    0.01,6,   2.427,6,-999.0000,9,-999.0000,9,-999.0000,9,  2291.9,2,  2382.1,2,   7.5757,2,    25.00, -999.00,9,  -999.0,9,  -999.0,-999.0000,9, -999.00,9,    39.4,2,   36.80,2, -999.00,9,     -999.0,9, -999.00,9,  -999.0,9,     -999.0,     -999.0,9,     -999.0,9,     -999.0,     -999.0,9,     -999.0,     -999.0,9,     -999.0,     -999.0,     -999.0,9,     -999.0,9,     -999.0,9,     -999.0,9,     -999.0,9,     -999.0,9,     -999.0,9,     -999.0,9
33RO20161119,        P18,     143,          1,          5,      11104,2,20170107,       2255,   -37.5003,  -102.9994,       3477,  2329.0,   1.9553,  34.6703,2,  34.6687,2,    161.8,2,   162.2,6,   108.6,6,    35.1,6,    0.00,6,   2.438,6,-999.0000,9,-999.0000,9,-999.0000,9,  2288.6,2,  2377.4,2,   7.5683,6,    25.00, -999.00,9,  -999.0,9,  -999.0,-999.0000,9, -999.00,9,    38.4,2,   38.50,2, -999.00,9,     -999.0,9, -999.00,9,  -999.0,9,     -999.0,     -999.0,9,     -999.0,9,     -999.0,     -999.0,9,     -999.0,     -999.0,9,     -999.0,     -999.0,     -999.0,9,     -999.0,9,     -999.0,9,     -999.0,9,     -999.0,9,     -999.0,9,     -999.0,9,     -999.0,9
33RO20161119,        P18,     143,          1,          6,      11105,2,20170107,       2255,   -37.5003,  -102.9994,       3477,  2054.4,   2.2088,  34.6316,2,  34.6320,2,    149.8,2,   149.7,2,   104.9,6,    36.3,6,    0.01,6,   2.526,6,-999.0000,9,-999.0000,9,-999.0000,9,  2293.2,2,  2372.9,2,   7.5488,2,    25.00, -999.00,9,  -999.0,9,  -999.0,-999.0000,9, -999.00,9,    37.9,2,   38.80,2, -999.00,9,     -999.0,9, -999.00,9,  -999.0,9,     -999.0,     -999.0,9,     -999.0,9,     -999.0,     -999.0,9,     -999.0,     -999.0,9,     -999.0,     -999.0,     -999.0,9,     -999.0,9,     -999.0,9,     -999.0,9,     -999.0,9,     -999.0,9,     -999.0,9,     -999.0,9
33RO20161119,        P18,     143,          1,          7,      11106,2,20170107,       2255,   -37.5003,  -102.9994,       3477,  1795.3,   2.4932,  34.5982,2,  34.5980,2,    137.4,2,   137.3,2,    99.6,2,    37.5,2,    0.00,2,   2.623,2,-999.0000,9,-999.0000,9,-999.0000,9,  2296.8,2,  2367.2,2,   7.5247,2,    25.00, -999.00,9,  -999.0,9,  -999.0,-999.0000,9, -999.00,9,    37.2,2,   39.90,2, -999.00,9,     -999.0,9, -999.00,9,  -999.0,9,     -999.0,     -999.0,9,     -999.0,9,     -999.0,     -999.0,9,     -999.0,     -999.0,9,     -999.0,     -999.0,     -999.0,9,     -999.0,9,     -999.0,9,     -999.0,9,     -999.0,9,     -999.0,9,     -999.0,9,     -999.0,9
33RO20161119,        P18,     143,          1,          8,      11107,2,20170107,       2255,   -37.5003,  -102.9994,       3477,  1531.4,   2.9134,  34.5467,2,  34.5470,2,    126.8,2,   126.4,2,    87.4,2,    38.6,2,    0.02,2,   2.716,2,   0.0075,2,   0.0036,2,   0.0000,2,  2291.6,6,  2354.5,2,   7.5024,2,    25.00, -999.00,9,  -999.0,9,  -999.0,   2.5365,2, -999.00,9,    37.9,2,   43.00,2, -999.00,9,    26.7864,2, -999.00,9,  -999.0,9,     -999.0,     -999.0,9,     -999.0,9,     -999.0,     -999.0,9,     -999.0,     -999.0,9,     -999.0,     -999.0,     -999.0,9,     -999.0,9,     -999.0,9,     -999.0,9,     -999.0,9,     -999.0,9,     -999.0,9,     -999.0,9
33RO20161119,        P18,     143,          1,          9,      11108,2,20170107,       2255,   -37.5003,  -102.9994,       3477,  1290.4,   3.2856,  34.4573,2,  34.4586,2,    140.8,2,   139.7,2,    66.0,2,    37.9,2,    0.00,2,   2.657,2,-999.0000,9,-999.0000,9,-999.0000,9,  2263.6,2,  2330.6,6,   7.5103,2,    25.00, -999.00,9,  -999.0,9,  -999.0,-999.0000,9, -999.00,9,    40.5,2,   39.90,2, -999.00,9,     -999.0,9, -999.00,9,  -999.0,9,     -999.0,     -999.0,9,     -999.0,9,     -999.0,     -999.0,9,     -999.0,     -999.0,9,     -999.0,     -999.0,     -999.0,9,     -999.0,9,     -999.0,9,     -999.0,9,     -999.0,9,     -999.0,9,     -999.0,9,     -999.0,9
33RO20161119,        P18,     143,          1,         10,      11109,2,20170107,       2255,   -37.5003,  -102.9994,       3477,  1130.7,   3.6749,  34.3640,2,  34.3629,2,    171.4,2,   171.0,2,    46.1,2,    35.4,2,    0.01,2,   2.443,2,   0.3707,6,   0.1840,6,   0.0808,6,  2227.5,2,  2310.0,2,   7.5542,2,    25.00, -999.00,9,  -999.0,9,  -999.0,   2.6677,2, -999.00,9,    39.9,2,   38.50,2, -999.00,9,    23.3627,2, -999.00,9,  -999.0,9,     -999.0,     -999.0,9,     -999.0,9,     -999.0,     -999.0,9,     -999.0,     -999.0,9,     -999.0,     -999.0,     -999.0,9,     -999.0,9,     -999.0,9,     -999.0,9,     -999.0,9,     -999.0,9,     -999.0,9,     -999.0,9
33RO20161119,        P18,     143,          1,         11,      11110,2,20170107,       2255,   -37.5003,  -102.9994,       3477,  1011.2,   4.1005,  34.3136,2,  34.3118,2,    191.3,2,   191.5,2,    33.8,2,    33.2,2,    0.01,2,   2.284,2,-999.0000,9,-999.0000,9,-999.0000,9,  2205.6,2,  2300.2,2,   7.5879,2,    25.00, -999.00,9,  -999.0,9,  -999.0,-999.0000,9, -999.00,9,    43.7,2,   35.30,2, -999.00,9,     -999.0,9, -999.00,9,  -999.0,9,     -999.0,     -999.0,9,     -999.0,9,     -999.0,     -999.0,9,     -999.0,     -999.0,9,     -999.0,     -999.0,     -999.0,9,     -999.0,9,     -999.0,9,     -999.0,9,     -999.0,9,     -999.0,9,     -999.0,9,     -999.0,9
33RO20161119,        P18,     143,          1,         12,      11111,2,20170107,       2255,   -37.5003,  -102.9994,       3477,   894.9,   4.6879,  34.2768,2,  34.2757,2,    211.2,2,   210.3,2,    23.0,2,    30.6,2,    0.02,2,   2.103,2,   1.8673,2,   0.9112,2,   0.3394,2,  2184.2,2,  2286.7,2,   7.6231,2,    25.00, -999.00,9,  -999.0,9,  -999.0,   2.3286,2, -999.00,9,    42.7,2,   33.00,2, -999.00,9,    18.8009,2, -999.00,9,  -999.0,9,     -999.0,     -999.0,9,     -999.0,9,     -999.0,     -999.0,9,     -999.0,     -999.0,9,     -999.0,     -999.0,     -999.0,9,     -999.0,9,     -999.0,9,     -999.0,9,     -999.0,9,     -999.0,9,     -999.0,9,     -999.0,9
33RO20161119,        P18,     143,          1,         13,      11112,2,20170107,       2255,   -37.5003,  -102.9994,       3477,   786.0,   5.1539,  34.2631,2,  34.2626,2,    227.7,2,   226.6,2,    16.6,2,    28.2,2,    0.02,2,   1.946,2,-999.0000,9,-999.0000,9,-999.0000,9,  2171.8,2,  2284.7,3,   7.6527,2,    25.00, -999.00,9,  -999.0,9,  -999.0,-999.0000,9, -999.00,9,    40.0,2,   30.60,2, -999.00,9,     -999.0,9, -999.00,9,  -999.0,9,     -999.0,     -999.0,9,     -999.0,9,     -999.0,     -999.0,9,     -999.0,     -999.0,9,     -999.0,     -999.0,     -999.0,9,     -999.0,9,     -999.0,9,     -999.0,9,     -999.0,9,     -999.0,9,     -999.0,9,     -999.0,9
33RO20161119,        P18,     143,          1,         14,      11113,2,20170107,       2255,   -37.5003,  -102.9994,       3477,   668.2,   5.6654,  34.2680,2,  34.2677,2,    241.2,2,   242.0,2,    11.3,2,    25.8,2,    0.01,2,   1.784,2,   3.4733,2,   1.7837,2,   0.9051,2,  2156.3,2,  2276.8,2,   7.6824,2,    25.00, -999.00,9,  -999.0,9,  -999.0,   1.1802,2, -999.00,9,    42.0,2,   28.60,2, -999.00,9,    15.6351,2, -999.00,9,  -999.0,9,     -999.0,     -999.0,9,     -999.0,9,     -999.0,     -999.0,9,     -999.0,     -999.0,9,     -999.0,     -999.0,     -999.0,9,     -999.0,9,     -999.0,9,     -999.0,9,     -999.0,9,     -999.0,9,     -999.0,9,     -999.0,9
33RO20161119,        P18,     143,          1,         15,      11114,2,20170107,       2255,   -37.5003,  -102.9994,       3477,   569.9,   6.0063,  34.2740,2,  34.2726,2,    246.7,2,   245.6,2,     8.8,2,    24.7,2,    0.01,2,   1.715,2,   3.9463,2,   2.0537,2,   1.1970,2,  2150.3,2,  2273.4,2,   7.6874,2,    25.00, -999.00,9,  -999.0,9,  -999.0,   1.6143,2, -999.00,9,    42.2,2,   27.50,2, -999.00,9,    16.6313,2, -999.00,9,  -999.0,9,     -999.0,     -999.0,9,     -999.0,9,     -999.0,     -999.0,9,     -999.0,     -999.0,9,     -999.0,     -999.0,     -999.0,9,     -999.0,9,     -999.0,9,     -999.0,9,     -999.0,9,     -999.0,9,     -999.0,9,     -999.0,9
33RO20161119,        P18,     143,          1,         16,      11115,2,20170107,       2255,   -37.5003,  -102.9994,       3477,   475.5,   6.3631,  34.2958,2,  34.2940,2,    247.0,2,   246.1,2,     7.8,2,    23.7,2,    0.01,2,   1.675,2,   4.0365,2,   2.1326,2,   1.3484,2,  2150.5,2,  2272.8,2,   7.6865,2,    25.00, -999.00,9,  -999.0,9,  -999.0,   2.7358,2, -999.00,9,    41.5,2,   27.00,2, -999.00,9,    17.0994,2, -999.00,9,  -999.0,9,     -999.0,     -999.0,9,     -999.0,9,     -999.0,     -999.0,9,     -999.0,     -999.0,9,     -999.0,     -999.0,     -999.0,9,     -999.0,9,     -999.0,9,     -999.0,9,     -999.0,9,     -999.0,9,     -999.0,9,     -999.0,9
33RO20161119,        P18,     143,          1,         17,      11116,2,20170107,       2255,   -37.5003,  -102.9994,       3477,   385.3,   6.7549,  34.3109,2,  34.3106,2,    241.8,2,   242.0,2,     6.6,2,    22.9,2,    0.02,2,   1.617,2,   4.0569,2,   2.1321,2,   1.3643,2,  2151.0,2,  2273.3,2,   7.6924,2,    25.00, -999.00,9,  -999.0,9,  -999.0,   2.5678,2, -999.00,9,    44.7,2,   25.60,2, -999.00,9,    19.0087,2, -999.00,9,  -999.0,9,     -999.0,     -999.0,9,     -999.0,9,     -999.0,     -999.0,9,     -999.0,     -999.0,9,     -999.0,     -999.0,     -999.0,9,     -999.0,9,     -999.0,9,     -999.0,9,     -999.0,9,     -999.0,9,     -999.0,9,     -999.0,9
33RO20161119,        P18,     143,          1,         18,      11117,2,20170107,       2255,   -37.5003,  -102.9994,       3477,   299.2,   7.4225,  34.2662,2,  34.2671,2,    239.3,2,   239.6,2,     4.7,2,    21.4,2,    0.03,2,   1.541,2,   3.9439,2,   2.1672,2,   1.6976,2,  2145.0,2,  2273.8,2,   7.7009,2,    25.00, -999.00,9,  -999.0,9,  -999.0,   2.6225,2, -999.00,9,    43.2,2,   23.50,2, -999.00,9,    22.9826,2, -999.00,9,  -999.0,9,     -999.0,     -999.0,9,     -999.0,9,     -999.0,     -999.0,9,     -999.0,     -999.0,9,     -999.0,     -999.0,     -999.0,9,     -999.0,9,     -999.0,9,     -999.0,9,     -999.0,9,     -999.0,9,     -999.0,9,     -999.0,9
33RO20161119,        P18,     143,          1,         19,      11083,2,20170107,       2255,   -37.5003,  -102.9994,       3477,   219.5,   9.3789,  34.2293,2,  34.2264,2,    233.2,2,   231.8,2,     2.0,2,    17.4,2,    0.03,2,   1.289,2,   3.5908,2,   2.0415,2,   1.9288,2,  2124.7,2,  2264.7,2,   7.7359,2,    25.00, -999.00,9,  -999.0,9,  -999.0,   0.0227,2, -999.00,9,    46.1,2,   18.90,2, -999.00,9,    23.5806,2, -999.00,9,  -999.0,9,     -999.0,     -999.0,9,     -999.0,9,     -999.0,     -999.0,9,     -999.0,     -999.0,9,     -999.0,     -999.0,     -999.0,9,     -999.0,9,     -999.0,9,       1.26,3,     -999.0,9,     -999.0,9,     -999.0,9,     -999.0,9
33RO20161119,        P18,     143,          1,         20,      11118,2,20170107,       2255,   -37.5003,  -102.9994,       3477,   154.3,  11.3070,  34.1586,2,  34.1596,2,    234.5,2,   234.8,6,     0.8,2,    12.4,2,    0.23,2,   1.004,2,   3.2379,2,   1.8796,2,   2.0569,2,  2098.9,2,  2259.5,2,   7.7928,2,    25.00, -999.00,9,  -999.0,9,  -999.0,   0.0115,2, -999.00,9,    48.5,2,   16.00,2, -999.00,9,    16.2117,2, -999.00,9,  -999.0,9,     -999.0,     -999.0,9,     -999.0,9,     -999.0,     -999.0,9,     -999.0,     -999.0,9,     -999.0,     -999.0,     -999.0,9,     -999.0,9,     -999.0,9,       1.22,2,     -999.0,9,     -999.0,9,     -999.0,9,     -999.0,9
33RO20161119,        P18,     143,          1,         21,      11119,2,20170107,       2255,   -37.5003,  -102.9994,       3477,    95.0,  13.2808,  34.0729,2,  34.0700,2,    256.7,2,   255.1,2,     0.3,2,     4.5,2,    0.20,2,   0.577,2,   2.9049,2,   1.6985,2,   2.0975,2,  2054.3,2,  2255.5,2,   7.8828,2,    25.00, -999.00,9,  -999.0,9,  -999.0,   0.0208,2, -999.00,9,    57.6,2,    8.00,2, -999.00,9,     9.9635,2, -999.00,9,  -999.0,9,     -999.0,     -999.0,9,     -999.0,9,     -999.0,     -999.0,9,     -999.0,     -999.0,9,     -999.0,     -999.0,     -999.0,9,     -999.0,9,     -999.0,9,       0.83,2,     -999.0,9,     -999.0,9,     -999.0,9,     -999.0,9
33RO20161119,        P18,     143,          1,         22,      11120,2,20170107,       2255,   -37.5003,  -102.9994,       3477,    50.2,  14.9482,  34.1655,2,  34.1694,2,    268.9,2,   266.6,2,     0.3,2,     1.7,2,    0.07,2,   0.357,2,   2.7521,2,   1.6275,2,   2.0742,2,  2034.8,2,  2260.2,6,   7.9299,2,    25.00, -999.00,9,  -999.0,9,  -999.0,   0.0176,2, -999.00,9,    60.7,2,    5.10,2, -999.00,9,     9.3566,2, -999.00,9,  -999.0,9,     -999.0,     -999.0,9,     -999.0,9,     -999.0,     -999.0,9,     -999.0,     -999.0,9,     -999.0,     -999.0,     -999.0,9,     -999.0,9,     -999.0,9,       0.67,2,     -999.0,9,     -999.0,9,     -999.0,9,     -999.0,9
33RO20161119,        P18,     143,          1,         23,      11121,2,20170107,       2255,   -37.5003,  -102.9994,       3477,    20.2,  18.3841,  34.0048,2,-999.0000,9,    239.8,2,  -999.0,9,  -999.0,9,  -999.0,9, -999.00,9,-999.000,9,-999.0000,9,-999.0000,9,-999.0000,9,  -999.0,9,  -999.0,9,-999.0000,9,  -999.00, -999.00,9,  -999.0,9,  -999.0,-999.0000,9, -999.00,9,  -999.0,9, -999.00,9, -999.00,9,     -999.0,9, -999.00,9,  -999.0,9,     -999.0,     -999.0,9,     -999.0,9,     -999.0,     -999.0,9,     -999.0,     -999.0,9,     -999.0,     -999.0,     -999.0,9,     -999.0,9,     -999.0,9,     -999.0,9,     -999.0,9,     -999.0,9,     -999.0,9,     -999.0,9
33RO20161119,        P18,     143,          1,         24,      11122,2,20170107,       2255,   -37.5003,  -102.9994,       3477,     3.0,  18.8219,  33.9609,2,  33.9534,2,    234.0,2,   237.5,2,     0.3,2,     2.5,2,    0.08,2,   0.423,2,   2.3005,2,   1.3938,2,   1.8000,2,  2027.4,6,  2250.5,2,   7.9208,2,    25.00, -999.00,9,  -999.0,9,  -999.0,   0.0225,2, -999.00,9,    62.3,2,    6.50,2, -999.00,9,     8.0447,2, -999.00,9,  -999.0,9,     -999.0,     -999.0,9,     -999.0,9,     -999.0,     -999.0,9,     -999.0,     -999.0,9,     -999.0,     -999.0,     -999.0,9,     -999.0,9,     -999.0,9,       0.62,2,     -999.0,9,     -999.0,9,     -999.0,9,     -999.0,9