BOTTLE,20230606CCHSIOCBG
EXPOCODE,SECT_ID,STNNBR,CASTNO,SAMPNO,BTLNBR,BTLNBR_FLAG_W,DATE,TIME,LATITUDE,LONGITUDE,DEPTH,CTDPRS,CTDTMP,CTDSAL,CTDSAL_FLAG_W,SALNTY,SALNTY_FLAG_W,CTDOXY,CTDOXY_FLAG_W,OXYGEN,OXYGEN_FLAG_W,SILCAT,SILCAT_FLAG_W,NITRAT,NITRAT_FLAG_W,NITRIT,NITRIT_FLAG_W,PHSPHT,PHSPHT_FLAG_W,CFC-11,CFC-11_FLAG_W,CFC-12,CFC-12_FLAG_W,SF6,SF6_FLAG_W,TCARBN,TCARBN_FLAG_W,ALKALI,ALKALI_FLAG_W,PH_SWS,PH_SWS_FLAG_W,PH_TMP,DELC13,DELC13_FLAG_W,DELC14,DELC14_FLAG_W,C14ERR,CCL4,CCL4_FLAG_W,POC,POC_FLAG_W,DOC,DOC_FLAG_W,TDN,TDN_FLAG_W,PON,PON_FLAG_W,N2O,N2O_FLAG_W,D15N_NO3,D15N_NO3_FLAG_W,14C-DOC,14C-DOC_FLAG_W,14C-DOCERR,13C-DOC,13C-DOC_FLAG_W,N2/ARGON_UNSTRIPPED,N2/ARGON_UNSTRIPPED_FLAG_W,N2/ARGON_UNSTRIPPED_ERROR,N2/ARGON,N2/ARGON_FLAG_W,N2/ARGON_ERROR,D15N_N2,D15N_N2_FLAG_W,D15N_N2_ERROR,D15N_NO3_ERROR,D15N_NO2+NO3,D15N_NO2+NO3_FLAG_W,D18O_NO2+NO3,D18O_NO2+NO3_FLAG_W,D18O_NO3,D18O_NO3_FLAG_W,TDP,TDP_FLAG_W,N2O_ALT_1,N2O_ALT_1_FLAG_W,D15N_N2O,D15N_N2O_FLAG_W,D18O_N2O,D18O_N2O_FLAG_W,D15N_ALPHA_N2O,D15N_ALPHA_N2O_FLAG_W
,,,,,,,,,,,METERS,DBAR,ITS-90,PSS-78,,PSS-78,,UMOL/KG,,UMOL/KG,,UMOL/KG,,UMOL/KG,,UMOL/KG,,UMOL/KG,,PMOL/KG,,PMOL/KG,,FMOL/KG,,UMOL/KG,,UMOL/KG,,,,DEG C,/MILLE,,/MILLE,,/MILLE,PMOL/KG,,UG/KG,,UMOL/KG,,UMOL/KG,,UG/KG,,NMOL/KG,,/MILLE,,/MILLE,,/MILLE,/MILLE,,,,,,,,/MILLE,,/MILLE,/MILLE,/MILLE,,/MILLE,,/MILLE,,UMOL/KG,,NMOL/L,,/MILLE,,/MILLE,,/MILLE,
33RO20161119,        P18,     195,          1,          1,      11010,2,20170122,       1423,   -63.5401,  -102.9811,       5017,  5106.7,   0.4519,  34.6999,2,  34.6991,2,    214.2,2,   214.2,2,   142.9,2,    32.8,2,    0.01,2,   2.246,2,   0.4421,2,   0.2112,2,   0.0768,2,  2263.7,6,  2365.6,2,   7.5882,2,    25.00, -999.00,9,  -999.0,9,  -999.0,   0.2797,2, -999.00,9,  -999.0,9, -999.00,9, -999.00,9,    18.4927,2, -999.00,9,  -999.0,9,     -999.0,     -999.0,9,     -999.0,9,     -999.0,     -999.0,9,     -999.0,     -999.0,9,     -999.0,     -999.0,     -999.0,9,     -999.0,9,     -999.0,9,     -999.0,9,     -999.0,9,     -999.0,9,     -999.0,9,     -999.0,9
33RO20161119,        P18,     195,          1,          2,      11101,2,20170122,       1423,   -63.5401,  -102.9811,       5017,  4751.1,   0.4431,  34.7012,2,  34.7016,2,    214.5,2,   213.9,6,   137.5,2,    32.7,2,    0.01,2,   2.231,2,   0.3850,2,   0.1829,2,   0.0647,2,  2262.6,2,  2359.7,2,   7.5880,2,    25.00, -999.00,9,  -999.0,9,  -999.0,   0.1905,2, -999.00,9,  -999.0,9, -999.00,9, -999.00,9,    18.2001,2, -999.00,9,  -999.0,9,     -999.0,     -999.0,9,     -999.0,9,     -999.0,     -999.0,9,     -999.0,     -999.0,9,     -999.0,     -999.0,     -999.0,9,     -999.0,9,     -999.0,9,     -999.0,9,     -999.0,9,     -999.0,9,     -999.0,9,     -999.0,9
33RO20161119,        P18,     195,          1,          3,      11102,2,20170122,       1423,   -63.5401,  -102.9811,       5017,  4401.6,   0.4553,  34.7022,2,  34.7032,2,    213.8,2,   214.1,2,   134.7,6,    32.7,6,    0.01,6,   2.233,6,   0.3365,2,   0.1609,2,   0.0675,2,  2262.2,2,  2367.5,3,   7.5888,6,    25.00, -999.00,9,  -999.0,9,  -999.0,   0.2255,2, -999.00,9,  -999.0,9, -999.00,9, -999.00,9,    18.2328,2, -999.00,9,  -999.0,9,     -999.0,     -999.0,9,     -999.0,9,     -999.0,     -999.0,9,     -999.0,     -999.0,9,     -999.0,     -999.0,     -999.0,9,     -999.0,9,     -999.0,9,     -999.0,9,     -999.0,9,     -999.0,9,     -999.0,9,     -999.0,9
33RO20161119,        P18,     195,          1,          4,      11103,2,20170122,       1423,   -63.5401,  -102.9811,       5017,  4001.0,   0.5281,  34.7034,2,  34.7032,2,    212.0,2,   211.4,2,   130.4,6,    32.6,6,    0.01,6,   2.229,6,   0.3064,2,   0.1475,2,   0.0669,2,  2261.2,2,  2361.5,6,   7.5907,2,    25.00, -999.00,9,  -999.0,9,  -999.0,   0.2121,2, -999.00,9,  -999.0,9, -999.00,9, -999.00,9,    18.6157,2, -999.00,9,  -999.0,9,     -999.0,     -999.0,9,     -999.0,9,     -999.0,     -999.0,9,     -999.0,     -999.0,9,     -999.0,     -999.0,     -999.0,9,     -999.0,9,     -999.0,9,     -999.0,9,     -999.0,9,     -999.0,9,     -999.0,9,     -999.0,9
33RO20161119,        P18,     195,          1,          5,      11104,2,20170122,       1423,   -63.5401,  -102.9811,       5017,  3600.8,   0.6705,  34.7061,2,  34.7099,2,    208.9,2,   208.2,2,   126.9,6,    32.5,6,    0.01,6,   2.221,6,   0.2522,2,   0.1217,2,   0.0474,2,  2260.0,2,  2360.0,2,   7.5901,2,    25.00, -999.00,9,  -999.0,9,  -999.0,    0.363,2, -999.00,9,  -999.0,9, -999.00,9, -999.00,9,    18.3596,2, -999.00,9,  -999.0,9,     -999.0,     -999.0,9,     -999.0,9,     -999.0,     -999.0,9,     -999.0,     -999.0,9,     -999.0,     -999.0,     -999.0,9,     -999.0,9,     -999.0,9,     -999.0,9,     -999.0,9,     -999.0,9,     -999.0,9,     -999.0,9
33RO20161119,        P18,     195,          1,          6,      11105,2,20170122,       1423,   -63.5401,  -102.9811,       5017,  3200.0,   0.8268,  34.7105,2,  34.7107,2,    205.2,2,   204.8,2,   122.8,6,    32.3,6,    0.01,6,   2.206,6,   0.1925,2,   0.0924,2,   0.0498,2,  2259.6,2,  2344.2,4,   7.5931,2,    25.00, -999.00,9,  -999.0,9,  -999.0,   0.5269,2, -999.00,9,  -999.0,9, -999.00,9, -999.00,9,     18.923,2, -999.00,9,  -999.0,9,     -999.0,     -999.0,9,     -999.0,9,     -999.0,     -999.0,9,     -999.0,     -999.0,9,     -999.0,     -999.0,     -999.0,9,     -999.0,9,     -999.0,9,     -999.0,9,     -999.0,9,     -999.0,9,     -999.0,9,     -999.0,9
33RO20161119,        P18,     195,          1,          7,      11106,2,20170122,       1423,   -63.5401,  -102.9811,       5017,  2801.0,   0.9740,  34.7161,2,  34.7205,3,    203.0,2,   202.0,2,   117.9,2,    32.3,2,    0.01,2,   2.194,2,-999.0000,9,-999.0000,9,-999.0000,9,  2259.5,2,  2362.8,2,   7.5957,2,    25.00, -999.00,9,  -999.0,9,  -999.0,-999.0000,9, -999.00,9,  -999.0,9, -999.00,9, -999.00,9,     -999.0,9, -999.00,9,  -999.0,9,     -999.0,     -999.0,9,     -999.0,9,     -999.0,     -999.0,9,     -999.0,     -999.0,9,     -999.0,     -999.0,     -999.0,9,     -999.0,9,     -999.0,9,     -999.0,9,     -999.0,9,     -999.0,9,     -999.0,9,     -999.0,9
33RO20161119,        P18,     195,          1,          8,      11107,2,20170122,       1423,   -63.5401,  -102.9811,       5017,  2402.2,   1.1672,  34.7230,2,  34.7248,2,    198.9,2,   198.4,2,   110.5,2,    32.0,2,    0.01,2,   2.187,2,-999.0000,9,-999.0000,9,-999.0000,9,  2258.0,2,  2361.2,2,   7.5972,2,    25.00, -999.00,9,  -999.0,9,  -999.0,-999.0000,9, -999.00,9,  -999.0,9, -999.00,9, -999.00,9,     -999.0,9, -999.00,9,  -999.0,9,     -999.0,     -999.0,9,     -999.0,9,     -999.0,     -999.0,9,     -999.0,     -999.0,9,     -999.0,     -999.0,     -999.0,9,     -999.0,9,     -999.0,9,     -999.0,9,     -999.0,9,     -999.0,9,     -999.0,9,     -999.0,9
33RO20161119,        P18,     195,          1,          9,      11108,2,20170122,       1423,   -63.5401,  -102.9811,       5017,  2000.2,   1.4040,  34.7297,2,  34.7293,2,    194.9,2,   194.3,2,   102.7,2,    31.8,2,    0.01,2,   2.172,2,   0.1301,6,   0.0629,6,   0.0196,6,  2258.6,2,  2358.0,2,   7.5965,2,    25.00, -999.00,9,  -999.0,9,  -999.0,   0.6039,2, -999.00,9,  -999.0,9, -999.00,9, -999.00,9,    19.1445,2, -999.00,9,  -999.0,9,     -999.0,     -999.0,9,     -999.0,9,     -999.0,     -999.0,9,     -999.0,     -999.0,9,     -999.0,     -999.0,     -999.0,9,     -999.0,9,     -999.0,9,     -999.0,9,     -999.0,9,     -999.0,9,     -999.0,9,     -999.0,9
33RO20161119,        P18,     195,          1,         10,      11109,2,20170122,       1423,   -63.5401,  -102.9811,       5017,  1751.2,   1.5824,  34.7327,2,  34.7362,2,    192.0,2,   191.5,2,    96.9,2,    31.7,2,    0.01,2,   2.154,2,-999.0000,9,-999.0000,9,-999.0000,9,  2256.5,2,  2354.4,2,   7.5935,2,    25.00, -999.00,9,  -999.0,9,  -999.0,-999.0000,9, -999.00,9,  -999.0,9, -999.00,9, -999.00,9,     -999.0,9, -999.00,9,  -999.0,9,     -999.0,     -999.0,9,     -999.0,9,     -999.0,     -999.0,9,     -999.0,     -999.0,9,     -999.0,     -999.0,     -999.0,9,     -999.0,9,     -999.0,9,     -999.0,9,     -999.0,9,     -999.0,9,     -999.0,9,     -999.0,9
33RO20161119,        P18,     195,          1,         11,      11110,2,20170122,       1423,   -63.5401,  -102.9811,       5017,  1570.2,   1.7279,  34.7321,2,  34.7330,2,    188.8,2,   189.1,2,    92.5,2,    31.6,2,    0.01,2,   2.163,2,   0.1681,2,   0.0830,2,   0.0000,2,  2254.9,2,  2351.7,2,   7.5882,2,    25.00, -999.00,9,  -999.0,9,  -999.0,   2.4287,2, -999.00,9,  -999.0,9, -999.00,9, -999.00,9,    19.7163,2, -999.00,9,  -999.0,9,     -999.0,     -999.0,9,     -999.0,9,     -999.0,     -999.0,9,     -999.0,     -999.0,9,     -999.0,     -999.0,     -999.0,9,     -999.0,9,     -999.0,9,     -999.0,9,     -999.0,9,     -999.0,9,     -999.0,9,     -999.0,9
33RO20161119,        P18,     195,          1,         12,      11111,2,20170122,       1423,   -63.5401,  -102.9811,       5017,  1391.3,   1.8726,  34.7264,2,  34.7271,2,    185.4,2,   185.8,2,    88.9,2,    31.5,2,    0.01,2,   2.154,2,-999.0000,9,-999.0000,9,-999.0000,9,  2254.3,2,  2351.0,2,   7.5853,2,    25.00, -999.00,9,  -999.0,9,  -999.0,-999.0000,9, -999.00,9,  -999.0,9, -999.00,9, -999.00,9,     -999.0,9, -999.00,9,  -999.0,9,     -999.0,     -999.0,9,     -999.0,9,     -999.0,     -999.0,9,     -999.0,     -999.0,9,     -999.0,     -999.0,     -999.0,9,     -999.0,9,     -999.0,9,     -999.0,9,     -999.0,9,     -999.0,9,     -999.0,9,     -999.0,9
33RO20161119,        P18,     195,          1,         13,      11112,2,20170122,       1423,   -63.5401,  -102.9811,       5017,  1219.9,   2.0146,  34.7115,2,  34.7146,2,    181.2,2,   181.1,2,    85.9,2,    32.0,2,    0.01,2,   2.170,2,   0.2384,2,   0.1169,2,   0.0554,2,  2254.8,2,  2348.1,2,   7.5774,2,    25.00, -999.00,9,  -999.0,9,  -999.0,   3.6622,2, -999.00,9,  -999.0,9, -999.00,9, -999.00,9,    20.3943,2, -999.00,9,  -999.0,9,     -999.0,     -999.0,9,     -999.0,9,     -999.0,     -999.0,9,     -999.0,     -999.0,9,     -999.0,     -999.0,     -999.0,9,     -999.0,9,     -999.0,9,     -999.0,9,     -999.0,9,     -999.0,9,     -999.0,9,     -999.0,9
33RO20161119,        P18,     195,          1,         14,      11113,2,20170122,       1423,   -63.5401,  -102.9811,       5017,  1055.2,   2.1261,  34.6878,2,  34.6862,2,    177.3,2,   177.0,2,    82.8,2,    32.5,2,    0.01,2,   2.225,2,-999.0000,9,-999.0000,9,-999.0000,9,  2255.9,2,  2345.7,2,   7.5683,2,    25.00, -999.00,9,  -999.0,9,  -999.0,-999.0000,9, -999.00,9,  -999.0,9, -999.00,9, -999.00,9,     -999.0,9, -999.00,9,  -999.0,9,     -999.0,     -999.0,9,     -999.0,9,     -999.0,     -999.0,9,     -999.0,     -999.0,9,     -999.0,     -999.0,     -999.0,9,     -999.0,9,     -999.0,9,     -999.0,9,     -999.0,9,     -999.0,9,     -999.0,9,     -999.0,9
33RO20161119,        P18,     195,          1,         15,      11114,2,20170122,       1423,   -63.5401,  -102.9811,       5017,   896.4,   2.2192,  34.6528,2,  34.6518,2,    173.4,2,   173.3,2,    80.2,2,    33.4,2,    0.01,2,   2.281,2,   0.4014,2,   0.2009,2,   0.1089,2,  2256.3,2,  2342.9,6,   7.5573,2,    25.00, -999.00,9,  -999.0,9,  -999.0,   6.1244,2, -999.00,9,  -999.0,9, -999.00,9, -999.00,9,    21.5244,2, -999.00,9,  -999.0,9,     -999.0,     -999.0,9,     -999.0,9,     -999.0,     -999.0,9,     -999.0,     -999.0,9,     -999.0,     -999.0,     -999.0,9,     -999.0,9,     -999.0,9,     -999.0,9,     -999.0,9,     -999.0,9,     -999.0,9,     -999.0,9
33RO20161119,        P18,     195,          1,         16,      11115,2,20170122,       1423,   -63.5401,  -102.9811,       5017,   747.1,   2.2983,  34.5992,2,  34.5986,2,    171.5,2,   171.5,2,    76.3,2,    34.1,2,    0.01,2,   2.327,2,   0.6082,2,   0.3061,2,   0.2009,2,  2255.3,2,  2336.9,2,   7.5446,2,    25.00, -999.00,9,  -999.0,9,  -999.0,   5.8807,2, -999.00,9,  -999.0,9, -999.00,9, -999.00,9,    22.4018,2, -999.00,9,  -999.0,9,     -999.0,     -999.0,9,     -999.0,9,     -999.0,     -999.0,9,     -999.0,     -999.0,9,     -999.0,     -999.0,     -999.0,9,     -999.0,9,     -999.0,9,     -999.0,9,     -999.0,9,     -999.0,9,     -999.0,9,     -999.0,9
33RO20161119,        P18,     195,          1,         17,      11116,2,20170122,       1423,   -63.5401,  -102.9811,       5017,   610.8,   2.3851,  34.5329,2,  34.5298,2,    174.8,2,   174.0,2,    71.0,2,    34.7,2,    0.01,2,   2.359,2,-999.0000,9,-999.0000,9,-999.0000,9,  2251.8,6,  2332.5,2,   7.5411,2,    25.00, -999.00,9,  -999.0,9,  -999.0,-999.0000,9, -999.00,9,  -999.0,9, -999.00,9, -999.00,9,     -999.0,9, -999.00,9,  -999.0,9,     -999.0,     -999.0,9,     -999.0,9,     -999.0,     -999.0,9,     -999.0,     -999.0,9,     -999.0,     -999.0,     -999.0,9,     -999.0,9,     -999.0,9,     -999.0,9,     -999.0,9,     -999.0,9,     -999.0,9,     -999.0,9
33RO20161119,        P18,     195,          1,         18,      11117,2,20170122,       1423,   -63.5401,  -102.9811,       5017,   470.7,   2.4759,  34.4372,2,  34.4358,2,    184.5,2,   182.8,2,    62.7,2,    34.8,2,    0.01,2,   2.367,2,   1.4939,2,   0.7631,2,   0.4848,2,  2243.0,2,  2321.4,2,   7.5398,2,    25.00, -999.00,9,  -999.0,9,  -999.0,   6.1461,2, -999.00,9,  -999.0,9, -999.00,9, -999.00,9,     22.799,2, -999.00,9,  -999.0,9,     -999.0,     -999.0,9,     -999.0,9,     -999.0,     -999.0,9,     -999.0,     -999.0,9,     -999.0,     -999.0,     -999.0,9,     -999.0,9,     -999.0,9,     -999.0,9,     -999.0,9,     -999.0,9,     -999.0,9,     -999.0,9
33RO20161119,        P18,     195,          1,         19,      11083,2,20170122,       1423,   -63.5401,  -102.9811,       5017,   350.2,   2.4190,  34.3096,2,  34.3069,2,    208.5,2,   208.7,2,    51.5,2,    33.9,2,    0.01,2,   2.301,2,   2.4651,2,   1.2975,2,   1.0187,2,  2225.7,2,  2308.3,2,   7.5561,6,    25.00, -999.00,9,  -999.0,9,  -999.0,   0.5002,2, -999.00,9,  -999.0,9, -999.00,9, -999.00,9,    21.9794,2, -999.00,9,  -999.0,9,     -999.0,     -999.0,9,     -999.0,9,     -999.0,     -999.0,9,     -999.0,     -999.0,9,     -999.0,     -999.0,     -999.0,9,     -999.0,9,     -999.0,9,     -999.0,9,     -999.0,9,     -999.0,9,     -999.0,9,     -999.0,9
33RO20161119,        P18,     195,          1,         20,      11118,2,20170122,       1423,   -63.5401,  -102.9811,       5017,   244.9,   1.8825,  34.1237,2,  34.1221,2,    261.9,2,   261.0,2,    37.2,2,    31.4,2,    0.01,2,   2.124,2,   3.9713,2,   2.1304,2,   2.0056,2,  2195.8,2,  2292.1,2,   7.6018,2,    25.00, -999.00,9,  -999.0,9,  -999.0,    0.575,2, -999.00,9,  -999.0,9, -999.00,9, -999.00,9,    19.0406,2, -999.00,9,  -999.0,9,     -999.0,     -999.0,9,     -999.0,9,     -999.0,     -999.0,9,     -999.0,     -999.0,9,     -999.0,     -999.0,     -999.0,9,     -999.0,9,     -999.0,9,     -999.0,9,     -999.0,9,     -999.0,9,     -999.0,9,     -999.0,9
33RO20161119,        P18,     195,          1,         21,      11119,2,20170122,       1423,   -63.5401,  -102.9811,       5017,   154.5,   1.0921,  33.9387,2,  33.9370,2,    318.4,2,   316.2,2,    25.9,2,    27.9,2,    0.23,2,   1.929,2,   5.2457,2,   2.8624,2,   3.1298,2,  2165.6,2,  2280.5,2,   7.6553,2,    25.00, -999.00,9,  -999.0,9,  -999.0,   0.4503,2, -999.00,9,  -999.0,9, -999.00,9, -999.00,9,    15.2225,2, -999.00,9,  -999.0,9,     -999.0,     -999.0,9,     -999.0,9,     -999.0,     -999.0,9,     -999.0,     -999.0,9,     -999.0,     -999.0,     -999.0,9,     -999.0,9,     -999.0,9,     -999.0,9,     -999.0,9,     -999.0,9,     -999.0,9,     -999.0,9
33RO20161119,        P18,     195,          1,         22,      11120,2,20170122,       1423,   -63.5401,  -102.9811,       5017,    71.4,   1.4494,  33.9030,2,  33.9021,2,    330.0,2,   329.9,6,    20.9,2,    26.3,2,    0.17,2,   1.878,2,   5.4244,2,   2.9432,2,   3.4029,2,  2154.1,2,  2280.2,6,   7.6809,2,    25.00, -999.00,9,  -999.0,9,  -999.0,   0.4448,2,  164.54,6,  -999.0,9, -999.00,9,   24.34,6,    14.3978,2, -999.00,9,  -999.0,9,     -999.0,     -999.0,9,     -999.0,9,     -999.0,     -999.0,9,     -999.0,     -999.0,9,     -999.0,     -999.0,     -999.0,9,     -999.0,9,     -999.0,9,     -999.0,9,     -999.0,9,     -999.0,9,     -999.0,9,     -999.0,9
33RO20161119,        P18,     195,          1,         23,      11121,2,20170122,       1423,   -63.5401,  -102.9811,       5017,    24.3,   3.2078,  33.8893,2,  33.8915,2,    328.6,2,   327.7,2,     8.0,2,    24.2,2,    0.24,2,   1.612,2,-999.0000,9,-999.0000,9,-999.0000,9,  2141.0,2,  2284.5,2,   7.6708,3,    25.00, -999.00,9,  -999.0,9,  -999.0,-999.0000,9, -999.00,9,  -999.0,9, -999.00,9, -999.00,9,     -999.0,9, -999.00,9,  -999.0,9,     -999.0,     -999.0,9,     -999.0,9,     -999.0,     -999.0,9,     -999.0,     -999.0,9,     -999.0,     -999.0,     -999.0,9,     -999.0,9,     -999.0,9,     -999.0,9,     -999.0,9,     -999.0,9,     -999.0,9,     -999.0,9
33RO20161119,        P18,     195,          1,         24,      11122,2,20170122,       1423,   -63.5401,  -102.9811,       5017,     3.7,   3.2156,  33.8899,2,  33.8888,2,    327.7,2,   327.5,2,     8.0,2,    24.2,2,    0.23,2,   1.587,2,   5.1181,2,   2.8408,2,   3.2599,2,  2139.9,6,  2278.2,2,   7.7148,2,    25.00, -999.00,9,  -999.0,9,  -999.0,   0.5009,2, -999.00,9,  -999.0,9, -999.00,9, -999.00,9,    13.7213,2, -999.00,9,  -999.0,9,     -999.0,     -999.0,9,     -999.0,9,     -999.0,     -999.0,9,     -999.0,     -999.0,9,     -999.0,     -999.0,     -999.0,9,     -999.0,9,     -999.0,9,     -999.0,9,     -999.0,9,     -999.0,9,     -999.0,9,     -999.0,9