BOTTLE,20230606CCHSIOCBG
EXPOCODE,SECT_ID,STNNBR,CASTNO,SAMPNO,BTLNBR,BTLNBR_FLAG_W,DATE,TIME,LATITUDE,LONGITUDE,DEPTH,CTDPRS,CTDTMP,CTDSAL,CTDSAL_FLAG_W,SALNTY,SALNTY_FLAG_W,CTDOXY,CTDOXY_FLAG_W,OXYGEN,OXYGEN_FLAG_W,SILCAT,SILCAT_FLAG_W,NITRAT,NITRAT_FLAG_W,NITRIT,NITRIT_FLAG_W,PHSPHT,PHSPHT_FLAG_W,CFC-11,CFC-11_FLAG_W,CFC-12,CFC-12_FLAG_W,SF6,SF6_FLAG_W,TCARBN,TCARBN_FLAG_W,ALKALI,ALKALI_FLAG_W,PH_SWS,PH_SWS_FLAG_W,PH_TMP,DELC13,DELC13_FLAG_W,DELC14,DELC14_FLAG_W,C14ERR,CCL4,CCL4_FLAG_W,POC,POC_FLAG_W,DOC,DOC_FLAG_W,TDN,TDN_FLAG_W,PON,PON_FLAG_W,N2O,N2O_FLAG_W,D15N_NO3,D15N_NO3_FLAG_W,14C-DOC,14C-DOC_FLAG_W,14C-DOCERR,13C-DOC,13C-DOC_FLAG_W,N2/ARGON_UNSTRIPPED,N2/ARGON_UNSTRIPPED_FLAG_W,N2/ARGON_UNSTRIPPED_ERROR,N2/ARGON,N2/ARGON_FLAG_W,N2/ARGON_ERROR,D15N_N2,D15N_N2_FLAG_W,D15N_N2_ERROR,D15N_NO3_ERROR,D15N_NO2+NO3,D15N_NO2+NO3_FLAG_W,D18O_NO2+NO3,D18O_NO2+NO3_FLAG_W,D18O_NO3,D18O_NO3_FLAG_W,TDP,TDP_FLAG_W,N2O_ALT_1,N2O_ALT_1_FLAG_W,D15N_N2O,D15N_N2O_FLAG_W,D18O_N2O,D18O_N2O_FLAG_W,D15N_ALPHA_N2O,D15N_ALPHA_N2O_FLAG_W
,,,,,,,,,,,METERS,DBAR,ITS-90,PSS-78,,PSS-78,,UMOL/KG,,UMOL/KG,,UMOL/KG,,UMOL/KG,,UMOL/KG,,UMOL/KG,,PMOL/KG,,PMOL/KG,,FMOL/KG,,UMOL/KG,,UMOL/KG,,,,DEG C,/MILLE,,/MILLE,,/MILLE,PMOL/KG,,UG/KG,,UMOL/KG,,UMOL/KG,,UG/KG,,NMOL/KG,,/MILLE,,/MILLE,,/MILLE,/MILLE,,,,,,,,/MILLE,,/MILLE,/MILLE,/MILLE,,/MILLE,,/MILLE,,UMOL/KG,,NMOL/L,,/MILLE,,/MILLE,,/MILLE,
33RO20161119,        P18,      22,          1,          1,      11010,2,20161129,       1534,    13.4997,  -110.0001,       3792,  3839.0,   1.6523,  34.6795,2,  34.6770,2,    131.3,2,   131.9,2,   154.0,6,    37.5,6,    0.02,6,   2.570,6,   0.0054,2,   0.0025,2,   0.0000,2,  2346.8,6,  2428.3,6,   7.5412,2,    25.00, -999.00,9,  -999.0,9,  -999.0,        0,2, -999.00,9,  -999.0,9, -999.00,9, -999.00,9,    21.8085,2, -999.00,9,  -999.0,9,     -999.0,     -999.0,9,     -999.0,9,     -999.0,     -999.0,9,     -999.0,     -999.0,9,     -999.0,     -999.0,     -999.0,9,     -999.0,9,     -999.0,9,     -999.0,9,     -999.0,9,     -999.0,9,     -999.0,9,     -999.0,9
33RO20161119,        P18,      22,          1,          2,      11101,2,20161129,       1534,    13.4997,  -110.0001,       3792,  3521.8,   1.6545,  34.6781,2,  34.6762,2,    127.6,2,   119.8,3,   153.9,6,    37.7,6,    0.02,6,   2.575,6,   0.0058,2,   0.0034,2,   0.0000,2,  2347.9,2,  2427.8,2,   7.5368,6,    25.00, -999.00,9,  -999.0,9,  -999.0,        0,2, -999.00,9,  -999.0,9, -999.00,9, -999.00,9,    21.9872,2, -999.00,9,  -999.0,9,     -999.0,     -999.0,9,     -999.0,9,     -999.0,     -999.0,9,     -999.0,     -999.0,9,     -999.0,     -999.0,     -999.0,9,     -999.0,9,     -999.0,9,     -999.0,9,     -999.0,9,     -999.0,9,     -999.0,9,     -999.0,9
33RO20161119,        P18,      22,          1,          3,      11102,2,20161129,       1534,    13.4997,  -110.0001,       3792,  3200.9,   1.6848,  34.6749,2,  34.6739,2,    121.9,2,   123.0,6,   154.7,6,    38.1,6,    0.02,6,   2.614,6,   0.0064,2,   0.0034,2,   0.0000,2,  2350.5,2,  2430.8,2,   7.5275,2,    25.00, -999.00,9,  -999.0,9,  -999.0,   0.0186,2, -999.00,9,  -999.0,9, -999.00,9, -999.00,9,    22.5063,2, -999.00,9,  -999.0,9,     -999.0,     -999.0,9,     -999.0,9,     -999.0,     -999.0,9,     -999.0,     -999.0,9,     -999.0,     -999.0,     -999.0,9,     -999.0,9,     -999.0,9,     -999.0,9,     -999.0,9,     -999.0,9,     -999.0,9,     -999.0,9
33RO20161119,        P18,      22,          1,          4,      11103,2,20161129,       1534,    13.4997,  -110.0001,       3792,  2926.0,   1.6966,  34.6729,2,  34.6710,2,    119.2,2,   120.0,2,   154.9,6,    38.3,6,    0.02,6,   2.636,6,   0.0054,6,   0.0036,6,   0.0000,6,  2350.3,2,  2434.5,2,   7.5239,2,    25.00, -999.00,9,  -999.0,9,  -999.0,   0.0215,2, -999.00,9,  -999.0,9, -999.00,9, -999.00,9,    22.8089,2, -999.00,9,  -999.0,9,     -999.0,     -999.0,9,     -999.0,9,     -999.0,     -999.0,9,     -999.0,     -999.0,9,     -999.0,     -999.0,     -999.0,9,     -999.0,9,     -999.0,9,     -999.0,9,     -999.0,9,     -999.0,9,     -999.0,9,     -999.0,9
33RO20161119,        P18,      22,          1,          5,      11104,2,20161129,       1534,    13.4997,  -110.0001,       3792,  2626.6,   1.8152,  34.6663,2,  34.6660,2,    110.1,2,   111.2,2,   154.1,2,    38.8,2,    0.02,2,   2.682,2,   0.0039,2,   0.0029,2,   0.0000,2,  2358.9,2,  2427.8,2,   7.5074,2,    25.00, -999.00,9,  -999.0,9,  -999.0,        0,2, -999.00,9,  -999.0,9, -999.00,9, -999.00,9,    23.9913,2, -999.00,9,  -999.0,9,     -999.0,     -999.0,9,     -999.0,9,     -999.0,     -999.0,9,     -999.0,     -999.0,9,     -999.0,     -999.0,     -999.0,9,     -999.0,9,     -999.0,9,     -999.0,9,     -999.0,9,     -999.0,9,     -999.0,9,     -999.0,9
33RO20161119,        P18,      22,          1,          6,      11105,2,20161129,       1534,    13.4997,  -110.0001,       3792,  2340.9,   1.9296,  34.6600,2,  34.6614,2,    102.4,2,   105.6,4,   151.4,2,    39.2,2,    0.02,2,   2.702,2,   0.0026,2,   0.0018,2,   0.0000,2,  2362.3,2,  2426.0,2,   7.4950,2,    25.00, -999.00,9,  -999.0,9,  -999.0,        0,2, -999.00,9,  -999.0,9, -999.00,9, -999.00,9,    25.0164,2, -999.00,9,  -999.0,9,     -999.0,     -999.0,9,     -999.0,9,     -999.0,     -999.0,9,     -999.0,     -999.0,9,     -999.0,     -999.0,     -999.0,9,     -999.0,9,     -999.0,9,     -999.0,9,     -999.0,9,     -999.0,9,     -999.0,9,     -999.0,9
33RO20161119,        P18,      22,          1,          7,      11106,2,20161129,       1534,    13.4997,  -110.0001,       3792,  2040.8,   2.1583,  34.6470,2,  34.6445,2,     90.3,2,    91.5,2,   147.3,2,    40.2,2,    0.02,2,   2.794,2,   0.0016,2,   0.0000,2,   0.0000,2,  2362.9,2,  2421.3,2,   7.4704,2,    25.00, -999.00,9,  -999.0,9,  -999.0,        0,2, -999.00,9,  -999.0,9, -999.00,9, -999.00,9,    27.4947,2, -999.00,9,  -999.0,9,     -999.0,     -999.0,9,     -999.0,9,     -999.0,     -999.0,9,     -999.0,     -999.0,9,     -999.0,     -999.0,     -999.0,9,     -999.0,9,     -999.0,9,     -999.0,9,     -999.0,9,     -999.0,9,     -999.0,9,     -999.0,9
33RO20161119,        P18,      22,          1,          8,      11107,2,20161129,       1534,    13.4997,  -110.0001,       3792,  1751.0,   2.6054,  34.6241,2,  34.6233,2,     70.5,2,    72.7,2,   137.9,2,    41.6,2,    0.02,2,   2.937,2,   0.0023,2,   0.0018,2,   0.0000,2,  2365.1,2,  2407.4,2,   7.4308,2,    25.00, -999.00,9,  -999.0,9,  -999.0,        0,2, -999.00,9,  -999.0,9, -999.00,9, -999.00,9,    32.1329,2, -999.00,9,  -999.0,9,     -999.0,     -999.0,9,     -999.0,9,     -999.0,     -999.0,9,     -999.0,     -999.0,9,     -999.0,     -999.0,     -999.0,9,     -999.0,9,     -999.0,9,     -999.0,9,     -999.0,9,     -999.0,9,     -999.0,9,     -999.0,9
33RO20161119,        P18,      22,          1,          9,      11108,2,20161129,       1534,    13.4997,  -110.0001,       3792,  1460.5,   3.2069,  34.5996,2,  34.5958,2,     49.1,2,    50.4,6,   125.0,2,    43.2,2,    0.02,2,   3.079,2,   0.0037,2,   0.0027,2,   0.0000,2,  2364.6,2,  2393.9,2,   7.3889,2,    25.00, -999.00,9,  -999.0,9,  -999.0,        0,2, -999.00,9,  -999.0,9, -999.00,9, -999.00,9,    37.6377,2, -999.00,9,  -999.0,9,     -999.0,     -999.0,9,     -999.0,9,     -999.0,     -999.0,9,     -999.0,     -999.0,9,     -999.0,     -999.0,     -999.0,9,     -999.0,9,     -999.0,9,     -999.0,9,     -999.0,9,     -999.0,9,     -999.0,9,     -999.0,9
33RO20161119,        P18,      22,          1,         10,      11109,2,20161129,       1534,    13.4997,  -110.0001,       3792,  1270.6,   3.6553,  34.5851,2,  34.5855,2,     33.9,2,    35.2,2,   116.1,2,    44.4,2,    0.02,2,   3.188,2,   0.0030,2,   0.0014,2,   0.0000,2,  2364.0,2,  2382.4,2,   7.3574,2,    25.00, -999.00,9,  -999.0,9,  -999.0,        0,2, -999.00,9,  -999.0,9, -999.00,9, -999.00,9,    42.2334,2, -999.00,9,  -999.0,9,     -999.0,     -999.0,9,     -999.0,9,     -999.0,     -999.0,9,     -999.0,     -999.0,9,     -999.0,     -999.0,     -999.0,9,     -999.0,9,     -999.0,9,     -999.0,9,     -999.0,9,     -999.0,9,     -999.0,9,     -999.0,9
33RO20161119,        P18,      22,          1,         11,      11110,2,20161129,       1534,    13.4997,  -110.0001,       3792,  1141.4,   4.0317,  34.5730,2,  34.5712,2,     24.3,2,    25.5,2,   108.1,2,    45.0,2,    0.02,2,   3.248,2,   0.0035,2,   0.0024,2,   0.0000,2,  2360.7,2,  2374.6,2,   7.3359,2,    25.00, -999.00,9,  -999.0,9,  -999.0,        0,2, -999.00,9,  -999.0,9, -999.00,9, -999.00,9,    46.0618,2, -999.00,9,  -999.0,9,     -999.0,     -999.0,9,     -999.0,9,     -999.0,     -999.0,9,     -999.0,     -999.0,9,     -999.0,     -999.0,     -999.0,9,     -999.0,9,     -999.0,9,     -999.0,9,     -999.0,9,     -999.0,9,     -999.0,9,     -999.0,9
33RO20161119,        P18,      22,          1,         12,      11111,2,20161129,       1534,    13.4997,  -110.0001,       3792,  1011.9,   4.4303,  34.5633,2,  34.5647,2,     16.6,2,    21.4,4,   100.1,2,    45.3,2,    0.02,2,   3.277,2,   0.0033,2,   0.0018,2,   0.0000,2,  2358.4,3,  2366.7,6,   7.3261,2,    25.00, -999.00,9,  -999.0,9,  -999.0,        0,2, -999.00,9,  -999.0,9, -999.00,9, -999.00,9,    49.5458,2, -999.00,9,  -999.0,9,     -999.0,     -999.0,9,     -999.0,9,     -999.0,     -999.0,9,     -999.0,     -999.0,9,     -999.0,     -999.0,     -999.0,9,     -999.0,9,     -999.0,9,     -999.0,9,     -999.0,9,     -999.0,9,     -999.0,9,     -999.0,9
33RO20161119,        P18,      22,          1,         13,      11112,2,20161129,       1534,    13.4997,  -110.0001,       3792,   888.0,   5.0020,  34.5499,2,-999.0000,9,      7.1,2,     7.7,2,    90.7,2,    44.9,2,    0.02,2,   3.302,2,   0.0033,2,   0.0023,2,   0.0000,2,  2350.1,3,  2356.6,2,   7.3110,2,    25.00, -999.00,9,  -999.0,9,  -999.0,        0,2, -999.00,9,  -999.0,9, -999.00,9, -999.00,9,    56.5934,2, -999.00,9,  -999.0,9,     -999.0,     -999.0,9,     -999.0,9,     -999.0,     -999.0,9,     -999.0,     -999.0,9,     -999.0,     -999.0,     -999.0,9,     -999.0,9,     -999.0,9,     -999.0,9,     -999.0,9,     -999.0,9,     -999.0,9,     -999.0,9
33RO20161119,        P18,      22,          1,         14,      11113,2,20161129,       1534,    13.4997,  -110.0001,       3792,   775.8,   5.4952,  34.5438,2,  34.5431,2,      3.5,2,     4.7,2,    83.1,2,    43.8,2,    0.02,2,   3.264,2,   0.0045,2,   0.0021,2,   0.0000,2,  2345.8,3,  2348.2,2,   7.3084,2,    25.00, -999.00,9,  -999.0,9,  -999.0,        0,2, -999.00,9,  -999.0,9, -999.00,9, -999.00,9,    59.5761,2, -999.00,9,  -999.0,9,     -999.0,     -999.0,9,     -999.0,9,     -999.0,     -999.0,9,     -999.0,     -999.0,9,     -999.0,     -999.0,     -999.0,9,     -999.0,9,     -999.0,9,     -999.0,9,     -999.0,9,     -999.0,9,     -999.0,9,     -999.0,9
33RO20161119,        P18,      22,          1,         15,      11114,2,20161129,       1534,    13.4997,  -110.0001,       3792,   661.5,   6.3588,  34.5447,2,  34.5461,2,      2.4,2,     2.6,2,    72.3,2,    40.4,2,    0.02,2,   3.203,2,   0.0065,2,   0.0045,2,   0.0000,2,  2331.7,3,  2336.9,2,   7.3203,6,    25.00, -999.00,9,  -999.0,9,  -999.0,        0,2, -999.00,9,  -999.0,9, -999.00,9, -999.00,9,    40.9788,2, -999.00,9,  -999.0,9,     -999.0,     -999.0,9,     -999.0,9,     -999.0,     -999.0,9,     -999.0,     -999.0,9,     -999.0,     -999.0,     -999.0,9,     -999.0,9,     -999.0,9,     -999.0,9,     -999.0,9,     -999.0,9,     -999.0,9,     -999.0,9
33RO20161119,        P18,      22,          1,         16,      11115,2,20161129,       1534,    13.4997,  -110.0001,       3792,   544.0,   7.3347,  34.5571,2,  34.5549,2,      2.3,2,     3.4,2,    61.4,2,    36.3,2,    0.02,2,   3.101,2,   0.0170,2,   0.0098,2,   0.0000,2,  2319.4,2,  2325.7,2,   7.3308,2,    25.00, -999.00,9,  -999.0,9,  -999.0,   0.0273,2, -999.00,9,  -999.0,9, -999.00,9, -999.00,9,     24.388,2, -999.00,9,  -999.0,9,     -999.0,     -999.0,9,     -999.0,9,     -999.0,     -999.0,9,     -999.0,     -999.0,9,     -999.0,     -999.0,     -999.0,9,     -999.0,9,     -999.0,9,     -999.0,9,     -999.0,9,     -999.0,9,     -999.0,9,     -999.0,9
33RO20161119,        P18,      22,          1,         17,      11116,2,20161129,       1534,    13.4997,  -110.0001,       3792,   445.0,   8.4331,  34.5863,2,  34.5852,2,      2.4,2,     2.5,2,    50.4,2,    32.7,2,    0.02,2,   2.951,2,   0.0598,2,   0.0369,2,   0.0000,2,  2301.8,2,  2314.9,2,   7.3458,2,    25.00, -999.00,9,  -999.0,9,  -999.0,   0.0294,2, -999.00,9,  -999.0,9, -999.00,9, -999.00,9,    16.2552,2, -999.00,9,  -999.0,9,     -999.0,     -999.0,9,     -999.0,9,     -999.0,     -999.0,9,     -999.0,     -999.0,9,     -999.0,     -999.0,     -999.0,9,     -999.0,9,     -999.0,9,     -999.0,9,     -999.0,9,     -999.0,9,     -999.0,9,     -999.0,9
33RO20161119,        P18,      22,          1,         18,      11117,2,20161129,       1534,    13.4997,  -110.0001,       3792,   345.1,   9.5356,  34.6303,2,  34.6272,2,      2.3,2,     4.0,2,    40.6,2,    31.2,2,    0.02,2,   2.771,2,   0.1730,6,   0.1016,6,   0.0178,6,  2288.7,2,  2308.4,2,   7.3567,2,    25.00, -999.00,9,  -999.0,9,  -999.0,   0.0333,2, -999.00,9,  -999.0,9, -999.00,9, -999.00,9,    24.1877,2, -999.00,9,  -999.0,9,     -999.0,     -999.0,9,     -999.0,9,     -999.0,     -999.0,9,     -999.0,     -999.0,9,     -999.0,     -999.0,     -999.0,9,     -999.0,9,     -999.0,9,     -999.0,9,     -999.0,9,     -999.0,9,     -999.0,9,     -999.0,9
33RO20161119,        P18,      22,          1,         19,      11083,2,20161129,       1534,    13.4997,  -110.0001,       3792,   259.9,  10.6688,  34.7017,2,  34.7019,2,      2.2,2,     4.0,2,    33.9,2,    27.2,2,    1.09,2,   2.639,2,   0.4085,2,   0.2377,2,   0.0655,2,  2280.8,2,  2303.9,2,   7.3746,2,    25.00, -999.00,9,  -999.0,9,  -999.0,   0.0575,2, -999.00,9,  -999.0,9, -999.00,9, -999.00,9,    11.1437,2, -999.00,9,  -999.0,9,     -999.0,     -999.0,9,     -999.0,9,     -999.0,     -999.0,9,     -999.0,     -999.0,9,     -999.0,     -999.0,     -999.0,9,     -999.0,9,     -999.0,9,     -999.0,9,     -999.0,9,     -999.0,9,     -999.0,9,     -999.0,9
33RO20161119,        P18,      22,          1,         20,      11118,2,20161129,       1534,    13.4997,  -110.0001,       3792,   185.3,  11.7055,  34.7551,2,  34.7554,2,      2.3,2,     2.6,2,    29.5,2,    27.2,2,    0.99,2,   2.539,2,   0.7332,2,   0.4245,2,   0.2032,2,  2265.8,2,  2308.3,2,   7.3996,2,    25.00, -999.00,9,  -999.0,9,  -999.0,   0.0003,4, -999.00,9,  -999.0,9, -999.00,9, -999.00,9,    15.6223,2, -999.00,9,  -999.0,9,     -999.0,     -999.0,9,     -999.0,9,     -999.0,     -999.0,9,     -999.0,     -999.0,9,     -999.0,     -999.0,     -999.0,9,     -999.0,9,     -999.0,9,     -999.0,9,     -999.0,9,     -999.0,9,     -999.0,9,     -999.0,9
33RO20161119,        P18,      22,          1,         21,      11119,2,20161129,       1534,    13.4997,  -110.0001,       3792,   119.8,  13.1307,  34.7621,2,  34.7627,2,      2.7,2,     2.6,2,    27.0,2,    21.3,2,    2.22,2,   2.549,2,  -0.0011,4,   0.0002,4,   0.0113,4,  2263.4,2,  2300.7,2,   7.4153,2,    25.00, -999.00,9,  -999.0,9,  -999.0,   0.4425,2, -999.00,9,  -999.0,9, -999.00,9, -999.00,9,    -0.2432,4, -999.00,9,  -999.0,9,     -999.0,     -999.0,9,     -999.0,9,     -999.0,     -999.0,9,     -999.0,     -999.0,9,     -999.0,     -999.0,     -999.0,9,     -999.0,9,     -999.0,9,     -999.0,9,     -999.0,9,     -999.0,9,     -999.0,9,     -999.0,9
33RO20161119,        P18,      22,          1,         22,      11120,2,20161129,       1534,    13.4997,  -110.0001,       3792,    60.0,  19.8740,  34.4917,2,  34.4945,2,     72.6,2,    67.2,2,    10.1,2,    15.4,2,    0.31,2,   1.644,2,   1.6966,2,   1.0330,2,   1.0891,2,  2158.8,2,  2281.9,2,   7.6644,2,    25.00, -999.00,9,  -999.0,9,  -999.0,    2.072,2, -999.00,9,  -999.0,9, -999.00,9, -999.00,9,    50.1214,2, -999.00,9,  -999.0,9,     -999.0,     -999.0,9,     -999.0,9,     -999.0,     -999.0,9,     -999.0,     -999.0,9,     -999.0,     -999.0,     -999.0,9,     -999.0,9,     -999.0,9,     -999.0,9,     -999.0,9,     -999.0,9,     -999.0,9,     -999.0,9
33RO20161119,        P18,      22,          1,         23,      11121,2,20161129,       1534,    13.4997,  -110.0001,       3792,    24.8,  29.0434,  33.2109,2,  33.2426,2,    196.3,2,   196.6,2,     0.8,2,     0.0,2,    0.02,2,   0.161,2,   1.4492,2,   0.9186,2,   1.3295,2,  1881.4,2,  2191.1,6,   8.0991,2,    25.00, -999.00,9,  -999.0,9,  -999.0,   1.5999,2, -999.00,9,  -999.0,9, -999.00,9, -999.00,9,      6.414,2, -999.00,9,  -999.0,9,     -999.0,     -999.0,9,     -999.0,9,     -999.0,     -999.0,9,     -999.0,     -999.0,9,     -999.0,     -999.0,     -999.0,9,     -999.0,9,     -999.0,9,     -999.0,9,     -999.0,9,     -999.0,9,     -999.0,9,     -999.0,9
33RO20161119,        P18,      22,          1,         24,      11122,2,20161129,       1534,    13.4997,  -110.0001,       3792,     2.3,  29.0586,  33.2135,2,  33.2129,2,    195.7,2,   224.7,3,     0.8,2,     0.0,2,    0.02,2,   0.159,2,   1.4478,2,   0.9266,2,   1.2976,2,  1878.1,2,  2189.1,2,   8.1010,2,    25.00, -999.00,9,  -999.0,9,  -999.0,   0.0111,2, -999.00,9,  -999.0,9, -999.00,9, -999.00,9,     6.2455,2, -999.00,9,  -999.0,9,     -999.0,     -999.0,9,     -999.0,9,     -999.0,     -999.0,9,     -999.0,     -999.0,9,     -999.0,     -999.0,     -999.0,9,     -999.0,9,     -999.0,9,     -999.0,9,     -999.0,9,     -999.0,9,     -999.0,9,     -999.0,9