BOTTLE,20230606CCHSIOCBG
EXPOCODE,SECT_ID,STNNBR,CASTNO,SAMPNO,BTLNBR,BTLNBR_FLAG_W,DATE,TIME,LATITUDE,LONGITUDE,DEPTH,CTDPRS,CTDTMP,CTDSAL,CTDSAL_FLAG_W,SALNTY,SALNTY_FLAG_W,CTDOXY,CTDOXY_FLAG_W,OXYGEN,OXYGEN_FLAG_W,SILCAT,SILCAT_FLAG_W,NITRAT,NITRAT_FLAG_W,NITRIT,NITRIT_FLAG_W,PHSPHT,PHSPHT_FLAG_W,CFC-11,CFC-11_FLAG_W,CFC-12,CFC-12_FLAG_W,SF6,SF6_FLAG_W,TCARBN,TCARBN_FLAG_W,ALKALI,ALKALI_FLAG_W,PH_SWS,PH_SWS_FLAG_W,PH_TMP,DELC13,DELC13_FLAG_W,DELC14,DELC14_FLAG_W,C14ERR,CCL4,CCL4_FLAG_W,POC,POC_FLAG_W,DOC,DOC_FLAG_W,TDN,TDN_FLAG_W,PON,PON_FLAG_W,N2O,N2O_FLAG_W,D15N_NO3,D15N_NO3_FLAG_W,14C-DOC,14C-DOC_FLAG_W,14C-DOCERR,13C-DOC,13C-DOC_FLAG_W,N2/ARGON_UNSTRIPPED,N2/ARGON_UNSTRIPPED_FLAG_W,N2/ARGON_UNSTRIPPED_ERROR,N2/ARGON,N2/ARGON_FLAG_W,N2/ARGON_ERROR,D15N_N2,D15N_N2_FLAG_W,D15N_N2_ERROR,D15N_NO3_ERROR,D15N_NO2+NO3,D15N_NO2+NO3_FLAG_W,D18O_NO2+NO3,D18O_NO2+NO3_FLAG_W,D18O_NO3,D18O_NO3_FLAG_W,TDP,TDP_FLAG_W,N2O_ALT_1,N2O_ALT_1_FLAG_W,D15N_N2O,D15N_N2O_FLAG_W,D18O_N2O,D18O_N2O_FLAG_W,D15N_ALPHA_N2O,D15N_ALPHA_N2O_FLAG_W
,,,,,,,,,,,METERS,DBAR,ITS-90,PSS-78,,PSS-78,,UMOL/KG,,UMOL/KG,,UMOL/KG,,UMOL/KG,,UMOL/KG,,UMOL/KG,,PMOL/KG,,PMOL/KG,,FMOL/KG,,UMOL/KG,,UMOL/KG,,,,DEG C,/MILLE,,/MILLE,,/MILLE,PMOL/KG,,UG/KG,,UMOL/KG,,UMOL/KG,,UG/KG,,NMOL/KG,,/MILLE,,/MILLE,,/MILLE,/MILLE,,,,,,,,/MILLE,,/MILLE,/MILLE,/MILLE,,/MILLE,,/MILLE,,UMOL/KG,,NMOL/L,,/MILLE,,/MILLE,,/MILLE,
33RO20161119,        P18,     154,          1,          1,      11010,2,20170110,       2347,   -42.9996,  -102.9996,       3816,  3866.1,   1.2157,  34.7085,2,  34.7074,2,    191.4,2,   191.0,2,   121.8,2,    32.4,2,    0.00,2,   2.288,2,   0.0042,2,   0.0019,2,   0.0000,2,  2281.0,6,  2380.0,2,   7.6034,2,    25.00, -999.00,9,  -999.0,9,  -999.0,   0.0587,2, -999.00,9,  -999.0,9, -999.00,9, -999.00,9,    19.0427,2, -999.00,9,  -999.0,9,     -999.0,     -999.0,9,     -999.0,9,     -999.0,     -999.0,9,     -999.0,     -999.0,9,     -999.0,     -999.0,     -999.0,9,     -999.0,9,     -999.0,9,     -999.0,9,     -999.0,9,     -999.0,9,     -999.0,9,     -999.0,9
33RO20161119,        P18,     154,          1,          2,      11101,2,20170110,       2347,   -42.9996,  -102.9996,       3816,  3632.5,   1.2622,  34.7081,2,  34.7064,2,    188.8,2,   188.4,2,   121.1,2,    32.5,2,    0.00,2,   2.286,2,   0.0028,2,   0.0021,2,   0.0355,2,  2280.5,2,  2381.0,6,   7.6006,2,    25.00, -999.00,9,  -999.0,9,  -999.0,   0.1314,2, -999.00,9,  -999.0,9, -999.00,9, -999.00,9,      19.34,2, -999.00,9,  -999.0,9,     -999.0,     -999.0,9,     -999.0,9,     -999.0,     -999.0,9,     -999.0,     -999.0,9,     -999.0,     -999.0,     -999.0,9,     -999.0,9,     -999.0,9,     -999.0,9,     -999.0,9,     -999.0,9,     -999.0,9,     -999.0,9
33RO20161119,        P18,     154,          1,          3,      11102,2,20170110,       2347,   -42.9996,  -102.9996,       3816,  3400.3,   1.4371,  34.7095,2,  34.7079,2,    184.5,2,   184.4,2,   115.7,6,    32.6,6,    0.00,6,   2.289,6,   0.0098,2,   0.0049,2,   0.0000,2,  2278.3,2,  2378.4,2,   7.5961,6,    25.00, -999.00,9,  -999.0,9,  -999.0,   0.1117,2, -999.00,9,  -999.0,9, -999.00,9, -999.00,9,    19.5154,2, -999.00,9,  -999.0,9,     -999.0,     -999.0,9,     -999.0,9,     -999.0,     -999.0,9,     -999.0,     -999.0,9,     -999.0,     -999.0,     -999.0,9,     -999.0,9,     -999.0,9,     -999.0,9,     -999.0,9,     -999.0,9,     -999.0,9,     -999.0,9
33RO20161119,        P18,     154,          1,          4,      11103,2,20170110,       2347,   -42.9996,  -102.9996,       3816,  3100.3,   1.6263,  34.7072,2,  34.7062,2,    178.6,2,   179.0,2,   111.4,6,    32.7,6,    0.00,6,   2.302,6,   0.0157,2,   0.0082,2,   0.0000,2,  2279.1,2,  2376.2,2,   7.5895,2,    25.00, -999.00,9,  -999.0,9,  -999.0,    0.141,2, -999.00,9,  -999.0,9, -999.00,9, -999.00,9,    19.9861,2, -999.00,9,  -999.0,9,     -999.0,     -999.0,9,     -999.0,9,     -999.0,     -999.0,9,     -999.0,     -999.0,9,     -999.0,     -999.0,     -999.0,9,     -999.0,9,     -999.0,9,     -999.0,9,     -999.0,9,     -999.0,9,     -999.0,9,     -999.0,9
33RO20161119,        P18,     154,          1,          5,      11104,2,20170110,       2347,   -42.9996,  -102.9996,       3816,  2799.7,   1.7345,  34.7012,2,  34.7007,2,    173.2,2,   173.6,6,   109.4,6,    33.0,6,    0.00,6,   2.330,6,   0.0142,2,   0.0062,2,   0.0000,2,  2278.7,2,  2375.5,2,   7.5839,2,    25.00, -999.00,9,  -999.0,9,  -999.0,   0.1738,2, -999.00,9,  -999.0,9, -999.00,9, -999.00,9,    20.2974,2, -999.00,9,  -999.0,9,     -999.0,     -999.0,9,     -999.0,9,     -999.0,     -999.0,9,     -999.0,     -999.0,9,     -999.0,     -999.0,     -999.0,9,     -999.0,9,     -999.0,9,     -999.0,9,     -999.0,9,     -999.0,9,     -999.0,9,     -999.0,9
33RO20161119,        P18,     154,          1,          6,      11105,2,20170110,       2347,   -42.9996,  -102.9996,       3816,  2500.8,   1.8938,  34.6928,2,  34.6913,2,    169.6,2,   170.5,2,   104.6,6,    33.1,6,    0.01,6,   2.340,6,   0.0239,2,   0.0118,2,   0.0000,2,  2279.3,2,  2368.8,2,   7.5744,2,    25.00, -999.00,9,  -999.0,9,  -999.0,   0.2996,2, -999.00,9,  -999.0,9, -999.00,9, -999.00,9,    20.6359,2, -999.00,9,  -999.0,9,     -999.0,     -999.0,9,     -999.0,9,     -999.0,     -999.0,9,     -999.0,     -999.0,9,     -999.0,     -999.0,     -999.0,9,     -999.0,9,     -999.0,9,     -999.0,9,     -999.0,9,     -999.0,9,     -999.0,9,     -999.0,9
33RO20161119,        P18,     154,          1,          7,      11106,2,20170110,       2347,   -42.9996,  -102.9996,       3816,  2200.7,   2.1247,  34.6698,2,  34.6691,2,    165.7,2,   166.4,2,    96.0,2,    33.4,2,    0.01,2,   2.358,2,   0.0496,6,   0.0233,6,   0.0162,6,  2274.4,2,  2361.2,2,   7.5673,2,    25.00, -999.00,9,  -999.0,9,  -999.0,    1.164,2, -999.00,9,  -999.0,9, -999.00,9, -999.00,9,    21.2062,2, -999.00,9,  -999.0,9,     -999.0,     -999.0,9,     -999.0,9,     -999.0,     -999.0,9,     -999.0,     -999.0,9,     -999.0,     -999.0,     -999.0,9,     -999.0,9,     -999.0,9,     -999.0,9,     -999.0,9,     -999.0,9,     -999.0,9,     -999.0,9
33RO20161119,        P18,     154,          1,          8,      11107,2,20170110,       2347,   -42.9996,  -102.9996,       3816,  1900.7,   2.3629,  34.6174,2,  34.6166,2,    158.0,2,   158.7,2,    89.7,2,    34.4,2,    0.00,2,   2.419,2,   0.0712,2,   0.0336,2,   0.0235,2,  2273.0,2,  2355.0,2,   7.5536,2,    25.00, -999.00,9,  -999.0,9,  -999.0,   1.9731,2, -999.00,9,  -999.0,9, -999.00,9, -999.00,9,    22.4149,2, -999.00,9,  -999.0,9,     -999.0,     -999.0,9,     -999.0,9,     -999.0,     -999.0,9,     -999.0,     -999.0,9,     -999.0,     -999.0,     -999.0,9,     -999.0,9,     -999.0,9,     -999.0,9,     -999.0,9,     -999.0,9,     -999.0,9,     -999.0,9
33RO20161119,        P18,     154,          1,          9,      11108,2,20170110,       2347,   -42.9996,  -102.9996,       3816,  1560.2,   2.7824,  34.5418,2,  34.5404,2,    144.1,2,   144.8,2,    81.0,2,    36.1,2,    0.00,2,   2.545,2,   0.0875,2,   0.0415,2,   0.0000,2,  2272.7,2,  2347.8,2,   7.5248,2,    25.00, -999.00,9,  -999.0,9,  -999.0,   2.2119,2, -999.00,9,  -999.0,9, -999.00,9, -999.00,9,     25.202,2, -999.00,9,  -999.0,9,     -999.0,     -999.0,9,     -999.0,9,     -999.0,     -999.0,9,     -999.0,     -999.0,9,     -999.0,     -999.0,     -999.0,9,     -999.0,9,     -999.0,9,     -999.0,9,     -999.0,9,     -999.0,9,     -999.0,9,     -999.0,9
33RO20161119,        P18,     154,          1,         10,      11109,2,20170110,       2347,   -42.9996,  -102.9996,       3816,  1366.3,   3.0924,  34.4735,2,  34.4740,2,    149.9,2,   150.4,2,    67.7,2,    36.1,2,    0.00,2,   2.534,2,   0.1896,2,   0.0904,2,   0.0412,2,  2259.8,2,  2331.1,6,   7.5251,2,    25.00, -999.00,9,  -999.0,9,  -999.0,   3.1201,2, -999.00,9,  -999.0,9, -999.00,9, -999.00,9,    25.2717,2, -999.00,9,  -999.0,9,     -999.0,     -999.0,9,     -999.0,9,     -999.0,     -999.0,9,     -999.0,     -999.0,9,     -999.0,     -999.0,     -999.0,9,     -999.0,9,     -999.0,9,     -999.0,9,     -999.0,9,     -999.0,9,     -999.0,9,     -999.0,9
33RO20161119,        P18,     154,          1,         11,      11110,2,20170110,       2347,   -42.9996,  -102.9996,       3816,  1129.2,   3.6042,  34.3574,2,  34.3566,2,    184.6,2,   183.9,2,    44.2,2,    33.3,2,    0.00,2,   2.329,2,   0.9332,2,   0.4502,2,   0.1283,2,  2219.2,2,  2306.7,2,   7.5696,2,    25.00, -999.00,9,  -999.0,9,  -999.0,   3.0662,2, -999.00,9,  -999.0,9, -999.00,9, -999.00,9,    21.6378,2, -999.00,9,  -999.0,9,     -999.0,     -999.0,9,     -999.0,9,     -999.0,     -999.0,9,     -999.0,     -999.0,9,     -999.0,     -999.0,     -999.0,9,     -999.0,9,     -999.0,9,     -999.0,9,     -999.0,9,     -999.0,9,     -999.0,9,     -999.0,9
33RO20161119,        P18,     154,          1,         12,      11111,2,20170110,       2347,   -42.9996,  -102.9996,       3816,  1014.1,   4.0237,  34.3142,2,  34.3136,2,    198.9,2,   198.6,2,    34.6,2,    31.5,2,    0.00,2,   2.216,2,   1.5577,2,   0.7683,2,   0.2764,2,  2201.2,2,  2297.3,2,   7.5944,2,    25.00, -999.00,9,  -999.0,9,  -999.0,   3.5289,2, -999.00,9,  -999.0,9, -999.00,9, -999.00,9,     20.049,2, -999.00,9,  -999.0,9,     -999.0,     -999.0,9,     -999.0,9,     -999.0,     -999.0,9,     -999.0,     -999.0,9,     -999.0,     -999.0,     -999.0,9,     -999.0,9,     -999.0,9,     -999.0,9,     -999.0,9,     -999.0,9,     -999.0,9,     -999.0,9
33RO20161119,        P18,     154,          1,         13,      11112,2,20170110,       2347,   -42.9996,  -102.9996,       3816,   960.8,   4.2788,  34.2977,2,  34.2964,2,    204.9,2,   205.0,2,    30.0,2,    30.6,2,    0.01,2,   2.154,2,   1.9213,2,   0.9463,2,   0.3987,2,  2195.2,2,  2293.6,2,   7.6058,2,    25.00, -999.00,9,  -999.0,9,  -999.0,   3.6691,2, -999.00,9,  -999.0,9, -999.00,9, -999.00,9,    19.0765,2, -999.00,9,  -999.0,9,     -999.0,     -999.0,9,     -999.0,9,     -999.0,     -999.0,9,     -999.0,     -999.0,9,     -999.0,     -999.0,     -999.0,9,     -999.0,9,     -999.0,9,     -999.0,9,     -999.0,9,     -999.0,9,     -999.0,9,     -999.0,9
33RO20161119,        P18,     154,          1,         14,      11113,2,20170110,       2347,   -42.9996,  -102.9996,       3816,   834.8,   4.8579,  34.2691,2,  34.2687,2,    219.7,2,   220.2,2,    21.0,2,    28.3,2,    0.00,2,   1.999,2,   2.6753,2,   1.3649,2,   0.6948,2,  2177.8,2,  2284.4,2,   7.6362,2,    25.00, -999.00,9,  -999.0,9,  -999.0,   3.3749,2, -999.00,9,  -999.0,9, -999.00,9, -999.00,9,    17.3896,2, -999.00,9,  -999.0,9,     -999.0,     -999.0,9,     -999.0,9,     -999.0,     -999.0,9,     -999.0,     -999.0,9,     -999.0,     -999.0,     -999.0,9,     -999.0,9,     -999.0,9,     -999.0,9,     -999.0,9,     -999.0,9,     -999.0,9,     -999.0,9
33RO20161119,        P18,     154,          1,         15,      11114,2,20170110,       2347,   -42.9996,  -102.9996,       3816,   711.4,   5.3604,  34.2455,2,  34.2450,2,    244.4,2,   243.5,2,    13.6,2,    25.3,2,    0.01,2,   1.800,2,   3.5561,2,   1.8766,2,   1.2423,2,  2160.1,2,  2278.4,2,   7.6717,2,    25.00, -999.00,9,  -999.0,9,  -999.0,   3.7005,2, -999.00,9,  -999.0,9, -999.00,9, -999.00,9,    15.7561,2, -999.00,9,  -999.0,9,     -999.0,     -999.0,9,     -999.0,9,     -999.0,     -999.0,9,     -999.0,     -999.0,9,     -999.0,     -999.0,     -999.0,9,     -999.0,9,     -999.0,9,     -999.0,9,     -999.0,9,     -999.0,9,     -999.0,9,     -999.0,9
33RO20161119,        P18,     154,          1,         16,      11115,2,20170110,       2347,   -42.9996,  -102.9996,       3816,   601.0,   5.6931,  34.2446,2,  34.2432,2,    258.1,2,   258.2,2,    10.0,2,    23.3,2,    0.01,2,   1.663,2,   3.8727,2,   2.1240,2,   1.6603,2,  2149.1,2,  2275.4,2,   7.6906,2,    25.00, -999.00,9,  -999.0,9,  -999.0,   3.1509,2, -999.00,9,  -999.0,9, -999.00,9, -999.00,9,    14.4804,2, -999.00,9,  -999.0,9,     -999.0,     -999.0,9,     -999.0,9,     -999.0,     -999.0,9,     -999.0,     -999.0,9,     -999.0,     -999.0,     -999.0,9,     -999.0,9,     -999.0,9,     -999.0,9,     -999.0,9,     -999.0,9,     -999.0,9,     -999.0,9
33RO20161119,        P18,     154,          1,         17,      11116,2,20170110,       2347,   -42.9996,  -102.9996,       3816,   495.3,   5.9876,  34.2546,2,  34.2541,2,    264.9,2,   265.9,2,     8.0,2,    21.7,2,    0.01,2,   1.576,2,   4.0557,2,   2.2420,2,   1.8842,2,  2142.1,2,  2274.0,2,   7.7055,2,    25.00, -999.00,9,  -999.0,9,  -999.0,   3.7407,2, -999.00,9,  -999.0,9, -999.00,9, -999.00,9,    14.2212,2, -999.00,9,  -999.0,9,     -999.0,     -999.0,9,     -999.0,9,     -999.0,     -999.0,9,     -999.0,     -999.0,9,     -999.0,     -999.0,     -999.0,9,     -999.0,9,     -999.0,9,     -999.0,9,     -999.0,9,     -999.0,9,     -999.0,9,     -999.0,9
33RO20161119,        P18,     154,          1,         18,      11117,2,20170110,       2347,   -42.9996,  -102.9996,       3816,   384.4,   6.2541,  34.2674,2,  34.2647,2,    267.9,2,   268.0,2,     6.9,2,    20.8,2,    0.01,2,   1.527,2,   4.0786,2,   2.2715,2,   2.0596,2,  2138.3,2,  2273.1,2,   7.7141,6,    25.00, -999.00,9,  -999.0,9,  -999.0,    3.732,2, -999.00,9,  -999.0,9, -999.00,9, -999.00,9,    14.4725,2, -999.00,9,  -999.0,9,     -999.0,     -999.0,9,     -999.0,9,     -999.0,     -999.0,9,     -999.0,     -999.0,9,     -999.0,     -999.0,     -999.0,9,     -999.0,9,     -999.0,9,     -999.0,9,     -999.0,9,     -999.0,9,     -999.0,9,     -999.0,9
33RO20161119,        P18,     154,          1,         19,      11083,2,20170110,       2347,   -42.9996,  -102.9996,       3816,   289.1,   6.4810,  34.2669,2,  34.2647,2,    265.5,2,   268.3,2,     6.0,2,    20.1,2,    0.01,2,   1.502,2,   4.0763,2,   2.3049,2,   2.1454,2,  2136.9,2,  2270.9,2,   7.7161,2,    25.00, -999.00,9,  -999.0,9,  -999.0,   3.4773,2, -999.00,9,  -999.0,9, -999.00,9, -999.00,9,    15.7832,2, -999.00,9,  -999.0,9,     -999.0,     -999.0,9,     -999.0,9,     -999.0,     -999.0,9,     -999.0,     -999.0,9,     -999.0,     -999.0,     -999.0,9,     -999.0,9,     -999.0,9,     -999.0,9,     -999.0,9,     -999.0,9,     -999.0,9,     -999.0,9
33RO20161119,        P18,     154,          1,         20,      11118,2,20170110,       2347,   -42.9996,  -102.9996,       3816,   215.1,   6.6483,  34.2431,2,  34.2463,2,    269.7,2,   270.3,6,     5.0,2,    19.4,2,    0.02,2,   1.462,2,   4.0781,2,   2.2992,2,   2.3403,2,  2134.8,2,  2270.2,2,   7.7218,2,    25.00, -999.00,9,  -999.0,9,  -999.0,    3.623,2, -999.00,9,  -999.0,9, -999.00,9, -999.00,9,    17.5881,2, -999.00,9,  -999.0,9,     -999.0,     -999.0,9,     -999.0,9,     -999.0,     -999.0,9,     -999.0,     -999.0,9,     -999.0,     -999.0,     -999.0,9,     -999.0,9,     -999.0,9,     -999.0,9,     -999.0,9,     -999.0,9,     -999.0,9,     -999.0,9
33RO20161119,        P18,     154,          1,         21,      11119,2,20170110,       2347,   -42.9996,  -102.9996,       3816,   139.5,   7.4821,  34.1569,2,  34.1579,2,    270.9,2,   270.2,2,     3.0,2,    17.3,2,    0.23,2,   1.348,2,   3.9352,2,   2.2432,2,   2.4212,2,  2121.2,2,  2264.6,2,   7.7411,2,    25.00, -999.00,9,  -999.0,9,  -999.0,   0.0562,2, -999.00,9,  -999.0,9, -999.00,9, -999.00,9,    16.6948,2, -999.00,9,  -999.0,9,     -999.0,     -999.0,9,     -999.0,9,     -999.0,     -999.0,9,     -999.0,     -999.0,9,     -999.0,     -999.0,     -999.0,9,     -999.0,9,     -999.0,9,     -999.0,9,     -999.0,9,     -999.0,9,     -999.0,9,     -999.0,9
33RO20161119,        P18,     154,          1,         22,      11120,2,20170110,       2347,   -42.9996,  -102.9996,       3816,    69.6,   9.8347,  34.0151,2,  34.0209,2,    284.8,2,   285.2,2,     1.3,2,    11.9,2,    0.18,2,   1.047,2,   3.5337,6,   2.0406,6,   2.4722,6,  2083.7,2,  2259.1,2,   7.8212,2,    25.00, -999.00,9,  -999.0,9,  -999.0,   0.1298,2, -999.00,9,  -999.0,9, -999.00,9, -999.00,9,    11.4008,2, -999.00,9,  -999.0,9,     -999.0,     -999.0,9,     -999.0,9,     -999.0,     -999.0,9,     -999.0,     -999.0,9,     -999.0,     -999.0,     -999.0,9,     -999.0,9,     -999.0,9,     -999.0,9,     -999.0,9,     -999.0,9,     -999.0,9,     -999.0,9
33RO20161119,        P18,     154,          1,         23,      11121,2,20170110,       2347,   -42.9996,  -102.9996,       3816,    30.8,  12.7523,  33.9637,2,  33.9637,2,    267.2,2,   270.0,2,     1.0,2,    10.6,2,    0.21,2,   0.959,2,   3.0992,2,   1.8145,2,   2.2311,2,  2066.7,6,  2256.4,6,   7.8485,2,    25.00, -999.00,9,  -999.0,9,  -999.0,    0.219,2, -999.00,9,  -999.0,9, -999.00,9, -999.00,9,     9.7075,2, -999.00,9,  -999.0,9,     -999.0,     -999.0,9,     -999.0,9,     -999.0,     -999.0,9,     -999.0,     -999.0,9,     -999.0,     -999.0,     -999.0,9,     -999.0,9,     -999.0,9,     -999.0,9,     -999.0,9,     -999.0,9,     -999.0,9,     -999.0,9
33RO20161119,        P18,     154,          1,         24,      11122,2,20170110,       2347,   -42.9996,  -102.9996,       3816,     2.7,  12.7650,  33.9657,2,  33.9638,2,    266.4,2,   269.6,2,     0.9,2,    10.6,2,    0.22,2,   0.966,2,   3.0725,2,   1.8021,2,   2.2389,2,  2068.7,2,  2256.2,2,   7.8486,2,    25.00, -999.00,9,  -999.0,9,  -999.0,   1.2212,2, -999.00,9,  -999.0,9, -999.00,9, -999.00,9,     9.7921,2, -999.00,9,  -999.0,9,     -999.0,     -999.0,9,     -999.0,9,     -999.0,     -999.0,9,     -999.0,     -999.0,9,     -999.0,     -999.0,     -999.0,9,     -999.0,9,     -999.0,9,     -999.0,9,     -999.0,9,     -999.0,9,     -999.0,9,     -999.0,9