BOTTLE,20230606CCHSIOCBG
EXPOCODE,SECT_ID,STNNBR,CASTNO,SAMPNO,BTLNBR,BTLNBR_FLAG_W,DATE,TIME,LATITUDE,LONGITUDE,DEPTH,CTDPRS,CTDTMP,CTDSAL,CTDSAL_FLAG_W,SALNTY,SALNTY_FLAG_W,CTDOXY,CTDOXY_FLAG_W,OXYGEN,OXYGEN_FLAG_W,SILCAT,SILCAT_FLAG_W,NITRAT,NITRAT_FLAG_W,NITRIT,NITRIT_FLAG_W,PHSPHT,PHSPHT_FLAG_W,CFC-11,CFC-11_FLAG_W,CFC-12,CFC-12_FLAG_W,SF6,SF6_FLAG_W,TCARBN,TCARBN_FLAG_W,ALKALI,ALKALI_FLAG_W,PH_SWS,PH_SWS_FLAG_W,PH_TMP,DELC13,DELC13_FLAG_W,DELC14,DELC14_FLAG_W,C14ERR,CCL4,CCL4_FLAG_W,POC,POC_FLAG_W,DOC,DOC_FLAG_W,TDN,TDN_FLAG_W,PON,PON_FLAG_W,N2O,N2O_FLAG_W,D15N_NO3,D15N_NO3_FLAG_W,14C-DOC,14C-DOC_FLAG_W,14C-DOCERR,13C-DOC,13C-DOC_FLAG_W,N2/ARGON_UNSTRIPPED,N2/ARGON_UNSTRIPPED_FLAG_W,N2/ARGON_UNSTRIPPED_ERROR,N2/ARGON,N2/ARGON_FLAG_W,N2/ARGON_ERROR,D15N_N2,D15N_N2_FLAG_W,D15N_N2_ERROR,D15N_NO3_ERROR,D15N_NO2+NO3,D15N_NO2+NO3_FLAG_W,D18O_NO2+NO3,D18O_NO2+NO3_FLAG_W,D18O_NO3,D18O_NO3_FLAG_W,TDP,TDP_FLAG_W,N2O_ALT_1,N2O_ALT_1_FLAG_W,D15N_N2O,D15N_N2O_FLAG_W,D18O_N2O,D18O_N2O_FLAG_W,D15N_ALPHA_N2O,D15N_ALPHA_N2O_FLAG_W
,,,,,,,,,,,METERS,DBAR,ITS-90,PSS-78,,PSS-78,,UMOL/KG,,UMOL/KG,,UMOL/KG,,UMOL/KG,,UMOL/KG,,UMOL/KG,,PMOL/KG,,PMOL/KG,,FMOL/KG,,UMOL/KG,,UMOL/KG,,,,DEG C,/MILLE,,/MILLE,,/MILLE,PMOL/KG,,UG/KG,,UMOL/KG,,UMOL/KG,,UG/KG,,NMOL/KG,,/MILLE,,/MILLE,,/MILLE,/MILLE,,,,,,,,/MILLE,,/MILLE,/MILLE,/MILLE,,/MILLE,,/MILLE,,UMOL/KG,,NMOL/L,,/MILLE,,/MILLE,,/MILLE,
33RO20161119,        P18,      85,          1,          1,      11010,2,20161213,       1948,    -9.1200,  -104.2400,       3924,  3975.1,   1.8007,  34.6780,2,  34.6793,2,    136.9,2,   136.6,6,   143.5,6,    37.0,6,    0.00,6,   2.540,6,   0.0019,2,   0.0011,2,   0.0000,2,  2337.8,6,  2429.9,2,   7.5649,6,    25.00, -999.00,9,  -999.0,9,  -999.0,   0.0107,2, -999.00,9,    38.3,2,   39.90,2, -999.00,9,    21.6862,2, -999.00,9,  -999.0,9,     -999.0,     -999.0,9,     -999.0,9,     -999.0,     -999.0,9,     -999.0,     -999.0,9,     -999.0,     -999.0,     -999.0,9,     -999.0,9,     -999.0,9,     -999.0,9,     -999.0,9,     -999.0,9,     -999.0,9,     -999.0,9
33RO20161119,        P18,      85,          1,          2,      11101,2,20161213,       1948,    -9.1200,  -104.2400,       3924,  3689.2,   1.7708,  34.6779,2,  34.6790,2,    136.9,2,   135.8,2,   143.5,6,    37.0,6,    0.00,6,   2.550,6,   0.0026,2,   0.0020,2,   0.0000,2,  2335.5,2,  2430.9,2,   7.5645,2,    25.00, -999.00,9,  -999.0,9,  -999.0,        0,2, -999.00,9,    37.4,2,   39.40,2, -999.00,9,    21.9461,2, -999.00,9,  -999.0,9,     -999.0,     -999.0,9,     -999.0,9,     -999.0,     -999.0,9,     -999.0,     -999.0,9,     -999.0,     -999.0,     -999.0,9,     -999.0,9,     -999.0,9,     -999.0,9,     -999.0,9,     -999.0,9,     -999.0,9,     -999.0,9
33RO20161119,        P18,      85,          1,          3,      11102,2,20161213,       1948,    -9.1200,  -104.2400,       3924,  3400.1,   1.7533,  34.6771,2,  34.6779,2,    135.8,2,   135.0,2,   143.3,6,    37.1,6,    0.00,6,   2.553,6,   0.0019,6,   0.0012,6,   0.0121,6,  2337.7,2,  2428.0,2,   7.5629,2,    25.00, -999.00,9,  -999.0,9,  -999.0,   0.0105,2, -999.00,9,    37.6,2,   40.90,2, -999.00,9,    21.3993,2, -999.00,9,  -999.0,9,     -999.0,     -999.0,9,     -999.0,9,     -999.0,     -999.0,9,     -999.0,     -999.0,9,     -999.0,     -999.0,     -999.0,9,     -999.0,9,     -999.0,9,     -999.0,9,     -999.0,9,     -999.0,9,     -999.0,9,     -999.0,9
33RO20161119,        P18,      85,          1,          4,      11103,2,20161213,       1948,    -9.1200,  -104.2400,       3924,  3095.4,   1.7575,  34.6758,2,  34.6817,4,    133.4,2,   134.0,2,   141.9,6,    37.1,6,    0.00,6,   2.557,6,   0.0015,2,   0.0012,2,   0.0000,2,  2336.0,2,  2426.4,2,   7.5575,2,    25.00, -999.00,9,  -999.0,9,  -999.0,    0.009,2, -999.00,9,    36.3,2,   40.10,2, -999.00,9,    22.3257,2, -999.00,9,  -999.0,9,     -999.0,     -999.0,9,     -999.0,9,     -999.0,     -999.0,9,     -999.0,     -999.0,9,     -999.0,     -999.0,     -999.0,9,     -999.0,9,     -999.0,9,     -999.0,9,     -999.0,9,     -999.0,9,     -999.0,9,     -999.0,9
33RO20161119,        P18,      85,          1,          5,      11104,2,20161213,       1948,    -9.1200,  -104.2400,       3924,  2800.3,   1.8001,  34.6721,2,  34.6725,2,    130.5,2,   130.5,2,   141.3,2,    37.2,2,    0.00,2,   2.587,2,   0.0018,2,   0.0016,2,   0.0000,2,  2335.2,2,  2423.2,6,   7.5487,2,    25.00, -999.00,9,  -999.0,9,  -999.0,        0,2, -999.00,9,    37.3,2,   39.80,2, -999.00,9,    22.6605,2, -999.00,9,  -999.0,9,     -999.0,     -999.0,9,     -999.0,9,     -999.0,     -999.0,9,     -999.0,     -999.0,9,     -999.0,     -999.0,     -999.0,9,     -999.0,9,     -999.0,9,     -999.0,9,     -999.0,9,     -999.0,9,     -999.0,9,     -999.0,9
33RO20161119,        P18,      85,          1,          6,      11105,2,20161213,       1948,    -9.1200,  -104.2400,       3924,  2500.3,   1.9015,  34.6652,2,  34.6655,2,    123.7,2,   123.2,2,   139.6,2,    37.7,2,    0.00,2,   2.627,2,   0.0009,2,   0.0014,2,   0.0142,2,  2337.9,2,  2421.1,2,   7.5346,2,    25.00, -999.00,9,  -999.0,9,  -999.0,        0,2, -999.00,9,    36.7,2,   42.00,2, -999.00,9,    23.0874,2, -999.00,9,  -999.0,9,     -999.0,     -999.0,9,     -999.0,9,     -999.0,     -999.0,9,     -999.0,     -999.0,9,     -999.0,     -999.0,     -999.0,9,     -999.0,9,     -999.0,9,     -999.0,9,     -999.0,9,     -999.0,9,     -999.0,9,     -999.0,9
33RO20161119,        P18,      85,          1,          7,      11106,2,20161213,       1948,    -9.1200,  -104.2400,       3924,  2198.8,   2.0876,  34.6536,2,  34.6544,2,    116.4,2,   116.4,2,   135.9,2,    38.2,2,    0.00,2,   2.679,2,   0.0018,2,   0.0000,2,   0.0000,2,  2339.5,6,  2413.2,2,   7.5180,2,    25.00, -999.00,9,  -999.0,9,  -999.0,        0,2, -999.00,9,    38.8,2,   42.30,2, -999.00,9,    24.9367,2, -999.00,9,  -999.0,9,     -999.0,     -999.0,9,     -999.0,9,     -999.0,     -999.0,9,     -999.0,     -999.0,9,     -999.0,     -999.0,     -999.0,9,     -999.0,9,     -999.0,9,     -999.0,9,     -999.0,9,     -999.0,9,     -999.0,9,     -999.0,9
33RO20161119,        P18,      85,          1,          8,      11107,2,20161213,       1948,    -9.1200,  -104.2400,       3924,  1900.4,   2.3534,  34.6355,2,  34.6374,2,    111.1,2,   110.5,6,   127.7,2,    38.6,2,    0.00,2,   2.711,2,   0.0012,2,   0.0000,2,   0.0000,2,  2332.1,2,  2404.0,2,   7.5062,2,    25.00, -999.00,9,  -999.0,9,  -999.0,        0,2, -999.00,9,    37.1,2,   43.30,2, -999.00,9,    25.8654,2, -999.00,9,  -999.0,9,     -999.0,     -999.0,9,     -999.0,9,     -999.0,     -999.0,9,     -999.0,     -999.0,9,     -999.0,     -999.0,     -999.0,9,     -999.0,9,     -999.0,9,     -999.0,9,     -999.0,9,     -999.0,9,     -999.0,9,     -999.0,9
33RO20161119,        P18,      85,          1,          9,      11108,2,20161213,       1948,    -9.1200,  -104.2400,       3924,  1560.6,   2.8520,  34.6059,2,  34.6065,2,    100.1,2,   100.3,2,   114.7,2,    39.4,2,    0.00,2,   2.784,2,   0.0010,2,   0.0005,2,   0.0000,2,  2323.5,2,  2387.8,2,   7.4826,2,    25.00, -999.00,9,  -999.0,9,  -999.0,        0,2, -999.00,9,    37.7,2,   44.20,2, -999.00,9,    27.6813,2, -999.00,9,  -999.0,9,     -999.0,     -999.0,9,     -999.0,9,     -999.0,     -999.0,9,     -999.0,     -999.0,9,     -999.0,     -999.0,     -999.0,9,     -999.0,9,     -999.0,9,     -999.0,9,     -999.0,9,     -999.0,9,     -999.0,9,     -999.0,9
33RO20161119,        P18,      85,          1,         10,      11109,2,20161213,       1948,    -9.1200,  -104.2400,       3924,  1365.4,   3.2720,  34.5837,2,  34.5860,2,     92.6,2,    91.9,2,   103.2,2,    40.1,2,    0.00,2,   2.834,2,   0.0015,6,   0.0010,6,   0.0074,6,  2316.9,2,  2375.1,2,   7.4647,2,    25.00, -999.00,9,  -999.0,9,  -999.0,        0,2, -999.00,9,    36.3,2,   43.90,2, -999.00,9,    29.7749,2, -999.00,9,  -999.0,9,     -999.0,     -999.0,9,     -999.0,9,     -999.0,     -999.0,9,     -999.0,     -999.0,9,     -999.0,     -999.0,     -999.0,9,     -999.0,9,     -999.0,9,     -999.0,9,     -999.0,9,     -999.0,9,     -999.0,9,     -999.0,9
33RO20161119,        P18,      85,          1,         11,      11110,2,20161213,       1948,    -9.1200,  -104.2400,       3924,  1224.5,   3.6960,  34.5660,2,  34.5662,2,     89.8,2,    89.1,2,    93.2,2,    40.1,2,    0.00,2,   2.824,2,   0.0012,2,   0.0009,2,   0.0000,2,  2306.7,2,  2364.8,2,   7.4613,2,    25.00, -999.00,9,  -999.0,9,  -999.0,   0.0156,2, -999.00,9,    37.2,2,   44.10,2, -999.00,9,    31.6873,2, -999.00,9,  -999.0,9,     -999.0,     -999.0,9,     -999.0,9,     -999.0,     -999.0,9,     -999.0,     -999.0,9,     -999.0,     -999.0,     -999.0,9,     -999.0,9,     -999.0,9,     -999.0,9,     -999.0,9,     -999.0,9,     -999.0,9,     -999.0,9
33RO20161119,        P18,      85,          1,         12,      11111,2,20161213,       1948,    -9.1200,  -104.2400,       3924,  1095.2,   4.1206,  34.5498,2,  34.5495,2,     89.2,2,    88.0,2,    82.7,2,    40.0,2,    0.00,2,   2.816,2,   0.0033,2,   0.0009,2,   0.0000,2,  2297.4,2,  2353.0,2,   7.4613,2,    25.00, -999.00,9,  -999.0,9,  -999.0,        0,2, -999.00,9,    37.6,2,   45.20,2, -999.00,9,    32.2714,2, -999.00,9,  -999.0,9,     -999.0,     -999.0,9,     -999.0,9,     -999.0,     -999.0,9,     -999.0,     -999.0,9,     -999.0,     -999.0,     -999.0,9,     -999.0,9,     -999.0,9,     -999.0,9,     -999.0,9,     -999.0,9,     -999.0,9,     -999.0,9
33RO20161119,        P18,      85,          1,         13,      11112,2,20161213,       1948,    -9.1200,  -104.2400,       3924,   960.0,   4.6987,  34.5380,2,  34.5425,2,     69.7,2,    68.8,2,    72.6,2,    41.7,2,    0.00,2,   2.915,2,   0.0031,2,   0.0023,2,   0.0000,2,  2297.0,2,  2340.7,2,   7.4240,2,    25.00, -999.00,9,  -999.0,9,  -999.0,        0,2, -999.00,9,    38.5,2,   47.20,2, -999.00,9,    37.2087,2, -999.00,9,  -999.0,9,     -999.0,     -999.0,9,     -999.0,9,     -999.0,     -999.0,9,     -999.0,     -999.0,9,     -999.0,     -999.0,     -999.0,9,     -999.0,9,     -999.0,9,     -999.0,9,     -999.0,9,     -999.0,9,     -999.0,9,     -999.0,9
33RO20161119,        P18,      85,          1,         14,      11113,2,20161213,       1948,    -9.1200,  -104.2400,       3924,   836.2,   5.4392,  34.5353,2,  34.5349,2,     47.6,2,    48.5,2,    61.1,2,    43.2,2,    0.00,2,   3.006,2,   0.0035,2,   0.0022,2,   0.0000,2,  2295.4,2,  2326.3,2,   7.3876,2,    25.00, -999.00,9,  -999.0,9,  -999.0,   0.0118,2, -999.00,9,    40.1,2,   49.10,2, -999.00,9,    42.8228,2, -999.00,9,  -999.0,9,     -999.0,     -999.0,9,     -999.0,9,     -999.0,     -999.0,9,     -999.0,     -999.0,9,     -999.0,     -999.0,     -999.0,9,     -999.0,9,     -999.0,9,     -999.0,9,     -999.0,9,     -999.0,9,     -999.0,9,     -999.0,9
33RO20161119,        P18,      85,          1,         15,      11114,2,20161213,       1948,    -9.1200,  -104.2400,       3924,   710.6,   6.4085,  34.5537,2,  34.5526,2,     23.5,2,    22.7,2,    50.4,2,    44.3,2,    0.00,2,   3.038,2,   0.0085,2,   0.0055,2,   0.0000,2,  2295.0,2,  2313.9,6,   7.3476,2,    25.00, -999.00,9,  -999.0,9,  -999.0,   0.0158,2, -999.00,9,    42.5,2,   49.00,2, -999.00,9,     55.314,2, -999.00,9,  -999.0,9,     -999.0,     -999.0,9,     -999.0,9,     -999.0,     -999.0,9,     -999.0,     -999.0,9,     -999.0,     -999.0,     -999.0,9,     -999.0,9,     -999.0,9,     -999.0,9,     -999.0,9,     -999.0,9,     -999.0,9,     -999.0,9
33RO20161119,        P18,      85,          1,         16,      11115,2,20161213,       1948,    -9.1200,  -104.2400,       3924,   600.3,   7.6432,  34.6016,2,  34.5999,2,     10.8,2,    10.3,2,    41.5,2,    42.3,2,    0.00,2,   2.972,2,   0.0368,2,   0.0358,2,   0.3331,3,  2288.5,2,  2306.6,2,   7.3379,2,    25.00, -999.00,9,  -999.0,9,  -999.0,   0.0251,2, -999.00,9,    42.8,2,   47.90,2, -999.00,9,    69.2717,2, -999.00,9,  -999.0,9,     -999.0,     -999.0,9,     -999.0,9,     -999.0,     -999.0,9,     -999.0,     -999.0,9,     -999.0,     -999.0,     -999.0,9,     -999.0,9,     -999.0,9,     -999.0,9,     -999.0,9,     -999.0,9,     -999.0,9,     -999.0,9
33RO20161119,        P18,      85,          1,         17,      11116,2,20161213,       1948,    -9.1200,  -104.2400,       3924,   495.4,   9.2044,  34.6926,2,  34.6927,2,      5.1,2,     4.3,2,    36.0,2,    38.0,2,    0.00,2,   2.786,2,   0.1477,2,   0.0858,2,   0.0474,2,  2280.4,2,  2303.7,2,   7.3569,2,    25.00, -999.00,9,  -999.0,9,  -999.0,   0.0461,2, -999.00,9,    44.6,2,   41.30,2, -999.00,9,    75.8535,2, -999.00,9,  -999.0,9,     -999.0,     -999.0,9,     -999.0,9,     -999.0,     -999.0,9,     -999.0,     -999.0,9,     -999.0,     -999.0,     -999.0,9,     -999.0,9,     -999.0,9,     -999.0,9,     -999.0,9,     -999.0,9,     -999.0,9,     -999.0,9
33RO20161119,        P18,      85,          1,         18,      11117,2,20161213,       1948,    -9.1200,  -104.2400,       3924,   385.0,  10.3632,  34.7657,2,  34.7715,2,      8.2,2,     8.6,2,    30.8,2,    35.0,2,    0.01,2,   2.592,2,   0.4082,2,   0.2291,2,   0.0822,2,  2269.1,2,  2302.2,2,   7.3918,2,    25.00, -999.00,9,  -999.0,9,  -999.0,   0.0687,2, -999.00,9,    44.1,2,   39.10,2, -999.00,9,    71.0808,2, -999.00,9,  -999.0,9,     -999.0,     -999.0,9,     -999.0,9,     -999.0,     -999.0,9,     -999.0,     -999.0,9,     -999.0,     -999.0,     -999.0,9,     -999.0,9,     -999.0,9,     -999.0,9,     -999.0,9,     -999.0,9,     -999.0,9,     -999.0,9
33RO20161119,        P18,      85,          1,         19,      11083,2,20161213,       1948,    -9.1200,  -104.2400,       3924,   289.9,  11.5213,  34.8411,2,  34.8399,2,     19.8,2,    20.9,2,    25.2,2,    32.0,2,    0.00,2,   2.369,2,   0.8006,2,   0.4466,2,   0.2024,2,  2252.1,2,  2301.3,2,   7.4445,2,    25.00, -999.00,9,  -999.0,9,  -999.0,   0.0762,2, -999.00,9,    44.5,2,   35.60,2, -999.00,9,    70.4633,2, -999.00,9,  -999.0,9,     -999.0,     -999.0,9,     -999.0,9,     -999.0,     -999.0,9,     -999.0,     -999.0,9,     -999.0,     -999.0,     -999.0,9,     -999.0,9,     -999.0,9,     -999.0,9,     -999.0,9,     -999.0,9,     -999.0,9,     -999.0,9
33RO20161119,        P18,      85,          1,         20,      11118,2,20161213,       1948,    -9.1200,  -104.2400,       3924,   215.6,  12.5751,  34.9043,2,  34.9030,2,     11.1,2,    10.5,2,    23.3,2,    29.8,2,    0.01,2,   2.388,2,   1.0788,2,   0.6090,2,   0.2866,2,  2252.7,2,  2300.9,6,   7.4404,2,    25.00, -999.00,9,  -999.0,9,  -999.0,   0.2163,2, -999.00,9,    46.5,2,   34.60,2, -999.00,9,    68.7044,2, -999.00,9,  -999.0,9,     -999.0,     -999.0,9,     -999.0,9,     -999.0,     -999.0,9,     -999.0,     -999.0,9,     -999.0,     -999.0,     -999.0,9,     -999.0,9,     -999.0,9,     -999.0,9,     -999.0,9,     -999.0,9,     -999.0,9,     -999.0,9
33RO20161119,        P18,      85,          1,         21,      11119,2,20161213,       1948,    -9.1200,  -104.2400,       3924,   140.5,  14.8888,  35.0347,2,  35.0421,2,     51.4,2,    48.1,2,    11.0,2,    23.2,2,    0.03,2,   2.033,2,   1.9142,2,   1.1342,2,   0.9091,2,  2220.6,2,  2310.9,2,   7.5595,6,    25.00, -999.00,9,  -999.0,9,  -999.0,   1.6094,2, -999.00,9,    49.5,2,   24.50,2, -999.00,9,    66.7249,2, -999.00,9,  -999.0,9,     -999.0,     -999.0,9,     -999.0,9,     -999.0,     -999.0,9,     -999.0,     -999.0,9,     -999.0,     -999.0,     -999.0,9,     -999.0,9,     -999.0,9,     -999.0,9,     -999.0,9,     -999.0,9,     -999.0,9,     -999.0,9
33RO20161119,        P18,      85,          1,         22,      11120,2,20161213,       1948,    -9.1200,  -104.2400,       3924,    56.3,  24.1823,  35.4571,2,  35.4563,2,    208.7,2,   210.8,2,     2.5,2,     6.4,2,    0.13,2,   0.669,2,   1.7345,2,   1.0858,2,   1.4837,2,  2060.6,2,  2336.9,2,   7.9799,2,    25.00, -999.00,9,  -999.0,9,  -999.0,   1.5203,2, -999.00,9,    64.0,2,    8.90,2, -999.00,9,     7.1802,2, -999.00,9,  -999.0,9,     -999.0,     -999.0,9,     -999.0,9,     -999.0,     -999.0,9,     -999.0,     -999.0,9,     -999.0,     -999.0,     -999.0,9,     -999.0,9,     -999.0,9,     -999.0,9,     -999.0,9,     -999.0,9,     -999.0,9,     -999.0,9
33RO20161119,        P18,      85,          1,         23,      11121,2,20161213,       1948,    -9.1200,  -104.2400,       3924,    30.0,  24.2659,  35.2785,2,  35.2810,2,    208.8,2,   210.7,2,     2.4,2,     7.3,2,    0.15,2,   0.705,2,   1.7376,2,   1.0880,2,   1.4766,2,  2060.5,6,  2325.4,2,   7.9687,2,    25.00, -999.00,9,  -999.0,9,  -999.0,   1.6106,2, -999.00,9,    63.2,2,   10.90,2, -999.00,9,     7.2658,2, -999.00,9,  -999.0,9,     -999.0,     -999.0,9,     -999.0,9,     -999.0,     -999.0,9,     -999.0,     -999.0,9,     -999.0,     -999.0,     -999.0,9,     -999.0,9,     -999.0,9,     -999.0,9,     -999.0,9,     -999.0,9,     -999.0,9,     -999.0,9
33RO20161119,        P18,      85,          1,         24,      11122,2,20161213,       1948,    -9.1200,  -104.2400,       3924,     3.6,  24.4969,  35.2984,2,  35.2968,2,    204.3,2,   210.4,2,     2.4,2,     7.3,2,    0.15,2,   0.693,2,   1.7306,2,   1.0829,2,   1.4577,2,  2060.9,2,  2328.5,2,   7.9680,2,    25.00, -999.00,9,  -999.0,9,  -999.0,   0.0096,2, -999.00,9,    62.0,2,   11.50,2, -999.00,9,     7.0772,2, -999.00,9,  -999.0,9,     -999.0,     -999.0,9,     -999.0,9,     -999.0,     -999.0,9,     -999.0,     -999.0,9,     -999.0,     -999.0,     -999.0,9,     -999.0,9,     -999.0,9,     -999.0,9,     -999.0,9,     -999.0,9,     -999.0,9,     -999.0,9