BOTTLE,20230606CCHSIOCBG
EXPOCODE,SECT_ID,STNNBR,CASTNO,SAMPNO,BTLNBR,BTLNBR_FLAG_W,DATE,TIME,LATITUDE,LONGITUDE,DEPTH,CTDPRS,CTDTMP,CTDSAL,CTDSAL_FLAG_W,SALNTY,SALNTY_FLAG_W,CTDOXY,CTDOXY_FLAG_W,OXYGEN,OXYGEN_FLAG_W,SILCAT,SILCAT_FLAG_W,NITRAT,NITRAT_FLAG_W,NITRIT,NITRIT_FLAG_W,PHSPHT,PHSPHT_FLAG_W,CFC-11,CFC-11_FLAG_W,CFC-12,CFC-12_FLAG_W,SF6,SF6_FLAG_W,TCARBN,TCARBN_FLAG_W,ALKALI,ALKALI_FLAG_W,PH_SWS,PH_SWS_FLAG_W,PH_TMP,DELC13,DELC13_FLAG_W,DELC14,DELC14_FLAG_W,C14ERR,CCL4,CCL4_FLAG_W,POC,POC_FLAG_W,DOC,DOC_FLAG_W,TDN,TDN_FLAG_W,PON,PON_FLAG_W,N2O,N2O_FLAG_W,D15N_NO3,D15N_NO3_FLAG_W,14C-DOC,14C-DOC_FLAG_W,14C-DOCERR,13C-DOC,13C-DOC_FLAG_W,N2/ARGON_UNSTRIPPED,N2/ARGON_UNSTRIPPED_FLAG_W,N2/ARGON_UNSTRIPPED_ERROR,N2/ARGON,N2/ARGON_FLAG_W,N2/ARGON_ERROR,D15N_N2,D15N_N2_FLAG_W,D15N_N2_ERROR,D15N_NO3_ERROR,D15N_NO2+NO3,D15N_NO2+NO3_FLAG_W,D18O_NO2+NO3,D18O_NO2+NO3_FLAG_W,D18O_NO3,D18O_NO3_FLAG_W,TDP,TDP_FLAG_W,N2O_ALT_1,N2O_ALT_1_FLAG_W,D15N_N2O,D15N_N2O_FLAG_W,D18O_N2O,D18O_N2O_FLAG_W,D15N_ALPHA_N2O,D15N_ALPHA_N2O_FLAG_W
,,,,,,,,,,,METERS,DBAR,ITS-90,PSS-78,,PSS-78,,UMOL/KG,,UMOL/KG,,UMOL/KG,,UMOL/KG,,UMOL/KG,,UMOL/KG,,PMOL/KG,,PMOL/KG,,FMOL/KG,,UMOL/KG,,UMOL/KG,,,,DEG C,/MILLE,,/MILLE,,/MILLE,PMOL/KG,,UG/KG,,UMOL/KG,,UMOL/KG,,UG/KG,,NMOL/KG,,/MILLE,,/MILLE,,/MILLE,/MILLE,,,,,,,,/MILLE,,/MILLE,/MILLE,/MILLE,,/MILLE,,/MILLE,,UMOL/KG,,NMOL/L,,/MILLE,,/MILLE,,/MILLE,
33RO20161119,        P18,      15,          1,          1,      11010,2,20161127,       1625,    16.9999,  -110.0003,       3511,  3551.7,   1.7231,  34.6743,2,  34.6779,2,    120.9,2,   120.8,2,   156.9,6,    38.1,6,    0.01,6,   2.638,6,   0.0082,2,   0.0042,2,   0.0000,2,  2352.5,6,  2431.4,2,   7.5645,3,    25.00, -999.00,9,  -999.0,9,  -999.0,   0.0191,2, -999.00,9,    35.9,2,   40.20,2, -999.00,9,     22.359,2, -999.00,9,  -999.0,9,     -999.0,     -999.0,9,      38.09,2,     -999.0,      37.95,2,     -999.0,     -999.0,9,     -999.0,     -999.0,     -999.0,9,     -999.0,9,     -999.0,9,     -999.0,9,25.54665255,2,      10.37,2,      55.44,2,      25.11,2
33RO20161119,        P18,      15,          1,          2,      11101,2,20161127,       1625,    16.9999,  -110.0003,       3511,  3224.1,   1.7069,  34.6732,2,  34.6740,2,    118.4,2,   118.5,2,   157.8,6,    38.4,6,    0.01,6,   2.652,6,-999.0000,9,-999.0000,9,-999.0000,9,  2352.1,2,  2429.5,6,   7.5257,2,    25.00, -999.00,9,  -999.0,9,  -999.0,-999.0000,9, -999.00,9,    40.9,2,   42.00,2, -999.00,9,     -999.0,9, -999.00,9,  -999.0,9,     -999.0,     -999.0,9,      37.73,2,     -999.0,      37.73,2,     -999.0,     -999.0,9,     -999.0,     -999.0,     -999.0,9,     -999.0,9,     -999.0,9,     -999.0,9,23.22539336,2,       8.72,2,       53.2,2,      23.73,2
33RO20161119,        P18,      15,          1,          3,      11102,2,20161127,       1625,    16.9999,  -110.0003,       3511,  2949.4,   1.7071,  34.6708,2,  34.6748,2,    115.6,2,   115.9,6,   158.8,6,    38.4,6,    0.01,6,   2.668,6,-999.0000,9,-999.0000,9,-999.0000,9,  2354.0,2,  2428.7,2,   7.5169,2,    25.00, -999.00,9,  -999.0,9,  -999.0,-999.0000,9, -999.00,9,    38.9,2,   44.10,2, -999.00,9,     -999.0,9, -999.00,9,  -999.0,9,     -999.0,     -999.0,9,      38.02,2,     -999.0,      38.04,2,     -999.0,     -999.0,9,     -999.0,     -999.0,     -999.0,9,     -999.0,9,     -999.0,9,     -999.0,9,23.37122514,2,       8.99,2,      54.67,2,      23.27,2
33RO20161119,        P18,      15,          1,          4,      11103,2,20161127,       1625,    16.9999,  -110.0003,       3511,  2700.8,   1.7771,  34.6659,2,  34.6669,2,    109.5,2,   109.5,2,   157.7,6,    38.9,6,    0.01,6,   2.709,6,   0.0055,2,   0.0045,2,   0.0000,2,  2357.6,2,  2427.7,2,   7.5082,2,    25.00, -999.00,9,  -999.0,9,  -999.0,   0.0191,2, -999.00,9,    38.0,2,   42.50,2, -999.00,9,     23.991,2, -999.00,9,  -999.0,9,     -999.0,     -999.0,9,      37.98,2,     -999.0,      37.99,2,     -999.0,     -999.0,9,     -999.0,     -999.0,     -999.0,9,     -999.0,9,     -999.0,9,     -999.0,9,24.33767323,2,       9.07,2,      53.73,2,       23.2,2
33RO20161119,        P18,      15,          1,          5,      11104,2,20161127,       1625,    16.9999,  -110.0003,       3511,  2425.3,   1.8920,  34.6591,2,  34.6601,2,    101.9,2,   102.8,2,   155.0,2,    39.4,2,    0.01,2,   2.739,2,-999.0000,9,-999.0000,9,-999.0000,9,  2359.4,2,  2425.8,2,   7.4960,2,    25.00, -999.00,9,  -999.0,9,  -999.0,-999.0000,9, -999.00,9,    38.7,2,   43.40,2, -999.00,9,     -999.0,9, -999.00,9,  -999.0,9,     -999.0,     -999.0,9,      37.77,2,     -999.0,      37.77,2,     -999.0,     -999.0,9,     -999.0,     -999.0,     -999.0,9,     -999.0,9,     -999.0,9,     -999.0,9,24.74971304,2,       8.91,2,      54.41,2,      22.13,2
33RO20161119,        P18,      15,          1,          6,      11105,2,20161127,       1625,    16.9999,  -110.0003,       3511,  2140.5,   2.0780,  34.6484,2,  34.6503,2,     91.0,2,    91.4,2,   151.3,2,    40.2,2,    0.01,2,   2.823,2,-999.0000,9,-999.0000,9,-999.0000,9,  2361.8,2,  2420.7,2,   7.4709,2,    25.00, -999.00,9,  -999.0,9,  -999.0,-999.0000,9, -999.00,9,    36.6,2,   45.30,2, -999.00,9,     -999.0,9, -999.00,9,  -999.0,9,     -999.0,     -999.0,9,      37.99,2,     -999.0,       38.0,2,     -999.0,     -999.0,9,     -999.0,     -999.0,     -999.0,9,     -999.0,9,     -999.0,9,     -999.0,9,27.38806107,2,       9.23,2,      55.54,2,      22.87,2
33RO20161119,        P18,      15,          1,          7,      11106,2,20161127,       1625,    16.9999,  -110.0003,       3511,  1880.8,   2.4220,  34.6301,2,  34.6314,2,     74.6,2,    73.9,2,   144.8,2,    41.3,2,    0.01,2,   2.929,2,-999.0000,9,-999.0000,9,-999.0000,9,  2366.1,2,  2413.6,2,   7.4376,2,    25.00, -999.00,9,  -999.0,9,  -999.0,-999.0000,9, -999.00,9,    35.6,2,   47.00,2, -999.00,9,     -999.0,9, -999.00,9,  -999.0,9,     -999.0,     -999.0,9,      37.78,2,     -999.0,      37.79,2,     -999.0,     -999.0,9,     -999.0,     -999.0,     -999.0,9,     -999.0,9,     -999.0,9,     -999.0,9,30.50824451,2,        9.2,2,       55.5,2,      20.44,2
33RO20161119,        P18,      15,          1,          8,      11107,2,20161127,       1625,    16.9999,  -110.0003,       3511,  1621.2,   2.8408,  34.6098,2,  34.6109,2,     58.0,2,    57.7,2,   135.6,2,    42.6,2,    0.01,2,   3.062,2,-999.0000,9,-999.0000,9,-999.0000,9,  2367.2,2,  2403.1,2,   7.4036,2,    25.00, -999.00,9,  -999.0,9,  -999.0,-999.0000,9, -999.00,9,    37.7,2,   48.00,2, -999.00,9,     -999.0,9, -999.00,9,  -999.0,9,     -999.0,     -999.0,9,      37.82,2,     -999.0,      37.84,2,     -999.0,     -999.0,9,     -999.0,     -999.0,     -999.0,9,     -999.0,9,     -999.0,9,     -999.0,9,34.30644772,2,        9.1,2,      55.07,2,      17.57,2
33RO20161119,        P18,      15,          1,          9,      11108,2,20161127,       1625,    16.9999,  -110.0003,       3511,  1350.4,   3.3368,  34.5869,2,  34.5934,2,     41.6,2,    41.7,2,   124.6,2,    43.7,2,    0.02,2,   3.153,2,-999.0000,9,-999.0000,9,-999.0000,9,  2364.6,2,  2389.2,2,   7.3726,2,    25.00, -999.00,9,  -999.0,9,  -999.0,-999.0000,9, -999.00,9,    39.3,2,   50.00,2, -999.00,9,     -999.0,9, -999.00,9,  -999.0,9,     -999.0,     -999.0,9,      37.85,2,     -999.0,      37.87,2,     -999.0,     -999.0,9,     -999.0,     -999.0,     -999.0,9,     -999.0,9,     -999.0,9,     -999.0,9,39.16168489,2,       8.84,2,      54.97,2,      16.01,2
33RO20161119,        P18,      15,          1,         10,      11109,2,20161127,       1625,    16.9999,  -110.0003,       3511,  1171.0,   3.8480,  34.5659,2,  34.5678,2,     25.2,2,    25.6,2,   115.2,2,    44.7,2,    0.01,2,   3.257,2,-999.0000,9,-999.0000,9,-999.0000,9,  2364.5,6,  2378.8,2,   7.3394,2,    25.00, -999.00,9,  -999.0,9,  -999.0,-999.0000,9, -999.00,9,    38.3,2,   51.00,2, -999.00,9,     -999.0,9, -999.00,9,  -999.0,9,     -999.0,     -999.0,9,      37.86,2,     -999.0,      37.86,2,     -999.0,     -999.0,9,     -999.0,     -999.0,     -999.0,9,     -999.0,9,     -999.0,9,     -999.0,9,42.69117767,2,        8.3,2,      55.28,2,      16.42,2
33RO20161119,        P18,      15,          1,         11,      11110,2,20161127,       1625,    16.9999,  -110.0003,       3511,  1051.0,   4.2471,  34.5535,2,  34.5533,2,     16.1,2,    16.7,2,   107.7,2,    44.8,2,    0.01,2,   3.305,2,-999.0000,9,-999.0000,9,-999.0000,9,  2361.7,2,  2370.6,2,   7.3214,2,    25.00, -999.00,9,  -999.0,9,  -999.0,-999.0000,9, -999.00,9,    41.3,2,   50.50,2, -999.00,9,     -999.0,9, -999.00,9,  -999.0,9,     -999.0,     -999.0,9,      37.93,2,       0.03,      37.95,2,       0.03,     -999.0,9,     -999.0,     -999.0,     -999.0,9,     -999.0,9,     -999.0,9,     -999.0,9,49.31330915,2,       8.16,2,      55.74,2,       16.2,2
33RO20161119,        P18,      15,          1,         12,      11111,2,20161127,       1625,    16.9999,  -110.0003,       3511,   929.8,   4.7396,  34.5423,2,  34.5420,2,      7.5,2,     8.3,2,    98.7,2,    44.8,2,    0.01,2,   3.332,2,   0.0060,2,   0.0019,2,   0.0000,2,  2357.2,2,  2360.2,2,   7.3092,2,    25.00, -999.00,9,  -999.0,9,  -999.0,   0.0276,2, -999.00,9,    41.6,2,   51.50,2, -999.00,9,    54.6884,2, -999.00,9,  -999.0,9,     -999.0,     -999.0,9,      38.03,2,       0.01,      38.03,2,       0.02,     -999.0,9,     -999.0,     -999.0,     -999.0,9,     -999.0,9,     -999.0,9,     -999.0,9,54.38048019,2,       7.38,2,      55.59,2,      14.14,2
33RO20161119,        P18,      15,          1,         13,      11112,2,20161127,       1625,    16.9999,  -110.0003,       3511,   819.2,   5.3082,  34.5339,2,  34.5348,2,      3.4,2,     4.0,2,    89.9,2,    43.4,2,    0.01,2,   3.321,2,   0.0110,6,   0.0060,6,   0.0189,6,  2347.6,2,  2355.2,2,   7.3091,2,    25.00, -999.00,9,  -999.0,9,  -999.0,   0.0276,2, -999.00,9,    38.8,2,   49.30,2, -999.00,9,    58.4588,2, -999.00,9,  -999.0,9,     -999.0,     -999.0,9,      38.01,2,       0.01,      38.01,2,        0.0,     -999.0,9,     -999.0,     -999.0,     -999.0,9,     -999.0,9,     -999.0,9,     -999.0,9,57.35719996,2,       6.93,2,      57.66,2,      10.76,2
33RO20161119,        P18,      15,          1,         14,      11113,2,20161127,       1625,    16.9999,  -110.0003,       3511,   709.7,   6.0569,  34.5329,2,  34.5338,2,      2.4,2,     2.7,2,    79.2,2,    40.8,2,    0.01,2,   3.257,2,-999.0000,9,-999.0000,9,-999.0000,9,  2336.0,2,  2346.3,2,   7.3139,2,    25.00, -999.00,9,  -999.0,9,  -999.0,-999.0000,9, -999.00,9,    40.9,2,   46.70,2, -999.00,9,     -999.0,9, -999.00,9,  -999.0,9,     -999.0,     -999.0,9,      38.14,2,       0.05,      38.15,2,       0.05,       0.85,2,       0.02,     -999.0,     -999.0,9,     -999.0,9,     -999.0,9,     -999.0,9,50.48880007,2,       7.12,2,      63.24,2,      14.53,2
33RO20161119,        P18,      15,          1,         15,      11114,2,20161127,       1625,    16.9999,  -110.0003,       3511,   605.4,   6.9438,  34.5363,2,  34.5373,2,      2.4,2,     2.1,2,    68.1,2,    37.3,2,    0.01,2,   3.172,2,   0.0206,2,   0.0121,2,   0.0000,2,  2320.5,2,  2332.2,6,   7.3264,2,    25.00, -999.00,9,  -999.0,9,  -999.0,   0.0211,2, -999.00,9,    39.7,2,   43.40,2, -999.00,9,    30.6188,2, -999.00,9,  -999.0,9,     -999.0,     -999.0,9,      38.15,2,       0.02,      38.15,2,       0.03,       0.79,2,       0.01,     -999.0,     -999.0,9,     -999.0,9,     -999.0,9,     -999.0,9,36.06706693,2,       8.68,2,      65.55,2,       15.9,2
33RO20161119,        P18,      15,          1,         16,      11115,2,20161127,       1625,    16.9999,  -110.0003,       3511,   505.5,   7.9250,  34.5529,2,  34.5536,2,      2.3,2,     2.1,2,    58.6,2,    32.9,2,    0.01,2,   3.044,2,-999.0000,9,-999.0000,9,-999.0000,9,  2311.3,2,  2321.8,2,   7.3336,6,    25.00, -999.00,9,  -999.0,9,  -999.0,-999.0000,9, -999.00,9,    42.4,2,   35.90,2, -999.00,9,     -999.0,9, -999.00,9,  -999.0,9,     -999.0,     -999.0,9,      38.23,2,       0.03,      38.24,2,       0.06,       0.74,2,       0.01,     -999.0,     -999.0,9,     -999.0,9,     -999.0,9,     -999.0,9,27.57192173,2,      11.46,2,      70.25,2,      26.37,2
33RO20161119,        P18,      15,          1,         17,      11116,2,20161127,       1625,    16.9999,  -110.0003,       3511,   416.3,   9.0701,  34.5979,2,  34.5982,2,      2.3,2,     2.4,6,    48.2,2,    28.8,2,    0.17,2,   2.922,2,-999.0000,9,-999.0000,9,-999.0000,9,  2299.8,2,  2312.0,2,   7.3472,2,    25.00, -999.00,9,  -999.0,9,  -999.0,-999.0000,9, -999.00,9,    43.3,2,   33.60,2, -999.00,9,     -999.0,9, -999.00,9,  -999.0,9,     -999.0,     -999.0,9,      38.33,2,        0.0,      38.35,2,       0.01,       0.67,2,        0.0,     -999.0,     -999.0,9,     -999.0,9,     -999.0,9,     -999.0,9, 13.3369982,2,      17.44,2,      88.95,2,       37.9,2
33RO20161119,        P18,      15,          1,         18,      11117,2,20161127,       1625,    16.9999,  -110.0003,       3511,   326.0,  10.2814,  34.6609,2,  34.6618,2,      2.3,2,     2.6,2,    39.8,2,    23.8,2,    0.81,2,   2.789,2,   0.3171,2,   0.1907,2,   0.0732,2,  2289.7,2,  2308.2,2,   7.3626,2,    25.00, -999.00,9,  -999.0,9,  -999.0,   0.0263,2, -999.00,9,    44.8,2,   26.90,2, -999.00,9,     4.1471,2, -999.00,9,  -999.0,9,     -999.0,     -999.0,9,      38.47,2,     -999.0,      38.48,2,     -999.0,       0.57,2,       0.01,     -999.0,     -999.0,9,     -999.0,9,     -999.0,9,     -999.0,9,4.161521465,2,      17.76,2,       88.5,2,       37.8,2
33RO20161119,        P18,      15,          1,         19,      11083,2,20161127,       1625,    16.9999,  -110.0003,       3511,   245.6,  11.4041,  34.7287,2,  34.7280,2,      2.4,2,     2.6,2,    33.7,2,    21.0,2,    1.24,2,   2.667,2,   0.5432,2,   0.3316,2,   0.1572,2,  2278.0,2,  2308.0,2,   7.3856,2,    25.00, -999.00,9,  -999.0,9,  -999.0,   0.0377,2, -999.00,9,    47.8,2,   25.50,2, -999.00,9,    13.9783,2, -999.00,9,  -999.0,9,     -999.0,     -999.0,9,      38.44,2,       0.04,      38.48,2,       0.04,       0.52,2,       0.02,     -999.0,     -999.0,9,     -999.0,9,     -999.0,9,     -999.0,9,3.948838339,2,      13.61,2,      93.47,2,      37.05,2
33RO20161119,        P18,      15,          1,         20,      11118,2,20161127,       1625,    16.9999,  -110.0003,       3511,   174.8,  12.6083,  34.7708,2,  34.7719,2,      2.6,2,     2.8,2,    30.2,2,    21.8,2,    1.04,2,   2.623,2,   0.9151,2,   0.5611,2,   0.2837,2,  2270.1,2,  2290.1,3,   7.4053,2,    25.00, -999.00,9,  -999.0,9,  -999.0,   0.1346,2, -999.00,9,    50.1,2,   25.60,2, -999.00,9,     6.2968,2, -999.00,9,  -999.0,9,     -999.0,     -999.0,9,      38.44,2,     -999.0,      38.45,2,     -999.0,       0.63,2,       0.02,     -999.0,     -999.0,9,     -999.0,9,     -999.0,9,     -999.0,9,6.197284466,2,      14.53,2,      76.87,2,      32.93,2
33RO20161119,        P18,      15,          1,         21,      11119,2,20161127,       1625,    16.9999,  -110.0003,       3511,   114.8,  14.6887,  34.6147,2,  34.6082,2,     18.0,2,    15.7,2,    30.1,2,    21.8,2,    1.04,2,   2.620,2,   1.5206,2,   0.9031,2,   0.7062,2,  2243.7,2,  2291.4,2,   7.4461,2,    25.00, -999.00,9,  -999.0,9,  -999.0,   0.4109,2, -999.00,9,    53.6,2,   26.40,2, -999.00,9,    44.8543,2, -999.00,9,  -999.0,9,     -999.0,     -999.0,9,      38.55,2,       0.01,      38.36,2,       0.01,     -999.0,9,     -999.0,     -999.0,     -999.0,9,     -999.0,9,     -999.0,9,     -999.0,9,43.47681397,2,       7.87,2,      53.33,2,      16.91,2
33RO20161119,        P18,      15,          1,         22,      11120,2,20161127,       1625,    16.9999,  -110.0003,       3511,    60.8,  22.1900,  34.4522,2,  34.4670,2,     99.3,2,    78.8,2,    23.8,2,    22.7,2,    0.02,2,   2.421,2,   1.6614,2,   1.0139,2,   1.1354,2,  2133.5,2,  2276.2,2,   7.7239,6,    25.00, -999.00,9,  -999.0,9,  -999.0,   1.5295,2, -999.00,9,    62.9,2,   17.20,2, -999.00,9,    48.4105,2, -999.00,9,  -999.0,9,     -999.0,     -999.0,9,      38.21,2,     -999.0,      38.21,2,     -999.0,       0.53,2,        0.0,     -999.0,     -999.0,9,     -999.0,9,     -999.0,9,     -999.0,9,47.75537101,2,        4.2,2,      50.03,2,       2.54,2
33RO20161119,        P18,      15,          1,         23,      11121,2,20161127,       1625,    16.9999,  -110.0003,       3511,    23.9,  29.3766,  33.5405,2,  33.5507,2,    193.9,2,   193.4,2,     0.8,2,     0.0,2,    0.01,2,   0.215,2,   1.4365,2,   0.9117,2,   1.3154,2,  1897.4,2,  2212.4,6,   8.0993,2,    25.00, -999.00,9,  -999.0,9,  -999.0,   1.5786,2, -999.00,9,  -999.0,9, -999.00,9, -999.00,9,     6.5342,2, -999.00,9,  -999.0,9,     -999.0,     -999.0,9,       38.5,2,     -999.0,       38.4,2,     -999.0,     -999.0,9,     -999.0,     -999.0,     -999.0,9,     -999.0,9,     -999.0,9,     -999.0,9,7.371418423,2,       5.74,2,      46.01,2,      15.41,2
33RO20161119,        P18,      15,          1,         24,      11122,2,20161127,       1625,    16.9999,  -110.0003,       3511,     2.5,  29.4389,  33.5458,2,  33.5442,2,    191.7,2,   193.9,2,     0.7,2,     0.0,2,    0.01,2,   0.199,2,   1.4203,2,   0.9096,2,   1.2926,2,  1895.9,6,  2211.3,2,   8.1003,2,    25.00, -999.00,9,  -999.0,9,  -999.0,   0.0227,2, -999.00,9,    76.4,2,    4.50,2, -999.00,9,     6.3939,2, -999.00,9,  -999.0,9,     -999.0,     -999.0,9,       38.5,2,     -999.0,      38.43,2,     -999.0,       0.34,2,       0.02,     -999.0,     -999.0,9,     -999.0,9,     -999.0,9,     -999.0,9,7.042534855,2,       7.52,2,      50.09,2,       20.4,2