BOTTLE,20230606CCHSIOCBG
EXPOCODE,SECT_ID,STNNBR,CASTNO,SAMPNO,BTLNBR,BTLNBR_FLAG_W,DATE,TIME,LATITUDE,LONGITUDE,DEPTH,CTDPRS,CTDTMP,CTDSAL,CTDSAL_FLAG_W,SALNTY,SALNTY_FLAG_W,CTDOXY,CTDOXY_FLAG_W,OXYGEN,OXYGEN_FLAG_W,SILCAT,SILCAT_FLAG_W,NITRAT,NITRAT_FLAG_W,NITRIT,NITRIT_FLAG_W,PHSPHT,PHSPHT_FLAG_W,CFC-11,CFC-11_FLAG_W,CFC-12,CFC-12_FLAG_W,SF6,SF6_FLAG_W,TCARBN,TCARBN_FLAG_W,ALKALI,ALKALI_FLAG_W,PH_SWS,PH_SWS_FLAG_W,PH_TMP,DELC13,DELC13_FLAG_W,DELC14,DELC14_FLAG_W,C14ERR,CCL4,CCL4_FLAG_W,POC,POC_FLAG_W,DOC,DOC_FLAG_W,TDN,TDN_FLAG_W,PON,PON_FLAG_W,N2O,N2O_FLAG_W,D15N_NO3,D15N_NO3_FLAG_W,14C-DOC,14C-DOC_FLAG_W,14C-DOCERR,13C-DOC,13C-DOC_FLAG_W,N2/ARGON_UNSTRIPPED,N2/ARGON_UNSTRIPPED_FLAG_W,N2/ARGON_UNSTRIPPED_ERROR,N2/ARGON,N2/ARGON_FLAG_W,N2/ARGON_ERROR,D15N_N2,D15N_N2_FLAG_W,D15N_N2_ERROR,D15N_NO3_ERROR,D15N_NO2+NO3,D15N_NO2+NO3_FLAG_W,D18O_NO2+NO3,D18O_NO2+NO3_FLAG_W,D18O_NO3,D18O_NO3_FLAG_W,TDP,TDP_FLAG_W,N2O_ALT_1,N2O_ALT_1_FLAG_W,D15N_N2O,D15N_N2O_FLAG_W,D18O_N2O,D18O_N2O_FLAG_W,D15N_ALPHA_N2O,D15N_ALPHA_N2O_FLAG_W
,,,,,,,,,,,METERS,DBAR,ITS-90,PSS-78,,PSS-78,,UMOL/KG,,UMOL/KG,,UMOL/KG,,UMOL/KG,,UMOL/KG,,UMOL/KG,,PMOL/KG,,PMOL/KG,,FMOL/KG,,UMOL/KG,,UMOL/KG,,,,DEG C,/MILLE,,/MILLE,,/MILLE,PMOL/KG,,UG/KG,,UMOL/KG,,UMOL/KG,,UG/KG,,NMOL/KG,,/MILLE,,/MILLE,,/MILLE,/MILLE,,,,,,,,/MILLE,,/MILLE,/MILLE,/MILLE,,/MILLE,,/MILLE,,UMOL/KG,,NMOL/L,,/MILLE,,/MILLE,,/MILLE,
33RO20161119,        P18,     197,          1,          1,      11010,2,20170123,       0410,   -64.5006,  -103.0002,       4964,  5056.6,   0.4437,  34.6999,2,  34.7204,4,    214.2,2,   214.0,2,   144.3,2,    33.0,2,    0.01,2,   2.267,2,   0.4428,2,   0.2101,2,   0.0742,2,  2267.1,6,  2369.4,2,   7.5868,6,    25.00,    0.37,2,  -161.9,2,     2.2,   0.3048,2, -999.00,9,  -999.0,9, -999.00,9, -999.00,9,     18.207,2, -999.00,9,  -999.0,9,     -999.0,     -999.0,9,     -999.0,9,     -999.0,     -999.0,9,     -999.0,     -999.0,9,     -999.0,     -999.0,     -999.0,9,     -999.0,9,     -999.0,9,     -999.0,9,     -999.0,9,     -999.0,9,     -999.0,9,     -999.0,9
33RO20161119,        P18,     197,          1,          2,      11101,2,20170123,       0410,   -64.5006,  -103.0002,       4964,  4569.4,   0.4333,  34.7017,2,  34.7047,2,    213.9,2,   213.7,2,   137.3,6,    32.9,6,    0.01,6,   2.268,6,   0.3599,2,   0.1704,2,   0.0665,2,  2261.5,2,  2361.9,6,   7.5894,2,    25.00,    0.37,2,  -160.7,2,     1.8,    0.268,2, -999.00,9,  -999.0,9, -999.00,9, -999.00,9,    18.1063,2, -999.00,9,  -999.0,9,     -999.0,     -999.0,9,     -999.0,9,     -999.0,     -999.0,9,     -999.0,     -999.0,9,     -999.0,     -999.0,     -999.0,9,     -999.0,9,     -999.0,9,     -999.0,9,     -999.0,9,     -999.0,9,     -999.0,9,     -999.0,9
33RO20161119,        P18,     197,          1,          3,      11102,2,20170123,       0410,   -64.5006,  -103.0002,       4964,  4075.6,   0.4944,  34.7031,2,  34.7019,2,    212.2,2,   213.1,2,   131.5,6,    32.8,6,    0.01,6,   2.257,6,   0.3099,2,   0.1473,2,   0.0919,2,  2259.9,2,  2359.1,2,   7.5889,2,    25.00,    0.37,2,  -163.9,2,     1.8,   0.1916,2, -999.00,9,  -999.0,9, -999.00,9, -999.00,9,    18.2164,2, -999.00,9,  -999.0,9,     -999.0,     -999.0,9,     -999.0,9,     -999.0,     -999.0,9,     -999.0,     -999.0,9,     -999.0,     -999.0,     -999.0,9,     -999.0,9,     -999.0,9,     -999.0,9,     -999.0,9,     -999.0,9,     -999.0,9,     -999.0,9
33RO20161119,        P18,     197,          1,          4,      11103,2,20170123,       0410,   -64.5006,  -103.0002,       4964,  3720.6,   0.5952,  34.7047,2,  34.7040,2,    209.9,2,   209.5,2,   127.8,6,    32.7,6,    0.01,6,   2.261,6,   0.2647,2,   0.1273,2,   0.0359,2,  2259.9,2,  2360.6,2,   7.5916,2,    25.00,    0.36,2,  -164.1,2,     1.7,   0.2308,2, -999.00,9,  -999.0,9, -999.00,9, -999.00,9,    18.2193,2, -999.00,9,  -999.0,9,     -999.0,     -999.0,9,     -999.0,9,     -999.0,     -999.0,9,     -999.0,     -999.0,9,     -999.0,     -999.0,     -999.0,9,     -999.0,9,     -999.0,9,     -999.0,9,     -999.0,9,     -999.0,9,     -999.0,9,     -999.0,9
33RO20161119,        P18,     197,          1,          5,      11104,2,20170123,       0410,   -64.5006,  -103.0002,       4964,  3318.0,   0.7581,  34.7083,2,  34.7079,2,    206.4,2,   206.7,6,   124.3,6,    32.6,6,    0.01,6,   2.244,6,   0.2138,6,   0.1046,6,   0.0587,6,  2258.5,2,  2364.9,2,   7.5921,2,    25.00,    0.37,2,  -163.4,2,     1.7,   0.2583,2, -999.00,9,  -999.0,9, -999.00,9, -999.00,9,    18.3732,2, -999.00,9,  -999.0,9,     -999.0,     -999.0,9,     -999.0,9,     -999.0,     -999.0,9,     -999.0,     -999.0,9,     -999.0,     -999.0,     -999.0,9,     -999.0,9,     -999.0,9,     -999.0,9,     -999.0,9,     -999.0,9,     -999.0,9,     -999.0,9
33RO20161119,        P18,     197,          1,          6,      11105,2,20170123,       0410,   -64.5006,  -103.0002,       4964,  2934.6,   0.8893,  34.7130,2,  34.7158,2,    203.3,2,   203.4,2,   120.1,6,    32.4,6,    0.01,6,   2.233,6,   0.1643,2,   0.0800,2,   0.0000,2,  2258.6,2,  2361.4,2,   7.5945,2,    25.00,    0.34,2,  -165.5,2,     1.7,   0.7912,2, -999.00,9,  -999.0,9, -999.00,9, -999.00,9,    18.4481,2, -999.00,9,  -999.0,9,     -999.0,     -999.0,9,     -999.0,9,     -999.0,     -999.0,9,     -999.0,     -999.0,9,     -999.0,     -999.0,     -999.0,9,     -999.0,9,     -999.0,9,     -999.0,9,     -999.0,9,     -999.0,9,     -999.0,9,     -999.0,9
33RO20161119,        P18,     197,          1,          7,      11106,2,20170123,       0410,   -64.5006,  -103.0002,       4964,  2555.4,   1.0452,  34.7190,2,  34.7403,4,    200.1,2,   200.6,2,   114.4,2,    32.3,2,    0.01,2,   2.209,2,-999.0000,9,-999.0000,9,-999.0000,9,  2257.9,2,  2361.0,2,   7.5949,2,    25.00,    0.35,2,  -165.7,2,     1.7,-999.0000,9, -999.00,9,  -999.0,9, -999.00,9, -999.00,9,     -999.0,9, -999.00,9,  -999.0,9,     -999.0,     -999.0,9,     -999.0,9,     -999.0,     -999.0,9,     -999.0,     -999.0,9,     -999.0,     -999.0,     -999.0,9,     -999.0,9,     -999.0,9,     -999.0,9,     -999.0,9,     -999.0,9,     -999.0,9,     -999.0,9
33RO20161119,        P18,     197,          1,          8,      11107,2,20170123,       0410,   -64.5006,  -103.0002,       4964,  2173.4,   1.2415,  34.7259,2,  34.7415,4,    196.6,2,   196.7,2,   107.6,2,    32.0,2,    0.01,2,   2.200,2,   0.1237,2,   0.0608,2,   0.0211,2,  2256.6,2,  2361.0,2,   7.5959,2,    25.00,    0.31,2,  -167.6,2,     1.7,   1.4595,2, -999.00,9,  -999.0,9, -999.00,9, -999.00,9,    18.7555,2, -999.00,9,  -999.0,9,     -999.0,     -999.0,9,     -999.0,9,     -999.0,     -999.0,9,     -999.0,     -999.0,9,     -999.0,     -999.0,     -999.0,9,     -999.0,9,     -999.0,9,     -999.0,9,     -999.0,9,     -999.0,9,     -999.0,9,     -999.0,9
33RO20161119,        P18,     197,          1,          9,      11108,2,20170123,       0410,   -64.5006,  -103.0002,       4964,  1840.3,   1.4514,  34.7314,2,  34.7330,2,    193.1,2,   193.6,2,   100.9,2,    31.8,2,    0.01,2,   2.181,2,-999.0000,9,-999.0000,9,-999.0000,9,  2255.1,2,  2356.5,2,   7.5935,2,    25.00,    0.44,2,  -158.7,2,     1.7,-999.0000,9, -999.00,9,  -999.0,9, -999.00,9, -999.00,9,     -999.0,9, -999.00,9,  -999.0,9,     -999.0,     -999.0,9,     -999.0,9,     -999.0,     -999.0,9,     -999.0,     -999.0,9,     -999.0,     -999.0,     -999.0,9,     -999.0,9,     -999.0,9,     -999.0,9,     -999.0,9,     -999.0,9,     -999.0,9,     -999.0,9
33RO20161119,        P18,     197,          1,         10,      11109,2,20170123,       0410,   -64.5006,  -103.0002,       4964,  1620.3,   1.6339,  34.7334,2,  34.7384,4,    190.4,2,   191.1,2,    95.3,2,    31.7,2,    0.01,2,   2.179,2,   0.1627,2,   0.0778,2,   0.0000,2,  2251.6,2,  2352.5,2,   7.5914,2,    25.00,    0.46,2,  -152.2,2,     1.8,    4.738,2, -999.00,9,  -999.0,9, -999.00,9, -999.00,9,    19.2634,2, -999.00,9,  -999.0,9,     -999.0,     -999.0,9,     -999.0,9,     -999.0,     -999.0,9,     -999.0,     -999.0,9,     -999.0,     -999.0,     -999.0,9,     -999.0,9,     -999.0,9,     -999.0,9,     -999.0,9,     -999.0,9,     -999.0,9,     -999.0,9
33RO20161119,        P18,     197,          1,         11,      11110,2,20170123,       0410,   -64.5006,  -103.0002,       4964,  1444.3,   1.7805,  34.7311,2,  34.7347,2,    187.9,2,   188.3,2,    90.7,2,    31.7,2,    0.01,2,   2.171,2,-999.0000,9,-999.0000,9,-999.0000,9,  2249.9,2,  2351.8,2,   7.5889,2,    25.00,    0.44,2,  -152.2,2,     1.8,-999.0000,9, -999.00,9,  -999.0,9, -999.00,9, -999.00,9,     -999.0,9, -999.00,9,  -999.0,9,     -999.0,     -999.0,9,     -999.0,9,     -999.0,     -999.0,9,     -999.0,     -999.0,9,     -999.0,     -999.0,     -999.0,9,     -999.0,9,     -999.0,9,     -999.0,9,     -999.0,9,     -999.0,9,     -999.0,9,     -999.0,9
33RO20161119,        P18,     197,          1,         12,      11111,2,20170123,       0410,   -64.5006,  -103.0002,       4964,  1274.6,   1.9085,  34.7233,2,  34.7222,2,    184.2,2,   184.7,2,    87.5,2,    31.9,2,    0.01,2,   2.193,2,   0.1986,2,   0.0970,2,   0.0354,2,  2252.1,2,  2348.9,2,   7.5837,2,    25.00,    0.47,2,  -156.1,2,     2.2,   6.2627,2, -999.00,9,  -999.0,9, -999.00,9, -999.00,9,    19.8214,2, -999.00,9,  -999.0,9,     -999.0,     -999.0,9,     -999.0,9,     -999.0,     -999.0,9,     -999.0,     -999.0,9,     -999.0,     -999.0,     -999.0,9,     -999.0,9,     -999.0,9,     -999.0,9,     -999.0,9,     -999.0,9,     -999.0,9,     -999.0,9
33RO20161119,        P18,     197,          1,         13,      11112,2,20170123,       0410,   -64.5006,  -103.0002,       4964,  1120.3,   2.0170,  34.7105,2,  34.7102,2,    180.8,2,   181.1,2,    84.6,2,    32.2,2,    0.01,2,   2.211,2,-999.0000,9,-999.0000,9,-999.0000,9,  2252.8,2,  2346.4,2,   7.5767,2,    25.00,    0.35,2,  -151.8,2,     1.7,-999.0000,9, -999.00,9,  -999.0,9, -999.00,9, -999.00,9,     -999.0,9, -999.00,9,  -999.0,9,     -999.0,     -999.0,9,     -999.0,9,     -999.0,     -999.0,9,     -999.0,     -999.0,9,     -999.0,     -999.0,     -999.0,9,     -999.0,9,     -999.0,9,     -999.0,9,     -999.0,9,     -999.0,9,     -999.0,9,     -999.0,9
33RO20161119,        P18,     197,          1,         14,      11113,2,20170123,       0410,   -64.5006,  -103.0002,       4964,   959.5,   2.1289,  34.6840,2,  34.6843,2,    176.5,2,   176.6,2,    81.5,2,    32.9,2,    0.01,2,   2.256,2,   0.3151,2,   0.1574,2,   0.0720,2,  2253.9,2,  2343.3,2,   7.5670,2,    25.00,    0.44,2,  -147.7,2,     1.8,   5.9868,2, -999.00,9,  -999.0,9, -999.00,9, -999.00,9,    20.8593,2, -999.00,9,  -999.0,9,     -999.0,     -999.0,9,     -999.0,9,     -999.0,     -999.0,9,     -999.0,     -999.0,9,     -999.0,     -999.0,     -999.0,9,     -999.0,9,     -999.0,9,     -999.0,9,     -999.0,9,     -999.0,9,     -999.0,9,     -999.0,9
33RO20161119,        P18,     197,          1,         15,      11114,2,20170123,       0410,   -64.5006,  -103.0002,       4964,   820.8,   2.2109,  34.6473,2,  34.6557,2,    173.2,2,   172.8,2,    79.2,2,    33.5,2,    0.01,2,   2.313,2,-999.0000,9,-999.0000,9,-999.0000,9,  2255.7,2,  2346.1,2,   7.5567,2,    25.00,    0.41,2,  -147.6,2,     1.7,-999.0000,9, -999.00,9,  -999.0,9, -999.00,9, -999.00,9,     -999.0,9, -999.00,9,  -999.0,9,     -999.0,     -999.0,9,     -999.0,9,     -999.0,     -999.0,9,     -999.0,     -999.0,9,     -999.0,     -999.0,     -999.0,9,     -999.0,9,     -999.0,9,     -999.0,9,     -999.0,9,     -999.0,9,     -999.0,9,     -999.0,9
33RO20161119,        P18,     197,          1,         16,      11115,2,20170123,       0410,   -64.5006,  -103.0002,       4964,   679.0,   2.2860,  34.5956,2,  34.5973,2,    172.3,2,   171.8,2,    75.7,2,    34.3,2,    0.01,2,   2.353,2,   0.6461,2,   0.3232,2,   0.2214,2,  2254.0,6,  2336.4,6,   7.5432,2,    25.00,    0.73,3,  -147.6,2,     1.9,   6.0676,2, -999.00,9,  -999.0,9, -999.00,9, -999.00,9,    22.2215,2, -999.00,9,  -999.0,9,     -999.0,     -999.0,9,     -999.0,9,     -999.0,     -999.0,9,     -999.0,     -999.0,9,     -999.0,     -999.0,     -999.0,9,     -999.0,9,     -999.0,9,     -999.0,9,     -999.0,9,     -999.0,9,     -999.0,9,     -999.0,9
33RO20161119,        P18,     197,          1,         17,      11116,2,20170123,       0410,   -64.5006,  -103.0002,       4964,   542.5,   2.3431,  34.5282,2,  34.5336,2,    175.5,2,   175.6,2,    70.7,2,    34.8,2,    0.01,2,   2.398,2,-999.0000,9,-999.0000,9,-999.0000,9,  2252.0,2,  2330.0,2,   7.5378,2,    25.00,    0.46,2,  -139.6,2,     1.9,-999.0000,9, -999.00,9,  -999.0,9, -999.00,9, -999.00,9,     -999.0,9, -999.00,9,  -999.0,9,     -999.0,     -999.0,9,     -999.0,9,     -999.0,     -999.0,9,     -999.0,     -999.0,9,     -999.0,     -999.0,     -999.0,9,     -999.0,9,     -999.0,9,     -999.0,9,     -999.0,9,     -999.0,9,     -999.0,9,     -999.0,9
33RO20161119,        P18,     197,          1,         18,      11117,2,20170123,       0410,   -64.5006,  -103.0002,       4964,   411.0,   2.3569,  34.4314,2,  34.4294,2,    187.0,2,   186.2,2,    63.1,2,    35.0,2,    0.02,2,   2.403,2,   1.5855,2,   0.8208,2,   0.5913,2,  2243.2,2,  2318.7,2,   7.5402,6,    25.00,    0.49,2,  -129.8,2,     2.3,   5.8167,2, -999.00,9,  -999.0,9, -999.00,9, -999.00,9,    22.9723,2, -999.00,9,  -999.0,9,     -999.0,     -999.0,9,     -999.0,9,     -999.0,     -999.0,9,     -999.0,     -999.0,9,     -999.0,     -999.0,     -999.0,9,     -999.0,9,     -999.0,9,     -999.0,9,     -999.0,9,     -999.0,9,     -999.0,9,     -999.0,9
33RO20161119,        P18,     197,          1,         19,      11083,2,20170123,       0410,   -64.5006,  -103.0002,       4964,   301.8,   2.2553,  34.2925,2,  34.2947,2,    214.6,2,   214.4,2,    51.3,2,    34.0,2,    0.02,2,   2.317,2,-999.0000,9,-999.0000,9,-999.0000,9,  2224.8,2,  2304.9,2,   7.5577,2,    25.00,    0.65,2,  -107.0,2,     2.2,-999.0000,9, -999.00,9,  -999.0,9, -999.00,9, -999.00,9,     -999.0,9, -999.00,9,  -999.0,9,     -999.0,     -999.0,9,     -999.0,9,     -999.0,     -999.0,9,     -999.0,     -999.0,9,     -999.0,     -999.0,     -999.0,9,     -999.0,9,     -999.0,9,     -999.0,9,     -999.0,9,     -999.0,9,     -999.0,9,     -999.0,9
33RO20161119,        P18,     197,          1,         20,      11118,2,20170123,       0410,   -64.5006,  -103.0002,       4964,   209.1,   1.0476,  34.0616,2,  34.0649,2,    282.7,2,   287.9,6,    35.8,2,    30.6,2,    0.02,2,   2.119,2,   4.5507,2,   2.4799,2,   2.5687,2,  2185.9,2,  2288.8,2,   7.6211,2,    25.00,    0.97,2,   -88.5,2,     2.3,   0.5737,2, -999.00,9,  -999.0,9, -999.00,9, -999.00,9,    17.2221,2, -999.00,9,  -999.0,9,     -999.0,     -999.0,9,     -999.0,9,     -999.0,     -999.0,9,     -999.0,     -999.0,9,     -999.0,     -999.0,     -999.0,9,     -999.0,9,     -999.0,9,       2.05,3,     -999.0,9,     -999.0,9,     -999.0,9,     -999.0,9
33RO20161119,        P18,     197,          1,         21,      11119,2,20170123,       0410,   -64.5006,  -103.0002,       4964,   124.6,   0.6052,  33.9300,2,  33.9298,2,    324.5,2,   323.2,2,    27.8,2,    28.2,2,    0.23,2,   1.971,2,   5.4252,2,   2.9453,2,   3.2992,2,  2165.4,2,  2279.9,6,   7.6538,2,    25.00,    1.16,2,   -78.3,2,     2.2,   0.5694,2, -999.00,9,  -999.0,9, -999.00,9, -999.00,9,    15.0921,2, -999.00,9,  -999.0,9,     -999.0,     -999.0,9,     -999.0,9,     -999.0,     -999.0,9,     -999.0,     -999.0,9,     -999.0,     -999.0,     -999.0,9,     -999.0,9,     -999.0,9,       1.95,3,     -999.0,9,     -999.0,9,     -999.0,9,     -999.0,9
33RO20161119,        P18,     197,          1,         22,      11120,2,20170123,       0410,   -64.5006,  -103.0002,       4964,    54.6,   2.1417,  33.8622,2,  33.8656,2,    337.2,2,   336.6,2,    14.9,2,    24.8,2,    0.19,2,   1.766,2,   5.4087,2,   2.9596,2,   3.4579,2,  2145.1,2,  2283.6,2,   7.7095,2,    25.00,    1.44,2,   -74.8,2,     1.8,    0.455,2, -999.00,9,  -999.0,9, -999.00,9, -999.00,9,    13.9719,2, -999.00,9,  -999.0,9,     -999.0,     -999.0,9,     -999.0,9,     -999.0,     -999.0,9,     -999.0,     -999.0,9,     -999.0,     -999.0,     -999.0,9,     -999.0,9,     -999.0,9,       1.78,3,     -999.0,9,     -999.0,9,     -999.0,9,     -999.0,9
33RO20161119,        P18,     197,          1,         23,      11121,2,20170123,       0410,   -64.5006,  -103.0002,       4964,    20.2,   2.9385,  33.8584,2,  33.8599,2,    327.2,2,   327.9,2,    13.4,2,    24.5,2,    0.23,2,   1.687,2,   5.2224,2,   2.8648,2,   3.3280,2,  2142.9,2,  2278.2,2,   7.7170,2,    25.00,    1.48,2,   -70.4,2,     2.0,   0.4407,2, -999.00,9,  -999.0,9, -999.00,9, -999.00,9,    13.6075,2, -999.00,9,  -999.0,9,     -999.0,     -999.0,9,     -999.0,9,     -999.0,     -999.0,9,     -999.0,     -999.0,9,     -999.0,     -999.0,     -999.0,9,     -999.0,9,     -999.0,9,       1.71,3,     -999.0,9,     -999.0,9,     -999.0,9,     -999.0,9
33RO20161119,        P18,     197,          1,         24,      11122,2,20170123,       0410,   -64.5006,  -103.0002,       4964,     3.8,   2.9445,  33.8584,2,  33.8587,2,    326.3,2,   327.6,2,    13.4,2,    24.5,2,    0.23,2,   1.699,2,   5.2084,2,   2.8680,2,   3.3361,2,  2141.9,6,  2282.4,2,   7.7120,2,    25.00,    1.45,2,   -70.9,2,     2.2,   0.4067,2, -999.00,9,  -999.0,9, -999.00,9, -999.00,9,    13.6446,2, -999.00,9,  -999.0,9,     -999.0,     -999.0,9,     -999.0,9,     -999.0,     -999.0,9,     -999.0,     -999.0,9,     -999.0,     -999.0,     -999.0,9,     -999.0,9,     -999.0,9,       1.75,2,     -999.0,9,     -999.0,9,     -999.0,9,     -999.0,9