BOTTLE,20230606CCHSIOCBG
EXPOCODE,SECT_ID,STNNBR,CASTNO,SAMPNO,BTLNBR,BTLNBR_FLAG_W,DATE,TIME,LATITUDE,LONGITUDE,DEPTH,CTDPRS,CTDTMP,CTDSAL,CTDSAL_FLAG_W,SALNTY,SALNTY_FLAG_W,CTDOXY,CTDOXY_FLAG_W,OXYGEN,OXYGEN_FLAG_W,SILCAT,SILCAT_FLAG_W,NITRAT,NITRAT_FLAG_W,NITRIT,NITRIT_FLAG_W,PHSPHT,PHSPHT_FLAG_W,CFC-11,CFC-11_FLAG_W,CFC-12,CFC-12_FLAG_W,SF6,SF6_FLAG_W,TCARBN,TCARBN_FLAG_W,ALKALI,ALKALI_FLAG_W,PH_SWS,PH_SWS_FLAG_W,PH_TMP,DELC13,DELC13_FLAG_W,DELC14,DELC14_FLAG_W,C14ERR,CCL4,CCL4_FLAG_W,POC,POC_FLAG_W,DOC,DOC_FLAG_W,TDN,TDN_FLAG_W,PON,PON_FLAG_W,N2O,N2O_FLAG_W,D15N_NO3,D15N_NO3_FLAG_W,14C-DOC,14C-DOC_FLAG_W,14C-DOCERR,13C-DOC,13C-DOC_FLAG_W,N2/ARGON_UNSTRIPPED,N2/ARGON_UNSTRIPPED_FLAG_W,N2/ARGON_UNSTRIPPED_ERROR,N2/ARGON,N2/ARGON_FLAG_W,N2/ARGON_ERROR,D15N_N2,D15N_N2_FLAG_W,D15N_N2_ERROR,D15N_NO3_ERROR,D15N_NO2+NO3,D15N_NO2+NO3_FLAG_W,D18O_NO2+NO3,D18O_NO2+NO3_FLAG_W,D18O_NO3,D18O_NO3_FLAG_W,TDP,TDP_FLAG_W,N2O_ALT_1,N2O_ALT_1_FLAG_W,D15N_N2O,D15N_N2O_FLAG_W,D18O_N2O,D18O_N2O_FLAG_W,D15N_ALPHA_N2O,D15N_ALPHA_N2O_FLAG_W
,,,,,,,,,,,METERS,DBAR,ITS-90,PSS-78,,PSS-78,,UMOL/KG,,UMOL/KG,,UMOL/KG,,UMOL/KG,,UMOL/KG,,UMOL/KG,,PMOL/KG,,PMOL/KG,,FMOL/KG,,UMOL/KG,,UMOL/KG,,,,DEG C,/MILLE,,/MILLE,,/MILLE,PMOL/KG,,UG/KG,,UMOL/KG,,UMOL/KG,,UG/KG,,NMOL/KG,,/MILLE,,/MILLE,,/MILLE,/MILLE,,,,,,,,/MILLE,,/MILLE,/MILLE,/MILLE,,/MILLE,,/MILLE,,UMOL/KG,,NMOL/L,,/MILLE,,/MILLE,,/MILLE,
33RO20161119,        P18,      48,          1,          1,      11010,2,20161205,       1928,     1.7500,  -110.0000,       3727,  3765.6,   1.4991,  34.6886,2,  34.6890,2,    146.1,2,   145.0,2,   148.4,6,    36.9,6,    0.01,6,   2.492,6,-999.0000,9,-999.0000,9,-999.0000,9,  -999.0,9,  -999.0,9,-999.0000,9,  -999.00, -999.00,9,  -999.0,9,  -999.0,-999.0000,9, -999.00,9,  -999.0,9, -999.00,9, -999.00,9,     -999.0,9, -999.00,9,  -999.0,9,     -999.0,     -999.0,9,     -999.0,9,     -999.0,     -999.0,9,     -999.0,     -999.0,9,     -999.0,     -999.0,     -999.0,9,     -999.0,9,     -999.0,9,     -999.0,9,     -999.0,9,     -999.0,9,     -999.0,9,     -999.0,9
33RO20161119,        P18,      48,          1,          2,      11101,2,20161205,       1928,     1.7500,  -110.0000,       3727,  3449.4,   1.5526,  34.6844,2,  34.6846,2,    141.8,2,   141.4,2,   146.7,6,    37.2,6,    0.01,6,   2.517,6,-999.0000,9,-999.0000,9,-999.0000,9,  -999.0,9,  -999.0,9,-999.0000,9,  -999.00, -999.00,9,  -999.0,9,  -999.0,-999.0000,9, -999.00,9,  -999.0,9, -999.00,9, -999.00,9,     -999.0,9, -999.00,9,  -999.0,9,     -999.0,     -999.0,9,      38.07,2,     -999.0,      38.16,2,     -999.0,     -999.0,9,     -999.0,     -999.0,     -999.0,9,     -999.0,9,     -999.0,9,     -999.0,9,     -999.0,9,     -999.0,9,     -999.0,9,     -999.0,9
33RO20161119,        P18,      48,          1,          3,      11102,2,20161205,       1928,     1.7500,  -110.0000,       3727,  3149.9,   1.6434,  34.6767,2,  34.6783,2,    135.7,2,   135.3,2,   143.5,6,    37.4,6,    0.01,6,   2.558,6,-999.0000,9,-999.0000,9,-999.0000,9,  -999.0,9,  -999.0,9,-999.0000,9,  -999.00, -999.00,9,  -999.0,9,  -999.0,-999.0000,9, -999.00,9,  -999.0,9, -999.00,9, -999.00,9,     -999.0,9, -999.00,9,  -999.0,9,     -999.0,     -999.0,9,      38.25,2,     -999.0,      38.35,2,     -999.0,     -999.0,9,     -999.0,     -999.0,     -999.0,9,     -999.0,9,     -999.0,9,     -999.0,9,     -999.0,9,     -999.0,9,     -999.0,9,     -999.0,9
33RO20161119,        P18,      48,          1,          4,      11103,2,20161205,       1928,     1.7500,  -110.0000,       3727,  2850.2,   1.7760,  34.6702,2,  34.6712,2,    125.1,2,   124.8,2,   145.1,6,    38.2,6,    0.01,6,   2.610,6,-999.0000,9,-999.0000,9,-999.0000,9,  -999.0,9,  -999.0,9,-999.0000,9,  -999.00, -999.00,9,  -999.0,9,  -999.0,-999.0000,9, -999.00,9,  -999.0,9, -999.00,9, -999.00,9,     -999.0,9, -999.00,9,  -999.0,9,     -999.0,     -999.0,9,      38.01,2,     -999.0,       38.1,2,     -999.0,     -999.0,9,     -999.0,     -999.0,     -999.0,9,     -999.0,9,     -999.0,9,     -999.0,9,     -999.0,9,     -999.0,9,     -999.0,9,     -999.0,9
33RO20161119,        P18,      48,          1,          5,      11104,2,20161205,       1928,     1.7500,  -110.0000,       3727,  2549.7,   1.8668,  34.6654,2,  34.6651,2,    117.7,2,   117.6,2,   145.4,2,    38.5,2,    0.01,2,   2.651,2,-999.0000,9,-999.0000,9,-999.0000,9,  -999.0,9,  -999.0,9,-999.0000,9,  -999.00, -999.00,9,  -999.0,9,  -999.0,-999.0000,9, -999.00,9,  -999.0,9, -999.00,9, -999.00,9,     -999.0,9, -999.00,9,  -999.0,9,     -999.0,     -999.0,9,      38.03,2,     -999.0,      38.12,2,     -999.0,     -999.0,9,     -999.0,     -999.0,     -999.0,9,     -999.0,9,     -999.0,9,     -999.0,9,     -999.0,9,     -999.0,9,     -999.0,9,     -999.0,9
33RO20161119,        P18,      48,          1,          6,      11105,2,20161205,       1928,     1.7500,  -110.0000,       3727,  2259.9,   2.0556,  34.6531,2,  34.6567,2,    111.8,2,   111.6,2,   140.1,2,    38.7,2,    0.01,2,   2.695,2,-999.0000,9,-999.0000,9,-999.0000,9,  -999.0,9,  -999.0,9,-999.0000,9,  -999.00, -999.00,9,  -999.0,9,  -999.0,-999.0000,9, -999.00,9,  -999.0,9, -999.00,9, -999.00,9,     -999.0,9, -999.00,9,  -999.0,9,     -999.0,     -999.0,9,      38.05,2,     -999.0,      38.15,2,     -999.0,     -999.0,9,     -999.0,     -999.0,     -999.0,9,     -999.0,9,     -999.0,9,     -999.0,9,25.52103885,2,       9.39,2,      50.46,2,      23.81,2
33RO20161119,        P18,      48,          1,          7,      11106,2,20161205,       1928,     1.7500,  -110.0000,       3727,  1980.0,   2.3735,  34.6369,2,  34.6536,4,    101.1,2,   101.1,2,   134.3,2,    39.6,2,    0.01,2,   2.755,2,-999.0000,9,-999.0000,9,-999.0000,9,  -999.0,9,  -999.0,9,-999.0000,9,  -999.00, -999.00,9,  -999.0,9,  -999.0,-999.0000,9, -999.00,9,  -999.0,9, -999.00,9, -999.00,9,     -999.0,9, -999.00,9,  -999.0,9,     -999.0,     -999.0,9,      37.95,2,     -999.0,      38.04,2,     -999.0,     -999.0,9,     -999.0,     -999.0,     -999.0,9,     -999.0,9,     -999.0,9,     -999.0,9,24.04919009,2,       8.87,2,      52.77,2,      22.91,2
33RO20161119,        P18,      48,          1,          8,      11107,2,20161205,       1928,     1.7500,  -110.0000,       3727,  1700.4,   2.7675,  34.6199,2,  34.6261,4,     90.8,2,    90.3,2,   126.1,2,    40.2,2,    0.01,2,   2.821,2,-999.0000,9,-999.0000,9,-999.0000,9,  -999.0,9,  -999.0,9,-999.0000,9,  -999.00, -999.00,9,  -999.0,9,  -999.0,-999.0000,9, -999.00,9,  -999.0,9, -999.00,9, -999.00,9,     -999.0,9, -999.00,9,  -999.0,9,     -999.0,     -999.0,9,      37.99,2,     -999.0,      38.08,2,     -999.0,     -999.0,9,     -999.0,     -999.0,     -999.0,9,     -999.0,9,     -999.0,9,     -999.0,9,26.74843201,2,       8.85,2,      52.45,2,      22.34,2
33RO20161119,        P18,      48,          1,          9,      11108,2,20161205,       1928,     1.7500,  -110.0000,       3727,  1420.5,   3.2854,  34.6006,2,  34.6049,3,     79.8,2,    79.4,2,   114.9,2,    40.9,2,    0.01,2,   2.871,2,-999.0000,9,-999.0000,9,-999.0000,9,  -999.0,9,  -999.0,9,-999.0000,9,  -999.00, -999.00,9,  -999.0,9,  -999.0,-999.0000,9, -999.00,9,  -999.0,9, -999.00,9, -999.00,9,     -999.0,9, -999.00,9,  -999.0,9,     -999.0,     -999.0,9,      38.05,2,     -999.0,      38.14,2,     -999.0,     -999.0,9,     -999.0,     -999.0,     -999.0,9,     -999.0,9,     -999.0,9,     -999.0,9,31.65215016,2,       8.76,2,      51.23,2,       22.4,2
33RO20161119,        P18,      48,          1,         10,      11109,2,20161205,       1928,     1.7500,  -110.0000,       3727,  1240.9,   3.7771,  34.5846,2,  34.5846,2,     70.8,2,    70.5,2,   104.7,2,    41.4,2,    0.01,2,   2.921,2,-999.0000,9,-999.0000,9,-999.0000,9,  -999.0,9,  -999.0,9,   7.4335,2,    25.00, -999.00,9,  -999.0,9,  -999.0,-999.0000,9, -999.00,9,  -999.0,9, -999.00,9, -999.00,9,     -999.0,9, -999.00,9,  -999.0,9,     -999.0,     -999.0,9,      38.07,2,     -999.0,      38.16,2,     -999.0,     -999.0,9,     -999.0,     -999.0,     -999.0,9,     -999.0,9,     -999.0,9,     -999.0,9,34.66983797,2,       8.68,2,      50.71,2,      22.25,2
33RO20161119,        P18,      48,          1,         11,      11110,2,20161205,       1928,     1.7500,  -110.0000,       3727,  1110.1,   4.2354,  34.5716,2,  34.5734,2,     65.3,2,    65.0,2,    94.1,2,    41.5,2,    0.01,2,   2.936,2,-999.0000,9,-999.0000,9,-999.0000,9,  -999.0,9,  -999.0,9,   7.4241,2,    25.00, -999.00,9,  -999.0,9,  -999.0,-999.0000,9, -999.00,9,  -999.0,9, -999.00,9, -999.00,9,     -999.0,9, -999.00,9,  -999.0,9,     -999.0,     -999.0,9,      38.06,2,     -999.0,      38.14,2,     -999.0,     -999.0,9,     -999.0,     -999.0,     -999.0,9,     -999.0,9,     -999.0,9,     -999.0,9,32.79916167,2,       8.55,2,      51.43,2,      20.67,2
33RO20161119,        P18,      48,          1,         12,      11111,2,20161205,       1928,     1.7500,  -110.0000,       3727,   990.0,   4.8543,  34.5543,2,  34.5638,4,     69.0,2,    69.3,2,    78.9,2,    40.7,2,    0.01,2,   2.866,2,-999.0000,9,-999.0000,9,-999.0000,9,  -999.0,9,  -999.0,9,   7.4356,2,    25.00, -999.00,9,  -999.0,9,  -999.0,-999.0000,9, -999.00,9,  -999.0,9, -999.00,9, -999.00,9,     -999.0,9, -999.00,9,  -999.0,9,     -999.0,     -999.0,9,      38.01,2,     -999.0,      38.09,2,     -999.0,     -999.0,9,     -999.0,     -999.0,     -999.0,9,     -999.0,9,     -999.0,9,     -999.0,9,37.00386142,2,       8.17,2,      49.45,2,       20.3,2
33RO20161119,        P18,      48,          1,         13,      11112,2,20161205,       1928,     1.7500,  -110.0000,       3727,   870.0,   5.4997,  34.5547,2,  34.5708,4,     58.7,2,    58.0,2,    68.7,2,    41.2,2,    0.01,2,   2.881,2,-999.0000,9,-999.0000,9,-999.0000,9,  2295.4,2,  2336.7,2,   7.4190,6,    25.00, -999.00,9,  -999.0,9,  -999.0,-999.0000,9, -999.00,9,  -999.0,9, -999.00,9, -999.00,9,     -999.0,9, -999.00,9,  -999.0,9,     -999.0,     -999.0,9,      38.01,2,     -999.0,      38.07,2,     -999.0,     -999.0,9,     -999.0,     -999.0,     -999.0,9,     -999.0,9,     -999.0,9,     -999.0,9,39.90457918,2,       8.05,2,      49.23,2,      19.78,2
33RO20161119,        P18,      48,          1,         14,      11113,2,20161205,       1928,     1.7500,  -110.0000,       3727,   750.1,   6.0713,  34.5539,2,  34.5533,2,     59.0,2,    59.2,2,    59.0,2,    40.3,2,    0.01,2,   2.809,2,-999.0000,9,-999.0000,9,-999.0000,9,  2281.9,2,  2325.8,2,   7.4290,2,    25.00, -999.00,9,  -999.0,9,  -999.0,-999.0000,9, -999.00,9,  -999.0,9, -999.00,9, -999.00,9,     -999.0,9, -999.00,9,  -999.0,9,     -999.0,     -999.0,9,      37.96,2,     -999.0,      38.01,2,     -999.0,     -999.0,9,     -999.0,     -999.0,     -999.0,9,     -999.0,9,     -999.0,9,     -999.0,9,40.57444732,2,        7.7,2,      48.84,2,      16.54,2
33RO20161119,        P18,      48,          1,         15,      11114,2,20161205,       1928,     1.7500,  -110.0000,       3727,   639.9,   7.0093,  34.5742,2,  34.5736,2,     54.2,2,    53.9,2,    48.0,2,    39.2,2,    0.01,2,   2.733,2,-999.0000,9,-999.0000,9,-999.0000,9,  2271.7,2,  2312.6,2,   7.4311,2,    25.00, -999.00,9,  -999.0,9,  -999.0,-999.0000,9, -999.00,9,  -999.0,9, -999.00,9, -999.00,9,     -999.0,9, -999.00,9,  -999.0,9,     -999.0,     -999.0,9,      37.94,2,     -999.0,      38.03,2,     -999.0,     -999.0,9,     -999.0,     -999.0,     -999.0,9,     -999.0,9,     -999.0,9,     -999.0,9,43.98497252,2,       7.34,2,      48.02,2,      16.55,2
33RO20161119,        P18,      48,          1,         16,      11115,2,20161205,       1928,     1.7500,  -110.0000,       3727,   535.3,   8.3050,  34.6331,2,  34.6331,2,     26.9,2,    27.1,2,    40.4,2,    39.3,2,    0.01,2,   2.707,2,-999.0000,9,-999.0000,9,-999.0000,9,  2273.7,2,  2306.3,2,   7.3956,2,    25.00, -999.00,9,  -999.0,9,  -999.0,-999.0000,9, -999.00,9,  -999.0,9, -999.00,9, -999.00,9,     -999.0,9, -999.00,9,  -999.0,9,     -999.0,     -999.0,9,     -999.0,9,     -999.0,     -999.0,9,     -999.0,     -999.0,9,     -999.0,     -999.0,     -999.0,9,     -999.0,9,     -999.0,9,     -999.0,9,49.90782336,2,       6.64,2,      47.37,2,      13.02,2
33RO20161119,        P18,      48,          1,         17,      11116,2,20161205,       1928,     1.7500,  -110.0000,       3727,   401.6,   9.6569,  34.7099,2,  34.7093,2,     14.6,2,    13.5,6,    34.6,2,    37.6,2,    0.01,2,   2.606,2,-999.0000,9,-999.0000,9,-999.0000,9,  2270.9,2,  2301.8,2,   7.3935,2,    25.00, -999.00,9,  -999.0,9,  -999.0,-999.0000,9, -999.00,9,  -999.0,9, -999.00,9, -999.00,9,     -999.0,9, -999.00,9,  -999.0,9,     -999.0,     -999.0,9,      38.08,2,     -999.0,      38.17,2,     -999.0,     -999.0,9,     -999.0,     -999.0,     -999.0,9,     -999.0,9,     -999.0,9,     -999.0,9,63.47331132,2,       5.86,2,      47.52,2,       8.27,2
33RO20161119,        P18,      48,          1,         18,      11117,2,20161205,       1928,     1.7500,  -110.0000,       3727,   325.0,  10.6914,  34.7623,2,  34.7630,2,     25.4,2,    24.4,6,    29.1,2,    34.5,2,    0.01,2,   2.381,2,-999.0000,9,-999.0000,9,-999.0000,9,  2254.3,2,  2300.1,2,   7.4393,2,    25.00, -999.00,9,  -999.0,9,  -999.0,-999.0000,9, -999.00,9,  -999.0,9, -999.00,9, -999.00,9,     -999.0,9, -999.00,9,  -999.0,9,     -999.0,     -999.0,9,      38.03,2,     -999.0,       38.1,2,     -999.0,     -999.0,9,     -999.0,     -999.0,     -999.0,9,     -999.0,9,     -999.0,9,     -999.0,9,59.52299809,2,       5.45,2,      46.05,2,       3.89,2
33RO20161119,        P18,      48,          1,         19,      11083,2,20161205,       1928,     1.7500,  -110.0000,       3727,   260.2,  11.3495,  34.8018,2,  34.8005,2,     19.9,2,    20.0,2,    27.5,2,    33.8,2,    0.02,2,   2.345,2,-999.0000,9,-999.0000,9,-999.0000,9,  2252.3,2,  2299.0,2,   7.4417,2,    25.00, -999.00,9,  -999.0,9,  -999.0,-999.0000,9, -999.00,9,  -999.0,9, -999.00,9, -999.00,9,     -999.0,9, -999.00,9,  -999.0,9,     -999.0,     -999.0,9,      38.07,2,     -999.0,      38.13,2,     -999.0,     -999.0,9,     -999.0,     -999.0,     -999.0,9,     -999.0,9,     -999.0,9,     -999.0,9,62.64912996,2,       5.09,2,       45.2,2,       7.57,2
33RO20161119,        P18,      48,          1,         20,      11118,2,20161205,       1928,     1.7500,  -110.0000,       3727,   184.8,  12.6436,  34.8779,2,  34.8854,2,     33.8,2,    32.0,2,    22.7,2,    30.9,2,    0.01,2,   2.140,2,-999.0000,9,-999.0000,9,-999.0000,9,  2232.7,2,  2300.7,2,   7.5017,2,    25.00, -999.00,9,  -999.0,9,  -999.0,-999.0000,9, -999.00,9,  -999.0,9, -999.00,9, -999.00,9,     -999.0,9, -999.00,9,  -999.0,9,     -999.0,     -999.0,9,     -999.0,9,     -999.0,     -999.0,9,     -999.0,     -999.0,9,     -999.0,     -999.0,     -999.0,9,     -999.0,9,     -999.0,9,     -999.0,9, 57.6205978,2,        4.7,2,      41.76,2,       2.89,2
33RO20161119,        P18,      48,          1,         21,      11119,2,20161205,       1928,     1.7500,  -110.0000,       3727,   120.0,  13.6506,  34.9308,2,  34.9302,2,     61.4,2,    60.1,2,    18.0,2,    26.7,2,    0.02,2,   1.876,2,-999.0000,9,-999.0000,9,-999.0000,9,  2205.7,2,  2299.8,2,   7.5864,2,    25.00, -999.00,9,  -999.0,9,  -999.0,-999.0000,9, -999.00,9,  -999.0,9, -999.00,9, -999.00,9,     -999.0,9, -999.00,9,  -999.0,9,     -999.0,     -999.0,9,      37.99,2,     -999.0,      38.02,2,     -999.0,     -999.0,9,     -999.0,     -999.0,     -999.0,9,     -999.0,9,     -999.0,9,     -999.0,9,45.34296788,2,       4.87,2,      39.81,2,       7.83,2
33RO20161119,        P18,      48,          1,         22,      11120,2,20161205,       1928,     1.7500,  -110.0000,       3727,    60.2,  15.4738,  34.9624,2,  34.9637,2,     73.7,2,    71.8,2,    14.4,2,    23.5,2,    0.45,2,   1.703,2,-999.0000,9,-999.0000,9,-999.0000,9,  2184.8,2,  2298.6,2,   7.6391,2,    25.00, -999.00,9,  -999.0,9,  -999.0,-999.0000,9, -999.00,9,  -999.0,9, -999.00,9, -999.00,9,     -999.0,9, -999.00,9,  -999.0,9,     -999.0,     -999.0,9,      38.14,2,     -999.0,      38.17,2,     -999.0,     -999.0,9,     -999.0,     -999.0,     -999.0,9,     -999.0,9,     -999.0,9,     -999.0,9,37.18607365,2,       4.48,2,      40.05,2,       11.5,2
33RO20161119,        P18,      48,          1,         23,      11121,2,20161205,       1928,     1.7500,  -110.0000,       3727,    20.3,  25.0291,  33.6253,2,  33.8577,2,    203.6,2,   197.3,2,     1.5,2,     2.3,2,    0.15,2,   0.372,2,-999.0000,9,-999.0000,9,-999.0000,9,  1964.8,2,  2232.5,2,   8.0045,2,    25.00, -999.00,9,  -999.0,9,  -999.0,-999.0000,9, -999.00,9,  -999.0,9, -999.00,9, -999.00,9,     -999.0,9, -999.00,9,  -999.0,9,     -999.0,     -999.0,9,      38.23,2,     -999.0,      38.19,2,     -999.0,     -999.0,9,     -999.0,     -999.0,     -999.0,9,     -999.0,9,     -999.0,9,     -999.0,9,11.59521103,2,       5.32,2,      45.49,2,      15.08,2
33RO20161119,        P18,      48,          1,         24,      11122,2,20161205,       1928,     1.7500,  -110.0000,       3727,     3.1,  25.2437,  33.6332,2,  33.6344,2,    201.2,2,   208.4,2,     0.8,2,     0.6,2,    0.04,2,   0.227,2,-999.0000,9,-999.0000,9,-999.0000,9,  1925.4,6,  2214.7,2,   8.0492,2,    25.00, -999.00,9,  -999.0,9,  -999.0,-999.0000,9, -999.00,9,  -999.0,9, -999.00,9, -999.00,9,     -999.0,9, -999.00,9,  -999.0,9,     -999.0,     -999.0,9,      38.07,2,     -999.0,       38.0,2,     -999.0,     -999.0,9,     -999.0,     -999.0,     -999.0,9,     -999.0,9,     -999.0,9,     -999.0,9,7.349348249,2,       5.02,2,      46.99,2,       18.9,2