BOTTLE,20230606CCHSIOCBG
EXPOCODE,SECT_ID,STNNBR,CASTNO,SAMPNO,BTLNBR,BTLNBR_FLAG_W,DATE,TIME,LATITUDE,LONGITUDE,DEPTH,CTDPRS,CTDTMP,CTDSAL,CTDSAL_FLAG_W,SALNTY,SALNTY_FLAG_W,CTDOXY,CTDOXY_FLAG_W,OXYGEN,OXYGEN_FLAG_W,SILCAT,SILCAT_FLAG_W,NITRAT,NITRAT_FLAG_W,NITRIT,NITRIT_FLAG_W,PHSPHT,PHSPHT_FLAG_W,CFC-11,CFC-11_FLAG_W,CFC-12,CFC-12_FLAG_W,SF6,SF6_FLAG_W,TCARBN,TCARBN_FLAG_W,ALKALI,ALKALI_FLAG_W,PH_SWS,PH_SWS_FLAG_W,PH_TMP,DELC13,DELC13_FLAG_W,DELC14,DELC14_FLAG_W,C14ERR,CCL4,CCL4_FLAG_W,POC,POC_FLAG_W,DOC,DOC_FLAG_W,TDN,TDN_FLAG_W,PON,PON_FLAG_W,N2O,N2O_FLAG_W,D15N_NO3,D15N_NO3_FLAG_W,14C-DOC,14C-DOC_FLAG_W,14C-DOCERR,13C-DOC,13C-DOC_FLAG_W,N2/ARGON_UNSTRIPPED,N2/ARGON_UNSTRIPPED_FLAG_W,N2/ARGON_UNSTRIPPED_ERROR,N2/ARGON,N2/ARGON_FLAG_W,N2/ARGON_ERROR,D15N_N2,D15N_N2_FLAG_W,D15N_N2_ERROR,D15N_NO3_ERROR,D15N_NO2+NO3,D15N_NO2+NO3_FLAG_W,D18O_NO2+NO3,D18O_NO2+NO3_FLAG_W,D18O_NO3,D18O_NO3_FLAG_W,TDP,TDP_FLAG_W,N2O_ALT_1,N2O_ALT_1_FLAG_W,D15N_N2O,D15N_N2O_FLAG_W,D18O_N2O,D18O_N2O_FLAG_W,D15N_ALPHA_N2O,D15N_ALPHA_N2O_FLAG_W
,,,,,,,,,,,METERS,DBAR,ITS-90,PSS-78,,PSS-78,,UMOL/KG,,UMOL/KG,,UMOL/KG,,UMOL/KG,,UMOL/KG,,UMOL/KG,,PMOL/KG,,PMOL/KG,,FMOL/KG,,UMOL/KG,,UMOL/KG,,,,DEG C,/MILLE,,/MILLE,,/MILLE,PMOL/KG,,UG/KG,,UMOL/KG,,UMOL/KG,,UG/KG,,NMOL/KG,,/MILLE,,/MILLE,,/MILLE,/MILLE,,,,,,,,/MILLE,,/MILLE,/MILLE,/MILLE,,/MILLE,,/MILLE,,UMOL/KG,,NMOL/L,,/MILLE,,/MILLE,,/MILLE,
33RO20161119,        P18,      72,          1,          1,      11010,2,20161210,       1941,    -5.2902,  -109.5900,       3510,  3549.9,   1.5907,  34.6857,2,  34.6852,2,    149.7,2,   149.9,2,   141.9,6,    35.9,6,    0.00,6,   2.483,6,-999.0000,9,-999.0000,9,-999.0000,9,  2329.7,6,  2428.3,2,   7.5815,6,    25.00, -999.00,9,  -999.0,9,  -999.0,-999.0000,9, -999.00,9,  -999.0,9, -999.00,9, -999.00,9,     -999.0,9, -999.00,9,  -999.0,9,     -999.0,     -999.0,9,     -999.0,9,     -999.0,     -999.0,9,     -999.0,     -999.0,9,     -999.0,     -999.0,     -999.0,9,     -999.0,9,     -999.0,9,     -999.0,9,     -999.0,9,     -999.0,9,     -999.0,9,     -999.0,9
33RO20161119,        P18,      72,          1,          2,      11101,2,20161210,       1941,    -5.2902,  -109.5900,       3510,  3249.8,   1.6084,  34.6830,2,  34.6856,2,    146.2,2,   145.7,2,   141.8,6,    36.3,6,    0.00,6,   2.496,6,-999.0000,9,-999.0000,9,-999.0000,9,  2330.5,2,  2427.4,2,   7.5765,2,    25.00, -999.00,9,  -999.0,9,  -999.0,-999.0000,9, -999.00,9,  -999.0,9, -999.00,9, -999.00,9,     -999.0,9, -999.00,9,  -999.0,9,     -999.0,     -999.0,9,     -999.0,9,     -999.0,     -999.0,9,     -999.0,     -999.0,9,     -999.0,     -999.0,     -999.0,9,     -999.0,9,     -999.0,9,     -999.0,9,     -999.0,9,     -999.0,9,     -999.0,9,     -999.0,9
33RO20161119,        P18,      72,          1,          3,      11102,2,20161210,       1941,    -5.2902,  -109.5900,       3510,  2949.9,   1.7316,  34.6763,2,  34.6768,2,    137.3,2,   136.4,2,   141.8,6,    36.8,6,    0.00,6,   2.547,6,-999.0000,9,-999.0000,9,-999.0000,9,  2333.6,2,  2430.7,2,   7.5596,2,    25.00, -999.00,9,  -999.0,9,  -999.0,-999.0000,9, -999.00,9,  -999.0,9, -999.00,9, -999.00,9,     -999.0,9, -999.00,9,  -999.0,9,     -999.0,     -999.0,9,     -999.0,9,     -999.0,     -999.0,9,     -999.0,     -999.0,9,     -999.0,     -999.0,     -999.0,9,     -999.0,9,     -999.0,9,     -999.0,9,     -999.0,9,     -999.0,9,     -999.0,9,     -999.0,9
33RO20161119,        P18,      72,          1,          4,      11103,2,20161210,       1941,    -5.2902,  -109.5900,       3510,  2700.8,   1.8100,  34.6713,2,  34.6705,2,    131.6,2,   131.4,2,   140.6,6,    37.2,6,    0.00,6,   2.575,6,-999.0000,9,-999.0000,9,-999.0000,9,  2335.6,2,  2422.3,2,   7.5498,2,    25.00, -999.00,9,  -999.0,9,  -999.0,-999.0000,9, -999.00,9,  -999.0,9, -999.00,9, -999.00,9,     -999.0,9, -999.00,9,  -999.0,9,     -999.0,     -999.0,9,     -999.0,9,     -999.0,     -999.0,9,     -999.0,     -999.0,9,     -999.0,     -999.0,     -999.0,9,     -999.0,9,     -999.0,9,     -999.0,9,     -999.0,9,     -999.0,9,     -999.0,9,     -999.0,9
33RO20161119,        P18,      72,          1,          5,      11104,2,20161210,       1941,    -5.2902,  -109.5900,       3510,  2424.9,   1.9832,  34.6591,2,  34.6617,2,    121.2,2,   120.6,2,   139.1,2,    38.0,2,    0.00,2,   2.637,2,-999.0000,9,-999.0000,9,-999.0000,9,  2339.2,2,  2436.1,4,   7.5263,2,    25.00, -999.00,9,  -999.0,9,  -999.0,-999.0000,9, -999.00,9,  -999.0,9, -999.00,9, -999.00,9,     -999.0,9, -999.00,9,  -999.0,9,     -999.0,     -999.0,9,     -999.0,9,     -999.0,     -999.0,9,     -999.0,     -999.0,9,     -999.0,     -999.0,     -999.0,9,     -999.0,9,     -999.0,9,     -999.0,9,     -999.0,9,     -999.0,9,     -999.0,9,     -999.0,9
33RO20161119,        P18,      72,          1,          6,      11105,2,20161210,       1941,    -5.2902,  -109.5900,       3510,  2139.6,   2.1732,  34.6479,2,  34.6461,2,    114.4,2,   113.4,2,   135.4,2,    38.3,2,    0.00,2,   2.687,2,-999.0000,9,-999.0000,9,-999.0000,9,  2340.0,2,  2413.4,2,   7.5136,2,    25.00, -999.00,9,  -999.0,9,  -999.0,-999.0000,9, -999.00,9,  -999.0,9, -999.00,9, -999.00,9,     -999.0,9, -999.00,9,  -999.0,9,     -999.0,     -999.0,9,     -999.0,9,     -999.0,     -999.0,9,     -999.0,     -999.0,9,     -999.0,     -999.0,     -999.0,9,     -999.0,9,     -999.0,9,     -999.0,9,     -999.0,9,     -999.0,9,     -999.0,9,     -999.0,9
33RO20161119,        P18,      72,          1,          7,      11106,2,20161210,       1941,    -5.2902,  -109.5900,       3510,  1879.8,   2.4509,  34.6305,2,  34.6301,2,    109.2,2,   108.7,2,   127.5,2,    38.6,2,    0.00,2,   2.716,2,-999.0000,9,-999.0000,9,-999.0000,9,  2335.8,6,  2403.1,2,   7.5018,2,    25.00, -999.00,9,  -999.0,9,  -999.0,-999.0000,9, -999.00,9,  -999.0,9, -999.00,9, -999.00,9,     -999.0,9, -999.00,9,  -999.0,9,     -999.0,     -999.0,9,     -999.0,9,     -999.0,     -999.0,9,     -999.0,     -999.0,9,     -999.0,     -999.0,     -999.0,9,     -999.0,9,     -999.0,9,     -999.0,9,     -999.0,9,     -999.0,9,     -999.0,9,     -999.0,9
33RO20161119,        P18,      72,          1,          8,      11107,2,20161210,       1941,    -5.2902,  -109.5900,       3510,  1619.2,   2.7465,  34.6146,2,  34.6135,2,    102.4,2,   101.2,2,   120.7,2,    39.0,2,    0.00,2,   2.765,2,-999.0000,9,-999.0000,9,-999.0000,9,  2330.4,2,  2396.6,2,   7.4901,2,    25.00, -999.00,9,  -999.0,9,  -999.0,-999.0000,9, -999.00,9,  -999.0,9, -999.00,9, -999.00,9,     -999.0,9, -999.00,9,  -999.0,9,     -999.0,     -999.0,9,     -999.0,9,     -999.0,     -999.0,9,     -999.0,     -999.0,9,     -999.0,     -999.0,     -999.0,9,     -999.0,9,     -999.0,9,     -999.0,9,     -999.0,9,     -999.0,9,     -999.0,9,     -999.0,9
33RO20161119,        P18,      72,          1,          9,      11108,2,20161210,       1941,    -5.2902,  -109.5900,       3510,  1351.1,   3.2935,  34.5874,2,  34.5887,2,     97.3,2,    95.8,2,   106.5,2,    39.2,2,    0.01,2,   2.888,4,-999.0000,9,-999.0000,9,-999.0000,9,  2315.8,2,  2394.0,4,   7.4737,2,    25.00, -999.00,9,  -999.0,9,  -999.0,-999.0000,9, -999.00,9,  -999.0,9, -999.00,9, -999.00,9,     -999.0,9, -999.00,9,  -999.0,9,     -999.0,     -999.0,9,     -999.0,9,     -999.0,     -999.0,9,     -999.0,     -999.0,9,     -999.0,     -999.0,     -999.0,9,     -999.0,9,     -999.0,9,     -999.0,9,     -999.0,9,     -999.0,9,     -999.0,9,     -999.0,9
33RO20161119,        P18,      72,          1,         10,      11109,2,20161210,       1941,    -5.2902,  -109.5900,       3510,  1169.9,   3.7833,  34.5655,2,  34.5666,2,     96.3,2,    94.8,6,    93.0,2,    39.0,2,    0.00,2,   2.774,2,-999.0000,9,-999.0000,9,-999.0000,9,  2304.3,2,  2374.1,2,   7.4767,2,    25.00, -999.00,9,  -999.0,9,  -999.0,-999.0000,9, -999.00,9,  -999.0,9, -999.00,9, -999.00,9,     -999.0,9, -999.00,9,  -999.0,9,     -999.0,     -999.0,9,     -999.0,9,     -999.0,     -999.0,9,     -999.0,     -999.0,9,     -999.0,     -999.0,     -999.0,9,     -999.0,9,     -999.0,9,     -999.0,9,     -999.0,9,     -999.0,9,     -999.0,9,     -999.0,9
33RO20161119,        P18,      72,          1,         11,      11110,2,20161210,       1941,    -5.2902,  -109.5900,       3510,  1050.2,   4.2110,  34.5518,2,  34.5511,2,     86.7,2,    85.6,2,    83.6,2,    40.1,2,    0.00,2,   2.839,2,-999.0000,9,-999.0000,9,-999.0000,9,  2302.0,2,  2362.9,2,   7.4568,2,    25.00, -999.00,9,  -999.0,9,  -999.0,-999.0000,9, -999.00,9,  -999.0,9, -999.00,9, -999.00,9,     -999.0,9, -999.00,9,  -999.0,9,     -999.0,     -999.0,9,     -999.0,9,     -999.0,     -999.0,9,     -999.0,     -999.0,9,     -999.0,     -999.0,     -999.0,9,     -999.0,9,     -999.0,9,     -999.0,9,     -999.0,9,     -999.0,9,     -999.0,9,     -999.0,9
33RO20161119,        P18,      72,          1,         12,      11111,2,20161210,       1941,    -5.2902,  -109.5900,       3510,   930.8,   4.8488,  34.5406,2,  34.5440,2,     72.4,2,    71.4,2,    71.9,2,    41.0,2,    0.00,2,   2.887,2,-999.0000,9,-999.0000,9,-999.0000,9,  2293.1,2,  2349.0,2,   7.4323,2,    25.00, -999.00,9,  -999.0,9,  -999.0,-999.0000,9, -999.00,9,  -999.0,9, -999.00,9, -999.00,9,     -999.0,9, -999.00,9,  -999.0,9,     -999.0,     -999.0,9,     -999.0,9,     -999.0,     -999.0,9,     -999.0,     -999.0,9,     -999.0,     -999.0,     -999.0,9,     -999.0,9,     -999.0,9,     -999.0,9,     -999.0,9,     -999.0,9,     -999.0,9,     -999.0,9
33RO20161119,        P18,      72,          1,         13,      11112,2,20161210,       1941,    -5.2902,  -109.5900,       3510,   820.0,   5.5485,  34.5438,2,  34.5435,2,     57.0,2,    55.9,2,    61.9,2,    42.0,2,    0.00,2,   2.923,2,   0.0105,6,   0.0063,6,   0.0000,6,  2288.9,2,  2340.0,3,   7.4098,2,    25.00, -999.00,9,  -999.0,9,  -999.0,   0.0121,2, -999.00,9,  -999.0,9, -999.00,9, -999.00,9,    40.8569,2, -999.00,9,  -999.0,9,     -999.0,     -999.0,9,     -999.0,9,     -999.0,     -999.0,9,     -999.0,     -999.0,9,     -999.0,     -999.0,     -999.0,9,     -999.0,9,     -999.0,9,     -999.0,9,     -999.0,9,     -999.0,9,     -999.0,9,     -999.0,9
33RO20161119,        P18,      72,          1,         14,      11113,2,20161210,       1941,    -5.2902,  -109.5900,       3510,   710.4,   6.4417,  34.5647,2,  34.5662,2,     34.3,2,    33.3,2,    53.0,2,    43.0,2,    0.00,2,   2.962,2,-999.0000,9,-999.0000,9,-999.0000,9,  2290.3,2,  2323.4,2,   7.3857,2,    25.00, -999.00,9,  -999.0,9,  -999.0,-999.0000,9, -999.00,9,  -999.0,9, -999.00,9, -999.00,9,     -999.0,9, -999.00,9,  -999.0,9,     -999.0,     -999.0,9,     -999.0,9,     -999.0,     -999.0,9,     -999.0,     -999.0,9,     -999.0,     -999.0,     -999.0,9,     -999.0,9,     -999.0,9,     -999.0,9,     -999.0,9,     -999.0,9,     -999.0,9,     -999.0,9
33RO20161119,        P18,      72,          1,         15,      11114,2,20161210,       1941,    -5.2902,  -109.5900,       3510,   605.3,   7.3497,  34.5994,2,  34.5978,2,     11.1,2,    10.7,2,    47.1,2,    43.1,2,    0.00,2,   3.032,2,   0.0371,2,   0.0216,2,   0.0251,2,  2294.3,2,  2310.6,6,   7.3422,2,    25.00, -999.00,9,  -999.0,9,  -999.0,   0.0492,2, -999.00,9,  -999.0,9, -999.00,9, -999.00,9,    67.9789,2, -999.00,9,  -999.0,9,     -999.0,     -999.0,9,     -999.0,9,     -999.0,     -999.0,9,     -999.0,     -999.0,9,     -999.0,     -999.0,     -999.0,9,     -999.0,9,     -999.0,9,     -999.0,9,     -999.0,9,     -999.0,9,     -999.0,9,     -999.0,9
33RO20161119,        P18,      72,          1,         16,      11115,2,20161210,       1941,    -5.2902,  -109.5900,       3510,   504.7,   8.5774,  34.6589,2,  34.6591,2,      5.9,2,     5.6,6,    39.9,2,    39.8,2,    0.00,2,   2.876,2,-999.0000,9,-999.0000,9,-999.0000,9,  2286.1,2,  2304.5,2,   7.3448,2,    25.00, -999.00,9,  -999.0,9,  -999.0,-999.0000,9, -999.00,9,  -999.0,9, -999.00,9, -999.00,9,     -999.0,9, -999.00,9,  -999.0,9,     -999.0,     -999.0,9,     -999.0,9,     -999.0,     -999.0,9,     -999.0,     -999.0,9,     -999.0,     -999.0,     -999.0,9,     -999.0,9,     -999.0,9,     -999.0,9,     -999.0,9,     -999.0,9,     -999.0,9,     -999.0,9
33RO20161119,        P18,      72,          1,         17,      11116,2,20161210,       1941,    -5.2902,  -109.5900,       3510,   415.0,  10.0091,  34.7430,2,  34.7406,2,     15.4,2,    14.4,2,    32.1,2,    35.3,2,    0.01,2,   2.589,2,   0.3941,2,   0.2193,2,   0.0776,2,  2266.8,2,  2302.0,2,   7.3976,2,    25.00, -999.00,9,  -999.0,9,  -999.0,   0.0636,2, -999.00,9,  -999.0,9, -999.00,9, -999.00,9,    71.5827,2, -999.00,9,  -999.0,9,     -999.0,     -999.0,9,     -999.0,9,     -999.0,     -999.0,9,     -999.0,     -999.0,9,     -999.0,     -999.0,     -999.0,9,     -999.0,9,     -999.0,9,     -999.0,9,     -999.0,9,     -999.0,9,     -999.0,9,     -999.0,9
33RO20161119,        P18,      72,          1,         18,      11117,2,20161210,       1941,    -5.2902,  -109.5900,       3510,   325.4,  11.6824,  34.8487,2,  34.8486,2,     11.2,2,    10.9,2,    26.5,2,    32.5,2,    0.01,2,   2.410,2,-999.0000,9,-999.0000,9,-999.0000,9,  2258.3,2,  2300.3,2,   7.4260,2,    25.00, -999.00,9,  -999.0,9,  -999.0,-999.0000,9, -999.00,9,  -999.0,9, -999.00,9, -999.00,9,     -999.0,9, -999.00,9,  -999.0,9,     -999.0,     -999.0,9,     -999.0,9,     -999.0,     -999.0,9,     -999.0,     -999.0,9,     -999.0,     -999.0,     -999.0,9,     -999.0,9,     -999.0,9,     -999.0,9,     -999.0,9,     -999.0,9,     -999.0,9,     -999.0,9
33RO20161119,        P18,      72,          1,         19,      11083,2,20161210,       1941,    -5.2902,  -109.5900,       3510,   244.9,  12.2994,  34.8859,2,  34.8885,2,      9.9,2,    12.7,2,    24.6,2,    32.3,2,    0.01,2,   2.354,2,   1.0030,2,   0.5551,2,   0.2237,2,  2251.1,2,  2298.7,2,   7.4413,2,    25.00, -999.00,9,  -999.0,9,  -999.0,   0.0777,2, -999.00,9,  -999.0,9, -999.00,9, -999.00,9,    78.9409,2, -999.00,9,  -999.0,9,     -999.0,     -999.0,9,     -999.0,9,     -999.0,     -999.0,9,     -999.0,     -999.0,9,     -999.0,     -999.0,     -999.0,9,     -999.0,9,     -999.0,9,     -999.0,9,     -999.0,9,     -999.0,9,     -999.0,9,     -999.0,9
33RO20161119,        P18,      72,          1,         20,      11118,2,20161210,       1941,    -5.2902,  -109.5900,       3510,   175.5,  13.1192,  34.9337,2,  34.9474,3,     24.5,2,    20.0,2,    21.4,2,    30.7,2,    0.01,2,   2.223,2,   1.3190,2,   0.7329,2,   0.3587,2,  2236.7,2,  2306.9,2,   7.4819,2,    25.00, -999.00,9,  -999.0,9,  -999.0,    0.125,2, -999.00,9,  -999.0,9, -999.00,9, -999.00,9,    75.6225,2, -999.00,9,  -999.0,9,     -999.0,     -999.0,9,     -999.0,9,     -999.0,     -999.0,9,     -999.0,     -999.0,9,     -999.0,     -999.0,     -999.0,9,     -999.0,9,     -999.0,9,     -999.0,9,     -999.0,9,     -999.0,9,     -999.0,9,     -999.0,9
33RO20161119,        P18,      72,          1,         21,      11119,2,20161210,       1941,    -5.2902,  -109.5900,       3510,   114.9,  13.9626,  34.9821,2,  34.9841,2,     57.4,2,    58.7,2,    17.0,2,    25.9,2,    0.06,2,   1.863,2,   1.5930,2,   0.9073,2,   0.5417,2,  2205.1,2,  2309.6,6,   7.5894,2,    25.00, -999.00,9,  -999.0,9,  -999.0,   1.6225,2, -999.00,9,  -999.0,9, -999.00,9, -999.00,9,    47.2512,2, -999.00,9,  -999.0,9,     -999.0,     -999.0,9,     -999.0,9,     -999.0,     -999.0,9,     -999.0,     -999.0,9,     -999.0,     -999.0,     -999.0,9,     -999.0,9,     -999.0,9,     -999.0,9,     -999.0,9,     -999.0,9,     -999.0,9,     -999.0,9
33RO20161119,        P18,      72,          1,         22,      11120,2,20161210,       1941,    -5.2902,  -109.5900,       3510,    60.4,  23.9760,  35.1752,2,  35.1823,2,    210.3,2,   209.5,2,     4.1,2,     8.1,2,    0.21,2,   0.820,2,   1.7611,2,   1.1051,2,   1.4591,2,  2071.8,2,  2324.1,2,   7.9361,2,    25.00, -999.00,9,  -999.0,9,  -999.0,   1.7836,2, -999.00,9,  -999.0,9, -999.00,9, -999.00,9,     7.9047,2, -999.00,9,  -999.0,9,     -999.0,     -999.0,9,     -999.0,9,     -999.0,     -999.0,9,     -999.0,     -999.0,9,     -999.0,     -999.0,     -999.0,9,     -999.0,9,     -999.0,9,     -999.0,9,     -999.0,9,     -999.0,9,     -999.0,9,     -999.0,9
33RO20161119,        P18,      72,          1,         23,      11121,2,20161210,       1941,    -5.2902,  -109.5900,       3510,    25.2,  23.9982,  35.1498,2,  35.1549,2,    211.7,2,   211.8,2,     4.4,2,     8.3,2,    0.23,2,   0.832,2,-999.0000,9,-999.0000,9,-999.0000,9,  2070.9,6,  2319.7,2,   7.9336,2,    25.00, -999.00,9,  -999.0,9,  -999.0,-999.0000,9, -999.00,9,  -999.0,9, -999.00,9, -999.00,9,     -999.0,9, -999.00,9,  -999.0,9,     -999.0,     -999.0,9,     -999.0,9,     -999.0,     -999.0,9,     -999.0,     -999.0,9,     -999.0,     -999.0,     -999.0,9,     -999.0,9,     -999.0,9,     -999.0,9,     -999.0,9,     -999.0,9,     -999.0,9,     -999.0,9
33RO20161119,        P18,      72,          1,         24,      11122,2,20161210,       1941,    -5.2902,  -109.5900,       3510,     3.3,  24.2162,  35.1521,2,  35.1537,2,    204.6,2,   217.1,3,     4.5,2,     8.4,2,    0.23,2,   0.827,2,   1.7778,2,   1.1092,2,   1.4703,2,  2071.7,2,  2316.1,2,   7.9329,2,    25.00, -999.00,9,  -999.0,9,  -999.0,        0,2, -999.00,9,  -999.0,9, -999.00,9, -999.00,9,     7.9534,2, -999.00,9,  -999.0,9,     -999.0,     -999.0,9,     -999.0,9,     -999.0,     -999.0,9,     -999.0,     -999.0,9,     -999.0,     -999.0,     -999.0,9,     -999.0,9,     -999.0,9,     -999.0,9,     -999.0,9,     -999.0,9,     -999.0,9,     -999.0,9