BOTTLE,20230606CCHSIOCBG
EXPOCODE,SECT_ID,STNNBR,CASTNO,SAMPNO,BTLNBR,BTLNBR_FLAG_W,DATE,TIME,LATITUDE,LONGITUDE,DEPTH,CTDPRS,CTDTMP,CTDSAL,CTDSAL_FLAG_W,SALNTY,SALNTY_FLAG_W,CTDOXY,CTDOXY_FLAG_W,OXYGEN,OXYGEN_FLAG_W,SILCAT,SILCAT_FLAG_W,NITRAT,NITRAT_FLAG_W,NITRIT,NITRIT_FLAG_W,PHSPHT,PHSPHT_FLAG_W,CFC-11,CFC-11_FLAG_W,CFC-12,CFC-12_FLAG_W,SF6,SF6_FLAG_W,TCARBN,TCARBN_FLAG_W,ALKALI,ALKALI_FLAG_W,PH_SWS,PH_SWS_FLAG_W,PH_TMP,DELC13,DELC13_FLAG_W,DELC14,DELC14_FLAG_W,C14ERR,CCL4,CCL4_FLAG_W,POC,POC_FLAG_W,DOC,DOC_FLAG_W,TDN,TDN_FLAG_W,PON,PON_FLAG_W,N2O,N2O_FLAG_W,D15N_NO3,D15N_NO3_FLAG_W,14C-DOC,14C-DOC_FLAG_W,14C-DOCERR,13C-DOC,13C-DOC_FLAG_W,N2/ARGON_UNSTRIPPED,N2/ARGON_UNSTRIPPED_FLAG_W,N2/ARGON_UNSTRIPPED_ERROR,N2/ARGON,N2/ARGON_FLAG_W,N2/ARGON_ERROR,D15N_N2,D15N_N2_FLAG_W,D15N_N2_ERROR,D15N_NO3_ERROR,D15N_NO2+NO3,D15N_NO2+NO3_FLAG_W,D18O_NO2+NO3,D18O_NO2+NO3_FLAG_W,D18O_NO3,D18O_NO3_FLAG_W,TDP,TDP_FLAG_W,N2O_ALT_1,N2O_ALT_1_FLAG_W,D15N_N2O,D15N_N2O_FLAG_W,D18O_N2O,D18O_N2O_FLAG_W,D15N_ALPHA_N2O,D15N_ALPHA_N2O_FLAG_W
,,,,,,,,,,,METERS,DBAR,ITS-90,PSS-78,,PSS-78,,UMOL/KG,,UMOL/KG,,UMOL/KG,,UMOL/KG,,UMOL/KG,,UMOL/KG,,PMOL/KG,,PMOL/KG,,FMOL/KG,,UMOL/KG,,UMOL/KG,,,,DEG C,/MILLE,,/MILLE,,/MILLE,PMOL/KG,,UG/KG,,UMOL/KG,,UMOL/KG,,UG/KG,,NMOL/KG,,/MILLE,,/MILLE,,/MILLE,/MILLE,,,,,,,,/MILLE,,/MILLE,/MILLE,/MILLE,,/MILLE,,/MILLE,,UMOL/KG,,NMOL/L,,/MILLE,,/MILLE,,/MILLE,
33RO20161119,        P18,     181,          1,          1,      11010,2,20170118,       1121,   -56.5000,  -102.9997,       4327,  4425.5,   0.6466,  34.7044,2,  34.7051,2,    209.8,2,   210.7,2,   132.1,2,    32.7,2,    0.02,2,   2.243,2,   0.2884,2,   0.1369,2,   0.0726,2,  2267.5,2,  2361.2,2,   7.5935,6,    25.00, -999.00,9,  -999.0,9,  -999.0,   0.4335,2, -999.00,9,    40.5,2,   33.60,2, -999.00,9,    18.6314,2, -999.00,9,  -999.0,9,     -999.0,     -999.0,9,     -999.0,9,     -999.0,     -999.0,9,     -999.0,     -999.0,9,     -999.0,     -999.0,     -999.0,9,     -999.0,9,     -999.0,9,     -999.0,9,     -999.0,9,     -999.0,9,     -999.0,9,     -999.0,9
33RO20161119,        P18,     181,          1,          2,      11101,2,20170118,       1121,   -56.5000,  -102.9997,       4327,  4219.1,   0.7022,  34.7061,2,  34.7193,4,    208.0,2,   208.3,2,   130.1,6,    32.8,6,    0.02,6,   2.226,6,-999.0000,9,-999.0000,9,-999.0000,9,  2264.5,6,  2370.3,6,   7.5955,2,    25.00, -999.00,9,  -999.0,9,  -999.0,-999.0000,9, -999.00,9,    40.8,2,   35.90,2, -999.00,9,     -999.0,9, -999.00,9,  -999.0,9,     -999.0,     -999.0,9,     -999.0,9,     -999.0,     -999.0,9,     -999.0,     -999.0,9,     -999.0,     -999.0,     -999.0,9,     -999.0,9,     -999.0,9,     -999.0,9,     -999.0,9,     -999.0,9,     -999.0,9,     -999.0,9
33RO20161119,        P18,     181,          1,          3,      11102,2,20170118,       1121,   -56.5000,  -102.9997,       4327,  4015.9,   0.7979,  34.7085,2,  34.7078,2,    205.9,2,   207.6,2,   127.2,6,    32.6,6,    0.02,6,   2.229,6,   0.2148,2,   0.1038,2,   0.0488,2,  2263.7,2,  2367.3,2,   7.5977,2,    25.00, -999.00,9,  -999.0,9,  -999.0,   0.8691,2, -999.00,9,    40.9,2,   35.20,2, -999.00,9,    18.9219,2, -999.00,9,  -999.0,9,     -999.0,     -999.0,9,     -999.0,9,     -999.0,     -999.0,9,     -999.0,     -999.0,9,     -999.0,     -999.0,     -999.0,9,     -999.0,9,     -999.0,9,     -999.0,9,     -999.0,9,     -999.0,9,     -999.0,9,     -999.0,9
33RO20161119,        P18,     181,          1,          4,      11103,2,20170118,       1121,   -56.5000,  -102.9997,       4327,  3674.8,   0.9851,  34.7133,2,  34.7141,2,    202.9,2,   202.9,2,   120.0,6,    32.4,6,    0.02,6,   2.212,6,-999.0000,9,-999.0000,9,-999.0000,9,  2263.2,2,  2363.4,2,   7.5977,2,    25.00, -999.00,9,  -999.0,9,  -999.0,-999.0000,9, -999.00,9,    40.2,2,   36.10,2, -999.00,9,     -999.0,9, -999.00,9,  -999.0,9,     -999.0,     -999.0,9,     -999.0,9,     -999.0,     -999.0,9,     -999.0,     -999.0,9,     -999.0,     -999.0,     -999.0,9,     -999.0,9,     -999.0,9,     -999.0,9,     -999.0,9,     -999.0,9,     -999.0,9,     -999.0,9
33RO20161119,        P18,     181,          1,          5,      11104,2,20170118,       1121,   -56.5000,  -102.9997,       4327,  3285.0,   1.2199,  34.7199,2,  34.7206,2,    198.3,2,   198.4,2,   112.6,6,    32.2,6,    0.02,6,   2.209,6,-999.0000,9,-999.0000,9,-999.0000,9,  2262.3,2,  2362.2,2,   7.5999,2,    25.00, -999.00,9,  -999.0,9,  -999.0,-999.0000,9, -999.00,9,    39.9,2,   34.40,2, -999.00,9,     -999.0,9, -999.00,9,  -999.0,9,     -999.0,     -999.0,9,     -999.0,9,     -999.0,     -999.0,9,     -999.0,     -999.0,9,     -999.0,     -999.0,     -999.0,9,     -999.0,9,     -999.0,9,     -999.0,9,     -999.0,9,     -999.0,9,     -999.0,9,     -999.0,9
33RO20161119,        P18,     181,          1,          6,      11105,2,20170118,       1121,   -56.5000,  -102.9997,       4327,  2960.8,   1.3874,  34.7224,2,  34.7234,2,    194.1,2,   194.0,2,   108.4,6,    32.2,6,    0.02,6,   2.200,6,   0.0950,6,   0.0458,6,   0.0140,6,  2265.1,2,  2384.3,4,   7.5974,2,    25.00, -999.00,9,  -999.0,9,  -999.0,   1.8642,2, -999.00,9,    40.8,2,   35.00,2, -999.00,9,    19.1637,2, -999.00,9,  -999.0,9,     -999.0,     -999.0,9,     -999.0,9,     -999.0,     -999.0,9,     -999.0,     -999.0,9,     -999.0,     -999.0,     -999.0,9,     -999.0,9,     -999.0,9,     -999.0,9,     -999.0,9,     -999.0,9,     -999.0,9,     -999.0,9
33RO20161119,        P18,     181,          1,          7,      11106,2,20170118,       1121,   -56.5000,  -102.9997,       4327,  2600.8,   1.6137,  34.7254,2,  34.7259,2,    189.9,2,   189.5,2,   101.4,2,    32.0,2,    0.02,2,   2.191,2,   0.1125,2,   0.0548,2,   0.0692,2,  2262.1,2,  2364.5,2,   7.5945,2,    25.00, -999.00,9,  -999.0,9,  -999.0,   3.7272,2, -999.00,9,    39.0,2,   34.10,2, -999.00,9,    19.6075,2, -999.00,9,  -999.0,9,     -999.0,     -999.0,9,     -999.0,9,     -999.0,     -999.0,9,     -999.0,     -999.0,9,     -999.0,     -999.0,     -999.0,9,     -999.0,9,     -999.0,9,     -999.0,9,     -999.0,9,     -999.0,9,     -999.0,9,     -999.0,9
33RO20161119,        P18,     181,          1,          8,      11107,2,20170118,       1121,   -56.5000,  -102.9997,       4327,  2235.7,   1.9124,  34.7213,2,  34.7222,2,    183.4,2,   184.0,2,    92.3,2,    32.0,2,    0.02,2,   2.189,2,-999.0000,9,-999.0000,9,-999.0000,9,  2259.5,2,  2355.9,2,   7.5886,2,    25.00, -999.00,9,  -999.0,9,  -999.0,-999.0000,9, -999.00,9,    41.1,2,   34.50,2, -999.00,9,     -999.0,9, -999.00,9,  -999.0,9,     -999.0,     -999.0,9,     -999.0,9,     -999.0,     -999.0,9,     -999.0,     -999.0,9,     -999.0,     -999.0,     -999.0,9,     -999.0,9,     -999.0,9,     -999.0,9,     -999.0,9,     -999.0,9,     -999.0,9,     -999.0,9
33RO20161119,        P18,     181,          1,          9,      11108,2,20170118,       1121,   -56.5000,  -102.9997,       4327,  1839.9,   2.2183,  34.6850,2,  34.6832,2,    176.0,2,   176.2,2,    83.7,2,    32.7,2,    0.01,2,   2.240,2,-999.0000,9,-999.0000,9,-999.0000,9,  2266.1,3,  2347.2,2,   7.5761,2,    25.00, -999.00,9,  -999.0,9,  -999.0,-999.0000,9, -999.00,9,    40.5,2,   34.80,2, -999.00,9,     -999.0,9, -999.00,9,  -999.0,9,     -999.0,     -999.0,9,     -999.0,9,     -999.0,     -999.0,9,     -999.0,     -999.0,9,     -999.0,     -999.0,     -999.0,9,     -999.0,9,     -999.0,9,     -999.0,9,     -999.0,9,     -999.0,9,     -999.0,9,     -999.0,9
33RO20161119,        P18,     181,          1,         10,      11109,2,20170118,       1121,   -56.5000,  -102.9997,       4327,  1605.4,   2.3682,  34.6395,2,  34.6384,2,    171.7,2,   171.5,2,    80.0,2,    33.6,2,    0.02,2,   2.296,2,   0.3414,2,   0.1678,2,   0.1040,2,  2262.3,3,  2344.2,6,   7.5608,2,    25.00, -999.00,9,  -999.0,9,  -999.0,   3.8821,2, -999.00,9,    38.4,2,   35.50,2, -999.00,9,    21.8847,2, -999.00,9,  -999.0,9,     -999.0,     -999.0,9,     -999.0,9,     -999.0,     -999.0,9,     -999.0,     -999.0,9,     -999.0,     -999.0,     -999.0,9,     -999.0,9,     -999.0,9,     -999.0,9,     -999.0,9,     -999.0,9,     -999.0,9,     -999.0,9
33RO20161119,        P18,     181,          1,         11,      11110,2,20170118,       1121,   -56.5000,  -102.9997,       4327,  1443.7,   2.4757,  34.5943,2,  34.5940,2,    171.0,2,   170.6,2,    75.6,2,    34.1,2,    0.02,2,   2.337,2,-999.0000,9,-999.0000,9,-999.0000,9,  2258.2,2,  2339.4,2,   7.5539,2,    25.00, -999.00,9,  -999.0,9,  -999.0,-999.0000,9, -999.00,9,    37.7,2,   36.40,2, -999.00,9,     -999.0,9, -999.00,9,  -999.0,9,     -999.0,     -999.0,9,     -999.0,9,     -999.0,     -999.0,9,     -999.0,     -999.0,9,     -999.0,     -999.0,     -999.0,9,     -999.0,9,     -999.0,9,     -999.0,9,     -999.0,9,     -999.0,9,     -999.0,9,     -999.0,9
33RO20161119,        P18,     181,          1,         12,      11111,2,20170118,       1121,   -56.5000,  -102.9997,       4327,  1279.5,   2.6123,  34.5345,2,  34.5357,2,    172.3,2,   172.9,6,    70.5,2,    34.3,2,    0.01,2,   2.353,2,   0.7428,2,   0.3693,2,   0.1994,2,  2254.3,3,  2329.5,2,   7.5488,2,    25.00, -999.00,9,  -999.0,9,  -999.0,   3.8789,2, -999.00,9,    40.4,2,   37.10,2, -999.00,9,    22.6236,2, -999.00,9,  -999.0,9,     -999.0,     -999.0,9,     -999.0,9,     -999.0,     -999.0,9,     -999.0,     -999.0,9,     -999.0,     -999.0,     -999.0,9,     -999.0,9,     -999.0,9,     -999.0,9,     -999.0,9,     -999.0,9,     -999.0,9,     -999.0,9
33RO20161119,        P18,     181,          1,         13,      11112,2,20170118,       1121,   -56.5000,  -102.9997,       4327,  1122.8,   2.7854,  34.4578,2,  34.4594,2,    180.0,2,   180.4,2,    62.2,2,    34.5,2,    0.02,2,   2.359,2,-999.0000,9,-999.0000,9,-999.0000,9,  2240.9,2,  2321.4,2,   7.5515,2,    25.00, -999.00,9,  -999.0,9,  -999.0,-999.0000,9, -999.00,9,    38.9,2,   35.90,2, -999.00,9,     -999.0,9, -999.00,9,  -999.0,9,     -999.0,     -999.0,9,     -999.0,9,     -999.0,     -999.0,9,     -999.0,     -999.0,9,     -999.0,     -999.0,     -999.0,9,     -999.0,9,     -999.0,9,     -999.0,9,     -999.0,9,     -999.0,9,     -999.0,9,     -999.0,9
33RO20161119,        P18,     181,          1,         14,      11113,2,20170118,       1121,   -56.5000,  -102.9997,       4327,   980.0,   3.0473,  34.3804,2,  34.3813,2,    192.1,2,   191.4,6,    52.2,2,    33.8,2,    0.02,2,   2.314,2,   1.7420,2,   0.8750,2,   0.5076,2,  2228.3,6,  2313.0,2,   7.5654,2,    25.00, -999.00,9,  -999.0,9,  -999.0,   4.4226,2, -999.00,9,    42.3,2,   35.60,2, -999.00,9,    22.2162,2, -999.00,9,  -999.0,9,     -999.0,     -999.0,9,     -999.0,9,     -999.0,     -999.0,9,     -999.0,     -999.0,9,     -999.0,     -999.0,     -999.0,9,     -999.0,9,     -999.0,9,     -999.0,9,     -999.0,9,     -999.0,9,     -999.0,9,     -999.0,9
33RO20161119,        P18,     181,          1,         15,      11114,2,20170118,       1121,   -56.5000,  -102.9997,       4327,   840.7,   3.4243,  34.3209,2,  34.3195,2,    203.2,2,   203.5,2,    42.0,2,    32.7,2,    0.02,2,   2.226,2,-999.0000,9,-999.0000,9,-999.0000,9,  2212.7,2,  2304.0,2,   7.5828,2,    25.00, -999.00,9,  -999.0,9,  -999.0,-999.0000,9, -999.00,9,    39.9,2,   34.60,2, -999.00,9,     -999.0,9, -999.00,9,  -999.0,9,     -999.0,     -999.0,9,     -999.0,9,     -999.0,     -999.0,9,     -999.0,     -999.0,9,     -999.0,     -999.0,     -999.0,9,     -999.0,9,     -999.0,9,     -999.0,9,     -999.0,9,     -999.0,9,     -999.0,9,     -999.0,9
33RO20161119,        P18,     181,          1,         16,      11115,2,20170118,       1121,   -56.5000,  -102.9997,       4327,   702.0,   3.9231,  34.2679,2,  34.2679,2,    217.9,2,   217.6,2,    31.5,2,    31.0,2,    0.02,2,   2.107,2,   2.8365,2,   1.4748,2,   1.0196,2,  2195.9,2,  2293.1,2,   7.6036,2,    25.00, -999.00,9,  -999.0,9,  -999.0,   4.1459,2, -999.00,9,    41.1,2,   33.20,2, -999.00,9,    19.2209,2, -999.00,9,  -999.0,9,     -999.0,     -999.0,9,     -999.0,9,     -999.0,     -999.0,9,     -999.0,     -999.0,9,     -999.0,     -999.0,     -999.0,9,     -999.0,9,     -999.0,9,     -999.0,9,     -999.0,9,     -999.0,9,     -999.0,9,     -999.0,9
33RO20161119,        P18,     181,          1,         17,      11116,2,20170118,       1121,   -56.5000,  -102.9997,       4327,   581.4,   4.3400,  34.2269,2,  34.2275,2,    236.8,2,   237.7,2,    22.3,2,    28.6,2,    0.02,2,   1.942,2,-999.0000,9,-999.0000,9,-999.0000,9,  2177.2,2,  2285.8,2,   7.6358,2,    25.00, -999.00,9,  -999.0,9,  -999.0,-999.0000,9, -999.00,9,    40.6,2,   31.60,2, -999.00,9,     -999.0,9, -999.00,9,  -999.0,9,     -999.0,     -999.0,9,     -999.0,9,     -999.0,     -999.0,9,     -999.0,     -999.0,9,     -999.0,     -999.0,     -999.0,9,     -999.0,9,     -999.0,9,     -999.0,9,     -999.0,9,     -999.0,9,     -999.0,9,     -999.0,9
33RO20161119,        P18,     181,          1,         18,      11117,2,20170118,       1121,   -56.5000,  -102.9997,       4327,   455.5,   4.7196,  34.2055,2,  34.2050,2,    275.7,2,   254.8,2,    16.4,2,    26.4,2,    0.03,2,   1.820,2,   3.7319,2,   2.0160,2,   1.8460,2,  2160.7,2,  2282.0,2,   7.6673,2,    25.00, -999.00,9,  -999.0,9,  -999.0,   4.4775,2, -999.00,9,    41.9,2,   28.50,2, -999.00,9,    15.8159,2, -999.00,9,  -999.0,9,     -999.0,     -999.0,9,     -999.0,9,     -999.0,     -999.0,9,     -999.0,     -999.0,9,     -999.0,     -999.0,     -999.0,9,     -999.0,9,     -999.0,9,     -999.0,9,     -999.0,9,     -999.0,9,     -999.0,9,     -999.0,9
33RO20161119,        P18,     181,          1,         19,      11083,2,20170118,       1121,   -56.5000,  -102.9997,       4327,   345.4,   5.3514,  34.2311,2,  34.2306,2,    261.1,2,   272.1,2,    10.9,2,    23.4,2,    0.03,2,   1.629,2,   3.9269,2,   2.1731,2,   2.2798,2,  2146.6,2,  2283.0,2,   7.6999,2,    25.00, -999.00,9,  -999.0,9,  -999.0,   0.3746,2, -999.00,9,    42.3,2,   24.70,2, -999.00,9,    13.8627,2, -999.00,9,  -999.0,9,     -999.0,     -999.0,9,     -999.0,9,     -999.0,     -999.0,9,     -999.0,     -999.0,9,     -999.0,     -999.0,     -999.0,9,     -999.0,9,     -999.0,9,     -999.0,9,     -999.0,9,     -999.0,9,     -999.0,9,     -999.0,9
33RO20161119,        P18,     181,          1,         20,      11118,2,20170118,       1121,   -56.5000,  -102.9997,       4327,   247.5,   5.7848,  34.2474,2,  34.2477,2,    275.0,2,   278.6,2,     8.3,2,    21.7,2,    0.05,2,   1.528,2,   3.9926,2,   2.2339,2,   2.4612,2,  2137.9,2,  2278.3,2,   7.7187,2,    25.00, -999.00,9,  -999.0,9,  -999.0,   0.2694,2, -999.00,9,    47.3,2,   24.50,2, -999.00,9,    12.9113,2, -999.00,9,  -999.0,9,     -999.0,     -999.0,9,     -999.0,9,     -999.0,     -999.0,9,     -999.0,     -999.0,9,     -999.0,     -999.0,     -999.0,9,     -999.0,9,     -999.0,9,       1.64,2,     -999.0,9,     -999.0,9,     -999.0,9,     -999.0,9
33RO20161119,        P18,     181,          1,         21,      11119,2,20170118,       1121,   -56.5000,  -102.9997,       4327,   171.0,   5.9284,  34.2250,2,  34.2244,2,    283.4,2,   283.8,2,     6.7,2,    20.7,2,    0.06,2,   1.462,2,   4.0598,2,   2.2770,2,   2.5385,2,  2132.2,2,  2281.8,2,   7.7314,2,    25.00, -999.00,9,  -999.0,9,  -999.0,   0.2638,2, -999.00,9,    43.8,2,   22.60,2, -999.00,9,    12.6945,2, -999.00,9,  -999.0,9,     -999.0,     -999.0,9,     -999.0,9,     -999.0,     -999.0,9,     -999.0,     -999.0,9,     -999.0,     -999.0,     -999.0,9,     -999.0,9,     -999.0,9,       1.45,3,     -999.0,9,     -999.0,9,     -999.0,9,     -999.0,9
33RO20161119,        P18,     181,          1,         22,      11120,2,20170118,       1121,   -56.5000,  -102.9997,       4327,    85.4,   6.2329,  34.2267,2,  34.2273,2,    286.8,2,   283.4,3,     5.3,2,    19.7,2,    0.05,2,   1.403,2,   4.0583,2,   2.2855,2,   2.6280,2,  2126.8,2,  2277.2,6,   7.7366,2,    25.00, -999.00,9,  -999.0,9,  -999.0,    0.184,2, -999.00,9,    45.4,2,   21.40,2, -999.00,9,    12.2248,2, -999.00,9,  -999.0,9,     -999.0,     -999.0,9,     -999.0,9,     -999.0,     -999.0,9,     -999.0,     -999.0,9,     -999.0,     -999.0,     -999.0,9,     -999.0,9,     -999.0,9,       1.51,2,     -999.0,9,     -999.0,9,     -999.0,9,     -999.0,9
33RO20161119,        P18,     181,          1,         23,      11121,2,20170118,       1121,   -56.5000,  -102.9997,       4327,    40.0,   6.9287,  34.2192,2,  34.2181,2,    299.3,2,   296.1,2,     1.4,2,    16.8,2,    0.24,2,   1.242,2,-999.0000,9,-999.0000,9,-999.0000,9,  2114.0,2,  2277.5,2,   7.7789,2,    25.00, -999.00,9,  -999.0,9,  -999.0,-999.0000,9, -999.00,9,    47.9,2,   18.90,2, -999.00,9,     -999.0,9, -999.00,9,  -999.0,9,     -999.0,     -999.0,9,     -999.0,9,     -999.0,     -999.0,9,     -999.0,     -999.0,9,     -999.0,     -999.0,     -999.0,9,     -999.0,9,     -999.0,9,       1.27,2,     -999.0,9,     -999.0,9,     -999.0,9,     -999.0,9
33RO20161119,        P18,     181,          1,         24,      11122,2,20170118,       1121,   -56.5000,  -102.9997,       4327,     8.6,   7.0829,  34.1787,2,  34.1792,2,    296.7,2,   299.0,2,     0.5,2,    16.9,2,    0.23,2,   1.210,2,   4.0677,2,   2.2913,2,   2.8013,2,  2107.5,6,  2275.6,2,   7.7870,2,    25.00, -999.00,9,  -999.0,9,  -999.0,    0.145,2, -999.00,9,    50.2,2,   19.80,2, -999.00,9,     11.743,2, -999.00,9,  -999.0,9,     -999.0,     -999.0,9,     -999.0,9,     -999.0,     -999.0,9,     -999.0,     -999.0,9,     -999.0,     -999.0,     -999.0,9,     -999.0,9,     -999.0,9,       1.30,2,     -999.0,9,     -999.0,9,     -999.0,9,     -999.0,9