BOTTLE,20230606CCHSIOCBG
# Merged parameters: N2O_ALT_1, N2O_ALT_1_FLAG_W, D15N_N2O, D15N_N2O_FLAG_W, D18O_N2O, D18O_N2O_FLAG_W, D15N_ALPHA_N2O, D15N_ALPHA_N2O_FLAG_W
# Merged parameters: TDP, TDP_FLAG_W
# 20211118CCHSIOCBG
# Merged parameters: D15N_NO2+NO3, D15N_NO2+NO3_FLAG_W, D18O_NO2+NO3, D18O_NO2+NO3_FLAG_W, D15N_NO3, D15N_NO3_FLAG_W, D18O_NO3, D18O_NO3_FLAG_W
# Merged parameters: N2/ARGON_UNSTRIPPED, N2/ARGON_UNSTRIPPED_ERROR, N2/ARGON_UNSTRIPPED_FLAG_W, N2/ARGON, N2/ARGON_ERROR, N2/ARGON_FLAG_W, D15N_N2, D15N_N2_ERROR, D15N_N2_FLAG_W, D15N_NO3, D15N_NO3_ERROR, D15N_NO3_FLAG_W
# Merged parameters: N2O, N2O_FLAG_W, CCL4, CCL4_FLAG_W
# Merged parameters: 14C-DOC, 14C-DOC_FLAG_W, 14C-DOCERR, 13C-DOC, 13C-DOC_FLAG_W
# Merged parameters: DELC13, DELC13_FLAG_W, DELC14, DELC14_FLAG_W, C14ERR
# Merged parameters: DOC, DOC_FLAG_W, TDN, TDN_FLAG_W
# 20180921CCHSIOCBG
# Merged parameters: CTDPRS, CTDTMP, CTDSAL, SALNTY, SALNTY_FLAG_W, CTDOXY, CTDOXY_FLAG_W
# 20180103CCHSIOCBG
# Merged parameters: PHSPHT, PHSPHT_FLAG_W, SILCAT, SILCAT_FLAG_W, NITRAT, NITRAT_FLAG_W, NITRIT, NITRIT_FLAG_W
# Merged parameters: CFC-11, CFC-11_FLAG_W, CFC-12, CFC-12_FLAG_W, SF6, SF6_FLAG_W
# Merged parameters: OXYGEN_FLAG_W
# Merged parameters: ALKALI, ALKALI_FLAG_W, PH_SWS, PH_SWS_FLAG_W, PH_TMP
# Merged parameters: TCARBN, TCARBN_FLAG_W
# 20170505PRINUNIVRMK
# processed by CCHDO on 2017-05-15, units for POC/PON edited to UG/KG
# 20170807PRINUNIVRMK
#BOTTLE,20210212PRINUNIVRMK
# 06/06/2016 Initialized README file  
# Data source: S.Purkey 2/8/17 
# SHIP: Ron Brown 
# Cruise: P18; RB-16-06 
# Region: SE Pacific on 110W and 103W 
# EXPOCODE: 33RO20161119 
# DATES:Leg 1: 20161119 - 20161223; San Diego to Easter Island 
#       Leg 2: 20161230 - 20170203; Easter Island to Punta Arenas 
# Chief Scientist: Brendan Carter; Annie Bourbonnais - Leg 1 
#                Rolf Sonnerup; Sarah Purkey - Leg 2 
# 212 stations with 24 place Rosette 
# SOCCOM Biogeochemical floats deployed by  
# Sta   WMO_ID  Lat       Lon       Date        UW# 
# 128   5904844 -29.9815  -103.0012  20170104     9766 
# 138   5904843 -34.9995  -102.9975  20170106     9659 
# 146   5904685 -38.9988  -103.0015  20170108     9642 
# 158   5904841 -44.9912  -102.9998  20170112    12382 
# 170   5904842 -50.9990  -103.0005  20170115    12552 
# 186   5904845 -58.9990  -102.9988  20170120     9750 
# 202   5905075 -66.9960  -102.9992  20170124     8501 
# Supported by NSF Award PLR-1425989 to J.L. Sarmiento et al.  
# Extra stations executed near SOCCOM floats from earlier cruises for cliberation 
# Station/Cast  Date      Lat       Lon    Expocode/Sect/Sta/Cast    UW#   WMO_ID 
#    195/1      20170122 -63.5163 -102.9805  320620140320/P16S/17/2    9092  5904185 
#    212/1      20170129 -68.0655  -95.0013  320620161224/HazMat/16/2 12559  5904855 
# CTD: Who - G.Johnson; M.Barringer; Status - 
#       Includes: CTDSAL, CTDOXY, Optical 
# XMISS: Who - W.Gardner; Status - final 
#       Notes:  
# FLBB: Who - E.Boss; Status - final 
#       Notes:  
# Salinty: Who -  M.Barringer; Status - final 
#       Notes:   
# Nutrients: Who - C.Mordy;J.-Z. Zhang; Status - final 
#       Includes: nitrate, nitrite,  silicate, phopshpate 
# O2: Who - C.Langdon; Status - final 
#       Notes: revised data and flags rcd 3/16/17. Replaced 3/17/17 
#       Some additional flag changes possible 
# TCO2: Who - R.Feely & R.Wannikohf; Status - final 
#       Notes: preliminary data from C.Featherstone via J.Bullister 3/7/17 
#                final data from D.Greeley 8/2/17 
# Alkalinity: Who - F.Millero; Status - final 
#       Notes: data from R.Woosley via Kozyr 8/3/17 
#       Additional QC by Key 
# pH: Who - F.Millero; Status - final 
#       Notes: data from R.Woosley via Kozyr 8/3/17 
#       Additional QC by Key 
#       NOTE: Data are on SWS 
# pCO2: Who - R.Wannikohf; Status - 
#       Notes: underway only 
# CFC: Who - J.Bullister; Status - final 
#       Notes: includes SF6 
#       CCL4 measured, but not ready to report 
#       Final data submitted 9/19/17 
# C14/C13: Who - R.Key,A.McNichol; Status - final 
#       Notes: Final data with QC added 7/27/20 
# DO14C/DO13C:  Who - E.Druffel; Status - final 
#       Notes: Final data with QC added 2/12/21 
# H3/He3: Who - S.Doney; Status - collected 
#       Notes:  
# HPLC: Who - E.Boss; Status - submitted to NASA for analysis 
#       Notes:  
# POC/PON: Who - E.Boss; Status - final 
#       Notes: collected by C.Kovach;  
#       final data merged 20170505 and units converted to ug/kg 
#       Approximate detection limits: 
#               POC - 0.5microgram/L 
#               PON - 3.4microgram/L 
# TDN/DOC: Who - D.Hansell; Status - final 
#       Notes: merged with minor QC by Key, 12/20/18 
# Nitrogen isomers: Who - D.Sigman; Status - collected 
#       Notes:  
# REE: Who - ?; Status - collected 
#       Notes:  
# These data should be cited as: 
# References that have used data from this cruise: 
#
# DATA CITATION
#| CCHDO Citation Information
#|
#| Please cite data downloaded from CCHDO as: 
#| [Data providers of the parameter(s) used]. [Year of file access]. [CTD/Bottle] data from cruise [expocode], 
#| [format version used]. Accessed from CCHDO [url of cruise data page]. Access date [date of download].
#| [Applicable CCHDO cruise DOI if provided].
#|
#| For example: 
#| Swift, J. and Becker, S. 2019. CTD data from Cruise 33RR20160321, exchange version. Accessed from CCHDO 
#| https://cchdo.ucsd.edu/cruise/33RR20160321. Access date 2019-08-21. CCHDO cruise DOI: 10.7942/C2008W
#|
#| Information on the scientists who provided the different parameters can be found in the cruise report. 
#| Additionally, for US GO-SHIP cruises, this information is usually in the comments section in the text headers 
#| of the Exchange bottle files.
#|
#| Users are also encouraged to acknowledge the funding program that supported the data collection in their publication. 
#| For US GO-SHIP data this is the NSF/NOAA funded U.S Repeat Hydrography Program.
#|
#| For data citation, please use the data providers listed below. 
#|
#| Programs and Principal Investigators
#| 
#| Program              PI                 Inst.    E-mail
#| -------------------  -----------------  -------  --------------------------
#| CTD                  Greg Johnson       PMEL     gregory.c.johnson@noaa.gov
#|                      Molly Baringer     AOML     Molly.Baringer@noaa.gov
#| Salinity             Molly Baringer     AOML     Molly.Baringer@noaa.gov
#| LADCP                Andreas Thurnherr  LDEO     ant@ldeo.columbia.edu
#| Dissolved O2         Chris Langdon      RSMAS    clangdon@rsmas.miami.edu
#| Nutrients            Calvin Mordy       PMEL     Calvin.W.Mordy@noaa.gov
#|                      Jia-Zhong Zhang    AOML     Jia-Zhong.Zhang@noaa.gov
#| CFCs/SF6/N2O by ECD  John Bullister     PMEL     John.L.Bullister@noaa.gov
#| Total CO2 (DIC)      Richard Feely      PMEL     richard.a.feely@noaa.gov
#|                      Rik Wannikhof      AOML     Rik.Wanninkhof@noaa.gov
#| Total Alkalinity/pH  Frank Millero      RSMAS    fmillero@rsmas.miami.edu
#| DI14C                Ann McNichol       WHOI     amcnichol@whoi.edu
#|                      Robert Key         PU       401 Sayre Hall
#|                                                  Princeton University
#|                                                  08544 Princeton , NJ
#| DO14C                Ellen Druffel      UCI      edruffel@uci.edu
#| Dissolved Organics   Brett Walker       UCI      Brett.walker@uci.edu
#| DOC and TDN          Dennis Hansell     RSMAS    dhansell@rsmas.miami.edu
#| Helium/Tritium       Scott Doney        WHOI     sdoney@whoi.edu 
#|   (3He-3H)           William Jenkins    WHOI     wjenkins@whoi.edu
#| Stable Gases, O2,    Annie Bourbonnais  WHOI     abourbonnais@whoi.edu
#|   N2, Ar  
#| Floats               Greg Johnson       PMEL     Gregory.C.Johnson@noaa.gov
#|                      Lynne Talley       SIO      ltalley@ucsd.edu
#|                      Craig McNeil       UW       cmcneil@apl.washington.edu
#|                      Steve Emerson      UW       emerson@u.washington.edu
#|                      Giorgio Dall'Olmo  PML      gdal@pml.ac.uk
#| Drifters             Shaun Dolk         AOML     shaun.dolk@noaa.gov
#| HPLC                 Emmanuel Boss      UMe      emmanuel.boss@maine.edu
#| Transmissometry      Wilf Gardner       TAMU     wgardner@ocean.tamu.edu
#| Fluor./backscatter   Emmanuel Boss      UMe      emmanuel.boss@maine.edu
#| Chipods              Jonathan Nash      OSU      nash.coas@gmail.com
#| Net tows*            Laura Sanchez      CICIMAR  lsvelasc@gmail.com
#|                        Velasco
#| Bathymetry           Ship personnel     NOAA     ops.ronald.brown@noaa.gov
#| Underway TSG         Ship personnel     NOAA     ops.ronald.brown@noaa.gov
#| Underway pCO2        Rik Wanninkhof     AOML     Rik.Wanninkhof@noaa.gov
#| Genetics             Adam Martiny       UCI      amartiny@uci.edu
#| iTag Genetics        Eric Allen         SIO      eallen@ucsd.edu
#|                      Bethany Kolody     SIO      bck243@gmail.com
#| Nitrate/nitrite      Daniel Sigman      PU       sigman@princeton.edu
#|   isotopes
#|                      Annie Bourbonnais  WHOI     abourbonnais@whoi.edu
#| N2O isotopomers      Annie Bourbonnais  WHOI     abourbonnais@whoi.edu
#| Radiometry/          Michael Ondrusek   NESDIS   Michael.Ondrusek@noaa.gov
#|   Chlorophyll
#| H2O isotopes         Kim Cobb           GIT      kim.cobb@eas.gatech.edu
#| DO14C by Pyrolysis   Lihini Aluwihare   SIO      laluwihare@ucsd.edu
#| Microplastics        Shaowu Bao         CCCU     sbao@coastal.edu
#| ___________________________________________________________________________
#| * Program cancelled after the first cast
#
EXPOCODE,SECT_ID,STNNBR,CASTNO,SAMPNO,BTLNBR,BTLNBR_FLAG_W,DATE,TIME,LATITUDE,LONGITUDE,DEPTH,CTDPRS,CTDTMP,CTDSAL,CTDSAL_FLAG_W,SALNTY,SALNTY_FLAG_W,CTDOXY,CTDOXY_FLAG_W,OXYGEN,OXYGEN_FLAG_W,SILCAT,SILCAT_FLAG_W,NITRAT,NITRAT_FLAG_W,NITRIT,NITRIT_FLAG_W,PHSPHT,PHSPHT_FLAG_W,CFC-11,CFC-11_FLAG_W,CFC-12,CFC-12_FLAG_W,SF6,SF6_FLAG_W,TCARBN,TCARBN_FLAG_W,ALKALI,ALKALI_FLAG_W,PH_SWS,PH_SWS_FLAG_W,PH_TMP,DELC13,DELC13_FLAG_W,DELC14,DELC14_FLAG_W,C14ERR,CCL4,CCL4_FLAG_W,POC,POC_FLAG_W,DOC,DOC_FLAG_W,TDN,TDN_FLAG_W,PON,PON_FLAG_W,N2O,N2O_FLAG_W,D15N_NO3,D15N_NO3_FLAG_W,14C-DOC,14C-DOC_FLAG_W,14C-DOCERR,13C-DOC,13C-DOC_FLAG_W,N2/ARGON_UNSTRIPPED,N2/ARGON_UNSTRIPPED_FLAG_W,N2/ARGON_UNSTRIPPED_ERROR,N2/ARGON,N2/ARGON_FLAG_W,N2/ARGON_ERROR,D15N_N2,D15N_N2_FLAG_W,D15N_N2_ERROR,D15N_NO3_ERROR,D15N_NO2+NO3,D15N_NO2+NO3_FLAG_W,D18O_NO2+NO3,D18O_NO2+NO3_FLAG_W,D18O_NO3,D18O_NO3_FLAG_W,TDP,TDP_FLAG_W,N2O_ALT_1,N2O_ALT_1_FLAG_W,D15N_N2O,D15N_N2O_FLAG_W,D18O_N2O,D18O_N2O_FLAG_W,D15N_ALPHA_N2O,D15N_ALPHA_N2O_FLAG_W
,,,,,,,,,,,METERS,DBAR,ITS-90,PSS-78,,PSS-78,,UMOL/KG,,UMOL/KG,,UMOL/KG,,UMOL/KG,,UMOL/KG,,UMOL/KG,,PMOL/KG,,PMOL/KG,,FMOL/KG,,UMOL/KG,,UMOL/KG,,,,DEG C,/MILLE,,/MILLE,,/MILLE,PMOL/KG,,UG/KG,,UMOL/KG,,UMOL/KG,,UG/KG,,NMOL/KG,,/MILLE,,/MILLE,,/MILLE,/MILLE,,,,,,,,/MILLE,,/MILLE,/MILLE,/MILLE,,/MILLE,,/MILLE,,UMOL/KG,,NMOL/L,,/MILLE,,/MILLE,,/MILLE,
33RO20161119,        P18,       1,          3,          1,      11010,2,20161124,       1417,    22.6884,  -110.0001,       2619,  2641.6,   1.8216,  34.6618,2,  34.6650,2,     99.1,4,   104.9,2,   159.2,6,    38.9,6,    0.01,6,   2.729,6,   0.0094,2,   0.0063,2,   0.0000,2,  2366.1,6,  2428.2,2,   7.5127,2,    25.00,   -0.15,2,  -246.8,2,     2.3,   0.0454,2, -999.00,9,  -999.0,9, -999.00,9, -999.00,9,    24.4458,2, -999.00,9,  -999.0,9,     -999.0,     -999.0,9,     -999.0,9,     -999.0,     -999.0,9,     -999.0,     -999.0,9,     -999.0,     -999.0,     -999.0,9,     -999.0,9,     -999.0,9,     -999.0,9,     -999.0,9,     -999.0,9,     -999.0,9,     -999.0,9
33RO20161119,        P18,       1,          3,          2,      11101,2,20161124,       1417,    22.6884,  -110.0001,       2619,  2350.6,   1.8914,  34.6537,2,  34.6670,4,     93.9,2,    96.5,2,   158.1,6,    39.3,6,    0.01,6,   2.758,6,   0.0090,2,   0.0063,2,   0.0031,2,  2367.5,2,  2427.2,2,   7.4893,2,    25.00,   -0.33,2,  -245.6,2,     2.7,     0.12,2, -999.00,9,  -999.0,9, -999.00,9, -999.00,9,    24.9708,2, -999.00,9,  -999.0,9,     -999.0,     -999.0,9,     -999.0,9,     -999.0,     -999.0,9,     -999.0,     -999.0,9,     -999.0,     -999.0,     -999.0,9,     -999.0,9,     -999.0,9,     -999.0,9,     -999.0,9,     -999.0,9,     -999.0,9,     -999.0,9
33RO20161119,        P18,       1,          3,          3,      11102,2,20161124,       1417,    22.6884,  -110.0001,       2619,  2100.1,   2.0198,  34.6435,2,  34.6469,2,     85.7,2,    88.9,2,   154.3,6,    39.9,6,    0.01,6,   2.802,6,-999.0000,9,-999.0000,9,-999.0000,9,  2368.3,2,  2421.6,6,   7.4699,2,    25.00,   -0.19,2,  -250.7,2,     2.1,-999.0000,9, -999.00,9,  -999.0,9, -999.00,9, -999.00,9,     -999.0,9, -999.00,9,  -999.0,9,     -999.0,     -999.0,9,     -999.0,9,     -999.0,     -999.0,9,     -999.0,     -999.0,9,     -999.0,     -999.0,     -999.0,9,     -999.0,9,     -999.0,9,     -999.0,9,     -999.0,9,     -999.0,9,     -999.0,9,     -999.0,9
33RO20161119,        P18,       1,          3,          4,      11103,2,20161124,       1417,    22.6884,  -110.0001,       2619,  1924.7,   2.2525,  34.6298,2,  34.6351,2,     72.4,2,    76.6,2,   151.2,6,    40.7,6,    0.01,6,   2.884,6,   0.0099,6,   0.0041,6,   0.0112,6,  2371.6,2,  2419.5,2,   7.4472,2,    25.00, -999.00,9,  -999.0,9,  -999.0,   0.0532,2, -999.00,9,  -999.0,9, -999.00,9, -999.00,9,    29.4548,2, -999.00,9,  -999.0,9,     -999.0,     -999.0,9,     -999.0,9,     -999.0,     -999.0,9,     -999.0,     -999.0,9,     -999.0,     -999.0,     -999.0,9,     -999.0,9,     -999.0,9,     -999.0,9,     -999.0,9,     -999.0,9,     -999.0,9,     -999.0,9
33RO20161119,        P18,       1,          3,          5,      11104,2,20161124,       1417,    22.6884,  -110.0001,       2619,  1725.0,   2.5880,  34.6041,2,  34.6157,2,     56.2,2,    60.4,2,   145.1,2,    41.6,2,    0.01,2,   3.024,2,-999.0000,9,-999.0000,9,-999.0000,9,  2375.8,2,  2411.0,2,   7.4150,2,    25.00,   -0.29,2,  -247.8,2,     2.0,-999.0000,9, -999.00,9,  -999.0,9, -999.00,9, -999.00,9,     -999.0,9, -999.00,9,  -999.0,9,     -999.0,     -999.0,9,     -999.0,9,     -999.0,     -999.0,9,     -999.0,     -999.0,9,     -999.0,     -999.0,     -999.0,9,     -999.0,9,     -999.0,9,     -999.0,9,     -999.0,9,     -999.0,9,     -999.0,9,     -999.0,9
33RO20161119,        P18,       1,          3,          6,      11105,2,20161124,       1417,    22.6884,  -110.0001,       2619,  1540.5,   2.9333,  34.5863,2,  34.5972,2,     43.3,2,    47.1,2,   138.9,2,    42.5,2,    0.01,2,   3.066,2,   0.0126,2,   0.0043,2,   0.0142,2,  2376.8,2,  2402.2,2,   7.3898,2,    25.00, -999.00,9,  -999.0,9,  -999.0,   0.0541,2, -999.00,9,  -999.0,9, -999.00,9, -999.00,9,    36.4352,2, -999.00,9,  -999.0,9,     -999.0,     -999.0,9,     -999.0,9,     -999.0,     -999.0,9,     -999.0,     -999.0,9,     -999.0,     -999.0,     -999.0,9,     -999.0,9,     -999.0,9,     -999.0,9,     -999.0,9,     -999.0,9,     -999.0,9,     -999.0,9
33RO20161119,        P18,       1,          3,          7,      11106,2,20161124,       1417,    22.6884,  -110.0001,       2619,  1341.4,   3.3543,  34.5708,2,  34.5764,2,     31.3,2,    33.7,2,   130.3,2,    43.2,2,    0.01,2,   3.157,2,-999.0000,9,-999.0000,9,-999.0000,9,  2375.5,2,  2391.7,2,   7.3641,2,    25.00,   -0.37,2,  -230.6,2,     2.5,-999.0000,9, -999.00,9,  -999.0,9, -999.00,9, -999.00,9,     -999.0,9, -999.00,9,  -999.0,9,     -999.0,     -999.0,9,     -999.0,9,     -999.0,     -999.0,9,     -999.0,     -999.0,9,     -999.0,     -999.0,     -999.0,9,     -999.0,9,     -999.0,9,     -999.0,9,     -999.0,9,     -999.0,9,     -999.0,9,     -999.0,9
33RO20161119,        P18,       1,          3,          8,      11107,2,20161124,       1417,    22.6884,  -110.0001,       2619,  1150.4,   3.8704,  34.5263,2,  34.5575,2,     18.2,2,    21.0,2,   119.4,2,    43.7,2,    0.01,2,   3.240,2,   0.0140,2,   0.0050,2,   0.0154,2,  2370.3,2,  2381.9,2,   7.3503,2,    25.00, -999.00,9,  -999.0,9,  -999.0,   0.0323,2, -999.00,9,  -999.0,9, -999.00,9, -999.00,9,    45.8366,2, -999.00,9,  -999.0,9,     -999.0,     -999.0,9,     -999.0,9,     -999.0,     -999.0,9,     -999.0,     -999.0,9,     -999.0,     -999.0,     -999.0,9,     -999.0,9,     -999.0,9,     -999.0,9,     -999.0,9,     -999.0,9,     -999.0,9,     -999.0,9
33RO20161119,        P18,       1,          3,          9,      11108,2,20161124,       1417,    22.6884,  -110.0001,       2619,   960.5,   4.5751,  34.5105,2,  34.5208,2,     10.0,2,    10.5,2,   104.7,2,    43.5,2,    0.01,2,   3.311,2,   0.0135,2,   0.0053,2,   0.0155,2,  2361.3,6,  2364.8,2,   7.3241,2,    25.00,   -0.53,2,  -204.7,2,     3.0,   0.0604,2, -999.00,9,  -999.0,9, -999.00,9, -999.00,9,     51.689,2, -999.00,9,  -999.0,9,     -999.0,     -999.0,9,     -999.0,9,     -999.0,     -999.0,9,     -999.0,     -999.0,9,     -999.0,     -999.0,     -999.0,9,     -999.0,9,     -999.0,9,     -999.0,9,     -999.0,9,     -999.0,9,     -999.0,9,     -999.0,9
33RO20161119,        P18,       1,          3,         10,      11109,2,20161124,       1417,    22.6884,  -110.0001,       2619,   839.2,   5.1061,  34.4897,2,  34.5065,2,      6.2,2,     7.0,2,    94.8,2,    42.6,2,    0.01,2,   3.254,2,   0.0156,2,   0.0073,2,   0.0000,2,  2353.3,2,  2353.1,2,   7.3125,2,    25.00, -999.00,9,  -999.0,9,  -999.0,   0.0494,2, -999.00,9,  -999.0,9, -999.00,9, -999.00,9,    56.0248,2, -999.00,9,  -999.0,9,     -999.0,     -999.0,9,     -999.0,9,     -999.0,     -999.0,9,     -999.0,     -999.0,9,     -999.0,     -999.0,     -999.0,9,     -999.0,9,     -999.0,9,     -999.0,9,     -999.0,9,     -999.0,9,     -999.0,9,     -999.0,9
33RO20161119,        P18,       1,          3,         11,      11110,2,20161124,       1417,    22.6884,  -110.0001,       2619,   750.9,   5.5504,  34.4382,2,  34.4915,2,      5.7,2,     5.4,6,    87.8,2,    41.4,2,    0.01,2,   3.221,2,   0.0225,2,   0.0117,2,   0.0359,2,  2344.1,2,  2345.3,2,   7.3221,2,    25.00,   -0.36,2,  -175.0,2,     2.4,   0.0554,2, -999.00,9,  -999.0,9, -999.00,9, -999.00,9,    55.1945,2, -999.00,9,  -999.0,9,     -999.0,     -999.0,9,     -999.0,9,     -999.0,     -999.0,9,     -999.0,     -999.0,9,     -999.0,     -999.0,     -999.0,9,     -999.0,9,     -999.0,9,     -999.0,9,     -999.0,9,     -999.0,9,     -999.0,9,     -999.0,9
33RO20161119,        P18,       1,          3,         12,      11111,2,20161124,       1417,    22.6884,  -110.0001,       2619,   670.9,   6.0760,  34.4577,2,  34.4798,2,      4.9,2,     4.4,2,    78.6,2,    40.1,2,    0.01,2,   3.184,2,   0.0218,2,   0.0124,2,   0.0000,2,  2333.0,2,  2337.3,2,   7.3244,2,    25.00, -999.00,9,  -999.0,9,  -999.0,   0.0438,2, -999.00,9,  -999.0,9, -999.00,9, -999.00,9,    55.8537,2, -999.00,9,  -999.0,9,     -999.0,     -999.0,9,     -999.0,9,     -999.0,     -999.0,9,     -999.0,     -999.0,9,     -999.0,     -999.0,     -999.0,9,     -999.0,9,     -999.0,9,     -999.0,9,     -999.0,9,     -999.0,9,     -999.0,9,     -999.0,9
33RO20161119,        P18,       1,          3,         13,      11112,2,20161124,       1417,    22.6884,  -110.0001,       2619,   590.7,   6.5322,  34.3946,2,  34.4565,2,      5.2,2,     4.6,2,    73.0,2,    38.5,2,    0.01,2,   3.125,2,   0.0594,2,   0.0311,2,   0.0525,2,  2324.6,2,  2329.4,6,   7.3201,2,    25.00,   -0.35,2,  -148.8,2,     2.3,   0.0507,2, -999.00,9,  -999.0,9, -999.00,9, -999.00,9,    54.4559,2, -999.00,9,  -999.0,9,     -999.0,     -999.0,9,     -999.0,9,     -999.0,     -999.0,9,     -999.0,     -999.0,9,     -999.0,     -999.0,     -999.0,9,     -999.0,9,     -999.0,9,     -999.0,9,     -999.0,9,     -999.0,9,     -999.0,9,     -999.0,9