BOTTLE,20230606CCHSIOCBG
EXPOCODE,SECT_ID,STNNBR,CASTNO,SAMPNO,BTLNBR,BTLNBR_FLAG_W,DATE,TIME,LATITUDE,LONGITUDE,DEPTH,CTDPRS,CTDTMP,CTDSAL,CTDSAL_FLAG_W,SALNTY,SALNTY_FLAG_W,CTDOXY,CTDOXY_FLAG_W,OXYGEN,OXYGEN_FLAG_W,SILCAT,SILCAT_FLAG_W,NITRAT,NITRAT_FLAG_W,NITRIT,NITRIT_FLAG_W,PHSPHT,PHSPHT_FLAG_W,CFC-11,CFC-11_FLAG_W,CFC-12,CFC-12_FLAG_W,SF6,SF6_FLAG_W,TCARBN,TCARBN_FLAG_W,ALKALI,ALKALI_FLAG_W,PH_SWS,PH_SWS_FLAG_W,PH_TMP,DELC13,DELC13_FLAG_W,DELC14,DELC14_FLAG_W,C14ERR,CCL4,CCL4_FLAG_W,POC,POC_FLAG_W,DOC,DOC_FLAG_W,TDN,TDN_FLAG_W,PON,PON_FLAG_W,N2O,N2O_FLAG_W,D15N_NO3,D15N_NO3_FLAG_W,14C-DOC,14C-DOC_FLAG_W,14C-DOCERR,13C-DOC,13C-DOC_FLAG_W,N2/ARGON_UNSTRIPPED,N2/ARGON_UNSTRIPPED_FLAG_W,N2/ARGON_UNSTRIPPED_ERROR,N2/ARGON,N2/ARGON_FLAG_W,N2/ARGON_ERROR,D15N_N2,D15N_N2_FLAG_W,D15N_N2_ERROR,D15N_NO3_ERROR,D15N_NO2+NO3,D15N_NO2+NO3_FLAG_W,D18O_NO2+NO3,D18O_NO2+NO3_FLAG_W,D18O_NO3,D18O_NO3_FLAG_W,TDP,TDP_FLAG_W,N2O_ALT_1,N2O_ALT_1_FLAG_W,D15N_N2O,D15N_N2O_FLAG_W,D18O_N2O,D18O_N2O_FLAG_W,D15N_ALPHA_N2O,D15N_ALPHA_N2O_FLAG_W
,,,,,,,,,,,METERS,DBAR,ITS-90,PSS-78,,PSS-78,,UMOL/KG,,UMOL/KG,,UMOL/KG,,UMOL/KG,,UMOL/KG,,UMOL/KG,,PMOL/KG,,PMOL/KG,,FMOL/KG,,UMOL/KG,,UMOL/KG,,,,DEG C,/MILLE,,/MILLE,,/MILLE,PMOL/KG,,UG/KG,,UMOL/KG,,UMOL/KG,,UG/KG,,NMOL/KG,,/MILLE,,/MILLE,,/MILLE,/MILLE,,,,,,,,/MILLE,,/MILLE,/MILLE,/MILLE,,/MILLE,,/MILLE,,UMOL/KG,,NMOL/L,,/MILLE,,/MILLE,,/MILLE,
33RO20161119,        P18,      87,          1,          1,      11010,2,20161214,       0732,    -9.7100,  -103.4100,       4014,  4088.7,   1.8133,  34.6778,2,  34.6762,2,    136.5,2,   136.6,2,   142.6,6,    37.0,6,    0.01,6,   2.542,6,   0.0011,6,   0.0004,6,   0.0000,6,  2338.7,6,  2429.3,2,   7.5673,6,    25.00, -999.00,9,  -999.0,9,  -999.0,        0,2, -999.00,9,    37.7,2,   40.80,2, -999.00,9,    22.5594,2, -999.00,9,  -999.0,9,     -999.0,     -999.0,9,     -999.0,9,     -999.0,     -999.0,9,     -999.0,     -999.0,9,     -999.0,     -999.0,     -999.0,9,     -999.0,9,     -999.0,9,     -999.0,9,     -999.0,9,     -999.0,9,     -999.0,9,     -999.0,9
33RO20161119,        P18,      87,          1,          2,      11101,2,20161214,       0732,    -9.7100,  -103.4100,       4014,  3744.6,   1.7755,  34.6777,2,  34.6782,2,    136.3,2,   135.8,2,   142.6,6,    37.0,6,    0.01,6,   2.532,6,   0.0021,2,   0.0016,2,   0.0240,2,  2338.5,2,  2426.9,2,   7.5634,2,    25.00, -999.00,9,  -999.0,9,  -999.0,   0.0108,2, -999.00,9,    38.0,2,   40.90,2, -999.00,9,      22.05,2, -999.00,9,  -999.0,9,     -999.0,     -999.0,9,     -999.0,9,     -999.0,     -999.0,9,     -999.0,     -999.0,9,     -999.0,     -999.0,     -999.0,9,     -999.0,9,     -999.0,9,     -999.0,9,     -999.0,9,     -999.0,9,     -999.0,9,     -999.0,9
33RO20161119,        P18,      87,          1,          3,      11102,2,20161214,       0732,    -9.7100,  -103.4100,       4014,  3398.9,   1.7492,  34.6771,2,  34.6763,2,    135.9,2,   135.8,2,   142.3,6,    37.1,6,    0.01,6,   2.540,6,   0.0026,2,   0.0010,2,   0.0000,2,  2337.2,2,  2428.0,6,   7.5622,2,    25.00, -999.00,9,  -999.0,9,  -999.0,        0,2, -999.00,9,    38.5,2,   42.40,2, -999.00,9,    22.6878,2, -999.00,9,  -999.0,9,     -999.0,     -999.0,9,     -999.0,9,     -999.0,     -999.0,9,     -999.0,     -999.0,9,     -999.0,     -999.0,     -999.0,9,     -999.0,9,     -999.0,9,     -999.0,9,     -999.0,9,     -999.0,9,     -999.0,9,     -999.0,9
33RO20161119,        P18,      87,          1,          4,      11103,2,20161214,       0732,    -9.7100,  -103.4100,       4014,  3073.1,   1.7658,  34.6748,2,  34.6736,2,    133.0,2,   133.4,2,   141.1,6,    37.1,6,    0.01,6,   2.553,6,   0.0014,2,   0.0000,2,   0.0000,2,  2336.0,2,  2426.3,2,   7.5537,6,    25.00, -999.00,9,  -999.0,9,  -999.0,        0,2, -999.00,9,    38.0,2,   40.60,2, -999.00,9,    22.1714,2, -999.00,9,  -999.0,9,     -999.0,     -999.0,9,     -999.0,9,     -999.0,     -999.0,9,     -999.0,     -999.0,9,     -999.0,     -999.0,     -999.0,9,     -999.0,9,     -999.0,9,     -999.0,9,     -999.0,9,     -999.0,9,     -999.0,9,     -999.0,9
33RO20161119,        P18,      87,          1,          5,      11104,2,20161214,       0732,    -9.7100,  -103.4100,       4014,  2774.4,   1.8014,  34.6719,2,  34.6708,2,    130.6,2,   130.8,2,   139.5,2,    37.3,2,    0.00,2,   2.557,2,   0.0013,2,   0.0000,2,   0.0260,2,  2338.1,2,  2422.6,2,   7.5476,2,    25.00, -999.00,9,  -999.0,9,  -999.0,        0,2, -999.00,9,    37.3,2,   41.60,2, -999.00,9,    22.3824,2, -999.00,9,  -999.0,9,     -999.0,     -999.0,9,     -999.0,9,     -999.0,     -999.0,9,     -999.0,     -999.0,9,     -999.0,     -999.0,     -999.0,9,     -999.0,9,     -999.0,9,     -999.0,9,     -999.0,9,     -999.0,9,     -999.0,9,     -999.0,9
33RO20161119,        P18,      87,          1,          6,      11105,2,20161214,       0732,    -9.7100,  -103.4100,       4014,  2459.4,   1.8936,  34.6663,2,  34.6651,2,    125.3,2,   125.4,2,   137.1,2,    37.6,2,    0.01,2,   2.599,2,   0.0015,2,   0.0009,2,   0.0216,2,  2336.5,2,  2420.2,2,   7.5354,2,    25.00, -999.00,9,  -999.0,9,  -999.0,        0,2, -999.00,9,    37.2,2,   43.50,2, -999.00,9,    23.2765,2, -999.00,9,  -999.0,9,     -999.0,     -999.0,9,     -999.0,9,     -999.0,     -999.0,9,     -999.0,     -999.0,9,     -999.0,     -999.0,     -999.0,9,     -999.0,9,     -999.0,9,     -999.0,9,     -999.0,9,     -999.0,9,     -999.0,9,     -999.0,9
33RO20161119,        P18,      87,          1,          7,      11106,2,20161214,       0732,    -9.7100,  -103.4100,       4014,  2158.8,   2.1096,  34.6530,2,  34.6525,2,    113.6,2,   114.1,2,   134.2,2,    38.4,2,    0.01,2,   2.667,2,   0.0037,2,   0.0023,2,   0.0305,2,  2342.1,6,  2413.0,2,   7.5141,2,    25.00, -999.00,9,  -999.0,9,  -999.0,        0,2, -999.00,9,    37.9,2,   40.70,2, -999.00,9,    24.9744,2, -999.00,9,  -999.0,9,     -999.0,     -999.0,9,     -999.0,9,     -999.0,     -999.0,9,     -999.0,     -999.0,9,     -999.0,     -999.0,     -999.0,9,     -999.0,9,     -999.0,9,     -999.0,9,     -999.0,9,     -999.0,9,     -999.0,9,     -999.0,9
33RO20161119,        P18,      87,          1,          8,      11107,2,20161214,       0732,    -9.7100,  -103.4100,       4014,  1849.5,   2.4191,  34.6323,2,  34.6317,2,    105.9,2,   106.8,2,   126.2,2,    38.9,2,    0.01,2,   2.728,2,   0.0010,2,   0.0000,2,   0.0000,2,  2336.7,2,  2403.5,2,   7.4951,2,    25.00, -999.00,9,  -999.0,9,  -999.0,        0,2, -999.00,9,    37.1,2,   43.80,2, -999.00,9,    26.0533,2, -999.00,9,  -999.0,9,     -999.0,     -999.0,9,     -999.0,9,     -999.0,     -999.0,9,     -999.0,     -999.0,9,     -999.0,     -999.0,     -999.0,9,     -999.0,9,     -999.0,9,     -999.0,9,     -999.0,9,     -999.0,9,     -999.0,9,     -999.0,9
33RO20161119,        P18,      87,          1,          9,      11108,2,20161214,       0732,    -9.7100,  -103.4100,       4014,  1540.3,   2.8400,  34.6057,2,  34.6055,2,     97.2,2,    98.0,2,   113.8,2,    39.7,2,    0.01,2,   2.794,2,   0.0010,2,   0.0000,2,   0.0000,2,  2328.2,2,  2388.1,2,   7.4744,2,    25.00, -999.00,9,  -999.0,9,  -999.0,        0,2, -999.00,9,    38.6,2,   42.20,2, -999.00,9,    29.3244,2, -999.00,9,  -999.0,9,     -999.0,     -999.0,9,     -999.0,9,     -999.0,     -999.0,9,     -999.0,     -999.0,9,     -999.0,     -999.0,     -999.0,9,     -999.0,9,     -999.0,9,     -999.0,9,     -999.0,9,     -999.0,9,     -999.0,9,     -999.0,9
33RO20161119,        P18,      87,          1,         10,      11109,2,20161214,       0732,    -9.7100,  -103.4100,       4014,  1334.9,   3.3115,  34.5802,2,  34.5858,4,     90.7,2,    91.9,2,   100.9,2,    40.2,2,    0.01,2,   2.824,2,   0.0010,2,   0.0000,2,   0.0344,2,  2318.9,2,  2372.5,2,   7.4608,2,    25.00, -999.00,9,  -999.0,9,  -999.0,   0.0134,2, -999.00,9,    39.3,2,   45.00,2, -999.00,9,    31.0167,2, -999.00,9,  -999.0,9,     -999.0,     -999.0,9,     -999.0,9,     -999.0,     -999.0,9,     -999.0,     -999.0,9,     -999.0,     -999.0,     -999.0,9,     -999.0,9,     -999.0,9,     -999.0,9,     -999.0,9,     -999.0,9,     -999.0,9,     -999.0,9
33RO20161119,        P18,      87,          1,         11,      11110,2,20161214,       0732,    -9.7100,  -103.4100,       4014,  1208.7,   3.6593,  34.5644,2,  34.5641,2,     88.0,2,    88.4,6,    92.4,2,    40.4,2,    0.00,2,   2.825,2,   0.0018,2,   0.0011,2,   0.0000,2,  2311.6,2,  2364.6,2,   7.4559,2,    25.00, -999.00,9,  -999.0,9,  -999.0,        0,2, -999.00,9,    39.7,2,   43.50,2, -999.00,9,    31.4929,2, -999.00,9,  -999.0,9,     -999.0,     -999.0,9,     -999.0,9,     -999.0,     -999.0,9,     -999.0,     -999.0,9,     -999.0,     -999.0,     -999.0,9,     -999.0,9,     -999.0,9,     -999.0,9,     -999.0,9,     -999.0,9,     -999.0,9,     -999.0,9
33RO20161119,        P18,      87,          1,         12,      11111,2,20161214,       0732,    -9.7100,  -103.4100,       4014,  1069.6,   4.2090,  34.5465,2,  34.5460,2,     80.2,2,    81.6,2,    80.9,2,    40.8,2,    0.01,2,   2.860,2,   0.0026,2,   0.0013,2,   0.0000,2,  2301.7,2,  2353.9,2,   7.4419,2,    25.00, -999.00,9,  -999.0,9,  -999.0,        0,2, -999.00,9,    44.7,3,   46.00,2, -999.00,9,    34.2414,2, -999.00,9,  -999.0,9,     -999.0,     -999.0,9,     -999.0,9,     -999.0,     -999.0,9,     -999.0,     -999.0,9,     -999.0,     -999.0,     -999.0,9,     -999.0,9,     -999.0,9,     -999.0,9,     -999.0,9,     -999.0,9,     -999.0,9,     -999.0,9
33RO20161119,        P18,      87,          1,         13,      11112,2,20161214,       0732,    -9.7100,  -103.4100,       4014,   939.7,   4.7367,  34.5366,2,  34.5356,2,     66.2,2,    67.7,6,    71.1,2,    41.9,2,    0.01,2,   2.912,2,   0.0022,2,   0.0010,2,   0.0000,2,  2298.2,2,  2336.7,2,   7.4174,2,    25.00, -999.00,9,  -999.0,9,  -999.0,        0,2, -999.00,9,    40.8,2,   46.20,2, -999.00,9,    36.8731,2, -999.00,9,  -999.0,9,     -999.0,     -999.0,9,     -999.0,9,     -999.0,     -999.0,9,     -999.0,     -999.0,9,     -999.0,     -999.0,     -999.0,9,     -999.0,9,     -999.0,9,     -999.0,9,     -999.0,9,     -999.0,9,     -999.0,9,     -999.0,9
33RO20161119,        P18,      87,          1,         14,      11113,2,20161214,       0732,    -9.7100,  -103.4100,       4014,   808.7,   5.4545,  34.5334,2,  34.5322,2,     43.6,2,    44.3,2,    60.3,2,    43.8,2,    0.00,2,   3.001,2,   0.0032,2,   0.0020,2,   0.0000,2,  2298.5,2,  2325.7,2,   7.3780,2,    25.00, -999.00,9,  -999.0,9,  -999.0,        0,2, -999.00,9,    40.0,2,   48.10,2, -999.00,9,    45.0551,2, -999.00,9,  -999.0,9,     -999.0,     -999.0,9,     -999.0,9,     -999.0,     -999.0,9,     -999.0,     -999.0,9,     -999.0,     -999.0,     -999.0,9,     -999.0,9,     -999.0,9,     -999.0,9,     -999.0,9,     -999.0,9,     -999.0,9,     -999.0,9
33RO20161119,        P18,      87,          1,         15,      11114,2,20161214,       0732,    -9.7100,  -103.4100,       4014,   689.3,   6.5094,  34.5520,2,  34.5502,2,     20.9,2,    21.8,2,    48.4,2,    44.1,2,    0.01,2,   3.032,2,   0.0077,2,   0.0059,2,   0.0265,2,  2297.1,2,  2311.2,2,   7.3465,2,    25.00, -999.00,9,  -999.0,9,  -999.0,   0.0176,2, -999.00,9,    41.5,2,   49.00,2, -999.00,9,    56.4012,2, -999.00,9,  -999.0,9,     -999.0,     -999.0,9,     -999.0,9,     -999.0,     -999.0,9,     -999.0,     -999.0,9,     -999.0,     -999.0,     -999.0,9,     -999.0,9,     -999.0,9,     -999.0,9,     -999.0,9,     -999.0,9,     -999.0,9,     -999.0,9
33RO20161119,        P18,      87,          1,         16,      11115,2,20161214,       0732,    -9.7100,  -103.4100,       4014,   574.8,   7.7911,  34.6069,2,  34.6050,2,     14.7,2,    15.8,2,    39.4,2,    41.5,2,    0.01,2,   2.897,2,   0.0404,2,   0.0238,2,   0.0000,2,  2286.1,2,  2304.7,6,   7.3480,2,    25.00, -999.00,9,  -999.0,9,  -999.0,   0.0239,2, -999.00,9,    44.1,2,   48.80,2, -999.00,9,    66.9044,2, -999.00,9,  -999.0,9,     -999.0,     -999.0,9,     -999.0,9,     -999.0,     -999.0,9,     -999.0,     -999.0,9,     -999.0,     -999.0,     -999.0,9,     -999.0,9,     -999.0,9,     -999.0,9,     -999.0,9,     -999.0,9,     -999.0,9,     -999.0,9
33RO20161119,        P18,      87,          1,         17,      11116,2,20161214,       0732,    -9.7100,  -103.4100,       4014,   469.1,   8.9773,  34.6754,2,  34.6738,2,      9.2,2,     9.4,2,    34.5,2,    38.4,2,    0.01,2,   2.750,2,   0.1190,2,   0.0691,2,   0.0081,2,  2280.2,2,  2304.0,2,   7.3629,2,    25.00, -999.00,9,  -999.0,9,  -999.0,   0.0443,2, -999.00,9,    41.8,2,   42.20,2, -999.00,9,    73.7753,2, -999.00,9,  -999.0,9,     -999.0,     -999.0,9,     -999.0,9,     -999.0,     -999.0,9,     -999.0,     -999.0,9,     -999.0,     -999.0,     -999.0,9,     -999.0,9,     -999.0,9,     -999.0,9,     -999.0,9,     -999.0,9,     -999.0,9,     -999.0,9
33RO20161119,        P18,      87,          1,         18,      11117,2,20161214,       0732,    -9.7100,  -103.4100,       4014,   362.6,  10.1677,  34.7509,2,  34.7501,2,     14.3,2,    15.6,2,    29.2,2,    35.1,2,    0.01,2,   2.552,2,   0.3654,6,   0.2028,6,   0.0781,6,  2266.1,2,  2305.9,2,   7.4039,2,    25.00, -999.00,9,  -999.0,9,  -999.0,   0.0443,2, -999.00,9,    47.3,2,   39.10,2, -999.00,9,    72.8111,2, -999.00,9,  -999.0,9,     -999.0,     -999.0,9,     -999.0,9,     -999.0,     -999.0,9,     -999.0,     -999.0,9,     -999.0,     -999.0,     -999.0,9,     -999.0,9,     -999.0,9,     -999.0,9,     -999.0,9,     -999.0,9,     -999.0,9,     -999.0,9
33RO20161119,        P18,      87,          1,         19,      11083,2,20161214,       0732,    -9.7100,  -103.4100,       4014,   273.9,  11.2548,  34.8059,2,  34.8096,2,      8.3,2,     8.9,2,    25.4,2,    32.1,2,    0.01,2,   2.511,2,   0.6516,2,   0.3657,2,   0.1258,2,  2266.1,2,  2303.6,2,   7.4047,2,    25.00, -999.00,9,  -999.0,9,  -999.0,   0.0436,2, -999.00,9,    52.4,2,   35.60,2, -999.00,9,    63.6631,2, -999.00,9,  -999.0,9,     -999.0,     -999.0,9,     -999.0,9,     -999.0,     -999.0,9,     -999.0,     -999.0,9,     -999.0,     -999.0,     -999.0,9,     -999.0,9,     -999.0,9,     -999.0,9,     -999.0,9,     -999.0,9,     -999.0,9,     -999.0,9
33RO20161119,        P18,      87,          1,         20,      11118,2,20161214,       0732,    -9.7100,  -103.4100,       4014,   206.1,  12.6332,  34.8409,2,  34.8401,2,      3.9,2,     4.1,2,    22.3,2,    22.4,2,    0.30,2,   2.611,2,   1.1789,2,   0.6950,2,   0.3397,2,  2272.6,2,  2303.8,2,   7.3964,2,    25.00, -999.00,9,  -999.0,9,  -999.0,   0.4217,2, -999.00,9,    50.6,2,   24.50,2, -999.00,9,    18.6073,2, -999.00,9,  -999.0,9,     -999.0,     -999.0,9,     -999.0,9,     -999.0,     -999.0,9,     -999.0,     -999.0,9,     -999.0,     -999.0,     -999.0,9,     -999.0,9,     -999.0,9,       2.72,2,     -999.0,9,     -999.0,9,     -999.0,9,     -999.0,9
33RO20161119,        P18,      87,          1,         21,      11119,2,20161214,       0732,    -9.7100,  -103.4100,       4014,   130.2,  17.4041,  35.2886,2,  35.2670,2,    151.8,2,   149.1,2,     3.0,2,    11.6,2,    0.04,2,   1.154,2,   2.2642,2,   1.3869,2,   1.4335,2,  2150.8,2,  2321.0,2,   7.7913,2,    25.00, -999.00,9,  -999.0,9,  -999.0,   1.3922,2, -999.00,9,    53.2,2,   15.70,2, -999.00,9,    20.2419,2, -999.00,9,  -999.0,9,     -999.0,     -999.0,9,     -999.0,9,     -999.0,     -999.0,9,     -999.0,     -999.0,9,     -999.0,     -999.0,     -999.0,9,     -999.0,9,     -999.0,9,     -999.0,9,     -999.0,9,     -999.0,9,     -999.0,9,     -999.0,9
33RO20161119,        P18,      87,          1,         22,      11120,2,20161214,       0732,    -9.7100,  -103.4100,       4014,    60.1,  24.1832,  35.9149,2,  35.9342,2,    210.2,2,   211.5,2,     1.1,2,     1.1,2,    0.04,2,   0.377,2,   1.7249,2,   1.0916,2,   1.4281,2,  2055.8,2,  2368.4,6,   8.0398,2,    25.00, -999.00,9,  -999.0,9,  -999.0,   1.6701,2, -999.00,9,    72.6,2,    5.40,2, -999.00,9,     6.9021,2, -999.00,9,  -999.0,9,     -999.0,     -999.0,9,     -999.0,9,     -999.0,     -999.0,9,     -999.0,     -999.0,9,     -999.0,     -999.0,     -999.0,9,     -999.0,9,     -999.0,9,       0.72,2,     -999.0,9,     -999.0,9,     -999.0,9,     -999.0,9
33RO20161119,        P18,      87,          1,         23,      11121,2,20161214,       0732,    -9.7100,  -103.4100,       4014,    23.8,  24.3638,  35.5397,2,  35.5405,2,    209.4,2,   210.6,2,     2.0,2,     5.9,2,    0.14,2,   0.626,2,   1.7229,2,   1.0765,2,   1.4556,2,  2063.0,2,  2341.9,2,   7.9929,2,    25.00, -999.00,9,  -999.0,9,  -999.0,   1.6654,2, -999.00,9,    65.3,2,    9.40,2, -999.00,9,     7.0523,2, -999.00,9,  -999.0,9,     -999.0,     -999.0,9,     -999.0,9,     -999.0,     -999.0,9,     -999.0,     -999.0,9,     -999.0,     -999.0,     -999.0,9,     -999.0,9,     -999.0,9,       0.86,2,     -999.0,9,     -999.0,9,     -999.0,9,     -999.0,9
33RO20161119,        P18,      87,          1,         24,      11122,2,20161214,       0732,    -9.7100,  -103.4100,       4014,     3.3,  24.3544,  35.5407,2,  35.5389,2,    208.9,2,   210.6,2,     2.0,2,     5.9,2,    0.14,2,   0.625,2,   1.7353,2,   1.0800,2,   1.4419,2,  2058.3,6,  2343.4,2,   7.9924,2,    25.00, -999.00,9,  -999.0,9,  -999.0,        0,2, -999.00,9,    65.6,2,    9.40,2, -999.00,9,     7.1855,2, -999.00,9,  -999.0,9,     -999.0,     -999.0,9,     -999.0,9,     -999.0,     -999.0,9,     -999.0,     -999.0,9,     -999.0,     -999.0,     -999.0,9,     -999.0,9,     -999.0,9,       0.88,2,     -999.0,9,     -999.0,9,     -999.0,9,     -999.0,9