BOTTLE,20230606CCHSIOCBG
EXPOCODE,SECT_ID,STNNBR,CASTNO,SAMPNO,BTLNBR,BTLNBR_FLAG_W,DATE,TIME,LATITUDE,LONGITUDE,DEPTH,CTDPRS,CTDTMP,CTDSAL,CTDSAL_FLAG_W,SALNTY,SALNTY_FLAG_W,CTDOXY,CTDOXY_FLAG_W,OXYGEN,OXYGEN_FLAG_W,SILCAT,SILCAT_FLAG_W,NITRAT,NITRAT_FLAG_W,NITRIT,NITRIT_FLAG_W,PHSPHT,PHSPHT_FLAG_W,CFC-11,CFC-11_FLAG_W,CFC-12,CFC-12_FLAG_W,SF6,SF6_FLAG_W,TCARBN,TCARBN_FLAG_W,ALKALI,ALKALI_FLAG_W,PH_SWS,PH_SWS_FLAG_W,PH_TMP,DELC13,DELC13_FLAG_W,DELC14,DELC14_FLAG_W,C14ERR,CCL4,CCL4_FLAG_W,POC,POC_FLAG_W,DOC,DOC_FLAG_W,TDN,TDN_FLAG_W,PON,PON_FLAG_W,N2O,N2O_FLAG_W,D15N_NO3,D15N_NO3_FLAG_W,14C-DOC,14C-DOC_FLAG_W,14C-DOCERR,13C-DOC,13C-DOC_FLAG_W,N2/ARGON_UNSTRIPPED,N2/ARGON_UNSTRIPPED_FLAG_W,N2/ARGON_UNSTRIPPED_ERROR,N2/ARGON,N2/ARGON_FLAG_W,N2/ARGON_ERROR,D15N_N2,D15N_N2_FLAG_W,D15N_N2_ERROR,D15N_NO3_ERROR,D15N_NO2+NO3,D15N_NO2+NO3_FLAG_W,D18O_NO2+NO3,D18O_NO2+NO3_FLAG_W,D18O_NO3,D18O_NO3_FLAG_W,TDP,TDP_FLAG_W,N2O_ALT_1,N2O_ALT_1_FLAG_W,D15N_N2O,D15N_N2O_FLAG_W,D18O_N2O,D18O_N2O_FLAG_W,D15N_ALPHA_N2O,D15N_ALPHA_N2O_FLAG_W
,,,,,,,,,,,METERS,DBAR,ITS-90,PSS-78,,PSS-78,,UMOL/KG,,UMOL/KG,,UMOL/KG,,UMOL/KG,,UMOL/KG,,UMOL/KG,,PMOL/KG,,PMOL/KG,,FMOL/KG,,UMOL/KG,,UMOL/KG,,,,DEG C,/MILLE,,/MILLE,,/MILLE,PMOL/KG,,UG/KG,,UMOL/KG,,UMOL/KG,,UG/KG,,NMOL/KG,,/MILLE,,/MILLE,,/MILLE,/MILLE,,,,,,,,/MILLE,,/MILLE,/MILLE,/MILLE,,/MILLE,,/MILLE,,UMOL/KG,,NMOL/L,,/MILLE,,/MILLE,,/MILLE,
33RO20161119,        P18,     140,          1,          1,      11010,2,20170107,       0518,   -36.0003,  -103.0000,       3806,  3913.3,   1.5262,  34.7006,2,  34.7008,2,    181.4,2,   180.1,2,   118.1,6,    33.5,6,    0.00,6,   2.330,6,   0.0027,2,   0.0020,2,   0.0000,2,  2283.1,6,  2381.7,2,   7.5947,6,    25.00, -999.00,9,  -999.0,9,  -999.0,   0.0238,2, -999.00,9,  -999.0,9, -999.00,9, -999.00,9,    19.8158,2,    4.98,2,  -999.0,9,     -999.0,     -999.0,9,     -999.0,9,     -999.0,     -999.0,9,     -999.0,     -999.0,9,     -999.0,     -999.0,       4.98,2,       2.15,2,       2.15,2,     -999.0,9,     -999.0,9,     -999.0,9,     -999.0,9,     -999.0,9
33RO20161119,        P18,     140,          1,          2,      11101,2,20170107,       0518,   -36.0003,  -103.0000,       3806,  3595.1,   1.5709,  34.6980,2,  34.6990,2,    177.7,2,   177.2,6,   117.1,6,    33.6,6,    0.00,6,   2.343,6,   0.0029,2,   0.0023,2,   0.0000,2,  2283.7,2,  2380.4,2,   7.5903,2,    25.00, -999.00,9,  -999.0,9,  -999.0,   0.0417,2, -999.00,9,  -999.0,9, -999.00,9, -999.00,9,    19.8599,2,    5.04,2,  -999.0,9,     -999.0,     -999.0,9,     -999.0,9,     -999.0,     -999.0,9,     -999.0,     -999.0,9,     -999.0,     -999.0,       5.04,2,       2.09,2,       2.09,2,     -999.0,9,     -999.0,9,     -999.0,9,     -999.0,9,     -999.0,9
33RO20161119,        P18,     140,          1,          3,      11102,2,20170107,       0518,   -36.0003,  -103.0000,       3806,  3295.4,   1.6873,  34.6910,2,  34.6934,2,    170.7,2,   170.6,2,   116.2,6,    34.1,6,    0.00,6,   2.377,6,   0.0025,2,   0.0027,2,   0.0000,2,  2286.4,2,  2384.8,6,   7.5896,2,    25.00, -999.00,9,  -999.0,9,  -999.0,   0.0453,2, -999.00,9,  -999.0,9, -999.00,9, -999.00,9,    19.8507,2,    5.14,2,  -999.0,9,     -999.0,     -999.0,9,     -999.0,9,     -999.0,     -999.0,9,     -999.0,     -999.0,9,     -999.0,     -999.0,       5.14,2,        2.0,2,        2.0,2,     -999.0,9,     -999.0,9,     -999.0,9,     -999.0,9,     -999.0,9
33RO20161119,        P18,     140,          1,          4,      11103,2,20170107,       0518,   -36.0003,  -103.0000,       3806,  2975.9,   1.7405,  34.6862,2,  34.6989,4,    167.1,2,   166.9,2,   115.6,6,    34.3,6,    0.00,6,   2.383,6,   0.0044,2,   0.0023,2,   0.0000,2,  2289.2,2,  2388.1,2,   7.5821,2,    25.00, -999.00,9,  -999.0,9,  -999.0,   0.0718,2, -999.00,9,  -999.0,9, -999.00,9, -999.00,9,    20.5763,2,     5.2,2,  -999.0,9,     -999.0,     -999.0,9,     -999.0,9,     -999.0,     -999.0,9,     -999.0,     -999.0,9,     -999.0,     -999.0,        5.2,2,       2.12,2,       2.12,2,     -999.0,9,     -999.0,9,     -999.0,9,     -999.0,9,     -999.0,9
33RO20161119,        P18,     140,          1,          5,      11104,2,20170107,       0518,   -36.0003,  -103.0000,       3806,  2669.8,   1.7861,  34.6816,2,  34.6849,2,    165.1,2,   165.0,2,   114.2,6,    34.4,6,    0.00,6,   2.396,6,   0.0081,2,   0.0058,2,   0.0000,2,  2290.6,2,  2385.8,2,   7.5770,2,    25.00, -999.00,9,  -999.0,9,  -999.0,   0.1087,2, -999.00,9,  -999.0,9, -999.00,9, -999.00,9,    20.0409,2,    5.24,2,  -999.0,9,     -999.0,     -999.0,9,     -999.0,9,     -999.0,     -999.0,9,     -999.0,     -999.0,9,     -999.0,     -999.0,       5.24,2,       1.99,2,       1.99,2,     -999.0,9,     -999.0,9,     -999.0,9,     -999.0,9,     -999.0,9
33RO20161119,        P18,     140,          1,          6,      11105,2,20170107,       0518,   -36.0003,  -103.0000,       3806,  2360.8,   1.8943,  34.6708,2,  34.6772,4,    160.9,2,   161.4,2,   110.6,2,    34.6,2,    0.01,2,   2.426,2,   0.0077,2,   0.0051,2,   0.0000,2,  2290.6,2,  2382.2,2,   7.5700,2,    25.00, -999.00,9,  -999.0,9,  -999.0,   0.4068,2, -999.00,9,  -999.0,9, -999.00,9, -999.00,9,    21.0639,2,     5.3,2,  -999.0,9,     -999.0,     -999.0,9,     -999.0,9,     -999.0,     -999.0,9,     -999.0,     -999.0,9,     -999.0,     -999.0,        5.3,2,       2.14,2,       2.14,2,     -999.0,9,     -999.0,9,     -999.0,9,     -999.0,9,     -999.0,9
33RO20161119,        P18,     140,          1,          7,      11106,2,20170107,       0518,   -36.0003,  -103.0000,       3806,  2059.7,   2.1387,  34.6393,2,  34.6387,2,    151.5,2,   152.2,2,   105.5,2,    35.5,2,    0.00,2,   2.484,2,   0.0082,2,   0.0045,2,   0.0000,2,  2289.9,2,  2378.1,2,   7.5531,2,    25.00, -999.00,9,  -999.0,9,  -999.0,   0.4714,2, -999.00,9,  -999.0,9, -999.00,9, -999.00,9,    22.6333,2,    5.46,2,  -999.0,9,     -999.0,     -999.0,9,     -999.0,9,     -999.0,     -999.0,9,     -999.0,     -999.0,9,     -999.0,     -999.0,       5.46,2,       2.17,2,       2.17,2,     -999.0,9,     -999.0,9,     -999.0,9,     -999.0,9,     -999.0,9
33RO20161119,        P18,     140,          1,          8,      11107,2,20170107,       0518,   -36.0003,  -103.0000,       3806,  1750.2,   2.4484,  34.5984,2,  34.5986,2,    145.1,2,   145.1,2,    96.0,2,    36.1,2,    0.01,2,   2.537,2,   0.0116,2,   0.0075,2,   0.0300,2,  2286.3,2,  2365.1,2,   7.5387,2,    25.00, -999.00,9,  -999.0,9,  -999.0,        1,2, -999.00,9,  -999.0,9, -999.00,9, -999.00,9,    23.0607,2,    5.64,2,  -999.0,9,     -999.0,     -999.0,9,     -999.0,9,     -999.0,     -999.0,9,     -999.0,     -999.0,9,     -999.0,     -999.0,       5.64,2,       2.11,2,       2.11,2,     -999.0,9,     -999.0,9,     -999.0,9,     -999.0,9,     -999.0,9
33RO20161119,        P18,     140,          1,          9,      11108,2,20170107,       0518,   -36.0003,  -103.0000,       3806,  1475.0,   2.9130,  34.5382,2,  34.5382,2,    137.8,2,   136.4,2,    82.5,2,    37.2,2,    0.00,2,   2.606,2,   0.0206,2,   0.0111,2,   0.0000,2,  2277.5,2,  2341.6,3,   7.5159,2,    25.00, -999.00,9,  -999.0,9,  -999.0,   1.5632,2, -999.00,9,  -999.0,9, -999.00,9, -999.00,9,    25.6887,2,    5.88,2,  -999.0,9,     -999.0,     -999.0,9,     -999.0,9,     -999.0,     -999.0,9,     -999.0,     -999.0,9,     -999.0,     -999.0,       5.88,2,       2.11,2,       2.11,2,     -999.0,9,     -999.0,9,     -999.0,9,     -999.0,9,     -999.0,9
33RO20161119,        P18,     140,          1,         10,      11109,2,20170107,       0518,   -36.0003,  -103.0000,       3806,  1303.8,   3.2114,  34.4811,2,  34.4821,2,    132.7,2,   132.2,2,    71.3,2,    37.7,2,    0.01,2,   2.654,2,   0.0329,2,   0.0190,2,   0.0000,2,  2268.7,2,  2332.7,2,   7.5013,2,    25.00, -999.00,9,  -999.0,9,  -999.0,   2.4256,2, -999.00,9,  -999.0,9, -999.00,9, -999.00,9,     26.146,2,    5.92,2,  -999.0,9,     -999.0,     -999.0,9,     -999.0,9,     -999.0,     -999.0,9,     -999.0,     -999.0,9,     -999.0,     -999.0,       5.92,2,       2.26,2,       2.26,2,     -999.0,9,     -999.0,9,     -999.0,9,     -999.0,9,     -999.0,9
33RO20161119,        P18,     140,          1,         11,      11110,2,20170107,       0518,   -36.0003,  -103.0000,       3806,  1164.4,   3.4972,  34.4017,2,  34.4020,2,    156.3,2,   155.6,2,    53.8,2,    36.1,2,    0.00,2,   2.513,2,   0.2182,6,   0.1128,6,   0.0258,6,  2241.3,2,  2309.9,3,   7.5324,2,    25.00, -999.00,9,  -999.0,9,  -999.0,   2.4563,2, -999.00,9,  -999.0,9, -999.00,9, -999.00,9,    24.6745,2,    5.79,2,  -999.0,9,     -999.0,     -999.0,9,     -999.0,9,     -999.0,     -999.0,9,     -999.0,     -999.0,9,     -999.0,     -999.0,       5.79,2,       2.13,2,       2.13,2,     -999.0,9,     -999.0,9,     -999.0,9,     -999.0,9,     -999.0,9
33RO20161119,        P18,     140,          1,         12,      11111,2,20170107,       0518,   -36.0003,  -103.0000,       3806,  1025.6,   3.9985,  34.3231,2,  34.3235,2,    184.9,2,   185.9,2,    36.1,2,    33.2,2,    0.00,2,   2.279,2,   0.7982,2,   0.3889,2,   0.1026,2,  2208.9,6,  2293.8,2,   7.5762,2,    25.00, -999.00,9,  -999.0,9,  -999.0,   2.6818,2, -999.00,9,  -999.0,9, -999.00,9, -999.00,9,    21.4152,2,    5.61,2,  -999.0,9,     -999.0,     -999.0,9,     -999.0,9,     -999.0,     -999.0,9,     -999.0,     -999.0,9,     -999.0,     -999.0,       5.61,2,     -999.0,9,     -999.0,9,     -999.0,9,     -999.0,9,     -999.0,9,     -999.0,9,     -999.0,9
33RO20161119,        P18,     140,          1,         13,      11112,2,20170107,       0518,   -36.0003,  -103.0000,       3806,   895.0,   4.6430,  34.2817,2,  34.2819,2,    208.6,2,   208.4,2,    23.4,2,    30.2,2,    0.01,2,   2.074,2,   1.5356,2,   0.7544,2,   0.2639,2,  2181.4,2,  2282.5,6,   7.6211,2,    25.00, -999.00,9,  -999.0,9,  -999.0,   2.8229,2, -999.00,9,  -999.0,9, -999.00,9, -999.00,9,    18.9307,2,    5.63,2,  -999.0,9,     -999.0,     -999.0,9,     -999.0,9,     -999.0,     -999.0,9,     -999.0,     -999.0,9,     -999.0,     -999.0,       5.63,2,       2.47,2,       2.47,2,     -999.0,9,     -999.0,9,     -999.0,9,     -999.0,9,     -999.0,9
33RO20161119,        P18,     140,          1,         14,      11113,2,20170107,       0518,   -36.0003,  -103.0000,       3806,   770.1,   5.1893,  34.2652,2,  34.2799,4,    226.9,2,   227.1,2,    15.4,2,    27.7,2,    0.01,2,   1.896,2,   2.5427,2,   1.2505,2,   0.4525,2,  2161.7,2,  2279.8,2,   7.6548,2,    25.00, -999.00,9,  -999.0,9,  -999.0,   2.2274,2, -999.00,9,  -999.0,9, -999.00,9, -999.00,9,    17.1675,2,    5.77,2,  -999.0,9,     -999.0,     -999.0,9,     -999.0,9,     -999.0,     -999.0,9,     -999.0,     -999.0,9,     -999.0,     -999.0,       5.77,2,        2.8,2,        2.8,2,     -999.0,9,     -999.0,9,     -999.0,9,     -999.0,9,     -999.0,9
33RO20161119,        P18,     140,          1,         15,      11114,2,20170107,       0518,   -36.0003,  -103.0000,       3806,   650.4,   5.6795,  34.2700,2,  34.2693,2,    240.1,2,   241.3,2,    10.7,2,    25.4,2,    0.00,2,   1.753,2,   3.3812,2,   1.7021,2,   0.7916,2,  2147.7,2,  2276.8,2,   7.6837,2,    25.00, -999.00,9,  -999.0,9,  -999.0,    1.282,2, -999.00,9,  -999.0,9, -999.00,9, -999.00,9,    15.9554,2,    5.84,2,  -999.0,9,     -999.0,     -999.0,9,     -999.0,9,     -999.0,     -999.0,9,     -999.0,     -999.0,9,     -999.0,     -999.0,       5.84,2,       3.04,2,       3.04,2,     -999.0,9,     -999.0,9,     -999.0,9,     -999.0,9,     -999.0,9
33RO20161119,        P18,     140,          1,         16,      11115,2,20170107,       0518,   -36.0003,  -103.0000,       3806,   540.6,   6.1316,  34.2905,2,  34.2902,2,    245.2,2,   245.7,2,     8.4,2,    23.9,2,    0.01,2,   1.652,2,   3.8215,6,   1.9664,6,   1.0108,6,  2143.3,2,  2275.2,2,   7.6907,2,    25.00, -999.00,9,  -999.0,9,  -999.0,   1.0169,2, -999.00,9,  -999.0,9, -999.00,9, -999.00,9,    16.2031,2,    5.89,2,  -999.0,9,     -999.0,     -999.0,9,     -999.0,9,     -999.0,     -999.0,9,     -999.0,     -999.0,9,     -999.0,     -999.0,       5.89,2,       3.23,2,       3.23,2,     -999.0,9,     -999.0,9,     -999.0,9,     -999.0,9,     -999.0,9
33RO20161119,        P18,     140,          1,         17,      11116,2,20170107,       0518,   -36.0003,  -103.0000,       3806,   436.4,   6.6182,  34.3145,2,  34.3141,2,    244.6,2,   245.2,2,     6.9,2,    22.6,2,    0.02,2,   1.576,2,   3.9817,2,   2.1215,2,   1.2979,2,  2139.5,2,  2271.5,2,   7.6941,2,    25.00, -999.00,9,  -999.0,9,  -999.0,   2.5203,2, -999.00,9,  -999.0,9, -999.00,9, -999.00,9,     17.305,2,    5.89,2,  -999.0,9,     -999.0,     -999.0,9,     -999.0,9,     -999.0,     -999.0,9,     -999.0,     -999.0,9,     -999.0,     -999.0,       5.89,2,       3.34,2,       3.34,2,     -999.0,9,     -999.0,9,     -999.0,9,     -999.0,9,     -999.0,9
33RO20161119,        P18,     140,          1,         18,      11117,2,20170107,       0518,   -36.0003,  -103.0000,       3806,   335.2,   7.2242,  34.2878,2,  34.2879,2,    237.7,2,   222.1,3,     5.2,2,    21.7,2,    0.01,2,   1.529,2,   3.9061,2,   2.1373,2,   1.5044,2,  2139.6,2,  2267.6,2,   7.6946,6,    25.00, -999.00,9,  -999.0,9,  -999.0,   2.6169,2, -999.00,9,  -999.0,9, -999.00,9, -999.00,9,    21.5521,2,    6.09,2,  -999.0,9,     -999.0,     -999.0,9,     -999.0,9,     -999.0,     -999.0,9,     -999.0,     -999.0,9,     -999.0,     -999.0,       6.09,2,       3.68,2,       3.68,2,     -999.0,9,     -999.0,9,     -999.0,9,     -999.0,9,     -999.0,9
33RO20161119,        P18,     140,          1,         19,      11083,2,20170107,       0518,   -36.0003,  -103.0000,       3806,   250.8,   9.0471,  34.2648,2,  34.2671,2,    233.0,2,   231.9,2,     2.5,2,    17.7,2,    0.01,2,   1.277,2,   3.6454,2,   2.0621,2,   1.7333,2,  2122.5,2,  2263.8,2,   7.7289,2,    25.00, -999.00,9,  -999.0,9,  -999.0,   2.4197,2, -999.00,9,  -999.0,9, -999.00,9, -999.00,9,    22.9266,2,    7.24,2,  -999.0,9,     -999.0,     -999.0,9,     -999.0,9,     -999.0,     -999.0,9,     -999.0,     -999.0,9,     -999.0,     -999.0,       7.28,2,       4.27,2,       4.31,2,     -999.0,9,     -999.0,9,     -999.0,9,     -999.0,9,     -999.0,9
33RO20161119,        P18,     140,          1,         20,      11118,2,20170107,       0518,   -36.0003,  -103.0000,       3806,   170.2,  11.5858,  34.2888,2,  34.2881,2,    225.1,2,   224.4,2,     0.9,2,    12.2,2,    0.04,2,   0.958,2,   3.1763,2,   1.8648,2,   1.8840,2,  2097.7,2,  2262.0,2,   7.7863,2,    25.00, -999.00,9,  -999.0,9,  -999.0,   0.0301,2, -999.00,9,  -999.0,9, -999.00,9, -999.00,9,    16.9492,2,    9.24,2,  -999.0,9,     -999.0,     -999.0,9,     -999.0,9,     -999.0,     -999.0,9,     -999.0,     -999.0,9,     -999.0,     -999.0,       9.21,2,        5.3,2,       5.23,2,     -999.0,9,     -999.0,9,     -999.0,9,     -999.0,9,     -999.0,9
33RO20161119,        P18,     140,          1,         21,      11119,2,20170107,       0518,   -36.0003,  -103.0000,       3806,   104.7,  13.7751,  34.2023,2,  34.2051,2,    251.0,2,   252.6,2,     0.3,2,     3.1,2,    0.24,2,   0.458,2,   2.8167,2,   1.6707,2,   2.0838,2,  2045.1,2,  2255.5,2,   7.8932,2,    25.00, -999.00,9,  -999.0,9,  -999.0,   0.2754,2, -999.00,9,  -999.0,9, -999.00,9, -999.00,9,     9.7361,2,    17.3,2,  -999.0,9,     -999.0,     -999.0,9,     -999.0,9,     -999.0,     -999.0,9,     -999.0,     -999.0,9,     -999.0,     -999.0,      15.18,2,      13.25,2,      12.61,2,     -999.0,9,     -999.0,9,     -999.0,9,     -999.0,9,     -999.0,9
33RO20161119,        P18,     140,          1,         22,      11120,2,20170107,       0518,   -36.0003,  -103.0000,       3806,    50.5,  16.3562,  34.0970,2,  34.0897,2,    262.8,2,   261.9,2,     0.2,2,     1.3,2,    0.04,2,   0.300,2,   2.6024,2,   1.5640,2,   2.0204,2,  2025.5,6,  2256.0,6,   7.9287,2,    25.00, -999.00,9,  -999.0,9,  -999.0,   0.2865,2, -999.00,9,  -999.0,9, -999.00,9, -999.00,9,     8.6237,2, -999.00,9,  -999.0,9,     -999.0,     -999.0,9,     -999.0,9,     -999.0,     -999.0,9,     -999.0,     -999.0,9,     -999.0,     -999.0,     -999.0,9,     -999.0,9,     -999.0,9,     -999.0,9,     -999.0,9,     -999.0,9,     -999.0,9,     -999.0,9
33RO20161119,        P18,     140,          1,         23,      11121,2,20170107,       0518,   -36.0003,  -103.0000,       3806,    21.4,  18.6675,  34.0863,2,  34.0855,2,    241.1,2,   240.6,6,     0.2,2,     1.3,2,    0.03,2,   0.299,2,   2.2955,2,   1.4003,2,   1.7833,2,  2022.9,2,  2254.2,2,   7.9335,2,    25.00, -999.00,9,  -999.0,9,  -999.0,   0.7755,2, -999.00,9,  -999.0,9, -999.00,9, -999.00,9,     7.8588,2, -999.00,9,  -999.0,9,     -999.0,     -999.0,9,     -999.0,9,     -999.0,     -999.0,9,     -999.0,     -999.0,9,     -999.0,     -999.0,     -999.0,9,     -999.0,9,     -999.0,9,     -999.0,9,     -999.0,9,     -999.0,9,     -999.0,9,     -999.0,9
33RO20161119,        P18,     140,          1,         24,      11122,2,20170107,       0518,   -36.0003,  -103.0000,       3806,     3.4,  19.7393,  34.0647,2,  34.0657,2,    232.7,2,   235.0,2,     0.2,2,     1.2,2,    0.03,2,   0.301,2,   2.2294,2,   1.3639,2,   1.7696,2,  2022.4,2,  2242.9,2,   7.9323,2,    25.00, -999.00,9,  -999.0,9,  -999.0,   1.4358,2, -999.00,9,  -999.0,9, -999.00,9, -999.00,9,     7.7562,2, -999.00,9,  -999.0,9,     -999.0,     -999.0,9,     -999.0,9,     -999.0,     -999.0,9,     -999.0,     -999.0,9,     -999.0,     -999.0,     -999.0,9,     -999.0,9,     -999.0,9,     -999.0,9,     -999.0,9,     -999.0,9,     -999.0,9,     -999.0,9