BOTTLE,20230606CCHSIOCBG
EXPOCODE,SECT_ID,STNNBR,CASTNO,SAMPNO,BTLNBR,BTLNBR_FLAG_W,DATE,TIME,LATITUDE,LONGITUDE,DEPTH,CTDPRS,CTDTMP,CTDSAL,CTDSAL_FLAG_W,SALNTY,SALNTY_FLAG_W,CTDOXY,CTDOXY_FLAG_W,OXYGEN,OXYGEN_FLAG_W,SILCAT,SILCAT_FLAG_W,NITRAT,NITRAT_FLAG_W,NITRIT,NITRIT_FLAG_W,PHSPHT,PHSPHT_FLAG_W,CFC-11,CFC-11_FLAG_W,CFC-12,CFC-12_FLAG_W,SF6,SF6_FLAG_W,TCARBN,TCARBN_FLAG_W,ALKALI,ALKALI_FLAG_W,PH_SWS,PH_SWS_FLAG_W,PH_TMP,DELC13,DELC13_FLAG_W,DELC14,DELC14_FLAG_W,C14ERR,CCL4,CCL4_FLAG_W,POC,POC_FLAG_W,DOC,DOC_FLAG_W,TDN,TDN_FLAG_W,PON,PON_FLAG_W,N2O,N2O_FLAG_W,D15N_NO3,D15N_NO3_FLAG_W,14C-DOC,14C-DOC_FLAG_W,14C-DOCERR,13C-DOC,13C-DOC_FLAG_W,N2/ARGON_UNSTRIPPED,N2/ARGON_UNSTRIPPED_FLAG_W,N2/ARGON_UNSTRIPPED_ERROR,N2/ARGON,N2/ARGON_FLAG_W,N2/ARGON_ERROR,D15N_N2,D15N_N2_FLAG_W,D15N_N2_ERROR,D15N_NO3_ERROR,D15N_NO2+NO3,D15N_NO2+NO3_FLAG_W,D18O_NO2+NO3,D18O_NO2+NO3_FLAG_W,D18O_NO3,D18O_NO3_FLAG_W,TDP,TDP_FLAG_W,N2O_ALT_1,N2O_ALT_1_FLAG_W,D15N_N2O,D15N_N2O_FLAG_W,D18O_N2O,D18O_N2O_FLAG_W,D15N_ALPHA_N2O,D15N_ALPHA_N2O_FLAG_W
,,,,,,,,,,,METERS,DBAR,ITS-90,PSS-78,,PSS-78,,UMOL/KG,,UMOL/KG,,UMOL/KG,,UMOL/KG,,UMOL/KG,,UMOL/KG,,PMOL/KG,,PMOL/KG,,FMOL/KG,,UMOL/KG,,UMOL/KG,,,,DEG C,/MILLE,,/MILLE,,/MILLE,PMOL/KG,,UG/KG,,UMOL/KG,,UMOL/KG,,UG/KG,,NMOL/KG,,/MILLE,,/MILLE,,/MILLE,/MILLE,,,,,,,,/MILLE,,/MILLE,/MILLE,/MILLE,,/MILLE,,/MILLE,,UMOL/KG,,NMOL/L,,/MILLE,,/MILLE,,/MILLE,
33RO20161119,        P18,     167,          1,          1,      11010,2,20170114,       1023,   -49.4998,  -103.0004,       4109,  4214.8,   0.8687,  34.7098,2,  34.7099,2,    202.4,2,   202.6,2,   129.2,2,    32.5,2,    0.01,2,   2.272,2,   0.0191,2,   0.0109,2,   0.0000,2,  2275.4,6,  2379.4,6,   7.6091,2,    25.00, -999.00,9,  -999.0,9,  -999.0,   1.5443,2, -999.00,9,    39.7,2,   34.00,2, -999.00,9,    18.8288,2, -999.00,9,  -999.0,9,     -999.0,     -999.0,9,     -999.0,9,     -999.0,     -999.0,9,     -999.0,     -999.0,9,     -999.0,     -999.0,     -999.0,9,     -999.0,9,     -999.0,9,     -999.0,9,     -999.0,9,     -999.0,9,     -999.0,9,     -999.0,9
33RO20161119,        P18,     167,          1,          2,      11101,2,20170114,       1023,   -49.4998,  -103.0004,       4109,  3899.6,   1.0038,  34.7118,2,  34.7169,4,    198.7,2,   198.0,2,   125.0,2,    32.5,2,    0.01,2,   2.270,2,-999.0000,9,-999.0000,9,-999.0000,9,  2272.8,2,  2376.4,2,   7.6061,6,    25.00, -999.00,9,  -999.0,9,  -999.0,-999.0000,9, -999.00,9,    41.9,2,   32.80,2, -999.00,9,     -999.0,9, -999.00,9,  -999.0,9,     -999.0,     -999.0,9,     -999.0,9,     -999.0,     -999.0,9,     -999.0,     -999.0,9,     -999.0,     -999.0,     -999.0,9,     -999.0,9,     -999.0,9,     -999.0,9,     -999.0,9,     -999.0,9,     -999.0,9,     -999.0,9
33RO20161119,        P18,     167,          1,          3,      11102,2,20170114,       1023,   -49.4998,  -103.0004,       4109,  3596.5,   1.2927,  34.7166,2,  34.7167,2,    192.6,2,   192.8,2,   115.2,6,    32.3,6,    0.01,6,   2.256,6,-999.0000,9,-999.0000,9,-999.0000,9,  2269.0,2,  2371.1,2,   7.5985,2,    25.00, -999.00,9,  -999.0,9,  -999.0,-999.0000,9, -999.00,9,    42.0,2,   35.40,2, -999.00,9,     -999.0,9, -999.00,9,  -999.0,9,     -999.0,     -999.0,9,     -999.0,9,     -999.0,     -999.0,9,     -999.0,     -999.0,9,     -999.0,     -999.0,     -999.0,9,     -999.0,9,     -999.0,9,     -999.0,9,     -999.0,9,     -999.0,9,     -999.0,9,     -999.0,9
33RO20161119,        P18,     167,          1,          4,      11103,2,20170114,       1023,   -49.4998,  -103.0004,       4109,  3271.4,   1.5420,  34.7176,2,  34.7192,2,    186.9,2,   186.7,2,   108.2,6,    32.2,6,    0.01,6,   2.248,6,   0.0492,6,   0.0236,6,   0.0288,6,  2268.2,2,  2368.8,2,   7.5935,2,    25.00, -999.00,9,  -999.0,9,  -999.0,    2.516,2, -999.00,9,    37.9,2,   35.20,2, -999.00,9,    19.8859,2, -999.00,9,  -999.0,9,     -999.0,     -999.0,9,     -999.0,9,     -999.0,     -999.0,9,     -999.0,     -999.0,9,     -999.0,     -999.0,     -999.0,9,     -999.0,9,     -999.0,9,     -999.0,9,     -999.0,9,     -999.0,9,     -999.0,9,     -999.0,9
33RO20161119,        P18,     167,          1,          5,      11104,2,20170114,       1023,   -49.4998,  -103.0004,       4109,  2940.3,   1.6519,  34.7098,2,  34.7084,2,    179.5,2,   179.7,2,   108.3,6,    32.8,6,    0.01,6,   2.296,6,-999.0000,9,-999.0000,9,-999.0000,9,  2274.3,2,  2371.3,2,   7.5882,2,    25.00, -999.00,9,  -999.0,9,  -999.0,-999.0000,9, -999.00,9,    39.4,2,   35.80,2, -999.00,9,     -999.0,9, -999.00,9,  -999.0,9,     -999.0,     -999.0,9,     -999.0,9,     -999.0,     -999.0,9,     -999.0,     -999.0,9,     -999.0,     -999.0,     -999.0,9,     -999.0,9,     -999.0,9,     -999.0,9,     -999.0,9,     -999.0,9,     -999.0,9,     -999.0,9
33RO20161119,        P18,     167,          1,          6,      11105,2,20170114,       1023,   -49.4998,  -103.0004,       4109,  2608.6,   1.8327,  34.7057,2,  34.7041,2,    174.7,2,   175.6,2,   102.8,6,    32.8,6,    0.01,6,   2.300,6,   0.0478,2,   0.0238,2,   0.0304,2,  2273.3,2,  2368.6,2,   7.5811,2,    25.00, -999.00,9,  -999.0,9,  -999.0,   3.3417,2, -999.00,9,    38.9,2,   36.70,2, -999.00,9,    20.2169,2, -999.00,9,  -999.0,9,     -999.0,     -999.0,9,     -999.0,9,     -999.0,     -999.0,9,     -999.0,     -999.0,9,     -999.0,     -999.0,     -999.0,9,     -999.0,9,     -999.0,9,     -999.0,9,     -999.0,9,     -999.0,9,     -999.0,9,     -999.0,9
33RO20161119,        P18,     167,          1,          7,      11106,2,20170114,       1023,   -49.4998,  -103.0004,       4109,  2266.3,   2.1289,  34.6892,2,  34.6993,4,    172.4,2,   172.0,2,    91.6,2,    32.8,2,    0.01,2,   2.287,2,-999.0000,9,-999.0000,9,-999.0000,9,  2265.0,2,  2356.7,2,   7.5731,2,    25.00, -999.00,9,  -999.0,9,  -999.0,-999.0000,9, -999.00,9,    39.5,2,   37.00,2, -999.00,9,     -999.0,9, -999.00,9,  -999.0,9,     -999.0,     -999.0,9,     -999.0,9,     -999.0,     -999.0,9,     -999.0,     -999.0,9,     -999.0,     -999.0,     -999.0,9,     -999.0,9,     -999.0,9,     -999.0,9,     -999.0,9,     -999.0,9,     -999.0,9,     -999.0,9
33RO20161119,        P18,     167,          1,          8,      11107,2,20170114,       1023,   -49.4998,  -103.0004,       4109,  1919.4,   2.3938,  34.6296,2,  34.6313,2,    167.6,2,   168.7,2,    81.6,2,    33.6,2,    0.01,2,   2.351,2,-999.0000,9,-999.0000,9,-999.0000,9,  2260.7,2,  2346.3,2,   7.5591,2,    25.00, -999.00,9,  -999.0,9,  -999.0,-999.0000,9, -999.00,9,    40.9,2,   36.90,2, -999.00,9,     -999.0,9, -999.00,9,  -999.0,9,     -999.0,     -999.0,9,     -999.0,9,     -999.0,     -999.0,9,     -999.0,     -999.0,9,     -999.0,     -999.0,     -999.0,9,     -999.0,9,     -999.0,9,     -999.0,9,     -999.0,9,     -999.0,9,     -999.0,9,     -999.0,9
33RO20161119,        P18,     167,          1,          9,      11108,2,20170114,       1023,   -49.4998,  -103.0004,       4109,  1615.6,   2.6791,  34.5345,2,  34.5376,2,    169.4,2,   169.0,2,    70.7,2,    34.3,2,    0.01,2,   2.410,2,   0.5693,2,   0.2758,2,   0.1261,2,  2250.7,2,  2336.2,6,   7.5513,6,    25.00, -999.00,9,  -999.0,9,  -999.0,   4.0569,2, -999.00,9,    42.6,2,   37.10,2, -999.00,9,    22.8573,2, -999.00,9,  -999.0,9,     -999.0,     -999.0,9,     -999.0,9,     -999.0,     -999.0,9,     -999.0,     -999.0,9,     -999.0,     -999.0,     -999.0,9,     -999.0,9,     -999.0,9,     -999.0,9,     -999.0,9,     -999.0,9,     -999.0,9,     -999.0,9
33RO20161119,        P18,     167,          1,         10,      11109,2,20170114,       1023,   -49.4998,  -103.0004,       4109,  1425.0,   2.9547,  34.4514,2,  34.4502,2,    178.3,2,   177.5,2,    60.2,2,    34.0,2,    0.01,2,   2.379,2,-999.0000,9,-999.0000,9,-999.0000,9,  2237.8,2,  2322.3,2,   7.5549,2,    25.00, -999.00,9,  -999.0,9,  -999.0,-999.0000,9, -999.00,9,    40.0,2,   38.50,2, -999.00,9,     -999.0,9, -999.00,9,  -999.0,9,     -999.0,     -999.0,9,     -999.0,9,     -999.0,     -999.0,9,     -999.0,     -999.0,9,     -999.0,     -999.0,     -999.0,9,     -999.0,9,     -999.0,9,     -999.0,9,     -999.0,9,     -999.0,9,     -999.0,9,     -999.0,9
33RO20161119,        P18,     167,          1,         11,      11110,2,20170114,       1023,   -49.4998,  -103.0004,       4109,  1270.8,   3.3242,  34.3834,2,  34.3878,2,    187.6,2,   186.6,2,    49.4,2,    33.3,2,    0.01,2,   2.331,2,   1.2960,2,   0.6356,2,   0.2783,2,  2223.9,2,  2312.5,2,   7.5678,2,    25.00, -999.00,9,  -999.0,9,  -999.0,   3.8186,2, -999.00,9,    41.6,2,   36.50,2, -999.00,9,    21.5002,2, -999.00,9,  -999.0,9,     -999.0,     -999.0,9,     -999.0,9,     -999.0,     -999.0,9,     -999.0,     -999.0,9,     -999.0,     -999.0,     -999.0,9,     -999.0,9,     -999.0,9,     -999.0,9,     -999.0,9,     -999.0,9,     -999.0,9,     -999.0,9
33RO20161119,        P18,     167,          1,         12,      11111,2,20170114,       1023,   -49.4998,  -103.0004,       4109,  1101.4,   3.8686,  34.3244,2,  34.3224,2,    199.7,2,   199.7,2,    36.8,2,    31.7,2,    0.01,2,   2.214,2,-999.0000,9,-999.0000,9,-999.0000,9,  2203.8,6,  2299.2,2,   7.5901,2,    25.00, -999.00,9,  -999.0,9,  -999.0,-999.0000,9, -999.00,9,    42.0,2,   34.80,2, -999.00,9,     -999.0,9, -999.00,9,  -999.0,9,     -999.0,     -999.0,9,     -999.0,9,     -999.0,     -999.0,9,     -999.0,     -999.0,9,     -999.0,     -999.0,     -999.0,9,     -999.0,9,     -999.0,9,     -999.0,9,     -999.0,9,     -999.0,9,     -999.0,9,     -999.0,9
33RO20161119,        P18,     167,          1,         13,      11112,2,20170114,       1023,   -49.4998,  -103.0004,       4109,   987.3,   4.3274,  34.2902,2,  34.2910,2,    211.8,2,   211.1,2,    28.8,2,    30.1,2,    0.01,2,   2.095,2,   2.4416,2,   1.2431,2,   0.6383,2,  2191.6,2,  2290.4,2,   7.6132,2,    25.00, -999.00,9,  -999.0,9,  -999.0,   3.7111,2, -999.00,9,    41.2,2,   32.60,2, -999.00,9,    18.9162,2, -999.00,9,  -999.0,9,     -999.0,     -999.0,9,     -999.0,9,     -999.0,     -999.0,9,     -999.0,     -999.0,9,     -999.0,     -999.0,     -999.0,9,     -999.0,9,     -999.0,9,     -999.0,9,     -999.0,9,     -999.0,9,     -999.0,9,     -999.0,9
33RO20161119,        P18,     167,          1,         14,      11113,2,20170114,       1023,   -49.4998,  -103.0004,       4109,   850.6,   4.9004,  34.2592,2,  34.2665,2,    227.3,2,   226.8,2,    20.2,2,    27.8,2,    0.01,2,   1.958,2,   3.0473,2,   1.6035,2,   1.0654,2,  2174.9,2,  2285.0,2,   7.6410,2,    25.00, -999.00,9,  -999.0,9,  -999.0,   3.8609,2, -999.00,9,    43.0,2,   29.30,2, -999.00,9,    17.5623,2, -999.00,9,  -999.0,9,     -999.0,     -999.0,9,     -999.0,9,     -999.0,     -999.0,9,     -999.0,     -999.0,9,     -999.0,     -999.0,     -999.0,9,     -999.0,9,     -999.0,9,     -999.0,9,     -999.0,9,     -999.0,9,     -999.0,9,     -999.0,9
33RO20161119,        P18,     167,          1,         15,      11114,2,20170114,       1023,   -49.4998,  -103.0004,       4109,   715.4,   5.4385,  34.2422,2,  34.2435,2,    245.8,2,   247.0,6,    13.1,2,    25.0,2,    0.01,2,   1.772,2,   3.6014,2,   1.9572,2,   1.5401,2,  2156.1,2,  2277.6,2,   7.6745,2,    25.00, -999.00,9,  -999.0,9,  -999.0,   4.6076,2, -999.00,9,    44.9,2,   27.70,2, -999.00,9,    15.4755,2, -999.00,9,  -999.0,9,     -999.0,     -999.0,9,     -999.0,9,     -999.0,     -999.0,9,     -999.0,     -999.0,9,     -999.0,     -999.0,     -999.0,9,     -999.0,9,     -999.0,9,     -999.0,9,     -999.0,9,     -999.0,9,     -999.0,9,     -999.0,9
33RO20161119,        P18,     167,          1,         16,      11115,2,20170114,       1023,   -49.4998,  -103.0004,       4109,   591.0,   5.8580,  34.2503,2,  34.2543,2,    263.3,2,   262.3,2,     9.1,2,    22.6,2,    0.01,2,   1.630,2,-999.0000,9,-999.0000,9,-999.0000,9,  2145.6,2,  2288.5,3,   7.6988,2,    25.00, -999.00,9,  -999.0,9,  -999.0,-999.0000,9, -999.00,9,    46.7,2,   23.90,2, -999.00,9,     -999.0,9, -999.00,9,  -999.0,9,     -999.0,     -999.0,9,     -999.0,9,     -999.0,     -999.0,9,     -999.0,     -999.0,9,     -999.0,     -999.0,     -999.0,9,     -999.0,9,     -999.0,9,     -999.0,9,     -999.0,9,     -999.0,9,     -999.0,9,     -999.0,9
33RO20161119,        P18,     167,          1,         17,      11116,2,20170114,       1023,   -49.4998,  -103.0004,       4109,   474.1,   6.1254,  34.2608,2,  34.2871,4,    272.7,2,   271.3,2,     7.1,2,    21.1,2,    0.02,2,   1.532,2,   4.0726,2,   2.2672,2,   2.1236,2,  2137.8,2,  2274.6,2,   7.7167,2,    25.00, -999.00,9,  -999.0,9,  -999.0,   4.0826,2, -999.00,9,    44.4,2,   24.00,2, -999.00,9,    13.8261,2, -999.00,9,  -999.0,9,     -999.0,     -999.0,9,     -999.0,9,     -999.0,     -999.0,9,     -999.0,     -999.0,9,     -999.0,     -999.0,     -999.0,9,     -999.0,9,     -999.0,9,     -999.0,9,     -999.0,9,     -999.0,9,     -999.0,9,     -999.0,9
33RO20161119,        P18,     167,          1,         18,      11117,2,20170114,       1023,   -49.4998,  -103.0004,       4109,   363.1,   6.3122,  34.2683,2,  34.2694,2,    272.4,2,   272.7,2,     6.2,2,    20.4,2,    0.02,2,   1.485,2,   4.0547,2,   2.2793,2,   2.2549,2,  2136.0,2,  2275.6,2,   7.7244,2,    25.00, -999.00,9,  -999.0,9,  -999.0,   4.3163,2, -999.00,9,    44.1,2,   23.70,2, -999.00,9,    13.8728,2, -999.00,9,  -999.0,9,     -999.0,     -999.0,9,     -999.0,9,     -999.0,     -999.0,9,     -999.0,     -999.0,9,     -999.0,     -999.0,     -999.0,9,     -999.0,9,     -999.0,9,     -999.0,9,     -999.0,9,     -999.0,9,     -999.0,9,     -999.0,9
33RO20161119,        P18,     167,          1,         19,      11083,2,20170114,       1023,   -49.4998,  -103.0004,       4109,   269.5,   6.5070,  34.2789,2,  34.2863,2,    272.3,2,   271.4,2,     5.8,2,    19.8,2,    0.02,2,   1.452,2,   4.0174,2,   2.2807,2,   2.2746,2,  2134.7,2,  2273.6,2,   7.7228,2,    25.00, -999.00,9,  -999.0,9,  -999.0,   0.0706,2, -999.00,9,    45.3,2,   22.10,2, -999.00,9,    14.3431,2, -999.00,9,  -999.0,9,     -999.0,     -999.0,9,     -999.0,9,     -999.0,     -999.0,9,     -999.0,     -999.0,9,     -999.0,     -999.0,     -999.0,9,     -999.0,9,     -999.0,9,     -999.0,9,     -999.0,9,     -999.0,9,     -999.0,9,     -999.0,9
33RO20161119,        P18,     167,          1,         20,      11118,2,20170114,       1023,   -49.4998,  -103.0004,       4109,   181.8,   6.7875,  34.2531,2,  34.2519,2,    273.6,2,   273.3,2,     4.5,2,    18.7,2,    0.03,2,   1.392,2,   4.0009,2,   2.2742,2,   2.4190,2,  2130.3,2,  2272.5,2,   7.7300,2,    25.00, -999.00,9,  -999.0,9,  -999.0,   0.0668,2, -999.00,9,    46.8,2,   22.30,2, -999.00,9,    15.2446,2, -999.00,9,  -999.0,9,     -999.0,     -999.0,9,     -999.0,9,     -999.0,     -999.0,9,     -999.0,     -999.0,9,     -999.0,     -999.0,     -999.0,9,     -999.0,9,     -999.0,9,     -999.0,9,     -999.0,9,     -999.0,9,     -999.0,9,     -999.0,9
33RO20161119,        P18,     167,          1,         21,      11119,2,20170114,       1023,   -49.4998,  -103.0004,       4109,   104.2,   7.5989,  34.1428,2,  34.1419,2,    288.3,2,   286.2,2,     2.3,2,    14.6,2,    0.22,2,   1.205,2,   3.8426,2,   2.2031,2,   2.6267,2,  2106.6,2,  2268.0,2,   7.7749,2,    25.00, -999.00,9,  -999.0,9,  -999.0,   0.0669,2, -999.00,9,    50.4,2,   18.40,2, -999.00,9,    12.2693,2, -999.00,9,  -999.0,9,     -999.0,     -999.0,9,     -999.0,9,     -999.0,     -999.0,9,     -999.0,     -999.0,9,     -999.0,     -999.0,     -999.0,9,     -999.0,9,     -999.0,9,     -999.0,9,     -999.0,9,     -999.0,9,     -999.0,9,     -999.0,9
33RO20161119,        P18,     167,          1,         22,      11120,2,20170114,       1023,   -49.4998,  -103.0004,       4109,    50.1,   9.5625,  34.1215,2,  34.1246,2,    285.3,2,   284.9,2,     0.4,2,    13.0,2,    0.21,2,   1.068,2,   3.5763,2,   2.0641,2,   2.5124,2,  2092.2,2,  2265.6,6,   7.8105,2,    25.00, -999.00,9,  -999.0,9,  -999.0,   0.0708,2, -999.00,9,    55.2,2,   16.70,2, -999.00,9,    10.8781,2, -999.00,9,  -999.0,9,     -999.0,     -999.0,9,     -999.0,9,     -999.0,     -999.0,9,     -999.0,     -999.0,9,     -999.0,     -999.0,     -999.0,9,     -999.0,9,     -999.0,9,     -999.0,9,     -999.0,9,     -999.0,9,     -999.0,9,     -999.0,9
33RO20161119,        P18,     167,          1,         23,      11121,2,20170114,       1023,   -49.4998,  -103.0004,       4109,    19.5,  10.1005,  34.1045,2,  34.1042,2,    280.6,2,   279.9,2,     1.1,2,    13.1,2,    0.20,2,   1.083,2,-999.0000,9,-999.0000,9,-999.0000,9,  2089.6,2,  2268.6,2,   7.8125,2,    25.00, -999.00,9,  -999.0,9,  -999.0,-999.0000,9, -999.00,9,    50.5,2,   17.50,2, -999.00,9,     -999.0,9, -999.00,9,  -999.0,9,     -999.0,     -999.0,9,     -999.0,9,     -999.0,     -999.0,9,     -999.0,     -999.0,9,     -999.0,     -999.0,     -999.0,9,     -999.0,9,     -999.0,9,     -999.0,9,     -999.0,9,     -999.0,9,     -999.0,9,     -999.0,9
33RO20161119,        P18,     167,          1,         24,      11122,2,20170114,       1023,   -49.4998,  -103.0004,       4109,     7.0,  10.1057,  34.1046,2,  34.1041,2,    280.0,2,   280.0,2,     1.1,2,    13.1,2,    0.20,2,   1.085,2,   3.4802,2,   2.0126,2,   2.4260,2,  2090.4,6,  2268.7,2,   7.8112,2,    25.00, -999.00,9,  -999.0,9,  -999.0,   0.0452,2, -999.00,9,    51.5,2,   16.20,2, -999.00,9,    10.6885,2, -999.00,9,  -999.0,9,     -999.0,     -999.0,9,     -999.0,9,     -999.0,     -999.0,9,     -999.0,     -999.0,9,     -999.0,     -999.0,     -999.0,9,     -999.0,9,     -999.0,9,     -999.0,9,     -999.0,9,     -999.0,9,     -999.0,9,     -999.0,9