BOTTLE,20230606CCHSIOCBG
EXPOCODE,SECT_ID,STNNBR,CASTNO,SAMPNO,BTLNBR,BTLNBR_FLAG_W,DATE,TIME,LATITUDE,LONGITUDE,DEPTH,CTDPRS,CTDTMP,CTDSAL,CTDSAL_FLAG_W,SALNTY,SALNTY_FLAG_W,CTDOXY,CTDOXY_FLAG_W,OXYGEN,OXYGEN_FLAG_W,SILCAT,SILCAT_FLAG_W,NITRAT,NITRAT_FLAG_W,NITRIT,NITRIT_FLAG_W,PHSPHT,PHSPHT_FLAG_W,CFC-11,CFC-11_FLAG_W,CFC-12,CFC-12_FLAG_W,SF6,SF6_FLAG_W,TCARBN,TCARBN_FLAG_W,ALKALI,ALKALI_FLAG_W,PH_SWS,PH_SWS_FLAG_W,PH_TMP,DELC13,DELC13_FLAG_W,DELC14,DELC14_FLAG_W,C14ERR,CCL4,CCL4_FLAG_W,POC,POC_FLAG_W,DOC,DOC_FLAG_W,TDN,TDN_FLAG_W,PON,PON_FLAG_W,N2O,N2O_FLAG_W,D15N_NO3,D15N_NO3_FLAG_W,14C-DOC,14C-DOC_FLAG_W,14C-DOCERR,13C-DOC,13C-DOC_FLAG_W,N2/ARGON_UNSTRIPPED,N2/ARGON_UNSTRIPPED_FLAG_W,N2/ARGON_UNSTRIPPED_ERROR,N2/ARGON,N2/ARGON_FLAG_W,N2/ARGON_ERROR,D15N_N2,D15N_N2_FLAG_W,D15N_N2_ERROR,D15N_NO3_ERROR,D15N_NO2+NO3,D15N_NO2+NO3_FLAG_W,D18O_NO2+NO3,D18O_NO2+NO3_FLAG_W,D18O_NO3,D18O_NO3_FLAG_W,TDP,TDP_FLAG_W,N2O_ALT_1,N2O_ALT_1_FLAG_W,D15N_N2O,D15N_N2O_FLAG_W,D18O_N2O,D18O_N2O_FLAG_W,D15N_ALPHA_N2O,D15N_ALPHA_N2O_FLAG_W
,,,,,,,,,,,METERS,DBAR,ITS-90,PSS-78,,PSS-78,,UMOL/KG,,UMOL/KG,,UMOL/KG,,UMOL/KG,,UMOL/KG,,UMOL/KG,,PMOL/KG,,PMOL/KG,,FMOL/KG,,UMOL/KG,,UMOL/KG,,,,DEG C,/MILLE,,/MILLE,,/MILLE,PMOL/KG,,UG/KG,,UMOL/KG,,UMOL/KG,,UG/KG,,NMOL/KG,,/MILLE,,/MILLE,,/MILLE,/MILLE,,,,,,,,/MILLE,,/MILLE,/MILLE,/MILLE,,/MILLE,,/MILLE,,UMOL/KG,,NMOL/L,,/MILLE,,/MILLE,,/MILLE,
33RO20161119,        P18,      54,          1,          1,      11010,2,20161207,       0001,     0.2503,  -109.9979,       3812,  3849.2,   1.4818,  34.6909,2,  34.6909,2,    152.7,2,   159.1,4,   145.6,6,    36.3,6,    0.00,6,   2.439,6,-999.0000,9,-999.0000,9,-999.0000,9,  -999.0,9,  -999.0,9,-999.0000,9,  -999.00, -999.00,9,  -999.0,9,  -999.0,-999.0000,9, -999.00,9,  -999.0,9, -999.00,9, -999.00,9,     -999.0,9, -999.00,9,  -999.0,9,     -999.0,     -999.0,9,     -999.0,9,     -999.0,     -999.0,9,     -999.0,     -999.0,9,     -999.0,     -999.0,     -999.0,9,     -999.0,9,     -999.0,9,     -999.0,9,     -999.0,9,     -999.0,9,     -999.0,9,     -999.0,9
33RO20161119,        P18,      54,          1,          2,      11101,2,20161207,       0001,     0.2503,  -109.9979,       3812,  3519.8,   1.5584,  34.6846,2,  34.6832,2,    144.0,2,   144.1,2,   146.4,6,    36.9,6,    0.00,6,   2.491,6,-999.0000,9,-999.0000,9,-999.0000,9,  -999.0,9,  -999.0,9,-999.0000,9,  -999.00, -999.00,9,  -999.0,9,  -999.0,-999.0000,9, -999.00,9,  -999.0,9, -999.00,9, -999.00,9,     -999.0,9, -999.00,9,  -999.0,9,     -999.0,     -999.0,9,     -999.0,9,     -999.0,     -999.0,9,     -999.0,     -999.0,9,     -999.0,     -999.0,     -999.0,9,     -999.0,9,     -999.0,9,     -999.0,9,     -999.0,9,     -999.0,9,     -999.0,9,     -999.0,9
33RO20161119,        P18,      54,          1,          3,      11102,2,20161207,       0001,     0.2503,  -109.9979,       3812,  3199.6,   1.6179,  34.6793,2,  34.6783,2,    138.3,2,   137.9,2,   145.0,6,    37.2,6,    0.00,6,   2.524,6,-999.0000,9,-999.0000,9,-999.0000,9,  -999.0,9,  -999.0,9,-999.0000,9,  -999.00, -999.00,9,  -999.0,9,  -999.0,-999.0000,9, -999.00,9,  -999.0,9, -999.00,9, -999.00,9,     -999.0,9, -999.00,9,  -999.0,9,     -999.0,     -999.0,9,     -999.0,9,     -999.0,     -999.0,9,     -999.0,     -999.0,9,     -999.0,     -999.0,     -999.0,9,     -999.0,9,     -999.0,9,     -999.0,9,     -999.0,9,     -999.0,9,     -999.0,9,     -999.0,9
33RO20161119,        P18,      54,          1,          4,      11103,2,20161207,       0001,     0.2503,  -109.9979,       3812,  2925.3,   1.7538,  34.6725,2,  34.6720,2,    129.7,2,   129.3,2,   145.2,6,    37.8,6,    0.00,6,   2.574,6,-999.0000,9,-999.0000,9,-999.0000,9,  -999.0,9,  -999.0,9,-999.0000,9,  -999.00, -999.00,9,  -999.0,9,  -999.0,-999.0000,9, -999.00,9,  -999.0,9, -999.00,9, -999.00,9,     -999.0,9, -999.00,9,  -999.0,9,     -999.0,     -999.0,9,     -999.0,9,     -999.0,     -999.0,9,     -999.0,     -999.0,9,     -999.0,     -999.0,     -999.0,9,     -999.0,9,     -999.0,9,     -999.0,9,     -999.0,9,     -999.0,9,     -999.0,9,     -999.0,9
33RO20161119,        P18,      54,          1,          5,      11104,2,20161207,       0001,     0.2503,  -109.9979,       3812,  2622.1,   1.8526,  34.6659,2,  34.6649,2,    123.0,2,   121.9,2,   143.5,2,    38.2,2,    0.00,2,   2.611,2,-999.0000,9,-999.0000,9,-999.0000,9,  -999.0,9,  -999.0,9,-999.0000,9,  -999.00, -999.00,9,  -999.0,9,  -999.0,-999.0000,9, -999.00,9,  -999.0,9, -999.00,9, -999.00,9,     -999.0,9, -999.00,9,  -999.0,9,     -999.0,     -999.0,9,     -999.0,9,     -999.0,     -999.0,9,     -999.0,     -999.0,9,     -999.0,     -999.0,     -999.0,9,     -999.0,9,     -999.0,9,     -999.0,9,     -999.0,9,     -999.0,9,     -999.0,9,     -999.0,9
33RO20161119,        P18,      54,          1,          6,      11105,2,20161207,       0001,     0.2503,  -109.9979,       3812,  2340.1,   1.9446,  34.6595,2,  34.6608,2,    116.7,2,   117.1,2,   142.2,2,    38.5,2,    0.00,2,   2.649,2,-999.0000,9,-999.0000,9,-999.0000,9,  -999.0,9,  -999.0,9,-999.0000,9,  -999.00, -999.00,9,  -999.0,9,  -999.0,-999.0000,9, -999.00,9,  -999.0,9, -999.00,9, -999.00,9,     -999.0,9, -999.00,9,  -999.0,9,     -999.0,     -999.0,9,     -999.0,9,     -999.0,     -999.0,9,     -999.0,     -999.0,9,     -999.0,     -999.0,     -999.0,9,     -999.0,9,     -999.0,9,     -999.0,9,     -999.0,9,     -999.0,9,     -999.0,9,     -999.0,9
33RO20161119,        P18,      54,          1,          7,      11106,2,20161207,       0001,     0.2503,  -109.9979,       3812,  2040.7,   2.2326,  34.6450,2,  34.6437,2,    105.2,2,   104.9,2,   138.0,2,    39.3,2,    0.00,2,   2.726,2,-999.0000,9,-999.0000,9,-999.0000,9,  -999.0,9,  -999.0,9,-999.0000,9,  -999.00, -999.00,9,  -999.0,9,  -999.0,-999.0000,9, -999.00,9,  -999.0,9, -999.00,9, -999.00,9,     -999.0,9, -999.00,9,  -999.0,9,     -999.0,     -999.0,9,     -999.0,9,     -999.0,     -999.0,9,     -999.0,     -999.0,9,     -999.0,     -999.0,     -999.0,9,     -999.0,9,     -999.0,9,     -999.0,9,     -999.0,9,     -999.0,9,     -999.0,9,     -999.0,9
33RO20161119,        P18,      54,          1,          8,      11107,2,20161207,       0001,     0.2503,  -109.9979,       3812,  1750.5,   2.6402,  34.6236,2,  34.6229,2,     95.9,2,    95.6,2,   128.4,2,    39.9,2,    0.00,2,   2.786,2,-999.0000,9,-999.0000,9,-999.0000,9,  -999.0,9,  -999.0,9,-999.0000,9,  -999.00, -999.00,9,  -999.0,9,  -999.0,-999.0000,9, -999.00,9,  -999.0,9, -999.00,9, -999.00,9,     -999.0,9, -999.00,9,  -999.0,9,     -999.0,     -999.0,9,     -999.0,9,     -999.0,     -999.0,9,     -999.0,     -999.0,9,     -999.0,     -999.0,     -999.0,9,     -999.0,9,     -999.0,9,     -999.0,9,     -999.0,9,     -999.0,9,     -999.0,9,     -999.0,9
33RO20161119,        P18,      54,          1,          9,      11108,2,20161207,       0001,     0.2503,  -109.9979,       3812,  1460.1,   3.1894,  34.5996,2,  34.5991,2,     86.4,2,    86.0,2,   115.2,2,    40.5,2,    0.00,2,   2.842,2,-999.0000,9,-999.0000,9,-999.0000,9,  -999.0,9,  -999.0,9,-999.0000,9,  -999.00, -999.00,9,  -999.0,9,  -999.0,-999.0000,9, -999.00,9,  -999.0,9, -999.00,9, -999.00,9,     -999.0,9, -999.00,9,  -999.0,9,     -999.0,     -999.0,9,     -999.0,9,     -999.0,     -999.0,9,     -999.0,     -999.0,9,     -999.0,     -999.0,     -999.0,9,     -999.0,9,     -999.0,9,     -999.0,9,     -999.0,9,     -999.0,9,     -999.0,9,     -999.0,9
33RO20161119,        P18,      54,          1,         10,      11109,2,20161207,       0001,     0.2503,  -109.9979,       3812,  1270.0,   3.7475,  34.5805,2,  34.5808,2,     79.5,2,    79.0,2,   102.4,2,    40.8,2,    0.00,2,   2.868,2,-999.0000,9,-999.0000,9,-999.0000,9,  -999.0,9,  -999.0,9,   7.4515,2,    25.00, -999.00,9,  -999.0,9,  -999.0,-999.0000,9, -999.00,9,  -999.0,9, -999.00,9, -999.00,9,     -999.0,9, -999.00,9,  -999.0,9,     -999.0,     -999.0,9,     -999.0,9,     -999.0,     -999.0,9,     -999.0,     -999.0,9,     -999.0,     -999.0,     -999.0,9,     -999.0,9,     -999.0,9,     -999.0,9,     -999.0,9,     -999.0,9,     -999.0,9,     -999.0,9
33RO20161119,        P18,      54,          1,         11,      11110,2,20161207,       0001,     0.2503,  -109.9979,       3812,  1139.7,   4.2266,  34.5642,2,  34.5639,2,     79.2,2,    78.2,2,    90.7,2,    40.5,2,    0.00,2,   2.846,2,-999.0000,9,-999.0000,9,-999.0000,9,  -999.0,9,  -999.0,9,   7.4511,2,    25.00, -999.00,9,  -999.0,9,  -999.0,-999.0000,9, -999.00,9,  -999.0,9, -999.00,9, -999.00,9,     -999.0,9, -999.00,9,  -999.0,9,     -999.0,     -999.0,9,     -999.0,9,     -999.0,     -999.0,9,     -999.0,     -999.0,9,     -999.0,     -999.0,     -999.0,9,     -999.0,9,     -999.0,9,     -999.0,9,     -999.0,9,     -999.0,9,     -999.0,9,     -999.0,9
33RO20161119,        P18,      54,          1,         12,      11111,2,20161207,       0001,     0.2503,  -109.9979,       3812,  1010.5,   4.8546,  34.5536,2,  34.5535,2,     73.4,2,    72.9,2,    78.3,2,    40.5,2,    0.00,2,   2.839,2,-999.0000,9,-999.0000,9,-999.0000,9,  -999.0,9,  -999.0,9,   7.4425,2,    25.00, -999.00,9,  -999.0,9,  -999.0,-999.0000,9, -999.00,9,  -999.0,9, -999.00,9, -999.00,9,     -999.0,9, -999.00,9,  -999.0,9,     -999.0,     -999.0,9,     -999.0,9,     -999.0,     -999.0,9,     -999.0,     -999.0,9,     -999.0,     -999.0,     -999.0,9,     -999.0,9,     -999.0,9,     -999.0,9,     -999.0,9,     -999.0,9,     -999.0,9,     -999.0,9
33RO20161119,        P18,      54,          1,         13,      11112,2,20161207,       0001,     0.2503,  -109.9979,       3812,   890.3,   5.3834,  34.5461,2,  34.5457,2,     75.7,2,    74.4,2,    67.5,2,    39.7,2,    0.00,2,   2.773,2,-999.0000,9,-999.0000,9,-999.0000,9,  2286.6,2,  2336.8,2,   7.4486,2,    25.00, -999.00,9,  -999.0,9,  -999.0,-999.0000,9, -999.00,9,  -999.0,9, -999.00,9, -999.00,9,     -999.0,9, -999.00,9,  -999.0,9,     -999.0,     -999.0,9,     -999.0,9,     -999.0,     -999.0,9,     -999.0,     -999.0,9,     -999.0,     -999.0,     -999.0,9,     -999.0,9,     -999.0,9,     -999.0,9,     -999.0,9,     -999.0,9,     -999.0,9,     -999.0,9
33RO20161119,        P18,      54,          1,         14,      11113,2,20161207,       0001,     0.2503,  -109.9979,       3812,   775.2,   5.9089,  34.5467,2,  34.5484,2,     76.2,2,    74.7,2,    58.0,2,    39.1,2,    0.00,2,   2.716,2,-999.0000,9,-999.0000,9,-999.0000,9,  2274.6,2,  2322.2,2,   7.4569,2,    25.00, -999.00,9,  -999.0,9,  -999.0,-999.0000,9, -999.00,9,  -999.0,9, -999.00,9, -999.00,9,     -999.0,9, -999.00,9,  -999.0,9,     -999.0,     -999.0,9,     -999.0,9,     -999.0,     -999.0,9,     -999.0,     -999.0,9,     -999.0,     -999.0,     -999.0,9,     -999.0,9,     -999.0,9,     -999.0,9,     -999.0,9,     -999.0,9,     -999.0,9,     -999.0,9
33RO20161119,        P18,      54,          1,         15,      11114,2,20161207,       0001,     0.2503,  -109.9979,       3812,   659.7,   7.2351,  34.5844,2,  34.5834,2,     55.4,2,    55.1,2,    45.0,2,    39.0,2,    0.00,2,   2.677,2,-999.0000,9,-999.0000,9,-999.0000,9,  2267.8,2,  2308.5,2,   7.4357,2,    25.00, -999.00,9,  -999.0,9,  -999.0,-999.0000,9, -999.00,9,  -999.0,9, -999.00,9, -999.00,9,     -999.0,9, -999.00,9,  -999.0,9,     -999.0,     -999.0,9,     -999.0,9,     -999.0,     -999.0,9,     -999.0,     -999.0,9,     -999.0,     -999.0,     -999.0,9,     -999.0,9,     -999.0,9,     -999.0,9,     -999.0,9,     -999.0,9,     -999.0,9,     -999.0,9
33RO20161119,        P18,      54,          1,         16,      11115,2,20161207,       0001,     0.2503,  -109.9979,       3812,   544.8,   8.1515,  34.6277,2,  34.6264,2,     34.7,2,    32.7,2,    41.2,2,    39.1,2,    0.00,2,   2.698,2,-999.0000,9,-999.0000,9,-999.0000,9,  2273.2,2,  2308.4,2,   7.4068,6,    25.00, -999.00,9,  -999.0,9,  -999.0,-999.0000,9, -999.00,9,  -999.0,9, -999.00,9, -999.00,9,     -999.0,9, -999.00,9,  -999.0,9,     -999.0,     -999.0,9,     -999.0,9,     -999.0,     -999.0,9,     -999.0,     -999.0,9,     -999.0,     -999.0,     -999.0,9,     -999.0,9,     -999.0,9,     -999.0,9,     -999.0,9,     -999.0,9,     -999.0,9,     -999.0,9
33RO20161119,        P18,      54,          1,         17,      11116,2,20161207,       0001,     0.2503,  -109.9979,       3812,   445.5,   9.5064,  34.7006,2,  34.6995,2,     14.3,2,    13.7,6,    36.0,2,    37.9,2,    0.01,2,   2.611,2,-999.0000,9,-999.0000,9,-999.0000,9,  2273.6,2,  2303.8,2,   7.3885,2,    25.00, -999.00,9,  -999.0,9,  -999.0,-999.0000,9, -999.00,9,  -999.0,9, -999.00,9, -999.00,9,     -999.0,9, -999.00,9,  -999.0,9,     -999.0,     -999.0,9,     -999.0,9,     -999.0,     -999.0,9,     -999.0,     -999.0,9,     -999.0,     -999.0,     -999.0,9,     -999.0,9,     -999.0,9,     -999.0,9,     -999.0,9,     -999.0,9,     -999.0,9,     -999.0,9
33RO20161119,        P18,      54,          1,         18,      11117,2,20161207,       0001,     0.2503,  -109.9979,       3812,   345.4,  10.5933,  34.7644,2,  34.7681,2,     11.3,2,     8.9,6,    31.9,2,    35.8,2,    0.01,2,   2.505,2,-999.0000,9,-999.0000,9,-999.0000,9,  2267.3,2,  2301.9,2,   7.4024,2,    25.00, -999.00,9,  -999.0,9,  -999.0,-999.0000,9, -999.00,9,  -999.0,9, -999.00,9, -999.00,9,     -999.0,9, -999.00,9,  -999.0,9,     -999.0,     -999.0,9,     -999.0,9,     -999.0,     -999.0,9,     -999.0,     -999.0,9,     -999.0,     -999.0,     -999.0,9,     -999.0,9,     -999.0,9,     -999.0,9,     -999.0,9,     -999.0,9,     -999.0,9,     -999.0,9
33RO20161119,        P18,      54,          1,         19,      11083,2,20161207,       0001,     0.2503,  -109.9979,       3812,   280.2,  11.5067,  34.8183,2,  34.8182,2,     20.7,2,    19.5,2,    27.8,2,    33.5,2,    0.01,2,   2.331,2,-999.0000,9,-999.0000,9,-999.0000,9,  2255.0,2,  2298.8,2,   7.4449,2,    25.00, -999.00,9,  -999.0,9,  -999.0,-999.0000,9, -999.00,9,  -999.0,9, -999.00,9, -999.00,9,     -999.0,9, -999.00,9,  -999.0,9,     -999.0,     -999.0,9,     -999.0,9,     -999.0,     -999.0,9,     -999.0,     -999.0,9,     -999.0,     -999.0,     -999.0,9,     -999.0,9,     -999.0,9,     -999.0,9,     -999.0,9,     -999.0,9,     -999.0,9,     -999.0,9
33RO20161119,        P18,      54,          1,         20,      11118,2,20161207,       0001,     0.2503,  -109.9979,       3812,   194.9,  12.6650,  34.8800,2,  34.8814,2,     78.7,2,    76.5,2,    20.0,2,    26.0,2,    0.01,2,   1.819,2,-999.0000,9,-999.0000,9,-999.0000,9,  2201.8,2,  2300.4,2,   7.6013,2,    25.00, -999.00,9,  -999.0,9,  -999.0,-999.0000,9, -999.00,9,  -999.0,9, -999.00,9, -999.00,9,     -999.0,9, -999.00,9,  -999.0,9,     -999.0,     -999.0,9,     -999.0,9,     -999.0,     -999.0,9,     -999.0,     -999.0,9,     -999.0,     -999.0,     -999.0,9,     -999.0,9,     -999.0,9,     -999.0,9,     -999.0,9,     -999.0,9,     -999.0,9,     -999.0,9
33RO20161119,        P18,      54,          1,         21,      11119,2,20161207,       0001,     0.2503,  -109.9979,       3812,   120.6,  13.9840,  34.8956,2,  34.8967,2,     95.5,2,    96.1,2,    16.8,2,    22.1,2,    0.01,2,   1.571,2,-999.0000,9,-999.0000,9,-999.0000,9,  2176.8,2,  2299.1,2,   7.6692,2,    25.00, -999.00,9,  -999.0,9,  -999.0,-999.0000,9, -999.00,9,  -999.0,9, -999.00,9, -999.00,9,     -999.0,9, -999.00,9,  -999.0,9,     -999.0,     -999.0,9,     -999.0,9,     -999.0,     -999.0,9,     -999.0,     -999.0,9,     -999.0,     -999.0,     -999.0,9,     -999.0,9,     -999.0,9,     -999.0,9,     -999.0,9,     -999.0,9,     -999.0,9,     -999.0,9
33RO20161119,        P18,      54,          1,         22,      11120,2,20161207,       0001,     0.2503,  -109.9979,       3812,    60.5,  15.7780,  34.8821,2,  34.8934,2,     82.2,2,    82.9,2,    14.3,2,    21.5,2,    0.09,2,   1.553,2,-999.0000,9,-999.0000,9,-999.0000,9,  2170.2,2,  2295.8,2,   7.6743,2,    25.00, -999.00,9,  -999.0,9,  -999.0,-999.0000,9, -999.00,9,  -999.0,9, -999.00,9, -999.00,9,     -999.0,9, -999.00,9,  -999.0,9,     -999.0,     -999.0,9,     -999.0,9,     -999.0,     -999.0,9,     -999.0,     -999.0,9,     -999.0,     -999.0,     -999.0,9,     -999.0,9,     -999.0,9,     -999.0,9,     -999.0,9,     -999.0,9,     -999.0,9,     -999.0,9
33RO20161119,        P18,      54,          1,         23,      11121,2,20161207,       0001,     0.2503,  -109.9979,       3812,    25.0,  19.9843,  34.7736,2,  34.7809,2,    166.1,2,   160.9,2,     8.7,2,    13.7,2,    0.40,2,   1.080,2,-999.0000,9,-999.0000,9,-999.0000,9,  2103.2,2,  2293.0,2,   7.8280,2,    25.00, -999.00,9,  -999.0,9,  -999.0,-999.0000,9, -999.00,9,  -999.0,9, -999.00,9, -999.00,9,     -999.0,9, -999.00,9,  -999.0,9,     -999.0,     -999.0,9,     -999.0,9,     -999.0,     -999.0,9,     -999.0,     -999.0,9,     -999.0,     -999.0,     -999.0,9,     -999.0,9,     -999.0,9,     -999.0,9,     -999.0,9,     -999.0,9,     -999.0,9,     -999.0,9
33RO20161119,        P18,      54,          1,         24,      11122,2,20161207,       0001,     0.2503,  -109.9979,       3812,     3.2,  22.1206,  34.8676,2,  34.8678,2,    198.8,2,   200.5,2,     7.3,2,    10.8,2,    0.26,2,   0.874,2,-999.0000,9,-999.0000,9,-999.0000,9,  2083.1,6,  2296.9,2,   7.8780,2,    25.00, -999.00,9,  -999.0,9,  -999.0,-999.0000,9, -999.00,9,  -999.0,9, -999.00,9, -999.00,9,     -999.0,9, -999.00,9,  -999.0,9,     -999.0,     -999.0,9,     -999.0,9,     -999.0,     -999.0,9,     -999.0,     -999.0,9,     -999.0,     -999.0,     -999.0,9,     -999.0,9,     -999.0,9,     -999.0,9,     -999.0,9,     -999.0,9,     -999.0,9,     -999.0,9