BOTTLE,20230606CCHSIOCBG
EXPOCODE,SECT_ID,STNNBR,CASTNO,SAMPNO,BTLNBR,BTLNBR_FLAG_W,DATE,TIME,LATITUDE,LONGITUDE,DEPTH,CTDPRS,CTDTMP,CTDSAL,CTDSAL_FLAG_W,SALNTY,SALNTY_FLAG_W,CTDOXY,CTDOXY_FLAG_W,OXYGEN,OXYGEN_FLAG_W,SILCAT,SILCAT_FLAG_W,NITRAT,NITRAT_FLAG_W,NITRIT,NITRIT_FLAG_W,PHSPHT,PHSPHT_FLAG_W,CFC-11,CFC-11_FLAG_W,CFC-12,CFC-12_FLAG_W,SF6,SF6_FLAG_W,TCARBN,TCARBN_FLAG_W,ALKALI,ALKALI_FLAG_W,PH_SWS,PH_SWS_FLAG_W,PH_TMP,DELC13,DELC13_FLAG_W,DELC14,DELC14_FLAG_W,C14ERR,CCL4,CCL4_FLAG_W,POC,POC_FLAG_W,DOC,DOC_FLAG_W,TDN,TDN_FLAG_W,PON,PON_FLAG_W,N2O,N2O_FLAG_W,D15N_NO3,D15N_NO3_FLAG_W,14C-DOC,14C-DOC_FLAG_W,14C-DOCERR,13C-DOC,13C-DOC_FLAG_W,N2/ARGON_UNSTRIPPED,N2/ARGON_UNSTRIPPED_FLAG_W,N2/ARGON_UNSTRIPPED_ERROR,N2/ARGON,N2/ARGON_FLAG_W,N2/ARGON_ERROR,D15N_N2,D15N_N2_FLAG_W,D15N_N2_ERROR,D15N_NO3_ERROR,D15N_NO2+NO3,D15N_NO2+NO3_FLAG_W,D18O_NO2+NO3,D18O_NO2+NO3_FLAG_W,D18O_NO3,D18O_NO3_FLAG_W,TDP,TDP_FLAG_W,N2O_ALT_1,N2O_ALT_1_FLAG_W,D15N_N2O,D15N_N2O_FLAG_W,D18O_N2O,D18O_N2O_FLAG_W,D15N_ALPHA_N2O,D15N_ALPHA_N2O_FLAG_W
,,,,,,,,,,,METERS,DBAR,ITS-90,PSS-78,,PSS-78,,UMOL/KG,,UMOL/KG,,UMOL/KG,,UMOL/KG,,UMOL/KG,,UMOL/KG,,PMOL/KG,,PMOL/KG,,FMOL/KG,,UMOL/KG,,UMOL/KG,,,,DEG C,/MILLE,,/MILLE,,/MILLE,PMOL/KG,,UG/KG,,UMOL/KG,,UMOL/KG,,UG/KG,,NMOL/KG,,/MILLE,,/MILLE,,/MILLE,/MILLE,,,,,,,,/MILLE,,/MILLE,/MILLE,/MILLE,,/MILLE,,/MILLE,,UMOL/KG,,NMOL/L,,/MILLE,,/MILLE,,/MILLE,
33RO20161119,        P18,     153,          1,          1,      11010,2,20170110,       1513,   -42.5009,  -102.9977,       3792,  3825.0,   1.2317,  34.7081,2,  34.7071,2,    190.2,2,   190.5,2,   122.2,2,    32.4,2,    0.00,2,   2.280,2,   0.0102,2,   0.0023,2,   0.0000,2,  2282.2,6,  2383.3,2,   7.6046,6,    25.00, -999.00,9,  -999.0,9,  -999.0,   0.9136,2, -999.00,9,    39.0,2,   34.10,2, -999.00,9,    19.3529,2, -999.00,9,  -999.0,9,     -999.0,     -999.0,9,     -999.0,9,     -999.0,     -999.0,9,     -999.0,     -999.0,9,     -999.0,     -999.0,     -999.0,9,     -999.0,9,     -999.0,9,     -999.0,9,     -999.0,9,     -999.0,9,     -999.0,9,     -999.0,9
33RO20161119,        P18,     153,          1,          2,      11101,2,20170110,       1513,   -42.5009,  -102.9977,       3792,  3613.5,   1.2522,  34.7080,2,  34.7073,2,    188.7,2,   188.7,2,   120.7,2,    32.6,2,    0.00,2,   2.288,2,-999.0000,9,-999.0000,9,-999.0000,9,  2282.2,2,  2382.8,2,   7.6031,2,    25.00, -999.00,9,  -999.0,9,  -999.0,-999.0000,9, -999.00,9,    39.5,2,   35.10,2, -999.00,9,     -999.0,9, -999.00,9,  -999.0,9,     -999.0,     -999.0,9,     -999.0,9,     -999.0,     -999.0,9,     -999.0,     -999.0,9,     -999.0,     -999.0,     -999.0,9,     -999.0,9,     -999.0,9,     -999.0,9,     -999.0,9,     -999.0,9,     -999.0,9,     -999.0,9
33RO20161119,        P18,     153,          1,          3,      11102,2,20170110,       1513,   -42.5009,  -102.9977,       3792,  3401.2,   1.3943,  34.7081,2,-999.0000,9,    184.5,2,   184.5,2,   117.7,6,    32.6,6,    0.00,6,   2.308,6,   0.0072,2,   0.0032,2,   0.0000,2,  2279.1,2,  2379.1,6,   7.5966,6,    25.00, -999.00,9,  -999.0,9,  -999.0,    0.831,2, -999.00,9,    41.3,2,   35.50,2, -999.00,9,    19.2307,2, -999.00,9,  -999.0,9,     -999.0,     -999.0,9,     -999.0,9,     -999.0,     -999.0,9,     -999.0,     -999.0,9,     -999.0,     -999.0,     -999.0,9,     -999.0,9,     -999.0,9,     -999.0,9,     -999.0,9,     -999.0,9,     -999.0,9,     -999.0,9
33RO20161119,        P18,     153,          1,          4,      11103,2,20170110,       1513,   -42.5009,  -102.9977,       3792,  3077.0,   1.6093,  34.7076,2,  34.7074,2,    179.0,2,   179.0,6,   111.2,6,    32.6,6,    0.01,6,   2.303,6,-999.0000,9,-999.0000,9,-999.0000,9,  2277.7,2,  2371.0,2,   7.5886,2,    25.00, -999.00,9,  -999.0,9,  -999.0,-999.0000,9, -999.00,9,    38.6,2,   37.20,2, -999.00,9,     -999.0,9, -999.00,9,  -999.0,9,     -999.0,     -999.0,9,     -999.0,9,     -999.0,     -999.0,9,     -999.0,     -999.0,9,     -999.0,     -999.0,     -999.0,9,     -999.0,9,     -999.0,9,     -999.0,9,     -999.0,9,     -999.0,9,     -999.0,9,     -999.0,9
33RO20161119,        P18,     153,          1,          5,      11104,2,20170110,       1513,   -42.5009,  -102.9977,       3792,  2776.7,   1.7304,  34.7024,2,  34.7015,2,    173.9,2,   174.6,2,   109.0,6,    32.8,6,    0.01,6,   2.326,6,   0.0187,2,   0.0086,2,   0.0000,2,  2280.6,2,  2371.3,2,   7.5834,2,    25.00, -999.00,9,  -999.0,9,  -999.0,   1.8407,2, -999.00,9,    38.1,2,   36.00,2, -999.00,9,    20.4216,2, -999.00,9,  -999.0,9,     -999.0,     -999.0,9,     -999.0,9,     -999.0,     -999.0,9,     -999.0,     -999.0,9,     -999.0,     -999.0,     -999.0,9,     -999.0,9,     -999.0,9,     -999.0,9,     -999.0,9,     -999.0,9,     -999.0,9,     -999.0,9
33RO20161119,        P18,     153,          1,          6,      11105,2,20170110,       1513,   -42.5009,  -102.9977,       3792,  2462.3,   1.8913,  34.6938,2,  34.6929,2,    169.6,2,   169.9,2,   104.4,6,    32.9,6,    0.00,6,   2.330,6,-999.0000,9,-999.0000,9,-999.0000,9,  2279.4,2,  2370.7,2,   7.5752,2,    25.00, -999.00,9,  -999.0,9,  -999.0,-999.0000,9, -999.00,9,    39.5,2,   35.10,2, -999.00,9,     -999.0,9, -999.00,9,  -999.0,9,     -999.0,     -999.0,9,     -999.0,9,     -999.0,     -999.0,9,     -999.0,     -999.0,9,     -999.0,     -999.0,     -999.0,9,     -999.0,9,     -999.0,9,     -999.0,9,     -999.0,9,     -999.0,9,     -999.0,9,     -999.0,9
33RO20161119,        P18,     153,          1,          7,      11106,2,20170110,       1513,   -42.5009,  -102.9977,       3792,  2161.0,   2.1380,  34.6694,2,  34.6683,2,    166.4,2,   166.5,2,    94.8,2,    33.0,2,    0.01,2,   2.342,2,   0.0541,2,   0.0256,2,   0.0000,2,  2272.8,2,  2360.6,2,   7.5666,2,    25.00, -999.00,9,  -999.0,9,  -999.0,   2.6295,2, -999.00,9,    39.9,2,   37.80,2, -999.00,9,    21.2464,2, -999.00,9,  -999.0,9,     -999.0,     -999.0,9,     -999.0,9,     -999.0,     -999.0,9,     -999.0,     -999.0,9,     -999.0,     -999.0,     -999.0,9,     -999.0,9,     -999.0,9,     -999.0,9,     -999.0,9,     -999.0,9,     -999.0,9,     -999.0,9
33RO20161119,        P18,     153,          1,          8,      11107,2,20170110,       1513,   -42.5009,  -102.9977,       3792,  1850.9,   2.4018,  34.6105,2,  34.6090,2,    161.2,2,   162.0,2,    86.2,2,    34.0,2,    0.00,2,   2.396,2,-999.0000,9,-999.0000,9,-999.0000,9,  2269.5,2,  2351.7,2,   7.5541,2,    25.00, -999.00,9,  -999.0,9,  -999.0,-999.0000,9, -999.00,9,    39.0,2,   37.20,2, -999.00,9,     -999.0,9, -999.00,9,  -999.0,9,     -999.0,     -999.0,9,     -999.0,9,     -999.0,     -999.0,9,     -999.0,     -999.0,9,     -999.0,     -999.0,     -999.0,9,     -999.0,9,     -999.0,9,     -999.0,9,     -999.0,9,     -999.0,9,     -999.0,9,     -999.0,9
33RO20161119,        P18,     153,          1,          9,      11108,2,20170110,       1513,   -42.5009,  -102.9977,       3792,  1540.6,   2.8242,  34.5252,2,  34.5246,2,    151.6,2,   151.4,2,    76.1,2,    35.5,2,    0.01,2,   2.501,2,   0.1608,2,   0.0750,2,   0.0000,2,  2267.0,6,  2337.6,6,   7.5331,2,    25.00, -999.00,9,  -999.0,9,  -999.0,   3.1339,2, -999.00,9,    38.6,2,   38.00,2, -999.00,9,    24.3472,2, -999.00,9,  -999.0,9,     -999.0,     -999.0,9,     -999.0,9,     -999.0,     -999.0,9,     -999.0,     -999.0,9,     -999.0,     -999.0,     -999.0,9,     -999.0,9,     -999.0,9,     -999.0,9,     -999.0,9,     -999.0,9,     -999.0,9,     -999.0,9
33RO20161119,        P18,     153,          1,         10,      11109,2,20170110,       1513,   -42.5009,  -102.9977,       3792,  1350.6,   3.1508,  34.4549,2,  34.4532,2,    155.8,2,   155.3,2,    63.9,2,    35.5,2,    0.00,2,   2.506,2,-999.0000,9,-999.0000,9,-999.0000,9,  2252.9,2,  2323.3,2,   7.5296,2,    25.00, -999.00,9,  -999.0,9,  -999.0,-999.0000,9, -999.00,9,    39.6,2,   38.70,2, -999.00,9,     -999.0,9, -999.00,9,  -999.0,9,     -999.0,     -999.0,9,     -999.0,9,     -999.0,     -999.0,9,     -999.0,     -999.0,9,     -999.0,     -999.0,     -999.0,9,     -999.0,9,     -999.0,9,     -999.0,9,     -999.0,9,     -999.0,9,     -999.0,9,     -999.0,9
33RO20161119,        P18,     153,          1,         11,      11110,2,20170110,       1513,   -42.5009,  -102.9977,       3792,  1210.3,   3.4167,  34.3899,2,  34.3884,2,    172.7,2,   173.2,2,    50.9,2,    34.1,2,    0.00,2,   2.396,2,   0.6025,6,   0.2928,6,   0.0862,6,  2232.2,2,  2314.0,2,   7.5535,2,    25.00, -999.00,9,  -999.0,9,  -999.0,   3.2977,2, -999.00,9,    40.5,2,   38.20,2, -999.00,9,    22.8115,2, -999.00,9,  -999.0,9,     -999.0,     -999.0,9,     -999.0,9,     -999.0,     -999.0,9,     -999.0,     -999.0,9,     -999.0,     -999.0,     -999.0,9,     -999.0,9,     -999.0,9,     -999.0,9,     -999.0,9,     -999.0,9,     -999.0,9,     -999.0,9
33RO20161119,        P18,     153,          1,         12,      11111,2,20170110,       1513,   -42.5009,  -102.9977,       3792,  1070.2,   3.7718,  34.3369,2,  34.3362,2,    190.8,2,   190.6,2,    40.0,2,    32.4,2,    0.01,2,   2.271,2,-999.0000,9,-999.0000,9,-999.0000,9,  2211.5,2,  2302.8,2,   7.5797,2,    25.00, -999.00,9,  -999.0,9,  -999.0,-999.0000,9, -999.00,9,    42.1,2,   35.70,2, -999.00,9,     -999.0,9, -999.00,9,  -999.0,9,     -999.0,     -999.0,9,     -999.0,9,     -999.0,     -999.0,9,     -999.0,     -999.0,9,     -999.0,     -999.0,     -999.0,9,     -999.0,9,     -999.0,9,     -999.0,9,     -999.0,9,     -999.0,9,     -999.0,9,     -999.0,9
33RO20161119,        P18,     153,          1,         13,      11112,2,20170110,       1513,   -42.5009,  -102.9977,       3792,   939.8,   4.3544,  34.2998,2,  34.2980,2,    205.2,2,   205.4,2,    29.3,2,    30.2,2,    0.00,2,   2.130,2,   1.8637,2,   0.9272,2,   0.3352,2,  2192.0,2,  2292.3,2,   7.6077,2,    25.00, -999.00,9,  -999.0,9,  -999.0,   2.7613,2, -999.00,9,    39.5,2,   33.70,2, -999.00,9,    18.9743,2, -999.00,9,  -999.0,9,     -999.0,     -999.0,9,     -999.0,9,     -999.0,     -999.0,9,     -999.0,     -999.0,9,     -999.0,     -999.0,     -999.0,9,     -999.0,9,     -999.0,9,     -999.0,9,     -999.0,9,     -999.0,9,     -999.0,9,     -999.0,9
33RO20161119,        P18,     153,          1,         14,      11113,2,20170110,       1513,   -42.5009,  -102.9977,       3792,   811.4,   4.9883,  34.2659,2,  34.2650,2,    223.4,2,   223.5,2,    19.3,2,    27.5,2,    0.01,2,   1.956,2,-999.0000,9,-999.0000,9,-999.0000,9,  2173.3,2,  2279.7,2,   7.6428,2,    25.00, -999.00,9,  -999.0,9,  -999.0,-999.0000,9, -999.00,9,    41.1,2,   31.30,2, -999.00,9,     -999.0,9, -999.00,9,  -999.0,9,     -999.0,     -999.0,9,     -999.0,9,     -999.0,     -999.0,9,     -999.0,     -999.0,9,     -999.0,     -999.0,     -999.0,9,     -999.0,9,     -999.0,9,     -999.0,9,     -999.0,9,     -999.0,9,     -999.0,9,     -999.0,9
33RO20161119,        P18,     153,          1,         15,      11114,2,20170110,       1513,   -42.5009,  -102.9977,       3792,   689.8,   5.5411,  34.2619,2,  34.2611,2,    241.6,2,   241.2,2,    12.9,2,    24.8,2,    0.01,2,   1.772,2,   3.4305,2,   1.7934,2,   1.0805,2,  2156.1,2,  2277.2,2,   7.6759,2,    25.00, -999.00,9,  -999.0,9,  -999.0,   3.5645,2, -999.00,9,    43.1,2,   28.20,2, -999.00,9,    15.6897,2, -999.00,9,  -999.0,9,     -999.0,     -999.0,9,     -999.0,9,     -999.0,     -999.0,9,     -999.0,     -999.0,9,     -999.0,     -999.0,     -999.0,9,     -999.0,9,     -999.0,9,     -999.0,9,     -999.0,9,     -999.0,9,     -999.0,9,     -999.0,9
33RO20161119,        P18,     153,          1,         16,      11115,2,20170110,       1513,   -42.5009,  -102.9977,       3792,   574.5,   5.9220,  34.2674,2,  34.2662,2,    253.9,2,   255.0,2,     9.5,2,    22.6,2,    0.00,2,   1.651,2,-999.0000,9,-999.0000,9,-999.0000,9,  2146.8,2,  2273.6,2,   7.6926,2,    25.00, -999.00,9,  -999.0,9,  -999.0,-999.0000,9, -999.00,9,    43.2,2,   26.80,2, -999.00,9,     -999.0,9, -999.00,9,  -999.0,9,     -999.0,     -999.0,9,     -999.0,9,     -999.0,     -999.0,9,     -999.0,     -999.0,9,     -999.0,     -999.0,     -999.0,9,     -999.0,9,     -999.0,9,     -999.0,9,     -999.0,9,     -999.0,9,     -999.0,9,     -999.0,9
33RO20161119,        P18,     153,          1,         17,      11116,2,20170110,       1513,   -42.5009,  -102.9977,       3792,   470.1,   6.1833,  34.2767,2,  34.2766,2,    258.6,2,   260.4,2,     7.9,2,    21.4,2,    0.01,2,   1.591,2,   4.0069,2,   2.2044,2,   1.7107,2,  2142.9,2,  2272.1,2,   7.7038,2,    25.00, -999.00,9,  -999.0,9,  -999.0,   3.3885,2, -999.00,9,    42.0,2,   25.20,2, -999.00,9,    14.6583,2, -999.00,9,  -999.0,9,     -999.0,     -999.0,9,     -999.0,9,     -999.0,     -999.0,9,     -999.0,     -999.0,9,     -999.0,     -999.0,     -999.0,9,     -999.0,9,     -999.0,9,     -999.0,9,     -999.0,9,     -999.0,9,     -999.0,9,     -999.0,9
33RO20161119,        P18,     153,          1,         18,      11117,2,20170110,       1513,   -42.5009,  -102.9977,       3792,   365.1,   6.4861,  34.2946,2,  34.2942,2,    260.9,2,   260.2,2,     6.9,2,    20.5,2,    0.01,2,   1.535,2,   4.0744,2,   2.2525,2,   1.8539,2,  2141.0,2,  2269.4,2,   7.7097,2,    25.00, -999.00,9,  -999.0,9,  -999.0,   0.0172,2, -999.00,9,    42.5,2,   23.70,2, -999.00,9,    15.1825,2, -999.00,9,  -999.0,9,     -999.0,     -999.0,9,     -999.0,9,     -999.0,     -999.0,9,     -999.0,     -999.0,9,     -999.0,     -999.0,     -999.0,9,     -999.0,9,     -999.0,9,     -999.0,9,     -999.0,9,     -999.0,9,     -999.0,9,     -999.0,9
33RO20161119,        P18,     153,          1,         19,      11083,2,20170110,       1513,   -42.5009,  -102.9977,       3792,   275.1,   6.7354,  34.2844,2,  34.2839,2,    263.3,2,   262.7,2,     5.7,2,    19.5,2,    0.01,2,   1.475,2,   4.0441,2,   2.2739,2,   2.0747,2,  2136.5,2,  2268.0,2,   7.7114,2,    25.00, -999.00,9,  -999.0,9,  -999.0,   0.0051,2, -999.00,9,    43.2,2,   23.10,2, -999.00,9,    16.8693,2, -999.00,9,  -999.0,9,     -999.0,     -999.0,9,     -999.0,9,     -999.0,     -999.0,9,     -999.0,     -999.0,9,     -999.0,     -999.0,     -999.0,9,     -999.0,9,     -999.0,9,     -999.0,9,     -999.0,9,     -999.0,9,     -999.0,9,     -999.0,9
33RO20161119,        P18,     153,          1,         20,      11118,2,20170110,       1513,   -42.5009,  -102.9977,       3792,   195.1,   7.1395,  34.2330,2,  34.2336,2,    262.0,2,   259.8,2,     4.3,2,    18.8,2,    0.01,2,   1.437,2,   3.9949,2,   2.2663,2,   2.2114,2,  2131.9,2,  2269.1,2,   7.7151,2,    25.00, -999.00,9,  -999.0,9,  -999.0,   0.0264,2, -999.00,9,    47.1,2,   22.70,2, -999.00,9,    19.4248,2, -999.00,9,  -999.0,9,     -999.0,     -999.0,9,     -999.0,9,     -999.0,     -999.0,9,     -999.0,     -999.0,9,     -999.0,     -999.0,     -999.0,9,     -999.0,9,     -999.0,9,       1.56,2,     -999.0,9,     -999.0,9,     -999.0,9,     -999.0,9
33RO20161119,        P18,     153,          1,         21,      11119,2,20170110,       1513,   -42.5009,  -102.9977,       3792,   125.3,   8.3631,  34.0765,2,  34.0768,2,    279.0,2,   278.5,6,     1.8,2,    13.6,2,    0.28,2,   1.187,2,   3.7219,2,   2.1319,2,   2.4938,2,  2100.6,2,  2262.2,6,   7.7804,2,    25.00, -999.00,9,  -999.0,9,  -999.0,   0.0343,2, -999.00,9,    46.8,2,   18.70,2, -999.00,9,    12.9522,2, -999.00,9,  -999.0,9,     -999.0,     -999.0,9,     -999.0,9,     -999.0,     -999.0,9,     -999.0,     -999.0,9,     -999.0,     -999.0,     -999.0,9,     -999.0,9,     -999.0,9,       1.44,2,     -999.0,9,     -999.0,9,     -999.0,9,     -999.0,9
33RO20161119,        P18,     153,          1,         22,      11120,2,20170110,       1513,   -42.5009,  -102.9977,       3792,    45.4,  11.8396,  33.9721,2,  33.9728,2,    281.1,2,   283.7,2,     1.3,2,    10.0,2,    0.18,2,   0.956,2,-999.0000,9,-999.0000,9,-999.0000,9,  2066.5,2,  2255.9,2,   7.8514,2,    25.00, -999.00,9,  -999.0,9,  -999.0,-999.0000,9, -999.00,9,    51.0,2,   14.30,2, -999.00,9,     -999.0,9, -999.00,9,  -999.0,9,     -999.0,     -999.0,9,     -999.0,9,     -999.0,     -999.0,9,     -999.0,     -999.0,9,     -999.0,     -999.0,     -999.0,9,     -999.0,9,     -999.0,9,       1.08,2,     -999.0,9,     -999.0,9,     -999.0,9,     -999.0,9
33RO20161119,        P18,     153,          1,         23,      11121,2,20170110,       1513,   -42.5009,  -102.9977,       3792,    24.9,  13.1773,  33.9700,2,  33.9710,2,    265.9,2,   266.6,2,     1.2,2,     9.8,2,    0.23,2,   0.959,2,-999.0000,9,-999.0000,9,-999.0000,9,  2065.4,6,  2255.8,2,   7.8489,2,    25.00, -999.00,9,  -999.0,9,  -999.0,-999.0000,9, -999.00,9,    53.5,2,   13.70,2, -999.00,9,     -999.0,9, -999.00,9,  -999.0,9,     -999.0,     -999.0,9,     -999.0,9,     -999.0,     -999.0,9,     -999.0,     -999.0,9,     -999.0,     -999.0,     -999.0,9,     -999.0,9,     -999.0,9,       1.05,2,     -999.0,9,     -999.0,9,     -999.0,9,     -999.0,9
33RO20161119,        P18,     153,          1,         24,      11122,2,20170110,       1513,   -42.5009,  -102.9977,       3792,     3.1,  13.1886,  33.9701,2,  33.9691,2,    265.2,2,   266.7,2,     1.0,2,     9.8,2,    0.23,2,   0.963,2,   3.0206,2,   1.7768,2,   2.1484,2,  2065.3,2,  2256.7,2,   7.8502,2,    25.00, -999.00,9,  -999.0,9,  -999.0,   0.0433,2, -999.00,9,    54.9,2,   14.40,2, -999.00,9,     9.7295,2, -999.00,9,  -999.0,9,     -999.0,     -999.0,9,     -999.0,9,     -999.0,     -999.0,9,     -999.0,     -999.0,9,     -999.0,     -999.0,     -999.0,9,     -999.0,9,     -999.0,9,       1.12,2,     -999.0,9,     -999.0,9,     -999.0,9,     -999.0,9