BOTTLE,20230606CCHSIOCBG
EXPOCODE,SECT_ID,STNNBR,CASTNO,SAMPNO,BTLNBR,BTLNBR_FLAG_W,DATE,TIME,LATITUDE,LONGITUDE,DEPTH,CTDPRS,CTDTMP,CTDSAL,CTDSAL_FLAG_W,SALNTY,SALNTY_FLAG_W,CTDOXY,CTDOXY_FLAG_W,OXYGEN,OXYGEN_FLAG_W,SILCAT,SILCAT_FLAG_W,NITRAT,NITRAT_FLAG_W,NITRIT,NITRIT_FLAG_W,PHSPHT,PHSPHT_FLAG_W,CFC-11,CFC-11_FLAG_W,CFC-12,CFC-12_FLAG_W,SF6,SF6_FLAG_W,TCARBN,TCARBN_FLAG_W,ALKALI,ALKALI_FLAG_W,PH_SWS,PH_SWS_FLAG_W,PH_TMP,DELC13,DELC13_FLAG_W,DELC14,DELC14_FLAG_W,C14ERR,CCL4,CCL4_FLAG_W,POC,POC_FLAG_W,DOC,DOC_FLAG_W,TDN,TDN_FLAG_W,PON,PON_FLAG_W,N2O,N2O_FLAG_W,D15N_NO3,D15N_NO3_FLAG_W,14C-DOC,14C-DOC_FLAG_W,14C-DOCERR,13C-DOC,13C-DOC_FLAG_W,N2/ARGON_UNSTRIPPED,N2/ARGON_UNSTRIPPED_FLAG_W,N2/ARGON_UNSTRIPPED_ERROR,N2/ARGON,N2/ARGON_FLAG_W,N2/ARGON_ERROR,D15N_N2,D15N_N2_FLAG_W,D15N_N2_ERROR,D15N_NO3_ERROR,D15N_NO2+NO3,D15N_NO2+NO3_FLAG_W,D18O_NO2+NO3,D18O_NO2+NO3_FLAG_W,D18O_NO3,D18O_NO3_FLAG_W,TDP,TDP_FLAG_W,N2O_ALT_1,N2O_ALT_1_FLAG_W,D15N_N2O,D15N_N2O_FLAG_W,D18O_N2O,D18O_N2O_FLAG_W,D15N_ALPHA_N2O,D15N_ALPHA_N2O_FLAG_W
,,,,,,,,,,,METERS,DBAR,ITS-90,PSS-78,,PSS-78,,UMOL/KG,,UMOL/KG,,UMOL/KG,,UMOL/KG,,UMOL/KG,,UMOL/KG,,PMOL/KG,,PMOL/KG,,FMOL/KG,,UMOL/KG,,UMOL/KG,,,,DEG C,/MILLE,,/MILLE,,/MILLE,PMOL/KG,,UG/KG,,UMOL/KG,,UMOL/KG,,UG/KG,,NMOL/KG,,/MILLE,,/MILLE,,/MILLE,/MILLE,,,,,,,,/MILLE,,/MILLE,/MILLE,/MILLE,,/MILLE,,/MILLE,,UMOL/KG,,NMOL/L,,/MILLE,,/MILLE,,/MILLE,
33RO20161119,        P18,     210,          1,          1,      11010,2,20170127,       1804,   -69.9009,  -100.6698,       4093,  4161.6,   0.3607,  34.7011,2,  34.7011,2,    213.0,2,   212.7,2,   143.8,2,    33.3,2,    0.02,2,   2.270,2,   0.3853,2,   0.1822,2,   0.0714,2,  2263.2,6,  2362.7,2,   7.5882,2,    25.00, -999.00,9,  -999.0,9,  -999.0,   0.2937,2, -999.00,9,  -999.0,9, -999.00,9, -999.00,9,    18.4587,2,    4.74,2,  -999.0,9,     -999.0,     -999.0,9,     -999.0,9,     -999.0,     -999.0,9,     -999.0,     -999.0,9,     -999.0,     -999.0,       4.74,2,       1.82,2,       1.82,2,     -999.0,9,     -999.0,9,     -999.0,9,     -999.0,9,     -999.0,9
33RO20161119,        P18,     210,          1,          2,      11101,2,20170127,       1804,   -69.9009,  -100.6698,       4093,  3856.5,   0.4338,  34.7039,2,  34.7022,2,    210.9,2,   210.9,2,   138.8,2,    33.2,2,    0.01,2,   2.256,2,   0.2211,2,   0.1067,2,   0.0663,2,  2262.6,2,  2362.0,2,   7.5880,2,    25.00, -999.00,9,  -999.0,9,  -999.0,   0.2503,2, -999.00,9,  -999.0,9, -999.00,9, -999.00,9,    18.5337,2,    4.62,2,  -999.0,9,     -999.0,     -999.0,9,     -999.0,9,     -999.0,     -999.0,9,     -999.0,     -999.0,9,     -999.0,     -999.0,       4.62,2,       1.61,2,       1.61,2,     -999.0,9,     -999.0,9,     -999.0,9,     -999.0,9,     -999.0,9
33RO20161119,        P18,     210,          1,          3,      11102,2,20170127,       1804,   -69.9009,  -100.6698,       4093,  3551.0,   0.4531,  34.7046,2,  34.7030,2,    210.0,2,   209.5,2,   137.0,6,    33.2,6,    0.01,6,   2.271,6,   0.1906,2,   0.0935,2,   0.0379,2,  2262.2,2,  2366.0,2,   7.5904,2,    25.00, -999.00,9,  -999.0,9,  -999.0,   0.2615,2, -999.00,9,  -999.0,9, -999.00,9, -999.00,9,    18.2111,2,    4.68,2,  -999.0,9,     -999.0,     -999.0,9,     -999.0,9,     -999.0,     -999.0,9,     -999.0,     -999.0,9,     -999.0,     -999.0,       4.68,2,       1.67,2,       1.67,2,     -999.0,9,     -999.0,9,     -999.0,9,     -999.0,9,     -999.0,9
33RO20161119,        P18,     210,          1,          4,      11103,2,20170127,       1804,   -69.9009,  -100.6698,       4093,  3225.3,   0.4621,  34.7048,2,  34.7032,2,    209.5,2,   209.2,2,   135.0,6,    33.2,6,    0.01,6,   2.264,6,   0.1836,2,   0.0918,2,   0.0517,2,  2262.6,2,  2364.3,6,   7.5904,2,    25.00, -999.00,9,  -999.0,9,  -999.0,   0.1894,2, -999.00,9,  -999.0,9, -999.00,9, -999.00,9,    18.5217,2,    4.68,2,  -999.0,9,     -999.0,     -999.0,9,     -999.0,9,     -999.0,     -999.0,9,     -999.0,     -999.0,9,     -999.0,     -999.0,       4.68,2,       1.77,2,       1.77,2,     -999.0,9,     -999.0,9,     -999.0,9,     -999.0,9,     -999.0,9
33RO20161119,        P18,     210,          1,          5,      11104,2,20170127,       1804,   -69.9009,  -100.6698,       4093,  2900.4,   0.5126,  34.7058,2,  34.7048,2,    208.3,2,   208.3,2,   130.7,6,    33.2,6,    0.01,6,   2.259,6,   0.1770,2,   0.0862,2,   0.0000,2,  2260.9,2,  2361.8,2,   7.5916,2,    25.00, -999.00,9,  -999.0,9,  -999.0,    0.172,2, -999.00,9,  -999.0,9, -999.00,9, -999.00,9,    18.6091,2,    4.72,2,  -999.0,9,     -999.0,     -999.0,9,     -999.0,9,     -999.0,     -999.0,9,     -999.0,     -999.0,9,     -999.0,     -999.0,       4.72,2,       1.68,2,       1.68,2,     -999.0,9,     -999.0,9,     -999.0,9,     -999.0,9,     -999.0,9
33RO20161119,        P18,     210,          1,          6,      11105,2,20170127,       1804,   -69.9009,  -100.6698,       4093,  2580.7,   0.6176,  34.7078,2,  34.7085,2,    205.9,2,   206.2,6,   126.6,6,    33.0,6,    0.01,6,   2.245,6,   0.1705,6,   0.0820,6,   0.0241,6,  2261.7,2,  2363.8,2,   7.5910,2,    25.00, -999.00,9,  -999.0,9,  -999.0,   0.2044,2, -999.00,9,  -999.0,9, -999.00,9, -999.00,9,    18.5462,2,    4.71,2,  -999.0,9,     -999.0,     -999.0,9,     -999.0,9,     -999.0,     -999.0,9,     -999.0,     -999.0,9,     -999.0,     -999.0,       4.71,2,       1.72,2,       1.72,2,     -999.0,9,     -999.0,9,     -999.0,9,     -999.0,9,     -999.0,9
33RO20161119,        P18,     210,          1,          7,      11106,2,20170127,       1804,   -69.9009,  -100.6698,       4093,  2260.7,   0.7544,  34.7113,2,  34.7099,2,    203.4,2,   203.3,2,   123.0,2,    32.8,2,    0.01,2,   2.235,2,   0.1435,2,   0.0680,2,   0.0000,2,  2261.4,2,  2362.7,2,   7.5895,2,    25.00, -999.00,9,  -999.0,9,  -999.0,   0.1942,2, -999.00,9,  -999.0,9, -999.00,9, -999.00,9,    18.8209,2,    4.71,2,  -999.0,9,     -999.0,     -999.0,9,     -999.0,9,     -999.0,     -999.0,9,     -999.0,     -999.0,9,     -999.0,     -999.0,       4.71,2,       1.74,2,       1.74,2,     -999.0,9,     -999.0,9,     -999.0,9,     -999.0,9,     -999.0,9
33RO20161119,        P18,     210,          1,          8,      11107,2,20170127,       1804,   -69.9009,  -100.6698,       4093,  1940.3,   0.8738,  34.7153,2,  34.7248,4,    200.7,2,   201.3,2,   118.6,2,    32.7,2,    0.01,2,   2.223,2,   0.1249,2,   0.0592,2,   0.0000,2,  2261.3,2,  2363.4,2,   7.5923,2,    25.00, -999.00,9,  -999.0,9,  -999.0,   0.1537,2, -999.00,9,  -999.0,9, -999.00,9, -999.00,9,    18.9156,2,    4.74,2,  -999.0,9,     -999.0,     -999.0,9,     -999.0,9,     -999.0,     -999.0,9,     -999.0,     -999.0,9,     -999.0,     -999.0,       4.74,2,       1.66,2,       1.66,2,     -999.0,9,     -999.0,9,     -999.0,9,     -999.0,9,     -999.0,9
33RO20161119,        P18,     210,          1,          9,      11108,2,20170127,       1804,   -69.9009,  -100.6698,       4093,  1614.0,   1.0278,  34.7211,2,  34.7215,2,    198.0,2,   198.2,2,   113.7,2,    32.6,2,    0.01,2,   2.217,2,   0.1058,2,   0.0518,2,   0.0342,2,  2259.3,2,  2358.4,2,   7.5913,2,    25.00, -999.00,9,  -999.0,9,  -999.0,   0.1932,2, -999.00,9,  -999.0,9, -999.00,9, -999.00,9,    18.9994,2,    4.76,2,  -999.0,9,     -999.0,     -999.0,9,     -999.0,9,     -999.0,     -999.0,9,     -999.0,     -999.0,9,     -999.0,     -999.0,       4.76,2,       1.77,2,       1.77,2,     -999.0,9,     -999.0,9,     -999.0,9,     -999.0,9,     -999.0,9
33RO20161119,        P18,     210,          1,         10,      11109,2,20170127,       1804,   -69.9009,  -100.6698,       4093,  1420.9,   1.1395,  34.7249,2,  34.7239,2,    196.1,2,   197.0,2,   109.6,2,    32.4,2,    0.01,2,   2.207,2,   0.1215,2,   0.0582,2,   0.0000,2,  2254.0,2,  2357.7,2,   7.5923,2,    25.00, -999.00,9,  -999.0,9,  -999.0,   0.1708,2, -999.00,9,  -999.0,9, -999.00,9, -999.00,9,    19.1937,2,    4.74,2,  -999.0,9,     -999.0,     -999.0,9,     -999.0,9,     -999.0,     -999.0,9,     -999.0,     -999.0,9,     -999.0,     -999.0,       4.74,2,       1.74,2,       1.74,2,     -999.0,9,     -999.0,9,     -999.0,9,     -999.0,9,     -999.0,9
33RO20161119,        P18,     210,          1,         11,      11110,2,20170127,       1804,   -69.9009,  -100.6698,       4093,  1269.9,   1.2342,  34.7281,2,  34.7293,2,    194.4,2,   194.3,2,   106.6,2,    32.3,2,    0.01,2,   2.213,2,   0.1220,2,   0.0578,2,   0.0423,2,  2255.2,2,  2356.4,2,   7.5913,2,    25.00, -999.00,9,  -999.0,9,  -999.0,    0.272,2, -999.00,9,  -999.0,9, -999.00,9, -999.00,9,    19.2724,2,    4.75,2,  -999.0,9,     -999.0,     -999.0,9,     -999.0,9,     -999.0,     -999.0,9,     -999.0,     -999.0,9,     -999.0,     -999.0,       4.75,2,        1.8,2,        1.8,2,     -999.0,9,     -999.0,9,     -999.0,9,     -999.0,9,     -999.0,9
33RO20161119,        P18,     210,          1,         12,      11111,2,20170127,       1804,   -69.9009,  -100.6698,       4093,  1130.0,   1.3309,  34.7306,2,  34.7462,4,    193.2,2,   192.6,2,   104.0,2,    32.4,2,    0.01,2,   2.198,2,   0.1290,6,   0.0613,6,   0.0000,6,  2255.5,2,  2358.2,6,   7.5896,2,    25.00, -999.00,9,  -999.0,9,  -999.0,   0.2741,2, -999.00,9,  -999.0,9, -999.00,9, -999.00,9,    19.4041,2,    4.75,2,  -999.0,9,     -999.0,     -999.0,9,     -999.0,9,     -999.0,     -999.0,9,     -999.0,     -999.0,9,     -999.0,     -999.0,       4.75,2,       1.79,2,       1.79,2,     -999.0,9,     -999.0,9,     -999.0,9,     -999.0,9,     -999.0,9
33RO20161119,        P18,     210,          1,         13,      11112,2,20170127,       1804,   -69.9009,  -100.6698,       4093,   990.0,   1.4427,  34.7329,2,  34.7339,2,    191.0,2,   190.6,2,   106.6,4,    32.3,2,    0.02,2,   2.214,2,   0.1442,2,   0.0682,2,   0.0000,2,  2254.0,2,  2355.4,2,   7.5891,2,    25.00, -999.00,9,  -999.0,9,  -999.0,   0.4475,2, -999.00,9,  -999.0,9, -999.00,9, -999.00,9,    19.5986,2,    4.74,2,  -999.0,9,     -999.0,     -999.0,9,     -999.0,9,     -999.0,     -999.0,9,     -999.0,     -999.0,9,     -999.0,     -999.0,       4.74,2,       1.78,2,       1.78,2,     -999.0,9,     -999.0,9,     -999.0,9,     -999.0,9,     -999.0,9
33RO20161119,        P18,     210,          1,         14,      11113,2,20170127,       1804,   -69.9009,  -100.6698,       4093,   855.4,   1.5459,  34.7335,2,  34.7335,2,    188.8,2,   188.7,2,    97.5,2,    32.2,2,    0.02,2,   2.200,2,   0.1608,2,   0.0787,2,   0.0400,2,  2254.6,2,  2351.7,2,   7.5868,2,    25.00, -999.00,9,  -999.0,9,  -999.0,    0.519,2, -999.00,9,  -999.0,9, -999.00,9, -999.00,9,    19.6623,2,    4.77,2,  -999.0,9,     -999.0,     -999.0,9,     -999.0,9,     -999.0,     -999.0,9,     -999.0,     -999.0,9,     -999.0,     -999.0,       4.77,2,        1.8,2,        1.8,2,     -999.0,9,     -999.0,9,     -999.0,9,     -999.0,9,     -999.0,9
33RO20161119,        P18,     210,          1,         15,      11114,2,20170127,       1804,   -69.9009,  -100.6698,       4093,   723.8,   1.6506,  34.7323,2,  34.7311,2,    186.0,2,   186.6,2,    94.4,2,    32.3,2,    0.01,2,   2.203,2,   0.1848,2,   0.0885,2,   0.0412,2,  2254.2,2,  2351.2,2,   7.5818,2,    25.00, -999.00,9,  -999.0,9,  -999.0,   0.6397,2, -999.00,9,  -999.0,9, -999.00,9, -999.00,9,    20.1317,2,    4.77,2,  -999.0,9,     -999.0,     -999.0,9,     -999.0,9,     -999.0,     -999.0,9,     -999.0,     -999.0,9,     -999.0,     -999.0,       4.77,2,       1.83,2,       1.83,2,     -999.0,9,     -999.0,9,     -999.0,9,     -999.0,9,     -999.0,9
33RO20161119,        P18,     210,          1,         16,      11115,2,20170127,       1804,   -69.9009,  -100.6698,       4093,   598.5,   1.7529,  34.7279,2,  34.7297,2,    184.5,2,   183.3,2,    91.3,2,    32.5,2,    0.02,2,   2.211,2,   0.2115,2,   0.1034,2,   0.0566,2,  2252.6,2,  2349.3,2,   7.5764,2,    25.00, -999.00,9,  -999.0,9,  -999.0,   2.4395,2, -999.00,9,  -999.0,9, -999.00,9, -999.00,9,    20.3162,2,    4.78,2,  -999.0,9,     -999.0,     -999.0,9,     -999.0,9,     -999.0,     -999.0,9,     -999.0,     -999.0,9,     -999.0,     -999.0,       4.78,2,       1.74,2,       1.74,2,     -999.0,9,     -999.0,9,     -999.0,9,     -999.0,9,     -999.0,9
33RO20161119,        P18,     210,          1,         17,      11116,2,20170127,       1804,   -69.9009,  -100.6698,       4093,   491.0,   1.8461,  34.7201,2,  34.7183,2,    179.9,2,   179.9,2,    88.9,2,    32.7,2,    0.02,2,   2.228,2,   0.2429,2,   0.1183,2,   0.0730,2,  2254.2,6,  2346.5,2,   7.5715,2,    25.00, -999.00,9,  -999.0,9,  -999.0,   5.6878,2, -999.00,9,  -999.0,9, -999.00,9, -999.00,9,    20.6125,2,    4.84,2,  -999.0,9,     -999.0,     -999.0,9,     -999.0,9,     -999.0,     -999.0,9,     -999.0,     -999.0,9,     -999.0,     -999.0,       4.84,2,       1.54,2,       1.54,2,     -999.0,9,     -999.0,9,     -999.0,9,     -999.0,9,     -999.0,9
33RO20161119,        P18,     210,          1,         18,      11117,2,20170127,       1804,   -69.9009,  -100.6698,       4093,   380.4,   1.9179,  34.7059,2,  34.7045,2,    176.1,2,   176.3,2,    86.8,2,    33.1,2,    0.02,2,   2.256,2,   0.2985,2,   0.1457,2,   0.0717,2,  2255.3,2,  2346.3,6,   7.5624,2,    25.00, -999.00,9,  -999.0,9,  -999.0,   5.7423,2, -999.00,9,  -999.0,9, -999.00,9, -999.00,9,     21.292,2,    4.81,2,  -999.0,9,     -999.0,     -999.0,9,     -999.0,9,     -999.0,     -999.0,9,     -999.0,     -999.0,9,     -999.0,     -999.0,       4.81,2,       1.75,2,       1.75,2,     -999.0,9,     -999.0,9,     -999.0,9,     -999.0,9,     -999.0,9
33RO20161119,        P18,     210,          1,         19,      11083,2,20170127,       1804,   -69.9009,  -100.6698,       4093,   285.0,   1.9184,  34.6779,2,  34.6761,2,    173.3,2,   172.7,6,    84.7,2,    33.8,2,    0.02,2,   2.300,2,   0.4364,2,   0.2176,2,   0.1668,2,  2256.5,2,  2343.5,2,   7.5478,2,    25.00, -999.00,9,  -999.0,9,  -999.0,   7.3972,2, -999.00,9,  -999.0,9, -999.00,9, -999.00,9,    21.8003,2,    4.75,2,  -999.0,9,     -999.0,     -999.0,9,     -999.0,9,     -999.0,     -999.0,9,     -999.0,     -999.0,9,     -999.0,     -999.0,       4.77,2,       1.75,2,       1.76,2,     -999.0,9,     -999.0,9,     -999.0,9,     -999.0,9,     -999.0,9
33RO20161119,        P18,     210,          1,         20,      11118,2,20170127,       1804,   -69.9009,  -100.6698,       4093,   192.6,   1.8426,  34.6272,2,  34.6269,2,    174.8,2,   172.4,2,    82.1,2,    34.5,2,    0.02,2,   2.333,2,   0.7062,2,   0.3630,2,   0.2826,2,  2256.8,2,  2338.6,2,   7.5351,2,    25.00, -999.00,9,  -999.0,9,  -999.0,   0.4899,2, -999.00,9,  -999.0,9, -999.00,9, -999.00,9,    22.5374,2,    4.73,2,  -999.0,9,     -999.0,     -999.0,9,     -999.0,9,     -999.0,     -999.0,9,     -999.0,     -999.0,9,     -999.0,     -999.0,       4.72,2,       1.74,2,       1.78,2,     -999.0,9,     -999.0,9,     -999.0,9,     -999.0,9,     -999.0,9
33RO20161119,        P18,     210,          1,         21,      11119,2,20170127,       1804,   -69.9009,  -100.6698,       4093,   125.5,   0.7221,  34.4528,2,  34.4578,2,    204.4,2,   204.8,2,    76.4,2,    34.2,2,    0.06,2,   2.336,2,   2.0173,2,   1.0526,2,   1.0158,2,  2245.0,2,  2324.4,2,   7.5362,2,    25.00, -999.00,9,  -999.0,9,  -999.0,   0.4443,2, -999.00,9,  -999.0,9, -999.00,9, -999.00,9,    22.1335,2,    4.87,2,  -999.0,9,     -999.0,     -999.0,9,     -999.0,9,     -999.0,     -999.0,9,     -999.0,     -999.0,9,     -999.0,     -999.0,       4.74,2,       1.96,2,        1.9,2,     -999.0,9,     -999.0,9,     -999.0,9,     -999.0,9,     -999.0,9
33RO20161119,        P18,     210,          1,         22,      11120,2,20170127,       1804,   -69.9009,  -100.6698,       4093,    60.5,  -1.6522,  34.0486,2,  34.0479,2,    316.7,2,   316.2,2,    60.7,2,    29.6,2,    0.21,2,   2.070,2,   5.0256,2,   2.6889,2,   2.9527,2,  2194.4,2,  2300.7,2,   7.6152,2,    25.00, -999.00,9,  -999.0,9,  -999.0,   0.3511,2, -999.00,9,  -999.0,9, -999.00,9, -999.00,9,    17.8368,2,    5.47,2,  -999.0,9,     -999.0,     -999.0,9,     -999.0,9,     -999.0,     -999.0,9,     -999.0,     -999.0,9,     -999.0,     -999.0,       5.18,2,       2.47,2,        2.4,2,     -999.0,9,     -999.0,9,     -999.0,9,     -999.0,9,     -999.0,9
33RO20161119,        P18,     210,          1,         23,      11121,2,20170127,       1804,   -69.9009,  -100.6698,       4093,    25.4,  -1.0380,  33.7559,2,  33.7679,2,    347.5,2,   347.2,2,    49.2,2,    27.1,2,    0.18,2,   1.921,2,   5.4535,2,   2.9252,2,   3.2482,2,  2161.2,2,  2284.2,2,   7.6684,6,    25.00, -999.00,9,  -999.0,9,  -999.0,   0.3223,2, -999.00,9,  -999.0,9, -999.00,9, -999.00,9,    17.0105,2,    6.02,2,  -999.0,9,     -999.0,     -999.0,9,     -999.0,9,     -999.0,     -999.0,9,     -999.0,     -999.0,9,     -999.0,     -999.0,       5.71,2,       2.66,2,       2.75,2,     -999.0,9,     -999.0,9,     -999.0,9,     -999.0,9,     -999.0,9
33RO20161119,        P18,     210,          1,         24,      11122,2,20170127,       1804,   -69.9009,  -100.6698,       4093,     2.6,  -0.1632,  32.4990,2,  32.5343,2,    349.9,2,   348.6,2,    45.8,2,    24.8,2,    0.36,2,   1.655,2,   6.0107,2,   3.1982,2,   3.6577,2,  2083.5,6,  2201.7,2,   7.6750,2,    25.00, -999.00,9,  -999.0,9,  -999.0,   0.3113,2, -999.00,9,  -999.0,9, -999.00,9, -999.00,9,    15.6019,2,    7.31,2,  -999.0,9,     -999.0,     -999.0,9,     -999.0,9,     -999.0,     -999.0,9,     -999.0,     -999.0,9,     -999.0,     -999.0,       6.08,2,       2.96,2,       2.85,2,     -999.0,9,     -999.0,9,     -999.0,9,     -999.0,9,     -999.0,9