BOTTLE,20230606CCHSIOCBG
EXPOCODE,SECT_ID,STNNBR,CASTNO,SAMPNO,BTLNBR,BTLNBR_FLAG_W,DATE,TIME,LATITUDE,LONGITUDE,DEPTH,CTDPRS,CTDTMP,CTDSAL,CTDSAL_FLAG_W,SALNTY,SALNTY_FLAG_W,CTDOXY,CTDOXY_FLAG_W,OXYGEN,OXYGEN_FLAG_W,SILCAT,SILCAT_FLAG_W,NITRAT,NITRAT_FLAG_W,NITRIT,NITRIT_FLAG_W,PHSPHT,PHSPHT_FLAG_W,CFC-11,CFC-11_FLAG_W,CFC-12,CFC-12_FLAG_W,SF6,SF6_FLAG_W,TCARBN,TCARBN_FLAG_W,ALKALI,ALKALI_FLAG_W,PH_SWS,PH_SWS_FLAG_W,PH_TMP,DELC13,DELC13_FLAG_W,DELC14,DELC14_FLAG_W,C14ERR,CCL4,CCL4_FLAG_W,POC,POC_FLAG_W,DOC,DOC_FLAG_W,TDN,TDN_FLAG_W,PON,PON_FLAG_W,N2O,N2O_FLAG_W,D15N_NO3,D15N_NO3_FLAG_W,14C-DOC,14C-DOC_FLAG_W,14C-DOCERR,13C-DOC,13C-DOC_FLAG_W,N2/ARGON_UNSTRIPPED,N2/ARGON_UNSTRIPPED_FLAG_W,N2/ARGON_UNSTRIPPED_ERROR,N2/ARGON,N2/ARGON_FLAG_W,N2/ARGON_ERROR,D15N_N2,D15N_N2_FLAG_W,D15N_N2_ERROR,D15N_NO3_ERROR,D15N_NO2+NO3,D15N_NO2+NO3_FLAG_W,D18O_NO2+NO3,D18O_NO2+NO3_FLAG_W,D18O_NO3,D18O_NO3_FLAG_W,TDP,TDP_FLAG_W,N2O_ALT_1,N2O_ALT_1_FLAG_W,D15N_N2O,D15N_N2O_FLAG_W,D18O_N2O,D18O_N2O_FLAG_W,D15N_ALPHA_N2O,D15N_ALPHA_N2O_FLAG_W
,,,,,,,,,,,METERS,DBAR,ITS-90,PSS-78,,PSS-78,,UMOL/KG,,UMOL/KG,,UMOL/KG,,UMOL/KG,,UMOL/KG,,UMOL/KG,,PMOL/KG,,PMOL/KG,,FMOL/KG,,UMOL/KG,,UMOL/KG,,,,DEG C,/MILLE,,/MILLE,,/MILLE,PMOL/KG,,UG/KG,,UMOL/KG,,UMOL/KG,,UG/KG,,NMOL/KG,,/MILLE,,/MILLE,,/MILLE,/MILLE,,,,,,,,/MILLE,,/MILLE,/MILLE,/MILLE,,/MILLE,,/MILLE,,UMOL/KG,,NMOL/L,,/MILLE,,/MILLE,,/MILLE,
33RO20161119,        P18,      82,          1,          1,      11010,2,20161213,       0259,    -8.2397,  -105.4701,       3562,  3613.0,   1.7808,  34.6771,2,  34.6768,2,    135.8,2,   135.4,2,   144.4,6,    37.6,6,    0.00,6,   2.583,6,-999.0000,9,-999.0000,9,-999.0000,9,  2336.0,2,  2432.5,2,   7.5601,6,    25.00, -999.00,9,  -999.0,9,  -999.0,-999.0000,9, -999.00,9,  -999.0,9, -999.00,9, -999.00,9,     -999.0,9, -999.00,9,  -999.0,9,     -999.0,     -999.0,9,     -999.0,9,     -999.0,     -999.0,9,     -999.0,     -999.0,9,     -999.0,     -999.0,     -999.0,9,     -999.0,9,     -999.0,9,     -999.0,9,     -999.0,9,     -999.0,9,     -999.0,9,     -999.0,9
33RO20161119,        P18,      82,          1,          2,      11101,2,20161213,       0259,    -8.2397,  -105.4701,       3562,  3320.4,   1.7632,  34.6770,2,  34.6774,2,    135.4,2,   135.0,2,   143.7,6,    37.2,6,    0.00,6,   2.582,6,-999.0000,9,-999.0000,9,-999.0000,9,  2338.0,2,  2428.3,2,   7.5621,2,    25.00, -999.00,9,  -999.0,9,  -999.0,-999.0000,9, -999.00,9,  -999.0,9, -999.00,9, -999.00,9,     -999.0,9, -999.00,9,  -999.0,9,     -999.0,     -999.0,9,     -999.0,9,     -999.0,     -999.0,9,     -999.0,     -999.0,9,     -999.0,     -999.0,     -999.0,9,     -999.0,9,     -999.0,9,     -999.0,9,     -999.0,9,     -999.0,9,     -999.0,9,     -999.0,9
33RO20161119,        P18,      82,          1,          3,      11102,2,20161213,       0259,    -8.2397,  -105.4701,       3562,  3034.8,   1.7746,  34.6744,2,  34.6749,2,    133.6,2,   133.3,2,   142.2,6,    37.4,6,    0.00,6,   2.589,6,-999.0000,9,-999.0000,9,-999.0000,9,  2335.0,2,  2425.4,2,   7.5543,2,    25.00, -999.00,9,  -999.0,9,  -999.0,-999.0000,9, -999.00,9,  -999.0,9, -999.00,9, -999.00,9,     -999.0,9, -999.00,9,  -999.0,9,     -999.0,     -999.0,9,     -999.0,9,     -999.0,     -999.0,9,     -999.0,     -999.0,9,     -999.0,     -999.0,     -999.0,9,     -999.0,9,     -999.0,9,     -999.0,9,     -999.0,9,     -999.0,9,     -999.0,9,     -999.0,9
33RO20161119,        P18,      82,          1,          4,      11103,2,20161213,       0259,    -8.2397,  -105.4701,       3562,  2786.3,   1.8044,  34.6719,2,  34.6741,2,    131.0,2,   130.7,2,   141.0,6,    37.5,6,    0.00,6,   2.611,6,-999.0000,9,-999.0000,9,-999.0000,9,  2336.3,2,  2423.5,6,   7.5490,2,    25.00, -999.00,9,  -999.0,9,  -999.0,-999.0000,9, -999.00,9,  -999.0,9, -999.00,9, -999.00,9,     -999.0,9, -999.00,9,  -999.0,9,     -999.0,     -999.0,9,     -999.0,9,     -999.0,     -999.0,9,     -999.0,     -999.0,9,     -999.0,     -999.0,     -999.0,9,     -999.0,9,     -999.0,9,     -999.0,9,     -999.0,9,     -999.0,9,     -999.0,9,     -999.0,9
33RO20161119,        P18,      82,          1,          5,      11104,2,20161213,       0259,    -8.2397,  -105.4701,       3562,  2520.2,   1.9482,  34.6627,2,  34.6648,2,    122.2,2,   121.8,2,   140.2,2,    38.0,2,    0.00,2,   2.646,2,-999.0000,9,-999.0000,9,-999.0000,9,  2341.0,2,  2418.0,2,   7.5295,2,    25.00, -999.00,9,  -999.0,9,  -999.0,-999.0000,9, -999.00,9,  -999.0,9, -999.00,9, -999.00,9,     -999.0,9, -999.00,9,  -999.0,9,     -999.0,     -999.0,9,     -999.0,9,     -999.0,     -999.0,9,     -999.0,     -999.0,9,     -999.0,     -999.0,     -999.0,9,     -999.0,9,     -999.0,9,     -999.0,9,     -999.0,9,     -999.0,9,     -999.0,9,     -999.0,9
33RO20161119,        P18,      82,          1,          6,      11105,2,20161213,       0259,    -8.2397,  -105.4701,       3562,  2225.3,   2.1128,  34.6523,2,  34.6546,2,    115.4,2,   115.0,2,   136.7,2,    38.4,2,    0.00,2,   2.703,2,-999.0000,9,-999.0000,9,-999.0000,9,  2340.2,6,  2410.2,2,   7.5151,2,    25.00, -999.00,9,  -999.0,9,  -999.0,-999.0000,9, -999.00,9,  -999.0,9, -999.00,9, -999.00,9,     -999.0,9, -999.00,9,  -999.0,9,     -999.0,     -999.0,9,     -999.0,9,     -999.0,     -999.0,9,     -999.0,     -999.0,9,     -999.0,     -999.0,     -999.0,9,     -999.0,9,     -999.0,9,     -999.0,9,     -999.0,9,     -999.0,9,     -999.0,9,     -999.0,9
33RO20161119,        P18,      82,          1,          7,      11106,2,20161213,       0259,    -8.2397,  -105.4701,       3562,  1960.8,   2.3139,  34.6389,2,  34.6385,2,    110.1,2,   110.0,2,   131.4,2,    38.9,2,    0.00,2,   2.738,2,-999.0000,9,-999.0000,9,-999.0000,9,  2334.7,2,  2406.0,2,   7.5047,2,    25.00, -999.00,9,  -999.0,9,  -999.0,-999.0000,9, -999.00,9,  -999.0,9, -999.00,9, -999.00,9,     -999.0,9, -999.00,9,  -999.0,9,     -999.0,     -999.0,9,     -999.0,9,     -999.0,     -999.0,9,     -999.0,     -999.0,9,     -999.0,     -999.0,     -999.0,9,     -999.0,9,     -999.0,9,     -999.0,9,     -999.0,9,     -999.0,9,     -999.0,9,     -999.0,9
33RO20161119,        P18,      82,          1,          8,      11107,2,20161213,       0259,    -8.2397,  -105.4701,       3562,  1710.7,   2.5447,  34.6253,2,  34.6257,2,    102.4,2,   102.1,6,   125.6,2,    39.5,2,    0.00,2,   2.788,2,-999.0000,9,-999.0000,9,-999.0000,9,  2334.1,2,  2399.7,2,   7.4902,2,    25.00, -999.00,9,  -999.0,9,  -999.0,-999.0000,9, -999.00,9,  -999.0,9, -999.00,9, -999.00,9,     -999.0,9, -999.00,9,  -999.0,9,     -999.0,     -999.0,9,     -999.0,9,     -999.0,     -999.0,9,     -999.0,     -999.0,9,     -999.0,     -999.0,     -999.0,9,     -999.0,9,     -999.0,9,     -999.0,9,     -999.0,9,     -999.0,9,     -999.0,9,     -999.0,9
33RO20161119,        P18,      82,          1,          9,      11108,2,20161213,       0259,    -8.2397,  -105.4701,       3562,  1409.8,   3.1319,  34.5896,2,  34.5907,2,     96.7,2,    96.2,2,   106.7,2,    40.0,2,    0.00,2,   2.830,2,-999.0000,9,-999.0000,9,-999.0000,9,  2319.4,2,  2370.8,3,   7.4732,2,    25.00, -999.00,9,  -999.0,9,  -999.0,-999.0000,9, -999.00,9,  -999.0,9, -999.00,9, -999.00,9,     -999.0,9, -999.00,9,  -999.0,9,     -999.0,     -999.0,9,     -999.0,9,     -999.0,     -999.0,9,     -999.0,     -999.0,9,     -999.0,     -999.0,     -999.0,9,     -999.0,9,     -999.0,9,     -999.0,9,     -999.0,9,     -999.0,9,     -999.0,9,     -999.0,9
33RO20161119,        P18,      82,          1,         10,      11109,2,20161213,       0259,    -8.2397,  -105.4701,       3562,  1209.7,   3.8063,  34.5600,2,  34.5609,2,     95.0,2,    94.4,2,    90.0,2,    39.9,2,    0.00,2,   2.806,2,   0.0025,6,   0.0014,6,   0.0000,6,  2300.1,2,  2360.1,2,   7.4699,2,    25.00, -999.00,9,  -999.0,9,  -999.0,   0.0105,2, -999.00,9,  -999.0,9, -999.00,9, -999.00,9,    31.4328,2, -999.00,9,  -999.0,9,     -999.0,     -999.0,9,     -999.0,9,     -999.0,     -999.0,9,     -999.0,     -999.0,9,     -999.0,     -999.0,     -999.0,9,     -999.0,9,     -999.0,9,     -999.0,9,     -999.0,9,     -999.0,9,     -999.0,9,     -999.0,9
33RO20161119,        P18,      82,          1,         11,      11110,2,20161213,       0259,    -8.2397,  -105.4701,       3562,  1090.5,   4.1975,  34.5481,2,  34.5552,3,     90.3,2,    89.7,2,    81.7,2,    40.0,2,    0.00,2,   2.818,2,-999.0000,9,-999.0000,9,-999.0000,9,  2296.2,2,  2351.8,2,   7.4650,2,    25.00, -999.00,9,  -999.0,9,  -999.0,-999.0000,9, -999.00,9,  -999.0,9, -999.00,9, -999.00,9,     -999.0,9, -999.00,9,  -999.0,9,     -999.0,     -999.0,9,     -999.0,9,     -999.0,     -999.0,9,     -999.0,     -999.0,9,     -999.0,     -999.0,     -999.0,9,     -999.0,9,     -999.0,9,     -999.0,9,     -999.0,9,     -999.0,9,     -999.0,9,     -999.0,9
33RO20161119,        P18,      82,          1,         12,      11111,2,20161213,       0259,    -8.2397,  -105.4701,       3562,   965.4,   4.7811,  34.5375,2,  34.5409,2,     78.3,2,    77.7,2,    71.2,2,    40.8,2,    0.00,2,   2.856,2,   0.0047,2,   0.0037,2,   0.0395,2,  2288.5,2,  2339.5,2,   7.4438,2,    25.00, -999.00,9,  -999.0,9,  -999.0,   0.0087,2, -999.00,9,  -999.0,9, -999.00,9, -999.00,9,    36.2667,2, -999.00,9,  -999.0,9,     -999.0,     -999.0,9,     -999.0,9,     -999.0,     -999.0,9,     -999.0,     -999.0,9,     -999.0,     -999.0,     -999.0,9,     -999.0,9,     -999.0,9,     -999.0,9,     -999.0,9,     -999.0,9,     -999.0,9,     -999.0,9
33RO20161119,        P18,      82,          1,         13,      11112,2,20161213,       0259,    -8.2397,  -105.4701,       3562,   855.6,   5.3826,  34.5394,2,  34.5636,4,     58.1,2,    58.1,2,    63.2,2,    42.3,2,    0.00,2,   2.943,2,-999.0000,9,-999.0000,9,-999.0000,9,  2290.9,2,  2328.8,2,   7.4088,2,    25.00, -999.00,9,  -999.0,9,  -999.0,-999.0000,9, -999.00,9,  -999.0,9, -999.00,9, -999.00,9,     -999.0,9, -999.00,9,  -999.0,9,     -999.0,     -999.0,9,     -999.0,9,     -999.0,     -999.0,9,     -999.0,     -999.0,9,     -999.0,     -999.0,     -999.0,9,     -999.0,9,     -999.0,9,     -999.0,9,     -999.0,9,     -999.0,9,     -999.0,9,     -999.0,9
33RO20161119,        P18,      82,          1,         14,      11113,2,20161213,       0259,    -8.2397,  -105.4701,       3562,   744.8,   6.1491,  34.5524,2,  34.5691,4,     37.2,2,    36.4,2,    54.2,2,    43.5,2,    0.00,2,   2.991,2,   0.0094,2,   0.0058,2,   0.0258,2,  2290.8,2,  2315.8,2,   7.3749,2,    25.00, -999.00,9,  -999.0,9,  -999.0,   0.0231,2, -999.00,9,  -999.0,9, -999.00,9, -999.00,9,    49.5247,2, -999.00,9,  -999.0,9,     -999.0,     -999.0,9,     -999.0,9,     -999.0,     -999.0,9,     -999.0,     -999.0,9,     -999.0,     -999.0,     -999.0,9,     -999.0,9,     -999.0,9,     -999.0,9,     -999.0,9,     -999.0,9,     -999.0,9,     -999.0,9
33RO20161119,        P18,      82,          1,         15,      11114,2,20161213,       0259,    -8.2397,  -105.4701,       3562,   640.0,   7.0998,  34.5801,2,  34.5795,2,     16.4,2,    16.2,2,    45.2,2,    43.6,2,    0.00,2,   3.023,2,-999.0000,9,-999.0000,9,-999.0000,9,  2290.9,2,  2307.3,2,   7.3452,2,    25.00, -999.00,9,  -999.0,9,  -999.0,-999.0000,9, -999.00,9,  -999.0,9, -999.00,9, -999.00,9,     -999.0,9, -999.00,9,  -999.0,9,     -999.0,     -999.0,9,     -999.0,9,     -999.0,     -999.0,9,     -999.0,     -999.0,9,     -999.0,     -999.0,     -999.0,9,     -999.0,9,     -999.0,9,     -999.0,9,     -999.0,9,     -999.0,9,     -999.0,9,     -999.0,9
33RO20161119,        P18,      82,          1,         16,      11115,2,20161213,       0259,    -8.2397,  -105.4701,       3562,   535.8,   8.2094,  34.6342,2,  34.6416,2,      8.3,2,     7.9,2,    39.3,2,    41.1,2,    0.00,2,   2.929,2,   0.0539,2,   0.0332,2,   0.0349,2,  2286.7,2,  2303.1,2,   7.3452,2,    25.00, -999.00,9,  -999.0,9,  -999.0,   0.0336,2, -999.00,9,  -999.0,9, -999.00,9, -999.00,9,    72.4173,2, -999.00,9,  -999.0,9,     -999.0,     -999.0,9,     -999.0,9,     -999.0,     -999.0,9,     -999.0,     -999.0,9,     -999.0,     -999.0,     -999.0,9,     -999.0,9,     -999.0,9,     -999.0,9,     -999.0,9,     -999.0,9,     -999.0,9,     -999.0,9
33RO20161119,        P18,      82,          1,         17,      11116,2,20161213,       0259,    -8.2397,  -105.4701,       3562,   444.7,   9.3230,  34.6995,2,  34.6981,2,      5.1,2,     4.1,2,    36.0,2,    38.0,2,    0.00,2,   2.812,2,-999.0000,9,-999.0000,9,-999.0000,9,  2280.1,2,  2303.3,6,   7.3579,2,    25.00, -999.00,9,  -999.0,9,  -999.0,-999.0000,9, -999.00,9,  -999.0,9, -999.00,9, -999.00,9,     -999.0,9, -999.00,9,  -999.0,9,     -999.0,     -999.0,9,     -999.0,9,     -999.0,     -999.0,9,     -999.0,     -999.0,9,     -999.0,     -999.0,     -999.0,9,     -999.0,9,     -999.0,9,     -999.0,9,     -999.0,9,     -999.0,9,     -999.0,9,     -999.0,9
33RO20161119,        P18,      82,          1,         18,      11117,2,20161213,       0259,    -8.2397,  -105.4701,       3562,   350.5,  10.2466,  34.7583,2,  34.7612,2,      5.2,2,     4.5,2,    32.0,2,    35.4,2,    0.00,2,   2.668,2,   0.3418,2,   0.1915,2,   0.0557,2,  2275.1,2,  2301.7,2,   7.3786,2,    25.00, -999.00,9,  -999.0,9,  -999.0,   0.0694,2, -999.00,9,  -999.0,9, -999.00,9, -999.00,9,     72.593,2, -999.00,9,  -999.0,9,     -999.0,     -999.0,9,     -999.0,9,     -999.0,     -999.0,9,     -999.0,     -999.0,9,     -999.0,     -999.0,     -999.0,9,     -999.0,9,     -999.0,9,     -999.0,9,     -999.0,9,     -999.0,9,     -999.0,9,     -999.0,9
33RO20161119,        P18,      82,          1,         19,      11083,2,20161213,       0259,    -8.2397,  -105.4701,       3562,   269.4,  11.2356,  34.8233,2,  34.8290,2,     15.4,2,    13.7,2,    26.9,2,    33.2,2,    0.00,2,   2.470,2,-999.0000,9,-999.0000,9,-999.0000,9,  2261.6,2,  2299.9,2,   7.4223,2,    25.00, -999.00,9,  -999.0,9,  -999.0,-999.0000,9, -999.00,9,  -999.0,9, -999.00,9, -999.00,9,     -999.0,9, -999.00,9,  -999.0,9,     -999.0,     -999.0,9,     -999.0,9,     -999.0,     -999.0,9,     -999.0,     -999.0,9,     -999.0,     -999.0,     -999.0,9,     -999.0,9,     -999.0,9,     -999.0,9,     -999.0,9,     -999.0,9,     -999.0,9,     -999.0,9
33RO20161119,        P18,      82,          1,         20,      11118,2,20161213,       0259,    -8.2397,  -105.4701,       3562,   194.7,  12.3607,  34.8908,2,  34.8908,2,     21.7,2,    20.0,6,    22.3,2,    30.0,2,    0.01,2,   2.365,2,   1.0604,2,   0.5958,2,   0.2623,2,  2246.9,2,  2306.6,2,   7.4611,2,    25.00, -999.00,9,  -999.0,9,  -999.0,   1.3032,2, -999.00,9,  -999.0,9, -999.00,9, -999.00,9,    73.9501,2, -999.00,9,  -999.0,9,     -999.0,     -999.0,9,     -999.0,9,     -999.0,     -999.0,9,     -999.0,     -999.0,9,     -999.0,     -999.0,     -999.0,9,     -999.0,9,     -999.0,9,     -999.0,9,     -999.0,9,     -999.0,9,     -999.0,9,     -999.0,9
33RO20161119,        P18,      82,          1,         21,      11119,2,20161213,       0259,    -8.2397,  -105.4701,       3562,   135.4,  15.8574,  35.1186,2,  35.1358,3,     80.9,2,    73.4,2,     8.2,2,    20.7,2,    0.06,2,   1.840,2,-999.0000,9,-999.0000,9,-999.0000,9,  2203.3,2,  2312.4,6,   7.6245,6,    25.00, -999.00,9,  -999.0,9,  -999.0,-999.0000,9, -999.00,9,  -999.0,9, -999.00,9, -999.00,9,     -999.0,9, -999.00,9,  -999.0,9,     -999.0,     -999.0,9,     -999.0,9,     -999.0,     -999.0,9,     -999.0,     -999.0,9,     -999.0,     -999.0,     -999.0,9,     -999.0,9,     -999.0,9,     -999.0,9,     -999.0,9,     -999.0,9,     -999.0,9,     -999.0,9
33RO20161119,        P18,      82,          1,         22,      11120,2,20161213,       0259,    -8.2397,  -105.4701,       3562,    70.3,  23.4683,  35.2337,2,  35.2442,2,    205.7,2,   200.1,2,     3.3,2,     8.7,2,    0.23,2,   0.908,2,   1.8213,2,   1.1270,2,   1.4148,2,  2083.3,2,  2324.4,2,   7.9197,2,    25.00, -999.00,9,  -999.0,9,  -999.0,   1.6214,2, -999.00,9,  -999.0,9, -999.00,9, -999.00,9,    10.4576,2, -999.00,9,  -999.0,9,     -999.0,     -999.0,9,     -999.0,9,     -999.0,     -999.0,9,     -999.0,     -999.0,9,     -999.0,     -999.0,     -999.0,9,     -999.0,9,     -999.0,9,     -999.0,9,     -999.0,9,     -999.0,9,     -999.0,9,     -999.0,9
33RO20161119,        P18,      82,          1,         23,      11121,2,20161213,       0259,    -8.2397,  -105.4701,       3562,    30.9,  24.6902,  35.3302,2,  35.3314,2,    210.0,2,   209.4,2,     1.9,2,     7.1,2,    0.15,2,   0.704,2,-999.0000,9,-999.0000,9,-999.0000,9,  2056.9,6,  2329.1,2,   7.9761,2,    25.00, -999.00,9,  -999.0,9,  -999.0,-999.0000,9, -999.00,9,  -999.0,9, -999.00,9, -999.00,9,     -999.0,9, -999.00,9,  -999.0,9,     -999.0,     -999.0,9,     -999.0,9,     -999.0,     -999.0,9,     -999.0,     -999.0,9,     -999.0,     -999.0,     -999.0,9,     -999.0,9,     -999.0,9,     -999.0,9,     -999.0,9,     -999.0,9,     -999.0,9,     -999.0,9
33RO20161119,        P18,      82,          1,         24,      11122,2,20161213,       0259,    -8.2397,  -105.4701,       3562,     3.0,  24.7200,  35.3307,2,  35.3293,2,    209.0,2,   210.0,2,     1.9,2,     7.1,2,    0.15,2,   0.696,2,   1.7027,2,   1.0752,2,   1.4487,2,  2054.4,2,  2325.0,2,   7.9760,2,    25.00, -999.00,9,  -999.0,9,  -999.0,        0,2, -999.00,9,  -999.0,9, -999.00,9, -999.00,9,     7.0258,2, -999.00,9,  -999.0,9,     -999.0,     -999.0,9,     -999.0,9,     -999.0,     -999.0,9,     -999.0,     -999.0,9,     -999.0,     -999.0,     -999.0,9,     -999.0,9,     -999.0,9,     -999.0,9,     -999.0,9,     -999.0,9,     -999.0,9,     -999.0,9