BOTTLE,20230606CCHSIOCBG
EXPOCODE,SECT_ID,STNNBR,CASTNO,SAMPNO,BTLNBR,BTLNBR_FLAG_W,DATE,TIME,LATITUDE,LONGITUDE,DEPTH,CTDPRS,CTDTMP,CTDSAL,CTDSAL_FLAG_W,SALNTY,SALNTY_FLAG_W,CTDOXY,CTDOXY_FLAG_W,OXYGEN,OXYGEN_FLAG_W,SILCAT,SILCAT_FLAG_W,NITRAT,NITRAT_FLAG_W,NITRIT,NITRIT_FLAG_W,PHSPHT,PHSPHT_FLAG_W,CFC-11,CFC-11_FLAG_W,CFC-12,CFC-12_FLAG_W,SF6,SF6_FLAG_W,TCARBN,TCARBN_FLAG_W,ALKALI,ALKALI_FLAG_W,PH_SWS,PH_SWS_FLAG_W,PH_TMP,DELC13,DELC13_FLAG_W,DELC14,DELC14_FLAG_W,C14ERR,CCL4,CCL4_FLAG_W,POC,POC_FLAG_W,DOC,DOC_FLAG_W,TDN,TDN_FLAG_W,PON,PON_FLAG_W,N2O,N2O_FLAG_W,D15N_NO3,D15N_NO3_FLAG_W,14C-DOC,14C-DOC_FLAG_W,14C-DOCERR,13C-DOC,13C-DOC_FLAG_W,N2/ARGON_UNSTRIPPED,N2/ARGON_UNSTRIPPED_FLAG_W,N2/ARGON_UNSTRIPPED_ERROR,N2/ARGON,N2/ARGON_FLAG_W,N2/ARGON_ERROR,D15N_N2,D15N_N2_FLAG_W,D15N_N2_ERROR,D15N_NO3_ERROR,D15N_NO2+NO3,D15N_NO2+NO3_FLAG_W,D18O_NO2+NO3,D18O_NO2+NO3_FLAG_W,D18O_NO3,D18O_NO3_FLAG_W,TDP,TDP_FLAG_W,N2O_ALT_1,N2O_ALT_1_FLAG_W,D15N_N2O,D15N_N2O_FLAG_W,D18O_N2O,D18O_N2O_FLAG_W,D15N_ALPHA_N2O,D15N_ALPHA_N2O_FLAG_W
,,,,,,,,,,,METERS,DBAR,ITS-90,PSS-78,,PSS-78,,UMOL/KG,,UMOL/KG,,UMOL/KG,,UMOL/KG,,UMOL/KG,,UMOL/KG,,PMOL/KG,,PMOL/KG,,FMOL/KG,,UMOL/KG,,UMOL/KG,,,,DEG C,/MILLE,,/MILLE,,/MILLE,PMOL/KG,,UG/KG,,UMOL/KG,,UMOL/KG,,UG/KG,,NMOL/KG,,/MILLE,,/MILLE,,/MILLE,/MILLE,,,,,,,,/MILLE,,/MILLE,/MILLE,/MILLE,,/MILLE,,/MILLE,,UMOL/KG,,NMOL/L,,/MILLE,,/MILLE,,/MILLE,
33RO20161119,        P18,     125,          1,          1,      11010,2,20170103,       0940,   -28.4999,  -102.3333,       3587,  3613.9,   1.8681,  34.6832,2,  34.6921,4,    165.8,2,   164.8,2,   117.3,6,    34.3,6,    0.01,6,   2.383,6,   0.0015,2,   0.0016,2,   0.0000,2,  2299.0,6,  2390.8,2,   7.5845,2,    25.00, -999.00,9,  -999.0,9,  -999.0,   2.3997,2, -999.00,9,    37.6,2,   38.50,2, -999.00,9,     21.146,2, -999.00,9,  -999.0,9,     -999.0,     -999.0,9,     -999.0,9,     -999.0,     -999.0,9,     -999.0,     -999.0,9,     -999.0,     -999.0,     -999.0,9,     -999.0,9,     -999.0,9,     -999.0,9,     -999.0,9,     -999.0,9,     -999.0,9,     -999.0,9
33RO20161119,        P18,     125,          1,          2,      11101,2,20170103,       0940,   -28.4999,  -102.3333,       3587,  3280.2,   1.8447,  34.6810,2,  34.6800,2,    164.3,2,   164.1,2,   117.5,6,    34.4,6,    0.00,6,   2.381,6,-999.0000,9,-999.0000,9,-999.0000,9,  2299.3,2,  2390.5,2,   7.5810,2,    25.00, -999.00,9,  -999.0,9,  -999.0,-999.0000,9, -999.00,9,    36.2,2,   38.20,2, -999.00,9,     -999.0,9, -999.00,9,  -999.0,9,     -999.0,     -999.0,9,     -999.0,9,     -999.0,     -999.0,9,     -999.0,     -999.0,9,     -999.0,     -999.0,     -999.0,9,     -999.0,9,     -999.0,9,     -999.0,9,     -999.0,9,     -999.0,9,     -999.0,9,     -999.0,9
33RO20161119,        P18,     125,          1,          3,      11102,2,20170103,       0940,   -28.4999,  -102.3333,       3587,  2961.0,   1.8433,  34.6737,2,  34.6766,2,    162.0,2,   162.0,2,   118.1,6,    34.6,6,    0.00,6,   2.396,6,-999.0000,9,-999.0000,9,-999.0000,9,  2298.1,2,  2356.1,4,   7.5785,6,    25.00, -999.00,9,  -999.0,9,  -999.0,-999.0000,9, -999.00,9,    36.2,2,   38.30,2, -999.00,9,     -999.0,9, -999.00,9,  -999.0,9,     -999.0,     -999.0,9,     -999.0,9,     -999.0,     -999.0,9,     -999.0,     -999.0,9,     -999.0,     -999.0,     -999.0,9,     -999.0,9,     -999.0,9,     -999.0,9,     -999.0,9,     -999.0,9,     -999.0,9,     -999.0,9
33RO20161119,        P18,     125,          1,          4,      11103,2,20170103,       0940,   -28.4999,  -102.3333,       3587,  2684.7,   1.8428,  34.6688,2,  34.6703,2,    160.0,2,   160.3,2,   118.5,6,    34.8,6,    0.00,6,   2.417,6,-999.0000,9,-999.0000,9,-999.0000,9,  2297.6,2,  2394.1,6,   7.5775,2,    25.00, -999.00,9,  -999.0,9,  -999.0,-999.0000,9, -999.00,9,    35.5,2,   39.30,2, -999.00,9,     -999.0,9, -999.00,9,  -999.0,9,     -999.0,     -999.0,9,     -999.0,9,     -999.0,     -999.0,9,     -999.0,     -999.0,9,     -999.0,     -999.0,     -999.0,9,     -999.0,9,     -999.0,9,     -999.0,9,     -999.0,9,     -999.0,9,     -999.0,9,     -999.0,9
33RO20161119,        P18,     125,          1,          5,      11104,2,20170103,       0940,   -28.4999,  -102.3333,       3587,  2409.8,   1.8665,  34.6629,2,  34.6650,2,    158.3,2,   158.8,2,   117.3,2,    34.8,2,    0.00,2,   2.431,2,-999.0000,9,-999.0000,9,-999.0000,9,  2298.4,2,  2392.9,2,   7.5750,2,    25.00, -999.00,9,  -999.0,9,  -999.0,-999.0000,9, -999.00,9,    36.7,2,   38.60,2, -999.00,9,     -999.0,9, -999.00,9,  -999.0,9,     -999.0,     -999.0,9,     -999.0,9,     -999.0,     -999.0,9,     -999.0,     -999.0,9,     -999.0,     -999.0,     -999.0,9,     -999.0,9,     -999.0,9,     -999.0,9,     -999.0,9,     -999.0,9,     -999.0,9,     -999.0,9
33RO20161119,        P18,     125,          1,          6,      11105,2,20170103,       0940,   -28.4999,  -102.3333,       3587,  2129.9,   1.9663,  34.6495,2,  34.6520,2,    156.1,2,   156.6,2,   113.9,2,    35.1,2,    0.00,2,   2.418,2,-999.0000,9,-999.0000,9,-999.0000,9,  2296.7,2,  2387.7,2,   7.5654,2,    25.00, -999.00,9,  -999.0,9,  -999.0,-999.0000,9, -999.00,9,    36.9,2,   39.40,2, -999.00,9,     -999.0,9, -999.00,9,  -999.0,9,     -999.0,     -999.0,9,     -999.0,9,     -999.0,     -999.0,9,     -999.0,     -999.0,9,     -999.0,     -999.0,     -999.0,9,     -999.0,9,     -999.0,9,     -999.0,9,     -999.0,9,     -999.0,9,     -999.0,9,     -999.0,9
33RO20161119,        P18,     125,          1,          7,      11106,2,20170103,       0940,   -28.4999,  -102.3333,       3587,  1850.6,   2.2029,  34.6211,2,  34.6216,2,    154.4,2,   156.8,2,   104.1,2,    35.1,2,    0.00,2,   2.443,2,-999.0000,9,-999.0000,9,-999.0000,9,  2289.9,2,  2376.0,2,   7.5593,2,    25.00, -999.00,9,  -999.0,9,  -999.0,-999.0000,9, -999.00,9,    38.0,2,   39.00,2, -999.00,9,     -999.0,9, -999.00,9,  -999.0,9,     -999.0,     -999.0,9,     -999.0,9,     -999.0,     -999.0,9,     -999.0,     -999.0,9,     -999.0,     -999.0,     -999.0,9,     -999.0,9,     -999.0,9,     -999.0,9,     -999.0,9,     -999.0,9,     -999.0,9,     -999.0,9
33RO20161119,        P18,     125,          1,          8,      11107,2,20170103,       0940,   -28.4999,  -102.3333,       3587,  1569.9,   2.6582,  34.5697,2,  34.5725,2,    146.0,2,   146.9,2,    90.3,2,    36.0,2,    0.00,2,   2.508,2,   0.0057,2,   0.0036,2,   0.0000,2,  2282.3,2,  2359.6,2,   7.5399,2,    25.00, -999.00,9,  -999.0,9,  -999.0,   1.2751,2, -999.00,9,    37.9,2,   39.90,2, -999.00,9,    24.0422,2, -999.00,9,  -999.0,9,     -999.0,     -999.0,9,     -999.0,9,     -999.0,     -999.0,9,     -999.0,     -999.0,9,     -999.0,     -999.0,     -999.0,9,     -999.0,9,     -999.0,9,     -999.0,9,     -999.0,9,     -999.0,9,     -999.0,9,     -999.0,9
33RO20161119,        P18,     125,          1,          9,      11108,2,20170103,       0940,   -28.4999,  -102.3333,       3587,  1325.8,   3.2911,  34.5233,2,  34.5261,2,    129.2,2,   128.0,6,    80.1,2,    37.6,2,    0.00,2,   2.611,2,-999.0000,9,-999.0000,9,-999.0000,9,  2281.0,2,  2345.6,2,   7.5090,2,    25.00, -999.00,9,  -999.0,9,  -999.0,-999.0000,9, -999.00,9,    36.9,2,   42.30,2, -999.00,9,     -999.0,9, -999.00,9,  -999.0,9,     -999.0,     -999.0,9,     -999.0,9,     -999.0,     -999.0,9,     -999.0,     -999.0,9,     -999.0,     -999.0,     -999.0,9,     -999.0,9,     -999.0,9,     -999.0,9,     -999.0,9,     -999.0,9,     -999.0,9,     -999.0,9
33RO20161119,        P18,     125,          1,         10,      11109,2,20170103,       0940,   -28.4999,  -102.3333,       3587,  1174.6,   3.6579,  34.4803,2,  34.4803,2,    124.1,2,   124.6,2,    69.3,2,    38.1,2,    0.00,2,   2.654,2,-999.0000,9,-999.0000,9,-999.0000,9,  2271.6,2,  2334.5,2,   7.4936,2,    25.00, -999.00,9,  -999.0,9,  -999.0,-999.0000,9, -999.00,9,    38.9,2,   43.20,2, -999.00,9,     -999.0,9, -999.00,9,  -999.0,9,     -999.0,     -999.0,9,     -999.0,9,     -999.0,     -999.0,9,     -999.0,     -999.0,9,     -999.0,     -999.0,     -999.0,9,     -999.0,9,     -999.0,9,     -999.0,9,     -999.0,9,     -999.0,9,     -999.0,9,     -999.0,9
33RO20161119,        P18,     125,          1,         11,      11110,2,20170103,       0940,   -28.4999,  -102.3333,       3587,  1052.7,   3.9748,  34.4142,2,  34.4197,2,    137.2,2,   137.0,2,    54.0,2,    37.0,2,    0.00,2,   2.567,2,-999.0000,9,-999.0000,9,-999.0000,9,  2251.9,2,  2318.3,6,   7.5075,2,    25.00, -999.00,9,  -999.0,9,  -999.0,-999.0000,9, -999.00,9,    38.1,2,   41.70,2, -999.00,9,     -999.0,9, -999.00,9,  -999.0,9,     -999.0,     -999.0,9,     -999.0,9,     -999.0,     -999.0,9,     -999.0,     -999.0,9,     -999.0,     -999.0,     -999.0,9,     -999.0,9,     -999.0,9,     -999.0,9,     -999.0,9,     -999.0,9,     -999.0,9,     -999.0,9
33RO20161119,        P18,     125,          1,         12,      11111,2,20170103,       0940,   -28.4999,  -102.3333,       3587,   929.8,   4.3974,  34.3457,2,  34.3569,2,    163.9,2,   163.8,2,    37.1,2,    34.4,2,    0.00,2,   2.367,2,-999.0000,9,-999.0000,9,-999.0000,9,  2221.1,2,  2300.5,2,   7.5501,2,    25.00, -999.00,9,  -999.0,9,  -999.0,-999.0000,9, -999.00,9,    41.7,2,   38.40,2, -999.00,9,     -999.0,9, -999.00,9,  -999.0,9,     -999.0,     -999.0,9,     -999.0,9,     -999.0,     -999.0,9,     -999.0,     -999.0,9,     -999.0,     -999.0,     -999.0,9,     -999.0,9,     -999.0,9,     -999.0,9,     -999.0,9,     -999.0,9,     -999.0,9,     -999.0,9
33RO20161119,        P18,     125,          1,         13,      11112,2,20170103,       0940,   -28.4999,  -102.3333,       3587,   809.6,   5.0420,  34.2915,2,  34.2933,2,    195.3,2,   196.7,2,    21.6,2,    30.6,2,    0.00,2,   2.115,2,-999.0000,9,-999.0000,9,-999.0000,9,  2189.8,2,  2283.8,2,   7.6039,2,    25.00, -999.00,9,  -999.0,9,  -999.0,-999.0000,9, -999.00,9,    41.3,2,   34.50,2, -999.00,9,     -999.0,9, -999.00,9,  -999.0,9,     -999.0,     -999.0,9,     -999.0,9,     -999.0,     -999.0,9,     -999.0,     -999.0,9,     -999.0,     -999.0,     -999.0,9,     -999.0,9,     -999.0,9,     -999.0,9,     -999.0,9,     -999.0,9,     -999.0,9,     -999.0,9
33RO20161119,        P18,     125,          1,         14,      11113,2,20170103,       0940,   -28.4999,  -102.3333,       3587,   760.5,   5.2812,  34.2878,2,  34.2876,2,    201.2,2,   202.7,2,    18.5,2,    29.6,2,    0.00,2,   2.047,2,   2.2578,2,   1.0939,2,   0.3478,2,  2183.3,2,  2283.3,2,   7.6154,2,    25.00, -999.00,9,  -999.0,9,  -999.0,   0.7532,2, -999.00,9,    42.1,2,   33.40,2, -999.00,9,    22.8026,2, -999.00,9,  -999.0,9,     -999.0,     -999.0,9,     -999.0,9,     -999.0,     -999.0,9,     -999.0,     -999.0,9,     -999.0,     -999.0,     -999.0,9,     -999.0,9,     -999.0,9,     -999.0,9,     -999.0,9,     -999.0,9,     -999.0,9,     -999.0,9
33RO20161119,        P18,     125,          1,         15,      11114,2,20170103,       0940,   -28.4999,  -102.3333,       3587,   609.5,   5.9509,  34.2894,2,  34.2904,2,    222.2,2,   219.0,6,    11.7,2,    26.5,2,    0.00,2,   1.853,2,   3.3274,6,   1.6697,6,   0.7173,6,  2166.2,2,  2276.8,2,   7.6441,2,    25.00, -999.00,9,  -999.0,9,  -999.0,   0.9282,2, -999.00,9,    42.0,2,   29.40,2, -999.00,9,    20.7998,2, -999.00,9,  -999.0,9,     -999.0,     -999.0,9,     -999.0,9,     -999.0,     -999.0,9,     -999.0,     -999.0,9,     -999.0,     -999.0,     -999.0,9,     -999.0,9,     -999.0,9,     -999.0,9,     -999.0,9,     -999.0,9,     -999.0,9,     -999.0,9
33RO20161119,        P18,     125,          1,         16,      11115,2,20170103,       0940,   -28.4999,  -102.3333,       3587,   488.8,   6.8601,  34.3109,2,  34.3131,2,    222.9,2,   224.4,2,     7.8,2,    23.6,2,    0.01,2,   1.687,2,   3.7820,2,   1.9758,2,   1.1304,2,  2154.4,2,  2272.8,2,   7.6623,2,    25.00, -999.00,9,  -999.0,9,  -999.0,   1.7162,2, -999.00,9,    44.2,2,   28.20,2, -999.00,9,    21.6275,2, -999.00,9,  -999.0,9,     -999.0,     -999.0,9,     -999.0,9,     -999.0,     -999.0,9,     -999.0,     -999.0,9,     -999.0,     -999.0,     -999.0,9,     -999.0,9,     -999.0,9,     -999.0,9,     -999.0,9,     -999.0,9,     -999.0,9,     -999.0,9
33RO20161119,        P18,     125,          1,         17,      11116,2,20170103,       0940,   -28.4999,  -102.3333,       3587,   394.3,   8.6011,  34.3195,2,  34.3208,2,    178.1,2,   179.0,2,     8.0,2,    22.7,2,    0.00,2,   1.739,2,   3.2220,2,   1.7324,2,   1.0597,2,  2166.0,6,  2270.2,2,   7.6266,2,    25.00, -999.00,9,  -999.0,9,  -999.0,   1.8789,2, -999.00,9,    45.3,2,   26.50,2, -999.00,9,    27.9557,2, -999.00,9,  -999.0,9,     -999.0,     -999.0,9,     -999.0,9,     -999.0,     -999.0,9,     -999.0,     -999.0,9,     -999.0,     -999.0,     -999.0,9,     -999.0,9,     -999.0,9,     -999.0,9,     -999.0,9,     -999.0,9,     -999.0,9,     -999.0,9
33RO20161119,        P18,     125,          1,         18,      11117,2,20170103,       0940,   -28.4999,  -102.3333,       3587,   304.9,  11.5353,  34.4037,2,  34.4020,2,    200.1,2,   199.8,2,     2.7,2,    13.2,2,    0.01,2,   1.113,2,   3.1405,2,   1.7848,2,   1.4048,2,  2119.6,2,  2270.9,2,   7.7535,2,    25.00, -999.00,9,  -999.0,9,  -999.0,    1.822,2, -999.00,9,    45.3,2,   14.80,2, -999.00,9,    17.6618,2, -999.00,9,  -999.0,9,     -999.0,     -999.0,9,     -999.0,9,     -999.0,     -999.0,9,     -999.0,     -999.0,9,     -999.0,     -999.0,     -999.0,9,     -999.0,9,     -999.0,9,     -999.0,9,     -999.0,9,     -999.0,9,     -999.0,9,     -999.0,9
33RO20161119,        P18,     125,          1,         19,      11083,2,20170103,       0940,   -28.4999,  -102.3333,       3587,   225.7,  15.4299,  34.8307,2,  34.8321,2,    210.6,2,   209.6,2,     0.7,2,     4.1,2,    0.03,2,   0.511,2,   2.6048,2,   1.5673,2,   1.5948,2,  2087.7,2,  2294.3,2,   7.8736,2,    25.00, -999.00,9,  -999.0,9,  -999.0,   2.0069,2, -999.00,9,    52.6,2,    7.00,2, -999.00,9,     10.549,2, -999.00,9,  -999.0,9,     -999.0,     -999.0,9,     -999.0,9,     -999.0,     -999.0,9,     -999.0,     -999.0,9,     -999.0,     -999.0,     -999.0,9,     -999.0,9,     -999.0,9,     -999.0,9,     -999.0,9,     -999.0,9,     -999.0,9,     -999.0,9
33RO20161119,        P18,     125,          1,         20,      11118,2,20170103,       0940,   -28.4999,  -102.3333,       3587,   160.1,  19.2015,  35.4838,2,  35.4764,2,    226.9,2,   224.9,2,     0.4,2,     0.0,2,    0.00,2,   0.191,2,   2.1623,2,   1.3211,2,   1.6311,2,  2070.7,2,  2336.0,2,   7.9714,2,    25.00, -999.00,9,  -999.0,9,  -999.0,        0,2, -999.00,9,    63.2,2,    1.80,2, -999.00,9,     7.8722,2, -999.00,9,  -999.0,9,     -999.0,     -999.0,9,     -999.0,9,     -999.0,     -999.0,9,     -999.0,     -999.0,9,     -999.0,     -999.0,     -999.0,9,     -999.0,9,     -999.0,9,     -999.0,9,     -999.0,9,     -999.0,9,     -999.0,9,     -999.0,9
33RO20161119,        P18,     125,          1,         21,      11119,2,20170103,       0940,   -28.4999,  -102.3333,       3587,    95.2,  20.5847,  35.7434,2,  35.7418,2,    228.7,2,   229.4,2,     0.4,2,     0.0,2,    0.00,2,   0.162,2,   2.0369,2,   1.2604,2,   1.6013,2,  2071.1,2,  2351.6,6,   7.9954,2,    25.00, -999.00,9,  -999.0,9,  -999.0,   0.0122,2, -999.00,9,    67.2,2,    3.00,2, -999.00,9,     7.3553,2, -999.00,9,  -999.0,9,     -999.0,     -999.0,9,     -999.0,9,     -999.0,     -999.0,9,     -999.0,     -999.0,9,     -999.0,     -999.0,     -999.0,9,     -999.0,9,     -999.0,9,     -999.0,9,     -999.0,9,     -999.0,9,     -999.0,9,     -999.0,9
33RO20161119,        P18,     125,          1,         22,      11120,2,20170103,       0940,   -28.4999,  -102.3333,       3587,    50.0,  22.0766,  35.8996,2,  35.8981,2,    226.1,2,   224.2,2,     0.5,2,     0.0,2,    0.00,2,   0.166,2,   1.9518,2,   1.2068,2,   1.5516,2,  2076.6,2,  2362.0,2,   7.9996,2,    25.00, -999.00,9,  -999.0,9,  -999.0,        0,2, -999.00,9,    67.3,2,    2.60,2, -999.00,9,     7.2981,2, -999.00,9,  -999.0,9,     -999.0,     -999.0,9,     -999.0,9,     -999.0,     -999.0,9,     -999.0,     -999.0,9,     -999.0,     -999.0,     -999.0,9,     -999.0,9,     -999.0,9,     -999.0,9,     -999.0,9,     -999.0,9,     -999.0,9,     -999.0,9
33RO20161119,        P18,     125,          1,         23,      11121,2,20170103,       0940,   -28.4999,  -102.3333,       3587,    20.1,  23.0779,  35.9109,2,  35.9289,2,    214.5,2,   215.0,2,     0.5,2,     0.0,2,    0.01,2,   0.170,2,   1.8100,2,   1.1328,2,   1.5090,2,  2078.2,6,  2365.4,2,   7.9998,2,    25.00, -999.00,9,  -999.0,9,  -999.0,        0,2, -999.00,9,    70.0,2,    3.80,2, -999.00,9,     6.7342,2, -999.00,9,  -999.0,9,     -999.0,     -999.0,9,     -999.0,9,     -999.0,     -999.0,9,     -999.0,     -999.0,9,     -999.0,     -999.0,     -999.0,9,     -999.0,9,     -999.0,9,     -999.0,9,     -999.0,9,     -999.0,9,     -999.0,9,     -999.0,9
33RO20161119,        P18,     125,          1,         24,      11122,2,20170103,       0940,   -28.4999,  -102.3333,       3587,     3.2,  23.2328,  35.8955,2,  35.8994,2,    213.3,2,   214.6,2,     0.4,2,     0.0,2,    0.00,2,   0.168,2,   1.8049,2,   1.1315,2,   1.5031,2,  2077.1,2,  2363.3,2,   7.9992,2,    25.00, -999.00,9,  -999.0,9,  -999.0,   0.0112,2, -999.00,9,    68.3,2,    3.10,2, -999.00,9,     6.8173,2, -999.00,9,  -999.0,9,     -999.0,     -999.0,9,     -999.0,9,     -999.0,     -999.0,9,     -999.0,     -999.0,9,     -999.0,     -999.0,     -999.0,9,     -999.0,9,     -999.0,9,     -999.0,9,     -999.0,9,     -999.0,9,     -999.0,9,     -999.0,9