BOTTLE,20230606CCHSIOCBG
EXPOCODE,SECT_ID,STNNBR,CASTNO,SAMPNO,BTLNBR,BTLNBR_FLAG_W,DATE,TIME,LATITUDE,LONGITUDE,DEPTH,CTDPRS,CTDTMP,CTDSAL,CTDSAL_FLAG_W,SALNTY,SALNTY_FLAG_W,CTDOXY,CTDOXY_FLAG_W,OXYGEN,OXYGEN_FLAG_W,SILCAT,SILCAT_FLAG_W,NITRAT,NITRAT_FLAG_W,NITRIT,NITRIT_FLAG_W,PHSPHT,PHSPHT_FLAG_W,CFC-11,CFC-11_FLAG_W,CFC-12,CFC-12_FLAG_W,SF6,SF6_FLAG_W,TCARBN,TCARBN_FLAG_W,ALKALI,ALKALI_FLAG_W,PH_SWS,PH_SWS_FLAG_W,PH_TMP,DELC13,DELC13_FLAG_W,DELC14,DELC14_FLAG_W,C14ERR,CCL4,CCL4_FLAG_W,POC,POC_FLAG_W,DOC,DOC_FLAG_W,TDN,TDN_FLAG_W,PON,PON_FLAG_W,N2O,N2O_FLAG_W,D15N_NO3,D15N_NO3_FLAG_W,14C-DOC,14C-DOC_FLAG_W,14C-DOCERR,13C-DOC,13C-DOC_FLAG_W,N2/ARGON_UNSTRIPPED,N2/ARGON_UNSTRIPPED_FLAG_W,N2/ARGON_UNSTRIPPED_ERROR,N2/ARGON,N2/ARGON_FLAG_W,N2/ARGON_ERROR,D15N_N2,D15N_N2_FLAG_W,D15N_N2_ERROR,D15N_NO3_ERROR,D15N_NO2+NO3,D15N_NO2+NO3_FLAG_W,D18O_NO2+NO3,D18O_NO2+NO3_FLAG_W,D18O_NO3,D18O_NO3_FLAG_W,TDP,TDP_FLAG_W,N2O_ALT_1,N2O_ALT_1_FLAG_W,D15N_N2O,D15N_N2O_FLAG_W,D18O_N2O,D18O_N2O_FLAG_W,D15N_ALPHA_N2O,D15N_ALPHA_N2O_FLAG_W
,,,,,,,,,,,METERS,DBAR,ITS-90,PSS-78,,PSS-78,,UMOL/KG,,UMOL/KG,,UMOL/KG,,UMOL/KG,,UMOL/KG,,UMOL/KG,,PMOL/KG,,PMOL/KG,,FMOL/KG,,UMOL/KG,,UMOL/KG,,,,DEG C,/MILLE,,/MILLE,,/MILLE,PMOL/KG,,UG/KG,,UMOL/KG,,UMOL/KG,,UG/KG,,NMOL/KG,,/MILLE,,/MILLE,,/MILLE,/MILLE,,,,,,,,/MILLE,,/MILLE,/MILLE,/MILLE,,/MILLE,,/MILLE,,UMOL/KG,,NMOL/L,,/MILLE,,/MILLE,,/MILLE,
33RO20161119,        P18,      65,          1,          1,      11010,2,20161209,       0600,    -2.5000,  -109.9999,       3931,  3967.1,   1.4850,  34.6921,2,  34.6898,2,    159.5,2,   171.0,3,   140.7,6,    36.1,6,    0.00,6,   2.440,6,   0.0019,2,   0.0009,2,   0.0044,3,  2326.7,6,  2431.3,2,   7.5962,2,    25.00, -999.00,9,  -999.0,9,  -999.0,        0,2, -999.00,9,  -999.0,9, -999.00,9, -999.00,9,    20.0794,2, -999.00,9,  -999.0,9,     -999.0,     -999.0,9,     -999.0,9,     -999.0,     -999.0,9,     -999.0,     -999.0,9,     -999.0,     -999.0,     -999.0,9,     -999.0,9,     -999.0,9,     -999.0,9,     -999.0,9,     -999.0,9,     -999.0,9,     -999.0,9
33RO20161119,        P18,      65,          1,          2,      11101,2,20161209,       0600,    -2.5000,  -109.9999,       3931,  3550.1,   1.4822,  34.6899,2,  34.6881,2,    155.2,2,   156.2,2,   140.8,6,    36.3,6,    0.00,6,   2.457,6,   0.0022,2,   0.0014,2,   0.0000,2,  2326.1,2,  2433.6,2,   7.5951,2,    25.00, -999.00,9,  -999.0,9,  -999.0,        0,2, -999.00,9,  -999.0,9, -999.00,9, -999.00,9,    20.2241,2, -999.00,9,  -999.0,9,     -999.0,     -999.0,9,     -999.0,9,     -999.0,     -999.0,9,     -999.0,     -999.0,9,     -999.0,     -999.0,     -999.0,9,     -999.0,9,     -999.0,9,     -999.0,9,     -999.0,9,     -999.0,9,     -999.0,9,     -999.0,9
33RO20161119,        P18,      65,          1,          3,      11102,2,20161209,       0600,    -2.5000,  -109.9999,       3931,  3200.5,   1.6098,  34.6789,2,  34.6892,4,    142.2,2,   141.9,2,   141.0,6,    37.1,6,    0.00,6,   2.537,6,   0.0011,2,   0.0000,2,   0.0000,2,  2331.1,2,  2421.8,6,   7.5602,2,    25.00, -999.00,9,  -999.0,9,  -999.0,        0,2, -999.00,9,  -999.0,9, -999.00,9, -999.00,9,    21.8384,2, -999.00,9,  -999.0,9,     -999.0,     -999.0,9,     -999.0,9,     -999.0,     -999.0,9,     -999.0,     -999.0,9,     -999.0,     -999.0,     -999.0,9,     -999.0,9,     -999.0,9,     -999.0,9,     -999.0,9,     -999.0,9,     -999.0,9,     -999.0,9
33RO20161119,        P18,      65,          1,          4,      11103,2,20161209,       0600,    -2.5000,  -109.9999,       3931,  2899.9,   1.7473,  34.6752,2,  34.6782,2,    135.1,2,   137.4,2,   141.3,6,    37.6,6,    0.00,6,   2.560,6,   0.0023,2,   0.0013,2,   0.0000,2,  2339.0,2,  2426.2,2,   7.5576,2,    25.00, -999.00,9,  -999.0,9,  -999.0,        0,2, -999.00,9,  -999.0,9, -999.00,9, -999.00,9,    21.5822,2, -999.00,9,  -999.0,9,     -999.0,     -999.0,9,     -999.0,9,     -999.0,     -999.0,9,     -999.0,     -999.0,9,     -999.0,     -999.0,     -999.0,9,     -999.0,9,     -999.0,9,     -999.0,9,     -999.0,9,     -999.0,9,     -999.0,9,     -999.0,9
33RO20161119,        P18,      65,          1,          5,      11104,2,20161209,       0600,    -2.5000,  -109.9999,       3931,  2600.4,   1.8435,  34.6665,2,  34.6675,2,    126.2,2,   127.3,2,   141.0,2,    38.1,2,    0.00,2,   2.618,2,   0.0013,2,   0.0000,2,   0.0000,2,  2342.3,2,  2430.2,3,   7.5368,2,    25.00, -999.00,9,  -999.0,9,  -999.0,        0,2, -999.00,9,  -999.0,9, -999.00,9, -999.00,9,    22.7105,2, -999.00,9,  -999.0,9,     -999.0,     -999.0,9,     -999.0,9,     -999.0,     -999.0,9,     -999.0,     -999.0,9,     -999.0,     -999.0,     -999.0,9,     -999.0,9,     -999.0,9,     -999.0,9,     -999.0,9,     -999.0,9,     -999.0,9,     -999.0,9
33RO20161119,        P18,      65,          1,          6,      11105,2,20161209,       0600,    -2.5000,  -109.9999,       3931,  2299.2,   2.0786,  34.6558,2,  34.6539,2,    112.5,2,   114.8,2,   140.9,2,    39.0,2,    0.00,2,   2.695,2,   0.0015,2,   0.0013,2,   0.0204,2,  2349.1,2,  2421.0,2,   7.5117,2,    25.00, -999.00,9,  -999.0,9,  -999.0,        0,2, -999.00,9,  -999.0,9, -999.00,9, -999.00,9,    24.2958,2, -999.00,9,  -999.0,9,     -999.0,     -999.0,9,     -999.0,9,     -999.0,     -999.0,9,     -999.0,     -999.0,9,     -999.0,     -999.0,     -999.0,9,     -999.0,9,     -999.0,9,     -999.0,9,     -999.0,9,     -999.0,9,     -999.0,9,     -999.0,9
33RO20161119,        P18,      65,          1,          7,      11106,2,20161209,       0600,    -2.5000,  -109.9999,       3931,  1999.9,   2.3329,  34.6440,2,  34.6572,4,    101.2,2,   101.5,6,   137.6,2,    39.7,2,    0.00,2,   2.764,2,   0.0035,2,   0.0026,2,   0.0000,2,  2351.3,6,  2416.6,2,   7.4862,2,    25.00, -999.00,9,  -999.0,9,  -999.0,        0,2, -999.00,9,  -999.0,9, -999.00,9, -999.00,9,    25.9816,2, -999.00,9,  -999.0,9,     -999.0,     -999.0,9,     -999.0,9,     -999.0,     -999.0,9,     -999.0,     -999.0,9,     -999.0,     -999.0,     -999.0,9,     -999.0,9,     -999.0,9,     -999.0,9,     -999.0,9,     -999.0,9,     -999.0,9,     -999.0,9
33RO20161119,        P18,      65,          1,          8,      11107,2,20161209,       0600,    -2.5000,  -109.9999,       3931,  1700.1,   2.7570,  34.6216,2,  34.6204,2,     92.5,2,    93.8,2,   126.7,2,    40.3,2,    0.00,2,   2.820,2,   0.0024,2,   0.0014,2,   0.0000,2,  2344.8,2,  2401.8,2,   7.4741,2,    25.00, -999.00,9,  -999.0,9,  -999.0,        0,2, -999.00,9,  -999.0,9, -999.00,9, -999.00,9,      29.14,2, -999.00,9,  -999.0,9,     -999.0,     -999.0,9,     -999.0,9,     -999.0,     -999.0,9,     -999.0,     -999.0,9,     -999.0,     -999.0,     -999.0,9,     -999.0,9,     -999.0,9,     -999.0,9,     -999.0,9,     -999.0,9,     -999.0,9,     -999.0,9
33RO20161119,        P18,      65,          1,          9,      11108,2,20161209,       0600,    -2.5000,  -109.9999,       3931,  1441.2,   3.2441,  34.5990,2,  34.5970,2,     86.4,2,    89.3,2,   113.6,2,    40.6,2,    0.00,2,   2.864,2,   0.0024,2,   0.0028,2,   0.0349,2,  2335.0,2,  2389.4,2,   7.4608,2,    25.00, -999.00,9,  -999.0,9,  -999.0,        0,2, -999.00,9,  -999.0,9, -999.00,9, -999.00,9,    31.1199,2, -999.00,9,  -999.0,9,     -999.0,     -999.0,9,     -999.0,9,     -999.0,     -999.0,9,     -999.0,     -999.0,9,     -999.0,     -999.0,     -999.0,9,     -999.0,9,     -999.0,9,     -999.0,9,     -999.0,9,     -999.0,9,     -999.0,9,     -999.0,9
33RO20161119,        P18,      65,          1,         10,      11109,2,20161209,       0600,    -2.5000,  -109.9999,       3931,  1275.1,   3.5903,  34.5821,2,  34.5822,2,     87.5,2,    89.9,2,   102.8,2,    40.4,2,    0.00,2,   2.834,2,   0.0041,2,   0.0022,2,   0.0000,2,  2320.9,2,  2377.7,2,   7.4614,2,    25.00, -999.00,9,  -999.0,9,  -999.0,   0.0202,2, -999.00,9,  -999.0,9, -999.00,9, -999.00,9,    31.8145,2, -999.00,9,  -999.0,9,     -999.0,     -999.0,9,     -999.0,9,     -999.0,     -999.0,9,     -999.0,     -999.0,9,     -999.0,     -999.0,     -999.0,9,     -999.0,9,     -999.0,9,     -999.0,9,     -999.0,9,     -999.0,9,     -999.0,9,     -999.0,9
33RO20161119,        P18,      65,          1,         11,      11110,2,20161209,       0600,    -2.5000,  -109.9999,       3931,  1135.5,   4.0061,  34.5631,2,  34.5619,2,     90.2,2,    92.3,2,    90.2,2,    39.8,2,    0.00,2,   2.789,2,   0.0099,2,   0.0054,2,   0.0000,2,  2306.3,2,  2362.6,2,   7.4708,2,    25.00, -999.00,9,  -999.0,9,  -999.0,   0.0114,2, -999.00,9,  -999.0,9, -999.00,9, -999.00,9,    31.3716,2, -999.00,9,  -999.0,9,     -999.0,     -999.0,9,     -999.0,9,     -999.0,     -999.0,9,     -999.0,     -999.0,9,     -999.0,     -999.0,     -999.0,9,     -999.0,9,     -999.0,9,     -999.0,9,     -999.0,9,     -999.0,9,     -999.0,9,     -999.0,9
33RO20161119,        P18,      65,          1,         12,      11111,2,20161209,       0600,    -2.5000,  -109.9999,       3931,  1004.9,   4.5660,  34.5549,2,  34.5539,2,     79.3,2,    80.2,2,    81.1,2,    40.5,2,    0.00,2,   2.840,2,   0.0096,2,   0.0060,2,   0.0202,2,  2301.4,2,  2351.7,2,   7.4520,2,    25.00, -999.00,9,  -999.0,9,  -999.0,   0.0136,2, -999.00,9,  -999.0,9, -999.00,9, -999.00,9,    34.1682,2, -999.00,9,  -999.0,9,     -999.0,     -999.0,9,     -999.0,9,     -999.0,     -999.0,9,     -999.0,     -999.0,9,     -999.0,     -999.0,     -999.0,9,     -999.0,9,     -999.0,9,     -999.0,9,     -999.0,9,     -999.0,9,     -999.0,9,     -999.0,9
33RO20161119,        P18,      65,          1,         13,      11112,2,20161209,       0600,    -2.5000,  -109.9999,       3931,   880.2,   5.2554,  34.5516,2,  34.5502,2,     67.9,2,    68.4,2,    70.3,2,    41.0,2,    0.00,2,   2.857,2,   0.0195,2,   0.0117,2,   0.0000,2,  2293.6,2,  2338.3,2,   7.4335,2,    25.00, -999.00,9,  -999.0,9,  -999.0,   0.0264,2, -999.00,9,  -999.0,9, -999.00,9, -999.00,9,    37.5704,2, -999.00,9,  -999.0,9,     -999.0,     -999.0,9,     -999.0,9,     -999.0,     -999.0,9,     -999.0,     -999.0,9,     -999.0,     -999.0,     -999.0,9,     -999.0,9,     -999.0,9,     -999.0,9,     -999.0,9,     -999.0,9,     -999.0,9,     -999.0,9
33RO20161119,        P18,      65,          1,         14,      11113,2,20161209,       0600,    -2.5000,  -109.9999,       3931,   755.3,   5.8944,  34.5537,2,  34.5832,4,     60.9,2,    62.6,2,    59.7,2,    40.8,2,    0.00,2,   2.830,2,   0.0449,2,   0.0267,2,   0.0576,2,  2282.6,2,  2327.0,2,   7.4292,2,    25.00, -999.00,9,  -999.0,9,  -999.0,   0.0367,2, -999.00,9,  -999.0,9, -999.00,9, -999.00,9,      40.59,2, -999.00,9,  -999.0,9,     -999.0,     -999.0,9,     -999.0,9,     -999.0,     -999.0,9,     -999.0,     -999.0,9,     -999.0,     -999.0,     -999.0,9,     -999.0,9,     -999.0,9,     -999.0,9,     -999.0,9,     -999.0,9,     -999.0,9,     -999.0,9
33RO20161119,        P18,      65,          1,         15,      11114,2,20161209,       0600,    -2.5000,  -109.9999,       3931,   639.6,   6.9585,  34.5845,2,  34.5821,2,     39.6,2,    39.8,6,    50.5,2,    41.5,2,    0.00,2,   2.862,2,   0.0890,6,   0.0491,6,   0.0000,6,  2282.4,2,  2313.3,2,   7.3963,2,    25.00, -999.00,9,  -999.0,9,  -999.0,   0.0414,2, -999.00,9,  -999.0,9, -999.00,9, -999.00,9,     48.662,2, -999.00,9,  -999.0,9,     -999.0,     -999.0,9,     -999.0,9,     -999.0,     -999.0,9,     -999.0,     -999.0,9,     -999.0,     -999.0,     -999.0,9,     -999.0,9,     -999.0,9,     -999.0,9,     -999.0,9,     -999.0,9,     -999.0,9,     -999.0,9
33RO20161119,        P18,      65,          1,         16,      11115,2,20161209,       0600,    -2.5000,  -109.9999,       3931,   529.8,   7.9304,  34.6230,2,  34.6231,2,     27.1,2,    28.0,2,    43.0,2,    40.5,2,    0.00,2,   2.799,2,   0.1666,2,   0.0931,2,   0.0439,2,  2278.8,2,  2306.4,2,   7.3841,2,    25.00, -999.00,9,  -999.0,9,  -999.0,   0.0393,2, -999.00,9,  -999.0,9, -999.00,9, -999.00,9,    58.4249,2, -999.00,9,  -999.0,9,     -999.0,     -999.0,9,     -999.0,9,     -999.0,     -999.0,9,     -999.0,     -999.0,9,     -999.0,     -999.0,     -999.0,9,     -999.0,9,     -999.0,9,     -999.0,9,     -999.0,9,     -999.0,9,     -999.0,9,     -999.0,9
33RO20161119,        P18,      65,          1,         17,      11116,2,20161209,       0600,    -2.5000,  -109.9999,       3931,   424.1,   9.3997,  34.7050,2,  34.7216,4,     11.0,2,    12.5,2,    35.2,2,    38.1,2,    0.00,2,   2.698,2,   0.2986,2,   0.1676,2,   0.0536,2,  2273.4,2,  2299.6,2,   7.3788,2,    25.00, -999.00,9,  -999.0,9,  -999.0,   0.0462,2, -999.00,9,  -999.0,9, -999.00,9, -999.00,9,    72.0093,2, -999.00,9,  -999.0,9,     -999.0,     -999.0,9,     -999.0,9,     -999.0,     -999.0,9,     -999.0,     -999.0,9,     -999.0,     -999.0,     -999.0,9,     -999.0,9,     -999.0,9,     -999.0,9,     -999.0,9,     -999.0,9,     -999.0,9,     -999.0,9
33RO20161119,        P18,      65,          1,         18,      11117,2,20161209,       0600,    -2.5000,  -109.9999,       3931,   324.5,  11.1400,  34.8127,2,  34.8124,2,      6.4,2,     6.7,2,    29.1,2,    34.3,2,    0.01,2,   2.530,2,   0.6432,2,   0.3565,2,   0.1744,2,  2266.9,2,  2300.2,6,   7.4007,6,    25.00, -999.00,9,  -999.0,9,  -999.0,   0.0696,2, -999.00,9,  -999.0,9, -999.00,9, -999.00,9,    77.8072,2, -999.00,9,  -999.0,9,     -999.0,     -999.0,9,     -999.0,9,     -999.0,     -999.0,9,     -999.0,     -999.0,9,     -999.0,     -999.0,     -999.0,9,     -999.0,9,     -999.0,9,     -999.0,9,     -999.0,9,     -999.0,9,     -999.0,9,     -999.0,9
33RO20161119,        P18,      65,          1,         19,      11083,2,20161209,       0600,    -2.5000,  -109.9999,       3931,   244.9,  12.3851,  34.8903,2,  34.8879,2,      5.6,2,     7.0,2,    24.8,2,    33.1,2,    0.01,2,   2.409,2,   0.9973,2,   0.5575,2,   0.2294,2,  2254.8,2,  2301.8,2,   7.4266,2,    25.00, -999.00,9,  -999.0,9,  -999.0,   0.0848,2, -999.00,9,  -999.0,9, -999.00,9, -999.00,9,    81.7808,2, -999.00,9,  -999.0,9,     -999.0,     -999.0,9,     -999.0,9,     -999.0,     -999.0,9,     -999.0,     -999.0,9,     -999.0,     -999.0,     -999.0,9,     -999.0,9,     -999.0,9,     -999.0,9,     -999.0,9,     -999.0,9,     -999.0,9,     -999.0,9
33RO20161119,        P18,      65,          1,         20,      11118,2,20161209,       0600,    -2.5000,  -109.9999,       3931,   165.4,  13.3668,  34.9456,2,  34.9448,2,     31.4,2,    32.2,2,    20.2,2,    30.1,2,    0.01,2,   2.122,2,   1.4073,2,   0.7948,2,   0.4163,2,  2229.5,2,  2300.4,2,   7.5113,2,    25.00, -999.00,9,  -999.0,9,  -999.0,   0.1116,2, -999.00,9,  -999.0,9, -999.00,9, -999.00,9,    65.2744,2, -999.00,9,  -999.0,9,     -999.0,     -999.0,9,     -999.0,9,     -999.0,     -999.0,9,     -999.0,     -999.0,9,     -999.0,     -999.0,     -999.0,9,     -999.0,9,     -999.0,9,     -999.0,9,     -999.0,9,     -999.0,9,     -999.0,9,     -999.0,9
33RO20161119,        P18,      65,          1,         21,      11119,2,20161209,       0600,    -2.5000,  -109.9999,       3931,   100.5,  14.2699,  34.9985,2,  34.9953,2,     64.8,2,    64.8,2,    16.7,2,    25.8,2,    0.04,2,   1.811,2,   1.6290,2,   0.9303,2,   0.6003,2,  2200.2,2,  2303.4,2,   7.6051,2,    25.00, -999.00,9,  -999.0,9,  -999.0,   0.1395,2, -999.00,9,  -999.0,9, -999.00,9, -999.00,9,    44.4268,2, -999.00,9,  -999.0,9,     -999.0,     -999.0,9,     -999.0,9,     -999.0,     -999.0,9,     -999.0,     -999.0,9,     -999.0,     -999.0,     -999.0,9,     -999.0,9,     -999.0,9,     -999.0,9,     -999.0,9,     -999.0,9,     -999.0,9,     -999.0,9
33RO20161119,        P18,      65,          1,         22,      11120,2,20161209,       0600,    -2.5000,  -109.9999,       3931,    50.6,  16.1141,  35.0718,2,  35.1033,3,     88.0,2,    85.3,2,    12.9,2,    21.7,2,    0.46,2,   1.630,2,   1.7439,2,   1.0128,2,   0.7124,2,  2180.4,2,  2312.8,2,   7.6732,2,    25.00, -999.00,9,  -999.0,9,  -999.0,   1.2788,2, -999.00,9,  -999.0,9, -999.00,9, -999.00,9,    50.5257,2, -999.00,9,  -999.0,9,     -999.0,     -999.0,9,     -999.0,9,     -999.0,     -999.0,9,     -999.0,     -999.0,9,     -999.0,     -999.0,     -999.0,9,     -999.0,9,     -999.0,9,     -999.0,9,     -999.0,9,     -999.0,9,     -999.0,9,     -999.0,9
33RO20161119,        P18,      65,          1,         23,      11121,2,20161209,       0600,    -2.5000,  -109.9999,       3931,    28.7,  22.9878,  35.1453,2,  35.1817,2,    200.6,2,   194.9,2,     5.0,2,    10.3,2,    0.31,2,   0.908,2,   1.8148,6,   1.1200,6,   1.3626,6,  2090.6,2,  2311.5,2,   7.8888,2,    25.00, -999.00,9,  -999.0,9,  -999.0,   1.2687,2, -999.00,9,  -999.0,9, -999.00,9, -999.00,9,    12.9779,2, -999.00,9,  -999.0,9,     -999.0,     -999.0,9,     -999.0,9,     -999.0,     -999.0,9,     -999.0,     -999.0,9,     -999.0,     -999.0,     -999.0,9,     -999.0,9,     -999.0,9,     -999.0,9,     -999.0,9,     -999.0,9,     -999.0,9,     -999.0,9
33RO20161119,        P18,      65,          1,         24,      11122,2,20161209,       0600,    -2.5000,  -109.9999,       3931,     3.0,  23.3617,  35.1497,2,  35.1654,2,    204.0,2,   208.5,2,     4.5,2,     9.5,2,    0.29,2,   0.851,2,   1.8321,2,   1.1244,2,   1.4028,2,  2082.7,6,  2312.2,6,   7.9090,2,    25.00, -999.00,9,  -999.0,9,  -999.0,        0,2, -999.00,9,  -999.0,9, -999.00,9, -999.00,9,     9.8799,2, -999.00,9,  -999.0,9,     -999.0,     -999.0,9,     -999.0,9,     -999.0,     -999.0,9,     -999.0,     -999.0,9,     -999.0,     -999.0,     -999.0,9,     -999.0,9,     -999.0,9,     -999.0,9,     -999.0,9,     -999.0,9,     -999.0,9,     -999.0,9