BOTTLE,20230606CCHSIOCBG
EXPOCODE,SECT_ID,STNNBR,CASTNO,SAMPNO,BTLNBR,BTLNBR_FLAG_W,DATE,TIME,LATITUDE,LONGITUDE,DEPTH,CTDPRS,CTDTMP,CTDSAL,CTDSAL_FLAG_W,SALNTY,SALNTY_FLAG_W,CTDOXY,CTDOXY_FLAG_W,OXYGEN,OXYGEN_FLAG_W,SILCAT,SILCAT_FLAG_W,NITRAT,NITRAT_FLAG_W,NITRIT,NITRIT_FLAG_W,PHSPHT,PHSPHT_FLAG_W,CFC-11,CFC-11_FLAG_W,CFC-12,CFC-12_FLAG_W,SF6,SF6_FLAG_W,TCARBN,TCARBN_FLAG_W,ALKALI,ALKALI_FLAG_W,PH_SWS,PH_SWS_FLAG_W,PH_TMP,DELC13,DELC13_FLAG_W,DELC14,DELC14_FLAG_W,C14ERR,CCL4,CCL4_FLAG_W,POC,POC_FLAG_W,DOC,DOC_FLAG_W,TDN,TDN_FLAG_W,PON,PON_FLAG_W,N2O,N2O_FLAG_W,D15N_NO3,D15N_NO3_FLAG_W,14C-DOC,14C-DOC_FLAG_W,14C-DOCERR,13C-DOC,13C-DOC_FLAG_W,N2/ARGON_UNSTRIPPED,N2/ARGON_UNSTRIPPED_FLAG_W,N2/ARGON_UNSTRIPPED_ERROR,N2/ARGON,N2/ARGON_FLAG_W,N2/ARGON_ERROR,D15N_N2,D15N_N2_FLAG_W,D15N_N2_ERROR,D15N_NO3_ERROR,D15N_NO2+NO3,D15N_NO2+NO3_FLAG_W,D18O_NO2+NO3,D18O_NO2+NO3_FLAG_W,D18O_NO3,D18O_NO3_FLAG_W,TDP,TDP_FLAG_W,N2O_ALT_1,N2O_ALT_1_FLAG_W,D15N_N2O,D15N_N2O_FLAG_W,D18O_N2O,D18O_N2O_FLAG_W,D15N_ALPHA_N2O,D15N_ALPHA_N2O_FLAG_W
,,,,,,,,,,,METERS,DBAR,ITS-90,PSS-78,,PSS-78,,UMOL/KG,,UMOL/KG,,UMOL/KG,,UMOL/KG,,UMOL/KG,,UMOL/KG,,PMOL/KG,,PMOL/KG,,FMOL/KG,,UMOL/KG,,UMOL/KG,,,,DEG C,/MILLE,,/MILLE,,/MILLE,PMOL/KG,,UG/KG,,UMOL/KG,,UMOL/KG,,UG/KG,,NMOL/KG,,/MILLE,,/MILLE,,/MILLE,/MILLE,,,,,,,,/MILLE,,/MILLE,/MILLE,/MILLE,,/MILLE,,/MILLE,,UMOL/KG,,NMOL/L,,/MILLE,,/MILLE,,/MILLE,
33RO20161119,        P18,       5,          1,          1,      11010,2,20161125,       0746,    22.0021,  -109.9999,       3157,  3182.0,   1.6573,  34.6717,2,  34.6760,2,    115.0,2,   115.2,2,   164.7,6,    38.4,6,    0.01,6,   2.640,6,   0.0137,2,   0.0121,2,   0.0000,2,  2358.5,2,  2438.0,2,   7.5477,3,    25.00, -999.00,9,  -999.0,9,  -999.0,        0,2, -999.00,9,  -999.0,9, -999.00,9, -999.00,9,    22.2767,2, -999.00,9,  -999.0,9,     -999.0,     -999.0,9,     -999.0,9,     -999.0,     -999.0,9,     -999.0,     -999.0,9,     -999.0,     -999.0,     -999.0,9,     -999.0,9,     -999.0,9,     -999.0,9,     -999.0,9,     -999.0,9,     -999.0,9,     -999.0,9
33RO20161119,        P18,       5,          1,          2,      11101,2,20161125,       0746,    22.0021,  -109.9999,       3157,  2714.2,   1.7489,  34.6654,2,  34.6693,2,    107.9,2,   108.2,2,   160.1,6,    38.9,6,    0.01,6,   2.685,6,   0.0054,2,   0.0047,2,   0.0214,2,  2362.0,2,  2429.8,2,   7.5046,6,    25.00, -999.00,9,  -999.0,9,  -999.0,        0,2, -999.00,9,  -999.0,9, -999.00,9, -999.00,9,    21.9638,2, -999.00,9,  -999.0,9,     -999.0,     -999.0,9,     -999.0,9,     -999.0,     -999.0,9,     -999.0,     -999.0,9,     -999.0,     -999.0,     -999.0,9,     -999.0,9,     -999.0,9,     -999.0,9,     -999.0,9,     -999.0,9,     -999.0,9,     -999.0,9
33RO20161119,        P18,       5,          1,          3,      11102,2,20161125,       0746,    22.0021,  -109.9999,       3157,  2526.7,   1.8167,  34.6598,2,  34.6632,2,    103.6,2,   102.6,2,   158.4,6,    39.2,6,    0.01,6,   2.711,6,   0.0063,2,   0.0050,2,   0.0000,2,  2363.8,2,  2430.1,6,   7.4988,2,    25.00, -999.00,9,  -999.0,9,  -999.0,   0.0292,2, -999.00,9,  -999.0,9, -999.00,9, -999.00,9,    24.4244,2, -999.00,9,  -999.0,9,     -999.0,     -999.0,9,     -999.0,9,     -999.0,     -999.0,9,     -999.0,     -999.0,9,     -999.0,     -999.0,     -999.0,9,     -999.0,9,     -999.0,9,     -999.0,9,     -999.0,9,     -999.0,9,     -999.0,9,     -999.0,9
33RO20161119,        P18,       5,          1,          4,      11103,2,20161125,       0746,    22.0021,  -109.9999,       3157,  2300.3,   1.9081,  34.6543,2,  34.6544,2,     97.2,2,    97.7,6,   156.4,6,    39.6,6,    0.01,6,   2.743,6,   0.0046,2,   0.0032,2,   0.0000,2,  2365.3,2,  2425.2,2,   7.4862,2,    25.00, -999.00,9,  -999.0,9,  -999.0,        0,2, -999.00,9,  -999.0,9, -999.00,9, -999.00,9,    25.4584,2, -999.00,9,  -999.0,9,     -999.0,     -999.0,9,     -999.0,9,     -999.0,     -999.0,9,     -999.0,     -999.0,9,     -999.0,     -999.0,     -999.0,9,     -999.0,9,     -999.0,9,     -999.0,9,     -999.0,9,     -999.0,9,     -999.0,9,     -999.0,9
33RO20161119,        P18,       5,          1,          5,      11104,2,20161125,       0746,    22.0021,  -109.9999,       3157,  2075.4,   2.1095,  34.6422,2,  34.6437,2,     85.3,2,    86.1,2,   152.3,2,    40.4,2,    0.01,2,   2.793,2,   0.0068,2,   0.0035,2,   0.0000,2,  2368.4,2,  2423.2,2,   7.4604,2,    25.00, -999.00,9,  -999.0,9,  -999.0,        0,2, -999.00,9,  -999.0,9, -999.00,9, -999.00,9,    28.1267,2, -999.00,9,  -999.0,9,     -999.0,     -999.0,9,     -999.0,9,     -999.0,     -999.0,9,     -999.0,     -999.0,9,     -999.0,     -999.0,     -999.0,9,     -999.0,9,     -999.0,9,     -999.0,9,     -999.0,9,     -999.0,9,     -999.0,9,     -999.0,9
33RO20161119,        P18,       5,          1,          6,      11105,2,20161125,       0746,    22.0021,  -109.9999,       3157,  1840.0,   2.4501,  34.6248,2,  34.6239,2,     68.0,2,    66.9,2,   146.8,2,    41.5,2,    0.01,2,   2.938,2,   0.0119,2,   0.0037,2,   0.0000,2,  2372.8,2,  2416.4,2,   7.4239,2,    25.00, -999.00,9,  -999.0,9,  -999.0,   0.0173,2, -999.00,9,  -999.0,9, -999.00,9, -999.00,9,    30.7478,2, -999.00,9,  -999.0,9,     -999.0,     -999.0,9,     -999.0,9,     -999.0,     -999.0,9,     -999.0,     -999.0,9,     -999.0,     -999.0,     -999.0,9,     -999.0,9,     -999.0,9,     -999.0,9,     -999.0,9,     -999.0,9,     -999.0,9,     -999.0,9
33RO20161119,        P18,       5,          1,          7,      11106,2,20161125,       0746,    22.0021,  -109.9999,       3157,  1595.1,   2.8965,  34.6038,2,  34.6082,2,     49.6,2,    49.1,2,   138.1,2,    42.7,2,    0.01,2,   3.058,2,   0.0107,2,   0.0031,2,   0.0000,2,  2373.6,2,  2405.6,2,   7.3904,2,    25.00, -999.00,9,  -999.0,9,  -999.0,        0,2, -999.00,9,  -999.0,9, -999.00,9, -999.00,9,    35.7804,2, -999.00,9,  -999.0,9,     -999.0,     -999.0,9,     -999.0,9,     -999.0,     -999.0,9,     -999.0,     -999.0,9,     -999.0,     -999.0,     -999.0,9,     -999.0,9,     -999.0,9,     -999.0,9,     -999.0,9,     -999.0,9,     -999.0,9,     -999.0,9
33RO20161119,        P18,       5,          1,          8,      11107,2,20161125,       0746,    22.0021,  -109.9999,       3157,  1350.9,   3.4408,  34.5780,2,  34.5781,2,     31.5,2,    30.7,2,   126.9,2,    43.8,2,    0.01,2,   3.182,2,   0.0144,2,   0.0049,2,   0.0319,2,  2372.6,2,  2390.3,2,   7.3534,2,    25.00, -999.00,9,  -999.0,9,  -999.0,   0.0228,2, -999.00,9,  -999.0,9, -999.00,9, -999.00,9,    40.7918,2, -999.00,9,  -999.0,9,     -999.0,     -999.0,9,     -999.0,9,     -999.0,     -999.0,9,     -999.0,     -999.0,9,     -999.0,     -999.0,     -999.0,9,     -999.0,9,     -999.0,9,     -999.0,9,     -999.0,9,     -999.0,9,     -999.0,9,     -999.0,9
33RO20161119,        P18,       5,          1,          9,      11108,2,20161125,       0746,    22.0021,  -109.9999,       3157,  1140.5,   4.0653,  34.5484,2,  34.5484,2,     17.3,2,    18.0,2,   113.7,2,    44.3,2,    0.01,2,   3.273,2,   0.0137,2,   0.0035,2,   0.0000,2,  2365.7,2,  2376.2,2,   7.3303,2,    25.00, -999.00,9,  -999.0,9,  -999.0,    0.022,2, -999.00,9,  -999.0,9, -999.00,9, -999.00,9,    47.5354,2, -999.00,9,  -999.0,9,     -999.0,     -999.0,9,     -999.0,9,     -999.0,     -999.0,9,     -999.0,     -999.0,9,     -999.0,     -999.0,     -999.0,9,     -999.0,9,     -999.0,9,     -999.0,9,     -999.0,9,     -999.0,9,     -999.0,9,     -999.0,9
33RO20161119,        P18,       5,          1,         10,      11109,2,20161125,       0746,    22.0021,  -109.9999,       3157,  1006.0,   4.5026,  34.5316,2,  34.5311,2,     10.4,2,    10.0,2,   105.0,2,    44.2,2,    0.01,2,   3.270,2,   0.0157,2,   0.0054,2,   0.0505,2,  2365.3,2,  2365.9,2,   7.3101,2,    25.00, -999.00,9,  -999.0,9,  -999.0,   0.2845,3, -999.00,9,  -999.0,9, -999.00,9, -999.00,9,    50.7712,2, -999.00,9,  -999.0,9,     -999.0,     -999.0,9,     -999.0,9,     -999.0,     -999.0,9,     -999.0,     -999.0,9,     -999.0,     -999.0,     -999.0,9,     -999.0,9,     -999.0,9,     -999.0,9,     -999.0,9,     -999.0,9,     -999.0,9,     -999.0,9
33RO20161119,        P18,       5,          1,         11,      11110,2,20161125,       0746,    22.0021,  -109.9999,       3157,   895.2,   5.0003,  34.5200,2,  34.5192,2,      5.8,2,     5.3,2,    95.2,2,    43.5,2,    0.01,2,   3.263,2,   0.0134,2,   0.0050,2,   0.0000,2,  1449.5,4,  2359.0,2,   7.3085,2,    25.00, -999.00,9,  -999.0,9,  -999.0,   0.0172,2, -999.00,9,  -999.0,9, -999.00,9, -999.00,9,    55.5778,2, -999.00,9,  -999.0,9,     -999.0,     -999.0,9,     -999.0,9,     -999.0,     -999.0,9,     -999.0,     -999.0,9,     -999.0,     -999.0,     -999.0,9,     -999.0,9,     -999.0,9,     -999.0,9,     -999.0,9,     -999.0,9,     -999.0,9,     -999.0,9
33RO20161119,        P18,       5,          1,         12,      11111,2,20161125,       0746,    22.0021,  -109.9999,       3157,   795.5,   5.5406,  34.5164,2,  34.5156,2,      3.9,2,     3.2,2,    85.9,2,    42.3,2,    0.01,2,   3.247,2,   0.0135,2,   0.0066,2,   0.1537,3,  2342.7,2,  2352.2,2,   7.3100,2,    25.00, -999.00,9,  -999.0,9,  -999.0,    0.022,2, -999.00,9,  -999.0,9, -999.00,9, -999.00,9,    56.9123,2, -999.00,9,  -999.0,9,     -999.0,     -999.0,9,     -999.0,9,     -999.0,     -999.0,9,     -999.0,     -999.0,9,     -999.0,     -999.0,     -999.0,9,     -999.0,9,     -999.0,9,     -999.0,9,     -999.0,9,     -999.0,9,     -999.0,9,     -999.0,9
33RO20161119,        P18,       5,          1,         13,      11112,2,20161125,       0746,    22.0021,  -109.9999,       3157,   695.9,   6.1831,  34.5137,2,  34.5172,2,      2.8,2,     2.6,6,    76.9,2,    39.9,2,    0.01,2,   3.187,2,   0.0227,2,   0.0124,2,   0.0000,2,  2333.1,2,  2341.8,2,   7.3152,2,    25.00, -999.00,9,  -999.0,9,  -999.0,   0.0997,2, -999.00,9,  -999.0,9, -999.00,9, -999.00,9,    33.3899,2, -999.00,9,  -999.0,9,     -999.0,     -999.0,9,     -999.0,9,     -999.0,     -999.0,9,     -999.0,     -999.0,9,     -999.0,     -999.0,     -999.0,9,     -999.0,9,     -999.0,9,     -999.0,9,     -999.0,9,     -999.0,9,     -999.0,9,     -999.0,9
33RO20161119,        P18,       5,          1,         14,      11113,2,20161125,       0746,    22.0021,  -109.9999,       3157,   600.8,   6.8352,  34.5005,2,  34.5022,2,      3.0,2,     2.3,2,    68.8,2,    37.3,2,    0.01,2,   3.119,2,   0.0508,2,   0.0288,2,   0.0205,2,  2322.5,2,  2333.4,2,   7.3229,2,    25.00, -999.00,9,  -999.0,9,  -999.0,   0.0357,2, -999.00,9,  -999.0,9, -999.00,9, -999.00,9,    43.3764,2, -999.00,9,  -999.0,9,     -999.0,     -999.0,9,     -999.0,9,     -999.0,     -999.0,9,     -999.0,     -999.0,9,     -999.0,     -999.0,     -999.0,9,     -999.0,9,     -999.0,9,     -999.0,9,     -999.0,9,     -999.0,9,     -999.0,9,     -999.0,9
33RO20161119,        P18,       5,          1,         15,      11114,2,20161125,       0746,    22.0021,  -109.9999,       3157,   510.4,   7.8765,  34.5170,2,  34.5172,2,      2.8,2,     2.7,2,    58.3,2,    33.4,2,    0.01,2,   3.014,2,   0.1456,2,   0.0815,2,   0.0360,2,  2311.4,2,  2328.2,6,   7.3291,2,    25.00, -999.00,9,  -999.0,9,  -999.0,   0.0503,2, -999.00,9,  -999.0,9, -999.00,9, -999.00,9,    47.1751,2, -999.00,9,  -999.0,9,     -999.0,     -999.0,9,     -999.0,9,     -999.0,     -999.0,9,     -999.0,     -999.0,9,     -999.0,     -999.0,     -999.0,9,     -999.0,9,     -999.0,9,     -999.0,9,     -999.0,9,     -999.0,9,     -999.0,9,     -999.0,9
33RO20161119,        P18,       5,          1,         16,      11115,2,20161125,       0746,    22.0021,  -109.9999,       3157,   430.5,   9.0250,  34.5815,2,  34.5790,2,      2.4,2,     1.1,2,    48.3,2,    29.2,2,    0.01,2,   2.901,2,   0.2179,2,   0.1275,2,   0.0622,2,  2302.1,2,  2316.8,2,   7.3430,2,    25.00, -999.00,9,  -999.0,9,  -999.0,   0.1343,2, -999.00,9,  -999.0,9, -999.00,9, -999.00,9,    28.0901,2, -999.00,9,  -999.0,9,     -999.0,     -999.0,9,     -999.0,9,     -999.0,     -999.0,9,     -999.0,     -999.0,9,     -999.0,     -999.0,     -999.0,9,     -999.0,9,     -999.0,9,     -999.0,9,     -999.0,9,     -999.0,9,     -999.0,9,     -999.0,9
33RO20161119,        P18,       5,          1,         17,      11116,2,20161125,       0746,    22.0021,  -109.9999,       3157,   350.5,  10.4004,  34.6541,2,  34.6534,2,      2.3,2,     1.3,2,    38.4,2,    24.9,2,    0.14,2,   2.761,2,   0.4453,2,   0.2628,2,   0.1369,2,  2289.7,2,  2312.8,2,   7.3618,2,    25.00, -999.00,9,  -999.0,9,  -999.0,   0.1186,2, -999.00,9,  -999.0,9, -999.00,9, -999.00,9,    14.0161,2, -999.00,9,  -999.0,9,     -999.0,     -999.0,9,     -999.0,9,     -999.0,     -999.0,9,     -999.0,     -999.0,9,     -999.0,     -999.0,     -999.0,9,     -999.0,9,     -999.0,9,     -999.0,9,     -999.0,9,     -999.0,9,     -999.0,9,     -999.0,9
33RO20161119,        P18,       5,          1,         18,      11117,2,20161125,       0746,    22.0021,  -109.9999,       3157,   270.4,  11.6024,  34.7250,2,  34.7229,2,      2.4,2,     1.3,2,    32.1,2,    22.9,2,    0.56,2,   2.654,2,   0.7027,2,   0.4188,2,   0.2107,2,  2280.6,2,  2311.2,2,   7.3810,2,    25.00, -999.00,9,  -999.0,9,  -999.0,   0.0554,2, -999.00,9,  -999.0,9, -999.00,9, -999.00,9,    11.2014,2, -999.00,9,  -999.0,9,     -999.0,     -999.0,9,     -999.0,9,     -999.0,     -999.0,9,     -999.0,     -999.0,9,     -999.0,     -999.0,     -999.0,9,     -999.0,9,     -999.0,9,     -999.0,9,     -999.0,9,     -999.0,9,     -999.0,9,     -999.0,9
33RO20161119,        P18,       5,          1,         19,      11083,2,20161125,       0746,    22.0021,  -109.9999,       3157,   204.8,  12.5113,  34.7589,2,  34.7590,2,      3.3,2,     3.8,2,    30.5,2,    24.0,2,    0.02,2,   2.632,2,   0.9862,2,   0.5852,2,   0.3514,2,  2275.9,2,  2311.6,2,   7.3991,2,    25.00, -999.00,9,  -999.0,9,  -999.0,    0.074,2, -999.00,9,  -999.0,9, -999.00,9, -999.00,9,    25.4314,2, -999.00,9,  -999.0,9,     -999.0,     -999.0,9,     -999.0,9,     -999.0,     -999.0,9,     -999.0,     -999.0,9,     -999.0,     -999.0,     -999.0,9,     -999.0,9,     -999.0,9,       2.86,2,     -999.0,9,     -999.0,9,     -999.0,9,     -999.0,9
33RO20161119,        P18,       5,          1,         20,      11118,2,20161125,       0746,    22.0021,  -109.9999,       3157,   145.3,  13.7676,  34.7492,2,  34.7494,2,      8.4,2,     7.5,2,    27.0,2,    23.5,2,    0.02,2,   2.575,2,   1.2770,2,   0.7601,2,   0.5393,2,  2267.2,2,  2309.0,2,   7.4184,2,    25.00, -999.00,9,  -999.0,9,  -999.0,    0.101,2, -999.00,9,  -999.0,9, -999.00,9, -999.00,9,    31.3372,2, -999.00,9,  -999.0,9,     -999.0,     -999.0,9,     -999.0,9,     -999.0,     -999.0,9,     -999.0,     -999.0,9,     -999.0,     -999.0,     -999.0,9,     -999.0,9,     -999.0,9,       2.77,2,     -999.0,9,     -999.0,9,     -999.0,9,     -999.0,9
33RO20161119,        P18,       5,          1,         21,      11119,2,20161125,       0746,    22.0021,  -109.9999,       3157,    95.0,  16.6273,  34.5489,2,  34.5417,2,     49.0,2,    41.7,2,    20.4,2,    20.0,2,    0.04,2,   2.092,2,   1.7789,2,   1.0561,2,   1.0450,2,  2212.2,2,  2290.5,6,   7.5328,2,    25.00, -999.00,9,  -999.0,9,  -999.0,   0.2402,2, -999.00,9,  -999.0,9, -999.00,9, -999.00,9,    50.4629,2, -999.00,9,  -999.0,9,     -999.0,     -999.0,9,     -999.0,9,     -999.0,     -999.0,9,     -999.0,     -999.0,9,     -999.0,     -999.0,     -999.0,9,     -999.0,9,     -999.0,9,       2.39,2,     -999.0,9,     -999.0,9,     -999.0,9,     -999.0,9
33RO20161119,        P18,       5,          1,         22,      11120,2,20161125,       0746,    22.0021,  -109.9999,       3157,    50.5,  25.2250,  34.0900,2,  34.1591,2,    209.1,2,   203.8,2,     4.0,2,     0.0,2,    0.02,2,   0.327,2,   1.8002,6,   1.1010,6,   1.5144,6,  2011.5,2,  2283.3,2,   7.9910,6,    25.00, -999.00,9,  -999.0,9,  -999.0,   1.7117,2, -999.00,9,  -999.0,9, -999.00,9, -999.00,9,    10.6932,2, -999.00,9,  -999.0,9,     -999.0,     -999.0,9,     -999.0,9,     -999.0,     -999.0,9,     -999.0,     -999.0,9,     -999.0,     -999.0,     -999.0,9,     -999.0,9,     -999.0,9,       0.66,2,     -999.0,9,     -999.0,9,     -999.0,9,     -999.0,9
33RO20161119,        P18,       5,          1,         23,      11121,2,20161125,       0746,    22.0021,  -109.9999,       3157,    20.2,  27.6122,  34.5388,2,  34.5336,2,    191.8,2,   196.6,2,     4.4,2,     0.0,2,    0.01,2,   0.306,2,   1.5396,2,   0.9619,2,   1.3950,2,  1989.8,2,  2304.5,2,   8.0517,2,    25.00, -999.00,9,  -999.0,9,  -999.0,   1.8958,2, -999.00,9,  -999.0,9, -999.00,9, -999.00,9,      6.475,2, -999.00,9,  -999.0,9,     -999.0,     -999.0,9,     -999.0,9,     -999.0,     -999.0,9,     -999.0,     -999.0,9,     -999.0,     -999.0,     -999.0,9,     -999.0,9,     -999.0,9,       0.78,2,     -999.0,9,     -999.0,9,     -999.0,9,     -999.0,9
33RO20161119,        P18,       5,          1,         24,      11122,2,20161125,       0746,    22.0021,  -109.9999,       3157,     2.4,  28.1430,  34.6082,2,  34.6076,2,    191.4,2,   194.7,2,     3.1,2,     0.0,2,    0.01,2,   0.304,2,   1.4988,2,   0.9421,2,   1.4270,2,  1983.8,2,  2300.7,2,   8.0628,2,    25.00, -999.00,9,  -999.0,9,  -999.0,   1.1519,2, -999.00,9,  -999.0,9, -999.00,9, -999.00,9,     6.6198,2, -999.00,9,  -999.0,9,     -999.0,     -999.0,9,     -999.0,9,     -999.0,     -999.0,9,     -999.0,     -999.0,9,     -999.0,     -999.0,     -999.0,9,     -999.0,9,     -999.0,9,     -999.0,9,     -999.0,9,     -999.0,9,     -999.0,9,     -999.0,9