BOTTLE,20230606CCHSIOCBG
EXPOCODE,SECT_ID,STNNBR,CASTNO,SAMPNO,BTLNBR,BTLNBR_FLAG_W,DATE,TIME,LATITUDE,LONGITUDE,DEPTH,CTDPRS,CTDTMP,CTDSAL,CTDSAL_FLAG_W,SALNTY,SALNTY_FLAG_W,CTDOXY,CTDOXY_FLAG_W,OXYGEN,OXYGEN_FLAG_W,SILCAT,SILCAT_FLAG_W,NITRAT,NITRAT_FLAG_W,NITRIT,NITRIT_FLAG_W,PHSPHT,PHSPHT_FLAG_W,CFC-11,CFC-11_FLAG_W,CFC-12,CFC-12_FLAG_W,SF6,SF6_FLAG_W,TCARBN,TCARBN_FLAG_W,ALKALI,ALKALI_FLAG_W,PH_SWS,PH_SWS_FLAG_W,PH_TMP,DELC13,DELC13_FLAG_W,DELC14,DELC14_FLAG_W,C14ERR,CCL4,CCL4_FLAG_W,POC,POC_FLAG_W,DOC,DOC_FLAG_W,TDN,TDN_FLAG_W,PON,PON_FLAG_W,N2O,N2O_FLAG_W,D15N_NO3,D15N_NO3_FLAG_W,14C-DOC,14C-DOC_FLAG_W,14C-DOCERR,13C-DOC,13C-DOC_FLAG_W,N2/ARGON_UNSTRIPPED,N2/ARGON_UNSTRIPPED_FLAG_W,N2/ARGON_UNSTRIPPED_ERROR,N2/ARGON,N2/ARGON_FLAG_W,N2/ARGON_ERROR,D15N_N2,D15N_N2_FLAG_W,D15N_N2_ERROR,D15N_NO3_ERROR,D15N_NO2+NO3,D15N_NO2+NO3_FLAG_W,D18O_NO2+NO3,D18O_NO2+NO3_FLAG_W,D18O_NO3,D18O_NO3_FLAG_W,TDP,TDP_FLAG_W,N2O_ALT_1,N2O_ALT_1_FLAG_W,D15N_N2O,D15N_N2O_FLAG_W,D18O_N2O,D18O_N2O_FLAG_W,D15N_ALPHA_N2O,D15N_ALPHA_N2O_FLAG_W
,,,,,,,,,,,METERS,DBAR,ITS-90,PSS-78,,PSS-78,,UMOL/KG,,UMOL/KG,,UMOL/KG,,UMOL/KG,,UMOL/KG,,UMOL/KG,,PMOL/KG,,PMOL/KG,,FMOL/KG,,UMOL/KG,,UMOL/KG,,,,DEG C,/MILLE,,/MILLE,,/MILLE,PMOL/KG,,UG/KG,,UMOL/KG,,UMOL/KG,,UG/KG,,NMOL/KG,,/MILLE,,/MILLE,,/MILLE,/MILLE,,,,,,,,/MILLE,,/MILLE,/MILLE,/MILLE,,/MILLE,,/MILLE,,UMOL/KG,,NMOL/L,,/MILLE,,/MILLE,,/MILLE,
33RO20161119,        P18,     166,          1,          1,      11010,2,20170114,       0323,   -49.0001,  -102.9998,       4240,  4272.0,   0.8777,  34.7098,2,  34.7088,2,    203.6,2,   202.8,2,   127.9,2,    32.2,2,    0.01,2,   2.265,2,   0.0147,2,   0.0092,2,   0.0000,2,  2275.6,6,  2361.6,4,   7.6084,6,    25.00, -999.00,9,  -999.0,9,  -999.0,   0.0797,2, -999.00,9,  -999.0,9, -999.00,9, -999.00,9,     18.356,2, -999.00,9,  -999.0,9,     -999.0,     -999.0,9,     -999.0,9,     -999.0,     -999.0,9,     -999.0,     -999.0,9,     -999.0,     -999.0,     -999.0,9,     -999.0,9,     -999.0,9,     -999.0,9,     -999.0,9,     -999.0,9,     -999.0,9,     -999.0,9
33RO20161119,        P18,     166,          1,          2,      11101,2,20170114,       0323,   -49.0001,  -102.9998,       4240,  3964.5,   0.9518,  34.7110,2,  34.7103,2,    199.8,2,   200.0,2,   125.3,2,    32.2,2,    0.01,2,   2.267,2,   0.0132,2,   0.0077,2,   0.0372,2,  2272.0,2,  2379.6,6,   7.6043,2,    25.00, -999.00,9,  -999.0,9,  -999.0,   0.1707,2, -999.00,9,  -999.0,9, -999.00,9, -999.00,9,    18.5953,2, -999.00,9,  -999.0,9,     -999.0,     -999.0,9,     -999.0,9,     -999.0,     -999.0,9,     -999.0,     -999.0,9,     -999.0,     -999.0,     -999.0,9,     -999.0,9,     -999.0,9,     -999.0,9,     -999.0,9,     -999.0,9,     -999.0,9,     -999.0,9
33RO20161119,        P18,     166,          1,          3,      11102,2,20170114,       0323,   -49.0001,  -102.9998,       4240,  3656.0,   1.2759,  34.7149,2,  34.7137,2,    192.8,2,   193.0,2,   116.5,6,    32.3,6,    0.01,6,   2.251,6,   0.0257,2,   0.0125,2,   0.0000,2,  2270.0,2,  2387.5,4,   7.5992,2,    25.00, -999.00,9,  -999.0,9,  -999.0,   0.2652,2, -999.00,9,  -999.0,9, -999.00,9, -999.00,9,    19.3046,2, -999.00,9,  -999.0,9,     -999.0,     -999.0,9,     -999.0,9,     -999.0,     -999.0,9,     -999.0,     -999.0,9,     -999.0,     -999.0,     -999.0,9,     -999.0,9,     -999.0,9,     -999.0,9,     -999.0,9,     -999.0,9,     -999.0,9,     -999.0,9
33RO20161119,        P18,     166,          1,          4,      11103,2,20170114,       0323,   -49.0001,  -102.9998,       4240,  3331.2,   1.5370,  34.7167,2,  34.7156,2,    187.0,2,   186.1,2,   109.1,6,    32.2,6,    0.01,6,   2.247,6,   0.0363,2,   0.0179,2,   0.0000,2,  2270.0,2,  2368.5,2,   7.5931,2,    25.00, -999.00,9,  -999.0,9,  -999.0,   0.9937,2, -999.00,9,  -999.0,9, -999.00,9, -999.00,9,     19.258,2, -999.00,9,  -999.0,9,     -999.0,     -999.0,9,     -999.0,9,     -999.0,     -999.0,9,     -999.0,     -999.0,9,     -999.0,     -999.0,     -999.0,9,     -999.0,9,     -999.0,9,     -999.0,9,     -999.0,9,     -999.0,9,     -999.0,9,     -999.0,9
33RO20161119,        P18,     166,          1,          5,      11104,2,20170114,       0323,   -49.0001,  -102.9998,       4240,  3007.0,   1.6625,  34.7104,2,  34.7131,2,    180.2,2,   179.5,2,   107.9,6,    32.6,6,    0.01,6,   2.275,6,   0.0307,2,   0.0152,2,   0.0404,2,  2274.4,2,  2371.6,2,   7.5877,2,    25.00, -999.00,9,  -999.0,9,  -999.0,   1.0588,2, -999.00,9,  -999.0,9, -999.00,9, -999.00,9,    19.8091,2, -999.00,9,  -999.0,9,     -999.0,     -999.0,9,     -999.0,9,     -999.0,     -999.0,9,     -999.0,     -999.0,9,     -999.0,     -999.0,     -999.0,9,     -999.0,9,     -999.0,9,     -999.0,9,     -999.0,9,     -999.0,9,     -999.0,9,     -999.0,9
33RO20161119,        P18,     166,          1,          6,      11105,2,20170114,       0323,   -49.0001,  -102.9998,       4240,  2686.3,   1.8512,  34.7046,2,  34.7034,2,    174.7,2,   174.2,2,   102.9,6,    32.7,6,    0.01,6,   2.289,6,   0.0425,2,   0.0212,2,   0.0000,2,  2273.2,2,  2364.7,2,   7.5796,2,    25.00, -999.00,9,  -999.0,9,  -999.0,   1.5472,2, -999.00,9,  -999.0,9, -999.00,9, -999.00,9,    20.0934,2, -999.00,9,  -999.0,9,     -999.0,     -999.0,9,     -999.0,9,     -999.0,     -999.0,9,     -999.0,     -999.0,9,     -999.0,     -999.0,     -999.0,9,     -999.0,9,     -999.0,9,     -999.0,9,     -999.0,9,     -999.0,9,     -999.0,9,     -999.0,9
33RO20161119,        P18,     166,          1,          7,      11106,2,20170114,       0323,   -49.0001,  -102.9998,       4240,  2384.5,   2.0898,  34.6938,2,  34.6930,2,    172.6,2,   172.7,6,    93.0,2,    32.5,2,    0.01,2,   2.278,2,   0.0968,2,   0.0470,2,   0.0355,2,  2266.0,2,  2359.7,2,   7.5745,2,    25.00, -999.00,9,  -999.0,9,  -999.0,   1.8049,2, -999.00,9,  -999.0,9, -999.00,9, -999.00,9,    20.2775,2, -999.00,9,  -999.0,9,     -999.0,     -999.0,9,     -999.0,9,     -999.0,     -999.0,9,     -999.0,     -999.0,9,     -999.0,     -999.0,     -999.0,9,     -999.0,9,     -999.0,9,     -999.0,9,18.02684376,2,        9.0,2,      47.52,2,      20.83,2
33RO20161119,        P18,     166,          1,          8,      11107,2,20170114,       0323,   -49.0001,  -102.9998,       4240,  2046.0,   2.3058,  34.6515,2,  34.6507,2,    167.5,2,   167.3,2,    86.0,2,    33.1,2,    0.01,2,   2.327,2,   0.1562,2,   0.0751,2,   0.0484,2,  2264.9,6,  2353.0,2,   7.5605,2,    25.00, -999.00,9,  -999.0,9,  -999.0,   2.3415,2, -999.00,9,  -999.0,9, -999.00,9, -999.00,9,    21.3476,2, -999.00,9,  -999.0,9,     -999.0,     -999.0,9,     -999.0,9,     -999.0,     -999.0,9,     -999.0,     -999.0,9,     -999.0,     -999.0,     -999.0,9,     -999.0,9,     -999.0,9,     -999.0,9,18.89661101,2,       8.94,2,      47.69,2,       20.3,2
33RO20161119,        P18,     166,          1,          9,      11108,4,20170114,       0323,   -49.0001,  -102.9998,       4240,  1687.6,   2.6342,  34.5518,2,  34.3293,4,    166.8,2,  -999.0,9,    31.1,4,    24.8,4,    0.06,4,   1.810,4,-999.0000,9,-999.0000,9,-999.0000,9,  -999.0,9,  -999.0,9,-999.0000,9,  -999.00, -999.00,9,  -999.0,9,  -999.0,-999.0000,9, -999.00,9,  -999.0,9, -999.00,9, -999.00,9,     -999.0,9, -999.00,9,  -999.0,9,     -999.0,     -999.0,9,     -999.0,9,     -999.0,     -999.0,9,     -999.0,     -999.0,9,     -999.0,     -999.0,     -999.0,9,     -999.0,9,     -999.0,9,     -999.0,9,     -999.0,9,     -999.0,9,     -999.0,9,     -999.0,9
33RO20161119,        P18,     166,          1,         10,      11109,2,20170114,       0323,   -49.0001,  -102.9998,       4240,  1471.2,   2.9388,  34.4598,2,  34.4578,2,    173.2,2,   174.9,2,    61.6,2,    34.0,2,    0.01,2,   2.366,2,   0.8309,6,   0.3995,6,   0.1616,6,  2240.4,2,  2323.4,6,   7.5506,2,    25.00, -999.00,9,  -999.0,9,  -999.0,   2.5594,2, -999.00,9,  -999.0,9, -999.00,9, -999.00,9,    22.2164,2, -999.00,9,  -999.0,9,     -999.0,     -999.0,9,     -999.0,9,     -999.0,     -999.0,9,     -999.0,     -999.0,9,     -999.0,     -999.0,     -999.0,9,     -999.0,9,     -999.0,9,     -999.0,9,     -999.0,9,     -999.0,9,     -999.0,9,     -999.0,9
33RO20161119,        P18,     166,          1,         11,      11110,2,20170114,       0323,   -49.0001,  -102.9998,       4240,  1316.0,   3.2754,  34.3856,2,  34.3852,2,    187.4,2,   187.2,2,    50.2,2,    33.1,2,    0.01,2,   2.323,2,   1.3537,2,   0.6602,2,   0.2489,2,  2225.8,2,  2311.6,2,   7.5670,2,    25.00, -999.00,9,  -999.0,9,  -999.0,   3.6786,2, -999.00,9,  -999.0,9, -999.00,9, -999.00,9,    21.5294,2, -999.00,9,  -999.0,9,     -999.0,     -999.0,9,     -999.0,9,     -999.0,     -999.0,9,     -999.0,     -999.0,9,     -999.0,     -999.0,     -999.0,9,     -999.0,9,     -999.0,9,     -999.0,9,18.76427498,2,        8.0,2,      46.13,2,       18.0,2
33RO20161119,        P18,     166,          1,         12,      11111,2,20170114,       0323,   -49.0001,  -102.9998,       4240,  1176.8,   3.7050,  34.3301,2,  34.3294,2,    199.9,2,   199.5,2,    39.6,2,    31.7,2,    0.01,2,   2.210,2,   1.8920,2,   0.9573,2,   0.4782,2,  2207.3,2,  2302.1,2,   7.5848,2,    25.00, -999.00,9,  -999.0,9,  -999.0,   3.7271,2, -999.00,9,  -999.0,9, -999.00,9, -999.00,9,    20.1362,2, -999.00,9,  -999.0,9,     -999.0,     -999.0,9,     -999.0,9,     -999.0,     -999.0,9,     -999.0,     -999.0,9,     -999.0,     -999.0,     -999.0,9,     -999.0,9,     -999.0,9,     -999.0,9,     -999.0,9,     -999.0,9,     -999.0,9,     -999.0,9
33RO20161119,        P18,     166,          1,         13,      11112,2,20170114,       0323,   -49.0001,  -102.9998,       4240,  1034.0,   4.2847,  34.2929,2,  34.2925,2,    209.7,2,   210.0,2,    29.6,2,    30.1,2,    0.01,2,   2.107,2,   2.3878,2,   1.2084,2,   0.6546,2,  2192.0,2,  2293.0,2,   7.6093,2,    25.00, -999.00,9,  -999.0,9,  -999.0,   3.9399,2, -999.00,9,  -999.0,9, -999.00,9, -999.00,9,    18.9861,2, -999.00,9,  -999.0,9,     -999.0,     -999.0,9,     -999.0,9,     -999.0,     -999.0,9,     -999.0,     -999.0,9,     -999.0,     -999.0,     -999.0,9,     -999.0,9,     -999.0,9,     -999.0,9,16.76182119,2,        8.0,2,      44.27,2,      18.94,2
33RO20161119,        P18,     166,          1,         14,      11113,2,20170114,       0323,   -49.0001,  -102.9998,       4240,   901.4,   4.9197,  34.2705,2,  34.2700,2,    222.2,2,   222.0,2,    20.9,2,    28.1,2,    0.01,2,   1.967,2,   2.8588,2,   1.4784,2,   0.8626,2,  2176.4,2,  2283.5,2,   7.6367,2,    25.00, -999.00,9,  -999.0,9,  -999.0,   3.8605,2, -999.00,9,  -999.0,9, -999.00,9, -999.00,9,    17.7829,2, -999.00,9,  -999.0,9,     -999.0,     -999.0,9,     -999.0,9,     -999.0,     -999.0,9,     -999.0,     -999.0,9,     -999.0,     -999.0,     -999.0,9,     -999.0,9,     -999.0,9,     -999.0,9,15.73283385,2,       7.69,2,       43.9,2,      18.46,2
33RO20161119,        P18,     166,          1,         15,      11114,2,20170114,       0323,   -49.0001,  -102.9998,       4240,   764.3,   5.4240,  34.2458,2,  34.2450,2,    244.1,2,   244.6,2,    13.5,2,    25.1,2,    0.01,2,   1.785,2,   3.5491,2,   1.9102,2,   1.4128,2,  2158.6,2,  2281.8,2,   7.6725,2,    25.00, -999.00,9,  -999.0,9,  -999.0,   3.4603,2, -999.00,9,  -999.0,9, -999.00,9, -999.00,9,    15.2536,2, -999.00,9,  -999.0,9,     -999.0,     -999.0,9,     -999.0,9,     -999.0,     -999.0,9,     -999.0,     -999.0,9,     -999.0,     -999.0,     -999.0,9,     -999.0,9,     -999.0,9,     -999.0,9,13.22615644,2,       7.26,2,      43.23,2,      18.63,2
33RO20161119,        P18,     166,          1,         16,      11115,2,20170114,       0323,   -49.0001,  -102.9998,       4240,   633.7,   5.8408,  34.2499,2,  34.2491,2,    263.9,2,   264.1,6,     9.0,2,    22.4,2,    0.01,2,   1.614,2,   3.9622,2,   2.1759,2,   1.8984,2,  2145.7,2,  2278.4,2,   7.6982,2,    25.00, -999.00,9,  -999.0,9,  -999.0,   3.7608,2, -999.00,9,  -999.0,9, -999.00,9, -999.00,9,    14.0486,2, -999.00,9,  -999.0,9,     -999.0,     -999.0,9,     -999.0,9,     -999.0,     -999.0,9,     -999.0,     -999.0,9,     -999.0,     -999.0,     -999.0,9,     -999.0,9,     -999.0,9,     -999.0,9,12.04970985,2,       7.04,2,      44.79,2,      18.66,2
33RO20161119,        P18,     166,          1,         17,      11116,2,20170114,       0323,   -49.0001,  -102.9998,       4240,   525.5,   6.0523,  34.2537,2,  34.2533,2,    273.3,2,   274.2,2,     7.0,2,    20.7,2,    0.01,2,   1.527,2,   4.0313,2,   2.2748,2,   2.1680,2,  2137.8,2,  2274.9,2,   7.7163,2,    25.00, -999.00,9,  -999.0,9,  -999.0,    4.358,2, -999.00,9,  -999.0,9, -999.00,9, -999.00,9,     13.179,2, -999.00,9,  -999.0,9,     -999.0,     -999.0,9,     -999.0,9,     -999.0,     -999.0,9,     -999.0,     -999.0,9,     -999.0,     -999.0,     -999.0,9,     -999.0,9,     -999.0,9,     -999.0,9,11.56153746,2,        6.9,2,      44.09,2,      17.82,2
33RO20161119,        P18,     166,          1,         18,      11117,2,20170114,       0323,   -49.0001,  -102.9998,       4240,   410.6,   6.2621,  34.2639,2,  34.2630,2,    272.8,2,   276.3,2,     6.1,2,    19.9,2,    0.01,2,   1.468,2,   4.0706,2,   2.2965,2,   2.3085,2,  2136.6,2,  2272.0,2,   7.7243,2,    25.00, -999.00,9,  -999.0,9,  -999.0,   4.4008,2, -999.00,9,  -999.0,9, -999.00,9, -999.00,9,    13.4711,2, -999.00,9,  -999.0,9,     -999.0,     -999.0,9,     -999.0,9,     -999.0,     -999.0,9,     -999.0,     -999.0,9,     -999.0,     -999.0,     -999.0,9,     -999.0,9,     -999.0,9,     -999.0,9,11.74445331,2,       6.65,2,      43.66,2,      18.05,2
33RO20161119,        P18,     166,          1,         19,      11083,2,20170114,       0323,   -49.0001,  -102.9998,       4240,   314.0,   6.5080,  34.2789,2,  34.2775,2,    273.1,2,   271.6,2,     5.8,2,    19.6,2,    0.02,2,   1.449,2,   4.0527,2,   2.2778,2,   2.1719,2,  2136.5,2,  2277.8,2,   7.7220,2,    25.00, -999.00,9,  -999.0,9,  -999.0,   4.0274,2, -999.00,9,  -999.0,9, -999.00,9, -999.00,9,    14.4668,2, -999.00,9,  -999.0,9,     -999.0,     -999.0,9,     -999.0,9,     -999.0,     -999.0,9,     -999.0,     -999.0,9,     -999.0,     -999.0,     -999.0,9,     -999.0,9,     -999.0,9,     -999.0,9,  12.496628,2,        6.2,2,      43.22,2,      17.26,2
33RO20161119,        P18,     166,          1,         20,      11118,2,20170114,       0323,   -49.0001,  -102.9998,       4240,   223.7,   6.7842,  34.2804,2,  34.2841,2,    271.3,2,   268.5,2,     5.1,2,    19.1,2,    0.02,2,   1.420,2,   4.0172,6,   2.2758,6,   2.3185,6,  2133.9,2,  2273.0,2,   7.7244,2,    25.00, -999.00,9,  -999.0,9,  -999.0,   4.1606,2, -999.00,9,  -999.0,9, -999.00,9, -999.00,9,     16.372,2, -999.00,9,  -999.0,9,     -999.0,     -999.0,9,     -999.0,9,     -999.0,     -999.0,9,     -999.0,     -999.0,9,     -999.0,     -999.0,     -999.0,9,     -999.0,9,     -999.0,9,     -999.0,9,13.97917288,2,       5.84,2,      40.13,2,      15.35,2
33RO20161119,        P18,     166,          1,         21,      11119,2,20170114,       0323,   -49.0001,  -102.9998,       4240,   144.7,   7.0587,  34.1685,2,  34.1668,2,    287.0,2,   286.6,2,     2.8,2,    15.5,2,    0.30,2,   1.249,2,   3.9188,2,   2.2509,2,   2.6511,2,  2114.4,2,  2270.8,2,   7.7635,2,    25.00, -999.00,9,  -999.0,9,  -999.0,    0.108,2, -999.00,9,  -999.0,9, -999.00,9, -999.00,9,    12.0889,2, -999.00,9,  -999.0,9,     -999.0,     -999.0,9,     -999.0,9,     -999.0,     -999.0,9,     -999.0,     -999.0,9,     -999.0,     -999.0,     -999.0,9,     -999.0,9,     -999.0,9,     -999.0,9,10.65893699,2,       6.38,2,      44.04,2,      18.03,2
33RO20161119,        P18,     166,          1,         22,      11120,2,20170114,       0323,   -49.0001,  -102.9998,       4240,    70.0,   8.9303,  34.1263,2,  34.1251,2,    287.0,2,   286.1,2,     0.9,2,    13.3,2,    0.19,2,   1.121,2,   3.6656,2,   2.1025,2,   2.5014,2,  2097.8,6,  2269.5,2,   7.8040,2,    25.00, -999.00,9,  -999.0,9,  -999.0,   0.0882,2, -999.00,9,  -999.0,9, -999.00,9, -999.00,9,    10.8629,2, -999.00,9,  -999.0,9,     -999.0,     -999.0,9,     -999.0,9,     -999.0,     -999.0,9,     -999.0,     -999.0,9,     -999.0,     -999.0,     -999.0,9,     -999.0,9,     -999.0,9,     -999.0,9, 9.72596277,2,       6.66,2,      45.91,2,       18.8,2
33RO20161119,        P18,     166,          1,         23,      11121,2,20170114,       0323,   -49.0001,  -102.9998,       4240,    30.5,  10.1847,  34.1026,2,  34.1028,2,    281.3,2,   281.0,2,     1.1,2,    12.9,2,    0.20,2,   1.089,2,   3.4828,2,   2.0119,2,   2.4663,2,  2089.5,2,  2265.6,6,   7.8128,2,    25.00, -999.00,9,  -999.0,9,  -999.0,   0.0839,2, -999.00,9,  -999.0,9, -999.00,9, -999.00,9,    10.4657,2, -999.00,9,  -999.0,9,     -999.0,     -999.0,9,     -999.0,9,     -999.0,     -999.0,9,     -999.0,     -999.0,9,     -999.0,     -999.0,     -999.0,9,     -999.0,9,     -999.0,9,     -999.0,9,9.503585604,2,       6.53,2,      44.09,2,      17.81,2
33RO20161119,        P18,     166,          1,         24,      11122,2,20170114,       0323,   -49.0001,  -102.9998,       4240,     7.2,  10.2715,  34.1011,2,  34.0996,2,    279.8,2,   279.8,2,     1.1,2,    13.0,2,    0.21,2,   1.087,2,   3.4890,2,   2.0097,2,   2.4778,2,  2090.8,2,  2265.5,2,   7.8112,6,    25.00, -999.00,9,  -999.0,9,  -999.0,   0.8347,2, -999.00,9,  -999.0,9, -999.00,9, -999.00,9,    10.6113,2, -999.00,9,  -999.0,9,     -999.0,     -999.0,9,     -999.0,9,     -999.0,     -999.0,9,     -999.0,     -999.0,9,     -999.0,     -999.0,     -999.0,9,     -999.0,9,     -999.0,9,     -999.0,9,9.536423458,2,       6.64,2,      44.11,2,      17.72,2