BOTTLE,20230606CCHSIOCBG
EXPOCODE,SECT_ID,STNNBR,CASTNO,SAMPNO,BTLNBR,BTLNBR_FLAG_W,DATE,TIME,LATITUDE,LONGITUDE,DEPTH,CTDPRS,CTDTMP,CTDSAL,CTDSAL_FLAG_W,SALNTY,SALNTY_FLAG_W,CTDOXY,CTDOXY_FLAG_W,OXYGEN,OXYGEN_FLAG_W,SILCAT,SILCAT_FLAG_W,NITRAT,NITRAT_FLAG_W,NITRIT,NITRIT_FLAG_W,PHSPHT,PHSPHT_FLAG_W,CFC-11,CFC-11_FLAG_W,CFC-12,CFC-12_FLAG_W,SF6,SF6_FLAG_W,TCARBN,TCARBN_FLAG_W,ALKALI,ALKALI_FLAG_W,PH_SWS,PH_SWS_FLAG_W,PH_TMP,DELC13,DELC13_FLAG_W,DELC14,DELC14_FLAG_W,C14ERR,CCL4,CCL4_FLAG_W,POC,POC_FLAG_W,DOC,DOC_FLAG_W,TDN,TDN_FLAG_W,PON,PON_FLAG_W,N2O,N2O_FLAG_W,D15N_NO3,D15N_NO3_FLAG_W,14C-DOC,14C-DOC_FLAG_W,14C-DOCERR,13C-DOC,13C-DOC_FLAG_W,N2/ARGON_UNSTRIPPED,N2/ARGON_UNSTRIPPED_FLAG_W,N2/ARGON_UNSTRIPPED_ERROR,N2/ARGON,N2/ARGON_FLAG_W,N2/ARGON_ERROR,D15N_N2,D15N_N2_FLAG_W,D15N_N2_ERROR,D15N_NO3_ERROR,D15N_NO2+NO3,D15N_NO2+NO3_FLAG_W,D18O_NO2+NO3,D18O_NO2+NO3_FLAG_W,D18O_NO3,D18O_NO3_FLAG_W,TDP,TDP_FLAG_W,N2O_ALT_1,N2O_ALT_1_FLAG_W,D15N_N2O,D15N_N2O_FLAG_W,D18O_N2O,D18O_N2O_FLAG_W,D15N_ALPHA_N2O,D15N_ALPHA_N2O_FLAG_W
,,,,,,,,,,,METERS,DBAR,ITS-90,PSS-78,,PSS-78,,UMOL/KG,,UMOL/KG,,UMOL/KG,,UMOL/KG,,UMOL/KG,,UMOL/KG,,PMOL/KG,,PMOL/KG,,FMOL/KG,,UMOL/KG,,UMOL/KG,,,,DEG C,/MILLE,,/MILLE,,/MILLE,PMOL/KG,,UG/KG,,UMOL/KG,,UMOL/KG,,UG/KG,,NMOL/KG,,/MILLE,,/MILLE,,/MILLE,/MILLE,,,,,,,,/MILLE,,/MILLE,/MILLE,/MILLE,,/MILLE,,/MILLE,,UMOL/KG,,NMOL/L,,/MILLE,,/MILLE,,/MILLE,
33RO20161119,        P18,      76,          1,          1,      11010,2,20161211,       1814,    -6.4698,  -107.9400,       3095,  3125.1,   1.7399,  34.6779,2,  34.6791,2,    138.3,2,   137.9,2,   142.1,6,    36.8,6,    0.00,6,   2.547,6,   0.0030,2,   0.0014,2,   0.0396,2,  2336.5,6,  2426.9,2,   7.5655,6,    25.00, -999.00,9,  -999.0,9,  -999.0,        0,2, -999.00,9,  -999.0,9, -999.00,9, -999.00,9,    21.7296,2, -999.00,9,  -999.0,9,     -999.0,     -999.0,9,     -999.0,9,     -999.0,     -999.0,9,     -999.0,     -999.0,9,     -999.0,     -999.0,     -999.0,9,     -999.0,9,     -999.0,9,     -999.0,9,     -999.0,9,     -999.0,9,     -999.0,9,     -999.0,9
33RO20161119,        P18,      76,          1,          2,      11101,2,20161211,       1814,    -6.4698,  -107.9400,       3095,  2879.9,   1.7778,  34.6760,2,  34.6826,4,    135.7,2,   135.1,2,   141.0,6,    36.8,6,    0.00,6,   2.556,6,   0.0024,2,   0.0000,2,   0.0000,2,  2336.8,2,  2425.4,6,   7.5595,2,    25.00, -999.00,9,  -999.0,9,  -999.0,        0,2, -999.00,9,  -999.0,9, -999.00,9, -999.00,9,    21.9891,2, -999.00,9,  -999.0,9,     -999.0,     -999.0,9,     -999.0,9,     -999.0,     -999.0,9,     -999.0,     -999.0,9,     -999.0,     -999.0,     -999.0,9,     -999.0,9,     -999.0,9,     -999.0,9,     -999.0,9,     -999.0,9,     -999.0,9,     -999.0,9
33RO20161119,        P18,      76,          1,          3,      11102,2,20161211,       1814,    -6.4698,  -107.9400,       3095,  2635.5,   1.7999,  34.6732,2,  34.6751,2,    133.9,2,   133.3,6,   139.6,6,    37.0,6,    0.00,6,   2.578,6,-999.0000,9,-999.0000,9,-999.0000,9,  2335.9,2,  2424.2,2,   7.5532,2,    25.00, -999.00,9,  -999.0,9,  -999.0,-999.0000,9, -999.00,9,  -999.0,9, -999.00,9, -999.00,9,     -999.0,9, -999.00,9,  -999.0,9,     -999.0,     -999.0,9,     -999.0,9,     -999.0,     -999.0,9,     -999.0,     -999.0,9,     -999.0,     -999.0,     -999.0,9,     -999.0,9,     -999.0,9,     -999.0,9,     -999.0,9,     -999.0,9,     -999.0,9,     -999.0,9
33RO20161119,        P18,      76,          1,          4,      11103,2,20161211,       1814,    -6.4698,  -107.9400,       3095,  2374.6,   2.0008,  34.6590,2,  34.6609,2,    122.2,2,   121.8,2,   136.8,6,    37.8,6,    0.00,6,   2.642,6,-999.0000,9,-999.0000,9,-999.0000,9,  2337.2,2,  2417.2,2,   7.5307,2,    25.00, -999.00,9,  -999.0,9,  -999.0,-999.0000,9, -999.00,9,  -999.0,9, -999.00,9, -999.00,9,     -999.0,9, -999.00,9,  -999.0,9,     -999.0,     -999.0,9,     -999.0,9,     -999.0,     -999.0,9,     -999.0,     -999.0,9,     -999.0,     -999.0,     -999.0,9,     -999.0,9,     -999.0,9,     -999.0,9,     -999.0,9,     -999.0,9,     -999.0,9,     -999.0,9
33RO20161119,        P18,      76,          1,          5,      11104,2,20161211,       1814,    -6.4698,  -107.9400,       3095,  2145.2,   2.1478,  34.6485,2,  34.6527,4,    117.6,2,   116.9,2,   133.4,2,    38.1,2,    0.00,2,   2.671,2,-999.0000,9,-999.0000,9,-999.0000,9,  2337.7,2,  2412.2,2,   7.5198,2,    25.00, -999.00,9,  -999.0,9,  -999.0,-999.0000,9, -999.00,9,  -999.0,9, -999.00,9, -999.00,9,     -999.0,9, -999.00,9,  -999.0,9,     -999.0,     -999.0,9,     -999.0,9,     -999.0,     -999.0,9,     -999.0,     -999.0,9,     -999.0,     -999.0,     -999.0,9,     -999.0,9,     -999.0,9,     -999.0,9,     -999.0,9,     -999.0,9,     -999.0,9,     -999.0,9
33RO20161119,        P18,      76,          1,          6,      11105,2,20161211,       1814,    -6.4698,  -107.9400,       3095,  1940.0,   2.3576,  34.6358,2,  34.6407,4,    110.2,2,   109.8,2,   129.3,2,    38.7,2,    0.00,2,   2.721,2,   0.0022,6,   0.0006,6,   0.0120,6,  2338.6,6,  2406.0,2,   7.5044,2,    25.00, -999.00,9,  -999.0,9,  -999.0,        0,2, -999.00,9,  -999.0,9, -999.00,9, -999.00,9,    25.6669,2, -999.00,9,  -999.0,9,     -999.0,     -999.0,9,     -999.0,9,     -999.0,     -999.0,9,     -999.0,     -999.0,9,     -999.0,     -999.0,     -999.0,9,     -999.0,9,     -999.0,9,     -999.0,9,     -999.0,9,     -999.0,9,     -999.0,9,     -999.0,9
33RO20161119,        P18,      76,          1,          7,      11106,2,20161211,       1814,    -6.4698,  -107.9400,       3095,  1700.1,   2.7137,  34.6152,2,  34.6169,2,    104.7,2,   103.7,2,   120.6,2,    39.1,2,    0.00,2,   2.758,2,-999.0000,9,-999.0000,9,-999.0000,9,  2331.0,2,  2393.4,2,   7.4913,2,    25.00, -999.00,9,  -999.0,9,  -999.0,-999.0000,9, -999.00,9,  -999.0,9, -999.00,9, -999.00,9,     -999.0,9, -999.00,9,  -999.0,9,     -999.0,     -999.0,9,     -999.0,9,     -999.0,     -999.0,9,     -999.0,     -999.0,9,     -999.0,     -999.0,     -999.0,9,     -999.0,9,     -999.0,9,     -999.0,9,     -999.0,9,     -999.0,9,     -999.0,9,     -999.0,9
33RO20161119,        P18,      76,          1,          8,      11107,2,20161211,       1814,    -6.4698,  -107.9400,       3095,  1455.7,   3.1192,  34.5961,2,  34.6049,4,     97.4,2,    96.4,2,   111.6,2,    39.5,2,    0.01,2,   2.798,2,-999.0000,9,-999.0000,9,-999.0000,9,  2325.2,2,  2384.4,2,   7.4804,2,    25.00, -999.00,9,  -999.0,9,  -999.0,-999.0000,9, -999.00,9,  -999.0,9, -999.00,9, -999.00,9,     -999.0,9, -999.00,9,  -999.0,9,     -999.0,     -999.0,9,     -999.0,9,     -999.0,     -999.0,9,     -999.0,     -999.0,9,     -999.0,     -999.0,     -999.0,9,     -999.0,9,     -999.0,9,     -999.0,9,     -999.0,9,     -999.0,9,     -999.0,9,     -999.0,9
33RO20161119,        P18,      76,          1,          9,      11108,2,20161211,       1814,    -6.4698,  -107.9400,       3095,  1194.6,   3.7324,  34.5687,2,  34.5695,2,     97.5,2,    96.6,2,    95.0,2,    39.1,2,    0.00,2,   2.771,2,-999.0000,9,-999.0000,9,-999.0000,9,  2306.4,2,  2368.0,2,   7.4802,2,    25.00, -999.00,9,  -999.0,9,  -999.0,-999.0000,9, -999.00,9,  -999.0,9, -999.00,9, -999.00,9,     -999.0,9, -999.00,9,  -999.0,9,     -999.0,     -999.0,9,     -999.0,9,     -999.0,     -999.0,9,     -999.0,     -999.0,9,     -999.0,     -999.0,     -999.0,9,     -999.0,9,     -999.0,9,     -999.0,9,     -999.0,9,     -999.0,9,     -999.0,9,     -999.0,9
33RO20161119,        P18,      76,          1,         10,      11109,2,20161211,       1814,    -6.4698,  -107.9400,       3095,  1045.0,   4.1972,  34.5524,2,  34.5559,2,     91.8,2,    91.5,2,    84.0,2,    39.4,2,    0.00,2,   2.795,2,   0.0073,2,   0.0041,2,   0.0000,2,  2296.3,2,  2355.0,2,   7.4697,2,    25.00, -999.00,9,  -999.0,9,  -999.0,   0.0078,2, -999.00,9,  -999.0,9, -999.00,9, -999.00,9,     31.748,2, -999.00,9,  -999.0,9,     -999.0,     -999.0,9,     -999.0,9,     -999.0,     -999.0,9,     -999.0,     -999.0,9,     -999.0,     -999.0,     -999.0,9,     -999.0,9,     -999.0,9,     -999.0,9,     -999.0,9,     -999.0,9,     -999.0,9,     -999.0,9
33RO20161119,        P18,      76,          1,         11,      11110,2,20161211,       1814,    -6.4698,  -107.9400,       3095,   934.9,   4.6024,  34.5428,2,  34.5435,2,     78.3,2,    77.7,2,    75.9,2,    40.7,2,    0.00,2,   2.881,2,-999.0000,9,-999.0000,9,-999.0000,9,  2296.8,2,  2344.6,2,   7.4442,2,    25.00, -999.00,9,  -999.0,9,  -999.0,-999.0000,9, -999.00,9,  -999.0,9, -999.00,9, -999.00,9,     -999.0,9, -999.00,9,  -999.0,9,     -999.0,     -999.0,9,     -999.0,9,     -999.0,     -999.0,9,     -999.0,     -999.0,9,     -999.0,     -999.0,     -999.0,9,     -999.0,9,     -999.0,9,     -999.0,9,     -999.0,9,     -999.0,9,     -999.0,9,     -999.0,9
33RO20161119,        P18,      76,          1,         12,      11111,2,20161211,       1814,    -6.4698,  -107.9400,       3095,   835.1,   5.1837,  34.5408,2,  34.5414,2,     58.9,2,    59.4,2,    67.4,2,    42.1,2,    0.00,2,   2.956,2,   0.0056,2,   0.0024,2,   0.0248,2,  2295.5,2,  2332.3,2,   7.4121,2,    25.00, -999.00,9,  -999.0,9,  -999.0,   0.0194,2, -999.00,9,  -999.0,9, -999.00,9, -999.00,9,      39.24,2, -999.00,9,  -999.0,9,     -999.0,     -999.0,9,     -999.0,9,     -999.0,     -999.0,9,     -999.0,     -999.0,9,     -999.0,     -999.0,     -999.0,9,     -999.0,9,     -999.0,9,     -999.0,9,     -999.0,9,     -999.0,9,     -999.0,9,     -999.0,9
33RO20161119,        P18,      76,          1,         13,      11112,2,20161211,       1814,    -6.4698,  -107.9400,       3095,   730.0,   5.9347,  34.5443,2,  34.5455,2,     47.7,2,    44.9,2,    55.7,2,    42.8,2,    0.00,2,   2.964,2,-999.0000,9,-999.0000,9,-999.0000,9,  2293.1,2,  2319.9,2,   7.3895,2,    25.00, -999.00,9,  -999.0,9,  -999.0,-999.0000,9, -999.00,9,  -999.0,9, -999.00,9, -999.00,9,     -999.0,9, -999.00,9,  -999.0,9,     -999.0,     -999.0,9,     -999.0,9,     -999.0,     -999.0,9,     -999.0,     -999.0,9,     -999.0,     -999.0,     -999.0,9,     -999.0,9,     -999.0,9,     -999.0,9,     -999.0,9,     -999.0,9,     -999.0,9,     -999.0,9
33RO20161119,        P18,      76,          1,         14,      11113,2,20161211,       1814,    -6.4698,  -107.9400,       3095,   640.2,   6.8203,  34.5690,2,  34.5694,2,     29.2,2,    29.3,2,    46.5,2,    42.8,2,    0.00,2,   2.960,2,   0.0205,2,   0.0111,2,   0.0378,2,  2289.0,2,  2309.6,2,   7.3703,2,    25.00, -999.00,9,  -999.0,9,  -999.0,   0.0338,2, -999.00,9,  -999.0,9, -999.00,9, -999.00,9,    56.1643,2, -999.00,9,  -999.0,9,     -999.0,     -999.0,9,     -999.0,9,     -999.0,     -999.0,9,     -999.0,     -999.0,9,     -999.0,     -999.0,     -999.0,9,     -999.0,9,     -999.0,9,     -999.0,9,     -999.0,9,     -999.0,9,     -999.0,9,     -999.0,9
33RO20161119,        P18,      76,          1,         15,      11114,2,20161211,       1814,    -6.4698,  -107.9400,       3095,   550.0,   7.8029,  34.6189,2,  34.6193,2,      9.4,2,     8.5,2,    43.4,2,    42.2,2,    0.00,2,   2.982,2,-999.0000,9,-999.0000,9,-999.0000,9,  2293.0,2,  2308.6,2,   7.3432,2,    25.00, -999.00,9,  -999.0,9,  -999.0,-999.0000,9, -999.00,9,  -999.0,9, -999.00,9, -999.00,9,     -999.0,9, -999.00,9,  -999.0,9,     -999.0,     -999.0,9,     -999.0,9,     -999.0,     -999.0,9,     -999.0,     -999.0,9,     -999.0,     -999.0,     -999.0,9,     -999.0,9,     -999.0,9,     -999.0,9,     -999.0,9,     -999.0,9,     -999.0,9,     -999.0,9
33RO20161119,        P18,      76,          1,         16,      11115,2,20161211,       1814,    -6.4698,  -107.9400,       3095,   454.9,   9.0947,  34.6874,2,  34.6880,2,     11.6,2,    10.4,2,    36.8,2,    38.3,2,    0.00,2,   2.752,2,   0.2080,2,   0.1164,2,   0.0235,2,  2280.6,2,  2306.4,6,   7.3685,2,    25.00, -999.00,9,  -999.0,9,  -999.0,     0.05,2, -999.00,9,  -999.0,9, -999.00,9, -999.00,9,    71.8905,2, -999.00,9,  -999.0,9,     -999.0,     -999.0,9,     -999.0,9,     -999.0,     -999.0,9,     -999.0,     -999.0,9,     -999.0,     -999.0,     -999.0,9,     -999.0,9,     -999.0,9,     -999.0,9,     -999.0,9,     -999.0,9,     -999.0,9,     -999.0,9
33RO20161119,        P18,      76,          1,         17,      11116,2,20161211,       1814,    -6.4698,  -107.9400,       3095,   380.3,  10.0346,  34.7453,2,  34.7444,2,     16.4,2,    16.2,2,    31.5,2,    35.6,2,    0.01,2,   2.595,2,   0.4035,2,   0.2226,2,   0.0978,2,  2268.4,2,  2303.1,2,   7.4021,2,    25.00, -999.00,9,  -999.0,9,  -999.0,   0.0971,2, -999.00,9,  -999.0,9, -999.00,9, -999.00,9,    71.2383,2, -999.00,9,  -999.0,9,     -999.0,     -999.0,9,     -999.0,9,     -999.0,     -999.0,9,     -999.0,     -999.0,9,     -999.0,     -999.0,     -999.0,9,     -999.0,9,     -999.0,9,     -999.0,9,     -999.0,9,     -999.0,9,     -999.0,9,     -999.0,9
33RO20161119,        P18,      76,          1,         18,      11117,2,20161211,       1814,    -6.4698,  -107.9400,       3095,   300.3,  11.0951,  34.8132,2,  34.8109,2,     34.8,2,    34.4,6,    25.6,2,    31.9,2,    0.01,2,   2.332,2,   0.7859,2,   0.4313,2,   0.1848,2,  2246.3,2,  2305.0,2,   7.4721,2,    25.00, -999.00,9,  -999.0,9,  -999.0,   0.0856,2, -999.00,9,  -999.0,9, -999.00,9, -999.00,9,    64.1785,2, -999.00,9,  -999.0,9,     -999.0,     -999.0,9,     -999.0,9,     -999.0,     -999.0,9,     -999.0,     -999.0,9,     -999.0,     -999.0,     -999.0,9,     -999.0,9,     -999.0,9,     -999.0,9,     -999.0,9,     -999.0,9,     -999.0,9,     -999.0,9
33RO20161119,        P18,      76,          1,         19,      11083,2,20161211,       1814,    -6.4698,  -107.9400,       3095,   235.1,  11.8414,  34.8617,2,  34.8632,2,     25.8,2,    26.7,2,    23.5,2,    31.1,2,    0.01,2,   2.329,2,   0.9434,2,   0.5213,2,   0.2275,2,  2246.1,2,  2303.3,2,   7.4666,2,    25.00, -999.00,9,  -999.0,9,  -999.0,    0.167,2, -999.00,9,  -999.0,9, -999.00,9, -999.00,9,    70.3927,2, -999.00,9,  -999.0,9,     -999.0,     -999.0,9,     -999.0,9,     -999.0,     -999.0,9,     -999.0,     -999.0,9,     -999.0,     -999.0,     -999.0,9,     -999.0,9,     -999.0,9,     -999.0,9,     -999.0,9,     -999.0,9,     -999.0,9,     -999.0,9
33RO20161119,        P18,      76,          1,         20,      11118,2,20161211,       1814,    -6.4698,  -107.9400,       3095,   170.0,  14.0089,  34.9785,2,  34.9768,2,     35.4,2,    33.4,2,    13.7,2,    24.7,2,    0.02,2,   2.194,2,   1.7183,2,   0.9960,2,   0.6981,2,  2233.6,2,  2305.5,2,   7.5121,2,    25.00, -999.00,9,  -999.0,9,  -999.0,   0.5074,2, -999.00,9,  -999.0,9, -999.00,9, -999.00,9,    73.8844,2, -999.00,9,  -999.0,9,     -999.0,     -999.0,9,     -999.0,9,     -999.0,     -999.0,9,     -999.0,     -999.0,9,     -999.0,     -999.0,     -999.0,9,     -999.0,9,     -999.0,9,     -999.0,9,     -999.0,9,     -999.0,9,     -999.0,9,     -999.0,9
33RO20161119,        P18,      76,          1,         21,      11119,2,20161211,       1814,    -6.4698,  -107.9400,       3095,   120.6,  18.0801,  35.3883,2,  35.3692,2,    139.6,2,   127.9,2,     4.2,2,    12.6,2,    0.71,2,   1.292,2,   2.1502,2,   1.3043,2,   1.3721,2,  2160.9,2,  2332.0,2,   7.7738,2,    25.00, -999.00,9,  -999.0,9,  -999.0,   1.7333,2, -999.00,9,  -999.0,9, -999.00,9, -999.00,9,    26.1501,2, -999.00,9,  -999.0,9,     -999.0,     -999.0,9,     -999.0,9,     -999.0,     -999.0,9,     -999.0,     -999.0,9,     -999.0,     -999.0,     -999.0,9,     -999.0,9,     -999.0,9,     -999.0,9,     -999.0,9,     -999.0,9,     -999.0,9,     -999.0,9
33RO20161119,        P18,      76,          1,         22,      11120,2,20161211,       1814,    -6.4698,  -107.9400,       3095,    70.3,  24.8456,  35.2879,2,  35.2900,2,    208.0,2,   206.5,2,     2.7,2,     7.5,2,    0.16,2,   0.759,2,   1.7073,2,   1.0710,2,   1.4585,2,  2067.2,2,  2331.2,2,   7.9616,2,    25.00, -999.00,9,  -999.0,9,  -999.0,   1.9389,2, -999.00,9,  -999.0,9, -999.00,9, -999.00,9,     7.3836,2, -999.00,9,  -999.0,9,     -999.0,     -999.0,9,     -999.0,9,     -999.0,     -999.0,9,     -999.0,     -999.0,9,     -999.0,     -999.0,     -999.0,9,     -999.0,9,     -999.0,9,     -999.0,9,     -999.0,9,     -999.0,9,     -999.0,9,     -999.0,9
33RO20161119,        P18,      76,          1,         23,      11121,2,20161211,       1814,    -6.4698,  -107.9400,       3095,    30.1,  24.9340,  35.2725,2,  35.2710,2,    208.3,2,   208.0,2,     2.7,2,     7.8,2,    0.17,2,   0.766,2,   1.7066,2,   1.0638,2,   1.4271,2,  2064.7,2,  2325.4,6,   7.9613,2,    25.00, -999.00,9,  -999.0,9,  -999.0,   1.7927,2, -999.00,9,  -999.0,9, -999.00,9, -999.00,9,     7.0244,2, -999.00,9,  -999.0,9,     -999.0,     -999.0,9,     -999.0,9,     -999.0,     -999.0,9,     -999.0,     -999.0,9,     -999.0,     -999.0,     -999.0,9,     -999.0,9,     -999.0,9,     -999.0,9,     -999.0,9,     -999.0,9,     -999.0,9,     -999.0,9
33RO20161119,        P18,      76,          1,         24,      11122,2,20161211,       1814,    -6.4698,  -107.9400,       3095,     3.2,  25.0377,  35.2784,2,  35.2757,2,    206.2,2,   208.0,2,     2.7,2,     7.8,2,    0.17,2,   0.776,2,   1.6898,2,   1.0629,2,   1.4346,2,  2065.5,6,  2328.2,2,   7.9633,6,    25.00, -999.00,9,  -999.0,9,  -999.0,   0.0112,2, -999.00,9,  -999.0,9, -999.00,9, -999.00,9,     6.8285,2, -999.00,9,  -999.0,9,     -999.0,     -999.0,9,     -999.0,9,     -999.0,     -999.0,9,     -999.0,     -999.0,9,     -999.0,     -999.0,     -999.0,9,     -999.0,9,     -999.0,9,     -999.0,9,     -999.0,9,     -999.0,9,     -999.0,9,     -999.0,9