BOTTLE,20230606CCHSIOCBG
EXPOCODE,SECT_ID,STNNBR,CASTNO,SAMPNO,BTLNBR,BTLNBR_FLAG_W,DATE,TIME,LATITUDE,LONGITUDE,DEPTH,CTDPRS,CTDTMP,CTDSAL,CTDSAL_FLAG_W,SALNTY,SALNTY_FLAG_W,CTDOXY,CTDOXY_FLAG_W,OXYGEN,OXYGEN_FLAG_W,SILCAT,SILCAT_FLAG_W,NITRAT,NITRAT_FLAG_W,NITRIT,NITRIT_FLAG_W,PHSPHT,PHSPHT_FLAG_W,CFC-11,CFC-11_FLAG_W,CFC-12,CFC-12_FLAG_W,SF6,SF6_FLAG_W,TCARBN,TCARBN_FLAG_W,ALKALI,ALKALI_FLAG_W,PH_SWS,PH_SWS_FLAG_W,PH_TMP,DELC13,DELC13_FLAG_W,DELC14,DELC14_FLAG_W,C14ERR,CCL4,CCL4_FLAG_W,POC,POC_FLAG_W,DOC,DOC_FLAG_W,TDN,TDN_FLAG_W,PON,PON_FLAG_W,N2O,N2O_FLAG_W,D15N_NO3,D15N_NO3_FLAG_W,14C-DOC,14C-DOC_FLAG_W,14C-DOCERR,13C-DOC,13C-DOC_FLAG_W,N2/ARGON_UNSTRIPPED,N2/ARGON_UNSTRIPPED_FLAG_W,N2/ARGON_UNSTRIPPED_ERROR,N2/ARGON,N2/ARGON_FLAG_W,N2/ARGON_ERROR,D15N_N2,D15N_N2_FLAG_W,D15N_N2_ERROR,D15N_NO3_ERROR,D15N_NO2+NO3,D15N_NO2+NO3_FLAG_W,D18O_NO2+NO3,D18O_NO2+NO3_FLAG_W,D18O_NO3,D18O_NO3_FLAG_W,TDP,TDP_FLAG_W,N2O_ALT_1,N2O_ALT_1_FLAG_W,D15N_N2O,D15N_N2O_FLAG_W,D18O_N2O,D18O_N2O_FLAG_W,D15N_ALPHA_N2O,D15N_ALPHA_N2O_FLAG_W
,,,,,,,,,,,METERS,DBAR,ITS-90,PSS-78,,PSS-78,,UMOL/KG,,UMOL/KG,,UMOL/KG,,UMOL/KG,,UMOL/KG,,UMOL/KG,,PMOL/KG,,PMOL/KG,,FMOL/KG,,UMOL/KG,,UMOL/KG,,,,DEG C,/MILLE,,/MILLE,,/MILLE,PMOL/KG,,UG/KG,,UMOL/KG,,UMOL/KG,,UG/KG,,NMOL/KG,,/MILLE,,/MILLE,,/MILLE,/MILLE,,,,,,,,/MILLE,,/MILLE,/MILLE,/MILLE,,/MILLE,,/MILLE,,UMOL/KG,,NMOL/L,,/MILLE,,/MILLE,,/MILLE,
33RO20161119,        P18,      49,          1,          1,      11010,2,20161206,       0007,     1.5002,  -110.0001,       3772,  3819.2,   1.4917,  34.6897,2,  34.6931,4,    147.3,2,   146.8,2,   148.9,6,    36.8,6,    0.01,6,   2.453,6,   0.0025,2,   0.0023,2,   0.0738,2,  2340.8,2,  2435.5,2,   7.6225,3,    25.00, -999.00,9,  -999.0,9,  -999.0,        0,2, -999.00,9,  -999.0,9, -999.00,9, -999.00,9,    20.3307,2, -999.00,9,  -999.0,9,     -999.0,     -999.0,9,     -999.0,9,     -999.0,     -999.0,9,     -999.0,     -999.0,9,     -999.0,     -999.0,     -999.0,9,     -999.0,9,     -999.0,9,     -999.0,9,     -999.0,9,     -999.0,9,     -999.0,9,     -999.0,9
33RO20161119,        P18,      49,          1,          2,      11101,2,20161206,       0007,     1.5002,  -110.0001,       3772,  3549.7,   1.5113,  34.6872,2,  34.6870,2,    144.1,2,   144.0,2,   148.0,6,    36.9,6,    0.01,6,   2.466,6,   0.0017,2,   0.0010,2,   0.0286,2,  2341.8,2,  2431.1,2,   7.5759,2,    25.00, -999.00,9,  -999.0,9,  -999.0,        0,2, -999.00,9,  -999.0,9, -999.00,9, -999.00,9,    20.9904,2, -999.00,9,  -999.0,9,     -999.0,     -999.0,9,     -999.0,9,     -999.0,     -999.0,9,     -999.0,     -999.0,9,     -999.0,     -999.0,     -999.0,9,     -999.0,9,     -999.0,9,     -999.0,9,     -999.0,9,     -999.0,9,     -999.0,9,     -999.0,9
33RO20161119,        P18,      49,          1,          3,      11102,2,20161206,       0007,     1.5002,  -110.0001,       3772,  3289.9,   1.5880,  34.6812,2,  34.6815,2,    139.8,2,   138.9,2,   146.0,6,    37.3,6,    0.01,6,   2.497,6,   0.0019,2,   0.0000,2,   0.0000,2,  2341.5,2,  2428.1,6,   7.5602,2,    25.00, -999.00,9,  -999.0,9,  -999.0,        0,2, -999.00,9,  -999.0,9, -999.00,9, -999.00,9,    21.6478,2, -999.00,9,  -999.0,9,     -999.0,     -999.0,9,     -999.0,9,     -999.0,     -999.0,9,     -999.0,     -999.0,9,     -999.0,     -999.0,     -999.0,9,     -999.0,9,     -999.0,9,     -999.0,9,     -999.0,9,     -999.0,9,     -999.0,9,     -999.0,9
33RO20161119,        P18,      49,          1,          4,      11103,2,20161206,       0007,     1.5002,  -110.0001,       3772,  3025.2,   1.7051,  34.6737,2,  34.6738,2,    131.4,2,   131.4,2,   144.3,6,    37.6,6,    0.01,6,   2.549,6,   0.0007,2,   0.0006,2,   0.0363,2,  2343.6,2,  2424.7,2,   7.5448,6,    25.00, -999.00,9,  -999.0,9,  -999.0,        0,2, -999.00,9,  -999.0,9, -999.00,9, -999.00,9,    22.3948,2, -999.00,9,  -999.0,9,     -999.0,     -999.0,9,     -999.0,9,     -999.0,     -999.0,9,     -999.0,     -999.0,9,     -999.0,     -999.0,     -999.0,9,     -999.0,9,     -999.0,9,     -999.0,9,     -999.0,9,     -999.0,9,     -999.0,9,     -999.0,9
33RO20161119,        P18,      49,          1,          5,      11104,2,20161206,       0007,     1.5002,  -110.0001,       3772,  2719.5,   1.8146,  34.6681,2,  34.6685,2,    123.0,2,   122.9,2,   145.0,2,    38.2,2,    0.01,2,   2.604,2,   0.0031,2,   0.0024,2,   0.0369,2,  2352.5,2,  2425.7,2,   7.5313,2,    25.00, -999.00,9,  -999.0,9,  -999.0,        0,2, -999.00,9,  -999.0,9, -999.00,9, -999.00,9,    23.2446,2, -999.00,9,  -999.0,9,     -999.0,     -999.0,9,     -999.0,9,     -999.0,     -999.0,9,     -999.0,     -999.0,9,     -999.0,     -999.0,     -999.0,9,     -999.0,9,     -999.0,9,     -999.0,9,     -999.0,9,     -999.0,9,     -999.0,9,     -999.0,9
33RO20161119,        P18,      49,          1,          6,      11105,2,20161206,       0007,     1.5002,  -110.0001,       3772,  2440.6,   1.9123,  34.6614,2,  34.6636,2,    118.1,2,   117.8,2,   142.6,2,    38.4,2,    0.01,2,   2.624,2,   0.0010,2,   0.0007,2,   0.0000,2,  2349.3,2,  2419.7,2,   7.5206,2,    25.00, -999.00,9,  -999.0,9,  -999.0,   0.0248,2, -999.00,9,  -999.0,9, -999.00,9, -999.00,9,    23.9368,2, -999.00,9,  -999.0,9,     -999.0,     -999.0,9,     -999.0,9,     -999.0,     -999.0,9,     -999.0,     -999.0,9,     -999.0,     -999.0,     -999.0,9,     -999.0,9,     -999.0,9,     -999.0,9,     -999.0,9,     -999.0,9,     -999.0,9,     -999.0,9
33RO20161119,        P18,      49,          1,          7,      11106,2,20161206,       0007,     1.5002,  -110.0001,       3772,  2134.7,   2.1684,  34.6471,2,  34.6476,2,    107.8,2,   107.5,2,   138.4,2,    39.1,2,    0.01,2,   2.689,2,   0.0045,2,   0.0030,2,   0.0210,2,  2352.1,2,  2413.8,2,   7.5005,2,    25.00, -999.00,9,  -999.0,9,  -999.0,        0,2, -999.00,9,  -999.0,9, -999.00,9, -999.00,9,    25.4431,2, -999.00,9,  -999.0,9,     -999.0,     -999.0,9,     -999.0,9,     -999.0,     -999.0,9,     -999.0,     -999.0,9,     -999.0,     -999.0,     -999.0,9,     -999.0,9,     -999.0,9,     -999.0,9,     -999.0,9,     -999.0,9,     -999.0,9,     -999.0,9
33RO20161119,        P18,      49,          1,          8,      11107,2,20161206,       0007,     1.5002,  -110.0001,       3772,  1845.2,   2.5176,  34.6296,2,  34.6301,2,     98.0,2,    97.9,2,   131.0,2,    39.8,2,    0.01,2,   2.758,2,   0.0025,2,   0.0022,2,   0.0264,2,  2348.0,2,  2404.1,2,   7.4843,2,    25.00, -999.00,9,  -999.0,9,  -999.0,        0,2, -999.00,9,  -999.0,9, -999.00,9, -999.00,9,    27.6669,2, -999.00,9,  -999.0,9,     -999.0,     -999.0,9,     -999.0,9,     -999.0,     -999.0,9,     -999.0,     -999.0,9,     -999.0,     -999.0,     -999.0,9,     -999.0,9,     -999.0,9,     -999.0,9,     -999.0,9,     -999.0,9,     -999.0,9,     -999.0,9
33RO20161119,        P18,      49,          1,          9,      11108,2,20161206,       0007,     1.5002,  -110.0001,       3772,  1524.6,   3.1061,  34.6040,2,  34.6057,2,     86.1,2,    86.1,2,   117.6,2,    40.5,2,    0.01,2,   2.817,2,   0.0012,2,   0.0008,2,   0.0000,2,  2342.6,2,  2392.3,2,   7.4612,2,    25.00, -999.00,9,  -999.0,9,  -999.0,        0,2, -999.00,9,  -999.0,9, -999.00,9, -999.00,9,    30.9809,2, -999.00,9,  -999.0,9,     -999.0,     -999.0,9,     -999.0,9,     -999.0,     -999.0,9,     -999.0,     -999.0,9,     -999.0,     -999.0,     -999.0,9,     -999.0,9,     -999.0,9,     -999.0,9,     -999.0,9,     -999.0,9,     -999.0,9,     -999.0,9
33RO20161119,        P18,      49,          1,         10,      11109,2,20161206,       0007,     1.5002,  -110.0001,       3772,  1315.5,   3.5493,  34.5906,2,  34.5919,2,     76.4,2,    75.4,2,   109.1,2,    41.1,2,    0.01,2,   2.867,2,   0.0029,2,   0.0014,2,   0.0000,2,  2336.8,2,  2380.2,2,   7.4408,2,    25.00, -999.00,9,  -999.0,9,  -999.0,        0,2, -999.00,9,  -999.0,9, -999.00,9, -999.00,9,    33.1195,2, -999.00,9,  -999.0,9,     -999.0,     -999.0,9,     -999.0,9,     -999.0,     -999.0,9,     -999.0,     -999.0,9,     -999.0,     -999.0,     -999.0,9,     -999.0,9,     -999.0,9,     -999.0,9,     -999.0,9,     -999.0,9,     -999.0,9,     -999.0,9
33RO20161119,        P18,      49,          1,         11,      11110,2,20161206,       0007,     1.5002,  -110.0001,       3772,  1185.1,   3.9948,  34.5780,2,  34.5789,2,     68.7,2,    68.0,2,    99.8,2,    41.6,2,    0.01,2,   2.902,2,   0.0036,2,   0.0025,2,   0.0000,2,  2332.1,2,  2370.1,2,   7.4294,2,    25.00, -999.00,9,  -999.0,9,  -999.0,        0,2, -999.00,9,  -999.0,9, -999.00,9, -999.00,9,    35.5171,2, -999.00,9,  -999.0,9,     -999.0,     -999.0,9,     -999.0,9,     -999.0,     -999.0,9,     -999.0,     -999.0,9,     -999.0,     -999.0,     -999.0,9,     -999.0,9,     -999.0,9,     -999.0,9,     -999.0,9,     -999.0,9,     -999.0,9,     -999.0,9
33RO20161119,        P18,      49,          1,         12,      11111,2,20161206,       0007,     1.5002,  -110.0001,       3772,  1050.2,   4.7929,  34.5536,2,  34.5577,2,     74.8,2,    73.9,2,    79.0,2,    40.6,2,    0.01,2,   2.810,2,   0.0129,2,   0.0077,2,   0.0000,2,  2305.9,2,  2349.3,2,   7.4436,2,    25.00, -999.00,9,  -999.0,9,  -999.0,   0.0272,2, -999.00,9,  -999.0,9, -999.00,9, -999.00,9,    36.4442,2, -999.00,9,  -999.0,9,     -999.0,     -999.0,9,     -999.0,9,     -999.0,     -999.0,9,     -999.0,     -999.0,9,     -999.0,     -999.0,     -999.0,9,     -999.0,9,     -999.0,9,     -999.0,9,     -999.0,9,     -999.0,9,     -999.0,9,     -999.0,9
33RO20161119,        P18,      49,          1,         13,      11112,2,20161206,       0007,     1.5002,  -110.0001,       3772,   930.5,   5.2161,  34.5498,2,  34.5507,2,     70.1,2,    69.3,2,    71.9,2,    40.5,2,    0.01,2,   2.805,2,   0.0210,2,   0.0119,2,   0.0000,2,  2300.0,2,  2339.6,2,   7.4387,2,    25.00, -999.00,9,  -999.0,9,  -999.0,   0.0243,2, -999.00,9,  -999.0,9, -999.00,9, -999.00,9,    37.9365,2, -999.00,9,  -999.0,9,     -999.0,     -999.0,9,     -999.0,9,     -999.0,     -999.0,9,     -999.0,     -999.0,9,     -999.0,     -999.0,     -999.0,9,     -999.0,9,     -999.0,9,     -999.0,9,     -999.0,9,     -999.0,9,     -999.0,9,     -999.0,9
33RO20161119,        P18,      49,          1,         14,      11113,2,20161206,       0007,     1.5002,  -110.0001,       3772,   815.9,   5.6904,  34.5539,2,  34.5544,2,     58.8,2,    58.2,2,    65.9,2,    40.8,2,    0.01,2,   2.828,2,   0.0268,2,   0.0154,2,   0.0223,2,  2298.2,2,  2332.0,2,   7.4224,2,    25.00, -999.00,9,  -999.0,9,  -999.0,   0.0467,2, -999.00,9,  -999.0,9, -999.00,9, -999.00,9,    41.6512,2, -999.00,9,  -999.0,9,     -999.0,     -999.0,9,     -999.0,9,     -999.0,     -999.0,9,     -999.0,     -999.0,9,     -999.0,     -999.0,     -999.0,9,     -999.0,9,     -999.0,9,     -999.0,9,     -999.0,9,     -999.0,9,     -999.0,9,     -999.0,9
33RO20161119,        P18,      49,          1,         15,      11114,2,20161206,       0007,     1.5002,  -110.0001,       3772,   700.4,   6.2922,  34.5584,2,  34.5577,2,     57.7,2,    57.7,2,    56.6,2,    40.2,2,    0.01,2,   2.781,2,   0.0684,2,   0.0377,2,   0.0000,2,  2288.5,2,  2320.6,2,   7.4278,2,    25.00, -999.00,9,  -999.0,9,  -999.0,     0.07,2, -999.00,9,  -999.0,9, -999.00,9, -999.00,9,    42.2551,2, -999.00,9,  -999.0,9,     -999.0,     -999.0,9,     -999.0,9,     -999.0,     -999.0,9,     -999.0,     -999.0,9,     -999.0,     -999.0,     -999.0,9,     -999.0,9,     -999.0,9,     -999.0,9,     -999.0,9,     -999.0,9,     -999.0,9,     -999.0,9
33RO20161119,        P18,      49,          1,         16,      11115,2,20161206,       0007,     1.5002,  -110.0001,       3772,   579.9,   7.5144,  34.5940,2,  34.5942,2,     44.9,2,    45.2,2,    44.9,2,    39.2,2,    0.01,2,   2.681,2,   0.1635,2,   0.0898,2,   0.0359,2,  2275.6,2,  2309.5,6,   7.4183,2,    25.00, -999.00,9,  -999.0,9,  -999.0,   0.0575,2, -999.00,9,  -999.0,9, -999.00,9, -999.00,9,    47.8694,2, -999.00,9,  -999.0,9,     -999.0,     -999.0,9,     -999.0,9,     -999.0,     -999.0,9,     -999.0,     -999.0,9,     -999.0,     -999.0,     -999.0,9,     -999.0,9,     -999.0,9,     -999.0,9,     -999.0,9,     -999.0,9,     -999.0,9,     -999.0,9
33RO20161119,        P18,      49,          1,         17,      11116,2,20161206,       0007,     1.5002,  -110.0001,       3772,   480.3,   8.5881,  34.6496,2,  34.6515,2,     23.0,2,    23.0,6,    39.6,2,    39.3,2,    0.01,2,   2.665,2,   0.2552,2,   0.1396,2,   0.0333,2,  2278.9,2,  2304.1,2,   7.3917,6,    25.00, -999.00,9,  -999.0,9,  -999.0,   0.0637,2, -999.00,9,  -999.0,9, -999.00,9, -999.00,9,     57.429,2, -999.00,9,  -999.0,9,     -999.0,     -999.0,9,     -999.0,9,     -999.0,     -999.0,9,     -999.0,     -999.0,9,     -999.0,     -999.0,     -999.0,9,     -999.0,9,     -999.0,9,     -999.0,9,     -999.0,9,     -999.0,9,     -999.0,9,     -999.0,9
33RO20161119,        P18,      49,          1,         18,      11117,2,20161206,       0007,     1.5002,  -110.0001,       3772,   400.4,   9.7142,  34.7123,2,  34.7119,2,     12.4,2,    12.3,6,    35.2,2,    37.6,2,    0.01,2,   2.575,2,   0.4440,2,   0.2422,2,   0.1126,2,  2293.8,4,  2303.2,2,   7.3880,2,    25.00, -999.00,9,  -999.0,9,  -999.0,   0.0962,2, -999.00,9,  -999.0,9, -999.00,9, -999.00,9,    65.9455,2, -999.00,9,  -999.0,9,     -999.0,     -999.0,9,     -999.0,9,     -999.0,     -999.0,9,     -999.0,     -999.0,9,     -999.0,     -999.0,     -999.0,9,     -999.0,9,     -999.0,9,     -999.0,9,     -999.0,9,     -999.0,9,     -999.0,9,     -999.0,9
33RO20161119,        P18,      49,          1,         19,      11083,2,20161206,       0007,     1.5002,  -110.0001,       3772,   300.6,  11.0078,  34.7855,2,  34.7838,2,     18.4,2,    19.8,2,    29.3,2,    34.5,2,    0.02,2,   2.376,2,   0.7974,2,   0.4337,2,   0.1970,2,  2262.1,2,  2299.8,2,   7.4298,2,    25.00, -999.00,9,  -999.0,9,  -999.0,   0.1097,2, -999.00,9,  -999.0,9, -999.00,9, -999.00,9,    64.7182,2, -999.00,9,  -999.0,9,     -999.0,     -999.0,9,     -999.0,9,     -999.0,     -999.0,9,     -999.0,     -999.0,9,     -999.0,     -999.0,     -999.0,9,     -999.0,9,     -999.0,9,     -999.0,9,     -999.0,9,     -999.0,9,     -999.0,9,     -999.0,9
33RO20161119,        P18,      49,          1,         20,      11118,2,20161206,       0007,     1.5002,  -110.0001,       3772,   205.2,  12.3281,  34.8601,2,  34.8579,2,     33.9,2,    32.7,2,    24.1,2,    31.3,2,    0.02,2,   2.116,2,   1.1593,2,   0.6484,2,   0.3141,2,  2242.2,2,  2299.8,2,   7.4944,2,    25.00, -999.00,9,  -999.0,9,  -999.0,   0.1164,2, -999.00,9,  -999.0,9, -999.00,9, -999.00,9,    57.6857,2, -999.00,9,  -999.0,9,     -999.0,     -999.0,9,     -999.0,9,     -999.0,     -999.0,9,     -999.0,     -999.0,9,     -999.0,     -999.0,     -999.0,9,     -999.0,9,     -999.0,9,     -999.0,9,     -999.0,9,     -999.0,9,     -999.0,9,     -999.0,9
33RO20161119,        P18,      49,          1,         21,      11119,2,20161206,       0007,     1.5002,  -110.0001,       3772,   140.5,  13.2674,  34.9156,2,  34.9149,2,     51.9,2,    51.0,2,    20.2,2,    28.2,2,    0.02,2,   1.916,2,   1.3906,6,   0.7774,6,   0.4268,6,  2222.1,2,  2300.7,2,   7.5569,2,    25.00, -999.00,9,  -999.0,9,  -999.0,   0.1148,2, -999.00,9,  -999.0,9, -999.00,9, -999.00,9,    50.3799,2, -999.00,9,  -999.0,9,     -999.0,     -999.0,9,     -999.0,9,     -999.0,     -999.0,9,     -999.0,     -999.0,9,     -999.0,     -999.0,     -999.0,9,     -999.0,9,     -999.0,9,     -999.0,9,     -999.0,9,     -999.0,9,     -999.0,9,     -999.0,9
33RO20161119,        P18,      49,          1,         22,      11120,2,20161206,       0007,     1.5002,  -110.0001,       3772,    70.4,  14.9984,  34.9571,2,  34.8348,4,     60.7,2,    59.1,2,    43.8,4,    31.6,4,    0.02,4,   2.164,4,   0.9089,4,   0.5143,4,   0.3073,4,  2235.6,4,  2314.3,4,   7.5531,4,    25.00, -999.00,9,  -999.0,9,  -999.0,   1.2165,2, -999.00,9,  -999.0,9, -999.00,9, -999.00,9,    42.5451,4, -999.00,9,  -999.0,9,     -999.0,     -999.0,9,     -999.0,9,     -999.0,     -999.0,9,     -999.0,     -999.0,9,     -999.0,     -999.0,     -999.0,9,     -999.0,9,     -999.0,9,     -999.0,9,     -999.0,9,     -999.0,9,     -999.0,9,     -999.0,9
33RO20161119,        P18,      49,          1,         23,      11121,2,20161206,       0007,     1.5002,  -110.0001,       3772,    29.9,  21.9378,  34.6130,2,  34.6192,2,    200.8,2,   196.7,2,     5.6,2,     9.4,2,    0.16,2,   0.794,2,   1.8588,2,   1.1280,2,   1.2888,2,  2067.7,2,  2283.2,6,   7.9009,2,    25.00, -999.00,9,  -999.0,9,  -999.0,   1.6955,2, -999.00,9,  -999.0,9, -999.00,9, -999.00,9,    15.5285,2, -999.00,9,  -999.0,9,     -999.0,     -999.0,9,     -999.0,9,     -999.0,     -999.0,9,     -999.0,     -999.0,9,     -999.0,     -999.0,     -999.0,9,     -999.0,9,     -999.0,9,     -999.0,9,     -999.0,9,     -999.0,9,     -999.0,9,     -999.0,9
33RO20161119,        P18,      49,          1,         24,      11122,2,20161206,       0007,     1.5002,  -110.0001,       3772,     3.0,  24.9050,  33.6847,2,  33.7138,2,    202.1,2,   210.0,2,     1.6,2,     1.2,2,    0.04,2,   0.266,2,   1.6863,2,   1.0624,2,   1.4548,2,  1942.3,6,  2221.9,2,   8.0398,2,    25.00, -999.00,9,  -999.0,9,  -999.0,   0.0142,2, -999.00,9,  -999.0,9, -999.00,9, -999.00,9,     7.3341,2, -999.00,9,  -999.0,9,     -999.0,     -999.0,9,     -999.0,9,     -999.0,     -999.0,9,     -999.0,     -999.0,9,     -999.0,     -999.0,     -999.0,9,     -999.0,9,     -999.0,9,     -999.0,9,     -999.0,9,     -999.0,9,     -999.0,9,     -999.0,9