BOTTLE,20230606CCHSIOCBG
EXPOCODE,SECT_ID,STNNBR,CASTNO,SAMPNO,BTLNBR,BTLNBR_FLAG_W,DATE,TIME,LATITUDE,LONGITUDE,DEPTH,CTDPRS,CTDTMP,CTDSAL,CTDSAL_FLAG_W,SALNTY,SALNTY_FLAG_W,CTDOXY,CTDOXY_FLAG_W,OXYGEN,OXYGEN_FLAG_W,SILCAT,SILCAT_FLAG_W,NITRAT,NITRAT_FLAG_W,NITRIT,NITRIT_FLAG_W,PHSPHT,PHSPHT_FLAG_W,CFC-11,CFC-11_FLAG_W,CFC-12,CFC-12_FLAG_W,SF6,SF6_FLAG_W,TCARBN,TCARBN_FLAG_W,ALKALI,ALKALI_FLAG_W,PH_SWS,PH_SWS_FLAG_W,PH_TMP,DELC13,DELC13_FLAG_W,DELC14,DELC14_FLAG_W,C14ERR,CCL4,CCL4_FLAG_W,POC,POC_FLAG_W,DOC,DOC_FLAG_W,TDN,TDN_FLAG_W,PON,PON_FLAG_W,N2O,N2O_FLAG_W,D15N_NO3,D15N_NO3_FLAG_W,14C-DOC,14C-DOC_FLAG_W,14C-DOCERR,13C-DOC,13C-DOC_FLAG_W,N2/ARGON_UNSTRIPPED,N2/ARGON_UNSTRIPPED_FLAG_W,N2/ARGON_UNSTRIPPED_ERROR,N2/ARGON,N2/ARGON_FLAG_W,N2/ARGON_ERROR,D15N_N2,D15N_N2_FLAG_W,D15N_N2_ERROR,D15N_NO3_ERROR,D15N_NO2+NO3,D15N_NO2+NO3_FLAG_W,D18O_NO2+NO3,D18O_NO2+NO3_FLAG_W,D18O_NO3,D18O_NO3_FLAG_W,TDP,TDP_FLAG_W,N2O_ALT_1,N2O_ALT_1_FLAG_W,D15N_N2O,D15N_N2O_FLAG_W,D18O_N2O,D18O_N2O_FLAG_W,D15N_ALPHA_N2O,D15N_ALPHA_N2O_FLAG_W
,,,,,,,,,,,METERS,DBAR,ITS-90,PSS-78,,PSS-78,,UMOL/KG,,UMOL/KG,,UMOL/KG,,UMOL/KG,,UMOL/KG,,UMOL/KG,,PMOL/KG,,PMOL/KG,,FMOL/KG,,UMOL/KG,,UMOL/KG,,,,DEG C,/MILLE,,/MILLE,,/MILLE,PMOL/KG,,UG/KG,,UMOL/KG,,UMOL/KG,,UG/KG,,NMOL/KG,,/MILLE,,/MILLE,,/MILLE,/MILLE,,,,,,,,/MILLE,,/MILLE,/MILLE,/MILLE,,/MILLE,,/MILLE,,UMOL/KG,,NMOL/L,,/MILLE,,/MILLE,,/MILLE,
33RO20161119,        P18,      83,          1,          1,      11010,2,20161213,       0830,    -8.5300,  -105.0600,       3743,  3789.1,   1.7654,  34.6787,2,  34.6825,3,    137.9,2,   138.3,2,   144.1,6,    36.9,6,    0.01,6,   2.544,6,   0.0010,2,   0.0009,2,   0.0000,2,  2336.5,6,  2428.6,2,   7.5641,2,    25.00, -999.00,9,  -999.0,9,  -999.0,        0,2, -999.00,9,    36.6,2,   40.10,2, -999.00,9,    21.8906,2, -999.00,9,  -999.0,9,     -999.0,     -999.0,9,     -999.0,9,     -999.0,     -999.0,9,     -999.0,     -999.0,9,     -999.0,     -999.0,     -999.0,9,     -999.0,9,     -999.0,9,     -999.0,9,     -999.0,9,     -999.0,9,     -999.0,9,     -999.0,9
33RO20161119,        P18,      83,          1,          2,      11101,2,20161213,       0830,    -8.5300,  -105.0600,       3743,  3492.8,   1.7540,  34.6777,2,  34.6785,2,    136.7,2,   136.6,2,   143.8,6,    37.0,6,    0.01,6,   2.553,6,   0.0007,2,   0.0014,2,   0.0296,2,  2336.5,2,  2423.0,6,   7.5688,2,    25.00, -999.00,9,  -999.0,9,  -999.0,        0,2, -999.00,9,    37.2,2,   39.90,2, -999.00,9,    22.2489,2, -999.00,9,  -999.0,9,     -999.0,     -999.0,9,     -999.0,9,     -999.0,     -999.0,9,     -999.0,     -999.0,9,     -999.0,     -999.0,     -999.0,9,     -999.0,9,     -999.0,9,     -999.0,9,     -999.0,9,     -999.0,9,     -999.0,9,     -999.0,9
33RO20161119,        P18,      83,          1,          3,      11102,2,20161213,       0830,    -8.5300,  -105.0600,       3743,  3199.3,   1.7651,  34.6759,2,  34.6774,2,    134.7,2,   135.6,2,   142.4,6,    37.1,6,    0.01,6,   2.562,6,   0.0006,2,   0.0000,2,   0.0000,2,  2337.5,2,  2429.9,2,   7.5612,2,    25.00, -999.00,9,  -999.0,9,  -999.0,        0,2, -999.00,9,    36.1,2,   41.20,2, -999.00,9,    21.8983,2, -999.00,9,  -999.0,9,     -999.0,     -999.0,9,     -999.0,9,     -999.0,     -999.0,9,     -999.0,     -999.0,9,     -999.0,     -999.0,     -999.0,9,     -999.0,9,     -999.0,9,     -999.0,9,     -999.0,9,     -999.0,9,     -999.0,9,     -999.0,9
33RO20161119,        P18,      83,          1,          4,      11103,2,20161213,       0830,    -8.5300,  -105.0600,       3743,  2899.2,   1.8072,  34.6724,2,  34.6720,2,    131.4,2,   131.4,2,   140.7,6,    37.3,6,    0.01,6,   2.538,4,   0.0009,2,   0.0007,2,   0.0181,2,  2336.6,2,  2423.8,2,   7.5511,2,    25.00, -999.00,9,  -999.0,9,  -999.0,        0,2, -999.00,9,    37.0,2,   41.40,2, -999.00,9,    22.6243,2, -999.00,9,  -999.0,9,     -999.0,     -999.0,9,     -999.0,9,     -999.0,     -999.0,9,     -999.0,     -999.0,9,     -999.0,     -999.0,     -999.0,9,     -999.0,9,     -999.0,9,     -999.0,9,     -999.0,9,     -999.0,9,     -999.0,9,     -999.0,9
33RO20161119,        P18,      83,          1,          5,      11104,2,20161213,       0830,    -8.5300,  -105.0600,       3743,  2599.4,   1.8938,  34.6662,2,  34.6659,2,    125.4,2,   126.0,2,   139.2,2,    37.6,2,    0.01,2,   2.520,4,   0.0007,2,   0.0000,2,   0.0000,2,  2338.6,2,  2415.8,2,   7.5396,2,    25.00, -999.00,9,  -999.0,9,  -999.0,        0,2, -999.00,9,    34.7,2,   41.10,2, -999.00,9,    23.3674,2, -999.00,9,  -999.0,9,     -999.0,     -999.0,9,     -999.0,9,     -999.0,     -999.0,9,     -999.0,     -999.0,9,     -999.0,     -999.0,     -999.0,9,     -999.0,9,     -999.0,9,     -999.0,9,     -999.0,9,     -999.0,9,     -999.0,9,     -999.0,9
33RO20161119,        P18,      83,          1,          6,      11105,2,20161213,       0830,    -8.5300,  -105.0600,       3743,  2299.3,   2.0505,  34.6562,2,  34.6596,4,    118.4,2,   119.9,2,   135.7,2,    38.0,2,    0.00,2,   2.575,4,   0.0009,2,   0.0012,2,   0.0000,2,  2339.2,2,  2417.6,2,   7.5232,2,    25.00, -999.00,9,  -999.0,9,  -999.0,        0,2, -999.00,9,    35.4,2,   42.20,2, -999.00,9,    24.4616,2, -999.00,9,  -999.0,9,     -999.0,     -999.0,9,     -999.0,9,     -999.0,     -999.0,9,     -999.0,     -999.0,9,     -999.0,     -999.0,     -999.0,9,     -999.0,9,     -999.0,9,     -999.0,9,     -999.0,9,     -999.0,9,     -999.0,9,     -999.0,9
33RO20161119,        P18,      83,          1,          7,      11106,2,20161213,       0830,    -8.5300,  -105.0600,       3743,  1998.2,   2.2467,  34.6431,2,  34.6549,2,    112.1,2,   113.2,2,   131.7,2,    38.3,2,    0.00,2,   2.627,4,   0.0013,2,   0.0006,2,   0.0000,2,  2337.3,6,  2407.8,2,   7.5086,2,    25.00, -999.00,9,  -999.0,9,  -999.0,        0,2, -999.00,9,    36.4,2,   43.40,2, -999.00,9,    26.1735,2, -999.00,9,  -999.0,9,     -999.0,     -999.0,9,     -999.0,9,     -999.0,     -999.0,9,     -999.0,     -999.0,9,     -999.0,     -999.0,     -999.0,9,     -999.0,9,     -999.0,9,     -999.0,9,     -999.0,9,     -999.0,9,     -999.0,9,     -999.0,9
33RO20161119,        P18,      83,          1,          8,      11107,2,20161213,       0830,    -8.5300,  -105.0600,       3743,  1699.2,   2.5834,  34.6219,2,  34.6255,2,    103.2,2,   104.7,2,   121.9,2,    39.0,2,    0.00,2,   2.673,4,   0.0002,2,   0.0000,2,   0.0000,2,  2331.7,2,  2397.2,2,   7.4919,2,    25.00, -999.00,9,  -999.0,9,  -999.0,    0.011,2, -999.00,9,    36.3,2,   41.90,2, -999.00,9,    27.8047,2, -999.00,9,  -999.0,9,     -999.0,     -999.0,9,     -999.0,9,     -999.0,     -999.0,9,     -999.0,     -999.0,9,     -999.0,     -999.0,     -999.0,9,     -999.0,9,     -999.0,9,     -999.0,9,     -999.0,9,     -999.0,9,     -999.0,9,     -999.0,9
33RO20161119,        P18,      83,          1,          9,      11108,2,20161213,       0830,    -8.5300,  -105.0600,       3743,  1438.5,   3.1409,  34.5894,2,  34.5888,2,     96.4,2,    96.7,2,   106.1,2,    39.6,2,    0.00,2,   2.728,4,   0.0013,2,   0.0015,2,   0.0301,2,  2318.9,2,  2355.8,4,   7.4726,2,    25.00, -999.00,9,  -999.0,9,  -999.0,        0,2, -999.00,9,    34.5,2,   44.50,2, -999.00,9,    30.3726,2, -999.00,9,  -999.0,9,     -999.0,     -999.0,9,     -999.0,9,     -999.0,     -999.0,9,     -999.0,     -999.0,9,     -999.0,     -999.0,     -999.0,9,     -999.0,9,     -999.0,9,     -999.0,9,     -999.0,9,     -999.0,9,     -999.0,9,     -999.0,9
33RO20161119,        P18,      83,          1,         10,      11109,2,20161213,       0830,    -8.5300,  -105.0600,       3743,  1274.2,   3.4909,  34.5734,2,  34.5755,2,     91.8,2,    91.8,2,    97.7,2,    39.9,2,    0.00,2,   2.752,4,   0.0009,2,   0.0000,2,   0.0000,2,  2313.9,2,  2369.4,2,   7.4634,2,    25.00, -999.00,9,  -999.0,9,  -999.0,        0,2, -999.00,9,    37.8,2,   43.00,2, -999.00,9,    31.5482,2, -999.00,9,  -999.0,9,     -999.0,     -999.0,9,     -999.0,9,     -999.0,     -999.0,9,     -999.0,     -999.0,9,     -999.0,     -999.0,     -999.0,9,     -999.0,9,     -999.0,9,     -999.0,9,     -999.0,9,     -999.0,9,     -999.0,9,     -999.0,9
33RO20161119,        P18,      83,          1,         11,      11110,2,20161213,       0830,    -8.5300,  -105.0600,       3743,  1130.9,   3.9965,  34.5544,2,  34.5556,2,     84.1,2,    84.6,2,    86.0,2,    40.4,2,    0.00,2,   2.786,4,   0.0009,2,   0.0010,2,   0.0000,2,  2304.0,2,  2356.2,2,   7.4525,2,    25.00, -999.00,9,  -999.0,9,  -999.0,        0,2, -999.00,9,    39.2,2,   44.60,2, -999.00,9,    33.6303,2, -999.00,9,  -999.0,9,     -999.0,     -999.0,9,     -999.0,9,     -999.0,     -999.0,9,     -999.0,     -999.0,9,     -999.0,     -999.0,     -999.0,9,     -999.0,9,     -999.0,9,     -999.0,9,     -999.0,9,     -999.0,9,     -999.0,9,     -999.0,9
33RO20161119,        P18,      83,          1,         12,      11111,2,20161213,       0830,    -8.5300,  -105.0600,       3743,  1004.7,   4.4191,  34.5421,2,  34.5420,2,     80.8,2,    81.7,2,    77.0,2,    40.4,2,    0.00,2,   2.812,2,   0.0016,2,   0.0012,2,   0.0000,2,  2298.0,2,  2345.1,2,   7.4463,2,    25.00, -999.00,9,  -999.0,9,  -999.0,        0,2, -999.00,9,    37.0,2,   45.90,2, -999.00,9,    34.2709,2, -999.00,9,  -999.0,9,     -999.0,     -999.0,9,     -999.0,9,     -999.0,     -999.0,9,     -999.0,     -999.0,9,     -999.0,     -999.0,     -999.0,9,     -999.0,9,     -999.0,9,     -999.0,9,     -999.0,9,     -999.0,9,     -999.0,9,     -999.0,9
33RO20161119,        P18,      83,          1,         13,      11112,2,20161213,       0830,    -8.5300,  -105.0600,       3743,   878.8,   5.1032,  34.5339,2,  34.5357,2,     71.2,2,    72.0,2,    64.9,2,    40.8,2,    0.00,2,   2.864,2,   0.0043,2,   0.0027,2,   0.0000,2,  2287.7,2,  2332.8,2,   7.4344,2,    25.00, -999.00,9,  -999.0,9,  -999.0,        0,2, -999.00,9,    40.0,2,   46.20,2, -999.00,9,     36.999,2, -999.00,9,  -999.0,9,     -999.0,     -999.0,9,     -999.0,9,     -999.0,     -999.0,9,     -999.0,     -999.0,9,     -999.0,     -999.0,     -999.0,9,     -999.0,9,     -999.0,9,     -999.0,9,     -999.0,9,     -999.0,9,     -999.0,9,     -999.0,9
33RO20161119,        P18,      83,          1,         14,      11113,2,20161213,       0830,    -8.5300,  -105.0600,       3743,   755.3,   5.8640,  34.5378,2,  34.5386,2,     41.8,2,    44.7,2,    54.9,2,    43.0,2,    0.00,2,   2.981,2,   0.0058,2,   0.0037,2,   0.0402,2,  2291.6,2,  2320.1,2,   7.3834,2,    25.00, -999.00,9,  -999.0,9,  -999.0,        0,2, -999.00,9,    38.0,2,   47.10,2, -999.00,9,    46.6966,2, -999.00,9,  -999.0,9,     -999.0,     -999.0,9,     -999.0,9,     -999.0,     -999.0,9,     -999.0,     -999.0,9,     -999.0,     -999.0,     -999.0,9,     -999.0,9,     -999.0,9,     -999.0,9,     -999.0,9,     -999.0,9,     -999.0,9,     -999.0,9
33RO20161119,        P18,      83,          1,         15,      11114,2,20161213,       0830,    -8.5300,  -105.0600,       3743,   638.7,   7.1094,  34.5799,2,  34.5795,2,     17.6,2,    18.5,2,    45.0,2,    43.1,2,    0.01,2,   2.974,2,   0.0159,2,   0.0099,2,   0.0000,2,  2291.0,2,  2307.3,2,   7.3539,2,    25.00, -999.00,9,  -999.0,9,  -999.0,   0.0157,2, -999.00,9,    40.4,2,   46.40,2, -999.00,9,    59.5912,2, -999.00,9,  -999.0,9,     -999.0,     -999.0,9,     -999.0,9,     -999.0,     -999.0,9,     -999.0,     -999.0,9,     -999.0,     -999.0,     -999.0,9,     -999.0,9,     -999.0,9,     -999.0,9,     -999.0,9,     -999.0,9,     -999.0,9,     -999.0,9
33RO20161119,        P18,      83,          1,         16,      11115,2,20161213,       0830,    -8.5300,  -105.0600,       3743,   529.0,   8.4125,  34.6444,2,  34.6422,2,      7.6,2,     9.7,2,    38.2,2,    40.4,2,    0.01,2,   2.876,2,   0.0635,6,   0.0375,6,   0.0269,6,  2286.3,2,  2305.5,6,   7.3449,2,    25.00, -999.00,9,  -999.0,9,  -999.0,   0.0225,2, -999.00,9,    42.0,2,   44.40,2, -999.00,9,     78.292,2, -999.00,9,  -999.0,9,     -999.0,     -999.0,9,     -999.0,9,     -999.0,     -999.0,9,     -999.0,     -999.0,9,     -999.0,     -999.0,     -999.0,9,     -999.0,9,     -999.0,9,     -999.0,9,     -999.0,9,     -999.0,9,     -999.0,9,     -999.0,9
33RO20161119,        P18,      83,          1,         17,      11116,2,20161213,       0830,    -8.5300,  -105.0600,       3743,   423.7,   9.7768,  34.7279,2,  34.7316,2,      4.9,2,     6.6,2,    33.8,2,    36.4,2,    0.01,2,   2.709,2,   0.2404,2,   0.1377,2,   0.0527,2,  2277.1,2,  2301.1,2,   7.3684,2,    25.00, -999.00,9,  -999.0,9,  -999.0,   0.0458,2, -999.00,9,    40.3,2,   40.00,2, -999.00,9,    70.4083,2, -999.00,9,  -999.0,9,     -999.0,     -999.0,9,     -999.0,9,     -999.0,     -999.0,9,     -999.0,     -999.0,9,     -999.0,     -999.0,     -999.0,9,     -999.0,9,     -999.0,9,     -999.0,9,     -999.0,9,     -999.0,9,     -999.0,9,     -999.0,9
33RO20161119,        P18,      83,          1,         18,      11117,2,20161213,       0830,    -8.5300,  -105.0600,       3743,   323.0,  10.8634,  34.7982,2,  34.7991,2,      7.8,2,     8.1,2,    28.8,2,    34.0,2,    0.01,2,   2.538,2,   0.5142,2,   0.2854,2,   0.1083,2,  2268.8,2,  2301.3,2,   7.3991,2,    25.00, -999.00,9,  -999.0,9,  -999.0,   0.0853,2, -999.00,9,    41.3,2,   37.80,2, -999.00,9,    69.5908,2, -999.00,9,  -999.0,9,     -999.0,     -999.0,9,     -999.0,9,     -999.0,     -999.0,9,     -999.0,     -999.0,9,     -999.0,     -999.0,     -999.0,9,     -999.0,9,     -999.0,9,     -999.0,9,     -999.0,9,     -999.0,9,     -999.0,9,     -999.0,9
33RO20161119,        P18,      83,          1,         19,      11083,2,20161213,       0830,    -8.5300,  -105.0600,       3743,   240.5,  11.8897,  34.8661,2,  34.8646,2,     37.3,2,    37.5,2,    22.8,2,    30.2,2,    0.01,2,   2.243,2,   1.0058,2,   0.5574,2,   0.2317,2,  2238.7,2,  2301.7,2,   7.4875,2,    25.00, -999.00,9,  -999.0,9,  -999.0,   0.1111,2, -999.00,9,    43.0,2,   33.10,2, -999.00,9,    66.1706,2, -999.00,9,  -999.0,9,     -999.0,     -999.0,9,     -999.0,9,     -999.0,     -999.0,9,     -999.0,     -999.0,9,     -999.0,     -999.0,     -999.0,9,     -999.0,9,     -999.0,9,     -999.0,9,     -999.0,9,     -999.0,9,     -999.0,9,     -999.0,9
33RO20161119,        P18,      83,          1,         20,      11118,2,20161213,       0830,    -8.5300,  -105.0600,       3743,   164.2,  13.6192,  34.9454,2,  34.9550,2,     26.7,2,    23.0,6,    16.6,2,    26.6,2,    0.02,2,   2.300,2,   1.5361,2,   0.8907,2,   0.6165,2,  2242.0,2,  2302.1,2,   7.4775,2,    25.00, -999.00,9,  -999.0,9,  -999.0,   0.6307,2, -999.00,9,    47.2,2,   29.10,2, -999.00,9,     82.284,2, -999.00,9,  -999.0,9,     -999.0,     -999.0,9,     -999.0,9,     -999.0,     -999.0,9,     -999.0,     -999.0,9,     -999.0,     -999.0,     -999.0,9,     -999.0,9,     -999.0,9,     -999.0,9,     -999.0,9,     -999.0,9,     -999.0,9,     -999.0,9
33RO20161119,        P18,      83,          1,         21,      11119,2,20161213,       0830,    -8.5300,  -105.0600,       3743,    97.4,  19.9135,  35.4575,2,  35.4443,2,    143.6,2,   132.5,2,     4.4,2,    10.7,2,    2.30,2,   1.301,2,   1.9957,2,   1.2365,2,   1.3775,2,  2150.6,2,  2335.6,2,   7.7996,2,    25.00, -999.00,9,  -999.0,9,  -999.0,   1.6654,2, -999.00,9,    57.5,2,   17.40,2, -999.00,9,    25.5523,2, -999.00,9,  -999.0,9,     -999.0,     -999.0,9,     -999.0,9,     -999.0,     -999.0,9,     -999.0,     -999.0,9,     -999.0,     -999.0,     -999.0,9,     -999.0,9,     -999.0,9,     -999.0,9,     -999.0,9,     -999.0,9,     -999.0,9,     -999.0,9
33RO20161119,        P18,      83,          1,         22,      11120,2,20161213,       0830,    -8.5300,  -105.0600,       3743,    48.8,  24.5028,  35.2177,2,  35.2298,2,    210.3,2,   210.5,6,     2.3,2,     7.5,2,    0.16,2,   0.730,2,   1.7137,2,   1.0815,2,   1.4251,2,  2061.4,2,  2323.2,2,   7.9624,6,    25.00, -999.00,9,  -999.0,9,  -999.0,   1.6182,2, -999.00,9,    63.3,2,   10.10,2, -999.00,9,     7.1798,2, -999.00,9,  -999.0,9,     -999.0,     -999.0,9,     -999.0,9,     -999.0,     -999.0,9,     -999.0,     -999.0,9,     -999.0,     -999.0,     -999.0,9,     -999.0,9,     -999.0,9,     -999.0,9,     -999.0,9,     -999.0,9,     -999.0,9,     -999.0,9
33RO20161119,        P18,      83,          1,         23,      11121,2,20161213,       0830,    -8.5300,  -105.0600,       3743,    19.4,  24.5139,  35.2173,2,  35.2217,2,    209.5,2,   210.2,2,     2.2,2,     7.4,2,    0.16,2,   0.721,2,   1.7321,2,   1.0837,2,   1.4572,2,  2060.0,2,  2322.9,2,   7.9628,2,    25.00, -999.00,9,  -999.0,9,  -999.0,    1.719,2, -999.00,9,    59.7,2,   10.40,2, -999.00,9,     7.3453,2, -999.00,9,  -999.0,9,     -999.0,     -999.0,9,     -999.0,9,     -999.0,     -999.0,9,     -999.0,     -999.0,9,     -999.0,     -999.0,     -999.0,9,     -999.0,9,     -999.0,9,     -999.0,9,     -999.0,9,     -999.0,9,     -999.0,9,     -999.0,9
33RO20161119,        P18,      83,          1,         24,      11122,2,20161213,       0830,    -8.5300,  -105.0600,       3743,     2.9,  24.5051,  35.2180,2,  35.2192,2,    208.9,2,   210.4,2,     2.2,2,     7.4,2,    0.16,2,   0.714,2,   1.7139,6,   1.0800,6,   1.4411,6,  2060.2,6,  2322.4,2,   7.9652,2,    25.00, -999.00,9,  -999.0,9,  -999.0,    1.693,2, -999.00,9,    59.6,2,   11.60,2, -999.00,9,      7.213,2, -999.00,9,  -999.0,9,     -999.0,     -999.0,9,     -999.0,9,     -999.0,     -999.0,9,     -999.0,     -999.0,9,     -999.0,     -999.0,     -999.0,9,     -999.0,9,     -999.0,9,     -999.0,9,     -999.0,9,     -999.0,9,     -999.0,9,     -999.0,9