BOTTLE,20230606CCHSIOCBG
EXPOCODE,SECT_ID,STNNBR,CASTNO,SAMPNO,BTLNBR,BTLNBR_FLAG_W,DATE,TIME,LATITUDE,LONGITUDE,DEPTH,CTDPRS,CTDTMP,CTDSAL,CTDSAL_FLAG_W,SALNTY,SALNTY_FLAG_W,CTDOXY,CTDOXY_FLAG_W,OXYGEN,OXYGEN_FLAG_W,SILCAT,SILCAT_FLAG_W,NITRAT,NITRAT_FLAG_W,NITRIT,NITRIT_FLAG_W,PHSPHT,PHSPHT_FLAG_W,CFC-11,CFC-11_FLAG_W,CFC-12,CFC-12_FLAG_W,SF6,SF6_FLAG_W,TCARBN,TCARBN_FLAG_W,ALKALI,ALKALI_FLAG_W,PH_SWS,PH_SWS_FLAG_W,PH_TMP,DELC13,DELC13_FLAG_W,DELC14,DELC14_FLAG_W,C14ERR,CCL4,CCL4_FLAG_W,POC,POC_FLAG_W,DOC,DOC_FLAG_W,TDN,TDN_FLAG_W,PON,PON_FLAG_W,N2O,N2O_FLAG_W,D15N_NO3,D15N_NO3_FLAG_W,14C-DOC,14C-DOC_FLAG_W,14C-DOCERR,13C-DOC,13C-DOC_FLAG_W,N2/ARGON_UNSTRIPPED,N2/ARGON_UNSTRIPPED_FLAG_W,N2/ARGON_UNSTRIPPED_ERROR,N2/ARGON,N2/ARGON_FLAG_W,N2/ARGON_ERROR,D15N_N2,D15N_N2_FLAG_W,D15N_N2_ERROR,D15N_NO3_ERROR,D15N_NO2+NO3,D15N_NO2+NO3_FLAG_W,D18O_NO2+NO3,D18O_NO2+NO3_FLAG_W,D18O_NO3,D18O_NO3_FLAG_W,TDP,TDP_FLAG_W,N2O_ALT_1,N2O_ALT_1_FLAG_W,D15N_N2O,D15N_N2O_FLAG_W,D18O_N2O,D18O_N2O_FLAG_W,D15N_ALPHA_N2O,D15N_ALPHA_N2O_FLAG_W
,,,,,,,,,,,METERS,DBAR,ITS-90,PSS-78,,PSS-78,,UMOL/KG,,UMOL/KG,,UMOL/KG,,UMOL/KG,,UMOL/KG,,UMOL/KG,,PMOL/KG,,PMOL/KG,,FMOL/KG,,UMOL/KG,,UMOL/KG,,,,DEG C,/MILLE,,/MILLE,,/MILLE,PMOL/KG,,UG/KG,,UMOL/KG,,UMOL/KG,,UG/KG,,NMOL/KG,,/MILLE,,/MILLE,,/MILLE,/MILLE,,,,,,,,/MILLE,,/MILLE,/MILLE,/MILLE,,/MILLE,,/MILLE,,UMOL/KG,,NMOL/L,,/MILLE,,/MILLE,,/MILLE,
33RO20161119,        P18,     186,          1,          1,      11010,2,20170119,       2306,   -58.9999,  -103.0000,       4648,  4736.3,   0.5477,  34.7024,2,  34.7018,2,    212.1,2,   211.8,2,   136.0,2,    32.6,2,    0.02,2,   2.248,2,   0.3252,2,   0.1539,2,   0.0652,2,  2261.6,6,  2360.2,2,   7.5906,2,    25.00, -999.00,9,  -999.0,9,  -999.0,   0.2012,2, -999.00,9,  -999.0,9, -999.00,9, -999.00,9,    18.3179,2,    4.74,2,  -999.0,9,     -999.0,     -999.0,9,     -999.0,9,     -999.0,     -999.0,9,     -999.0,     -999.0,9,     -999.0,     -999.0,       4.74,2,        1.8,2,        1.8,2,     -999.0,9,     -999.0,9,     -999.0,9,     -999.0,9,     -999.0,9
33RO20161119,        P18,     186,          1,          2,      11101,2,20170119,       2306,   -58.9999,  -103.0000,       4648,  4316.7,   0.6446,  34.7048,2,  34.7039,2,    210.2,2,   209.8,2,   130.4,2,    32.4,2,    0.02,2,   2.242,2,   0.2842,2,   0.1360,2,   0.0600,2,  2261.1,2,  2359.7,2,   7.5920,6,    25.00, -999.00,9,  -999.0,9,  -999.0,   0.1848,2, -999.00,9,  -999.0,9, -999.00,9, -999.00,9,    18.3027,2,    4.72,2,  -999.0,9,     -999.0,     -999.0,9,     -999.0,9,     -999.0,     -999.0,9,     -999.0,     -999.0,9,     -999.0,     -999.0,       4.72,2,       1.84,2,       1.84,2,     -999.0,9,     -999.0,9,     -999.0,9,     -999.0,9,     -999.0,9
33RO20161119,        P18,     186,          1,          3,      11102,2,20170119,       2306,   -58.9999,  -103.0000,       4648,  3899.3,   0.8208,  34.7084,2,  34.7075,2,    206.6,2,   206.3,2,   124.7,6,    32.3,6,    0.01,6,   2.220,6,   0.2249,2,   0.1076,2,   0.0413,2,  2259.4,2,  2359.6,6,   7.5920,2,    25.00, -999.00,9,  -999.0,9,  -999.0,   0.1916,2, -999.00,9,  -999.0,9, -999.00,9, -999.00,9,    18.5445,2,    4.79,2,  -999.0,9,     -999.0,     -999.0,9,     -999.0,9,     -999.0,     -999.0,9,     -999.0,     -999.0,9,     -999.0,     -999.0,       4.79,2,       1.87,2,       1.87,2,     -999.0,9,     -999.0,9,     -999.0,9,     -999.0,9,     -999.0,9
33RO20161119,        P18,     186,          1,          4,      11103,2,20170119,       2306,   -58.9999,  -103.0000,       4648,  3549.8,   0.9740,  34.7136,2,  34.7127,2,    203.7,2,   203.5,2,   119.7,6,    32.2,6,    0.01,6,   2.206,6,   0.1759,2,   0.0845,2,   0.0451,2,  2257.0,2,  2360.1,2,   7.5949,2,    25.00, -999.00,9,  -999.0,9,  -999.0,   0.1968,2, -999.00,9,  -999.0,9, -999.00,9, -999.00,9,    18.6845,2,    4.76,2,  -999.0,9,     -999.0,     -999.0,9,     -999.0,9,     -999.0,     -999.0,9,     -999.0,     -999.0,9,     -999.0,     -999.0,       4.76,2,       1.76,2,       1.76,2,     -999.0,9,     -999.0,9,     -999.0,9,     -999.0,9,     -999.0,9
33RO20161119,        P18,     186,          1,          5,      11104,2,20170119,       2306,   -58.9999,  -103.0000,       4648,  3175.4,   1.1637,  34.7200,2,  34.7195,2,    199.9,2,   200.0,6,   113.2,6,    31.9,6,    0.01,6,   2.188,6,   0.1358,6,   0.0661,6,   0.0464,6,  2258.0,2,  2362.2,2,   7.5972,2,    25.00, -999.00,9,  -999.0,9,  -999.0,   0.2922,2, -999.00,9,  -999.0,9, -999.00,9, -999.00,9,    18.7749,2,    4.81,2,  -999.0,9,     -999.0,     -999.0,9,     -999.0,9,     -999.0,     -999.0,9,     -999.0,     -999.0,9,     -999.0,     -999.0,       4.81,2,       1.83,2,       1.83,2,     -999.0,9,     -999.0,9,     -999.0,9,     -999.0,9,     -999.0,9
33RO20161119,        P18,     186,          1,          6,      11105,2,20170119,       2306,   -58.9999,  -103.0000,       4648,  2840.2,   1.3354,  34.7254,2,  34.7243,2,    196.3,2,   196.1,2,   107.5,6,    31.8,6,    0.01,6,   2.188,6,   0.1188,2,   0.0578,2,   0.0735,2,  2257.0,2,  2358.6,2,   7.5977,2,    25.00, -999.00,9,  -999.0,9,  -999.0,   0.4836,2, -999.00,9,  -999.0,9, -999.00,9, -999.00,9,    19.0894,2,    4.81,2,  -999.0,9,     -999.0,     -999.0,9,     -999.0,9,     -999.0,     -999.0,9,     -999.0,     -999.0,9,     -999.0,     -999.0,       4.81,2,        1.7,2,        1.7,2,     -999.0,9,     -999.0,9,     -999.0,9,     -999.0,9,     -999.0,9
33RO20161119,        P18,     186,          1,          7,      11106,2,20170119,       2306,   -58.9999,  -103.0000,       4648,  2440.5,   1.5915,  34.7294,2,  34.7288,2,    191.6,2,   191.2,2,    99.8,2,    31.6,2,    0.01,2,   2.182,2,   0.1256,2,   0.0619,2,   0.0478,2,  2255.3,2,  2359.7,2,   7.5935,2,    25.00, -999.00,9,  -999.0,9,  -999.0,   0.7119,2, -999.00,9,  -999.0,9, -999.00,9, -999.00,9,    19.1713,2,    4.88,2,  -999.0,9,     -999.0,     -999.0,9,     -999.0,9,     -999.0,     -999.0,9,     -999.0,     -999.0,9,     -999.0,     -999.0,       4.88,2,       1.81,2,       1.81,2,     -999.0,9,     -999.0,9,     -999.0,9,     -999.0,9,     -999.0,9
33RO20161119,        P18,     186,          1,          8,      11107,2,20170119,       2306,   -58.9999,  -103.0000,       4648,  2120.7,   1.8441,  34.7263,2,  34.7250,2,    186.4,2,   186.5,2,    92.8,2,    31.7,2,    0.01,2,   2.171,2,   0.1451,2,   0.0707,2,   0.0333,2,  2253.8,2,  2351.7,2,   7.5894,2,    25.00, -999.00,9,  -999.0,9,  -999.0,   0.8325,2, -999.00,9,  -999.0,9, -999.00,9, -999.00,9,    19.6321,2,    4.93,2,  -999.0,9,     -999.0,     -999.0,9,     -999.0,9,     -999.0,     -999.0,9,     -999.0,     -999.0,9,     -999.0,     -999.0,       4.93,2,       1.88,2,       1.88,2,     -999.0,9,     -999.0,9,     -999.0,9,     -999.0,9,     -999.0,9
33RO20161119,        P18,     186,          1,          9,      11108,2,20170119,       2306,   -58.9999,  -103.0000,       4648,  1771.6,   2.1205,  34.7035,2,  34.7040,2,    179.7,2,   179.6,2,    84.5,2,    32.1,2,    0.01,2,   2.217,2,   0.2256,2,   0.1115,2,   0.0709,2,  2252.6,2,  2347.6,2,   7.5800,2,    25.00, -999.00,9,  -999.0,9,  -999.0,   1.1056,2, -999.00,9,  -999.0,9, -999.00,9, -999.00,9,    20.6674,2,    4.97,2,  -999.0,9,     -999.0,     -999.0,9,     -999.0,9,     -999.0,     -999.0,9,     -999.0,     -999.0,9,     -999.0,     -999.0,       4.97,2,       1.85,2,       1.85,2,     -999.0,9,     -999.0,9,     -999.0,9,     -999.0,9,     -999.0,9
33RO20161119,        P18,     186,          1,         10,      11109,2,20170119,       2306,   -58.9999,  -103.0000,       4648,  1549.7,   2.2626,  34.6685,2,  34.6689,2,    174.5,2,   174.4,2,    81.9,2,    32.9,2,    0.01,2,   2.259,2,   0.2826,2,   0.1371,2,   0.0559,2,  2254.7,2,  2346.2,2,   7.5666,2,    25.00, -999.00,9,  -999.0,9,  -999.0,   1.6776,2, -999.00,9,  -999.0,9, -999.00,9, -999.00,9,    21.3531,2,    4.98,2,  -999.0,9,     -999.0,     -999.0,9,     -999.0,9,     -999.0,     -999.0,9,     -999.0,     -999.0,9,     -999.0,     -999.0,       4.98,2,       1.81,2,       1.81,2,     -999.0,9,     -999.0,9,     -999.0,9,     -999.0,9,     -999.0,9
33RO20161119,        P18,     186,          1,         11,      11110,2,20170119,       2306,   -58.9999,  -103.0000,       4648,  1390.4,   2.3657,  34.6327,2,  34.6311,2,    172.3,2,   171.9,2,    78.6,2,    33.4,2,    0.01,2,   2.315,2,   0.3896,2,   0.1946,2,   0.1062,2,  2255.6,2,  2342.1,2,   7.5576,2,    25.00, -999.00,9,  -999.0,9,  -999.0,   1.8424,2, -999.00,9,  -999.0,9, -999.00,9, -999.00,9,    21.8847,2,     5.0,2,  -999.0,9,     -999.0,     -999.0,9,     -999.0,9,     -999.0,     -999.0,9,     -999.0,     -999.0,9,     -999.0,     -999.0,        5.0,2,       1.72,2,       1.72,2,     -999.0,9,     -999.0,9,     -999.0,9,     -999.0,9,     -999.0,9
33RO20161119,        P18,     186,          1,         12,      11111,2,20170119,       2306,   -58.9999,  -103.0000,       4648,  1229.7,   2.4575,  34.5852,2,  34.5843,2,    171.3,2,   171.3,2,    74.7,2,    34.0,2,    0.02,2,   2.330,2,   0.5819,2,   0.2880,2,   0.1438,2,  2252.3,6,  2337.2,2,   7.5497,6,    25.00, -999.00,9,  -999.0,9,  -999.0,   2.1251,2, -999.00,9,  -999.0,9, -999.00,9, -999.00,9,    22.3549,2,    5.04,2,  -999.0,9,     -999.0,     -999.0,9,     -999.0,9,     -999.0,     -999.0,9,     -999.0,     -999.0,9,     -999.0,     -999.0,       5.04,2,       1.71,2,       1.71,2,     -999.0,9,     -999.0,9,     -999.0,9,     -999.0,9,     -999.0,9
33RO20161119,        P18,     186,          1,         13,      11112,2,20170119,       2306,   -58.9999,  -103.0000,       4648,  1080.5,   2.5840,  34.5230,2,  34.5210,2,    173.9,2,   173.6,2,    69.2,2,    34.3,2,    0.01,2,   2.357,2,   0.8493,2,   0.4257,2,   0.2363,2,  2247.9,2,  2332.4,6,   7.5476,2,    25.00, -999.00,9,  -999.0,9,  -999.0,   2.8041,2, -999.00,9,  -999.0,9, -999.00,9, -999.00,9,    22.7134,2,    5.08,2,  -999.0,9,     -999.0,     -999.0,9,     -999.0,9,     -999.0,     -999.0,9,     -999.0,     -999.0,9,     -999.0,     -999.0,       5.08,2,       1.82,2,       1.82,2,     -999.0,9,     -999.0,9,     -999.0,9,     -999.0,9,     -999.0,9
33RO20161119,        P18,     186,          1,         14,      11113,2,20170119,       2306,   -58.9999,  -103.0000,       4648,   935.7,   2.7882,  34.4582,2,  34.4571,2,    179.9,2,   179.6,2,    62.2,2,    34.1,2,    0.02,2,   2.359,2,   1.1598,2,   0.5864,2,   0.3285,2,  2242.1,2,  2326.2,2,   7.5530,2,    25.00, -999.00,9,  -999.0,9,  -999.0,   4.1055,2, -999.00,9,  -999.0,9, -999.00,9, -999.00,9,    22.4803,2,    5.12,2,  -999.0,9,     -999.0,     -999.0,9,     -999.0,9,     -999.0,     -999.0,9,     -999.0,     -999.0,9,     -999.0,     -999.0,       5.12,2,       1.88,2,       1.88,2,     -999.0,9,     -999.0,9,     -999.0,9,     -999.0,9,     -999.0,9
33RO20161119,        P18,     186,          1,         15,      11114,2,20170119,       2306,   -58.9999,  -103.0000,       4648,   796.0,   2.9726,  34.3798,2,  34.3778,2,    192.1,2,   191.7,2,    52.6,2,    33.7,2,    0.02,2,   2.326,2,   1.7578,6,   0.8911,6,   0.5414,6,  2227.5,2,  2311.1,2,   7.5602,2,    25.00, -999.00,9,  -999.0,9,  -999.0,   4.2713,2, -999.00,9,  -999.0,9, -999.00,9, -999.00,9,    21.8631,2,    5.26,2,  -999.0,9,     -999.0,     -999.0,9,     -999.0,9,     -999.0,     -999.0,9,     -999.0,     -999.0,9,     -999.0,     -999.0,       5.26,2,       1.95,2,       1.95,2,     -999.0,9,     -999.0,9,     -999.0,9,     -999.0,9,     -999.0,9
33RO20161119,        P18,     186,          1,         16,      11115,2,20170119,       2306,   -58.9999,  -103.0000,       4648,   660.8,   3.2911,  34.3075,2,  34.3031,2,    204.4,2,   209.2,2,    41.2,2,    32.3,2,    0.02,2,   2.222,2,   2.3969,2,   1.2440,2,   0.8311,2,  2209.3,2,  2303.5,2,   7.5842,2,    25.00, -999.00,9,  -999.0,9,  -999.0,    4.777,2, -999.00,9,  -999.0,9, -999.00,9, -999.00,9,     20.444,2,     5.4,2,  -999.0,9,     -999.0,     -999.0,9,     -999.0,9,     -999.0,     -999.0,9,     -999.0,     -999.0,9,     -999.0,     -999.0,        5.4,2,       2.21,2,       2.21,2,     -999.0,9,     -999.0,9,     -999.0,9,     -999.0,9,     -999.0,9
33RO20161119,        P18,     186,          1,         17,      11116,2,20170119,       2306,   -58.9999,  -103.0000,       4648,   540.3,   3.3909,  34.2150,2,  34.2148,2,    260.9,2,   236.4,2,    30.8,2,    30.5,2,    0.02,2,   2.100,2,   3.2755,2,   1.7356,2,   1.4402,2,  2191.6,2,  2289.7,2,   7.6110,2,    25.00, -999.00,9,  -999.0,9,  -999.0,   4.8795,2, -999.00,9,  -999.0,9, -999.00,9, -999.00,9,    18.2953,2,    5.49,2,  -999.0,9,     -999.0,     -999.0,9,     -999.0,9,     -999.0,     -999.0,9,     -999.0,     -999.0,9,     -999.0,     -999.0,       5.49,2,       2.36,2,       2.36,2,     -999.0,9,     -999.0,9,     -999.0,9,     -999.0,9,     -999.0,9
33RO20161119,        P18,     186,          1,         18,      11117,2,20170119,       2306,   -58.9999,  -103.0000,       4648,   420.5,   3.5966,  34.1619,2,  34.1597,2,    287.4,2,   262.4,2,    21.7,2,    28.1,2,    0.02,2,   1.939,2,   3.8859,2,   2.0807,2,   2.0032,2,  2171.5,2,  2286.2,2,   7.6484,2,    25.00, -999.00,9,  -999.0,9,  -999.0,   4.7485,2, -999.00,9,  -999.0,9, -999.00,9, -999.00,9,     16.302,2,    5.82,2,  -999.0,9,     -999.0,     -999.0,9,     -999.0,9,     -999.0,     -999.0,9,     -999.0,     -999.0,9,     -999.0,     -999.0,       5.76,2,       2.69,2,       2.91,2,     -999.0,9,     -999.0,9,     -999.0,9,     -999.0,9,     -999.0,9
33RO20161119,        P18,     186,          1,         19,      11083,2,20170119,       2306,   -58.9999,  -103.0000,       4648,   315.5,   3.8672,  34.1359,2,  34.1334,2,    280.8,2,   279.6,2,    15.8,2,    26.1,2,    0.02,2,   1.813,2,   4.1613,2,   2.2724,2,   2.4044,2,  2158.1,2,  2281.8,2,   7.6712,2,    25.00, -999.00,9,  -999.0,9,  -999.0,   4.9581,2, -999.00,9,  -999.0,9, -999.00,9, -999.00,9,    14.7327,2,    5.98,2,  -999.0,9,     -999.0,     -999.0,9,     -999.0,9,     -999.0,     -999.0,9,     -999.0,     -999.0,9,     -999.0,     -999.0,       5.92,2,       2.98,2,       3.07,2,     -999.0,9,     -999.0,9,     -999.0,9,     -999.0,9,     -999.0,9
33RO20161119,        P18,     186,          1,         20,      11118,2,20170119,       2306,   -58.9999,  -103.0000,       4648,   220.6,   4.4220,  34.1658,2,  34.1645,2,    280.2,2,   278.6,2,    13.5,2,    24.9,2,    0.03,2,   1.728,2,   4.0879,2,   2.2569,2,   2.4003,2,  2149.4,2,  2280.9,2,   7.6840,2,    25.00, -999.00,9,  -999.0,9,  -999.0,   0.4074,2, -999.00,9,  -999.0,9, -999.00,9, -999.00,9,    14.1429,2,    6.15,2,  -999.0,9,     -999.0,     -999.0,9,     -999.0,9,     -999.0,     -999.0,9,     -999.0,     -999.0,9,     -999.0,     -999.0,       6.08,2,       3.25,2,       3.46,2,     -999.0,9,     -999.0,9,     -999.0,9,     -999.0,9,     -999.0,9
33RO20161119,        P18,     186,          1,         21,      11119,2,20170119,       2306,   -58.9999,  -103.0000,       4648,   130.0,   4.9243,  34.1731,2,  34.1749,2,    287.6,2,   292.4,2,     9.2,2,    22.4,2,    0.26,2,   1.606,2,   4.2704,2,   2.3598,2,   2.6617,2,  2139.1,2,  2279.1,6,   7.7167,2,    25.00, -999.00,9,  -999.0,9,  -999.0,    0.397,2, -999.00,9,  -999.0,9, -999.00,9, -999.00,9,     13.081,2,    6.42,2,  -999.0,9,     -999.0,     -999.0,9,     -999.0,9,     -999.0,     -999.0,9,     -999.0,     -999.0,9,     -999.0,     -999.0,       6.24,2,       3.81,2,       3.52,2,     -999.0,9,     -999.0,9,     -999.0,9,     -999.0,9,     -999.0,9
33RO20161119,        P18,     186,          1,         22,      11120,2,20170119,       2306,   -58.9999,  -103.0000,       4648,    60.5,   5.7098,  34.0740,2,  34.0781,2,    306.8,2,   307.8,2,     1.6,2,    19.6,2,    0.21,2,   1.388,2,   4.3632,2,   2.4372,2,   2.8500,2,  2115.6,2,  2275.2,2,   7.7651,2,    25.00, -999.00,9,  -999.0,9,  -999.0,   0.3603,2,  196.72,6,  -999.0,9, -999.00,9,   35.64,6,    12.2769,2,    8.06,2,  -999.0,9,     -999.0,     -999.0,9,     -999.0,9,     -999.0,     -999.0,9,     -999.0,     -999.0,9,     -999.0,     -999.0,       7.34,2,       4.44,2,        4.5,2,     -999.0,9,     -999.0,9,     -999.0,9,     -999.0,9,     -999.0,9
33RO20161119,        P18,     186,          1,         23,      11121,2,20170119,       2306,   -58.9999,  -103.0000,       4648,    30.1,   5.8327,  34.0702,2,  34.0689,2,    306.2,2,   306.7,2,     1.2,2,    19.4,2,    0.22,2,   1.374,2,   4.3665,2,   2.4392,2,   2.8445,2,  2114.6,2,  2275.6,2,   7.7692,2,    25.00, -999.00,9,  -999.0,9,  -999.0,   0.2881,2, -999.00,9,  -999.0,9, -999.00,9, -999.00,9,      12.18,2,    8.24,2,  -999.0,9,     -999.0,     -999.0,9,     -999.0,9,     -999.0,     -999.0,9,     -999.0,     -999.0,9,     -999.0,     -999.0,       7.43,2,       4.42,2,       4.66,2,     -999.0,9,     -999.0,9,     -999.0,9,     -999.0,9,     -999.0,9
33RO20161119,        P18,     186,          1,         24,      11122,2,20170119,       2306,   -58.9999,  -103.0000,       4648,     3.7,   5.8356,  34.0682,2,  34.0690,2,    304.8,2,   306.6,2,     1.2,2,    19.5,2,    0.22,2,   1.359,2,   4.3794,2,   2.4350,2,   2.8595,2,  2114.9,6,  2276.3,2,   7.7705,2,    25.00, -999.00,9,  -999.0,9,  -999.0,   0.2479,2, -999.00,9,  -999.0,9, -999.00,9, -999.00,9,    12.2164,2,    8.23,2,  -999.0,9,     -999.0,     -999.0,9,     -999.0,9,     -999.0,     -999.0,9,     -999.0,     -999.0,9,     -999.0,     -999.0,       7.44,2,       4.41,2,       4.59,2,     -999.0,9,     -999.0,9,     -999.0,9,     -999.0,9,     -999.0,9