BOTTLE,20230606CCHSIOCBG
EXPOCODE,SECT_ID,STNNBR,CASTNO,SAMPNO,BTLNBR,BTLNBR_FLAG_W,DATE,TIME,LATITUDE,LONGITUDE,DEPTH,CTDPRS,CTDTMP,CTDSAL,CTDSAL_FLAG_W,SALNTY,SALNTY_FLAG_W,CTDOXY,CTDOXY_FLAG_W,OXYGEN,OXYGEN_FLAG_W,SILCAT,SILCAT_FLAG_W,NITRAT,NITRAT_FLAG_W,NITRIT,NITRIT_FLAG_W,PHSPHT,PHSPHT_FLAG_W,CFC-11,CFC-11_FLAG_W,CFC-12,CFC-12_FLAG_W,SF6,SF6_FLAG_W,TCARBN,TCARBN_FLAG_W,ALKALI,ALKALI_FLAG_W,PH_SWS,PH_SWS_FLAG_W,PH_TMP,DELC13,DELC13_FLAG_W,DELC14,DELC14_FLAG_W,C14ERR,CCL4,CCL4_FLAG_W,POC,POC_FLAG_W,DOC,DOC_FLAG_W,TDN,TDN_FLAG_W,PON,PON_FLAG_W,N2O,N2O_FLAG_W,D15N_NO3,D15N_NO3_FLAG_W,14C-DOC,14C-DOC_FLAG_W,14C-DOCERR,13C-DOC,13C-DOC_FLAG_W,N2/ARGON_UNSTRIPPED,N2/ARGON_UNSTRIPPED_FLAG_W,N2/ARGON_UNSTRIPPED_ERROR,N2/ARGON,N2/ARGON_FLAG_W,N2/ARGON_ERROR,D15N_N2,D15N_N2_FLAG_W,D15N_N2_ERROR,D15N_NO3_ERROR,D15N_NO2+NO3,D15N_NO2+NO3_FLAG_W,D18O_NO2+NO3,D18O_NO2+NO3_FLAG_W,D18O_NO3,D18O_NO3_FLAG_W,TDP,TDP_FLAG_W,N2O_ALT_1,N2O_ALT_1_FLAG_W,D15N_N2O,D15N_N2O_FLAG_W,D18O_N2O,D18O_N2O_FLAG_W,D15N_ALPHA_N2O,D15N_ALPHA_N2O_FLAG_W
,,,,,,,,,,,METERS,DBAR,ITS-90,PSS-78,,PSS-78,,UMOL/KG,,UMOL/KG,,UMOL/KG,,UMOL/KG,,UMOL/KG,,UMOL/KG,,PMOL/KG,,PMOL/KG,,FMOL/KG,,UMOL/KG,,UMOL/KG,,,,DEG C,/MILLE,,/MILLE,,/MILLE,PMOL/KG,,UG/KG,,UMOL/KG,,UMOL/KG,,UG/KG,,NMOL/KG,,/MILLE,,/MILLE,,/MILLE,/MILLE,,,,,,,,/MILLE,,/MILLE,/MILLE,/MILLE,,/MILLE,,/MILLE,,UMOL/KG,,NMOL/L,,/MILLE,,/MILLE,,/MILLE,
33RO20161119,        P18,     171,          1,          1,      11010,2,20170115,       1449,   -51.5000,  -103.0002,       4061,  4121.7,   0.9022,  34.7109,2,  34.7102,2,    201.4,2,   201.1,6,   126.6,2,    32.4,2,    0.01,2,   2.246,2,   0.0347,2,   0.0178,2,   0.0316,2,  2271.9,2,  2380.8,2,   7.6065,2,    25.00, -999.00,9,  -999.0,9,  -999.0,   0.1747,2, -999.00,9,    38.2,2,   35.90,2, -999.00,9,     18.449,2, -999.00,9,  -999.0,9,     -999.0,     -999.0,9,     -999.0,9,     -999.0,     -999.0,9,     -999.0,     -999.0,9,     -999.0,     -999.0,     -999.0,9,     -999.0,9,     -999.0,9,     -999.0,9,     -999.0,9,     -999.0,9,     -999.0,9,     -999.0,9
33RO20161119,        P18,     171,          1,          2,      11101,2,20170115,       1449,   -51.5000,  -103.0002,       4061,  3786.1,   1.0104,  34.7131,2,  34.7120,2,    198.9,2,   198.7,2,   122.6,2,    32.4,2,    0.01,2,   2.240,2,   0.0346,2,   0.0171,2,   0.0000,2,  2269.5,2,  2374.2,2,   7.6030,2,    25.00, -999.00,9,  -999.0,9,  -999.0,   0.6996,2, -999.00,9,    38.3,2,   35.30,2, -999.00,9,    18.6517,2, -999.00,9,  -999.0,9,     -999.0,     -999.0,9,     -999.0,9,     -999.0,     -999.0,9,     -999.0,     -999.0,9,     -999.0,     -999.0,     -999.0,9,     -999.0,9,     -999.0,9,     -999.0,9,     -999.0,9,     -999.0,9,     -999.0,9,     -999.0,9
33RO20161119,        P18,     171,          1,          3,      11102,2,20170115,       1449,   -51.5000,  -103.0002,       4061,  3452.0,   1.3802,  34.7187,2,  34.7173,2,    191.4,2,   191.2,2,   111.1,6,    32.2,6,    0.01,6,   2.233,6,   0.0476,2,   0.0216,2,   0.0000,2,  2266.5,2,  2367.5,2,   7.5958,6,    25.00, -999.00,9,  -999.0,9,  -999.0,   1.4559,2, -999.00,9,    38.6,2,   34.50,2, -999.00,9,    18.9809,2, -999.00,9,  -999.0,9,     -999.0,     -999.0,9,     -999.0,9,     -999.0,     -999.0,9,     -999.0,     -999.0,9,     -999.0,     -999.0,     -999.0,9,     -999.0,9,     -999.0,9,     -999.0,9,     -999.0,9,     -999.0,9,     -999.0,9,     -999.0,9
33RO20161119,        P18,     171,          1,          4,      11103,2,20170115,       1449,   -51.5000,  -103.0002,       4061,  3150.4,   1.5661,  34.7174,2,  34.7220,4,    185.1,2,   185.2,2,   108.9,6,    32.4,6,    0.01,6,   2.245,6,   0.0396,2,   0.0186,2,   0.0411,2,  2269.2,2,  2372.8,2,   7.5948,2,    25.00, -999.00,9,  -999.0,9,  -999.0,   2.0833,2, -999.00,9,    40.0,2,   34.00,2, -999.00,9,    19.3795,2, -999.00,9,  -999.0,9,     -999.0,     -999.0,9,     -999.0,9,     -999.0,     -999.0,9,     -999.0,     -999.0,9,     -999.0,     -999.0,     -999.0,9,     -999.0,9,     -999.0,9,     -999.0,9,     -999.0,9,     -999.0,9,     -999.0,9,     -999.0,9
33RO20161119,        P18,     171,          1,          5,      11104,2,20170115,       1449,   -51.5000,  -103.0002,       4061,  2849.9,   1.6851,  34.7120,2,  34.7110,2,    179.5,2,   179.3,2,   105.8,6,    32.7,6,    0.01,6,   2.271,6,-999.0000,9,-999.0000,9,-999.0000,9,  2272.6,2,  2371.6,2,   7.5879,2,    25.00, -999.00,9,  -999.0,9,  -999.0,-999.0000,9, -999.00,9,    40.7,2,   35.00,2, -999.00,9,     -999.0,9, -999.00,9,  -999.0,9,     -999.0,     -999.0,9,     -999.0,9,     -999.0,     -999.0,9,     -999.0,     -999.0,9,     -999.0,     -999.0,     -999.0,9,     -999.0,9,     -999.0,9,     -999.0,9,     -999.0,9,     -999.0,9,     -999.0,9,     -999.0,9
33RO20161119,        P18,     171,          1,          6,      11105,2,20170115,       1449,   -51.5000,  -103.0002,       4061,  2541.2,   1.9071,  34.7064,2,  34.7088,2,    174.9,2,   175.0,2,    99.0,6,    32.8,6,    0.01,6,   2.279,6,-999.0000,9,-999.0000,9,-999.0000,9,  2269.1,2,  2365.3,2,   7.5806,2,    25.00, -999.00,9,  -999.0,9,  -999.0,-999.0000,9, -999.00,9,    39.0,2,   36.00,2, -999.00,9,     -999.0,9, -999.00,9,  -999.0,9,     -999.0,     -999.0,9,     -999.0,9,     -999.0,     -999.0,9,     -999.0,     -999.0,9,     -999.0,     -999.0,     -999.0,9,     -999.0,9,     -999.0,9,     -999.0,9,     -999.0,9,     -999.0,9,     -999.0,9,     -999.0,9
33RO20161119,        P18,     171,          1,          7,      11106,2,20170115,       1449,   -51.5000,  -103.0002,       4061,  2222.0,   2.1610,  34.6853,2,  34.6840,2,    171.6,2,   171.4,2,    89.6,2,    32.9,2,    0.01,2,   2.285,2,   0.1164,6,   0.0558,6,   0.0209,6,  2264.6,2,  2357.5,2,   7.5715,2,    25.00, -999.00,9,  -999.0,9,  -999.0,   2.7029,2, -999.00,9,    41.5,2,   33.40,2, -999.00,9,    20.9979,2, -999.00,9,  -999.0,9,     -999.0,     -999.0,9,     -999.0,9,     -999.0,     -999.0,9,     -999.0,     -999.0,9,     -999.0,     -999.0,     -999.0,9,     -999.0,9,     -999.0,9,     -999.0,9,     -999.0,9,     -999.0,9,     -999.0,9,     -999.0,9
33RO20161119,        P18,     171,          1,          8,      11107,2,20170115,       1449,   -51.5000,  -103.0002,       4061,  1899.5,   2.3883,  34.6360,2,  34.6586,4,    169.2,2,   168.9,2,    80.6,2,    33.4,2,    0.01,2,   2.319,2,-999.0000,9,-999.0000,9,-999.0000,9,  2259.6,2,  2346.9,2,   7.5606,2,    25.00, -999.00,9,  -999.0,9,  -999.0,-999.0000,9, -999.00,9,    42.4,2,   37.10,2, -999.00,9,     -999.0,9, -999.00,9,  -999.0,9,     -999.0,     -999.0,9,     -999.0,9,     -999.0,     -999.0,9,     -999.0,     -999.0,9,     -999.0,     -999.0,     -999.0,9,     -999.0,9,     -999.0,9,     -999.0,9,     -999.0,9,     -999.0,9,     -999.0,9,     -999.0,9
33RO20161119,        P18,     171,          1,          9,      11108,2,20170115,       1449,   -51.5000,  -103.0002,       4061,  1580.8,   2.6764,  34.5309,2,  34.5294,2,    170.9,2,   170.6,2,    69.9,2,    34.2,2,    0.01,2,   2.370,2,   0.6439,2,   0.3148,2,   0.1436,2,  2251.0,6,  2331.3,6,   7.5494,2,    25.00, -999.00,9,  -999.0,9,  -999.0,   3.3776,2, -999.00,9,    42.2,2,   38.70,2, -999.00,9,    22.2619,2, -999.00,9,  -999.0,9,     -999.0,     -999.0,9,     -999.0,9,     -999.0,     -999.0,9,     -999.0,     -999.0,9,     -999.0,     -999.0,     -999.0,9,     -999.0,9,     -999.0,9,     -999.0,9,     -999.0,9,     -999.0,9,     -999.0,9,     -999.0,9
33RO20161119,        P18,     171,          1,         10,      11109,2,20170115,       1449,   -51.5000,  -103.0002,       4061,  1380.1,   2.9379,  34.4447,2,  34.4456,2,    180.3,2,   179.1,2,    59.3,2,    34.1,2,    0.01,2,   2.362,2,-999.0000,9,-999.0000,9,-999.0000,9,  2237.1,2,  2321.3,2,   7.5550,2,    25.00, -999.00,9,  -999.0,9,  -999.0,-999.0000,9, -999.00,9,    41.5,2,   36.40,2, -999.00,9,     -999.0,9, -999.00,9,  -999.0,9,     -999.0,     -999.0,9,     -999.0,9,     -999.0,     -999.0,9,     -999.0,     -999.0,9,     -999.0,     -999.0,     -999.0,9,     -999.0,9,     -999.0,9,     -999.0,9,     -999.0,9,     -999.0,9,     -999.0,9,     -999.0,9
33RO20161119,        P18,     171,          1,         11,      11110,2,20170115,       1449,   -51.5000,  -103.0002,       4061,  1231.0,   3.2111,  34.3826,2,  34.3956,4,    190.1,2,   189.9,2,    50.2,2,    33.4,2,    0.02,2,   2.328,2,   1.5445,2,   0.7676,2,   0.3922,2,  2224.7,2,  2314.1,2,   7.5678,2,    25.00, -999.00,9,  -999.0,9,  -999.0,   4.4411,2, -999.00,9,    39.2,2,   37.30,2, -999.00,9,    21.2766,2, -999.00,9,  -999.0,9,     -999.0,     -999.0,9,     -999.0,9,     -999.0,     -999.0,9,     -999.0,     -999.0,9,     -999.0,     -999.0,     -999.0,9,     -999.0,9,     -999.0,9,     -999.0,9,     -999.0,9,     -999.0,9,     -999.0,9,     -999.0,9
33RO20161119,        P18,     171,          1,         12,      11111,2,20170115,       1449,   -51.5000,  -103.0002,       4061,  1086.1,   3.6647,  34.3204,2,  34.3191,2,    203.5,2,   203.1,2,    39.1,2,    32.0,2,    0.01,2,   2.233,2,-999.0000,9,-999.0000,9,-999.0000,9,  2207.3,2,  2299.9,2,   7.5859,2,    25.00, -999.00,9,  -999.0,9,  -999.0,-999.0000,9, -999.00,9,    39.4,2,   34.90,2, -999.00,9,     -999.0,9, -999.00,9,  -999.0,9,     -999.0,     -999.0,9,     -999.0,9,     -999.0,     -999.0,9,     -999.0,     -999.0,9,     -999.0,     -999.0,     -999.0,9,     -999.0,9,     -999.0,9,     -999.0,9,     -999.0,9,     -999.0,9,     -999.0,9,     -999.0,9
33RO20161119,        P18,     171,          1,         13,      11112,2,20170115,       1449,   -51.5000,  -103.0002,       4061,   960.8,   4.2494,  34.2931,2,  34.2918,2,    209.9,2,   211.3,2,    30.2,2,    30.5,2,    0.02,2,   2.104,2,   2.5048,2,   1.2902,2,   0.7582,2,  2192.7,2,  2294.1,2,   7.6073,2,    25.00, -999.00,9,  -999.0,9,  -999.0,    4.084,2, -999.00,9,    41.0,2,   33.00,2, -999.00,9,    18.8813,2, -999.00,9,  -999.0,9,     -999.0,     -999.0,9,     -999.0,9,     -999.0,     -999.0,9,     -999.0,     -999.0,9,     -999.0,     -999.0,     -999.0,9,     -999.0,9,     -999.0,9,     -999.0,9,     -999.0,9,     -999.0,9,     -999.0,9,     -999.0,9
33RO20161119,        P18,     171,          1,         14,      11113,2,20170115,       1449,   -51.5000,  -103.0002,       4061,   835.3,   4.9161,  34.2800,2,  34.2791,2,    221.1,2,   220.2,2,    22.4,2,    28.4,2,    0.01,2,   1.981,2,-999.0000,9,-999.0000,9,-999.0000,9,  2179.6,2,  2288.8,2,   7.6325,2,    25.00, -999.00,9,  -999.0,9,  -999.0,-999.0000,9, -999.00,9,    42.4,2,   31.30,2, -999.00,9,     -999.0,9, -999.00,9,  -999.0,9,     -999.0,     -999.0,9,     -999.0,9,     -999.0,     -999.0,9,     -999.0,     -999.0,9,     -999.0,     -999.0,     -999.0,9,     -999.0,9,     -999.0,9,     -999.0,9,     -999.0,9,     -999.0,9,     -999.0,9,     -999.0,9
33RO20161119,        P18,     171,          1,         15,      11114,2,20170115,       1449,   -51.5000,  -103.0002,       4061,   708.3,   5.4078,  34.2476,2,  34.2463,2,    242.2,2,   241.0,2,    14.7,2,    25.8,2,    0.02,2,   1.806,2,   3.4971,2,   1.8819,2,   1.5187,2,  2161.0,2,  2283.4,2,   7.6666,2,    25.00, -999.00,9,  -999.0,9,  -999.0,   4.3029,2, -999.00,9,    42.6,2,   29.90,2, -999.00,9,      15.84,2, -999.00,9,  -999.0,9,     -999.0,     -999.0,9,     -999.0,9,     -999.0,     -999.0,9,     -999.0,     -999.0,9,     -999.0,     -999.0,     -999.0,9,     -999.0,9,     -999.0,9,     -999.0,9,     -999.0,9,     -999.0,9,     -999.0,9,     -999.0,9
33RO20161119,        P18,     171,          1,         16,      11115,2,20170115,       1449,   -51.5000,  -103.0002,       4061,   591.4,   5.7537,  34.2325,2,  34.2317,2,    260.9,2,   262.5,2,     9.8,2,    23.0,2,    0.01,2,   1.634,2,-999.0000,9,-999.0000,9,-999.0000,9,  2145.8,2,  2277.3,2,   7.6988,2,    25.00, -999.00,9,  -999.0,9,  -999.0,-999.0000,9, -999.00,9,    43.9,2,   25.30,2, -999.00,9,     -999.0,9, -999.00,9,  -999.0,9,     -999.0,     -999.0,9,     -999.0,9,     -999.0,     -999.0,9,     -999.0,     -999.0,9,     -999.0,     -999.0,     -999.0,9,     -999.0,9,     -999.0,9,     -999.0,9,     -999.0,9,     -999.0,9,     -999.0,9,     -999.0,9
33RO20161119,        P18,     171,          1,         17,      11116,2,20170115,       1449,   -51.5000,  -103.0002,       4061,   479.7,   6.0264,  34.2359,2,  34.2337,2,    272.7,2,   273.3,2,     7.3,2,    21.2,2,    0.02,2,   1.532,2,   3.9435,2,   2.2217,2,   2.2472,2,  2136.7,2,  2274.6,2,   7.7193,2,    25.00, -999.00,9,  -999.0,9,  -999.0,   4.3746,2, -999.00,9,    43.4,2,   23.30,2, -999.00,9,      12.98,2, -999.00,9,  -999.0,9,     -999.0,     -999.0,9,     -999.0,9,     -999.0,     -999.0,9,     -999.0,     -999.0,9,     -999.0,     -999.0,     -999.0,9,     -999.0,9,     -999.0,9,     -999.0,9,     -999.0,9,     -999.0,9,     -999.0,9,     -999.0,9
33RO20161119,        P18,     171,          1,         18,      11117,2,20170115,       1449,   -51.5000,  -103.0002,       4061,   371.2,   6.1881,  34.2373,2,  34.2360,2,    276.8,2,   275.5,2,     6.4,2,    20.4,2,    0.02,2,   1.473,2,-999.0000,9,-999.0000,9,-999.0000,9,  2133.7,2,  2276.3,2,   7.7247,2,    25.00, -999.00,9,  -999.0,9,  -999.0,-999.0000,9, -999.00,9,    42.1,2,   23.60,2, -999.00,9,     -999.0,9, -999.00,9,  -999.0,9,     -999.0,     -999.0,9,     -999.0,9,     -999.0,     -999.0,9,     -999.0,     -999.0,9,     -999.0,     -999.0,     -999.0,9,     -999.0,9,     -999.0,9,     -999.0,9,     -999.0,9,     -999.0,9,     -999.0,9,     -999.0,9
33RO20161119,        P18,     171,          1,         19,      11083,2,20170115,       1449,   -51.5000,  -103.0002,       4061,   275.4,   6.5362,  34.2689,2,  34.2672,2,    277.9,2,   273.1,2,     5.7,2,    19.8,2,    0.02,2,   1.446,2,   3.9812,2,   2.2337,2,   2.3672,2,  2132.5,2,  2275.2,2,   7.7304,3,    25.00, -999.00,9,  -999.0,9,  -999.0,   0.1418,2, -999.00,9,    44.4,2,   22.40,2, -999.00,9,    13.0459,2, -999.00,9,  -999.0,9,     -999.0,     -999.0,9,     -999.0,9,     -999.0,     -999.0,9,     -999.0,     -999.0,9,     -999.0,     -999.0,     -999.0,9,     -999.0,9,     -999.0,9,     -999.0,9,     -999.0,9,     -999.0,9,     -999.0,9,     -999.0,9
33RO20161119,        P18,     171,          1,         20,      11118,2,20170115,       1449,   -51.5000,  -103.0002,       4061,   195.3,   6.4981,  34.2045,2,  34.2029,2,    286.6,2,   285.9,2,     4.2,2,    17.7,2,    0.40,2,   1.350,2,   4.0499,2,   2.2740,2,   2.7098,2,  2121.5,2,  2274.4,2,   7.7482,2,    25.00, -999.00,9,  -999.0,9,  -999.0,   0.1131,2, -999.00,9,    46.8,2,   22.10,2, -999.00,9,    12.0089,2, -999.00,9,  -999.0,9,     -999.0,     -999.0,9,     -999.0,9,     -999.0,     -999.0,9,     -999.0,     -999.0,9,     -999.0,     -999.0,     -999.0,9,     -999.0,9,     -999.0,9,     -999.0,9,     -999.0,9,     -999.0,9,     -999.0,9,     -999.0,9
33RO20161119,        P18,     171,          1,         21,      11119,2,20170115,       1449,   -51.5000,  -103.0002,       4061,   124.9,   6.7940,  34.2007,2,  34.2007,2,    286.9,2,   287.3,2,     3.4,2,    16.1,2,    0.42,2,   1.298,2,   3.9350,2,   2.2443,2,   2.6220,2,  2116.3,2,  2271.6,2,   7.7601,2,    25.00, -999.00,9,  -999.0,9,  -999.0,   0.1016,2, -999.00,9,    46.4,2,   19.40,2, -999.00,9,     11.655,2, -999.00,9,  -999.0,9,     -999.0,     -999.0,9,     -999.0,9,     -999.0,     -999.0,9,     -999.0,     -999.0,9,     -999.0,     -999.0,     -999.0,9,     -999.0,9,     -999.0,9,     -999.0,9,     -999.0,9,     -999.0,9,     -999.0,9,     -999.0,9
33RO20161119,        P18,     171,          1,         22,      11120,2,20170115,       1449,   -51.5000,  -103.0002,       4061,    60.7,   7.9584,  34.1666,2,  34.1661,2,    291.8,2,   290.2,2,     0.5,2,    14.6,2,    0.27,2,   1.191,2,   3.8734,2,   2.1808,2,   2.6292,2,  2104.2,2,  2271.6,6,-999.0000,5,  -999.00, -999.00,9,  -999.0,9,  -999.0,   0.0966,2, -999.00,9,    48.1,2,   17.60,2, -999.00,9,    11.3708,2, -999.00,9,  -999.0,9,     -999.0,     -999.0,9,     -999.0,9,     -999.0,     -999.0,9,     -999.0,     -999.0,9,     -999.0,     -999.0,     -999.0,9,     -999.0,9,     -999.0,9,     -999.0,9,     -999.0,9,     -999.0,9,     -999.0,9,     -999.0,9
33RO20161119,        P18,     171,          1,         23,      11121,2,20170115,       1449,   -51.5000,  -103.0002,       4061,    25.8,   8.7209,  34.1552,2,  34.1544,2,    290.8,2,   292.3,2,     0.2,2,    13.5,2,    0.27,2,   1.024,2,-999.0000,9,-999.0000,9,-999.0000,9,  2092.8,6,  2272.1,2,   7.8179,2,    25.00, -999.00,9,  -999.0,9,  -999.0,-999.0000,9, -999.00,9,    50.5,2,   17.70,2, -999.00,9,     -999.0,9, -999.00,9,  -999.0,9,     -999.0,     -999.0,9,     -999.0,9,     -999.0,     -999.0,9,     -999.0,     -999.0,9,     -999.0,     -999.0,     -999.0,9,     -999.0,9,     -999.0,9,     -999.0,9,     -999.0,9,     -999.0,9,     -999.0,9,     -999.0,9
33RO20161119,        P18,     171,          1,         24,      11122,2,20170115,       1449,   -51.5000,  -103.0002,       4061,     4.1,   8.7602,  34.1548,2,  34.1534,2,    288.8,2,   292.5,6,     0.2,2,    13.5,2,    0.27,2,   1.033,2,   3.7758,2,   2.1326,2,   2.6113,2,  2092.4,2,  2272.6,2,   7.8173,2,    25.00, -999.00,9,  -999.0,9,  -999.0,   0.0874,2, -999.00,9,    50.5,2,   15.90,2, -999.00,9,    11.1159,2, -999.00,9,  -999.0,9,     -999.0,     -999.0,9,     -999.0,9,     -999.0,     -999.0,9,     -999.0,     -999.0,9,     -999.0,     -999.0,     -999.0,9,     -999.0,9,     -999.0,9,     -999.0,9,     -999.0,9,     -999.0,9,     -999.0,9,     -999.0,9