BOTTLE,20230606CCHSIOCBG
EXPOCODE,SECT_ID,STNNBR,CASTNO,SAMPNO,BTLNBR,BTLNBR_FLAG_W,DATE,TIME,LATITUDE,LONGITUDE,DEPTH,CTDPRS,CTDTMP,CTDSAL,CTDSAL_FLAG_W,SALNTY,SALNTY_FLAG_W,CTDOXY,CTDOXY_FLAG_W,OXYGEN,OXYGEN_FLAG_W,SILCAT,SILCAT_FLAG_W,NITRAT,NITRAT_FLAG_W,NITRIT,NITRIT_FLAG_W,PHSPHT,PHSPHT_FLAG_W,CFC-11,CFC-11_FLAG_W,CFC-12,CFC-12_FLAG_W,SF6,SF6_FLAG_W,TCARBN,TCARBN_FLAG_W,ALKALI,ALKALI_FLAG_W,PH_SWS,PH_SWS_FLAG_W,PH_TMP,DELC13,DELC13_FLAG_W,DELC14,DELC14_FLAG_W,C14ERR,CCL4,CCL4_FLAG_W,POC,POC_FLAG_W,DOC,DOC_FLAG_W,TDN,TDN_FLAG_W,PON,PON_FLAG_W,N2O,N2O_FLAG_W,D15N_NO3,D15N_NO3_FLAG_W,14C-DOC,14C-DOC_FLAG_W,14C-DOCERR,13C-DOC,13C-DOC_FLAG_W,N2/ARGON_UNSTRIPPED,N2/ARGON_UNSTRIPPED_FLAG_W,N2/ARGON_UNSTRIPPED_ERROR,N2/ARGON,N2/ARGON_FLAG_W,N2/ARGON_ERROR,D15N_N2,D15N_N2_FLAG_W,D15N_N2_ERROR,D15N_NO3_ERROR,D15N_NO2+NO3,D15N_NO2+NO3_FLAG_W,D18O_NO2+NO3,D18O_NO2+NO3_FLAG_W,D18O_NO3,D18O_NO3_FLAG_W,TDP,TDP_FLAG_W,N2O_ALT_1,N2O_ALT_1_FLAG_W,D15N_N2O,D15N_N2O_FLAG_W,D18O_N2O,D18O_N2O_FLAG_W,D15N_ALPHA_N2O,D15N_ALPHA_N2O_FLAG_W
,,,,,,,,,,,METERS,DBAR,ITS-90,PSS-78,,PSS-78,,UMOL/KG,,UMOL/KG,,UMOL/KG,,UMOL/KG,,UMOL/KG,,UMOL/KG,,PMOL/KG,,PMOL/KG,,FMOL/KG,,UMOL/KG,,UMOL/KG,,,,DEG C,/MILLE,,/MILLE,,/MILLE,PMOL/KG,,UG/KG,,UMOL/KG,,UMOL/KG,,UG/KG,,NMOL/KG,,/MILLE,,/MILLE,,/MILLE,/MILLE,,,,,,,,/MILLE,,/MILLE,/MILLE,/MILLE,,/MILLE,,/MILLE,,UMOL/KG,,NMOL/L,,/MILLE,,/MILLE,,/MILLE,
33RO20161119,        P18,      61,          1,          1,      11010,2,20161208,       1038,    -1.4999,  -110.0001,       3850,  3890.2,   1.4702,  34.6924,2,  34.7058,4,    157.2,2,   157.2,2,   141.9,2,    36.0,2,    0.01,2,   2.434,2,   0.0024,2,   0.0012,2,   0.0285,2,  2325.4,6,  2416.7,4,   7.5945,2,    25.00, -999.00,9,  -999.0,9,  -999.0,        0,2, -999.00,9,  -999.0,9, -999.00,9, -999.00,9,    19.9381,2, -999.00,9,  -999.0,9,     -999.0,     -999.0,9,     -999.0,9,     -999.0,     -999.0,9,     -999.0,     -999.0,9,     -999.0,     -999.0,     -999.0,9,     -999.0,9,     -999.0,9,     -999.0,9,     -999.0,9,     -999.0,9,     -999.0,9,     -999.0,9
33RO20161119,        P18,      61,          1,          2,      11101,2,20161208,       1038,    -1.4999,  -110.0001,       3850,  3645.5,   1.4649,  34.6911,2,  34.6881,2,    153.9,2,   154.2,2,   143.3,2,    36.1,2,    0.01,2,   2.448,2,   0.0021,2,   0.0013,2,   0.0323,2,  2328.0,2,  2431.5,2,   7.5974,2,    25.00, -999.00,9,  -999.0,9,  -999.0,        0,2, -999.00,9,  -999.0,9, -999.00,9, -999.00,9,    20.2602,2, -999.00,9,  -999.0,9,     -999.0,     -999.0,9,     -999.0,9,     -999.0,     -999.0,9,     -999.0,     -999.0,9,     -999.0,     -999.0,     -999.0,9,     -999.0,9,     -999.0,9,     -999.0,9,     -999.0,9,     -999.0,9,     -999.0,9,     -999.0,9
33RO20161119,        P18,      61,          1,          3,      11102,2,20161208,       1038,    -1.4999,  -110.0001,       3850,  3400.4,   1.5231,  34.6864,2,  34.6832,2,    147.1,2,   147.5,2,   143.9,2,    36.6,2,    0.00,2,   2.490,2,   0.0020,2,   0.0017,2,   0.0000,2,  2330.3,2,  2430.2,2,   7.5813,2,    25.00, -999.00,9,  -999.0,9,  -999.0,        0,2, -999.00,9,  -999.0,9, -999.00,9, -999.00,9,    20.5949,2, -999.00,9,  -999.0,9,     -999.0,     -999.0,9,     -999.0,9,     -999.0,     -999.0,9,     -999.0,     -999.0,9,     -999.0,     -999.0,     -999.0,9,     -999.0,9,     -999.0,9,     -999.0,9,     -999.0,9,     -999.0,9,     -999.0,9,     -999.0,9
33RO20161119,        P18,      61,          1,          4,      11103,2,20161208,       1038,    -1.4999,  -110.0001,       3850,  3099.7,   1.6177,  34.6781,2,  34.6747,2,    139.7,2,   140.0,2,   142.5,2,    37.0,2,    0.00,2,   2.528,2,   0.0024,2,   0.0020,2,   0.0465,2,  2330.5,2,  2420.8,2,   7.5607,2,    25.00, -999.00,9,  -999.0,9,  -999.0,        0,2, -999.00,9,  -999.0,9, -999.00,9, -999.00,9,    21.6686,2, -999.00,9,  -999.0,9,     -999.0,     -999.0,9,     -999.0,9,     -999.0,     -999.0,9,     -999.0,     -999.0,9,     -999.0,     -999.0,     -999.0,9,     -999.0,9,     -999.0,9,     -999.0,9,     -999.0,9,     -999.0,9,     -999.0,9,     -999.0,9
33RO20161119,        P18,      61,          1,          5,      11104,2,20161208,       1038,    -1.4999,  -110.0001,       3850,  2798.0,   1.7217,  34.6713,2,  34.6671,2,    133.2,2,   134.2,2,   140.1,2,    37.3,2,    0.00,2,   2.566,2,   0.0021,2,   0.0013,2,   0.0000,2,  2332.9,2,  2419.0,2,   7.5511,2,    25.00, -999.00,9,  -999.0,9,  -999.0,        0,2, -999.00,9,  -999.0,9, -999.00,9, -999.00,9,    22.7578,2, -999.00,9,  -999.0,9,     -999.0,     -999.0,9,     -999.0,9,     -999.0,     -999.0,9,     -999.0,     -999.0,9,     -999.0,     -999.0,     -999.0,9,     -999.0,9,     -999.0,9,     -999.0,9,     -999.0,9,     -999.0,9,     -999.0,9,     -999.0,9
33RO20161119,        P18,      61,          1,          6,      11105,2,20161208,       1038,    -1.4999,  -110.0001,       3850,  2500.4,   1.8755,  34.6637,2,  34.6604,2,    121.3,2,   121.9,2,   142.1,2,    38.2,2,    0.00,2,   2.639,2,   0.0019,2,   0.0012,2,   0.0000,2,  2341.4,2,  2421.0,2,   7.5284,2,    25.00, -999.00,9,  -999.0,9,  -999.0,        0,2, -999.00,9,  -999.0,9, -999.00,9, -999.00,9,    23.4852,2, -999.00,9,  -999.0,9,     -999.0,     -999.0,9,     -999.0,9,     -999.0,     -999.0,9,     -999.0,     -999.0,9,     -999.0,     -999.0,     -999.0,9,     -999.0,9,     -999.0,9,     -999.0,9,     -999.0,9,     -999.0,9,     -999.0,9,     -999.0,9
33RO20161119,        P18,      61,          1,          7,      11106,2,20161208,       1038,    -1.4999,  -110.0001,       3850,  2201.0,   2.0361,  34.6564,2,  34.6529,2,    112.5,2,   113.0,2,   140.8,2,    38.8,2,    0.01,2,   2.695,2,   0.0032,2,   0.0022,2,   0.0195,2,  2346.1,6,  2418.4,2,   7.5167,2,    25.00, -999.00,9,  -999.0,9,  -999.0,        0,2, -999.00,9,  -999.0,9, -999.00,9, -999.00,9,    24.5443,2, -999.00,9,  -999.0,9,     -999.0,     -999.0,9,     -999.0,9,     -999.0,     -999.0,9,     -999.0,     -999.0,9,     -999.0,     -999.0,     -999.0,9,     -999.0,9,     -999.0,9,     -999.0,9,24.31088452,2,       9.56,2,      51.72,2,      22.89,2
33RO20161119,        P18,      61,          1,          8,      11107,2,20161208,       1038,    -1.4999,  -110.0001,       3850,  1898.7,   2.4260,  34.6393,2,  34.6366,2,     97.6,2,    97.7,6,   135.7,6,    39.7,6,    0.01,6,   2.792,6,   0.0035,2,   0.0021,2,   0.0233,2,  2348.7,2,  2411.6,2,   7.4886,2,    25.00, -999.00,9,  -999.0,9,  -999.0,        0,2, -999.00,9,  -999.0,9, -999.00,9, -999.00,9,    27.0933,2, -999.00,9,  -999.0,9,     -999.0,     -999.0,9,      37.96,2,     -999.0,       38.1,2,     -999.0,     -999.0,9,     -999.0,     -999.0,     -999.0,9,     -999.0,9,     -999.0,9,     -999.0,9,     -999.0,9,       8.94,2,      53.75,2,     -999.0,9
33RO20161119,        P18,      61,          1,          9,      11108,2,20161208,       1038,    -1.4999,  -110.0001,       3850,  1560.5,   2.9093,  34.6116,2,  34.6152,2,     92.6,2,    92.5,2,   120.4,6,    40.1,6,    0.00,6,   2.823,6,   0.0020,2,   0.0006,2,   0.0161,2,  2335.5,2,  2398.0,2,   7.4738,2,    25.00, -999.00,9,  -999.0,9,  -999.0,        0,2, -999.00,9,  -999.0,9, -999.00,9, -999.00,9,    29.6805,2, -999.00,9,  -999.0,9,     -999.0,     -999.0,9,      38.09,2,     -999.0,      38.22,2,     -999.0,     -999.0,9,     -999.0,     -999.0,     -999.0,9,     -999.0,9,     -999.0,9,     -999.0,9,     -999.0,9,     -999.0,9,     -999.0,9,     -999.0,9
33RO20161119,        P18,      61,          1,         10,      11109,2,20161208,       1038,    -1.4999,  -110.0001,       3850,  1365.5,   3.3079,  34.5958,2,  34.5975,2,     87.2,2,    85.6,2,   111.3,6,    40.5,6,    0.00,6,   2.852,6,   0.0036,2,   0.0017,2,   0.0256,2,  2328.6,2,  2385.2,2,   7.4602,2,    25.00, -999.00,9,  -999.0,9,  -999.0,        0,2, -999.00,9,  -999.0,9, -999.00,9, -999.00,9,     31.744,2, -999.00,9,  -999.0,9,     -999.0,     -999.0,9,      37.88,2,     -999.0,       38.0,2,     -999.0,     -999.0,9,     -999.0,     -999.0,     -999.0,9,     -999.0,9,     -999.0,9,     -999.0,9,30.36482491,2,       9.16,2,      50.53,2,      22.72,2
33RO20161119,        P18,      61,          1,         11,      11110,2,20161208,       1038,    -1.4999,  -110.0001,       3850,  1224.8,   3.7291,  34.5804,2,  34.5792,2,     82.1,2,    81.8,2,   101.2,6,    40.5,6,    0.00,6,   2.866,6,   0.0047,6,   0.0022,6,   0.0000,6,  2318.7,2,  2375.3,2,   7.4531,2,    25.00, -999.00,9,  -999.0,9,  -999.0,   0.0175,2, -999.00,9,  -999.0,9, -999.00,9, -999.00,9,    33.3429,2, -999.00,9,  -999.0,9,     -999.0,     -999.0,9,       36.8,2,     -999.0,     -999.0,9,     -999.0,     -999.0,9,     -999.0,     -999.0,     -999.0,9,     -999.0,9,     -999.0,9,     -999.0,9,31.64654542,2,       9.22,2,      49.44,2,      22.11,2
33RO20161119,        P18,      61,          1,         12,      11111,2,20161208,       1038,    -1.4999,  -110.0001,       3850,  1095.1,   4.2460,  34.5649,2,  34.5635,2,     79.7,2,    79.1,6,    89.3,6,    40.4,6,    0.01,6,   2.862,6,   0.0071,2,   0.0044,2,   0.0000,2,  2308.1,2,  2358.8,2,   7.4502,2,    25.00, -999.00,9,  -999.0,9,  -999.0,   0.0239,2, -999.00,9,  -999.0,9, -999.00,9, -999.00,9,     34.133,2, -999.00,9,  -999.0,9,     -999.0,     -999.0,9,      36.83,2,     -999.0,     -999.0,9,     -999.0,     -999.0,9,     -999.0,     -999.0,     -999.0,9,     -999.0,9,     -999.0,9,     -999.0,9,32.50712041,2,       8.89,2,      49.07,2,      21.39,2
33RO20161119,        P18,      61,          1,         13,      11112,2,20161208,       1038,    -1.4999,  -110.0001,       3850,   959.7,   4.8524,  34.5493,2,  34.5476,2,     81.4,2,    80.7,2,    75.6,6,    39.8,6,    0.00,6,   2.797,6,   0.0238,2,   0.0133,2,   0.0000,2,  2291.9,2,  2345.4,2,   7.4578,2,    25.00, -999.00,9,  -999.0,9,  -999.0,   0.0495,2, -999.00,9,  -999.0,9, -999.00,9, -999.00,9,    34.8984,2, -999.00,9,  -999.0,9,     -999.0,     -999.0,9,      37.88,2,     -999.0,      37.97,2,     -999.0,     -999.0,9,     -999.0,     -999.0,     -999.0,9,     -999.0,9,     -999.0,9,     -999.0,9,32.59465636,2,       8.78,2,      48.58,2,      21.85,2
33RO20161119,        P18,      61,          1,         14,      11113,2,20161208,       1038,    -1.4999,  -110.0001,       3850,   833.8,   5.4833,  34.5475,2,  34.5474,2,     72.6,2,    72.9,2,    65.0,6,    40.0,6,    0.01,6,   2.795,6,   0.0427,2,   0.0228,2,   0.0000,2,  2282.7,2,  2333.2,2,   7.4486,2,    25.00, -999.00,9,  -999.0,9,  -999.0,   0.0618,2, -999.00,9,  -999.0,9, -999.00,9, -999.00,9,    36.9596,2, -999.00,9,  -999.0,9,     -999.0,     -999.0,9,      37.87,2,     -999.0,      37.97,2,     -999.0,     -999.0,9,     -999.0,     -999.0,     -999.0,9,     -999.0,9,     -999.0,9,     -999.0,9,35.91683556,2,       8.57,2,      48.57,2,      20.82,2
33RO20161119,        P18,      61,          1,         15,      11114,2,20161208,       1038,    -1.4999,  -110.0001,       3850,   710.4,   6.2356,  34.5537,2,  34.5514,2,     68.4,2,    70.4,2,    53.3,2,    39.3,2,    0.01,2,   2.731,2,   0.0950,6,   0.0520,6,   0.0000,6,  2270.0,2,  2322.0,2,   7.4492,2,    25.00, -999.00,9,  -999.0,9,  -999.0,    0.064,2, -999.00,9,  -999.0,9, -999.00,9, -999.00,9,    39.6817,2, -999.00,9,  -999.0,9,     -999.0,     -999.0,9,      37.88,2,     -999.0,      37.98,2,     -999.0,     -999.0,9,     -999.0,     -999.0,     -999.0,9,     -999.0,9,     -999.0,9,     -999.0,9,37.94660062,2,       8.11,2,      47.72,2,      18.51,2
33RO20161119,        P18,      61,          1,         16,      11115,2,20161208,       1038,    -1.4999,  -110.0001,       3850,   600.3,   7.6417,  34.6056,2,  34.6038,2,     43.6,2,    45.4,2,    42.1,2,    39.3,2,    0.01,2,   2.717,2,   0.1711,2,   0.0949,2,   0.0000,2,  2268.2,2,  2307.8,2,   7.4144,2,    25.00, -999.00,9,  -999.0,9,  -999.0,   0.0566,2, -999.00,9,  -999.0,9, -999.00,9, -999.00,9,    50.5339,2, -999.00,9,  -999.0,9,     -999.0,     -999.0,9,      37.88,2,     -999.0,      37.97,2,     -999.0,     -999.0,9,     -999.0,     -999.0,     -999.0,9,     -999.0,9,     -999.0,9,     -999.0,9,48.34082929,2,        7.2,2,      47.43,2,      16.94,2
33RO20161119,        P18,      61,          1,         17,      11116,2,20161208,       1038,    -1.4999,  -110.0001,       3850,   494.2,   9.1646,  34.6820,2,  34.6808,2,     17.7,2,    18.8,2,    37.0,2,    38.3,2,    0.01,2,   2.658,2,   0.3410,2,   0.1904,2,   0.0706,2,  2272.3,2,  2303.8,6,   7.3905,6,    25.00, -999.00,9,  -999.0,9,  -999.0,   0.0758,2, -999.00,9,  -999.0,9, -999.00,9, -999.00,9,    61.8486,2, -999.00,9,  -999.0,9,     -999.0,     -999.0,9,      37.91,2,     -999.0,       38.0,2,     -999.0,     -999.0,9,     -999.0,     -999.0,     -999.0,9,     -999.0,9,     -999.0,9,     -999.0,9, 58.6862319,2,        6.7,2,      47.14,2,      12.15,2
33RO20161119,        P18,      61,          1,         18,      11117,2,20161208,       1038,    -1.4999,  -110.0001,       3850,   384.6,   9.9857,  34.7275,2,  34.7243,2,     29.6,2,    30.6,2,    31.3,2,    35.4,2,    0.01,2,   2.463,2,   0.5934,2,   0.3263,2,   0.1197,2,  2254.2,2,  2300.0,2,   7.4366,2,    25.00, -999.00,9,  -999.0,9,  -999.0,   0.0913,2, -999.00,9,  -999.0,9, -999.00,9, -999.00,9,    57.2105,2, -999.00,9,  -999.0,9,     -999.0,     -999.0,9,      37.97,2,     -999.0,      38.05,2,     -999.0,     -999.0,9,     -999.0,     -999.0,     -999.0,9,     -999.0,9,     -999.0,9,     -999.0,9,55.39791276,2,       6.48,2,      46.27,2,      14.39,2
33RO20161119,        P18,      61,          1,         19,      11083,2,20161208,       1038,    -1.4999,  -110.0001,       3850,   290.1,  11.6342,  34.8303,2,  34.8283,2,     24.0,2,    24.4,2,    26.2,2,    32.9,2,    0.02,2,   2.308,2,   0.9661,2,   0.5266,2,   0.2406,2,  2247.6,2,  2305.2,2,   7.4556,2,    25.00, -999.00,9,  -999.0,9,  -999.0,    0.123,2, -999.00,9,  -999.0,9, -999.00,9, -999.00,9,     63.417,2, -999.00,9,  -999.0,9,     -999.0,     -999.0,9,      37.98,2,     -999.0,      38.05,2,     -999.0,     -999.0,9,     -999.0,     -999.0,     -999.0,9,     -999.0,9,     -999.0,9,     -999.0,9,     -999.0,9,       4.32,2,      45.19,2,      10.64,2
33RO20161119,        P18,      61,          1,         20,      11118,2,20161208,       1038,    -1.4999,  -110.0001,       3850,   213.7,  12.2360,  34.8658,2,  34.8666,2,     47.7,2,    46.8,2,    22.9,2,    29.8,2,    0.02,2,   2.087,2,   1.2276,2,   0.6782,2,   0.3150,2,  2225.9,2,  2303.9,2,   7.5248,2,    25.00, -999.00,9,  -999.0,9,  -999.0,   0.1271,2, -999.00,9,  -999.0,9, -999.00,9, -999.00,9,    53.4169,2, -999.00,9,  -999.0,9,     -999.0,     -999.0,9,      37.98,2,     -999.0,      38.05,2,     -999.0,     -999.0,9,     -999.0,     -999.0,     -999.0,9,     -999.0,9,     -999.0,9,     -999.0,9,     -999.0,9,     -999.0,9,     -999.0,9,     -999.0,9
33RO20161119,        P18,      61,          1,         21,      11119,2,20161208,       1038,    -1.4999,  -110.0001,       3850,   139.9,  13.6857,  34.9828,2,  34.9776,2,     63.3,2,    62.1,2,    17.6,2,    26.4,2,    0.02,2,   1.880,2,   1.5232,2,   0.8635,2,   0.4759,2,  2203.2,2,  2306.7,2,   7.5904,2,    25.00, -999.00,9,  -999.0,9,  -999.0,   0.2434,2, -999.00,9,  -999.0,9, -999.00,9, -999.00,9,     48.206,2, -999.00,9,  -999.0,9,     -999.0,     -999.0,9,      37.95,2,     -999.0,      37.99,2,     -999.0,     -999.0,9,     -999.0,     -999.0,     -999.0,9,     -999.0,9,     -999.0,9,     -999.0,9,46.32031829,2,       4.89,2,      40.16,2,      10.91,2
33RO20161119,        P18,      61,          1,         22,      11120,2,20161208,       1038,    -1.4999,  -110.0001,       3850,    69.4,  16.9336,  35.1718,2,  35.1713,2,     78.5,2,    79.6,2,    11.2,2,    20.4,2,    1.20,2,   1.661,2,   1.7739,2,   1.0398,2,   0.8532,2,  2182.3,2,  2313.7,2,   7.6757,2,    25.00, -999.00,9,  -999.0,9,  -999.0,   1.2492,2, -999.00,9,  -999.0,9, -999.00,9, -999.00,9,    43.6766,2, -999.00,9,  -999.0,9,     -999.0,     -999.0,9,      38.01,2,     -999.0,      38.05,2,     -999.0,     -999.0,9,     -999.0,     -999.0,     -999.0,9,     -999.0,9,     -999.0,9,     -999.0,9,41.78271564,2,       3.83,2,      38.54,2,       8.37,2
33RO20161119,        P18,      61,          1,         23,      11121,2,20161208,       1038,    -1.4999,  -110.0001,       3850,    30.7,  21.9830,  34.9775,2,  34.9781,2,    198.5,2,   198.0,2,     5.5,2,     9.2,2,    0.22,2,   0.800,2,   1.8886,2,   1.1480,2,   1.3163,2,  2076.3,2,  2303.2,6,   7.8972,2,    25.00, -999.00,9,  -999.0,9,  -999.0,    1.464,2, -999.00,9,  -999.0,9, -999.00,9, -999.00,9,    11.7818,2, -999.00,9,  -999.0,9,     -999.0,     -999.0,9,      38.05,2,     -999.0,      38.04,2,     -999.0,     -999.0,9,     -999.0,     -999.0,     -999.0,9,     -999.0,9,     -999.0,9,     -999.0,9,12.14952724,2,       5.66,2,      43.45,2,      16.54,2
33RO20161119,        P18,      61,          1,         24,      11122,2,20161208,       1038,    -1.4999,  -110.0001,       3850,     3.3,  22.4250,  34.9845,2,  34.9843,2,    201.3,2,   203.7,2,     5.3,2,     9.1,2,    0.23,2,   0.797,2,   1.8874,2,   1.1510,2,   1.3966,2,  2074.9,6,  2304.7,2,   7.9019,2,    25.00, -999.00,9,  -999.0,9,  -999.0,        0,2, -999.00,9,  -999.0,9, -999.00,9, -999.00,9,    11.0535,2, -999.00,9,  -999.0,9,     -999.0,     -999.0,9,      38.05,2,     -999.0,      38.04,2,     -999.0,     -999.0,9,     -999.0,     -999.0,     -999.0,9,     -999.0,9,     -999.0,9,     -999.0,9,11.30153293,2,       5.59,2,      45.25,2,      15.88,2