BOTTLE,20230606CCHSIOCBG
EXPOCODE,SECT_ID,STNNBR,CASTNO,SAMPNO,BTLNBR,BTLNBR_FLAG_W,DATE,TIME,LATITUDE,LONGITUDE,DEPTH,CTDPRS,CTDTMP,CTDSAL,CTDSAL_FLAG_W,SALNTY,SALNTY_FLAG_W,CTDOXY,CTDOXY_FLAG_W,OXYGEN,OXYGEN_FLAG_W,SILCAT,SILCAT_FLAG_W,NITRAT,NITRAT_FLAG_W,NITRIT,NITRIT_FLAG_W,PHSPHT,PHSPHT_FLAG_W,CFC-11,CFC-11_FLAG_W,CFC-12,CFC-12_FLAG_W,SF6,SF6_FLAG_W,TCARBN,TCARBN_FLAG_W,ALKALI,ALKALI_FLAG_W,PH_SWS,PH_SWS_FLAG_W,PH_TMP,DELC13,DELC13_FLAG_W,DELC14,DELC14_FLAG_W,C14ERR,CCL4,CCL4_FLAG_W,POC,POC_FLAG_W,DOC,DOC_FLAG_W,TDN,TDN_FLAG_W,PON,PON_FLAG_W,N2O,N2O_FLAG_W,D15N_NO3,D15N_NO3_FLAG_W,14C-DOC,14C-DOC_FLAG_W,14C-DOCERR,13C-DOC,13C-DOC_FLAG_W,N2/ARGON_UNSTRIPPED,N2/ARGON_UNSTRIPPED_FLAG_W,N2/ARGON_UNSTRIPPED_ERROR,N2/ARGON,N2/ARGON_FLAG_W,N2/ARGON_ERROR,D15N_N2,D15N_N2_FLAG_W,D15N_N2_ERROR,D15N_NO3_ERROR,D15N_NO2+NO3,D15N_NO2+NO3_FLAG_W,D18O_NO2+NO3,D18O_NO2+NO3_FLAG_W,D18O_NO3,D18O_NO3_FLAG_W,TDP,TDP_FLAG_W,N2O_ALT_1,N2O_ALT_1_FLAG_W,D15N_N2O,D15N_N2O_FLAG_W,D18O_N2O,D18O_N2O_FLAG_W,D15N_ALPHA_N2O,D15N_ALPHA_N2O_FLAG_W
,,,,,,,,,,,METERS,DBAR,ITS-90,PSS-78,,PSS-78,,UMOL/KG,,UMOL/KG,,UMOL/KG,,UMOL/KG,,UMOL/KG,,UMOL/KG,,PMOL/KG,,PMOL/KG,,FMOL/KG,,UMOL/KG,,UMOL/KG,,,,DEG C,/MILLE,,/MILLE,,/MILLE,PMOL/KG,,UG/KG,,UMOL/KG,,UMOL/KG,,UG/KG,,NMOL/KG,,/MILLE,,/MILLE,,/MILLE,/MILLE,,,,,,,,/MILLE,,/MILLE,/MILLE,/MILLE,,/MILLE,,/MILLE,,UMOL/KG,,NMOL/L,,/MILLE,,/MILLE,,/MILLE,
33RO20161119,        P18,     199,          1,          1,      11010,2,20170123,       1819,   -65.5001,  -103.0000,       4882,  4973.0,   0.4337,  34.6999,2,  34.7010,2,    213.6,2,   213.8,2,   144.4,2,    33.1,2,    0.01,2,   2.272,2,   0.4464,2,   0.2111,2,   0.0698,2,  2265.8,6,  2360.0,2,   7.5850,2,    25.00, -999.00,9,  -999.0,9,  -999.0,   0.2845,2, -999.00,9,  -999.0,9, -999.00,9, -999.00,9,    18.3067,2, -999.00,9,  -999.0,9,     -999.0,     -999.0,9,     -999.0,9,     -999.0,     -999.0,9,     -999.0,     -999.0,9,     -999.0,     -999.0,     -999.0,9,     -999.0,9,     -999.0,9,     -999.0,9,     -999.0,9,     -999.0,9,     -999.0,9,     -999.0,9
33RO20161119,        P18,     199,          1,          2,      11101,2,20170123,       1819,   -65.5001,  -103.0000,       4882,  4545.0,   0.4317,  34.7018,2,  34.7008,2,    213.6,2,   213.6,2,   137.8,2,    33.1,2,    0.01,2,   2.275,2,-999.0000,9,-999.0000,9,-999.0000,9,  2261.5,2,  2362.6,6,   7.5876,2,    25.00, -999.00,9,  -999.0,9,  -999.0,-999.0000,9, -999.00,9,  -999.0,9, -999.00,9, -999.00,9,     -999.0,9, -999.00,9,  -999.0,9,     -999.0,     -999.0,9,     -999.0,9,     -999.0,     -999.0,9,     -999.0,     -999.0,9,     -999.0,     -999.0,     -999.0,9,     -999.0,9,     -999.0,9,     -999.0,9,     -999.0,9,     -999.0,9,     -999.0,9,     -999.0,9
33RO20161119,        P18,     199,          1,          3,      11102,2,20170123,       1819,   -65.5001,  -103.0000,       4882,  4380.8,   0.4407,  34.7023,2,  34.7011,2,    213.4,2,   213.0,2,   136.0,6,    33.0,6,    0.01,6,   2.260,6,   0.3205,2,   0.1519,2,   0.0720,2,  2261.6,2,  2340.4,4,   7.5881,2,    25.00, -999.00,9,  -999.0,9,  -999.0,   0.2933,2, -999.00,9,  -999.0,9, -999.00,9, -999.00,9,    18.2716,2, -999.00,9,  -999.0,9,     -999.0,     -999.0,9,     -999.0,9,     -999.0,     -999.0,9,     -999.0,     -999.0,9,     -999.0,     -999.0,     -999.0,9,     -999.0,9,     -999.0,9,     -999.0,9,     -999.0,9,     -999.0,9,     -999.0,9,     -999.0,9
33RO20161119,        P18,     199,          1,          4,      11103,2,20170123,       1819,   -65.5001,  -103.0000,       4882,  3980.5,   0.4896,  34.7034,2,  34.7027,2,    211.6,2,   211.9,2,   132.1,6,    33.0,6,    0.01,6,   2.256,6,   0.2801,2,   0.1344,2,   0.0479,2,  2261.0,2,  2362.5,2,   7.5888,2,    25.00, -999.00,9,  -999.0,9,  -999.0,   0.5343,2, -999.00,9,  -999.0,9, -999.00,9, -999.00,9,    18.3321,2, -999.00,9,  -999.0,9,     -999.0,     -999.0,9,     -999.0,9,     -999.0,     -999.0,9,     -999.0,     -999.0,9,     -999.0,     -999.0,     -999.0,9,     -999.0,9,     -999.0,9,     -999.0,9,     -999.0,9,     -999.0,9,     -999.0,9,     -999.0,9
33RO20161119,        P18,     199,          1,          5,      11104,2,20170123,       1819,   -65.5001,  -103.0000,       4882,  3580.5,   0.6099,  34.7051,2,  34.7060,2,    208.9,2,   209.1,2,   127.8,6,    32.9,6,    0.01,6,   2.243,6,-999.0000,9,-999.0000,9,-999.0000,9,  2260.5,2,  2360.8,2,   7.5893,2,    25.00, -999.00,9,  -999.0,9,  -999.0,-999.0000,9, -999.00,9,  -999.0,9, -999.00,9, -999.00,9,     -999.0,9, -999.00,9,  -999.0,9,     -999.0,     -999.0,9,     -999.0,9,     -999.0,     -999.0,9,     -999.0,     -999.0,9,     -999.0,     -999.0,     -999.0,9,     -999.0,9,     -999.0,9,     -999.0,9,     -999.0,9,     -999.0,9,     -999.0,9,     -999.0,9
33RO20161119,        P18,     199,          1,          6,      11105,2,20170123,       1819,   -65.5001,  -103.0000,       4882,  3185.5,   0.7620,  34.7087,2,  34.7070,2,    205.6,2,   206.6,2,   124.2,6,    32.7,6,    0.01,6,   2.246,6,-999.0000,9,-999.0000,9,-999.0000,9,  2260.2,2,  2361.3,2,   7.5903,2,    25.00, -999.00,9,  -999.0,9,  -999.0,-999.0000,9, -999.00,9,  -999.0,9, -999.00,9, -999.00,9,     -999.0,9, -999.00,9,  -999.0,9,     -999.0,     -999.0,9,     -999.0,9,     -999.0,     -999.0,9,     -999.0,     -999.0,9,     -999.0,     -999.0,     -999.0,9,     -999.0,9,     -999.0,9,     -999.0,9,     -999.0,9,     -999.0,9,     -999.0,9,     -999.0,9
33RO20161119,        P18,     199,          1,          7,      11106,2,20170123,       1819,   -65.5001,  -103.0000,       4882,  2805.6,   0.8854,  34.7132,2,  34.7180,4,    202.5,2,   203.1,6,   120.3,2,    32.5,2,    0.01,2,   2.235,2,   0.1621,2,   0.0801,2,   0.0454,2,  2258.6,2,  2361.6,2,   7.5934,2,    25.00, -999.00,9,  -999.0,9,  -999.0,     0.98,2, -999.00,9,  -999.0,9, -999.00,9, -999.00,9,     18.583,2, -999.00,9,  -999.0,9,     -999.0,     -999.0,9,     -999.0,9,     -999.0,     -999.0,9,     -999.0,     -999.0,9,     -999.0,     -999.0,     -999.0,9,     -999.0,9,     -999.0,9,     -999.0,9,     -999.0,9,     -999.0,9,     -999.0,9,     -999.0,9
33RO20161119,        P18,     199,          1,          8,      11107,2,20170123,       1819,   -65.5001,  -103.0000,       4882,  2425.4,   1.0474,  34.7194,2,  34.7177,2,    199.9,2,   200.1,2,   113.8,2,    32.4,2,    0.01,2,   2.222,2,-999.0000,9,-999.0000,9,-999.0000,9,  2258.8,2,  2360.0,2,   7.5939,6,    25.00, -999.00,9,  -999.0,9,  -999.0,-999.0000,9, -999.00,9,  -999.0,9, -999.00,9, -999.00,9,     -999.0,9, -999.00,9,  -999.0,9,     -999.0,     -999.0,9,     -999.0,9,     -999.0,     -999.0,9,     -999.0,     -999.0,9,     -999.0,     -999.0,     -999.0,9,     -999.0,9,     -999.0,9,     -999.0,9,     -999.0,9,     -999.0,9,     -999.0,9,     -999.0,9
33RO20161119,        P18,     199,          1,          9,      11108,2,20170123,       1819,   -65.5001,  -103.0000,       4882,  2000.0,   1.2808,  34.7276,2,  34.7257,2,    195.6,2,   195.8,2,   106.4,2,    32.2,2,    0.01,2,   2.212,2,   0.1336,2,   0.0645,2,   0.0504,2,  2258.1,2,  2364.3,3,   7.5931,2,    25.00, -999.00,9,  -999.0,9,  -999.0,   2.8723,2, -999.00,9,  -999.0,9, -999.00,9, -999.00,9,    19.0015,2, -999.00,9,  -999.0,9,     -999.0,     -999.0,9,     -999.0,9,     -999.0,     -999.0,9,     -999.0,     -999.0,9,     -999.0,     -999.0,     -999.0,9,     -999.0,9,     -999.0,9,     -999.0,9,     -999.0,9,     -999.0,9,     -999.0,9,     -999.0,9
33RO20161119,        P18,     199,          1,         10,      11109,2,20170123,       1819,   -65.5001,  -103.0000,       4882,  1739.1,   1.4580,  34.7322,2,  34.7304,2,    192.5,2,   193.3,2,   100.6,2,    32.0,2,    0.01,2,   2.189,2,-999.0000,9,-999.0000,9,-999.0000,9,  2257.0,2,  2356.5,2,   7.5923,2,    25.00, -999.00,9,  -999.0,9,  -999.0,-999.0000,9, -999.00,9,  -999.0,9, -999.00,9, -999.00,9,     -999.0,9, -999.00,9,  -999.0,9,     -999.0,     -999.0,9,     -999.0,9,     -999.0,     -999.0,9,     -999.0,     -999.0,9,     -999.0,     -999.0,     -999.0,9,     -999.0,9,     -999.0,9,     -999.0,9,     -999.0,9,     -999.0,9,     -999.0,9,     -999.0,9
33RO20161119,        P18,     199,          1,         11,      11110,2,20170123,       1819,   -65.5001,  -103.0000,       4882,  1555.6,   1.5924,  34.7334,2,  34.7332,2,    190.4,2,   191.1,2,    96.3,2,    31.8,2,    0.01,2,   2.191,2,-999.0000,9,-999.0000,9,-999.0000,9,  2254.8,2,  2354.7,2,   7.5907,2,    25.00, -999.00,9,  -999.0,9,  -999.0,-999.0000,9, -999.00,9,  -999.0,9, -999.00,9, -999.00,9,     -999.0,9, -999.00,9,  -999.0,9,     -999.0,     -999.0,9,     -999.0,9,     -999.0,     -999.0,9,     -999.0,     -999.0,9,     -999.0,     -999.0,     -999.0,9,     -999.0,9,     -999.0,9,     -999.0,9,     -999.0,9,     -999.0,9,     -999.0,9,     -999.0,9
33RO20161119,        P18,     199,          1,         12,      11111,2,20170123,       1819,   -65.5001,  -103.0000,       4882,  1386.3,   1.7363,  34.7319,2,  34.7302,2,    188.1,2,   188.5,2,    92.0,2,    31.9,2,    0.01,2,   2.186,2,-999.0000,9,-999.0000,9,-999.0000,9,  2254.0,2,  2353.0,2,   7.5877,2,    25.00, -999.00,9,  -999.0,9,  -999.0,-999.0000,9, -999.00,9,  -999.0,9, -999.00,9, -999.00,9,     -999.0,9, -999.00,9,  -999.0,9,     -999.0,     -999.0,9,     -999.0,9,     -999.0,     -999.0,9,     -999.0,     -999.0,9,     -999.0,     -999.0,     -999.0,9,     -999.0,9,     -999.0,9,     -999.0,9,     -999.0,9,     -999.0,9,     -999.0,9,     -999.0,9
33RO20161119,        P18,     199,          1,         13,      11112,2,20170123,       1819,   -65.5001,  -103.0000,       4882,  1220.3,   1.8767,  34.7251,2,  34.7298,4,    184.1,2,   185.0,2,    88.0,2,    32.1,2,    0.01,2,   2.195,2,   0.2097,6,   0.1041,6,   0.0526,6,  2253.4,2,  2351.9,2,   7.5818,2,    25.00, -999.00,9,  -999.0,9,  -999.0,   6.5532,2, -999.00,9,  -999.0,9, -999.00,9, -999.00,9,    20.0243,2, -999.00,9,  -999.0,9,     -999.0,     -999.0,9,     -999.0,9,     -999.0,     -999.0,9,     -999.0,     -999.0,9,     -999.0,     -999.0,     -999.0,9,     -999.0,9,     -999.0,9,     -999.0,9,     -999.0,9,     -999.0,9,     -999.0,9,     -999.0,9
33RO20161119,        P18,     199,          1,         14,      11113,2,20170123,       1819,   -65.5001,  -103.0000,       4882,  1064.8,   1.9957,  34.7115,2,  34.7115,2,    180.9,2,   180.7,2,    85.3,2,    32.4,2,    0.01,2,   2.214,2,-999.0000,9,-999.0000,9,-999.0000,9,  2253.8,2,  2348.9,2,   7.5755,2,    25.00, -999.00,9,  -999.0,9,  -999.0,-999.0000,9, -999.00,9,  -999.0,9, -999.00,9, -999.00,9,     -999.0,9, -999.00,9,  -999.0,9,     -999.0,     -999.0,9,     -999.0,9,     -999.0,     -999.0,9,     -999.0,     -999.0,9,     -999.0,     -999.0,     -999.0,9,     -999.0,9,     -999.0,9,     -999.0,9,     -999.0,9,     -999.0,9,     -999.0,9,     -999.0,9
33RO20161119,        P18,     199,          1,         15,      11114,2,20170123,       1819,   -65.5001,  -103.0000,       4882,   910.2,   2.1056,  34.6862,2,-999.0000,9,    176.7,2,   176.5,2,    82.2,2,    33.1,2,    0.01,2,   2.253,2,-999.0000,9,-999.0000,9,-999.0000,9,  2255.1,2,  2342.8,2,   7.5654,2,    25.00, -999.00,9,  -999.0,9,  -999.0,-999.0000,9, -999.00,9,  -999.0,9, -999.00,9, -999.00,9,     -999.0,9, -999.00,9,  -999.0,9,     -999.0,     -999.0,9,     -999.0,9,     -999.0,     -999.0,9,     -999.0,     -999.0,9,     -999.0,     -999.0,     -999.0,9,     -999.0,9,     -999.0,9,     -999.0,9,     -999.0,9,     -999.0,9,     -999.0,9,     -999.0,9
33RO20161119,        P18,     199,          1,         16,      11115,2,20170123,       1819,   -65.5001,  -103.0000,       4882,   771.4,   2.1800,  34.6523,2,  34.6500,2,    173.0,2,   173.1,2,    80.2,2,    33.7,2,    0.01,2,   2.303,2,   0.4339,2,   0.2159,2,   0.1022,2,  2256.3,2,  2342.6,6,   7.5537,2,    25.00, -999.00,9,  -999.0,9,  -999.0,   0.5024,2, -999.00,9,  -999.0,9, -999.00,9, -999.00,9,     21.687,2, -999.00,9,  -999.0,9,     -999.0,     -999.0,9,     -999.0,9,     -999.0,     -999.0,9,     -999.0,     -999.0,9,     -999.0,     -999.0,     -999.0,9,     -999.0,9,     -999.0,9,     -999.0,9,     -999.0,9,     -999.0,9,     -999.0,9,     -999.0,9
33RO20161119,        P18,     199,          1,         17,      11116,2,20170123,       1819,   -65.5001,  -103.0000,       4882,   635.9,   2.2320,  34.6078,2,  34.6147,4,    171.8,2,   171.5,2,    77.3,2,    34.4,2,    0.01,2,   2.355,2,-999.0000,9,-999.0000,9,-999.0000,9,  2255.1,6,  2338.5,2,   7.5443,2,    25.00, -999.00,9,  -999.0,9,  -999.0,-999.0000,9, -999.00,9,  -999.0,9, -999.00,9, -999.00,9,     -999.0,9, -999.00,9,  -999.0,9,     -999.0,     -999.0,9,     -999.0,9,     -999.0,     -999.0,9,     -999.0,     -999.0,9,     -999.0,     -999.0,     -999.0,9,     -999.0,9,     -999.0,9,     -999.0,9,     -999.0,9,     -999.0,9,     -999.0,9,     -999.0,9
33RO20161119,        P18,     199,          1,         18,      11117,2,20170123,       1819,   -65.5001,  -103.0000,       4882,   494.0,   2.2664,  34.5324,2,  34.5306,2,    174.4,2,   174.0,6,    72.1,2,    35.0,2,    0.01,2,   2.395,2,   0.9945,2,   0.5067,2,   0.3290,2,  2253.5,2,  2329.7,2,   7.5350,2,    25.00, -999.00,9,  -999.0,9,  -999.0,   0.4632,2, -999.00,9,  -999.0,9, -999.00,9, -999.00,9,    23.0364,2, -999.00,9,  -999.0,9,     -999.0,     -999.0,9,     -999.0,9,     -999.0,     -999.0,9,     -999.0,     -999.0,9,     -999.0,     -999.0,     -999.0,9,     -999.0,9,     -999.0,9,     -999.0,9,     -999.0,9,     -999.0,9,     -999.0,9,     -999.0,9
33RO20161119,        P18,     199,          1,         19,      11083,2,20170123,       1819,   -65.5001,  -103.0000,       4882,   375.0,   2.2585,  34.4396,2,  34.4565,2,    184.4,2,   184.0,2,    65.3,2,    35.3,2,    0.03,2,   2.413,2,-999.0000,9,-999.0000,9,-999.0000,9,  2246.1,2,  2321.0,2,   7.5307,2,    25.00, -999.00,9,  -999.0,9,  -999.0,-999.0000,9, -999.00,9,  -999.0,9, -999.00,9, -999.00,9,     -999.0,9, -999.00,9,  -999.0,9,     -999.0,     -999.0,9,     -999.0,9,     -999.0,     -999.0,9,     -999.0,     -999.0,9,     -999.0,     -999.0,     -999.0,9,     -999.0,9,     -999.0,9,     -999.0,9,     -999.0,9,     -999.0,9,     -999.0,9,     -999.0,9
33RO20161119,        P18,     199,          1,         20,      11118,2,20170123,       1819,   -65.5001,  -103.0000,       4882,   268.4,   2.0129,  34.2918,2,  34.2897,2,    215.7,2,   215.4,2,    53.7,2,    34.4,2,    0.02,2,   2.352,2,   2.7370,2,   1.4420,2,   1.2447,2,  2226.0,2,  2306.7,2,   7.5502,2,    25.00, -999.00,9,  -999.0,9,  -999.0,   0.4173,2, -999.00,9,  -999.0,9, -999.00,9, -999.00,9,    22.0499,2, -999.00,9,  -999.0,9,     -999.0,     -999.0,9,     -999.0,9,     -999.0,     -999.0,9,     -999.0,     -999.0,9,     -999.0,     -999.0,     -999.0,9,     -999.0,9,     -999.0,9,     -999.0,9,     -999.0,9,     -999.0,9,     -999.0,9,     -999.0,9
33RO20161119,        P18,     199,          1,         21,      11119,2,20170123,       1819,   -65.5001,  -103.0000,       4882,   175.9,   0.5280,  34.0163,2,  34.0161,2,    297.1,2,   298.2,2,    36.5,2,    30.5,2,    0.03,2,   2.098,2,-999.0000,9,-999.0000,9,-999.0000,9,  2185.0,2,  2289.8,2,   7.6197,2,    25.00, -999.00,9,  -999.0,9,  -999.0,-999.0000,9, -999.00,9,  -999.0,9, -999.00,9, -999.00,9,     -999.0,9, -999.00,9,  -999.0,9,     -999.0,     -999.0,9,     -999.0,9,     -999.0,     -999.0,9,     -999.0,     -999.0,9,     -999.0,     -999.0,     -999.0,9,     -999.0,9,     -999.0,9,     -999.0,9,     -999.0,9,     -999.0,9,     -999.0,9,     -999.0,9
33RO20161119,        P18,     199,          1,         22,      11120,2,20170123,       1819,   -65.5001,  -103.0000,       4882,    82.7,  -0.2747,  33.7891,2,  33.7905,2,    344.7,2,   343.9,2,    24.8,2,    26.1,2,    0.27,2,   1.923,2,   5.9923,2,   3.2422,2,   3.6344,2,  2157.9,2,  2277.7,6,   7.6705,2,    25.00, -999.00,9,  -999.0,9,  -999.0,   0.3836,2, -999.00,9,  -999.0,9, -999.00,9, -999.00,9,    15.0394,2, -999.00,9,  -999.0,9,     -999.0,     -999.0,9,     -999.0,9,     -999.0,     -999.0,9,     -999.0,     -999.0,9,     -999.0,     -999.0,     -999.0,9,     -999.0,9,     -999.0,9,     -999.0,9,     -999.0,9,     -999.0,9,     -999.0,9,     -999.0,9
33RO20161119,        P18,     199,          1,         23,      11121,2,20170123,       1819,   -65.5001,  -103.0000,       4882,    30.1,   2.0036,  33.6806,2,  33.6897,2,    333.3,2,   337.7,2,     6.2,2,    22.8,2,    0.26,2,   1.447,2,-999.0000,9,-999.0000,9,-999.0000,9,  2135.9,2,  2272.8,2,   7.7227,6,    25.00, -999.00,9,  -999.0,9,  -999.0,-999.0000,9, -999.00,9,  -999.0,9, -999.00,9, -999.00,9,     -999.0,9, -999.00,9,  -999.0,9,     -999.0,     -999.0,9,     -999.0,9,     -999.0,     -999.0,9,     -999.0,     -999.0,9,     -999.0,     -999.0,     -999.0,9,     -999.0,9,     -999.0,9,     -999.0,9,     -999.0,9,     -999.0,9,     -999.0,9,     -999.0,9
33RO20161119,        P18,     199,          1,         24,      11122,2,20170123,       1819,   -65.5001,  -103.0000,       4882,     3.1,   2.0140,  33.6806,2,  33.6815,2,    341.3,2,   337.4,2,     6.2,2,    22.6,2,    0.26,2,   1.424,2,   5.6474,2,   3.0513,2,   3.5350,2,  2135.0,6,  2277.1,2,   7.7193,2,    25.00, -999.00,9,  -999.0,9,  -999.0,   0.3084,2, -999.00,9,  -999.0,9, -999.00,9, -999.00,9,    14.2597,2, -999.00,9,  -999.0,9,     -999.0,     -999.0,9,     -999.0,9,     -999.0,     -999.0,9,     -999.0,     -999.0,9,     -999.0,     -999.0,     -999.0,9,     -999.0,9,     -999.0,9,     -999.0,9,     -999.0,9,     -999.0,9,     -999.0,9,     -999.0,9