BOTTLE,20230606CCHSIOCBG
EXPOCODE,SECT_ID,STNNBR,CASTNO,SAMPNO,BTLNBR,BTLNBR_FLAG_W,DATE,TIME,LATITUDE,LONGITUDE,DEPTH,CTDPRS,CTDTMP,CTDSAL,CTDSAL_FLAG_W,SALNTY,SALNTY_FLAG_W,CTDOXY,CTDOXY_FLAG_W,OXYGEN,OXYGEN_FLAG_W,SILCAT,SILCAT_FLAG_W,NITRAT,NITRAT_FLAG_W,NITRIT,NITRIT_FLAG_W,PHSPHT,PHSPHT_FLAG_W,CFC-11,CFC-11_FLAG_W,CFC-12,CFC-12_FLAG_W,SF6,SF6_FLAG_W,TCARBN,TCARBN_FLAG_W,ALKALI,ALKALI_FLAG_W,PH_SWS,PH_SWS_FLAG_W,PH_TMP,DELC13,DELC13_FLAG_W,DELC14,DELC14_FLAG_W,C14ERR,CCL4,CCL4_FLAG_W,POC,POC_FLAG_W,DOC,DOC_FLAG_W,TDN,TDN_FLAG_W,PON,PON_FLAG_W,N2O,N2O_FLAG_W,D15N_NO3,D15N_NO3_FLAG_W,14C-DOC,14C-DOC_FLAG_W,14C-DOCERR,13C-DOC,13C-DOC_FLAG_W,N2/ARGON_UNSTRIPPED,N2/ARGON_UNSTRIPPED_FLAG_W,N2/ARGON_UNSTRIPPED_ERROR,N2/ARGON,N2/ARGON_FLAG_W,N2/ARGON_ERROR,D15N_N2,D15N_N2_FLAG_W,D15N_N2_ERROR,D15N_NO3_ERROR,D15N_NO2+NO3,D15N_NO2+NO3_FLAG_W,D18O_NO2+NO3,D18O_NO2+NO3_FLAG_W,D18O_NO3,D18O_NO3_FLAG_W,TDP,TDP_FLAG_W,N2O_ALT_1,N2O_ALT_1_FLAG_W,D15N_N2O,D15N_N2O_FLAG_W,D18O_N2O,D18O_N2O_FLAG_W,D15N_ALPHA_N2O,D15N_ALPHA_N2O_FLAG_W
,,,,,,,,,,,METERS,DBAR,ITS-90,PSS-78,,PSS-78,,UMOL/KG,,UMOL/KG,,UMOL/KG,,UMOL/KG,,UMOL/KG,,UMOL/KG,,PMOL/KG,,PMOL/KG,,FMOL/KG,,UMOL/KG,,UMOL/KG,,,,DEG C,/MILLE,,/MILLE,,/MILLE,PMOL/KG,,UG/KG,,UMOL/KG,,UMOL/KG,,UG/KG,,NMOL/KG,,/MILLE,,/MILLE,,/MILLE,/MILLE,,,,,,,,/MILLE,,/MILLE,/MILLE,/MILLE,,/MILLE,,/MILLE,,UMOL/KG,,NMOL/L,,/MILLE,,/MILLE,,/MILLE,
33RO20161119,        P18,     174,          1,          1,      11010,2,20170116,       1227,   -53.0001,  -103.0001,       4136,  4214.9,   0.7989,  34.7099,2,  34.7090,2,    203.8,2,   204.4,2,   131.0,6,    32.9,6,    0.01,6,   2.247,6,   0.0702,2,   0.0355,2,   0.0235,2,  2270.2,6,  2375.5,6,   7.6040,2,    25.00, -999.00,9,  -999.0,9,  -999.0,    0.081,2, -999.00,9,  -999.0,9, -999.00,9, -999.00,9,    18.6067,2, -999.00,9,  -999.0,9,     -999.0,     -999.0,9,     -999.0,9,     -999.0,     -999.0,9,     -999.0,     -999.0,9,     -999.0,     -999.0,     -999.0,9,     -999.0,9,     -999.0,9,     -999.0,9,     -999.0,9,     -999.0,9,     -999.0,9,     -999.0,9
33RO20161119,        P18,     174,          1,          2,      11101,2,20170116,       1227,   -53.0001,  -103.0001,       4136,  3960.0,   0.8807,  34.7116,2,  34.7387,4,    201.9,2,   202.2,2,   127.5,6,    32.7,6,    0.01,6,   2.247,6,   0.0590,2,   0.0289,2,   0.0397,2,  2268.3,2,  2373.0,2,   7.6037,2,    25.00, -999.00,9,  -999.0,9,  -999.0,   0.1766,2, -999.00,9,  -999.0,9, -999.00,9, -999.00,9,    18.9303,2, -999.00,9,  -999.0,9,     -999.0,     -999.0,9,     -999.0,9,     -999.0,     -999.0,9,     -999.0,     -999.0,9,     -999.0,     -999.0,     -999.0,9,     -999.0,9,     -999.0,9,     -999.0,9,     -999.0,9,     -999.0,9,     -999.0,9,     -999.0,9
33RO20161119,        P18,     174,          1,          3,      11102,2,20170116,       1227,   -53.0001,  -103.0001,       4136,  3684.8,   1.1200,  34.7155,2,  34.7147,2,    197.9,2,   198.3,2,   119.7,6,    32.5,6,    0.01,6,   2.222,6,   0.0561,2,   0.0266,2,   0.0000,2,  2264.8,2,  2368.2,2,   7.5993,6,    25.00, -999.00,9,  -999.0,9,  -999.0,   0.3384,2, -999.00,9,  -999.0,9, -999.00,9, -999.00,9,    19.0075,2, -999.00,9,  -999.0,9,     -999.0,     -999.0,9,     -999.0,9,     -999.0,     -999.0,9,     -999.0,     -999.0,9,     -999.0,     -999.0,     -999.0,9,     -999.0,9,     -999.0,9,     -999.0,9,     -999.0,9,     -999.0,9,     -999.0,9,     -999.0,9
33RO20161119,        P18,     174,          1,          4,      11103,2,20170116,       1227,   -53.0001,  -103.0001,       4136,  3371.5,   1.3797,  34.7194,2,  34.7172,2,    191.9,2,   192.5,6,   112.4,6,    32.4,6,    0.01,6,   2.223,6,   0.0468,2,   0.0233,2,   0.0284,2,  2263.0,2,  2367.0,2,   7.5973,2,    25.00, -999.00,9,  -999.0,9,  -999.0,   0.3013,2, -999.00,9,  -999.0,9, -999.00,9, -999.00,9,      19.13,2, -999.00,9,  -999.0,9,     -999.0,     -999.0,9,     -999.0,9,     -999.0,     -999.0,9,     -999.0,     -999.0,9,     -999.0,     -999.0,     -999.0,9,     -999.0,9,     -999.0,9,     -999.0,9,     -999.0,9,     -999.0,9,     -999.0,9,     -999.0,9
33RO20161119,        P18,     174,          1,          5,      11104,2,20170116,       1227,   -53.0001,  -103.0001,       4136,  3051.0,   1.5780,  34.7178,2,  34.7215,2,    185.2,2,   186.3,2,   108.1,6,    32.6,6,    0.01,6,   2.230,6,   0.0428,2,   0.0216,2,   0.0000,2,  2265.0,2,  2371.4,2,   7.5933,2,    25.00, -999.00,9,  -999.0,9,  -999.0,   0.5603,2, -999.00,9,  -999.0,9, -999.00,9, -999.00,9,    19.5383,2, -999.00,9,  -999.0,9,     -999.0,     -999.0,9,     -999.0,9,     -999.0,     -999.0,9,     -999.0,     -999.0,9,     -999.0,     -999.0,     -999.0,9,     -999.0,9,     -999.0,9,     -999.0,9,     -999.0,9,     -999.0,9,     -999.0,9,     -999.0,9
33RO20161119,        P18,     174,          1,          6,      11105,2,20170116,       1227,   -53.0001,  -103.0001,       4136,  2720.6,   1.7221,  34.7126,2,  34.7109,2,    179.6,2,   179.2,2,   105.5,6,    32.8,6,    0.01,6,   2.264,6,   0.0466,2,   0.0221,2,   0.0000,2,  2270.7,2,  2372.8,2,   7.5866,2,    25.00, -999.00,9,  -999.0,9,  -999.0,   0.8501,2, -999.00,9,  -999.0,9, -999.00,9, -999.00,9,    20.0809,2, -999.00,9,  -999.0,9,     -999.0,     -999.0,9,     -999.0,9,     -999.0,     -999.0,9,     -999.0,     -999.0,9,     -999.0,     -999.0,     -999.0,9,     -999.0,9,     -999.0,9,     -999.0,9,     -999.0,9,     -999.0,9,     -999.0,9,     -999.0,9
33RO20161119,        P18,     174,          1,          7,      11106,2,20170116,       1227,   -53.0001,  -103.0001,       4136,  2380.5,   1.9771,  34.7076,2,  34.7060,2,    176.6,2,   176.8,2,    95.8,2,    32.7,2,    0.01,2,   2.260,2,   0.0926,2,   0.0453,2,   0.0311,2,  2264.0,2,  2360.6,2,   7.5823,2,    25.00, -999.00,9,  -999.0,9,  -999.0,   1.3503,2, -999.00,9,  -999.0,9, -999.00,9, -999.00,9,    20.5585,2, -999.00,9,  -999.0,9,     -999.0,     -999.0,9,     -999.0,9,     -999.0,     -999.0,9,     -999.0,     -999.0,9,     -999.0,     -999.0,     -999.0,9,     -999.0,9,     -999.0,9,     -999.0,9,     -999.0,9,     -999.0,9,     -999.0,9,     -999.0,9
33RO20161119,        P18,     174,          1,          8,      11107,2,20170116,       1227,   -53.0001,  -103.0001,       4136,  2030.2,   2.2614,  34.6726,2,  34.6712,2,    171.9,2,   172.1,2,    85.4,2,    33.1,2,    0.01,2,   2.268,2,   0.1926,6,   0.0932,6,   0.0437,6,  2256.3,2,  2350.5,2,   7.5678,2,    25.00, -999.00,9,  -999.0,9,  -999.0,   1.6384,2, -999.00,9,  -999.0,9, -999.00,9, -999.00,9,    21.0347,2, -999.00,9,  -999.0,9,     -999.0,     -999.0,9,     -999.0,9,     -999.0,     -999.0,9,     -999.0,     -999.0,9,     -999.0,     -999.0,     -999.0,9,     -999.0,9,     -999.0,9,     -999.0,9,     -999.0,9,     -999.0,9,     -999.0,9,     -999.0,9
33RO20161119,        P18,     174,          1,          9,      11108,2,20170116,       1227,   -53.0001,  -103.0001,       4136,  1690.9,   2.5132,  34.5921,2,  34.5909,2,    169.1,2,   169.1,2,    76.6,2,    34.1,2,    0.01,2,   2.339,2,   0.4220,2,   0.2068,2,   0.0970,2,  2254.4,2,  2339.1,2,   7.5547,6,    25.00, -999.00,9,  -999.0,9,  -999.0,   2.4152,2, -999.00,9,  -999.0,9, -999.00,9, -999.00,9,    22.2921,2, -999.00,9,  -999.0,9,     -999.0,     -999.0,9,     -999.0,9,     -999.0,     -999.0,9,     -999.0,     -999.0,9,     -999.0,     -999.0,     -999.0,9,     -999.0,9,     -999.0,9,     -999.0,9,     -999.0,9,     -999.0,9,     -999.0,9,     -999.0,9
33RO20161119,        P18,     174,          1,         10,      11109,2,20170116,       1227,   -53.0001,  -103.0001,       4136,  1478.7,   2.7059,  34.5170,2,  34.5154,2,    172.6,2,   173.1,2,    68.8,2,    34.5,2,    0.01,2,   2.352,2,   0.7430,2,   0.3630,2,   0.1686,2,  2247.5,2,  2330.2,2,   7.5499,2,    25.00, -999.00,9,  -999.0,9,  -999.0,   2.8948,2, -999.00,9,  -999.0,9, -999.00,9, -999.00,9,    22.5809,2, -999.00,9,  -999.0,9,     -999.0,     -999.0,9,     -999.0,9,     -999.0,     -999.0,9,     -999.0,     -999.0,9,     -999.0,     -999.0,     -999.0,9,     -999.0,9,     -999.0,9,     -999.0,9,     -999.0,9,     -999.0,9,     -999.0,9,     -999.0,9
33RO20161119,        P18,     174,          1,         11,      11110,2,20170116,       1227,   -53.0001,  -103.0001,       4136,  1320.4,   2.9215,  34.4452,2,  34.4436,2,    179.9,2,   180.0,2,    60.1,2,    34.2,2,    0.01,2,   2.335,2,   1.1441,2,   0.5609,2,   0.2739,2,  2234.9,2,  2321.4,6,   7.5552,2,    25.00, -999.00,9,  -999.0,9,  -999.0,   4.0823,2, -999.00,9,  -999.0,9, -999.00,9, -999.00,9,     22.374,2, -999.00,9,  -999.0,9,     -999.0,     -999.0,9,     -999.0,9,     -999.0,     -999.0,9,     -999.0,     -999.0,9,     -999.0,     -999.0,     -999.0,9,     -999.0,9,     -999.0,9,     -999.0,9,     -999.0,9,     -999.0,9,     -999.0,9,     -999.0,9
33RO20161119,        P18,     174,          1,         12,      11111,2,20170116,       1227,   -53.0001,  -103.0001,       4136,  1170.6,   3.2089,  34.3773,2,  34.3774,2,    191.1,2,   191.3,2,    50.3,2,    33.5,2,    0.01,2,   2.301,2,   1.6344,2,   0.8180,2,   0.4233,2,  2222.4,6,  2311.6,2,   7.5676,2,    25.00, -999.00,9,  -999.0,9,  -999.0,   3.7758,2, -999.00,9,  -999.0,9, -999.00,9, -999.00,9,    21.3705,2, -999.00,9,  -999.0,9,     -999.0,     -999.0,9,     -999.0,9,     -999.0,     -999.0,9,     -999.0,     -999.0,9,     -999.0,     -999.0,     -999.0,9,     -999.0,9,     -999.0,9,     -999.0,9,     -999.0,9,     -999.0,9,     -999.0,9,     -999.0,9
33RO20161119,        P18,     174,          1,         13,      11112,2,20170116,       1227,   -53.0001,  -103.0001,       4136,  1030.0,   3.6338,  34.3216,2,  34.3205,2,    203.7,2,   203.4,2,    39.8,2,    32.2,2,    0.01,2,   2.214,2,   2.1817,2,   1.1146,2,   0.6256,2,  2207.1,2,  2302.1,2,   7.5876,2,    25.00, -999.00,9,  -999.0,9,  -999.0,   4.3346,2, -999.00,9,  -999.0,9, -999.00,9, -999.00,9,    20.3375,2, -999.00,9,  -999.0,9,     -999.0,     -999.0,9,     -999.0,9,     -999.0,     -999.0,9,     -999.0,     -999.0,9,     -999.0,     -999.0,     -999.0,9,     -999.0,9,     -999.0,9,     -999.0,9,     -999.0,9,     -999.0,9,     -999.0,9,     -999.0,9
33RO20161119,        P18,     174,          1,         14,      11113,2,20170116,       1227,   -53.0001,  -103.0001,       4136,   895.4,   4.1974,  34.2896,2,  34.2883,2,    212.5,2,   212.8,2,    30.7,2,    30.7,2,    0.01,2,   2.098,2,   2.6172,2,   1.3580,2,   0.8751,2,  2192.9,2,  2295.3,2,   7.6059,2,    25.00, -999.00,9,  -999.0,9,  -999.0,   4.4061,2, -999.00,9,  -999.0,9, -999.00,9, -999.00,9,    19.3848,2, -999.00,9,  -999.0,9,     -999.0,     -999.0,9,     -999.0,9,     -999.0,     -999.0,9,     -999.0,     -999.0,9,     -999.0,     -999.0,     -999.0,9,     -999.0,9,     -999.0,9,     -999.0,9,     -999.0,9,     -999.0,9,     -999.0,9,     -999.0,9
33RO20161119,        P18,     174,          1,         15,      11114,2,20170116,       1227,   -53.0001,  -103.0001,       4136,   762.7,   4.8507,  34.2627,2,  34.2618,2,    223.7,2,   224.6,2,    21.7,2,    28.6,2,    0.01,2,   1.930,2,   3.1285,2,   1.6434,2,   1.2117,2,  2176.6,2,  2286.4,2,   7.6319,2,    25.00, -999.00,9,  -999.0,9,  -999.0,   4.4732,2, -999.00,9,  -999.0,9, -999.00,9, -999.00,9,    17.6822,2, -999.00,9,  -999.0,9,     -999.0,     -999.0,9,     -999.0,9,     -999.0,     -999.0,9,     -999.0,     -999.0,9,     -999.0,     -999.0,     -999.0,9,     -999.0,9,     -999.0,9,     -999.0,9,     -999.0,9,     -999.0,9,     -999.0,9,     -999.0,9
33RO20161119,        P18,     174,          1,         16,      11115,2,20170116,       1227,   -53.0001,  -103.0001,       4136,   630.1,   5.1615,  34.1968,2,  34.1981,2,    248.7,2,   265.7,3,    11.8,2,    24.2,2,    0.01,2,   1.662,2,   3.8513,2,   2.1274,2,   2.1268,2,  2149.2,2,  2278.7,2,   7.6884,2,    25.00, -999.00,9,  -999.0,9,  -999.0,   4.3589,2, -999.00,9,  -999.0,9, -999.00,9, -999.00,9,    14.4942,2, -999.00,9,  -999.0,9,     -999.0,     -999.0,9,     -999.0,9,     -999.0,     -999.0,9,     -999.0,     -999.0,9,     -999.0,     -999.0,     -999.0,9,     -999.0,9,     -999.0,9,     -999.0,9,     -999.0,9,     -999.0,9,     -999.0,9,     -999.0,9
33RO20161119,        P18,     174,          1,         17,      11116,2,20170116,       1227,   -53.0001,  -103.0001,       4136,   512.8,   5.7157,  34.2186,2,  34.2181,2,    263.7,2,   270.5,2,     8.9,2,    22.6,2,    0.02,2,   1.574,2,   3.9513,2,   2.1888,2,   2.1957,2,  2141.1,2,  2275.8,2,   7.7157,2,    25.00, -999.00,9,  -999.0,9,  -999.0,   4.5223,2, -999.00,9,  -999.0,9, -999.00,9, -999.00,9,     13.752,2, -999.00,9,  -999.0,9,     -999.0,     -999.0,9,     -999.0,9,     -999.0,     -999.0,9,     -999.0,     -999.0,9,     -999.0,     -999.0,     -999.0,9,     -999.0,9,     -999.0,9,     -999.0,9,     -999.0,9,     -999.0,9,     -999.0,9,     -999.0,9
33RO20161119,        P18,     174,          1,         18,      11117,2,20170116,       1227,   -53.0001,  -103.0001,       4136,   402.7,   5.9469,  34.2180,2,  34.2175,2,    280.1,2,   281.2,2,     6.7,2,    20.9,2,    0.02,2,   1.472,2,   4.0291,6,   2.2615,6,   2.4728,6,  2131.3,2,  2276.2,2,   7.7270,2,    25.00, -999.00,9,  -999.0,9,  -999.0,   4.8304,2, -999.00,9,  -999.0,9, -999.00,9, -999.00,9,    12.6984,2, -999.00,9,  -999.0,9,     -999.0,     -999.0,9,     -999.0,9,     -999.0,     -999.0,9,     -999.0,     -999.0,9,     -999.0,     -999.0,     -999.0,9,     -999.0,9,     -999.0,9,     -999.0,9,     -999.0,9,     -999.0,9,     -999.0,9,     -999.0,9
33RO20161119,        P18,     174,          1,         19,      11083,2,20170116,       1227,   -53.0001,  -103.0001,       4136,   300.4,   6.0515,  34.2166,2,  34.2157,2,    281.3,2,   282.5,2,     6.0,2,    20.3,2,    0.02,2,   1.430,2,   4.0486,2,   2.2719,2,   2.5177,2,  2129.3,2,  2277.1,2,   7.7333,2,    25.00, -999.00,9,  -999.0,9,  -999.0,   4.5149,2, -999.00,9,  -999.0,9, -999.00,9, -999.00,9,    12.4553,2, -999.00,9,  -999.0,9,     -999.0,     -999.0,9,     -999.0,9,     -999.0,     -999.0,9,     -999.0,     -999.0,9,     -999.0,     -999.0,     -999.0,9,     -999.0,9,     -999.0,9,     -999.0,9,     -999.0,9,     -999.0,9,     -999.0,9,     -999.0,9
33RO20161119,        P18,     174,          1,         20,      11118,2,20170116,       1227,   -53.0001,  -103.0001,       4136,   210.0,   6.1529,  34.2180,2,  34.2161,2,    281.8,2,   282.5,2,     5.7,2,    20.1,2,    0.04,2,   1.410,2,   4.0520,2,   2.2840,2,   2.5815,2,  2128.2,2,  2273.3,2,   7.7337,2,    25.00, -999.00,9,  -999.0,9,  -999.0,   0.2144,2, -999.00,9,  -999.0,9, -999.00,9, -999.00,9,    12.3971,2, -999.00,9,  -999.0,9,     -999.0,     -999.0,9,     -999.0,9,     -999.0,     -999.0,9,     -999.0,     -999.0,9,     -999.0,     -999.0,     -999.0,9,     -999.0,9,     -999.0,9,     -999.0,9,     -999.0,9,     -999.0,9,     -999.0,9,     -999.0,9
33RO20161119,        P18,     174,          1,         21,      11119,2,20170116,       1227,   -53.0001,  -103.0001,       4136,   130.6,   6.3472,  34.1853,2,  34.1860,2,    285.1,2,   288.1,6,     4.9,2,    18.3,2,    0.40,2,   1.364,2,   4.0761,2,   2.2937,2,   2.6954,2,  2123.2,2,  2272.7,2,   7.7453,2,    25.00, -999.00,9,  -999.0,9,  -999.0,   0.2001,2, -999.00,9,  -999.0,9, -999.00,9, -999.00,9,    12.0839,2, -999.00,9,  -999.0,9,     -999.0,     -999.0,9,     -999.0,9,     -999.0,     -999.0,9,     -999.0,     -999.0,9,     -999.0,     -999.0,     -999.0,9,     -999.0,9,     -999.0,9,     -999.0,9,     -999.0,9,     -999.0,9,     -999.0,9,     -999.0,9
33RO20161119,        P18,     174,          1,         22,      11120,2,20170116,       1227,   -53.0001,  -103.0001,       4136,    60.5,   7.6502,  34.1770,2,  34.1759,2,    295.0,2,   295.2,2,     0.4,2,    15.3,2,    0.27,2,   1.138,2,   3.9336,2,   2.2183,2,   2.6909,2,  2100.1,2,  2274.7,2,   7.7996,2,    25.00, -999.00,9,  -999.0,9,  -999.0,   0.1073,2, -999.00,9,  -999.0,9, -999.00,9, -999.00,9,    11.6209,2, -999.00,9,  -999.0,9,     -999.0,     -999.0,9,     -999.0,9,     -999.0,     -999.0,9,     -999.0,     -999.0,9,     -999.0,     -999.0,     -999.0,9,     -999.0,9,     -999.0,9,     -999.0,9,     -999.0,9,     -999.0,9,     -999.0,9,     -999.0,9
33RO20161119,        P18,     174,          1,         23,      11121,2,20170116,       1227,   -53.0001,  -103.0001,       4136,    24.1,   8.1262,  34.1711,2,  34.1702,2,    293.0,2,   294.4,2,     0.1,2,    14.7,2,    0.27,2,   1.075,2,   3.8772,2,   2.1956,2,   2.6401,2,  2096.8,6,  2276.0,6,   7.8105,6,    25.00, -999.00,9,  -999.0,9,  -999.0,   0.0888,2, -999.00,9,  -999.0,9, -999.00,9, -999.00,9,    11.3997,2, -999.00,9,  -999.0,9,     -999.0,     -999.0,9,     -999.0,9,     -999.0,     -999.0,9,     -999.0,     -999.0,9,     -999.0,     -999.0,     -999.0,9,     -999.0,9,     -999.0,9,     -999.0,9,     -999.0,9,     -999.0,9,     -999.0,9,     -999.0,9
33RO20161119,        P18,     174,          1,         24,      11122,2,20170116,       1227,   -53.0001,  -103.0001,       4136,     7.6,   8.1276,  34.1713,2,  34.1715,2,    293.1,2,   294.3,2,     0.0,2,    14.7,2,    0.27,2,   1.082,2,   3.8708,2,   2.1897,2,   2.6371,2,  2095.5,2,  2274.4,2,   7.8086,2,    25.00, -999.00,9,  -999.0,9,  -999.0,   0.2062,2, -999.00,9,  -999.0,9, -999.00,9, -999.00,9,    11.3924,2, -999.00,9,  -999.0,9,     -999.0,     -999.0,9,     -999.0,9,     -999.0,     -999.0,9,     -999.0,     -999.0,9,     -999.0,     -999.0,     -999.0,9,     -999.0,9,     -999.0,9,     -999.0,9,     -999.0,9,     -999.0,9,     -999.0,9,     -999.0,9