BOTTLE,20230606CCHSIOCBG
EXPOCODE,SECT_ID,STNNBR,CASTNO,SAMPNO,BTLNBR,BTLNBR_FLAG_W,DATE,TIME,LATITUDE,LONGITUDE,DEPTH,CTDPRS,CTDTMP,CTDSAL,CTDSAL_FLAG_W,SALNTY,SALNTY_FLAG_W,CTDOXY,CTDOXY_FLAG_W,OXYGEN,OXYGEN_FLAG_W,SILCAT,SILCAT_FLAG_W,NITRAT,NITRAT_FLAG_W,NITRIT,NITRIT_FLAG_W,PHSPHT,PHSPHT_FLAG_W,CFC-11,CFC-11_FLAG_W,CFC-12,CFC-12_FLAG_W,SF6,SF6_FLAG_W,TCARBN,TCARBN_FLAG_W,ALKALI,ALKALI_FLAG_W,PH_SWS,PH_SWS_FLAG_W,PH_TMP,DELC13,DELC13_FLAG_W,DELC14,DELC14_FLAG_W,C14ERR,CCL4,CCL4_FLAG_W,POC,POC_FLAG_W,DOC,DOC_FLAG_W,TDN,TDN_FLAG_W,PON,PON_FLAG_W,N2O,N2O_FLAG_W,D15N_NO3,D15N_NO3_FLAG_W,14C-DOC,14C-DOC_FLAG_W,14C-DOCERR,13C-DOC,13C-DOC_FLAG_W,N2/ARGON_UNSTRIPPED,N2/ARGON_UNSTRIPPED_FLAG_W,N2/ARGON_UNSTRIPPED_ERROR,N2/ARGON,N2/ARGON_FLAG_W,N2/ARGON_ERROR,D15N_N2,D15N_N2_FLAG_W,D15N_N2_ERROR,D15N_NO3_ERROR,D15N_NO2+NO3,D15N_NO2+NO3_FLAG_W,D18O_NO2+NO3,D18O_NO2+NO3_FLAG_W,D18O_NO3,D18O_NO3_FLAG_W,TDP,TDP_FLAG_W,N2O_ALT_1,N2O_ALT_1_FLAG_W,D15N_N2O,D15N_N2O_FLAG_W,D18O_N2O,D18O_N2O_FLAG_W,D15N_ALPHA_N2O,D15N_ALPHA_N2O_FLAG_W
,,,,,,,,,,,METERS,DBAR,ITS-90,PSS-78,,PSS-78,,UMOL/KG,,UMOL/KG,,UMOL/KG,,UMOL/KG,,UMOL/KG,,UMOL/KG,,PMOL/KG,,PMOL/KG,,FMOL/KG,,UMOL/KG,,UMOL/KG,,,,DEG C,/MILLE,,/MILLE,,/MILLE,PMOL/KG,,UG/KG,,UMOL/KG,,UMOL/KG,,UG/KG,,NMOL/KG,,/MILLE,,/MILLE,,/MILLE,/MILLE,,,,,,,,/MILLE,,/MILLE,/MILLE,/MILLE,,/MILLE,,/MILLE,,UMOL/KG,,NMOL/L,,/MILLE,,/MILLE,,/MILLE,
33RO20161119,        P18,     176,          1,          1,      11010,2,20170117,       0156,   -54.0001,  -103.0006,       4303,  4373.9,   0.8360,  34.7080,2,  34.7087,2,    205.5,2,   204.8,2,   129.9,2,    33.0,2,    0.01,2,   2.257,2,   0.1246,2,   0.0591,2,   0.0321,2,  2269.6,6,  2369.5,2,   7.6006,6,    25.00, -999.00,9,  -999.0,9,  -999.0,   0.1062,2, -999.00,9,  -999.0,9, -999.00,9, -999.00,9,    18.4401,2,    4.78,2,  -999.0,9,     -999.0,     -999.0,9,     -999.0,9,     -999.0,     -999.0,9,     -999.0,     -999.0,9,     -999.0,     -999.0,       4.78,2,       1.91,2,       1.91,2,     -999.0,9,     -999.0,9,     -999.0,9,     -999.0,9,     -999.0,9
33RO20161119,        P18,     176,          1,          2,      11101,2,20170117,       0156,   -54.0001,  -103.0006,       4303,  3983.9,   0.9601,  34.7113,2,  34.7126,2,    201.6,2,   201.7,2,   124.6,2,    32.7,2,    0.01,2,   2.248,2,   0.1181,2,   0.0570,2,   0.0348,2,  2267.7,2,  2369.6,6,   7.5978,2,    25.00, -999.00,9,  -999.0,9,  -999.0,   0.2379,2, -999.00,9,  -999.0,9, -999.00,9, -999.00,9,    18.4315,2,    4.81,2,  -999.0,9,     -999.0,     -999.0,9,     -999.0,9,     -999.0,     -999.0,9,     -999.0,     -999.0,9,     -999.0,     -999.0,       4.81,2,       2.05,2,       2.05,2,     -999.0,9,     -999.0,9,     -999.0,9,     -999.0,9,     -999.0,9
33RO20161119,        P18,     176,          1,          3,      11102,2,20170117,       0156,   -54.0001,  -103.0006,       4303,  3595.3,   1.2647,  34.7179,2,  34.7226,4,    196.7,2,   196.4,2,   114.4,6,    32.5,6,    0.01,6,   2.221,6,   0.1006,2,   0.0487,2,   0.0605,2,  2262.8,2,  2367.4,2,   7.5954,2,    25.00, -999.00,9,  -999.0,9,  -999.0,   0.4206,2, -999.00,9,  -999.0,9, -999.00,9, -999.00,9,    18.8266,2,    4.87,2,  -999.0,9,     -999.0,     -999.0,9,     -999.0,9,     -999.0,     -999.0,9,     -999.0,     -999.0,9,     -999.0,     -999.0,       4.87,2,       1.69,2,       1.69,2,     -999.0,9,     -999.0,9,     -999.0,9,     -999.0,9,     -999.0,9
33RO20161119,        P18,     176,          1,          4,      11103,2,20170117,       0156,   -54.0001,  -103.0006,       4303,  3271.0,   1.4509,  34.7199,2,  34.7216,2,    192.1,2,   191.5,2,   109.6,6,    32.5,6,    0.01,6,   2.233,6,   0.0768,2,   0.0371,2,   0.0000,2,  2264.6,2,  2366.6,2,   7.5971,2,    25.00, -999.00,9,  -999.0,9,  -999.0,   0.7531,2, -999.00,9,  -999.0,9, -999.00,9, -999.00,9,    19.0046,2,    4.91,2,  -999.0,9,     -999.0,     -999.0,9,     -999.0,9,     -999.0,     -999.0,9,     -999.0,     -999.0,9,     -999.0,     -999.0,       4.91,2,       1.85,2,       1.85,2,     -999.0,9,     -999.0,9,     -999.0,9,     -999.0,9,     -999.0,9
33RO20161119,        P18,     176,          1,          5,      11104,2,20170117,       0156,   -54.0001,  -103.0006,       4303,  2941.0,   1.5718,  34.7177,2,  34.7195,2,    185.8,2,   186.5,2,   107.2,6,    32.7,6,    0.01,6,   2.233,6,   0.0622,2,   0.0294,2,   0.0000,2,  2268.6,2,  2367.4,2,   7.5936,2,    25.00, -999.00,9,  -999.0,9,  -999.0,   0.9739,2, -999.00,9,  -999.0,9, -999.00,9, -999.00,9,    19.3534,2,    4.95,2,  -999.0,9,     -999.0,     -999.0,9,     -999.0,9,     -999.0,     -999.0,9,     -999.0,     -999.0,9,     -999.0,     -999.0,       4.95,2,       1.74,2,       1.74,2,     -999.0,9,     -999.0,9,     -999.0,9,     -999.0,9,     -999.0,9
33RO20161119,        P18,     176,          1,          6,      11105,2,20170117,       0156,   -54.0001,  -103.0006,       4303,  2610.6,   1.7913,  34.7145,2,  34.7232,4,    180.6,2,   180.6,6,   101.3,6,    32.8,6,    0.01,6,   2.244,6,   0.0774,2,   0.0369,2,   0.0459,2,  2267.0,2,  2365.7,2,   7.5874,2,    25.00, -999.00,9,  -999.0,9,  -999.0,   1.5618,2, -999.00,9,  -999.0,9, -999.00,9, -999.00,9,    19.7496,2,     5.0,2,  -999.0,9,     -999.0,     -999.0,9,     -999.0,9,     -999.0,     -999.0,9,     -999.0,     -999.0,9,     -999.0,     -999.0,        5.0,2,       1.88,2,       1.88,2,     -999.0,9,     -999.0,9,     -999.0,9,     -999.0,9,     -999.0,9
33RO20161119,        P18,     176,          1,          7,      11106,2,20170117,       0156,   -54.0001,  -103.0006,       4303,  2265.1,   2.0959,  34.7068,2,  34.7073,2,    179.3,2,   179.1,2,    88.4,2,    32.4,2,    0.01,2,   2.231,2,   0.1696,2,   0.0837,2,   0.0792,2,  2259.4,3,  2352.4,2,   7.5792,2,    25.00, -999.00,9,  -999.0,9,  -999.0,   1.5344,2, -999.00,9,  -999.0,9, -999.00,9, -999.00,9,    20.2226,2,    4.98,2,  -999.0,9,     -999.0,     -999.0,9,     -999.0,9,     -999.0,     -999.0,9,     -999.0,     -999.0,9,     -999.0,     -999.0,       4.98,2,       1.68,2,       1.68,2,     -999.0,9,     -999.0,9,     -999.0,9,     -999.0,9,     -999.0,9
33RO20161119,        P18,     176,          1,          8,      11107,2,20170117,       0156,   -54.0001,  -103.0006,       4303,  1920.4,   2.3488,  34.6512,2,  34.6524,2,    171.8,2,   171.3,2,    81.6,2,    33.5,2,    0.01,2,   2.296,2,   0.2888,2,   0.1403,2,   0.0473,2,  2261.6,3,  2345.9,6,   7.5626,2,    25.00, -999.00,9,  -999.0,9,  -999.0,   1.8975,2, -999.00,9,  -999.0,9, -999.00,9, -999.00,9,    21.4243,2,    5.06,2,  -999.0,9,     -999.0,     -999.0,9,     -999.0,9,     -999.0,     -999.0,9,     -999.0,     -999.0,9,     -999.0,     -999.0,       5.06,2,       2.04,2,       2.04,2,     -999.0,9,     -999.0,9,     -999.0,9,     -999.0,9,     -999.0,9
33RO20161119,        P18,     176,          1,          9,      11108,2,20170117,       0156,   -54.0001,  -103.0006,       4303,  1620.8,   2.5694,  34.5642,2,  34.5660,2,    170.7,2,   169.8,2,    73.8,2,    34.5,2,    0.01,2,   2.377,2,   0.5912,2,   0.2894,2,   0.1552,2,  2252.1,6,  2336.7,2,   7.5505,2,    25.00, -999.00,9,  -999.0,9,  -999.0,   2.5259,2, -999.00,9,  -999.0,9, -999.00,9, -999.00,9,    22.0787,2,    5.13,2,  -999.0,9,     -999.0,     -999.0,9,     -999.0,9,     -999.0,     -999.0,9,     -999.0,     -999.0,9,     -999.0,     -999.0,       5.13,2,       1.88,2,       1.88,2,     -999.0,9,     -999.0,9,     -999.0,9,     -999.0,9,     -999.0,9
33RO20161119,        P18,     176,          1,         10,      11109,2,20170117,       0156,   -54.0001,  -103.0006,       4303,  1424.2,   2.7738,  34.4868,2,  34.4872,2,    175.8,2,   175.2,2,    65.7,2,    34.6,2,    0.01,2,   2.377,2,   0.9360,2,   0.4649,2,   0.2276,2,  2247.9,3,  2332.5,2,   7.5481,2,    25.00, -999.00,9,  -999.0,9,  -999.0,    2.798,2, -999.00,9,  -999.0,9, -999.00,9, -999.00,9,    22.2958,2,    5.26,2,  -999.0,9,     -999.0,     -999.0,9,     -999.0,9,     -999.0,     -999.0,9,     -999.0,     -999.0,9,     -999.0,     -999.0,       5.26,2,       2.28,2,       2.28,2,     -999.0,9,     -999.0,9,     -999.0,9,     -999.0,9,     -999.0,9
33RO20161119,        P18,     176,          1,         11,      11110,2,20170117,       0156,   -54.0001,  -103.0006,       4303,  1270.8,   3.0140,  34.4097,2,  34.4105,2,    186.3,2,   185.9,2,    55.8,2,    34.2,2,    0.01,2,   2.339,2,   1.4439,6,   0.7219,6,   0.3788,6,  2232.1,2,  2318.6,2,   7.5584,2,    25.00, -999.00,9,  -999.0,9,  -999.0,   3.3992,2, -999.00,9,  -999.0,9, -999.00,9, -999.00,9,    21.7913,2,    5.36,2,  -999.0,9,     -999.0,     -999.0,9,     -999.0,9,     -999.0,     -999.0,9,     -999.0,     -999.0,9,     -999.0,     -999.0,       5.36,2,       2.28,2,       2.28,2,     -999.0,9,     -999.0,9,     -999.0,9,     -999.0,9,     -999.0,9
33RO20161119,        P18,     176,          1,         12,      11111,2,20170117,       0156,   -54.0001,  -103.0006,       4303,  1126.1,   3.4268,  34.3473,2,  34.3488,2,    198.9,2,   197.1,2,    45.2,2,    33.1,2,    0.01,2,   2.264,2,   1.8868,2,   0.9597,2,   0.5598,2,  2216.4,2,  2308.2,2,   7.5753,2,    25.00, -999.00,9,  -999.0,9,  -999.0,   4.0668,2, -999.00,9,  -999.0,9, -999.00,9, -999.00,9,    20.6404,2,    5.47,2,  -999.0,9,     -999.0,     -999.0,9,     -999.0,9,     -999.0,     -999.0,9,     -999.0,     -999.0,9,     -999.0,     -999.0,       5.47,2,       2.48,2,       2.48,2,     -999.0,9,     -999.0,9,     -999.0,9,     -999.0,9,     -999.0,9
33RO20161119,        P18,     176,          1,         13,      11112,2,20170117,       0156,   -54.0001,  -103.0006,       4303,   985.9,   3.8723,  34.2850,2,  34.2860,2,    210.9,2,   211.6,2,    34.2,2,    31.4,2,    0.01,2,   2.136,2,   2.5876,2,   1.3464,2,   0.9184,2,  2198.2,2,  2296.8,2,   7.5961,2,    25.00, -999.00,9,  -999.0,9,  -999.0,   4.1024,2, -999.00,9,  -999.0,9, -999.00,9, -999.00,9,    19.3131,2,    5.55,2,  -999.0,9,     -999.0,     -999.0,9,     -999.0,9,     -999.0,     -999.0,9,     -999.0,     -999.0,9,     -999.0,     -999.0,       5.55,2,       2.38,2,       2.38,2,     -999.0,9,     -999.0,9,     -999.0,9,     -999.0,9,     -999.0,9
33RO20161119,        P18,     176,          1,         14,      11113,2,20170117,       0156,   -54.0001,  -103.0006,       4303,   850.8,   4.5372,  34.2559,2,  34.2570,2,    226.4,2,   224.5,2,    24.3,2,    29.2,2,    0.01,2,   2.000,2,   3.0699,2,   1.6207,2,   1.1811,2,  2180.1,2,  2290.3,2,   7.6246,2,    25.00, -999.00,9,  -999.0,9,  -999.0,   4.2741,2, -999.00,9,  -999.0,9, -999.00,9, -999.00,9,    17.9281,2,    5.71,2,  -999.0,9,     -999.0,     -999.0,9,     -999.0,9,     -999.0,     -999.0,9,     -999.0,     -999.0,9,     -999.0,     -999.0,       5.71,2,       2.77,2,       2.77,2,     -999.0,9,     -999.0,9,     -999.0,9,     -999.0,9,     -999.0,9
33RO20161119,        P18,     176,          1,         15,      11114,2,20170117,       0156,   -54.0001,  -103.0006,       4303,   715.4,   4.9202,  34.2013,2,  34.2019,2,    258.3,2,   258.2,2,    14.6,2,    25.7,2,    0.02,2,   1.765,2,   3.7030,2,   2.0445,2,   1.9460,2,  2155.6,2,  2282.3,2,   7.6740,2,    25.00, -999.00,9,  -999.0,9,  -999.0,   3.9013,2, -999.00,9,  -999.0,9, -999.00,9, -999.00,9,    14.9933,2,    5.98,2,  -999.0,9,     -999.0,     -999.0,9,     -999.0,9,     -999.0,     -999.0,9,     -999.0,     -999.0,9,     -999.0,     -999.0,       5.98,2,       3.12,2,       3.12,2,     -999.0,9,     -999.0,9,     -999.0,9,     -999.0,9,     -999.0,9
33RO20161119,        P18,     176,          1,         16,      11115,2,20170117,       0156,   -54.0001,  -103.0006,       4303,   591.6,   5.2669,  34.1927,2,  34.1944,2,    291.2,2,   291.3,2,     8.0,2,    21.6,2,    0.10,2,   1.528,2,   4.1615,3,   2.3400,3,   2.6449,3,  2134.3,2,  2277.8,2,   7.7215,2,    25.00, -999.00,9,  -999.0,9,  -999.0,   4.1681,2, -999.00,9,  -999.0,9, -999.00,9, -999.00,9,    12.5854,3,    6.39,2,  -999.0,9,     -999.0,     -999.0,9,     -999.0,9,     -999.0,     -999.0,9,     -999.0,     -999.0,9,     -999.0,     -999.0,       6.39,2,        4.0,2,        4.0,2,     -999.0,9,     -999.0,9,     -999.0,9,     -999.0,9,     -999.0,9
33RO20161119,        P18,     176,          1,         17,      11116,2,20170117,       0156,   -54.0001,  -103.0006,       4303,   475.3,   5.6955,  34.2229,2,  34.2234,2,    272.8,2,   272.5,2,     9.0,2,    22.5,2,    0.02,2,   1.567,2,   3.9049,2,   2.1844,2,   2.3105,2,  2138.7,2,  2276.9,2,   7.7084,2,    25.00, -999.00,9,  -999.0,9,  -999.0,   4.3674,2, -999.00,9,  -999.0,9, -999.00,9, -999.00,9,    13.2215,2,    6.21,2,  -999.0,9,     -999.0,     -999.0,9,     -999.0,9,     -999.0,     -999.0,9,     -999.0,     -999.0,9,     -999.0,     -999.0,       6.21,2,       3.58,2,       3.58,2,     -999.0,9,     -999.0,9,     -999.0,9,     -999.0,9,     -999.0,9
33RO20161119,        P18,     176,          1,         18,      11117,2,20170117,       0156,   -54.0001,  -103.0006,       4303,   366.0,   5.8975,  34.2232,2,  34.2249,2,    281.7,2,   281.4,2,     7.0,2,    21.0,2,    0.02,2,   1.470,2,   3.9873,6,   2.2545,6,   2.4966,6,  2132.1,2,  2276.3,2,   7.7272,2,    25.00, -999.00,9,  -999.0,9,  -999.0,    4.479,2, -999.00,9,  -999.0,9, -999.00,9, -999.00,9,    12.5684,2,    6.47,2,  -999.0,9,     -999.0,     -999.0,9,     -999.0,9,     -999.0,     -999.0,9,     -999.0,     -999.0,9,     -999.0,     -999.0,       6.48,2,       4.03,2,       3.93,2,     -999.0,9,     -999.0,9,     -999.0,9,     -999.0,9,     -999.0,9
33RO20161119,        P18,     176,          1,         19,      11083,2,20170117,       0156,   -54.0001,  -103.0006,       4303,   271.5,   6.0297,  34.2215,2,  34.2220,2,    274.8,2,   279.6,6,     6.5,2,    20.8,2,    0.02,2,   1.467,2,   3.9941,2,   2.2514,2,   2.4346,2,  2132.6,2,  2277.0,2,   7.7264,2,    25.00, -999.00,9,  -999.0,9,  -999.0,   4.4363,2, -999.00,9,  -999.0,9, -999.00,9, -999.00,9,    12.6316,2,    6.48,2,  -999.0,9,     -999.0,     -999.0,9,     -999.0,9,     -999.0,     -999.0,9,     -999.0,     -999.0,9,     -999.0,     -999.0,       6.58,2,       4.02,2,       3.94,2,     -999.0,9,     -999.0,9,     -999.0,9,     -999.0,9,     -999.0,9
33RO20161119,        P18,     176,          1,         20,      11118,2,20170117,       0156,   -54.0001,  -103.0006,       4303,   185.1,   6.2808,  34.2393,2,  34.2402,2,    282.3,2,   282.6,2,     5.6,2,    19.8,2,    0.03,2,   1.411,2,   3.9812,2,   2.2536,2,   2.5905,2,  2125.9,2,  2276.4,2,   7.7359,2,    25.00, -999.00,9,  -999.0,9,  -999.0,   0.2171,2, -999.00,9,  -999.0,9, -999.00,9, -999.00,9,    12.0406,2,     6.5,2,  -999.0,9,     -999.0,     -999.0,9,     -999.0,9,     -999.0,     -999.0,9,     -999.0,     -999.0,9,     -999.0,     -999.0,       6.45,2,       4.03,2,       4.39,2,     -999.0,9,     -999.0,9,     -999.0,9,     -999.0,9,     -999.0,9
33RO20161119,        P18,     176,          1,         21,      11119,2,20170117,       0156,   -54.0001,  -103.0006,       4303,   105.3,   6.5506,  34.2205,2,  34.2218,2,    290.4,2,   289.3,2,     3.9,2,    17.9,2,    0.31,2,   1.331,2,   3.9884,2,   2.2694,2,   2.6578,2,  2118.4,2,  2276.0,6,   7.7540,2,    25.00, -999.00,9,  -999.0,9,  -999.0,    0.204,2, -999.00,9,  -999.0,9, -999.00,9, -999.00,9,    11.6763,2,    7.51,2,  -999.0,9,     -999.0,     -999.0,9,     -999.0,9,     -999.0,     -999.0,9,     -999.0,     -999.0,9,     -999.0,     -999.0,       7.02,2,       4.71,2,       4.76,2,     -999.0,9,     -999.0,9,     -999.0,9,     -999.0,9,     -999.0,9
33RO20161119,        P18,     176,          1,         22,      11120,2,20170117,       0156,   -54.0001,  -103.0006,       4303,    50.7,   7.9849,  34.1765,2,  34.1780,2,    293.7,2,   293.6,2,     0.2,2,    14.9,2,    0.30,2,   1.076,2,   3.8230,2,   2.1766,2,   2.6664,2,  2096.0,2,  2275.0,2,   7.8046,6,    25.00, -999.00,9,  -999.0,9,  -999.0,   0.2155,2, -999.00,9,  -999.0,9, -999.00,9, -999.00,9,    11.1283,2,    9.26,2,  -999.0,9,     -999.0,     -999.0,9,     -999.0,9,     -999.0,     -999.0,9,     -999.0,     -999.0,9,     -999.0,     -999.0,       8.36,2,       5.95,2,       5.82,2,     -999.0,9,     -999.0,9,     -999.0,9,     -999.0,9,     -999.0,9
33RO20161119,        P18,     176,          1,         23,      11121,2,20170117,       0156,   -54.0001,  -103.0006,       4303,    20.5,   8.0195,  34.1784,2,  34.1794,2,    292.8,2,   294.3,2,     0.2,2,    14.8,2,    0.29,2,   1.088,2,   3.8247,2,   2.1803,2,   2.6226,2,  2098.4,6,  2275.0,2,   7.8051,2,    25.00, -999.00,9,  -999.0,9,  -999.0,   0.1907,2, -999.00,9,  -999.0,9, -999.00,9, -999.00,9,    11.2412,2,    9.34,2,  -999.0,9,     -999.0,     -999.0,9,     -999.0,9,     -999.0,     -999.0,9,     -999.0,     -999.0,9,     -999.0,     -999.0,       8.45,2,       5.97,2,       5.94,2,     -999.0,9,     -999.0,9,     -999.0,9,     -999.0,9,     -999.0,9
33RO20161119,        P18,     176,          1,         24,      11122,2,20170117,       0156,   -54.0001,  -103.0006,       4303,     3.0,   8.0702,  34.1779,2,  34.1810,2,    294.1,2,   294.1,2,     0.2,2,    14.8,2,    0.30,2,   1.077,2,   3.8233,2,   2.1862,2,   2.6278,2,  2096.7,2,  2274.4,2,   7.8055,2,    25.00, -999.00,9,  -999.0,9,  -999.0,   0.1126,2, -999.00,9,  -999.0,9, -999.00,9, -999.00,9,     11.206,2,    9.31,2,  -999.0,9,     -999.0,     -999.0,9,     -999.0,9,     -999.0,     -999.0,9,     -999.0,     -999.0,9,     -999.0,     -999.0,       8.43,2,       6.07,2,       6.04,2,     -999.0,9,     -999.0,9,     -999.0,9,     -999.0,9,     -999.0,9