BOTTLE,20230606CCHSIOCBG
EXPOCODE,SECT_ID,STNNBR,CASTNO,SAMPNO,BTLNBR,BTLNBR_FLAG_W,DATE,TIME,LATITUDE,LONGITUDE,DEPTH,CTDPRS,CTDTMP,CTDSAL,CTDSAL_FLAG_W,SALNTY,SALNTY_FLAG_W,CTDOXY,CTDOXY_FLAG_W,OXYGEN,OXYGEN_FLAG_W,SILCAT,SILCAT_FLAG_W,NITRAT,NITRAT_FLAG_W,NITRIT,NITRIT_FLAG_W,PHSPHT,PHSPHT_FLAG_W,CFC-11,CFC-11_FLAG_W,CFC-12,CFC-12_FLAG_W,SF6,SF6_FLAG_W,TCARBN,TCARBN_FLAG_W,ALKALI,ALKALI_FLAG_W,PH_SWS,PH_SWS_FLAG_W,PH_TMP,DELC13,DELC13_FLAG_W,DELC14,DELC14_FLAG_W,C14ERR,CCL4,CCL4_FLAG_W,POC,POC_FLAG_W,DOC,DOC_FLAG_W,TDN,TDN_FLAG_W,PON,PON_FLAG_W,N2O,N2O_FLAG_W,D15N_NO3,D15N_NO3_FLAG_W,14C-DOC,14C-DOC_FLAG_W,14C-DOCERR,13C-DOC,13C-DOC_FLAG_W,N2/ARGON_UNSTRIPPED,N2/ARGON_UNSTRIPPED_FLAG_W,N2/ARGON_UNSTRIPPED_ERROR,N2/ARGON,N2/ARGON_FLAG_W,N2/ARGON_ERROR,D15N_N2,D15N_N2_FLAG_W,D15N_N2_ERROR,D15N_NO3_ERROR,D15N_NO2+NO3,D15N_NO2+NO3_FLAG_W,D18O_NO2+NO3,D18O_NO2+NO3_FLAG_W,D18O_NO3,D18O_NO3_FLAG_W,TDP,TDP_FLAG_W,N2O_ALT_1,N2O_ALT_1_FLAG_W,D15N_N2O,D15N_N2O_FLAG_W,D18O_N2O,D18O_N2O_FLAG_W,D15N_ALPHA_N2O,D15N_ALPHA_N2O_FLAG_W
,,,,,,,,,,,METERS,DBAR,ITS-90,PSS-78,,PSS-78,,UMOL/KG,,UMOL/KG,,UMOL/KG,,UMOL/KG,,UMOL/KG,,UMOL/KG,,PMOL/KG,,PMOL/KG,,FMOL/KG,,UMOL/KG,,UMOL/KG,,,,DEG C,/MILLE,,/MILLE,,/MILLE,PMOL/KG,,UG/KG,,UMOL/KG,,UMOL/KG,,UG/KG,,NMOL/KG,,/MILLE,,/MILLE,,/MILLE,/MILLE,,,,,,,,/MILLE,,/MILLE,/MILLE,/MILLE,,/MILLE,,/MILLE,,UMOL/KG,,NMOL/L,,/MILLE,,/MILLE,,/MILLE,
33RO20161119,        P18,      62,          1,          1,      11010,2,20161208,       1534,    -1.7494,  -110.0010,       3904,  3944.1,   1.4766,  34.6923,2,  34.6922,2,    157.5,2,   159.3,2,   141.8,6,    36.0,6,    0.00,6,   2.438,6,-999.0000,9,-999.0000,9,-999.0000,9,  -999.0,9,  -999.0,9,   7.5949,6,    25.00, -999.00,9,  -999.0,9,  -999.0,-999.0000,9, -999.00,9,  -999.0,9, -999.00,9, -999.00,9,     -999.0,9, -999.00,9,  -999.0,9,     -999.0,     -999.0,9,     -999.0,9,     -999.0,     -999.0,9,     -999.0,     -999.0,9,     -999.0,     -999.0,     -999.0,9,     -999.0,9,     -999.0,9,     -999.0,9,     -999.0,9,     -999.0,9,     -999.0,9,     -999.0,9
33RO20161119,        P18,      62,          1,          2,      11101,2,20161208,       1534,    -1.7494,  -110.0010,       3904,  3570.2,   1.4826,  34.6899,2,  34.6896,2,    151.9,2,   152.2,2,   144.0,6,    36.4,6,    0.00,6,   2.453,6,-999.0000,9,-999.0000,9,-999.0000,9,  -999.0,9,  -999.0,9,-999.0000,9,  -999.00, -999.00,9,  -999.0,9,  -999.0,-999.0000,9, -999.00,9,  -999.0,9, -999.00,9, -999.00,9,     -999.0,9,     5.2,2,  -999.0,9,     -999.0,     -999.0,9,     -999.0,9,     -999.0,     -999.0,9,     -999.0,     -999.0,9,     -999.0,       0.11,     -999.0,9,     -999.0,9,     -999.0,9,     -999.0,9,     -999.0,9,     -999.0,9,     -999.0,9,     -999.0,9
33RO20161119,        P18,      62,          1,          3,      11102,2,20161208,       1534,    -1.7494,  -110.0010,       3904,  3199.6,   1.5890,  34.6810,2,  34.6794,2,    141.4,2,   143.6,2,   143.7,6,    37.1,6,    0.00,6,   2.527,6,-999.0000,9,-999.0000,9,-999.0000,9,  -999.0,9,  -999.0,9,-999.0000,9,  -999.00, -999.00,9,  -999.0,9,  -999.0,-999.0000,9, -999.00,9,  -999.0,9, -999.00,9, -999.00,9,     -999.0,9, -999.00,9,  -999.0,9,     -999.0,     -999.0,9,     -999.0,9,     -999.0,     -999.0,9,     -999.0,     -999.0,9,     -999.0,     -999.0,     -999.0,9,     -999.0,9,     -999.0,9,     -999.0,9,     -999.0,9,     -999.0,9,     -999.0,9,     -999.0,9
33RO20161119,        P18,      62,          1,          4,      11103,2,20161208,       1534,    -1.7494,  -110.0010,       3904,  2900.5,   1.6638,  34.6743,2,  34.6716,2,    137.9,2,   137.9,2,   140.2,6,    37.3,6,    0.00,6,   2.541,6,-999.0000,9,-999.0000,9,-999.0000,9,  -999.0,9,  -999.0,9,-999.0000,9,  -999.00, -999.00,9,  -999.0,9,  -999.0,-999.0000,9, -999.00,9,  -999.0,9, -999.00,9, -999.00,9,     -999.0,9, -999.00,9,  -999.0,9,     -999.0,     -999.0,9,     -999.0,9,     -999.0,     -999.0,9,     -999.0,     -999.0,9,     -999.0,     -999.0,     -999.0,9,     -999.0,9,     -999.0,9,     -999.0,9,     -999.0,9,     -999.0,9,     -999.0,9,     -999.0,9
33RO20161119,        P18,      62,          1,          5,      11104,2,20161208,       1534,    -1.7494,  -110.0010,       3904,  2600.0,   1.8249,  34.6664,2,  34.6657,2,    126.9,2,   117.9,2,   140.3,2,    37.9,2,    0.00,2,   2.603,2,-999.0000,9,-999.0000,9,-999.0000,9,  -999.0,9,  -999.0,9,-999.0000,9,  -999.00, -999.00,9,  -999.0,9,  -999.0,-999.0000,9, -999.00,9,  -999.0,9, -999.00,9, -999.00,9,     -999.0,9, -999.00,9,  -999.0,9,     -999.0,     -999.0,9,     -999.0,9,     -999.0,     -999.0,9,     -999.0,     -999.0,9,     -999.0,     -999.0,     -999.0,9,     -999.0,9,     -999.0,9,     -999.0,9,     -999.0,9,     -999.0,9,     -999.0,9,     -999.0,9
33RO20161119,        P18,      62,          1,          6,      11105,2,20161208,       1534,    -1.7494,  -110.0010,       3904,  2299.8,   1.9623,  34.6591,2,  34.6578,2,    118.2,2,   126.9,2,   140.3,2,    38.5,2,    0.00,2,   2.649,2,-999.0000,9,-999.0000,9,-999.0000,9,  -999.0,9,  -999.0,9,-999.0000,9,  -999.00, -999.00,9,  -999.0,9,  -999.0,-999.0000,9, -999.00,9,  -999.0,9, -999.00,9, -999.00,9,     -999.0,9, -999.00,9,  -999.0,9,     -999.0,     -999.0,9,     -999.0,9,     -999.0,     -999.0,9,     -999.0,     -999.0,9,     -999.0,     -999.0,     -999.0,9,     -999.0,9,     -999.0,9,     -999.0,9,     -999.0,9,     -999.0,9,     -999.0,9,     -999.0,9
33RO20161119,        P18,      62,          1,          7,      11106,2,20161208,       1534,    -1.7494,  -110.0010,       3904,  2001.1,   2.2757,  34.6469,2,  34.6435,2,    102.8,2,   102.7,2,   138.2,2,    39.5,2,    0.00,2,   2.746,2,-999.0000,9,-999.0000,9,-999.0000,9,  -999.0,9,  -999.0,9,-999.0000,9,  -999.00, -999.00,9,  -999.0,9,  -999.0,-999.0000,9, -999.00,9,  -999.0,9, -999.00,9, -999.00,9,     -999.0,9, -999.00,9,  -999.0,9,     -999.0,     -999.0,9,     -999.0,9,     -999.0,     -999.0,9,     -999.0,     -999.0,9,     -999.0,     -999.0,     -999.0,9,     -999.0,9,     -999.0,9,     -999.0,9,     -999.0,9,     -999.0,9,     -999.0,9,     -999.0,9
33RO20161119,        P18,      62,          1,          8,      11107,2,20161208,       1534,    -1.7494,  -110.0010,       3904,  1701.1,   2.6717,  34.6264,2,  34.6240,2,     92.9,2,    93.0,2,   129.2,2,    40.2,2,    0.00,2,   2.797,2,-999.0000,9,-999.0000,9,-999.0000,9,  -999.0,9,  -999.0,9,-999.0000,9,  -999.00, -999.00,9,  -999.0,9,  -999.0,-999.0000,9, -999.00,9,  -999.0,9, -999.00,9, -999.00,9,     -999.0,9, -999.00,9,  -999.0,9,     -999.0,     -999.0,9,     -999.0,9,     -999.0,     -999.0,9,     -999.0,     -999.0,9,     -999.0,     -999.0,     -999.0,9,     -999.0,9,     -999.0,9,     -999.0,9,     -999.0,9,     -999.0,9,     -999.0,9,     -999.0,9
33RO20161119,        P18,      62,          1,          9,      11108,2,20161208,       1534,    -1.7494,  -110.0010,       3904,  1439.9,   3.2125,  34.5980,2,  34.6001,2,     89.1,2,    89.7,2,   113.0,2,    40.3,2,    0.00,2,   2.821,2,   0.0018,2,   0.0015,2,   0.0000,2,  2330.4,2,  2389.9,2,   7.5480,4,    25.00, -999.00,9,  -999.0,9,  -999.0,   0.0152,2, -999.00,9,  -999.0,9, -999.00,9, -999.00,9,    31.1773,2,    6.41,2,  -999.0,9,     -999.0,     -999.0,9,     -999.0,9,     -999.0,     -999.0,9,     -999.0,     -999.0,9,     -999.0,       0.05,     -999.0,9,     -999.0,9,     -999.0,9,     -999.0,9,     -999.0,9,     -999.0,9,     -999.0,9,     -999.0,9
33RO20161119,        P18,      62,          1,         10,      11109,2,20161208,       1534,    -1.7494,  -110.0010,       3904,  1275.3,   3.5991,  34.5834,2,  34.5812,2,     85.6,2,    85.5,2,   103.1,2,    40.4,2,    0.00,2,   2.826,2,-999.0000,9,-999.0000,9,-999.0000,9,  -999.0,9,  -999.0,9,   7.4570,2,    25.00, -999.00,9,  -999.0,9,  -999.0,-999.0000,9, -999.00,9,  -999.0,9, -999.00,9, -999.00,9,     -999.0,9,    6.38,2,  -999.0,9,     -999.0,     -999.0,9,     -999.0,9,     -999.0,     -999.0,9,     -999.0,     -999.0,9,     -999.0,       0.14,     -999.0,9,     -999.0,9,     -999.0,9,     -999.0,9,     -999.0,9,     -999.0,9,     -999.0,9,     -999.0,9
33RO20161119,        P18,      62,          1,         11,      11110,2,20161208,       1534,    -1.7494,  -110.0010,       3904,  1135.8,   4.1617,  34.5668,2,  34.5671,2,     80.4,2,    80.1,2,    91.6,2,    40.5,2,    0.00,2,   2.836,2,   0.0089,2,   0.0060,2,   0.0000,2,  2310.3,2,  2363.2,2,   7.4507,2,    25.00, -999.00,9,  -999.0,9,  -999.0,   0.0345,2, -999.00,9,  -999.0,9, -999.00,9, -999.00,9,    34.6948,2,    6.63,2,  -999.0,9,     -999.0,     -999.0,9,     -999.0,9,     -999.0,     -999.0,9,     -999.0,     -999.0,9,     -999.0,       0.04,     -999.0,9,     -999.0,9,     -999.0,9,     -999.0,9,     -999.0,9,     -999.0,9,     -999.0,9,     -999.0,9
33RO20161119,        P18,      62,          1,         12,      11111,2,20161208,       1534,    -1.7494,  -110.0010,       3904,  1004.3,   4.6053,  34.5548,2,  34.5544,2,     80.4,2,    79.8,2,    81.0,2,    40.1,2,    0.00,2,   2.802,2,-999.0000,9,-999.0000,9,-999.0000,9,  -999.0,9,  -999.0,9,   7.4539,2,    25.00, -999.00,9,  -999.0,9,  -999.0,-999.0000,9, -999.00,9,  -999.0,9, -999.00,9, -999.00,9,     -999.0,9,     6.8,2,  -999.0,9,     -999.0,     -999.0,9,     -999.0,9,     -999.0,     -999.0,9,     -999.0,     -999.0,9,     -999.0,       0.08,     -999.0,9,     -999.0,9,     -999.0,9,     -999.0,9,     -999.0,9,     -999.0,9,     -999.0,9,     -999.0,9
33RO20161119,        P18,      62,          1,         13,      11112,2,20161208,       1534,    -1.7494,  -110.0010,       3904,   880.7,   5.3113,  34.5484,2,  34.5470,2,     72.4,2,    49.9,3,    68.4,2,    40.2,2,    0.00,2,   2.806,2,   0.0284,2,   0.0167,2,   0.0000,2,  2290.5,2,  2340.3,2,   7.4415,2,    25.00, -999.00,9,  -999.0,9,  -999.0,   0.0577,2, -999.00,9,  -999.0,9, -999.00,9, -999.00,9,     36.959,2,    6.91,2,  -999.0,9,     -999.0,     -999.0,9,     -999.0,9,     -999.0,     -999.0,9,     -999.0,     -999.0,9,     -999.0,       0.13,     -999.0,9,     -999.0,9,     -999.0,9,     -999.0,9,     -999.0,9,     -999.0,9,     -999.0,9,     -999.0,9
33RO20161119,        P18,      62,          1,         14,      11113,2,20161208,       1534,    -1.7494,  -110.0010,       3904,   754.4,   6.0629,  34.5505,2,  34.5490,2,     71.2,2,    71.2,2,    55.7,2,    39.4,2,    0.00,2,   2.725,2,-999.0000,9,-999.0000,9,-999.0000,9,  2274.8,2,  -999.0,9,   7.4492,2,    25.00, -999.00,9,  -999.0,9,  -999.0,-999.0000,9, -999.00,9,  -999.0,9, -999.00,9, -999.00,9,     -999.0,9,    7.12,2,  -999.0,9,     -999.0,     -999.0,9,     -999.0,9,     -999.0,     -999.0,9,     -999.0,     -999.0,9,     -999.0,       0.05,     -999.0,9,     -999.0,9,     -999.0,9,     -999.0,9,     -999.0,9,     -999.0,9,     -999.0,9,     -999.0,9
33RO20161119,        P18,      62,          1,         15,      11114,2,20161208,       1534,    -1.7494,  -110.0010,       3904,   640.9,   6.9140,  34.5768,2,  34.5751,2,     49.6,2,    21.2,3,    48.0,2,    40.2,2,    0.00,2,   2.754,2,-999.0000,9,-999.0000,9,-999.0000,9,  2276.5,2,  2315.9,2,   7.4197,2,    25.00, -999.00,9,  -999.0,9,  -999.0,-999.0000,9, -999.00,9,  -999.0,9, -999.00,9, -999.00,9,     -999.0,9,    7.32,2,  -999.0,9,     -999.0,     -999.0,9,     -999.0,9,     -999.0,     -999.0,9,     -999.0,     -999.0,9,     -999.0,       0.14,     -999.0,9,     -999.0,9,     -999.0,9,     -999.0,9,     -999.0,9,     -999.0,9,     -999.0,9,     -999.0,9
33RO20161119,        P18,      62,          1,         16,      11115,2,20161208,       1534,    -1.7494,  -110.0010,       3904,   493.8,   9.2761,  34.6870,2,  34.6848,2,     20.5,2,    27.2,2,    36.1,2,    37.9,2,    0.00,2,   2.607,2,   0.3752,2,   0.2073,2,   0.1040,2,  2270.2,2,  2305.5,2,   7.3987,6,    25.00, -999.00,9,  -999.0,9,  -999.0,   0.0895,2, -999.00,9,  -999.0,9, -999.00,9, -999.00,9,    60.4938,2,    7.51,2,  -999.0,9,     -999.0,     -999.0,9,     -999.0,9,     -999.0,     -999.0,9,     -999.0,     -999.0,9,     -999.0,       0.06,     -999.0,9,     -999.0,9,     -999.0,9,     -999.0,9,     -999.0,9,     -999.0,9,     -999.0,9,     -999.0,9
33RO20161119,        P18,      62,          1,         17,      11116,2,20161208,       1534,    -1.7494,  -110.0010,       3904,   432.6,   9.5072,  34.6983,2,  34.6989,2,     26.3,2,    29.8,2,    33.6,2,    36.6,2,    0.00,2,   2.511,2,-999.0000,9,-999.0000,9,-999.0000,9,  2263.0,2,  2304.9,2,   7.4201,2,    25.00, -999.00,9,  -999.0,9,  -999.0,-999.0000,9, -999.00,9,  -999.0,9, -999.00,9, -999.00,9,     -999.0,9,     7.2,2,  -999.0,9,     -999.0,     -999.0,9,     -999.0,9,     -999.0,     -999.0,9,     -999.0,     -999.0,9,     -999.0,       0.21,     -999.0,9,     -999.0,9,     -999.0,9,     -999.0,9,     -999.0,9,     -999.0,9,     -999.0,9,     -999.0,9
33RO20161119,        P18,      62,          1,         18,      11117,2,20161208,       1534,    -1.7494,  -110.0010,       3904,   325.4,  10.7089,  34.7742,2,  34.7721,2,     28.3,2,    31.3,2,    28.6,2,    34.0,2,    0.00,2,   2.365,2,   0.7555,2,   0.4128,2,   0.2072,2,  2252.0,2,  2302.1,2,   7.4483,2,    25.00, -999.00,9,  -999.0,9,  -999.0,   0.1066,2, -999.00,9,  -999.0,9, -999.00,9, -999.00,9,    61.2645,2,    7.17,2,  -999.0,9,     -999.0,     -999.0,9,     -999.0,9,     -999.0,     -999.0,9,     -999.0,     -999.0,9,     -999.0,       0.35,     -999.0,9,     -999.0,9,     -999.0,9,     -999.0,9,     -999.0,9,     -999.0,9,     -999.0,9,     -999.0,9
33RO20161119,        P18,      62,          1,         19,      11083,2,20161208,       1534,    -1.7494,  -110.0010,       3904,   240.0,  11.9922,  34.8508,2,  34.8487,2,     30.6,2,    47.1,3,    24.8,2,    31.8,2,    0.01,2,   2.197,2,-999.0000,9,-999.0000,9,-999.0000,9,  -999.0,9,  -999.0,9,   7.4820,2,    25.00, -999.00,9,  -999.0,9,  -999.0,-999.0000,9, -999.00,9,  -999.0,9, -999.00,9, -999.00,9,     -999.0,9,    6.68,2,  -999.0,9,     -999.0,     -999.0,9,     -999.0,9,     -999.0,     -999.0,9,     -999.0,     -999.0,9,     -999.0,       0.09,     -999.0,9,     -999.0,9,     -999.0,9,     -999.0,9,     -999.0,9,     -999.0,9,     -999.0,9,     -999.0,9
33RO20161119,        P18,      62,          1,         20,      11118,2,20161208,       1534,    -1.7494,  -110.0010,       3904,   165.1,  12.7189,  34.9035,2,  34.8995,2,     46.4,2,    45.2,6,    21.2,2,    29.2,2,    0.01,2,   2.041,2,   1.3242,2,   0.7367,2,   0.4122,2,  2222.5,2,  2299.6,2,   7.5332,2,    25.00, -999.00,9,  -999.0,9,  -999.0,   0.6551,2, -999.00,9,  -999.0,9, -999.00,9, -999.00,9,    56.2599,2,    6.47,2,  -999.0,9,     -999.0,     -999.0,9,     -999.0,9,     -999.0,     -999.0,9,     -999.0,     -999.0,9,     -999.0,       0.03,     -999.0,9,     -999.0,9,     -999.0,9,     -999.0,9,     -999.0,9,     -999.0,9,     -999.0,9,     -999.0,9
33RO20161119,        P18,      62,          1,         21,      11119,2,20161208,       1534,    -1.7494,  -110.0010,       3904,   100.7,  14.4170,  35.0141,2,  35.0116,2,     59.3,2,   140.4,3,    16.2,2,    26.1,2,    0.09,2,   1.856,2,-999.0000,9,-999.0000,9,-999.0000,9,  2206.1,2,  2303.0,2,   7.5967,2,    25.00, -999.00,9,  -999.0,9,  -999.0,-999.0000,9, -999.00,9,  -999.0,9, -999.00,9, -999.00,9,     -999.0,9,    6.57,2,  -999.0,9,     -999.0,     -999.0,9,     -999.0,9,     -999.0,     -999.0,9,     -999.0,     -999.0,9,     -999.0,        0.0,     -999.0,9,     -999.0,9,     -999.0,9,     -999.0,9,     -999.0,9,     -999.0,9,     -999.0,9,     -999.0,9
33RO20161119,        P18,      62,          1,         22,      11120,2,20161208,       1534,    -1.7494,  -110.0010,       3904,    50.1,  20.0809,  35.1488,2,  35.1504,2,    148.4,2,   204.1,3,     7.7,2,    14.4,2,    0.39,2,   1.207,2,   1.7978,2,   1.0804,2,   1.0746,2,  2130.6,2,  2311.6,2,   7.8092,2,    25.00, -999.00,9,  -999.0,9,  -999.0,   1.3512,2, -999.00,9,  -999.0,9, -999.00,9, -999.00,9,    26.9032,2,    9.51,2,  -999.0,9,     -999.0,     -999.0,9,     -999.0,9,     -999.0,     -999.0,9,     -999.0,     -999.0,9,     -999.0,       0.04,     -999.0,9,     -999.0,9,     -999.0,9,     -999.0,9,     -999.0,9,     -999.0,9,     -999.0,9,     -999.0,9
33RO20161119,        P18,      62,          1,         23,      11121,2,20161208,       1534,    -1.7494,  -110.0010,       3904,    20.8,  22.6290,  35.0956,2,  35.0933,2,    202.7,2,   204.1,2,     4.7,2,     8.9,2,    0.23,2,   0.800,2,-999.0000,9,-999.0000,9,-999.0000,9,  -999.0,9,  2309.6,2,   7.9087,2,    25.00, -999.00,9,  -999.0,9,  -999.0,-999.0000,9, -999.00,9,  -999.0,9, -999.00,9, -999.00,9,     -999.0,9,   13.02,2,  -999.0,9,     -999.0,     -999.0,9,     -999.0,9,     -999.0,     -999.0,9,     -999.0,     -999.0,9,     -999.0,       0.02,     -999.0,9,     -999.0,9,     -999.0,9,     -999.0,9,     -999.0,9,     -999.0,9,     -999.0,9,     -999.0,9
33RO20161119,        P18,      62,          1,         24,      11122,2,20161208,       1534,    -1.7494,  -110.0010,       3904,     3.0,  22.7394,  35.1016,2,  35.1020,2,    199.2,2,   149.2,3,     4.7,2,     8.8,2,    0.23,2,   0.783,2,   1.8588,2,   1.1430,2,   1.3950,2,  2080.3,6,  2310.4,2,   7.9097,2,    25.00, -999.00,9,  -999.0,9,  -999.0,        0,2, -999.00,9,  -999.0,9, -999.00,9, -999.00,9,    10.1435,2,   13.78,2,  -999.0,9,     -999.0,     -999.0,9,     -999.0,9,     -999.0,     -999.0,9,     -999.0,     -999.0,9,     -999.0,        0.1,     -999.0,9,     -999.0,9,     -999.0,9,     -999.0,9,     -999.0,9,     -999.0,9,     -999.0,9,     -999.0,9