BOTTLE,20230606CCHSIOCBG
EXPOCODE,SECT_ID,STNNBR,CASTNO,SAMPNO,BTLNBR,BTLNBR_FLAG_W,DATE,TIME,LATITUDE,LONGITUDE,DEPTH,CTDPRS,CTDTMP,CTDSAL,CTDSAL_FLAG_W,SALNTY,SALNTY_FLAG_W,CTDOXY,CTDOXY_FLAG_W,OXYGEN,OXYGEN_FLAG_W,SILCAT,SILCAT_FLAG_W,NITRAT,NITRAT_FLAG_W,NITRIT,NITRIT_FLAG_W,PHSPHT,PHSPHT_FLAG_W,CFC-11,CFC-11_FLAG_W,CFC-12,CFC-12_FLAG_W,SF6,SF6_FLAG_W,TCARBN,TCARBN_FLAG_W,ALKALI,ALKALI_FLAG_W,PH_SWS,PH_SWS_FLAG_W,PH_TMP,DELC13,DELC13_FLAG_W,DELC14,DELC14_FLAG_W,C14ERR,CCL4,CCL4_FLAG_W,POC,POC_FLAG_W,DOC,DOC_FLAG_W,TDN,TDN_FLAG_W,PON,PON_FLAG_W,N2O,N2O_FLAG_W,D15N_NO3,D15N_NO3_FLAG_W,14C-DOC,14C-DOC_FLAG_W,14C-DOCERR,13C-DOC,13C-DOC_FLAG_W,N2/ARGON_UNSTRIPPED,N2/ARGON_UNSTRIPPED_FLAG_W,N2/ARGON_UNSTRIPPED_ERROR,N2/ARGON,N2/ARGON_FLAG_W,N2/ARGON_ERROR,D15N_N2,D15N_N2_FLAG_W,D15N_N2_ERROR,D15N_NO3_ERROR,D15N_NO2+NO3,D15N_NO2+NO3_FLAG_W,D18O_NO2+NO3,D18O_NO2+NO3_FLAG_W,D18O_NO3,D18O_NO3_FLAG_W,TDP,TDP_FLAG_W,N2O_ALT_1,N2O_ALT_1_FLAG_W,D15N_N2O,D15N_N2O_FLAG_W,D18O_N2O,D18O_N2O_FLAG_W,D15N_ALPHA_N2O,D15N_ALPHA_N2O_FLAG_W
,,,,,,,,,,,METERS,DBAR,ITS-90,PSS-78,,PSS-78,,UMOL/KG,,UMOL/KG,,UMOL/KG,,UMOL/KG,,UMOL/KG,,UMOL/KG,,PMOL/KG,,PMOL/KG,,FMOL/KG,,UMOL/KG,,UMOL/KG,,,,DEG C,/MILLE,,/MILLE,,/MILLE,PMOL/KG,,UG/KG,,UMOL/KG,,UMOL/KG,,UG/KG,,NMOL/KG,,/MILLE,,/MILLE,,/MILLE,/MILLE,,,,,,,,/MILLE,,/MILLE,/MILLE,/MILLE,,/MILLE,,/MILLE,,UMOL/KG,,NMOL/L,,/MILLE,,/MILLE,,/MILLE,
33RO20161119,        P18,     188,          1,          1,      11010,2,20170120,       1307,   -60.0006,  -103.0002,       4961,  5038.8,   0.5086,  34.7008,2,  34.7014,2,    214.6,2,   213.8,2,   138.0,2,    33.0,2,    0.02,2,   2.270,2,   0.3662,2,   0.1754,2,   0.0738,2,  2263.2,6,  2361.7,2,   7.5901,6,    25.00, -999.00,9,  -999.0,9,  -999.0,   0.2174,2, -999.00,9,  -999.0,9, -999.00,9, -999.00,9,    18.3727,2,    4.73,2,  -999.0,9,     -999.0,     -999.0,9,     -999.0,9,     -999.0,     -999.0,9,     -999.0,     -999.0,9,     -999.0,     -999.0,       4.73,2,       1.99,2,       1.99,2,     -999.0,9,     -999.0,9,     -999.0,9,     -999.0,9,     -999.0,9
33RO20161119,        P18,     188,          1,          2,      11101,2,20170120,       1307,   -60.0006,  -103.0002,       4961,  4654.2,   0.5095,  34.7022,2,  34.7079,4,    212.8,2,   212.9,2,   135.3,2,    32.9,2,    0.01,2,   2.256,2,   0.3358,2,   0.1598,2,   0.0961,2,  2259.7,2,  2363.8,2,   7.5903,2,    25.00, -999.00,9,  -999.0,9,  -999.0,   0.1775,2, -999.00,9,  -999.0,9, -999.00,9, -999.00,9,    18.4913,2,    4.76,2,  -999.0,9,     -999.0,     -999.0,9,     -999.0,9,     -999.0,     -999.0,9,     -999.0,     -999.0,9,     -999.0,     -999.0,       4.76,2,       1.87,2,       1.87,2,     -999.0,9,     -999.0,9,     -999.0,9,     -999.0,9,     -999.0,9
33RO20161119,        P18,     188,          1,          3,      11102,2,20170120,       1307,   -60.0006,  -103.0002,       4961,  4270.8,   0.6009,  34.7042,2,  34.7058,2,    210.8,2,   210.4,2,   130.3,6,    32.8,6,    0.01,6,   2.254,6,   0.2980,2,   0.1434,2,   0.0773,2,  2259.3,2,  2360.8,2,   7.5919,2,    25.00, -999.00,9,  -999.0,9,  -999.0,   0.1812,2, -999.00,9,  -999.0,9, -999.00,9, -999.00,9,    18.5383,2,    4.74,2,  -999.0,9,     -999.0,     -999.0,9,     -999.0,9,     -999.0,     -999.0,9,     -999.0,     -999.0,9,     -999.0,     -999.0,       4.74,2,       1.98,2,       1.98,2,     -999.0,9,     -999.0,9,     -999.0,9,     -999.0,9,     -999.0,9
33RO20161119,        P18,     188,          1,          4,      11103,2,20170120,       1307,   -60.0006,  -103.0002,       4961,  3871.1,   0.7717,  34.7073,2,  34.7070,2,    207.5,2,   206.8,2,   125.4,6,    32.6,6,    0.01,6,   2.239,6,   0.2383,2,   0.1165,2,   0.0477,2,  2256.3,2,  2361.5,2,   7.6007,3,    25.00, -999.00,9,  -999.0,9,  -999.0,    0.188,2, -999.00,9,  -999.0,9, -999.00,9, -999.00,9,    18.6661,2,     4.8,2,  -999.0,9,     -999.0,     -999.0,9,     -999.0,9,     -999.0,     -999.0,9,     -999.0,     -999.0,9,     -999.0,     -999.0,        4.8,2,        2.5,2,        2.5,2,     -999.0,9,     -999.0,9,     -999.0,9,     -999.0,9,     -999.0,9
33RO20161119,        P18,     188,          1,          5,      11104,2,20170120,       1307,   -60.0006,  -103.0002,       4961,  3471.4,   0.9226,  34.7122,2,  34.7110,2,    204.7,2,   203.9,2,   120.8,6,    32.4,6,    0.01,6,   2.226,6,   0.1833,2,   0.0889,2,   0.0706,2,  2258.1,2,  2360.5,2,   7.5921,2,    25.00, -999.00,9,  -999.0,9,  -999.0,   0.1607,3, -999.00,9,  -999.0,9, -999.00,9, -999.00,9,    18.7844,2,    4.77,2,  -999.0,9,     -999.0,     -999.0,9,     -999.0,9,     -999.0,     -999.0,9,     -999.0,     -999.0,9,     -999.0,     -999.0,       4.77,2,        2.0,2,        2.0,2,     -999.0,9,     -999.0,9,     -999.0,9,     -999.0,9,     -999.0,9
33RO20161119,        P18,     188,          1,          6,      11105,2,20170120,       1307,   -60.0006,  -103.0002,       4961,  3071.0,   1.1017,  34.7188,2,  34.7196,2,    200.7,2,   200.7,2,   114.4,6,    32.2,6,    0.01,6,   2.219,6,   0.1415,2,   0.0698,2,   0.0579,2,  2255.9,2,  2360.6,2,   7.5967,2,    25.00, -999.00,9,  -999.0,9,  -999.0,   0.2462,2, -999.00,9,  -999.0,9, -999.00,9, -999.00,9,    18.8065,2,    4.76,2,  -999.0,9,     -999.0,     -999.0,9,     -999.0,9,     -999.0,     -999.0,9,     -999.0,     -999.0,9,     -999.0,     -999.0,       4.76,2,       2.01,2,       2.01,2,     -999.0,9,     -999.0,9,     -999.0,9,     -999.0,9,     -999.0,9
33RO20161119,        P18,     188,          1,          7,      11106,2,20170120,       1307,   -60.0006,  -103.0002,       4961,  2670.9,   1.3055,  34.7252,2,  34.7245,2,    196.4,2,   196.5,6,   107.5,2,    32.1,2,    0.01,2,   2.212,2,   0.1192,2,   0.0576,2,   0.0650,2,  2254.7,2,  2359.0,2,   7.5971,2,    25.00, -999.00,9,  -999.0,9,  -999.0,   0.2681,2, -999.00,9,  -999.0,9, -999.00,9, -999.00,9,    18.9754,2,    4.86,2,  -999.0,9,     -999.0,     -999.0,9,     -999.0,9,     -999.0,     -999.0,9,     -999.0,     -999.0,9,     -999.0,     -999.0,       4.86,2,       1.97,2,       1.97,2,     -999.0,9,     -999.0,9,     -999.0,9,     -999.0,9,     -999.0,9
33RO20161119,        P18,     188,          1,          8,      11107,2,20170120,       1307,   -60.0006,  -103.0002,       4961,  2270.4,   1.5583,  34.7308,2,  34.7301,2,    192.2,2,   192.4,2,    99.0,2,    31.9,2,    0.01,2,   2.184,2,   0.1366,6,   0.0668,6,   0.0264,6,  2253.1,2,  2356.8,2,   7.5946,2,    25.00, -999.00,9,  -999.0,9,  -999.0,   0.6157,2, -999.00,9,  -999.0,9, -999.00,9, -999.00,9,    19.1875,2,    4.85,2,  -999.0,9,     -999.0,     -999.0,9,     -999.0,9,     -999.0,     -999.0,9,     -999.0,     -999.0,9,     -999.0,     -999.0,       4.85,2,       1.85,2,       1.85,2,     -999.0,9,     -999.0,9,     -999.0,9,     -999.0,9,     -999.0,9
33RO20161119,        P18,     188,          1,          9,      11108,2,20170120,       1307,   -60.0006,  -103.0002,       4961,  1911.4,   1.7918,  34.7219,2,  34.7239,2,    183.8,2,   184.2,2,    95.4,2,    32.2,2,    0.02,2,   2.212,2,   0.1146,3,   0.0551,3,   0.0000,2,  2256.1,2,  2355.4,2,   7.5899,2,    25.00, -999.00,9,  -999.0,9,  -999.0,   0.9793,2, -999.00,9,  -999.0,9, -999.00,9, -999.00,9,      19.77,3,    4.65,2,  -999.0,9,     -999.0,     -999.0,9,     -999.0,9,     -999.0,     -999.0,9,     -999.0,     -999.0,9,     -999.0,     -999.0,       4.65,2,       1.58,2,       1.58,2,     -999.0,9,     -999.0,9,     -999.0,9,     -999.0,9,     -999.0,9
33RO20161119,        P18,     188,          1,         10,      11109,2,20170120,       1307,   -60.0006,  -103.0002,       4961,  1690.8,   1.9988,  34.7164,2,  34.7164,2,    182.3,2,   182.3,2,    86.9,2,    32.0,2,    0.01,2,   2.198,2,   0.1833,2,   0.0906,2,   0.0918,2,  2252.0,2,  2350.9,2,   7.5844,2,    25.00, -999.00,9,  -999.0,9,  -999.0,   1.7197,2, -999.00,9,  -999.0,9, -999.00,9, -999.00,9,    20.1257,2,    4.66,2,  -999.0,9,     -999.0,     -999.0,9,     -999.0,9,     -999.0,     -999.0,9,     -999.0,     -999.0,9,     -999.0,     -999.0,       4.66,2,       1.44,2,       1.44,2,     -999.0,9,     -999.0,9,     -999.0,9,     -999.0,9,     -999.0,9
33RO20161119,        P18,     188,          1,         11,      11110,2,20170120,       1307,   -60.0006,  -103.0002,       4961,  1509.8,   2.1381,  34.6987,2,  34.6981,2,    178.9,2,   179.0,2,    83.1,2,    32.4,2,    0.01,2,   2.228,2,   0.2327,2,   0.1159,2,   0.0664,2,  2254.7,2,  2345.7,6,   7.5753,6,    25.00, -999.00,9,  -999.0,9,  -999.0,   2.1938,2, -999.00,9,  -999.0,9, -999.00,9, -999.00,9,    20.8096,2,    4.92,2,  -999.0,9,     -999.0,     -999.0,9,     -999.0,9,     -999.0,     -999.0,9,     -999.0,     -999.0,9,     -999.0,     -999.0,       4.92,2,       1.86,2,       1.86,2,     -999.0,9,     -999.0,9,     -999.0,9,     -999.0,9,     -999.0,9
33RO20161119,        P18,     188,          1,         12,      11111,2,20170120,       1307,   -60.0006,  -103.0002,       4961,  1333.0,   2.2430,  34.6680,2,  34.6688,2,    174.5,2,   175.0,2,    80.4,2,    33.0,2,    0.01,2,   2.281,2,-999.0000,9,-999.0000,9,-999.0000,9,  -999.0,9,  -999.0,9,-999.0000,9,  -999.00, -999.00,9,  -999.0,9,  -999.0,-999.0000,9, -999.00,9,  -999.0,9, -999.00,9, -999.00,9,     -999.0,9,    4.96,2,  -999.0,9,     -999.0,     -999.0,9,     -999.0,9,     -999.0,     -999.0,9,     -999.0,     -999.0,9,     -999.0,     -999.0,       4.96,2,       2.02,2,       2.02,2,     -999.0,9,     -999.0,9,     -999.0,9,     -999.0,9,     -999.0,9
33RO20161119,        P18,     188,          1,         13,      11112,2,20170120,       1307,   -60.0006,  -103.0002,       4961,  1164.4,   2.3338,  34.6175,2,  34.6184,2,    172.4,2,   173.0,2,    77.0,2,    33.9,2,    0.01,2,   2.329,2,   0.5124,2,   0.2563,2,   0.1703,2,  2250.9,2,  2339.4,2,   7.5532,2,    25.00, -999.00,9,  -999.0,9,  -999.0,   3.4436,2, -999.00,9,  -999.0,9, -999.00,9, -999.00,9,    22.1279,2,    5.02,2,  -999.0,9,     -999.0,     -999.0,9,     -999.0,9,     -999.0,     -999.0,9,     -999.0,     -999.0,9,     -999.0,     -999.0,       5.02,2,       2.06,2,       2.06,2,     -999.0,9,     -999.0,9,     -999.0,9,     -999.0,9,     -999.0,9
33RO20161119,        P18,     188,          1,         14,      11113,2,20170120,       1307,   -60.0006,  -103.0002,       4961,  1005.3,   2.4395,  34.5522,2,  34.5533,2,    172.9,2,   173.4,2,    72.2,2,    34.4,2,    0.01,2,   2.368,2,   0.7763,2,   0.3941,2,   0.2331,2,  2249.5,2,  2332.4,2,   7.5463,2,    25.00, -999.00,9,  -999.0,9,  -999.0,   4.4306,2, -999.00,9,  -999.0,9, -999.00,9, -999.00,9,    22.6571,2,    5.09,2,  -999.0,9,     -999.0,     -999.0,9,     -999.0,9,     -999.0,     -999.0,9,     -999.0,     -999.0,9,     -999.0,     -999.0,       5.09,2,       2.32,2,       2.32,2,     -999.0,9,     -999.0,9,     -999.0,9,     -999.0,9,     -999.0,9
33RO20161119,        P18,     188,          1,         15,      11114,2,20170120,       1307,   -60.0006,  -103.0002,       4961,   850.2,   2.6213,  34.4828,2,  34.4820,2,    177.7,2,   176.9,2,    65.6,2,    34.8,2,    0.01,2,   2.378,2,   1.0868,2,   0.5469,2,   0.3070,2,  2242.0,2,  2326.8,2,   7.5465,2,    25.00, -999.00,9,  -999.0,9,  -999.0,   4.2267,2, -999.00,9,  -999.0,9, -999.00,9, -999.00,9,    22.9917,2,     5.2,2,  -999.0,9,     -999.0,     -999.0,9,     -999.0,9,     -999.0,     -999.0,9,     -999.0,     -999.0,9,     -999.0,     -999.0,        5.2,2,       1.97,2,       1.97,2,     -999.0,9,     -999.0,9,     -999.0,9,     -999.0,9,     -999.0,9
33RO20161119,        P18,     188,          1,         16,      11115,2,20170120,       1307,   -60.0006,  -103.0002,       4961,   705.2,   2.8140,  34.3855,2,  34.3870,2,    191.2,2,   190.6,2,    54.8,2,    34.2,2,    0.02,2,   2.346,2,   1.7482,2,   0.8853,2,   0.5860,2,  2227.3,2,  2312.4,2,   7.5534,2,    25.00, -999.00,9,  -999.0,9,  -999.0,   4.7345,2, -999.00,9,  -999.0,9, -999.00,9, -999.00,9,    22.1627,2,    5.32,2,  -999.0,9,     -999.0,     -999.0,9,     -999.0,9,     -999.0,     -999.0,9,     -999.0,     -999.0,9,     -999.0,     -999.0,       5.31,2,       2.07,2,        2.1,2,     -999.0,9,     -999.0,9,     -999.0,9,     -999.0,9,     -999.0,9
33RO20161119,        P18,     188,          1,         17,      11116,2,20170120,       1307,   -60.0006,  -103.0002,       4961,   565.8,   3.1349,  34.3103,2,  34.3117,2,    207.7,2,   206.3,2,    43.7,2,    33.0,2,    0.02,2,   2.258,2,   2.3308,2,   1.2067,2,   0.8180,2,  2211.7,6,  2303.8,2,   7.5755,2,    25.00, -999.00,9,  -999.0,9,  -999.0,   4.3342,2, -999.00,9,  -999.0,9, -999.00,9, -999.00,9,    20.5553,2,    5.43,2,  -999.0,9,     -999.0,     -999.0,9,     -999.0,9,     -999.0,     -999.0,9,     -999.0,     -999.0,9,     -999.0,     -999.0,       5.44,2,       2.25,2,       2.17,2,     -999.0,9,     -999.0,9,     -999.0,9,     -999.0,9,     -999.0,9
33RO20161119,        P18,     188,          1,         18,      11117,2,20170120,       1307,   -60.0006,  -103.0002,       4961,   429.4,   2.9322,  34.1795,2,  34.1798,2,    253.1,2,   254.6,6,    29.3,2,    30.1,2,    0.12,2,   2.072,2,   3.6466,2,   1.9492,2,   1.8235,2,  2183.3,2,  2291.5,2,   7.6229,2,    25.00, -999.00,9,  -999.0,9,  -999.0,   4.9739,2, -999.00,9,  -999.0,9, -999.00,9, -999.00,9,    17.8567,2,    5.66,2,  -999.0,9,     -999.0,     -999.0,9,     -999.0,9,     -999.0,     -999.0,9,     -999.0,     -999.0,9,     -999.0,     -999.0,       5.62,2,       2.75,2,       2.51,2,     -999.0,9,     -999.0,9,     -999.0,9,     -999.0,9,     -999.0,9
33RO20161119,        P18,     188,          1,         19,      11083,2,20170120,       1307,   -60.0006,  -103.0002,       4961,   304.4,   3.0332,  34.1115,2,  34.1097,2,    284.6,2,   283.4,2,    20.2,2,    27.8,2,    0.02,2,   1.910,2,   4.2791,2,   2.3365,2,   2.4949,2,  2163.2,2,  2278.9,2,   7.6576,2,    25.00, -999.00,9,  -999.0,9,  -999.0,   4.9884,2, -999.00,9,  -999.0,9, -999.00,9, -999.00,9,    15.2614,2,    5.78,2,  -999.0,9,     -999.0,     -999.0,9,     -999.0,9,     -999.0,     -999.0,9,     -999.0,     -999.0,9,     -999.0,     -999.0,       5.83,2,       2.89,2,       2.84,2,     -999.0,9,     -999.0,9,     -999.0,9,     -999.0,9,     -999.0,9
33RO20161119,        P18,     188,          1,         20,      11118,2,20170120,       1307,   -60.0006,  -103.0002,       4961,   215.4,   3.4438,  34.1088,2,  34.1093,2,    291.0,2,   286.9,2,    16.7,2,    26.6,2,    0.07,2,   1.834,2,   4.3698,6,   2.3756,6,   2.5903,6,  2155.5,2,  2277.7,2,   7.6725,2,    25.00, -999.00,9,  -999.0,9,  -999.0,   5.0891,2, -999.00,9,  -999.0,9, -999.00,9, -999.00,9,    14.6093,2,    5.95,2,  -999.0,9,     -999.0,     -999.0,9,     -999.0,9,     -999.0,     -999.0,9,     -999.0,     -999.0,9,     -999.0,     -999.0,       5.95,2,       3.09,2,       3.25,2,     -999.0,9,     -999.0,9,     -999.0,9,     -999.0,9,     -999.0,9
33RO20161119,        P18,     188,          1,         21,      11119,2,20170120,       1307,   -60.0006,  -103.0002,       4961,   121.8,   3.7955,  34.1029,2,  34.1020,2,    299.3,2,   293.0,2,    12.7,2,    25.0,2,    0.16,2,   1.756,2,   4.4084,2,   2.4278,2,   2.7167,2,  2146.5,2,  2280.5,2,   7.6906,2,    25.00, -999.00,9,  -999.0,9,  -999.0,      0.4,2, -999.00,9,  -999.0,9, -999.00,9, -999.00,9,    14.0547,2,    6.15,2,  -999.0,9,     -999.0,     -999.0,9,     -999.0,9,     -999.0,     -999.0,9,     -999.0,     -999.0,9,     -999.0,     -999.0,       6.14,2,       3.09,2,       3.27,2,     -999.0,9,     -999.0,9,     -999.0,9,     -999.0,9,     -999.0,9
33RO20161119,        P18,     188,          1,         22,      11120,2,20170120,       1307,   -60.0006,  -103.0002,       4961,    55.7,   5.4164,  34.0434,2,  34.0438,2,    309.9,2,   309.1,2,     0.7,2,    20.0,2,    0.22,2,   1.420,2,   4.4783,2,   2.4818,2,   3.0008,2,  2114.0,2,  2279.3,2,   7.7706,2,    25.00, -999.00,9,  -999.0,9,  -999.0,   0.3283,2, -999.00,9,  -999.0,9, -999.00,9, -999.00,9,    12.5749,2,    8.09,2,  -999.0,9,     -999.0,     -999.0,9,     -999.0,9,     -999.0,     -999.0,9,     -999.0,     -999.0,9,     -999.0,     -999.0,       7.46,2,       4.55,2,       4.38,2,     -999.0,9,     -999.0,9,     -999.0,9,     -999.0,9,     -999.0,9
33RO20161119,        P18,     188,          1,         23,      11121,2,20170120,       1307,   -60.0006,  -103.0002,       4961,    20.0,   5.4218,  34.0259,2,  34.0267,2,    308.2,2,   308.6,2,     0.6,2,    20.0,2,    0.22,2,   1.400,2,   4.4446,2,   2.4757,2,   2.8804,2,  2112.6,2,  2274.2,6,   7.7703,2,    25.00, -999.00,9,  -999.0,9,  -999.0,   0.2172,2, -999.00,9,  -999.0,9, -999.00,9, -999.00,9,    12.2981,2,    8.22,2,  -999.0,9,     -999.0,     -999.0,9,     -999.0,9,     -999.0,     -999.0,9,     -999.0,     -999.0,9,     -999.0,     -999.0,       7.47,2,       4.56,2,       4.43,2,     -999.0,9,     -999.0,9,     -999.0,9,     -999.0,9,     -999.0,9
33RO20161119,        P18,     188,          1,         24,      11122,2,20170120,       1307,   -60.0006,  -103.0002,       4961,     4.0,   5.4143,  34.0260,2,  34.0264,2,    307.5,2,   310.2,2,     0.6,2,    20.0,2,    0.23,2,   1.401,2,   4.5057,2,   2.4788,2,   3.0732,2,  2114.6,6,  2277.3,2,   7.7675,2,    25.00, -999.00,9,  -999.0,9,  -999.0,   0.2438,2, -999.00,9,  -999.0,9, -999.00,9, -999.00,9,    12.4508,2,    8.19,2,  -999.0,9,     -999.0,     -999.0,9,     -999.0,9,     -999.0,     -999.0,9,     -999.0,     -999.0,9,     -999.0,     -999.0,       7.46,2,       4.52,2,       4.45,2,     -999.0,9,     -999.0,9,     -999.0,9,     -999.0,9,     -999.0,9