BOTTLE,20230606CCHSIOCBG
EXPOCODE,SECT_ID,STNNBR,CASTNO,SAMPNO,BTLNBR,BTLNBR_FLAG_W,DATE,TIME,LATITUDE,LONGITUDE,DEPTH,CTDPRS,CTDTMP,CTDSAL,CTDSAL_FLAG_W,SALNTY,SALNTY_FLAG_W,CTDOXY,CTDOXY_FLAG_W,OXYGEN,OXYGEN_FLAG_W,SILCAT,SILCAT_FLAG_W,NITRAT,NITRAT_FLAG_W,NITRIT,NITRIT_FLAG_W,PHSPHT,PHSPHT_FLAG_W,CFC-11,CFC-11_FLAG_W,CFC-12,CFC-12_FLAG_W,SF6,SF6_FLAG_W,TCARBN,TCARBN_FLAG_W,ALKALI,ALKALI_FLAG_W,PH_SWS,PH_SWS_FLAG_W,PH_TMP,DELC13,DELC13_FLAG_W,DELC14,DELC14_FLAG_W,C14ERR,CCL4,CCL4_FLAG_W,POC,POC_FLAG_W,DOC,DOC_FLAG_W,TDN,TDN_FLAG_W,PON,PON_FLAG_W,N2O,N2O_FLAG_W,D15N_NO3,D15N_NO3_FLAG_W,14C-DOC,14C-DOC_FLAG_W,14C-DOCERR,13C-DOC,13C-DOC_FLAG_W,N2/ARGON_UNSTRIPPED,N2/ARGON_UNSTRIPPED_FLAG_W,N2/ARGON_UNSTRIPPED_ERROR,N2/ARGON,N2/ARGON_FLAG_W,N2/ARGON_ERROR,D15N_N2,D15N_N2_FLAG_W,D15N_N2_ERROR,D15N_NO3_ERROR,D15N_NO2+NO3,D15N_NO2+NO3_FLAG_W,D18O_NO2+NO3,D18O_NO2+NO3_FLAG_W,D18O_NO3,D18O_NO3_FLAG_W,TDP,TDP_FLAG_W,N2O_ALT_1,N2O_ALT_1_FLAG_W,D15N_N2O,D15N_N2O_FLAG_W,D18O_N2O,D18O_N2O_FLAG_W,D15N_ALPHA_N2O,D15N_ALPHA_N2O_FLAG_W
,,,,,,,,,,,METERS,DBAR,ITS-90,PSS-78,,PSS-78,,UMOL/KG,,UMOL/KG,,UMOL/KG,,UMOL/KG,,UMOL/KG,,UMOL/KG,,PMOL/KG,,PMOL/KG,,FMOL/KG,,UMOL/KG,,UMOL/KG,,,,DEG C,/MILLE,,/MILLE,,/MILLE,PMOL/KG,,UG/KG,,UMOL/KG,,UMOL/KG,,UG/KG,,NMOL/KG,,/MILLE,,/MILLE,,/MILLE,/MILLE,,,,,,,,/MILLE,,/MILLE,/MILLE,/MILLE,,/MILLE,,/MILLE,,UMOL/KG,,NMOL/L,,/MILLE,,/MILLE,,/MILLE,
33RO20161119,        P18,      41,          1,          1,      11010,2,20161204,       0852,     4.0000,  -110.0000,       3877,  3919.8,   1.4851,  34.6899,2,  34.6875,2,    147.9,2,   168.4,3,   148.3,6,    36.8,6,    0.01,6,   2.488,6,   0.0029,2,   0.0010,2,   0.0000,2,  2336.9,6,  2432.9,2,   7.5797,2,    25.00, -999.00,9,  -999.0,9,  -999.0,   0.0011,2, -999.00,9,    37.1,2,   38.30,2, -999.00,9,    20.1126,2, -999.00,9,  -999.0,9,     -999.0,     -999.0,9,     -999.0,9,     -999.0,     -999.0,9,     -999.0,     -999.0,9,     -999.0,     -999.0,     -999.0,9,     -999.0,9,     -999.0,9,     -999.0,9,     -999.0,9,     -999.0,9,     -999.0,9,     -999.0,9
33RO20161119,        P18,      41,          1,          2,      11101,2,20161204,       0852,     4.0000,  -110.0000,       3877,  3608.1,   1.4626,  34.6894,2,  34.6879,2,    146.9,2,   147.0,2,   148.3,6,    36.9,6,    0.01,6,   2.488,6,   0.0022,2,   0.0017,2,   0.0000,2,  2337.2,2,  2433.7,2,   7.5808,2,    25.00, -999.00,9,  -999.0,9,  -999.0,        0,2, -999.00,9,    39.4,2,   38.70,2, -999.00,9,    20.5724,2, -999.00,9,  -999.0,9,     -999.0,     -999.0,9,     -999.0,9,     -999.0,     -999.0,9,     -999.0,     -999.0,9,     -999.0,     -999.0,     -999.0,9,     -999.0,9,     -999.0,9,     -999.0,9,     -999.0,9,     -999.0,9,     -999.0,9,     -999.0,9
33RO20161119,        P18,      41,          1,          3,      11102,2,20161204,       0852,     4.0000,  -110.0000,       3877,  3296.1,   1.5506,  34.6834,2,  34.6826,2,    137.4,2,   137.5,2,   149.2,6,    37.4,6,    0.01,6,   2.543,6,   0.0032,2,   0.0025,2,   0.0000,2,  2341.2,2,  2432.6,6,   7.5598,2,    25.00, -999.00,9,  -999.0,9,  -999.0,        0,2, -999.00,9,    40.3,2,   42.00,2, -999.00,9,    21.5096,2, -999.00,9,  -999.0,9,     -999.0,     -999.0,9,     -999.0,9,     -999.0,     -999.0,9,     -999.0,     -999.0,9,     -999.0,     -999.0,     -999.0,9,     -999.0,9,     -999.0,9,     -999.0,9,     -999.0,9,     -999.0,9,     -999.0,9,     -999.0,9
33RO20161119,        P18,      41,          1,          4,      11103,2,20161204,       0852,     4.0000,  -110.0000,       3877,  2974.2,   1.7291,  34.6746,2,  34.6748,2,    123.4,2,   124.2,2,   149.8,6,    38.2,6,    0.01,6,   2.613,6,   0.0017,2,   0.0015,2,   0.0181,2,  2351.5,2,  2431.5,2,   7.5369,2,    25.00, -999.00,9,  -999.0,9,  -999.0,        0,2, -999.00,9,    38.4,2,   40.70,2, -999.00,9,    22.1839,2, -999.00,9,  -999.0,9,     -999.0,     -999.0,9,     -999.0,9,     -999.0,     -999.0,9,     -999.0,     -999.0,9,     -999.0,     -999.0,     -999.0,9,     -999.0,9,     -999.0,9,     -999.0,9,     -999.0,9,     -999.0,9,     -999.0,9,     -999.0,9
33RO20161119,        P18,      41,          1,          5,      11104,2,20161204,       0852,     4.0000,  -110.0000,       3877,  2662.9,   1.8381,  34.6687,2,  34.6672,2,    115.3,2,   115.4,2,   149.9,2,    38.7,2,    0.01,2,   2.667,2,   0.0029,2,   0.0014,2,   0.0000,2,  2356.1,2,  2427.4,2,   7.5156,2,    25.00, -999.00,9,  -999.0,9,  -999.0,        0,2, -999.00,9,  -999.0,9, -999.00,9, -999.00,9,    23.1141,2, -999.00,9,  -999.0,9,     -999.0,     -999.0,9,     -999.0,9,     -999.0,     -999.0,9,     -999.0,     -999.0,9,     -999.0,     -999.0,     -999.0,9,     -999.0,9,     -999.0,9,     -999.0,9,     -999.0,9,     -999.0,9,     -999.0,9,     -999.0,9
33RO20161119,        P18,      41,          1,          6,      11105,2,20161204,       0852,     4.0000,  -110.0000,       3877,  2359.8,   1.8942,  34.6633,2,  34.6629,2,    116.2,2,   116.6,2,   145.5,2,    38.7,2,    0.02,2,   2.663,2,   0.0012,2,   0.0010,2,   0.0000,2,  2351.0,2,  2428.8,2,   7.5214,2,    25.00, -999.00,9,  -999.0,9,  -999.0,        0,2, -999.00,9,    39.8,2,   41.70,2, -999.00,9,    23.6738,2, -999.00,9,  -999.0,9,     -999.0,     -999.0,9,     -999.0,9,     -999.0,     -999.0,9,     -999.0,     -999.0,9,     -999.0,     -999.0,     -999.0,9,     -999.0,9,     -999.0,9,     -999.0,9,     -999.0,9,     -999.0,9,     -999.0,9,     -999.0,9
33RO20161119,        P18,      41,          1,          7,      11106,2,20161204,       0852,     4.0000,  -110.0000,       3877,  2058.5,   2.1622,  34.6497,2,  34.6505,2,    103.0,2,   103.0,2,   142.3,2,    39.7,2,    0.01,2,   2.762,2,   0.0015,2,   0.0005,2,   0.0000,2,  2355.3,2,  2419.8,2,   7.4974,2,    25.00, -999.00,9,  -999.0,9,  -999.0,        0,2, -999.00,9,    39.8,2,   42.50,2, -999.00,9,     25.715,2, -999.00,9,  -999.0,9,     -999.0,     -999.0,9,     -999.0,9,     -999.0,     -999.0,9,     -999.0,     -999.0,9,     -999.0,     -999.0,     -999.0,9,     -999.0,9,     -999.0,9,     -999.0,9,     -999.0,9,     -999.0,9,     -999.0,9,     -999.0,9
33RO20161119,        P18,      41,          1,          8,      11107,2,20161204,       0852,     4.0000,  -110.0000,       3877,  1750.0,   2.5878,  34.6297,2,  34.6289,2,     91.4,2,    91.7,2,   132.5,2,    40.3,2,    0.02,2,   2.831,2,   0.0018,6,   0.0008,6,   0.0000,6,  2350.4,6,  2409.2,2,   7.4745,2,    25.00, -999.00,9,  -999.0,9,  -999.0,        0,2, -999.00,9,    39.8,2,   44.20,2, -999.00,9,    28.9294,2, -999.00,9,  -999.0,9,     -999.0,     -999.0,9,     -999.0,9,     -999.0,     -999.0,9,     -999.0,     -999.0,9,     -999.0,     -999.0,     -999.0,9,     -999.0,9,     -999.0,9,     -999.0,9,     -999.0,9,     -999.0,9,     -999.0,9,     -999.0,9
33RO20161119,        P18,      41,          1,          9,      11108,2,20161204,       0852,     4.0000,  -110.0000,       3877,  1473.7,   3.2422,  34.6047,2,  34.6022,2,     72.5,2,    72.7,2,   119.2,2,    41.6,2,    0.01,2,   2.925,2,   0.0033,2,   0.0013,2,   0.0261,2,  2345.6,2,  2394.2,2,   7.4363,2,    25.00, -999.00,9,  -999.0,9,  -999.0,        0,2, -999.00,9,    38.4,2,   46.20,2, -999.00,9,    32.6566,2, -999.00,9,  -999.0,9,     -999.0,     -999.0,9,     -999.0,9,     -999.0,     -999.0,9,     -999.0,     -999.0,9,     -999.0,     -999.0,     -999.0,9,     -999.0,9,     -999.0,9,     -999.0,9,     -999.0,9,     -999.0,9,     -999.0,9,     -999.0,9
33RO20161119,        P18,      41,          1,         10,      11109,2,20161204,       0852,     4.0000,  -110.0000,       3877,  1304.0,   3.7404,  34.5877,2,  34.5866,2,     62.9,2,    62.6,2,   107.7,2,    42.3,2,    0.01,2,   2.980,2,   0.0026,2,   0.0013,2,   0.0300,2,  2338.0,2,  2377.3,2,   7.4149,2,    25.00, -999.00,9,  -999.0,9,  -999.0,        0,2, -999.00,9,    40.1,2,   45.90,2, -999.00,9,    36.8458,2, -999.00,9,  -999.0,9,     -999.0,     -999.0,9,     -999.0,9,     -999.0,     -999.0,9,     -999.0,     -999.0,9,     -999.0,     -999.0,     -999.0,9,     -999.0,9,     -999.0,9,     -999.0,9,     -999.0,9,     -999.0,9,     -999.0,9,     -999.0,9
33RO20161119,        P18,      41,          1,         11,      11110,2,20161204,       0852,     4.0000,  -110.0000,       3877,  1164.7,   4.1831,  34.5741,2,  34.5725,2,     53.4,2,    54.0,2,    98.3,2,    42.9,2,    0.01,2,   3.030,2,   0.0019,2,   0.0016,2,   0.0000,2,  2333.8,2,  2368.6,2,   7.4026,2,    25.00, -999.00,9,  -999.0,9,  -999.0,   0.0132,2, -999.00,9,    39.8,2,   46.10,2, -999.00,9,    38.9777,2, -999.00,9,  -999.0,9,     -999.0,     -999.0,9,     -999.0,9,     -999.0,     -999.0,9,     -999.0,     -999.0,9,     -999.0,     -999.0,     -999.0,9,     -999.0,9,     -999.0,9,     -999.0,9,     -999.0,9,     -999.0,9,     -999.0,9,     -999.0,9
33RO20161119,        P18,      41,          1,         12,      11111,2,20161204,       0852,     4.0000,  -110.0000,       3877,  1025.0,   4.7640,  34.5608,2,  34.5668,4,     52.9,2,    50.2,2,    85.2,2,    42.8,2,    0.02,2,   3.021,2,   0.0047,2,   0.0026,2,   0.0000,2,  2319.8,2,  2353.3,2,   7.3947,2,    25.00, -999.00,9,  -999.0,9,  -999.0,    0.011,2, -999.00,9,    38.3,2,   47.10,2, -999.00,9,    41.3512,2, -999.00,9,  -999.0,9,     -999.0,     -999.0,9,     -999.0,9,     -999.0,     -999.0,9,     -999.0,     -999.0,9,     -999.0,     -999.0,     -999.0,9,     -999.0,9,     -999.0,9,     -999.0,9,     -999.0,9,     -999.0,9,     -999.0,9,     -999.0,9
33RO20161119,        P18,      41,          1,         13,      11112,2,20161204,       0852,     4.0000,  -110.0000,       3877,   888.2,   5.2636,  34.5538,2,  34.5538,2,     54.1,2,    53.6,2,    74.1,2,    42.0,2,    0.01,2,   2.944,2,   0.0089,2,   0.0054,2,   0.0226,2,  2304.2,2,  2340.2,2,   7.4068,2,    25.00, -999.00,9,  -999.0,9,  -999.0,   0.0168,2, -999.00,9,    39.8,2,   46.70,2, -999.00,9,     40.436,2, -999.00,9,  -999.0,9,     -999.0,     -999.0,9,     -999.0,9,     -999.0,     -999.0,9,     -999.0,     -999.0,9,     -999.0,     -999.0,     -999.0,9,     -999.0,9,     -999.0,9,     -999.0,9,     -999.0,9,     -999.0,9,     -999.0,9,     -999.0,9
33RO20161119,        P18,      41,          1,         14,      11113,2,20161204,       0852,     4.0000,  -110.0000,       3877,   769.4,   5.8563,  34.5537,2,  34.5546,2,     43.2,2,    43.8,2,    65.9,2,    42.0,2,    0.02,2,   2.967,2,   0.0191,2,   0.0107,2,   0.0000,2,  2298.8,2,  2331.3,2,   7.3947,2,    25.00, -999.00,9,  -999.0,9,  -999.0,   0.0399,2, -999.00,9,    38.4,2,   49.90,2, -999.00,9,    44.0661,2, -999.00,9,  -999.0,9,     -999.0,     -999.0,9,     -999.0,9,     -999.0,     -999.0,9,     -999.0,     -999.0,9,     -999.0,     -999.0,     -999.0,9,     -999.0,9,     -999.0,9,     -999.0,9,     -999.0,9,     -999.0,9,     -999.0,9,     -999.0,9
33RO20161119,        P18,      41,          1,         15,      11114,2,20161204,       0852,     4.0000,  -110.0000,       3877,   650.3,   6.8435,  34.5782,2,  34.5787,2,     21.5,2,    21.7,6,    56.2,2,    42.2,2,    0.01,2,   3.003,2,   0.0335,2,   0.0184,2,   0.0000,2,  2292.6,2,  2322.7,2,   7.3633,6,    25.00, -999.00,9,  -999.0,9,  -999.0,        0,2, -999.00,9,    39.9,2,   47.50,2, -999.00,9,    53.8888,2, -999.00,9,  -999.0,9,     -999.0,     -999.0,9,     -999.0,9,     -999.0,     -999.0,9,     -999.0,     -999.0,9,     -999.0,     -999.0,     -999.0,9,     -999.0,9,     -999.0,9,     -999.0,9,     -999.0,9,     -999.0,9,     -999.0,9,     -999.0,9
33RO20161119,        P18,      41,          1,         16,      11115,2,20161204,       0852,     4.0000,  -110.0000,       3877,   539.3,   7.9860,  34.6159,2,  34.6152,2,     10.6,2,    10.8,6,    48.0,2,    39.9,2,    0.01,2,   2.932,2,   0.0831,6,   0.0464,6,   0.0395,6,  2294.3,2,  2314.2,6,   7.3542,2,    25.00, -999.00,9,  -999.0,9,  -999.0,   0.0249,2, -999.00,9,    40.4,2,   44.30,2, -999.00,9,     59.991,2, -999.00,9,  -999.0,9,     -999.0,     -999.0,9,     -999.0,9,     -999.0,     -999.0,9,     -999.0,     -999.0,9,     -999.0,     -999.0,     -999.0,9,     -999.0,9,     -999.0,9,     -999.0,9,     -999.0,9,     -999.0,9,     -999.0,9,     -999.0,9
33RO20161119,        P18,      41,          1,         17,      11116,2,20161204,       0852,     4.0000,  -110.0000,       3877,   436.0,   9.4329,  34.6744,2,  34.6743,2,     22.6,2,    21.4,2,    36.7,2,    35.8,2,    0.01,2,   2.592,2,   0.4086,2,   0.2216,2,   0.1034,2,  2268.7,2,  2303.5,2,   7.4059,2,    25.00, -999.00,9,  -999.0,9,  -999.0,    0.147,2, -999.00,9,    47.2,2,   41.40,2, -999.00,9,    56.1163,2, -999.00,9,  -999.0,9,     -999.0,     -999.0,9,     -999.0,9,     -999.0,     -999.0,9,     -999.0,     -999.0,9,     -999.0,     -999.0,     -999.0,9,     -999.0,9,     -999.0,9,     -999.0,9,     -999.0,9,     -999.0,9,     -999.0,9,     -999.0,9
33RO20161119,        P18,      41,          1,         18,      11117,2,20161204,       0852,     4.0000,  -110.0000,       3877,   335.8,  10.6638,  34.7339,2,  34.7319,2,     51.1,2,    43.3,2,    29.1,2,    32.3,2,    0.01,2,   2.261,2,   0.8859,2,   0.4839,2,   0.2053,2,  2241.4,2,  2300.6,2,   7.4777,2,    25.00, -999.00,9,  -999.0,9,  -999.0,   0.1457,2, -999.00,9,    43.7,2,   36.90,2, -999.00,9,    51.8317,2, -999.00,9,  -999.0,9,     -999.0,     -999.0,9,     -999.0,9,     -999.0,     -999.0,9,     -999.0,     -999.0,9,     -999.0,     -999.0,     -999.0,9,     -999.0,9,     -999.0,9,     -999.0,9,     -999.0,9,     -999.0,9,     -999.0,9,     -999.0,9
33RO20161119,        P18,      41,          1,         19,      11083,2,20161204,       0852,     4.0000,  -110.0000,       3877,   250.0,  12.1408,  34.8394,2,  34.8402,2,     41.1,2,    41.9,2,    24.1,2,    30.7,2,    0.01,2,   2.124,2,   1.1781,2,   0.6562,2,   0.2949,2,  2230.7,2,  2298.6,2,   7.5084,2,    25.00, -999.00,9,  -999.0,9,  -999.0,   0.1401,2, -999.00,9,    47.3,2,   35.30,2, -999.00,9,    55.4509,2, -999.00,9,  -999.0,9,     -999.0,     -999.0,9,     -999.0,9,     -999.0,     -999.0,9,     -999.0,     -999.0,9,     -999.0,     -999.0,     -999.0,9,     -999.0,9,     -999.0,9,       2.21,2,     -999.0,9,     -999.0,9,     -999.0,9,     -999.0,9
33RO20161119,        P18,      41,          1,         20,      11118,2,20161204,       0852,     4.0000,  -110.0000,       3877,   171.4,  12.9969,  34.9021,2,  34.9030,2,     45.7,2,    45.8,2,    21.2,2,    29.1,2,    0.01,2,   2.023,2,   1.3781,2,   0.7704,2,   0.4037,2,  2219.2,2,  2300.0,2,   7.5392,2,    25.00, -999.00,9,  -999.0,9,  -999.0,   0.1647,2, -999.00,9,    44.5,2,   35.20,2, -999.00,9,    52.5898,2, -999.00,9,  -999.0,9,     -999.0,     -999.0,9,     -999.0,9,     -999.0,     -999.0,9,     -999.0,     -999.0,9,     -999.0,     -999.0,     -999.0,9,     -999.0,9,     -999.0,9,       2.12,2,     -999.0,9,     -999.0,9,     -999.0,9,     -999.0,9
33RO20161119,        P18,      41,          1,         21,      11119,2,20161204,       0852,     4.0000,  -110.0000,       3877,   105.0,  14.3740,  34.7779,2,  34.7949,2,     86.3,2,    80.9,2,    17.7,2,    23.5,2,    0.02,2,   1.665,2,   1.7348,2,   0.9904,2,   0.6679,2,  2180.4,2,  2291.3,2,   7.6336,2,    25.00, -999.00,9,  -999.0,9,  -999.0,   1.7377,2, -999.00,9,    46.7,2,   27.70,2, -999.00,9,     37.813,2, -999.00,9,  -999.0,9,     -999.0,     -999.0,9,     -999.0,9,     -999.0,     -999.0,9,     -999.0,     -999.0,9,     -999.0,     -999.0,     -999.0,9,     -999.0,9,     -999.0,9,       1.91,2,     -999.0,9,     -999.0,9,     -999.0,9,     -999.0,9
33RO20161119,        P18,      41,          1,         22,      11120,2,20161204,       0852,     4.0000,  -110.0000,       3877,    49.9,  25.8579,  33.5940,2,  33.5953,2,    199.3,2,   205.9,2,     1.4,2,     0.5,2,    0.03,2,   0.201,2,   1.6310,2,   1.0322,2,   1.4148,2,  1918.3,2,  2214.8,2,   8.0593,2,    25.00, -999.00,9,  -999.0,9,  -999.0,   1.7131,2, -999.00,9,    67.6,2,    4.00,2, -999.00,9,     6.9108,2, -999.00,9,  -999.0,9,     -999.0,     -999.0,9,     -999.0,9,     -999.0,     -999.0,9,     -999.0,     -999.0,9,     -999.0,     -999.0,     -999.0,9,     -999.0,9,     -999.0,9,       0.45,2,     -999.0,9,     -999.0,9,     -999.0,9,     -999.0,9
33RO20161119,        P18,      41,          1,         23,      11121,2,20161204,       0852,     4.0000,  -110.0000,       3877,    20.8,  25.8847,  33.6013,2,  33.6060,2,    198.6,2,   206.2,2,     1.1,2,     0.4,2,    0.02,2,   0.208,2,   1.6165,6,   1.0266,6,   1.3810,6,  1917.5,2,  2210.8,2,   8.0593,2,    25.00, -999.00,9,  -999.0,9,  -999.0,   1.7825,2, -999.00,9,    69.3,2,    4.80,2, -999.00,9,     6.9095,2, -999.00,9,  -999.0,9,     -999.0,     -999.0,9,     -999.0,9,     -999.0,     -999.0,9,     -999.0,     -999.0,9,     -999.0,     -999.0,     -999.0,9,     -999.0,9,     -999.0,9,       0.53,2,     -999.0,9,     -999.0,9,     -999.0,9,     -999.0,9
33RO20161119,        P18,      41,          1,         24,      11122,2,20161204,       0852,     4.0000,  -110.0000,       3877,     3.6,  25.8795,  33.6035,2,  33.6042,2,    198.1,2,   206.2,2,     1.0,2,     0.4,2,    0.02,2,   0.203,2,-999.0000,9,-999.0000,9,-999.0000,9,  1919.2,6,  2209.1,2,   8.0589,2,    25.00, -999.00,9,  -999.0,9,  -999.0,-999.0000,9, -999.00,9,    69.3,2,    4.60,2, -999.00,9,     -999.0,9, -999.00,9,  -999.0,9,     -999.0,     -999.0,9,     -999.0,9,     -999.0,     -999.0,9,     -999.0,     -999.0,9,     -999.0,     -999.0,     -999.0,9,     -999.0,9,     -999.0,9,       0.51,2,     -999.0,9,     -999.0,9,     -999.0,9,     -999.0,9