BOTTLE,20230606CCHSIOCBG
EXPOCODE,SECT_ID,STNNBR,CASTNO,SAMPNO,BTLNBR,BTLNBR_FLAG_W,DATE,TIME,LATITUDE,LONGITUDE,DEPTH,CTDPRS,CTDTMP,CTDSAL,CTDSAL_FLAG_W,SALNTY,SALNTY_FLAG_W,CTDOXY,CTDOXY_FLAG_W,OXYGEN,OXYGEN_FLAG_W,SILCAT,SILCAT_FLAG_W,NITRAT,NITRAT_FLAG_W,NITRIT,NITRIT_FLAG_W,PHSPHT,PHSPHT_FLAG_W,CFC-11,CFC-11_FLAG_W,CFC-12,CFC-12_FLAG_W,SF6,SF6_FLAG_W,TCARBN,TCARBN_FLAG_W,ALKALI,ALKALI_FLAG_W,PH_SWS,PH_SWS_FLAG_W,PH_TMP,DELC13,DELC13_FLAG_W,DELC14,DELC14_FLAG_W,C14ERR,CCL4,CCL4_FLAG_W,POC,POC_FLAG_W,DOC,DOC_FLAG_W,TDN,TDN_FLAG_W,PON,PON_FLAG_W,N2O,N2O_FLAG_W,D15N_NO3,D15N_NO3_FLAG_W,14C-DOC,14C-DOC_FLAG_W,14C-DOCERR,13C-DOC,13C-DOC_FLAG_W,N2/ARGON_UNSTRIPPED,N2/ARGON_UNSTRIPPED_FLAG_W,N2/ARGON_UNSTRIPPED_ERROR,N2/ARGON,N2/ARGON_FLAG_W,N2/ARGON_ERROR,D15N_N2,D15N_N2_FLAG_W,D15N_N2_ERROR,D15N_NO3_ERROR,D15N_NO2+NO3,D15N_NO2+NO3_FLAG_W,D18O_NO2+NO3,D18O_NO2+NO3_FLAG_W,D18O_NO3,D18O_NO3_FLAG_W,TDP,TDP_FLAG_W,N2O_ALT_1,N2O_ALT_1_FLAG_W,D15N_N2O,D15N_N2O_FLAG_W,D18O_N2O,D18O_N2O_FLAG_W,D15N_ALPHA_N2O,D15N_ALPHA_N2O_FLAG_W
,,,,,,,,,,,METERS,DBAR,ITS-90,PSS-78,,PSS-78,,UMOL/KG,,UMOL/KG,,UMOL/KG,,UMOL/KG,,UMOL/KG,,UMOL/KG,,PMOL/KG,,PMOL/KG,,FMOL/KG,,UMOL/KG,,UMOL/KG,,,,DEG C,/MILLE,,/MILLE,,/MILLE,PMOL/KG,,UG/KG,,UMOL/KG,,UMOL/KG,,UG/KG,,NMOL/KG,,/MILLE,,/MILLE,,/MILLE,/MILLE,,,,,,,,/MILLE,,/MILLE,/MILLE,/MILLE,,/MILLE,,/MILLE,,UMOL/KG,,NMOL/L,,/MILLE,,/MILLE,,/MILLE,
33RO20161119,        P18,      88,          1,          1,      11010,2,20161214,       1335,   -10.0000,  -102.9999,       4564,  4630.5,   1.8756,  34.6781,2,  34.6768,2,    137.2,2,   137.6,2,   143.3,6,    36.8,6,    0.01,6,   2.557,6,   0.0011,2,   0.0014,2,   0.0324,2,  2337.6,6,  2427.3,2,   7.5624,6,    25.00, -999.00,9,  -999.0,9,  -999.0,        0,2, -999.00,9,  -999.0,9, -999.00,9, -999.00,9,    22.0673,2, -999.00,9,  -999.0,9,     -999.0,     -999.0,9,     -999.0,9,     -999.0,     -999.0,9,     -999.0,     -999.0,9,     -999.0,     -999.0,     -999.0,9,     -999.0,9,     -999.0,9,     -999.0,9,     -999.0,9,     -999.0,9,     -999.0,9,     -999.0,9
33RO20161119,        P18,      88,          1,          2,      11101,2,20161214,       1335,   -10.0000,  -102.9999,       4564,  4320.8,   1.8393,  34.6783,2,  34.6764,2,    136.5,2,   136.7,2,   143.1,6,    36.9,6,    0.01,6,   2.565,6,   0.0012,2,   0.0000,2,   0.0000,2,  2337.0,2,  2431.5,2,   7.5611,2,    25.00, -999.00,9,  -999.0,9,  -999.0,        0,2, -999.00,9,  -999.0,9, -999.00,9, -999.00,9,    21.8315,2, -999.00,9,  -999.0,9,     -999.0,     -999.0,9,     -999.0,9,     -999.0,     -999.0,9,     -999.0,     -999.0,9,     -999.0,     -999.0,     -999.0,9,     -999.0,9,     -999.0,9,     -999.0,9,     -999.0,9,     -999.0,9,     -999.0,9,     -999.0,9
33RO20161119,        P18,      88,          1,          3,      11102,2,20161214,       1335,   -10.0000,  -102.9999,       4564,  4014.2,   1.8038,  34.6781,2,  34.6770,2,    136.7,2,   136.8,6,   143.3,6,    36.9,6,    0.01,6,   2.555,6,-999.0000,9,-999.0000,9,-999.0000,9,  2338.3,2,  2430.0,2,   7.5607,2,    25.00, -999.00,9,  -999.0,9,  -999.0,-999.0000,9, -999.00,9,  -999.0,9, -999.00,9, -999.00,9,     -999.0,9, -999.00,9,  -999.0,9,     -999.0,     -999.0,9,     -999.0,9,     -999.0,     -999.0,9,     -999.0,     -999.0,9,     -999.0,     -999.0,     -999.0,9,     -999.0,9,     -999.0,9,     -999.0,9,     -999.0,9,     -999.0,9,     -999.0,9,     -999.0,9
33RO20161119,        P18,      88,          1,          4,      11103,2,20161214,       1335,   -10.0000,  -102.9999,       4564,  3674.6,   1.7740,  34.6777,2,  34.6767,2,    135.3,2,   136.1,2,   143.1,6,    37.0,6,    0.01,6,   2.562,6,-999.0000,9,-999.0000,9,-999.0000,9,  2336.9,2,  2427.3,6,   7.5604,2,    25.00, -999.00,9,  -999.0,9,  -999.0,-999.0000,9, -999.00,9,  -999.0,9, -999.00,9, -999.00,9,     -999.0,9, -999.00,9,  -999.0,9,     -999.0,     -999.0,9,     -999.0,9,     -999.0,     -999.0,9,     -999.0,     -999.0,9,     -999.0,     -999.0,     -999.0,9,     -999.0,9,     -999.0,9,     -999.0,9,     -999.0,9,     -999.0,9,     -999.0,9,     -999.0,9
33RO20161119,        P18,      88,          1,          5,      11104,2,20161214,       1335,   -10.0000,  -102.9999,       4564,  3284.4,   1.7588,  34.6767,2,  34.6755,2,    134.5,2,   135.2,2,   142.0,2,    37.0,2,    0.00,2,   2.563,2,-999.0000,9,-999.0000,9,-999.0000,9,  2338.2,2,  2427.7,2,   7.5596,2,    25.00, -999.00,9,  -999.0,9,  -999.0,-999.0000,9, -999.00,9,  -999.0,9, -999.00,9, -999.00,9,     -999.0,9, -999.00,9,  -999.0,9,     -999.0,     -999.0,9,     -999.0,9,     -999.0,     -999.0,9,     -999.0,     -999.0,9,     -999.0,     -999.0,     -999.0,9,     -999.0,9,     -999.0,9,     -999.0,9,     -999.0,9,     -999.0,9,     -999.0,9,     -999.0,9
33RO20161119,        P18,      88,          1,          6,      11105,2,20161214,       1335,   -10.0000,  -102.9999,       4564,  2960.0,   1.7711,  34.6742,2,  34.6757,2,    132.4,2,   132.9,2,   140.9,2,    37.1,2,    0.01,2,   2.567,2,-999.0000,9,-999.0000,9,-999.0000,9,  2337.1,2,  2425.4,2,   7.5513,2,    25.00, -999.00,9,  -999.0,9,  -999.0,-999.0000,9, -999.00,9,  -999.0,9, -999.00,9, -999.00,9,     -999.0,9, -999.00,9,  -999.0,9,     -999.0,     -999.0,9,     -999.0,9,     -999.0,     -999.0,9,     -999.0,     -999.0,9,     -999.0,     -999.0,     -999.0,9,     -999.0,9,     -999.0,9,     -999.0,9,     -999.0,9,     -999.0,9,     -999.0,9,     -999.0,9
33RO20161119,        P18,      88,          1,          7,      11106,2,20161214,       1335,   -10.0000,  -102.9999,       4564,  2600.6,   1.8481,  34.6694,2,  34.6684,2,    128.1,2,   128.4,6,   138.3,2,    37.3,2,    0.00,2,   2.593,2,   0.0036,2,   0.0027,2,   0.0554,2,  2336.4,2,  2421.0,2,   7.5413,2,    25.00, -999.00,9,  -999.0,9,  -999.0,        0,2, -999.00,9,  -999.0,9, -999.00,9, -999.00,9,    23.1889,2, -999.00,9,  -999.0,9,     -999.0,     -999.0,9,     -999.0,9,     -999.0,     -999.0,9,     -999.0,     -999.0,9,     -999.0,     -999.0,     -999.0,9,     -999.0,9,     -999.0,9,     -999.0,9,     -999.0,9,     -999.0,9,     -999.0,9,     -999.0,9
33RO20161119,        P18,      88,          1,          8,      11107,2,20161214,       1335,   -10.0000,  -102.9999,       4564,  2235.6,   2.0436,  34.6565,2,  34.6550,2,    119.7,2,   120.5,2,   134.1,2,    37.8,2,    0.00,2,   2.649,2,-999.0000,9,-999.0000,9,-999.0000,9,  2337.9,6,  2414.0,2,   7.5227,2,    25.00, -999.00,9,  -999.0,9,  -999.0,-999.0000,9, -999.00,9,  -999.0,9, -999.00,9, -999.00,9,     -999.0,9, -999.00,9,  -999.0,9,     -999.0,     -999.0,9,     -999.0,9,     -999.0,     -999.0,9,     -999.0,     -999.0,9,     -999.0,     -999.0,     -999.0,9,     -999.0,9,     -999.0,9,     -999.0,9,     -999.0,9,     -999.0,9,     -999.0,9,     -999.0,9
33RO20161119,        P18,      88,          1,          9,      11108,2,20161214,       1335,   -10.0000,  -102.9999,       4564,  1844.6,   2.3486,  34.6354,2,  34.6346,2,    110.0,2,   111.0,2,   126.4,2,    38.6,2,    0.00,2,   2.720,2,-999.0000,9,-999.0000,9,-999.0000,9,  2333.3,2,  2403.2,2,   7.5027,2,    25.00, -999.00,9,  -999.0,9,  -999.0,-999.0000,9, -999.00,9,  -999.0,9, -999.00,9, -999.00,9,     -999.0,9, -999.00,9,  -999.0,9,     -999.0,     -999.0,9,     -999.0,9,     -999.0,     -999.0,9,     -999.0,     -999.0,9,     -999.0,     -999.0,     -999.0,9,     -999.0,9,     -999.0,9,     -999.0,9,     -999.0,9,     -999.0,9,     -999.0,9,     -999.0,9
33RO20161119,        P18,      88,          1,         10,      11109,2,20161214,       1335,   -10.0000,  -102.9999,       4564,  1605.2,   2.6959,  34.6132,2,  34.6114,2,    100.1,2,   101.4,2,   116.8,2,    39.5,2,    0.00,2,   2.796,2,-999.0000,9,-999.0000,9,-999.0000,9,  2329.7,2,  2391.6,2,   7.4802,2,    25.00, -999.00,9,  -999.0,9,  -999.0,-999.0000,9, -999.00,9,  -999.0,9, -999.00,9, -999.00,9,     -999.0,9, -999.00,9,  -999.0,9,     -999.0,     -999.0,9,     -999.0,9,     -999.0,     -999.0,9,     -999.0,     -999.0,9,     -999.0,     -999.0,     -999.0,9,     -999.0,9,     -999.0,9,     -999.0,9,     -999.0,9,     -999.0,9,     -999.0,9,     -999.0,9
33RO20161119,        P18,      88,          1,         11,      11110,2,20161214,       1335,   -10.0000,  -102.9999,       4564,  1444.5,   3.0045,  34.5963,2,  34.5947,2,     90.3,2,    91.0,2,   109.8,2,    40.4,2,    0.01,2,   2.860,2,   0.0022,6,   0.0018,6,   0.0210,6,  2326.4,2,  2382.8,2,   7.4587,2,    25.00, -999.00,9,  -999.0,9,  -999.0,        0,2, -999.00,9,  -999.0,9, -999.00,9, -999.00,9,    30.6439,2, -999.00,9,  -999.0,9,     -999.0,     -999.0,9,     -999.0,9,     -999.0,     -999.0,9,     -999.0,     -999.0,9,     -999.0,     -999.0,     -999.0,9,     -999.0,9,     -999.0,9,     -999.0,9,     -999.0,9,     -999.0,9,     -999.0,9,     -999.0,9
33RO20161119,        P18,      88,          1,         12,      11111,2,20161214,       1335,   -10.0000,  -102.9999,       4564,  1279.5,   3.4754,  34.5720,2,  34.5701,2,     85.3,2,    86.4,2,    97.1,2,    40.7,2,    0.00,2,   2.883,2,-999.0000,9,-999.0000,9,-999.0000,9,  2318.6,2,  2368.3,2,   7.4486,2,    25.00, -999.00,9,  -999.0,9,  -999.0,-999.0000,9, -999.00,9,  -999.0,9, -999.00,9, -999.00,9,     -999.0,9, -999.00,9,  -999.0,9,     -999.0,     -999.0,9,     -999.0,9,     -999.0,     -999.0,9,     -999.0,     -999.0,9,     -999.0,     -999.0,     -999.0,9,     -999.0,9,     -999.0,9,     -999.0,9,     -999.0,9,     -999.0,9,     -999.0,9,     -999.0,9
33RO20161119,        P18,      88,          1,         13,      11112,2,20161214,       1335,   -10.0000,  -102.9999,       4564,  1129.8,   3.9704,  34.5520,2,  34.5506,2,     81.6,2,    82.6,2,    85.2,2,    40.9,2,    0.00,2,   2.897,2,-999.0000,9,-999.0000,9,-999.0000,9,  2308.6,2,  2356.1,2,   7.4426,2,    25.00, -999.00,9,  -999.0,9,  -999.0,-999.0000,9, -999.00,9,  -999.0,9, -999.00,9, -999.00,9,     -999.0,9, -999.00,9,  -999.0,9,     -999.0,     -999.0,9,     -999.0,9,     -999.0,     -999.0,9,     -999.0,     -999.0,9,     -999.0,     -999.0,     -999.0,9,     -999.0,9,     -999.0,9,     -999.0,9,     -999.0,9,     -999.0,9,     -999.0,9,     -999.0,9
33RO20161119,        P18,      88,          1,         14,      11113,2,20161214,       1335,   -10.0000,  -102.9999,       4564,   980.2,   4.5832,  34.5362,2,  34.5352,2,     66.5,2,    68.1,2,    74.0,2,    42.1,2,    0.01,2,   2.951,2,   0.0016,2,   0.0000,2,   0.0000,2,  2303.0,3,  2346.0,2,   7.4170,2,    25.00, -999.00,9,  -999.0,9,  -999.0,        0,2, -999.00,9,  -999.0,9, -999.00,9, -999.00,9,    37.0754,2, -999.00,9,  -999.0,9,     -999.0,     -999.0,9,     -999.0,9,     -999.0,     -999.0,9,     -999.0,     -999.0,9,     -999.0,     -999.0,     -999.0,9,     -999.0,9,     -999.0,9,     -999.0,9,     -999.0,9,     -999.0,9,     -999.0,9,     -999.0,9
33RO20161119,        P18,      88,          1,         15,      11114,2,20161214,       1335,   -10.0000,  -102.9999,       4564,   840.2,   5.2175,  34.5271,2,  34.5263,2,     46.5,2,    48.2,2,    62.8,2,    43.8,2,    0.01,2,   3.037,2,   0.0035,2,   0.0024,2,   0.0000,2,  2303.2,3,  2328.3,6,   7.3836,2,    25.00, -999.00,9,  -999.0,9,  -999.0,        0,2, -999.00,9,  -999.0,9, -999.00,9, -999.00,9,     43.093,2, -999.00,9,  -999.0,9,     -999.0,     -999.0,9,     -999.0,9,     -999.0,     -999.0,9,     -999.0,     -999.0,9,     -999.0,     -999.0,     -999.0,9,     -999.0,9,     -999.0,9,     -999.0,9,     -999.0,9,     -999.0,9,     -999.0,9,     -999.0,9
33RO20161119,        P18,      88,          1,         16,      11115,2,20161214,       1335,   -10.0000,  -102.9999,       4564,   699.4,   6.2940,  34.5463,2,  34.5443,2,     24.0,2,    24.6,6,    50.8,2,    44.4,2,    0.01,2,   3.065,2,   0.0067,2,   0.0043,2,   0.0000,2,  2299.0,3,  2314.8,2,   7.3411,2,    25.00, -999.00,9,  -999.0,9,  -999.0,   0.0234,2, -999.00,9,  -999.0,9, -999.00,9, -999.00,9,    53.9072,2, -999.00,9,  -999.0,9,     -999.0,     -999.0,9,     -999.0,9,     -999.0,     -999.0,9,     -999.0,     -999.0,9,     -999.0,     -999.0,     -999.0,9,     -999.0,9,     -999.0,9,     -999.0,9,     -999.0,9,     -999.0,9,     -999.0,9,     -999.0,9
33RO20161119,        P18,      88,          1,         17,      11116,2,20161214,       1335,   -10.0000,  -102.9999,       4564,   579.8,   7.3942,  34.5836,2,  34.5828,2,     22.9,2,    23.5,2,    40.1,2,    41.8,2,    0.00,2,   2.913,2,   0.0346,2,   0.0208,2,   0.0000,2,  2286.1,2,  2305.2,2,   7.3607,2,    25.00, -999.00,9,  -999.0,9,  -999.0,   0.0339,2, -999.00,9,  -999.0,9, -999.00,9, -999.00,9,    61.7024,2, -999.00,9,  -999.0,9,     -999.0,     -999.0,9,     -999.0,9,     -999.0,     -999.0,9,     -999.0,     -999.0,9,     -999.0,     -999.0,     -999.0,9,     -999.0,9,     -999.0,9,     -999.0,9,     -999.0,9,     -999.0,9,     -999.0,9,     -999.0,9
33RO20161119,        P18,      88,          1,         18,      11117,2,20161214,       1335,   -10.0000,  -102.9999,       4564,   454.1,   8.8746,  34.6655,2,  34.6667,2,     16.1,2,    16.3,2,    33.4,2,    38.3,2,    0.01,2,   2.725,2,   0.1375,2,   0.0785,2,   0.0690,2,  2275.6,2,  2301.6,2,   7.3785,2,    25.00, -999.00,9,  -999.0,9,  -999.0,   0.0498,2, -999.00,9,  -999.0,9, -999.00,9, -999.00,9,    68.6545,2, -999.00,9,  -999.0,9,     -999.0,     -999.0,9,     -999.0,9,     -999.0,     -999.0,9,     -999.0,     -999.0,9,     -999.0,     -999.0,     -999.0,9,     -999.0,9,     -999.0,9,     -999.0,9,     -999.0,9,     -999.0,9,     -999.0,9,     -999.0,9
33RO20161119,        P18,      88,          1,         19,      11083,2,20161214,       1335,   -10.0000,  -102.9999,       4564,   345.7,  10.1042,  34.7416,2,  34.7411,2,     12.9,2,    14.2,2,    29.2,2,    35.2,2,    0.01,2,   2.598,2,   0.3522,2,   0.1972,2,   0.0937,2,  2269.5,2,  2300.3,2,   7.3957,2,    25.00, -999.00,9,  -999.0,9,  -999.0,   0.0615,2, -999.00,9,  -999.0,9, -999.00,9, -999.00,9,    70.0175,2, -999.00,9,  -999.0,9,     -999.0,     -999.0,9,     -999.0,9,     -999.0,     -999.0,9,     -999.0,     -999.0,9,     -999.0,     -999.0,     -999.0,9,     -999.0,9,     -999.0,9,     -999.0,9,     -999.0,9,     -999.0,9,     -999.0,9,     -999.0,9
33RO20161119,        P18,      88,          1,         20,      11118,2,20161214,       1335,   -10.0000,  -102.9999,       4564,   248.2,  11.6549,  34.8342,2,  34.8353,2,      6.6,2,     6.9,2,    24.7,2,    31.0,2,    0.01,2,   2.508,2,   0.7627,2,   0.4278,2,   0.1903,2,  2265.6,2,  2299.7,2,   7.4094,6,    25.00, -999.00,9,  -999.0,9,  -999.0,   0.2134,2, -999.00,9,  -999.0,9, -999.00,9, -999.00,9,    55.1231,2, -999.00,9,  -999.0,9,     -999.0,     -999.0,9,     -999.0,9,     -999.0,     -999.0,9,     -999.0,     -999.0,9,     -999.0,     -999.0,     -999.0,9,     -999.0,9,     -999.0,9,     -999.0,9,     -999.0,9,     -999.0,9,     -999.0,9,     -999.0,9
33RO20161119,        P18,      88,          1,         21,      11119,2,20161214,       1335,   -10.0000,  -102.9999,       4564,   170.2,  13.3572,  34.7959,2,  34.8001,2,     78.8,2,    72.5,2,    10.8,2,    20.4,2,    0.02,2,   1.962,2,   2.1023,2,   1.2262,2,   0.8949,2,  2211.5,2,  2297.1,6,   7.5587,2,    25.00, -999.00,9,  -999.0,9,  -999.0,   1.0674,2, -999.00,9,  -999.0,9, -999.00,9, -999.00,9,    44.9449,2, -999.00,9,  -999.0,9,     -999.0,     -999.0,9,     -999.0,9,     -999.0,     -999.0,9,     -999.0,     -999.0,9,     -999.0,     -999.0,     -999.0,9,     -999.0,9,     -999.0,9,     -999.0,9,     -999.0,9,     -999.0,9,     -999.0,9,     -999.0,9
33RO20161119,        P18,      88,          1,         22,      11120,2,20161214,       1335,   -10.0000,  -102.9999,       4564,    84.8,  22.2222,  35.7920,2,  35.7409,2,    186.6,2,   175.7,2,     2.2,2,     4.6,2,    1.40,2,   0.789,2,   1.9037,2,   1.1803,2,   1.4920,2,  2104.7,2,  2356.5,2,   7.9368,2,    25.00, -999.00,9,  -999.0,9,  -999.0,   1.9235,2, -999.00,9,  -999.0,9, -999.00,9, -999.00,9,    13.0818,2, -999.00,9,  -999.0,9,     -999.0,     -999.0,9,     -999.0,9,     -999.0,     -999.0,9,     -999.0,     -999.0,9,     -999.0,     -999.0,     -999.0,9,     -999.0,9,     -999.0,9,     -999.0,9,     -999.0,9,     -999.0,9,     -999.0,9,     -999.0,9
33RO20161119,        P18,      88,          1,         23,      11121,2,20161214,       1335,   -10.0000,  -102.9999,       4564,    29.8,  24.2960,  35.4564,2,  35.4581,2,    209.4,2,   209.8,2,     2.2,2,     6.5,2,    0.14,2,   0.655,2,   1.7136,2,   1.0829,2,   1.5217,2,  2061.8,6,  2337.9,2,   7.9861,2,    25.00, -999.00,9,  -999.0,9,  -999.0,   1.7267,2, -999.00,9,  -999.0,9, -999.00,9, -999.00,9,     6.9413,2, -999.00,9,  -999.0,9,     -999.0,     -999.0,9,     -999.0,9,     -999.0,     -999.0,9,     -999.0,     -999.0,9,     -999.0,     -999.0,     -999.0,9,     -999.0,9,     -999.0,9,     -999.0,9,     -999.0,9,     -999.0,9,     -999.0,9,     -999.0,9
33RO20161119,        P18,      88,          1,         24,      11122,2,20161214,       1335,   -10.0000,  -102.9999,       4564,     3.3,  24.2980,  35.4572,2,  35.4570,2,    208.5,2,   210.0,2,     2.2,2,     6.4,2,    0.14,2,   0.659,2,   1.7194,2,   1.0804,2,   1.4634,2,  2061.4,2,  2339.6,2,   7.9846,2,    25.00, -999.00,9,  -999.0,9,  -999.0,        0,2, -999.00,9,  -999.0,9, -999.00,9, -999.00,9,     7.0836,2, -999.00,9,  -999.0,9,     -999.0,     -999.0,9,     -999.0,9,     -999.0,     -999.0,9,     -999.0,     -999.0,9,     -999.0,     -999.0,     -999.0,9,     -999.0,9,     -999.0,9,     -999.0,9,     -999.0,9,     -999.0,9,     -999.0,9,     -999.0,9