BOTTLE,20230606CCHSIOCBG
EXPOCODE,SECT_ID,STNNBR,CASTNO,SAMPNO,BTLNBR,BTLNBR_FLAG_W,DATE,TIME,LATITUDE,LONGITUDE,DEPTH,CTDPRS,CTDTMP,CTDSAL,CTDSAL_FLAG_W,SALNTY,SALNTY_FLAG_W,CTDOXY,CTDOXY_FLAG_W,OXYGEN,OXYGEN_FLAG_W,SILCAT,SILCAT_FLAG_W,NITRAT,NITRAT_FLAG_W,NITRIT,NITRIT_FLAG_W,PHSPHT,PHSPHT_FLAG_W,CFC-11,CFC-11_FLAG_W,CFC-12,CFC-12_FLAG_W,SF6,SF6_FLAG_W,TCARBN,TCARBN_FLAG_W,ALKALI,ALKALI_FLAG_W,PH_SWS,PH_SWS_FLAG_W,PH_TMP,DELC13,DELC13_FLAG_W,DELC14,DELC14_FLAG_W,C14ERR,CCL4,CCL4_FLAG_W,POC,POC_FLAG_W,DOC,DOC_FLAG_W,TDN,TDN_FLAG_W,PON,PON_FLAG_W,N2O,N2O_FLAG_W,D15N_NO3,D15N_NO3_FLAG_W,14C-DOC,14C-DOC_FLAG_W,14C-DOCERR,13C-DOC,13C-DOC_FLAG_W,N2/ARGON_UNSTRIPPED,N2/ARGON_UNSTRIPPED_FLAG_W,N2/ARGON_UNSTRIPPED_ERROR,N2/ARGON,N2/ARGON_FLAG_W,N2/ARGON_ERROR,D15N_N2,D15N_N2_FLAG_W,D15N_N2_ERROR,D15N_NO3_ERROR,D15N_NO2+NO3,D15N_NO2+NO3_FLAG_W,D18O_NO2+NO3,D18O_NO2+NO3_FLAG_W,D18O_NO3,D18O_NO3_FLAG_W,TDP,TDP_FLAG_W,N2O_ALT_1,N2O_ALT_1_FLAG_W,D15N_N2O,D15N_N2O_FLAG_W,D18O_N2O,D18O_N2O_FLAG_W,D15N_ALPHA_N2O,D15N_ALPHA_N2O_FLAG_W
,,,,,,,,,,,METERS,DBAR,ITS-90,PSS-78,,PSS-78,,UMOL/KG,,UMOL/KG,,UMOL/KG,,UMOL/KG,,UMOL/KG,,UMOL/KG,,PMOL/KG,,PMOL/KG,,FMOL/KG,,UMOL/KG,,UMOL/KG,,,,DEG C,/MILLE,,/MILLE,,/MILLE,PMOL/KG,,UG/KG,,UMOL/KG,,UMOL/KG,,UG/KG,,NMOL/KG,,/MILLE,,/MILLE,,/MILLE,/MILLE,,,,,,,,/MILLE,,/MILLE,/MILLE,/MILLE,,/MILLE,,/MILLE,,UMOL/KG,,NMOL/L,,/MILLE,,/MILLE,,/MILLE,
33RO20161119,        P18,     145,          1,          1,      11010,2,20170108,       1114,   -38.4995,  -103.0006,       3942,  4032.7,   1.1657,  34.7082,2,  34.7075,2,    192.9,2,   192.6,2,   123.0,2,    33.2,2,    0.01,2,   2.332,2,   0.0039,2,   0.0019,2,   0.0000,2,  2279.3,6,  2382.3,2,   7.6071,2,    25.00, -999.00,9,  -999.0,9,  -999.0,   0.4998,2, -999.00,9,    40.2,2,   34.90,2, -999.00,9,    18.6524,2, -999.00,9,  -999.0,9,     -999.0,     -999.0,9,     -999.0,9,     -999.0,     -999.0,9,     -999.0,     -999.0,9,     -999.0,     -999.0,     -999.0,9,     -999.0,9,     -999.0,9,     -999.0,9,     -999.0,9,     -999.0,9,     -999.0,9,     -999.0,9
33RO20161119,        P18,     145,          1,          2,      11101,2,20170108,       1114,   -38.4995,  -103.0006,       3942,  3846.1,   1.1670,  34.7082,2,  34.7114,2,    191.8,2,   191.1,2,   122.3,2,    33.2,2,    0.01,2,   2.316,2,-999.0000,9,-999.0000,9,-999.0000,9,  2279.2,2,  2380.3,2,   7.6044,6,    25.00, -999.00,9,  -999.0,9,  -999.0,-999.0000,9, -999.00,9,    39.2,2,   38.00,2, -999.00,9,     -999.0,9, -999.00,9,  -999.0,9,     -999.0,     -999.0,9,     -999.0,9,     -999.0,     -999.0,9,     -999.0,     -999.0,9,     -999.0,     -999.0,     -999.0,9,     -999.0,9,     -999.0,9,     -999.0,9,     -999.0,9,     -999.0,9,     -999.0,9,     -999.0,9
33RO20161119,        P18,     145,          1,          3,      11102,2,20170108,       1114,   -38.4995,  -103.0006,       3942,  3654.3,   1.2343,  34.7072,2,  34.7061,2,    188.7,2,   188.1,2,   121.4,6,    33.4,6,    0.01,6,   2.324,6,-999.0000,9,-999.0000,9,-999.0000,9,  2279.3,2,  2380.0,6,   7.6027,2,    25.00, -999.00,9,  -999.0,9,  -999.0,-999.0000,9, -999.00,9,    39.9,2,   35.50,2, -999.00,9,     -999.0,9, -999.00,9,  -999.0,9,     -999.0,     -999.0,9,     -999.0,9,     -999.0,     -999.0,9,     -999.0,     -999.0,9,     -999.0,     -999.0,     -999.0,9,     -999.0,9,     -999.0,9,     -999.0,9,     -999.0,9,     -999.0,9,     -999.0,9,     -999.0,9
33RO20161119,        P18,     145,          1,          4,      11103,2,20170108,       1114,   -38.4995,  -103.0006,       3942,  3329.2,   1.5447,  34.7030,2,  34.7013,2,    178.6,2,   178.1,2,   115.3,6,    33.6,6,    0.00,6,   2.360,6,-999.0000,9,-999.0000,9,-999.0000,9,  2282.4,2,  2380.8,2,   7.5942,2,    25.00, -999.00,9,  -999.0,9,  -999.0,-999.0000,9, -999.00,9,    39.0,2,   36.20,2, -999.00,9,     -999.0,9, -999.00,9,  -999.0,9,     -999.0,     -999.0,9,     -999.0,9,     -999.0,     -999.0,9,     -999.0,     -999.0,9,     -999.0,     -999.0,     -999.0,9,     -999.0,9,     -999.0,9,     -999.0,9,     -999.0,9,     -999.0,9,     -999.0,9,     -999.0,9
33RO20161119,        P18,     145,          1,          5,      11104,2,20170108,       1114,   -38.4995,  -103.0006,       3942,  3006.7,   1.7358,  34.6950,2,  34.6941,2,    170.5,2,   170.2,2,   112.8,6,    34.0,6,    0.00,6,   2.382,6,-999.0000,9,-999.0000,9,-999.0000,9,  2286.8,2,  2380.1,2,   7.5825,2,    25.00, -999.00,9,  -999.0,9,  -999.0,-999.0000,9, -999.00,9,    39.3,2,   36.50,2, -999.00,9,     -999.0,9, -999.00,9,  -999.0,9,     -999.0,     -999.0,9,     -999.0,9,     -999.0,     -999.0,9,     -999.0,     -999.0,9,     -999.0,     -999.0,     -999.0,9,     -999.0,9,     -999.0,9,     -999.0,9,     -999.0,9,     -999.0,9,     -999.0,9,     -999.0,9
33RO20161119,        P18,     145,          1,          6,      11105,2,20170108,       1114,   -38.4995,  -103.0006,       3942,  2683.2,   1.8122,  34.6865,2,  34.6858,2,    165.9,2,   165.1,2,   112.0,6,    34.4,6,    0.01,6,   2.404,6,   0.0105,2,   0.0046,2,   0.0295,2,  2287.9,2,  2380.4,2,   7.5760,2,    25.00, -999.00,9,  -999.0,9,  -999.0,   1.2146,2, -999.00,9,    39.0,2,   37.70,2, -999.00,9,    20.7823,2, -999.00,9,  -999.0,9,     -999.0,     -999.0,9,     -999.0,9,     -999.0,     -999.0,9,     -999.0,     -999.0,9,     -999.0,     -999.0,     -999.0,9,     -999.0,9,     -999.0,9,     -999.0,9,     -999.0,9,     -999.0,9,     -999.0,9,     -999.0,9
33RO20161119,        P18,     145,          1,          7,      11106,2,20170108,       1114,   -38.4995,  -103.0006,       3942,  2365.1,   1.9373,  34.6756,2,  34.6746,2,    162.7,2,   162.8,6,   106.9,2,    34.5,2,    0.01,2,   2.424,2,-999.0000,9,-999.0000,9,-999.0000,9,  2286.6,2,  2378.1,2,   7.5707,6,    25.00, -999.00,9,  -999.0,9,  -999.0,-999.0000,9, -999.00,9,    39.3,2,   39.50,2, -999.00,9,     -999.0,9, -999.00,9,  -999.0,9,     -999.0,     -999.0,9,     -999.0,9,     -999.0,     -999.0,9,     -999.0,     -999.0,9,     -999.0,     -999.0,     -999.0,9,     -999.0,9,     -999.0,9,     -999.0,9,     -999.0,9,     -999.0,9,     -999.0,9,     -999.0,9
33RO20161119,        P18,     145,          1,          8,      11107,2,20170108,       1114,   -38.4995,  -103.0006,       3942,  2045.0,   2.1935,  34.6401,2,  34.6394,2,    157.9,2,   157.6,2,    98.1,2,    35.0,2,    0.00,2,   2.462,2,-999.0000,9,-999.0000,9,-999.0000,9,  2282.4,2,  2364.7,2,   7.5578,2,    25.00, -999.00,9,  -999.0,9,  -999.0,-999.0000,9, -999.00,9,    39.3,2,   38.90,2, -999.00,9,     -999.0,9, -999.00,9,  -999.0,9,     -999.0,     -999.0,9,     -999.0,9,     -999.0,     -999.0,9,     -999.0,     -999.0,9,     -999.0,     -999.0,     -999.0,9,     -999.0,9,     -999.0,9,     -999.0,9,     -999.0,9,     -999.0,9,     -999.0,9,     -999.0,9
33RO20161119,        P18,     145,          1,          9,      11108,2,20170108,       1114,   -38.4995,  -103.0006,       3942,  1685.4,   2.6266,  34.5704,2,  34.5687,2,    146.7,2,   145.9,2,    86.3,2,    36.2,2,    0.01,2,   2.540,2,-999.0000,9,-999.0000,9,-999.0000,9,  2272.0,2,  2354.0,2,   7.5340,2,    25.00, -999.00,9,  -999.0,9,  -999.0,-999.0000,9, -999.00,9,    39.4,2,   43.00,2, -999.00,9,     -999.0,9, -999.00,9,  -999.0,9,     -999.0,     -999.0,9,     -999.0,9,     -999.0,     -999.0,9,     -999.0,     -999.0,9,     -999.0,     -999.0,     -999.0,9,     -999.0,9,     -999.0,9,     -999.0,9,     -999.0,9,     -999.0,9,     -999.0,9,     -999.0,9
33RO20161119,        P18,     145,          1,         10,      11109,2,20170108,       1114,   -38.4995,  -103.0006,       3942,  1471.2,   3.0109,  34.5203,2,  34.5188,2,    136.4,2,   135.4,2,    78.0,2,    37.4,2,    0.00,2,   2.634,2,   0.0327,6,   0.0164,6,   0.0000,6,  2277.3,2,  2343.5,2,   7.5160,2,    25.00, -999.00,9,  -999.0,9,  -999.0,    2.498,2, -999.00,9,    39.5,2,   42.50,2, -999.00,9,    25.7333,2, -999.00,9,  -999.0,9,     -999.0,     -999.0,9,     -999.0,9,     -999.0,     -999.0,9,     -999.0,     -999.0,9,     -999.0,     -999.0,     -999.0,9,     -999.0,9,     -999.0,9,     -999.0,9,     -999.0,9,     -999.0,9,     -999.0,9,     -999.0,9
33RO20161119,        P18,     145,          1,         11,      11110,2,20170108,       1114,   -38.4995,  -103.0006,       3942,  1311.0,   3.2724,  34.4632,2,  34.4603,2,    140.1,2,   139.4,2,    66.1,2,    37.4,2,    0.01,2,   2.569,2,   0.0542,2,   0.0290,2,   0.0000,2,  2263.1,2,  2329.6,2,   7.5132,2,    25.00, -999.00,9,  -999.0,9,  -999.0,   2.8724,2, -999.00,9,    39.0,2,   42.20,2, -999.00,9,    26.0501,2, -999.00,9,  -999.0,9,     -999.0,     -999.0,9,     -999.0,9,     -999.0,     -999.0,9,     -999.0,     -999.0,9,     -999.0,     -999.0,     -999.0,9,     -999.0,9,     -999.0,9,     -999.0,9,     -999.0,9,     -999.0,9,     -999.0,9,     -999.0,9
33RO20161119,        P18,     145,          1,         12,      11111,2,20170108,       1114,   -38.4995,  -103.0006,       3942,  1174.5,   3.5487,  34.3903,2,  34.3894,2,    163.0,2,   161.2,2,    50.5,2,    35.7,2,    0.01,2,   2.413,2,   0.2232,2,   0.1137,2,   0.0522,2,  2235.6,6,  2312.4,6,   7.5423,2,    25.00, -999.00,9,  -999.0,9,  -999.0,   2.9598,2, -999.00,9,    39.9,2,   39.90,2, -999.00,9,    23.8139,2, -999.00,9,  -999.0,9,     -999.0,     -999.0,9,     -999.0,9,     -999.0,     -999.0,9,     -999.0,     -999.0,9,     -999.0,     -999.0,     -999.0,9,     -999.0,9,     -999.0,9,     -999.0,9,     -999.0,9,     -999.0,9,     -999.0,9,     -999.0,9
33RO20161119,        P18,     145,          1,         13,      11112,2,20170108,       1114,   -38.4995,  -103.0006,       3942,  1025.3,   4.0476,  34.3193,2,  34.3177,2,    191.7,2,   191.0,2,    34.5,2,    32.7,2,    0.00,2,   2.199,2,   0.9387,2,   0.4545,2,   0.1538,2,  2203.7,2,  2295.2,2,   7.5908,2,    25.00, -999.00,9,  -999.0,9,  -999.0,    2.516,2, -999.00,9,    43.3,2,   35.30,2, -999.00,9,    20.8349,2, -999.00,9,  -999.0,9,     -999.0,     -999.0,9,     -999.0,9,     -999.0,     -999.0,9,     -999.0,     -999.0,9,     -999.0,     -999.0,     -999.0,9,     -999.0,9,     -999.0,9,     -999.0,9,     -999.0,9,     -999.0,9,     -999.0,9,     -999.0,9
33RO20161119,        P18,     145,          1,         14,      11113,2,20170108,       1114,   -38.4995,  -103.0006,       3942,   899.9,   4.6279,  34.2849,2,  34.2841,2,    208.2,2,   208.2,2,    24.2,2,    30.3,2,    0.00,2,   2.071,2,-999.0000,9,-999.0000,9,-999.0000,9,  2184.3,2,  2288.3,2,   7.6251,2,    25.00, -999.00,9,  -999.0,9,  -999.0,-999.0000,9, -999.00,9,    42.4,2,   35.10,2, -999.00,9,     -999.0,9, -999.00,9,  -999.0,9,     -999.0,     -999.0,9,     -999.0,9,     -999.0,     -999.0,9,     -999.0,     -999.0,9,     -999.0,     -999.0,     -999.0,9,     -999.0,9,     -999.0,9,     -999.0,9,     -999.0,9,     -999.0,9,     -999.0,9,     -999.0,9
33RO20161119,        P18,     145,          1,         15,      11114,2,20170108,       1114,   -38.4995,  -103.0006,       3942,   767.6,   5.2890,  34.2697,2,  34.2681,2,    228.8,2,   227.9,2,    16.3,2,    27.3,2,    0.00,2,   1.880,2,   2.8075,2,   1.4095,2,   0.6525,2,  2164.4,2,  2276.4,2,   7.6575,2,    25.00, -999.00,9,  -999.0,9,  -999.0,   1.5409,2, -999.00,9,    42.6,2,   31.20,2, -999.00,9,    16.8271,2, -999.00,9,  -999.0,9,     -999.0,     -999.0,9,     -999.0,9,     -999.0,     -999.0,9,     -999.0,     -999.0,9,     -999.0,     -999.0,     -999.0,9,     -999.0,9,     -999.0,9,     -999.0,9,     -999.0,9,     -999.0,9,     -999.0,9,     -999.0,9
33RO20161119,        P18,     145,          1,         16,      11115,2,20170108,       1114,   -38.4995,  -103.0006,       3942,   635.8,   5.7949,  34.2694,2,  34.2673,2,    247.3,2,   247.0,2,    10.2,2,    24.7,2,    0.01,2,   1.743,2,   3.7187,2,   1.9157,2,   1.1385,2,  2151.1,2,  2274.8,2,   7.6869,2,    25.00, -999.00,9,  -999.0,9,  -999.0,   3.0013,2, -999.00,9,    43.5,2,   27.80,2, -999.00,9,    15.5482,2, -999.00,9,  -999.0,9,     -999.0,     -999.0,9,     -999.0,9,     -999.0,     -999.0,9,     -999.0,     -999.0,9,     -999.0,     -999.0,     -999.0,9,     -999.0,9,     -999.0,9,     -999.0,9,     -999.0,9,     -999.0,9,     -999.0,9,     -999.0,9
33RO20161119,        P18,     145,          1,         17,      11116,2,20170108,       1114,   -38.4995,  -103.0006,       3942,   526.6,   6.1579,  34.2846,2,  34.2830,2,    251.4,2,   251.6,6,     8.3,2,    23.4,2,    0.00,2,   1.645,2,   3.9709,2,   2.1111,2,   1.3621,2,  2146.5,2,  2273.7,2,   7.6964,2,    25.00, -999.00,9,  -999.0,9,  -999.0,   2.8263,2, -999.00,9,    44.7,2,   26.20,2, -999.00,9,    15.5574,2, -999.00,9,  -999.0,9,     -999.0,     -999.0,9,     -999.0,9,     -999.0,     -999.0,9,     -999.0,     -999.0,9,     -999.0,     -999.0,     -999.0,9,     -999.0,9,     -999.0,9,     -999.0,9,     -999.0,9,     -999.0,9,     -999.0,9,     -999.0,9
33RO20161119,        P18,     145,          1,         18,      11117,2,20170108,       1114,   -38.4995,  -103.0006,       3942,   414.4,   6.4721,  34.2973,2,  34.2973,2,    254.8,2,   253.2,2,     7.2,2,    22.4,2,    0.01,2,   1.599,2,-999.0000,9,-999.0000,9,-999.0000,9,  2145.2,2,  2274.9,2,   7.7053,2,    25.00, -999.00,9,  -999.0,9,  -999.0,-999.0000,9, -999.00,9,    45.6,2,   24.60,2, -999.00,9,     -999.0,9, -999.00,9,  -999.0,9,     -999.0,     -999.0,9,     -999.0,9,     -999.0,     -999.0,9,     -999.0,     -999.0,9,     -999.0,     -999.0,     -999.0,9,     -999.0,9,     -999.0,9,     -999.0,9,     -999.0,9,     -999.0,9,     -999.0,9,     -999.0,9
33RO20161119,        P18,     145,          1,         19,      11083,2,20170108,       1114,   -38.4995,  -103.0006,       3942,   317.1,   6.7540,  34.2867,2,  34.2847,2,    251.8,2,   251.4,2,     6.0,2,    21.9,2,    0.01,2,   1.569,2,   4.0440,2,   2.2339,2,   1.7653,2,  2143.0,2,  2272.1,2,   7.6993,2,    25.00, -999.00,9,  -999.0,9,  -999.0,   2.9426,2, -999.00,9,    43.6,2,   26.30,2, -999.00,9,    18.3653,2, -999.00,9,  -999.0,9,     -999.0,     -999.0,9,     -999.0,9,     -999.0,     -999.0,9,     -999.0,     -999.0,9,     -999.0,     -999.0,     -999.0,9,     -999.0,9,     -999.0,9,     -999.0,9,     -999.0,9,     -999.0,9,     -999.0,9,     -999.0,9
33RO20161119,        P18,     145,          1,         20,      11118,2,20170108,       1114,   -38.4995,  -103.0006,       3942,   225.0,   7.4189,  34.2264,2,  34.2270,2,    250.7,2,   250.6,2,     4.0,2,    20.3,2,    0.01,2,   1.505,2,   3.9343,2,   2.2155,2,   2.0471,2,  2134.6,2,  2265.2,2,   7.7125,2,    25.00, -999.00,9,  -999.0,9,  -999.0,   0.0241,2, -999.00,9,    47.2,2,   24.50,2, -999.00,9,    22.2235,2, -999.00,9,  -999.0,9,     -999.0,     -999.0,9,     -999.0,9,     -999.0,     -999.0,9,     -999.0,     -999.0,9,     -999.0,     -999.0,     -999.0,9,     -999.0,9,     -999.0,9,       1.48,3,     -999.0,9,     -999.0,9,     -999.0,9,     -999.0,9
33RO20161119,        P18,     145,          1,         21,      11119,2,20170108,       1114,   -38.4995,  -103.0006,       3942,   144.8,   9.0564,  34.1659,2,  34.1804,2,    245.8,2,   243.8,2,     1.9,2,    17.0,2,    0.11,2,   1.293,2,   3.6823,2,   2.0840,2,   2.1741,2,  2118.2,2,  2259.6,2,   7.7445,2,    25.00, -999.00,9,  -999.0,9,  -999.0,   0.0047,2, -999.00,9,    49.6,2,   21.40,2, -999.00,9,    26.3259,2, -999.00,9,  -999.0,9,     -999.0,     -999.0,9,     -999.0,9,     -999.0,     -999.0,9,     -999.0,     -999.0,9,     -999.0,     -999.0,     -999.0,9,     -999.0,9,     -999.0,9,       1.32,2,     -999.0,9,     -999.0,9,     -999.0,9,     -999.0,9
33RO20161119,        P18,     145,          1,         22,      11120,2,20170108,       1114,   -38.4995,  -103.0006,       3942,    71.2,  11.5282,  33.9857,2,  33.9873,2,    278.7,2,   276.1,2,     0.6,2,     8.9,2,    0.20,2,   0.845,2,   3.2077,2,   1.8724,2,   2.2891,2,  2065.0,2,  2249.1,2,   7.8572,2,    25.00, -999.00,9,  -999.0,9,  -999.0,   0.0301,2, -999.00,9,    58.9,2,   12.70,2, -999.00,9,    11.0075,2, -999.00,9,  -999.0,9,     -999.0,     -999.0,9,     -999.0,9,     -999.0,     -999.0,9,     -999.0,     -999.0,9,     -999.0,     -999.0,     -999.0,9,     -999.0,9,     -999.0,9,       0.83,3,     -999.0,9,     -999.0,9,     -999.0,9,     -999.0,9
33RO20161119,        P18,     145,          1,         23,      11121,2,20170108,       1114,   -38.4995,  -103.0006,       3942,    30.9,  15.8747,  33.9131,2,  33.9127,2,    253.3,2,   252.4,2,     0.5,2,     7.8,2,    0.20,2,   0.771,2,   2.6608,2,   1.5792,2,   2.0801,2,  2048.8,6,  2251.6,2,   7.8816,2,    25.00, -999.00,9,  -999.0,9,  -999.0,   0.0242,2, -999.00,9,    60.2,2,   11.80,2, -999.00,9,     8.9939,2, -999.00,9,  -999.0,9,     -999.0,     -999.0,9,     -999.0,9,     -999.0,     -999.0,9,     -999.0,     -999.0,9,     -999.0,     -999.0,     -999.0,9,     -999.0,9,     -999.0,9,       0.86,2,     -999.0,9,     -999.0,9,     -999.0,9,     -999.0,9
33RO20161119,        P18,     145,          1,         24,      11122,2,20170108,       1114,   -38.4995,  -103.0006,       3942,     5.5,  16.4114,  33.8634,2,  33.8629,2,    246.9,2,   247.5,2,     0.5,2,     7.6,2,    0.21,2,   0.745,2,   2.5707,2,   1.5367,2,   1.9730,2,  2044.1,2,  2248.8,6,   7.8815,2,    25.00, -999.00,9,  -999.0,9,  -999.0,   0.0511,2, -999.00,9,    61.5,2,   10.50,2, -999.00,9,     8.8115,2, -999.00,9,  -999.0,9,     -999.0,     -999.0,9,     -999.0,9,     -999.0,     -999.0,9,     -999.0,     -999.0,9,     -999.0,     -999.0,     -999.0,9,     -999.0,9,     -999.0,9,     -999.0,9,     -999.0,9,     -999.0,9,     -999.0,9,     -999.0,9