BOTTLE,20230606CCHSIOCBG
EXPOCODE,SECT_ID,STNNBR,CASTNO,SAMPNO,BTLNBR,BTLNBR_FLAG_W,DATE,TIME,LATITUDE,LONGITUDE,DEPTH,CTDPRS,CTDTMP,CTDSAL,CTDSAL_FLAG_W,SALNTY,SALNTY_FLAG_W,CTDOXY,CTDOXY_FLAG_W,OXYGEN,OXYGEN_FLAG_W,SILCAT,SILCAT_FLAG_W,NITRAT,NITRAT_FLAG_W,NITRIT,NITRIT_FLAG_W,PHSPHT,PHSPHT_FLAG_W,CFC-11,CFC-11_FLAG_W,CFC-12,CFC-12_FLAG_W,SF6,SF6_FLAG_W,TCARBN,TCARBN_FLAG_W,ALKALI,ALKALI_FLAG_W,PH_SWS,PH_SWS_FLAG_W,PH_TMP,DELC13,DELC13_FLAG_W,DELC14,DELC14_FLAG_W,C14ERR,CCL4,CCL4_FLAG_W,POC,POC_FLAG_W,DOC,DOC_FLAG_W,TDN,TDN_FLAG_W,PON,PON_FLAG_W,N2O,N2O_FLAG_W,D15N_NO3,D15N_NO3_FLAG_W,14C-DOC,14C-DOC_FLAG_W,14C-DOCERR,13C-DOC,13C-DOC_FLAG_W,N2/ARGON_UNSTRIPPED,N2/ARGON_UNSTRIPPED_FLAG_W,N2/ARGON_UNSTRIPPED_ERROR,N2/ARGON,N2/ARGON_FLAG_W,N2/ARGON_ERROR,D15N_N2,D15N_N2_FLAG_W,D15N_N2_ERROR,D15N_NO3_ERROR,D15N_NO2+NO3,D15N_NO2+NO3_FLAG_W,D18O_NO2+NO3,D18O_NO2+NO3_FLAG_W,D18O_NO3,D18O_NO3_FLAG_W,TDP,TDP_FLAG_W,N2O_ALT_1,N2O_ALT_1_FLAG_W,D15N_N2O,D15N_N2O_FLAG_W,D18O_N2O,D18O_N2O_FLAG_W,D15N_ALPHA_N2O,D15N_ALPHA_N2O_FLAG_W
,,,,,,,,,,,METERS,DBAR,ITS-90,PSS-78,,PSS-78,,UMOL/KG,,UMOL/KG,,UMOL/KG,,UMOL/KG,,UMOL/KG,,UMOL/KG,,PMOL/KG,,PMOL/KG,,FMOL/KG,,UMOL/KG,,UMOL/KG,,,,DEG C,/MILLE,,/MILLE,,/MILLE,PMOL/KG,,UG/KG,,UMOL/KG,,UMOL/KG,,UG/KG,,NMOL/KG,,/MILLE,,/MILLE,,/MILLE,/MILLE,,,,,,,,/MILLE,,/MILLE,/MILLE,/MILLE,,/MILLE,,/MILLE,,UMOL/KG,,NMOL/L,,/MILLE,,/MILLE,,/MILLE,
33RO20161119,        P18,      37,          1,          1,      11010,2,20161203,       0925,     5.9999,  -109.9999,       3693,  3729.0,   1.5279,  34.6870,2,  34.6861,2,    141.9,2,   143.1,2,   150.0,6,    37.1,6,    0.02,6,   2.516,6,   0.0031,2,   0.0013,2,   0.0000,2,  2343.4,6,  2435.1,2,   7.5948,2,    25.00, -999.00,9,  -999.0,9,  -999.0,        0,2, -999.00,9,    38.1,2,   37.80,2, -999.00,9,     20.932,2, -999.00,9,  -999.0,9,     -999.0,     -999.0,9,     -999.0,9,     -999.0,     -999.0,9,     -999.0,     -999.0,9,     -999.0,     -999.0,     -999.0,9,     -999.0,9,     -999.0,9,     -999.0,9,     -999.0,9,     -999.0,9,     -999.0,9,     -999.0,9
33RO20161119,        P18,      37,          1,          2,      11101,2,20161203,       0925,     5.9999,  -109.9999,       3693,  3489.2,   1.5327,  34.6857,2,  34.6850,2,    139.8,2,   139.0,2,   149.9,6,    37.2,6,    0.01,6,   2.519,6,   0.0031,2,   0.0015,2,   0.0355,2,  2342.8,2,  2433.5,2,   7.5661,2,    25.00, -999.00,9,  -999.0,9,  -999.0,        0,2, -999.00,9,    38.3,2,   39.70,2, -999.00,9,    20.8787,2, -999.00,9,  -999.0,9,     -999.0,     -999.0,9,     -999.0,9,     -999.0,     -999.0,9,     -999.0,     -999.0,9,     -999.0,     -999.0,     -999.0,9,     -999.0,9,     -999.0,9,     -999.0,9,     -999.0,9,     -999.0,9,     -999.0,9,     -999.0,9
33RO20161119,        P18,      37,          1,          3,      11102,2,20161203,       0925,     5.9999,  -109.9999,       3693,  3249.7,   1.5683,  34.6830,2,  34.6812,2,    134.1,2,   134.1,2,   150.9,6,    37.5,6,    0.01,6,   2.549,6,   0.0041,2,   0.0031,2,   0.0455,2,  2346.9,2,  2433.5,6,   7.5548,2,    25.00, -999.00,9,  -999.0,9,  -999.0,        0,2, -999.00,9,    37.6,2,   39.60,2, -999.00,9,    21.5719,2, -999.00,9,  -999.0,9,     -999.0,     -999.0,9,     -999.0,9,     -999.0,     -999.0,9,     -999.0,     -999.0,9,     -999.0,     -999.0,     -999.0,9,     -999.0,9,     -999.0,9,     -999.0,9,     -999.0,9,     -999.0,9,     -999.0,9,     -999.0,9
33RO20161119,        P18,      37,          1,          4,      11103,2,20161203,       0925,     5.9999,  -109.9999,       3693,  2951.5,   1.7727,  34.6731,2,  34.6716,2,    119.4,2,   119.1,2,   151.1,6,    38.3,6,    0.01,6,   2.639,6,   0.0041,2,   0.0025,2,   0.0228,2,  2353.2,2,  2434.9,2,   7.5311,2,    25.00, -999.00,9,  -999.0,9,  -999.0,        0,2, -999.00,9,    37.3,2,   41.70,2, -999.00,9,    22.4713,2, -999.00,9,  -999.0,9,     -999.0,     -999.0,9,     -999.0,9,     -999.0,     -999.0,9,     -999.0,     -999.0,9,     -999.0,     -999.0,     -999.0,9,     -999.0,9,     -999.0,9,     -999.0,9,     -999.0,9,     -999.0,9,     -999.0,9,     -999.0,9
33RO20161119,        P18,      37,          1,          5,      11104,2,20161203,       0925,     5.9999,  -109.9999,       3693,  2641.5,   1.8486,  34.6681,2,  34.6671,2,    112.2,2,   112.4,2,   151.2,2,    38.7,2,    0.01,2,   2.656,2,   0.0034,2,   0.0015,2,   0.0000,2,  2358.3,2,  2430.3,2,   7.5134,2,    25.00, -999.00,9,  -999.0,9,  -999.0,        0,2, -999.00,9,    38.4,2,   41.40,2, -999.00,9,    23.8974,2, -999.00,9,  -999.0,9,     -999.0,     -999.0,9,     -999.0,9,     -999.0,     -999.0,9,     -999.0,     -999.0,9,     -999.0,     -999.0,     -999.0,9,     -999.0,9,     -999.0,9,     -999.0,9,     -999.0,9,     -999.0,9,     -999.0,9,     -999.0,9
33RO20161119,        P18,      37,          1,          6,      11105,2,20161203,       0925,     5.9999,  -109.9999,       3693,  2350.1,   1.9848,  34.6596,2,  34.6592,2,    107.0,2,   107.6,2,   146.9,2,    39.1,2,    0.01,2,   2.693,2,   0.0033,6,   0.0013,6,   0.0000,6,  2356.5,2,  2427.5,2,   7.5044,6,    25.00, -999.00,9,  -999.0,9,  -999.0,   0.0124,2, -999.00,9,    36.5,2,   40.90,2, -999.00,9,    24.7498,2, -999.00,9,  -999.0,9,     -999.0,     -999.0,9,     -999.0,9,     -999.0,     -999.0,9,     -999.0,     -999.0,9,     -999.0,     -999.0,     -999.0,9,     -999.0,9,     -999.0,9,     -999.0,9,     -999.0,9,     -999.0,9,     -999.0,9,     -999.0,9
33RO20161119,        P18,      37,          1,          7,      11106,2,20161203,       0925,     5.9999,  -109.9999,       3693,  2067.6,   2.3000,  34.6434,2,  34.6417,2,     99.0,2,    99.6,2,   139.7,2,    39.8,2,    0.01,2,   2.754,2,   0.0019,2,   0.0012,2,   0.0000,2,  2352.4,6,  2418.9,2,   7.4859,2,    25.00, -999.00,9,  -999.0,9,  -999.0,        0,2, -999.00,9,    35.9,2,   41.80,2, -999.00,9,    27.0295,2, -999.00,9,  -999.0,9,     -999.0,     -999.0,9,     -999.0,9,     -999.0,     -999.0,9,     -999.0,     -999.0,9,     -999.0,     -999.0,     -999.0,9,     -999.0,9,     -999.0,9,     -999.0,9,     -999.0,9,     -999.0,9,     -999.0,9,     -999.0,9
33RO20161119,        P18,      37,          1,          8,      11107,2,20161203,       0925,     5.9999,  -109.9999,       3693,  1791.1,   2.6701,  34.6254,2,  34.6240,2,     84.2,2,    84.1,2,   132.5,2,    40.8,2,    0.01,2,   2.854,2,   0.0023,2,   0.0010,2,   0.0000,2,  2351.9,2,  2404.7,2,   7.4572,2,    25.00, -999.00,9,  -999.0,9,  -999.0,        0,2, -999.00,9,    37.9,2,   43.50,2, -999.00,9,    30.5635,2, -999.00,9,  -999.0,9,     -999.0,     -999.0,9,     -999.0,9,     -999.0,     -999.0,9,     -999.0,     -999.0,9,     -999.0,     -999.0,     -999.0,9,     -999.0,9,     -999.0,9,     -999.0,9,     -999.0,9,     -999.0,9,     -999.0,9,     -999.0,9
33RO20161119,        P18,      37,          1,          9,      11108,2,20161203,       0925,     5.9999,  -109.9999,       3693,  1478.8,   3.2266,  34.6046,2,  34.6010,2,     71.8,2,    72.0,2,   119.8,2,    41.5,2,    0.02,2,   2.917,2,   0.0050,2,   0.0020,2,   0.0000,2,  2345.5,2,  2399.8,2,   7.4375,2,    25.00, -999.00,9,  -999.0,9,  -999.0,        0,2, -999.00,9,    39.1,2,   44.50,2, -999.00,9,    33.7013,2, -999.00,9,  -999.0,9,     -999.0,     -999.0,9,     -999.0,9,     -999.0,     -999.0,9,     -999.0,     -999.0,9,     -999.0,     -999.0,     -999.0,9,     -999.0,9,     -999.0,9,     -999.0,9,     -999.0,9,     -999.0,9,     -999.0,9,     -999.0,9
33RO20161119,        P18,      37,          1,         10,      11109,2,20161203,       0925,     5.9999,  -109.9999,       3693,  1283.2,   3.6221,  34.5907,2,  34.5894,2,     63.5,2,    63.4,2,   110.8,2,    42.2,2,    0.01,2,   2.971,2,   0.0035,2,   0.0017,2,   0.0000,2,  2342.6,2,  2385.2,6,   7.4165,2,    25.00, -999.00,9,  -999.0,9,  -999.0,        0,2, -999.00,9,    38.5,2,   45.40,2, -999.00,9,    35.6896,2, -999.00,9,  -999.0,9,     -999.0,     -999.0,9,     -999.0,9,     -999.0,     -999.0,9,     -999.0,     -999.0,9,     -999.0,     -999.0,     -999.0,9,     -999.0,9,     -999.0,9,     -999.0,9,     -999.0,9,     -999.0,9,     -999.0,9,     -999.0,9
33RO20161119,        P18,      37,          1,         11,      11110,2,20161203,       0925,     5.9999,  -109.9999,       3693,  1151.5,   3.9915,  34.5794,2,  34.5790,2,     58.5,2,    58.3,2,   102.3,2,    42.5,2,    0.01,2,   2.998,2,   0.0031,2,   0.0017,2,   0.0000,2,  2336.2,2,  2370.7,2,   7.4092,2,    25.00, -999.00,9,  -999.0,9,  -999.0,        0,2, -999.00,9,    37.3,2,   45.60,2, -999.00,9,    38.4469,2, -999.00,9,  -999.0,9,     -999.0,     -999.0,9,     -999.0,9,     -999.0,     -999.0,9,     -999.0,     -999.0,9,     -999.0,     -999.0,     -999.0,9,     -999.0,9,     -999.0,9,     -999.0,9,     -999.0,9,     -999.0,9,     -999.0,9,     -999.0,9
33RO20161119,        P18,      37,          1,         12,      11111,2,20161203,       0925,     5.9999,  -109.9999,       3693,  1029.6,   4.3761,  34.5728,2,  34.5706,2,     47.1,2,    47.2,2,    95.3,2,    43.1,2,    0.01,2,   3.062,2,   0.0035,2,   0.0017,2,   0.0424,2,  2332.8,2,  2366.0,2,   7.3877,2,    25.00, -999.00,9,  -999.0,9,  -999.0,        0,2, -999.00,9,    37.5,2,   47.00,2, -999.00,9,    41.6798,2, -999.00,9,  -999.0,9,     -999.0,     -999.0,9,     -999.0,9,     -999.0,     -999.0,9,     -999.0,     -999.0,9,     -999.0,     -999.0,     -999.0,9,     -999.0,9,     -999.0,9,     -999.0,9,     -999.0,9,     -999.0,9,     -999.0,9,     -999.0,9
33RO20161119,        P18,      37,          1,         13,      11112,2,20161203,       0925,     5.9999,  -109.9999,       3693,   910.0,   4.9796,  34.5630,2,  34.5605,2,     34.2,2,    33.9,2,    84.1,2,    44.0,2,    0.01,2,   3.120,2,   0.0040,2,   0.0023,2,   0.0000,2,  2328.1,2,  2348.8,2,   7.3654,2,    25.00, -999.00,9,  -999.0,9,  -999.0,        0,2, -999.00,9,    37.2,2,   47.90,2, -999.00,9,    47.3479,2, -999.00,9,  -999.0,9,     -999.0,     -999.0,9,     -999.0,9,     -999.0,     -999.0,9,     -999.0,     -999.0,9,     -999.0,     -999.0,     -999.0,9,     -999.0,9,     -999.0,9,     -999.0,9,     -999.0,9,     -999.0,9,     -999.0,9,     -999.0,9
33RO20161119,        P18,      37,          1,         14,      11113,2,20161203,       0925,     5.9999,  -109.9999,       3693,   781.7,   5.6704,  34.5603,2,  34.5583,2,     24.5,2,    24.3,2,    72.8,2,    43.8,2,    0.01,2,   3.120,2,   0.0073,2,   0.0035,2,   0.0188,2,  2319.5,2,  2339.7,2,   7.3523,2,    25.00, -999.00,9,  -999.0,9,  -999.0,        0,2, -999.00,9,    40.5,2,   46.80,2, -999.00,9,    52.1975,2, -999.00,9,  -999.0,9,     -999.0,     -999.0,9,     -999.0,9,     -999.0,     -999.0,9,     -999.0,     -999.0,9,     -999.0,     -999.0,     -999.0,9,     -999.0,9,     -999.0,9,     -999.0,9,     -999.0,9,     -999.0,9,     -999.0,9,     -999.0,9
33RO20161119,        P18,      37,          1,         15,      11114,2,20161203,       0925,     5.9999,  -109.9999,       3693,   674.0,   6.4581,  34.5680,2,  34.5664,2,     14.4,2,    13.6,2,    62.8,2,    43.0,2,    0.02,2,   3.095,2,   0.0132,2,   0.0072,2,   0.0000,2,  2313.2,2,  2327.0,2,   7.3408,2,    25.00, -999.00,9,  -999.0,9,  -999.0,   0.0202,2, -999.00,9,    39.2,2,   44.80,2, -999.00,9,    58.4277,2, -999.00,9,  -999.0,9,     -999.0,     -999.0,9,     -999.0,9,     -999.0,     -999.0,9,     -999.0,     -999.0,9,     -999.0,     -999.0,     -999.0,9,     -999.0,9,     -999.0,9,     -999.0,9,     -999.0,9,     -999.0,9,     -999.0,9,     -999.0,9
33RO20161119,        P18,      37,          1,         16,      11115,2,20161203,       0925,     5.9999,  -109.9999,       3693,   565.0,   7.4116,  34.5916,2,  34.5893,2,      7.2,2,     6.7,6,    54.1,2,    40.6,2,    0.01,2,   3.051,2,   0.0290,6,   0.0164,6,   0.0000,6,  2304.7,2,  2319.4,2,   7.3376,6,    25.00, -999.00,9,  -999.0,9,  -999.0,        0,2, -999.00,9,    40.6,2,   42.80,2, -999.00,9,    64.0766,2, -999.00,9,  -999.0,9,     -999.0,     -999.0,9,     -999.0,9,     -999.0,     -999.0,9,     -999.0,     -999.0,9,     -999.0,     -999.0,     -999.0,9,     -999.0,9,     -999.0,9,     -999.0,9,     -999.0,9,     -999.0,9,     -999.0,9,     -999.0,9
33RO20161119,        P18,      37,          1,         17,      11116,2,20161203,       0925,     5.9999,  -109.9999,       3693,   470.6,   8.4654,  34.6324,2,  34.6308,2,      9.8,2,     9.4,6,    44.6,2,    38.1,2,    0.01,2,   2.855,2,   0.1352,2,   0.0744,2,   0.0157,2,  2289.0,2,  2310.7,2,   7.3633,2,    25.00, -999.00,9,  -999.0,9,  -999.0,   0.0502,2, -999.00,9,    41.6,2,   40.60,2, -999.00,9,    59.0049,2, -999.00,9,  -999.0,9,     -999.0,     -999.0,9,     -999.0,9,     -999.0,     -999.0,9,     -999.0,     -999.0,9,     -999.0,     -999.0,     -999.0,9,     -999.0,9,     -999.0,9,     -999.0,9,     -999.0,9,     -999.0,9,     -999.0,9,     -999.0,9
33RO20161119,        P18,      37,          1,         18,      11117,2,20161203,       0925,     5.9999,  -109.9999,       3693,   373.8,   9.3401,  34.6666,2,  34.6639,2,     23.3,2,    19.2,2,    37.8,2,    35.8,2,    0.02,2,   2.649,2,   0.3340,2,   0.1831,2,   0.0561,2,  2273.2,2,  2304.6,2,   7.3945,2,    25.00, -999.00,9,  -999.0,9,  -999.0,   0.1055,2, -999.00,9,    42.7,2,   38.60,2, -999.00,9,     55.805,2, -999.00,9,  -999.0,9,     -999.0,     -999.0,9,     -999.0,9,     -999.0,     -999.0,9,     -999.0,     -999.0,9,     -999.0,     -999.0,     -999.0,9,     -999.0,9,     -999.0,9,     -999.0,9,     -999.0,9,     -999.0,9,     -999.0,9,     -999.0,9
33RO20161119,        P18,      37,          1,         19,      11083,2,20161203,       0925,     5.9999,  -109.9999,       3693,   283.8,  10.3074,  34.7092,2,  34.7083,2,     37.7,2,    31.7,2,    30.5,2,    33.1,2,    0.01,2,   2.343,2,   0.7528,2,   0.4060,2,   0.1634,2,  2249.9,2,  2299.8,2,   7.4553,2,    25.00, -999.00,9,  -999.0,9,  -999.0,   0.1106,2, -999.00,9,    42.0,2,   34.60,2, -999.00,9,    52.6913,2, -999.00,9,  -999.0,9,     -999.0,     -999.0,9,     -999.0,9,     -999.0,     -999.0,9,     -999.0,     -999.0,9,     -999.0,     -999.0,     -999.0,9,     -999.0,9,     -999.0,9,     -999.0,9,     -999.0,9,     -999.0,9,     -999.0,9,     -999.0,9
33RO20161119,        P18,      37,          1,         20,      11118,2,20161203,       0925,     5.9999,  -109.9999,       3693,   204.0,  11.3701,  34.7452,2,  34.7443,2,     31.8,2,    30.8,2,    27.6,2,    32.0,2,    0.01,2,   2.297,2,   0.9928,2,   0.5393,2,   0.2287,2,  2244.9,2,  2298.9,2,   7.4638,2,    25.00, -999.00,9,  -999.0,9,  -999.0,     0.13,2, -999.00,9,    49.3,2,   35.10,2, -999.00,9,    62.8761,2, -999.00,9,  -999.0,9,     -999.0,     -999.0,9,     -999.0,9,     -999.0,     -999.0,9,     -999.0,     -999.0,9,     -999.0,     -999.0,     -999.0,9,     -999.0,9,     -999.0,9,       2.34,2,     -999.0,9,     -999.0,9,     -999.0,9,     -999.0,9
33RO20161119,        P18,      37,          1,         21,      11119,2,20161203,       0925,     5.9999,  -109.9999,       3693,   138.7,  13.9139,  34.7580,2,  34.7576,2,     39.9,2,    34.3,2,    21.2,2,    28.8,2,    0.02,2,   2.103,2,   1.4793,2,   0.8303,2,   0.4803,2,  2220.3,2,  2291.3,2,   7.5135,2,    25.00, -999.00,9,  -999.0,9,  -999.0,   1.5841,2, -999.00,9,    47.1,2,   31.80,2, -999.00,9,    71.7782,2, -999.00,9,  -999.0,9,     -999.0,     -999.0,9,     -999.0,9,     -999.0,     -999.0,9,     -999.0,     -999.0,9,     -999.0,     -999.0,     -999.0,9,     -999.0,9,     -999.0,9,       2.16,2,     -999.0,9,     -999.0,9,     -999.0,9,     -999.0,9
33RO20161119,        P18,      37,          1,         22,      11120,2,20161203,       0925,     5.9999,  -109.9999,       3693,    69.4,  25.0463,  34.0202,2,  34.0357,2,    202.4,2,   201.5,2,     1.8,2,     2.4,2,    0.09,2,   0.427,2,   1.7119,2,   1.0662,2,   1.3418,2,  1972.6,2,  2241.4,2,   8.0062,2,    25.00, -999.00,9,  -999.0,9,  -999.0,    1.732,2, -999.00,9,    64.8,2,    7.50,2, -999.00,9,     8.6423,2, -999.00,9,  -999.0,9,     -999.0,     -999.0,9,     -999.0,9,     -999.0,     -999.0,9,     -999.0,     -999.0,9,     -999.0,     -999.0,     -999.0,9,     -999.0,9,     -999.0,9,       0.73,2,     -999.0,9,     -999.0,9,     -999.0,9,     -999.0,9
33RO20161119,        P18,      37,          1,         23,      11121,2,20161203,       0925,     5.9999,  -109.9999,       3693,    28.9,  26.6389,  33.6541,2,  33.6546,2,    203.1,2,   202.9,2,     0.8,2,     0.1,2,    0.01,2,   0.190,2,   1.5818,2,   1.0010,2,   1.3731,2,  1915.1,2,  2217.9,6,   8.0682,2,    25.00, -999.00,9,  -999.0,9,  -999.0,   1.7331,2, -999.00,9,    68.9,2,    4.20,2, -999.00,9,     6.6992,2, -999.00,9,  -999.0,9,     -999.0,     -999.0,9,     -999.0,9,     -999.0,     -999.0,9,     -999.0,     -999.0,9,     -999.0,     -999.0,     -999.0,9,     -999.0,9,     -999.0,9,       0.47,2,     -999.0,9,     -999.0,9,     -999.0,9,     -999.0,9
33RO20161119,        P18,      37,          1,         24,      11122,2,20161203,       0925,     5.9999,  -109.9999,       3693,     2.9,  26.6371,  33.6542,2,  33.6538,2,    202.5,2,   202.6,2,     0.8,2,     0.1,2,    0.01,2,   0.188,2,   1.5841,2,   1.0008,2,   1.3938,2,  1915.4,6,  2215.5,2,   8.0690,2,    25.00, -999.00,9,  -999.0,9,  -999.0,        0,2, -999.00,9,    68.6,2,    3.30,2, -999.00,9,     6.6559,2, -999.00,9,  -999.0,9,     -999.0,     -999.0,9,     -999.0,9,     -999.0,     -999.0,9,     -999.0,     -999.0,9,     -999.0,     -999.0,     -999.0,9,     -999.0,9,     -999.0,9,       0.39,2,     -999.0,9,     -999.0,9,     -999.0,9,     -999.0,9