BOTTLE,20230606CCHSIOCBG
EXPOCODE,SECT_ID,STNNBR,CASTNO,SAMPNO,BTLNBR,BTLNBR_FLAG_W,DATE,TIME,LATITUDE,LONGITUDE,DEPTH,CTDPRS,CTDTMP,CTDSAL,CTDSAL_FLAG_W,SALNTY,SALNTY_FLAG_W,CTDOXY,CTDOXY_FLAG_W,OXYGEN,OXYGEN_FLAG_W,SILCAT,SILCAT_FLAG_W,NITRAT,NITRAT_FLAG_W,NITRIT,NITRIT_FLAG_W,PHSPHT,PHSPHT_FLAG_W,CFC-11,CFC-11_FLAG_W,CFC-12,CFC-12_FLAG_W,SF6,SF6_FLAG_W,TCARBN,TCARBN_FLAG_W,ALKALI,ALKALI_FLAG_W,PH_SWS,PH_SWS_FLAG_W,PH_TMP,DELC13,DELC13_FLAG_W,DELC14,DELC14_FLAG_W,C14ERR,CCL4,CCL4_FLAG_W,POC,POC_FLAG_W,DOC,DOC_FLAG_W,TDN,TDN_FLAG_W,PON,PON_FLAG_W,N2O,N2O_FLAG_W,D15N_NO3,D15N_NO3_FLAG_W,14C-DOC,14C-DOC_FLAG_W,14C-DOCERR,13C-DOC,13C-DOC_FLAG_W,N2/ARGON_UNSTRIPPED,N2/ARGON_UNSTRIPPED_FLAG_W,N2/ARGON_UNSTRIPPED_ERROR,N2/ARGON,N2/ARGON_FLAG_W,N2/ARGON_ERROR,D15N_N2,D15N_N2_FLAG_W,D15N_N2_ERROR,D15N_NO3_ERROR,D15N_NO2+NO3,D15N_NO2+NO3_FLAG_W,D18O_NO2+NO3,D18O_NO2+NO3_FLAG_W,D18O_NO3,D18O_NO3_FLAG_W,TDP,TDP_FLAG_W,N2O_ALT_1,N2O_ALT_1_FLAG_W,D15N_N2O,D15N_N2O_FLAG_W,D18O_N2O,D18O_N2O_FLAG_W,D15N_ALPHA_N2O,D15N_ALPHA_N2O_FLAG_W
,,,,,,,,,,,METERS,DBAR,ITS-90,PSS-78,,PSS-78,,UMOL/KG,,UMOL/KG,,UMOL/KG,,UMOL/KG,,UMOL/KG,,UMOL/KG,,PMOL/KG,,PMOL/KG,,FMOL/KG,,UMOL/KG,,UMOL/KG,,,,DEG C,/MILLE,,/MILLE,,/MILLE,PMOL/KG,,UG/KG,,UMOL/KG,,UMOL/KG,,UG/KG,,NMOL/KG,,/MILLE,,/MILLE,,/MILLE,/MILLE,,,,,,,,/MILLE,,/MILLE,/MILLE,/MILLE,,/MILLE,,/MILLE,,UMOL/KG,,NMOL/L,,/MILLE,,/MILLE,,/MILLE,
33RO20161119,        P18,     101,          1,          1,      11010,2,20161217,       1923,   -16.5002,  -103.0000,       3087,  3145.3,   1.8082,  34.6786,2,  34.6787,2,    144.5,2,   143.5,2,   132.4,6,    36.3,6,    0.00,6,   2.493,6,   0.0017,2,   0.0012,2,   0.0000,2,  2328.9,6,  2423.5,2,   7.5715,6,    25.00, -999.00,9,  -999.0,9,  -999.0,        0,2, -999.00,9,    36.4,2,   37.60,2, -999.00,9,    21.3568,2, -999.00,9,  -999.0,9,     -999.0,     -999.0,9,     -999.0,9,     -999.0,     -999.0,9,     -999.0,     -999.0,9,     -999.0,     -999.0,     -999.0,9,     -999.0,9,     -999.0,9,     -999.0,9,     -999.0,9,     -999.0,9,     -999.0,9,     -999.0,9
33RO20161119,        P18,     101,          1,          2,      11101,2,20161217,       1923,   -16.5002,  -103.0000,       3087,  2835.1,   1.8293,  34.6750,2,  34.6766,2,    147.5,2,   146.6,2,   126.9,6,    36.0,6,    0.00,6,   2.483,6,   0.0016,2,   0.0011,2,   0.0000,2,  2318.6,2,  2413.2,2,   7.5698,2,    25.00, -999.00,9,  -999.0,9,  -999.0,        0,2, -999.00,9,    36.3,2,   37.60,2, -999.00,9,    21.2096,2, -999.00,9,  -999.0,9,     -999.0,     -999.0,9,     -999.0,9,     -999.0,     -999.0,9,     -999.0,     -999.0,9,     -999.0,     -999.0,     -999.0,9,     -999.0,9,     -999.0,9,     -999.0,9,     -999.0,9,     -999.0,9,     -999.0,9,     -999.0,9
33RO20161119,        P18,     101,          1,          3,      11102,2,20161217,       1923,   -16.5002,  -103.0000,       3087,  2525.2,   1.8576,  34.6696,2,  34.6709,2,    147.4,2,   146.6,2,   123.7,6,    36.1,6,    0.00,6,   2.490,6,   0.0010,2,   0.0000,2,   0.0000,2,  2317.7,2,  2410.0,6,   7.5651,2,    25.00, -999.00,9,  -999.0,9,  -999.0,        0,2, -999.00,9,    38.6,2,   39.10,2, -999.00,9,    21.4741,2, -999.00,9,  -999.0,9,     -999.0,     -999.0,9,     -999.0,9,     -999.0,     -999.0,9,     -999.0,     -999.0,9,     -999.0,     -999.0,     -999.0,9,     -999.0,9,     -999.0,9,     -999.0,9,     -999.0,9,     -999.0,9,     -999.0,9,     -999.0,9
33RO20161119,        P18,     101,          1,          4,      11103,2,20161217,       1923,   -16.5002,  -103.0000,       3087,  2299.6,   1.9646,  34.6580,2,  34.6587,2,    145.6,2,   144.8,2,   119.1,6,    36.1,6,    0.01,6,   2.506,6,   0.0007,2,   0.0000,2,   0.0000,2,  2310.4,2,  2402.2,2,   7.5561,2,    25.00, -999.00,9,  -999.0,9,  -999.0,        0,2, -999.00,9,    37.8,2,   38.10,2, -999.00,9,    21.8282,2, -999.00,9,  -999.0,9,     -999.0,     -999.0,9,     -999.0,9,     -999.0,     -999.0,9,     -999.0,     -999.0,9,     -999.0,     -999.0,     -999.0,9,     -999.0,9,     -999.0,9,     -999.0,9,     -999.0,9,     -999.0,9,     -999.0,9,     -999.0,9
33RO20161119,        P18,     101,          1,          5,      11104,2,20161217,       1923,   -16.5002,  -103.0000,       3087,  2076.2,   2.1994,  34.6409,2,  34.6477,4,    128.4,2,   128.3,2,   118.7,2,    37.6,2,    0.00,2,   2.608,2,   0.0011,2,   0.0000,2,   0.0000,2,  2319.9,2,  2399.0,2,   7.5275,2,    25.00, -999.00,9,  -999.0,9,  -999.0,   0.0106,2, -999.00,9,    38.3,2,   39.30,2, -999.00,9,    23.5358,2, -999.00,9,  -999.0,9,     -999.0,     -999.0,9,     -999.0,9,     -999.0,     -999.0,9,     -999.0,     -999.0,9,     -999.0,     -999.0,     -999.0,9,     -999.0,9,     -999.0,9,     -999.0,9,     -999.0,9,     -999.0,9,     -999.0,9,     -999.0,9
33RO20161119,        P18,     101,          1,          6,      11105,2,20161217,       1923,   -16.5002,  -103.0000,       3087,  1840.3,   2.5494,  34.6187,2,  34.6580,4,    109.8,2,   109.0,2,   115.3,2,    39.0,2,    0.00,2,   2.734,2,   0.0022,2,   0.0005,2,   0.0000,2,  2327.8,6,  2390.6,2,   7.4914,2,    25.00, -999.00,9,  -999.0,9,  -999.0,        0,2, -999.00,9,    38.9,2,   42.90,2, -999.00,9,    26.1346,2, -999.00,9,  -999.0,9,     -999.0,     -999.0,9,     -999.0,9,     -999.0,     -999.0,9,     -999.0,     -999.0,9,     -999.0,     -999.0,     -999.0,9,     -999.0,9,     -999.0,9,     -999.0,9,     -999.0,9,     -999.0,9,     -999.0,9,     -999.0,9
33RO20161119,        P18,     101,          1,          7,      11106,2,20161217,       1923,   -16.5002,  -103.0000,       3087,  1595.1,   2.8826,  34.5968,2,  34.5968,2,     99.0,2,    98.2,2,   107.9,2,    40.0,2,    0.00,2,   2.812,2,   0.0019,2,   0.0015,2,   0.0000,2,  2325.4,2,  2380.9,2,   7.4682,2,    25.00, -999.00,9,  -999.0,9,  -999.0,   0.0129,2, -999.00,9,    36.0,2,   43.30,2, -999.00,9,    29.3866,2, -999.00,9,  -999.0,9,     -999.0,     -999.0,9,     -999.0,9,     -999.0,     -999.0,9,     -999.0,     -999.0,9,     -999.0,     -999.0,     -999.0,9,     -999.0,9,     -999.0,9,     -999.0,9,     -999.0,9,     -999.0,9,     -999.0,9,     -999.0,9
33RO20161119,        P18,     101,          1,          8,      11107,2,20161217,       1923,   -16.5002,  -103.0000,       3087,  1349.8,   3.4814,  34.5630,2,  34.5646,2,     87.3,2,    86.3,2,    93.6,2,    40.8,2,    0.00,2,   2.886,2,   0.0018,6,   0.0011,6,   0.0000,6,  2314.4,2,  2363.9,2,   7.4448,2,    25.00, -999.00,9,  -999.0,9,  -999.0,        0,2, -999.00,9,    40.1,2,   43.80,2, -999.00,9,    31.3019,2, -999.00,9,  -999.0,9,     -999.0,     -999.0,9,     -999.0,9,     -999.0,     -999.0,9,     -999.0,     -999.0,9,     -999.0,     -999.0,     -999.0,9,     -999.0,9,     -999.0,9,     -999.0,9,     -999.0,9,     -999.0,9,     -999.0,9,     -999.0,9
33RO20161119,        P18,     101,          1,          9,      11108,2,20161217,       1923,   -16.5002,  -103.0000,       3087,  1141.2,   4.1425,  34.5330,2,  34.5322,2,     74.8,2,    73.5,2,    78.5,2,    42.1,2,    0.01,2,   2.961,2,   0.0011,2,   0.0010,2,   0.0000,2,  2305.4,2,  2350.2,2,   7.4230,2,    25.00, -999.00,9,  -999.0,9,  -999.0,   0.0252,2, -999.00,9,    39.6,2,   44.20,2, -999.00,9,    35.4879,2, -999.00,9,  -999.0,9,     -999.0,     -999.0,9,     -999.0,9,     -999.0,     -999.0,9,     -999.0,     -999.0,9,     -999.0,     -999.0,     -999.0,9,     -999.0,9,     -999.0,9,     -999.0,9,     -999.0,9,     -999.0,9,     -999.0,9,     -999.0,9
33RO20161119,        P18,     101,          1,         10,      11109,2,20161217,       1923,   -16.5002,  -103.0000,       3087,  1005.1,   4.5244,  34.5183,2,  34.5178,2,     76.5,2,    73.1,2,    69.6,2,    41.7,2,    0.00,2,   2.918,2,   0.0038,2,   0.0032,2,   0.0000,2,  2295.9,2,  2342.9,2,   7.4206,2,    25.00, -999.00,9,  -999.0,9,  -999.0,   0.0331,2, -999.00,9,    39.6,2,   45.40,2, -999.00,9,    36.4064,2, -999.00,9,  -999.0,9,     -999.0,     -999.0,9,     -999.0,9,     -999.0,     -999.0,9,     -999.0,     -999.0,9,     -999.0,     -999.0,     -999.0,9,     -999.0,9,     -999.0,9,     -999.0,9,     -999.0,9,     -999.0,9,     -999.0,9,     -999.0,9
33RO20161119,        P18,     101,          1,         11,      11110,2,20161217,       1923,   -16.5002,  -103.0000,       3087,   895.8,   5.0358,  34.5047,2,  34.5065,2,     79.7,2,    78.4,2,    58.2,2,    40.8,2,    0.01,2,   2.819,2,   0.0101,2,   0.0054,2,   0.0000,2,  2280.6,2,  2329.2,2,   7.4363,2,    25.00, -999.00,9,  -999.0,9,  -999.0,   0.0324,2, -999.00,9,    39.4,2,   43.50,2, -999.00,9,     35.878,2, -999.00,9,  -999.0,9,     -999.0,     -999.0,9,     -999.0,9,     -999.0,     -999.0,9,     -999.0,     -999.0,9,     -999.0,     -999.0,     -999.0,9,     -999.0,9,     -999.0,9,     -999.0,9,     -999.0,9,     -999.0,9,     -999.0,9,     -999.0,9
33RO20161119,        P18,     101,          1,         12,      11111,2,20161217,       1923,   -16.5002,  -103.0000,       3087,   794.8,   5.5167,  34.5046,2,  34.5061,2,     75.6,2,    74.2,2,    51.0,2,    40.6,2,    0.00,2,   2.797,2,   0.0135,2,   0.0082,2,   0.0000,2,  2273.2,2,  2321.2,2,   7.4358,6,    25.00, -999.00,9,  -999.0,9,  -999.0,   0.0676,2, -999.00,9,    41.8,2,   43.00,2, -999.00,9,    37.8213,2, -999.00,9,  -999.0,9,     -999.0,     -999.0,9,     -999.0,9,     -999.0,     -999.0,9,     -999.0,     -999.0,9,     -999.0,     -999.0,     -999.0,9,     -999.0,9,     -999.0,9,     -999.0,9,     -999.0,9,     -999.0,9,     -999.0,9,     -999.0,9
33RO20161119,        P18,     101,          1,         13,      11112,2,20161217,       1923,   -16.5002,  -103.0000,       3087,   695.0,   6.2048,  34.5215,2,  34.5225,2,     47.5,2,    46.8,2,    45.7,2,    42.3,2,    0.00,2,   2.911,2,   0.0176,2,   0.0097,2,   0.0000,2,  2282.0,2,  2313.8,2,   7.3870,3,    25.00, -999.00,9,  -999.0,9,  -999.0,   0.0721,2, -999.00,9,    41.2,2,   45.70,2, -999.00,9,    47.2301,2, -999.00,9,  -999.0,9,     -999.0,     -999.0,9,     -999.0,9,     -999.0,     -999.0,9,     -999.0,     -999.0,9,     -999.0,     -999.0,     -999.0,9,     -999.0,9,     -999.0,9,     -999.0,9,     -999.0,9,     -999.0,9,     -999.0,9,     -999.0,9
33RO20161119,        P18,     101,          1,         14,      11113,2,20161217,       1923,   -16.5002,  -103.0000,       3087,   599.7,   6.8065,  34.5364,2,  34.5508,4,     53.7,2,    53.2,2,    38.5,2,    40.0,2,    0.00,2,   2.753,2,   0.0564,2,   0.0326,2,   0.0000,2,  2267.3,2,  2307.9,2,   7.4123,2,    25.00, -999.00,9,  -999.0,9,  -999.0,   0.0883,2, -999.00,9,    43.2,2,   43.20,2, -999.00,9,    46.1952,2, -999.00,9,  -999.0,9,     -999.0,     -999.0,9,     -999.0,9,     -999.0,     -999.0,9,     -999.0,     -999.0,9,     -999.0,     -999.0,     -999.0,9,     -999.0,9,     -999.0,9,     -999.0,9,     -999.0,9,     -999.0,9,     -999.0,9,     -999.0,9
33RO20161119,        P18,     101,          1,         15,      11114,2,20161217,       1923,   -16.5002,  -103.0000,       3087,   509.5,   7.6372,  34.5743,2,  34.5732,2,     44.5,2,    44.8,2,    33.6,2,    38.9,2,    0.00,2,   2.673,2,   0.1161,2,   0.0643,2,   0.0000,2,  2264.6,2,  2301.6,2,   7.4113,2,    25.00, -999.00,9,  -999.0,9,  -999.0,   0.1074,2, -999.00,9,    42.8,2,   42.60,2, -999.00,9,    50.9387,2, -999.00,9,  -999.0,9,     -999.0,     -999.0,9,     -999.0,9,     -999.0,     -999.0,9,     -999.0,     -999.0,9,     -999.0,     -999.0,     -999.0,9,     -999.0,9,     -999.0,9,     -999.0,9,     -999.0,9,     -999.0,9,     -999.0,9,     -999.0,9
33RO20161119,        P18,     101,          1,         16,      11115,2,20161217,       1923,   -16.5002,  -103.0000,       3087,   430.4,   8.6497,  34.6060,2,  34.6062,2,     28.5,2,    29.9,6,    28.5,2,    37.3,2,    0.00,2,   2.649,2,   0.2724,2,   0.1459,2,   0.0756,2,  2267.3,2,  2298.3,6,   7.3869,2,    25.00, -999.00,9,  -999.0,9,  -999.0,   0.2301,2, -999.00,9,    42.0,2,   40.30,2, -999.00,9,    54.1633,2, -999.00,9,  -999.0,9,     -999.0,     -999.0,9,     -999.0,9,     -999.0,     -999.0,9,     -999.0,     -999.0,9,     -999.0,     -999.0,     -999.0,9,     -999.0,9,     -999.0,9,     -999.0,9,     -999.0,9,     -999.0,9,     -999.0,9,     -999.0,9
33RO20161119,        P18,     101,          1,         17,      11116,2,20161217,       1923,   -16.5002,  -103.0000,       3087,   349.7,   9.8058,  34.6317,2,  34.6310,2,     18.1,2,    17.8,2,    24.3,2,    33.2,2,    0.00,2,   2.661,2,   0.6273,2,   0.3356,2,   0.1209,2,  2269.2,2,  2292.3,2,   7.3678,2,    25.00, -999.00,9,  -999.0,9,  -999.0,    0.441,2, -999.00,9,    45.8,2,   35.20,2, -999.00,9,    50.9872,2, -999.00,9,  -999.0,9,     -999.0,     -999.0,9,     -999.0,9,     -999.0,     -999.0,9,     -999.0,     -999.0,9,     -999.0,     -999.0,     -999.0,9,     -999.0,9,     -999.0,9,     -999.0,9,     -999.0,9,     -999.0,9,     -999.0,9,     -999.0,9
33RO20161119,        P18,     101,          1,         18,      11117,2,20161217,       1923,   -16.5002,  -103.0000,       3087,   270.3,  11.5248,  34.5868,2,  34.5854,2,     68.4,2,    66.0,2,    14.6,2,    23.1,2,    0.01,2,   2.182,2,   1.9560,2,   1.0916,2,   0.6436,2,  2223.5,2,  2288.0,2,   7.4891,2,    25.00, -999.00,9,  -999.0,9,  -999.0,   0.9461,2, -999.00,9,    44.9,2,   25.70,2, -999.00,9,    34.6402,2, -999.00,9,  -999.0,9,     -999.0,     -999.0,9,     -999.0,9,     -999.0,     -999.0,9,     -999.0,     -999.0,9,     -999.0,     -999.0,     -999.0,9,     -999.0,9,     -999.0,9,     -999.0,9,     -999.0,9,     -999.0,9,     -999.0,9,     -999.0,9
33RO20161119,        P18,     101,          1,         19,      11083,2,20161217,       1923,   -16.5002,  -103.0000,       3087,   205.3,  15.3196,  34.9388,2,  34.9325,2,    176.7,2,   175.3,2,     2.4,2,     9.7,2,    0.01,2,   0.954,2,   2.5137,2,   1.5148,2,   1.4165,2,  2125.5,2,  2309.8,2,   7.8069,2,    25.00, -999.00,9,  -999.0,9,  -999.0,   1.0214,2, -999.00,9,    49.8,2,   11.80,2, -999.00,9,     16.013,2, -999.00,9,  -999.0,9,     -999.0,     -999.0,9,     -999.0,9,     -999.0,     -999.0,9,     -999.0,     -999.0,9,     -999.0,     -999.0,     -999.0,9,     -999.0,9,     -999.0,9,     -999.0,9,     -999.0,9,     -999.0,9,     -999.0,9,     -999.0,9
33RO20161119,        P18,     101,          1,         20,      11118,2,20161217,       1923,   -16.5002,  -103.0000,       3087,   145.5,  19.9648,  35.7002,2,  35.6874,2,    191.2,2,   186.1,2,     1.4,2,     4.9,2,    0.67,2,   0.775,2,   2.0540,6,   1.2814,6,   1.5361,6,  2116.0,2,  2358.6,2,   7.9163,2,    25.00, -999.00,9,  -999.0,9,  -999.0,   1.5332,2, -999.00,9,    57.8,2,    7.90,2, -999.00,9,    10.0594,2, -999.00,9,  -999.0,9,     -999.0,     -999.0,9,     -999.0,9,     -999.0,     -999.0,9,     -999.0,     -999.0,9,     -999.0,     -999.0,     -999.0,9,     -999.0,9,     -999.0,9,     -999.0,9,     -999.0,9,     -999.0,9,     -999.0,9,     -999.0,9
33RO20161119,        P18,     101,          1,         21,      11119,2,20161217,       1923,   -16.5002,  -103.0000,       3087,    95.6,  22.1009,  36.1021,2,  36.0990,2,    212.7,2,   210.7,2,     0.9,2,     0.3,2,    0.06,2,   0.416,2,   1.8613,2,   1.1683,2,   1.5240,2,  2086.3,2,  2382.3,2,   8.0076,2,    25.00, -999.00,9,  -999.0,9,  -999.0,   1.7942,2, -999.00,9,    67.2,2,    5.00,2, -999.00,9,     7.0896,2, -999.00,9,  -999.0,9,     -999.0,     -999.0,9,     -999.0,9,     -999.0,     -999.0,9,     -999.0,     -999.0,9,     -999.0,     -999.0,     -999.0,9,     -999.0,9,     -999.0,9,     -999.0,9,     -999.0,9,     -999.0,9,     -999.0,9,     -999.0,9
33RO20161119,        P18,     101,          1,         22,      11120,2,20161217,       1923,   -16.5002,  -103.0000,       3087,    50.3,  23.1917,  36.2020,2,  36.1961,2,    217.2,2,   218.2,2,     0.9,2,     0.0,2,    0.00,2,   0.321,2,   1.7992,2,   1.1341,2,   1.5108,2,  2074.0,2,  2392.4,2,   8.0339,2,    25.00, -999.00,9,  -999.0,9,  -999.0,   1.7785,2, -999.00,9,    71.5,2,    3.90,2, -999.00,9,     6.8847,2, -999.00,9,  -999.0,9,     -999.0,     -999.0,9,     -999.0,9,     -999.0,     -999.0,9,     -999.0,     -999.0,9,     -999.0,     -999.0,     -999.0,9,     -999.0,9,     -999.0,9,     -999.0,9,     -999.0,9,     -999.0,9,     -999.0,9,     -999.0,9
33RO20161119,        P18,     101,          1,         23,      11121,2,20161217,       1923,   -16.5002,  -103.0000,       3087,    20.2,  23.5909,  36.2337,2,  36.2320,2,    214.5,2,   214.5,2,     0.8,2,     0.0,2,    0.00,2,   0.319,2,   1.7837,2,   1.1194,2,   1.4328,2,  2078.0,2,  2390.9,6,   8.0339,2,    25.00, -999.00,9,  -999.0,9,  -999.0,        0,2, -999.00,9,    70.4,2,    5.90,2, -999.00,9,      6.965,2, -999.00,9,  -999.0,9,     -999.0,     -999.0,9,     -999.0,9,     -999.0,     -999.0,9,     -999.0,     -999.0,9,     -999.0,     -999.0,     -999.0,9,     -999.0,9,     -999.0,9,     -999.0,9,     -999.0,9,     -999.0,9,     -999.0,9,     -999.0,9
33RO20161119,        P18,     101,          1,         24,      11122,2,20161217,       1923,   -16.5002,  -103.0000,       3087,     3.4,  23.8061,  36.2376,2,  36.2372,2,    211.7,2,   213.7,2,     0.9,2,     0.0,2,    0.00,2,   0.324,2,   1.7677,2,   1.1119,2,   1.4836,2,  2079.0,6,  2393.9,2,   8.0338,2,    25.00, -999.00,9,  -999.0,9,  -999.0,        0,2, -999.00,9,    72.7,2,    4.60,2, -999.00,9,     6.8261,2, -999.00,9,  -999.0,9,     -999.0,     -999.0,9,     -999.0,9,     -999.0,     -999.0,9,     -999.0,     -999.0,9,     -999.0,     -999.0,     -999.0,9,     -999.0,9,     -999.0,9,     -999.0,9,     -999.0,9,     -999.0,9,     -999.0,9,     -999.0,9