BOTTLE,20230513CCHSIOCBG
EXPOCODE,SECT_ID,STNNBR,CASTNO,SAMPNO,BTLNBR,BTLNBR_FLAG_W,DATE,TIME,LATITUDE,LONGITUDE,DEPTH,CTDPRS,CTDTMP,CTDSAL,CTDSAL_FLAG_W,SALNTY,SALNTY_FLAG_W,CTDOXY,CTDOXY_FLAG_W,OXYGEN,OXYGEN_FLAG_W,SILCAT,SILCAT_FLAG_W,NITRAT,NITRAT_FLAG_W,NITRIT,NITRIT_FLAG_W,PHSPHT,PHSPHT_FLAG_W,CFC-11,CFC-11_FLAG_W,CFC-12,CFC-12_FLAG_W,SF6,SF6_FLAG_W,TCARBN,TCARBN_FLAG_W,ALKALI,ALKALI_FLAG_W,FCO2,FCO2_FLAG_W,FCO2TMP,PH_TOT,PH_TOT_FLAG_W,PH_TMP,DELC13,DELC13_FLAG_W,DELC14,DELC14_FLAG_W,C14ERR,DELO18,DELO18_FLAG_W,POC,POC_FLAG_W,DOC,DOC_FLAG_W,TDN,TDN_FLAG_W,N2O,N2O_FLAG_W,BTL_DATE,BTL_TIME,BTL_LAT,BTL_LON,REFTMP,REFTMP_FLAG_W,CTDFLUOR,CTDFLUOR_FLAG_W,CTDXMISS,CTDXMISS_FLAG_W,D15N_NO2+NO3,D15N_NO2+NO3_FLAG_W,D18O_NO2+NO3,D18O_NO2+NO3_FLAG_W,HPLC,HPLC_FLAG_W
,,,,,,,,,,,METERS,DBAR,ITS-90,PSS-78,,PSS-78,,UMOL/KG,,UMOL/KG,,UMOL/KG,,UMOL/KG,,UMOL/KG,,UMOL/KG,,PMOL/KG,,PMOL/KG,,FMOL/KG,,UMOL/KG,,UMOL/KG,,UATM,,DEG C,,,DEG C,/MILLE,,/MILLE,,/MILLE,/MILLE,,UG/KG,,UMOL/KG,,UMOL/KG,,NMOL/KG,,,,,,ITS-90,,VOLTS,,VOLTS,,/MILLE,,/MILLE,,,
325020210420,        A22,      41,          1,         36,         36,2,20210501,       0655,    20.3610,   -66.0000,       5956,     5.3,  26.4868,  36.7332,2,  36.7353,2,    203.2,2,   202.2,2,    0.97,2,    0.00,2,    0.00,2,    0.00,2,-999.000,9,-999.000,9,-999.0000,9,  2058.8,6, 2404.23,2, -999.000,9,  -999.00,   8.10201,2,    25.02, -999.00,9, -999.00,9, -999.00, -999.00,9,-999.000,9, -999.00,9, -999.00,9,     -999.0,9, 20210501,      932,  20.3610, -66.0000,    26.4832,2,     0.0431,1,     4.6323,1,     -999.0,1,     -999.0,1,     -999.0,9
325020210420,        A22,      41,          1,         35,         35,2,20210501,       0655,    20.3610,   -66.0000,       5956,    25.1,  26.4974,  36.7338,2,  36.7395,2,    203.3,2,   202.5,2,    0.88,2,    0.00,2,    0.00,2,    0.00,2,-999.000,9,-999.000,9,-999.0000,9,  -999.0,9, -999.00,9, -999.000,9,  -999.00,-999.00000,9,  -999.00, -999.00,9, -999.00,9, -999.00, -999.00,9,-999.000,9, -999.00,9, -999.00,9,     -999.0,9, 20210501,      930,  20.3610, -66.0000,    26.4968,2,     0.0420,1,     4.6326,1,     -999.0,1,     -999.0,1,     -999.0,9
325020210420,        A22,      41,          1,         34,         34,2,20210501,       0655,    20.3610,   -66.0000,       5956,    50.0,  26.3540,  36.8394,2,  36.8302,2,    204.4,2,   204.2,2,    0.88,2,    0.00,2,    0.00,2,    0.00,2,-999.000,9,-999.000,9,-999.0000,9,  -999.0,9, -999.00,9, -999.000,9,  -999.00,-999.00000,9,  -999.00, -999.00,9, -999.00,9, -999.00, -999.00,9,-999.000,9, -999.00,9, -999.00,9,     -999.0,9, 20210501,      927,  20.3610, -66.0000,    26.3507,2,     0.0421,1,     4.6286,1,     -999.0,1,     -999.0,1,     -999.0,9
325020210420,        A22,      41,          1,         33,         33,2,20210501,       0655,    20.3610,   -66.0000,       5956,    74.8,  25.8453,  36.8566,2,  36.8599,2,    208.1,2,   207.0,2,    0.97,2,    0.00,2,    0.00,2,    0.00,2,   1.552,2,   0.989,2,   1.6800,2,  2062.2,2, 2411.92,2, -999.000,9,  -999.00,   8.10609,6,    25.01, -999.00,9, -999.00,9, -999.00, -999.00,9,-999.000,9, -999.00,9, -999.00,9,       6.00,2, 20210501,      924,  20.3610, -66.0000,    25.8431,2,     0.0447,1,     4.6305,1,     -999.0,1,     -999.0,1,     -999.0,9
325020210420,        A22,      41,          1,         32,         32,2,20210501,       0655,    20.3610,   -66.0000,       5956,   100.2,  25.6140,  36.9151,2,  36.9181,2,    207.3,2,   206.9,2,    0.97,2,    0.00,2,    0.00,2,    0.00,2,-999.000,9,-999.000,9,-999.0000,9,  -999.0,9, -999.00,9, -999.000,9,  -999.00,-999.00000,9,  -999.00, -999.00,9, -999.00,9, -999.00, -999.00,9,-999.000,9, -999.00,9, -999.00,9,     -999.0,9, 20210501,      923,  20.3610, -66.0000,    25.6238,2,     0.0502,1,     4.6320,1,     -999.0,1,     -999.0,1,     -999.0,9
325020210420,        A22,      41,          1,         31,         31,2,20210501,       0655,    20.3610,   -66.0000,       5956,   150.6,  24.7681,  37.2215,2,  37.2203,2,    199.8,2,   200.4,2,    0.49,2,    0.00,2,    0.00,2,    0.00,2,-999.000,9,-999.000,9,-999.0000,9,  2104.4,2, 2428.95,2, -999.000,9,  -999.00,   8.06177,2,    25.01, -999.00,9, -999.00,9, -999.00, -999.00,9,-999.000,9, -999.00,9, -999.00,9,     -999.0,9, 20210501,      921,  20.3610, -66.0000,    24.7639,2,     0.0708,1,     4.6438,1,     -999.0,1,     -999.0,1,     -999.0,9
325020210420,        A22,      41,          1,         30,         30,2,20210501,       0655,    20.3610,   -66.0000,       5956,   201.7,  21.8382,  37.0685,2,  37.0690,2,    182.2,2,   183.2,2,    0.39,2,    0.98,2,    0.01,2,    0.00,2,-999.000,9,-999.000,9,-999.0000,9,  -999.0,9, -999.00,9, -999.000,9,  -999.00,-999.00000,9,  -999.00, -999.00,9, -999.00,9, -999.00, -999.00,9,-999.000,9, -999.00,9, -999.00,9,     -999.0,9, 20210501,      918,  20.3610, -66.0000,    21.8379,2,     0.0484,1,     4.6638,1,     -999.0,1,     -999.0,1,     -999.0,9
325020210420,        A22,      41,          1,         29,         29,2,20210501,       0655,    20.3610,   -66.0000,       5956,   252.0,  19.8870,  36.7914,2,  36.7939,2,    161.1,3,   163.0,2,    1.27,2,    5.25,2,    0.00,2,    0.18,2,-999.000,9,-999.000,9,-999.0000,9,  -999.0,9, -999.00,9, -999.000,9,  -999.00,-999.00000,9,  -999.00, -999.00,9, -999.00,9, -999.00, -999.00,9,-999.000,9, -999.00,9, -999.00,9,     -999.0,9, 20210501,      916,  20.3610, -66.0000,    19.8865,2,     0.0403,1,     4.6703,1,     -999.0,1,     -999.0,1,     -999.0,9
325020210420,        A22,      41,          1,         28,         28,2,20210501,       0655,    20.3610,   -66.0000,       5956,   301.6,  17.7621,  36.4394,2,  36.4400,2,    150.7,2,   151.1,2,    2.73,2,    9.98,2,    0.00,2,    0.49,2,-999.000,9,-999.000,9,-999.0000,9,  2170.0,2, 2377.89,2, -999.000,9,  -999.00,   7.86545,2,    25.00, -999.00,9, -999.00,9, -999.00, -999.00,9,-999.000,9, -999.00,9, -999.00,9,     -999.0,9, 20210501,      913,  20.3610, -66.0000,    17.7623,2,     0.0402,1,     4.6717,1,     -999.0,1,     -999.0,1,     -999.0,9
325020210420,        A22,      41,          1,         27,         27,2,20210501,       0655,    20.3610,   -66.0000,       5956,   352.7,  16.6223,  36.2831,2,  36.2794,2,    168.8,2,   168.8,2,    2.63,2,    9.74,2,    0.00,2,    0.53,2,   2.225,2,   1.360,2,   1.4600,2,  2156.6,2, 2371.24,2, -999.000,9,  -999.00,   7.87475,2,    25.01, -999.00,9, -999.00,9, -999.00, -999.00,9,-999.000,9, -999.00,9, -999.00,9,      12.55,2, 20210501,      910,  20.3610, -66.0000,    16.6222,2,     0.0402,1,     4.6746,1,     -999.0,1,     -999.0,1,     -999.0,9
325020210420,        A22,      41,          1,         26,         26,2,20210501,       0655,    20.3610,   -66.0000,       5956,   449.1,  14.3186,  35.9024,2,  35.9034,2,    151.8,2,   152.6,2,    5.07,2,   15.04,2,    0.00,2,    0.86,2,-999.000,9,-999.000,9,-999.0000,9,  -999.0,9, -999.00,9, -999.000,9,  -999.00,-999.00000,9,  -999.00, -999.00,9, -999.00,9, -999.00, -999.00,9,-999.000,9, -999.00,9, -999.00,9,     -999.0,9, 20210501,      907,  20.3610, -66.0000,    14.4801,3,     0.0406,1,     4.6762,1,     -999.0,1,     -999.0,1,     -999.0,9
325020210420,        A22,      41,          1,         25,         25,2,20210501,       0655,    20.3610,   -66.0000,       5956,   508.8,  12.9226,  35.6539,2,  35.6542,2,    134.0,2,   133.8,2,    7.71,2,   19.35,2,    0.00,2,    1.11,2,   2.041,2,   1.168,2,   0.8900,2,  2190.8,2, 2336.69,2, -999.000,9,  -999.00,   7.73191,6,    25.00, -999.00,9, -999.00,9, -999.00, -999.00,9,-999.000,9, -999.00,9, -999.00,9,      20.65,2, 20210501,      905,  20.3610, -66.0000,    12.9236,2,     0.0411,1,     4.6757,1,     -999.0,1,     -999.0,1,     -999.0,9
325020210420,        A22,      41,          1,         24,         24,2,20210501,       0655,    20.3610,   -66.0000,       5956,   609.6,  11.0778,  35.3883,2,  35.3888,2,    129.6,2,   129.7,2,   10.83,2,   23.16,2,    0.00,2,    1.40,2,-999.000,9,-999.000,9,-999.0000,9,  -999.0,9, -999.00,9, -999.000,9,  -999.00,-999.00000,9,  -999.00, -999.00,9, -999.00,9, -999.00, -999.00,9,-999.000,9, -999.00,9, -999.00,9,     -999.0,9, 20210501,      901,  20.3610, -66.0000,    11.0769,2,     0.0413,1,     4.6777,1,     -999.0,1,     -999.0,1,     -999.0,9
325020210420,        A22,      41,          1,         23,         23,2,20210501,       0655,    20.3610,   -66.0000,       5956,   711.0,   9.4202,  35.1598,2,  35.1573,2,    127.1,2,   127.1,2,   14.73,2,   26.63,2,    0.00,2,    1.65,2,-999.000,9,-999.000,9,-999.0000,9,  2205.4,2, 2315.43,2, -999.000,9,  -999.00,   7.63622,2,    25.01, -999.00,9, -999.00,9, -999.00, -999.00,9,-999.000,9, -999.00,9, -999.00,9,     -999.0,9, 20210501,      857,  20.3610, -66.0000,     9.4189,2,     0.0412,1,     4.6773,1,     -999.0,1,     -999.0,1,     -999.0,9
325020210420,        A22,      41,          1,         22,         22,2,20210501,       0655,    20.3610,   -66.0000,       5956,   812.1,   8.0604,  35.0145,2,  35.0144,2,    131.7,2,   131.8,2,   18.15,2,   28.44,2,    0.00,2,    1.80,2,-999.000,9,-999.000,9,-999.0000,9,  -999.0,9, -999.00,9, -999.000,9,  -999.00,-999.00000,9,  -999.00, -999.00,9, -999.00,9, -999.00, -999.00,9,-999.000,9, -999.00,9, -999.00,9,     -999.0,9, 20210501,      854,  20.3610, -66.0000,     8.0584,2,     0.0425,1,     4.6794,1,     -999.0,1,     -999.0,1,     -999.0,9
325020210420,        A22,      41,          1,         21,         21,2,20210501,       0655,    20.3610,   -66.0000,       5956,   912.6,   6.9466,  34.9245,2,  34.9250,2,    140.5,2,   140.6,2,   20.59,2,   29.10,2,    0.00,2,    1.86,2,-999.000,9,-999.000,9,-999.0000,9,  2210.9,2, 2308.48,2, -999.000,9,  -999.00,   7.60603,2,    25.01, -999.00,9, -999.00,9, -999.00, -999.00,9,-999.000,9, -999.00,9, -999.00,9,     -999.0,9, 20210501,      850,  20.3610, -66.0000,     6.9488,2,     0.0423,1,     4.6792,1,     -999.0,1,     -999.0,1,     -999.0,9
325020210420,        A22,      41,          1,         20,         20,2,20210501,       0655,    20.3610,   -66.0000,       5956,  1014.2,   6.5519,  34.9894,2,  34.9904,2,    164.7,2,   164.3,2,   18.83,2,   26.08,2,    0.00,2,    1.69,2,   0.763,2,   0.406,2,   0.2700,2,  -999.0,9, -999.00,9, -999.000,9,  -999.00,-999.00000,9,  -999.00, -999.00,9, -999.00,9, -999.00, -999.00,9,-999.000,9, -999.00,9, -999.00,9,      20.46,2, 20210501,      847,  20.3610, -66.0000,     6.5506,2,     0.0416,1,     4.6802,1,     -999.0,1,     -999.0,1,     -999.0,9
325020210420,        A22,      41,          1,         19,         19,2,20210501,       0655,    20.3610,   -66.0000,       5956,  1119.6,   5.8204,  35.0316,2,  35.0319,2,    199.1,2,   199.0,2,   16.10,2,   22.42,2,    0.00,2,    1.45,2,-999.000,9,-999.000,9,-999.0000,9,  2189.1,2,  2312.4,2, -999.000,9,  -999.00,   7.68102,2,    25.02, -999.00,9, -999.00,9, -999.00, -999.00,9,-999.000,9, -999.00,9, -999.00,9,     -999.0,9, 20210501,      844,  20.3610, -66.0000,     5.8208,2,     0.0428,1,     4.6814,1,     -999.0,1,     -999.0,1,     -999.0,9
325020210420,        A22,      41,          1,         18,         18,2,20210501,       0655,    20.3610,   -66.0000,       5956,  1221.3,   5.2433,  35.0444,2,  35.0443,2,    226.6,2,   226.5,2,   13.56,2,   19.79,2,    0.00,2,    1.30,2,-999.000,9,-999.000,9,-999.0000,9,  -999.0,9, -999.00,9, -999.000,9,  -999.00,-999.00000,9,  -999.00, -999.00,9, -999.00,9, -999.00, -999.00,9,-999.000,9, -999.00,9, -999.00,9,     -999.0,9, 20210501,      839,  20.3610, -66.0000,     5.2422,2,     0.0420,1,     4.6822,1,     -999.0,1,     -999.0,1,     -999.0,9
325020210420,        A22,      41,          1,         17,         17,2,20210501,       0655,    20.3610,   -66.0000,       5956,  1322.4,   4.8298,  35.0291,2,  35.0299,2,    239.1,2,   239.5,2,   12.98,2,   18.94,2,    0.00,2,    1.24,2,   1.948,2,   1.003,2,   0.6200,2,  -999.0,9, -999.00,9, -999.000,9,  -999.00,-999.00000,9,  -999.00, -999.00,9, -999.00,9, -999.00, -999.00,9,-999.000,9, -999.00,9, -999.00,9,      14.45,2, 20210501,      837,  20.3610, -66.0000,     4.8321,2,     0.0417,1,     4.6825,1,     -999.0,1,     -999.0,1,     -999.0,9
325020210420,        A22,      41,          1,         16,         16,2,20210501,       0655,    20.3610,   -66.0000,       5956,  1423.7,   4.5340,  35.0164,2,  35.0181,2,    246.8,2,   247.4,2,   12.78,2,   18.48,2,    0.00,2,    1.21,2,-999.000,9,-999.000,9,-999.0000,9,  -999.0,9, -999.00,9, -999.000,9,  -999.00,-999.00000,9,  -999.00, -999.00,9, -999.00,9, -999.00, -999.00,9,-999.000,9, -999.00,9, -999.00,9,     -999.0,9, 20210501,      834,  20.3610, -66.0000,     4.5323,2,     0.0410,1,     4.6821,1,     -999.0,1,     -999.0,1,     -999.0,9
325020210420,        A22,      41,          1,         15,         15,2,20210501,       0655,    20.3610,   -66.0000,       5956,  1631.9,   4.0738,  34.9930,2,  34.9943,2,    255.3,2,   255.5,2,   13.56,2,   18.08,2,    0.00,2,    1.18,2,-999.000,9,-999.000,9,-999.0000,9,  2167.7,2, 2307.19,2, -999.000,9,  -999.00,   7.72453,2,    25.03, -999.00,9, -999.00,9, -999.00, -999.00,9,-999.000,9, -999.00,9, -999.00,9,     -999.0,9, 20210501,      829,  20.3610, -66.0000,     4.0724,2,     0.0429,1,     4.6825,1,     -999.0,1,     -999.0,1,     -999.0,9
325020210420,        A22,      41,          1,         14,         14,2,20210501,       0655,    20.3610,   -66.0000,       5956,  1839.0,   3.7488,  34.9770,2,  34.9784,2,    258.7,2,   259.4,2,   14.93,2,   18.07,2,    0.00,2,    1.19,2,-999.000,9,-999.000,9,-999.0000,9,  -999.0,9, -999.00,9, -999.000,9,  -999.00,-999.00000,9,  -999.00, -999.00,9, -999.00,9, -999.00, -999.00,9,-999.000,9, -999.00,9, -999.00,9,     -999.0,9, 20210501,      824,  20.3610, -66.0000,     3.7513,2,     0.0424,1,     4.6824,1,     -999.0,1,     -999.0,1,     -999.0,9
325020210420,        A22,      41,          1,         13,         13,2,20210501,       0655,    20.3610,   -66.0000,       5956,  2041.7,   3.4843,  34.9656,2,  34.9658,2,    260.0,2,   261.5,2,   16.88,2,   18.10,2,    0.00,2,    1.20,2,   1.223,2,   0.599,2,   0.2500,2,  2166.1,2, 2311.07,2, -999.000,9,  -999.00,   7.73333,2,    25.03, -999.00,9, -999.00,9, -999.00, -999.00,9,-999.000,9, -999.00,9, -999.00,9,      13.46,2, 20210501,      819,  20.3610, -66.0000,     3.4843,2,     0.0423,1,     4.6826,1,     -999.0,1,     -999.0,1,     -999.0,9
325020210420,        A22,      41,          1,         12,         12,2,20210501,       0655,    20.3610,   -66.0000,       5956,  2301.5,   3.2004,  34.9535,2,  34.9534,2,    260.3,2,   261.0,2,   19.61,2,   18.32,2,    0.00,2,    1.22,2,-999.000,9,-999.000,9,-999.0000,9,  -999.0,9, -999.00,9, -999.000,9,  -999.00,-999.00000,9,  -999.00, -999.00,9, -999.00,9, -999.00, -999.00,9,-999.000,9, -999.00,9, -999.00,9,     -999.0,9, 20210501,      813,  20.3610, -66.0000,     3.2001,2,     0.0420,1,     4.6825,1,     -999.0,1,     -999.0,1,     -999.0,9
325020210420,        A22,      41,          1,         11,         11,2,20210501,       0655,    20.3610,   -66.0000,       5956,  2561.4,   2.9617,  34.9402,2,  34.9412,2,    261.2,2,   261.8,2,   21.47,2,   18.38,2,    0.00,2,    1.22,2,   0.868,2,   0.440,2,   0.2400,2,  -999.0,9, -999.00,9, -999.000,9,  -999.00,-999.00000,9,  -999.00, -999.00,9, -999.00,9, -999.00, -999.00,9,-999.000,9, -999.00,9, -999.00,9,      13.30,2, 20210501,      807,  20.3610, -66.0000,     2.9613,2,     0.0429,1,     4.6823,1,     -999.0,1,     -999.0,1,     -999.0,9
325020210420,        A22,      41,          1,         10,         10,2,20210501,       0655,    20.3610,   -66.0000,       5956,  2820.8,   2.7572,  34.9273,2,  34.9274,2,    262.7,2,   263.2,2,   23.62,2,   18.43,2,    0.00,2,    1.23,2,-999.000,9,-999.000,9,-999.0000,9,  -999.0,9, -999.00,9, -999.000,9,  -999.00,-999.00000,9,  -999.00, -999.00,9, -999.00,9, -999.00, -999.00,9,-999.000,9, -999.00,9, -999.00,9,     -999.0,9, 20210501,      801,  20.3610, -66.0000,     2.7578,2,     0.0424,1,     4.6810,1,     -999.0,1,     -999.0,1,     -999.0,9
325020210420,        A22,      41,          1,          9,          9,2,20210501,       0655,    20.3610,   -66.0000,       5956,  3080.6,   2.5955,  34.9165,2,  34.9179,2,    263.1,2,   263.5,2,   25.86,2,   18.59,2,    0.00,2,    1.25,2,   0.819,2,   0.417,2,   0.2000,2,  2171.2,2, 2318.32,6, -999.000,9,  -999.00,   7.73692,2,    25.05, -999.00,9, -999.00,9, -999.00, -999.00,9,-999.000,9, -999.00,9, -999.00,9,      13.31,2, 20210501,      756,  20.3610, -66.0000,     2.5954,2,     0.0421,1,     4.6821,1,     -999.0,1,     -999.0,1,     -999.0,9
325020210420,        A22,      41,          1,          8,          8,2,20210501,       0655,    20.3610,   -66.0000,       5956,  3393.1,   2.4328,  34.9052,2,  34.9058,2,    265.6,2,   266.0,2,   26.64,2,   18.41,2,    0.00,2,    1.24,2,-999.000,9,-999.000,9,-999.0000,9,  -999.0,9, -999.00,9, -999.000,9,  -999.00,-999.00000,9,  -999.00, -999.00,9, -999.00,9, -999.00, -999.00,9,-999.000,9, -999.00,9, -999.00,9,     -999.0,9, 20210501,      748,  20.3610, -66.0000,     2.4331,2,     0.0429,1,     4.6813,1,     -999.0,1,     -999.0,1,     -999.0,9
325020210420,        A22,      41,          1,          7,          7,2,20210501,       0655,    20.3610,   -66.0000,       5956,  3703.5,   2.3257,  34.8967,2,  34.8977,2,    265.2,2,   265.5,2,   29.18,2,   18.64,2,    0.00,2,    1.26,2,   0.856,2,   0.432,2,   0.2500,2,  2174.6,2, 2321.15,2, -999.000,9,  -999.00,   7.73506,2,    25.03, -999.00,9, -999.00,9, -999.00, -999.00,9,-999.000,9, -999.00,9, -999.00,9,      13.37,2, 20210501,      741,  20.3610, -66.0000,     2.3257,2,     0.0430,1,     4.6824,1,     -999.0,1,     -999.0,1,     -999.0,9
325020210420,        A22,      41,          1,          6,          6,2,20210501,       0655,    20.3610,   -66.0000,       5956,  4125.2,   2.2769,  34.8897,2,  34.8902,2,    264.8,2,   265.3,2,   31.03,2,   18.81,2,    0.00,2,    1.27,2,   0.940,2,   0.478,2,   0.3100,2,  -999.0,9, -999.00,9, -999.000,9,  -999.00,-999.00000,9,  -999.00, -999.00,9, -999.00,9, -999.00, -999.00,9,-999.000,9, -999.00,9, -999.00,9,      13.36,2, 20210501,      733,  20.3610, -66.0000,     2.2773,2,     0.0433,1,     4.6811,1,     -999.0,1,     -999.0,1,     -999.0,9
325020210420,        A22,      41,          1,          5,          5,2,20210501,       0655,    20.3610,   -66.0000,       5956,  4545.1,   2.2554,  34.8830,2,  34.8835,2,    262.0,2,   262.2,2,   34.74,2,   19.41,2,    0.00,2,    1.31,2,   0.806,2,   0.418,2,   0.2500,2,  -999.0,9, -999.00,9, -999.000,9,  -999.00,-999.00000,9,  -999.00, -999.00,9, -999.00,9, -999.00, -999.00,9,-999.000,9, -999.00,9, -999.00,9,      13.62,2, 20210501,      724,  20.3610, -66.0000,     2.2555,2,     0.0433,1,     4.6793,1,     -999.0,1,     -999.0,1,     -999.0,9
325020210420,        A22,      41,          1,          4,          4,2,20210501,       0655,    20.3610,   -66.0000,       5956,  4967.6,   2.1568,  34.8655,2,  34.8664,2,    255.0,2,   255.3,2,   44.99,2,   21.05,2,    0.00,2,    1.42,2,   0.465,2,   0.249,2,   0.1700,2,  2192.6,2, 2333.82,2, -999.000,9,  -999.00,   7.72169,6,    25.05, -999.00,9, -999.00,9, -999.00, -999.00,9,-999.000,9, -999.00,9, -999.00,9,      14.12,2, 20210501,      716,  20.3610, -66.0000,     2.1563,2,     0.0432,1,     4.6768,1,     -999.0,1,     -999.0,1,     -999.0,9
325020210420,        A22,      41,          1,          3,          3,4,20210501,       0655,    20.3610,   -66.0000,       5956,  5394.1,   2.0000,  34.8397,3,-999.0000,9,    246.8,3,  -999.0,9, -999.00,9, -999.00,9, -999.00,9, -999.00,9,-999.000,9,-999.000,9,-999.0000,9,  -999.0,9, -999.00,9, -999.000,9,  -999.00,-999.00000,9,  -999.00, -999.00,9, -999.00,9, -999.00, -999.00,9,-999.000,9, -999.00,9, -999.00,9,     -999.0,9, 20210501,      708,  20.3610, -66.0000,     2.0000,3,     0.0429,1,     4.6779,1,     -999.0,9,     -999.0,9,     -999.0,9