BOTTLE,20230513CCHSIOCBG
EXPOCODE,SECT_ID,STNNBR,CASTNO,SAMPNO,BTLNBR,BTLNBR_FLAG_W,DATE,TIME,LATITUDE,LONGITUDE,DEPTH,CTDPRS,CTDTMP,CTDSAL,CTDSAL_FLAG_W,SALNTY,SALNTY_FLAG_W,CTDOXY,CTDOXY_FLAG_W,OXYGEN,OXYGEN_FLAG_W,SILCAT,SILCAT_FLAG_W,NITRAT,NITRAT_FLAG_W,NITRIT,NITRIT_FLAG_W,PHSPHT,PHSPHT_FLAG_W,CFC-11,CFC-11_FLAG_W,CFC-12,CFC-12_FLAG_W,SF6,SF6_FLAG_W,TCARBN,TCARBN_FLAG_W,ALKALI,ALKALI_FLAG_W,FCO2,FCO2_FLAG_W,FCO2TMP,PH_TOT,PH_TOT_FLAG_W,PH_TMP,DELC13,DELC13_FLAG_W,DELC14,DELC14_FLAG_W,C14ERR,DELO18,DELO18_FLAG_W,POC,POC_FLAG_W,DOC,DOC_FLAG_W,TDN,TDN_FLAG_W,N2O,N2O_FLAG_W,BTL_DATE,BTL_TIME,BTL_LAT,BTL_LON,REFTMP,REFTMP_FLAG_W,CTDFLUOR,CTDFLUOR_FLAG_W,CTDXMISS,CTDXMISS_FLAG_W,D15N_NO2+NO3,D15N_NO2+NO3_FLAG_W,D18O_NO2+NO3,D18O_NO2+NO3_FLAG_W,HPLC,HPLC_FLAG_W
,,,,,,,,,,,METERS,DBAR,ITS-90,PSS-78,,PSS-78,,UMOL/KG,,UMOL/KG,,UMOL/KG,,UMOL/KG,,UMOL/KG,,UMOL/KG,,PMOL/KG,,PMOL/KG,,FMOL/KG,,UMOL/KG,,UMOL/KG,,UATM,,DEG C,,,DEG C,/MILLE,,/MILLE,,/MILLE,/MILLE,,UG/KG,,UMOL/KG,,UMOL/KG,,NMOL/KG,,,,,,ITS-90,,VOLTS,,VOLTS,,/MILLE,,/MILLE,,,
325020210420,        A22,       9,          1,         36,         36,2,20210423,       1620,    13.5620,   -69.8052,       4031,     5.2,  27.3208,  35.9247,2,  35.9273,2,    203.1,2,   201.3,2,    1.07,2,    0.01,2,    0.00,2,    0.00,2,-999.000,9,-999.000,9,-999.0000,9,  2024.2,6, 2354.75,2, -999.000,9,  -999.00,     8.097,2,    24.99, -999.00,9, -999.00,9, -999.00, -999.00,1,-999.000,9, -999.00,9, -999.00,9,     -999.0,9, 20210423,     1811,  13.5620, -69.8052,    27.3257,2,     0.0430,1,     4.6067,1,     -999.0,9,     -999.0,9,     -999.0,9
325020210420,        A22,       9,          1,         35,         35,2,20210423,       1620,    13.5620,   -69.8052,       4031,    35.5,  27.1928,  35.9245,2,  35.9273,2,    203.1,2,   202.3,2,    1.07,2,    0.00,2,    0.00,2,    0.00,2,-999.000,9,-999.000,9,-999.0000,9,  -999.0,9, -999.00,9, -999.000,9,  -999.00,-999.00000,9,  -999.00, -999.00,9, -999.00,9, -999.00, -999.00,9,-999.000,9, -999.00,9, -999.00,9,     -999.0,9, 20210423,     1809,  13.5621, -69.8053,    27.1923,2,     0.0513,1,     4.6029,1,     -999.0,9,     -999.0,9,     -999.0,9
325020210420,        A22,       9,          1,         34,         34,2,20210423,       1620,    13.5620,   -69.8052,       4031,    60.9,  26.6211,  36.2575,2,  36.2517,2,    205.7,2,   205.1,2,    1.17,2,    0.00,2,    0.00,2,    0.00,2,-999.000,9,-999.000,9,-999.0000,9,  -999.0,9, -999.00,9, -999.000,9,  -999.00,-999.00000,9,  -999.00, -999.00,9, -999.00,9, -999.00, -999.00,9,-999.000,9, -999.00,9, -999.00,9,     -999.0,9, 20210423,     1808,  13.5620, -69.8052,    26.6203,2,     0.0618,1,     4.6154,1,     -999.0,9,     -999.0,9,     -999.0,9
325020210420,        A22,       9,          1,         33,         33,2,20210423,       1620,    13.5620,   -69.8052,       4031,    84.7,  26.0240,  36.8534,2,  36.8522,2,    192.9,2,   193.3,2,    0.88,2,    0.10,2,    0.08,2,    0.00,2,-999.000,9,-999.000,9,-999.0000,9,  2076.1,2,  2409.8,2, -999.000,9,  -999.00,   8.07853,6,    25.01, -999.00,9, -999.00,9, -999.00, -999.00,1,-999.000,9, -999.00,9, -999.00,9,     -999.0,9, 20210423,     1807,  13.5620, -69.8052,    26.0233,2,     0.1044,1,     4.6110,1,     -999.0,9,     -999.0,9,     -999.0,9
325020210420,        A22,       9,          1,         32,         32,2,20210423,       1620,    13.5620,   -69.8052,       4031,   110.9,  24.4180,  37.2422,2,  37.2489,2,    180.2,3,   182.1,2,    0.49,2,    0.96,2,    0.05,2,    0.01,2,-999.000,9,-999.000,9,-999.0000,9,  -999.0,9, -999.00,9, -999.000,9,  -999.00,-999.00000,9,  -999.00, -999.00,9, -999.00,9, -999.00, -999.00,9,-999.000,9, -999.00,9, -999.00,9,     -999.0,9, 20210423,     1805,  13.5620, -69.8052,    24.3966,2,     0.0592,1,     4.6587,1,     -999.0,9,     -999.0,9,     -999.0,9
325020210420,        A22,       9,          1,         31,         31,2,20210423,       1620,    13.5620,   -69.8052,       4031,   136.2,  22.0782,  37.0880,2,  37.0720,2,    162.6,2,   163.3,2,    0.97,2,    3.17,2,    0.01,2,    0.11,2,-999.000,9,-999.000,9,-999.0000,9,  2154.6,2, -999.00,9, -999.000,9,  -999.00,   7.96057,2,    25.00, -999.00,9, -999.00,9, -999.00, -999.00,9,-999.000,9, -999.00,9, -999.00,9,     -999.0,9, 20210423,     1804,  13.5621, -69.8053,    22.0815,2,     0.0437,1,     4.6718,1,     -999.0,9,     -999.0,9,     -999.0,9
325020210420,        A22,       9,          1,         30,         30,2,20210423,       1620,    13.5620,   -69.8052,       4031,   165.8,  20.2267,  36.8238,2,  36.8280,2,    165.1,2,   165.2,2,    1.17,2,    4.50,2,    0.00,2,    0.16,2,-999.000,9,-999.000,9,-999.0000,9,  -999.0,9, -999.00,9, -999.000,9,  -999.00,-999.00000,9,  -999.00, -999.00,9, -999.00,9, -999.00, -999.00,9,-999.000,9, -999.00,9, -999.00,9,     -999.0,9, 20210423,     1802,  13.5620, -69.8052,    20.2244,2,     0.0396,1,     4.6761,1,     -999.0,9,     -999.0,9,     -999.0,9
325020210420,        A22,       9,          1,         29,         29,2,20210423,       1620,    13.5620,   -69.8052,       4031,   216.4,  17.8159,  36.4587,2,  36.4548,2,    164.8,2,   165.4,2,    2.14,2,    8.18,2,    0.00,2,    0.38,2,-999.000,9,-999.000,9,-999.0000,9,  2155.5,2, 2380.03,6, -999.000,9,  -999.00,    7.8968,2,    24.97, -999.00,9, -999.00,9, -999.00, -999.00,9,-999.000,9, -999.00,9, -999.00,9,     -999.0,9, 20210423,     1800,  13.5620, -69.8053,    17.8162,2,     0.0401,1,     4.6771,1,     -999.0,9,     -999.0,9,     -999.0,9
325020210420,        A22,       9,          1,         28,         28,2,20210423,       1620,    13.5620,   -69.8052,       4031,   266.7,  15.6513,  36.0803,2,  36.0786,2,    146.1,2,   146.8,2,    4.48,2,   13.65,2,    0.00,2,    0.73,2,-999.000,9,-999.000,9,-999.0000,9,  -999.0,9, -999.00,9, -999.000,9,  -999.00,-999.00000,9,  -999.00, -999.00,9, -999.00,9, -999.00, -999.00,9,-999.000,9, -999.00,9, -999.00,9,     -999.0,9, 20210423,     1759,  13.5620, -69.8052,    15.6524,2,     0.0408,1,     4.6789,1,     -999.0,9,     -999.0,9,     -999.0,9
325020210420,        A22,       9,          1,         27,         27,2,20210423,       1620,    13.5620,   -69.8052,       4031,   317.6,  13.7021,  35.7315,2,  35.7171,2,    133.4,2,   133.1,2,    7.41,2,   18.66,2,    0.00,2,    1.05,2,-999.000,9,-999.000,9,-999.0000,9,  2189.4,2, -999.00,9, -999.000,9,  -999.00,   7.74232,2,    25.00, -999.00,9, -999.00,9, -999.00, -999.00,9,-999.000,9, -999.00,9, -999.00,9,     -999.0,9, 20210423,     1757,  13.5621, -69.8053,    13.7057,2,     0.0412,1,     4.6790,1,     -999.0,9,     -999.0,9,     -999.0,9
325020210420,        A22,       9,          1,         26,         26,2,20210423,       1620,    13.5620,   -69.8052,       4031,   367.7,  12.2664,  35.4904,2,  35.4642,3,    126.2,2,   126.3,2,    9.75,2,   22.05,2,    0.00,2,    1.29,2,-999.000,9,-999.000,9,-999.0000,9,  -999.0,9, -999.00,9, -999.000,9,  -999.00,-999.00000,9,  -999.00, -999.00,9, -999.00,9, -999.00, -999.00,9,-999.000,9, -999.00,9, -999.00,9,     -999.0,9, 20210423,     1755,  13.5620, -69.8052,    12.2671,2,     0.0415,1,     4.6802,1,     -999.0,9,     -999.0,9,     -999.0,9
325020210420,        A22,       9,          1,         25,         25,2,20210423,       1620,    13.5620,   -69.8052,       4031,   417.1,  10.8117,  35.2487,2,  35.2355,2,    121.3,2,   120.8,2,   12.29,2,   25.16,2,    0.00,2,    1.50,2,-999.000,9,-999.000,9,-999.0000,9,  2204.9,2,  2317.4,2, -999.000,9,  -999.00,    7.6441,2,    24.99, -999.00,9, -999.00,9, -999.00, -999.00,9,-999.000,9, -999.00,9, -999.00,9,     -999.0,9, 20210423,     1753,  13.5620, -69.8053,    10.8659,2,     0.0421,1,     4.6798,1,     -999.0,9,     -999.0,9,     -999.0,9
325020210420,        A22,       9,          1,         24,         24,2,20210423,       1620,    13.5620,   -69.8052,       4031,   468.5,   9.6877,  35.0772,2,  35.0748,2,    117.7,2,   118.4,2,   14.64,2,   27.50,2,    0.00,2,    1.66,2,-999.000,9,-999.000,9,-999.0000,9,  2211.9,2, -999.00,9, -999.000,9,  -999.00,   7.61033,2,    25.01, -999.00,9, -999.00,9, -999.00, -999.00,9,-999.000,9, -999.00,9, -999.00,9,     -999.0,9, 20210423,     1751,  13.5620, -69.8053,     9.6919,2,     0.0427,1,     4.6752,1,     -999.0,9,     -999.0,9,     -999.0,9
325020210420,        A22,       9,          1,         23,         23,2,20210423,       1620,    13.5620,   -69.8052,       4031,   538.7,   8.7897,  34.9570,2,  34.9553,2,    118.2,2,   118.3,2,   16.78,2,   29.32,2,    0.00,2,    1.81,2,-999.000,9,-999.000,9,-999.0000,9,  2214.9,2, 2305.83,2, -999.000,9,  -999.00,   7.58828,2,    24.97, -999.00,9, -999.00,9, -999.00, -999.00,9,-999.000,9, -999.00,9, -999.00,9,     -999.0,9, 20210423,     1749,  13.5620, -69.8052,     8.7950,2,     0.0431,1,     4.6736,1,     -999.0,9,     -999.0,9,     -999.0,9
325020210420,        A22,       9,          1,         22,         22,2,20210423,       1620,    13.5620,   -69.8052,       4031,   639.5,   7.7058,  34.8487,2,  34.8481,2,    121.3,2,   121.7,2,   19.61,2,   31.01,2,    0.00,2,    1.93,2,-999.000,9,-999.000,9,-999.0000,9,  -999.0,9, -999.00,9, -999.000,9,  -999.00,-999.00000,9,  -999.00, -999.00,9, -999.00,9, -999.00, -999.00,9,-999.000,9, -999.00,9, -999.00,9,     -999.0,9, 20210423,     1746,  13.5620, -69.8052,     7.7207,2,     0.0432,1,     4.6797,1,     -999.0,9,     -999.0,9,     -999.0,9
325020210420,        A22,       9,          1,         21,         21,2,20210423,       1620,    13.5620,   -69.8052,       4031,   740.8,   6.8486,  34.7846,2,  34.7850,2,    126.8,2,   126.8,2,   22.35,2,   31.86,2,    0.00,2,    2.02,2,-999.000,9,-999.000,9,-999.0000,9,  -999.0,9, -999.00,9, -999.000,9,  -999.00,-999.00000,9,  -999.00, -999.00,9, -999.00,9, -999.00, -999.00,9,-999.000,9, -999.00,9, -999.00,9,     -999.0,9, 20210423,     1743,  13.5620, -69.8052,     6.8572,2,     0.0433,1,     4.6791,1,     -999.0,9,     -999.0,9,     -999.0,9
325020210420,        A22,       9,          1,         20,         20,2,20210423,       1620,    13.5620,   -69.8052,       4031,   841.8,   6.1668,  34.7815,2,  34.7834,2,    137.8,2,   137.5,2,   24.20,2,   31.37,2,    0.00,2,    2.00,2,-999.000,9,-999.000,9,-999.0000,9,  -999.0,9, -999.00,9, -999.000,9,  -999.00,-999.00000,9,  -999.00, -999.00,9, -999.00,9, -999.00, -999.00,9,-999.000,9, -999.00,9, -999.00,9,     -999.0,9, 20210423,     1739,  13.5620, -69.8052,     6.1667,2,     0.0423,1,     4.6815,1,     -999.0,9,     -999.0,9,     -999.0,9
325020210420,        A22,       9,          1,         19,         19,2,20210423,       1620,    13.5620,   -69.8052,       4031,   942.5,   5.6594,  34.8497,2,  34.8511,2,    155.8,2,   155.7,2,   24.88,2,   29.00,2,    0.00,2,    1.86,2,-999.000,9,-999.000,9,-999.0000,9,  2213.0,2, 2312.02,2, -999.000,9,  -999.00,   7.60628,2,    24.98, -999.00,9, -999.00,9, -999.00, -999.00,9,-999.000,9, -999.00,9, -999.00,9,     -999.0,9, 20210423,     1738,  13.5620, -69.8052,     5.6637,2,     0.0423,1,     4.6812,1,     -999.0,9,     -999.0,9,     -999.0,9
325020210420,        A22,       9,          1,         18,         18,2,20210423,       1620,    13.5620,   -69.8052,       4031,  1043.3,   5.2460,  34.9084,2,  34.9075,2,    173.5,2,   172.9,2,   25.08,2,   26.70,2,    0.00,2,    1.73,2,-999.000,9,-999.000,9,-999.0000,9,  -999.0,9, -999.00,9, -999.000,9,  -999.00,-999.00000,9,  -999.00, -999.00,9, -999.00,9, -999.00, -999.00,9,-999.000,9, -999.00,9, -999.00,9,     -999.0,9, 20210423,     1735,  13.5621, -69.8053,     5.2496,2,     0.0429,1,     4.6815,1,     -999.0,9,     -999.0,9,     -999.0,9
325020210420,        A22,       9,          1,         17,         17,2,20210423,       1620,    13.5620,   -69.8052,       4031,  1144.7,   4.9003,  34.9414,2,  34.9420,2,    187.6,2,   187.3,2,   25.08,2,   24.99,2,    0.00,2,    1.64,2,-999.000,9,-999.000,9,-999.0000,9,  -999.0,9, -999.00,9, -999.000,9,  -999.00,-999.00000,9,  -999.00, -999.00,9, -999.00,9, -999.00, -999.00,9,-999.000,9, -999.00,9, -999.00,9,     -999.0,9, 20210423,     1731,  13.5620, -69.8052,     4.9006,2,     0.0429,1,     4.6820,1,     -999.0,9,     -999.0,9,     -999.0,9
325020210420,        A22,       9,          1,         16,         16,2,20210423,       1620,    13.5620,   -69.8052,       4031,  1245.8,   4.6790,  34.9551,2,  34.9545,2,    195.6,2,   195.7,2,   25.27,2,   24.17,2,    0.00,2,    1.62,2,-999.000,9,-999.000,9,-999.0000,9,  -999.0,9, -999.00,9, -999.000,9,  -999.00,-999.00000,9,  -999.00, -999.00,9, -999.00,9, -999.00, -999.00,9,-999.000,9, -999.00,9, -999.00,9,     -999.0,9, 20210423,     1729,  13.5620, -69.8052,     4.6782,2,     0.0430,1,     4.6821,1,     -999.0,9,     -999.0,9,     -999.0,9
325020210420,        A22,       9,          1,         15,         15,2,20210423,       1620,    13.5620,   -69.8052,       4031,  1345.6,   4.5359,  34.9649,2,  34.9650,2,    203.5,2,   203.6,2,   24.39,2,   23.30,2,    0.00,2,    1.61,2,-999.000,9,-999.000,9,-999.0000,9,  2196.9,2, -999.00,9, -999.000,9,  -999.00,   7.68498,2,    25.00, -999.00,9, -999.00,9, -999.00, -999.00,9,-999.000,9, -999.00,9, -999.00,9,     -999.0,9, 20210423,     1726,  13.5620, -69.8053,     4.5356,2,     0.0416,1,     4.6801,1,     -999.0,9,     -999.0,9,     -999.0,9
325020210420,        A22,       9,          1,         14,         14,2,20210423,       1620,    13.5620,   -69.8052,       4031,  1448.8,   4.4125,  34.9687,2,  34.9707,2,    206.6,2,   207.1,2,   25.08,2,   22.95,2,    0.00,2,    1.57,2,-999.000,9,-999.000,9,-999.0000,9,  -999.0,9, -999.00,9, -999.000,9,  -999.00,-999.00000,9,  -999.00, -999.00,9, -999.00,9, -999.00, -999.00,9,-999.000,9, -999.00,9, -999.00,9,     -999.0,9, 20210423,     1723,  13.5620, -69.8052,     4.4127,2,     0.0429,1,     4.6825,1,     -999.0,9,     -999.0,9,     -999.0,9
325020210420,        A22,       9,          1,         13,         13,2,20210423,       1620,    13.5620,   -69.8052,       4031,  1549.7,   4.3192,  34.9710,2,  34.9711,2,    209.0,2,   209.7,2,   25.96,2,   22.73,2,    0.00,2,    1.55,2,   0.133,2,   0.073,2,   0.0900,2,  -999.0,9, -999.00,9, -999.000,9,  -999.00,-999.00000,9,  -999.00, -999.00,9, -999.00,9, -999.00, -999.00,9,-999.000,9, -999.00,9, -999.00,9,      14.94,2, 20210423,     1719,  13.5620, -69.8052,     4.3193,2,     0.0430,1,     4.6836,1,     -999.0,9,     -999.0,9,     -999.0,9
325020210420,        A22,       9,          1,         12,         12,2,20210423,       1620,    13.5620,   -69.8052,       4031,  1651.0,   4.2454,  34.9724,2,  34.9726,2,    210.7,2,   210.7,2,   26.64,2,   22.56,2,    0.00,2,    1.53,2,-999.000,9,-999.000,9,-999.0000,9,  -999.0,9, -999.00,9, -999.000,9,  -999.00,-999.00000,9,  -999.00, -999.00,9, -999.00,9, -999.00, -999.00,9,-999.000,9, -999.00,9, -999.00,9,     -999.0,9, 20210423,     1716,  13.5620, -69.8052,     4.2456,2,     0.0428,1,     4.6835,1,     -999.0,9,     -999.0,9,     -999.0,9
325020210420,        A22,       9,          1,         11,         11,2,20210423,       1620,    13.5620,   -69.8052,       4031,  1752.1,   4.1853,  34.9740,2,  34.9744,2,    212.4,2,   212.6,2,   27.22,2,   22.40,2,    0.00,2,    1.52,2,   0.097,2,   0.060,2,   0.1400,2,  -999.0,9, -999.00,9, -999.000,9,  -999.00,-999.00000,9,  -999.00, -999.00,9, -999.00,9, -999.00, -999.00,9,-999.000,9, -999.00,9, -999.00,9,      14.27,2, 20210423,     1713,  13.5620, -69.8053,     4.1848,2,     0.0433,1,     4.6827,1,     -999.0,9,     -999.0,9,     -999.0,9
325020210420,        A22,       9,          1,         10,         10,2,20210423,       1620,    13.5620,   -69.8052,       4031,  1884.0,   4.1464,  34.9746,2,  34.9752,2,    213.2,2,   213.6,2,   27.71,2,   22.31,2,    0.00,2,    1.50,2,-999.000,9,-999.000,9,-999.0000,9,  2198.7,2,  2332.1,2, -999.000,9,  -999.00,   7.70331,2,    25.02, -999.00,9, -999.00,9, -999.00, -999.00,9,-999.000,9, -999.00,9, -999.00,9,     -999.0,9, 20210423,     1709,  13.5620, -69.8053,     4.1465,2,     0.0428,1,     4.6822,1,     -999.0,9,     -999.0,9,     -999.0,9
325020210420,        A22,       9,          1,          9,          9,2,20210423,       1620,    13.5620,   -69.8052,       4031,  2088.1,   4.1254,  34.9746,2,  34.9754,2,    214.5,2,   214.4,2,   28.00,2,   22.20,2,    0.00,2,    1.49,2,   0.088,2,   0.057,2,   0.2600,2,  -999.0,9, -999.00,9, -999.000,9,  -999.00,-999.00000,9,  -999.00, -999.00,9, -999.00,9, -999.00, -999.00,9,-999.000,9, -999.00,9, -999.00,9,      13.96,2, 20210423,     1704,  13.5620, -69.8052,     4.1252,2,     0.0435,1,     4.6837,1,     -999.0,9,     -999.0,9,     -999.0,9
325020210420,        A22,       9,          1,          8,          8,2,20210423,       1620,    13.5620,   -69.8052,       4031,  2290.3,   4.1239,  34.9749,2,  34.9754,2,    214.4,2,   214.8,2,   28.49,2,   22.16,2,    0.00,2,    1.49,2,-999.000,9,-999.000,9,-999.0000,9,  -999.0,9, -999.00,9, -999.000,9,  -999.00,-999.00000,9,  -999.00, -999.00,9, -999.00,9, -999.00, -999.00,9,-999.000,9, -999.00,9, -999.00,9,     -999.0,9, 20210423,     1659,  13.5620, -69.8052,     4.1239,2,     0.0429,1,     4.6838,1,     -999.0,9,     -999.0,9,     -999.0,9
325020210420,        A22,       9,          1,          7,          7,2,20210423,       1620,    13.5620,   -69.8052,       4031,  2494.3,   4.1317,  34.9748,2,  34.9754,2,    214.6,2,   214.4,2,   28.78,2,   22.19,2,    0.00,2,    1.47,2,   0.067,2,   0.048,2,   0.2600,2,  -999.0,9, -999.00,9, -999.000,9,  -999.00,-999.00000,9,  -999.00, -999.00,9, -999.00,9, -999.00, -999.00,9,-999.000,9, -999.00,9, -999.00,9,      13.66,2, 20210423,     1654,  13.5620, -69.8053,     4.1316,2,     0.0424,1,     4.6836,1,     -999.0,9,     -999.0,9,     -999.0,9
325020210420,        A22,       9,          1,          6,          6,2,20210423,       1620,    13.5620,   -69.8052,       4031,  2699.1,   4.1447,  34.9750,2,  34.9748,2,    215.0,2,   215.2,2,   28.69,2,   22.13,2,    0.00,2,    1.45,2,-999.000,9,-999.000,9,-999.0000,9,  2199.4,2, -999.00,9, -999.000,9,  -999.00,   7.70734,2,    24.99, -999.00,9, -999.00,9, -999.00, -999.00,9,-999.000,9, -999.00,9, -999.00,9,     -999.0,9, 20210423,     1650,  13.5620, -69.8053,     4.1447,2,     0.0423,1,     4.6841,1,     -999.0,9,     -999.0,9,     -999.0,9
325020210420,        A22,       9,          1,          5,          5,2,20210423,       1620,    13.5620,   -69.8052,       4031,  2901.5,   4.1616,  34.9750,2,  34.9748,2,    214.9,2,   214.9,2,   28.88,2,   22.16,2,    0.00,2,    1.46,2,   0.069,2,   0.050,2,   0.2000,2,  -999.0,9, -999.00,9, -999.000,9,  -999.00,-999.00000,9,  -999.00, -999.00,9, -999.00,9, -999.00, -999.00,9,-999.000,9, -999.00,9, -999.00,9,      13.81,2, 20210423,     1645,  13.5620, -69.8052,     4.1616,2,     0.0428,1,     4.6838,1,     -999.0,9,     -999.0,9,     -999.0,9
325020210420,        A22,       9,          1,          4,          4,2,20210423,       1620,    13.5620,   -69.8052,       4031,  3141.4,   4.1862,  34.9751,2,  34.9760,2,    215.0,2,   215.0,2,   29.08,2,   22.09,2,    0.00,2,    1.47,2,-999.000,9,-999.000,9,-999.0000,9,  -999.0,9, -999.00,9, -999.000,9,  -999.00,-999.00000,9,  -999.00, -999.00,9, -999.00,9, -999.00, -999.00,9,-999.000,9, -999.00,9, -999.00,9,     -999.0,9, 20210423,     1640,  13.5620, -69.8053,     4.1862,2,     0.0430,1,     4.6835,1,     -999.0,9,     -999.0,9,     -999.0,9
325020210420,        A22,       9,          1,          3,          3,2,20210423,       1620,    13.5620,   -69.8052,       4031,  3448.2,   4.2195,  34.9751,2,  34.9760,2,    215.1,2,   215.7,2,   29.18,2,   22.06,2,    0.00,2,    1.46,2,   0.075,2,   0.054,2,   0.1900,2,  -999.0,9, -999.00,9, -999.000,9,  -999.00,-999.00000,9,  -999.00, -999.00,9, -999.00,9, -999.00, -999.00,9,-999.000,9, -999.00,9, -999.00,9,      13.77,2, 20210423,     1634,  13.5620, -69.8052,     4.2194,2,     0.0435,1,     4.6825,1,     -999.0,9,     -999.0,9,     -999.0,9