BOTTLE,20230513CCHSIOCBG
EXPOCODE,SECT_ID,STNNBR,CASTNO,SAMPNO,BTLNBR,BTLNBR_FLAG_W,DATE,TIME,LATITUDE,LONGITUDE,DEPTH,CTDPRS,CTDTMP,CTDSAL,CTDSAL_FLAG_W,SALNTY,SALNTY_FLAG_W,CTDOXY,CTDOXY_FLAG_W,OXYGEN,OXYGEN_FLAG_W,SILCAT,SILCAT_FLAG_W,NITRAT,NITRAT_FLAG_W,NITRIT,NITRIT_FLAG_W,PHSPHT,PHSPHT_FLAG_W,CFC-11,CFC-11_FLAG_W,CFC-12,CFC-12_FLAG_W,SF6,SF6_FLAG_W,TCARBN,TCARBN_FLAG_W,ALKALI,ALKALI_FLAG_W,FCO2,FCO2_FLAG_W,FCO2TMP,PH_TOT,PH_TOT_FLAG_W,PH_TMP,DELC13,DELC13_FLAG_W,DELC14,DELC14_FLAG_W,C14ERR,DELO18,DELO18_FLAG_W,POC,POC_FLAG_W,DOC,DOC_FLAG_W,TDN,TDN_FLAG_W,N2O,N2O_FLAG_W,BTL_DATE,BTL_TIME,BTL_LAT,BTL_LON,REFTMP,REFTMP_FLAG_W,CTDFLUOR,CTDFLUOR_FLAG_W,CTDXMISS,CTDXMISS_FLAG_W,D15N_NO2+NO3,D15N_NO2+NO3_FLAG_W,D18O_NO2+NO3,D18O_NO2+NO3_FLAG_W,HPLC,HPLC_FLAG_W
,,,,,,,,,,,METERS,DBAR,ITS-90,PSS-78,,PSS-78,,UMOL/KG,,UMOL/KG,,UMOL/KG,,UMOL/KG,,UMOL/KG,,UMOL/KG,,PMOL/KG,,PMOL/KG,,FMOL/KG,,UMOL/KG,,UMOL/KG,,UATM,,DEG C,,,DEG C,/MILLE,,/MILLE,,/MILLE,/MILLE,,UG/KG,,UMOL/KG,,UMOL/KG,,NMOL/KG,,,,,,ITS-90,,VOLTS,,VOLTS,,/MILLE,,/MILLE,,,
325020210420,        A22,      61,          1,         36,         36,2,20210507,       0422,    30.3129,   -65.3599,       4885,     5.1,  23.5385,  36.9737,2,  36.9727,2,    214.7,2,   214.0,2,    0.78,2,    0.00,2,    0.00,2,    0.00,2,   1.725,2,   1.088,2,   1.8500,2,  2092.2,6, 2415.77,6, -999.000,9,  -999.00,   8.05797,2,    24.99, -999.00,9, -999.00,9, -999.00, -999.00,1,-999.000,9, -999.00,9, -999.00,9,       6.43,2, 20210507,      637,  30.3129, -65.3599,    23.5378,2,     0.0432,1,     4.6100,1,     -999.0,1,     -999.0,1,     -999.0,9
325020210420,        A22,      61,          1,         35,         35,2,20210507,       0422,    30.3129,   -65.3599,       4885,    20.3,  22.9746,  36.9060,2,  36.9318,3,    216.7,2,   216.1,2,    0.78,2,    0.00,2,    0.00,2,    0.00,2,-999.000,9,-999.000,9,-999.0000,9,  -999.0,9, -999.00,9, -999.000,9,  -999.00,-999.00000,9,  -999.00, -999.00,9, -999.00,9, -999.00, -999.00,9,-999.000,9, -999.00,9, -999.00,9,     -999.0,9, 20210507,      636,  30.3129, -65.3599,    23.1562,3,     0.0438,1,     4.6012,1,     -999.0,1,     -999.0,1,     -999.0,9
325020210420,        A22,      61,          1,         34,         34,2,20210507,       0422,    30.3129,   -65.3599,       4885,    40.9,  22.5341,  36.8969,2,  36.8861,2,    217.8,2,   218.2,2,    0.68,2,    0.00,2,    0.00,2,    0.00,2,-999.000,9,-999.000,9,-999.0000,9,  2092.2,2, 2411.18,2, -999.000,9,  -999.00,   8.05476,6,    25.00, -999.00,9, -999.00,9, -999.00, -999.00,9,-999.000,9, -999.00,9, -999.00,9,     -999.0,9, 20210507,      634,  30.3129, -65.3599,    22.5335,2,     0.0459,1,     4.6085,1,     -999.0,1,     -999.0,1,     -999.0,9
325020210420,        A22,      61,          1,         33,         33,2,20210507,       0422,    30.3129,   -65.3599,       4885,    65.4,  20.9971,  36.8049,2,  36.8056,2,    217.8,2,   218.0,2,    0.68,2,    0.00,2,    0.00,2,    0.00,2,-999.000,9,-999.000,9,-999.0000,9,  -999.0,9, -999.00,9, -999.000,9,  -999.00,-999.00000,9,  -999.00, -999.00,9, -999.00,9, -999.00, -999.00,9,-999.000,9, -999.00,9, -999.00,9,     -999.0,9, 20210507,      632,  30.3129, -65.3599,    20.9906,2,     0.0629,1,     4.6053,1,     -999.0,1,     -999.0,1,     -999.0,9
325020210420,        A22,      61,          1,         32,         32,2,20210507,       0422,    30.3129,   -65.3599,       4885,    91.0,  20.5224,  36.7592,2,  36.7518,2,    202.4,2,   202.3,2,    0.68,2,    0.11,2,    0.03,2,    0.00,2,-999.000,9,-999.000,9,-999.0000,9,  2115.7,2, 2400.09,2, -999.000,9,  -999.00,    8.0045,2,    25.01, -999.00,9, -999.00,9, -999.00, -999.00,1,-999.000,9, -999.00,9, -999.00,9,     -999.0,9, 20210507,      631,  30.3129, -65.3599,    20.5178,2,     0.0754,1,     4.6281,1,     -999.0,1,     -999.0,1,     -999.0,9
325020210420,        A22,      61,          1,         31,         31,2,20210507,       0422,    30.3129,   -65.3599,       4885,   135.8,  19.8387,  36.7215,2,  36.7213,2,    208.6,2,   208.0,2,    0.78,2,    0.91,2,    0.01,2,    0.00,2,   1.939,2,   1.218,2,   1.9100,2,  2111.8,2, 2398.31,2, -999.000,9,  -999.00,   8.00215,6,    24.99, -999.00,9, -999.00,9, -999.00, -999.00,9,-999.000,9, -999.00,9, -999.00,9,       7.38,2, 20210507,      628,  30.3129, -65.3599,    19.8339,2,     0.0531,1,     4.6525,1,     -999.0,1,     -999.0,1,     -999.0,9
325020210420,        A22,      61,          1,         30,         30,2,20210507,       0422,    30.3129,   -65.3599,       4885,   186.3,  19.5257,  36.6919,2,  36.6885,2,    206.8,2,   205.3,2,    0.88,2,    1.66,2,    0.00,2,    0.00,2,-999.000,9,-999.000,9,-999.0000,9,  -999.0,9, -999.00,9, -999.000,9,  -999.00,-999.00000,9,  -999.00, -999.00,9, -999.00,9, -999.00, -999.00,9,-999.000,9, -999.00,9, -999.00,9,     -999.0,9, 20210507,      624,  30.3129, -65.3599,    19.5259,2,     0.0414,1,     4.6608,1,     -999.0,1,     -999.0,1,     -999.0,9
325020210420,        A22,      61,          1,         29,         29,2,20210507,       0422,    30.3129,   -65.3599,       4885,   236.3,  19.1500,  36.6466,2,  36.6451,2,    200.4,2,   200.9,2,    1.07,2,    2.67,2,    0.00,2,    0.04,2,   2.011,2,   1.265,2,   1.7600,2,  2123.1,2, 2391.81,2, -999.000,9,  -999.00,   7.98218,2,    25.01, -999.00,9, -999.00,9, -999.00, -999.00,9,-999.000,9, -999.00,9, -999.00,9,       7.75,2, 20210507,      622,  30.3129, -65.3599,    19.1494,2,     0.0397,1,     4.6642,1,     -999.0,1,     -999.0,1,     -999.0,9
325020210420,        A22,      61,          1,         28,         28,2,20210507,       0422,    30.3129,   -65.3599,       4885,   287.4,  18.9194,  36.6243,2,  36.6235,2,    201.9,2,   201.9,2,    1.17,2,    3.06,2,    0.00,2,    0.07,2,-999.000,9,-999.000,9,-999.0000,9,  -999.0,9, -999.00,9, -999.000,9,  -999.00,-999.00000,9,  -999.00, -999.00,9, -999.00,9, -999.00, -999.00,9,-999.000,9, -999.00,9, -999.00,9,     -999.0,9, 20210507,      620,  30.3129, -65.3599,    18.9190,2,     0.0397,1,     4.6649,1,     -999.0,1,     -999.0,1,     -999.0,9
325020210420,        A22,      61,          1,         27,         27,2,20210507,       0422,    30.3129,   -65.3599,       4885,   338.1,  18.6147,  36.5880,2,  36.5852,2,    198.6,2,   198.6,2,    1.17,2,    3.89,2,    0.00,2,    0.12,2,   2.088,2,   1.297,2,   1.7500,2,  2128.0,2, 2388.72,2, -999.000,9,  -999.00,   7.96606,2,    25.01, -999.00,9, -999.00,9, -999.00, -999.00,1,-999.000,9, -999.00,9, -999.00,9,       8.33,2, 20210507,      618,  30.3129, -65.3599,    18.6117,2,     0.0389,1,     4.6668,1,     -999.0,1,     -999.0,1,     -999.0,9
325020210420,        A22,      61,          1,         26,         26,2,20210507,       0422,    30.3129,   -65.3599,       4885,   388.6,  18.2305,  36.5323,2,  36.5301,2,    194.6,2,   194.6,2,    1.56,2,    4.83,2,    0.00,2,    0.17,2,-999.000,9,-999.000,9,-999.0000,9,  -999.0,9, -999.00,9, -999.000,9,  -999.00,-999.00000,9,  -999.00, -999.00,9, -999.00,9, -999.00, -999.00,9,-999.000,9, -999.00,9, -999.00,9,     -999.0,9, 20210507,      616,  30.3129, -65.3599,    18.2283,2,     0.0391,1,     4.6679,1,     -999.0,1,     -999.0,1,     -999.0,9
325020210420,        A22,      61,          1,         25,         25,2,20210507,       0422,    30.3129,   -65.3599,       4885,   438.7,  17.7550,  36.4517,2,  36.4503,2,    187.8,2,   188.0,2,    1.95,2,    6.13,2,    0.00,2,    0.24,2,-999.000,9,-999.000,9,-999.0000,9,  -999.0,9, -999.00,9, -999.000,9,  -999.00,-999.00000,9,  -999.00, -999.00,9, -999.00,9, -999.00, -999.00,9,-999.000,9, -999.00,9, -999.00,9,     -999.0,9, 20210507,      613,  30.3129, -65.3599,    17.7557,2,     0.0400,1,     4.6682,1,     -999.0,1,     -999.0,1,     -999.0,9
325020210420,        A22,      61,          1,         24,         24,2,20210507,       0422,    30.3129,   -65.3599,       4885,   489.6,  17.0386,  36.3347,2,  36.3342,2,    182.5,2,   182.8,2,    2.44,2,    7.73,2,    0.00,2,    0.34,2,-999.000,9,-999.000,9,-999.0000,9,  -999.0,9, -999.00,9, -999.000,9,  -999.00,-999.00000,9,  -999.00, -999.00,9, -999.00,9, -999.00, -999.00,9,-999.000,9, -999.00,9, -999.00,9,     -999.0,9, 20210507,      611,  30.3129, -65.3599,    17.0376,2,     0.0410,1,     4.6697,1,     -999.0,1,     -999.0,1,     -999.0,9
325020210420,        A22,      61,          1,         23,         23,2,20210507,       0422,    30.3129,   -65.3599,       4885,   569.5,  15.7270,  36.1191,2,  36.1197,2,    177.8,2,   178.0,2,    3.41,2,   10.24,2,    0.00,2,    0.51,2,   2.262,2,   1.370,2,   1.3000,2,  2154.4,2,  2362.5,2, -999.000,9,  -999.00,   7.87088,2,    25.02, -999.00,9, -999.00,9, -999.00, -999.00,9,-999.000,9, -999.00,9, -999.00,9,      11.81,2, 20210507,      608,  30.3129, -65.3599,    15.7245,2,     0.0396,1,     4.6705,1,     -999.0,1,     -999.0,1,     -999.0,9
325020210420,        A22,      61,          1,         22,         22,2,20210507,       0422,    30.3129,   -65.3599,       4885,   670.1,  14.0131,  35.8445,2,  35.8412,2,    166.7,2,   166.6,2,    5.56,2,   14.23,2,    0.00,2,    0.77,2,-999.000,9,-999.000,9,-999.0000,9,  -999.0,9, -999.00,9, -999.000,9,  -999.00,-999.00000,9,  -999.00, -999.00,9, -999.00,9, -999.00, -999.00,9,-999.000,9, -999.00,9, -999.00,9,     -999.0,9, 20210507,      605,  30.3129, -65.3599,    14.0162,2,     0.0409,1,     4.6727,1,     -999.0,1,     -999.0,1,     -999.0,9
325020210420,        A22,      61,          1,         21,         21,2,20210507,       0422,    30.3129,   -65.3599,       4885,   771.3,  11.6520,  35.5171,2,  35.5166,2,    153.1,2,   152.7,2,    9.27,2,   19.45,2,    0.00,2,    1.12,2,-999.000,9,-999.000,9,-999.0000,9,  -999.0,9, -999.00,9, -999.000,9,  -999.00,-999.00000,9,  -999.00, -999.00,9, -999.00,9, -999.00, -999.00,9,-999.000,9, -999.00,9, -999.00,9,     -999.0,9, 20210507,      601,  30.3129, -65.3599,    11.6783,2,     0.0417,1,     4.6746,1,     -999.0,1,     -999.0,1,     -999.0,9
325020210420,        A22,      61,          1,         20,         20,2,20210507,       0422,    30.3129,   -65.3599,       4885,   873.1,   9.5396,  35.2700,2,  35.2694,2,    149.2,2,   149.3,2,   12.79,2,   23.05,2,    0.00,2,    1.38,2,-999.000,9,-999.000,9,-999.0000,9,  -999.0,9, -999.00,9, -999.000,9,  -999.00,-999.00000,9,  -999.00, -999.00,9, -999.00,9, -999.00, -999.00,9,-999.000,9, -999.00,9, -999.00,9,     -999.0,9, 20210507,      557,  30.3129, -65.3599,     9.5431,2,     0.0415,1,     4.6753,1,     -999.0,1,     -999.0,1,     -999.0,9
325020210420,        A22,      61,          1,         19,         19,2,20210507,       0422,    30.3129,   -65.3599,       4885,   973.2,   7.7520,  35.1737,2,  35.1729,2,    174.1,2,   173.5,2,   13.86,2,   22.47,2,    0.00,2,    1.37,2,   1.465,2,   0.780,2,   0.5000,2,  2193.0,2, 2319.18,2, -999.000,9,  -999.00,   7.68262,2,    25.00, -999.00,9, -999.00,9, -999.00, -999.00,9,-999.000,9, -999.00,9, -999.00,9,      18.13,2, 20210507,      554,  30.3129, -65.3599,     7.7581,2,     0.0430,1,     4.6752,1,     -999.0,1,     -999.0,1,     -999.0,9
325020210420,        A22,      61,          1,         18,         18,2,20210507,       0422,    30.3129,   -65.3599,       4885,  1075.2,   6.6775,  35.1472,2,  35.1461,2,    195.7,2,   196.2,2,   13.96,2,   21.23,2,    0.00,2,    1.32,2,-999.000,9,-999.000,9,-999.0000,9,  -999.0,9, -999.00,9, -999.000,9,  -999.00,-999.00000,9,  -999.00, -999.00,9, -999.00,9, -999.00, -999.00,9,-999.000,9, -999.00,9, -999.00,9,     -999.0,9, 20210507,      551,  30.3129, -65.3599,     6.6769,2,     0.0425,1,     4.6763,1,     -999.0,1,     -999.0,1,     -999.0,9
325020210420,        A22,      61,          1,         17,         17,2,20210507,       0422,    30.3129,   -65.3599,       4885,  1177.0,   5.9119,  35.1136,2,  35.1120,2,    217.3,2,   218.2,2,   12.98,2,   19.61,2,    0.00,2,    1.23,2,-999.000,9,-999.000,9,-999.0000,9,  -999.0,9, -999.00,9, -999.000,9,  -999.00,-999.00000,9,  -999.00, -999.00,9, -999.00,9, -999.00, -999.00,9,-999.000,9, -999.00,9, -999.00,9,     -999.0,9, 20210507,      547,  30.3129, -65.3599,     5.9131,2,     0.0416,1,     4.6752,1,     -999.0,1,     -999.0,1,     -999.0,9
325020210420,        A22,      61,          1,         16,         16,2,20210507,       0422,    30.3129,   -65.3599,       4885,  1277.1,   5.2247,  35.0641,2,  35.0642,2,    235.7,2,   235.7,2,   12.30,2,   18.63,2,    0.00,2,    1.18,2,-999.000,9,-999.000,9,-999.0000,9,  -999.0,9, -999.00,9, -999.000,9,  -999.00,-999.00000,9,  -999.00, -999.00,9, -999.00,9, -999.00, -999.00,9,-999.000,9, -999.00,9, -999.00,9,     -999.0,9, 20210507,      545,  30.3129, -65.3599,     5.2258,2,     0.0427,1,     4.6737,1,     -999.0,1,     -999.0,1,     -999.0,9
325020210420,        A22,      61,          1,         15,         15,2,20210507,       0422,    30.3129,   -65.3599,       4885,  1378.9,   4.8791,  35.0451,2,  35.0435,2,    244.8,2,   245.1,2,   12.01,2,   18.12,2,    0.00,2,    1.16,2,   2.521,2,   1.344,2,   0.8800,2,  2173.8,2, 2310.17,2, -999.000,9,  -999.00,   7.70992,2,    25.00, -999.00,9, -999.00,9, -999.00, -999.00,9,-999.000,9, -999.00,9, -999.00,9,      14.07,2, 20210507,      542,  30.3129, -65.3599,     4.8775,2,     0.0416,1,     4.6743,1,     -999.0,1,     -999.0,1,     -999.0,9
325020210420,        A22,      61,          1,         14,         14,2,20210507,       0422,    30.3129,   -65.3599,       4885,  1481.0,   4.7748,  35.0585,2,  35.0571,2,    245.5,2,   245.4,2,   12.79,2,   18.28,2,    0.00,2,    1.17,2,-999.000,9,-999.000,9,-999.0000,9,  -999.0,9, -999.00,9, -999.000,9,  -999.00,-999.00000,9,  -999.00, -999.00,9, -999.00,9, -999.00, -999.00,9,-999.000,9, -999.00,9, -999.00,9,     -999.0,9, 20210507,      539,  30.3129, -65.3599,     4.7727,2,     0.0421,1,     4.6763,1,     -999.0,1,     -999.0,1,     -999.0,9
325020210420,        A22,      61,          1,         13,         13,2,20210507,       0422,    30.3129,   -65.3599,       4885,  1582.9,   4.6101,  35.0516,2,  35.0522,2,    246.6,2,   246.8,2,   13.37,2,   18.38,2,    0.00,2,    1.17,2,   1.875,2,   0.967,2,   0.4800,2,  2172.8,2, 2311.66,2, -999.000,9,  -999.00,   7.72287,2,    25.00, -999.00,9, -999.00,9, -999.00, -999.00,9,-999.000,9, -999.00,9, -999.00,9,      13.81,2, 20210507,      535,  30.3129, -65.3599,     4.6121,2,     0.0411,1,     4.6771,1,     -999.0,1,     -999.0,1,     -999.0,9
325020210420,        A22,      61,          1,         12,         12,2,20210507,       0422,    30.3129,   -65.3599,       4885,  1754.6,   4.2570,  35.0289,2,  35.0281,2,    251.4,2,   251.6,2,   14.25,2,   18.33,2,    0.00,2,    1.17,2,-999.000,9,-999.000,9,-999.0000,9,  -999.0,9, -999.00,9, -999.000,9,  -999.00,-999.00000,9,  -999.00, -999.00,9, -999.00,9, -999.00, -999.00,9,-999.000,9, -999.00,9, -999.00,9,     -999.0,9, 20210507,      531,  30.3129, -65.3599,     4.2563,2,     0.0425,1,     4.6766,1,     -999.0,1,     -999.0,1,     -999.0,9
325020210420,        A22,      61,          1,         11,         11,2,20210507,       0422,    30.3129,   -65.3599,       4885,  1956.8,   3.9024,  35.0034,2,  35.0031,2,    255.0,2,   255.1,2,   15.81,2,   18.38,2,    0.00,2,    1.18,2,-999.000,9,-999.000,9,-999.0000,9,  -999.0,9, -999.00,9, -999.000,9,  -999.00,-999.00000,9,  -999.00, -999.00,9, -999.00,9, -999.00, -999.00,9,-999.000,9, -999.00,9, -999.00,9,     -999.0,9, 20210507,      526,  30.3129, -65.3599,     3.9032,2,     0.0425,1,     4.6775,1,     -999.0,1,     -999.0,1,     -999.0,9
325020210420,        A22,      61,          1,         10,         10,2,20210507,       0422,    30.3129,   -65.3599,       4885,  2191.0,   3.6111,  34.9893,2,  34.9884,2,    255.2,2,   255.4,2,   18.45,2,   18.67,2,    0.00,2,    1.21,2,-999.000,9,-999.000,9,-999.0000,9,  -999.0,9, -999.00,9, -999.000,9,  -999.00,-999.00000,9,  -999.00, -999.00,9, -999.00,9, -999.00, -999.00,9,-999.000,9, -999.00,9, -999.00,9,     -999.0,9, 20210507,      521,  30.3129, -65.3599,     3.6108,2,     0.0428,1,     4.6777,1,     -999.0,1,     -999.0,1,     -999.0,9
325020210420,        A22,      61,          1,          9,          9,2,20210507,       0422,    30.3129,   -65.3599,       4885,  2444.5,   3.3210,  34.9678,2,  34.9673,2,    257.3,2,   257.5,2,   20.79,2,   18.76,2,    0.00,2,    1.22,2,   0.683,2,   0.353,2,   0.0900,2,  2171.8,2, 2320.34,2, -999.000,9,  -999.00,   7.73832,2,    24.99, -999.00,9, -999.00,9, -999.00, -999.00,9,-999.000,9, -999.00,9, -999.00,9,      13.12,2, 20210507,      515,  30.3129, -65.3599,     3.3213,2,     0.0429,1,     4.6775,1,     -999.0,1,     -999.0,1,     -999.0,9
325020210420,        A22,      61,          1,          8,          8,2,20210507,       0422,    30.3129,   -65.3599,       4885,  2700.9,   3.0371,  34.9470,2,  34.9467,2,    260.2,2,   260.3,2,   22.36,2,   18.71,2,    0.00,2,    1.22,2,-999.000,9,-999.000,9,-999.0000,9,  -999.0,9, -999.00,9, -999.000,9,  -999.00,-999.00000,9,  -999.00, -999.00,9, -999.00,9, -999.00, -999.00,9,-999.000,9, -999.00,9, -999.00,9,     -999.0,9, 20210507,      509,  30.3129, -65.3599,     3.0372,2,     0.0424,1,     4.6765,1,     -999.0,1,     -999.0,1,     -999.0,9
325020210420,        A22,      61,          1,          7,          7,2,20210507,       0422,    30.3129,   -65.3599,       4885,  2954.9,   2.8016,  34.9302,2,  34.9303,2,    264.0,2,   264.0,2,   22.55,2,   18.37,2,    0.00,2,    1.21,2,   0.814,2,   0.411,2,   0.1600,2,  2168.5,2, 2318.43,2, -999.000,9,  -999.00,   7.73822,2,    24.99, -999.00,9, -999.00,9, -999.00, -999.00,9,-999.000,9, -999.00,9, -999.00,9,      13.01,2, 20210507,      504,  30.3129, -65.3599,     2.8019,2,     0.0417,1,     4.6765,1,     -999.0,1,     -999.0,1,     -999.0,9
325020210420,        A22,      61,          1,          6,          6,2,20210507,       0422,    30.3129,   -65.3599,       4885,  3247.0,   2.5541,  34.9139,2,  34.9128,2,    267.1,2,   267.1,2,   23.92,2,   18.20,2,    0.00,2,    1.20,2,-999.000,9,-999.000,9,-999.0000,9,  -999.0,9, -999.00,9, -999.000,9,  -999.00,-999.00000,9,  -999.00, -999.00,9, -999.00,9, -999.00, -999.00,9,-999.000,9, -999.00,9, -999.00,9,     -999.0,9, 20210507,      458,  30.3129, -65.3599,     2.5536,2,     0.0429,1,     4.6768,1,     -999.0,1,     -999.0,1,     -999.0,9
325020210420,        A22,      61,          1,          5,          5,2,20210507,       0422,    30.3129,   -65.3599,       4885,  3553.3,   2.3712,  34.9012,2,  34.9002,2,    267.6,2,   267.5,2,   26.55,2,   18.35,2,    0.00,2,    1.21,2,   1.058,2,   0.541,2,   0.2500,2,  2172.9,2, 2321.34,6, -999.000,9,  -999.00,   7.73444,2,    25.00, -999.00,9, -999.00,9, -999.00, -999.00,9,-999.000,9, -999.00,9, -999.00,9,      13.29,2, 20210507,      451,  30.3129, -65.3599,     2.3712,2,     0.0430,1,     4.6766,1,     -999.0,1,     -999.0,1,     -999.0,9
325020210420,        A22,      61,          1,          4,          4,2,20210507,       0422,    30.3129,   -65.3599,       4885,  3861.8,   2.2702,  34.8922,2,  34.8916,2,    266.2,2,   266.2,2,   29.68,2,   18.75,2,    0.00,2,    1.24,2,-999.000,9,-999.000,9,-999.0000,9,  -999.0,9, -999.00,9, -999.000,9,  -999.00,-999.00000,9,  -999.00, -999.00,9, -999.00,9, -999.00, -999.00,9,-999.000,9, -999.00,9, -999.00,9,     -999.0,9, 20210507,      445,  30.3129, -65.3599,     2.2704,2,     0.0429,1,     4.6752,1,     -999.0,1,     -999.0,1,     -999.0,9
325020210420,        A22,      61,          1,          3,          3,2,20210507,       0422,    30.3129,   -65.3599,       4885,  4169.3,   2.2328,  34.8861,2,  34.8857,2,    264.0,2,   264.0,2,   32.90,2,   19.31,2,    0.00,2,    1.27,2,   0.932,2,   0.480,2,   0.2000,2,  2181.6,2, 2325.86,2, -999.000,9,  -999.00,   7.73028,6,    25.00, -999.00,9, -999.00,9, -999.00, -999.00,9,-999.000,9, -999.00,9, -999.00,9,      13.23,2, 20210507,      438,  30.3129, -65.3599,     2.2330,2,     0.0429,1,     4.6728,1,     -999.0,1,     -999.0,1,     -999.0,9