BOTTLE,20230513CCHSIOCBG
EXPOCODE,SECT_ID,STNNBR,CASTNO,SAMPNO,BTLNBR,BTLNBR_FLAG_W,DATE,TIME,LATITUDE,LONGITUDE,DEPTH,CTDPRS,CTDTMP,CTDSAL,CTDSAL_FLAG_W,SALNTY,SALNTY_FLAG_W,CTDOXY,CTDOXY_FLAG_W,OXYGEN,OXYGEN_FLAG_W,SILCAT,SILCAT_FLAG_W,NITRAT,NITRAT_FLAG_W,NITRIT,NITRIT_FLAG_W,PHSPHT,PHSPHT_FLAG_W,CFC-11,CFC-11_FLAG_W,CFC-12,CFC-12_FLAG_W,SF6,SF6_FLAG_W,TCARBN,TCARBN_FLAG_W,ALKALI,ALKALI_FLAG_W,FCO2,FCO2_FLAG_W,FCO2TMP,PH_TOT,PH_TOT_FLAG_W,PH_TMP,DELC13,DELC13_FLAG_W,DELC14,DELC14_FLAG_W,C14ERR,DELO18,DELO18_FLAG_W,POC,POC_FLAG_W,DOC,DOC_FLAG_W,TDN,TDN_FLAG_W,N2O,N2O_FLAG_W,BTL_DATE,BTL_TIME,BTL_LAT,BTL_LON,REFTMP,REFTMP_FLAG_W,CTDFLUOR,CTDFLUOR_FLAG_W,CTDXMISS,CTDXMISS_FLAG_W,D15N_NO2+NO3,D15N_NO2+NO3_FLAG_W,D18O_NO2+NO3,D18O_NO2+NO3_FLAG_W,HPLC,HPLC_FLAG_W
,,,,,,,,,,,METERS,DBAR,ITS-90,PSS-78,,PSS-78,,UMOL/KG,,UMOL/KG,,UMOL/KG,,UMOL/KG,,UMOL/KG,,UMOL/KG,,PMOL/KG,,PMOL/KG,,FMOL/KG,,UMOL/KG,,UMOL/KG,,UATM,,DEG C,,,DEG C,/MILLE,,/MILLE,,/MILLE,/MILLE,,UG/KG,,UMOL/KG,,UMOL/KG,,NMOL/KG,,,,,,ITS-90,,VOLTS,,VOLTS,,/MILLE,,/MILLE,,,
325020210420,        A22,      52,          1,         36,         36,2,20210504,       1420,    25.8207,   -65.6656,       5284,     5.1,  26.0657,  36.7792,2,  36.7804,2,    206.0,2,   205.5,2,    1.17,2,    0.00,2,    0.00,2,    0.00,2,-999.000,9,-999.000,9,-999.0000,9,  2070.8,6, 2408.12,2,  297.420,2,    20.00,    8.0927,2,    25.00, -999.00,9, -999.00,9, -999.00, -999.00,1,-999.000,9,   78.10,2,    4.20,2,     -999.0,9, 20210504,     1639,  25.8207, -65.6656,    26.0745,2,     0.0390,1,     4.6325,1,     -999.0,9,     -999.0,9,     -999.0,9
325020210420,        A22,      52,          1,         35,         35,2,20210504,       1420,    25.8207,   -65.6656,       5284,    20.2,  25.6073,  36.7778,2,  36.7631,2,    206.7,2,   206.1,2,    1.17,2,    0.00,2,    0.00,2,    0.00,2,   1.556,2,   0.989,2,   1.6200,2,  2067.6,2, 2408.62,2,  297.160,2,    20.00,   8.09373,6,    25.00, -999.00,9, -999.00,9, -999.00, -999.00,9,-999.000,9,   79.60,2,    4.38,2,       6.14,2, 20210504,     1637,  25.8207, -65.6656,    25.6092,2,     0.0410,1,     4.6295,1,     -999.0,9,     -999.0,9,     -999.0,9
325020210420,        A22,      52,          1,         34,         34,2,20210504,       1420,    25.8207,   -65.6656,       5284,    40.6,  24.2888,  37.0054,2,  37.0045,2,    210.6,2,   211.0,2,    0.78,2,    0.00,2,    0.00,2,    0.00,2,-999.000,9,-999.000,9,-999.0000,9,  2086.5,2,  2418.0,6, -999.000,9,  -999.00,   8.07866,2,    24.98, -999.00,9, -999.00,9, -999.00, -999.00,9,-999.000,9,   70.20,2,    4.32,2,     -999.0,9, 20210504,     1635,  25.8207, -65.6656,    24.2883,2,     0.0411,1,     4.6289,1,     -999.0,9,     -999.0,9,     -999.0,9
325020210420,        A22,      52,          1,         33,         33,2,20210504,       1420,    25.8207,   -65.6656,       5284,    65.5,  23.4830,  36.9696,2,  36.9697,2,    213.7,2,   213.5,2,    0.68,2,    0.00,2,    0.00,2,    0.00,2,   1.677,6,   1.064,6,   1.7600,6,  2088.6,2, 2415.47,2,  314.910,2,    20.00,   8.07418,2,    25.03, -999.00,9, -999.00,9, -999.00, -999.00,9,-999.000,9,   69.70,2,    3.52,2,       6.41,6, 20210504,     1633,  25.8207, -65.6656,    23.4819,2,     0.0437,1,     4.6244,1,     -999.0,9,     -999.0,9,     -999.0,9
325020210420,        A22,      52,          1,         32,         32,2,20210504,       1420,    25.8207,   -65.6656,       5284,    91.4,  22.7272,  36.9670,2,  36.9661,2,    211.4,2,   211.5,2,    0.68,2,    0.00,2,    0.00,2,    0.00,2,-999.000,9,-999.000,9,-999.0000,9,  2092.7,2, 2415.82,2,  325.170,2,    20.00,   8.06241,2,    24.98, -999.00,9, -999.00,9, -999.00, -999.00,9,-999.000,9,   67.60,2,    3.74,2,     -999.0,9, 20210504,     1631,  25.8207, -65.6656,    22.7256,2,     0.0514,1,     4.6306,1,     -999.0,9,     -999.0,9,     -999.0,9
325020210420,        A22,      52,          1,         31,         31,2,20210504,       1420,    25.8207,   -65.6656,       5284,   135.8,  22.0900,  36.9489,2,  36.9507,2,    210.2,2,   210.7,2,    0.68,2,    0.00,2,    0.07,2,    0.00,2,   1.736,2,   1.104,2,   1.7800,2,  2100.2,2, 2413.46,2,  335.600,2,    20.00,   8.05113,2,    25.03, -999.00,9, -999.00,9, -999.00, -999.00,1,-999.000,9,   63.20,2,    3.78,2,       6.52,2, 20210504,     1629,  25.8207, -65.6656,    22.0870,2,     0.0677,1,     4.6428,1,     -999.0,9,     -999.0,9,     -999.0,9
325020210420,        A22,      52,          1,         30,         30,2,20210504,       1420,    25.8207,   -65.6656,       5284,   186.4,  20.6716,  36.7919,2,  36.7925,2,    205.4,2,   205.6,2,    0.68,2,    0.50,2,    0.04,2,    0.00,2,-999.000,9,-999.000,9,-999.0000,9,  2111.6,2, 2402.06,2,  367.910,2,    20.00,   8.01657,2,    25.01, -999.00,9, -999.00,9, -999.00, -999.00,9,-999.000,9,   56.70,2,    4.09,2,     -999.0,9, 20210504,     1627,  25.8207, -65.6656,    20.6704,2,     0.0546,1,     4.6531,1,     -999.0,9,     -999.0,9,     -999.0,9
325020210420,        A22,      52,          1,         29,         29,2,20210504,       1420,    25.8207,   -65.6656,       5284,   237.1,  19.9761,  36.7492,2,  36.7441,2,    209.6,3,   207.2,2,    0.78,2,    1.01,2,    0.00,2,    0.00,2,   1.898,2,   1.198,2,   1.9300,2,  2113.3,2, 2401.33,2,  376.330,2,    20.00,   8.00871,2,    25.02, -999.00,9, -999.00,9, -999.00, -999.00,9,-999.000,9,   57.00,0, -999.00,1,       7.33,2, 20210504,     1625,  25.8207, -65.6656,    19.9745,2,     0.0457,1,     4.6595,1,     -999.0,9,     -999.0,9,     -999.0,9
325020210420,        A22,      52,          1,         28,         28,2,20210504,       1420,    25.8207,   -65.6656,       5284,   287.5,  19.3471,  36.6686,2,  36.6685,2,    193.2,2,   193.3,2,    0.88,2,    2.71,2,    0.00,2,    0.02,2,-999.000,9,-999.000,9,-999.0000,9,  2127.9,2, 2395.55,2,  409.560,2,    20.00,   7.97668,2,    25.03, -999.00,9, -999.00,9, -999.00, -999.00,9,-999.000,9,   49.40,0, -999.00,1,     -999.0,9, 20210504,     1622,  25.8207, -65.6656,    19.3462,2,     0.0393,1,     4.6668,1,     -999.0,9,     -999.0,9,     -999.0,9
325020210420,        A22,      52,          1,         27,         27,2,20210504,       1420,    25.8207,   -65.6656,       5284,   338.2,  18.9548,  36.6258,2,  36.6257,2,    195.8,2,   195.9,2,    1.07,2,    3.38,2,    0.00,2,    0.07,2,   2.018,2,   1.271,2,   1.7100,2,  2128.2,2, 2391.08,2,  413.880,2,    20.00,   7.97272,2,    25.02, -999.00,9, -999.00,9, -999.00, -999.00,9,-999.000,9,   48.80,2, -999.00,1,       8.21,2, 20210504,     1620,  25.8207, -65.6656,    18.9511,2,     0.0389,1,     4.6691,1,     -999.0,9,     -999.0,9,     -999.0,9
325020210420,        A22,      52,          1,         26,         26,2,20210504,       1420,    25.8207,   -65.6656,       5284,   387.8,  18.5721,  36.5795,2,  36.5785,2,    194.2,2,   194.3,2,    1.46,2,    4.19,2,    0.00,2,    0.12,2,   2.089,2,   1.298,2,   1.6900,2,  2135.3,2, 2390.18,2,  426.540,2,    20.00,   7.96128,2,    25.03, -999.00,9, -999.00,9, -999.00, -999.00,9,-999.000,9,   47.40,2, -999.00,1,       8.64,2, 20210504,     1617,  25.8207, -65.6656,    18.5702,2,     0.0402,1,     4.6713,1,     -999.0,9,     -999.0,9,     -999.0,9
325020210420,        A22,      52,          1,         25,         25,2,20210504,       1420,    25.8207,   -65.6656,       5284,   468.9,  17.5065,  36.4119,2,  36.4103,2,    180.9,2,   180.8,2,    2.14,2,    7.12,2,    0.00,2,    0.29,2,   2.146,2,   1.338,2,   1.4300,2,  2147.4,2, 2379.15,2,  476.160,2,    20.00,   7.91902,2,    25.02, -999.00,9, -999.00,9, -999.00, -999.00,9,-999.000,9,   46.20,2, -999.00,1,      10.14,2, 20210504,     1615,  25.8207, -65.6656,    17.5030,2,     0.0404,1,     4.6718,1,     -999.0,9,     -999.0,9,     -999.0,9
325020210420,        A22,      52,          1,         24,         24,2,20210504,       1420,    25.8207,   -65.6656,       5284,   569.5,  15.5531,  36.0865,2,  36.0863,2,    172.5,2,   172.6,2,    3.80,2,   11.04,2,    0.00,2,    0.55,2,-999.000,9,-999.000,9,-999.0000,9,  2161.7,2, 2360.73,2,  550.910,2,    20.00,   7.86092,2,    25.01, -999.00,9, -999.00,9, -999.00, -999.00,9,-999.000,9,   45.40,2, -999.00,1,     -999.0,9, 20210504,     1612,  25.8207, -65.6656,    15.5550,2,     0.0405,1,     4.6728,1,     -999.0,9,     -999.0,9,     -999.0,9
325020210420,        A22,      52,          1,         23,         23,2,20210504,       1420,    25.8207,   -65.6656,       5284,   670.6,  13.3421,  35.7456,2,  35.7448,2,    157.7,2,   157.6,2,    6.73,2,   16.23,2,    0.00,2,    0.89,2,   2.067,2,   1.192,2,   0.9500,2,  2179.2,2, 2344.48,2, -999.000,9,  -999.00,   7.78705,2,    25.02, -999.00,9, -999.00,9, -999.00, -999.00,9,-999.000,9,   44.20,2, -999.00,1,      16.28,2, 20210504,     1609,  25.8207, -65.6656,    13.3443,2,     0.0413,1,     4.6754,1,     -999.0,9,     -999.0,9,     -999.0,9
325020210420,        A22,      52,          1,         22,         22,2,20210504,       1420,    25.8207,   -65.6656,       5284,   771.6,  11.0193,  35.4287,2,  35.4273,2,    145.4,2,   145.3,2,   10.63,2,   21.34,2,    0.00,2,    1.23,2,   1.626,2,   0.905,2,   0.6300,2,  2194.3,2, 2327.83,2,  782.025,6,    20.00,     7.716,6,    25.02, -999.00,9, -999.00,9, -999.00, -999.00,9,-999.000,9,   42.40,2, -999.00,1,      19.42,2, 20210504,     1606,  25.8207, -65.6656,    11.0180,2,     0.0410,1,     4.6774,1,     -999.0,9,     -999.0,9,     -999.0,9
325020210420,        A22,      52,          1,         21,         21,2,20210504,       1420,    25.8207,   -65.6656,       5284,   872.2,   8.8096,  35.1990,2,  35.2016,2,    152.0,2,   152.4,2,   13.85,2,   23.74,2,    0.00,2,    1.42,2,-999.000,9,-999.000,9,-999.0000,9,  2202.3,2, 2319.41,2,  861.980,2,    20.00,     7.673,2,    25.04, -999.00,9, -999.00,9, -999.00, -999.00,9,-999.000,9,   41.70,2, -999.00,1,     -999.0,9, 20210504,     1603,  25.8207, -65.6656,     8.8087,2,     0.0421,1,     4.6777,1,     -999.0,9,     -999.0,9,     -999.0,9
325020210420,        A22,      52,          1,         20,         20,2,20210504,       1420,    25.8207,   -65.6656,       5284,   973.9,   7.3544,  35.1324,2,  35.1331,2,    176.6,2,   176.5,2,   14.34,2,   22.74,2,    0.00,2,    1.39,2,   1.383,2,   0.733,2,   0.5100,2,  2197.8,2, 2319.34,2,  851.990,2,    20.00,   7.67872,2,    25.05, -999.00,9, -999.00,9, -999.00, -999.00,9,-999.000,9,   43.80,2, -999.00,1,      18.28,2, 20210504,     1600,  25.8207, -65.6656,     7.3555,2,     0.0424,1,     4.6789,1,     -999.0,9,     -999.0,9,     -999.0,9
325020210420,        A22,      52,          1,         19,         19,2,20210504,       1420,    25.8207,   -65.6656,       5284,  1075.1,   6.2391,  35.0945,2,  35.0951,2,    200.0,2,   199.1,2,   14.53,2,   21.62,2,    0.00,2,    1.34,2,   1.297,2,   0.686,2,   0.4300,2,  2192.0,6, 2316.66,2,  823.420,2,    20.00,   7.69185,2,    25.02, -999.00,9, -999.00,9, -999.00, -999.00,9,-999.000,9,   41.20,2, -999.00,1,      16.71,2, 20210504,     1557,  25.8207, -65.6656,     6.2456,2,     0.0416,1,     4.6796,1,     -999.0,9,     -999.0,9,     -999.0,9
325020210420,        A22,      52,          1,         18,         18,2,20210504,       1420,    25.8207,   -65.6656,       5284,  1175.9,   5.5413,  35.0828,2,  35.0815,2,    220.3,2,   220.9,2,   13.56,2,   20.05,2,    0.00,2,    1.24,2,-999.000,9,-999.000,9,-999.0000,9,  2184.5,2, 2315.47,2,  789.910,2,    20.00,   7.70802,6,    25.06, -999.00,9, -999.00,9, -999.00, -999.00,9,-999.000,9,   42.00,2, -999.00,1,     -999.0,9, 20210504,     1554,  25.8207, -65.6656,     5.5482,2,     0.0420,1,     4.6801,1,     -999.0,9,     -999.0,9,     -999.0,9
325020210420,        A22,      52,          1,         17,         17,2,20210504,       1420,    25.8207,   -65.6656,       5284,  1277.5,   5.0532,  35.0525,2,  35.0537,2,    235.0,2,   235.8,2,   12.97,2,   19.09,2,    0.00,2,    1.18,2,   1.832,2,   0.954,2,   0.5600,2,  2180.4,2, 2312.48,6,  778.190,2,    20.00,   7.71287,2,    25.01, -999.00,9, -999.00,9, -999.00, -999.00,9,-999.000,9,   43.00,2, -999.00,1,      14.55,2, 20210504,     1551,  25.8207, -65.6656,     5.0539,2,     0.0416,1,     4.6801,1,     -999.0,9,     -999.0,9,     -999.0,9
325020210420,        A22,      52,          1,         16,         16,2,20210504,       1420,    25.8207,   -65.6656,       5284,  1378.7,   4.8510,  35.0565,2,  35.0575,2,    239.8,2,   239.8,2,   13.07,2,   18.89,2,    0.00,2,    1.18,2,   1.650,2,   0.853,2,   0.4000,2,  2177.5,2,  2313.9,2,  765.010,2,    20.00,   7.72048,2,    25.01, -999.00,9, -999.00,9, -999.00, -999.00,9,-999.000,9,   43.10,2, -999.00,1,      14.16,2, 20210504,     1548,  25.8207, -65.6656,     4.8505,2,     0.0421,1,     4.6801,1,     -999.0,9,     -999.0,9,     -999.0,9
325020210420,        A22,      52,          1,         15,         15,2,20210504,       1420,    25.8207,   -65.6656,       5284,  1550.5,   4.4323,  35.0411,2,  35.0409,2,    246.5,2,   246.6,2,   14.05,2,   18.66,2,    0.00,2,    1.17,2,-999.000,9,-999.000,9,-999.0000,9,  2175.6,2,  2313.4,2,  749.830,2,    20.00,   7.72855,2,    25.03, -999.00,9, -999.00,9, -999.00, -999.00,9,-999.000,9,   42.00,2, -999.00,1,     -999.0,9, 20210504,     1544,  25.8207, -65.6656,     4.4361,2,     0.0429,1,     4.6813,1,     -999.0,9,     -999.0,9,     -999.0,9
325020210420,        A22,      52,          1,         14,         14,2,20210504,       1420,    25.8207,   -65.6656,       5284,  1753.8,   4.0228,  35.0176,2,  35.0183,2,    251.3,2,   252.1,2,   15.80,2,   18.60,2,    0.00,2,    1.17,2,   0.954,2,   0.479,2,   0.1400,2,  2171.9,2, 2315.16,2,  738.960,2,    20.00,   7.73468,2,    25.02, -999.00,9, -999.00,9, -999.00, -999.00,9,-999.000,9,   41.40,2, -999.00,1,      13.72,2, 20210504,     1539,  25.8207, -65.6656,     4.0231,2,     0.0420,1,     4.6804,1,     -999.0,9,     -999.0,9,     -999.0,9
325020210420,        A22,      52,          1,         13,         13,2,20210504,       1420,    25.8207,   -65.6656,       5284,  1957.2,   3.7287,  35.0062,2,  35.0065,2,    251.3,2,   251.5,2,   19.02,2,   18.89,2,    0.00,2,    1.19,2,   0.622,2,   0.318,2,   0.1100,2,  2174.2,2, 2317.16,2, -999.000,9,  -999.00,   7.73844,2,    25.02, -999.00,9, -999.00,9, -999.00, -999.00,9,-999.000,9,   43.90,2, -999.00,1,      13.29,2, 20210504,     1534,  25.8207, -65.6656,     3.7267,2,     0.0428,1,     4.6809,1,     -999.0,9,     -999.0,9,     -999.0,9
325020210420,        A22,      52,          1,         12,         12,2,20210504,       1420,    25.8207,   -65.6656,       5284,  2190.7,   3.4427,  34.9878,2,  34.9880,2,    251.3,2,   251.7,2,   22.34,2,   19.24,2,    0.00,2,    1.22,2,-999.000,9,-999.000,9,-999.0000,9,  2177.6,2, 2319.26,2,  732.450,2,    20.00,   7.73989,2,    25.02, -999.00,9, -999.00,9, -999.00, -999.00,9,-999.000,9,   45.90,3, -999.00,1,     -999.0,9, 20210504,     1529,  25.8207, -65.6656,     3.4422,2,     0.0422,1,     4.6809,1,     -999.0,9,     -999.0,9,     -999.0,9
325020210420,        A22,      52,          1,         11,         11,2,20210504,       1420,    25.8207,   -65.6656,       5284,  2444.7,   3.1779,  34.9675,2,  34.9685,2,    251.7,2,   252.4,2,   25.56,2,   19.54,2,    0.00,2,    1.25,2,   0.227,2,   0.119,2,   0.0400,2,  2179.3,6, 2323.16,2,  730.950,2,    20.00,    7.7409,2,    25.00, -999.00,9, -999.00,9, -999.00, -999.00,9,-999.000,9,   40.90,2, -999.00,1,      12.84,2, 20210504,     1523,  25.8207, -65.6656,     3.1779,2,     0.0419,1,     4.6802,1,     -999.0,9,     -999.0,9,     -999.0,9
325020210420,        A22,      52,          1,         10,         10,2,20210504,       1420,    25.8207,   -65.6656,       5284,  2699.7,   2.9714,  34.9503,2,  34.9479,3,    252.7,2,   252.8,2,   28.00,2,   19.77,2,    0.00,2,    1.27,2,   0.179,2,   0.095,2,   0.0100,2,  2182.0,2, 2323.81,2,  729.930,2,    20.00,   7.74084,6,    24.98, -999.00,9, -999.00,9, -999.00, -999.00,9,-999.000,9,   39.80,2, -999.00,1,      13.31,2, 20210504,     1518,  25.8207, -65.6656,     2.9715,2,     0.0429,1,     4.6801,1,     -999.0,9,     -999.0,9,     -999.0,9
325020210420,        A22,      52,          1,          9,          9,2,20210504,       1420,    25.8207,   -65.6656,       5284,  2954.4,   2.7971,  34.9349,2,  34.9347,2,    255.5,2,   255.5,2,   28.88,2,   19.64,2,    0.00,2,    1.27,2,   0.257,2,   0.134,2,   0.1000,2,  2179.5,2, 2324.77,6, -999.000,9,  -999.00,   7.74135,6,    24.98, -999.00,9, -999.00,9, -999.00, -999.00,9,-999.000,9,   40.40,2, -999.00,1,      13.13,2, 20210504,     1512,  25.8207, -65.6656,     2.7974,2,     0.0425,1,     4.6801,1,     -999.0,9,     -999.0,9,     -999.0,9
325020210420,        A22,      52,          1,          8,          8,2,20210504,       1420,    25.8207,   -65.6656,       5284,  3246.0,   2.6405,  34.9220,2,  34.9211,2,    257.9,2,   258.1,2,   29.95,2,   19.57,2,    0.00,2,    1.27,2,-999.000,9,-999.000,9,-999.0000,9,  2179.0,2, 2325.19,2,  730.180,2,    20.00,   7.74108,2,    24.98, -999.00,9, -999.00,9, -999.00, -999.00,9,-999.000,9,   40.60,2, -999.00,1,     -999.0,9, 20210504,     1506,  25.8207, -65.6656,     2.6400,2,     0.0430,1,     4.6801,1,     -999.0,9,     -999.0,9,     -999.0,9
325020210420,        A22,      52,          1,          7,          7,2,20210504,       1420,    25.8207,   -65.6656,       5284,  3553.2,   2.4702,  34.9083,2,  34.9089,2,    261.4,2,   261.5,2,   30.24,2,   19.27,2,    0.00,2,    1.25,2,   0.400,2,   0.209,2,   0.0800,2,  2180.2,2, 2322.33,2, -999.000,9,  -999.00,    7.7396,2,    25.02, -999.00,9, -999.00,9, -999.00, -999.00,9,-999.000,9,   41.10,2, -999.00,1,      13.25,2, 20210504,     1459,  25.8207, -65.6656,     2.4699,2,     0.0432,1,     4.6801,1,     -999.0,9,     -999.0,9,     -999.0,9
325020210420,        A22,      52,          1,          6,          6,2,20210504,       1420,    25.8207,   -65.6656,       5284,  3859.8,   2.3598,  34.8992,2,  34.8983,2,    264.2,2,   264.4,2,   29.85,2,   18.89,2,    0.00,2,    1.23,2,-999.000,9,-999.000,9,-999.0000,9,  2177.8,2, 2321.52,2,  734.110,2,    20.00,   7.73758,2,    24.99, -999.00,9, -999.00,9, -999.00, -999.00,9,-999.000,9,   42.00,2, -999.00,1,     -999.0,9, 20210504,     1453,  25.8207, -65.6656,     2.3601,2,     0.0429,1,     4.6801,1,     -999.0,9,     -999.0,9,     -999.0,9
325020210420,        A22,      52,          1,          5,          5,2,20210504,       1420,    25.8207,   -65.6656,       5284,  4167.3,   2.2896,  34.8913,2,  34.8918,2,    263.7,2,   263.8,2,   32.10,2,   19.14,2,    0.00,2,    1.25,2,   0.584,2,   0.296,2,   0.0800,2,  2182.5,2, 2325.64,2, -999.000,9,  -999.00,   7.73573,2,    24.95, -999.00,9, -999.00,9, -999.00, -999.00,9,-999.000,9,   41.40,2, -999.00,1,      13.44,2, 20210504,     1447,  25.8207, -65.6656,     2.2897,2,     0.0428,1,     4.6796,1,     -999.0,9,     -999.0,9,     -999.0,9
325020210420,        A22,      52,          1,          4,          4,2,20210504,       1420,    25.8207,   -65.6656,       5284,  4476.1,   2.2352,  34.8823,2,  34.8810,2,    260.8,2,   261.1,2,   36.29,2,   19.75,2,    0.00,2,    1.30,2,   0.532,2,   0.281,2,   0.1300,2,  2187.8,2, 2330.39,2,  746.380,2,    20.00,   7.73254,2,    24.98, -999.00,9, -999.00,9, -999.00, -999.00,9,-999.000,9,   41.60,2, -999.00,1,      13.49,2, 20210504,     1439,  25.8207, -65.6656,     2.2353,2,     0.0434,1,     4.6793,1,     -999.0,9,     -999.0,9,     -999.0,9
325020210420,        A22,      52,          1,          3,          3,2,20210504,       1420,    25.8207,   -65.6656,       5284,  4784.1,   2.1921,  34.8735,2,  34.8733,2,    257.3,2,   257.6,2,   41.07,2,   20.57,2,    0.00,2,    1.36,2,   0.419,2,   0.223,2,   0.1300,2,  2193.8,2, 2332.52,2, -999.000,9,  -999.00,   7.72864,2,    24.94, -999.00,9, -999.00,9, -999.00, -999.00,9,-999.000,9,   41.20,2, -999.00,1,      13.30,2, 20210504,     1433,  25.8207, -65.6656,     2.1925,2,     0.0429,1,     4.6790,1,     -999.0,9,     -999.0,9,     -999.0,9