BOTTLE,20230513CCHSIOCBG
EXPOCODE,SECT_ID,STNNBR,CASTNO,SAMPNO,BTLNBR,BTLNBR_FLAG_W,DATE,TIME,LATITUDE,LONGITUDE,DEPTH,CTDPRS,CTDTMP,CTDSAL,CTDSAL_FLAG_W,SALNTY,SALNTY_FLAG_W,CTDOXY,CTDOXY_FLAG_W,OXYGEN,OXYGEN_FLAG_W,SILCAT,SILCAT_FLAG_W,NITRAT,NITRAT_FLAG_W,NITRIT,NITRIT_FLAG_W,PHSPHT,PHSPHT_FLAG_W,CFC-11,CFC-11_FLAG_W,CFC-12,CFC-12_FLAG_W,SF6,SF6_FLAG_W,TCARBN,TCARBN_FLAG_W,ALKALI,ALKALI_FLAG_W,FCO2,FCO2_FLAG_W,FCO2TMP,PH_TOT,PH_TOT_FLAG_W,PH_TMP,DELC13,DELC13_FLAG_W,DELC14,DELC14_FLAG_W,C14ERR,DELO18,DELO18_FLAG_W,POC,POC_FLAG_W,DOC,DOC_FLAG_W,TDN,TDN_FLAG_W,N2O,N2O_FLAG_W,BTL_DATE,BTL_TIME,BTL_LAT,BTL_LON,REFTMP,REFTMP_FLAG_W,CTDFLUOR,CTDFLUOR_FLAG_W,CTDXMISS,CTDXMISS_FLAG_W,D15N_NO2+NO3,D15N_NO2+NO3_FLAG_W,D18O_NO2+NO3,D18O_NO2+NO3_FLAG_W,HPLC,HPLC_FLAG_W
,,,,,,,,,,,METERS,DBAR,ITS-90,PSS-78,,PSS-78,,UMOL/KG,,UMOL/KG,,UMOL/KG,,UMOL/KG,,UMOL/KG,,UMOL/KG,,PMOL/KG,,PMOL/KG,,FMOL/KG,,UMOL/KG,,UMOL/KG,,UATM,,DEG C,,,DEG C,/MILLE,,/MILLE,,/MILLE,/MILLE,,UG/KG,,UMOL/KG,,UMOL/KG,,NMOL/KG,,,,,,ITS-90,,VOLTS,,VOLTS,,/MILLE,,/MILLE,,,
325020210420,        A22,      56,          1,         36,         36,2,20210505,       1809,    27.8185,   -65.5329,       5278,     5.0,  26.0710,  37.0706,2,  37.0712,2,    213.3,3,   209.7,2,    0.68,2,    0.00,2,    0.00,2,    0.00,2,   1.641,2,   1.044,2,   1.7800,2,  2097.1,6,  2422.5,2,  325.720,2,    20.00,   8.06129,2,    25.07, -999.00,9, -999.00,9, -999.00, -999.00,1,-999.000,9,   71.40,2,    4.11,2,       6.15,2, 20210505,     2034,  27.8185, -65.5329,    26.0910,2,     0.0411,1,     4.6189,1,     -999.0,9,     -999.0,9,     -999.0,9
325020210420,        A22,      56,          1,         35,         35,2,20210505,       1809,    27.8185,   -65.5329,       5278,    25.2,  23.7579,  37.0053,2,  37.0025,2,    212.5,2,   213.9,2,    0.68,2,    0.00,2,    0.00,2,    0.00,2,-999.000,9,-999.000,9,-999.0000,9,  2092.1,2, 2415.02,2,  324.780,2,    20.00,   8.06256,6,    24.98, -999.00,9, -999.00,9, -999.00, -999.00,9,-999.000,9,   69.80,2,    4.42,2,     -999.0,9, 20210505,     2031,  27.8185, -65.5329,    23.7562,2,     0.0424,1,     4.6229,1,     -999.0,9,     -999.0,9,     -999.0,9
325020210420,        A22,      56,          1,         34,         34,2,20210505,       1809,    27.8185,   -65.5329,       5278,    50.0,  22.8693,  36.9967,2,  37.0015,2,    216.9,2,   217.4,2,    0.68,2,    0.00,2,    0.00,2,    0.00,2,-999.000,9,-999.000,9,-999.0000,9,  2089.2,2, 2417.77,6,  322.280,2,    20.00,    8.0667,2,    24.98, -999.00,9, -999.00,9, -999.00, -999.00,9,-999.000,9,   72.00,2,    3.89,2,     -999.0,9, 20210505,     2030,  27.8185, -65.5329,    22.8730,2,     0.0430,1,     4.6232,1,     -999.0,9,     -999.0,9,     -999.0,9
325020210420,        A22,      56,          1,         33,         33,2,20210505,       1809,    27.8185,   -65.5329,       5278,    74.8,  21.9793,  36.8868,2,  36.8953,2,    217.5,2,   217.4,2,    0.49,2,    0.00,2,    0.00,2,    0.00,2,   1.790,2,   1.135,2,   1.8700,2,  2091.3,2, 2410.54,2,  335.190,2,    20.00,   8.05075,2,    25.00, -999.00,9, -999.00,9, -999.00, -999.00,9,-999.000,9,   65.50,2,    4.08,2,       6.79,2, 20210505,     2028,  27.8185, -65.5329,    21.9033,2,     0.0493,1,     4.6214,1,     -999.0,9,     -999.0,9,     -999.0,9
325020210420,        A22,      56,          1,         32,         32,2,20210505,       1809,    27.8185,   -65.5329,       5278,   101.2,  21.2040,  36.8465,2,  36.8576,2,    213.9,2,   213.5,2,    0.49,2,    0.00,2,    0.00,2,    0.00,2,-999.000,9,-999.000,9,-999.0000,9,  2101.1,2, 2411.37,2,  349.340,2,    20.00,   8.03623,2,    25.02, -999.00,9, -999.00,9, -999.00, -999.00,9,-999.000,9,   63.20,2,    3.63,2,     -999.0,9, 20210505,     2026,  27.8185, -65.5329,    21.2261,2,     0.0592,1,     4.6263,1,     -999.0,9,     -999.0,9,     -999.0,9
325020210420,        A22,      56,          1,         31,         31,2,20210505,       1809,    27.8185,   -65.5329,       5278,   150.6,  19.7538,  36.7076,2,  36.7036,2,    192.9,2,   193.5,2,    0.78,2,    1.54,2,    0.01,2,    0.00,2,   1.954,2,   1.232,2,   1.8300,2,  2125.6,2, 2396.12,2,  404.450,2,    20.00,    7.9808,2,    25.04, -999.00,9, -999.00,9, -999.00, -999.00,1,-999.000,9,   60.30,2,    4.93,2,       7.64,2, 20210505,     2023,  27.8185, -65.5329,    19.7673,2,     0.0787,1,     4.6361,1,     -999.0,9,     -999.0,9,     -999.0,9
325020210420,        A22,      56,          1,         30,         30,2,20210505,       1809,    27.8185,   -65.5329,       5278,   201.3,  19.2382,  36.6550,2,  36.6530,2,    197.0,2,   197.5,2,    0.97,2,    2.64,2,    0.00,2,    0.04,2,-999.000,9,-999.000,9,-999.0000,9,  2122.7,2, 2394.71,2,  406.680,2,    20.00,   7.97862,2,    24.97, -999.00,9, -999.00,9, -999.00, -999.00,9,-999.000,9,   53.70,2,    5.70,2,     -999.0,9, 20210505,     2021,  27.8185, -65.5329,    19.2373,2,     0.0437,1,     4.6618,1,     -999.0,9,     -999.0,9,     -999.0,9
325020210420,        A22,      56,          1,         29,         29,2,20210505,       1809,    27.8185,   -65.5329,       5278,   251.6,  18.8782,  36.6203,2,  36.6160,2,    198.0,2,   198.4,2,    1.17,2,    3.35,2,    0.00,2,    0.08,2,   2.021,2,   1.282,2,   1.8800,2,  2124.3,2, 2392.43,2,  412.080,2,    20.00,   7.97267,2,    24.97, -999.00,9, -999.00,9, -999.00, -999.00,9,-999.000,9,   54.30,2,    6.97,2,       8.13,2, 20210505,     2019,  27.8185, -65.5329,    18.8785,2,     0.0394,1,     4.6668,1,     -999.0,9,     -999.0,9,     -999.0,9
325020210420,        A22,      56,          1,         28,         28,2,20210505,       1809,    27.8185,   -65.5329,       5278,   301.7,  18.5643,  36.5825,2,  36.5797,2,    198.5,2,   198.4,2,    1.17,2,    3.89,2,    0.00,2,    0.12,2,-999.000,9,-999.000,9,-999.0000,9,  2125.8,2,  2389.2,2,  420.300,2,    20.00,    7.9651,2,    25.00, -999.00,9, -999.00,9, -999.00, -999.00,9,-999.000,9,   53.10,2, -999.00,1,     -999.0,9, 20210505,     2016,  27.8185, -65.5329,    18.5624,2,     0.0391,1,     4.6675,1,     -999.0,9,     -999.0,9,     -999.0,9
325020210420,        A22,      56,          1,         27,         27,2,20210505,       1809,    27.8185,   -65.5329,       5278,   352.3,  18.1117,  36.5132,2,  36.5070,2,    192.5,2,   193.0,2,    1.46,2,    5.12,2,    0.00,2,    0.19,2,   2.112,2,   1.315,2,   1.7000,2,  2133.2,2, 2384.53,2,  441.410,2,    20.00,   7.94604,6,    24.98, -999.00,9, -999.00,9, -999.00, -999.00,9,-999.000,9,   51.30,2, -999.00,1,       9.02,2, 20210505,     2014,  27.8185, -65.5329,    18.1162,2,     0.0393,1,     4.6679,1,     -999.0,9,     -999.0,9,     -999.0,9
325020210420,        A22,      56,          1,         26,         26,2,20210505,       1809,    27.8185,   -65.5329,       5278,   402.6,  17.4832,  36.4081,2,  36.4027,2,    186.2,2,   186.0,2,    2.05,2,    6.66,2,    0.00,2,    0.28,2,   2.144,2,   1.347,2,   1.6700,2,  2143.4,2, 2379.64,2,  469.600,2,    20.00,   7.92398,2,    24.99, -999.00,9, -999.00,9, -999.00, -999.00,9,-999.000,9,   49.80,2, -999.00,1,       9.91,2, 20210505,     2010,  27.8185, -65.5329,    17.4844,2,     0.0401,1,     4.6687,1,     -999.0,9,     -999.0,9,     -999.0,9
325020210420,        A22,      56,          1,         25,         25,2,20210505,       1809,    27.8185,   -65.5329,       5278,   504.3,  15.6592,  36.1083,2,  36.1015,2,    178.1,2,   177.7,2,    3.41,2,   10.35,2,    0.00,2,    0.52,2,   2.259,2,   1.367,2,   1.4300,2,  2154.6,2, 2361.94,2,  538.100,2,    20.00,   7.86976,2,    25.06, -999.00,9, -999.00,9, -999.00, -999.00,9,-999.000,9,   48.90,2, -999.00,1,      12.08,2, 20210505,     2008,  27.8185, -65.5329,    15.6661,2,     0.0406,1,     4.6716,1,     -999.0,9,     -999.0,9,     -999.0,9
325020210420,        A22,      56,          1,         24,         24,2,20210505,       1809,    27.8185,   -65.5329,       5278,   604.7,  13.6303,  35.7921,2,  35.7890,2,    167.7,2,   167.5,2,    9.65,4,   19.82,4,    0.00,4,    1.16,4,-999.000,9,-999.000,9,-999.0000,9,  2166.6,2, 2344.82,2,  735.740,4,    20.00,   7.80741,2,    25.00, -999.00,9, -999.00,9, -999.00, -999.00,9,-999.000,9,   45.80,2, -999.00,1,     -999.0,9, 20210505,     2004,  27.8185, -65.5329,    13.6425,2,     0.0408,1,     4.6740,1,     -999.0,9,     -999.0,9,     -999.0,9
325020210420,        A22,      56,          1,         23,         23,2,20210505,       1809,    27.8185,   -65.5329,       5278,   705.5,  11.1664,  35.4598,2,  35.4580,2,    155.0,2,   154.7,2,    9.65,2,   19.89,2,    0.00,2,    1.17,2,   1.802,2,   1.018,2,   0.8300,2,  2185.2,2, 2330.07,2,  735.430,2,    20.00,   7.73151,2,    25.05, -999.00,9, -999.00,9, -999.00, -999.00,9,-999.000,9,   45.40,2, -999.00,1,      17.86,2, 20210505,     2001,  27.8185, -65.5329,    11.1671,2,     0.0419,1,     4.6756,1,     -999.0,9,     -999.0,9,     -999.0,9
325020210420,        A22,      56,          1,         22,         22,2,20210505,       1809,    27.8185,   -65.5329,       5278,   806.8,   9.2675,  35.2454,2,  35.2389,2,    148.1,2,   149.1,2,   13.46,2,   23.71,2,    0.00,2,    1.43,2,-999.000,9,-999.000,9,-999.0000,9,  2197.5,6,  2318.1,2,  848.690,2,    20.00,   7.68159,2,    25.02, -999.00,9, -999.00,9, -999.00, -999.00,9,-999.000,9,   44.90,2, -999.00,1,     -999.0,9, 20210505,     1956,  27.8185, -65.5329,     9.2649,2,     0.0411,1,     4.6775,1,     -999.0,9,     -999.0,9,     -999.0,9
325020210420,        A22,      56,          1,         21,         21,2,20210505,       1809,    27.8185,   -65.5329,       5278,   907.5,   7.6365,  35.1096,2,  35.1075,2,    159.6,2,   160.0,2,   15.70,2,   24.71,2,    0.00,2,    1.53,2,   0.972,6,   0.520,6,   0.3900,6,  2200.7,2, 2317.27,2,  882.070,2,    20.00,   7.66428,2,    25.02, -999.00,9, -999.00,9, -999.00, -999.00,9,-999.000,9,   42.00,2, -999.00,1,      19.46,6, 20210505,     1953,  27.8185, -65.5329,     7.6356,2,     0.0423,1,     4.6776,1,     -999.0,9,     -999.0,9,     -999.0,9
325020210420,        A22,      56,          1,         20,         20,2,20210505,       1809,    27.8185,   -65.5329,       5278,  1009.2,   6.6753,  35.0842,2,  35.0829,2,    182.6,2,   182.5,2,   15.41,2,   23.20,2,    0.00,2,    1.45,2,   1.085,2,   0.579,2,   0.4700,2,  2193.3,2, 2316.23,2,  852.570,2,    20.00,    7.6776,6,    24.92, -999.00,9, -999.00,9, -999.00, -999.00,9,-999.000,9,   41.40,2, -999.00,1,      17.83,2, 20210505,     1950,  27.8185, -65.5329,     6.6608,2,     0.0424,1,     4.6780,1,     -999.0,9,     -999.0,9,     -999.0,9
325020210420,        A22,      56,          1,         19,         19,2,20210505,       1809,    27.8185,   -65.5329,       5278,  1110.0,   5.9737,  35.0845,2,  35.0839,2,    205.6,2,   206.3,2,   14.24,2,   21.13,2,    0.00,2,    1.33,2,   1.391,2,   0.729,2,   0.4900,2,  2186.8,2, 2316.15,6,  814.630,2,    20.00,    7.6958,2,    24.96, -999.00,9, -999.00,9, -999.00, -999.00,9,-999.000,9,   43.20,2, -999.00,1,      16.01,2, 20210505,     1946,  27.8185, -65.5329,     5.9743,2,     0.0413,1,     4.6785,1,     -999.0,9,     -999.0,9,     -999.0,9
325020210420,        A22,      56,          1,         18,         18,2,20210505,       1809,    27.8185,   -65.5329,       5278,  1211.6,   5.5174,  35.0863,2,  35.0852,2,    220.3,2,   220.8,2,   13.85,2,   20.07,2,    0.00,2,    1.27,2,-999.000,9,-999.000,9,-999.0000,9,  2180.8,2, 2318.79,2,  787.670,2,    20.00,   7.70903,2,    24.99, -999.00,9, -999.00,9, -999.00, -999.00,9,-999.000,9,   44.10,2, -999.00,1,     -999.0,9, 20210505,     1944,  27.8185, -65.5329,     5.5191,2,     0.0429,1,     4.6789,1,     -999.0,9,     -999.0,9,     -999.0,9
325020210420,        A22,      56,          1,         17,         17,2,20210505,       1809,    27.8185,   -65.5329,       5278,  1313.1,   5.1435,  35.0824,2,  35.0835,2,    231.9,2,   232.1,2,   13.56,2,   19.27,2,    0.00,2,    1.22,2,   1.465,2,   0.759,2,   0.4500,2,  2176.6,2, 2315.76,2,  769.780,2,    20.00,   7.71859,2,    25.03, -999.00,9, -999.00,9, -999.00, -999.00,9,-999.000,9,   43.40,2, -999.00,1,      13.99,2, 20210505,     1941,  27.8185, -65.5329,     5.1441,2,     0.0412,1,     4.6790,1,     -999.0,9,     -999.0,9,     -999.0,9
325020210420,        A22,      56,          1,         16,         16,2,20210505,       1809,    27.8185,   -65.5329,       5278,  1414.4,   4.8932,  35.0764,2,  35.0451,3,    237.5,2,   237.4,2,   13.65,2,   18.94,2,    0.00,2,    1.20,2,   1.415,2,   0.737,2,   0.4400,2,  2179.7,2, 2315.87,2,  759.615,6,    20.00,   7.72413,2,    25.02, -999.00,9, -999.00,9, -999.00, -999.00,9,-999.000,9,   45.10,2, -999.00,1,      13.75,2, 20210505,     1937,  27.8185, -65.5329,     4.8970,2,     0.0428,1,     4.6791,1,     -999.0,9,     -999.0,9,     -999.0,9
325020210420,        A22,      56,          1,         15,         15,2,20210505,       1809,    27.8185,   -65.5329,       5278,  1616.8,   4.4013,  35.0458,2,  35.0175,3,    246.8,2,   247.0,2,   14.53,2,   18.57,2,    0.00,2,    1.18,2,   1.327,2,   0.667,2,   0.3500,2,  2176.8,2,  2314.8,2,  748.750,2,    20.00,   7.73032,2,    25.02, -999.00,9, -999.00,9, -999.00, -999.00,9,-999.000,9,   45.00,2, -999.00,1,      13.73,2, 20210505,     1932,  27.8185, -65.5329,     4.3999,2,     0.0417,1,     4.6789,1,     -999.0,9,     -999.0,9,     -999.0,9
325020210420,        A22,      56,          1,         14,         14,2,20210505,       1809,    27.8185,   -65.5329,       5278,  1819.5,   3.9694,  35.0176,2,  35.0175,2,    251.4,2,   251.8,2,   16.48,2,   18.54,2,    0.00,2,    1.18,2,-999.000,9,-999.000,9,-999.0000,9,  2175.8,2, 2315.43,2,  741.050,2,    20.00,   7.73601,2,    25.06, -999.00,9, -999.00,9, -999.00, -999.00,9,-999.000,9,   44.90,2, -999.00,1,     -999.0,9, 20210505,     1928,  27.8185, -65.5329,     3.9727,2,     0.0423,1,     4.6789,1,     -999.0,9,     -999.0,9,     -999.0,9
325020210420,        A22,      56,          1,         13,         13,2,20210505,       1809,    27.8185,   -65.5329,       5278,  2023.0,   3.6376,  34.9957,2,  34.9965,2,    253.5,2,   253.5,2,   18.92,2,   18.71,2,    0.00,2,    1.20,2,   0.714,2,   0.362,2,   0.1800,2,  2175.3,2, 2317.22,2,  626.240,3,    20.00,   7.73762,2,    25.05, -999.00,9, -999.00,9, -999.00, -999.00,9,-999.000,9,   44.40,2, -999.00,1,      13.34,2, 20210505,     1923,  27.8185, -65.5329,     3.6376,2,     0.0426,1,     4.6789,1,     -999.0,9,     -999.0,9,     -999.0,9
325020210420,        A22,      56,          1,         12,         12,2,20210505,       1809,    27.8185,   -65.5329,       5278,  2278.0,   3.3288,  34.9728,2,  34.9723,2,    254.9,2,   255.1,2,   21.46,2,   18.86,2,    0.00,2,    1.23,2,-999.000,9,-999.000,9,-999.0000,9,  2176.8,2, 2318.13,2,  749.400,2,    20.00,   7.73944,2,    25.03, -999.00,9, -999.00,9, -999.00, -999.00,9,-999.000,9,   44.40,2, -999.00,1,     -999.0,9, 20210505,     1917,  27.8185, -65.5329,     3.3292,2,     0.0424,1,     4.6789,1,     -999.0,9,     -999.0,9,     -999.0,9
325020210420,        A22,      56,          1,         11,         11,2,20210505,       1809,    27.8185,   -65.5329,       5278,  2532.7,   3.1140,  34.9601,2,  34.9601,2,    253.9,2,   254.1,2,   24.97,2,   19.24,2,    0.00,2,    1.27,2,   0.305,2,   0.160,2,   0.1500,2,  2179.5,6, 2321.85,2,  729.780,2,    20.00,   7.74077,2,    25.03, -999.00,9, -999.00,9, -999.00, -999.00,9,-999.000,9,   43.00,2, -999.00,1,      13.04,2, 20210505,     1911,  27.8185, -65.5329,     3.1141,2,     0.0423,1,     4.6790,1,     -999.0,9,     -999.0,9,     -999.0,9
325020210420,        A22,      56,          1,         10,         10,2,20210505,       1809,    27.8185,   -65.5329,       5278,  2786.7,   2.9086,  34.9432,2,  34.9437,2,    255.9,2,   256.3,2,   26.53,2,   19.23,2,    0.00,2,    1.27,2,   0.323,2,   0.171,2,   0.1600,2,  2177.0,2, 2322.78,2,  731.050,2,    20.00,   7.74083,6,    25.02, -999.00,9, -999.00,9, -999.00, -999.00,9,-999.000,9,   42.90,2, -999.00,1,      13.10,2, 20210505,     1906,  27.8185, -65.5329,     2.9095,2,     0.0412,1,     4.6789,1,     -999.0,9,     -999.0,9,     -999.0,9
325020210420,        A22,      56,          1,          9,          9,2,20210505,       1809,    27.8185,   -65.5329,       5278,  3042.2,   2.7590,  34.9308,2,  34.9307,2,    257.9,2,   258.2,2,   27.80,2,   19.21,2,    0.00,2,    1.26,2,   0.362,2,   0.187,2,   0.1300,2,  2176.3,2, 2325.11,6,  730.420,2,    20.00,   7.74226,2,    25.03, -999.00,9, -999.00,9, -999.00, -999.00,9,-999.000,9,   42.70,2, -999.00,1,      13.04,2, 20210505,     1900,  27.8185, -65.5329,     2.7582,2,     0.0429,1,     4.6787,1,     -999.0,9,     -999.0,9,     -999.0,9
325020210420,        A22,      56,          1,          8,          8,2,20210505,       1809,    27.8185,   -65.5329,       5278,  3349.0,   2.6016,  34.9183,2,  34.9183,2,    260.5,2,   260.8,2,   28.58,2,   19.05,2,    0.00,2,    1.26,2,-999.000,9,-999.000,9,-999.0000,9,  2177.0,2, 2324.09,2,  730.580,2,    20.00,   7.74028,2,    24.96, -999.00,9, -999.00,9, -999.00, -999.00,9,-999.000,9,   42.80,2, -999.00,1,     -999.0,9, 20210505,     1854,  27.8185, -65.5329,     2.6014,2,     0.0428,1,     4.6788,1,     -999.0,9,     -999.0,9,     -999.0,9
325020210420,        A22,      56,          1,          7,          7,2,20210505,       1809,    27.8185,   -65.5329,       5278,  3655.8,   2.4595,  34.9068,2,  34.9077,2,    263.5,2,   264.0,2,   28.48,2,   18.71,2,    0.00,2,    1.24,2,   0.564,2,   0.289,2,   0.2200,2,  2177.3,2, 2321.55,2,  731.960,2,    20.00,   7.73863,2,    24.94, -999.00,9, -999.00,9, -999.00, -999.00,9,-999.000,9,   43.00,2, -999.00,1,      13.07,2, 20210505,     1847,  27.8185, -65.5329,     2.4597,2,     0.0430,1,     4.6789,1,     -999.0,9,     -999.0,9,     -999.0,9
325020210420,        A22,      56,          1,          6,          6,2,20210505,       1809,    27.8185,   -65.5329,       5278,  3963.2,   2.3572,  34.8980,2,  34.8989,2,    264.3,2,   264.6,2,   30.04,2,   18.85,2,    0.00,2,    1.26,2,   0.597,2,   0.308,2,   0.2100,2,  2177.4,2, 2323.52,2,  736.470,2,    20.00,   7.73829,6,    24.98, -999.00,9, -999.00,9, -999.00, -999.00,9,-999.000,9,   41.80,2, -999.00,1,      13.05,2, 20210505,     1840,  27.8185, -65.5329,     2.3569,2,     0.0435,1,     4.6787,1,     -999.0,9,     -999.0,9,     -999.0,9
325020210420,        A22,      56,          1,          5,          5,2,20210505,       1809,    27.8185,   -65.5329,       5278,  4271.0,   2.2937,  34.8905,2,  34.8918,2,    263.3,2,   263.5,2,   32.48,2,   19.12,2,    0.00,2,    1.28,2,   0.612,2,   0.317,2,   0.1800,2,  2181.2,2, 2325.69,2,  740.130,2,    20.00,   7.73516,2,    25.03, -999.00,9, -999.00,9, -999.00, -999.00,9,-999.000,9,   42.60,2, -999.00,1,      13.12,2, 20210505,     1835,  27.8185, -65.5329,     2.2942,2,     0.0429,1,     4.6788,1,     -999.0,9,     -999.0,9,     -999.0,9
325020210420,        A22,      56,          1,          4,          4,2,20210505,       1809,    27.8185,   -65.5329,       5278,  4579.3,   2.2572,  34.8833,2,  34.8835,2,    261.5,2,   261.5,2,   35.60,2,   19.52,2,    0.00,2,    1.31,2,   0.624,2,   0.326,2,   0.2300,2,  2186.0,2, 2329.42,2,  747.020,2,    20.00,   7.73096,2,    25.04, -999.00,9, -999.00,9, -999.00, -999.00,9,-999.000,9,   42.40,2, -999.00,1,      13.35,2, 20210505,     1828,  27.8185, -65.5329,     2.2573,2,     0.0429,1,     4.6777,1,     -999.0,9,     -999.0,9,     -999.0,9
325020210420,        A22,      56,          1,          3,          3,2,20210505,       1809,    27.8185,   -65.5329,       5278,  4886.9,   2.2147,  34.8743,2,  34.8741,2,    258.1,2,   258.2,2,   40.29,2,   20.27,2,    0.00,2,    1.37,2,-999.000,9,-999.000,9,-999.0000,9,  2192.4,2, 2332.96,2, -999.000,9,  -999.00,   7.72734,2,    25.05, -999.00,9, -999.00,9, -999.00, -999.00,9,-999.000,9,   40.80,2, -999.00,1,     -999.0,9, 20210505,     1821,  27.8185, -65.5329,     2.2148,2,     0.0435,1,     4.6764,1,     -999.0,9,     -999.0,9,     -999.0,9