BOTTLE,20230513CCHSIOCBG
EXPOCODE,SECT_ID,STNNBR,CASTNO,SAMPNO,BTLNBR,BTLNBR_FLAG_W,DATE,TIME,LATITUDE,LONGITUDE,DEPTH,CTDPRS,CTDTMP,CTDSAL,CTDSAL_FLAG_W,SALNTY,SALNTY_FLAG_W,CTDOXY,CTDOXY_FLAG_W,OXYGEN,OXYGEN_FLAG_W,SILCAT,SILCAT_FLAG_W,NITRAT,NITRAT_FLAG_W,NITRIT,NITRIT_FLAG_W,PHSPHT,PHSPHT_FLAG_W,CFC-11,CFC-11_FLAG_W,CFC-12,CFC-12_FLAG_W,SF6,SF6_FLAG_W,TCARBN,TCARBN_FLAG_W,ALKALI,ALKALI_FLAG_W,FCO2,FCO2_FLAG_W,FCO2TMP,PH_TOT,PH_TOT_FLAG_W,PH_TMP,DELC13,DELC13_FLAG_W,DELC14,DELC14_FLAG_W,C14ERR,DELO18,DELO18_FLAG_W,POC,POC_FLAG_W,DOC,DOC_FLAG_W,TDN,TDN_FLAG_W,N2O,N2O_FLAG_W,BTL_DATE,BTL_TIME,BTL_LAT,BTL_LON,REFTMP,REFTMP_FLAG_W,CTDFLUOR,CTDFLUOR_FLAG_W,CTDXMISS,CTDXMISS_FLAG_W,D15N_NO2+NO3,D15N_NO2+NO3_FLAG_W,D18O_NO2+NO3,D18O_NO2+NO3_FLAG_W,HPLC,HPLC_FLAG_W
,,,,,,,,,,,METERS,DBAR,ITS-90,PSS-78,,PSS-78,,UMOL/KG,,UMOL/KG,,UMOL/KG,,UMOL/KG,,UMOL/KG,,UMOL/KG,,PMOL/KG,,PMOL/KG,,FMOL/KG,,UMOL/KG,,UMOL/KG,,UATM,,DEG C,,,DEG C,/MILLE,,/MILLE,,/MILLE,/MILLE,,UG/KG,,UMOL/KG,,UMOL/KG,,NMOL/KG,,,,,,ITS-90,,VOLTS,,VOLTS,,/MILLE,,/MILLE,,,
325020210420,        A22,      10,          1,         36,         36,2,20210423,       2225,    13.6122,   -69.7980,       4868,     5.1,  27.2784,  35.9190,2,  35.9206,2,    202.0,2,   201.5,2,    1.46,2,    0.00,2,    0.00,2,    0.00,2,   1.445,2,   0.950,2,   1.6700,2,  2025.2,6, 2350.93,2,  294.520,2,    20.00,   8.09021,6,    25.02, -999.00,9, -999.00,9, -999.00, -999.00,1,-999.000,9,   75.60,2,    4.89,2,       6.10,2, 20210424,       35,  13.6122, -69.7980,    27.2757,2,     0.0493,1,     4.6046,1,     -999.0,9,     -999.0,9,     -999.0,9
325020210420,        A22,      10,          1,         35,         35,2,20210423,       2225,    13.6122,   -69.7980,       4868,    19.9,  27.2873,  35.9187,2,  35.9200,2,    201.9,2,   201.7,2,    1.27,2,    0.00,2,    0.00,2,    0.00,2,   1.428,2,   0.950,2,   1.6300,2,  2023.3,2,  2351.7,2,  294.390,2,    20.00,   8.09181,2,    25.03, -999.00,9, -999.00,9, -999.00, -999.00,9,-999.000,9,   73.70,2,    5.07,2,       5.74,2, 20210424,       32,  13.6122, -69.7980,    27.2871,2,     0.0511,1,     4.5996,1,     -999.0,9,     -999.0,9,     -999.0,9
325020210420,        A22,      10,          1,         34,         34,2,20210423,       2225,    13.6122,   -69.7980,       4868,    40.6,  27.2397,  35.9196,2,  35.9210,2,    202.0,2,   201.7,2,    1.36,2,    0.00,2,    0.00,2,    0.00,2,-999.000,9,-999.000,9,-999.0000,9,  2024.2,2, 2352.35,2,  295.300,2,    20.00,   8.09237,2,    25.03, -999.00,9, -999.00,9, -999.00, -999.00,9,-999.000,9,   75.50,2,    4.39,2,     -999.0,9, 20210424,       32,  13.6122, -69.7980,    27.2342,2,     0.0543,1,     4.6030,1,     -999.0,9,     -999.0,9,     -999.0,9
325020210420,        A22,      10,          1,         33,         33,2,20210423,       2225,    13.6122,   -69.7980,       4868,    65.9,  26.5888,  36.3181,2,  36.3269,2,    201.1,2,   201.7,2,    1.46,2,    0.00,2,    0.00,2,    0.00,2,   1.479,2,   0.963,2,   1.6900,2,  2040.6,2,  2375.6,2,  293.610,2,    20.00,   8.09782,2,    25.02, -999.00,9, -999.00,9, -999.00, -999.00,1,-999.000,9,   76.40,2,    4.14,2,       6.21,2, 20210424,       30,  13.6122, -69.7980,    26.5864,2,     0.0632,1,     4.6226,1,     -999.0,9,     -999.0,9,     -999.0,9
325020210420,        A22,      10,          1,         32,         32,2,20210423,       2225,    13.6122,   -69.7980,       4868,    90.7,  26.0547,  37.0006,2,  36.9864,2,    188.4,3,   190.4,2,    1.17,2,    0.14,2,    0.24,2,    0.00,2,-999.000,9,-999.000,9,-999.0000,9,  2088.5,2, 2415.48,2,  324.450,2,    20.00,   8.06609,2,    25.01, -999.00,9, -999.00,9, -999.00, -999.00,9,-999.000,9,   67.20,2,    4.51,2,     -999.0,9, 20210424,       29,  13.6122, -69.7980,    26.0506,2,     0.0907,1,     4.6268,1,     -999.0,9,     -999.0,9,     -999.0,9
325020210420,        A22,      10,          1,         31,         31,2,20210423,       2225,    13.6122,   -69.7980,       4868,   135.8,  22.8821,  37.1847,2,  37.1847,2,    168.7,2,   170.3,2,    1.07,2,    1.96,2,    0.03,2,    0.05,2,   1.731,2,   1.120,2,   1.6700,2,  2146.2,2, 2428.01,2,  405.100,2,    20.00,   7.98487,2,    25.01, -999.00,9, -999.00,9, -999.00, -999.00,9,-999.000,9,   57.10,2,    5.43,2,       8.06,2, 20210424,       27,  13.6122, -69.7980,    22.8792,2,     0.0474,1,     4.6691,1,     -999.0,9,     -999.0,9,     -999.0,9
325020210420,        A22,      10,          1,         30,         30,2,20210423,       2225,    13.6122,   -69.7980,       4868,   185.5,  19.1670,  36.6486,2,  36.6400,2,    164.2,2,   165.1,2,    2.24,2,    6.20,2,    0.00,2,    0.26,2,-999.000,9,-999.000,9,-999.0000,9,  2152.4,2, 2390.38,2,  475.130,2,    20.00,   7.92018,2,    25.00, -999.00,9, -999.00,9, -999.00, -999.00,9,-999.000,9,   49.90,2,    8.85,2,     -999.0,9, 20210424,       24,  13.6122, -69.7980,    19.1485,2,     0.0407,1,     4.6762,1,     -999.0,9,     -999.0,9,     -999.0,9
325020210420,        A22,      10,          1,         29,         29,2,20210423,       2225,    13.6122,   -69.7980,       4868,   236.5,  17.3798,  36.3783,2,  36.3709,2,    160.3,2,   160.4,2,    3.12,2,    9.47,2,    0.00,2,    0.47,2,   2.100,2,   1.324,2,   1.4800,2,  2160.6,2, 2375.76,2,  529.930,6,    20.00,   7.87777,2,    25.02, -999.00,9, -999.00,9, -999.00, -999.00,9,-999.000,9,   48.00,2,   11.64,2,      13.02,2, 20210424,       22,  13.6122, -69.7980,    17.3863,2,     0.0401,1,     4.6779,1,     -999.0,9,     -999.0,9,     -999.0,9
325020210420,        A22,      10,          1,         28,         28,2,20210423,       2225,    13.6122,   -69.7980,       4868,   286.9,  15.0969,  35.9779,2,  35.9580,2,    142.9,2,   142.0,2,    5.85,2,   15.28,2,    0.00,2,    0.85,2,   2.091,2,   1.267,2,   1.1000,2,  2180.2,2, 2350.74,2,  652.240,2,    20.00,   7.79249,2,    24.99, -999.00,9, -999.00,9, -999.00, -999.00,9,-999.000,9,   46.00,2, -999.00,1,      17.75,2, 20210424,       20,  13.6122, -69.7980,    15.0923,2,     0.0406,1,     4.6791,1,     -999.0,9,     -999.0,9,     -999.0,9
325020210420,        A22,      10,          1,         27,         27,2,20210423,       2225,    13.6122,   -69.7980,       4868,   337.3,  13.0475,  35.6001,2,  35.5924,2,    128.0,2,   127.6,2,    8.87,2,   20.36,2,    0.00,2,    1.20,2,-999.000,9,-999.000,9,-999.0000,9,  2194.6,2, 2333.06,2,  783.330,2,    20.00,   7.71531,2,    25.00, -999.00,9, -999.00,9, -999.00, -999.00,9,-999.000,9,   43.80,2, -999.00,1,     -999.0,9, 20210424,       18,  13.6122, -69.7980,    13.0546,2,     0.0406,1,     4.6789,1,     -999.0,9,     -999.0,9,     -999.0,9
325020210420,        A22,      10,          1,         26,         26,2,20210423,       2225,    13.6122,   -69.7980,       4868,   387.7,  11.7389,  35.3785,2,  35.3557,3,    123.0,2,   122.7,2,   11.02,2,   23.41,2,    0.00,2,    1.40,2,   1.893,2,   1.082,2,   0.8200,2,  2199.1,2,  2321.6,2,  872.500,2,    20.00,    7.6685,2,    25.02, -999.00,9, -999.00,9, -999.00, -999.00,9,-999.000,9,   44.30,2, -999.00,1,      24.69,2, 20210424,       16,  13.6122, -69.7980,    11.7708,2,     0.0415,1,     4.6777,1,     -999.0,9,     -999.0,9,     -999.0,9
325020210420,        A22,      10,          1,         25,         25,2,20210423,       2225,    13.6122,   -69.7980,       4868,   437.8,  10.3818,  35.1796,2,  35.1748,2,    120.5,2,   121.6,2,   13.07,2,   25.85,2,    0.00,2,    1.57,2,-999.000,9,-999.000,9,-999.0000,9,  2206.3,2, 2313.36,2,  943.260,2,    20.00,   7.63376,2,    25.01, -999.00,9, -999.00,9, -999.00, -999.00,9,-999.000,9,   43.80,2, -999.00,1,     -999.0,9, 20210424,       14,  13.6122, -69.7980,    10.4177,2,     0.0422,1,     4.6787,1,     -999.0,9,     -999.0,9,     -999.0,9
325020210420,        A22,      10,          1,         24,         24,2,20210423,       2225,    13.6122,   -69.7980,       4868,   488.3,   9.5417,  35.0660,2,  35.0616,2,    119.2,2,   118.7,2,   15.02,2,   27.65,2,    0.00,2,    1.70,2,   1.526,2,   0.844,2,   0.5300,2,  2212.4,6, 2310.22,2, 1004.600,2,    20.00,    7.6092,2,    25.00, -999.00,9, -999.00,9, -999.00, -999.00,9,-999.000,9,   43.50,2, -999.00,1,      26.20,2, 20210424,       12,  13.6122, -69.7980,     9.5434,2,     0.0426,1,     4.6778,1,     -999.0,9,     -999.0,9,     -999.0,9
325020210420,        A22,      10,          1,         23,         23,2,20210423,       2225,    13.6122,   -69.7980,       4868,   569.3,   8.5336,  34.9263,2,  34.9262,2,    118.9,2,   119.2,2,   17.66,2,   29.72,2,    0.00,2,    1.84,2,-999.000,9,-999.000,9,-999.0000,9,  2214.8,2, 2302.45,2, 1068.370,2,    20.00,    7.5827,6,    24.99, -999.00,9, -999.00,9, -999.00, -999.00,9,-999.000,9,   42.60,2, -999.00,1,     -999.0,9, 20210424,       10,  13.6122, -69.7980,     8.5333,2,     0.0433,1,     4.6761,1,     -999.0,9,     -999.0,9,     -999.0,9
325020210420,        A22,      10,          1,         22,         22,2,20210423,       2225,    13.6122,   -69.7980,       4868,   670.3,   7.2921,  34.8101,2,  34.8084,2,    123.6,2,   123.6,2,   21.37,2,   31.57,2,    0.00,2,    1.99,2,   0.844,2,   0.452,2,   0.3000,2,  2217.1,2, 2303.21,6, 1113.360,2,    20.00,   7.56299,2,    24.99, -999.00,9, -999.00,9, -999.00, -999.00,9,-999.000,9,   52.10,4, -999.00,1,      26.05,2, 20210424,        7,  13.6122, -69.7980,     7.2809,2,     0.0430,1,     4.6769,1,     -999.0,9,     -999.0,9,     -999.0,9
325020210420,        A22,      10,          1,         21,         21,2,20210423,       2225,    13.6122,   -69.7980,       4868,   771.4,   6.5846,  34.7660,2,  34.7653,2,    129.3,2,   129.5,2,   23.52,2,   32.01,2,    0.00,2,    2.06,2,   0.572,6,   0.309,6,   0.1900,6,  2218.8,2, -999.00,9, 1122.720,2,    20.00,   7.56059,2,    25.01, -999.00,9, -999.00,9, -999.00, -999.00,9,-999.000,9,   41.10,2, -999.00,1,      25.25,6, 20210424,        4,  13.6122, -69.7980,     6.5851,2,     0.0429,1,     4.6801,1,     -999.0,9,     -999.0,9,     -999.0,9
325020210420,        A22,      10,          1,         20,         20,2,20210423,       2225,    13.6122,   -69.7980,       4868,   872.1,   5.9497,  34.7929,2,  34.7972,2,    143.1,2,   143.9,2,   24.98,2,   30.65,2,    0.00,2,    1.99,2,-999.000,9,-999.000,9,-999.0000,9,  2215.4,2, 2306.66,6, 1065.760,2,    20.00,    7.5831,2,    25.02, -999.00,9, -999.00,9, -999.00, -999.00,9,-999.000,9,   41.70,2, -999.00,1,     -999.0,9, 20210424,        1,  13.6122, -69.7980,     5.9476,2,     0.0429,1,     4.6812,1,     -999.0,9,     -999.0,9,     -999.0,9
325020210420,        A22,      10,          1,         19,         19,2,20210423,       2225,    13.6122,   -69.7980,       4868,   972.6,   5.4629,  34.8784,2,  34.8788,2,    164.3,2,   164.6,2,   25.07,2,   27.81,2,    0.00,2,    1.82,2,   0.228,2,   0.124,2,   0.1000,2,  2208.6,2, -999.00,9,  970.370,2,    20.00,    7.6235,2,    25.01, -999.00,9, -999.00,9, -999.00, -999.00,9,-999.000,9,   40.80,2, -999.00,1,      20.10,2, 20210423,     2358,  13.6122, -69.7980,     5.4695,2,     0.0429,1,     4.6803,1,     -999.0,9,     -999.0,9,     -999.0,9
325020210420,        A22,      10,          1,         18,         18,2,20210423,       2225,    13.6122,   -69.7980,       4868,  1074.4,   5.0973,  34.9248,2,  34.9246,2,    179.9,2,   180.2,2,   25.27,2,   25.77,2,    0.00,2,    1.71,2,-999.000,9,-999.000,9,-999.0000,9,  2202.7,2, 2320.74,2,  909.690,2,    20.00,   7.65093,2,    25.02, -999.00,9, -999.00,9, -999.00, -999.00,9,-999.000,9,   41.10,2, -999.00,1,     -999.0,9, 20210423,     2355,  13.6122, -69.7980,     5.0940,2,     0.0430,1,     4.6819,1,     -999.0,9,     -999.0,9,     -999.0,9
325020210420,        A22,      10,          1,         17,         17,2,20210423,       2225,    13.6122,   -69.7980,       4868,  1173.8,   4.8111,  34.9478,2,  34.9469,2,    191.1,2,   191.5,2,   24.98,2,   24.51,2,    0.00,2,    1.64,2,   0.149,2,   0.081,2,   0.1400,2,  2201.6,2, -999.00,9,  872.620,2,    20.00,   7.66847,2,    25.02, -999.00,9, -999.00,9, -999.00, -999.00,9,-999.000,9,   40.40,2, -999.00,1,      16.88,2, 20210423,     2352,  13.6122, -69.7980,     4.8120,2,     0.0429,1,     4.6821,1,     -999.0,9,     -999.0,9,     -999.0,9
325020210420,        A22,      10,          1,         16,         16,2,20210423,       2225,    13.6122,   -69.7980,       4868,  1277.1,   4.6172,  34.9592,2,  34.9567,2,    198.7,2,   198.2,2,   25.17,2,   23.83,2,    0.00,2,    1.59,2,   0.145,2,   0.080,2,   0.0800,2,  2201.5,2, 2322.42,2,  852.310,2,    20.00,   7.67836,2,    25.02, -999.00,9, -999.00,9, -999.00, -999.00,9,-999.000,9,   40.70,2, -999.00,1,      16.51,2, 20210423,     2349,  13.6122, -69.7980,     4.6166,2,     0.0426,1,     4.6820,1,     -999.0,9,     -999.0,9,     -999.0,9
325020210420,        A22,      10,          1,         15,         15,2,20210423,       2225,    13.6122,   -69.7980,       4868,  1377.5,   4.4882,  34.9670,2,  34.9662,2,    205.1,2,   205.0,2,   24.78,2,   23.13,2,    0.00,2,    1.54,2,-999.000,9,-999.000,9,-999.0000,9,  2197.7,2, -999.00,9,  831.890,2,    20.00,    7.6877,2,    25.00, -999.00,9, -999.00,9, -999.00, -999.00,9,-999.000,9,   40.20,2, -999.00,1,     -999.0,9, 20210423,     2346,  13.6122, -69.7980,     4.4881,2,     0.0433,1,     4.6819,1,     -999.0,9,     -999.0,9,     -999.0,9
325020210420,        A22,      10,          1,         14,         14,2,20210423,       2225,    13.6122,   -69.7980,       4868,  1479.6,   4.3929,  34.9697,2,  34.9703,2,    207.7,2,   207.8,2,   25.37,2,   22.82,2,    0.00,2,    1.52,2,   0.156,2,   0.086,2,   0.1300,2,  2196.2,2, -999.00,9,  822.950,2,    20.00,   7.69311,6,    25.00, -999.00,9, -999.00,9, -999.00, -999.00,9,-999.000,9,   40.10,2, -999.00,1,      14.95,2, 20210423,     2343,  13.6122, -69.7980,     4.3925,2,     0.0424,1,     4.6827,1,     -999.0,9,     -999.0,9,     -999.0,9
325020210420,        A22,      10,          1,         13,         13,2,20210423,       2225,    13.6122,   -69.7980,       4868,  1581.3,   4.3093,  34.9713,2,  34.9711,2,    209.3,2,   210.2,2,   26.34,2,   22.69,2,    0.00,2,    1.50,2,   0.128,2,   0.072,2,   0.1200,2,  2198.7,2, 2326.69,2,  818.090,2,    20.00,   7.69414,2,    25.01, -999.00,9, -999.00,9, -999.00, -999.00,9,-999.000,9,   39.20,2, -999.00,1,      14.83,2, 20210423,     2339,  13.6121, -69.7980,     4.3102,2,     0.0427,1,     4.6826,1,     -999.0,9,     -999.0,9,     -999.0,9
325020210420,        A22,      10,          1,         12,         12,2,20210423,       2225,    13.6122,   -69.7980,       4868,  1752.5,   4.2065,  34.9730,2,  34.9728,2,    211.5,2,   211.4,2,   27.32,2,   22.43,2,    0.00,2,    1.49,2,-999.000,9,-999.000,9,-999.0000,9,  2199.3,6, -999.00,9,  811.830,2,    20.00,   7.69905,2,    25.01, -999.00,9, -999.00,9, -999.00, -999.00,9,-999.000,9,   39.50,2, -999.00,1,     -999.0,9, 20210423,     2335,  13.6119, -69.7980,     4.2064,2,     0.0431,1,     4.6827,1,     -999.0,9,     -999.0,9,     -999.0,9
325020210420,        A22,      10,          1,         11,         11,2,20210423,       2225,    13.6122,   -69.7980,       4868,  1955.6,   4.1471,  34.9741,2,  34.9738,2,    213.3,2,   213.7,2,   28.00,2,   22.24,2,    0.00,2,    1.48,2,   0.083,2,   0.053,2,   0.2000,2,  2199.0,2, -999.00,9,  804.890,2,    20.00,   7.70327,6,    25.00, -999.00,9, -999.00,9, -999.00, -999.00,9,-999.000,9,   40.20,2, -999.00,1,      14.04,2, 20210423,     2330,  13.6113, -69.7981,     4.1468,2,     0.0429,1,     4.6815,1,     -999.0,9,     -999.0,9,     -999.0,9
325020210420,        A22,      10,          1,         10,         10,2,20210423,       2225,    13.6122,   -69.7980,       4868,  2187.5,   4.1238,  34.9748,2,  34.9736,2,    214.4,2,   214.5,2,   28.49,2,   22.18,2,    0.00,2,    1.48,2,   0.077,2,   0.051,2,   0.2600,2,  2200.0,2, 2333.57,6,  800.400,2,    20.00,   7.70535,2,    25.01, -999.00,9, -999.00,9, -999.00, -999.00,9,-999.000,9,   41.40,2, -999.00,1,      14.08,2, 20210423,     2325,  13.6103, -69.7980,     4.1237,2,     0.0423,1,     4.6835,1,     -999.0,9,     -999.0,9,     -999.0,9
325020210420,        A22,      10,          1,          9,          9,2,20210423,       2225,    13.6122,   -69.7980,       4868,  2443.5,   4.1272,  34.9749,2,  34.9742,2,    214.6,2,   214.7,2,   28.68,2,   22.12,2,    0.00,2,    1.48,2,-999.000,9,-999.000,9,-999.0000,9,  2201.2,2, -999.00,9,  797.320,2,    20.00,   7.70523,2,    25.00, -999.00,9, -999.00,9, -999.00, -999.00,9,-999.000,9,   40.00,2, -999.00,1,     -999.0,9, 20210423,     2320,  13.6092, -69.7976,     4.1271,2,     0.0428,1,     4.6832,1,     -999.0,9,     -999.0,9,     -999.0,9
325020210420,        A22,      10,          1,          8,          8,2,20210423,       2225,    13.6122,   -69.7980,       4868,  2697.2,   4.1503,  34.9750,2,  34.9742,2,    214.7,2,   215.0,2,   28.88,2,   22.10,2,    0.00,2,    1.48,2,   0.065,2,   0.049,2,   0.3000,2,  2200.0,2, -999.00,9,  797.710,2,    20.00,   7.70669,2,    25.02, -999.00,9, -999.00,9, -999.00, -999.00,9,-999.000,9,   40.50,2, -999.00,1,      13.80,2, 20210423,     2314,  13.6092, -69.7976,     4.1503,2,     0.0434,1,     4.6835,1,     -999.0,9,     -999.0,9,     -999.0,9
325020210420,        A22,      10,          1,          7,          7,2,20210423,       2225,    13.6122,   -69.7980,       4868,  2952.4,   4.1707,  34.9751,2,  34.9744,2,    214.9,2,   214.8,2,   28.98,2,   22.09,2,    0.00,2,    1.48,2,   0.069,2,   0.049,2,   0.2500,2,  2199.8,2,  2336.0,2,  796.830,2,    20.00,   7.70792,2,    25.02, -999.00,9, -999.00,9, -999.00, -999.00,9,-999.000,9,   39.60,2, -999.00,1,      13.88,2, 20210423,     2308,  13.6092, -69.7976,     4.1707,2,     0.0432,1,     4.6833,1,     -999.0,9,     -999.0,9,     -999.0,9
325020210420,        A22,      10,          1,          6,          6,2,20210423,       2225,    13.6122,   -69.7980,       4868,  3242.8,   4.1979,  34.9752,2,  34.9748,2,    215.0,2,   215.2,2,   29.27,2,   22.05,2,    0.00,2,    1.48,2,-999.000,9,-999.000,9,-999.0000,9,  2199.5,2, -999.00,9,  796.220,2,    20.00,   7.70832,2,    24.99, -999.00,9, -999.00,9, -999.00, -999.00,9,-999.000,9,   42.20,2, -999.00,1,     -999.0,9, 20210423,     2302,  13.6092, -69.7976,     4.1978,2,     0.0434,1,     4.6827,1,     -999.0,9,     -999.0,9,     -999.0,9
325020210420,        A22,      10,          1,          5,          5,2,20210423,       2225,    13.6122,   -69.7980,       4868,  3549.4,   4.2321,  34.9753,2,  34.9744,2,    215.2,2,   215.2,2,   29.27,2,   22.08,2,    0.00,2,    1.48,2,   0.076,2,   0.054,2,   0.2200,2,  2201.2,2, -999.00,9,  795.320,2,    20.00,   7.70849,2,    24.97, -999.00,9, -999.00,9, -999.00, -999.00,9,-999.000,9,   40.60,2, -999.00,1,      13.89,2, 20210423,     2254,  13.6092, -69.7976,     4.2322,2,     0.0433,1,     4.6817,1,     -999.0,9,     -999.0,9,     -999.0,9
325020210420,        A22,      10,          1,          4,          4,2,20210423,       2225,    13.6122,   -69.7980,       4868,  3856.3,   4.2680,  34.9755,2,  34.9748,2,    215.6,2,   215.8,2,   29.17,2,   22.00,2,    0.00,2,    1.46,2,   0.088,2,   0.060,2,   0.1700,2,  2199.2,2, 2336.89,6,  793.590,2,    20.00,   7.70861,2,    25.00, -999.00,9, -999.00,9, -999.00, -999.00,9,-999.000,9,   41.10,2, -999.00,1,      13.91,2, 20210423,     2249,  13.6092, -69.7976,     4.2683,2,     0.0433,1,     4.6817,1,     -999.0,9,     -999.0,9,     -999.0,9
325020210420,        A22,      10,          1,          3,          3,2,20210423,       2225,    13.6122,   -69.7980,       4868,  4163.4,   4.3057,  34.9756,2,  34.9756,2,    215.4,2,   215.4,2,   29.37,2,   22.01,2,    0.00,2,    1.47,2,   0.108,2,   0.072,2,   0.1300,2,  2201.8,2, -999.00,9,  793.290,2,    20.00,   7.70952,2,    25.01, -999.00,9, -999.00,9, -999.00, -999.00,9,-999.000,9,   41.20,2, -999.00,1,      13.66,2, 20210423,     2242,  13.6092, -69.7976,     4.3058,2,     0.0429,1,     4.6803,1,     -999.0,9,     -999.0,9,     -999.0,9