BOTTLE,20230513CCHSIOCBG
EXPOCODE,SECT_ID,STNNBR,CASTNO,SAMPNO,BTLNBR,BTLNBR_FLAG_W,DATE,TIME,LATITUDE,LONGITUDE,DEPTH,CTDPRS,CTDTMP,CTDSAL,CTDSAL_FLAG_W,SALNTY,SALNTY_FLAG_W,CTDOXY,CTDOXY_FLAG_W,OXYGEN,OXYGEN_FLAG_W,SILCAT,SILCAT_FLAG_W,NITRAT,NITRAT_FLAG_W,NITRIT,NITRIT_FLAG_W,PHSPHT,PHSPHT_FLAG_W,CFC-11,CFC-11_FLAG_W,CFC-12,CFC-12_FLAG_W,SF6,SF6_FLAG_W,TCARBN,TCARBN_FLAG_W,ALKALI,ALKALI_FLAG_W,FCO2,FCO2_FLAG_W,FCO2TMP,PH_TOT,PH_TOT_FLAG_W,PH_TMP,DELC13,DELC13_FLAG_W,DELC14,DELC14_FLAG_W,C14ERR,DELO18,DELO18_FLAG_W,POC,POC_FLAG_W,DOC,DOC_FLAG_W,TDN,TDN_FLAG_W,N2O,N2O_FLAG_W,BTL_DATE,BTL_TIME,BTL_LAT,BTL_LON,REFTMP,REFTMP_FLAG_W,CTDFLUOR,CTDFLUOR_FLAG_W,CTDXMISS,CTDXMISS_FLAG_W,D15N_NO2+NO3,D15N_NO2+NO3_FLAG_W,D18O_NO2+NO3,D18O_NO2+NO3_FLAG_W,HPLC,HPLC_FLAG_W
,,,,,,,,,,,METERS,DBAR,ITS-90,PSS-78,,PSS-78,,UMOL/KG,,UMOL/KG,,UMOL/KG,,UMOL/KG,,UMOL/KG,,UMOL/KG,,PMOL/KG,,PMOL/KG,,FMOL/KG,,UMOL/KG,,UMOL/KG,,UATM,,DEG C,,,DEG C,/MILLE,,/MILLE,,/MILLE,/MILLE,,UG/KG,,UMOL/KG,,UMOL/KG,,NMOL/KG,,,,,,ITS-90,,VOLTS,,VOLTS,,/MILLE,,/MILLE,,,
325020210420,        A22,      15,          1,         36,         36,2,20210425,       0603,    15.7372,   -68.6501,       4108,     4.7,  27.1713,  35.8536,2,  35.8562,2,    202.1,2,   202.3,2,    1.07,2,    0.00,2,    0.00,2,    0.00,2,-999.000,9,-999.000,9,-999.0000,9,  2026.4,6, 2348.98,6, -999.000,9,  -999.00,   8.09275,2,    25.01, -999.00,9, -999.00,9, -999.00, -999.00,1,-999.000,9, -999.00,9, -999.00,9,     -999.0,9, 20210425,      758,  15.7372, -68.6501,    27.1698,2,     0.0548,1,     4.5986,1,     -999.0,1,     -999.0,1,     -999.0,9
325020210420,        A22,      15,          1,         35,         35,2,20210425,       0603,    15.7372,   -68.6501,       4108,    35.7,  27.1792,  35.8537,2,  35.8558,2,    202.0,2,   202.1,2,    1.07,2,    0.00,2,    0.00,2,    0.00,2,-999.000,9,-999.000,9,-999.0000,9,  -999.0,9, -999.00,9, -999.000,9,  -999.00,-999.00000,9,  -999.00, -999.00,9, -999.00,9, -999.00, -999.00,9,-999.000,9, -999.00,9, -999.00,9,     -999.0,9, 20210425,      756,  15.7372, -68.6501,    27.1778,2,     0.0530,1,     4.6066,1,     -999.0,1,     -999.0,1,     -999.0,9
325020210420,        A22,      15,          1,         34,         34,2,20210425,       0603,    15.7372,   -68.6501,       4108,    60.3,  27.0894,  35.8605,2,  35.8625,2,    201.0,2,   201.3,2,    1.07,2,    0.00,2,    0.00,2,    0.00,2,-999.000,9,-999.000,9,-999.0000,9,  2029.1,2, 2351.42,2, -999.000,9,  -999.00,   8.08931,6,    25.00, -999.00,9, -999.00,9, -999.00, -999.00,9,-999.000,9, -999.00,9, -999.00,9,     -999.0,9, 20210425,      754,  15.7372, -68.6501,    27.0878,2,     0.0781,1,     4.6120,1,     -999.0,1,     -999.0,1,     -999.0,9
325020210420,        A22,      15,          1,         33,         33,2,20210425,       0603,    15.7372,   -68.6501,       4108,    85.8,  26.7854,  35.9431,2,  35.9712,3,    198.4,2,   198.8,2,    1.17,2,    0.00,2,    0.00,2,    0.00,2,-999.000,9,-999.000,9,-999.0000,9,  -999.0,9, -999.00,9, -999.000,9,  -999.00,-999.00000,9,  -999.00, -999.00,9, -999.00,9, -999.00, -999.00,9,-999.000,9, -999.00,9, -999.00,9,     -999.0,9, 20210425,      753,  15.7372, -68.6501,    26.7852,2,     0.0849,1,     4.6200,1,     -999.0,1,     -999.0,1,     -999.0,9
325020210420,        A22,      15,          1,         32,         32,2,20210425,       0603,    15.7372,   -68.6501,       4108,   110.5,  26.3963,  36.8606,3,  36.8893,2,    186.4,2,   185.4,2,    0.97,2,    0.45,2,    0.17,2,    0.00,2,-999.000,9,-999.000,9,-999.0000,9,  -999.0,9, -999.00,9, -999.000,9,  -999.00,-999.00000,9,  -999.00, -999.00,9, -999.00,9, -999.00, -999.00,1,-999.000,9, -999.00,9, -999.00,9,     -999.0,9, 20210425,      751,  15.7372, -68.6501,    26.3838,2,     0.0661,1,     4.6475,1,     -999.0,1,     -999.0,1,     -999.0,9
325020210420,        A22,      15,          1,         31,         31,2,20210425,       0603,    15.7372,   -68.6501,       4108,   135.8,  24.3732,  37.1484,3,  37.1690,2,    166.3,3,   169.6,2,    0.88,2,    1.93,2,    0.02,2,    0.06,2,-999.000,9,-999.000,9,-999.0000,9,  2139.8,2, 2429.66,2, -999.000,9,  -999.00,   8.00543,6,    25.04, -999.00,9, -999.00,9, -999.00, -999.00,9,-999.000,9, -999.00,9, -999.00,9,     -999.0,9, 20210425,      750,  15.7372, -68.6501,    24.3715,2,     0.0488,1,     4.6642,1,     -999.0,1,     -999.0,1,     -999.0,9
325020210420,        A22,      15,          1,         30,         30,2,20210425,       0603,    15.7372,   -68.6501,       4108,   165.5,  22.9098,  37.1195,2,  37.1157,2,    160.5,3,   163.5,2,    0.97,2,    2.83,2,    0.01,2,    0.09,2,-999.000,9,-999.000,9,-999.0000,9,  -999.0,9, -999.00,9, -999.000,9,  -999.00,-999.00000,9,  -999.00, -999.00,9, -999.00,9, -999.00, -999.00,9,-999.000,9, -999.00,9, -999.00,9,     -999.0,9, 20210425,      748,  15.7372, -68.6501,    22.9256,2,     0.0432,1,     4.6696,1,     -999.0,1,     -999.0,1,     -999.0,9
325020210420,        A22,      15,          1,         29,         29,2,20210425,       0603,    15.7372,   -68.6501,       4108,   216.0,  19.4302,  36.6726,2,  36.6659,2,    153.0,2,   151.5,2,    2.14,2,    7.46,2,    0.00,2,    0.34,2,-999.000,9,-999.000,9,-999.0000,9,  -999.0,9, -999.00,9, -999.000,9,  -999.00,-999.00000,9,  -999.00, -999.00,9, -999.00,9, -999.00, -999.00,9,-999.000,9, -999.00,9, -999.00,9,     -999.0,9, 20210425,      746,  15.7372, -68.6501,    19.4197,2,     0.0395,1,     4.6724,1,     -999.0,1,     -999.0,1,     -999.0,9
325020210420,        A22,      15,          1,         28,         28,2,20210425,       0603,    15.7372,   -68.6501,       4108,   266.5,  17.3212,  36.3108,2,  36.2806,3,    139.4,2,   138.4,2,    4.09,2,   12.38,2,    0.00,2,    0.65,2,-999.000,9,-999.000,9,-999.0000,9,  2183.9,2, -999.00,9, -999.000,9,  -999.00,   7.82877,2,    25.00, -999.00,9, -999.00,9, -999.00, -999.00,9,-999.000,9, -999.00,9, -999.00,9,     -999.0,9, 20210425,      744,  15.7372, -68.6501,    17.2912,2,     0.0408,1,     4.6735,1,     -999.0,1,     -999.0,1,     -999.0,9
325020210420,        A22,      15,          1,         27,         27,2,20210425,       0603,    15.7372,   -68.6501,       4108,   317.6,  15.4468,  35.9999,2,  35.9878,2,    134.8,2,   135.1,2,    5.46,2,   15.54,2,    0.00,2,    0.88,2,-999.000,9,-999.000,9,-999.0000,9,  -999.0,9, -999.00,9, -999.000,9,  -999.00,-999.00000,9,  -999.00, -999.00,9, -999.00,9, -999.00, -999.00,9,-999.000,9, -999.00,9, -999.00,9,     -999.0,9, 20210425,      742,  15.7372, -68.6500,    15.4618,2,     0.0411,1,     4.6744,1,     -999.0,1,     -999.0,1,     -999.0,9
325020210420,        A22,      15,          1,         26,         26,2,20210425,       0603,    15.7372,   -68.6501,       4108,   367.9,  13.6430,  35.6791,2,  35.6784,2,    127.2,2,   127.8,2,    7.60,2,   19.22,2,    0.00,2,    1.13,2,-999.000,9,-999.000,9,-999.0000,9,  -999.0,9, -999.00,9, -999.000,9,  -999.00,-999.00000,9,  -999.00, -999.00,9, -999.00,9, -999.00, -999.00,9,-999.000,9, -999.00,9, -999.00,9,     -999.0,9, 20210425,      740,  15.7372, -68.6501,    13.6396,2,     0.0415,1,     4.6732,1,     -999.0,1,     -999.0,1,     -999.0,9
325020210420,        A22,      15,          1,         25,         25,2,20210425,       0603,    15.7372,   -68.6501,       4108,   418.1,  12.1534,  35.4427,2,  35.4340,2,    123.7,2,   123.3,2,    9.75,2,   22.30,2,    0.00,2,    1.35,2,-999.000,9,-999.000,9,-999.0000,9,  2205.5,2, -999.00,9, -999.000,9,  -999.00,   7.68287,2,    25.00, -999.00,9, -999.00,9, -999.00, -999.00,9,-999.000,9, -999.00,9, -999.00,9,     -999.0,9, 20210425,      737,  15.7372, -68.6501,    12.1790,2,     0.0416,1,     4.6764,1,     -999.0,1,     -999.0,1,     -999.0,9
325020210420,        A22,      15,          1,         24,         24,2,20210425,       0603,    15.7372,   -68.6501,       4108,   468.5,  11.1504,  35.2862,2,  35.2822,2,    121.0,2,   121.2,2,   11.41,2,   24.36,2,    0.00,2,    1.48,2,-999.000,9,-999.000,9,-999.0000,9,  -999.0,9, -999.00,9, -999.000,9,  -999.00,-999.00000,9,  -999.00, -999.00,9, -999.00,9, -999.00, -999.00,9,-999.000,9, -999.00,9, -999.00,9,     -999.0,9, 20210425,      735,  15.7372, -68.6500,    11.1616,2,     0.0424,1,     4.6760,1,     -999.0,1,     -999.0,1,     -999.0,9
325020210420,        A22,      15,          1,         23,         23,2,20210425,       0603,    15.7372,   -68.6501,       4108,   538.5,   9.5720,  35.0539,2,  35.0478,2,    118.8,2,   118.9,2,   14.63,2,   27.72,2,    0.00,2,    1.72,2,-999.000,9,-999.000,9,-999.0000,9,  2215.1,2, 2308.32,2, -999.000,9,  -999.00,   7.60659,2,    25.01, -999.00,9, -999.00,9, -999.00, -999.00,9,-999.000,9, -999.00,9, -999.00,9,     -999.0,9, 20210425,      732,  15.7372, -68.6501,     9.5743,2,     0.0419,1,     4.6787,1,     -999.0,1,     -999.0,1,     -999.0,9
325020210420,        A22,      15,          1,         22,         22,2,20210425,       0603,    15.7372,   -68.6501,       4108,   639.7,   7.9962,  34.9307,2,  34.9309,2,    124.2,2,   124.4,2,   18.73,2,   29.75,2,    0.00,2,    1.87,2,-999.000,9,-999.000,9,-999.0000,9,  -999.0,9, -999.00,9, -999.000,9,  -999.00,-999.00000,9,  -999.00, -999.00,9, -999.00,9, -999.00, -999.00,9,-999.000,9, -999.00,9, -999.00,9,     -999.0,9, 20210425,      729,  15.7372, -68.6500,     7.9957,2,     0.0424,1,     4.6813,1,     -999.0,1,     -999.0,1,     -999.0,9
325020210420,        A22,      15,          1,         21,         21,2,20210425,       0603,    15.7372,   -68.6501,       4108,   740.6,   6.7918,  34.8263,2,  34.8255,2,    131.3,2,   131.3,2,   22.15,2,   30.98,2,    0.00,2,    2.00,2,-999.000,9,-999.000,9,-999.0000,9,  2222.3,2, -999.00,9, -999.000,9,  -999.00,   7.57587,2,    25.02, -999.00,9, -999.00,9, -999.00, -999.00,9,-999.000,9, -999.00,9, -999.00,9,     -999.0,9, 20210425,      725,  15.7372, -68.6501,     6.7890,2,     0.0427,1,     4.6813,1,     -999.0,1,     -999.0,1,     -999.0,9
325020210420,        A22,      15,          1,         20,         20,2,20210425,       0603,    15.7372,   -68.6501,       4108,   841.7,   5.9358,  34.8031,2,  34.8056,2,    144.1,2,   144.4,2,   24.29,2,   30.48,2,    0.00,2,    1.99,2,-999.000,9,-999.000,9,-999.0000,9,  -999.0,9, -999.00,9, -999.000,9,  -999.00,-999.00000,9,  -999.00, -999.00,9, -999.00,9, -999.00, -999.00,9,-999.000,9, -999.00,9, -999.00,9,     -999.0,9, 20210425,      722,  15.7372, -68.6501,     5.9353,2,     0.0425,1,     4.6800,1,     -999.0,1,     -999.0,1,     -999.0,9
325020210420,        A22,      15,          1,         19,         19,2,20210425,       0603,    15.7372,   -68.6501,       4108,   943.0,   5.6006,  34.9001,2,  34.9016,2,    165.0,2,   166.0,2,   24.00,2,   27.34,2,    0.00,2,    1.79,2,-999.000,9,-999.000,9,-999.0000,9,  -999.0,9, -999.00,9, -999.000,9,  -999.00,-999.00000,9,  -999.00, -999.00,9, -999.00,9, -999.00, -999.00,9,-999.000,9, -999.00,9, -999.00,9,     -999.0,9, 20210425,      720,  15.7372, -68.6501,     5.6010,2,     0.0429,1,     4.6818,1,     -999.0,1,     -999.0,1,     -999.0,9
325020210420,        A22,      15,          1,         18,         18,2,20210425,       0603,    15.7372,   -68.6501,       4108,  1043.5,   5.1385,  34.9224,2,  34.9239,2,    178.3,2,   178.6,2,   24.78,2,   25.98,2,    0.00,2,    1.74,2,-999.000,9,-999.000,9,-999.0000,9,  -999.0,9, -999.00,9, -999.000,9,  -999.00,-999.00000,9,  -999.00, -999.00,9, -999.00,9, -999.00, -999.00,9,-999.000,9, -999.00,9, -999.00,9,     -999.0,9, 20210425,      717,  15.7372, -68.6501,     5.1380,2,     0.0431,1,     4.6813,1,     -999.0,1,     -999.0,1,     -999.0,9
325020210420,        A22,      15,          1,         17,         17,2,20210425,       0603,    15.7372,   -68.6501,       4108,  1144.7,   4.8421,  34.9463,2,  34.9467,2,    190.0,2,   189.8,2,   24.97,2,   24.69,2,    0.00,2,    1.65,2,-999.000,9,-999.000,9,-999.0000,9,  2206.5,2, 2327.06,2, -999.000,9,  -999.00,   7.66564,2,    25.02, -999.00,9, -999.00,9, -999.00, -999.00,9,-999.000,9, -999.00,9, -999.00,9,     -999.0,9, 20210425,      714,  15.7372, -68.6500,     4.8426,2,     0.0429,1,     4.6813,1,     -999.0,1,     -999.0,1,     -999.0,9
325020210420,        A22,      15,          1,         16,         16,2,20210425,       0603,    15.7372,   -68.6501,       4108,  1246.2,   4.6527,  34.9577,2,  34.9579,2,    197.1,2,   197.2,2,   24.97,2,   23.93,2,    0.00,2,    1.61,2,-999.000,9,-999.000,9,-999.0000,9,  -999.0,9, -999.00,9, -999.000,9,  -999.00,-999.00000,9,  -999.00, -999.00,9, -999.00,9, -999.00, -999.00,9,-999.000,9, -999.00,9, -999.00,9,     -999.0,9, 20210425,      711,  15.7372, -68.6501,     4.6523,2,     0.0429,1,     4.6816,1,     -999.0,1,     -999.0,1,     -999.0,9
325020210420,        A22,      15,          1,         15,         15,2,20210425,       0603,    15.7372,   -68.6501,       4108,  1347.5,   4.5158,  34.9639,2,  34.9634,2,    201.9,2,   201.9,2,   25.36,2,   23.45,2,    0.00,2,    1.57,2,-999.000,9,-999.000,9,-999.0000,9,  -999.0,9, -999.00,9, -999.000,9,  -999.00,-999.00000,9,  -999.00, -999.00,9, -999.00,9, -999.00, -999.00,9,-999.000,9, -999.00,9, -999.00,9,     -999.0,9, 20210425,      708,  15.7372, -68.6501,     4.5157,2,     0.0430,1,     4.6816,1,     -999.0,1,     -999.0,1,     -999.0,9
325020210420,        A22,      15,          1,         14,         14,2,20210425,       0603,    15.7372,   -68.6501,       4108,  1448.5,   4.4154,  34.9676,2,  34.9689,2,    204.8,2,   204.9,2,   25.95,2,   23.14,2,    0.00,2,    1.55,2,-999.000,9,-999.000,9,-999.0000,9,  -999.0,9, -999.00,9, -999.000,9,  -999.00,-999.00000,9,  -999.00, -999.00,9, -999.00,9, -999.00, -999.00,9,-999.000,9, -999.00,9, -999.00,9,     -999.0,9, 20210425,      705,  15.7372, -68.6501,     4.4153,2,     0.0428,1,     4.6806,1,     -999.0,1,     -999.0,1,     -999.0,9
325020210420,        A22,      15,          1,         13,         13,2,20210425,       0603,    15.7372,   -68.6501,       4108,  1550.6,   4.3381,  34.9700,2,  34.9699,2,    207.4,2,   207.2,2,   26.34,2,   22.89,2,    0.00,2,    1.54,2,   0.118,2,   0.066,2,   0.1900,2,  2203.7,2, -999.00,9, -999.000,9,  -999.00,   7.69162,2,    25.01, -999.00,9, -999.00,9, -999.00, -999.00,9,-999.000,9, -999.00,9, -999.00,9,      15.41,2, 20210425,      701,  15.7372, -68.6501,     4.3376,2,     0.0435,1,     4.6809,1,     -999.0,1,     -999.0,1,     -999.0,9
325020210420,        A22,      15,          1,         12,         12,2,20210425,       0603,    15.7372,   -68.6501,       4108,  1650.8,   4.2646,  34.9718,2,  34.9717,2,    209.4,2,   209.4,2,   26.24,2,   22.69,2,    0.00,2,    1.52,2,-999.000,9,-999.000,9,-999.0000,9,  -999.0,9, -999.00,9, -999.000,9,  -999.00,-999.00000,9,  -999.00, -999.00,9, -999.00,9, -999.00, -999.00,9,-999.000,9, -999.00,9, -999.00,9,     -999.0,9, 20210425,      659,  15.7372, -68.6501,     4.2641,2,     0.0434,1,     4.6814,1,     -999.0,1,     -999.0,1,     -999.0,9
325020210420,        A22,      15,          1,         11,         11,2,20210425,       0603,    15.7372,   -68.6501,       4108,  1752.1,   4.2094,  34.9733,2,  34.9736,2,    212.2,2,   212.5,2,   26.63,2,   22.42,2,    0.00,2,    1.50,2,   0.134,2,   0.076,2,   0.2600,2,  2203.1,2, -999.00,9, -999.000,9,  -999.00,   7.69937,2,    25.00, -999.00,9, -999.00,9, -999.00, -999.00,9,-999.000,9, -999.00,9, -999.00,9,      14.91,2, 20210425,      656,  15.7372, -68.6501,     4.2096,2,     0.0427,1,     4.6825,1,     -999.0,1,     -999.0,1,     -999.0,9
325020210420,        A22,      15,          1,         10,         10,2,20210425,       0603,    15.7372,   -68.6501,       4108,  1883.6,   4.1775,  34.9741,2,  34.9738,2,    213.2,2,   213.4,2,   27.02,2,   22.35,2,    0.00,2,    1.50,2,-999.000,9,-999.000,9,-999.0000,9,  -999.0,9, -999.00,9, -999.000,9,  -999.00,-999.00000,9,  -999.00, -999.00,9, -999.00,9, -999.00, -999.00,9,-999.000,9, -999.00,9, -999.00,9,     -999.0,9, 20210425,      653,  15.7372, -68.6501,     4.1775,2,     0.0428,1,     4.6827,1,     -999.0,1,     -999.0,1,     -999.0,9
325020210420,        A22,      15,          1,          9,          9,2,20210425,       0603,    15.7372,   -68.6501,       4108,  2107.6,   4.1328,  34.9752,2,  34.9754,2,    215.7,2,   216.1,2,   27.22,2,   22.09,2,    0.00,2,    1.48,2,   0.150,2,   0.083,2,   0.3000,2,  2202.8,2, 2332.25,2, -999.000,9,  -999.00,   7.70546,2,    25.01, -999.00,9, -999.00,9, -999.00, -999.00,9,-999.000,9, -999.00,9, -999.00,9,      14.50,2, 20210425,      648,  15.7372, -68.6501,     4.1328,2,     0.0434,1,     4.6824,1,     -999.0,1,     -999.0,1,     -999.0,9
325020210420,        A22,      15,          1,          8,          8,2,20210425,       0603,    15.7372,   -68.6501,       4108,  2362.5,   4.1279,  34.9754,2,  34.9752,2,    215.9,2,   216.3,2,   27.80,2,   22.09,2,    0.00,2,    1.48,2,-999.000,9,-999.000,9,-999.0000,9,  -999.0,9, -999.00,9, -999.000,9,  -999.00,-999.00000,9,  -999.00, -999.00,9, -999.00,9, -999.00, -999.00,9,-999.000,9, -999.00,9, -999.00,9,     -999.0,9, 20210425,      642,  15.7372, -68.6501,     4.1279,2,     0.0434,1,     4.6837,1,     -999.0,1,     -999.0,1,     -999.0,9
325020210420,        A22,      15,          1,          7,          7,2,20210425,       0603,    15.7372,   -68.6501,       4108,  2616.0,   4.1405,  34.9754,2,  34.9758,2,    215.9,2,   216.1,2,   28.19,2,   22.09,2,    0.00,2,    1.48,2,   0.112,2,   0.068,2,   0.3800,2,  2202.7,2, -999.00,9, -999.000,9,  -999.00,   7.70721,2,    25.01, -999.00,9, -999.00,9, -999.00, -999.00,9,-999.000,9, -999.00,9, -999.00,9,      14.37,2, 20210425,      637,  15.7372, -68.6501,     4.1405,2,     0.0429,1,     4.6837,1,     -999.0,1,     -999.0,1,     -999.0,9
325020210420,        A22,      15,          1,          6,          6,2,20210425,       0603,    15.7372,   -68.6501,       4108,  2871.2,   4.1614,  34.9755,2,  34.9756,2,    215.6,2,   215.8,2,   28.48,2,   22.09,2,    0.00,2,    1.48,2,-999.000,9,-999.000,9,-999.0000,9,  -999.0,9, -999.00,9, -999.000,9,  -999.00,-999.00000,9,  -999.00, -999.00,9, -999.00,9, -999.00, -999.00,9,-999.000,9, -999.00,9, -999.00,9,     -999.0,9, 20210425,      631,  15.7372, -68.6501,     4.1615,2,     0.0429,1,     4.6837,1,     -999.0,1,     -999.0,1,     -999.0,9
325020210420,        A22,      15,          1,          5,          5,2,20210425,       0603,    15.7372,   -68.6501,       4108,  3126.4,   4.1848,  34.9756,2,  34.9754,2,    215.7,2,   215.9,2,   28.58,2,   22.07,2,    0.00,2,    1.48,2,   0.101,2,   0.065,2,   0.2500,2,  2205.2,2, -999.00,9, -999.000,9,  -999.00,   7.70824,6,    25.00, -999.00,9, -999.00,9, -999.00, -999.00,9,-999.000,9, -999.00,9, -999.00,9,      14.24,2, 20210425,      626,  15.7372, -68.6501,     4.1849,2,     0.0435,1,     4.6828,1,     -999.0,1,     -999.0,1,     -999.0,9
325020210420,        A22,      15,          1,          4,          4,2,20210425,       0603,    15.7372,   -68.6501,       4108,  3381.3,   4.2115,  34.9756,2,  34.9764,2,    215.5,2,   215.5,2,   28.78,2,   22.05,2,    0.00,2,    1.48,2,-999.000,9,-999.000,9,-999.0000,9,  -999.0,9, -999.00,9, -999.000,9,  -999.00,-999.00000,9,  -999.00, -999.00,9, -999.00,9, -999.00, -999.00,9,-999.000,9, -999.00,9, -999.00,9,     -999.0,9, 20210425,      621,  15.7372, -68.6501,     4.2116,2,     0.0428,1,     4.6825,1,     -999.0,1,     -999.0,1,     -999.0,9
325020210420,        A22,      15,          1,          3,          3,2,20210425,       0603,    15.7372,   -68.6501,       4108,  3636.3,   4.2398,  34.9758,2,  34.9756,2,    215.6,2,   215.7,2,   28.87,2,   22.06,2,    0.00,2,    1.48,2,   0.113,2,   0.071,2,   0.2600,2,  2205.2,2, -999.00,9, -999.000,9,  -999.00,   7.70869,2,    25.01, -999.00,9, -999.00,9, -999.00, -999.00,9,-999.000,9, -999.00,9, -999.00,9,      14.19,2, 20210425,      615,  15.7372, -68.6501,     4.2400,2,     0.0435,1,     4.6814,1,     -999.0,1,     -999.0,1,     -999.0,9