BOTTLE,20230513CCHSIOCBG
EXPOCODE,SECT_ID,STNNBR,CASTNO,SAMPNO,BTLNBR,BTLNBR_FLAG_W,DATE,TIME,LATITUDE,LONGITUDE,DEPTH,CTDPRS,CTDTMP,CTDSAL,CTDSAL_FLAG_W,SALNTY,SALNTY_FLAG_W,CTDOXY,CTDOXY_FLAG_W,OXYGEN,OXYGEN_FLAG_W,SILCAT,SILCAT_FLAG_W,NITRAT,NITRAT_FLAG_W,NITRIT,NITRIT_FLAG_W,PHSPHT,PHSPHT_FLAG_W,CFC-11,CFC-11_FLAG_W,CFC-12,CFC-12_FLAG_W,SF6,SF6_FLAG_W,TCARBN,TCARBN_FLAG_W,ALKALI,ALKALI_FLAG_W,FCO2,FCO2_FLAG_W,FCO2TMP,PH_TOT,PH_TOT_FLAG_W,PH_TMP,DELC13,DELC13_FLAG_W,DELC14,DELC14_FLAG_W,C14ERR,DELO18,DELO18_FLAG_W,POC,POC_FLAG_W,DOC,DOC_FLAG_W,TDN,TDN_FLAG_W,N2O,N2O_FLAG_W,BTL_DATE,BTL_TIME,BTL_LAT,BTL_LON,REFTMP,REFTMP_FLAG_W,CTDFLUOR,CTDFLUOR_FLAG_W,CTDXMISS,CTDXMISS_FLAG_W,D15N_NO2+NO3,D15N_NO2+NO3_FLAG_W,D18O_NO2+NO3,D18O_NO2+NO3_FLAG_W,HPLC,HPLC_FLAG_W
,,,,,,,,,,,METERS,DBAR,ITS-90,PSS-78,,PSS-78,,UMOL/KG,,UMOL/KG,,UMOL/KG,,UMOL/KG,,UMOL/KG,,UMOL/KG,,PMOL/KG,,PMOL/KG,,FMOL/KG,,UMOL/KG,,UMOL/KG,,UATM,,DEG C,,,DEG C,/MILLE,,/MILLE,,/MILLE,/MILLE,,UG/KG,,UMOL/KG,,UMOL/KG,,NMOL/KG,,,,,,ITS-90,,VOLTS,,VOLTS,,/MILLE,,/MILLE,,,
325020210420,        A22,      88,          1,         26,         26,2,20210515,       0525,    39.8579,   -69.9265,       1148,     5.0,  15.3118,  34.9006,2,  34.6466,3,    269.2,2,   268.8,2,    0.29,2,    0.00,2,    0.00,2,    0.08,2,   2.673,2,   1.582,2,   2.4700,2,  2054.7,6, 2310.66,2,  389.250,2,    20.00,   7.98353,2,    25.00, -999.00,9, -999.00,9, -999.00, -999.00,1,-999.000,9,   69.00,2,    4.26,2,       8.47,2, 20210515,      613,  39.8579, -69.9265,    15.3055,2,     0.1158,1,     4.3040,1,     -999.0,9,     -999.0,9,     -999.0,9
325020210420,        A22,      88,          1,         25,         25,2,20210515,       0525,    39.8579,   -69.9265,       1148,    40.8,  17.0161,  35.8425,2,  35.8416,2,    220.3,2,   220.6,2,    0.49,2,    1.40,2,    0.20,2,    0.12,2,-999.000,9,-999.000,9,-999.0000,9,  2100.2,2, 2370.85,2, -999.000,9,  -999.00,   7.97283,6,    24.99, -999.00,9, -999.00,9, -999.00, -999.00,1,-999.000,9,   65.20,2,    5.77,2,     -999.0,9, 20210515,      611,  39.8579, -69.9265,    17.0204,2,     0.3496,1,     4.3488,1,     -999.0,9,     -999.0,9,     -999.0,9
325020210420,        A22,      88,          1,         24,         24,2,20210515,       0525,    39.8579,   -69.9265,       1148,    65.8,  15.0501,  35.7279,2,  35.7365,2,    219.1,2,   217.8,2,    1.66,2,    4.38,2,    0.41,2,    0.29,2,   2.379,2,   1.437,2,   2.0900,2,  2117.0,2, 2353.75,6, -999.000,9,  -999.00,    7.9261,2,    24.99, -999.00,9, -999.00,9, -999.00, -999.00,9,-999.000,9,  233.10,4,   88.43,4,       9.98,2, 20210515,      609,  39.8579, -69.9265,    15.0535,2,     0.0694,1,     4.6205,1,     -999.0,9,     -999.0,9,     -999.0,9
325020210420,        A22,      88,          1,         23,         23,2,20210515,       0525,    39.8579,   -69.9265,       1148,    91.1,  13.7730,  35.6107,2,  35.5959,2,    216.3,3,   220.6,2,    2.24,2,    7.51,2,    0.02,2,    0.47,2,-999.000,9,-999.000,9,-999.0000,9,  2130.9,2, 2343.95,2,  515.300,2,    20.00,   7.88239,2,    24.99, -999.00,9, -999.00,9, -999.00, -999.00,9,-999.000,9,   55.30,2,    9.99,2,     -999.0,9, 20210515,      607,  39.8579, -69.9265,    13.7764,2,     0.0518,1,     4.6355,1,     -999.0,9,     -999.0,9,     -999.0,9
325020210420,        A22,      88,          1,         22,         22,2,20210515,       0525,    39.8579,   -69.9265,       1148,   116.1,  13.5335,  35.6258,2,  35.6283,2,    217.0,2,   218.5,2,    3.22,2,    9.00,2,    0.01,2,    0.56,2,   2.444,2,   1.467,2,   2.0800,2,  2139.6,2, 2338.94,2, -999.000,9,  -999.00,   7.86502,2,    24.98, -999.00,9, -999.00,9, -999.00, -999.00,9,-999.000,9,   55.60,2,   12.06,2,      10.74,2, 20210515,      605,  39.8579, -69.9265,    13.5344,2,     0.0450,1,     4.6458,1,     -999.0,9,     -999.0,9,     -999.0,9
325020210420,        A22,      88,          1,         21,         21,2,20210515,       0525,    39.8579,   -69.9265,       1148,   141.5,  13.2954,  35.6572,2,  35.6548,2,    195.3,2,   196.1,2,    5.07,2,   12.25,2,    0.00,2,    0.75,2,-999.000,9,-999.000,9,-999.0000,9,  2155.7,2, 2339.79,2,  596.330,2,    20.00,   7.82774,2,    24.99, -999.00,9, -999.00,9, -999.00, -999.00,9,-999.000,9,   51.50,2,   15.27,2,     -999.0,9, 20210515,      604,  39.8579, -69.9265,    13.2952,2,     0.0465,1,     4.6526,1,     -999.0,9,     -999.0,9,     -999.0,9
325020210420,        A22,      88,          1,         20,         20,2,20210515,       0525,    39.8579,   -69.9265,       1148,   166.5,  12.5596,  35.5932,2,  35.5892,2,    151.0,2,   150.6,2,    8.48,2,   18.16,2,    0.00,2,    1.11,2,   1.939,2,   1.127,2,   1.1000,2,  2184.2,2, 2335.43,2, -999.000,9,  -999.00,   7.75011,2,    24.99, -999.00,9, -999.00,9, -999.00, -999.00,9,-999.000,9,   46.40,2,   20.70,2,      17.05,2, 20210515,      603,  39.8579, -69.9265,    12.5870,2,     0.0444,1,     4.6529,1,     -999.0,9,     -999.0,9,     -999.0,9
325020210420,        A22,      88,          1,         17,         17,2,20210515,       0525,    39.8579,   -69.9265,       1148,   191.4,  11.5932,  35.4840,2,  35.4862,2,    135.0,2,   135.1,2,   10.63,2,   21.34,2,    0.00,2,    1.32,2,-999.000,9,-999.000,9,-999.0000,9,  2194.8,2, 2329.06,2,  799.955,6,    20.00,   7.70871,2,    24.96, -999.00,9, -999.00,9, -999.00, -999.00,9,-999.000,9,   43.70,2,   23.61,2,     -999.0,9, 20210515,      600,  39.8579, -69.9265,    11.5884,2,     0.0444,1,     4.6479,1,     -999.0,9,     -999.0,9,     -999.0,9
325020210420,        A22,      88,          1,         18,         18,2,20210515,       0525,    39.8579,   -69.9265,       1148,   191.5,  11.6505,  35.4912,2,  35.4894,2,    134.7,2,   134.7,2,   10.73,2,   21.34,2,    0.00,2,    1.31,2,-999.000,9,-999.000,9,-999.0000,9,  -999.0,9, -999.00,9, -999.000,9,  -999.00,-999.00000,9,  -999.00, -999.00,9, -999.00,9, -999.00, -999.00,9,-999.000,9, -999.00,9, -999.00,9,     -999.0,9, 20210515,      601,  39.8579, -69.9265,    11.6445,2,     0.0442,1,     4.6480,1,     -999.0,9,     -999.0,9,     -999.0,9
325020210420,        A22,      88,          1,         19,         19,2,20210515,       0525,    39.8579,   -69.9265,       1148,   191.6,  11.6787,  35.4948,2,  35.4918,2,    134.9,2,   135.1,2,   10.63,2,   21.21,2,    0.00,2,    1.30,2,-999.000,9,-999.000,9,-999.0000,9,  -999.0,9, -999.00,9, -999.000,9,  -999.00,-999.00000,9,  -999.00, -999.00,9, -999.00,9, -999.00, -999.00,9,-999.000,9, -999.00,9, -999.00,9,     -999.0,9, 20210515,      601,  39.8579, -69.9265,    11.6861,2,     0.0444,1,     4.6485,1,     -999.0,9,     -999.0,9,     -999.0,9
325020210420,        A22,      88,          1,         14,         14,2,20210515,       0525,    39.8579,   -69.9265,       1148,   217.0,  10.9543,  35.4038,2,  35.3760,3,    134.3,2,   133.4,2,   12.29,2,   22.94,2,    0.00,2,    1.43,2,   1.571,2,   0.883,2,   0.6600,2,  2199.7,2, 2325.22,2, -999.000,9,  -999.00,   7.68536,2,    24.97, -999.00,9, -999.00,9, -999.00, -999.00,9,-999.000,9,   48.80,3,   25.78,2,      20.54,2, 20210515,      558,  39.8579, -69.9265,    10.9510,2,     0.0429,1,     4.6428,1,     -999.0,9,     -999.0,9,     -999.0,9
325020210420,        A22,      88,          1,         15,         15,2,20210515,       0525,    39.8579,   -69.9265,       1148,   217.0,  10.9692,  35.4063,2,  35.3892,2,    134.3,2,   133.8,2,   12.00,2,   22.64,2,    0.00,2,    1.41,2,-999.000,9,-999.000,9,-999.0000,9,  -999.0,9, -999.00,9, -999.000,9,  -999.00,-999.00000,9,  -999.00, -999.00,9, -999.00,9, -999.00, -999.00,9,-999.000,9, -999.00,9, -999.00,9,     -999.0,9, 20210515,      558,  39.8579, -69.9265,    10.9621,2,     0.0423,1,     4.6518,1,     -999.0,9,     -999.0,9,     -999.0,9
325020210420,        A22,      88,          1,         16,         16,2,20210515,       0525,    39.8579,   -69.9265,       1148,   217.1,  10.9660,  35.4067,2,  35.3955,2,    134.5,2,   134.1,2,   11.90,2,   22.52,2,    0.00,2,    1.39,2,-999.000,9,-999.000,9,-999.0000,9,  -999.0,9, -999.00,9, -999.000,9,  -999.00,-999.00000,9,  -999.00, -999.00,9, -999.00,9, -999.00, -999.00,9,-999.000,9, -999.00,9, -999.00,9,     -999.0,9, 20210515,      558,  39.8579, -69.9265,    10.9670,2,     0.0432,1,     4.6501,1,     -999.0,9,     -999.0,9,     -999.0,9
325020210420,        A22,      88,          1,         13,         13,2,20210515,       0525,    39.8579,   -69.9265,       1148,   241.5,   9.8300,  35.2387,2,  35.2308,2,    126.2,2,   126.9,2,   14.73,2,   25.42,2,    0.00,2,    1.61,2,-999.000,9,-999.000,9,-999.0000,9,  2208.4,2, 2318.38,2,  911.580,2,    20.00,   7.65185,2,    24.97, -999.00,9, -999.00,9, -999.00, -999.00,9,-999.000,9,   41.90,2,   27.90,2,     -999.0,9, 20210515,      555,  39.8579, -69.9265,     9.8296,2,     0.0430,1,     4.6525,1,     -999.0,9,     -999.0,9,     -999.0,9
325020210420,        A22,      88,          1,         12,         12,2,20210515,       0525,    39.8579,   -69.9265,       1148,   267.0,   9.3673,  35.1889,2,  35.1886,2,    130.3,2,   131.1,2,   15.22,2,   25.58,2,    0.00,2,    1.63,2,-999.000,9,-999.000,9,-999.0000,9,  2205.2,2, 2319.14,2, -999.000,9,  -999.00,   7.64822,2,    24.98, -999.00,9, -999.00,9, -999.00, -999.00,9,-999.000,9,   42.20,2, -999.00,1,     -999.0,9, 20210515,      554,  39.8579, -69.9265,     9.3645,2,     0.0429,1,     4.6534,1,     -999.0,9,     -999.0,9,     -999.0,9
325020210420,        A22,      88,          1,         11,         11,2,20210515,       0525,    39.8579,   -69.9265,       1148,   317.7,   8.4926,  35.1740,2,  35.1750,2,    150.7,2,   151.7,2,   14.44,2,   23.95,2,    0.00,2,    1.53,2,   1.483,2,   0.803,2,   0.5700,2,  2202.1,2, 2317.05,2,  896.390,2,    20.00,   7.66312,6,    24.97, -999.00,9, -999.00,9, -999.00, -999.00,9,-999.000,9,   44.00,2, -999.00,1,      19.51,2, 20210515,      551,  39.8579, -69.9265,     8.5098,2,     0.0430,1,     4.6563,1,     -999.0,9,     -999.0,9,     -999.0,9
325020210420,        A22,      88,          1,         10,         10,2,20210515,       0525,    39.8579,   -69.9265,       1148,   368.0,   7.7366,  35.1422,2,  35.1478,2,    167.6,2,   166.0,2,   14.15,2,   22.98,2,    0.00,2,    1.48,2,-999.000,9,-999.000,9,-999.0000,9,  2197.6,2, 2317.46,2, -999.000,9,  -999.00,   7.66466,2,    24.97, -999.00,9, -999.00,9, -999.00, -999.00,9,-999.000,9,   44.20,2, -999.00,1,     -999.0,9, 20210515,      549,  39.8579, -69.9265,     7.7448,2,     0.0425,1,     4.6571,1,     -999.0,9,     -999.0,9,     -999.0,9
325020210420,        A22,      88,          1,          9,          9,2,20210515,       0525,    39.8579,   -69.9265,       1148,   419.1,   6.9136,  35.1105,2,  35.1093,2,    186.2,2,   187.5,2,   13.85,2,   21.75,2,    0.00,2,    1.41,2,   1.796,2,   0.963,2,   0.6700,2,  2191.9,2,  2313.9,2,  860.600,2,    20.00,   7.67434,2,    24.98, -999.00,9, -999.00,9, -999.00, -999.00,9,-999.000,9,   43.70,2, -999.00,1,      17.34,2, 20210515,      547,  39.8579, -69.9265,     6.9136,2,     0.0429,1,     4.6594,1,     -999.0,9,     -999.0,9,     -999.0,9
325020210420,        A22,      88,          1,          8,          8,2,20210515,       0525,    39.8579,   -69.9265,       1148,   468.9,   6.3720,  35.0889,2,  35.0842,2,    200.4,2,   201.3,2,   13.37,2,   20.83,2,    0.00,2,    1.36,2,-999.000,9,-999.000,9,-999.0000,9,  2188.9,2, 2311.83,2, -999.000,9,  -999.00,   7.67918,2,    24.97, -999.00,9, -999.00,9, -999.00, -999.00,9,-999.000,9,   44.70,2, -999.00,1,     -999.0,9, 20210515,      544,  39.8579, -69.9265,     6.3743,2,     0.0416,1,     4.6596,1,     -999.0,9,     -999.0,9,     -999.0,9
325020210420,        A22,      88,          1,          7,          7,2,20210515,       0525,    39.8579,   -69.9265,       1148,   539.3,   5.9317,  35.0709,2,  35.0695,2,    212.3,2,   212.0,2,   13.07,2,   20.12,2,    0.00,2,    1.32,2,   2.197,2,   1.173,2,   0.8100,2,  2186.6,2, 2312.34,2,  838.440,2,    20.00,   7.68373,2,    24.97, -999.00,9, -999.00,9, -999.00, -999.00,9,-999.000,9,   44.90,2, -999.00,1,      15.73,2, 20210515,      542,  39.8579, -69.9265,     5.9315,2,     0.0426,1,     4.6608,1,     -999.0,9,     -999.0,9,     -999.0,9
325020210420,        A22,      88,          1,          6,          6,2,20210515,       0525,    39.8579,   -69.9265,       1148,   641.5,   5.2653,  35.0295,2,  35.0287,2,    231.4,2,   230.9,2,   12.39,2,   18.98,2,    0.00,2,    1.26,2,-999.000,9,-999.000,9,-999.0000,9,  2181.1,2, 2308.71,2, -999.000,9,  -999.00,   7.69107,2,    24.96, -999.00,9, -999.00,9, -999.00, -999.00,9,-999.000,9,   44.70,2, -999.00,1,     -999.0,9, 20210515,      539,  39.8579, -69.9265,     5.2655,2,     0.0430,1,     4.6495,1,     -999.0,9,     -999.0,9,     -999.0,9
325020210420,        A22,      88,          1,          5,          5,2,20210515,       0525,    39.8579,   -69.9265,       1148,   742.1,   4.9374,  35.0112,2,  35.0094,2,    240.7,2,   240.5,2,   12.20,2,   18.47,2,    0.00,2,    1.22,2,   2.742,2,   1.480,2,   1.1300,2,  2178.8,2, 2307.54,2,  815.100,2,    20.00,   7.69552,6,    24.97, -999.00,9, -999.00,9, -999.00, -999.00,9,-999.000,9,   45.10,2, -999.00,1,      14.42,2, 20210515,      536,  39.8579, -69.9265,     4.9427,2,     0.0425,1,     4.6506,1,     -999.0,9,     -999.0,9,     -999.0,9
325020210420,        A22,      88,          1,          4,          4,2,20210515,       0525,    39.8579,   -69.9265,       1148,   843.7,   4.7108,  34.9974,2,  34.9957,2,    247.4,2,   246.9,2,   12.00,2,   18.16,2,    0.00,2,    1.20,2,   2.854,2,   1.537,2,   1.1700,2,  2178.7,2, 2307.65,2, -999.000,9,  -999.00,   7.69797,2,    24.97, -999.00,9, -999.00,9, -999.00, -999.00,9,-999.000,9,   46.40,2, -999.00,1,      13.82,2, 20210515,      534,  39.8579, -69.9265,     4.7104,2,     0.0422,1,     4.6531,1,     -999.0,9,     -999.0,9,     -999.0,9
325020210420,        A22,      88,          1,          3,          3,2,20210515,       0525,    39.8579,   -69.9265,       1148,   954.6,   4.5153,  34.9893,2,  34.9894,2,    252.3,2,   254.8,2,   12.10,2,   17.92,2,    0.00,2,    1.19,2,   2.903,2,   1.555,2,   1.1600,2,  2177.1,2, 2304.77,6,  801.600,2,    20.00,   7.70183,6,    24.97, -999.00,9, -999.00,9, -999.00, -999.00,9,-999.000,9,   44.90,2, -999.00,1,      13.62,2, 20210515,      531,  39.8579, -69.9265,     4.5153,2,     0.0417,1,     4.6550,1,     -999.0,9,     -999.0,9,     -999.0,9
325020210420,        A22,      88,          1,          2,          2,2,20210515,       0525,    39.8579,   -69.9265,       1148,  1056.3,   4.4506,  34.9854,2,  34.9839,2,    254.2,2,   253.8,2,   11.90,2,   17.86,2,    0.00,2,    1.18,2,   2.925,2,   1.566,2,   1.1800,2,  2175.1,2, 2306.23,6, -999.000,9,  -999.00,    7.7021,2,    24.98, -999.00,9, -999.00,9, -999.00, -999.00,9,-999.000,9,   45.00,2, -999.00,1,      13.98,2, 20210515,      528,  39.8579, -69.9265,     4.4505,2,     0.0419,1,     4.6585,1,     -999.0,9,     -999.0,9,     -999.0,9
325020210420,        A22,      88,          1,          1,          1,2,20210515,       0525,    39.8579,   -69.9265,       1148,  1148.6,   4.4024,  34.9825,2,  34.9817,2,    255.4,2,   254.9,2,   11.90,2,   17.84,2,    0.00,2,    1.17,2,   2.814,2,   1.567,2,   1.1700,2,  2176.8,6, 2305.39,2,  795.980,2,  -999.00,     7.703,2,    24.97, -999.00,9, -999.00,9, -999.00, -999.00,9,-999.000,9,   45.40,2, -999.00,1,      13.67,2, 20210515,      525,  39.8579, -69.9265,     4.4024,2,     0.0430,1,     4.6565,1,     -999.0,9,     -999.0,9,     -999.0,9