BOTTLE,20230513CCHSIOCBG
EXPOCODE,SECT_ID,STNNBR,CASTNO,SAMPNO,BTLNBR,BTLNBR_FLAG_W,DATE,TIME,LATITUDE,LONGITUDE,DEPTH,CTDPRS,CTDTMP,CTDSAL,CTDSAL_FLAG_W,SALNTY,SALNTY_FLAG_W,CTDOXY,CTDOXY_FLAG_W,OXYGEN,OXYGEN_FLAG_W,SILCAT,SILCAT_FLAG_W,NITRAT,NITRAT_FLAG_W,NITRIT,NITRIT_FLAG_W,PHSPHT,PHSPHT_FLAG_W,CFC-11,CFC-11_FLAG_W,CFC-12,CFC-12_FLAG_W,SF6,SF6_FLAG_W,TCARBN,TCARBN_FLAG_W,ALKALI,ALKALI_FLAG_W,FCO2,FCO2_FLAG_W,FCO2TMP,PH_TOT,PH_TOT_FLAG_W,PH_TMP,DELC13,DELC13_FLAG_W,DELC14,DELC14_FLAG_W,C14ERR,DELO18,DELO18_FLAG_W,POC,POC_FLAG_W,DOC,DOC_FLAG_W,TDN,TDN_FLAG_W,N2O,N2O_FLAG_W,BTL_DATE,BTL_TIME,BTL_LAT,BTL_LON,REFTMP,REFTMP_FLAG_W,CTDFLUOR,CTDFLUOR_FLAG_W,CTDXMISS,CTDXMISS_FLAG_W,D15N_NO2+NO3,D15N_NO2+NO3_FLAG_W,D18O_NO2+NO3,D18O_NO2+NO3_FLAG_W,HPLC,HPLC_FLAG_W
,,,,,,,,,,,METERS,DBAR,ITS-90,PSS-78,,PSS-78,,UMOL/KG,,UMOL/KG,,UMOL/KG,,UMOL/KG,,UMOL/KG,,UMOL/KG,,PMOL/KG,,PMOL/KG,,FMOL/KG,,UMOL/KG,,UMOL/KG,,UATM,,DEG C,,,DEG C,/MILLE,,/MILLE,,/MILLE,/MILLE,,UG/KG,,UMOL/KG,,UMOL/KG,,NMOL/KG,,,,,,ITS-90,,VOLTS,,VOLTS,,/MILLE,,/MILLE,,,
325020210420,        A22,      47,          1,         36,         36,2,20210503,       0321,    23.3254,   -65.8253,       5826,     5.4,  26.4893,  36.3690,2,  36.3713,2,    204.7,2,   203.6,2,    1.56,2,    0.00,2,    0.00,2,    0.00,2,   1.513,2,   0.973,2,   1.6400,2,  2048.6,6, 2377.72,2, -999.000,9,  -999.00,   8.09962,2,    25.03, -999.00,9, -999.00,9, -999.00, -999.00,1,-999.000,9, -999.00,9, -999.00,9,       5.86,2, 20210503,      552,  23.3254, -65.8253,    26.4872,2,     0.0418,1,     4.6315,1,     -999.0,9,     -999.0,9,     -999.0,9
325020210420,        A22,      47,          1,         35,         35,2,20210503,       0321,    23.3254,   -65.8253,       5826,    25.5,  26.4967,  36.3687,2,  36.6556,3,    204.4,2,   203.8,2,    1.66,2,    0.00,2,    0.00,2,    0.00,2,-999.000,9,-999.000,9,-999.0000,9,  2048.7,2, 2379.73,3, -999.000,9,  -999.00,   8.09869,6,    25.04, -999.00,9, -999.00,9, -999.00, -999.00,9,-999.000,9, -999.00,9, -999.00,9,     -999.0,9, 20210503,      551,  23.3254, -65.8253,    26.4954,2,     0.0410,1,     4.6325,1,     -999.0,9,     -999.0,9,     -999.0,9
325020210420,        A22,      47,          1,         34,         34,2,20210503,       0321,    23.3254,   -65.8253,       5826,    50.6,  25.5620,  36.6315,2,  36.6558,3,    207.8,2,   208.6,2,    1.36,2,    0.00,2,    0.00,2,    0.00,2,-999.000,9,-999.000,9,-999.0000,9,  -999.0,9, -999.00,9, -999.000,9,  -999.00,-999.00000,9,  -999.00, -999.00,9, -999.00,9, -999.00, -999.00,9,-999.000,9, -999.00,9, -999.00,9,     -999.0,9, 20210503,      549,  23.3254, -65.8253,    25.5614,2,     0.0443,1,     4.6301,1,     -999.0,9,     -999.0,9,     -999.0,9
325020210420,        A22,      47,          1,         33,         33,2,20210503,       0321,    23.3254,   -65.8253,       5826,    76.0,  25.2366,  36.9155,2,  36.8990,2,    209.0,2,   209.9,2,    1.17,2,    0.00,2,    0.00,2,    0.00,2,-999.000,9,-999.000,9,-999.0000,9,  2073.2,2, 2411.26,2, -999.000,9,  -999.00,   8.09556,2,    24.97, -999.00,9, -999.00,9, -999.00, -999.00,9,-999.000,9, -999.00,9, -999.00,9,     -999.0,9, 20210503,      547,  23.3254, -65.8253,    25.2446,2,     0.0469,1,     4.6266,1,     -999.0,9,     -999.0,9,     -999.0,9
325020210420,        A22,      47,          1,         32,         32,2,20210503,       0321,    23.3254,   -65.8253,       5826,   100.4,  24.5782,  36.9217,2,  36.9250,2,    210.9,2,   210.8,2,    1.17,2,    0.00,2,    0.00,2,    0.00,2,   1.624,2,   1.030,2,   1.7200,2,  -999.0,9, -999.00,9, -999.000,9,  -999.00,-999.00000,9,  -999.00, -999.00,9, -999.00,9, -999.00, -999.00,9,-999.000,9, -999.00,9, -999.00,9,       6.15,2, 20210503,      546,  23.3254, -65.8253,    24.5744,2,     0.0499,1,     4.6339,1,     -999.0,9,     -999.0,9,     -999.0,9
325020210420,        A22,      47,          1,         31,         31,2,20210503,       0321,    23.3254,   -65.8253,       5826,   150.9,  23.2264,  37.2661,2,  37.2517,2,    188.3,2,   186.9,2,    0.88,2,    0.17,2,    0.04,2,    0.00,2,-999.000,9,-999.000,9,-999.0000,9,  2136.4,2, 2430.18,2, -999.000,9,  -999.00,   8.01733,2,    25.02, -999.00,9, -999.00,9, -999.00, -999.00,1,-999.000,9, -999.00,9, -999.00,9,     -999.0,9, 20210503,      544,  23.3254, -65.8253,    23.2269,2,     0.0917,1,     4.6355,1,     -999.0,9,     -999.0,9,     -999.0,9
325020210420,        A22,      47,          1,         30,         30,2,20210503,       0321,    23.3254,   -65.8253,       5826,   202.0,  21.2791,  37.0303,2,  37.0279,2,    173.9,2,   174.7,2,    0.97,2,    1.89,2,    0.00,2,    0.00,2,-999.000,9,-999.000,9,-999.0000,9,  -999.0,9, -999.00,9, -999.000,9,  -999.00,-999.00000,9,  -999.00, -999.00,9, -999.00,9, -999.00, -999.00,9,-999.000,9, -999.00,9, -999.00,9,     -999.0,9, 20210503,      541,  23.3254, -65.8253,    21.2780,2,     0.0499,1,     4.6612,1,     -999.0,9,     -999.0,9,     -999.0,9
325020210420,        A22,      47,          1,         29,         29,2,20210503,       0321,    23.3254,   -65.8253,       5826,   251.7,  19.5465,  36.7577,2,  36.7494,2,    175.8,2,   176.7,2,    1.46,2,    4.14,2,    0.00,2,    0.11,2,   1.990,2,   1.260,2,   1.6800,2,  2151.6,2, 2399.49,2, -999.000,9,  -999.00,   7.94621,2,    25.07, -999.00,9, -999.00,9, -999.00, -999.00,9,-999.000,9, -999.00,9, -999.00,9,       9.27,2, 20210503,      539,  23.3254, -65.8253,    19.5449,2,     0.0399,1,     4.6691,1,     -999.0,9,     -999.0,9,     -999.0,9
325020210420,        A22,      47,          1,         28,         28,2,20210503,       0321,    23.3254,   -65.8253,       5826,   302.6,  18.5636,  36.5896,2,  36.5858,2,    181.5,2,   181.9,2,    1.66,2,    5.36,2,    0.00,2,    0.19,2,-999.000,9,-999.000,9,-999.0000,9,  -999.0,9, -999.00,9, -999.000,9,  -999.00,-999.00000,9,  -999.00, -999.00,9, -999.00,9, -999.00, -999.00,9,-999.000,9, -999.00,9, -999.00,9,     -999.0,9, 20210503,      536,  23.3254, -65.8253,    18.5621,2,     0.0396,1,     4.6706,1,     -999.0,9,     -999.0,9,     -999.0,9
325020210420,        A22,      47,          1,         27,         27,2,20210503,       0321,    23.3254,   -65.8253,       5826,   353.0,  17.7007,  36.4569,2,  36.4537,2,    181.6,2,   181.7,2,    2.14,2,    6.71,2,    0.00,2,    0.27,2,   2.178,2,   1.342,2,   1.5300,2,  2149.6,2, 2378.91,2, -999.000,9,  -999.00,    7.9189,2,    25.08, -999.00,9, -999.00,9, -999.00, -999.00,9,-999.000,9, -999.00,9, -999.00,9,      10.21,2, 20210503,      534,  23.3254, -65.8253,    17.6986,2,     0.0391,1,     4.6718,1,     -999.0,9,     -999.0,9,     -999.0,9
325020210420,        A22,      47,          1,         26,         26,2,20210503,       0321,    23.3254,   -65.8253,       5826,   403.2,  16.8527,  36.3197,2,  36.3101,2,    172.7,2,   172.8,2,    2.83,2,    8.92,2,    0.00,2,    0.41,2,-999.000,9,-999.000,9,-999.0000,9,  -999.0,9, -999.00,9, -999.000,9,  -999.00,-999.00000,9,  -999.00, -999.00,9, -999.00,9, -999.00, -999.00,9,-999.000,9, -999.00,9, -999.00,9,     -999.0,9, 20210503,      531,  23.3254, -65.8253,    16.8537,2,     0.0407,1,     4.6736,1,     -999.0,9,     -999.0,9,     -999.0,9
325020210420,        A22,      47,          1,         25,         25,2,20210503,       0321,    23.3254,   -65.8253,       5826,   504.4,  15.0488,  36.0295,2,  36.0277,2,    165.6,2,   165.8,2,    4.29,2,   12.38,2,    0.00,2,    0.63,2,-999.000,9,-999.000,9,-999.0000,9,  -999.0,9, -999.00,9, -999.000,9,  -999.00,-999.00000,9,  -999.00, -999.00,9, -999.00,9, -999.00, -999.00,1,-999.000,9, -999.00,9, -999.00,9,     -999.0,9, 20210503,      529,  23.3254, -65.8253,    15.0454,2,     0.0402,1,     4.6752,1,     -999.0,9,     -999.0,9,     -999.0,9
325020210420,        A22,      47,          1,         24,         24,2,20210503,       0321,    23.3254,   -65.8253,       5826,   604.7,  12.9849,  35.7113,2,  35.7104,2,    155.2,3,   153.0,2,    7.12,2,   17.17,2,    0.00,2,    0.94,2,   2.077,2,   1.192,2,   0.8500,2,  -999.0,9, -999.00,9, -999.000,9,  -999.00,-999.00000,9,  -999.00, -999.00,9, -999.00,9, -999.00, -999.00,9,-999.000,9, -999.00,9, -999.00,9,      17.17,2, 20210503,      525,  23.3254, -65.8253,    13.0635,2,     0.0412,1,     4.6770,1,     -999.0,9,     -999.0,9,     -999.0,9
325020210420,        A22,      47,          1,         23,         23,2,20210503,       0321,    23.3254,   -65.8253,       5826,   705.0,  10.9235,  35.4017,2,  35.3965,2,    136.4,2,   136.0,2,   11.31,2,   22.80,2,    0.00,2,    1.32,2,-999.000,9,-999.000,9,-999.0000,9,  -999.0,9, -999.00,9, -999.000,9,  -999.00,-999.00000,9,  -999.00, -999.00,9, -999.00,9, -999.00, -999.00,9,-999.000,9, -999.00,9, -999.00,9,     -999.0,9, 20210503,      522,  23.3254, -65.8253,    10.9422,2,     0.0413,1,     4.6788,1,     -999.0,9,     -999.0,9,     -999.0,9
325020210420,        A22,      47,          1,         22,         22,2,20210503,       0321,    23.3254,   -65.8253,       5826,   806.7,   9.2424,  35.1825,2,  35.1805,2,    133.0,2,   133.3,2,   15.11,2,   26.09,2,    0.00,2,    1.57,2,-999.000,9,-999.000,9,-999.0000,9,  2208.4,2, 2316.09,2, -999.000,9,  -999.00,   7.65116,2,    24.99, -999.00,9, -999.00,9, -999.00, -999.00,9,-999.000,9, -999.00,9, -999.00,9,     -999.0,9, 20210503,      519,  23.3254, -65.8253,     9.2449,2,     0.0430,1,     4.6779,1,     -999.0,9,     -999.0,9,     -999.0,9
325020210420,        A22,      47,          1,         21,         21,2,20210503,       0321,    23.3254,   -65.8253,       5826,   908.0,   7.8200,  35.0420,2,  35.0419,2,    140.8,2,   140.6,2,   18.04,2,   27.49,2,    0.00,2,    1.70,2,   0.770,2,   0.414,2,   0.2500,2,  2209.9,2, 2310.98,2, -999.000,9,  -999.00,    7.6332,6,    25.00, -999.00,9, -999.00,9, -999.00, -999.00,9,-999.000,9, -999.00,9, -999.00,9,      22.13,2, 20210503,      515,  23.3254, -65.8253,     7.8198,2,     0.0428,1,     4.6789,1,     -999.0,9,     -999.0,9,     -999.0,9
325020210420,        A22,      47,          1,         20,         20,2,20210503,       0321,    23.3254,   -65.8253,       5826,  1008.9,   6.8128,  34.9995,2,  35.0010,2,    156.9,2,   157.8,2,   19.02,2,   26.76,2,    0.00,2,    1.68,2,-999.000,9,-999.000,9,-999.0000,9,  -999.0,9, -999.00,9, -999.000,9,  -999.00,-999.00000,9,  -999.00, -999.00,9, -999.00,9, -999.00, -999.00,9,-999.000,9, -999.00,9, -999.00,9,     -999.0,9, 20210503,      510,  23.3254, -65.8253,     6.8167,2,     0.0421,1,     4.6796,1,     -999.0,9,     -999.0,9,     -999.0,9
325020210420,        A22,      47,          1,         19,         19,2,20210503,       0321,    23.3254,   -65.8253,       5826,  1110.4,   6.1803,  35.0141,2,  35.0171,2,    180.7,2,   181.8,2,   17.75,2,   24.31,2,    0.00,2,    1.53,2,-999.000,9,-999.000,9,-999.0000,9,  -999.0,9, -999.00,9, -999.000,9,  -999.00,-999.00000,9,  -999.00, -999.00,9, -999.00,9, -999.00, -999.00,9,-999.000,9, -999.00,9, -999.00,9,     -999.0,9, 20210503,      508,  23.3254, -65.8253,     6.1804,2,     0.0418,1,     4.6805,1,     -999.0,9,     -999.0,9,     -999.0,9
325020210420,        A22,      47,          1,         18,         18,2,20210503,       0321,    23.3254,   -65.8253,       5826,  1210.9,   5.6821,  35.0428,2,  35.0435,2,    205.8,2,   205.9,2,   15.70,2,   21.84,2,    0.00,2,    1.38,2,-999.000,9,-999.000,9,-999.0000,9,  -999.0,9, -999.00,9, -999.000,9,  -999.00,-999.00000,9,  -999.00, -999.00,9, -999.00,9, -999.00, -999.00,9,-999.000,9, -999.00,9, -999.00,9,     -999.0,9, 20210503,      505,  23.3254, -65.8253,     5.6826,2,     0.0417,1,     4.6813,1,     -999.0,9,     -999.0,9,     -999.0,9
325020210420,        A22,      47,          1,         17,         17,2,20210503,       0321,    23.3254,   -65.8253,       5826,  1312.0,   5.1530,  35.0443,2,  35.0439,2,    228.9,2,   228.1,2,   13.95,2,   19.90,2,    0.00,2,    1.26,2,   1.527,2,   0.787,2,   0.4100,2,  2182.6,2, 2310.51,2, -999.000,9,  -999.00,   7.70995,2,    25.07, -999.00,9, -999.00,9, -999.00, -999.00,9,-999.000,9, -999.00,9, -999.00,9,      14.90,2, 20210503,      502,  23.3254, -65.8253,     5.1507,2,     0.0417,1,     4.6815,1,     -999.0,9,     -999.0,9,     -999.0,9
325020210420,        A22,      47,          1,         16,         16,2,20210503,       0321,    23.3254,   -65.8253,       5826,  1414.2,   4.8008,  35.0304,2,  35.0287,2,    240.5,2,   241.2,2,   13.17,2,   18.94,2,    0.00,2,    1.21,2,-999.000,9,-999.000,9,-999.0000,9,  -999.0,9, -999.00,9, -999.000,9,  -999.00,-999.00000,9,  -999.00, -999.00,9, -999.00,9, -999.00, -999.00,9,-999.000,9, -999.00,9, -999.00,9,     -999.0,9, 20210503,      459,  23.3254, -65.8253,     4.8003,2,     0.0424,1,     4.6815,1,     -999.0,9,     -999.0,9,     -999.0,9
325020210420,        A22,      47,          1,         15,         15,2,20210503,       0321,    23.3254,   -65.8253,       5826,  1616.8,   4.2403,  35.0020,2,  35.0020,2,    253.6,2,   253.2,2,   13.46,2,   18.24,2,    0.00,2,    1.16,2,   1.922,2,   0.977,2,   0.5000,2,  -999.0,9, -999.00,9, -999.000,9,  -999.00,-999.00000,9,  -999.00, -999.00,9, -999.00,9, -999.00, -999.00,9,-999.000,9, -999.00,9, -999.00,9,      13.74,2, 20210503,      454,  23.3254, -65.8253,     4.2395,2,     0.0419,1,     4.6807,1,     -999.0,9,     -999.0,9,     -999.0,9
325020210420,        A22,      47,          1,         14,         14,2,20210503,       0321,    23.3254,   -65.8253,       5826,  1819.1,   3.8874,  34.9831,2,  34.9845,2,    258.4,2,   258.6,2,   14.53,2,   18.13,2,    0.00,2,    1.16,2,-999.000,9,-999.000,9,-999.0000,9,  -999.0,9, -999.00,9, -999.000,9,  -999.00,-999.00000,9,  -999.00, -999.00,9, -999.00,9, -999.00, -999.00,9,-999.000,9, -999.00,9, -999.00,9,     -999.0,9, 20210503,      450,  23.3254, -65.8253,     3.8879,2,     0.0417,1,     4.6801,1,     -999.0,9,     -999.0,9,     -999.0,9
325020210420,        A22,      47,          1,         13,         13,2,20210503,       0321,    23.3254,   -65.8253,       5826,  2022.3,   3.6290,  34.9730,2,  34.9732,2,    259.7,2,   260.6,2,   16.29,2,   18.25,2,    0.00,2,    1.17,2,   1.275,2,   0.624,2,   0.2000,2,  2171.7,2, 2309.64,2, -999.000,9,  -999.00,   7.73354,2,    25.03, -999.00,9, -999.00,9, -999.00, -999.00,9,-999.000,9, -999.00,9, -999.00,9,      13.19,2, 20210503,      445,  23.3254, -65.8253,     3.6283,2,     0.0422,1,     4.6812,1,     -999.0,9,     -999.0,9,     -999.0,9
325020210420,        A22,      47,          1,         12,         12,2,20210503,       0321,    23.3254,   -65.8253,       5826,  2276.8,   3.3489,  34.9621,2,  34.9624,2,    260.0,2,   260.1,2,   18.92,2,   18.41,2,    0.00,2,    1.19,2,   0.947,2,   0.473,2,   0.2100,2,  -999.0,9, -999.00,9, -999.000,9,  -999.00,-999.00000,9,  -999.00, -999.00,9, -999.00,9, -999.00, -999.00,9,-999.000,9, -999.00,9, -999.00,9,      13.48,2, 20210503,      440,  23.3254, -65.8253,     3.3485,2,     0.0429,1,     4.6813,1,     -999.0,9,     -999.0,9,     -999.0,9
325020210420,        A22,      47,          1,         11,         11,2,20210503,       0321,    23.3254,   -65.8253,       5826,  2530.9,   3.1298,  34.9528,2,  34.9536,2,    259.1,2,   259.3,2,   21.75,2,   18.69,2,    0.00,2,    1.22,2,-999.000,9,-999.000,9,-999.0000,9,  -999.0,9, -999.00,9, -999.000,9,  -999.00,-999.00000,9,  -999.00, -999.00,9, -999.00,9, -999.00, -999.00,9,-999.000,9, -999.00,9, -999.00,9,     -999.0,9, 20210503,      434,  23.3254, -65.8253,     3.1303,2,     0.0426,1,     4.6811,1,     -999.0,9,     -999.0,9,     -999.0,9
325020210420,        A22,      47,          1,         10,         10,2,20210503,       0321,    23.3254,   -65.8253,       5826,  2786.1,   2.9277,  34.9402,2,  34.9408,2,    259.7,2,   259.8,2,   23.90,2,   18.84,2,    0.00,2,    1.23,2,   0.655,2,   0.338,2,   0.1400,2,  -999.0,9, -999.00,9, -999.000,9,  -999.00,-999.00000,9,  -999.00, -999.00,9, -999.00,9, -999.00, -999.00,9,-999.000,9, -999.00,9, -999.00,9,      13.20,2, 20210503,      429,  23.3254, -65.8253,     2.9273,2,     0.0422,1,     4.6809,1,     -999.0,9,     -999.0,9,     -999.0,9
325020210420,        A22,      47,          1,          9,          9,2,20210503,       0321,    23.3254,   -65.8253,       5826,  3041.3,   2.7510,  34.9281,2,  34.9286,2,    260.6,2,   260.8,2,   25.94,2,   18.89,2,    0.00,2,    1.24,2,-999.000,9,-999.000,9,-999.0000,9,  -999.0,9, -999.00,9, -999.000,9,  -999.00,-999.00000,9,  -999.00, -999.00,9, -999.00,9, -999.00, -999.00,9,-999.000,9, -999.00,9, -999.00,9,     -999.0,9, 20210503,      423,  23.3254, -65.8253,     2.7508,2,     0.0423,1,     4.6806,1,     -999.0,9,     -999.0,9,     -999.0,9
325020210420,        A22,      47,          1,          8,          8,2,20210503,       0321,    23.3254,   -65.8253,       5826,  3348.0,   2.5619,  34.9132,2,  34.9138,2,    266.0,2,   266.3,2,   24.87,2,   18.28,2,    0.00,2,    1.21,2,   1.023,2,   0.522,2,   0.2400,2,  -999.0,9, -999.00,9, -999.000,9,  -999.00,-999.00000,9,  -999.00, -999.00,9, -999.00,9, -999.00, -999.00,9,-999.000,9, -999.00,9, -999.00,9,      13.42,2, 20210503,      417,  23.3254, -65.8253,     2.5617,2,     0.0429,1,     4.6801,1,     -999.0,9,     -999.0,9,     -999.0,9
325020210420,        A22,      47,          1,          7,          7,2,20210503,       0321,    23.3254,   -65.8253,       5826,  3653.7,   2.4298,  34.9035,2,  34.9040,2,    267.4,2,   267.7,2,   26.04,2,   18.20,2,    0.00,2,    1.20,2,   1.154,2,   0.585,2,   0.3000,2,  2176.9,2, 2316.52,2, -999.000,9,  -999.00,   7.73429,2,    25.05, -999.00,9, -999.00,9, -999.00, -999.00,9,-999.000,9, -999.00,9, -999.00,9,      13.20,2, 20210503,      409,  23.3254, -65.8253,     2.4298,2,     0.0429,1,     4.6790,1,     -999.0,9,     -999.0,9,     -999.0,9
325020210420,        A22,      47,          1,          6,          6,2,20210503,       0321,    23.3254,   -65.8253,       5826,  3961.6,   2.3454,  34.8962,2,  34.8961,2,    266.9,2,   267.1,2,   28.29,2,   18.45,2,    0.00,2,    1.22,2,-999.000,9,-999.000,9,-999.0000,9,  -999.0,9, -999.00,9, -999.000,9,  -999.00,-999.00000,9,  -999.00, -999.00,9, -999.00,9, -999.00, -999.00,9,-999.000,9, -999.00,9, -999.00,9,     -999.0,9, 20210503,      403,  23.3254, -65.8253,     2.3453,2,     0.0429,1,     4.6789,1,     -999.0,9,     -999.0,9,     -999.0,9
325020210420,        A22,      47,          1,          5,          5,2,20210503,       0321,    23.3254,   -65.8253,       5826,  4372.0,   2.2920,  34.8891,2,  34.8890,2,    264.1,2,   264.1,2,   32.38,2,   19.08,2,    0.00,2,    1.27,2,   0.768,2,   0.395,2,   0.1800,2,  -999.0,9, -999.00,9, -999.000,9,  -999.00,-999.00000,9,  -999.00, -999.00,9, -999.00,9, -999.00, -999.00,9,-999.000,9, -999.00,9, -999.00,9,      13.51,2, 20210503,      353,  23.3254, -65.8253,     2.2922,2,     0.0430,1,     4.6791,1,     -999.0,9,     -999.0,9,     -999.0,9
325020210420,        A22,      47,          1,          4,          4,2,20210503,       0321,    23.3254,   -65.8253,       5826,  4782.7,   2.2584,  34.8808,2,  34.8808,2,    260.8,2,   261.0,2,   36.97,2,   19.83,2,    0.00,2,    1.33,2,-999.000,9,-999.000,9,-999.0000,9,  -999.0,9, -999.00,9, -999.000,9,  -999.00,-999.00000,9,  -999.00, -999.00,9, -999.00,9, -999.00, -999.00,9,-999.000,9, -999.00,9, -999.00,9,     -999.0,9, 20210503,      345,  23.3254, -65.8253,     2.2589,2,     0.0429,1,     4.6777,1,     -999.0,9,     -999.0,9,     -999.0,9
325020210420,        A22,      47,          1,          3,          3,2,20210503,       0321,    23.3254,   -65.8253,       5826,  5194.8,   2.1502,  34.8623,2,  34.8623,2,    253.6,2,   254.4,2,   47.60,2,   21.56,2,    0.00,2,    1.44,2,   0.268,2,   0.147,2,   0.0600,2,  2202.3,2, 2335.74,2, -999.000,9,  -999.00,   7.72265,6,    25.07, -999.00,9, -999.00,9, -999.00, -999.00,9,-999.000,9, -999.00,9, -999.00,9,      14.01,2, 20210503,      337,  23.3254, -65.8253,     2.1508,2,     0.0429,1,     4.6789,1,     -999.0,9,     -999.0,9,     -999.0,9