BOTTLE,20230513CCHSIOCBG
EXPOCODE,SECT_ID,STNNBR,CASTNO,SAMPNO,BTLNBR,BTLNBR_FLAG_W,DATE,TIME,LATITUDE,LONGITUDE,DEPTH,CTDPRS,CTDTMP,CTDSAL,CTDSAL_FLAG_W,SALNTY,SALNTY_FLAG_W,CTDOXY,CTDOXY_FLAG_W,OXYGEN,OXYGEN_FLAG_W,SILCAT,SILCAT_FLAG_W,NITRAT,NITRAT_FLAG_W,NITRIT,NITRIT_FLAG_W,PHSPHT,PHSPHT_FLAG_W,CFC-11,CFC-11_FLAG_W,CFC-12,CFC-12_FLAG_W,SF6,SF6_FLAG_W,TCARBN,TCARBN_FLAG_W,ALKALI,ALKALI_FLAG_W,FCO2,FCO2_FLAG_W,FCO2TMP,PH_TOT,PH_TOT_FLAG_W,PH_TMP,DELC13,DELC13_FLAG_W,DELC14,DELC14_FLAG_W,C14ERR,DELO18,DELO18_FLAG_W,POC,POC_FLAG_W,DOC,DOC_FLAG_W,TDN,TDN_FLAG_W,N2O,N2O_FLAG_W,BTL_DATE,BTL_TIME,BTL_LAT,BTL_LON,REFTMP,REFTMP_FLAG_W,CTDFLUOR,CTDFLUOR_FLAG_W,CTDXMISS,CTDXMISS_FLAG_W,D15N_NO2+NO3,D15N_NO2+NO3_FLAG_W,D18O_NO2+NO3,D18O_NO2+NO3_FLAG_W,HPLC,HPLC_FLAG_W
,,,,,,,,,,,METERS,DBAR,ITS-90,PSS-78,,PSS-78,,UMOL/KG,,UMOL/KG,,UMOL/KG,,UMOL/KG,,UMOL/KG,,UMOL/KG,,PMOL/KG,,PMOL/KG,,FMOL/KG,,UMOL/KG,,UMOL/KG,,UATM,,DEG C,,,DEG C,/MILLE,,/MILLE,,/MILLE,/MILLE,,UG/KG,,UMOL/KG,,UMOL/KG,,NMOL/KG,,,,,,ITS-90,,VOLTS,,VOLTS,,/MILLE,,/MILLE,,,
325020210420,        A22,      29,          1,          2,          2,2,20210428,       0809,    17.9575,   -65.1339,       4508,  4267.9,   4.0416,  34.9750,2,  34.9744,2,    256.9,2,   257.4,2,   15.71,2,   18.29,2,    0.00,2,    1.19,2,   1.139,2,   0.587,2,   0.8000,2,  -999.0,9, -999.00,9, -999.000,9,  -999.00,-999.00000,9,  -999.00, -999.00,9, -999.00,9, -999.00, -999.00,9,-999.000,9, -999.00,9, -999.00,9,      13.70,2, 20210428,      815,  17.9575, -65.1339,     4.0419,2,     0.0418,1,     4.6800,1,     -999.0,9,     -999.0,9,     -999.0,9
325020210420,        A22,      29,          1,          1,          1,2,20210428,       0809,    17.9575,   -65.1339,       4508,  4573.1,   4.0820,  34.9748,2,  34.9748,2,    257.1,2,   257.3,2,   15.71,2,   18.29,2,    0.00,2,    1.19,2,   1.134,2,   0.575,2,   0.9200,2,  2169.4,2, 2316.36,2, -999.000,9,  -999.00,   7.73711,2,    25.01, -999.00,9, -999.00,9, -999.00, -999.00,9,-999.000,9, -999.00,9, -999.00,9,      13.48,2, 20210428,      809,  17.9575, -65.1339,     4.0818,2,     0.0418,1,     4.6791,1,     -999.0,9,     -999.0,9,     -999.0,9
325020210420,        A22,      30,          1,         10,         10,2,20210428,       1731,    18.4971,   -66.0018,        238,     5.1,  27.0700,  36.0849,2,  36.0877,2,    201.8,2,   201.6,2,    1.66,2,    0.03,2,    0.00,2,    0.00,2,-999.000,9,-999.000,9,-999.0000,9,  2026.0,6,  2366.2,2,  297.330,2,    20.00,   8.09344,2,    25.02, -999.00,9, -999.00,9, -999.00, -999.00,1,-999.000,9,   73.30,2,    4.40,2,     -999.0,9, 20210428,     1747,  18.4971, -66.0018,    27.0691,2,     0.0439,1,     4.6099,1,     -999.0,9,     -999.0,9,     -999.0,9
325020210420,        A22,      30,          1,          9,          9,2,20210428,       1731,    18.4971,   -66.0018,        238,    35.2,  26.7033,  36.3073,2,  36.3087,2,    203.2,2,   202.9,2,    1.27,2,    0.01,2,    0.00,2,    0.00,2,-999.000,9,-999.000,9,-999.0000,9,  2035.9,2, 2376.69,2, -999.000,9,  -999.00,    8.0961,6,    25.02, -999.00,9, -999.00,9, -999.00, -999.00,9,-999.000,9,   73.70,2,    4.39,2,     -999.0,9, 20210428,     1746,  18.4971, -66.0018,    26.7035,2,     0.0627,1,     4.5779,1,     -999.0,9,     -999.0,9,     -999.0,9
325020210420,        A22,      30,          1,          8,          8,2,20210428,       1731,    18.4971,   -66.0018,        238,    60.9,  26.3412,  36.4886,2,  36.4869,2,    204.4,2,   203.8,2,    1.27,2,    0.01,2,    0.00,2,    0.00,2,-999.000,9,-999.000,9,-999.0000,9,  2042.9,2, 2388.77,6, -999.000,9,  -999.00,    8.0988,2,    24.99, -999.00,9, -999.00,9, -999.00, -999.00,9,-999.000,9,   75.50,2,    4.21,2,     -999.0,9, 20210428,     1744,  18.4971, -66.0018,    26.3412,2,     0.0736,1,     4.6132,1,     -999.0,9,     -999.0,9,     -999.0,9
325020210420,        A22,      30,          1,          7,          7,2,20210428,       1731,    18.4971,   -66.0018,        238,    85.7,  26.2948,  36.5476,2,  36.5634,2,    202.5,2,   202.8,2,    1.27,2,    0.01,2,    0.00,2,    0.00,2,   1.506,2,   0.975,2,   1.6800,2,  2048.4,2, 2393.01,2, -999.000,9,  -999.00,     8.098,2,    25.00, -999.00,9, -999.00,9, -999.00, -999.00,1,-999.000,9,   75.60,2,    4.50,2,       6.06,2, 20210428,     1742,  18.4971, -66.0018,    26.2884,2,     0.0686,1,     4.6176,1,     -999.0,9,     -999.0,9,     -999.0,9
325020210420,        A22,      30,          1,          6,          6,2,20210428,       1731,    18.4971,   -66.0018,        238,   110.9,  25.9398,  36.8213,2,  36.8399,2,    199.9,2,   200.3,2,    0.97,2,    0.02,2,    0.01,2,    0.00,2,-999.000,9,-999.000,9,-999.0000,9,  2066.0,2, 2409.66,2, -999.000,9,  -999.00,   8.08962,2,    25.00, -999.00,9, -999.00,9, -999.00, -999.00,9,-999.000,9,   72.90,2,    4.08,2,     -999.0,9, 20210428,     1739,  18.4971, -66.0018,    25.9374,2,     0.0776,1,     4.6271,1,     -999.0,9,     -999.0,9,     -999.0,9
325020210420,        A22,      30,          1,          5,          5,2,20210428,       1731,    18.4971,   -66.0018,        238,   136.2,  25.0095,  37.0962,2,  37.0800,2,    196.8,2,   196.9,2,    0.97,2,    0.10,2,    0.07,2,    0.00,2,   1.591,2,   1.032,2,   1.6800,2,  2091.4,2, 2421.58,2, -999.000,9,  -999.00,   8.06462,2,    24.97, -999.00,9, -999.00,9, -999.00, -999.00,9,-999.000,9,   67.80,2,    4.27,2,       6.47,2, 20210428,     1738,  18.4971, -66.0018,    25.0542,2,     0.0686,1,     4.6281,1,     -999.0,9,     -999.0,9,     -999.0,9
325020210420,        A22,      30,          1,          4,          4,2,20210428,       1731,    18.4971,   -66.0018,        238,   161.2,  22.6134,  37.1032,2,  37.0992,2,    180.8,2,   180.4,2,    0.78,2,    1.20,2,    0.03,2,    0.00,2,-999.000,9,-999.000,9,-999.0000,9,  2130.8,2, 2425.18,2,  389.105,6,    20.00,   7.99998,2,    25.01, -999.00,9, -999.00,9, -999.00, -999.00,9,-999.000,9,   57.50,2,    4.35,2,     -999.0,9, 20210428,     1736,  18.4971, -66.0018,    22.6042,2,     0.0549,1,     4.6389,1,     -999.0,9,     -999.0,9,     -999.0,9
325020210420,        A22,      30,          1,          3,          3,2,20210428,       1731,    18.4971,   -66.0018,        238,   186.5,  21.5868,  37.0084,2,  37.0017,2,    175.9,2,   176.5,2,    0.88,2,    1.90,2,    0.01,2,    0.02,2,   1.827,2,   1.171,2,   1.7000,2,  2136.6,2,  2415.2,2, -999.000,9,  -999.00,   7.97745,6,    25.01, -999.00,9, -999.00,9, -999.00, -999.00,9,-999.000,9,   55.10,2,    5.38,2,       8.11,2, 20210428,     1734,  18.4971, -66.0018,    21.5779,2,     0.0487,1,     4.6491,1,     -999.0,9,     -999.0,9,     -999.0,9
325020210420,        A22,      30,          1,          2,          2,2,20210428,       1731,    18.4971,   -66.0018,        238,   211.6,  20.7608,  36.9038,2,  36.8992,2,    176.5,2,   176.5,2,    0.97,2,    2.64,2,    0.01,2,    0.06,2,-999.000,9,-999.000,9,-999.0000,9,  2137.9,2, 2408.94,2, -999.000,9,  -999.00,    7.9673,2,    25.00, -999.00,9, -999.00,9, -999.00, -999.00,9,-999.000,9,   53.50,2,    5.54,2,     -999.0,9, 20210428,     1733,  18.4971, -66.0018,    20.8290,2,     0.0446,1,     4.6440,1,     -999.0,9,     -999.0,9,     -999.0,9
325020210420,        A22,      30,          1,          1,          1,2,20210428,       1731,    18.4971,   -66.0018,        238,   229.6,  19.9342,  36.8040,2,  36.8010,2,    176.7,2,   176.4,2,    1.07,2,    3.43,2,    0.00,2,    0.09,2,   1.925,2,   1.230,2,   1.7700,2,  2139.4,2, 2402.24,2,  435.350,2,    20.00,     7.956,2,    25.01, -999.00,9, -999.00,9, -999.00, -999.00,9,-999.000,9,   52.10,2,    6.28,2,       9.01,2, 20210428,     1731,  18.4971, -66.0018,    19.9184,2,     0.0418,1,     4.6413,1,     -999.0,9,     -999.0,9,     -999.0,9
325020210420,        A22,      31,          1,         19,         19,2,20210428,       2012,    18.5789,   -65.9963,        894,     4.6,  27.0828,  36.0191,2,  36.0214,2,    202.4,2,   201.5,2,    1.36,2,    0.01,2,    0.00,2,    0.00,2,   1.473,2,   0.956,2,   1.6200,2,  2027.2,6, 2360.25,2,  293.350,2,    20.00,   8.09474,2,    24.97, -999.00,9, -999.00,9, -999.00, -999.00,1,-999.000,9, -999.00,9, -999.00,9,       5.93,2, 20210428,     2055,  18.5789, -65.9963,    27.0806,2,     0.0477,1,     4.6189,1,     -999.0,1,     -999.0,1,     -999.0,9
325020210420,        A22,      31,          1,         18,         18,2,20210428,       2012,    18.5789,   -65.9963,        894,    20.3,  27.0916,  36.0352,2,  36.0378,2,    202.5,2,   201.6,2,    1.27,2,    0.01,2,    0.00,2,    0.00,2,-999.000,9,-999.000,9,-999.0000,9,  -999.0,9, -999.00,9, -999.000,9,  -999.00,-999.00000,9,  -999.00, -999.00,9, -999.00,9, -999.00, -999.00,9,-999.000,9, -999.00,9, -999.00,9,     -999.0,9, 20210428,     2053,  18.5788, -65.9963,    27.0930,2,     0.0462,1,     4.6172,1,     -999.0,1,     -999.0,1,     -999.0,9
325020210420,        A22,      31,          1,         17,         17,2,20210428,       2012,    18.5789,   -65.9963,        894,    40.0,  26.5230,  36.4632,2,  36.4634,2,    204.5,2,   203.7,2,    1.27,2,    0.00,2,    0.00,2,    0.00,2,-999.000,9,-999.000,9,-999.0000,9,  2044.4,2, 2388.07,2,  291.990,2,    20.00,   8.10156,6,    25.02, -999.00,9, -999.00,9, -999.00, -999.00,9,-999.000,9, -999.00,9, -999.00,9,     -999.0,9, 20210428,     2051,  18.5788, -65.9963,    26.5219,2,     0.0451,1,     4.6294,1,     -999.0,1,     -999.0,1,     -999.0,9
325020210420,        A22,      31,          1,         16,         16,2,20210428,       2012,    18.5789,   -65.9963,        894,    65.5,  25.9074,  36.4822,2,  36.4907,2,    206.5,2,   206.2,2,    1.27,2,    0.00,2,    0.00,2,    0.00,2,   1.531,2,   0.985,2,   1.6800,2,  -999.0,9, -999.00,9, -999.000,9,  -999.00,-999.00000,9,  -999.00, -999.00,9, -999.00,9, -999.00, -999.00,9,-999.000,9, -999.00,9, -999.00,9,       6.14,2, 20210428,     2049,  18.5788, -65.9963,    25.9112,2,     0.0502,1,     4.6333,1,     -999.0,1,     -999.0,1,     -999.0,9
325020210420,        A22,      31,          1,         15,         15,2,20210428,       2012,    18.5789,   -65.9963,        894,    90.5,  25.9901,  36.8133,2,  36.8062,2,    201.6,2,   202.5,2,    0.97,2,    0.00,2,    0.00,2,    0.00,2,-999.000,9,-999.000,9,-999.0000,9,  2064.3,2,  2406.9,6,  299.320,2,    20.00,   8.09431,2,    25.01, -999.00,9, -999.00,9, -999.00, -999.00,1,-999.000,9, -999.00,9, -999.00,9,     -999.0,9, 20210428,     2047,  18.5788, -65.9963,    25.9944,2,     0.0755,1,     4.6275,1,     -999.0,1,     -999.0,1,     -999.0,9
325020210420,        A22,      31,          1,         14,         14,2,20210428,       2012,    18.5789,   -65.9963,        894,   115.6,  25.2156,  37.0798,2,  37.1423,3,    196.7,2,   197.0,2,    0.68,2,    0.09,2,    0.00,2,    0.00,2,-999.000,9,-999.000,9,-999.0000,9,  2098.9,2, 2426.91,2,  329.200,2,    20.00,    8.0626,2,    24.97, -999.00,9, -999.00,9, -999.00, -999.00,9,-999.000,9, -999.00,9, -999.00,9,     -999.0,9, 20210428,     2045,  18.5788, -65.9963,    25.2437,2,     0.0742,1,     4.6378,1,     -999.0,1,     -999.0,1,     -999.0,9
325020210420,        A22,      31,          1,         13,         13,2,20210428,       2012,    18.5789,   -65.9963,        894,   140.8,  23.4801,  37.1741,2,  37.1739,2,    188.6,2,   189.3,2,    0.88,2,    0.32,2,    0.08,2,    0.00,2,   1.727,2,   1.101,2,   1.6600,2,  -999.0,9, -999.00,9, -999.000,9,  -999.00,-999.00000,9,  -999.00, -999.00,9, -999.00,9, -999.00, -999.00,9,-999.000,9, -999.00,9, -999.00,9,       6.93,2, 20210428,     2043,  18.5788, -65.9963,    23.4811,2,     0.0757,1,     4.6478,1,     -999.0,1,     -999.0,1,     -999.0,9
325020210420,        A22,      31,          1,         12,         12,2,20210428,       2012,    18.5789,   -65.9963,        894,   165.8,  21.7682,  37.0665,2,  37.0655,2,    177.6,2,   178.3,2,    0.68,2,    1.30,2,    0.01,2,    0.00,2,-999.000,9,-999.000,9,-999.0000,9,  -999.0,9, -999.00,9, -999.000,9,  -999.00,-999.00000,9,  -999.00, -999.00,9, -999.00,9, -999.00, -999.00,9,-999.000,9, -999.00,9, -999.00,9,     -999.0,9, 20210428,     2041,  18.5788, -65.9963,    21.7592,2,     0.0538,1,     4.6616,1,     -999.0,1,     -999.0,1,     -999.0,9
325020210420,        A22,      31,          1,         11,         11,2,20210428,       2012,    18.5789,   -65.9963,        894,   191.0,  20.7172,  36.9124,2,  36.9098,2,    170.9,2,   171.3,2,    0.97,2,    2.98,2,    0.00,2,    0.04,2,-999.000,9,-999.000,9,-999.0000,9,  2147.5,2,  2408.1,2,  436.750,2,    20.00,   7.95502,2,    24.99, -999.00,9, -999.00,9, -999.00, -999.00,9,-999.000,9, -999.00,9, -999.00,9,     -999.0,9, 20210428,     2039,  18.5788, -65.9963,    20.7214,2,     0.0448,1,     4.6677,1,     -999.0,1,     -999.0,1,     -999.0,9
325020210420,        A22,      31,          1,         10,         10,2,20210428,       2012,    18.5789,   -65.9963,        894,   216.8,  19.4143,  36.7254,2,  36.7230,2,    176.7,2,   177.1,2,    1.17,2,    4.21,2,    0.00,2,    0.10,2,-999.000,9,-999.000,9,-999.0000,9,  -999.0,9, -999.00,9, -999.000,9,  -999.00,-999.00000,9,  -999.00, -999.00,9, -999.00,9, -999.00, -999.00,9,-999.000,9, -999.00,9, -999.00,9,     -999.0,9, 20210428,     2038,  18.5788, -65.9963,    19.4411,2,     0.0396,1,     4.6711,1,     -999.0,1,     -999.0,1,     -999.0,9
325020210420,        A22,      31,          1,          9,          9,2,20210428,       2012,    18.5789,   -65.9963,        894,   241.8,  19.0413,  36.6731,2,  36.6711,2,    175.9,2,   176.6,2,    1.75,2,    5.00,2,    0.00,2,    0.16,2,   2.035,2,   1.288,2,   1.6500,2,  2144.9,2, 2392.77,2,  458.150,2,    20.00,   7.93669,2,    24.96, -999.00,9, -999.00,9, -999.00, -999.00,9,-999.000,9, -999.00,9, -999.00,9,       9.82,2, 20210428,     2036,  18.5788, -65.9963,    19.0400,2,     0.0393,1,     4.6737,1,     -999.0,1,     -999.0,1,     -999.0,9
325020210420,        A22,      31,          1,          8,          8,2,20210428,       2012,    18.5789,   -65.9963,        894,   287.0,  17.8573,  36.4806,2,  36.4743,2,    176.4,2,   176.8,2,    1.85,2,    6.99,2,    0.00,2,    0.29,2,-999.000,9,-999.000,9,-999.0000,9,  -999.0,9, -999.00,9, -999.000,9,  -999.00,-999.00000,9,  -999.00, -999.00,9, -999.00,9, -999.00, -999.00,9,-999.000,9, -999.00,9, -999.00,9,     -999.0,9, 20210428,     2033,  18.5788, -65.9963,    17.8438,2,     0.0395,1,     4.6757,1,     -999.0,1,     -999.0,1,     -999.0,9
325020210420,        A22,      31,          1,          7,          7,2,20210428,       2012,    18.5789,   -65.9963,        894,   337.6,  16.3690,  36.2331,2,  36.2339,2,    160.4,2,   160.3,2,    3.41,2,   11.00,2,    0.00,2,    0.55,2,   2.194,2,   1.334,2,   1.3700,2,  2162.6,2,  2369.1,2,  555.640,2,    20.00,   7.85766,2,    24.99, -999.00,9, -999.00,9, -999.00, -999.00,9,-999.000,9, -999.00,9, -999.00,9,      13.76,2, 20210428,     2031,  18.5788, -65.9963,    16.3561,2,     0.0397,1,     4.6744,1,     -999.0,1,     -999.0,1,     -999.0,9
325020210420,        A22,      31,          1,          6,          6,2,20210428,       2012,    18.5789,   -65.9963,        894,   387.6,  15.2363,  36.0426,2,  36.0430,2,    150.3,2,   149.9,2,    4.58,2,   13.92,2,    0.00,2,    0.74,2,-999.000,9,-999.000,9,-999.0000,9,  -999.0,9, -999.00,9, -999.000,9,  -999.00,-999.00000,9,  -999.00, -999.00,9, -999.00,9, -999.00, -999.00,9,-999.000,9, -999.00,9, -999.00,9,     -999.0,9, 20210428,     2028,  18.5788, -65.9963,    15.2383,2,     0.0400,1,     4.6764,1,     -999.0,1,     -999.0,1,     -999.0,9
325020210420,        A22,      31,          1,          5,          5,2,20210428,       2012,    18.5789,   -65.9963,        894,   438.1,  14.3479,  35.9062,2,  35.9018,2,    146.9,2,   146.6,2,    5.95,2,   15.73,2,    0.00,2,    0.86,2,   2.124,2,   1.265,2,   1.1200,2,  2178.4,2, 2350.07,2,  656.100,2,    20.00,   7.79011,2,    24.99, -999.00,9, -999.00,9, -999.00, -999.00,9,-999.000,9, -999.00,9, -999.00,9,      17.63,2, 20210428,     2026,  18.5788, -65.9963,    14.3474,2,     0.0401,1,     4.6745,1,     -999.0,1,     -999.0,1,     -999.0,9
325020210420,        A22,      31,          1,          4,          4,2,20210428,       2012,    18.5789,   -65.9963,        894,   488.5,  13.1803,  35.7197,2,  35.7094,2,    140.3,2,   139.9,2,    7.41,2,   18.50,2,    0.00,2,    1.05,2,-999.000,9,-999.000,9,-999.0000,9,  -999.0,9, -999.00,9, -999.000,9,  -999.00,-999.00000,9,  -999.00, -999.00,9, -999.00,9, -999.00, -999.00,9,-999.000,9, -999.00,9, -999.00,9,     -999.0,9, 20210428,     2024,  18.5788, -65.9963,    13.1797,2,     0.0412,1,     4.6781,1,     -999.0,1,     -999.0,1,     -999.0,9
325020210420,        A22,      31,          1,          3,          3,2,20210428,       2012,    18.5789,   -65.9963,        894,   569.4,  11.5788,  35.4734,2,  35.4722,2,    133.0,2,   133.0,2,    9.85,2,   22.03,2,    0.00,2,    1.29,2,   1.732,2,   0.982,2,   0.7000,2,  2195.2,2, 2331.47,2,  809.220,2,    20.00,   7.70112,2,    24.99, -999.00,9, -999.00,9, -999.00, -999.00,9,-999.000,9, -999.00,9, -999.00,9,      21.37,2, 20210428,     2021,  18.5788, -65.9963,    11.5798,2,     0.0414,1,     4.6799,1,     -999.0,1,     -999.0,1,     -999.0,9
325020210420,        A22,      31,          1,          2,          2,2,20210428,       2012,    18.5789,   -65.9963,        894,   705.0,   9.4668,  35.2157,2,  35.2152,2,    133.6,2,   134.1,2,   14.34,2,   25.57,2,    0.00,2,    1.57,2,   1.215,2,   0.666,2,   0.4400,2,  -999.0,9, -999.00,9, -999.000,9,  -999.00,-999.00000,9,  -999.00, -999.00,9, -999.00,9, -999.00, -999.00,9,-999.000,9, -999.00,9, -999.00,9,      22.27,2, 20210428,     2017,  18.5788, -65.9963,     9.4662,2,     0.0424,1,     4.6751,1,     -999.0,1,     -999.0,1,     -999.0,9
325020210420,        A22,      31,          1,          1,          1,2,20210428,       2012,    18.5789,   -65.9963,        894,   891.2,   7.3713,  35.0301,2,  35.0287,2,    150.2,2,   150.2,2,   17.85,2,   26.86,2,    0.00,2,    1.70,2,   0.848,2,   0.460,2,   0.3600,2,  2204.4,2, 2314.78,2,  936.070,2,    20.00,    7.6377,6,    25.00, -999.00,9, -999.00,9, -999.00, -999.00,9,-999.000,9, -999.00,9, -999.00,9,      22.11,2, 20210428,     2012,  18.5788, -65.9963,     7.3629,2,     0.0410,1,     4.6752,1,     -999.0,1,     -999.0,1,     -999.0,9