BOTTLE,20230513CCHSIOCBG
EXPOCODE,SECT_ID,STNNBR,CASTNO,SAMPNO,BTLNBR,BTLNBR_FLAG_W,DATE,TIME,LATITUDE,LONGITUDE,DEPTH,CTDPRS,CTDTMP,CTDSAL,CTDSAL_FLAG_W,SALNTY,SALNTY_FLAG_W,CTDOXY,CTDOXY_FLAG_W,OXYGEN,OXYGEN_FLAG_W,SILCAT,SILCAT_FLAG_W,NITRAT,NITRAT_FLAG_W,NITRIT,NITRIT_FLAG_W,PHSPHT,PHSPHT_FLAG_W,CFC-11,CFC-11_FLAG_W,CFC-12,CFC-12_FLAG_W,SF6,SF6_FLAG_W,TCARBN,TCARBN_FLAG_W,ALKALI,ALKALI_FLAG_W,FCO2,FCO2_FLAG_W,FCO2TMP,PH_TOT,PH_TOT_FLAG_W,PH_TMP,DELC13,DELC13_FLAG_W,DELC14,DELC14_FLAG_W,C14ERR,DELO18,DELO18_FLAG_W,POC,POC_FLAG_W,DOC,DOC_FLAG_W,TDN,TDN_FLAG_W,N2O,N2O_FLAG_W,BTL_DATE,BTL_TIME,BTL_LAT,BTL_LON,REFTMP,REFTMP_FLAG_W,CTDFLUOR,CTDFLUOR_FLAG_W,CTDXMISS,CTDXMISS_FLAG_W,D15N_NO2+NO3,D15N_NO2+NO3_FLAG_W,D18O_NO2+NO3,D18O_NO2+NO3_FLAG_W,HPLC,HPLC_FLAG_W
,,,,,,,,,,,METERS,DBAR,ITS-90,PSS-78,,PSS-78,,UMOL/KG,,UMOL/KG,,UMOL/KG,,UMOL/KG,,UMOL/KG,,UMOL/KG,,PMOL/KG,,PMOL/KG,,FMOL/KG,,UMOL/KG,,UMOL/KG,,UATM,,DEG C,,,DEG C,/MILLE,,/MILLE,,/MILLE,/MILLE,,UG/KG,,UMOL/KG,,UMOL/KG,,NMOL/KG,,,,,,ITS-90,,VOLTS,,VOLTS,,/MILLE,,/MILLE,,,
325020210420,        A22,      45,          1,         36,         36,2,20210502,       1224,    22.3268,   -65.8879,       5758,     4.8,  26.7464,  36.4024,2,  36.4049,2,    203.8,2,   202.5,2,    1.36,2,    0.00,2,    0.00,2,    0.00,2,   1.487,2,   0.959,2,   1.6200,2,  2039.8,6, 2382.87,6, -999.000,9,  -999.00,   8.09618,2,    25.03, -999.00,9, -999.00,9, -999.00, -999.00,1,-999.000,9, -999.00,9, -999.00,9,       5.74,2, 20210502,     1459,  22.3268, -65.8879,    26.7430,2,     0.0399,1,     4.6320,1,     -999.0,9,     -999.0,9,     -999.0,9
325020210420,        A22,      45,          1,         35,         35,2,20210502,       1224,    22.3268,   -65.8879,       5758,    35.3,  26.1078,  36.5449,2,  36.5486,2,    206.7,2,   206.3,2,    1.07,2,    0.00,2,    0.00,2,    0.00,2,-999.000,9,-999.000,9,-999.0000,9,  -999.0,9, -999.00,9, -999.000,9,  -999.00,-999.00000,9,  -999.00, -999.00,9, -999.00,9, -999.00, -999.00,9,-999.000,9, -999.00,9, -999.00,9,     -999.0,9, 20210502,     1457,  22.3268, -65.8879,    26.1061,2,     0.0409,1,     4.6284,1,     -999.0,9,     -999.0,9,     -999.0,9
325020210420,        A22,      45,          1,         34,         34,2,20210502,       1224,    22.3268,   -65.8879,       5758,    60.5,  25.4259,  36.5572,2,  36.5595,2,    209.2,2,   208.7,2,    0.97,2,    0.00,2,    0.00,2,    0.00,2,-999.000,9,-999.000,9,-999.0000,9,  -999.0,9, -999.00,9, -999.000,9,  -999.00,-999.00000,9,  -999.00, -999.00,9, -999.00,9, -999.00, -999.00,9,-999.000,9, -999.00,9, -999.00,9,     -999.0,9, 20210502,     1455,  22.3268, -65.8879,    25.4239,2,     0.0441,1,     4.6243,1,     -999.0,9,     -999.0,9,     -999.0,9
325020210420,        A22,      45,          1,         33,         33,2,20210502,       1224,    22.3268,   -65.8879,       5758,    85.3,  25.3032,  36.7164,2,  36.7526,3,    208.7,2,   209.0,2,    0.78,2,    0.00,2,    0.00,2,    0.00,2,   1.575,2,   1.002,2,   1.6700,2,  2058.4,2, 2400.75,2, -999.000,9,  -999.00,   8.09455,6,    25.02, -999.00,9, -999.00,9, -999.00, -999.00,9,-999.000,9, -999.00,9, -999.00,9,       6.11,2, 20210502,     1453,  22.3268, -65.8879,    25.3053,2,     0.0456,1,     4.6338,1,     -999.0,9,     -999.0,9,     -999.0,9
325020210420,        A22,      45,          1,         32,         32,2,20210502,       1224,    22.3268,   -65.8879,       5758,   116.2,  24.3783,  36.9746,2,  36.9872,2,    210.2,2,   210.3,2,    0.49,2,    0.00,2,    0.00,2,    0.00,2,-999.000,9,-999.000,9,-999.0000,9,  -999.0,9, -999.00,9, -999.000,9,  -999.00,-999.00000,9,  -999.00, -999.00,9, -999.00,9, -999.00, -999.00,9,-999.000,9, -999.00,9, -999.00,9,     -999.0,9, 20210502,     1450,  22.3268, -65.8879,    24.3767,2,     0.0559,1,     4.6357,1,     -999.0,9,     -999.0,9,     -999.0,9
325020210420,        A22,      45,          1,         31,         31,2,20210502,       1224,    22.3268,   -65.8879,       5758,   166.0,  22.3178,  37.0233,2,  37.0118,2,    196.0,2,   196.7,2,    0.39,2,    0.00,2,    0.04,2,    0.00,2,-999.000,9,-999.000,9,-999.0000,9,  2114.2,2, 2416.32,2, -999.000,9,  -999.00,   8.01917,2,    25.03, -999.00,9, -999.00,9, -999.00, -999.00,1,-999.000,9, -999.00,9, -999.00,9,     -999.0,9, 20210502,     1447,  22.3268, -65.8879,    22.3137,2,     0.0773,1,     4.6460,1,     -999.0,9,     -999.0,9,     -999.0,9
325020210420,        A22,      45,          1,         30,         30,2,20210502,       1224,    22.3268,   -65.8879,       5758,   216.8,  20.1344,  36.7934,2,  36.7857,2,    181.9,2,   183.4,2,    0.78,2,    1.82,2,    0.00,2,    0.00,2,-999.000,9,-999.000,9,-999.0000,9,  -999.0,9, -999.00,9, -999.000,9,  -999.00,-999.00000,9,  -999.00, -999.00,9, -999.00,9, -999.00, -999.00,9,-999.000,9, -999.00,9, -999.00,9,     -999.0,9, 20210502,     1445,  22.3268, -65.8879,    20.1300,2,     0.0458,1,     4.6642,1,     -999.0,9,     -999.0,9,     -999.0,9
325020210420,        A22,      45,          1,         29,         29,2,20210502,       1224,    22.3268,   -65.8879,       5758,   266.7,  19.0051,  36.6356,2,  36.6336,2,    190.1,2,   190.3,2,    1.17,2,    3.70,2,    0.00,2,    0.07,2,   2.052,2,   1.287,2,   1.7400,2,  2126.6,2, 2392.82,2, -999.000,9,  -999.00,   7.96378,2,    24.98, -999.00,9, -999.00,9, -999.00, -999.00,9,-999.000,9, -999.00,9, -999.00,9,       8.41,2, 20210502,     1443,  22.3268, -65.8879,    19.0055,2,     0.0399,1,     4.6709,1,     -999.0,9,     -999.0,9,     -999.0,9
325020210420,        A22,      45,          1,         28,         28,2,20210502,       1224,    22.3268,   -65.8879,       5758,   317.3,  18.5262,  36.5745,2,  36.5712,2,    188.2,2,   187.9,2,    1.27,2,    4.82,2,    0.00,2,    0.14,2,-999.000,9,-999.000,9,-999.0000,9,  -999.0,9, -999.00,9, -999.000,9,  -999.00,-999.00000,9,  -999.00, -999.00,9, -999.00,9, -999.00, -999.00,9,-999.000,9, -999.00,9, -999.00,9,     -999.0,9, 20210502,     1441,  22.3268, -65.8879,    18.5261,2,     0.0406,1,     4.6725,1,     -999.0,9,     -999.0,9,     -999.0,9
325020210420,        A22,      45,          1,         27,         27,2,20210502,       1224,    22.3268,   -65.8879,       5758,   368.0,  17.6200,  36.4382,2,  36.4346,2,    179.3,2,   179.9,2,    1.85,2,    7.01,2,    0.00,2,    0.26,2,-999.000,9,-999.000,9,-999.0000,9,  -999.0,9, -999.00,9, -999.000,9,  -999.00,-999.00000,9,  -999.00, -999.00,9, -999.00,9, -999.00, -999.00,9,-999.000,9, -999.00,9, -999.00,9,     -999.0,9, 20210502,     1438,  22.3268, -65.8879,    17.6190,2,     0.0389,1,     4.6729,1,     -999.0,9,     -999.0,9,     -999.0,9
325020210420,        A22,      45,          1,         26,         26,2,20210502,       1224,    22.3268,   -65.8879,       5758,   438.4,  16.1981,  36.2120,2,  36.2129,2,    170.9,2,   172.3,2,    2.83,2,    9.89,2,    0.00,2,    0.45,2,-999.000,9,-999.000,9,-999.0000,9,  -999.0,9, -999.00,9, -999.000,9,  -999.00,-999.00000,9,  -999.00, -999.00,9, -999.00,9, -999.00, -999.00,9,-999.000,9, -999.00,9, -999.00,9,     -999.0,9, 20210502,     1435,  22.3268, -65.8879,    16.1974,2,     0.0399,1,     4.6741,1,     -999.0,9,     -999.0,9,     -999.0,9
325020210420,        A22,      45,          1,         25,         25,2,20210502,       1224,    22.3268,   -65.8879,       5758,   539.0,  14.3561,  35.9284,2,  35.9218,2,    161.3,2,   161.2,2,    4.58,2,   13.91,2,    0.00,2,    0.71,2,   2.250,2,   1.318,2,   1.1400,2,  2164.2,2, 2348.93,2, -999.000,9,  -999.00,   7.81232,2,    25.01, -999.00,9, -999.00,9, -999.00, -999.00,9,-999.000,9, -999.00,9, -999.00,9,      15.33,2, 20210502,     1431,  22.3268, -65.8879,    14.3554,2,     0.0408,1,     4.6758,1,     -999.0,9,     -999.0,9,     -999.0,9
325020210420,        A22,      45,          1,         24,         24,2,20210502,       1224,    22.3268,   -65.8879,       5758,   640.2,  12.0881,  35.5690,2,  35.5697,2,    140.9,2,   141.5,2,    8.48,2,   19.95,2,    0.00,2,    1.11,2,-999.000,9,-999.000,9,-999.0000,9,  -999.0,9, -999.00,9, -999.000,9,  -999.00,-999.00000,9,  -999.00, -999.00,9, -999.00,9, -999.00, -999.00,9,-999.000,9, -999.00,9, -999.00,9,     -999.0,9, 20210502,     1429,  22.3268, -65.8879,    12.0875,2,     0.0412,1,     4.6783,1,     -999.0,9,     -999.0,9,     -999.0,9
325020210420,        A22,      45,          1,         23,         23,2,20210502,       1224,    22.3268,   -65.8879,       5758,   741.3,  10.3763,  35.3256,2,  35.3224,2,    134.1,2,   134.0,2,   12.19,2,   23.91,2,    0.00,2,    1.39,2,-999.000,9,-999.000,9,-999.0000,9,  2193.7,2, 2321.88,2, -999.000,9,  -999.00,   7.67883,2,    25.02, -999.00,9, -999.00,9, -999.00, -999.00,9,-999.000,9, -999.00,9, -999.00,9,     -999.0,9, 20210502,     1425,  22.3268, -65.8879,    10.3772,2,     0.0415,1,     4.6790,1,     -999.0,9,     -999.0,9,     -999.0,9
325020210420,        A22,      45,          1,         22,         22,2,20210502,       1224,    22.3268,   -65.8879,       5758,   841.9,   8.7248,  35.1356,2,  35.1337,2,    136.9,2,   136.9,2,   15.89,2,   26.38,2,    0.00,2,    1.58,2,-999.000,9,-999.000,9,-999.0000,9,  -999.0,9, -999.00,9, -999.000,9,  -999.00,-999.00000,9,  -999.00, -999.00,9, -999.00,9, -999.00, -999.00,9,-999.000,9, -999.00,9, -999.00,9,     -999.0,9, 20210502,     1422,  22.3268, -65.8879,     8.7296,2,     0.0425,1,     4.6794,1,     -999.0,9,     -999.0,9,     -999.0,9
325020210420,        A22,      45,          1,         21,         21,2,20210502,       1224,    22.3268,   -65.8879,       5758,   942.9,   7.4816,  35.0318,2,  35.0323,2,    148.1,2,   148.5,2,   17.85,2,   26.92,2,    0.00,2,    1.65,2,   0.770,2,   0.410,2,   0.2500,2,  2200.5,2, 2310.46,2, -999.000,9,  -999.00,   7.63817,6,    25.02, -999.00,9, -999.00,9, -999.00, -999.00,9,-999.000,9, -999.00,9, -999.00,9,      21.41,2, 20210502,     1419,  22.3268, -65.8879,     7.4804,2,     0.0427,1,     4.6800,1,     -999.0,9,     -999.0,9,     -999.0,9
325020210420,        A22,      45,          1,         20,         20,2,20210502,       1224,    22.3268,   -65.8879,       5758,  1044.2,   6.5994,  35.0342,2,  35.0346,2,    174.5,2,   174.5,2,   16.97,2,   24.56,2,    0.00,2,    1.53,2,-999.000,9,-999.000,9,-999.0000,9,  -999.0,9, -999.00,9, -999.000,9,  -999.00,-999.00000,9,  -999.00, -999.00,9, -999.00,9, -999.00, -999.00,9,-999.000,9, -999.00,9, -999.00,9,     -999.0,9, 20210502,     1416,  22.3268, -65.8879,     6.5989,2,     0.0420,1,     4.6801,1,     -999.0,9,     -999.0,9,     -999.0,9
325020210420,        A22,      45,          1,         19,         19,2,20210502,       1224,    22.3268,   -65.8879,       5758,  1145.3,   5.8239,  35.0473,2,  35.0453,2,    206.0,2,   204.7,2,   15.31,2,   21.79,2,    0.00,2,    1.37,2,-999.000,9,-999.000,9,-999.0000,9,  -999.0,9, -999.00,9, -999.000,9,  -999.00,-999.00000,9,  -999.00, -999.00,9, -999.00,9, -999.00, -999.00,9,-999.000,9, -999.00,9, -999.00,9,     -999.0,9, 20210502,     1412,  22.3268, -65.8879,     5.8151,2,     0.0416,1,     4.6807,1,     -999.0,9,     -999.0,9,     -999.0,9
325020210420,        A22,      45,          1,         18,         18,2,20210502,       1224,    22.3268,   -65.8879,       5758,  1246.4,   5.2073,  35.0349,2,  35.0348,2,    223.5,2,   224.0,2,   14.34,2,   20.29,2,    0.00,2,    1.28,2,   1.593,2,   0.825,2,   0.4800,2,  2174.1,2, 2308.91,2, -999.000,9,  -999.00,   7.70158,2,    25.02, -999.00,9, -999.00,9, -999.00, -999.00,9,-999.000,9, -999.00,9, -999.00,9,      15.34,2, 20210502,     1409,  22.3268, -65.8879,     5.2097,2,     0.0429,1,     4.6807,1,     -999.0,9,     -999.0,9,     -999.0,9
325020210420,        A22,      45,          1,         17,         17,2,20210502,       1224,    22.3268,   -65.8879,       5758,  1347.2,   4.8828,  35.0330,2,  35.0327,2,    239.6,2,   239.7,2,   12.97,2,   18.94,2,    0.00,2,    1.19,2,-999.000,9,-999.000,9,-999.0000,9,  -999.0,9, -999.00,9, -999.000,9,  -999.00,-999.00000,9,  -999.00, -999.00,9, -999.00,9, -999.00, -999.00,9,-999.000,9, -999.00,9, -999.00,9,     -999.0,9, 20210502,     1405,  22.3268, -65.8879,     4.8812,2,     0.0429,1,     4.6811,1,     -999.0,9,     -999.0,9,     -999.0,9
325020210420,        A22,      45,          1,         16,         16,2,20210502,       1224,    22.3268,   -65.8879,       5758,  1479.3,   4.5112,  35.0157,2,  35.0155,2,    248.8,2,   249.1,2,   12.78,2,   18.36,2,    0.00,2,    1.15,2,-999.000,9,-999.000,9,-999.0000,9,  -999.0,9, -999.00,9, -999.000,9,  -999.00,-999.00000,9,  -999.00, -999.00,9, -999.00,9, -999.00, -999.00,9,-999.000,9, -999.00,9, -999.00,9,     -999.0,9, 20210502,     1402,  22.3268, -65.8879,     4.5111,2,     0.0422,1,     4.6808,1,     -999.0,9,     -999.0,9,     -999.0,9
325020210420,        A22,      45,          1,         15,         15,2,20210502,       1224,    22.3268,   -65.8879,       5758,  1682.5,   4.1268,  34.9968,2,  34.9974,2,    255.4,2,   255.7,2,   13.26,2,   18.12,2,    0.00,2,    1.14,2,   1.936,2,   0.974,2,   0.4800,2,  2165.5,2, 2307.45,2, -999.000,9,  -999.00,   7.72493,2,    25.02, -999.00,9, -999.00,9, -999.00, -999.00,9,-999.000,9, -999.00,9, -999.00,9,      13.67,2, 20210502,     1357,  22.3268, -65.8879,     4.1261,2,     0.0421,1,     4.6813,1,     -999.0,9,     -999.0,9,     -999.0,9
325020210420,        A22,      45,          1,         14,         14,2,20210502,       1224,    22.3268,   -65.8879,       5758,  1885.4,   3.8166,  34.9803,2,  34.9813,2,    258.9,2,   259.3,2,   14.53,2,   18.06,2,    0.00,2,    1.14,2,-999.000,9,-999.000,9,-999.0000,9,  -999.0,9, -999.00,9, -999.000,9,  -999.00,-999.00000,9,  -999.00, -999.00,9, -999.00,9, -999.00, -999.00,9,-999.000,9, -999.00,9, -999.00,9,     -999.0,9, 20210502,     1351,  22.3268, -65.8879,     3.8162,2,     0.0416,1,     4.6810,1,     -999.0,9,     -999.0,9,     -999.0,9
325020210420,        A22,      45,          1,         13,         13,2,20210502,       1224,    22.3268,   -65.8879,       5758,  2109.0,   3.5286,  34.9668,2,  34.9683,2,    260.8,2,   261.1,2,   16.38,2,   18.13,2,    0.00,2,    1.15,2,   1.303,2,   0.645,2,   0.2000,2,  2163.2,2, 2308.67,2, -999.000,9,  -999.00,     7.734,2,    25.02, -999.00,9, -999.00,9, -999.00, -999.00,9,-999.000,9, -999.00,9, -999.00,9,      13.31,2, 20210502,     1346,  22.3268, -65.8879,     3.5270,2,     0.0429,1,     4.6813,1,     -999.0,9,     -999.0,9,     -999.0,9
325020210420,        A22,      45,          1,         12,         12,2,20210502,       1224,    22.3268,   -65.8879,       5758,  2363.5,   3.2456,  34.9540,2,  34.9551,2,    261.3,2,   261.9,2,   18.82,2,   18.24,2,    0.00,2,    1.16,2,-999.000,9,-999.000,9,-999.0000,9,  -999.0,9, -999.00,9, -999.000,9,  -999.00,-999.00000,9,  -999.00, -999.00,9, -999.00,9, -999.00, -999.00,9,-999.000,9, -999.00,9, -999.00,9,     -999.0,9, 20210502,     1340,  22.3268, -65.8879,     3.2475,2,     0.0421,1,     4.6811,1,     -999.0,9,     -999.0,9,     -999.0,9
325020210420,        A22,      45,          1,         11,         11,2,20210502,       1224,    22.3268,   -65.8879,       5758,  2617.8,   3.0255,  34.9429,2,  34.9431,2,    261.8,2,   262.0,2,   21.07,2,   18.38,2,    0.00,2,    1.18,2,-999.000,9,-999.000,9,-999.0000,9,  -999.0,9, -999.00,9, -999.000,9,  -999.00,-999.00000,9,  -999.00, -999.00,9, -999.00,9, -999.00, -999.00,9,-999.000,9, -999.00,9, -999.00,9,     -999.0,9, 20210502,     1333,  22.3268, -65.8879,     3.0240,2,     0.0421,1,     4.6812,1,     -999.0,9,     -999.0,9,     -999.0,9
325020210420,        A22,      45,          1,         10,         10,2,20210502,       1224,    22.3268,   -65.8879,       5758,  2872.5,   2.8714,  34.9373,2,  34.9372,2,    258.3,2,   258.8,2,   25.65,2,   19.07,2,    0.00,2,    1.23,2,-999.000,9,-999.000,9,-999.0000,9,  -999.0,9, -999.00,9, -999.000,9,  -999.00,-999.00000,9,  -999.00, -999.00,9, -999.00,9, -999.00, -999.00,9,-999.000,9, -999.00,9, -999.00,9,     -999.0,9, 20210502,     1327,  22.3268, -65.8879,     2.8708,2,     0.0428,1,     4.6812,1,     -999.0,9,     -999.0,9,     -999.0,9
325020210420,        A22,      45,          1,          9,          9,2,20210502,       1224,    22.3268,   -65.8879,       5758,  3143.0,   2.6810,  34.9238,2,  34.9237,2,    258.9,2,   259.3,2,   28.19,2,   19.28,2,    0.00,2,    1.25,2,   0.434,2,   0.224,2,   0.0700,2,  2168.0,2, 2323.31,6, -999.000,9,  -999.00,   7.73933,2,    25.01, -999.00,9, -999.00,9, -999.00, -999.00,9,-999.000,9, -999.00,9, -999.00,9,      13.32,2, 20210502,     1321,  22.3268, -65.8879,     2.6803,2,     0.0427,1,     4.6815,1,     -999.0,9,     -999.0,9,     -999.0,9
325020210420,        A22,      45,          1,          8,          8,2,20210502,       1224,    22.3268,   -65.8879,       5758,  3449.4,   2.4780,  34.9075,2,  34.9073,2,    267.1,2,   267.3,2,   24.97,2,   18.12,2,    0.00,2,    1.18,2,-999.000,9,-999.000,9,-999.0000,9,  -999.0,9, -999.00,9, -999.000,9,  -999.00,-999.00000,9,  -999.00, -999.00,9, -999.00,9, -999.00, -999.00,9,-999.000,9, -999.00,9, -999.00,9,     -999.0,9, 20210502,     1315,  22.3268, -65.8879,     2.4787,2,     0.0427,1,     4.6799,1,     -999.0,9,     -999.0,9,     -999.0,9
325020210420,        A22,      45,          1,          7,          7,2,20210502,       1224,    22.3268,   -65.8879,       5758,  3756.3,   2.3730,  34.8993,2,  34.8987,2,    267.2,2,   267.5,2,   27.02,2,   18.32,2,    0.00,2,    1.20,2,-999.000,9,-999.000,9,-999.0000,9,  -999.0,9, -999.00,9, -999.000,9,  -999.00,-999.00000,9,  -999.00, -999.00,9, -999.00,9, -999.00, -999.00,9,-999.000,9, -999.00,9, -999.00,9,     -999.0,9, 20210502,     1308,  22.3268, -65.8879,     2.3730,2,     0.0428,1,     4.6797,1,     -999.0,9,     -999.0,9,     -999.0,9
325020210420,        A22,      45,          1,          6,          6,2,20210502,       1224,    22.3268,   -65.8879,       5758,  4063.6,   2.3135,  34.8931,2,  34.8930,2,    266.3,2,   266.5,2,   29.26,2,   18.52,2,    0.00,2,    1.23,2,-999.000,9,-999.000,9,-999.0000,9,  -999.0,9, -999.00,9, -999.000,9,  -999.00,-999.00000,9,  -999.00, -999.00,9, -999.00,9, -999.00, -999.00,9,-999.000,9, -999.00,9, -999.00,9,     -999.0,9, 20210502,     1301,  22.3268, -65.8879,     2.3142,2,     0.0421,1,     4.6789,1,     -999.0,9,     -999.0,9,     -999.0,9
325020210420,        A22,      45,          1,          5,          5,2,20210502,       1224,    22.3268,   -65.8879,       5758,  4371.8,   2.2926,  34.8886,2,  34.8890,2,    264.8,2,   265.0,2,   31.50,2,   18.88,2,    0.00,2,    1.25,2,-999.000,9,-999.000,9,-999.0000,9,  -999.0,9, -999.00,9, -999.000,9,  -999.00,-999.00000,9,  -999.00, -999.00,9, -999.00,9, -999.00, -999.00,9,-999.000,9, -999.00,9, -999.00,9,     -999.0,9, 20210502,     1256,  22.3268, -65.8879,     2.2925,2,     0.0423,1,     4.6790,1,     -999.0,9,     -999.0,9,     -999.0,9
325020210420,        A22,      45,          1,          4,          4,2,20210502,       1224,    22.3268,   -65.8879,       5758,  4715.5,   2.2716,  34.8829,2,  34.8831,2,    262.1,2,   262.5,2,   35.11,2,   19.51,2,    0.00,2,    1.29,2,   0.796,2,   0.410,2,   0.1900,2,  2178.4,2, 2324.54,2, -999.000,9,  -999.00,   7.72991,6,    25.02, -999.00,9, -999.00,9, -999.00, -999.00,9,-999.000,9, -999.00,9, -999.00,9,      13.75,2, 20210502,     1248,  22.3268, -65.8879,     2.2720,2,     0.0431,1,     4.6774,1,     -999.0,9,     -999.0,9,     -999.0,9
325020210420,        A22,      45,          1,          3,          3,2,20210502,       1224,    22.3268,   -65.8879,       5758,  5127.5,   2.2141,  34.8707,2,  34.8703,2,    256.5,2,   256.8,2,   42.82,2,   20.77,2,    0.00,2,    1.38,2,   0.430,2,   0.232,2,   0.1000,2,  2187.2,2, 2331.18,2, -999.000,9,  -999.00,   7.72743,6,    25.03, -999.00,9, -999.00,9, -999.00, -999.00,9,-999.000,9, -999.00,9, -999.00,9,      13.50,2, 20210502,     1240,  22.3268, -65.8879,     2.2142,2,     0.0431,1,     4.6769,1,     -999.0,9,     -999.0,9,     -999.0,9