BOTTLE,20230513CCHSIOCBG
EXPOCODE,SECT_ID,STNNBR,CASTNO,SAMPNO,BTLNBR,BTLNBR_FLAG_W,DATE,TIME,LATITUDE,LONGITUDE,DEPTH,CTDPRS,CTDTMP,CTDSAL,CTDSAL_FLAG_W,SALNTY,SALNTY_FLAG_W,CTDOXY,CTDOXY_FLAG_W,OXYGEN,OXYGEN_FLAG_W,SILCAT,SILCAT_FLAG_W,NITRAT,NITRAT_FLAG_W,NITRIT,NITRIT_FLAG_W,PHSPHT,PHSPHT_FLAG_W,CFC-11,CFC-11_FLAG_W,CFC-12,CFC-12_FLAG_W,SF6,SF6_FLAG_W,TCARBN,TCARBN_FLAG_W,ALKALI,ALKALI_FLAG_W,FCO2,FCO2_FLAG_W,FCO2TMP,PH_TOT,PH_TOT_FLAG_W,PH_TMP,DELC13,DELC13_FLAG_W,DELC14,DELC14_FLAG_W,C14ERR,DELO18,DELO18_FLAG_W,POC,POC_FLAG_W,DOC,DOC_FLAG_W,TDN,TDN_FLAG_W,N2O,N2O_FLAG_W,BTL_DATE,BTL_TIME,BTL_LAT,BTL_LON,REFTMP,REFTMP_FLAG_W,CTDFLUOR,CTDFLUOR_FLAG_W,CTDXMISS,CTDXMISS_FLAG_W,D15N_NO2+NO3,D15N_NO2+NO3_FLAG_W,D18O_NO2+NO3,D18O_NO2+NO3_FLAG_W,HPLC,HPLC_FLAG_W
,,,,,,,,,,,METERS,DBAR,ITS-90,PSS-78,,PSS-78,,UMOL/KG,,UMOL/KG,,UMOL/KG,,UMOL/KG,,UMOL/KG,,UMOL/KG,,PMOL/KG,,PMOL/KG,,FMOL/KG,,UMOL/KG,,UMOL/KG,,UATM,,DEG C,,,DEG C,/MILLE,,/MILLE,,/MILLE,/MILLE,,UG/KG,,UMOL/KG,,UMOL/KG,,NMOL/KG,,,,,,ITS-90,,VOLTS,,VOLTS,,/MILLE,,/MILLE,,,
325020210420,        A22,      34,          1,         36,         36,2,20210429,       0847,    18.8381,   -66.0017,       2529,     5.9,  26.8548,  36.1105,2,  36.1132,2,    202.3,2,   201.0,2,    1.56,2,    0.00,2,    0.00,2,    0.00,2,   1.454,2,   0.959,2,   1.7000,2,  2033.9,6, 2363.49,2, -999.000,9,  -999.00,   8.09437,2,    24.99, -999.00,9, -999.00,9, -999.00, -999.00,1,-999.000,9,   73.60,2,    4.73,2,       5.82,2, 20210429,     1025,  18.8381, -66.0017,    26.8512,2,     0.0441,1,     4.6357,1,     -999.0,9,     -999.0,9,     -999.0,9
325020210420,        A22,      34,          1,         35,         35,2,20210429,       0847,    18.8381,   -66.0017,       2529,    20.5,  26.8666,  36.1156,2,  36.1256,2,    202.2,2,   201.3,2,    1.56,2,    0.00,2,    0.00,2,    0.00,2,-999.000,9,-999.000,9,-999.0000,9,  2035.1,2, 2365.25,2, -999.000,9,  -999.00,   8.09452,6,    24.99, -999.00,9, -999.00,9, -999.00, -999.00,9,-999.000,9,   72.30,2,    4.40,2,     -999.0,9, 20210429,     1024,  18.8381, -66.0017,    26.8640,2,     0.0438,1,     4.6338,1,     -999.0,9,     -999.0,9,     -999.0,9
325020210420,        A22,      34,          1,         34,         34,2,20210429,       0847,    18.8381,   -66.0017,       2529,    40.1,  26.4405,  36.5563,2,  36.5652,2,    205.2,2,   204.3,2,    1.27,2,    0.00,2,    0.00,2,    0.00,2,-999.000,9,-999.000,9,-999.0000,9,  2048.6,2, 2393.49,6, -999.000,9,  -999.00,   8.09652,2,    24.99, -999.00,9, -999.00,9, -999.00, -999.00,9,-999.000,9,   75.00,2,    4.01,2,     -999.0,9, 20210429,     1023,  18.8381, -66.0017,    26.4396,2,     0.0476,1,     4.6354,1,     -999.0,9,     -999.0,9,     -999.0,9
325020210420,        A22,      34,          1,         33,         33,2,20210429,       0847,    18.8381,   -66.0017,       2529,    65.5,  26.1924,  36.6938,2,  36.6977,2,    205.1,2,   204.1,2,    1.07,2,    0.00,2,    0.00,2,    0.00,2,-999.000,9,-999.000,9,-999.0000,9,  2054.7,2, 2401.23,2, -999.000,9,  -999.00,   8.09987,2,    24.98, -999.00,9, -999.00,9, -999.00, -999.00,9,-999.000,9,   78.80,3,    4.03,2,     -999.0,9, 20210429,     1021,  18.8381, -66.0017,    26.1918,2,     0.0503,1,     4.6379,1,     -999.0,9,     -999.0,9,     -999.0,9
325020210420,        A22,      34,          1,         32,         32,2,20210429,       0847,    18.8381,   -66.0017,       2529,    90.4,  25.7491,  36.8628,2,  36.8699,2,    201.3,2,   201.5,2,    0.97,2,    0.00,2,    0.00,2,    0.00,2,-999.000,9,-999.000,9,-999.0000,9,  2073.7,2, 2411.73,2, -999.000,9,  -999.00,    8.0845,2,    25.02, -999.00,9, -999.00,9, -999.00, -999.00,9,-999.000,9,   70.10,2,    3.89,2,     -999.0,9, 20210429,     1019,  18.8381, -66.0017,    25.7467,2,     0.0587,1,     4.6365,1,     -999.0,9,     -999.0,9,     -999.0,9
325020210420,        A22,      34,          1,         31,         31,2,20210429,       0847,    18.8381,   -66.0017,       2529,   115.4,  24.5842,  37.1707,2,  37.1783,2,    195.1,2,   196.3,2,    0.88,2,    0.00,2,    0.02,2,    0.00,2,   1.627,2,   1.065,2,   1.7200,2,  2109.8,2, 2429.46,2, -999.000,9,  -999.00,   8.05293,2,    24.98, -999.00,9, -999.00,9, -999.00, -999.00,1,-999.000,9,   64.70,2,    3.71,2,       6.59,2, 20210429,     1017,  18.8381, -66.0017,    24.5616,2,     0.0788,1,     4.6397,1,     -999.0,9,     -999.0,9,     -999.0,9
325020210420,        A22,      34,          1,         30,         30,2,20210429,       0847,    18.8381,   -66.0017,       2529,   140.8,  23.0680,  37.1480,2,  37.1471,2,    187.1,2,   187.9,2,    0.58,2,    0.34,2,    0.04,2,    0.00,2,-999.000,9,-999.000,9,-999.0000,9,  2128.8,2, 2424.13,2, -999.000,9,  -999.00,   8.02022,2,    24.99, -999.00,9, -999.00,9, -999.00, -999.00,9,-999.000,9,   57.40,2,    4.04,2,     -999.0,9, 20210429,     1015,  18.8381, -66.0017,    23.0730,2,     0.0723,1,     4.6477,1,     -999.0,9,     -999.0,9,     -999.0,9
325020210420,        A22,      34,          1,         29,         29,2,20210429,       0847,    18.8381,   -66.0017,       2529,   165.8,  21.8072,  37.0662,2,  37.0513,2,    172.8,2,   173.9,2,    0.68,2,    1.76,2,    0.01,2,    0.05,2,-999.000,9,-999.000,9,-999.0000,9,  2149.4,2, 2420.05,2, -999.000,9,  -999.00,   7.97528,2,    25.01, -999.00,9, -999.00,9, -999.00, -999.00,9,-999.000,9,   55.50,2,    5.13,2,     -999.0,9, 20210429,     1013,  18.8381, -66.0017,    21.8083,2,     0.0517,1,     4.6620,1,     -999.0,9,     -999.0,9,     -999.0,9
325020210420,        A22,      34,          1,         28,         28,2,20210429,       0847,    18.8381,   -66.0017,       2529,   191.2,  20.5050,  36.9013,2,  36.9022,2,    178.6,2,   179.2,2,    0.88,2,    2.10,2,    0.00,2,    0.05,2,-999.000,9,-999.000,9,-999.0000,9,  2144.3,2, 2408.59,2, -999.000,9,  -999.00,   7.96612,2,    24.96, -999.00,9, -999.00,9, -999.00, -999.00,9,-999.000,9,   52.50,2,    5.10,2,     -999.0,9, 20210429,     1011,  18.8381, -66.0017,    20.5347,2,     0.0436,1,     4.6687,1,     -999.0,9,     -999.0,9,     -999.0,9
325020210420,        A22,      34,          1,         27,         27,2,20210429,       0847,    18.8381,   -66.0017,       2529,   216.1,  19.7225,  36.7748,2,  36.7756,2,    180.5,2,   182.1,2,    1.07,2,    3.03,2,    0.00,2,    0.10,2,-999.000,9,-999.000,9,-999.0000,9,  2140.1,2, 2401.82,2, -999.000,9,  -999.00,   7.95436,2,    25.07, -999.00,9, -999.00,9, -999.00, -999.00,9,-999.000,9,   51.30,2,    6.03,2,     -999.0,9, 20210429,     1009,  18.8381, -66.0017,    19.7203,2,     0.0402,1,     4.6723,1,     -999.0,9,     -999.0,9,     -999.0,9
325020210420,        A22,      34,          1,         26,         26,2,20210429,       0847,    18.8381,   -66.0017,       2529,   241.4,  19.0891,  36.6810,2,  36.6764,2,    185.4,2,   186.5,2,    1.36,2,    3.83,2,    0.00,2,    0.15,2,-999.000,9,-999.000,9,-999.0000,9,  2140.6,2, 2395.46,2, -999.000,9,  -999.00,   7.95222,2,    25.03, -999.00,9, -999.00,9, -999.00, -999.00,9,-999.000,9,   48.80,2,    6.41,2,     -999.0,9, 20210429,     1007,  18.8381, -66.0017,    19.0703,2,     0.0394,1,     4.6734,1,     -999.0,9,     -999.0,9,     -999.0,9
325020210420,        A22,      34,          1,         25,         25,2,20210429,       0847,    18.8381,   -66.0017,       2529,   286.4,  18.1248,  36.5264,2,  36.5280,2,    183.6,2,   183.1,2,    1.56,2,    5.83,2,    0.00,2,    0.28,2,   2.099,2,   1.328,2,   1.7300,2,  2142.2,2, 2385.44,2, -999.000,9,  -999.00,   7.93129,2,    24.93, -999.00,9, -999.00,9, -999.00, -999.00,9,-999.000,9,   47.40,2, -999.00,1,       9.82,2, 20210429,     1005,  18.8381, -66.0017,    18.1234,2,     0.0391,1,     4.6754,1,     -999.0,9,     -999.0,9,     -999.0,9
325020210420,        A22,      34,          1,         24,         24,2,20210429,       0847,    18.8381,   -66.0017,       2529,   337.2,  17.0644,  36.3527,2,  36.3475,2,    175.3,2,   175.7,2,    2.53,2,    8.23,2,    0.00,2,    0.43,2,-999.000,9,-999.000,9,-999.0000,9,  2150.4,2, 2374.15,2, -999.000,9,  -999.00,   7.89768,2,    25.03, -999.00,9, -999.00,9, -999.00, -999.00,9,-999.000,9,   46.50,2, -999.00,1,     -999.0,9, 20210429,     1001,  18.8381, -66.0017,    17.0556,2,     0.0405,1,     4.6764,1,     -999.0,9,     -999.0,9,     -999.0,9
325020210420,        A22,      34,          1,         23,         23,2,20210429,       0847,    18.8381,   -66.0017,       2529,   387.3,  15.7444,  36.1390,2,  36.1387,2,    167.4,2,   167.0,2,    3.70,2,   11.22,2,    0.00,2,    0.60,2,-999.000,9,-999.000,9,-999.0000,9,  2163.7,6, 2362.05,2, -999.000,9,  -999.00,   7.85424,2,    24.95, -999.00,9, -999.00,9, -999.00, -999.00,9,-999.000,9,   47.40,2, -999.00,1,     -999.0,9, 20210429,     1000,  18.8381, -66.0017,    15.7509,2,     0.0407,1,     4.6781,1,     -999.0,9,     -999.0,9,     -999.0,9
325020210420,        A22,      34,          1,         22,         22,4,20210429,       0847,    18.8381,   -66.0017,       2529,   437.8,  14.6310,  35.9552,3,-999.0000,9,    153.7,3,  -999.0,9, -999.00,9, -999.00,9, -999.00,9, -999.00,9,-999.000,9,-999.000,9,-999.0000,9,  -999.0,9, -999.00,9, -999.000,9,  -999.00,-999.00000,9,  -999.00, -999.00,9, -999.00,9, -999.00, -999.00,9,-999.000,9, -999.00,9, -999.00,9,     -999.0,9, 20210429,      958,  18.8381, -66.0017,    14.6321,3,     0.0408,1,     4.6790,1,     -999.0,9,     -999.0,9,     -999.0,9
325020210420,        A22,      34,          1,         21,         21,2,20210429,       0847,    18.8381,   -66.0017,       2529,   489.1,  13.5317,  35.7978,2,  35.7880,2,    151.3,2,   150.1,2,    6.34,2,   16.54,2,    0.00,2,    0.91,2,   2.157,6,   1.260,6,   1.0900,6,  2181.9,2, 2343.34,2, -999.000,9,  -999.00,   7.77267,2,    25.04, -999.00,9, -999.00,9, -999.00, -999.00,9,-999.000,9,   46.50,2, -999.00,1,      17.39,6, 20210429,      955,  18.8381, -66.0017,    13.5156,2,     0.0405,1,     4.6800,1,     -999.0,9,     -999.0,9,     -999.0,9
325020210420,        A22,      34,          1,         20,         20,2,20210429,       0847,    18.8381,   -66.0017,       2529,   569.8,  11.2442,  35.4114,2,  35.4091,2,    129.6,2,   129.5,2,   10.73,2,   23.03,2,    0.00,2,    1.39,2,-999.000,9,-999.000,9,-999.0000,9,  2197.2,2, 2324.88,2, -999.000,9,  -999.00,   7.68577,6,    25.07, -999.00,9, -999.00,9, -999.00, -999.00,9,-999.000,9,   44.80,2, -999.00,1,     -999.0,9, 20210429,      952,  18.8381, -66.0017,    11.2376,2,     0.0408,1,     4.6801,1,     -999.0,9,     -999.0,9,     -999.0,9
325020210420,        A22,      34,          1,         19,         19,2,20210429,       0847,    18.8381,   -66.0017,       2529,   670.2,   9.4773,  35.1728,2,  35.1733,2,    127.2,2,   127.7,2,   14.83,2,   26.54,2,    0.00,2,    1.64,2,-999.000,9,-999.000,9,-999.0000,9,  2207.6,2, 2317.04,6, -999.000,9,  -999.00,   7.64075,2,    24.89, -999.00,9, -999.00,9, -999.00, -999.00,9,-999.000,9,   40.20,2, -999.00,1,     -999.0,9, 20210429,      948,  18.8381, -66.0017,     9.4785,2,     0.0417,1,     4.6813,1,     -999.0,9,     -999.0,9,     -999.0,9
325020210420,        A22,      34,          1,         18,         18,2,20210429,       0847,    18.8381,   -66.0017,       2529,   771.9,   8.3104,  35.0577,2,  35.0581,2,    130.7,2,   131.2,2,   17.56,2,   28.11,2,    0.00,2,    1.78,2,-999.000,9,-999.000,9,-999.0000,9,  2210.2,2, 2311.97,2, -999.000,9,  -999.00,   7.62305,2,    24.98, -999.00,9, -999.00,9, -999.00, -999.00,9,-999.000,9,   41.40,2, -999.00,1,     -999.0,9, 20210429,      945,  18.8381, -66.0017,     8.3099,2,     0.0417,1,     4.6825,1,     -999.0,9,     -999.0,9,     -999.0,9
325020210420,        A22,      34,          1,         17,         17,2,20210429,       0847,    18.8381,   -66.0017,       2529,   871.4,   6.7065,  34.9135,2,  34.9134,2,    140.2,2,   140.2,2,   21.57,2,   29.63,2,    0.00,2,    1.91,2,   0.437,2,   0.248,2,   0.2400,2,  2214.1,2, 2310.03,2, -999.000,9,  -999.00,   7.60354,2,    24.95, -999.00,9, -999.00,9, -999.00, -999.00,9,-999.000,9,   40.20,2, -999.00,1,      22.94,2, 20210429,      940,  18.8381, -66.0017,     6.7030,2,     0.0420,1,     4.6831,1,     -999.0,9,     -999.0,9,     -999.0,9
325020210420,        A22,      34,          1,         16,         16,2,20210429,       0847,    18.8381,   -66.0017,       2529,   973.4,   6.0076,  34.9291,2,  34.9301,2,    161.3,2,   161.5,2,   21.37,2,   27.65,2,    0.00,2,    1.81,2,-999.000,9,-999.000,9,-999.0000,9,  2208.7,2, 2311.36,2, -999.000,9,  -999.00,   7.62777,2,    24.92, -999.00,9, -999.00,9, -999.00, -999.00,9,-999.000,9,   41.40,2, -999.00,1,     -999.0,9, 20210429,      938,  18.8381, -66.0017,     6.0062,2,     0.0421,1,     4.6828,1,     -999.0,9,     -999.0,9,     -999.0,9
325020210420,        A22,      34,          1,         15,         15,2,20210429,       0847,    18.8381,   -66.0017,       2529,  1074.0,   5.6779,  35.0118,2,  35.0132,2,    195.8,2,   195.9,2,   17.47,2,   23.16,2,    0.00,2,    1.52,2,   1.003,2,   0.530,2,   0.3700,2,  2193.8,6, 2315.89,2, -999.000,9,  -999.00,   7.67634,2,    24.95, -999.00,9, -999.00,9, -999.00, -999.00,9,-999.000,9,   42.50,2, -999.00,1,      17.56,2, 20210429,      935,  18.8381, -66.0017,     5.6771,2,     0.0418,1,     4.6839,1,     -999.0,9,     -999.0,9,     -999.0,9
325020210420,        A22,      34,          1,         14,         14,2,20210429,       0847,    18.8381,   -66.0017,       2529,  1176.0,   5.2489,  35.0319,2,  35.0329,2,    220.3,2,   220.4,2,   15.03,2,   20.65,2,    0.00,2,    1.37,2,-999.000,9,-999.000,9,-999.0000,9,  2180.6,2, 2312.54,2, -999.000,9,  -999.00,   7.69982,6,    24.98, -999.00,9, -999.00,9, -999.00, -999.00,9,-999.000,9,   42.60,2, -999.00,1,     -999.0,9, 20210429,      932,  18.8381, -66.0017,     5.2483,2,     0.0422,1,     4.6839,1,     -999.0,9,     -999.0,9,     -999.0,9
325020210420,        A22,      34,          1,         13,         13,2,20210429,       0847,    18.8381,   -66.0017,       2529,  1276.7,   4.9047,  35.0303,2,  35.0309,2,    236.5,2,   236.6,2,   13.47,2,   19.21,2,    0.00,2,    1.27,2,   1.945,2,   1.017,2,   0.7000,2,  2181.5,2, 2311.13,2, -999.000,9,  -999.00,   7.70939,2,    25.01, -999.00,9, -999.00,9, -999.00, -999.00,9,-999.000,9,   43.30,2, -999.00,1,      14.73,2, 20210429,      928,  18.8381, -66.0017,     4.9048,2,     0.0411,1,     4.6825,1,     -999.0,9,     -999.0,9,     -999.0,9
325020210420,        A22,      34,          1,         12,         12,2,20210429,       0847,    18.8381,   -66.0017,       2529,  1378.1,   4.6046,  35.0209,2,  35.0218,2,    246.1,2,   246.3,2,   12.98,2,   18.54,2,    0.00,2,    1.22,2,   2.064,2,   1.079,2,   0.6700,2,  2175.8,2, 2308.73,2, -999.000,9,  -999.00,   7.71643,2,    24.93, -999.00,9, -999.00,9, -999.00, -999.00,9,-999.000,9,   43.50,2, -999.00,1,      14.12,2, 20210429,      924,  18.8381, -66.0017,     4.6044,2,     0.0419,1,     4.6838,1,     -999.0,9,     -999.0,9,     -999.0,9
325020210420,        A22,      34,          1,         11,         11,2,20210429,       0847,    18.8381,   -66.0017,       2529,  1478.5,   4.3378,  35.0073,2,  35.0077,2,    251.5,2,   251.7,2,   13.27,2,   18.31,2,    0.00,2,    1.20,2,   2.009,2,   1.035,2,   0.5800,2,  2173.3,2, 2310.61,2, -999.000,9,  -999.00,   7.71921,2,    24.97, -999.00,9, -999.00,9, -999.00, -999.00,9,-999.000,9,   43.40,2, -999.00,1,      13.88,2, 20210429,      922,  18.8381, -66.0017,     4.3364,2,     0.0424,1,     4.6839,1,     -999.0,9,     -999.0,9,     -999.0,9
325020210420,        A22,      34,          1,         10,         10,2,20210429,       0847,    18.8381,   -66.0017,       2529,  1580.9,   4.1787,  34.9984,2,  34.9982,2,    254.3,2,   254.5,2,   13.56,2,   18.21,2,    0.00,2,    1.19,2,-999.000,9,-999.000,9,-999.0000,9,  2172.3,2, 2308.47,2, -999.000,9,  -999.00,   7.72114,2,    25.03, -999.00,9, -999.00,9, -999.00, -999.00,9,-999.000,9,   42.90,2, -999.00,1,     -999.0,9, 20210429,      918,  18.8381, -66.0017,     4.1777,2,     0.0421,1,     4.6837,1,     -999.0,9,     -999.0,9,     -999.0,9
325020210420,        A22,      34,          1,          9,          9,2,20210429,       0847,    18.8381,   -66.0017,       2529,  1681.8,   3.9756,  34.9893,2,  34.9894,2,    256.9,2,   257.3,2,   14.05,2,   18.09,2,    0.00,2,    1.19,2,   1.799,2,   0.900,2,   0.5200,2,  2170.0,2, 2311.16,2, -999.000,9,  -999.00,   7.72644,2,    25.00, -999.00,9, -999.00,9, -999.00, -999.00,9,-999.000,9,   43.80,2, -999.00,1,      13.55,2, 20210429,      915,  18.8381, -66.0017,     3.9746,2,     0.0427,1,     4.6848,1,     -999.0,9,     -999.0,9,     -999.0,9
325020210420,        A22,      34,          1,          8,          8,2,20210429,       0847,    18.8381,   -66.0017,       2529,  1783.3,   3.8449,  34.9818,2,  34.9817,2,    258.4,2,   258.7,2,   14.54,2,   18.05,2,    0.00,2,    1.20,2,-999.000,9,-999.000,9,-999.0000,9,  2169.0,2, 2308.56,2, -999.000,9,  -999.00,   7.72722,2,    25.03, -999.00,9, -999.00,9, -999.00, -999.00,9,-999.000,9,   43.60,2, -999.00,1,     -999.0,9, 20210429,      911,  18.8381, -66.0017,     3.8444,2,     0.0429,1,     4.6848,1,     -999.0,9,     -999.0,9,     -999.0,9
325020210420,        A22,      34,          1,          7,          7,2,20210429,       0847,    18.8381,   -66.0017,       2529,  1885.3,   3.7330,  34.9743,2,  34.9750,2,    259.5,2,   259.7,2,   15.12,2,   18.05,2,    0.00,2,    1.19,2,   1.620,2,   0.811,2,   0.4300,2,  2169.2,2, 2309.44,2, -999.000,9,  -999.00,   7.72896,2,    24.93, -999.00,9, -999.00,9, -999.00, -999.00,9,-999.000,9,   43.80,2, -999.00,1,      13.50,2, 20210429,      908,  18.8381, -66.0017,     3.7326,2,     0.0422,1,     4.6839,1,     -999.0,9,     -999.0,9,     -999.0,9
325020210420,        A22,      34,          1,          6,          6,2,20210429,       0847,    18.8381,   -66.0017,       2529,  1986.4,   3.6195,  34.9687,2,  34.9697,2,    260.3,2,   260.6,2,   15.81,2,   18.04,2,    0.00,2,    1.19,2,-999.000,9,-999.000,9,-999.0000,9,  2171.5,2, 2308.06,2, -999.000,9,  -999.00,   7.73074,2,    25.00, -999.00,9, -999.00,9, -999.00, -999.00,9,-999.000,9,   44.30,2, -999.00,1,     -999.0,9, 20210429,      905,  18.8381, -66.0017,     3.6189,2,     0.0428,1,     4.6839,1,     -999.0,9,     -999.0,9,     -999.0,9
325020210420,        A22,      34,          1,          5,          5,2,20210429,       0847,    18.8381,   -66.0017,       2529,  2108.3,   3.5183,  34.9642,2,  34.9640,2,    260.9,2,   261.1,2,   16.49,2,   18.10,2,    0.00,2,    1.20,2,   1.408,2,   0.705,2,   0.3400,2,  2171.6,2, 2309.51,2, -999.000,9,  -999.00,   7.73225,2,    24.97, -999.00,9, -999.00,9, -999.00, -999.00,9,-999.000,9,   43.20,2, -999.00,1,      13.40,2, 20210429,      901,  18.8381, -66.0017,     3.5181,2,     0.0416,1,     4.6843,1,     -999.0,9,     -999.0,9,     -999.0,9
325020210420,        A22,      34,          1,          4,          4,2,20210429,       0847,    18.8381,   -66.0017,       2529,  2235.3,   3.3807,  34.9586,2,  34.9587,2,    261.3,2,   261.8,2,   17.66,2,   18.12,2,    0.00,2,    1.20,2,   1.246,2,   0.625,2,   0.3600,2,  2170.1,2, 2310.88,2, -999.000,9,  -999.00,    7.7352,2,    24.98, -999.00,9, -999.00,9, -999.00, -999.00,9,-999.000,9,   42.70,2, -999.00,1,      13.37,2, 20210429,      857,  18.8381, -66.0017,     3.3799,2,     0.0423,1,     4.6844,1,     -999.0,9,     -999.0,9,     -999.0,9
325020210420,        A22,      34,          1,          3,          3,2,20210429,       0847,    18.8381,   -66.0017,       2529,  2361.8,   3.2695,  34.9536,2,  34.9543,2,    261.6,2,   261.9,2,   18.64,2,   18.16,2,    0.00,2,    1.20,2,   1.153,2,   0.575,2,   0.3100,2,  2171.0,2, 2310.44,2, -999.000,9,  -999.00,   7.73538,6,    24.96, -999.00,9, -999.00,9, -999.00, -999.00,9,-999.000,9,   42.70,2, -999.00,1,      13.25,2, 20210429,      854,  18.8381, -66.0017,     3.2675,2,     0.0416,1,     4.6850,1,     -999.0,9,     -999.0,9,     -999.0,9