BOTTLE,20230513CCHSIOCBG
EXPOCODE,SECT_ID,STNNBR,CASTNO,SAMPNO,BTLNBR,BTLNBR_FLAG_W,DATE,TIME,LATITUDE,LONGITUDE,DEPTH,CTDPRS,CTDTMP,CTDSAL,CTDSAL_FLAG_W,SALNTY,SALNTY_FLAG_W,CTDOXY,CTDOXY_FLAG_W,OXYGEN,OXYGEN_FLAG_W,SILCAT,SILCAT_FLAG_W,NITRAT,NITRAT_FLAG_W,NITRIT,NITRIT_FLAG_W,PHSPHT,PHSPHT_FLAG_W,CFC-11,CFC-11_FLAG_W,CFC-12,CFC-12_FLAG_W,SF6,SF6_FLAG_W,TCARBN,TCARBN_FLAG_W,ALKALI,ALKALI_FLAG_W,FCO2,FCO2_FLAG_W,FCO2TMP,PH_TOT,PH_TOT_FLAG_W,PH_TMP,DELC13,DELC13_FLAG_W,DELC14,DELC14_FLAG_W,C14ERR,DELO18,DELO18_FLAG_W,POC,POC_FLAG_W,DOC,DOC_FLAG_W,TDN,TDN_FLAG_W,N2O,N2O_FLAG_W,BTL_DATE,BTL_TIME,BTL_LAT,BTL_LON,REFTMP,REFTMP_FLAG_W,CTDFLUOR,CTDFLUOR_FLAG_W,CTDXMISS,CTDXMISS_FLAG_W,D15N_NO2+NO3,D15N_NO2+NO3_FLAG_W,D18O_NO2+NO3,D18O_NO2+NO3_FLAG_W,HPLC,HPLC_FLAG_W
,,,,,,,,,,,METERS,DBAR,ITS-90,PSS-78,,PSS-78,,UMOL/KG,,UMOL/KG,,UMOL/KG,,UMOL/KG,,UMOL/KG,,UMOL/KG,,PMOL/KG,,PMOL/KG,,FMOL/KG,,UMOL/KG,,UMOL/KG,,UATM,,DEG C,,,DEG C,/MILLE,,/MILLE,,/MILLE,/MILLE,,UG/KG,,UMOL/KG,,UMOL/KG,,NMOL/KG,,,,,,ITS-90,,VOLTS,,VOLTS,,/MILLE,,/MILLE,,,
325020210420,        A22,      67,          1,         36,         36,2,20210508,       2115,    33.3591,   -65.5961,       4768,     5.1,  20.9332,  36.6388,2,  36.6392,2,    223.7,2,   223.1,2,    0.58,2,    0.00,2,    0.00,2,    0.00,2,-999.000,9,-999.000,9,-999.0000,9,  2090.9,6, 2392.74,2, -999.000,9,  -999.00,   8.02963,2,    25.03, -999.00,9, -999.00,9, -999.00, -999.00,1,-999.000,9, -999.00,9, -999.00,9,     -999.0,9, 20210508,     2342,  33.3591, -65.5961,    20.9352,2,     0.0499,1,     4.5922,1,     -999.0,1,     -999.0,1,     -999.0,9
325020210420,        A22,      67,          1,         35,         35,2,20210508,       2115,    33.3591,   -65.5961,       4768,    20.4,  20.9422,  36.6391,2,  36.6390,2,    223.7,2,   223.5,2,    0.39,2,    0.00,2,    0.00,2,    0.00,2,-999.000,9,-999.000,9,-999.0000,9,  -999.0,9, -999.00,9, -999.000,9,  -999.00,-999.00000,9,  -999.00, -999.00,9, -999.00,9, -999.00, -999.00,9,-999.000,9, -999.00,9, -999.00,9,     -999.0,9, 20210508,     2339,  33.3591, -65.5961,    20.9438,2,     0.0495,1,     4.5938,1,     -999.0,1,     -999.0,1,     -999.0,9
325020210420,        A22,      67,          1,         34,         34,2,20210508,       2115,    33.3591,   -65.5961,       4768,    41.1,  20.8585,  36.6903,2,  36.6808,2,    224.5,2,   223.5,2,    0.49,2,    0.00,2,    0.00,2,    0.00,2,-999.000,9,-999.000,9,-999.0000,9,  -999.0,9, -999.00,9, -999.000,9,  -999.00,-999.00000,9,  -999.00, -999.00,9, -999.00,9, -999.00, -999.00,1,-999.000,9, -999.00,9, -999.00,9,     -999.0,9, 20210508,     2338,  33.3591, -65.5961,    20.8573,2,     0.0472,1,     4.5946,1,     -999.0,1,     -999.0,1,     -999.0,9
325020210420,        A22,      67,          1,         33,         33,2,20210508,       2115,    33.3591,   -65.5961,       4768,    66.2,  20.3140,  36.7318,2,  36.7314,2,    226.2,2,   226.4,2,    0.58,2,    0.00,2,    0.00,2,    0.00,2,-999.000,9,-999.000,9,-999.0000,9,  2094.2,2, 2398.02,2, -999.000,9,  -999.00,   8.03035,6,    25.03, -999.00,9, -999.00,9, -999.00, -999.00,9,-999.000,9, -999.00,9, -999.00,9,     -999.0,9, 20210508,     2335,  33.3592, -65.5962,    20.3188,2,     0.0571,1,     4.5862,1,     -999.0,1,     -999.0,1,     -999.0,9
325020210420,        A22,      67,          1,         32,         32,2,20210508,       2115,    33.3591,   -65.5961,       4768,    91.2,  19.8939,  36.7564,2,  36.7580,2,    224.1,2,   224.2,2,    0.58,2,    0.00,2,    0.00,2,    0.00,2,-999.000,9,-999.000,9,-999.0000,9,  2102.4,2, 2399.71,6, -999.000,9,  -999.00,   8.02469,2,    25.04, -999.00,9, -999.00,9, -999.00, -999.00,9,-999.000,9, -999.00,9, -999.00,9,     -999.0,9, 20210508,     2333,  33.3592, -65.5963,    19.8912,2,     0.0813,1,     4.6065,1,     -999.0,1,     -999.0,1,     -999.0,9
325020210420,        A22,      67,          1,         31,         31,2,20210508,       2115,    33.3591,   -65.5961,       4768,   138.1,  19.3201,  36.6907,2,  36.6905,2,    215.3,2,   215.2,2,    0.68,2,    1.31,2,    0.03,2,    0.02,2,-999.000,9,-999.000,9,-999.0000,9,  2111.5,2, -999.00,9, -999.000,9,  -999.00,   8.00357,2,    25.04, -999.00,9, -999.00,9, -999.00, -999.00,9,-999.000,9, -999.00,9, -999.00,9,     -999.0,9, 20210508,     2331,  33.3593, -65.5963,    19.3210,2,     0.0523,1,     4.6494,1,     -999.0,1,     -999.0,1,     -999.0,9
325020210420,        A22,      67,          1,         30,         30,2,20210508,       2115,    33.3591,   -65.5961,       4768,   188.0,  19.0950,  36.6659,2,  36.6661,2,    211.6,2,   211.6,2,    0.68,2,    2.01,2,    0.00,2,    0.04,2,-999.000,9,-999.000,9,-999.0000,9,  -999.0,9, -999.00,9, -999.000,9,  -999.00,-999.00000,9,  -999.00, -999.00,9, -999.00,9, -999.00, -999.00,9,-999.000,9, -999.00,9, -999.00,9,     -999.0,9, 20210508,     2328,  33.3592, -65.5963,    19.0947,2,     0.0397,1,     4.6558,1,     -999.0,1,     -999.0,1,     -999.0,9
325020210420,        A22,      67,          1,         29,         29,2,20210508,       2115,    33.3591,   -65.5961,       4768,   237.0,  18.4975,  36.5746,2,  36.5769,2,    198.6,2,   199.5,2,    1.17,2,    3.93,2,    0.00,2,    0.15,2,-999.000,9,-999.000,9,-999.0000,9,  2124.9,2, 2388.03,2, -999.000,9,  -999.00,   7.96536,2,    25.03, -999.00,9, -999.00,9, -999.00, -999.00,9,-999.000,9, -999.00,9, -999.00,9,     -999.0,9, 20210508,     2325,  33.3592, -65.5963,    18.4988,2,     0.0396,1,     4.6613,1,     -999.0,1,     -999.0,1,     -999.0,9
325020210420,        A22,      67,          1,         28,         28,2,20210508,       2115,    33.3591,   -65.5961,       4768,   288.0,  17.9767,  36.4801,2,  36.4798,2,    195.7,2,   195.9,2,    1.46,2,    5.03,2,    0.00,2,    0.20,2,-999.000,9,-999.000,9,-999.0000,9,  -999.0,9, -999.00,9, -999.000,9,  -999.00,-999.00000,9,  -999.00, -999.00,9, -999.00,9, -999.00, -999.00,9,-999.000,9, -999.00,9, -999.00,9,     -999.0,9, 20210508,     2323,  33.3593, -65.5963,    17.9749,2,     0.0393,1,     4.6593,1,     -999.0,1,     -999.0,1,     -999.0,9
325020210420,        A22,      67,          1,         27,         27,2,20210508,       2115,    33.3591,   -65.5961,       4768,   340.0,  17.3508,  36.3672,2,  36.3693,2,    190.9,2,   191.3,2,    1.95,2,    6.38,2,    0.00,2,    0.29,2,-999.000,9,-999.000,9,-999.0000,9,  -999.0,9, -999.00,9, -999.000,9,  -999.00,-999.00000,9,  -999.00, -999.00,9, -999.00,9, -999.00, -999.00,9,-999.000,9, -999.00,9, -999.00,9,     -999.0,9, 20210508,     2320,  33.3592, -65.5963,    17.3587,2,     0.0400,1,     4.6605,1,     -999.0,1,     -999.0,1,     -999.0,9
325020210420,        A22,      67,          1,         26,         26,2,20210508,       2115,    33.3591,   -65.5961,       4768,   388.1,  16.5300,  36.2347,2,  36.2351,2,    186.9,2,   186.8,2,    2.63,2,    8.07,2,    0.00,2,    0.41,2,-999.000,9,-999.000,9,-999.0000,9,  -999.0,9, -999.00,9, -999.000,9,  -999.00,-999.00000,9,  -999.00, -999.00,9, -999.00,9, -999.00, -999.00,9,-999.000,9, -999.00,9, -999.00,9,     -999.0,9, 20210508,     2317,  33.3592, -65.5963,    16.5281,2,     0.0407,1,     4.6618,1,     -999.0,1,     -999.0,1,     -999.0,9
325020210420,        A22,      67,          1,         25,         25,2,20210508,       2115,    33.3591,   -65.5961,       4768,   438.8,  15.6363,  36.0861,2,  36.0861,2,    186.4,2,   186.4,2,    3.22,2,    9.52,2,    0.00,2,    0.51,2,   2.249,2,   1.375,2,   1.6200,2,  2148.5,2, 2360.75,2, -999.000,9,  -999.00,   7.87574,2,    25.02, -999.00,9, -999.00,9, -999.00, -999.00,9,-999.000,9, -999.00,9, -999.00,9,      11.43,2, 20210508,     2314,  33.3592, -65.5963,    15.6325,2,     0.0401,1,     4.6630,1,     -999.0,1,     -999.0,1,     -999.0,9
325020210420,        A22,      67,          1,         24,         24,2,20210508,       2115,    33.3591,   -65.5961,       4768,   488.6,  14.8472,  35.9630,2,  35.9625,2,    170.1,2,   170.7,2,    4.48,2,   12.38,2,    0.00,2,    0.69,2,-999.000,9,-999.000,9,-999.0000,9,  -999.0,9, -999.00,9, -999.000,9,  -999.00,-999.00000,9,  -999.00, -999.00,9, -999.00,9, -999.00, -999.00,9,-999.000,9, -999.00,9, -999.00,9,     -999.0,9, 20210508,     2310,  33.3593, -65.5963,    14.8423,2,     0.0404,1,     4.6666,1,     -999.0,1,     -999.0,1,     -999.0,9
325020210420,        A22,      67,          1,         23,         23,2,20210508,       2115,    33.3591,   -65.5961,       4768,   570.5,  13.2270,  35.7122,2,  35.7158,2,    162.1,2,   162.1,2,    6.63,2,   15.82,2,    0.00,2,    0.93,2,   2.109,2,   1.235,2,   1.0900,2,  -999.0,9, -999.00,9, -999.000,9,  -999.00,-999.00000,9,  -999.00, -999.00,9, -999.00,9, -999.00, -999.00,9,-999.000,9, -999.00,9, -999.00,9,      15.60,2, 20210508,     2307,  33.3592, -65.5963,    13.2355,2,     0.0414,1,     4.6675,1,     -999.0,1,     -999.0,1,     -999.0,9
325020210420,        A22,      67,          1,         22,         22,2,20210508,       2115,    33.3591,   -65.5961,       4768,   671.0,  11.1592,  35.4347,2,  35.4358,2,    149.9,2,   150.5,2,   10.24,2,   20.39,2,    0.00,2,    1.23,2,-999.000,9,-999.000,9,-999.0000,9,  2185.7,2, -999.00,9, -999.000,9,  -999.00,   7.71958,2,    25.01, -999.00,9, -999.00,9, -999.00, -999.00,9,-999.000,9, -999.00,9, -999.00,9,     -999.0,9, 20210508,     2304,  33.3592, -65.5963,    11.1373,2,     0.0415,1,     4.6699,1,     -999.0,1,     -999.0,1,     -999.0,9
325020210420,        A22,      67,          1,         21,         21,2,20210508,       2115,    33.3591,   -65.5961,       4768,   771.1,   9.2695,  35.2479,2,  35.2481,2,    153.7,2,   153.7,2,   12.88,2,   22.72,2,    0.00,2,    1.40,2,   1.553,2,   0.866,2,   0.6200,2,  2192.8,2, 2319.32,2, -999.000,9,  -999.00,   7.68284,2,    25.04, -999.00,9, -999.00,9, -999.00, -999.00,9,-999.000,9, -999.00,9, -999.00,9,      19.40,2, 20210508,     2300,  33.3592, -65.5963,     9.2624,2,     0.0418,1,     4.6707,1,     -999.0,1,     -999.0,1,     -999.0,9
325020210420,        A22,      67,          1,         20,         20,2,20210508,       2115,    33.3591,   -65.5961,       4768,   871.9,   7.8073,  35.1654,2,  35.1644,2,    171.7,2,   171.6,2,   13.76,2,   22.47,2,    0.00,2,    1.41,2,-999.000,9,-999.000,9,-999.0000,9,  -999.0,9, -999.00,9, -999.000,9,  -999.00,-999.00000,9,  -999.00, -999.00,9, -999.00,9, -999.00, -999.00,9,-999.000,9, -999.00,9, -999.00,9,     -999.0,9, 20210508,     2256,  33.3592, -65.5963,     7.8031,2,     0.0420,1,     4.6723,1,     -999.0,1,     -999.0,1,     -999.0,9
325020210420,        A22,      67,          1,         19,         19,2,20210508,       2115,    33.3591,   -65.5961,       4768,   974.5,   6.7762,  35.1434,2,  35.1417,2,    195.2,2,   195.0,2,   13.56,2,   21.03,2,    0.00,2,    1.35,2,   1.672,2,   0.896,2,   0.5600,2,  -999.0,9, 2332.04,3, -999.000,9,  -999.00,-999.00000,9,  -999.00, -999.00,9, -999.00,9, -999.00, -999.00,9,-999.000,9, -999.00,9, -999.00,9,      16.65,2, 20210508,     2253,  33.3592, -65.5963,     6.7766,2,     0.0414,1,     4.6728,1,     -999.0,1,     -999.0,1,     -999.0,9
325020210420,        A22,      67,          1,         18,         18,2,20210508,       2115,    33.3591,   -65.5961,       4768,  1075.8,   6.1478,  35.1330,2,  35.1321,2,    212.8,2,   213.0,2,   12.78,2,   19.76,2,    0.00,2,    1.28,2,-999.000,9,-999.000,9,-999.0000,9,  -999.0,9, -999.00,9, -999.000,9,  -999.00,-999.00000,9,  -999.00, -999.00,9, -999.00,9, -999.00, -999.00,9,-999.000,9, -999.00,9, -999.00,9,     -999.0,9, 20210508,     2249,  33.3592, -65.5963,     6.1473,2,     0.0421,1,     4.6734,1,     -999.0,1,     -999.0,1,     -999.0,9
325020210420,        A22,      67,          1,         17,         17,2,20210508,       2115,    33.3591,   -65.5961,       4768,  1177.1,   5.6635,  35.1122,2,  35.1120,2,    225.3,2,   225.6,2,   12.59,2,   19.10,2,    0.00,2,    1.24,2,   2.085,2,   1.107,2,   0.6700,2,  2178.9,2, 2316.11,2, -999.000,9,  -999.00,   7.70831,2,    25.04, -999.00,9, -999.00,9, -999.00, -999.00,9,-999.000,9, -999.00,9, -999.00,9,      14.81,2, 20210508,     2245,  33.3592, -65.5963,     5.6661,2,     0.0415,1,     4.6733,1,     -999.0,1,     -999.0,1,     -999.0,9
325020210420,        A22,      67,          1,         16,         16,2,20210508,       2115,    33.3591,   -65.5961,       4768,  1277.7,   5.1636,  35.0724,2,  35.0716,2,    236.8,2,   236.8,2,   12.49,2,   18.61,2,    0.00,2,    1.21,2,-999.000,9,-999.000,9,-999.0000,9,  -999.0,9, -999.00,9, -999.000,9,  -999.00,-999.00000,9,  -999.00, -999.00,9, -999.00,9, -999.00, -999.00,9,-999.000,9, -999.00,9, -999.00,9,     -999.0,9, 20210508,     2241,  33.3593, -65.5963,     5.1606,2,     0.0427,1,     4.6731,1,     -999.0,1,     -999.0,1,     -999.0,9
325020210420,        A22,      67,          1,         15,         15,2,20210508,       2115,    33.3591,   -65.5961,       4768,  1379.5,   4.9515,  35.0684,2,  35.0677,2,    243.6,2,   243.5,2,   12.29,2,   18.20,2,    0.00,2,    1.18,2,   2.313,2,   1.237,2,   0.7600,2,  -999.0,9, -999.00,9, -999.000,9,  -999.00,-999.00000,9,  -999.00, -999.00,9, -999.00,9, -999.00, -999.00,9,-999.000,9, -999.00,9, -999.00,9,      13.79,2, 20210508,     2238,  33.3592, -65.5963,     4.9515,2,     0.0423,1,     4.6740,1,     -999.0,1,     -999.0,1,     -999.0,9
325020210420,        A22,      67,          1,         14,         14,2,20210508,       2115,    33.3591,   -65.5961,       4768,  1479.9,   4.6322,  35.0417,2,  35.0413,2,    249.0,2,   249.1,2,   12.59,2,   18.05,2,    0.00,2,    1.17,2,-999.000,9,-999.000,9,-999.0000,9,  -999.0,9, -999.00,9, -999.000,9,  -999.00,-999.00000,9,  -999.00, -999.00,9, -999.00,9, -999.00, -999.00,9,-999.000,9, -999.00,9, -999.00,9,     -999.0,9, 20210508,     2234,  33.3592, -65.5963,     4.6346,2,     0.0424,1,     4.6740,1,     -999.0,1,     -999.0,1,     -999.0,9
325020210420,        A22,      67,          1,         13,         13,2,20210508,       2115,    33.3591,   -65.5961,       4768,  1582.1,   4.3975,  35.0209,2,  35.0203,2,    253.9,2,   253.7,2,   12.59,2,   17.85,2,    0.00,2,    1.16,2,   2.268,2,   1.240,2,   0.7400,2,  2170.3,2, -999.00,9, -999.000,9,  -999.00,   7.71889,2,    25.03, -999.00,9, -999.00,9, -999.00, -999.00,9,-999.000,9, -999.00,9, -999.00,9,      13.72,2, 20210508,     2231,  33.3592, -65.5963,     4.3986,2,     0.0430,1,     4.6740,1,     -999.0,1,     -999.0,1,     -999.0,9
325020210420,        A22,      67,          1,         12,         12,2,20210508,       2115,    33.3591,   -65.5961,       4768,  1754.7,   4.0697,  34.9979,2,  34.9972,2,    257.2,2,   257.6,2,   13.37,2,   17.81,2,    0.00,2,    1.17,2,-999.000,9,-999.000,9,-999.0000,9,  -999.0,9, -999.00,9, -999.000,9,  -999.00,-999.00000,9,  -999.00, -999.00,9, -999.00,9, -999.00, -999.00,9,-999.000,9, -999.00,9, -999.00,9,     -999.0,9, 20210508,     2225,  33.3592, -65.5963,     4.0695,2,     0.0415,1,     4.6730,1,     -999.0,1,     -999.0,1,     -999.0,9
325020210420,        A22,      67,          1,         11,         11,2,20210508,       2115,    33.3591,   -65.5961,       4768,  1960.0,   3.8223,  34.9904,2,  34.9904,2,    257.3,2,   257.9,2,   15.32,2,   17.99,2,    0.00,2,    1.18,2,-999.000,9,-999.000,9,-999.0000,9,  -999.0,9, -999.00,9, -999.000,9,  -999.00,-999.00000,9,  -999.00, -999.00,9, -999.00,9, -999.00, -999.00,9,-999.000,9, -999.00,9, -999.00,9,     -999.0,9, 20210508,     2220,  33.3593, -65.5963,     3.8240,2,     0.0416,1,     4.6740,1,     -999.0,1,     -999.0,1,     -999.0,9
325020210420,        A22,      67,          1,         10,         10,2,20210508,       2115,    33.3591,   -65.5961,       4768,  2193.1,   3.5557,  34.9767,2,  34.9762,2,    258.6,2,   258.8,2,   17.56,2,   18.17,2,    0.00,2,    1.20,2,   1.205,2,   0.601,2,   0.2200,2,  -999.0,9, -999.00,9, -999.000,9,  -999.00,-999.00000,9,  -999.00, -999.00,9, -999.00,9, -999.00, -999.00,9,-999.000,9, -999.00,9, -999.00,9,      13.00,2, 20210508,     2215,  33.3592, -65.5963,     3.5556,2,     0.0429,1,     4.6740,1,     -999.0,1,     -999.0,1,     -999.0,9
325020210420,        A22,      67,          1,          9,          9,2,20210508,       2115,    33.3591,   -65.5961,       4768,  2446.9,   3.2914,  34.9595,2,  34.9591,2,    260.2,2,   260.7,2,   19.42,2,   18.20,2,    0.00,2,    1.21,2,-999.000,9,-999.000,9,-999.0000,9,  2168.2,2, 2312.94,2, -999.000,9,  -999.00,   7.73561,2,    25.00, -999.00,9, -999.00,9, -999.00, -999.00,9,-999.000,9, -999.00,9, -999.00,9,     -999.0,9, 20210508,     2208,  33.3592, -65.5963,     3.2920,2,     0.0417,1,     4.6744,1,     -999.0,1,     -999.0,1,     -999.0,9
325020210420,        A22,      67,          1,          8,          8,2,20210508,       2115,    33.3591,   -65.5961,       4768,  2701.5,   3.0857,  34.9477,2,  34.9471,2,    260.9,2,   261.3,2,   21.27,2,   18.33,2,    0.00,2,    1.22,2,   0.848,2,   0.435,2,   0.1300,2,  -999.0,9, -999.00,9, -999.000,9,  -999.00,-999.00000,9,  -999.00, -999.00,9, -999.00,9, -999.00, -999.00,9,-999.000,9, -999.00,9, -999.00,9,      13.14,2, 20210508,     2201,  33.3592, -65.5963,     3.0860,2,     0.0429,1,     4.6743,1,     -999.0,1,     -999.0,1,     -999.0,9
325020210420,        A22,      67,          1,          7,          7,2,20210508,       2115,    33.3591,   -65.5961,       4768,  2957.6,   2.8592,  34.9324,2,  34.9319,2,    263.9,2,   264.2,2,   22.05,2,   18.09,2,    0.00,2,    1.21,2,-999.000,9,-999.000,9,-999.0000,9,  -999.0,9, -999.00,9, -999.000,9,  -999.00,-999.00000,9,  -999.00, -999.00,9, -999.00,9, -999.00, -999.00,9,-999.000,9, -999.00,9, -999.00,9,     -999.0,9, 20210508,     2156,  33.3592, -65.5963,     2.8598,2,     0.0423,1,     4.6746,1,     -999.0,1,     -999.0,1,     -999.0,9
325020210420,        A22,      67,          1,          6,          6,2,20210508,       2115,    33.3591,   -65.5961,       4768,  3246.7,   2.5940,  34.9156,2,  34.9150,2,    267.0,2,   267.2,2,   23.32,2,   17.87,2,    0.00,2,    1.20,2,   1.088,2,   0.559,2,   0.2600,2,  -999.0,9, -999.00,9, -999.000,9,  -999.00,-999.00000,9,  -999.00, -999.00,9, -999.00,9, -999.00, -999.00,9,-999.000,9, -999.00,9, -999.00,9,      12.91,2, 20210508,     2150,  33.3592, -65.5963,     2.5932,2,     0.0425,1,     4.6740,1,     -999.0,1,     -999.0,1,     -999.0,9
325020210420,        A22,      67,          1,          5,          5,2,20210508,       2115,    33.3591,   -65.5961,       4768,  3553.3,   2.4082,  34.9030,2,  34.9024,2,    267.8,2,   268.2,2,   25.76,2,   17.96,2,    0.00,2,    1.22,2,-999.000,9,-999.000,9,-999.0000,9,  2170.6,2, -999.00,9, -999.000,9,  -999.00,   7.73522,6,    25.02, -999.00,9, -999.00,9, -999.00, -999.00,9,-999.000,9, -999.00,9, -999.00,9,     -999.0,9, 20210508,     2143,  33.3592, -65.5963,     2.4088,2,     0.0428,1,     4.6731,1,     -999.0,1,     -999.0,1,     -999.0,9
325020210420,        A22,      67,          1,          4,          4,2,20210508,       2115,    33.3591,   -65.5961,       4768,  3862.8,   2.2933,  34.8931,2,  34.8924,2,    266.3,2,   266.2,2,   29.27,2,   18.42,2,    0.00,2,    1.25,2,   1.086,2,   0.557,2,   0.2300,2,  -999.0,9, -999.00,9, -999.000,9,  -999.00,-999.00000,9,  -999.00, -999.00,9, -999.00,9, -999.00, -999.00,9,-999.000,9, -999.00,9, -999.00,9,      13.24,2, 20210508,     2137,  33.3592, -65.5963,     2.2937,2,     0.0422,1,     4.6727,1,     -999.0,1,     -999.0,1,     -999.0,9
325020210420,        A22,      67,          1,          3,          3,2,20210508,       2115,    33.3591,   -65.5961,       4768,  4169.2,   2.2461,  34.8866,2,  34.8859,2,    264.1,2,   264.3,2,   32.49,2,   18.95,2,    0.00,2,    1.29,2,   0.983,2,   0.513,2,   0.2300,2,  -999.0,9, -999.00,9, -999.000,9,  -999.00,-999.00000,9,  -999.00, -999.00,9, -999.00,9, -999.00, -999.00,9,-999.000,9, -999.00,9, -999.00,9,      13.43,2, 20210508,     2130,  33.3592, -65.5963,     2.2460,2,     0.0429,1,     4.6688,1,     -999.0,1,     -999.0,1,     -999.0,9