BOTTLE,20230513CCHSIOCBG
EXPOCODE,SECT_ID,STNNBR,CASTNO,SAMPNO,BTLNBR,BTLNBR_FLAG_W,DATE,TIME,LATITUDE,LONGITUDE,DEPTH,CTDPRS,CTDTMP,CTDSAL,CTDSAL_FLAG_W,SALNTY,SALNTY_FLAG_W,CTDOXY,CTDOXY_FLAG_W,OXYGEN,OXYGEN_FLAG_W,SILCAT,SILCAT_FLAG_W,NITRAT,NITRAT_FLAG_W,NITRIT,NITRIT_FLAG_W,PHSPHT,PHSPHT_FLAG_W,CFC-11,CFC-11_FLAG_W,CFC-12,CFC-12_FLAG_W,SF6,SF6_FLAG_W,TCARBN,TCARBN_FLAG_W,ALKALI,ALKALI_FLAG_W,FCO2,FCO2_FLAG_W,FCO2TMP,PH_TOT,PH_TOT_FLAG_W,PH_TMP,DELC13,DELC13_FLAG_W,DELC14,DELC14_FLAG_W,C14ERR,DELO18,DELO18_FLAG_W,POC,POC_FLAG_W,DOC,DOC_FLAG_W,TDN,TDN_FLAG_W,N2O,N2O_FLAG_W,BTL_DATE,BTL_TIME,BTL_LAT,BTL_LON,REFTMP,REFTMP_FLAG_W,CTDFLUOR,CTDFLUOR_FLAG_W,CTDXMISS,CTDXMISS_FLAG_W,D15N_NO2+NO3,D15N_NO2+NO3_FLAG_W,D18O_NO2+NO3,D18O_NO2+NO3_FLAG_W,HPLC,HPLC_FLAG_W
,,,,,,,,,,,METERS,DBAR,ITS-90,PSS-78,,PSS-78,,UMOL/KG,,UMOL/KG,,UMOL/KG,,UMOL/KG,,UMOL/KG,,UMOL/KG,,PMOL/KG,,PMOL/KG,,FMOL/KG,,UMOL/KG,,UMOL/KG,,UATM,,DEG C,,,DEG C,/MILLE,,/MILLE,,/MILLE,/MILLE,,UG/KG,,UMOL/KG,,UMOL/KG,,NMOL/KG,,,,,,ITS-90,,VOLTS,,VOLTS,,/MILLE,,/MILLE,,,
325020210420,        A22,      74,          1,         36,         36,2,20210511,       1906,    36.5810,   -67.7452,       4955,     5.7,  22.6528,  36.6017,2,  36.6009,2,    214.7,2,   214.1,2,    0.78,2,    0.00,2,    0.00,2,    0.00,2,   1.701,2,   1.088,2,   1.7600,2,  2076.0,6, 2392.62,2,  330.740,2,    20.00,   8.05612,2,    25.01, -999.00,9, -999.00,9, -999.00, -999.00,1,-999.000,9,   62.90,2,    3.80,2,       6.37,2, 20210511,     2132,  36.5810, -67.7452,    22.6494,2,     0.0645,1,     4.5250,1,     -999.0,9,     -999.0,9,     -999.0,9
325020210420,        A22,      74,          1,         35,         35,2,20210511,       1906,    36.5810,   -67.7452,       4955,    25.8,  22.5342,  36.6142,2,  36.6116,2,    214.5,2,   214.5,2,    0.78,2,    0.00,2,    0.00,2,    0.00,2,-999.000,9,-999.000,9,-999.0000,9,  2075.3,2, 2392.46,2,  327.760,2,    20.00,   8.05397,6,    24.99, -999.00,9, -999.00,9, -999.00, -999.00,9,-999.000,9,   63.50,2,    3.77,2,     -999.0,9, 20210511,     2131,  36.5810, -67.7452,    22.5371,2,     0.0876,1,     4.5170,1,     -999.0,9,     -999.0,9,     -999.0,9
325020210420,        A22,      74,          1,         34,         34,2,20210511,       1906,    36.5810,   -67.7452,       4955,    51.3,  21.0234,  36.6969,2,  36.6844,2,    220.9,2,   220.9,2,    0.58,2,    0.00,2,    0.00,2,    0.00,2,   1.871,2,   1.165,2,   1.9200,2,  2090.3,2, 2396.52,6,  346.590,2,    20.00,    8.0357,2,    24.99, -999.00,9, -999.00,9, -999.00, -999.00,1,-999.000,9,   62.80,2,    4.19,2,       6.78,2, 20210511,     2128,  36.5810, -67.7452,    21.0518,2,     0.0683,1,     4.5820,1,     -999.0,9,     -999.0,9,     -999.0,9
325020210420,        A22,      74,          1,         33,         33,2,20210511,       1906,    36.5810,   -67.7452,       4955,    76.1,  20.1971,  36.7487,2,  36.7468,2,    223.9,2,   223.8,2,    0.49,2,    0.00,2,    0.00,2,    0.00,2,-999.000,9,-999.000,9,-999.0000,9,  2098.9,2,  2400.3,2,  358.000,2,    20.00,   8.02374,2,    25.01, -999.00,9, -999.00,9, -999.00, -999.00,9,-999.000,9,   61.20,2,    3.83,2,     -999.0,9, 20210511,     2126,  36.5810, -67.7452,    20.1978,2,     0.0675,1,     4.6036,1,     -999.0,9,     -999.0,9,     -999.0,9
325020210420,        A22,      74,          1,         32,         32,2,20210511,       1906,    36.5810,   -67.7452,       4955,    99.8,  20.1410,  36.7943,2,  36.7941,2,    219.8,2,   219.5,2,    0.39,2,    0.05,2,    0.12,2,    0.00,2,   1.886,2,   1.191,2,   1.9200,2,  2100.8,2,  2403.9,2,  360.650,2,    20.00,   8.02178,2,    25.00, -999.00,9, -999.00,9, -999.00, -999.00,9,-999.000,9,   59.60,2,    3.73,2,       7.09,2, 20210511,     2124,  36.5810, -67.7452,    20.1374,2,     0.0826,1,     4.6195,1,     -999.0,9,     -999.0,9,     -999.0,9
325020210420,        A22,      74,          1,         31,         31,2,20210511,       1906,    36.5810,   -67.7452,       4955,   152.4,  19.6420,  36.7201,2,  36.7189,2,    213.4,2,   213.4,2,    0.58,2,    1.05,2,    0.03,2,    0.00,2,-999.000,9,-999.000,9,-999.0000,9,  2105.6,2, 2399.89,2,  376.120,2,    20.00,   8.00596,2,    25.00, -999.00,9, -999.00,9, -999.00, -999.00,9,-999.000,9,   56.30,2,    4.59,2,     -999.0,9, 20210511,     2121,  36.5810, -67.7452,    19.6437,2,     0.0494,1,     4.6488,1,     -999.0,9,     -999.0,9,     -999.0,9
325020210420,        A22,      74,          1,         30,         30,2,20210511,       1906,    36.5810,   -67.7452,       4955,   203.3,  19.3160,  36.6883,2,  36.6871,2,    211.5,2,   211.9,2,    0.68,2,    1.51,2,    0.05,2,    0.00,2,   1.970,2,   1.237,2,   1.8900,2,  2106.5,2, 2397.23,2,  380.840,2,    20.00,   8.00093,2,    25.01, -999.00,9, -999.00,9, -999.00, -999.00,9,-999.000,9,   54.40,2,    4.65,2,       7.35,2, 20210511,     2118,  36.5810, -67.7451,    19.3187,2,     0.0430,1,     4.6507,1,     -999.0,9,     -999.0,9,     -999.0,9
325020210420,        A22,      74,          1,         29,         29,2,20210511,       1906,    36.5810,   -67.7452,       4955,   252.7,  19.1744,  36.6900,2,  36.6915,2,    214.4,2,   215.0,2,    0.78,2,    1.38,2,    0.05,2,    0.00,2,-999.000,9,-999.000,9,-999.0000,9,  2105.8,2, 2396.17,2,  378.780,2,    20.00,   8.00439,2,    24.99, -999.00,9, -999.00,9, -999.00, -999.00,9,-999.000,9,   54.70,2,    4.91,2,     -999.0,9, 20210511,     2116,  36.5810, -67.7451,    19.1834,2,     0.0401,1,     4.6496,1,     -999.0,9,     -999.0,9,     -999.0,9
325020210420,        A22,      74,          1,         28,         28,2,20210511,       1906,    36.5810,   -67.7452,       4955,   304.0,  19.0708,  36.6842,2,  36.6824,2,    213.6,2,   213.4,2,    0.78,2,    1.82,2,    0.00,2,    0.03,2,   1.967,2,   1.242,2,   1.8500,2,  2107.5,2, 2397.41,2,  384.070,2,    20.00,   7.99914,2,    24.99, -999.00,9, -999.00,9, -999.00, -999.00,9,-999.000,9,   53.30,2, -999.00,1,       7.65,2, 20210511,     2113,  36.5810, -67.7451,    19.0712,2,     0.0403,1,     4.6508,1,     -999.0,9,     -999.0,9,     -999.0,9
325020210420,        A22,      74,          1,         27,         27,2,20210511,       1906,    36.5810,   -67.7452,       4955,   354.1,  18.9607,  36.6781,2,  36.6766,2,    213.6,2,   213.4,2,    0.97,2,    2.06,2,    0.00,2,    0.03,2,-999.000,9,-999.000,9,-999.0000,9,  2111.9,2, 2394.83,2,  389.370,2,    20.00,   7.99396,2,    25.00, -999.00,9, -999.00,9, -999.00, -999.00,9,-999.000,9,   53.60,2, -999.00,1,     -999.0,9, 20210511,     2110,  36.5810, -67.7452,    18.9610,2,     0.0389,1,     4.6543,1,     -999.0,9,     -999.0,9,     -999.0,9
325020210420,        A22,      74,          1,         26,         26,2,20210511,       1906,    36.5810,   -67.7452,       4955,   403.6,  18.8817,  36.6744,2,  36.6727,2,    213.6,2,   213.6,2,    0.88,2,    2.19,2,    0.00,2,    0.04,2,   2.007,2,   1.259,2,   1.8800,2,  2113.5,2, 2394.12,2,  392.510,2,    20.00,   7.99222,2,    25.00, -999.00,9, -999.00,9, -999.00, -999.00,9,-999.000,9,   53.10,2, -999.00,1,       7.61,2, 20210511,     2108,  36.5810, -67.7451,    18.8822,2,     0.0393,1,     4.6556,1,     -999.0,9,     -999.0,9,     -999.0,9
325020210420,        A22,      74,          1,         25,         25,2,20210511,       1906,    36.5810,   -67.7452,       4955,   505.6,  18.7167,  36.6465,2,  36.6451,2,    209.3,2,   209.6,2,    0.97,2,    2.82,2,    0.00,2,    0.07,2,-999.000,9,-999.000,9,-999.0000,9,  2116.3,2, 2391.17,2,  403.300,2,    20.00,   7.98282,2,    25.01, -999.00,9, -999.00,9, -999.00, -999.00,9,-999.000,9,   51.70,2, -999.00,1,     -999.0,9, 20210511,     2104,  36.5810, -67.7451,    18.7180,2,     0.0393,1,     4.6578,1,     -999.0,9,     -999.0,9,     -999.0,9
325020210420,        A22,      74,          1,         24,         24,2,20210511,       1906,    36.5810,   -67.7452,       4955,   607.2,  17.6747,  36.4349,2,  36.4360,2,    184.9,2,   185.2,2,    1.95,2,    6.60,2,    0.00,2,    0.28,2,   2.138,2,   1.325,2,   1.5200,2,  2136.7,2, 2379.97,2,  466.680,2,    20.00,   7.92698,2,    25.00, -999.00,9, -999.00,9, -999.00, -999.00,9,-999.000,9,   46.90,2, -999.00,1,       9.87,2, 20210511,     2100,  36.5810, -67.7452,    17.6781,2,     0.0391,1,     4.6590,1,     -999.0,9,     -999.0,9,     -999.0,9
325020210420,        A22,      74,          1,         23,         23,2,20210511,       1906,    36.5810,   -67.7452,       4955,   705.6,  16.0373,  36.1612,2,  36.1597,2,    169.5,2,   169.2,2,    3.61,2,   10.79,2,    0.00,2,    0.55,2,   2.185,2,   1.335,2,   1.3000,2,  2156.2,2,  2363.4,2,  543.010,2,    20.00,   7.86544,6,    25.00, -999.00,9, -999.00,9, -999.00, -999.00,9,-999.000,9,   45.60,2, -999.00,1,      12.45,2, 20210511,     2055,  36.5810, -67.7451,    16.0272,2,     0.0395,1,     4.6629,1,     -999.0,9,     -999.0,9,     -999.0,9
325020210420,        A22,      74,          1,         22,         22,2,20210511,       1906,    36.5810,   -67.7452,       4955,   808.9,  13.9837,  35.8230,2,  35.8216,2,    162.8,2,   163.1,2,    5.95,2,   14.70,2,    0.00,2,    0.82,2,-999.000,9,-999.000,9,-999.0000,9,  2167.9,2, 2347.51,2,  629.160,2,    20.00,   7.80672,2,    25.00, -999.00,9, -999.00,9, -999.00, -999.00,9,-999.000,9,   45.10,2, -999.00,1,     -999.0,9, 20210511,     2052,  36.5810, -67.7451,    13.9911,2,     0.0407,1,     4.6651,1,     -999.0,9,     -999.0,9,     -999.0,9
325020210420,        A22,      74,          1,         21,         21,2,20210511,       1906,    36.5810,   -67.7452,       4955,   909.3,  11.7048,  35.4962,2,  35.4953,2,    145.3,2,   145.4,2,    9.94,2,   20.35,2,    0.00,2,    1.19,2,   1.788,2,   1.018,2,   0.8000,2,  2188.2,2, 2331.33,2,  764.930,2,    20.00,   7.72714,2,    25.01, -999.00,9, -999.00,9, -999.00, -999.00,9,-999.000,9,   43.40,2, -999.00,1,      18.78,2, 20210511,     2047,  36.5810, -67.7451,    11.7069,2,     0.0400,1,     4.6676,1,     -999.0,9,     -999.0,9,     -999.0,9
325020210420,        A22,      74,          1,         20,         20,2,20210511,       1906,    36.5810,   -67.7452,       4955,  1009.9,   9.2976,  35.1857,2,  35.1851,2,    134.7,2,   135.2,2,   15.11,2,   25.57,2,    0.00,2,    1.57,2,   1.248,2,   0.687,2,   0.4200,2,  2203.7,6, 2318.52,2,  908.920,2,    20.00,   7.65392,2,    25.01, -999.00,9, -999.00,9, -999.00, -999.00,9,-999.000,9,   41.60,2, -999.00,1,      21.67,2, 20210511,     2045,  36.5810, -67.7452,     9.2958,2,     0.0417,1,     4.6622,1,     -999.0,9,     -999.0,9,     -999.0,9
325020210420,        A22,      74,          1,         19,         19,2,20210511,       1906,    36.5810,   -67.7452,       4955,  1111.2,   7.9288,  35.1556,2,  35.1545,2,    168.2,2,   167.9,2,   13.85,2,   22.97,2,    0.00,2,    1.42,2,   1.504,6,   0.815,6,   0.5100,6,  2196.5,2,  2319.5,2,  860.810,2,    20.00,   7.67493,2,    25.00, -999.00,9, -999.00,9, -999.00, -999.00,9,-999.000,9,   42.30,2, -999.00,1,      18.69,6, 20210511,     2041,  36.5810, -67.7451,     7.9248,2,     0.0422,1,     4.6681,1,     -999.0,9,     -999.0,9,     -999.0,9
325020210420,        A22,      74,          1,         18,         18,2,20210511,       1906,    36.5810,   -67.7452,       4955,  1212.3,   6.6378,  35.1037,2,  35.1037,2,    195.2,2,   195.5,2,   13.55,2,   21.29,2,    0.00,2,    1.35,2,-999.000,9,-999.000,9,-999.0000,9,  2190.6,2, 2315.49,2,  844.930,2,    20.00,   7.68388,6,    25.00, -999.00,9, -999.00,9, -999.00, -999.00,9,-999.000,9,   43.10,2, -999.00,1,     -999.0,9, 20210511,     2038,  36.5810, -67.7451,     6.6392,2,     0.0423,1,     4.6688,1,     -999.0,9,     -999.0,9,     -999.0,9
325020210420,        A22,      74,          1,         17,         17,2,20210511,       1906,    36.5810,   -67.7452,       4955,  1312.4,   5.6801,  35.0686,2,  35.0687,2,    221.4,2,   221.5,2,   12.68,2,   19.61,2,    0.00,2,    1.25,2,   2.249,2,   1.213,2,   0.8200,2,  2184.1,2,  2312.3,6,  816.560,2,    20.00,   7.69528,2,    25.02, -999.00,9, -999.00,9, -999.00, -999.00,9,-999.000,9,   44.30,2, -999.00,1,      15.38,2, 20210511,     2035,  36.5810, -67.7451,     5.6796,2,     0.0406,1,     4.6688,1,     -999.0,9,     -999.0,9,     -999.0,9
325020210420,        A22,      74,          1,         16,         16,2,20210511,       1906,    36.5810,   -67.7452,       4955,  1415.6,   5.1567,  35.0417,2,  35.0411,2,    236.6,2,   236.7,2,   12.09,2,   18.80,2,    0.00,2,    1.20,2,-999.000,9,-999.000,9,-999.0000,9,  2179.4,2, 2310.18,2,  803.420,2,    20.00,   7.70179,2,    25.00, -999.00,9, -999.00,9, -999.00, -999.00,9,-999.000,9,   44.90,2, -999.00,1,     -999.0,9, 20210511,     2031,  36.5810, -67.7451,     5.1556,2,     0.0427,1,     4.6691,1,     -999.0,9,     -999.0,9,     -999.0,9
325020210420,        A22,      74,          1,         15,         15,2,20210511,       1906,    36.5810,   -67.7452,       4955,  1518.2,   4.7546,  35.0121,2,  35.0124,2,    247.2,2,   247.3,2,   11.80,2,   18.30,2,    0.00,2,    1.17,2,   2.712,2,   1.455,2,   1.0100,2,  2174.3,2, 2308.47,2,  796.290,2,    20.00,   7.70525,2,    25.00, -999.00,9, -999.00,9, -999.00, -999.00,9,-999.000,9,   44.20,2, -999.00,1,      14.30,2, 20210511,     2029,  36.5811, -67.7451,     4.7551,2,     0.0417,1,     4.6673,1,     -999.0,9,     -999.0,9,     -999.0,9
325020210420,        A22,      74,          1,         14,         14,2,20210511,       1906,    36.5810,   -67.7452,       4955,  1618.0,   4.5661,  35.0027,2,  35.0028,2,    252.1,2,   252.7,2,   11.60,2,   18.08,2,    0.00,2,    1.16,2,   2.764,2,   1.475,2,   0.9900,2,  2173.7,2, 2308.76,2,  787.540,2,    20.00,   7.70925,2,    25.01, -999.00,9, -999.00,9, -999.00, -999.00,9,-999.000,9,   44.40,2, -999.00,1,      13.79,2, 20210511,     2025,  36.5810, -67.7451,     4.5653,2,     0.0404,1,     4.6691,1,     -999.0,9,     -999.0,9,     -999.0,9
325020210420,        A22,      74,          1,         13,         13,2,20210511,       1906,    36.5810,   -67.7452,       4955,  1823.4,   4.2568,  34.9858,2,  34.9856,2,    258.8,2,   260.0,2,   12.00,2,   17.80,2,    0.00,2,    1.14,2,   2.725,2,   1.431,2,   0.9300,2,  2170.0,2, 2306.66,2,  778.150,6,    20.00,   7.71335,2,    25.01, -999.00,9, -999.00,9, -999.00, -999.00,9,-999.000,9,   44.70,2, -999.00,1,      13.41,2, 20210511,     2020,  36.5810, -67.7451,     4.2597,2,     0.0424,1,     4.6703,1,     -999.0,9,     -999.0,9,     -999.0,9
325020210420,        A22,      74,          1,         12,         12,2,20210511,       1906,    36.5810,   -67.7452,       4955,  2025.6,   4.0471,  34.9750,2,  34.9748,2,    261.2,2,   261.5,2,   12.58,2,   17.84,2,    0.00,2,    1.14,2,-999.000,9,-999.000,9,-999.0000,9,  2169.1,2, 2306.77,2,  769.270,2,    20.00,   7.71762,2,    25.02, -999.00,9, -999.00,9, -999.00, -999.00,9,-999.000,9,   44.30,2, -999.00,1,     -999.0,9, 20210511,     2015,  36.5810, -67.7451,     4.0461,2,     0.0427,1,     4.6702,1,     -999.0,9,     -999.0,9,     -999.0,9
325020210420,        A22,      74,          1,         11,         11,2,20210511,       1906,    36.5810,   -67.7452,       4955,  2278.3,   3.8306,  34.9681,2,  34.9681,2,    262.2,2,   262.5,2,   13.65,2,   17.87,2,    0.00,2,    1.15,2,   2.160,2,   1.107,2,   0.5200,2,  2162.1,6,  2305.2,2,  758.880,2,    20.00,   7.72402,2,    25.01, -999.00,9, -999.00,9, -999.00, -999.00,9,-999.000,9,   44.30,2, -999.00,1,      13.37,2, 20210511,     2009,  36.5810, -67.7451,     3.8305,2,     0.0424,1,     4.6703,1,     -999.0,9,     -999.0,9,     -999.0,9
325020210420,        A22,      74,          1,         10,         10,2,20210511,       1906,    36.5810,   -67.7452,       4955,  2535.7,   3.5704,  34.9567,2,  34.9567,2,    263.7,2,   264.0,2,   15.12,2,   17.91,2,    0.00,2,    1.15,2,-999.000,9,-999.000,9,-999.0000,9,  2161.2,2, 2308.26,2,  749.760,2,    20.00,   7.72866,6,    25.01, -999.00,9, -999.00,9, -999.00, -999.00,9,-999.000,9,   43.70,2, -999.00,1,     -999.0,9, 20210511,     2002,  36.5811, -67.7451,     3.5707,2,     0.0429,1,     4.6709,1,     -999.0,9,     -999.0,9,     -999.0,9
325020210420,        A22,      74,          1,          9,          9,2,20210511,       1906,    36.5810,   -67.7452,       4955,  2789.6,   3.4000,  34.9564,2,  34.9563,2,    262.4,2,   262.5,2,   17.36,2,   18.16,2,    0.00,2,    1.17,2,   1.394,2,   0.702,2,   0.2700,2,  2161.8,2, 2311.02,6,  741.390,2,    20.00,     7.733,2,    25.00, -999.00,9, -999.00,9, -999.00, -999.00,9,-999.000,9,   43.10,2, -999.00,1,      12.96,2, 20210511,     1956,  36.5811, -67.7451,     3.3989,2,     0.0429,1,     4.6715,1,     -999.0,9,     -999.0,9,     -999.0,9
325020210420,        A22,      74,          1,          8,          8,2,20210511,       1906,    36.5810,   -67.7452,       4955,  3046.1,   3.1563,  34.9425,2,  34.9420,2,    264.5,2,   265.0,2,   18.53,2,   18.04,2,    0.00,2,    1.16,2,   1.371,2,   0.697,2,   0.3200,2,  2163.5,2, 2313.04,2,  736.670,2,    20.00,   7.73308,2,    25.03, -999.00,9, -999.00,9, -999.00, -999.00,9,-999.000,9,   43.70,2, -999.00,1,      13.15,2, 20210511,     1950,  36.5810, -67.7451,     3.1558,2,     0.0426,1,     4.6713,1,     -999.0,9,     -999.0,9,     -999.0,9
325020210420,        A22,      74,          1,          7,          7,2,20210511,       1906,    36.5810,   -67.7452,       4955,  3351.9,   2.8698,  34.9285,2,  34.9296,2,    266.2,2,   266.5,2,   20.77,2,   18.02,2,    0.00,2,    1.17,2,   1.266,2,   0.646,2,   0.2600,2,  2161.8,2, 2314.45,2,  739.220,2,    20.00,   7.73522,2,    25.00, -999.00,9, -999.00,9, -999.00, -999.00,9,-999.000,9,   43.40,2, -999.00,1,      12.88,2, 20210511,     1943,  36.5810, -67.7451,     2.8698,2,     0.0430,1,     4.6715,1,     -999.0,9,     -999.0,9,     -999.0,9
325020210420,        A22,      74,          1,          6,          6,2,20210511,       1906,    36.5810,   -67.7452,       4955,  3658.9,   2.6024,  34.9133,2,  34.9128,2,    268.6,2,   269.1,2,   22.82,2,   17.89,2,    0.00,2,    1.17,2,-999.000,9,-999.000,9,-999.0000,9,  2164.2,2, 2317.08,2,  742.140,2,    20.00,   7.73358,2,    25.01, -999.00,9, -999.00,9, -999.00, -999.00,9,-999.000,9,   43.60,2, -999.00,1,     -999.0,9, 20210511,     1936,  36.5810, -67.7451,     2.6022,2,     0.0421,1,     4.6713,1,     -999.0,9,     -999.0,9,     -999.0,9
325020210420,        A22,      74,          1,          5,          5,2,20210511,       1906,    36.5810,   -67.7452,       4955,  3967.0,   2.4176,  34.9013,2,  34.9012,2,    268.9,2,   269.1,2,   25.45,2,   18.03,2,    0.00,2,    1.19,2,   1.390,2,   0.714,2,   0.3800,2,  2168.9,2,  2334.2,4,  748.590,2,    20.00,   7.73095,2,    25.01, -999.00,9, -999.00,9, -999.00, -999.00,9,-999.000,9,   43.40,2, -999.00,1,      13.21,2, 20210511,     1930,  36.5810, -67.7451,     2.4177,2,     0.0424,1,     4.6698,1,     -999.0,9,     -999.0,9,     -999.0,9
325020210420,        A22,      74,          1,          4,          4,2,20210511,       1906,    36.5810,   -67.7452,       4955,  4274.2,   2.3276,  34.8935,2,  34.8932,2,    267.8,2,   268.0,2,   28.28,2,   18.35,2,    0.00,2,    1.21,2,   1.356,2,   0.704,2,   0.4100,2,  2171.6,2, 2322.09,2,  753.140,2,    20.00,   7.72846,2,    24.99, -999.00,9, -999.00,9, -999.00, -999.00,9,-999.000,9,   43.00,2, -999.00,1,      13.34,2, 20210511,     1923,  36.5810, -67.7451,     2.3279,2,     0.0422,1,     4.6667,1,     -999.0,9,     -999.0,9,     -999.0,9
325020210420,        A22,      74,          1,          3,          3,2,20210511,       1906,    36.5810,   -67.7452,       4955,  4581.3,   2.2924,  34.8876,2,  34.8871,2,    265.5,2,   265.9,2,   31.50,2,   18.80,2,    0.00,2,    1.25,2,   1.210,2,   0.636,2,   0.3600,2,  2175.9,2, 2323.83,2,  755.520,2,    20.00,   7.72704,2,    25.02, -999.00,9, -999.00,9, -999.00, -999.00,9,-999.000,9,   43.20,2, -999.00,1,      13.49,2, 20210511,     1917,  36.5810, -67.7452,     2.2928,2,     0.0429,1,     4.6595,1,     -999.0,9,     -999.0,9,     -999.0,9