BOTTLE,20230513CCHSIOCBG
EXPOCODE,SECT_ID,STNNBR,CASTNO,SAMPNO,BTLNBR,BTLNBR_FLAG_W,DATE,TIME,LATITUDE,LONGITUDE,DEPTH,CTDPRS,CTDTMP,CTDSAL,CTDSAL_FLAG_W,SALNTY,SALNTY_FLAG_W,CTDOXY,CTDOXY_FLAG_W,OXYGEN,OXYGEN_FLAG_W,SILCAT,SILCAT_FLAG_W,NITRAT,NITRAT_FLAG_W,NITRIT,NITRIT_FLAG_W,PHSPHT,PHSPHT_FLAG_W,CFC-11,CFC-11_FLAG_W,CFC-12,CFC-12_FLAG_W,SF6,SF6_FLAG_W,TCARBN,TCARBN_FLAG_W,ALKALI,ALKALI_FLAG_W,FCO2,FCO2_FLAG_W,FCO2TMP,PH_TOT,PH_TOT_FLAG_W,PH_TMP,DELC13,DELC13_FLAG_W,DELC14,DELC14_FLAG_W,C14ERR,DELO18,DELO18_FLAG_W,POC,POC_FLAG_W,DOC,DOC_FLAG_W,TDN,TDN_FLAG_W,N2O,N2O_FLAG_W,BTL_DATE,BTL_TIME,BTL_LAT,BTL_LON,REFTMP,REFTMP_FLAG_W,CTDFLUOR,CTDFLUOR_FLAG_W,CTDXMISS,CTDXMISS_FLAG_W,D15N_NO2+NO3,D15N_NO2+NO3_FLAG_W,D18O_NO2+NO3,D18O_NO2+NO3_FLAG_W,HPLC,HPLC_FLAG_W
,,,,,,,,,,,METERS,DBAR,ITS-90,PSS-78,,PSS-78,,UMOL/KG,,UMOL/KG,,UMOL/KG,,UMOL/KG,,UMOL/KG,,UMOL/KG,,PMOL/KG,,PMOL/KG,,FMOL/KG,,UMOL/KG,,UMOL/KG,,UATM,,DEG C,,,DEG C,/MILLE,,/MILLE,,/MILLE,/MILLE,,UG/KG,,UMOL/KG,,UMOL/KG,,NMOL/KG,,,,,,ITS-90,,VOLTS,,VOLTS,,/MILLE,,/MILLE,,,
325020210420,        A22,      37,          1,         36,         36,2,20210430,       0209,    19.0275,   -66.0092,       4577,     5.2,  26.7819,  36.2969,2,  36.2994,2,    202.3,2,   201.5,2,    1.27,2,    0.03,2,    0.00,2,    0.00,2,-999.000,9,-999.000,9,-999.0000,9,  2047.5,6, 2373.76,2, -999.000,9,  -999.00,   8.09345,2,    25.01, -999.00,9, -999.00,9, -999.00, -999.00,1,-999.000,9, -999.00,9, -999.00,9,     -999.0,9, 20210430,      420,  19.0275, -66.0092,    26.7791,2,     0.0432,1,     4.6252,1,     -999.0,9,     -999.0,9,     -999.0,9
325020210420,        A22,      37,          1,         35,         35,2,20210430,       0209,    19.0275,   -66.0092,       4577,    20.4,  26.7849,  36.2977,2,  36.3020,2,    202.2,2,   201.7,2,    1.17,2,    0.02,2,    0.00,2,    0.00,2,-999.000,9,-999.000,9,-999.0000,9,  -999.0,9, -999.00,9, -999.000,9,  -999.00,-999.00000,9,  -999.00, -999.00,9, -999.00,9, -999.00, -999.00,9,-999.000,9, -999.00,9, -999.00,9,     -999.0,9, 20210430,      417,  19.0274, -66.0092,    26.7776,2,     0.0438,1,     4.6186,1,     -999.0,9,     -999.0,9,     -999.0,9
325020210420,        A22,      37,          1,         34,         34,2,20210430,       0209,    19.0275,   -66.0092,       4577,    40.9,  26.4407,  36.4539,2,  36.4612,2,    205.4,2,   204.8,2,    1.17,2,    0.01,2,    0.00,2,    0.00,2,-999.000,9,-999.000,9,-999.0000,9,  -999.0,9, -999.00,9, -999.000,9,  -999.00,-999.00000,9,  -999.00, -999.00,9, -999.00,9, -999.00, -999.00,9,-999.000,9, -999.00,9, -999.00,9,     -999.0,9, 20210430,      416,  19.0274, -66.0092,    26.4368,2,     0.0449,1,     4.6230,1,     -999.0,9,     -999.0,9,     -999.0,9
325020210420,        A22,      37,          1,         33,         33,2,20210430,       0209,    19.0275,   -66.0092,       4577,    65.2,  26.1882,  36.6979,2,  36.7002,2,    205.9,2,   205.2,2,    0.97,2,    0.00,2,    0.00,2,    0.00,2,-999.000,9,-999.000,9,-999.0000,9,  2056.8,2,  2400.9,2, -999.000,9,  -999.00,   8.10326,6,    25.00, -999.00,9, -999.00,9, -999.00, -999.00,9,-999.000,9, -999.00,9, -999.00,9,     -999.0,9, 20210430,      414,  19.0274, -66.0092,    26.1860,2,     0.0506,1,     4.6294,1,     -999.0,9,     -999.0,9,     -999.0,9
325020210420,        A22,      37,          1,         32,         32,2,20210430,       0209,    19.0275,   -66.0092,       4577,    90.5,  25.9697,  36.8655,2,  36.8772,2,    202.8,2,   203.1,2,    0.88,2,    0.00,2,    0.00,2,    0.00,2,-999.000,9,-999.000,9,-999.0000,9,  2069.3,2, 2410.97,6, -999.000,9,  -999.00,   8.09356,2,    25.01, -999.00,9, -999.00,9, -999.00, -999.00,9,-999.000,9, -999.00,9, -999.00,9,     -999.0,9, 20210430,      413,  19.0275, -66.0092,    25.9668,2,     0.0592,1,     4.6325,1,     -999.0,9,     -999.0,9,     -999.0,9
325020210420,        A22,      37,          1,         31,         31,2,20210430,       0209,    19.0275,   -66.0092,       4577,   116.4,  24.4355,  37.3157,2,  37.3103,2,    191.0,3,   188.9,2,    0.39,2,    0.07,2,    0.03,2,    0.00,2,-999.000,9,-999.000,9,-999.0000,9,  2127.3,2, 2433.85,2, -999.000,9,  -999.00,   8.03473,2,    25.01, -999.00,9, -999.00,9, -999.00, -999.00,1,-999.000,9, -999.00,9, -999.00,9,     -999.0,9, 20210430,      411,  19.0275, -66.0092,    24.4618,2,     0.0936,1,     4.6361,1,     -999.0,9,     -999.0,9,     -999.0,9
325020210420,        A22,      37,          1,         30,         30,2,20210430,       0209,    19.0275,   -66.0092,       4577,   141.2,  22.9412,  37.1822,2,  37.1712,2,    186.2,2,   187.2,2,    0.49,2,    0.34,2,    0.07,2,    0.00,2,-999.000,9,-999.000,9,-999.0000,9,  -999.0,9, -999.00,9, -999.000,9,  -999.00,-999.00000,9,  -999.00, -999.00,9, -999.00,9, -999.00, -999.00,9,-999.000,9, -999.00,9, -999.00,9,     -999.0,9, 20210430,      409,  19.0275, -66.0092,    22.9445,2,     0.0673,1,     4.6504,1,     -999.0,9,     -999.0,9,     -999.0,9
325020210420,        A22,      37,          1,         29,         29,2,20210430,       0209,    19.0275,   -66.0092,       4577,   186.1,  20.4771,  36.8266,2,  36.8244,2,    179.9,2,   180.5,2,    0.68,2,    1.74,2,    0.00,2,    0.02,2,-999.000,9,-999.000,9,-999.0000,9,  2137.6,2, 2403.58,2, -999.000,9,  -999.00,   7.97195,2,    25.00, -999.00,9, -999.00,9, -999.00, -999.00,9,-999.000,9, -999.00,9, -999.00,9,     -999.0,9, 20210430,      407,  19.0275, -66.0092,    20.4767,2,     0.0432,1,     4.6680,1,     -999.0,9,     -999.0,9,     -999.0,9
325020210420,        A22,      37,          1,         28,         28,2,20210430,       0209,    19.0275,   -66.0092,       4577,   236.6,  19.1158,  36.6560,2,  36.6534,2,    185.7,2,   186.2,2,    1.07,2,    3.78,2,    0.00,2,    0.13,2,-999.000,9,-999.000,9,-999.0000,9,  -999.0,9, -999.00,9, -999.000,9,  -999.00,-999.00000,9,  -999.00, -999.00,9, -999.00,9, -999.00, -999.00,9,-999.000,9, -999.00,9, -999.00,9,     -999.0,9, 20210430,      405,  19.0275, -66.0092,    19.1140,2,     0.0391,1,     4.6739,1,     -999.0,9,     -999.0,9,     -999.0,9
325020210420,        A22,      37,          1,         27,         27,2,20210430,       0209,    19.0275,   -66.0092,       4577,   286.3,  18.0881,  36.5128,2,  36.5103,2,    181.6,2,   182.0,2,    1.66,2,    6.03,2,    0.00,2,    0.26,2,-999.000,9,-999.000,9,-999.0000,9,  -999.0,9, -999.00,9, -999.000,9,  -999.00,-999.00000,9,  -999.00, -999.00,9, -999.00,9, -999.00, -999.00,9,-999.000,9, -999.00,9, -999.00,9,     -999.0,9, 20210430,      401,  19.0275, -66.0092,    18.0801,2,     0.0392,1,     4.6742,1,     -999.0,9,     -999.0,9,     -999.0,9
325020210420,        A22,      37,          1,         26,         26,2,20210430,       0209,    19.0275,   -66.0092,       4577,   337.5,  17.0495,  36.3477,2,  36.3517,2,    170.0,2,   170.3,2,    2.53,2,    8.74,2,    0.00,2,    0.44,2,-999.000,9,-999.000,9,-999.0000,9,  -999.0,9, -999.00,9, -999.000,9,  -999.00,-999.00000,9,  -999.00, -999.00,9, -999.00,9, -999.00, -999.00,9,-999.000,9, -999.00,9, -999.00,9,     -999.0,9, 20210430,      400,  19.0275, -66.0092,    17.0508,2,     0.0405,1,     4.6761,1,     -999.0,9,     -999.0,9,     -999.0,9
325020210420,        A22,      37,          1,         25,         25,2,20210430,       0209,    19.0275,   -66.0092,       4577,   387.4,  15.6397,  36.1205,2,  36.0896,3,    157.3,3,   155.7,2,    3.90,2,   12.75,2,    0.00,2,    0.69,2,-999.000,9,-999.000,9,-999.0000,9,  -999.0,9, -999.00,9, -999.000,9,  -999.00,-999.00000,9,  -999.00, -999.00,9, -999.00,9, -999.00, -999.00,9,-999.000,9, -999.00,9, -999.00,9,     -999.0,9, 20210430,      358,  19.0275, -66.0092,    15.6354,2,     0.0404,1,     4.6765,1,     -999.0,9,     -999.0,9,     -999.0,9
325020210420,        A22,      37,          1,         24,         24,2,20210430,       0209,    19.0275,   -66.0092,       4577,   438.5,  13.8832,  35.8160,2,  35.8107,2,    137.8,2,   138.0,2,    6.24,2,   17.35,2,    0.00,2,    0.98,2,-999.000,9,-999.000,9,-999.0000,9,  -999.0,9, -999.00,9, -999.000,9,  -999.00,-999.00000,9,  -999.00, -999.00,9, -999.00,9, -999.00, -999.00,9,-999.000,9, -999.00,9, -999.00,9,     -999.0,9, 20210430,      355,  19.0275, -66.0092,    13.8789,2,     0.0418,1,     4.6768,1,     -999.0,9,     -999.0,9,     -999.0,9
325020210420,        A22,      37,          1,         23,         23,2,20210430,       0209,    19.0275,   -66.0092,       4577,   488.9,  12.8534,  35.6609,2,  35.6625,2,    138.5,2,   138.2,2,    8.00,2,   19.09,2,    0.00,2,    1.11,2,-999.000,9,-999.000,9,-999.0000,9,  2188.9,2, 2336.43,2, -999.000,9,  -999.00,   7.74183,2,    24.99, -999.00,9, -999.00,9, -999.00, -999.00,9,-999.000,9, -999.00,9, -999.00,9,     -999.0,9, 20210430,      353,  19.0275, -66.0092,    12.8497,2,     0.0401,1,     4.6789,1,     -999.0,9,     -999.0,9,     -999.0,9
325020210420,        A22,      37,          1,         22,         22,2,20210430,       0209,    19.0275,   -66.0092,       4577,   569.0,  10.9692,  35.3191,2,  35.3163,2,    124.0,2,   124.8,2,   11.61,2,   24.13,2,    0.00,2,    1.46,2,-999.000,9,-999.000,9,-999.0000,9,  2205.2,2, 2320.53,2, -999.000,9,  -999.00,   7.66423,2,    24.99, -999.00,9, -999.00,9, -999.00, -999.00,9,-999.000,9, -999.00,9, -999.00,9,     -999.0,9, 20210430,      349,  19.0275, -66.0092,    10.9690,2,     0.0425,1,     4.6789,1,     -999.0,9,     -999.0,9,     -999.0,9
325020210420,        A22,      37,          1,         21,         21,2,20210430,       0209,    19.0275,   -66.0092,       4577,   670.9,   9.4162,  35.1195,2,  35.1185,2,    124.2,2,   123.9,2,   14.93,2,   27.21,2,    0.00,2,    1.68,2,   1.356,2,   0.734,2,   0.4800,2,  2209.3,2,  2311.3,2, -999.000,9,  -999.00,   7.62613,2,    25.06, -999.00,9, -999.00,9, -999.00, -999.00,9,-999.000,9, -999.00,9, -999.00,9,      24.58,2, 20210430,      345,  19.0275, -66.0092,     9.4143,2,     0.0424,1,     4.6798,1,     -999.0,9,     -999.0,9,     -999.0,9
325020210420,        A22,      37,          1,         20,         20,2,20210430,       0209,    19.0275,   -66.0092,       4577,   770.7,   8.3155,  35.0162,2,  35.0173,2,    127.4,2,   127.8,2,   17.56,2,   28.52,2,    0.00,2,    1.80,2,-999.000,9,-999.000,9,-999.0000,9,  -999.0,9, -999.00,9, -999.000,9,  -999.00,-999.00000,9,  -999.00, -999.00,9, -999.00,9, -999.00, -999.00,9,-999.000,9, -999.00,9, -999.00,9,     -999.0,9, 20210430,      342,  19.0275, -66.0092,     8.3127,2,     0.0424,1,     4.6793,1,     -999.0,9,     -999.0,9,     -999.0,9
325020210420,        A22,      37,          1,         19,         19,2,20210430,       0209,    19.0275,   -66.0092,       4577,   872.6,   7.3981,  34.9648,2,  34.9638,2,    136.8,2,   137.2,2,   19.51,2,   28.80,2,    0.00,2,    1.83,2,   0.693,2,   0.371,2,   0.2500,2,  -999.0,9, -999.00,9, -999.000,9,  -999.00,-999.00000,9,  -999.00, -999.00,9, -999.00,9, -999.00, -999.00,9,-999.000,9, -999.00,9, -999.00,9,      23.01,2, 20210430,      339,  19.0275, -66.0092,     7.3960,2,     0.0417,1,     4.6809,1,     -999.0,9,     -999.0,9,     -999.0,9
325020210420,        A22,      37,          1,         18,         18,2,20210430,       0209,    19.0275,   -66.0092,       4577,   973.5,   6.2754,  34.9199,2,  34.9193,2,    153.2,2,   152.9,2,   21.47,2,   28.37,2,    0.00,2,    1.83,2,-999.000,9,-999.000,9,-999.0000,9,  2209.8,2, 2310.85,2, -999.000,9,  -999.00,   7.61826,6,    25.01, -999.00,9, -999.00,9, -999.00, -999.00,9,-999.000,9, -999.00,9, -999.00,9,     -999.0,9, 20210430,      335,  19.0275, -66.0092,     6.2748,2,     0.0430,1,     4.6821,1,     -999.0,9,     -999.0,9,     -999.0,9
325020210420,        A22,      37,          1,         17,         17,2,20210430,       0209,    19.0275,   -66.0092,       4577,  1074.4,   6.0896,  35.0391,2,  35.0388,2,    193.9,2,   193.1,2,   16.29,2,   22.78,2,    0.00,2,    1.47,2,-999.000,9,-999.000,9,-999.0000,9,  -999.0,9, -999.00,9, -999.000,9,  -999.00,-999.00000,9,  -999.00, -999.00,9, -999.00,9, -999.00, -999.00,9,-999.000,9, -999.00,9, -999.00,9,     -999.0,9, 20210430,      332,  19.0275, -66.0092,     6.0885,2,     0.0416,1,     4.6818,1,     -999.0,9,     -999.0,9,     -999.0,9
325020210420,        A22,      37,          1,         16,         16,2,20210430,       0209,    19.0275,   -66.0092,       4577,  1175.7,   5.4558,  35.0336,2,  35.0319,2,    212.7,2,   212.2,2,   15.42,2,   21.25,2,    0.00,2,    1.40,2,   1.402,2,   0.730,2,   0.4700,2,  -999.0,9, -999.00,9, -999.000,9,  -999.00,-999.00000,9,  -999.00, -999.00,9, -999.00,9, -999.00, -999.00,9,-999.000,9, -999.00,9, -999.00,9,      16.24,2, 20210430,      329,  19.0275, -66.0092,     5.4554,2,     0.0408,1,     4.6832,1,     -999.0,9,     -999.0,9,     -999.0,9
325020210420,        A22,      37,          1,         15,         15,2,20210430,       0209,    19.0275,   -66.0092,       4577,  1277.2,   5.0860,  35.0433,2,  35.0423,2,    233.5,2,   233.7,2,   13.07,2,   19.19,2,    0.00,2,    1.26,2,   1.960,2,   1.018,2,   0.6400,2,  -999.0,9, -999.00,9, -999.000,9,  -999.00,-999.00000,9,  -999.00, -999.00,9, -999.00,9, -999.00, -999.00,9,-999.000,9, -999.00,9, -999.00,9,      14.82,2, 20210430,      326,  19.0275, -66.0092,     5.0862,2,     0.0417,1,     4.6837,1,     -999.0,9,     -999.0,9,     -999.0,9
325020210420,        A22,      37,          1,         14,         14,2,20210430,       0209,    19.0275,   -66.0092,       4577,  1378.9,   4.6549,  35.0235,2,  35.0238,2,    245.4,2,   245.8,2,   12.78,2,   18.45,2,    0.00,2,    1.21,2,-999.000,9,-999.000,9,-999.0000,9,  -999.0,9, -999.00,9, -999.000,9,  -999.00,-999.00000,9,  -999.00, -999.00,9, -999.00,9, -999.00, -999.00,9,-999.000,9, -999.00,9, -999.00,9,     -999.0,9, 20210430,      322,  19.0275, -66.0092,     4.6541,2,     0.0413,1,     4.6828,1,     -999.0,9,     -999.0,9,     -999.0,9
325020210420,        A22,      37,          1,         13,         13,2,20210430,       0209,    19.0275,   -66.0092,       4577,  1479.5,   4.4544,  35.0133,2,  35.0120,2,    249.8,2,   249.8,2,   12.88,2,   18.27,2,    0.00,2,    1.19,2,   2.109,2,   1.074,2,   0.5700,2,  -999.0,9, -999.00,9, -999.000,9,  -999.00,-999.00000,9,  -999.00, -999.00,9, -999.00,9, -999.00, -999.00,9,-999.000,9, -999.00,9, -999.00,9,      14.21,2, 20210430,      319,  19.0275, -66.0092,     4.4538,2,     0.0426,1,     4.6838,1,     -999.0,9,     -999.0,9,     -999.0,9
325020210420,        A22,      37,          1,         12,         12,2,20210430,       0209,    19.0275,   -66.0092,       4577,  1580.8,   4.2321,  35.0020,2,  35.0041,2,    253.3,2,   253.4,2,   13.37,2,   18.16,2,    0.00,2,    1.18,2,-999.000,9,-999.000,9,-999.0000,9,  -999.0,9, -999.00,9, -999.000,9,  -999.00,-999.00000,9,  -999.00, -999.00,9, -999.00,9, -999.00, -999.00,9,-999.000,9, -999.00,9, -999.00,9,     -999.0,9, 20210430,      316,  19.0274, -66.0092,     4.2318,2,     0.0415,1,     4.6838,1,     -999.0,9,     -999.0,9,     -999.0,9
325020210420,        A22,      37,          1,         11,         11,2,20210430,       0209,    19.0275,   -66.0092,       4577,  1753.2,   3.9061,  34.9846,2,  34.9843,2,    257.5,2,   258.0,2,   14.44,2,   18.11,2,    0.00,2,    1.18,2,   1.743,2,   0.868,2,   0.4200,2,  2169.4,2, 2309.86,2, -999.000,9,  -999.00,   7.72794,6,    25.01, -999.00,9, -999.00,9, -999.00, -999.00,9,-999.000,9, -999.00,9, -999.00,9,      13.65,2, 20210430,      312,  19.0274, -66.0092,     3.9056,2,     0.0418,1,     4.6838,1,     -999.0,9,     -999.0,9,     -999.0,9
325020210420,        A22,      37,          1,         10,         10,2,20210430,       0209,    19.0275,   -66.0092,       4577,  1955.9,   3.6158,  34.9713,2,  34.9697,2,    259.6,2,   260.0,2,   15.90,2,   18.14,2,    0.00,2,    1.20,2,-999.000,9,-999.000,9,-999.0000,9,  -999.0,9, -999.00,9, -999.000,9,  -999.00,-999.00000,9,  -999.00, -999.00,9, -999.00,9, -999.00, -999.00,9,-999.000,9, -999.00,9, -999.00,9,     -999.0,9, 20210430,      307,  19.0274, -66.0092,     3.6155,2,     0.0423,1,     4.6835,1,     -999.0,9,     -999.0,9,     -999.0,9
325020210420,        A22,      37,          1,          9,          9,2,20210430,       0209,    19.0275,   -66.0092,       4577,  2189.5,   3.3698,  34.9609,2,  34.9601,2,    260.2,2,   260.7,2,   17.95,2,   18.28,2,    0.00,2,    1.21,2,-999.000,9,-999.000,9,-999.0000,9,  -999.0,9, -999.00,9, -999.000,9,  -999.00,-999.00000,9,  -999.00, -999.00,9, -999.00,9, -999.00, -999.00,9,-999.000,9, -999.00,9, -999.00,9,     -999.0,9, 20210430,      302,  19.0274, -66.0092,     3.3693,2,     0.0416,1,     4.6839,1,     -999.0,9,     -999.0,9,     -999.0,9
325020210420,        A22,      37,          1,          8,          8,2,20210430,       0209,    19.0275,   -66.0092,       4577,  2444.4,   3.1130,  34.9492,2,  34.9494,2,    260.3,2,   260.7,2,   20.69,2,   18.43,2,    0.00,2,    1.22,2,   0.856,2,   0.426,2,   0.1800,2,  -999.0,9, -999.00,9, -999.000,9,  -999.00,-999.00000,9,  -999.00, -999.00,9, -999.00,9, -999.00, -999.00,9,-999.000,9, -999.00,9, -999.00,9,      13.33,2, 20210430,      255,  19.0274, -66.0092,     3.1127,2,     0.0426,1,     4.6839,1,     -999.0,9,     -999.0,9,     -999.0,9
325020210420,        A22,      37,          1,          7,          7,2,20210430,       0209,    19.0275,   -66.0092,       4577,  2699.3,   2.8720,  34.9344,2,  34.9337,2,    262.2,2,   262.5,2,   22.64,2,   18.39,2,    0.00,2,    1.22,2,   0.909,2,   0.456,2,   0.2800,2,  -999.0,9, -999.00,9, -999.000,9,  -999.00,-999.00000,9,  -999.00, -999.00,9, -999.00,9, -999.00, -999.00,9,-999.000,9, -999.00,9, -999.00,9,      13.38,2, 20210430,      250,  19.0274, -66.0092,     2.8720,2,     0.0428,1,     4.6839,1,     -999.0,9,     -999.0,9,     -999.0,9
325020210420,        A22,      37,          1,          6,          6,2,20210430,       0209,    19.0275,   -66.0092,       4577,  2953.0,   2.6929,  34.9222,2,  34.9211,2,    265.3,2,   265.5,2,   22.83,2,   18.08,2,    0.00,2,    1.20,2,-999.000,9,-999.000,9,-999.0000,9,  -999.0,9, -999.00,9, -999.000,9,  -999.00,-999.00000,9,  -999.00, -999.00,9, -999.00,9, -999.00, -999.00,9,-999.000,9, -999.00,9, -999.00,9,     -999.0,9, 20210430,      244,  19.0274, -66.0092,     2.6930,2,     0.0430,1,     4.6837,1,     -999.0,9,     -999.0,9,     -999.0,9
325020210420,        A22,      37,          1,          5,          5,2,20210430,       0209,    19.0275,   -66.0092,       4577,  3243.9,   2.5267,  34.9113,2,  34.9111,2,    267.0,2,   267.3,2,   24.10,2,   17.97,2,    0.00,2,    1.20,2,   1.151,2,   0.613,2,   0.4100,2,  2174.2,2, 2315.11,2, -999.000,9,  -999.00,   7.73466,2,    25.00, -999.00,9, -999.00,9, -999.00, -999.00,9,-999.000,9, -999.00,9, -999.00,9,      13.33,2, 20210430,      238,  19.0274, -66.0092,     2.5268,2,     0.0430,1,     4.6827,1,     -999.0,9,     -999.0,9,     -999.0,9
325020210420,        A22,      37,          1,          4,          4,2,20210430,       0209,    19.0275,   -66.0092,       4577,  3550.6,   2.4222,  34.9034,2,  34.9040,2,    267.9,2,   267.8,2,   25.27,2,   17.98,2,    0.00,2,    1.20,2,-999.000,9,-999.000,9,-999.0000,9,  -999.0,9, -999.00,9, -999.000,9,  -999.00,-999.00000,9,  -999.00, -999.00,9, -999.00,9, -999.00, -999.00,9,-999.000,9, -999.00,9, -999.00,9,     -999.0,9, 20210430,      231,  19.0274, -66.0091,     2.4231,2,     0.0424,1,     4.6816,1,     -999.0,9,     -999.0,9,     -999.0,9
325020210420,        A22,      37,          1,          3,          3,2,20210430,       0209,    19.0275,   -66.0092,       4577,  3857.8,   2.3620,  34.8974,2,  34.8977,2,    267.2,2,   267.3,2,   27.22,2,   18.14,2,    0.00,2,    1.22,2,   1.248,2,   0.625,2,   0.3800,2,  2179.4,2, 2318.83,2, -999.000,9,  -999.00,   7.73187,2,    25.01, -999.00,9, -999.00,9, -999.00, -999.00,9,-999.000,9, -999.00,9, -999.00,9,      13.64,2, 20210430,      225,  19.0274, -66.0092,     2.3626,2,     0.0424,1,     4.6812,1,     -999.0,9,     -999.0,9,     -999.0,9