BOTTLE,20230513CCHSIOCBG
EXPOCODE,SECT_ID,STNNBR,CASTNO,SAMPNO,BTLNBR,BTLNBR_FLAG_W,DATE,TIME,LATITUDE,LONGITUDE,DEPTH,CTDPRS,CTDTMP,CTDSAL,CTDSAL_FLAG_W,SALNTY,SALNTY_FLAG_W,CTDOXY,CTDOXY_FLAG_W,OXYGEN,OXYGEN_FLAG_W,SILCAT,SILCAT_FLAG_W,NITRAT,NITRAT_FLAG_W,NITRIT,NITRIT_FLAG_W,PHSPHT,PHSPHT_FLAG_W,CFC-11,CFC-11_FLAG_W,CFC-12,CFC-12_FLAG_W,SF6,SF6_FLAG_W,TCARBN,TCARBN_FLAG_W,ALKALI,ALKALI_FLAG_W,FCO2,FCO2_FLAG_W,FCO2TMP,PH_TOT,PH_TOT_FLAG_W,PH_TMP,DELC13,DELC13_FLAG_W,DELC14,DELC14_FLAG_W,C14ERR,DELO18,DELO18_FLAG_W,POC,POC_FLAG_W,DOC,DOC_FLAG_W,TDN,TDN_FLAG_W,N2O,N2O_FLAG_W,BTL_DATE,BTL_TIME,BTL_LAT,BTL_LON,REFTMP,REFTMP_FLAG_W,CTDFLUOR,CTDFLUOR_FLAG_W,CTDXMISS,CTDXMISS_FLAG_W,D15N_NO2+NO3,D15N_NO2+NO3_FLAG_W,D18O_NO2+NO3,D18O_NO2+NO3_FLAG_W,HPLC,HPLC_FLAG_W
,,,,,,,,,,,METERS,DBAR,ITS-90,PSS-78,,PSS-78,,UMOL/KG,,UMOL/KG,,UMOL/KG,,UMOL/KG,,UMOL/KG,,UMOL/KG,,PMOL/KG,,PMOL/KG,,FMOL/KG,,UMOL/KG,,UMOL/KG,,UATM,,DEG C,,,DEG C,/MILLE,,/MILLE,,/MILLE,/MILLE,,UG/KG,,UMOL/KG,,UMOL/KG,,NMOL/KG,,,,,,ITS-90,,VOLTS,,VOLTS,,/MILLE,,/MILLE,,,
325020210420,        A22,      59,          1,         36,         36,2,20210506,       1443,    29.3158,   -65.4319,       4856,     5.3,  24.1175,  36.9490,2,  36.9491,2,    218.6,3,   214.2,2,    1.07,2,    0.02,2,    0.00,2,    0.02,2,   1.722,2,   1.081,2,   1.7700,2,  2086.4,6,  2413.7,2, -999.000,9,  -999.00,   8.05853,2,    25.01, -999.00,9, -999.00,9, -999.00, -999.00,1,-999.000,9, -999.00,9, -999.00,9,       6.35,2, 20210506,     1654,  29.3158, -65.4319,    24.0906,2,     0.0408,1,     4.6004,1,     -999.0,9,     -999.0,9,     -999.0,9
325020210420,        A22,      59,          1,         35,         35,2,20210506,       1443,    29.3158,   -65.4319,       4856,    25.5,  22.9092,  36.9464,2,  36.9457,2,    216.7,2,   216.4,2,    0.68,2,    0.00,2,    0.00,2,    0.00,2,-999.000,9,-999.000,9,-999.0000,9,  -999.0,9, -999.00,9, -999.000,9,  -999.00,-999.00000,9,  -999.00, -999.00,9, -999.00,9, -999.00, -999.00,9,-999.000,9, -999.00,9, -999.00,9,     -999.0,9, 20210506,     1652,  29.3158, -65.4319,    22.9088,2,     0.0417,1,     4.6141,1,     -999.0,9,     -999.0,9,     -999.0,9
325020210420,        A22,      59,          1,         34,         34,2,20210506,       1443,    29.3158,   -65.4319,       4856,    50.7,  21.6166,  36.8656,2,  36.8532,2,    218.6,2,   219.7,2,    0.68,2,    0.00,2,    0.00,2,    0.00,2,-999.000,9,-999.000,9,-999.0000,9,  -999.0,9, -999.00,9, -999.000,9,  -999.00,-999.00000,9,  -999.00, -999.00,9, -999.00,9, -999.00, -999.00,9,-999.000,9, -999.00,9, -999.00,9,     -999.0,9, 20210506,     1650,  29.3158, -65.4319,    21.6123,2,     0.0469,1,     4.6151,1,     -999.0,9,     -999.0,9,     -999.0,9
325020210420,        A22,      59,          1,         33,         33,2,20210506,       1443,    29.3158,   -65.4319,       4856,    75.9,  20.6329,  36.7805,2,  36.7830,2,    210.3,2,   209.8,2,    0.58,2,    0.01,2,    0.00,2,    0.00,2,   1.878,2,   1.183,2,   1.8500,2,  2101.9,2, 2403.04,2, -999.000,9,  -999.00,     8.019,6,    25.00, -999.00,9, -999.00,9, -999.00, -999.00,9,-999.000,9, -999.00,9, -999.00,9,       6.91,2, 20210506,     1648,  29.3158, -65.4319,    20.6298,2,     0.0800,1,     4.5986,1,     -999.0,9,     -999.0,9,     -999.0,9
325020210420,        A22,      59,          1,         32,         32,2,20210506,       1443,    29.3158,   -65.4319,       4856,   101.0,  19.9302,  36.7215,2,  36.7219,2,    224.2,2,   224.1,2,    0.58,2,    0.04,2,    0.02,2,    0.00,2,-999.000,9,-999.000,9,-999.0000,9,  -999.0,9, -999.00,9, -999.000,9,  -999.00,-999.00000,9,  -999.00, -999.00,9, -999.00,9, -999.00, -999.00,1,-999.000,9, -999.00,9, -999.00,9,     -999.0,9, 20210506,     1646,  29.3158, -65.4319,    19.9259,2,     0.0899,1,     4.6016,1,     -999.0,9,     -999.0,9,     -999.0,9
325020210420,        A22,      59,          1,         31,         31,2,20210506,       1443,    29.3158,   -65.4319,       4856,   151.9,  19.4957,  36.7046,2,  36.7068,2,    219.1,2,   219.2,2,    0.68,2,    0.72,2,    0.09,2,    0.00,2,   1.968,2,   1.221,2,   1.9500,2,  2100.8,2, 2397.64,6, -999.000,9,  -999.00,   8.01269,2,    25.01, -999.00,9, -999.00,9, -999.00, -999.00,9,-999.000,9, -999.00,9, -999.00,9,       7.30,2, 20210506,     1644,  29.3158, -65.4319,    19.4952,2,     0.0670,1,     4.6410,1,     -999.0,9,     -999.0,9,     -999.0,9
325020210420,        A22,      59,          1,         30,         30,2,20210506,       1443,    29.3158,   -65.4319,       4856,   201.9,  19.2978,  36.6896,2,  36.6905,2,    215.9,2,   215.5,2,    0.78,2,    1.43,2,    0.00,2,    0.02,2,-999.000,9,-999.000,9,-999.0000,9,  -999.0,9, -999.00,9, -999.000,9,  -999.00,-999.00000,9,  -999.00, -999.00,9, -999.00,9, -999.00, -999.00,9,-999.000,9, -999.00,9, -999.00,9,     -999.0,9, 20210506,     1642,  29.3158, -65.4319,    19.2962,2,     0.0433,1,     4.6571,1,     -999.0,9,     -999.0,9,     -999.0,9
325020210420,        A22,      59,          1,         29,         29,2,20210506,       1443,    29.3158,   -65.4319,       4856,   252.7,  19.2224,  36.6860,2,  36.6852,2,    215.8,2,   216.4,2,    1.36,2,    1.61,2,    0.00,2,    0.02,2,   1.977,2,   1.236,2,   1.9200,2,  2104.0,2, 2394.42,2, -999.000,9,  -999.00,   8.00114,6,    25.03, -999.00,9, -999.00,9, -999.00, -999.00,9,-999.000,9, -999.00,9, -999.00,9,       7.44,2, 20210506,     1640,  29.3158, -65.4319,    19.2220,2,     0.0401,1,     4.6593,1,     -999.0,9,     -999.0,9,     -999.0,9
325020210420,        A22,      59,          1,         28,         28,2,20210506,       1443,    29.3158,   -65.4319,       4856,   302.7,  19.1146,  36.6703,2,  36.6709,2,    212.0,2,   211.8,2,    1.27,2,    2.01,2,    0.00,2,    0.03,2,-999.000,9,-999.000,9,-999.0000,9,  -999.0,9, -999.00,9, -999.000,9,  -999.00,-999.00000,9,  -999.00, -999.00,9, -999.00,9, -999.00, -999.00,9,-999.000,9, -999.00,9, -999.00,9,     -999.0,9, 20210506,     1637,  29.3158, -65.4319,    19.1132,2,     0.0389,1,     4.6608,1,     -999.0,9,     -999.0,9,     -999.0,9
325020210420,        A22,      59,          1,         27,         27,2,20210506,       1443,    29.3158,   -65.4319,       4856,   353.1,  18.9379,  36.6505,2,  36.6489,2,    209.0,2,   208.9,2,    1.27,2,    2.53,2,    0.00,2,    0.06,2,-999.000,9,-999.000,9,-999.0000,9,  -999.0,9, -999.00,9, -999.000,9,  -999.00,-999.00000,9,  -999.00, -999.00,9, -999.00,9, -999.00, -999.00,9,-999.000,9, -999.00,9, -999.00,9,     -999.0,9, 20210506,     1635,  29.3158, -65.4319,    18.9381,2,     0.0398,1,     4.6605,1,     -999.0,9,     -999.0,9,     -999.0,9
325020210420,        A22,      59,          1,         26,         26,2,20210506,       1443,    29.3158,   -65.4319,       4856,   403.1,  18.5803,  36.5870,2,  36.5858,2,    201.9,2,   201.8,2,    1.56,2,    3.67,2,    0.00,2,    0.12,2,-999.000,9,-999.000,9,-999.0000,9,  -999.0,9, -999.00,9, -999.000,9,  -999.00,-999.00000,9,  -999.00, -999.00,9, -999.00,9, -999.00, -999.00,1,-999.000,9, -999.00,9, -999.00,9,     -999.0,9, 20210506,     1633,  29.3158, -65.4319,    18.5795,2,     0.0395,1,     4.6630,1,     -999.0,9,     -999.0,9,     -999.0,9
325020210420,        A22,      59,          1,         25,         25,2,20210506,       1443,    29.3158,   -65.4319,       4856,   453.5,  18.0792,  36.4993,2,  36.4998,2,    191.2,2,   191.4,2,    1.95,2,    5.38,2,    0.00,2,    0.21,2,   2.166,2,   1.312,2,   1.6900,2,  2129.3,2, 2383.76,2, -999.000,9,  -999.00,   7.94404,2,    24.99, -999.00,9, -999.00,9, -999.00, -999.00,9,-999.000,9, -999.00,9, -999.00,9,       9.14,2, 20210506,     1631,  29.3158, -65.4319,    18.0786,2,     0.0392,1,     4.6653,1,     -999.0,9,     -999.0,9,     -999.0,9
325020210420,        A22,      59,          1,         24,         24,2,20210506,       1443,    29.3158,   -65.4319,       4856,   504.8,  17.3971,  36.3895,2,  36.3891,2,    183.0,2,   183.2,2,    2.53,2,    7.18,2,    0.00,2,    0.33,2,-999.000,9,-999.000,9,-999.0000,9,  -999.0,9, -999.00,9, -999.000,9,  -999.00,-999.00000,9,  -999.00, -999.00,9, -999.00,9, -999.00, -999.00,9,-999.000,9, -999.00,9, -999.00,9,     -999.0,9, 20210506,     1628,  29.3158, -65.4319,    17.3967,2,     0.0397,1,     4.6693,1,     -999.0,9,     -999.0,9,     -999.0,9
325020210420,        A22,      59,          1,         23,         23,2,20210506,       1443,    29.3158,   -65.4319,       4856,   605.0,  15.4979,  36.0648,2,  36.0641,2,    173.0,2,   173.2,2,    4.19,2,   11.20,2,    0.00,2,    0.59,2,   2.212,2,   1.330,2,   1.3400,2,  2151.2,2, 2359.16,2, -999.000,9,  -999.00,   7.85739,2,    24.99, -999.00,9, -999.00,9, -999.00, -999.00,9,-999.000,9, -999.00,9, -999.00,9,      12.43,2, 20210506,     1625,  29.3158, -65.4319,    15.4963,2,     0.0409,1,     4.6682,1,     -999.0,9,     -999.0,9,     -999.0,9
325020210420,        A22,      59,          1,         22,         22,2,20210506,       1443,    29.3158,   -65.4319,       4856,   706.2,  13.3258,  35.7296,2,  35.7314,2,    165.7,2,   165.8,2,    6.73,2,   15.37,2,    0.00,2,    0.88,2,-999.000,9,-999.000,9,-999.0000,9,  -999.0,9, -999.00,9, -999.000,9,  -999.00,-999.00000,9,  -999.00, -999.00,9, -999.00,9, -999.00, -999.00,1,-999.000,9, -999.00,9, -999.00,9,     -999.0,9, 20210506,     1622,  29.3158, -65.4319,    13.3215,2,     0.0406,1,     4.6716,1,     -999.0,9,     -999.0,9,     -999.0,9
325020210420,        A22,      59,          1,         21,         21,2,20210506,       1443,    29.3158,   -65.4319,       4856,   807.2,  11.0998,  35.4346,2,  35.4365,2,    149.6,2,   149.6,2,   10.34,2,   20.61,2,    0.00,2,    1.24,2,   1.751,2,   0.990,2,   0.7800,2,  2181.2,2, 2328.28,2, -999.000,9,  -999.00,      7.72,2,    24.98, -999.00,9, -999.00,9, -999.00, -999.00,9,-999.000,9, -999.00,9, -999.00,9,      18.59,2, 20210506,     1619,  29.3158, -65.4319,    11.1033,2,     0.0416,1,     4.6740,1,     -999.0,9,     -999.0,9,     -999.0,9
325020210420,        A22,      59,          1,         20,         20,2,20210506,       1443,    29.3158,   -65.4319,       4856,   908.1,   8.8544,  35.2124,2,  35.2125,2,    155.0,2,   156.1,2,   13.75,2,   23.16,2,    0.00,2,    1.43,2,-999.000,9,-999.000,9,-999.0000,9,  -999.0,9, -999.00,9, -999.000,9,  -999.00,-999.00000,9,  -999.00, -999.00,9, -999.00,9, -999.00, -999.00,9,-999.000,9, -999.00,9, -999.00,9,     -999.0,9, 20210506,     1616,  29.3158, -65.4319,     8.8557,2,     0.0417,1,     4.6731,1,     -999.0,9,     -999.0,9,     -999.0,9
325020210420,        A22,      59,          1,         19,         19,2,20210506,       1443,    29.3158,   -65.4319,       4856,  1009.2,   7.3760,  35.1333,2,  35.1331,2,    176.0,2,   175.9,2,   14.73,2,   22.75,2,    0.00,2,    1.44,2,   1.396,2,   0.743,2,   0.4700,2,  2187.6,2, 2315.48,2, -999.000,9,  -999.00,   7.67673,2,    24.99, -999.00,9, -999.00,9, -999.00, -999.00,9,-999.000,9, -999.00,9, -999.00,9,      17.59,2, 20210506,     1613,  29.3158, -65.4319,     7.3716,2,     0.0416,1,     4.6764,1,     -999.0,9,     -999.0,9,     -999.0,9
325020210420,        A22,      59,          1,         18,         18,2,20210506,       1443,    29.3158,   -65.4319,       4856,  1111.1,   6.2176,  35.1077,2,  35.1065,2,    206.2,2,   205.8,2,   13.85,2,   20.74,2,    0.00,2,    1.34,2,-999.000,9,-999.000,9,-999.0000,9,  -999.0,9, -999.00,9, -999.000,9,  -999.00,-999.00000,9,  -999.00, -999.00,9, -999.00,9, -999.00, -999.00,9,-999.000,9, -999.00,9, -999.00,9,     -999.0,9, 20210506,     1609,  29.3158, -65.4319,     6.2251,2,     0.0430,1,     4.6773,1,     -999.0,9,     -999.0,9,     -999.0,9
325020210420,        A22,      59,          1,         17,         17,2,20210506,       1443,    29.3158,   -65.4319,       4856,  1211.9,   5.6100,  35.0892,2,  35.0884,2,    223.7,2,   223.7,2,   13.27,2,   19.57,2,    0.00,2,    1.27,2,   1.926,2,   1.026,2,   0.5800,2,  2175.0,2, 2313.04,2, -999.000,9,  -999.00,    7.7044,2,    24.99, -999.00,9, -999.00,9, -999.00, -999.00,9,-999.000,9, -999.00,9, -999.00,9,      14.97,2, 20210506,     1607,  29.3158, -65.4319,     5.6121,2,     0.0417,1,     4.6778,1,     -999.0,9,     -999.0,9,     -999.0,9
325020210420,        A22,      59,          1,         16,         16,2,20210506,       1443,    29.3158,   -65.4319,       4856,  1313.2,   5.0750,  35.0607,2,  35.0640,2,    238.6,2,   237.8,2,   12.68,2,   18.75,2,    0.00,2,    1.22,2,-999.000,9,-999.000,9,-999.0000,9,  -999.0,9, -999.00,9, -999.000,9,  -999.00,-999.00000,9,  -999.00, -999.00,9, -999.00,9, -999.00, -999.00,9,-999.000,9, -999.00,9, -999.00,9,     -999.0,9, 20210506,     1604,  29.3158, -65.4319,     5.0827,2,     0.0417,1,     4.6771,1,     -999.0,9,     -999.0,9,     -999.0,9
325020210420,        A22,      59,          1,         15,         15,2,20210506,       1443,    29.3158,   -65.4319,       4856,  1414.9,   4.8090,  35.0462,2,  35.0461,2,    244.6,2,   245.1,2,   12.58,2,   18.42,2,    0.00,2,    1.21,2,   2.255,2,   1.180,2,   0.6600,2,  2170.3,2,  2311.3,2, -999.000,9,  -999.00,   7.71539,2,    24.99, -999.00,9, -999.00,9, -999.00, -999.00,9,-999.000,9, -999.00,9, -999.00,9,      13.79,2, 20210506,     1601,  29.3158, -65.4319,     4.8116,2,     0.0415,1,     4.6777,1,     -999.0,9,     -999.0,9,     -999.0,9
325020210420,        A22,      59,          1,         14,         14,2,20210506,       1443,    29.3158,   -65.4319,       4856,  1515.6,   4.5912,  35.0403,2,  35.0402,2,    247.8,2,   247.8,2,   13.07,2,   18.39,2,    0.00,2,    1.21,2,-999.000,9,-999.000,9,-999.0000,9,  -999.0,9, -999.00,9, -999.000,9,  -999.00,-999.00000,9,  -999.00, -999.00,9, -999.00,9, -999.00, -999.00,9,-999.000,9, -999.00,9, -999.00,9,     -999.0,9, 20210506,     1559,  29.3158, -65.4319,     4.5915,2,     0.0417,1,     4.6777,1,     -999.0,9,     -999.0,9,     -999.0,9
325020210420,        A22,      59,          1,         13,         13,2,20210506,       1443,    29.3158,   -65.4319,       4856,  1617.6,   4.4203,  35.0322,2,  35.0315,2,    250.0,2,   250.0,2,   13.75,2,   18.35,2,    0.00,2,    1.20,2,   1.873,2,   0.941,2,   0.4000,2,  2165.9,2, 2312.55,2, -999.000,9,  -999.00,    7.7233,2,    24.99, -999.00,9, -999.00,9, -999.00, -999.00,9,-999.000,9, -999.00,9, -999.00,9,      13.29,2, 20210506,     1556,  29.3158, -65.4319,     4.4199,2,     0.0422,1,     4.6778,1,     -999.0,9,     -999.0,9,     -999.0,9
325020210420,        A22,      59,          1,         12,         12,2,20210506,       1443,    29.3158,   -65.4319,       4856,  1820.6,   4.0623,  35.0102,2,  35.0092,2,    254.0,2,   254.2,2,   14.92,2,   18.32,2,    0.00,2,    1.21,2,-999.000,9,-999.000,9,-999.0000,9,  -999.0,9, -999.00,9, -999.000,9,  -999.00,-999.00000,9,  -999.00, -999.00,9, -999.00,9, -999.00, -999.00,9,-999.000,9, -999.00,9, -999.00,9,     -999.0,9, 20210506,     1551,  29.3158, -65.4319,     4.0626,2,     0.0422,1,     4.6787,1,     -999.0,9,     -999.0,9,     -999.0,9
325020210420,        A22,      59,          1,         11,         11,2,20210506,       1443,    29.3158,   -65.4319,       4856,  2023.8,   3.7569,  34.9918,2,  34.9911,2,    256.5,2,   256.9,2,   16.68,2,   18.38,2,    0.00,2,    1.22,2,-999.000,9,-999.000,9,-999.0000,9,  -999.0,9, -999.00,9, -999.000,9,  -999.00,-999.00000,9,  -999.00, -999.00,9, -999.00,9, -999.00, -999.00,9,-999.000,9, -999.00,9, -999.00,9,     -999.0,9, 20210506,     1546,  29.3158, -65.4319,     3.7563,2,     0.0412,1,     4.6788,1,     -999.0,9,     -999.0,9,     -999.0,9
325020210420,        A22,      59,          1,         10,         10,2,20210506,       1443,    29.3158,   -65.4319,       4856,  2277.3,   3.4037,  34.9693,2,  34.9683,2,    258.7,2,   259.2,2,   19.02,2,   18.43,2,    0.00,2,    1.23,2,-999.000,9,-999.000,9,-999.0000,9,  -999.0,9, -999.00,9, -999.000,9,  -999.00,-999.00000,9,  -999.00, -999.00,9, -999.00,9, -999.00, -999.00,9,-999.000,9, -999.00,9, -999.00,9,     -999.0,9, 20210506,     1540,  29.3158, -65.4319,     3.4045,2,     0.0422,1,     4.6785,1,     -999.0,9,     -999.0,9,     -999.0,9
325020210420,        A22,      59,          1,          9,          9,2,20210506,       1443,    29.3158,   -65.4319,       4856,  2531.6,   3.1447,  34.9519,2,  34.9506,2,    261.0,2,   261.5,2,   20.39,2,   18.40,2,    0.00,2,    1.24,2,-999.000,9,-999.000,9,-999.0000,9,  -999.0,9, -999.00,9, -999.000,9,  -999.00,-999.00000,9,  -999.00, -999.00,9, -999.00,9, -999.00, -999.00,9,-999.000,9, -999.00,9, -999.00,9,     -999.0,9, 20210506,     1535,  29.3158, -65.4319,     3.1456,2,     0.0427,1,     4.6779,1,     -999.0,9,     -999.0,9,     -999.0,9
325020210420,        A22,      59,          1,          8,          8,2,20210506,       1443,    29.3158,   -65.4319,       4856,  2787.1,   2.8814,  34.9351,2,  34.9347,2,    263.6,2,   264.1,2,   21.85,2,   18.24,2,    0.00,2,    1.24,2,-999.000,9,-999.000,9,-999.0000,9,  -999.0,9, -999.00,9, -999.000,9,  -999.00,-999.00000,9,  -999.00, -999.00,9, -999.00,9, -999.00, -999.00,9,-999.000,9, -999.00,9, -999.00,9,     -999.0,9, 20210506,     1529,  29.3158, -65.4319,     2.8811,2,     0.0429,1,     4.6777,1,     -999.0,9,     -999.0,9,     -999.0,9
325020210420,        A22,      59,          1,          7,          7,2,20210506,       1443,    29.3158,   -65.4319,       4856,  3042.6,   2.6585,  34.9207,2,  34.9213,2,    266.3,2,   266.6,2,   22.92,2,   18.06,2,    0.00,2,    1.22,2,-999.000,9,-999.000,9,-999.0000,9,  -999.0,9, -999.00,9, -999.000,9,  -999.00,-999.00000,9,  -999.00, -999.00,9, -999.00,9, -999.00, -999.00,9,-999.000,9, -999.00,9, -999.00,9,     -999.0,9, 20210506,     1524,  29.3158, -65.4319,     2.6592,2,     0.0429,1,     4.6776,1,     -999.0,9,     -999.0,9,     -999.0,9
325020210420,        A22,      59,          1,          6,          6,2,20210506,       1443,    29.3158,   -65.4319,       4856,  3348.9,   2.4591,  34.9079,2,  34.9061,2,    267.9,2,   268.2,2,   24.78,2,   18.04,2,    0.00,2,    1.23,2,-999.000,9,-999.000,9,-999.0000,9,  -999.0,9, -999.00,9, -999.000,9,  -999.00,-999.00000,9,  -999.00, -999.00,9, -999.00,9, -999.00, -999.00,9,-999.000,9, -999.00,9, -999.00,9,     -999.0,9, 20210506,     1516,  29.3158, -65.4319,     2.4595,2,     0.0427,1,     4.6775,1,     -999.0,9,     -999.0,9,     -999.0,9
325020210420,        A22,      59,          1,          5,          5,2,20210506,       1443,    29.3158,   -65.4319,       4856,  3655.5,   2.3672,  34.9004,2,  34.8991,2,    267.5,2,   267.9,2,   26.63,2,   18.20,2,    0.00,2,    1.24,2,-999.000,9,-999.000,9,-999.0000,9,  -999.0,9, -999.00,9, -999.000,9,  -999.00,-999.00000,9,  -999.00, -999.00,9, -999.00,9, -999.00, -999.00,9,-999.000,9, -999.00,9, -999.00,9,     -999.0,9, 20210506,     1510,  29.3158, -65.4319,     2.3676,2,     0.0428,1,     4.6777,1,     -999.0,9,     -999.0,9,     -999.0,9
325020210420,        A22,      59,          1,          4,          4,2,20210506,       1443,    29.3158,   -65.4319,       4856,  3963.3,   2.3042,  34.8943,2,  34.8936,2,    266.6,2,   266.3,2,   29.07,2,   18.48,2,    0.00,2,    1.27,2,   0.971,2,   0.491,2,   0.1900,2,  2169.0,2, 2317.81,2, -999.000,9,  -999.00,    7.7334,2,    25.00, -999.00,9, -999.00,9, -999.00, -999.00,9,-999.000,9, -999.00,9, -999.00,9,      13.22,2, 20210506,     1503,  29.3158, -65.4319,     2.3043,2,     0.0430,1,     4.6777,1,     -999.0,9,     -999.0,9,     -999.0,9
325020210420,        A22,      59,          1,          3,          3,2,20210506,       1443,    29.3158,   -65.4319,       4856,  4271.4,   2.2682,  34.8886,2,  34.8880,2,    264.6,2,   264.9,2,   32.00,2,   18.91,2,    0.00,2,    1.30,2,   0.871,2,   0.443,2,   0.1500,2,  2175.2,2,  2322.8,2, -999.000,9,  -999.00,   7.73118,2,    24.98, -999.00,9, -999.00,9, -999.00, -999.00,9,-999.000,9, -999.00,9, -999.00,9,      13.20,2, 20210506,     1455,  29.3158, -65.4319,     2.2680,2,     0.0428,1,     4.6772,1,     -999.0,9,     -999.0,9,     -999.0,9