BOTTLE,20230513CCHSIOCBG
EXPOCODE,SECT_ID,STNNBR,CASTNO,SAMPNO,BTLNBR,BTLNBR_FLAG_W,DATE,TIME,LATITUDE,LONGITUDE,DEPTH,CTDPRS,CTDTMP,CTDSAL,CTDSAL_FLAG_W,SALNTY,SALNTY_FLAG_W,CTDOXY,CTDOXY_FLAG_W,OXYGEN,OXYGEN_FLAG_W,SILCAT,SILCAT_FLAG_W,NITRAT,NITRAT_FLAG_W,NITRIT,NITRIT_FLAG_W,PHSPHT,PHSPHT_FLAG_W,CFC-11,CFC-11_FLAG_W,CFC-12,CFC-12_FLAG_W,SF6,SF6_FLAG_W,TCARBN,TCARBN_FLAG_W,ALKALI,ALKALI_FLAG_W,FCO2,FCO2_FLAG_W,FCO2TMP,PH_TOT,PH_TOT_FLAG_W,PH_TMP,DELC13,DELC13_FLAG_W,DELC14,DELC14_FLAG_W,C14ERR,DELO18,DELO18_FLAG_W,POC,POC_FLAG_W,DOC,DOC_FLAG_W,TDN,TDN_FLAG_W,N2O,N2O_FLAG_W,BTL_DATE,BTL_TIME,BTL_LAT,BTL_LON,REFTMP,REFTMP_FLAG_W,CTDFLUOR,CTDFLUOR_FLAG_W,CTDXMISS,CTDXMISS_FLAG_W,D15N_NO2+NO3,D15N_NO2+NO3_FLAG_W,D18O_NO2+NO3,D18O_NO2+NO3_FLAG_W,HPLC,HPLC_FLAG_W
,,,,,,,,,,,METERS,DBAR,ITS-90,PSS-78,,PSS-78,,UMOL/KG,,UMOL/KG,,UMOL/KG,,UMOL/KG,,UMOL/KG,,UMOL/KG,,PMOL/KG,,PMOL/KG,,FMOL/KG,,UMOL/KG,,UMOL/KG,,UATM,,DEG C,,,DEG C,/MILLE,,/MILLE,,/MILLE,/MILLE,,UG/KG,,UMOL/KG,,UMOL/KG,,NMOL/KG,,,,,,ITS-90,,VOLTS,,VOLTS,,/MILLE,,/MILLE,,,
325020210420,        A22,      17,          1,         36,         36,2,20210425,       1832,    16.2729,   -67.7812,       4559,     4.4,  27.2984,  35.9084,2,  35.9099,2,    203.2,2,   201.9,2,    1.07,2,    0.00,2,    0.00,2,    0.00,2,-999.000,9,-999.000,9,-999.0000,9,  2021.6,6, 2349.87,2, -999.000,9,  -999.00,   8.09271,2,    25.00, -999.00,9, -999.00,9, -999.00, -999.00,1,-999.000,9, -999.00,9, -999.00,9,     -999.0,9, 20210425,     2039,  16.2729, -67.7812,    27.3004,2,     0.0439,1,     4.6131,1,     -999.0,9,     -999.0,9,     -999.0,9
325020210420,        A22,      17,          1,         35,         35,2,20210425,       1832,    16.2729,   -67.7812,       4559,    24.9,  27.1532,  35.9025,2,  35.9030,2,    203.1,2,   202.7,2,    1.07,2,    0.00,2,    0.00,2,    0.00,2,-999.000,9,-999.000,9,-999.0000,9,  -999.0,9, -999.00,9, -999.000,9,  -999.00,-999.00000,9,  -999.00, -999.00,9, -999.00,9, -999.00, -999.00,9,-999.000,9, -999.00,9, -999.00,9,     -999.0,9, 20210425,     2038,  16.2729, -67.7812,    27.1526,2,     0.0474,1,     4.6085,1,     -999.0,9,     -999.0,9,     -999.0,9
325020210420,        A22,      17,          1,         34,         34,2,20210425,       1832,    16.2729,   -67.7812,       4559,    50.2,  27.1298,  35.9018,2,  35.9024,2,    202.9,2,   202.2,2,    1.07,2,    0.00,2,    0.00,2,    0.00,2,-999.000,9,-999.000,9,-999.0000,9,  2020.6,2,  2355.2,2, -999.000,9,  -999.00,   8.09266,6,    24.99, -999.00,9, -999.00,9, -999.00, -999.00,9,-999.000,9, -999.00,9, -999.00,9,     -999.0,9, 20210425,     2036,  16.2729, -67.7812,    27.1314,2,     0.0518,1,     4.6095,1,     -999.0,9,     -999.0,9,     -999.0,9
325020210420,        A22,      17,          1,         33,         33,2,20210425,       1832,    16.2729,   -67.7812,       4559,    75.2,  26.7505,  35.9157,2,  35.9313,2,    201.5,2,   200.6,2,    1.27,2,    0.00,2,    0.00,2,    0.00,2,-999.000,9,-999.000,9,-999.0000,9,  2024.8,2, 2353.27,6, -999.000,9,  -999.00,    8.0897,2,    24.99, -999.00,9, -999.00,9, -999.00, -999.00,1,-999.000,9, -999.00,9, -999.00,9,     -999.0,9, 20210425,     2034,  16.2729, -67.7812,    26.7505,2,     0.0643,1,     4.6139,1,     -999.0,9,     -999.0,9,     -999.0,9
325020210420,        A22,      17,          1,         32,         32,2,20210425,       1832,    16.2729,   -67.7812,       4559,   100.7,  26.1658,  36.8010,2,  36.8274,3,    193.2,2,   195.1,2,    0.78,2,    0.00,2,    0.00,2,    0.00,2,-999.000,9,-999.000,9,-999.0000,9,  -999.0,9, -999.00,9, -999.000,9,  -999.00,-999.00000,9,  -999.00, -999.00,9, -999.00,9, -999.00, -999.00,9,-999.000,9, -999.00,9, -999.00,9,     -999.0,9, 20210425,     2031,  16.2728, -67.7812,    26.1722,2,     0.0787,1,     4.6227,1,     -999.0,9,     -999.0,9,     -999.0,9
325020210420,        A22,      17,          1,         31,         31,2,20210425,       1832,    16.2729,   -67.7812,       4559,   125.8,  24.7517,  37.1273,2,  37.1070,3,    171.5,2,   172.6,2,    0.97,2,    1.64,2,    0.02,2,    0.02,2,-999.000,9,-999.000,9,-999.0000,9,  2123.0,2, 2421.74,2, -999.000,9,  -999.00,   8.01782,2,    24.96, -999.00,9, -999.00,9, -999.00, -999.00,9,-999.000,9, -999.00,9, -999.00,9,     -999.0,9, 20210425,     2031,  16.2729, -67.7812,    24.7511,2,     0.0884,1,     4.6342,1,     -999.0,9,     -999.0,9,     -999.0,9
325020210420,        A22,      17,          1,         30,         30,2,20210425,       1832,    16.2729,   -67.7812,       4559,   151.5,  22.5930,  37.0390,2,  37.0422,2,    178.9,2,   179.0,2,    0.78,2,    1.73,2,    0.01,2,    0.03,2,-999.000,9,-999.000,9,-999.0000,9,  -999.0,9, -999.00,9, -999.000,9,  -999.00,-999.00000,9,  -999.00, -999.00,9, -999.00,9, -999.00, -999.00,9,-999.000,9, -999.00,9, -999.00,9,     -999.0,9, 20210425,     2029,  16.2729, -67.7812,    22.6237,2,     0.0504,1,     4.6643,1,     -999.0,9,     -999.0,9,     -999.0,9
325020210420,        A22,      17,          1,         29,         29,2,20210425,       1832,    16.2729,   -67.7812,       4559,   201.3,  20.0662,  36.7826,2,  36.7881,2,    168.3,2,   167.2,2,    1.27,2,    4.56,2,    0.00,2,    0.17,2,-999.000,9,-999.000,9,-999.0000,9,  -999.0,9, -999.00,9, -999.000,9,  -999.00,-999.00000,9,  -999.00, -999.00,9, -999.00,9, -999.00, -999.00,9,-999.000,9, -999.00,9, -999.00,9,     -999.0,9, 20210425,     2027,  16.2729, -67.7812,    20.0973,2,     0.0401,1,     4.6737,1,     -999.0,9,     -999.0,9,     -999.0,9
325020210420,        A22,      17,          1,         28,         28,2,20210425,       1832,    16.2729,   -67.7812,       4559,   252.1,  18.8350,  36.6127,2,  36.6138,2,    177.0,2,   176.0,2,    1.36,2,    5.41,2,    0.00,2,    0.20,2,-999.000,9,-999.000,9,-999.0000,9,  -999.0,9, -999.00,9, -999.000,9,  -999.00,-999.00000,9,  -999.00, -999.00,9, -999.00,9, -999.00, -999.00,9,-999.000,9, -999.00,9, -999.00,9,     -999.0,9, 20210425,     2026,  16.2729, -67.7812,    18.8310,2,     0.0398,1,     4.6760,1,     -999.0,9,     -999.0,9,     -999.0,9
325020210420,        A22,      17,          1,         27,         27,2,20210425,       1832,    16.2729,   -67.7812,       4559,   301.5,  16.8546,  36.2750,2,  36.2713,2,    153.2,3,   155.3,2,    3.51,2,   11.07,2,    0.00,2,    0.58,2,-999.000,9,-999.000,9,-999.0000,9,  2166.3,2, 2369.84,2, -999.000,9,  -999.00,   7.85525,2,    25.00, -999.00,9, -999.00,9, -999.00, -999.00,9,-999.000,9, -999.00,9, -999.00,9,     -999.0,9, 20210425,     2024,  16.2729, -67.7812,    16.8468,2,     0.0407,1,     4.6760,1,     -999.0,9,     -999.0,9,     -999.0,9
325020210420,        A22,      17,          1,         26,         26,2,20210425,       1832,    16.2729,   -67.7812,       4559,   352.5,  14.8589,  35.9025,2,  35.8870,2,    133.6,2,   134.5,2,    6.04,2,   16.72,2,    0.00,2,    0.97,2,-999.000,9,-999.000,9,-999.0000,9,  -999.0,9, -999.00,9, -999.000,9,  -999.00,-999.00000,9,  -999.00, -999.00,9, -999.00,9, -999.00, -999.00,9,-999.000,9, -999.00,9, -999.00,9,     -999.0,9, 20210425,     2022,  16.2728, -67.7812,    14.8663,2,     0.0410,1,     4.6753,1,     -999.0,9,     -999.0,9,     -999.0,9
325020210420,        A22,      17,          1,         25,         25,2,20210425,       1832,    16.2729,   -67.7812,       4559,   402.6,  12.7710,  35.5401,2,  35.5401,2,    127.6,3,   126.1,2,    8.78,2,   21.03,2,    0.00,2,    1.28,2,-999.000,9,-999.000,9,-999.0000,9,  -999.0,9, -999.00,9, -999.000,9,  -999.00,-999.00000,9,  -999.00, -999.00,9, -999.00,9, -999.00, -999.00,9,-999.000,9, -999.00,9, -999.00,9,     -999.0,9, 20210425,     2020,  16.2729, -67.7812,    12.7847,2,     0.0416,1,     4.6741,1,     -999.0,9,     -999.0,9,     -999.0,9
325020210420,        A22,      17,          1,         24,         24,2,20210425,       1832,    16.2729,   -67.7812,       4559,   453.9,  11.7435,  35.3726,2,  35.3632,2,    124.2,2,   123.2,2,   10.44,2,   23.28,2,    0.00,2,    1.44,2,-999.000,9,-999.000,9,-999.0000,9,  -999.0,9, -999.00,9, -999.000,9,  -999.00,-999.00000,9,  -999.00, -999.00,9, -999.00,9, -999.00, -999.00,9,-999.000,9, -999.00,9, -999.00,9,     -999.0,9, 20210425,     2018,  16.2729, -67.7812,    11.7522,2,     0.0414,1,     4.6757,1,     -999.0,9,     -999.0,9,     -999.0,9
325020210420,        A22,      17,          1,         23,         23,2,20210425,       1832,    16.2729,   -67.7812,       4559,   503.6,  10.3587,  35.1553,2,  35.1518,2,    119.9,2,   119.5,2,   13.07,2,   26.30,2,    0.00,2,    1.66,2,-999.000,9,-999.000,9,-999.0000,9,  2206.7,2, 2313.56,2, -999.000,9,  -999.00,   7.62785,2,    24.98, -999.00,9, -999.00,9, -999.00, -999.00,9,-999.000,9, -999.00,9, -999.00,9,     -999.0,9, 20210425,     2015,  16.2729, -67.7812,    10.3603,2,     0.0429,1,     4.6757,1,     -999.0,9,     -999.0,9,     -999.0,9
325020210420,        A22,      17,          1,         22,         22,2,20210425,       1832,    16.2729,   -67.7812,       4559,   603.8,   8.6519,  34.9713,2,  34.9689,2,    120.0,2,   120.8,2,   16.78,2,   29.31,2,    0.00,2,    1.87,2,-999.000,9,-999.000,9,-999.0000,9,  -999.0,9, -999.00,9, -999.000,9,  -999.00,-999.00000,9,  -999.00, -999.00,9, -999.00,9, -999.00, -999.00,9,-999.000,9, -999.00,9, -999.00,9,     -999.0,9, 20210425,     2012,  16.2729, -67.7812,     8.5932,2,     0.0428,1,     4.6777,1,     -999.0,9,     -999.0,9,     -999.0,9
325020210420,        A22,      17,          1,         21,         21,2,20210425,       1832,    16.2729,   -67.7812,       4559,   704.8,   7.1581,  34.7811,2,  34.7803,2,    123.5,2,   123.3,2,   21.17,2,   31.98,2,    0.00,2,    2.10,2,-999.000,9,-999.000,9,-999.0000,9,  -999.0,9, -999.00,9, -999.000,9,  -999.00,-999.00000,9,  -999.00, -999.00,9, -999.00,9, -999.00, -999.00,9,-999.000,9, -999.00,9, -999.00,9,     -999.0,9, 20210425,     2009,  16.2728, -67.7812,     7.1570,2,     0.0429,1,     4.6779,1,     -999.0,9,     -999.0,9,     -999.0,9
325020210420,        A22,      17,          1,         20,         20,2,20210425,       1832,    16.2729,   -67.7812,       4559,   806.4,   6.4505,  34.7855,2,  34.7807,2,    133.6,2,   133.6,2,   23.52,2,   31.68,2,    0.00,2,    2.08,2,-999.000,9,-999.000,9,-999.0000,9,  -999.0,9, -999.00,9, -999.000,9,  -999.00,-999.00000,9,  -999.00, -999.00,9, -999.00,9, -999.00, -999.00,9,-999.000,9, -999.00,9, -999.00,9,     -999.0,9, 20210425,     2006,  16.2728, -67.7812,     6.4481,2,     0.0424,1,     4.6801,1,     -999.0,9,     -999.0,9,     -999.0,9
325020210420,        A22,      17,          1,         19,         19,2,20210425,       1832,    16.2729,   -67.7812,       4559,   907.5,   5.7609,  34.8124,2,  34.8149,2,    149.2,2,   150.3,2,   24.88,2,   30.00,2,    0.00,2,    2.01,2,-999.000,9,-999.000,9,-999.0000,9,  -999.0,9, -999.00,9, -999.000,9,  -999.00,-999.00000,9,  -999.00, -999.00,9, -999.00,9, -999.00, -999.00,9,-999.000,9, -999.00,9, -999.00,9,     -999.0,9, 20210425,     2002,  16.2728, -67.7812,     5.7589,2,     0.0434,1,     4.6779,1,     -999.0,9,     -999.0,9,     -999.0,9
325020210420,        A22,      17,          1,         18,         18,2,20210425,       1832,    16.2729,   -67.7812,       4559,  1007.8,   5.4341,  34.9139,2,  34.9146,2,    171.3,2,   171.9,2,   24.00,2,   26.69,2,    0.00,2,    1.79,2,-999.000,9,-999.000,9,-999.0000,9,  -999.0,9, -999.00,9, -999.000,9,  -999.00,-999.00000,9,  -999.00, -999.00,9, -999.00,9, -999.00, -999.00,9,-999.000,9, -999.00,9, -999.00,9,     -999.0,9, 20210425,     2000,  16.2728, -67.7812,     5.4452,2,     0.0432,1,     4.6814,1,     -999.0,9,     -999.0,9,     -999.0,9
325020210420,        A22,      17,          1,         17,         17,2,20210425,       1832,    16.2729,   -67.7812,       4559,  1109.0,   4.9817,  34.9429,2,  34.9433,2,    187.7,2,   187.6,2,   24.20,2,   25.02,2,    0.00,2,    1.69,2,-999.000,9,-999.000,9,-999.0000,9,  2202.2,2,  2322.0,2, -999.000,9,  -999.00,   7.66185,2,    25.00, -999.00,9, -999.00,9, -999.00, -999.00,9,-999.000,9, -999.00,9, -999.00,9,     -999.0,9, 20210425,     1957,  16.2728, -67.7812,     4.9808,2,     0.0427,1,     4.6814,1,     -999.0,9,     -999.0,9,     -999.0,9
325020210420,        A22,      17,          1,         16,         16,2,20210425,       1832,    16.2729,   -67.7812,       4559,  1210.2,   4.7092,  34.9626,2,  34.9620,2,    200.9,2,   200.9,2,   23.51,2,   23.64,2,    0.00,2,    1.60,2,-999.000,9,-999.000,9,-999.0000,9,  -999.0,9, -999.00,9, -999.000,9,  -999.00,-999.00000,9,  -999.00, -999.00,9, -999.00,9, -999.00, -999.00,9,-999.000,9, -999.00,9, -999.00,9,     -999.0,9, 20210425,     1954,  16.2728, -67.7812,     4.7093,2,     0.0430,1,     4.6825,1,     -999.0,9,     -999.0,9,     -999.0,9
325020210420,        A22,      17,          1,         15,         15,2,20210425,       1832,    16.2729,   -67.7812,       4559,  1312.1,   4.5236,  34.9674,2,  34.9663,2,    205.2,2,   205.2,2,   24.39,2,   23.19,2,    0.00,2,    1.58,2,-999.000,9,-999.000,9,-999.0000,9,  -999.0,9, -999.00,9, -999.000,9,  -999.00,-999.00000,9,  -999.00, -999.00,9, -999.00,9, -999.00, -999.00,9,-999.000,9, -999.00,9, -999.00,9,     -999.0,9, 20210425,     1950,  16.2728, -67.7812,     4.5240,2,     0.0428,1,     4.6825,1,     -999.0,9,     -999.0,9,     -999.0,9
325020210420,        A22,      17,          1,         14,         14,2,20210425,       1832,    16.2729,   -67.7812,       4559,  1413.1,   4.4060,  34.9710,2,  34.9719,2,    208.5,2,   208.9,2,   24.68,2,   22.81,2,    0.00,2,    1.54,2,-999.000,9,-999.000,9,-999.0000,9,  -999.0,9, -999.00,9, -999.000,9,  -999.00,-999.00000,9,  -999.00, -999.00,9, -999.00,9, -999.00, -999.00,9,-999.000,9, -999.00,9, -999.00,9,     -999.0,9, 20210425,     1946,  16.2728, -67.7812,     4.4062,2,     0.0429,1,     4.6828,1,     -999.0,9,     -999.0,9,     -999.0,9
325020210420,        A22,      17,          1,         13,         13,2,20210425,       1832,    16.2729,   -67.7812,       4559,  1514.2,   4.3079,  34.9719,2,  34.9715,2,    210.2,2,   210.1,2,   25.76,2,   22.65,2,    0.00,2,    1.54,2,   0.151,2,   0.086,2,   0.0400,2,  -999.0,9, -999.00,9, -999.000,9,  -999.00,-999.00000,9,  -999.00, -999.00,9, -999.00,9, -999.00, -999.00,9,-999.000,9, -999.00,9, -999.00,9,      15.19,2, 20210425,     1944,  16.2728, -67.7812,     4.3081,2,     0.0429,1,     4.6824,1,     -999.0,9,     -999.0,9,     -999.0,9
325020210420,        A22,      17,          1,         12,         12,2,20210425,       1832,    16.2729,   -67.7812,       4559,  1615.7,   4.2437,  34.9732,2,  34.9726,2,    211.7,2,   211.7,2,   26.24,2,   22.54,2,    0.00,2,    1.53,2,-999.000,9,-999.000,9,-999.0000,9,  -999.0,9, -999.00,9, -999.000,9,  -999.00,-999.00000,9,  -999.00, -999.00,9, -999.00,9, -999.00, -999.00,9,-999.000,9, -999.00,9, -999.00,9,     -999.0,9, 20210425,     1939,  16.2728, -67.7812,     4.2435,2,     0.0424,1,     4.6829,1,     -999.0,9,     -999.0,9,     -999.0,9
325020210420,        A22,      17,          1,         11,         11,2,20210425,       1832,    16.2729,   -67.7812,       4559,  1817.8,   4.1604,  34.9746,2,  34.9736,2,    214.0,2,   214.2,2,   26.93,2,   22.32,2,    0.00,2,    1.51,2,   0.132,2,   0.075,2,   0.2700,2,  -999.0,9, -999.00,9, -999.000,9,  -999.00,-999.00000,9,  -999.00, -999.00,9, -999.00,9, -999.00, -999.00,9,-999.000,9, -999.00,9, -999.00,9,      14.98,2, 20210425,     1934,  16.2728, -67.7812,     4.1610,2,     0.0428,1,     4.6828,1,     -999.0,9,     -999.0,9,     -999.0,9
325020210420,        A22,      17,          1,         10,         10,2,20210425,       1832,    16.2729,   -67.7812,       4559,  2022.0,   4.1334,  34.9750,2,  34.9734,2,    214.3,2,   214.4,2,   27.71,2,   22.25,2,    0.00,2,    1.51,2,-999.000,9,-999.000,9,-999.0000,9,  -999.0,9, -999.00,9, -999.000,9,  -999.00,-999.00000,9,  -999.00, -999.00,9, -999.00,9, -999.00, -999.00,9,-999.000,9, -999.00,9, -999.00,9,     -999.0,9, 20210425,     1929,  16.2728, -67.7812,     4.1334,2,     0.0429,1,     4.6830,1,     -999.0,9,     -999.0,9,     -999.0,9
325020210420,        A22,      17,          1,          9,          9,2,20210425,       1832,    16.2729,   -67.7812,       4559,  2275.5,   4.1252,  34.9753,2,  34.9752,2,    216.1,2,   216.4,2,   27.71,2,   22.09,2,    0.00,2,    1.49,2,   0.133,2,   0.079,2,   0.3800,2,  2197.2,2, 2333.31,2, -999.000,9,  -999.00,   7.70673,6,    25.00, -999.00,9, -999.00,9, -999.00, -999.00,9,-999.000,9, -999.00,9, -999.00,9,      14.39,2, 20210425,     1923,  16.2728, -67.7812,     4.1250,2,     0.0433,1,     4.6832,1,     -999.0,9,     -999.0,9,     -999.0,9
325020210420,        A22,      17,          1,          8,          8,2,20210425,       1832,    16.2729,   -67.7812,       4559,  2530.1,   4.1351,  34.9756,2,  34.9750,2,    216.2,2,   216.4,2,   28.00,2,   22.07,2,    0.00,2,    1.48,2,-999.000,9,-999.000,9,-999.0000,9,  -999.0,9, -999.00,9, -999.000,9,  -999.00,-999.00000,9,  -999.00, -999.00,9, -999.00,9, -999.00, -999.00,9,-999.000,9, -999.00,9, -999.00,9,     -999.0,9, 20210425,     1917,  16.2728, -67.7812,     4.1352,2,     0.0429,1,     4.6828,1,     -999.0,9,     -999.0,9,     -999.0,9
325020210420,        A22,      17,          1,          7,          7,2,20210425,       1832,    16.2729,   -67.7812,       4559,  2784.0,   4.1530,  34.9756,2,  34.9752,2,    215.8,2,   216.1,2,   28.49,2,   22.08,2,    0.00,2,    1.49,2,   0.104,2,   0.067,2,   0.2500,2,  -999.0,9, -999.00,9, -999.000,9,  -999.00,-999.00000,9,  -999.00, -999.00,9, -999.00,9, -999.00, -999.00,9,-999.000,9, -999.00,9, -999.00,9,      14.48,2, 20210425,     1912,  16.2728, -67.7812,     4.1532,2,     0.0430,1,     4.6827,1,     -999.0,9,     -999.0,9,     -999.0,9
325020210420,        A22,      17,          1,          6,          6,2,20210425,       1832,    16.2729,   -67.7812,       4559,  3038.8,   4.1766,  34.9755,2,  34.9750,2,    215.7,2,   215.8,2,   28.68,2,   22.09,2,    0.00,2,    1.48,2,-999.000,9,-999.000,9,-999.0000,9,  -999.0,9, -999.00,9, -999.000,9,  -999.00,-999.00000,9,  -999.00, -999.00,9, -999.00,9, -999.00, -999.00,9,-999.000,9, -999.00,9, -999.00,9,     -999.0,9, 20210425,     1906,  16.2728, -67.7812,     4.1767,2,     0.0434,1,     4.6825,1,     -999.0,9,     -999.0,9,     -999.0,9
325020210420,        A22,      17,          1,          5,          5,2,20210425,       1832,    16.2729,   -67.7812,       4559,  3345.6,   4.2076,  34.9756,2,  34.9754,2,    215.8,2,   216.1,2,   28.68,2,   22.06,2,    0.00,2,    1.48,2,   0.098,2,   0.065,2,   0.2700,2,  2198.4,2, 2336.56,2, -999.000,9,  -999.00,   7.70839,2,    24.99, -999.00,9, -999.00,9, -999.00, -999.00,9,-999.000,9, -999.00,9, -999.00,9,      14.33,2, 20210425,     1900,  16.2728, -67.7812,     4.2077,2,     0.0429,1,     4.6823,1,     -999.0,9,     -999.0,9,     -999.0,9
325020210420,        A22,      17,          1,          4,          4,2,20210425,       1832,    16.2729,   -67.7812,       4559,  3653.4,   4.2416,  34.9759,2,  34.9758,2,    216.1,2,   216.1,2,   28.68,2,   22.05,2,    0.00,2,    1.48,2,-999.000,9,-999.000,9,-999.0000,9,  -999.0,9, -999.00,9, -999.000,9,  -999.00,-999.00000,9,  -999.00, -999.00,9, -999.00,9, -999.00, -999.00,9,-999.000,9, -999.00,9, -999.00,9,     -999.0,9, 20210425,     1853,  16.2728, -67.7812,     4.2418,2,     0.0434,1,     4.6815,1,     -999.0,9,     -999.0,9,     -999.0,9
325020210420,        A22,      17,          1,          3,          3,2,20210425,       1832,    16.2729,   -67.7812,       4559,  3961.4,   4.2789,  34.9761,2,  34.9762,2,    217.1,2,   217.2,2,   28.49,2,   21.98,2,    0.00,2,    1.47,2,   0.168,2,   0.102,2,   0.2400,2,  -999.0,9, -999.00,9, -999.000,9,  -999.00,-999.00000,9,  -999.00, -999.00,9, -999.00,9, -999.00, -999.00,9,-999.000,9, -999.00,9, -999.00,9,      14.15,2, 20210425,     1846,  16.2728, -67.7812,     4.2790,2,     0.0433,1,     4.6807,1,     -999.0,9,     -999.0,9,     -999.0,9