BOTTLE,20230513CCHSIOCBG
EXPOCODE,SECT_ID,STNNBR,CASTNO,SAMPNO,BTLNBR,BTLNBR_FLAG_W,DATE,TIME,LATITUDE,LONGITUDE,DEPTH,CTDPRS,CTDTMP,CTDSAL,CTDSAL_FLAG_W,SALNTY,SALNTY_FLAG_W,CTDOXY,CTDOXY_FLAG_W,OXYGEN,OXYGEN_FLAG_W,SILCAT,SILCAT_FLAG_W,NITRAT,NITRAT_FLAG_W,NITRIT,NITRIT_FLAG_W,PHSPHT,PHSPHT_FLAG_W,CFC-11,CFC-11_FLAG_W,CFC-12,CFC-12_FLAG_W,SF6,SF6_FLAG_W,TCARBN,TCARBN_FLAG_W,ALKALI,ALKALI_FLAG_W,FCO2,FCO2_FLAG_W,FCO2TMP,PH_TOT,PH_TOT_FLAG_W,PH_TMP,DELC13,DELC13_FLAG_W,DELC14,DELC14_FLAG_W,C14ERR,DELO18,DELO18_FLAG_W,POC,POC_FLAG_W,DOC,DOC_FLAG_W,TDN,TDN_FLAG_W,N2O,N2O_FLAG_W,BTL_DATE,BTL_TIME,BTL_LAT,BTL_LON,REFTMP,REFTMP_FLAG_W,CTDFLUOR,CTDFLUOR_FLAG_W,CTDXMISS,CTDXMISS_FLAG_W,D15N_NO2+NO3,D15N_NO2+NO3_FLAG_W,D18O_NO2+NO3,D18O_NO2+NO3_FLAG_W,HPLC,HPLC_FLAG_W
,,,,,,,,,,,METERS,DBAR,ITS-90,PSS-78,,PSS-78,,UMOL/KG,,UMOL/KG,,UMOL/KG,,UMOL/KG,,UMOL/KG,,UMOL/KG,,PMOL/KG,,PMOL/KG,,FMOL/KG,,UMOL/KG,,UMOL/KG,,UATM,,DEG C,,,DEG C,/MILLE,,/MILLE,,/MILLE,/MILLE,,UG/KG,,UMOL/KG,,UMOL/KG,,NMOL/KG,,,,,,ITS-90,,VOLTS,,VOLTS,,/MILLE,,/MILLE,,,
325020210420,        A22,      32,          1,         26,         26,2,20210428,       2345,    18.6541,   -66.0000,       1499,     5.1,  27.0636,  36.0233,2,  36.0270,2,    202.0,2,   201.0,2,    1.75,2,    0.03,2,    0.00,2,    0.00,2,   1.458,2,   0.951,2,   1.6500,2,  2028.7,6, 2359.33,2,  293.360,2,    20.00,   8.09444,2,    25.02, -999.00,9, -999.00,9, -999.00, -999.00,1,-999.000,9,   72.20,2,    4.31,2,       5.89,2, 20210429,       49,  18.6541, -66.0000,    27.0602,2,     0.0450,1,     4.6253,1,     -999.0,9,     -999.0,9,     -999.0,9
325020210420,        A22,      32,          1,         25,         25,2,20210428,       2345,    18.6541,   -66.0000,       1499,    25.6,  26.6737,  36.4022,2,  36.3954,2,    203.7,2,   202.9,2,    1.46,2,    0.01,2,    0.00,2,    0.00,2,-999.000,9,-999.000,9,-999.0000,9,  2044.2,2, 2382.55,2,  289.550,2,    20.00,   8.09849,6,    25.02, -999.00,9, -999.00,9, -999.00, -999.00,9,-999.000,9,   73.90,2,    4.48,2,     -999.0,9, 20210429,       47,  18.6541, -66.0001,    26.6783,2,     0.0467,1,     4.6281,1,     -999.0,9,     -999.0,9,     -999.0,9
325020210420,        A22,      32,          1,         24,         24,2,20210428,       2345,    18.6541,   -66.0000,       1499,    50.3,  26.3518,  36.6675,2,  36.6701,2,    206.1,2,   206.0,2,    1.36,2,    0.01,2,    0.00,2,    0.00,2,-999.000,9,-999.000,9,-999.0000,9,  2054.9,2, 2399.66,6,  294.220,2,    20.00,   8.10594,2,    24.90, -999.00,9, -999.00,9, -999.00, -999.00,9,-999.000,9,   77.70,2,    4.60,2,     -999.0,9, 20210429,       45,  18.6541, -66.0000,    26.3503,2,     0.0515,1,     4.6307,1,     -999.0,9,     -999.0,9,     -999.0,9
325020210420,        A22,      32,          1,         23,         23,2,20210428,       2345,    18.6541,   -66.0000,       1499,    75.9,  26.1234,  36.7761,2,  36.7615,2,    204.8,2,   204.6,2,    1.27,2,    0.00,2,    0.00,2,    0.00,2,   1.513,2,   0.982,2,   1.6800,2,  2059.8,2, 2405.99,2,  294.715,6,    20.00,   8.10109,2,    25.01, -999.00,9, -999.00,9, -999.00, -999.00,9,-999.000,9,   75.30,2,    4.45,2,       6.11,2, 20210429,       43,  18.6541, -66.0000,    26.1178,2,     0.0546,1,     4.6342,1,     -999.0,9,     -999.0,9,     -999.0,9
325020210420,        A22,      32,          1,         22,         22,2,20210428,       2345,    18.6541,   -66.0000,       1499,   100.5,  25.3656,  37.0040,2,  37.0257,3,    199.2,2,   199.5,2,    1.17,2,    0.00,2,    0.00,2,    0.00,2,-999.000,9,-999.000,9,-999.0000,9,  2089.7,2, 2418.81,2,  320.800,2,    20.00,   8.07241,2,    25.03, -999.00,9, -999.00,9, -999.00, -999.00,9,-999.000,9,   66.30,2,    4.25,2,     -999.0,9, 20210429,       40,  18.6541, -66.0000,    25.3614,2,     0.0776,1,     4.6302,1,     -999.0,9,     -999.0,9,     -999.0,9
325020210420,        A22,      32,          1,         21,         21,2,20210428,       2345,    18.6541,   -66.0000,       1499,   125.9,  24.1034,  37.1842,2,  37.1829,2,    193.1,2,   194.6,2,    0.78,2,    0.09,2,    0.05,2,    0.00,2,-999.000,9,-999.000,9,-999.0000,9,  2113.7,2, 2428.65,2,  345.830,2,    20.00,   8.04564,2,    24.99, -999.00,9, -999.00,9, -999.00, -999.00,1,-999.000,9,   61.10,2,    4.48,2,     -999.0,9, 20210429,       39,  18.6541, -66.0000,    24.1151,2,     0.0806,1,     4.6394,1,     -999.0,9,     -999.0,9,     -999.0,9
325020210420,        A22,      32,          1,         20,         20,2,20210428,       2345,    18.6541,   -66.0000,       1499,   151.0,  21.9514,  37.0799,2,  37.0819,2,    181.6,2,   179.9,2,    1.27,2,    1.10,2,    0.01,2,    0.00,2,-999.000,9,-999.000,9,-999.0000,9,  2140.4,2, 2420.24,2,  399.450,2,    20.00,   7.99155,2,    25.02, -999.00,9, -999.00,9, -999.00, -999.00,9,-999.000,9,   53.30,2,    4.06,2,     -999.0,9, 20210429,       37,  18.6541, -66.0000,    21.9646,2,     0.0570,1,     4.6602,1,     -999.0,9,     -999.0,9,     -999.0,9
325020210420,        A22,      32,          1,         19,         19,2,20210428,       2345,    18.6541,   -66.0000,       1499,   175.7,  21.0052,  36.9613,2,  36.9580,2,    176.8,2,   177.2,2,    1.36,2,    1.75,2,    0.00,2,    0.00,2,   1.889,2,   1.197,2,   1.7500,2,  2144.4,2, 2413.75,2,  418.610,2,    20.00,   7.97279,2,    24.92, -999.00,9, -999.00,9, -999.00, -999.00,9,-999.000,9,   52.10,2,    5.30,2,       8.05,2, 20210429,       35,  18.6541, -66.0000,    21.0424,2,     0.0472,1,     4.6666,1,     -999.0,9,     -999.0,9,     -999.0,9
325020210420,        A22,      32,          1,         18,         18,2,20210428,       2345,    18.6541,   -66.0000,       1499,   201.5,  19.8101,  36.7715,2,  36.7855,2,    176.1,2,   177.7,2,    1.75,2,    3.41,2,    0.00,2,    0.07,2,-999.000,9,-999.000,9,-999.0000,9,  2147.2,2, 2401.66,2,  440.260,2,    20.00,   7.95179,2,    24.98, -999.00,9, -999.00,9, -999.00, -999.00,9,-999.000,9,   49.00,2,    6.04,2,     -999.0,9, 20210429,       32,  18.6541, -66.0000,    19.7913,2,     0.0403,1,     4.6718,1,     -999.0,9,     -999.0,9,     -999.0,9
325020210420,        A22,      32,          1,         17,         17,2,20210428,       2345,    18.6541,   -66.0000,       1499,   226.5,  18.9983,  36.6654,2,  36.6659,2,    181.2,2,   181.9,2,    1.95,2,    4.43,2,    0.00,2,    0.14,2,-999.000,9,-999.000,9,-999.0000,9,  2144.6,2, 2392.99,2, -999.000,9,  -999.00,   7.94577,2,    24.94, -999.00,9, -999.00,9, -999.00, -999.00,9,-999.000,9,   46.90,2,    7.18,2,     -999.0,9, 20210429,       31,  18.6541, -66.0000,    18.9954,2,     0.0388,1,     4.6730,1,     -999.0,9,     -999.0,9,     -999.0,9
325020210420,        A22,      32,          1,         16,         16,2,20210428,       2345,    18.6541,   -66.0000,       1499,   256.8,  17.9964,  36.5069,2,  36.5075,2,    175.9,2,   176.4,2,    2.44,2,    6.70,2,    0.00,2,    0.28,2,   2.108,2,   1.320,2,   1.4600,2,  2151.3,2, 2384.65,2,  478.770,2,    20.00,   7.91764,2,    25.05, -999.00,9, -999.00,9, -999.00, -999.00,9,-999.000,9,   47.30,2,    9.67,2,      10.64,2, 20210429,       28,  18.6541, -66.0000,    18.0084,2,     0.0396,1,     4.6741,1,     -999.0,9,     -999.0,9,     -999.0,9
325020210420,        A22,      32,          1,         15,         15,2,20210428,       2345,    18.6541,   -66.0000,       1499,   301.9,  16.9655,  36.3371,2,  36.3364,2,    166.9,2,   167.3,2,    3.22,2,    9.26,2,    0.00,2,    0.44,2,-999.000,9,-999.000,9,-999.0000,9,  2158.8,2,  2376.8,2,  523.770,2,    20.00,    7.8832,2,    24.92, -999.00,9, -999.00,9, -999.00, -999.00,9,-999.000,9,   46.10,2, -999.00,1,     -999.0,9, 20210429,       26,  18.6541, -66.0000,    16.9688,2,     0.0391,1,     4.6762,1,     -999.0,9,     -999.0,9,     -999.0,9
325020210420,        A22,      32,          1,         14,         14,2,20210428,       2345,    18.6541,   -66.0000,       1499,   352.8,  15.2404,  36.0391,2,  36.0424,2,    148.8,2,   149.1,2,    5.17,2,   13.97,2,    0.00,2,    0.76,2,-999.000,9,-999.000,9,-999.0000,9,  2176.4,2, 2356.71,2, -999.000,9,  -999.00,   7.81213,2,    24.98, -999.00,9, -999.00,9, -999.00, -999.00,9,-999.000,9,   45.30,2, -999.00,1,     -999.0,9, 20210429,       23,  18.6541, -66.0000,    15.2456,2,     0.0408,1,     4.6766,1,     -999.0,9,     -999.0,9,     -999.0,9
325020210420,        A22,      32,          1,         13,         13,2,20210428,       2345,    18.6541,   -66.0000,       1499,   403.4,  14.5812,  35.9443,2,  35.9269,2,    147.7,2,   147.4,2,    6.04,2,   15.40,2,    0.00,2,    0.84,2,   2.143,2,   1.271,2,   1.1800,2,  2179.4,2, 2353.04,2,  653.380,2,    20.00,   7.79289,2,    25.07, -999.00,9, -999.00,9, -999.00, -999.00,9,-999.000,9,   43.60,2, -999.00,1,      17.43,2, 20210429,       21,  18.6541, -66.0000,    14.5825,2,     0.0407,1,     4.6747,1,     -999.0,9,     -999.0,9,     -999.0,9
325020210420,        A22,      32,          1,         12,         12,2,20210428,       2345,    18.6541,   -66.0000,       1499,   453.4,  13.4572,  35.7651,2,  35.7513,2,    142.3,2,   141.8,2,    7.51,2,   17.87,2,    0.00,2,    1.00,2,-999.000,9,-999.000,9,-999.0000,9,  2186.0,2, 2341.94,2,  707.930,2,    20.00,   7.75815,2,    25.05, -999.00,9, -999.00,9, -999.00, -999.00,9,-999.000,9,   44.00,2, -999.00,1,     -999.0,9, 20210429,       19,  18.6541, -66.0000,    13.4771,2,     0.0411,1,     4.6771,1,     -999.0,9,     -999.0,9,     -999.0,9
325020210420,        A22,      32,          1,         11,         11,2,20210428,       2345,    18.6541,   -66.0000,       1499,   513.6,  12.0690,  35.5500,2,  35.5525,2,    136.2,2,   135.8,2,    9.46,2,   20.76,2,    0.00,2,    1.20,2,   1.852,2,   1.059,2,   0.8400,2,  2193.7,2, 2332.33,2, -999.000,9,  -999.00,   7.71727,2,    25.08, -999.00,9, -999.00,9, -999.00, -999.00,9,-999.000,9,   43.20,2, -999.00,1,      20.89,2, 20210429,       16,  18.6541, -66.0000,    12.0881,2,     0.0425,1,     4.6792,1,     -999.0,9,     -999.0,9,     -999.0,9
325020210420,        A22,      32,          1,         10,         10,2,20210428,       2345,    18.6541,   -66.0000,       1499,   604.8,   9.9169,  35.2267,2,  35.2347,2,    128.2,2,   127.8,2,   13.75,2,   25.60,2,    0.00,2,    1.55,2,-999.000,9,-999.000,9,-999.0000,9,  2205.8,6, 2311.07,2,  912.040,2,    20.00,   7.65234,2,    24.94, -999.00,9, -999.00,9, -999.00, -999.00,9,-999.000,9,   42.40,2, -999.00,1,     -999.0,9, 20210429,       13,  18.6541, -66.0000,     9.9297,2,     0.0413,1,     4.6803,1,     -999.0,9,     -999.0,9,     -999.0,9
325020210420,        A22,      32,          1,          9,          9,2,20210428,       2345,    18.6541,   -66.0000,       1499,   706.0,   8.5522,  35.0776,2,  35.0754,2,    129.9,2,   130.2,2,   17.27,2,   27.88,2,    0.00,2,    1.74,2,   0.948,2,   0.513,2,   0.2800,2,  2209.1,2, 2310.82,2,  968.390,2,    20.00,   7.62437,6,    24.95, -999.00,9, -999.00,9, -999.00, -999.00,9,-999.000,9,   40.90,2, -999.00,1,      23.72,2, 20210429,       10,  18.6541, -66.0000,     8.5505,2,     0.0423,1,     4.6805,1,     -999.0,9,     -999.0,9,     -999.0,9
325020210420,        A22,      32,          1,          8,          8,2,20210428,       2345,    18.6541,   -66.0000,       1499,   806.9,   7.1706,  34.9522,2,  34.9520,2,    137.3,2,   138.6,2,   20.59,2,   29.21,2,    0.00,2,    1.84,2,-999.000,9,-999.000,9,-999.0000,9,  2211.5,2, 2311.42,6, 1003.680,2,    20.00,   7.60714,2,    25.04, -999.00,9, -999.00,9, -999.00, -999.00,9,-999.000,9,   40.20,2, -999.00,1,     -999.0,9, 20210429,        7,  18.6541, -66.0000,     7.1714,2,     0.0428,1,     4.6825,1,     -999.0,9,     -999.0,9,     -999.0,9
325020210420,        A22,      32,          1,          7,          7,2,20210428,       2345,    18.6541,   -66.0000,       1499,   907.5,   6.5704,  34.9221,2,  34.9209,2,    144.6,2,   145.3,2,   21.76,2,   29.19,2,    0.00,2,    1.87,2,   0.415,2,   0.225,2,   0.2200,2,  2209.2,2, 2310.84,2, 1003.120,2,    20.00,   7.60853,2,    24.95, -999.00,9, -999.00,9, -999.00, -999.00,9,-999.000,9,   39.90,2, -999.00,1,      22.99,2, 20210429,        4,  18.6541, -66.0000,     6.5695,2,     0.0428,1,     4.6838,1,     -999.0,9,     -999.0,9,     -999.0,9
325020210420,        A22,      32,          1,          6,          6,2,20210428,       2345,    18.6541,   -66.0000,       1499,  1008.4,   5.9814,  35.0420,2,  35.0402,2,    199.5,2,   198.2,2,   16.10,2,   22.45,2,    0.00,2,    1.44,2,-999.000,9,-999.000,9,-999.0000,9,  2188.8,2, 2312.87,2,  845.340,2,    20.00,   7.68059,2,    24.97, -999.00,9, -999.00,9, -999.00, -999.00,9,-999.000,9,   42.90,2, -999.00,1,     -999.0,9, 20210429,        1,  18.6541, -66.0000,     5.9706,2,     0.0416,1,     4.6813,1,     -999.0,9,     -999.0,9,     -999.0,9
325020210420,        A22,      32,          1,          5,          5,2,20210428,       2345,    18.6541,   -66.0000,       1499,  1110.0,   5.2835,  35.0405,2,  35.0402,2,    223.5,2,   223.6,2,   14.54,2,   20.21,2,    0.00,2,    1.31,2,   1.712,2,   0.909,2,   0.5900,2,  2180.1,2, 2310.52,2,  802.200,2,    20.00,   7.70054,2,    24.97, -999.00,9, -999.00,9, -999.00, -999.00,9,-999.000,9,   43.10,2, -999.00,1,      16.00,2, 20210428,     2357,  18.6541, -66.0000,     5.2833,2,     0.0418,1,     4.6825,1,     -999.0,9,     -999.0,9,     -999.0,9
325020210420,        A22,      32,          1,          4,          4,2,20210428,       2345,    18.6541,   -66.0000,       1499,  1211.2,   4.8647,  35.0264,2,  35.0252,2,    236.8,2,   237.3,2,   13.85,2,   19.22,2,    0.00,2,    1.24,2,   1.917,2,   0.998,2,   0.5700,2,  2176.4,2, 2313.85,2,  783.570,2,    20.00,   7.71044,6,    25.03, -999.00,9, -999.00,9, -999.00, -999.00,9,-999.000,9,   43.50,2, -999.00,1,      14.88,2, 20210428,     2354,  18.6541, -66.0000,     4.8640,2,     0.0412,1,     4.6814,1,     -999.0,9,     -999.0,9,     -999.0,9
325020210420,        A22,      32,          1,          3,          3,2,20210428,       2345,    18.6541,   -66.0000,       1499,  1312.0,   4.6683,  35.0201,2,  35.0195,2,    242.8,2,   243.7,2,   13.56,2,   18.82,2,    0.00,2,    1.23,2,   1.989,2,   1.037,2,   0.5600,2,  2173.6,2, 2310.32,6,  775.370,2,    20.00,   7.71329,2,    24.94, -999.00,9, -999.00,9, -999.00, -999.00,9,-999.000,9,   43.40,2, -999.00,1,      14.72,2, 20210428,     2351,  18.6541, -66.0000,     4.6710,2,     0.0411,1,     4.6827,1,     -999.0,9,     -999.0,9,     -999.0,9
325020210420,        A22,      32,          1,          2,          2,2,20210428,       2345,    18.6541,   -66.0000,       1499,  1413.4,   4.5027,  35.0140,2,  35.0134,2,    247.5,2,   247.6,2,   13.56,2,   18.54,2,    0.00,2,    1.21,2,   2.017,2,   1.050,2,   0.6500,2,  2172.1,2, 2311.53,2,  770.310,2,    20.00,   7.71664,6,    25.04, -999.00,9, -999.00,9, -999.00, -999.00,9,-999.000,9,   44.30,2, -999.00,1,      14.45,2, 20210428,     2347,  18.6541, -66.0000,     4.5021,2,     0.0416,1,     4.6838,1,     -999.0,9,     -999.0,9,     -999.0,9
325020210420,        A22,      32,          1,          1,          1,2,20210428,       2345,    18.6541,   -66.0000,       1499,  1503.4,   4.3839,  35.0083,2,  35.0077,2,    250.6,2,   250.3,2,   13.46,2,   18.40,2,    0.00,2,    1.19,2,   2.000,6,   1.044,6,   0.6100,6,  2171.3,6, 2308.16,2,  761.820,2,    20.00,   7.71922,2,    24.95, -999.00,9, -999.00,9, -999.00, -999.00,9,-999.000,9,   44.00,2, -999.00,1,      14.28,6, 20210428,     2345,  18.6541, -66.0000,     4.3813,2,     0.0422,1,     4.6845,1,     -999.0,9,     -999.0,9,     -999.0,9