BOTTLE,20230513CCHSIOCBG
EXPOCODE,SECT_ID,STNNBR,CASTNO,SAMPNO,BTLNBR,BTLNBR_FLAG_W,DATE,TIME,LATITUDE,LONGITUDE,DEPTH,CTDPRS,CTDTMP,CTDSAL,CTDSAL_FLAG_W,SALNTY,SALNTY_FLAG_W,CTDOXY,CTDOXY_FLAG_W,OXYGEN,OXYGEN_FLAG_W,SILCAT,SILCAT_FLAG_W,NITRAT,NITRAT_FLAG_W,NITRIT,NITRIT_FLAG_W,PHSPHT,PHSPHT_FLAG_W,CFC-11,CFC-11_FLAG_W,CFC-12,CFC-12_FLAG_W,SF6,SF6_FLAG_W,TCARBN,TCARBN_FLAG_W,ALKALI,ALKALI_FLAG_W,FCO2,FCO2_FLAG_W,FCO2TMP,PH_TOT,PH_TOT_FLAG_W,PH_TMP,DELC13,DELC13_FLAG_W,DELC14,DELC14_FLAG_W,C14ERR,DELO18,DELO18_FLAG_W,POC,POC_FLAG_W,DOC,DOC_FLAG_W,TDN,TDN_FLAG_W,N2O,N2O_FLAG_W,BTL_DATE,BTL_TIME,BTL_LAT,BTL_LON,REFTMP,REFTMP_FLAG_W,CTDFLUOR,CTDFLUOR_FLAG_W,CTDXMISS,CTDXMISS_FLAG_W,D15N_NO2+NO3,D15N_NO2+NO3_FLAG_W,D18O_NO2+NO3,D18O_NO2+NO3_FLAG_W,HPLC,HPLC_FLAG_W
,,,,,,,,,,,METERS,DBAR,ITS-90,PSS-78,,PSS-78,,UMOL/KG,,UMOL/KG,,UMOL/KG,,UMOL/KG,,UMOL/KG,,UMOL/KG,,PMOL/KG,,PMOL/KG,,FMOL/KG,,UMOL/KG,,UMOL/KG,,UATM,,DEG C,,,DEG C,/MILLE,,/MILLE,,/MILLE,/MILLE,,UG/KG,,UMOL/KG,,UMOL/KG,,NMOL/KG,,,,,,ITS-90,,VOLTS,,VOLTS,,/MILLE,,/MILLE,,,
325020210420,        A22,      28,          1,         29,         29,2,20210428,       0259,    17.9478,   -65.5657,       2171,     5.0,  27.2310,  35.9030,2,  35.9046,2,    202.4,2,   201.6,2,    1.17,2,    0.00,2,    0.00,2,    0.00,2,   1.433,2,   0.939,2,   1.5600,2,  2021.6,6, 2354.92,2,  290.790,2,    20.00,   8.09718,6,    25.00, -999.00,9, -999.00,9, -999.00, -999.00,1,-999.000,9,   74.40,2,    4.69,2,       5.75,2, 20210428,      420,  17.9478, -65.5657,    27.2301,2,     0.0451,1,     4.6233,1,     -999.0,9,     -999.0,9,     -999.0,9
325020210420,        A22,      28,          1,         28,         28,2,20210428,       0259,    17.9478,   -65.5657,       2171,    20.5,  27.2079,  35.8984,2,  35.9016,2,    202.6,2,   201.8,2,    1.17,2,    0.00,2,    0.00,2,    0.00,2,-999.000,9,-999.000,9,-999.0000,9,  2021.5,2, 2353.85,6,  291.070,2,    20.00,   8.09668,2,    25.02, -999.00,9, -999.00,9, -999.00, -999.00,9,-999.000,9,   73.20,2,    4.47,2,     -999.0,9, 20210428,      417,  17.9478, -65.5657,    27.2071,2,     0.0441,1,     4.6218,1,     -999.0,9,     -999.0,9,     -999.0,9
325020210420,        A22,      28,          1,         27,         27,2,20210428,       0259,    17.9478,   -65.5657,       2171,    40.3,  27.0289,  36.0811,2,  36.0851,2,    203.7,2,   203.0,2,    1.17,2,    0.00,2,    0.00,2,    0.00,2,-999.000,9,-999.000,9,-999.0000,9,  2026.5,2, 2362.24,2,  291.940,2,    20.00,   8.09751,2,    25.01, -999.00,9, -999.00,9, -999.00, -999.00,9,-999.000,9,   71.40,2,    4.22,2,     -999.0,9, 20210428,      416,  17.9478, -65.5657,    27.0280,2,     0.0488,1,     4.6256,1,     -999.0,9,     -999.0,9,     -999.0,9
325020210420,        A22,      28,          1,         26,         26,2,20210428,       0259,    17.9478,   -65.5657,       2171,    65.7,  26.3593,  36.7869,2,  36.7532,3,    200.1,2,   201.2,2,    0.97,2,    0.00,2,    0.00,2,    0.00,2,-999.000,9,-999.000,9,-999.0000,9,  2065.4,2, 2403.49,2,  301.790,2,    20.00,   8.09092,2,    25.02, -999.00,9, -999.00,9, -999.00, -999.00,9,-999.000,9,   71.40,2,    4.22,2,     -999.0,9, 20210428,      414,  17.9478, -65.5657,    26.3584,2,     0.0551,1,     4.6296,1,     -999.0,9,     -999.0,9,     -999.0,9
325020210420,        A22,      28,          1,         25,         25,2,20210428,       0259,    17.9478,   -65.5657,       2171,    90.9,  25.8139,  36.9728,2,  36.9802,2,    202.7,2,   203.7,2,    0.58,2,    0.00,2,    0.00,2,    0.00,2,   1.553,2,   1.008,2,   1.6200,2,  2078.7,2, 2417.15,2,  304.710,2,    20.00,    8.0846,6,    25.01, -999.00,9, -999.00,9, -999.00, -999.00,1,-999.000,9,   72.00,2,    4.04,2,       6.09,2, 20210428,      408,  17.9478, -65.5657,    25.8126,2,     0.0645,1,     4.6344,1,     -999.0,9,     -999.0,9,     -999.0,9
325020210420,        A22,      28,          1,         24,         24,2,20210428,       0259,    17.9478,   -65.5657,       2171,   140.7,  23.6347,  37.1996,2,  37.1978,2,    181.3,3,   184.8,2,    0.49,2,    0.55,2,    0.09,2,    0.00,2,   1.691,2,   1.098,2,   1.6100,2,  2132.6,2, 2421.58,2,  368.330,2,    20.00,   8.02106,2,    25.00, -999.00,9, -999.00,9, -999.00, -999.00,9,-999.000,9,   60.00,2,    4.86,2,       7.14,2, 20210428,      406,  17.9478, -65.5657,    23.6540,2,     0.0683,1,     4.6530,1,     -999.0,9,     -999.0,9,     -999.0,9
325020210420,        A22,      28,          1,         23,         23,2,20210428,       0259,    17.9478,   -65.5657,       2171,   186.6,  19.9905,  36.7949,2,  36.7929,2,    175.9,2,   176.6,2,    0.78,2,    3.15,2,    0.00,2,    0.09,2,-999.000,9,-999.000,9,-999.0000,9,  2149.8,2, 2397.04,2,  433.750,2,    20.00,   7.95598,2,    25.03, -999.00,9, -999.00,9, -999.00, -999.00,9,-999.000,9,   51.20,2,    6.62,2,     -999.0,9, 20210428,      403,  17.9478, -65.5657,    19.9969,2,     0.0415,1,     4.6702,1,     -999.0,9,     -999.0,9,     -999.0,9
325020210420,        A22,      28,          1,         22,         22,2,20210428,       0259,    17.9478,   -65.5657,       2171,   236.3,  19.0473,  36.6550,2,  36.6536,2,    181.4,2,   181.8,2,    1.27,2,    4.30,2,    0.00,2,    0.15,2,   2.018,2,   1.283,2,   1.6900,2,  2143.7,2, 2386.88,2,  443.230,2,    20.00,   7.94874,2,    24.98, -999.00,9, -999.00,9, -999.00, -999.00,9,-999.000,9,   49.00,2,    6.78,2,       9.27,2, 20210428,      401,  17.9478, -65.5657,    19.0480,2,     0.0403,1,     4.6728,1,     -999.0,9,     -999.0,9,     -999.0,9
325020210420,        A22,      28,          1,         21,         21,2,20210428,       0259,    17.9478,   -65.5657,       2171,   286.6,  17.8814,  36.4868,2,  36.4850,2,    177.5,2,   177.6,2,    1.56,2,    6.69,2,    0.00,2,    0.30,2,-999.000,9,-999.000,9,-999.0000,9,  2152.7,2, 2377.62,2,  625.910,4,    20.00,   7.91704,2,    25.02, -999.00,9, -999.00,9, -999.00, -999.00,9,-999.000,9,   47.70,2, -999.00,1,     -999.0,9, 20210428,      359,  17.9478, -65.5657,    17.8833,2,     0.0390,1,     4.6752,1,     -999.0,9,     -999.0,9,     -999.0,9
325020210420,        A22,      28,          1,         20,         20,2,20210428,       0259,    17.9478,   -65.5657,       2171,   337.6,  16.8329,  36.3137,2,  36.3123,2,    167.1,2,   166.9,2,    2.53,2,    9.43,2,    0.00,2,    0.48,2,   2.167,2,   1.351,2,   1.3500,2,  2162.9,2, 2368.54,2,  479.830,4,    20.00,   7.87762,2,    25.04, -999.00,9, -999.00,9, -999.00, -999.00,9,-999.000,9,   45.70,2, -999.00,1,      12.71,2, 20210428,      356,  17.9478, -65.5657,    16.8330,2,     0.0391,1,     4.6769,1,     -999.0,9,     -999.0,9,     -999.0,9
325020210420,        A22,      28,          1,         19,         19,2,20210428,       0259,    17.9478,   -65.5657,       2171,   388.4,  15.1529,  36.0290,2,  36.0285,2,    148.5,2,   148.4,2,    4.48,2,   14.07,2,    0.00,2,    0.78,2,-999.000,9,-999.000,9,-999.0000,9,  2180.0,2,  2353.5,2,  531.140,4,    20.00,   7.80939,2,    25.02, -999.00,9, -999.00,9, -999.00, -999.00,9,-999.000,9,   45.80,2, -999.00,1,     -999.0,9, 20210428,      354,  17.9478, -65.5657,    15.1533,2,     0.0406,1,     4.6768,1,     -999.0,9,     -999.0,9,     -999.0,9
325020210420,        A22,      28,          1,         18,         18,2,20210428,       0259,    17.9478,   -65.5657,       2171,   438.8,  13.8592,  35.8142,2,  35.8111,2,    141.0,2,   140.8,2,    6.34,2,   17.12,2,    0.00,2,    0.98,2,   2.037,2,   1.225,2,   0.9500,2,  2186.8,2, 2339.93,2,  699.180,2,    20.00,   7.76694,2,    25.00, -999.00,9, -999.00,9, -999.00, -999.00,9,-999.000,9,   46.30,2, -999.00,1,      19.03,2, 20210428,      351,  17.9478, -65.5657,    13.8670,2,     0.0408,1,     4.6765,1,     -999.0,9,     -999.0,9,     -999.0,9
325020210420,        A22,      28,          1,         17,         17,2,20210428,       0259,    17.9478,   -65.5657,       2171,   489.1,  12.7202,  35.6267,2,  35.6287,2,    135.0,2,   134.7,2,    8.19,2,   19.68,2,    0.00,2,    1.15,2,-999.000,9,-999.000,9,-999.0000,9,  2196.6,2, 2332.77,2,  762.490,2,    20.00,    7.7301,2,    25.00, -999.00,9, -999.00,9, -999.00, -999.00,9,-999.000,9,   44.10,2, -999.00,1,     -999.0,9, 20210428,      349,  17.9478, -65.5657,    12.7278,2,     0.0419,1,     4.6778,1,     -999.0,9,     -999.0,9,     -999.0,9
325020210420,        A22,      28,          1,         16,         16,2,20210428,       0259,    17.9478,   -65.5657,       2171,   569.6,  10.7289,  35.3009,2,  35.3013,2,    125.7,2,   126.0,2,   12.10,2,   24.44,2,    0.00,2,    1.48,2,   1.636,2,   0.921,2,   0.5600,2,  2208.9,2, 2318.66,2,  891.580,2,    20.00,   7.66157,2,    25.00, -999.00,9, -999.00,9, -999.00, -999.00,9,-999.000,9,   43.50,2, -999.00,1,      24.06,2, 20210428,      346,  17.9478, -65.5657,    10.7297,2,     0.0423,1,     4.6783,1,     -999.0,9,     -999.0,9,     -999.0,9
325020210420,        A22,      28,          1,         15,         15,2,20210428,       0259,    17.9478,   -65.5657,       2171,   670.2,   8.6601,  35.0110,2,  35.0077,2,    123.2,2,   123.5,2,   16.88,2,   28.68,2,    0.00,2,    1.79,2,-999.000,9,-999.000,9,-999.0000,9,  2216.8,6, 2306.23,2, 1019.750,2,    20.00,   7.60377,2,    25.03, -999.00,9, -999.00,9, -999.00, -999.00,9,-999.000,9,   42.00,2, -999.00,1,     -999.0,9, 20210428,      343,  17.9478, -65.5657,     8.6568,2,     0.0415,1,     4.6789,1,     -999.0,9,     -999.0,9,     -999.0,9
325020210420,        A22,      28,          1,         14,         14,2,20210428,       0259,    17.9478,   -65.5657,       2171,   771.1,   7.2205,  34.8697,2,  34.8664,2,    130.3,2,   130.7,2,   21.08,2,   30.46,2,    0.00,2,    1.94,2,-999.000,9,-999.000,9,-999.0000,9,  2222.4,2, 2304.48,2, 1068.450,2,    20.00,   7.58315,2,    25.01, -999.00,9, -999.00,9, -999.00, -999.00,9,-999.000,9,   42.40,2, -999.00,1,     -999.0,9, 20210428,      340,  17.9478, -65.5657,     7.2155,2,     0.0426,1,     4.6791,1,     -999.0,9,     -999.0,9,     -999.0,9
325020210420,        A22,      28,          1,         13,         13,2,20210428,       0259,    17.9478,   -65.5657,       2171,   872.1,   6.2416,  34.8576,2,  34.8591,2,    144.8,3,   146.4,2,   23.13,2,   29.58,2,    0.00,2,    1.90,2,   0.399,2,   0.227,2,   0.1500,2,  2219.2,2, 2305.61,2, 1029.740,2,    20.00,    7.5983,6,    25.01, -999.00,9, -999.00,9, -999.00, -999.00,9,-999.000,9,   40.50,2, -999.00,1,      22.99,2, 20210428,      337,  17.9478, -65.5657,     6.2433,2,     0.0430,1,     4.6801,1,     -999.0,9,     -999.0,9,     -999.0,9
325020210420,        A22,      28,          1,         12,         12,2,20210428,       0259,    17.9478,   -65.5657,       2171,   973.1,   5.5696,  34.9210,2,  34.9235,2,    171.1,2,   170.8,2,   23.52,2,   26.63,2,    0.00,2,    1.75,2,-999.000,9,-999.000,9,-999.0000,9,  2210.7,2, 2313.91,2,  939.850,2,    20.00,   7.63902,2,    25.01, -999.00,9, -999.00,9, -999.00, -999.00,9,-999.000,9,   40.40,2, -999.00,1,     -999.0,9, 20210428,      334,  17.9478, -65.5657,     5.5694,2,     0.0430,1,     4.6813,1,     -999.0,9,     -999.0,9,     -999.0,9
325020210420,        A22,      28,          1,         11,         11,2,20210428,       0259,    17.9478,   -65.5657,       2171,  1074.1,   5.0650,  34.9490,2,  34.9492,2,    188.1,2,   187.8,2,   23.91,2,   24.78,2,    0.00,2,    1.64,2,   0.268,2,   0.152,2,   0.0700,2,  2207.4,2, 2318.91,2,  887.340,2,    20.00,   7.66381,2,    25.01, -999.00,9, -999.00,9, -999.00, -999.00,9,-999.000,9,   43.70,3, -999.00,1,      18.17,2, 20210428,      331,  17.9478, -65.5657,     5.0650,2,     0.0429,1,     4.6814,1,     -999.0,9,     -999.0,9,     -999.0,9
325020210420,        A22,      28,          1,         10,         10,2,20210428,       0259,    17.9478,   -65.5657,       2171,  1175.6,   4.7637,  34.9607,2,  34.9606,2,    197.9,2,   197.6,2,   24.20,2,   23.79,2,    0.00,2,    1.58,2,-999.000,9,-999.000,9,-999.0000,9,  2204.9,2, 2318.72,2,  857.120,2,    20.00,   7.67705,2,    25.01, -999.00,9, -999.00,9, -999.00, -999.00,9,-999.000,9,   41.10,2, -999.00,1,     -999.0,9, 20210428,      328,  17.9478, -65.5657,     4.7633,2,     0.0430,1,     4.6813,1,     -999.0,9,     -999.0,9,     -999.0,9
325020210420,        A22,      28,          1,          9,          9,2,20210428,       0259,    17.9478,   -65.5657,       2171,  1276.8,   4.5775,  34.9660,2,  34.9656,2,    203.3,2,   203.1,2,   24.39,2,   23.27,2,    0.00,2,    1.55,2,   0.261,2,   0.136,2,   0.0500,2,  2202.9,2, 2321.73,2, -999.000,9,  -999.00,   7.68433,2,    25.00, -999.00,9, -999.00,9, -999.00, -999.00,9,-999.000,9,   39.70,2, -999.00,1,      16.67,2, 20210428,      324,  17.9478, -65.5657,     4.5775,2,     0.0425,1,     4.6824,1,     -999.0,9,     -999.0,9,     -999.0,9
325020210420,        A22,      28,          1,          8,          8,2,20210428,       0259,    17.9478,   -65.5657,       2171,  1378.3,   4.4338,  34.9715,2,  34.9711,2,    210.9,2,   210.9,2,   23.90,2,   22.49,2,    0.00,2,    1.49,2,-999.000,9,-999.000,9,-999.0000,9,  2201.1,2,  2320.6,2,  830.620,2,    20.00,   7.69212,2,    25.02, -999.00,9, -999.00,9, -999.00, -999.00,9,-999.000,9,   41.60,2, -999.00,1,     -999.0,9, 20210428,      322,  17.9478, -65.5657,     4.4333,2,     0.0426,1,     4.6814,1,     -999.0,9,     -999.0,9,     -999.0,9
325020210420,        A22,      28,          1,          7,          7,2,20210428,       0259,    17.9478,   -65.5657,       2171,  1479.4,   4.2863,  34.9773,2,  34.9764,2,    220.4,2,   220.4,2,   22.83,2,   21.58,2,    0.00,2,    1.43,2,-999.000,9,-999.000,9,-999.0000,9,  2195.8,2, 2320.76,2,  810.300,2,    20.00,   7.70089,2,    24.99, -999.00,9, -999.00,9, -999.00, -999.00,9,-999.000,9,   42.30,2, -999.00,1,     -999.0,9, 20210428,      319,  17.9478, -65.5657,     4.2863,2,     0.0422,1,     4.6823,1,     -999.0,9,     -999.0,9,     -999.0,9
325020210420,        A22,      28,          1,          6,          6,2,20210428,       0259,    17.9478,   -65.5657,       2171,  1581.0,   4.2261,  34.9790,2,  34.9785,2,    224.0,2,   224.2,2,   22.44,2,   21.19,2,    0.00,2,    1.41,2,   0.683,2,   0.362,2,   0.2200,2,  2193.6,2, 2320.24,2,  802.750,2,    20.00,   7.70305,2,    25.00, -999.00,9, -999.00,9, -999.00, -999.00,9,-999.000,9,   42.20,2, -999.00,1,      15.06,2, 20210428,      316,  17.9478, -65.5657,     4.2261,2,     0.0429,1,     4.6825,1,     -999.0,9,     -999.0,9,     -999.0,9
325020210420,        A22,      28,          1,          5,          5,2,20210428,       0259,    17.9478,   -65.5657,       2171,  1682.3,   4.1600,  34.9829,2,  34.9825,2,    233.7,2,   234.0,2,   19.90,2,   20.25,2,    0.00,2,    1.34,2,-999.000,9,-999.000,9,-999.0000,9,  2187.9,2, 2319.58,2,  785.915,6,    20.00,   7.71098,2,    25.00, -999.00,9, -999.00,9, -999.00, -999.00,9,-999.000,9,   43.40,2, -999.00,1,     -999.0,9, 20210428,      313,  17.9478, -65.5657,     4.1598,2,     0.0424,1,     4.6826,1,     -999.0,9,     -999.0,9,     -999.0,9
325020210420,        A22,      28,          1,          4,          4,2,20210428,       0259,    17.9478,   -65.5657,       2171,  1783.5,   4.0217,  34.9851,2,  34.9856,2,    249.6,2,   250.0,2,   16.00,2,   18.73,2,    0.00,2,    1.23,2,   1.526,2,   0.778,2,   0.3900,2,  2176.6,2, 2310.72,2,  762.390,2,    20.00,   7.72119,2,    24.99, -999.00,9, -999.00,9, -999.00, -999.00,9,-999.000,9,   42.70,2, -999.00,1,      14.13,2, 20210428,      310,  17.9478, -65.5657,     4.0220,2,     0.0419,1,     4.6838,1,     -999.0,9,     -999.0,9,     -999.0,9
325020210420,        A22,      28,          1,          3,          3,2,20210428,       0259,    17.9478,   -65.5657,       2171,  1955.9,   3.8693,  34.9805,2,  34.9811,2,    256.8,2,   257.9,2,   14.83,2,   18.14,2,    0.00,2,    1.19,2,-999.000,9,-999.000,9,-999.0000,9,  2173.1,2, 2307.86,2,  751.050,2,    20.00,   7.72753,2,    25.00, -999.00,9, -999.00,9, -999.00, -999.00,9,-999.000,9,   42.90,2, -999.00,1,     -999.0,9, 20210428,      306,  17.9478, -65.5657,     3.8693,2,     0.0423,1,     4.6850,1,     -999.0,9,     -999.0,9,     -999.0,9
325020210420,        A22,      28,          1,          2,          2,2,20210428,       0259,    17.9478,   -65.5657,       2171,  2062.9,   3.8583,  34.9795,2,  34.9787,2,    257.3,2,   257.6,2,   14.93,2,   18.13,2,    0.00,2,    1.18,2,   1.552,2,   0.792,2,   0.3400,2,  2173.6,2, 2307.16,2,  746.920,2,    20.00,   7.72796,6,    25.00, -999.00,9, -999.00,9, -999.00, -999.00,9,-999.000,9,   42.10,2, -999.00,1,      13.80,2, 20210428,      302,  17.9478, -65.5657,     3.8581,2,     0.0412,1,     4.6850,1,     -999.0,9,     -999.0,9,     -999.0,9
325020210420,        A22,      28,          1,          1,          1,2,20210428,       0259,    17.9478,   -65.5657,       2171,  2185.6,   3.8566,  34.9789,2,  34.9789,2,    257.7,2,   257.6,2,   15.03,2,   18.14,2,    0.00,2,    1.19,2,   1.534,2,   0.771,2,   0.3900,2,  2173.7,6, 2308.34,6,  737.060,2,    20.00,   7.72894,2,    25.00, -999.00,9, -999.00,9, -999.00, -999.00,9,-999.000,9,   42.60,2, -999.00,1,      14.23,2, 20210428,      259,  17.9478, -65.5657,     3.8567,2,     0.0420,1,     4.6851,1,     -999.0,9,     -999.0,9,     -999.0,9