BOTTLE,20230513CCHSIOCBG
EXPOCODE,SECT_ID,STNNBR,CASTNO,SAMPNO,BTLNBR,BTLNBR_FLAG_W,DATE,TIME,LATITUDE,LONGITUDE,DEPTH,CTDPRS,CTDTMP,CTDSAL,CTDSAL_FLAG_W,SALNTY,SALNTY_FLAG_W,CTDOXY,CTDOXY_FLAG_W,OXYGEN,OXYGEN_FLAG_W,SILCAT,SILCAT_FLAG_W,NITRAT,NITRAT_FLAG_W,NITRIT,NITRIT_FLAG_W,PHSPHT,PHSPHT_FLAG_W,CFC-11,CFC-11_FLAG_W,CFC-12,CFC-12_FLAG_W,SF6,SF6_FLAG_W,TCARBN,TCARBN_FLAG_W,ALKALI,ALKALI_FLAG_W,FCO2,FCO2_FLAG_W,FCO2TMP,PH_TOT,PH_TOT_FLAG_W,PH_TMP,DELC13,DELC13_FLAG_W,DELC14,DELC14_FLAG_W,C14ERR,DELO18,DELO18_FLAG_W,POC,POC_FLAG_W,DOC,DOC_FLAG_W,TDN,TDN_FLAG_W,N2O,N2O_FLAG_W,BTL_DATE,BTL_TIME,BTL_LAT,BTL_LON,REFTMP,REFTMP_FLAG_W,CTDFLUOR,CTDFLUOR_FLAG_W,CTDXMISS,CTDXMISS_FLAG_W,D15N_NO2+NO3,D15N_NO2+NO3_FLAG_W,D18O_NO2+NO3,D18O_NO2+NO3_FLAG_W,HPLC,HPLC_FLAG_W
,,,,,,,,,,,METERS,DBAR,ITS-90,PSS-78,,PSS-78,,UMOL/KG,,UMOL/KG,,UMOL/KG,,UMOL/KG,,UMOL/KG,,UMOL/KG,,PMOL/KG,,PMOL/KG,,FMOL/KG,,UMOL/KG,,UMOL/KG,,UATM,,DEG C,,,DEG C,/MILLE,,/MILLE,,/MILLE,/MILLE,,UG/KG,,UMOL/KG,,UMOL/KG,,NMOL/KG,,,,,,ITS-90,,VOLTS,,VOLTS,,/MILLE,,/MILLE,,,
325020210420,        A22,      78,          1,         36,         36,2,20210512,       2214,    37.8463,   -68.4309,       4377,     5.2,  25.1547,  36.4271,2,  36.4289,2,    203.5,2,   202.6,2,    1.17,2,    0.00,2,    0.00,2,    0.00,2,   1.649,2,   0.983,2,   1.6200,2,  2057.1,6, 2381.86,2,  316.000,2,    20.00,   8.06842,2,    25.00, -999.00,9, -999.00,9, -999.00, -999.00,1,-999.000,9,   68.60,2,    4.06,2,       6.06,2, 20210513,       29,  37.8463, -68.4309,    25.1601,2,     0.0561,1,     4.5929,1,     -999.0,9,     -999.0,9,     -999.0,9
325020210420,        A22,      78,          1,         35,         35,2,20210512,       2214,    37.8463,   -68.4309,       4377,    35.5,  24.6729,  36.3850,2,  36.3913,2,    205.6,2,   205.2,2,    1.17,2,    0.00,2,    0.00,2,    0.00,2,-999.000,9,-999.000,9,-999.0000,9,  2052.5,2, 2380.84,2,  311.920,2,    20.00,   8.07059,6,    24.99, -999.00,9, -999.00,9, -999.00, -999.00,9,-999.000,9,   67.00,2,    4.18,2,     -999.0,9, 20210513,       27,  37.8463, -68.4319,    24.6693,2,     0.0522,1,     4.5911,1,     -999.0,9,     -999.0,9,     -999.0,9
325020210420,        A22,      78,          1,         34,         34,2,20210512,       2214,    37.8463,   -68.4309,       4377,    60.9,  23.2463,  36.5345,2,  36.5347,2,    207.6,3,   211.3,2,    1.07,2,    0.00,2,    0.00,2,    0.00,2,-999.000,9,-999.000,9,-999.0000,9,  2066.3,2, 2388.36,2,  319.470,2,    20.00,   8.06464,2,    24.98, -999.00,9, -999.00,9, -999.00, -999.00,1,-999.000,9,   67.40,2,    3.83,2,     -999.0,9, 20210513,       24,  37.8464, -68.4329,    23.2465,2,     0.0580,1,     4.6068,1,     -999.0,9,     -999.0,9,     -999.0,9
325020210420,        A22,      78,          1,         33,         33,2,20210512,       2214,    37.8463,   -68.4309,       4377,    86.5,  23.0364,  36.9058,2,  36.8973,2,    174.3,2,   174.6,2,    1.07,2,    2.20,2,    0.04,2,    0.06,2,   1.742,2,   1.110,2,   1.6600,2,  2120.2,2, 2409.61,6,  382.730,2,    20.00,   7.99968,2,    24.99, -999.00,9, -999.00,9, -999.00, -999.00,9,-999.000,9,   57.50,2,    6.24,2,       7.58,2, 20210513,       23,  37.8464, -68.4340,    23.0428,2,     0.0651,1,     4.6295,1,     -999.0,9,     -999.0,9,     -999.0,9
325020210420,        A22,      78,          1,         32,         32,2,20210512,       2214,    37.8463,   -68.4309,       4377,   111.2,  21.7480,  36.8461,2,  36.8455,2,    186.5,2,   186.9,2,    0.88,2,    1.71,2,    0.02,2,    0.03,2,-999.000,9,-999.000,9,-999.0000,9,  2116.9,2, 2406.49,2,  380.070,2,    20.00,   8.00277,2,    24.98, -999.00,9, -999.00,9, -999.00, -999.00,9,-999.000,9,   57.60,2,    5.07,2,     -999.0,9, 20210513,       22,  37.8464, -68.4350,    21.7424,2,     0.0470,1,     4.6469,1,     -999.0,9,     -999.0,9,     -999.0,9
325020210420,        A22,      78,          1,         31,         31,2,20210512,       2214,    37.8463,   -68.4309,       4377,   136.3,  20.7066,  36.7914,2,  36.7921,2,    192.1,2,   192.2,2,    0.68,2,    1.33,2,    0.00,2,    0.01,2,-999.000,9,-999.000,9,-999.0000,9,  2118.4,2, 2401.93,2,  388.740,2,    20.00,   7.99138,2,    24.98, -999.00,9, -999.00,9, -999.00, -999.00,9,-999.000,9,   54.70,2,    5.03,2,     -999.0,9, 20210513,       20,  37.8464, -68.4360,    20.7037,2,     0.0408,1,     4.6546,1,     -999.0,9,     -999.0,9,     -999.0,9
325020210420,        A22,      78,          1,         30,         30,2,20210512,       2214,    37.8463,   -68.4309,       4377,   166.6,  19.8687,  36.7199,2,  36.7193,2,    187.3,2,   187.3,2,    1.17,2,    3.01,2,    0.00,2,    0.09,2,   1.956,2,   1.228,2,   1.6700,2,  2126.9,2, 2397.34,2,  411.680,2,    20.00,   7.96971,2,    24.98, -999.00,9, -999.00,9, -999.00, -999.00,9,-999.000,9,   54.00,2,    7.02,2,       8.42,2, 20210513,       18,  37.8464, -68.4373,    19.8684,2,     0.0400,1,     4.6533,1,     -999.0,9,     -999.0,9,     -999.0,9
325020210420,        A22,      78,          1,         29,         29,2,20210512,       2214,    37.8463,   -68.4309,       4377,   216.8,  19.4050,  36.7064,2,  36.7052,2,    210.9,2,   210.6,2,    0.88,2,    1.60,2,    0.00,2,    0.02,2,-999.000,9,-999.000,9,-999.0000,9,  2110.8,2, 2395.43,2,  381.880,2,    20.00,   7.99978,2,    24.98, -999.00,9, -999.00,9, -999.00, -999.00,9,-999.000,9,   57.10,3,    4.78,2,     -999.0,9, 20210513,       15,  37.8464, -68.4387,    19.4017,2,     0.0390,1,     4.6552,1,     -999.0,9,     -999.0,9,     -999.0,9
325020210420,        A22,      78,          1,         28,         28,2,20210512,       2214,    37.8463,   -68.4309,       4377,   267.2,  19.0727,  36.6661,2,  36.6649,2,    206.2,2,   205.9,2,    1.07,2,    2.44,2,    0.00,2,    0.06,2,   2.018,2,   1.264,2,   1.8000,2,  2118.0,2,  2397.1,6,  396.830,2,    20.00,   7.98601,2,    24.97, -999.00,9, -999.00,9, -999.00, -999.00,9,-999.000,9,   51.50,2, -999.00,1,       7.82,2, 20210513,       13,  37.8464, -68.4401,    19.0721,2,     0.0388,1,     4.6568,1,     -999.0,9,     -999.0,9,     -999.0,9
325020210420,        A22,      78,          1,         27,         27,2,20210512,       2214,    37.8463,   -68.4309,       4377,   317.8,  18.6563,  36.6086,2,  36.6108,2,    201.9,2,   202.2,2,    1.27,2,    3.43,2,    0.00,2,    0.11,2,-999.000,9,-999.000,9,-999.0000,9,  2123.7,2, 2393.88,2,  412.900,2,    20.00,   7.97028,2,    24.98, -999.00,9, -999.00,9, -999.00, -999.00,9,-999.000,9,   50.10,2, -999.00,1,     -999.0,9, 20210513,       11,  37.8464, -68.4417,    18.6556,2,     0.0394,1,     4.6590,1,     -999.0,9,     -999.0,9,     -999.0,9
325020210420,        A22,      78,          1,         26,         26,2,20210512,       2214,    37.8463,   -68.4309,       4377,   368.1,  17.9107,  36.4791,2,  36.4786,2,    186.0,2,   186.0,2,    1.95,2,    6.06,2,    0.00,2,    0.26,2,   2.155,2,   1.329,2,   1.5700,2,  2138.5,2, 2385.16,2,  458.130,2,    20.00,   7.93256,2,    24.97, -999.00,9, -999.00,9, -999.00, -999.00,9,-999.000,9,   47.30,2, -999.00,1,       9.43,2, 20210513,        8,  37.8464, -68.4439,    17.9116,2,     0.0397,1,     4.6603,1,     -999.0,9,     -999.0,9,     -999.0,9
325020210420,        A22,      78,          1,         25,         25,2,20210512,       2214,    37.8463,   -68.4309,       4377,   419.9,  16.8493,  36.3039,2,  36.3069,2,    173.9,2,   172.8,2,    2.73,2,    8.94,2,    0.00,2,    0.44,2,   2.210,6,   1.344,6,   1.3400,6,  2151.9,2, 2375.34,2,  510.380,2,    20.00,   7.89012,2,    24.98, -999.00,9, -999.00,9, -999.00, -999.00,9,-999.000,9,   47.40,2, -999.00,1,      11.41,6, 20210513,        6,  37.8463, -68.4455,    16.8471,2,     0.0397,1,     4.6625,1,     -999.0,9,     -999.0,9,     -999.0,9
325020210420,        A22,      78,          1,         24,         24,2,20210512,       2214,    37.8463,   -68.4309,       4377,   468.4,  15.6588,  36.1063,2,  36.1088,2,    166.3,2,   166.3,2,    4.00,2,   11.56,2,    0.00,2,    0.61,2,-999.000,9,-999.000,9,-999.0000,9,  2160.4,2, 2362.87,2,  561.860,2,    20.00,   7.85304,2,    24.99, -999.00,9, -999.00,9, -999.00, -999.00,9,-999.000,9,   45.60,2, -999.00,1,     -999.0,9, 20210513,        4,  37.8463, -68.4464,    15.6392,2,     0.0419,1,     4.6635,1,     -999.0,9,     -999.0,9,     -999.0,9
325020210420,        A22,      78,          1,         23,         23,2,20210512,       2214,    37.8463,   -68.4309,       4377,   538.4,  14.3336,  35.8850,2,  35.8799,2,    144.2,2,   144.3,2,    6.83,2,   16.21,2,    0.00,2,    0.92,2,   2.185,2,   1.166,2,   0.9900,2,  2179.9,2,  2352.8,6,  661.720,2,    20.00,   7.78649,2,    24.99, -999.00,9, -999.00,9, -999.00, -999.00,9,-999.000,9,   46.50,2, -999.00,1,      17.06,2, 20210513,        1,  37.8463, -68.4472,    14.3198,2,     0.0416,1,     4.6609,1,     -999.0,9,     -999.0,9,     -999.0,9
325020210420,        A22,      78,          1,         22,         22,2,20210512,       2214,    37.8463,   -68.4309,       4377,   640.6,  10.6938,  35.3564,2,  35.3559,2,    134.0,2,   134.9,2,   12.78,2,   23.22,2,    0.00,2,    1.40,2,   1.515,2,   0.849,2,   0.5800,2,  2197.3,6,  2325.6,2,  846.120,2,    20.00,   7.68448,2,    24.98, -999.00,9, -999.00,9, -999.00, -999.00,9,-999.000,9,   42.60,2, -999.00,1,      21.14,2, 20210512,     2358,  37.8463, -68.4482,    10.6912,2,     0.0431,1,     4.6593,1,     -999.0,9,     -999.0,9,     -999.0,9
325020210420,        A22,      78,          1,         21,         21,2,20210512,       2214,    37.8463,   -68.4309,       4377,   741.1,   8.0325,  35.1456,2,  35.1455,2,    162.4,2,   161.8,2,   14.34,2,   23.71,2,    0.00,2,    1.46,2,-999.000,9,-999.000,9,-999.0000,9,  2198.2,2, 2314.22,2,  885.840,2,    20.00,   7.66334,6,    24.98, -999.00,9, -999.00,9, -999.00, -999.00,9,-999.000,9,   43.40,2, -999.00,1,     -999.0,9, 20210512,     2355,  37.8463, -68.4491,     8.0321,2,     0.0416,1,     4.6571,1,     -999.0,9,     -999.0,9,     -999.0,9
325020210420,        A22,      78,          1,         20,         20,2,20210512,       2214,    37.8463,   -68.4309,       4377,   843.1,   5.9975,  35.0704,2,  35.0705,2,    209.2,2,   209.2,2,   12.88,2,   20.46,2,    0.00,2,    1.30,2,   2.148,2,   1.149,2,   0.7500,2,  2188.3,2, 2313.42,2,  843.580,2,    20.00,   7.68293,2,    24.98, -999.00,9, -999.00,9, -999.00, -999.00,9,-999.000,9,   44.60,2, -999.00,1,      16.20,2, 20210512,     2352,  37.8463, -68.4500,     5.9989,2,     0.0421,1,     4.6598,1,     -999.0,9,     -999.0,9,     -999.0,9
325020210420,        A22,      78,          1,         19,         19,2,20210512,       2214,    37.8463,   -68.4309,       4377,   945.5,   5.2737,  35.0374,2,  35.0394,2,    231.0,2,   230.1,2,   12.39,2,   19.12,2,    0.00,2,    1.23,2,   2.512,2,   1.338,2,   0.9300,2,  2180.1,2, 2309.54,2,  818.695,6,    20.00,     7.694,2,    24.98, -999.00,9, -999.00,9, -999.00, -999.00,9,-999.000,9,   44.10,2, -999.00,1,      14.76,2, 20210512,     2347,  37.8463, -68.4511,     5.2859,2,     0.0420,1,     4.6623,1,     -999.0,9,     -999.0,9,     -999.0,9
325020210420,        A22,      78,          1,         18,         18,2,20210512,       2214,    37.8463,   -68.4309,       4377,  1045.7,   4.9247,  35.0165,2,  35.0163,2,    241.6,2,   242.0,2,   12.00,2,   18.39,2,    0.00,2,    1.19,2,-999.000,9,-999.000,9,-999.0000,9,  2178.3,2, 2308.12,2,  808.370,2,    20.00,   7.69601,6,    24.98, -999.00,9, -999.00,9, -999.00, -999.00,9,-999.000,9,   43.70,2, -999.00,1,     -999.0,9, 20210512,     2345,  37.8463, -68.4520,     4.9094,2,     0.0430,1,     4.6624,1,     -999.0,9,     -999.0,9,     -999.0,9
325020210420,        A22,      78,          1,         17,         17,2,20210512,       2214,    37.8463,   -68.4309,       4377,  1147.8,   4.6177,  34.9977,2,  34.9984,2,    250.4,2,   250.1,2,   11.71,2,   17.97,2,    0.00,2,    1.16,2,   2.850,2,   1.537,2,   1.1400,2,  2173.0,2, 2308.35,6,  800.700,2,    20.00,   7.70331,2,    24.97, -999.00,9, -999.00,9, -999.00, -999.00,9,-999.000,9,   45.70,2, -999.00,1,      14.07,2, 20210512,     2341,  37.8463, -68.4530,     4.6188,2,     0.0421,1,     4.6642,1,     -999.0,9,     -999.0,9,     -999.0,9
325020210420,        A22,      78,          1,         16,         16,2,20210512,       2214,    37.8463,   -68.4309,       4377,  1246.8,   4.3947,  34.9822,2,  34.9829,2,    256.0,2,   256.1,2,   11.51,2,   17.70,2,    0.00,2,    1.14,2,-999.000,9,-999.000,9,-999.0000,9,  2173.1,2, 2307.64,2,  794.320,2,    20.00,   7.70413,2,    24.96, -999.00,9, -999.00,9, -999.00, -999.00,9,-999.000,9,   45.90,2, -999.00,1,     -999.0,9, 20210512,     2337,  37.8463, -68.4549,     4.3929,2,     0.0420,1,     4.6645,1,     -999.0,9,     -999.0,9,     -999.0,9
325020210420,        A22,      78,          1,         15,         15,2,20210512,       2214,    37.8463,   -68.4309,       4377,  1348.7,   4.2869,  34.9794,2,  34.9803,2,    258.1,2,   258.4,2,   11.51,2,   17.59,2,    0.00,2,    1.14,2,   2.915,2,   1.539,2,   1.0700,2,  2173.1,2, 2304.94,2,  788.200,2,    20.00,   7.70616,2,    24.96, -999.00,9, -999.00,9, -999.00, -999.00,9,-999.000,9,   44.70,2, -999.00,1,      13.88,2, 20210512,     2335,  37.8463, -68.4575,     4.2874,2,     0.0417,1,     4.6654,1,     -999.0,9,     -999.0,9,     -999.0,9
325020210420,        A22,      78,          1,         14,         14,2,20210512,       2214,    37.8463,   -68.4309,       4377,  1455.7,   4.1890,  34.9765,2,  34.9793,2,    259.9,2,   260.5,2,   11.90,2,   17.57,2,    0.00,2,    1.14,2,   2.822,2,   1.491,2,   0.9800,2,  2171.3,2, 2306.34,2,  782.010,2,    20.00,   7.71134,2,    24.99, -999.00,9, -999.00,9, -999.00, -999.00,9,-999.000,9,   44.60,2, -999.00,1,      13.89,2, 20210512,     2331,  37.8463, -68.4601,     4.1876,2,     0.0417,1,     4.6648,1,     -999.0,9,     -999.0,9,     -999.0,9
325020210420,        A22,      78,          1,         13,         13,2,20210512,       2214,    37.8463,   -68.4309,       4377,  1554.2,   4.1000,  34.9704,2,  34.9711,2,    261.4,2,   261.7,2,   12.00,2,   17.49,2,    0.00,2,    1.13,2,   2.821,2,   1.477,2,   0.9700,2,  2170.9,2, 2305.08,2,  780.230,2,    20.00,   7.70847,2,    24.97, -999.00,9, -999.00,9, -999.00, -999.00,9,-999.000,9,   44.50,2, -999.00,1,      13.71,2, 20210512,     2327,  37.8463, -68.4612,     4.0996,2,     0.0430,1,     4.6645,1,     -999.0,9,     -999.0,9,     -999.0,9
325020210420,        A22,      78,          1,         12,         12,2,20210512,       2214,    37.8463,   -68.4309,       4377,  1655.6,   4.0198,  34.9715,2,  34.9715,2,    261.5,2,   261.5,2,   12.59,2,   17.59,2,    0.00,2,    1.13,2,   2.889,2,   1.339,2,   0.8200,2,  2168.8,2,  2305.8,2,  772.290,2,    20.00,   7.71318,2,    24.97, -999.00,9, -999.00,9, -999.00, -999.00,9,-999.000,9,   44.60,2, -999.00,1,      13.47,2, 20210512,     2324,  37.8463, -68.4622,     4.0197,2,     0.0413,1,     4.6645,1,     -999.0,9,     -999.0,9,     -999.0,9
325020210420,        A22,      78,          1,         11,         11,2,20210512,       2214,    37.8463,   -68.4309,       4377,  1754.7,   3.9235,  34.9701,2,  34.9707,2,    262.1,2,   262.0,2,   12.88,2,   17.63,2,    0.00,2,    1.14,2,-999.000,9,-999.000,9,-999.0000,9,  2167.5,6, 2306.04,2,  765.830,2,    20.00,    7.7187,2,    24.97, -999.00,9, -999.00,9, -999.00, -999.00,9,-999.000,9,   44.00,2, -999.00,1,     -999.0,9, 20210512,     2320,  37.8463, -68.4637,     3.9237,2,     0.0424,1,     4.6681,1,     -999.0,9,     -999.0,9,     -999.0,9
325020210420,        A22,      78,          1,         10,         10,2,20210512,       2214,    37.8463,   -68.4309,       4377,  1887.1,   3.7797,  34.9630,2,  34.9626,2,    263.0,2,   263.3,2,   13.27,2,   17.61,2,    0.00,2,    1.14,2,   2.247,2,   1.141,2,   0.5400,2,  2167.1,2,  2307.9,2,  760.950,2,    20.00,   7.72121,6,    24.94, -999.00,9, -999.00,9, -999.00, -999.00,9,-999.000,9,   43.50,2, -999.00,1,      13.39,2, 20210512,     2316,  37.8463, -68.4656,     3.7808,2,     0.0426,1,     4.6672,1,     -999.0,9,     -999.0,9,     -999.0,9
325020210420,        A22,      78,          1,          9,          9,2,20210512,       2214,    37.8463,   -68.4309,       4377,  2111.5,   3.5985,  34.9559,2,  34.9551,2,    264.1,2,   264.5,2,   14.34,2,   17.57,2,    0.00,2,    1.15,2,-999.000,9,-999.000,9,-999.0000,9,  2165.2,2, 2307.11,2,  754.550,2,    20.00,   7.72448,2,    24.97, -999.00,9, -999.00,9, -999.00, -999.00,9,-999.000,9,   43.80,2, -999.00,1,     -999.0,9, 20210512,     2310,  37.8462, -68.4684,     3.5992,2,     0.0417,1,     4.6639,1,     -999.0,9,     -999.0,9,     -999.0,9
325020210420,        A22,      78,          1,          8,          8,2,20210512,       2214,    37.8463,   -68.4309,       4377,  2366.3,   3.3453,  34.9478,2,  34.9477,2,    265.2,2,   265.5,2,   16.20,2,   17.61,2,    0.00,2,    1.16,2,   1.706,2,   0.851,2,   0.3800,2,  2165.2,2,  2309.7,2,  745.380,2,    20.00,   7.72899,2,    24.97, -999.00,9, -999.00,9, -999.00, -999.00,9,-999.000,9,   47.20,3, -999.00,1,      12.66,2, 20210512,     2304,  37.8463, -68.4707,     3.3459,2,     0.0421,1,     4.6676,1,     -999.0,9,     -999.0,9,     -999.0,9
325020210420,        A22,      78,          1,          7,          7,2,20210512,       2214,    37.8463,   -68.4309,       4377,  2616.4,   3.1400,  34.9390,2,  34.9382,2,    266.6,2,   267.0,2,   17.37,2,   17.48,2,    0.00,2,    1.15,2,-999.000,9,-999.000,9,-999.0000,9,  2164.6,2, 2309.52,2,  742.580,2,    20.00,   7.73022,2,    24.96, -999.00,9, -999.00,9, -999.00, -999.00,9,-999.000,9,   44.30,2, -999.00,1,     -999.0,9, 20210512,     2258,  37.8463, -68.4728,     3.1401,2,     0.0423,1,     4.6667,1,     -999.0,9,     -999.0,9,     -999.0,9
325020210420,        A22,      78,          1,          6,          6,2,20210512,       2214,    37.8463,   -68.4309,       4377,  2881.0,   2.8723,  34.9283,2,  34.9276,2,    268.6,2,   268.7,2,   18.73,2,   17.34,2,    0.00,2,    1.15,2,   1.659,2,   0.844,2,   0.4200,2,  2165.3,2, 2311.61,2,  747.120,2,    20.00,   7.73117,2,    24.99, -999.00,9, -999.00,9, -999.00, -999.00,9,-999.000,9,   44.00,2, -999.00,1,      13.15,2, 20210512,     2251,  37.8465, -68.4766,     2.8707,2,     0.0430,1,     4.6680,1,     -999.0,9,     -999.0,9,     -999.0,9
325020210420,        A22,      78,          1,          5,          5,2,20210512,       2214,    37.8463,   -68.4309,       4377,  3149.3,   2.6433,  34.9175,2,  34.9172,2,    270.1,2,   270.2,2,   20.39,2,   17.36,2,    0.00,2,    1.15,2,   1.616,2,   0.828,2,   0.4500,2,  2166.4,2, 2311.86,2,  746.920,2,    20.00,   7.72978,2,    24.98, -999.00,9, -999.00,9, -999.00, -999.00,9,-999.000,9,   43.70,2, -999.00,1,      12.81,2, 20210512,     2244,  37.8465, -68.4771,     2.6431,2,     0.0429,1,     4.6692,1,     -999.0,9,     -999.0,9,     -999.0,9
325020210420,        A22,      78,          1,          4,          4,2,20210512,       2214,    37.8463,   -68.4309,       4377,  3456.1,   2.4351,  34.9061,2,  34.9058,2,    271.2,2,   271.2,2,   22.34,2,   17.48,2,    0.00,2,    1.16,2,   1.657,2,   0.882,2,   0.5200,2,  2170.2,2, 2315.63,2,  753.170,2,    20.00,   7.72809,2,    24.98, -999.00,9, -999.00,9, -999.00, -999.00,9,-999.000,9,   43.70,2, -999.00,1,      13.13,2, 20210512,     2236,  37.8465, -68.4787,     2.4353,2,     0.0424,1,     4.6690,1,     -999.0,9,     -999.0,9,     -999.0,9
325020210420,        A22,      78,          1,          3,          3,2,20210512,       2214,    37.8463,   -68.4309,       4377,  3768.1,   2.2994,  34.8962,2,  34.8957,2,    269.4,2,   269.8,2,   26.15,2,   17.82,2,    0.00,2,    1.20,2,   1.585,2,   0.804,2,   0.4800,2,  2175.3,2, 2316.59,2,  755.480,2,    20.00,   7.72718,2,    24.99, -999.00,9, -999.00,9, -999.00, -999.00,9,-999.000,9,   47.70,3, -999.00,1,      13.33,2, 20210512,     2228,  37.8466, -68.4796,     2.2991,2,     0.0424,1,     4.6653,1,     -999.0,9,     -999.0,9,     -999.0,9