BOTTLE,20230513CCHSIOCBG
EXPOCODE,SECT_ID,STNNBR,CASTNO,SAMPNO,BTLNBR,BTLNBR_FLAG_W,DATE,TIME,LATITUDE,LONGITUDE,DEPTH,CTDPRS,CTDTMP,CTDSAL,CTDSAL_FLAG_W,SALNTY,SALNTY_FLAG_W,CTDOXY,CTDOXY_FLAG_W,OXYGEN,OXYGEN_FLAG_W,SILCAT,SILCAT_FLAG_W,NITRAT,NITRAT_FLAG_W,NITRIT,NITRIT_FLAG_W,PHSPHT,PHSPHT_FLAG_W,CFC-11,CFC-11_FLAG_W,CFC-12,CFC-12_FLAG_W,SF6,SF6_FLAG_W,TCARBN,TCARBN_FLAG_W,ALKALI,ALKALI_FLAG_W,FCO2,FCO2_FLAG_W,FCO2TMP,PH_TOT,PH_TOT_FLAG_W,PH_TMP,DELC13,DELC13_FLAG_W,DELC14,DELC14_FLAG_W,C14ERR,DELO18,DELO18_FLAG_W,POC,POC_FLAG_W,DOC,DOC_FLAG_W,TDN,TDN_FLAG_W,N2O,N2O_FLAG_W,BTL_DATE,BTL_TIME,BTL_LAT,BTL_LON,REFTMP,REFTMP_FLAG_W,CTDFLUOR,CTDFLUOR_FLAG_W,CTDXMISS,CTDXMISS_FLAG_W,D15N_NO2+NO3,D15N_NO2+NO3_FLAG_W,D18O_NO2+NO3,D18O_NO2+NO3_FLAG_W,HPLC,HPLC_FLAG_W
,,,,,,,,,,,METERS,DBAR,ITS-90,PSS-78,,PSS-78,,UMOL/KG,,UMOL/KG,,UMOL/KG,,UMOL/KG,,UMOL/KG,,UMOL/KG,,PMOL/KG,,PMOL/KG,,FMOL/KG,,UMOL/KG,,UMOL/KG,,UATM,,DEG C,,,DEG C,/MILLE,,/MILLE,,/MILLE,/MILLE,,UG/KG,,UMOL/KG,,UMOL/KG,,NMOL/KG,,,,,,ITS-90,,VOLTS,,VOLTS,,/MILLE,,/MILLE,,,
325020210420,        A22,      43,          1,         36,         36,2,20210501,       2107,    21.3285,   -65.9494,       5434,     5.3,  26.6079,  36.7958,2,  36.7980,2,    204.6,2,   204.0,2,    1.07,2,    0.00,2,    0.00,2,    0.00,2,-999.000,9,-999.000,9,-999.0000,9,  2061.0,6, 2408.35,2, -999.000,9,  -999.00,   8.10766,2,    25.02, -999.00,9, -999.00,9, -999.00, -999.00,1,-999.000,9, -999.00,9, -999.00,9,     -999.0,9, 20210501,     2338,  21.3285, -65.9494,    26.6123,2,     0.0413,1,     4.6276,1,     -999.0,1,     -999.0,1,     -999.0,9
325020210420,        A22,      43,          1,         35,         35,2,20210501,       2107,    21.3285,   -65.9494,       5434,    20.3,  26.3649,  36.7804,2,  36.7837,2,    204.8,2,   204.9,2,    0.88,2,    0.00,2,    0.00,2,    0.00,2,-999.000,9,-999.000,9,-999.0000,9,  -999.0,9, -999.00,9, -999.000,9,  -999.00,-999.00000,9,  -999.00, -999.00,9, -999.00,9, -999.00, -999.00,9,-999.000,9, -999.00,9, -999.00,9,     -999.0,9, 20210501,     2336,  21.3285, -65.9494,    26.3651,2,     0.0433,1,     4.6223,1,     -999.0,1,     -999.0,1,     -999.0,9
325020210420,        A22,      43,          1,         34,         34,2,20210501,       2107,    21.3285,   -65.9494,       5434,    40.4,  26.1746,  36.7573,2,  36.7601,2,    206.0,2,   206.1,2,    0.97,2,    0.00,2,    0.00,2,    0.00,2,-999.000,9,-999.000,9,-999.0000,9,  -999.0,9, -999.00,9, -999.000,9,  -999.00,-999.00000,9,  -999.00, -999.00,9, -999.00,9, -999.00, -999.00,9,-999.000,9, -999.00,9, -999.00,9,     -999.0,9, 20210501,     2334,  21.3285, -65.9494,    26.1732,2,     0.0445,1,     4.6224,1,     -999.0,1,     -999.0,1,     -999.0,9
325020210420,        A22,      43,          1,         33,         33,2,20210501,       2107,    21.3285,   -65.9494,       5434,    65.9,  26.0297,  36.8280,2,  36.8363,2,    206.6,2,   206.2,2,    0.88,2,    0.00,2,    0.00,2,    0.00,2,-999.000,9,-999.000,9,-999.0000,9,  2062.2,2, 2409.59,2, -999.000,9,  -999.00,   8.10802,6,    25.02, -999.00,9, -999.00,9, -999.00, -999.00,9,-999.000,9, -999.00,9, -999.00,9,     -999.0,9, 20210501,     2331,  21.3285, -65.9494,    26.0270,2,     0.0554,1,     4.6253,1,     -999.0,1,     -999.0,1,     -999.0,9
325020210420,        A22,      43,          1,         32,         32,2,20210501,       2107,    21.3285,   -65.9494,       5434,    90.6,  25.7186,  36.9314,2,  36.9318,2,    203.2,2,   203.3,2,    0.88,2,    0.00,2,    0.00,2,    0.00,2,-999.000,9,-999.000,9,-999.0000,9,  -999.0,9, -999.00,9, -999.000,9,  -999.00,-999.00000,9,  -999.00, -999.00,9, -999.00,9, -999.00, -999.00,1,-999.000,9, -999.00,9, -999.00,9,     -999.0,9, 20210501,     2330,  21.3285, -65.9494,    25.7174,2,     0.0626,1,     4.6332,1,     -999.0,1,     -999.0,1,     -999.0,9
325020210420,        A22,      43,          1,         31,         31,2,20210501,       2107,    21.3285,   -65.9494,       5434,   136.3,  24.6875,  37.2653,2,  37.2650,2,    192.0,2,   193.0,2,    0.58,2,    0.05,2,    0.08,2,    0.00,2,-999.000,9,-999.000,9,-999.0000,9,  2118.0,2, 2432.83,6, -999.000,9,  -999.00,   8.04876,2,    25.02, -999.00,9, -999.00,9, -999.00, -999.00,9,-999.000,9, -999.00,9, -999.00,9,     -999.0,9, 20210501,     2327,  21.3285, -65.9494,    24.6889,2,     0.0860,1,     4.6349,1,     -999.0,1,     -999.0,1,     -999.0,9
325020210420,        A22,      43,          1,         30,         30,2,20210501,       2107,    21.3285,   -65.9494,       5434,   185.6,  22.2335,  37.1374,2,  37.1344,2,    177.0,2,   178.8,2,    0.58,2,    1.08,2,    0.01,2,    0.00,2,-999.000,9,-999.000,9,-999.0000,9,  2142.2,2, 2423.82,2, -999.000,9,  -999.00,   7.99389,2,    25.02, -999.00,9, -999.00,9, -999.00, -999.00,9,-999.000,9, -999.00,9, -999.00,9,     -999.0,9, 20210501,     2324,  21.3285, -65.9494,    22.2303,2,     0.0514,1,     4.6605,1,     -999.0,1,     -999.0,1,     -999.0,9
325020210420,        A22,      43,          1,         29,         29,2,20210501,       2107,    21.3285,   -65.9494,       5434,   236.3,  20.3437,  36.8862,2,  36.8711,2,    171.9,2,   172.0,2,    0.88,2,    3.54,2,    0.00,2,    0.07,2,-999.000,9,-999.000,9,-999.0000,9,  -999.0,9, -999.00,9, -999.000,9,  -999.00,-999.00000,9,  -999.00, -999.00,9, -999.00,9, -999.00, -999.00,9,-999.000,9, -999.00,9, -999.00,9,     -999.0,9, 20210501,     2322,  21.3285, -65.9494,    20.3384,2,     0.0416,1,     4.6690,1,     -999.0,1,     -999.0,1,     -999.0,9
325020210420,        A22,      43,          1,         28,         28,2,20210501,       2107,    21.3285,   -65.9494,       5434,   286.7,  18.8538,  36.6457,2,  36.6378,2,    163.0,2,   163.9,2,    1.56,2,    6.78,2,    0.00,2,    0.26,2,-999.000,9,-999.000,9,-999.0000,9,  -999.0,9, -999.00,9, -999.000,9,  -999.00,-999.00000,9,  -999.00, -999.00,9, -999.00,9, -999.00, -999.00,9,-999.000,9, -999.00,9, -999.00,9,     -999.0,9, 20210501,     2320,  21.3285, -65.9494,    18.8539,2,     0.0398,1,     4.6716,1,     -999.0,1,     -999.0,1,     -999.0,9
325020210420,        A22,      43,          1,         27,         27,2,20210501,       2107,    21.3285,   -65.9494,       5434,   337.4,  17.5578,  36.4272,2,  36.4164,2,    166.1,2,   165.5,2,    2.24,2,    8.66,2,    0.00,2,    0.38,2,-999.000,9,-999.000,9,-999.0000,9,  -999.0,9, -999.00,9, -999.000,9,  -999.00,-999.00000,9,  -999.00, -999.00,9, -999.00,9, -999.00, -999.00,9,-999.000,9, -999.00,9, -999.00,9,     -999.0,9, 20210501,     2318,  21.3285, -65.9494,    17.5580,2,     0.0402,1,     4.6722,1,     -999.0,1,     -999.0,1,     -999.0,9
325020210420,        A22,      43,          1,         26,         26,2,20210501,       2107,    21.3285,   -65.9494,       5434,   388.0,  16.3081,  36.1979,2,  36.1903,2,    149.6,2,   149.8,2,    3.80,2,   12.34,2,    0.00,2,    0.63,2,-999.000,9,-999.000,9,-999.0000,9,  -999.0,9, -999.00,9, -999.000,9,  -999.00,-999.00000,9,  -999.00, -999.00,9, -999.00,9, -999.00, -999.00,9,-999.000,9, -999.00,9, -999.00,9,     -999.0,9, 20210501,     2315,  21.3285, -65.9494,    16.3084,2,     0.0407,1,     4.6733,1,     -999.0,1,     -999.0,1,     -999.0,9
325020210420,        A22,      43,          1,         25,         25,2,20210501,       2107,    21.3285,   -65.9494,       5434,   467.9,  14.5525,  35.9458,2,  35.9423,2,    151.4,2,   151.3,2,    4.87,2,   14.70,2,    0.00,2,    0.78,2,   2.200,2,   1.310,2,   1.1200,2,  2176.9,2, -999.00,5, -999.000,9,  -999.00,   7.79996,2,    25.01, -999.00,9, -999.00,9, -999.00, -999.00,9,-999.000,9, -999.00,9, -999.00,9,      16.72,2, 20210501,     2312,  21.3285, -65.9494,    14.5954,2,     0.0407,1,     4.6758,1,     -999.0,1,     -999.0,1,     -999.0,9
325020210420,        A22,      43,          1,         24,         24,2,20210501,       2107,    21.3285,   -65.9494,       5434,   568.7,  12.6982,  35.6565,2,  35.6569,2,    141.4,2,   141.5,2,    7.60,2,   18.91,2,    0.00,2,    1.05,2,-999.000,9,-999.000,9,-999.0000,9,  -999.0,9, -999.00,9, -999.000,9,  -999.00,-999.00000,9,  -999.00, -999.00,9, -999.00,9, -999.00, -999.00,9,-999.000,9, -999.00,9, -999.00,9,     -999.0,9, 20210501,     2309,  21.3285, -65.9494,    12.7078,2,     0.0405,1,     4.6777,1,     -999.0,1,     -999.0,1,     -999.0,9
325020210420,        A22,      43,          1,         23,         23,2,20210501,       2107,    21.3285,   -65.9494,       5434,   670.1,  10.7100,  35.3692,2,  35.3705,2,    134.6,2,   134.5,2,   11.41,2,   23.22,2,    0.00,2,    1.36,2,-999.000,9,-999.000,9,-999.0000,9,  2197.7,2, 2322.47,2, -999.000,9,  -999.00,   7.68649,2,    25.02, -999.00,9, -999.00,9, -999.00, -999.00,9,-999.000,9, -999.00,9, -999.00,9,     -999.0,9, 20210501,     2306,  21.3285, -65.9494,    10.7124,2,     0.0411,1,     4.6794,1,     -999.0,1,     -999.0,1,     -999.0,9
325020210420,        A22,      43,          1,         22,         22,2,20210501,       2107,    21.3285,   -65.9494,       5434,   770.5,   8.8396,  35.1104,2,  35.1142,2,    130.4,2,   130.8,2,   15.99,2,   27.21,2,    0.00,2,    1.65,2,   1.043,2,   0.560,2,   0.3000,2,  2207.8,2, 2311.59,2, -999.000,9,  -999.00,    7.6332,2,    25.03, -999.00,9, -999.00,9, -999.00, -999.00,9,-999.000,9, -999.00,9, -999.00,9,      23.42,2, 20210501,     2302,  21.3285, -65.9494,     8.8511,2,     0.0422,1,     4.6791,1,     -999.0,1,     -999.0,1,     -999.0,9
325020210420,        A22,      43,          1,         21,         21,2,20210501,       2107,    21.3285,   -65.9494,       5434,   872.1,   7.7955,  35.0378,2,  35.0384,2,    141.2,2,   141.7,2,   17.94,2,   27.32,2,    0.00,2,    1.69,2,-999.000,9,-999.000,9,-999.0000,9,  2207.8,2, 2312.91,2, -999.000,9,  -999.00,   7.63086,2,    25.03, -999.00,9, -999.00,9, -999.00, -999.00,9,-999.000,9, -999.00,9, -999.00,9,     -999.0,9, 20210501,     2300,  21.3285, -65.9494,     7.8036,2,     0.0424,1,     4.6778,1,     -999.0,1,     -999.0,1,     -999.0,9
325020210420,        A22,      43,          1,         20,         20,2,20210501,       2107,    21.3285,   -65.9494,       5434,   973.4,   6.9110,  34.9895,2,  34.9913,2,    154.3,2,   154.7,2,   19.02,2,   27.01,2,    0.00,2,    1.70,2,-999.000,9,-999.000,9,-999.0000,9,  -999.0,9, -999.00,9, -999.000,9,  -999.00,-999.00000,9,  -999.00, -999.00,9, -999.00,9, -999.00, -999.00,9,-999.000,9, -999.00,9, -999.00,9,     -999.0,9, 20210501,     2256,  21.3285, -65.9494,     6.9077,2,     0.0424,1,     4.6791,1,     -999.0,1,     -999.0,1,     -999.0,9
325020210420,        A22,      43,          1,         19,         19,2,20210501,       2107,    21.3285,   -65.9494,       5434,  1074.1,   6.3881,  35.0323,2,  35.0337,2,    182.3,2,   181.7,2,   16.87,2,   23.99,2,    0.00,2,    1.50,2,   1.086,2,   0.565,2,   0.3500,2,  2195.9,2, 2312.17,2, -999.000,9,  -999.00,   7.66684,2,    25.03, -999.00,9, -999.00,9, -999.00, -999.00,9,-999.000,9, -999.00,9, -999.00,9,      18.72,2, 20210501,     2253,  21.3285, -65.9494,     6.3849,2,     0.0425,1,     4.6789,1,     -999.0,1,     -999.0,1,     -999.0,9
325020210420,        A22,      43,          1,         18,         18,2,20210501,       2107,    21.3285,   -65.9494,       5434,  1174.7,   5.7197,  35.0491,2,  35.0494,2,    209.8,2,   209.6,2,   14.72,2,   21.25,2,    0.00,2,    1.34,2,-999.000,9,-999.000,9,-999.0000,9,  -999.0,9, -999.00,9, -999.000,9,  -999.00,-999.00000,9,  -999.00, -999.00,9, -999.00,9, -999.00, -999.00,9,-999.000,9, -999.00,9, -999.00,9,     -999.0,9, 20210501,     2249,  21.3285, -65.9494,     5.7187,2,     0.0422,1,     4.6811,1,     -999.0,1,     -999.0,1,     -999.0,9
325020210420,        A22,      43,          1,         17,         17,2,20210501,       2107,    21.3285,   -65.9494,       5434,  1276.4,   5.1656,  35.0428,2,  35.0433,2,    229.7,2,   230.3,2,   13.36,2,   19.56,2,    0.00,2,    1.24,2,   1.850,2,   0.953,2,   0.5500,2,  -999.0,9, -999.00,9, -999.000,9,  -999.00,-999.00000,9,  -999.00, -999.00,9, -999.00,9, -999.00, -999.00,9,-999.000,9, -999.00,9, -999.00,9,      15.00,2, 20210501,     2245,  21.3285, -65.9494,     5.1680,2,     0.0420,1,     4.6813,1,     -999.0,1,     -999.0,1,     -999.0,9
325020210420,        A22,      43,          1,         16,         16,2,20210501,       2107,    21.3285,   -65.9494,       5434,  1377.3,   4.7377,  35.0258,2,  35.0258,2,    242.5,2,   243.0,2,   12.77,2,   18.77,2,    0.00,2,    1.19,2,-999.000,9,-999.000,9,-999.0000,9,  -999.0,9, -999.00,9, -999.000,9,  -999.00,-999.00000,9,  -999.00, -999.00,9, -999.00,9, -999.00, -999.00,9,-999.000,9, -999.00,9, -999.00,9,     -999.0,9, 20210501,     2242,  21.3285, -65.9494,     4.7398,2,     0.0429,1,     4.6814,1,     -999.0,1,     -999.0,1,     -999.0,9
325020210420,        A22,      43,          1,         15,         15,2,20210501,       2107,    21.3285,   -65.9494,       5434,  1550.0,   4.3036,  35.0049,2,  35.0055,2,    252.0,2,   251.4,2,   13.07,2,   18.32,2,    0.00,2,    1.16,2,   1.915,2,   0.972,2,   0.4600,2,  -999.0,9, -999.00,9, -999.000,9,  -999.00,-999.00000,9,  -999.00, -999.00,9, -999.00,9, -999.00, -999.00,9,-999.000,9, -999.00,9, -999.00,9,      14.00,2, 20210501,     2237,  21.3286, -65.9494,     4.3040,2,     0.0424,1,     4.6814,1,     -999.0,1,     -999.0,1,     -999.0,9
325020210420,        A22,      43,          1,         14,         14,2,20210501,       2107,    21.3285,   -65.9494,       5434,  1753.4,   3.9431,  34.9868,2,  34.9884,2,    257.4,2,   257.9,2,   14.04,2,   18.13,2,    0.00,2,    1.15,2,-999.000,9,-999.000,9,-999.0000,9,  -999.0,9, -999.00,9, -999.000,9,  -999.00,-999.00000,9,  -999.00, -999.00,9, -999.00,9, -999.00, -999.00,9,-999.000,9, -999.00,9, -999.00,9,     -999.0,9, 20210501,     2232,  21.3286, -65.9494,     3.9426,2,     0.0426,1,     4.6808,1,     -999.0,1,     -999.0,1,     -999.0,9
325020210420,        A22,      43,          1,         13,         13,2,20210501,       2107,    21.3285,   -65.9494,       5434,  1955.3,   3.6754,  34.9739,2,  34.9738,2,    259.7,2,   260.8,2,   15.51,2,   18.12,2,    0.00,2,    1.16,2,   1.392,2,   0.682,2,   0.2500,2,  -999.0,9, -999.00,9, -999.000,9,  -999.00,-999.00000,9,  -999.00, -999.00,9, -999.00,9, -999.00, -999.00,9,-999.000,9, -999.00,9, -999.00,9,      13.48,2, 20210501,     2227,  21.3286, -65.9494,     3.6750,2,     0.0417,1,     4.6823,1,     -999.0,1,     -999.0,1,     -999.0,9
325020210420,        A22,      43,          1,         12,         12,2,20210501,       2107,    21.3285,   -65.9494,       5434,  2189.7,   3.3710,  34.9600,2,  34.9608,2,    261.1,2,   261.5,2,   17.75,2,   18.22,2,    0.00,2,    1.17,2,-999.000,9,-999.000,9,-999.0000,9,  -999.0,9, -999.00,9, -999.000,9,  -999.00,-999.00000,9,  -999.00, -999.00,9, -999.00,9, -999.00, -999.00,9,-999.000,9, -999.00,9, -999.00,9,     -999.0,9, 20210501,     2222,  21.3286, -65.9494,     3.3714,2,     0.0428,1,     4.6814,1,     -999.0,1,     -999.0,1,     -999.0,9
325020210420,        A22,      43,          1,         11,         11,2,20210501,       2107,    21.3285,   -65.9494,       5434,  2444.1,   3.1278,  34.9492,2,  34.9498,2,    261.2,2,   261.3,2,   20.19,2,   18.34,2,    0.00,2,    1.19,2,   0.916,2,   0.461,2,   0.2100,2,  2170.4,2, 2313.71,2, -999.000,9,  -999.00,    7.7372,2,    25.04, -999.00,9, -999.00,9, -999.00, -999.00,9,-999.000,9, -999.00,9, -999.00,9,      13.32,2, 20210501,     2216,  21.3286, -65.9494,     3.1263,2,     0.0418,1,     4.6814,1,     -999.0,1,     -999.0,1,     -999.0,9
325020210420,        A22,      43,          1,         10,         10,2,20210501,       2107,    21.3285,   -65.9494,       5434,  2698.4,   2.8834,  34.9343,2,  34.9341,2,    263.3,2,   263.5,2,   21.75,2,   18.27,2,    0.00,2,    1.19,2,-999.000,9,-999.000,9,-999.0000,9,  -999.0,9, -999.00,9, -999.000,9,  -999.00,-999.00000,9,  -999.00, -999.00,9, -999.00,9, -999.00, -999.00,9,-999.000,9, -999.00,9, -999.00,9,     -999.0,9, 20210501,     2209,  21.3286, -65.9494,     2.8834,2,     0.0428,1,     4.6805,1,     -999.0,1,     -999.0,1,     -999.0,9
325020210420,        A22,      43,          1,          9,          9,2,20210501,       2107,    21.3285,   -65.9494,       5434,  2953.3,   2.6993,  34.9229,2,  34.9229,2,    264.6,2,   264.7,2,   23.40,2,   18.29,2,    0.00,2,    1.19,2,   0.998,2,   0.508,2,   0.2100,2,  -999.0,9, -999.00,9, -999.000,9,  -999.00,-999.00000,9,  -999.00, -999.00,9, -999.00,9, -999.00, -999.00,9,-999.000,9, -999.00,9, -999.00,9,      13.25,2, 20210501,     2204,  21.3286, -65.9494,     2.6996,2,     0.0424,1,     4.6813,1,     -999.0,1,     -999.0,1,     -999.0,9
325020210420,        A22,      43,          1,          8,          8,2,20210501,       2107,    21.3285,   -65.9494,       5434,  3244.4,   2.5339,  34.9116,2,  34.9119,2,    267.1,2,   267.6,2,   23.99,2,   18.07,2,    0.00,2,    1.18,2,   1.177,2,   0.596,2,   0.3300,2,  -999.0,9, -999.00,9, -999.000,9,  -999.00,-999.00000,9,  -999.00, -999.00,9, -999.00,9, -999.00, -999.00,9,-999.000,9, -999.00,9, -999.00,9,      13.33,2, 20210501,     2158,  21.3286, -65.9494,     2.5336,2,     0.0429,1,     4.6803,1,     -999.0,1,     -999.0,1,     -999.0,9
325020210420,        A22,      43,          1,          7,          7,2,20210501,       2107,    21.3285,   -65.9494,       5434,  3617.6,   2.3677,  34.8998,2,  34.8999,2,    267.7,2,   268.0,2,   26.33,2,   18.16,2,    0.00,2,    1.19,2,-999.000,9,-999.000,9,-999.0000,9,  -999.0,9, -999.00,9, -999.000,9,  -999.00,-999.00000,9,  -999.00, -999.00,9, -999.00,9, -999.00, -999.00,9,-999.000,9, -999.00,9, -999.00,9,     -999.0,9, 20210501,     2150,  21.3286, -65.9494,     2.3678,2,     0.0429,1,     4.6801,1,     -999.0,1,     -999.0,1,     -999.0,9
325020210420,        A22,      43,          1,          6,          6,2,20210501,       2107,    21.3285,   -65.9494,       5434,  4028.3,   2.2958,  34.8920,2,  34.8914,2,    266.5,2,   266.7,2,   29.35,2,   18.51,2,    0.00,2,    1.23,2,   1.158,2,   0.585,2,   0.2700,2,  -999.0,9, -999.00,9, -999.000,9,  -999.00,-999.00000,9,  -999.00, -999.00,9, -999.00,9, -999.00, -999.00,9,-999.000,9, -999.00,9, -999.00,9,      13.49,2, 20210501,     2140,  21.3286, -65.9494,     2.2958,2,     0.0434,1,     4.6784,1,     -999.0,1,     -999.0,1,     -999.0,9
325020210420,        A22,      43,          1,          5,          5,2,20210501,       2107,    21.3285,   -65.9494,       5434,  4437.5,   2.2714,  34.8858,2,  34.8884,3,    263.9,2,   264.2,2,   32.57,2,   19.04,2,    0.00,2,    1.27,2,-999.000,9,-999.000,9,-999.0000,9,  2182.8,2, 2324.68,2, -999.000,9,  -999.00,   7.73072,2,    25.03, -999.00,9, -999.00,9, -999.00, -999.00,9,-999.000,9, -999.00,9, -999.00,9,     -999.0,9, 20210501,     2132,  21.3286, -65.9494,     2.2714,2,     0.0429,1,     4.6773,1,     -999.0,1,     -999.0,1,     -999.0,9
325020210420,        A22,      43,          1,          4,          4,2,20210501,       2107,    21.3285,   -65.9494,       5434,  4885.3,   2.2440,  34.8772,2,  34.8776,2,    259.6,2,   259.9,2,   38.13,2,   19.96,2,    0.00,2,    1.33,2,   0.721,2,   0.377,2,   0.2100,2,  2191.5,2, 2331.09,2, -999.000,9,  -999.00,   7.72737,2,    25.03, -999.00,9, -999.00,9, -999.00, -999.00,9,-999.000,9, -999.00,9, -999.00,9,      13.56,2, 20210501,     2124,  21.3286, -65.9494,     2.2440,2,     0.0428,1,     4.6719,1,     -999.0,1,     -999.0,1,     -999.0,9
325020210420,        A22,      43,          1,          2,          2,2,20210501,       2107,    21.3285,   -65.9494,       5434,  5226.6,   2.1358,  34.8591,2,  34.8591,2,    252.9,2,   253.5,2,   47.98,2,   21.57,2,    0.00,2,    1.44,2,   0.419,2,   0.231,2,   0.1100,2,  2201.2,2, 2333.47,6, -999.000,9,  -999.00,   7.71887,2,    25.01, -999.00,9, -999.00,9, -999.00, -999.00,9,-999.000,9, -999.00,9, -999.00,9,      14.18,2, 20210501,     2116,  21.3286, -65.9494,     2.1360,2,     0.0423,1,     4.6629,1,     -999.0,1,     -999.0,1,     -999.0,9