BOTTLE,20230513CCHSIOCBG
EXPOCODE,SECT_ID,STNNBR,CASTNO,SAMPNO,BTLNBR,BTLNBR_FLAG_W,DATE,TIME,LATITUDE,LONGITUDE,DEPTH,CTDPRS,CTDTMP,CTDSAL,CTDSAL_FLAG_W,SALNTY,SALNTY_FLAG_W,CTDOXY,CTDOXY_FLAG_W,OXYGEN,OXYGEN_FLAG_W,SILCAT,SILCAT_FLAG_W,NITRAT,NITRAT_FLAG_W,NITRIT,NITRIT_FLAG_W,PHSPHT,PHSPHT_FLAG_W,CFC-11,CFC-11_FLAG_W,CFC-12,CFC-12_FLAG_W,SF6,SF6_FLAG_W,TCARBN,TCARBN_FLAG_W,ALKALI,ALKALI_FLAG_W,FCO2,FCO2_FLAG_W,FCO2TMP,PH_TOT,PH_TOT_FLAG_W,PH_TMP,DELC13,DELC13_FLAG_W,DELC14,DELC14_FLAG_W,C14ERR,DELO18,DELO18_FLAG_W,POC,POC_FLAG_W,DOC,DOC_FLAG_W,TDN,TDN_FLAG_W,N2O,N2O_FLAG_W,BTL_DATE,BTL_TIME,BTL_LAT,BTL_LON,REFTMP,REFTMP_FLAG_W,CTDFLUOR,CTDFLUOR_FLAG_W,CTDXMISS,CTDXMISS_FLAG_W,D15N_NO2+NO3,D15N_NO2+NO3_FLAG_W,D18O_NO2+NO3,D18O_NO2+NO3_FLAG_W,HPLC,HPLC_FLAG_W
,,,,,,,,,,,METERS,DBAR,ITS-90,PSS-78,,PSS-78,,UMOL/KG,,UMOL/KG,,UMOL/KG,,UMOL/KG,,UMOL/KG,,UMOL/KG,,PMOL/KG,,PMOL/KG,,FMOL/KG,,UMOL/KG,,UMOL/KG,,UATM,,DEG C,,,DEG C,/MILLE,,/MILLE,,/MILLE,/MILLE,,UG/KG,,UMOL/KG,,UMOL/KG,,NMOL/KG,,,,,,ITS-90,,VOLTS,,VOLTS,,/MILLE,,/MILLE,,,
325020210420,        A22,      57,          1,         36,         36,2,20210506,       0056,    28.3177,   -65.4991,       5249,     5.2,  25.2996,  37.0520,2,  37.0498,2,    209.9,2,   209.7,2,    0.68,2,    0.00,2,    0.00,2,    0.00,2,   1.646,2,   1.046,2,   1.7900,2,  2093.1,6, 2420.26,2, -999.000,9,  -999.00,   8.06595,2,    24.98, -999.00,9, -999.00,9, -999.00, -999.00,1,-999.000,9, -999.00,9, -999.00,9,       6.27,2, 20210506,      315,  28.3177, -65.4991,    25.3076,2,     0.0426,1,     4.6214,1,     -999.0,9,     -999.0,9,     -999.0,9
325020210420,        A22,      57,          1,         35,         35,2,20210506,       0056,    28.3177,   -65.4991,       5249,    35.4,  23.4620,  36.9804,2,  36.9802,2,    215.3,2,   215.1,2,    0.58,2,    0.00,2,    0.00,2,    0.00,2,-999.000,9,-999.000,9,-999.0000,9,  -999.0,9, -999.00,9, -999.000,9,  -999.00,-999.00000,9,  -999.00, -999.00,9, -999.00,9, -999.00, -999.00,9,-999.000,9, -999.00,9, -999.00,9,     -999.0,9, 20210506,      313,  28.3177, -65.4991,    23.4600,2,     0.0427,1,     4.6291,1,     -999.0,9,     -999.0,9,     -999.0,9
325020210420,        A22,      57,          1,         34,         34,2,20210506,       0056,    28.3177,   -65.4991,       5249,    60.7,  22.5526,  36.9442,2,  36.9439,2,    218.1,2,   218.0,2,    0.49,2,    0.00,2,    0.00,2,    0.00,2,-999.000,9,-999.000,9,-999.0000,9,  2091.9,2, 2411.85,2, -999.000,9,  -999.00,   8.06123,6,    24.96, -999.00,9, -999.00,9, -999.00, -999.00,9,-999.000,9, -999.00,9, -999.00,9,     -999.0,9, 20210506,      312,  28.3177, -65.4991,    22.5608,2,     0.0438,1,     4.6280,1,     -999.0,9,     -999.0,9,     -999.0,9
325020210420,        A22,      57,          1,         33,         33,2,20210506,       0056,    28.3177,   -65.4991,       5249,    85.5,  21.9469,  36.9067,2,  36.9040,2,    218.0,2,   217.8,2,    0.49,2,    0.00,2,    0.00,2,    0.00,2,   1.792,2,   1.130,2,   1.8700,2,  -999.0,9, -999.00,9, -999.000,9,  -999.00,-999.00000,9,  -999.00, -999.00,9, -999.00,9, -999.00, -999.00,9,-999.000,9, -999.00,9, -999.00,9,       6.69,2, 20210506,      310,  28.3177, -65.4991,    21.9445,2,     0.0478,1,     4.6277,1,     -999.0,9,     -999.0,9,     -999.0,9
325020210420,        A22,      57,          1,         32,         32,2,20210506,       0056,    28.3177,   -65.4991,       5249,   116.1,  21.1948,  36.8325,2,  36.8294,2,    209.2,2,   209.5,2,    0.49,2,    0.00,2,    0.00,2,    0.00,2,-999.000,9,-999.000,9,-999.0000,9,  2103.8,2, 2405.78,6, -999.000,9,  -999.00,   8.02863,2,    25.01, -999.00,9, -999.00,9, -999.00, -999.00,1,-999.000,9, -999.00,9, -999.00,9,     -999.0,9, 20210506,      308,  28.3177, -65.4991,    21.1944,2,     0.0604,1,     4.6327,1,     -999.0,9,     -999.0,9,     -999.0,9
325020210420,        A22,      57,          1,         31,         31,2,20210506,       0056,    28.3177,   -65.4991,       5249,   166.2,  19.7200,  36.6954,2,  36.6943,2,    194.3,2,   194.8,2,    0.58,2,    1.75,2,    0.00,2,    0.00,2,-999.000,9,-999.000,9,-999.0000,9,  -999.0,9, -999.00,9, -999.000,9,  -999.00,-999.00000,9,  -999.00, -999.00,9, -999.00,9, -999.00, -999.00,9,-999.000,9, -999.00,9, -999.00,9,     -999.0,9, 20210506,      305,  28.3177, -65.4991,    19.7190,2,     0.0602,1,     4.6498,1,     -999.0,9,     -999.0,9,     -999.0,9
325020210420,        A22,      57,          1,         30,         30,2,20210506,       0056,    28.3177,   -65.4991,       5249,   216.6,  19.1776,  36.6491,2,  36.6481,2,    199.1,2,   199.3,2,    0.88,2,    2.77,2,    0.00,2,    0.06,2,   2.015,2,   1.265,2,   1.8400,2,  -999.0,9, -999.00,9, -999.000,9,  -999.00,-999.00000,9,  -999.00, -999.00,9, -999.00,9, -999.00, -999.00,9,-999.000,9, -999.00,9, -999.00,9,       7.72,2, 20210506,      303,  28.3177, -65.4991,    19.1755,2,     0.0398,1,     4.6656,1,     -999.0,9,     -999.0,9,     -999.0,9
325020210420,        A22,      57,          1,         29,         29,2,20210506,       0056,    28.3177,   -65.4991,       5249,   267.2,  18.9039,  36.6226,2,  36.6211,2,    200.9,2,   200.8,2,    1.07,2,    3.18,2,    0.00,2,    0.09,2,-999.000,9,-999.000,9,-999.0000,9,  2122.1,2, 2392.44,2, -999.000,9,  -999.00,   7.97737,2,    25.02, -999.00,9, -999.00,9, -999.00, -999.00,9,-999.000,9, -999.00,9, -999.00,9,     -999.0,9, 20210506,      301,  28.3177, -65.4991,    18.9032,2,     0.0390,1,     4.6667,1,     -999.0,9,     -999.0,9,     -999.0,9
325020210420,        A22,      57,          1,         28,         28,2,20210506,       0056,    28.3177,   -65.4991,       5249,   317.2,  18.5934,  36.5844,2,  36.5823,2,    196.2,2,   196.5,2,    1.27,2,    4.05,2,    0.00,2,    0.14,2,-999.000,9,-999.000,9,-999.0000,9,  -999.0,9, -999.00,9, -999.000,9,  -999.00,-999.00000,9,  -999.00, -999.00,9, -999.00,9, -999.00, -999.00,9,-999.000,9, -999.00,9, -999.00,9,     -999.0,9, 20210506,      258,  28.3177, -65.4991,    18.5927,2,     0.0391,1,     4.6679,1,     -999.0,9,     -999.0,9,     -999.0,9
325020210420,        A22,      57,          1,         27,         27,2,20210506,       0056,    28.3177,   -65.4991,       5249,   368.1,  18.1968,  36.5259,2,  36.5206,2,    193.0,2,   192.8,2,    1.56,2,    5.08,2,    0.00,2,    0.19,2,-999.000,9,-999.000,9,-999.0000,9,  -999.0,9, -999.00,9, -999.000,9,  -999.00,-999.00000,9,  -999.00, -999.00,9, -999.00,9, -999.00, -999.00,9,-999.000,9, -999.00,9, -999.00,9,     -999.0,9, 20210506,      255,  28.3177, -65.4991,    18.1962,2,     0.0401,1,     4.6691,1,     -999.0,9,     -999.0,9,     -999.0,9
325020210420,        A22,      57,          1,         26,         26,2,20210506,       0056,    28.3177,   -65.4991,       5249,   417.9,  17.5711,  36.4215,2,  36.4148,2,    184.1,2,   184.0,2,    2.05,2,    6.85,2,    0.00,2,    0.30,2,   2.172,2,   1.344,2,   1.5500,2,  -999.0,9, -999.00,9, -999.000,9,  -999.00,-999.00000,9,  -999.00, -999.00,9, -999.00,9, -999.00, -999.00,9,-999.000,9, -999.00,9, -999.00,9,       9.95,2, 20210506,      254,  28.3177, -65.4991,    17.5722,2,     0.0400,1,     4.6691,1,     -999.0,9,     -999.0,9,     -999.0,9
325020210420,        A22,      57,          1,         25,         25,2,20210506,       0056,    28.3177,   -65.4991,       5249,   469.0,  16.8730,  36.3041,2,  36.2966,2,    179.8,2,   179.6,2,    2.53,2,    8.38,2,    0.00,2,    0.40,2,-999.000,9,-999.000,9,-999.0000,9,  -999.0,9, -999.00,9, -999.000,9,  -999.00,-999.00000,9,  -999.00, -999.00,9, -999.00,9, -999.00, -999.00,9,-999.000,9, -999.00,9, -999.00,9,     -999.0,9, 20210506,      251,  28.3177, -65.4991,    16.8794,2,     0.0408,1,     4.6702,1,     -999.0,9,     -999.0,9,     -999.0,9
325020210420,        A22,      57,          1,         24,         24,2,20210506,       0056,    28.3177,   -65.4991,       5249,   539.8,  15.6225,  36.0965,2,  36.0950,2,    176.0,2,   176.3,2,    3.51,2,   10.61,2,    0.00,2,    0.55,2,-999.000,9,-999.000,9,-999.0000,9,  2153.6,2,  2362.6,2, -999.000,9,  -999.00,   7.86694,2,    24.99, -999.00,9, -999.00,9, -999.00, -999.00,9,-999.000,9, -999.00,9, -999.00,9,     -999.0,9, 20210506,      247,  28.3177, -65.4991,    15.6306,2,     0.0401,1,     4.6716,1,     -999.0,9,     -999.0,9,     -999.0,9
325020210420,        A22,      57,          1,         23,         23,2,20210506,       0056,    28.3177,   -65.4991,       5249,   640.4,  13.6362,  35.7898,2,  35.7857,2,    169.0,2,   168.8,2,    5.65,2,   14.50,2,    0.00,2,    0.82,2,-999.000,9,-999.000,9,-999.0000,9,  -999.0,9, -999.00,9, -999.000,9,  -999.00,-999.00000,9,  -999.00, -999.00,9, -999.00,9, -999.00, -999.00,9,-999.000,9, -999.00,9, -999.00,9,     -999.0,9, 20210506,      245,  28.3177, -65.4991,    13.6360,2,     0.0410,1,     4.6740,1,     -999.0,9,     -999.0,9,     -999.0,9
325020210420,        A22,      57,          1,         22,         22,2,20210506,       0056,    28.3177,   -65.4991,       5249,   741.1,  11.1193,  35.4542,2,  35.4519,2,    152.9,2,   153.3,2,    9.75,2,   20.14,2,    0.00,2,    1.20,2,-999.000,9,-999.000,9,-999.0000,9,  -999.0,9, -999.00,9, -999.000,9,  -999.00,-999.00000,9,  -999.00, -999.00,9, -999.00,9, -999.00, -999.00,9,-999.000,9, -999.00,9, -999.00,9,     -999.0,9, 20210506,      242,  28.3177, -65.4991,    11.1201,2,     0.0410,1,     4.6758,1,     -999.0,9,     -999.0,9,     -999.0,9
325020210420,        A22,      57,          1,         21,         21,2,20210506,       0056,    28.3177,   -65.4991,       5249,   842.3,   9.1944,  35.2415,2,  35.2373,2,    149.0,2,   149.1,2,   13.36,2,   23.65,2,    0.00,2,    1.44,2,   1.259,2,   0.678,2,   0.4400,2,  2193.9,2, 2321.12,2, -999.000,9,  -999.00,   7.68231,2,    25.04, -999.00,9, -999.00,9, -999.00, -999.00,9,-999.000,9, -999.00,9, -999.00,9,      19.79,2, 20210506,      238,  28.3177, -65.4991,     9.2039,2,     0.0418,1,     4.6775,1,     -999.0,9,     -999.0,9,     -999.0,9
325020210420,        A22,      57,          1,         20,         20,2,20210506,       0056,    28.3177,   -65.4991,       5249,   943.6,   7.4688,  35.1083,2,  35.1063,2,    163.8,2,   164.0,2,   15.70,2,   24.36,2,    0.00,2,    1.53,2,-999.000,9,-999.000,9,-999.0000,9,  -999.0,9, -999.00,9, -999.000,9,  -999.00,-999.00000,9,  -999.00, -999.00,9, -999.00,9, -999.00, -999.00,9,-999.000,9, -999.00,9, -999.00,9,     -999.0,9, 20210506,      235,  28.3177, -65.4991,     7.4741,2,     0.0421,1,     4.6780,1,     -999.0,9,     -999.0,9,     -999.0,9
325020210420,        A22,      57,          1,         19,         19,2,20210506,       0056,    28.3177,   -65.4991,       5249,  1044.8,   6.5255,  35.0966,2,  35.0949,2,    189.7,2,   189.6,2,   14.83,2,   22.40,2,    0.00,2,    1.42,2,-999.000,9,-999.000,9,-999.0000,9,  -999.0,9, -999.00,9, -999.000,9,  -999.00,-999.00000,9,  -999.00, -999.00,9, -999.00,9, -999.00, -999.00,9,-999.000,9, -999.00,9, -999.00,9,     -999.0,9, 20210506,      231,  28.3177, -65.4991,     6.5263,2,     0.0429,1,     4.6786,1,     -999.0,9,     -999.0,9,     -999.0,9
325020210420,        A22,      57,          1,         18,         18,2,20210506,       0056,    28.3177,   -65.4991,       5249,  1145.6,   5.8309,  35.0916,2,  35.0970,3,    213.2,2,   212.8,2,   13.85,2,   20.49,2,    0.00,2,    1.31,2,   1.531,2,   0.802,2,   0.4500,2,  -999.0,9, -999.00,9, -999.000,9,  -999.00,-999.00000,9,  -999.00, -999.00,9, -999.00,9, -999.00, -999.00,9,-999.000,9, -999.00,9, -999.00,9,      15.51,2, 20210506,      229,  28.3177, -65.4991,     5.8300,2,     0.0417,1,     4.6784,1,     -999.0,9,     -999.0,9,     -999.0,9
325020210420,        A22,      57,          1,         17,         17,2,20210506,       0056,    28.3177,   -65.4991,       5249,  1247.3,   5.3828,  35.0869,2,  35.0880,2,    226.1,2,   226.3,2,   13.56,2,   19.67,2,    0.00,2,    1.26,2,   1.544,2,   0.793,2,   0.4200,2,  -999.0,9, -999.00,9, -999.000,9,  -999.00,-999.00000,9,  -999.00, -999.00,9, -999.00,9, -999.00, -999.00,9,-999.000,9, -999.00,9, -999.00,9,      14.71,2, 20210506,      226,  28.3177, -65.4991,     5.3815,2,     0.0425,1,     4.6789,1,     -999.0,9,     -999.0,9,     -999.0,9
325020210420,        A22,      57,          1,         16,         16,2,20210506,       0056,    28.3177,   -65.4991,       5249,  1348.5,   5.0139,  35.0740,2,  35.0728,2,    236.2,2,   236.3,2,   13.36,2,   19.10,2,    0.00,2,    1.23,2,-999.000,9,-999.000,9,-999.0000,9,  -999.0,9, -999.00,9, -999.000,9,  -999.00,-999.00000,9,  -999.00, -999.00,9, -999.00,9, -999.00, -999.00,9,-999.000,9, -999.00,9, -999.00,9,     -999.0,9, 20210506,      223,  28.3177, -65.4991,     5.0138,2,     0.0423,1,     4.6789,1,     -999.0,9,     -999.0,9,     -999.0,9
325020210420,        A22,      57,          1,         15,         15,2,20210506,       0056,    28.3177,   -65.4991,       5249,  1449.5,   4.7733,  35.0670,2,  35.0652,2,    240.9,2,   241.3,2,   13.56,2,   18.74,2,    0.00,2,    1.21,2,   1.523,2,   0.781,2,   0.3300,2,  -999.0,9, -999.00,9, -999.000,9,  -999.00,-999.00000,9,  -999.00, -999.00,9, -999.00,9, -999.00, -999.00,9,-999.000,9, -999.00,9, -999.00,9,      14.00,2, 20210506,      220,  28.3177, -65.4991,     4.7682,2,     0.0413,1,     4.6790,1,     -999.0,9,     -999.0,9,     -999.0,9
325020210420,        A22,      57,          1,         14,         14,2,20210506,       0056,    28.3177,   -65.4991,       5249,  1551.3,   4.5127,  35.0535,2,  35.0522,2,    245.2,2,   245.4,2,   14.14,2,   18.63,2,    0.00,2,    1.20,2,-999.000,9,-999.000,9,-999.0000,9,  2171.2,2, 2314.22,2, -999.000,9,  -999.00,   7.73027,2,    25.02, -999.00,9, -999.00,9, -999.00, -999.00,9,-999.000,9, -999.00,9, -999.00,9,     -999.0,9, 20210506,      217,  28.3177, -65.4991,     4.5129,2,     0.0428,1,     4.6791,1,     -999.0,9,     -999.0,9,     -999.0,9
325020210420,        A22,      57,          1,         13,         13,2,20210506,       0056,    28.3177,   -65.4991,       5249,  1682.9,   4.1459,  35.0219,2,  35.0213,2,    251.2,2,   251.2,2,   14.93,2,   18.46,2,    0.00,2,    1.19,2,-999.000,9,-999.000,9,-999.0000,9,  -999.0,9, -999.00,9, -999.000,9,  -999.00,-999.00000,9,  -999.00, -999.00,9, -999.00,9, -999.00, -999.00,9,-999.000,9, -999.00,9, -999.00,9,     -999.0,9, 20210506,      213,  28.3177, -65.4991,     4.1459,2,     0.0417,1,     4.6791,1,     -999.0,9,     -999.0,9,     -999.0,9
325020210420,        A22,      57,          1,         12,         12,2,20210506,       0056,    28.3177,   -65.4991,       5249,  1886.1,   3.8271,  35.0021,2,  35.0016,2,    254.1,2,   254.5,2,   16.78,2,   18.52,2,    0.00,2,    1.20,2,   1.003,2,   0.502,2,   0.1100,2,  -999.0,9, -999.00,9, -999.000,9,  -999.00,-999.00000,9,  -999.00, -999.00,9, -999.00,9, -999.00, -999.00,9,-999.000,9, -999.00,9, -999.00,9,      13.44,2, 20210506,      209,  28.3177, -65.4991,     3.8260,2,     0.0429,1,     4.6789,1,     -999.0,9,     -999.0,9,     -999.0,9
325020210420,        A22,      57,          1,         11,         11,2,20210506,       0056,    28.3177,   -65.4991,       5249,  2109.8,   3.5490,  34.9932,2,  34.9919,2,    252.6,2,   253.2,2,   20.68,2,   18.90,2,    0.00,2,    1.24,2,-999.000,9,-999.000,9,-999.0000,9,  -999.0,9, -999.00,9, -999.000,9,  -999.00,-999.00000,9,  -999.00, -999.00,9, -999.00,9, -999.00, -999.00,9,-999.000,9, -999.00,9, -999.00,9,     -999.0,9, 20210506,      204,  28.3177, -65.4991,     3.5486,2,     0.0425,1,     4.6788,1,     -999.0,9,     -999.0,9,     -999.0,9
325020210420,        A22,      57,          1,         10,         10,2,20210506,       0056,    28.3177,   -65.4991,       5249,  2364.0,   3.3030,  34.9773,2,  34.9756,2,    252.0,2,   252.1,2,   24.19,2,   19.32,2,    0.00,2,    1.27,2,-999.000,9,-999.000,9,-999.0000,9,  -999.0,9, -999.00,9, -999.000,9,  -999.00,-999.00000,9,  -999.00, -999.00,9, -999.00,9, -999.00, -999.00,9,-999.000,9, -999.00,9, -999.00,9,     -999.0,9, 20210506,      158,  28.3177, -65.4991,     3.3024,2,     0.0429,1,     4.6785,1,     -999.0,9,     -999.0,9,     -999.0,9
325020210420,        A22,      57,          1,          9,          9,2,20210506,       0056,    28.3177,   -65.4991,       5249,  2567.6,   3.1233,  34.9636,2,  34.9628,2,    251.8,2,   251.7,2,   26.63,2,   19.59,2,    0.00,2,    1.30,2,   0.170,2,   0.100,2,   0.0300,2,  -999.0,9, -999.00,9, -999.000,9,  -999.00,-999.00000,9,  -999.00, -999.00,9, -999.00,9, -999.00, -999.00,9,-999.000,9, -999.00,9, -999.00,9,      13.07,2, 20210506,      153,  28.3177, -65.4991,     3.1239,2,     0.0425,1,     4.6787,1,     -999.0,9,     -999.0,9,     -999.0,9
325020210420,        A22,      57,          1,          8,          8,2,20210506,       0056,    28.3177,   -65.4991,       5249,  2873.6,   2.9123,  34.9451,2,  34.9433,2,    254.0,2,   254.3,2,   28.19,2,   19.64,2,    0.00,2,    1.30,2,   0.172,2,   0.090,2,   0.0200,2,  -999.0,9, -999.00,9, -999.000,9,  -999.00,-999.00000,9,  -999.00, -999.00,9, -999.00,9, -999.00, -999.00,9,-999.000,9, -999.00,9, -999.00,9,      13.17,2, 20210506,      146,  28.3177, -65.4991,     2.9119,2,     0.0422,1,     4.6787,1,     -999.0,9,     -999.0,9,     -999.0,9
325020210420,        A22,      57,          1,          7,          7,2,20210506,       0056,    28.3177,   -65.4991,       5249,  3144.1,   2.7364,  34.9291,2,  34.9278,2,    258.0,2,   258.0,2,   28.49,2,   19.34,2,    0.00,2,    1.29,2,-999.000,9,-999.000,9,-999.0000,9,  2175.1,2, 2324.19,2, -999.000,9,  -999.00,   7.74059,2,    24.98, -999.00,9, -999.00,9, -999.00, -999.00,9,-999.000,9, -999.00,9, -999.00,9,     -999.0,9, 20210506,      141,  28.3177, -65.4991,     2.7361,2,     0.0423,1,     4.6785,1,     -999.0,9,     -999.0,9,     -999.0,9
325020210420,        A22,      57,          1,          6,          6,2,20210506,       0056,    28.3177,   -65.4991,       5249,  3451.1,   2.5543,  34.9140,2,  34.9124,2,    263.6,2,   263.9,2,   26.93,2,   18.58,2,    0.00,2,    1.24,2,   0.631,2,   0.323,2,   0.0700,2,  -999.0,9, -999.00,9, -999.000,9,  -999.00,-999.00000,9,  -999.00, -999.00,9, -999.00,9, -999.00, -999.00,9,-999.000,9, -999.00,9, -999.00,9,      12.97,2, 20210506,      134,  28.3177, -65.4991,     2.5544,2,     0.0428,1,     4.6789,1,     -999.0,9,     -999.0,9,     -999.0,9
325020210420,        A22,      57,          1,          5,          5,2,20210506,       0056,    28.3177,   -65.4991,       5249,  3758.0,   2.4066,  34.9023,2,  34.9006,2,    266.9,2,   267.1,2,   26.73,2,   18.24,2,    0.00,2,    1.22,2,-999.000,9,-999.000,9,-999.0000,9,  -999.0,9, -999.00,9, -999.000,9,  -999.00,-999.00000,9,  -999.00, -999.00,9, -999.00,9, -999.00, -999.00,9,-999.000,9, -999.00,9, -999.00,9,     -999.0,9, 20210506,      128,  28.3177, -65.4991,     2.4072,2,     0.0428,1,     4.6780,1,     -999.0,9,     -999.0,9,     -999.0,9
325020210420,        A22,      57,          1,          4,          4,2,20210506,       0056,    28.3177,   -65.4991,       5249,  4065.8,   2.3299,  34.8951,2,  34.8943,2,    266.5,2,   266.5,2,   28.98,2,   18.44,2,    0.00,2,    1.24,2,   0.904,2,   0.450,2,   0.1000,2,  -999.0,9, -999.00,9, -999.000,9,  -999.00,-999.00000,9,  -999.00, -999.00,9, -999.00,9, -999.00, -999.00,9,-999.000,9, -999.00,9, -999.00,9,      13.22,2, 20210506,      122,  28.3177, -65.4991,     2.3300,2,     0.0429,1,     4.6777,1,     -999.0,9,     -999.0,9,     -999.0,9
325020210420,        A22,      57,          1,          3,          3,2,20210506,       0056,    28.3177,   -65.4991,       5249,  4373.6,   2.2875,  34.8890,2,  34.8877,2,    264.5,2,   264.8,2,   31.71,2,   18.87,2,    0.00,2,    1.27,2,   0.813,2,   0.416,2,   0.0700,2,  -999.0,9, -999.00,9, -999.000,9,  -999.00,-999.00000,9,  -999.00, -999.00,9, -999.00,9, -999.00, -999.00,9,-999.000,9, -999.00,9, -999.00,9,      13.46,2, 20210506,      115,  28.3177, -65.4991,     2.2877,2,     0.0429,1,     4.6773,1,     -999.0,9,     -999.0,9,     -999.0,9