BOTTLE,20230513CCHSIOCBG
EXPOCODE,SECT_ID,STNNBR,CASTNO,SAMPNO,BTLNBR,BTLNBR_FLAG_W,DATE,TIME,LATITUDE,LONGITUDE,DEPTH,CTDPRS,CTDTMP,CTDSAL,CTDSAL_FLAG_W,SALNTY,SALNTY_FLAG_W,CTDOXY,CTDOXY_FLAG_W,OXYGEN,OXYGEN_FLAG_W,SILCAT,SILCAT_FLAG_W,NITRAT,NITRAT_FLAG_W,NITRIT,NITRIT_FLAG_W,PHSPHT,PHSPHT_FLAG_W,CFC-11,CFC-11_FLAG_W,CFC-12,CFC-12_FLAG_W,SF6,SF6_FLAG_W,TCARBN,TCARBN_FLAG_W,ALKALI,ALKALI_FLAG_W,FCO2,FCO2_FLAG_W,FCO2TMP,PH_TOT,PH_TOT_FLAG_W,PH_TMP,DELC13,DELC13_FLAG_W,DELC14,DELC14_FLAG_W,C14ERR,DELO18,DELO18_FLAG_W,POC,POC_FLAG_W,DOC,DOC_FLAG_W,TDN,TDN_FLAG_W,N2O,N2O_FLAG_W,BTL_DATE,BTL_TIME,BTL_LAT,BTL_LON,REFTMP,REFTMP_FLAG_W,CTDFLUOR,CTDFLUOR_FLAG_W,CTDXMISS,CTDXMISS_FLAG_W,D15N_NO2+NO3,D15N_NO2+NO3_FLAG_W,D18O_NO2+NO3,D18O_NO2+NO3_FLAG_W,HPLC,HPLC_FLAG_W
,,,,,,,,,,,METERS,DBAR,ITS-90,PSS-78,,PSS-78,,UMOL/KG,,UMOL/KG,,UMOL/KG,,UMOL/KG,,UMOL/KG,,UMOL/KG,,PMOL/KG,,PMOL/KG,,FMOL/KG,,UMOL/KG,,UMOL/KG,,UATM,,DEG C,,,DEG C,/MILLE,,/MILLE,,/MILLE,/MILLE,,UG/KG,,UMOL/KG,,UMOL/KG,,NMOL/KG,,,,,,ITS-90,,VOLTS,,VOLTS,,/MILLE,,/MILLE,,,
325020210420,        A22,      76,          1,         36,         36,2,20210512,       0915,    37.3820,   -68.2141,       4740,     4.9,  22.9651,  36.5279,2,  36.5268,2,    212.5,2,   211.9,2,    0.78,2,    0.00,2,    0.00,2,    0.00,2,   1.665,2,   1.067,2,   1.8300,2,  2064.5,6,  2383.4,6,  318.960,2,    20.00,    8.0645,2,    25.00,    0.79,2,   31.79,2,    2.15, -999.00,1,-999.000,9,   64.30,2,    4.19,2,       6.35,2, 20210512,     1128,  37.3820, -68.2141,    22.9661,2,     0.0472,1,     4.6023,1,     -999.0,9,     -999.0,9,     -999.0,9
325020210420,        A22,      76,          1,         35,         35,2,20210512,       0915,    37.3820,   -68.2141,       4740,    20.4,  22.9663,  36.5289,2,  36.5289,2,    212.6,2,   211.9,2,    0.68,2,    0.00,2,    0.00,2,    0.00,2,   1.669,2,   1.062,2,   1.8300,2,  2063.9,2, 2384.12,2,  319.330,2,    20.00,   8.06432,6,    24.97, -999.00,9, -999.00,9, -999.00, -999.00,9,-999.000,9,   66.80,2,    4.15,2,       6.32,2, 20210512,     1126,  37.3820, -68.2141,    22.9650,2,     0.0484,1,     4.6045,1,     -999.0,9,     -999.0,9,     -999.0,9
325020210420,        A22,      76,          1,         34,         34,2,20210512,       0915,    37.3820,   -68.2141,       4740,    40.2,  22.9839,  36.5481,2,  36.5387,2,    211.9,2,   211.9,2,    0.68,2,    0.00,2,    0.00,2,    0.00,2,-999.000,9,-999.000,9,-999.0000,9,  2064.3,2, 2383.48,6,  321.000,2,    20.00,   8.06419,2,    25.01, -999.00,9, -999.00,9, -999.00, -999.00,9,-999.000,9,   66.80,2,    4.08,2,     -999.0,9, 20210512,     1124,  37.3820, -68.2141,    22.9873,2,     0.0544,1,     4.6038,1,     -999.0,9,     -999.0,9,     -999.0,9
325020210420,        A22,      76,          1,         33,         33,2,20210512,       0915,    37.3820,   -68.2141,       4740,    65.1,  22.9133,  36.6093,2,  36.6104,2,    209.3,2,   209.2,2,    0.68,2,    0.01,2,    0.03,2,    0.00,2,   1.678,2,   1.055,2,   1.7300,2,  2071.4,2, 2390.16,2,  327.480,2,    20.00,   8.05818,2,    24.98, -999.00,9, -999.00,9, -999.00, -999.00,9,-999.000,9,   64.40,2,    4.29,2,       6.19,2, 20210512,     1122,  37.3820, -68.2141,    22.9141,2,     0.0687,1,     4.6091,1,     -999.0,9,     -999.0,9,     -999.0,9
325020210420,        A22,      76,          1,         32,         32,2,20210512,       0915,    37.3820,   -68.2141,       4740,    90.7,  22.2802,  36.7564,2,  36.7548,2,    195.8,2,   196.7,2,    0.68,2,    0.81,2,    0.05,2,    0.00,2,-999.000,9,-999.000,9,-999.0000,9,  2094.9,2, 2397.54,2,  355.345,6,    20.00,   8.02904,2,    24.99,    0.59,2,   40.03,2,    2.17, -999.00,1,-999.000,9,   58.30,2,    4.63,2,     -999.0,9, 20210512,     1120,  37.3820, -68.2141,    22.2883,2,     0.0600,1,     4.6361,1,     -999.0,9,     -999.0,9,     -999.0,9
325020210420,        A22,      76,          1,         31,         31,2,20210512,       0915,    37.3820,   -68.2141,       4740,   136.6,  20.7021,  36.7675,2,  36.7661,2,    196.2,2,   196.8,2,    0.49,2,    1.29,2,    0.00,2,    0.03,2,   1.889,2,   1.186,2,   1.8100,2,  2113.1,2, 2399.25,2,  379.990,2,    20.00,   8.00194,2,    24.99,    0.50,2,   43.26,2,    2.18, -999.00,9,-999.000,9,   55.00,2,    5.16,2,       7.45,2, 20210512,     1119,  37.3820, -68.2141,    20.7151,2,     0.0408,1,     4.6520,1,     -999.0,9,     -999.0,9,     -999.0,9
325020210420,        A22,      76,          1,         30,         30,2,20210512,       0915,    37.3820,   -68.2141,       4740,   186.9,  19.9388,  36.7396,2,  36.7387,2,    208.5,2,   208.3,2,    0.49,2,    1.02,2,    0.00,2,    0.01,2,-999.000,9,-999.000,9,-999.0000,9,  2108.5,2, 2396.77,2,  374.240,2,    20.00,   8.00869,2,    24.99,    0.49,2,   38.78,2,    2.05, -999.00,9,-999.000,9,   55.40,2,    4.84,2,     -999.0,9, 20210512,     1117,  37.3820, -68.2141,    19.9392,2,     0.0395,1,     4.6539,1,     -999.0,9,     -999.0,9,     -999.0,9
325020210420,        A22,      76,          1,         29,         29,2,20210512,       0915,    37.3820,   -68.2141,       4740,   237.6,  19.4705,  36.7031,2,  36.7004,2,    210.4,2,   208.9,2,    0.78,2,    1.43,2,    0.00,2,    0.04,2,   1.972,2,   1.230,2,   1.9500,2,  2108.0,2, 2394.64,2,  381.610,2,    20.00,   7.99872,6,    24.97,    0.52,2,   39.89,2,    2.05, -999.00,9,-999.000,9,   54.90,2,    4.82,2,       7.56,2, 20210512,     1115,  37.3820, -68.2141,    19.4724,2,     0.0403,1,     4.6515,1,     -999.0,9,     -999.0,9,     -999.0,9
325020210420,        A22,      76,          1,         28,         28,2,20210512,       0915,    37.3820,   -68.2141,       4740,   287.7,  19.2035,  36.6842,2,  36.6838,2,    210.0,2,   210.0,2,    0.78,2,    1.71,2,    0.00,2,    0.05,2,-999.000,9,-999.000,9,-999.0000,9,  2110.9,2, 2394.96,2,  386.890,2,    20.00,    7.9968,2,    24.99,    0.55,2,   37.95,2,    2.05, -999.00,9,-999.000,9,   54.60,2, -999.00,1,     -999.0,9, 20210512,     1113,  37.3820, -68.2141,    19.2041,2,     0.0392,1,     4.6533,1,     -999.0,9,     -999.0,9,     -999.0,9
325020210420,        A22,      76,          1,         27,         27,2,20210512,       0915,    37.3820,   -68.2141,       4740,   338.2,  19.1116,  36.6757,2,  36.6758,2,    209.8,2,   209.9,2,    0.78,2,    1.96,2,    0.00,2,    0.06,2,   2.017,2,   1.252,2,   1.9500,2,  2112.4,2, 2398.03,2,  390.240,2,    20.00,   7.99345,2,    25.00,    0.51,2,   40.82,2,    2.05, -999.00,9,-999.000,9,   53.20,2, -999.00,1,       7.72,2, 20210512,     1110,  37.3820, -68.2141,    19.1159,2,     0.0392,1,     4.6549,1,     -999.0,9,     -999.0,9,     -999.0,9
325020210420,        A22,      76,          1,         26,         26,2,20210512,       0915,    37.3820,   -68.2141,       4740,   388.6,  18.9785,  36.6667,2,  36.6671,2,    209.6,2,   209.7,2,    1.07,2,    2.11,2,    0.00,2,    0.06,2,-999.000,9,-999.000,9,-999.0000,9,  2112.9,2, 2394.47,2,  394.590,2,    20.00,   7.98995,2,    24.99, -999.00,9, -999.00,9, -999.00, -999.00,9,-999.000,9,   52.00,2, -999.00,1,     -999.0,9, 20210512,     1109,  37.3820, -68.2141,    18.9785,2,     0.0403,1,     4.6557,1,     -999.0,9,     -999.0,9,     -999.0,9
325020210420,        A22,      76,          1,         25,         25,2,20210512,       0915,    37.3820,   -68.2141,       4740,   439.0,  18.5809,  36.5895,2,  36.5930,2,    195.2,2,   196.7,2,    1.27,2,    3.85,2,    0.00,2,    0.16,2,   2.078,2,   1.294,2,   1.7300,2,  2125.8,2, 2387.98,2,  423.040,2,    20.00,   7.96318,2,    25.00,    0.50,6,   37.38,6,    2.28, -999.00,9,-999.000,9,   48.80,2, -999.00,1,       8.48,2, 20210512,     1107,  37.3820, -68.2141,    18.5753,2,     0.0393,1,     4.6574,1,     -999.0,9,     -999.0,9,     -999.0,9
325020210420,        A22,      76,          1,         24,         24,2,20210512,       0915,    37.3820,   -68.2141,       4740,   489.9,  18.3340,  36.5437,2,  36.5412,2,    188.7,2,   189.2,2,    1.46,2,    4.95,2,    0.00,2,    0.21,2,-999.000,9,-999.000,9,-999.0000,9,  2131.1,2, 2387.22,2,  443.770,2,    20.00,   7.94647,2,    24.99, -999.00,9, -999.00,9, -999.00, -999.00,9,-999.000,9,   47.60,2, -999.00,1,     -999.0,9, 20210512,     1104,  37.3820, -68.2141,    18.3336,2,     0.0391,1,     4.6591,1,     -999.0,9,     -999.0,9,     -999.0,9
325020210420,        A22,      76,          1,         23,         23,2,20210512,       0915,    37.3820,   -68.2141,       4740,   570.5,  17.5934,  36.4215,2,  36.4188,2,    181.1,2,   180.5,2,    2.14,2,    6.97,2,    0.00,2,    0.33,2,   2.163,2,   1.328,2,   1.4500,2,  2140.4,2, 2378.38,2,  475.820,2,    20.00,   7.91806,2,    24.98,    0.47,2,   56.23,2,    2.08, -999.00,9,-999.000,9,   47.10,2, -999.00,1,      10.28,2, 20210512,     1101,  37.3820, -68.2141,    17.5928,2,     0.0395,1,     4.6601,1,     -999.0,9,     -999.0,9,     -999.0,9
325020210420,        A22,      76,          1,         22,         22,2,20210512,       0915,    37.3820,   -68.2141,       4740,   671.5,  16.0870,  36.1676,2,  36.1660,2,    172.4,2,   172.5,2,    3.51,2,   10.18,2,    0.00,2,    0.55,2,   2.237,2,   1.343,2,   1.3600,2,  2153.0,2, 2365.08,2,  536.830,2,    20.00,   7.87028,2,    24.99,    0.45,2,   50.92,2,    2.41, -999.00,9,-999.000,9,   45.80,2, -999.00,1,      12.25,2, 20210512,     1057,  37.3820, -68.2141,    16.0880,2,     0.0407,1,     4.6613,1,     -999.0,9,     -999.0,9,     -999.0,9
325020210420,        A22,      76,          1,         21,         21,2,20210512,       0915,    37.3820,   -68.2141,       4740,   772.3,  14.1993,  35.8562,2,  35.8584,2,    143.9,2,   144.2,2,    6.44,2,   16.31,2,    0.00,2,    0.94,2,-999.000,9,-999.000,9,-999.0000,9,  2177.1,6, 2347.51,2,  663.690,2,    20.00,    7.7846,2,    24.99, -999.00,9, -999.00,9, -999.00, -999.00,9,-999.000,9,   44.50,2, -999.00,1,     -999.0,9, 20210512,     1054,  37.3820, -68.2141,    14.2082,2,     0.0408,1,     4.6610,1,     -999.0,9,     -999.0,9,     -999.0,9
325020210420,        A22,      76,          1,         20,         20,2,20210512,       0915,    37.3820,   -68.2141,       4740,   873.3,  11.6103,  35.4891,2,  35.4882,2,    146.3,2,   146.3,2,    9.85,2,   20.28,2,    0.00,2,    1.22,2,   1.803,2,   1.019,2,   0.8000,2,  2186.4,2, 2331.46,2,  762.560,2,    20.00,   7.72597,2,    24.95,    0.53,2,   14.23,2,    2.13, -999.00,9,-999.000,9,   43.80,2, -999.00,1,      18.75,2, 20210512,     1050,  37.3820, -68.2141,    11.6134,2,     0.0416,1,     4.6682,1,     -999.0,9,     -999.0,9,     -999.0,9
325020210420,        A22,      76,          1,         19,         19,2,20210512,       0915,    37.3820,   -68.2141,       4740,   974.8,   9.2792,  35.2362,2,  35.2377,3,    148.4,2,   148.4,2,   13.37,2,   23.50,2,    0.00,2,    1.45,2,   1.424,2,   0.782,2,   0.5800,2,  2195.1,2, 2319.91,2,  852.460,2,    20.00,    7.6768,6,    24.99,    0.65,2,  -17.68,2,    2.42, -999.00,9,-999.000,9,   42.50,2, -999.00,1,      19.82,2, 20210512,     1046,  37.3820, -68.2141,     9.2802,2,     0.0418,1,     4.6691,1,     -999.0,9,     -999.0,9,     -999.0,9
325020210420,        A22,      76,          1,         18,         18,2,20210512,       0915,    37.3820,   -68.2141,       4740,  1075.7,   7.3002,  35.1135,2,  35.1142,2,    177.5,2,   177.5,2,   14.05,2,   22.65,2,    0.00,2,    1.42,2,-999.000,9,-999.000,9,-999.0000,9,  2191.7,2, 2316.08,6,  875.250,2,    20.00,   7.66791,2,    24.99, -999.00,9, -999.00,9, -999.00, -999.00,9,-999.000,9,   45.00,2, -999.00,1,     -999.0,9, 20210512,     1044,  37.3820, -68.2141,     7.3031,2,     0.0429,1,     4.6602,1,     -999.0,9,     -999.0,9,     -999.0,9
325020210420,        A22,      76,          1,         17,         17,2,20210512,       0915,    37.3820,   -68.2141,       4740,  1178.0,   5.8940,  35.0780,2,  35.0791,2,    215.2,2,   215.5,2,   12.88,2,   19.99,2,    0.00,2,    1.29,2,   2.111,2,   1.129,2,   0.7300,2,  2185.5,2,  2312.2,2,  823.240,2,    20.00,   7.69107,2,    24.99,    0.81,2,  -21.36,2,    2.04, -999.00,9,-999.000,9,   42.70,2, -999.00,1,      15.79,2, 20210512,     1040,  37.3820, -68.2141,     5.8997,2,     0.0419,1,     4.6671,1,     -999.0,9,     -999.0,9,     -999.0,9
325020210420,        A22,      76,          1,         16,         16,2,20210512,       0915,    37.3820,   -68.2141,       4740,  1278.2,   5.2327,  35.0416,2,  35.0437,2,    232.8,2,   232.9,2,   12.39,2,   19.00,2,    0.00,2,    1.23,2,   2.496,2,   1.333,2,   0.9800,2,  2180.6,2, 2308.84,2,  811.720,2,    20.00,   7.69808,6,    24.98,    0.77,2,  -18.62,2,    1.93, -999.00,9,-999.000,9,   44.20,2, -999.00,1,      14.97,2, 20210512,     1037,  37.3820, -68.2141,     5.2363,2,     0.0416,1,     4.6630,1,     -999.0,9,     -999.0,9,     -999.0,9
325020210420,        A22,      76,          1,         15,         15,2,20210512,       0915,    37.3820,   -68.2141,       4740,  1380.1,   4.8720,  35.0200,2,  35.0207,2,    243.3,2,   243.3,2,   11.91,2,   18.41,2,    0.00,2,    1.19,2,   2.659,2,   1.417,2,   0.9900,2,  2174.7,2, 2309.85,2,  801.510,2,    20.00,   7.70214,2,    24.99,    0.81,2,  -11.91,2,    2.07, -999.00,9,-999.000,9,   43.70,2, -999.00,1,      14.38,2, 20210512,     1034,  37.3820, -68.2141,     4.8726,2,     0.0422,1,     4.6629,1,     -999.0,9,     -999.0,9,     -999.0,9
325020210420,        A22,      76,          1,         14,         14,2,20210512,       0915,    37.3820,   -68.2141,       4740,  1482.3,   4.6398,  35.0066,2,  35.0079,2,    249.9,2,   249.9,2,   11.71,2,   18.08,2,    0.00,2,    1.17,2,-999.000,9,-999.000,9,-999.0000,9,  2173.4,2, 2307.88,2,  792.110,2,    20.00,   7.70617,2,    24.98, -999.00,9, -999.00,9, -999.00, -999.00,9,-999.000,9,   44.70,2, -999.00,1,     -999.0,9, 20210512,     1031,  37.3820, -68.2141,     4.6405,2,     0.0424,1,     4.6631,1,     -999.0,9,     -999.0,9,     -999.0,9
325020210420,        A22,      76,          1,         13,         13,2,20210512,       0915,    37.3820,   -68.2141,       4740,  1583.3,   4.4261,  34.9884,2,  34.9904,2,    255.4,2,   256.3,2,   11.81,2,   17.96,2,    0.00,2,    1.16,2,   2.832,2,   1.517,2,   1.0100,2,  2169.8,2, 2308.55,2,  788.420,2,    20.00,   7.70744,2,    24.98,    0.82,2,  -11.48,2,    2.07, -999.00,9,-999.000,9,   45.40,2, -999.00,1,      13.82,2, 20210512,     1027,  37.3820, -68.2141,     4.4264,2,     0.0429,1,     4.6649,1,     -999.0,9,     -999.0,9,     -999.0,9
325020210420,        A22,      76,          1,         12,         12,2,20210512,       0915,    37.3820,   -68.2141,       4740,  1756.0,   4.1805,  34.9757,2,  34.9766,2,    260.1,2,   260.1,2,   12.00,2,   17.65,2,    0.00,2,    1.15,2,   2.772,2,   1.453,2,   1.0000,2,  2168.4,2, 2305.84,2,  778.530,2,    20.00,   7.71258,2,    24.97, -999.00,9, -999.00,9, -999.00, -999.00,9,-999.000,9,   44.30,2, -999.00,1,      13.44,2, 20210512,     1023,  37.3820, -68.2141,     4.1794,2,     0.0426,1,     4.6653,1,     -999.0,9,     -999.0,9,     -999.0,9
325020210420,        A22,      76,          1,         11,         11,2,20210512,       0915,    37.3820,   -68.2141,       4740,  1958.8,   3.9871,  34.9675,2,  34.9685,2,    262.4,2,   262.4,2,   12.59,2,   17.63,2,    0.00,2,    1.14,2,   2.569,2,   1.338,2,   0.7600,2,  2168.3,6, 2306.04,2,  770.530,2,    20.00,   7.71752,2,    24.98, -999.00,9, -999.00,9, -999.00, -999.00,9,-999.000,9,   44.10,2, -999.00,1,      13.56,2, 20210512,     1017,  37.3820, -68.2141,     3.9872,2,     0.0425,1,     4.6669,1,     -999.0,9,     -999.0,9,     -999.0,9
325020210420,        A22,      76,          1,         10,         10,2,20210512,       0915,    37.3820,   -68.2141,       4740,  2192.4,   3.7795,  34.9604,2,  34.9612,2,    263.5,2,   263.7,2,   13.56,2,   17.62,2,    0.00,2,    1.15,2,-999.000,9,-999.000,9,-999.0000,9,  2165.3,2, 2308.29,2,  761.420,2,    20.00,   7.72497,2,    24.97, -999.00,9, -999.00,9, -999.00, -999.00,9,-999.000,9,   43.40,2, -999.00,1,     -999.0,9, 20210512,     1013,  37.3820, -68.2141,     3.7798,2,     0.0422,1,     4.6667,1,     -999.0,9,     -999.0,9,     -999.0,9
325020210420,        A22,      76,          1,          9,          9,2,20210512,       0915,    37.3820,   -68.2141,       4740,  2448.2,   3.5409,  34.9537,2,  34.9551,2,    264.4,2,   264.4,2,   14.93,2,   17.73,2,    0.00,2,    1.15,2,   1.866,2,   0.939,2,   0.3900,2,  2165.7,2, 2310.34,6,  751.340,2,    20.00,   7.73173,2,    24.96, -999.00,9, -999.00,9, -999.00, -999.00,9,-999.000,9,   44.80,2, -999.00,1,      12.86,2, 20210512,     1007,  37.3820, -68.2141,     3.5417,2,     0.0423,1,     4.6684,1,     -999.0,9,     -999.0,9,     -999.0,9
325020210420,        A22,      76,          1,          8,          8,2,20210512,       0915,    37.3820,   -68.2141,       4740,  2702.9,   3.3221,  34.9463,2,  34.9465,2,    265.3,2,   265.5,2,   16.40,2,   17.74,2,    0.00,2,    1.16,2,-999.000,9,-999.000,9,-999.0000,9,  2165.1,2, 2309.85,2,  745.660,2,    20.00,   7.73232,2,    24.98, -999.00,9, -999.00,9, -999.00, -999.00,9,-999.000,9,   44.30,2, -999.00,1,     -999.0,9, 20210512,     1001,  37.3820, -68.2141,     3.3219,2,     0.0427,1,     4.6691,1,     -999.0,9,     -999.0,9,     -999.0,9
325020210420,        A22,      76,          1,          7,          7,2,20210512,       0915,    37.3820,   -68.2141,       4740,  2957.0,   3.0750,  34.9372,2,  34.9394,3,    266.4,2,   266.3,2,   18.25,2,   17.69,2,    0.00,2,    1.16,2,   1.520,2,   0.765,2,   0.3800,2,  2167.1,2, 2311.86,2,  743.140,2,    20.00,   7.73528,2,    24.97, -999.00,9, -999.00,9, -999.00, -999.00,9,-999.000,9,   46.00,2, -999.00,1,      13.15,2, 20210512,      955,  37.3820, -68.2141,     3.0748,2,     0.0429,1,     4.6691,1,     -999.0,9,     -999.0,9,     -999.0,9
325020210420,        A22,      76,          1,          6,          6,2,20210512,       0915,    37.3820,   -68.2141,       4740,  3249.4,   2.7929,  34.9249,2,  34.9258,2,    267.6,2,   267.9,2,   20.79,2,   17.74,2,    0.00,2,    1.16,2,   1.363,2,   0.697,2,   0.3200,2,  2168.9,2, 2314.37,2,  741.020,2,    20.00,    7.7352,6,    24.98, -999.00,9, -999.00,9, -999.00, -999.00,9,-999.000,9,   44.50,2, -999.00,1,      13.06,2, 20210512,      949,  37.3820, -68.2141,     2.7931,2,     0.0420,1,     4.6700,1,     -999.0,9,     -999.0,9,     -999.0,9
325020210420,        A22,      76,          1,          5,          5,2,20210512,       0915,    37.3820,   -68.2141,       4740,  3557.1,   2.5546,  34.9113,2,  34.9115,2,    269.9,2,   269.9,2,   22.45,2,   17.62,2,    0.00,2,    1.16,2,   1.523,2,   0.771,2,   0.4200,2,  2169.8,2, 2314.69,6,  745.660,2,    20.00,   7.73526,2,    25.01, -999.00,9, -999.00,9, -999.00, -999.00,9,-999.000,9,   44.10,2, -999.00,1,      13.16,2, 20210512,      942,  37.3820, -68.2141,     2.5543,2,     0.0423,1,     4.6702,1,     -999.0,9,     -999.0,9,     -999.0,9
325020210420,        A22,      76,          1,          4,          4,2,20210512,       0915,    37.3820,   -68.2141,       4740,  3863.0,   2.3749,  34.8996,2,  34.8999,2,    269.4,2,   269.7,2,   25.76,2,   17.92,2,    0.00,2,    1.19,2,   1.470,2,   0.752,2,   0.4600,2,  2173.7,2, 2317.12,2,  749.040,2,    20.00,   7.73198,2,    24.98, -999.00,9, -999.00,9, -999.00, -999.00,9,-999.000,9,   43.40,2, -999.00,1,      13.16,2, 20210512,      935,  37.3820, -68.2141,     2.3748,2,     0.0427,1,     4.6695,1,     -999.0,9,     -999.0,9,     -999.0,9
325020210420,        A22,      76,          1,          3,          3,2,20210512,       0915,    37.3820,   -68.2141,       4740,  4171.0,   2.2998,  34.8927,2,  34.8930,2,    268.5,2,   268.6,2,   28.01,2,   18.16,2,    0.00,2,    1.22,2,   1.476,2,   0.767,2,   0.4400,2,  2177.1,2,  2323.4,2,  754.150,2,    20.00,   7.72866,2,    24.97, -999.00,9, -999.00,9, -999.00, -999.00,9,-999.000,9,   43.30,2, -999.00,1,      12.72,2, 20210512,      929,  37.3820, -68.2141,     2.2998,2,     0.0430,1,     4.6653,1,     -999.0,9,     -999.0,9,     -999.0,9