BOTTLE,20230513CCHSIOCBG
EXPOCODE,SECT_ID,STNNBR,CASTNO,SAMPNO,BTLNBR,BTLNBR_FLAG_W,DATE,TIME,LATITUDE,LONGITUDE,DEPTH,CTDPRS,CTDTMP,CTDSAL,CTDSAL_FLAG_W,SALNTY,SALNTY_FLAG_W,CTDOXY,CTDOXY_FLAG_W,OXYGEN,OXYGEN_FLAG_W,SILCAT,SILCAT_FLAG_W,NITRAT,NITRAT_FLAG_W,NITRIT,NITRIT_FLAG_W,PHSPHT,PHSPHT_FLAG_W,CFC-11,CFC-11_FLAG_W,CFC-12,CFC-12_FLAG_W,SF6,SF6_FLAG_W,TCARBN,TCARBN_FLAG_W,ALKALI,ALKALI_FLAG_W,FCO2,FCO2_FLAG_W,FCO2TMP,PH_TOT,PH_TOT_FLAG_W,PH_TMP,DELC13,DELC13_FLAG_W,DELC14,DELC14_FLAG_W,C14ERR,DELO18,DELO18_FLAG_W,POC,POC_FLAG_W,DOC,DOC_FLAG_W,TDN,TDN_FLAG_W,N2O,N2O_FLAG_W,BTL_DATE,BTL_TIME,BTL_LAT,BTL_LON,REFTMP,REFTMP_FLAG_W,CTDFLUOR,CTDFLUOR_FLAG_W,CTDXMISS,CTDXMISS_FLAG_W,D15N_NO2+NO3,D15N_NO2+NO3_FLAG_W,D18O_NO2+NO3,D18O_NO2+NO3_FLAG_W,HPLC,HPLC_FLAG_W
,,,,,,,,,,,METERS,DBAR,ITS-90,PSS-78,,PSS-78,,UMOL/KG,,UMOL/KG,,UMOL/KG,,UMOL/KG,,UMOL/KG,,UMOL/KG,,PMOL/KG,,PMOL/KG,,FMOL/KG,,UMOL/KG,,UMOL/KG,,UATM,,DEG C,,,DEG C,/MILLE,,/MILLE,,/MILLE,/MILLE,,UG/KG,,UMOL/KG,,UMOL/KG,,NMOL/KG,,,,,,ITS-90,,VOLTS,,VOLTS,,/MILLE,,/MILLE,,,
325020210420,        A22,      29,          1,         36,         36,2,20210428,       0809,    17.9575,   -65.1339,       4508,     4.7,  26.9066,  36.3005,2,  36.3002,2,    201.8,2,   201.2,2,    1.17,2,    0.03,2,    0.00,2,    0.00,2,   1.475,2,   0.957,2,   1.6600,2,  2038.8,6, 2376.45,2, -999.000,9,  -999.00,   8.09467,2,    25.02, -999.00,9, -999.00,9, -999.00, -999.00,1,-999.000,9, -999.00,9, -999.00,9,       5.97,2, 20210428,     1022,  17.9575, -65.1339,    26.9065,2,     0.0441,1,     4.6325,1,     -999.0,9,     -999.0,9,     -999.0,9
325020210420,        A22,      29,          1,         35,         35,2,20210428,       0809,    17.9575,   -65.1339,       4508,    25.1,  26.9098,  36.3011,2,  36.3055,2,    201.6,2,   201.4,2,    1.07,2,    0.01,2,    0.00,2,    0.00,2,-999.000,9,-999.000,9,-999.0000,9,  -999.0,9, -999.00,9, -999.000,9,  -999.00,-999.00000,9,  -999.00, -999.00,9, -999.00,9, -999.00, -999.00,9,-999.000,9, -999.00,9, -999.00,9,     -999.0,9, 20210428,     1020,  17.9575, -65.1339,    26.9096,2,     0.0440,1,     4.6332,1,     -999.0,9,     -999.0,9,     -999.0,9
325020210420,        A22,      29,          1,         34,         34,2,20210428,       0809,    17.9575,   -65.1339,       4508,    50.1,  26.5070,  36.5860,2,  36.5874,2,    205.4,2,   205.0,2,    1.07,2,    0.00,2,    0.00,2,    0.00,2,-999.000,9,-999.000,9,-999.0000,9,  -999.0,9, -999.00,9, -999.000,9,  -999.00,-999.00000,9,  -999.00, -999.00,9, -999.00,9, -999.00, -999.00,9,-999.000,9, -999.00,9, -999.00,9,     -999.0,9, 20210428,     1017,  17.9575, -65.1339,    26.5068,2,     0.0459,1,     4.6340,1,     -999.0,9,     -999.0,9,     -999.0,9
325020210420,        A22,      29,          1,         33,         33,2,20210428,       0809,    17.9575,   -65.1339,       4508,    75.2,  26.1403,  36.8018,2,  36.8046,2,    203.1,2,   202.9,2,    0.97,2,    0.00,2,    0.00,2,    0.00,2,-999.000,9,-999.000,9,-999.0000,9,  -999.0,9, -999.00,9, -999.000,9,  -999.00,-999.00000,9,  -999.00, -999.00,9, -999.00,9, -999.00, -999.00,9,-999.000,9, -999.00,9, -999.00,9,     -999.0,9, 20210428,     1016,  17.9575, -65.1339,    26.1397,2,     0.0542,1,     4.6347,1,     -999.0,9,     -999.0,9,     -999.0,9
325020210420,        A22,      29,          1,         32,         32,2,20210428,       0809,    17.9575,   -65.1339,       4508,   100.5,  25.8862,  36.9260,2,  36.9268,2,    199.9,2,   200.3,2,    0.88,2,    0.00,2,    0.00,2,    0.00,2,   1.524,2,   0.990,2,   1.6400,2,  2074.9,2, 2413.06,2, -999.000,9,  -999.00,   8.08403,6,    25.01, -999.00,9, -999.00,9, -999.00, -999.00,9,-999.000,9, -999.00,9, -999.00,9,       6.22,2, 20210428,     1014,  17.9575, -65.1339,    25.8847,2,     0.0654,1,     4.6340,1,     -999.0,9,     -999.0,9,     -999.0,9
325020210420,        A22,      29,          1,         31,         31,2,20210428,       0809,    17.9575,   -65.1339,       4508,   125.3,  24.8735,  37.1947,2,  37.2000,2,    190.7,2,   191.0,2,    0.68,2,    0.14,2,    0.10,2,    0.00,2,-999.000,9,-999.000,9,-999.0000,9,  -999.0,9, -999.00,9, -999.000,9,  -999.00,-999.00000,9,  -999.00, -999.00,9, -999.00,9, -999.00, -999.00,1,-999.000,9, -999.00,9, -999.00,9,     -999.0,9, 20210428,     1012,  17.9575, -65.1339,    24.8713,2,     0.0861,1,     4.6401,1,     -999.0,9,     -999.0,9,     -999.0,9
325020210420,        A22,      29,          1,         30,         30,2,20210428,       0809,    17.9575,   -65.1339,       4508,   151.0,  23.2325,  37.1821,2,  37.1765,2,    171.9,2,   172.6,2,    0.78,2,    1.71,2,    0.03,2,    0.04,2,-999.000,9,-999.000,9,-999.0000,9,  -999.0,9, -999.00,9, -999.000,9,  -999.00,-999.00000,9,  -999.00, -999.00,9, -999.00,9, -999.00, -999.00,9,-999.000,9, -999.00,9, -999.00,9,     -999.0,9, 20210428,     1009,  17.9575, -65.1339,    23.2327,2,     0.0651,1,     4.6533,1,     -999.0,9,     -999.0,9,     -999.0,9
325020210420,        A22,      29,          1,         29,         29,2,20210428,       0809,    17.9575,   -65.1339,       4508,   201.2,  20.3996,  36.8829,2,  36.8788,2,    167.9,2,   168.2,2,    1.07,2,    3.95,2,    0.00,2,    0.15,2,   1.946,2,   1.230,2,   1.7300,2,  2153.6,2, 2403.58,2, -999.000,9,  -999.00,   7.94241,2,    25.00, -999.00,9, -999.00,9, -999.00, -999.00,9,-999.000,9, -999.00,9, -999.00,9,       9.49,2, 20210428,     1008,  17.9575, -65.1339,    20.4010,2,     0.0418,1,     4.6697,1,     -999.0,9,     -999.0,9,     -999.0,9
325020210420,        A22,      29,          1,         28,         28,2,20210428,       0809,    17.9575,   -65.1339,       4508,   251.8,  18.5715,  36.5930,2,  36.5926,2,    175.0,2,   175.0,2,    1.56,2,    5.95,2,    0.00,2,    0.27,2,-999.000,9,-999.000,9,-999.0000,9,  -999.0,9, -999.00,9, -999.000,9,  -999.00,-999.00000,9,  -999.00, -999.00,9, -999.00,9, -999.00, -999.00,9,-999.000,9, -999.00,9, -999.00,9,     -999.0,9, 20210428,     1006,  17.9575, -65.1339,    18.5718,2,     0.0392,1,     4.6724,1,     -999.0,9,     -999.0,9,     -999.0,9
325020210420,        A22,      29,          1,         27,         27,2,20210428,       0809,    17.9575,   -65.1339,       4508,   302.1,  17.1813,  36.3641,2,  36.3598,2,    166.0,2,   165.5,2,    2.53,2,    9.20,2,    0.00,2,    0.47,2,   2.163,2,   1.334,2,   1.4300,2,  2156.8,2, 2372.88,2, -999.000,9,  -999.00,    7.8817,2,    25.01, -999.00,9, -999.00,9, -999.00, -999.00,9,-999.000,9, -999.00,9, -999.00,9,      12.75,2, 20210428,     1001,  17.9575, -65.1339,    17.1837,2,     0.0402,1,     4.6765,1,     -999.0,9,     -999.0,9,     -999.0,9
325020210420,        A22,      29,          1,         26,         26,2,20210428,       0809,    17.9575,   -65.1339,       4508,   352.4,  15.2026,  36.0282,2,  36.0289,2,    144.9,2,   145.4,2,    4.87,2,   14.45,2,    0.00,2,    0.82,2,-999.000,9,-999.000,9,-999.0000,9,  -999.0,9, -999.00,9, -999.000,9,  -999.00,-999.00000,9,  -999.00, -999.00,9, -999.00,9, -999.00, -999.00,9,-999.000,9, -999.00,9, -999.00,9,     -999.0,9, 20210428,      959,  17.9575, -65.1339,    15.2077,2,     0.0409,1,     4.6756,1,     -999.0,9,     -999.0,9,     -999.0,9
325020210420,        A22,      29,          1,         25,         25,2,20210428,       0809,    17.9575,   -65.1339,       4508,   402.6,  13.3510,  35.6793,2,  35.6796,2,    132.3,2,   132.5,2,    7.61,2,   19.13,2,    0.00,2,    1.13,2,   2.048,2,   1.203,2,   1.0000,2,  2190.3,2, 2339.72,2, -999.000,9,  -999.00,   7.73617,6,    24.98, -999.00,9, -999.00,9, -999.00, -999.00,9,-999.000,9, -999.00,9, -999.00,9,      21.20,2, 20210428,      957,  17.9575, -65.1339,    13.3420,2,     0.0407,1,     4.6745,1,     -999.0,9,     -999.0,9,     -999.0,9
325020210420,        A22,      29,          1,         24,         24,2,20210428,       0809,    17.9575,   -65.1339,       4508,   452.8,  11.8125,  35.4016,2,  35.3955,2,    123.5,2,   124.0,2,   10.05,2,   22.99,2,    0.00,2,    1.39,2,-999.000,9,-999.000,9,-999.0000,9,  -999.0,9, -999.00,9, -999.000,9,  -999.00,-999.00000,9,  -999.00, -999.00,9, -999.00,9, -999.00, -999.00,9,-999.000,9, -999.00,9, -999.00,9,     -999.0,9, 20210428,      955,  17.9575, -65.1339,    11.8134,2,     0.0409,1,     4.6755,1,     -999.0,9,     -999.0,9,     -999.0,9
325020210420,        A22,      29,          1,         23,         23,2,20210428,       0809,    17.9575,   -65.1339,       4508,   503.7,  11.0310,  35.3285,2,  35.3226,2,    125.7,2,   125.5,2,   11.51,2,   24.12,2,    0.00,2,    1.48,2,   1.745,2,   0.976,2,   0.6700,2,  2202.9,2, 2319.72,2, -999.000,9,  -999.00,   7.66552,2,    25.00, -999.00,9, -999.00,9, -999.00, -999.00,9,-999.000,9, -999.00,9, -999.00,9,      23.93,2, 20210428,      952,  17.9575, -65.1339,    11.0277,2,     0.0424,1,     4.6777,1,     -999.0,9,     -999.0,9,     -999.0,9
325020210420,        A22,      29,          1,         22,         22,2,20210428,       0809,    17.9575,   -65.1339,       4508,   604.2,   9.4395,  35.1050,2,  35.1020,2,    122.2,2,   122.4,2,   15.03,2,   27.45,2,    0.00,2,    1.72,2,-999.000,9,-999.000,9,-999.0000,9,  -999.0,9, -999.00,9, -999.000,9,  -999.00,-999.00000,9,  -999.00, -999.00,9, -999.00,9, -999.00, -999.00,9,-999.000,9, -999.00,9, -999.00,9,     -999.0,9, 20210428,      948,  17.9575, -65.1339,     9.4424,2,     0.0419,1,     4.6787,1,     -999.0,9,     -999.0,9,     -999.0,9
325020210420,        A22,      29,          1,         21,         21,2,20210428,       0809,    17.9575,   -65.1339,       4508,   705.6,   7.6413,  34.8936,2,  34.8934,2,    125.4,2,   126.1,2,   19.71,2,   30.43,2,    0.00,2,    1.94,2,   0.884,2,   0.475,2,   0.3300,2,  2217.4,2,  2303.5,2, -999.000,9,  -999.00,   7.58295,2,    25.05, -999.00,9, -999.00,9, -999.00, -999.00,9,-999.000,9, -999.00,9, -999.00,9,      25.60,2, 20210428,      945,  17.9575, -65.1339,     7.6333,2,     0.0430,1,     4.6796,1,     -999.0,9,     -999.0,9,     -999.0,9
325020210420,        A22,      29,          1,         20,         20,2,20210428,       0809,    17.9575,   -65.1339,       4508,   806.5,   6.8926,  34.8533,2,  34.8524,2,    133.4,2,   133.8,2,   21.76,2,   30.60,2,    0.00,2,    1.98,2,-999.000,9,-999.000,9,-999.0000,9,  -999.0,9, -999.00,9, -999.000,9,  -999.00,-999.00000,9,  -999.00, -999.00,9, -999.00,9, -999.00, -999.00,9,-999.000,9, -999.00,9, -999.00,9,     -999.0,9, 20210428,      940,  17.9575, -65.1339,     6.8921,2,     0.0428,1,     4.6789,1,     -999.0,9,     -999.0,9,     -999.0,9
325020210420,        A22,      29,          1,         19,         19,2,20210428,       0809,    17.9575,   -65.1339,       4508,   907.0,   6.2348,  34.8736,2,  34.8741,2,    148.7,2,   149.1,2,   22.83,2,   29.28,2,    0.00,2,    1.92,2,   0.425,6,   0.233,6,   0.2000,6,  2216.8,2, 2311.47,2, -999.000,9,  -999.00,   7.60536,6,    24.99, -999.00,9, -999.00,9, -999.00, -999.00,9,-999.000,9, -999.00,9, -999.00,9,      22.60,6, 20210428,      938,  17.9575, -65.1339,     6.2351,2,     0.0429,1,     4.6797,1,     -999.0,9,     -999.0,9,     -999.0,9
325020210420,        A22,      29,          1,         18,         18,2,20210428,       0809,    17.9575,   -65.1339,       4508,  1008.9,   5.6311,  34.9193,2,  34.9187,2,    169.8,2,   169.1,2,   23.32,2,   26.90,2,    0.00,2,    1.78,2,-999.000,9,-999.000,9,-999.0000,9,  -999.0,9, -999.00,9, -999.000,9,  -999.00,-999.00000,9,  -999.00, -999.00,9, -999.00,9, -999.00, -999.00,9,-999.000,9, -999.00,9, -999.00,9,     -999.0,9, 20210428,      935,  17.9575, -65.1339,     5.6264,2,     0.0430,1,     4.6801,1,     -999.0,9,     -999.0,9,     -999.0,9
325020210420,        A22,      29,          1,         17,         17,2,20210428,       0809,    17.9575,   -65.1339,       4508,  1109.5,   5.0560,  34.9488,2,  34.8139,3,    188.4,2,   188.5,2,   23.81,2,   24.89,2,    0.00,2,    1.65,2,   0.281,2,   0.156,2,   0.2200,2,  2202.5,2, 2318.54,6, -999.000,9,  -999.00,   7.66521,2,    25.01, -999.00,9, -999.00,9, -999.00, -999.00,9,-999.000,9, -999.00,9, -999.00,9,      17.88,2, 20210428,      932,  17.9575, -65.1339,     5.0561,2,     0.0429,1,     4.6808,1,     -999.0,9,     -999.0,9,     -999.0,9
325020210420,        A22,      29,          1,         16,         16,2,20210428,       0809,    17.9575,   -65.1339,       4508,  1210.7,   4.6841,  34.9629,2,  34.9624,2,    200.3,2,   200.3,2,   24.20,2,   23.67,2,    0.00,2,    1.58,2,-999.000,9,-999.000,9,-999.0000,9,  -999.0,9, -999.00,9, -999.000,9,  -999.00,-999.00000,9,  -999.00, -999.00,9, -999.00,9, -999.00, -999.00,9,-999.000,9, -999.00,9, -999.00,9,     -999.0,9, 20210428,      929,  17.9575, -65.1339,     4.6841,2,     0.0426,1,     4.6808,1,     -999.0,9,     -999.0,9,     -999.0,9
325020210420,        A22,      29,          1,         15,         15,2,20210428,       0809,    17.9575,   -65.1339,       4508,  1311.8,   4.4703,  34.9690,2,  34.9689,2,    207.0,2,   207.1,2,   24.59,2,   23.04,2,    0.00,2,    1.53,2,   0.270,2,   0.146,2,   0.1400,2,  -999.0,9, -999.00,9, -999.000,9,  -999.00,-999.00000,9,  -999.00, -999.00,9, -999.00,9, -999.00, -999.00,9,-999.000,9, -999.00,9, -999.00,9,      15.88,2, 20210428,      926,  17.9575, -65.1339,     4.4701,2,     0.0426,1,     4.6813,1,     -999.0,9,     -999.0,9,     -999.0,9
325020210420,        A22,      29,          1,         14,         14,2,20210428,       0809,    17.9575,   -65.1339,       4508,  1413.6,   4.3383,  34.9735,2,  34.9748,2,    213.1,2,   213.5,2,   24.39,2,   22.33,2,    0.00,2,    1.49,2,   0.372,2,   0.203,2,   0.1900,2,  -999.0,9, -999.00,9, -999.000,9,  -999.00,-999.00000,9,  -999.00, -999.00,9, -999.00,9, -999.00, -999.00,9,-999.000,9, -999.00,9, -999.00,9,      15.45,2, 20210428,      922,  17.9575, -65.1339,     4.3393,2,     0.0430,1,     4.6812,1,     -999.0,9,     -999.0,9,     -999.0,9
325020210420,        A22,      29,          1,         13,         13,2,20210428,       0809,    17.9575,   -65.1339,       4508,  1514.7,   4.2052,  34.9772,2,  34.9770,2,    219.7,2,   219.7,2,   24.00,2,   21.66,2,    0.00,2,    1.45,2,   0.502,2,   0.259,2,   0.2200,2,  -999.0,9, -999.00,9, -999.000,9,  -999.00,-999.00000,9,  -999.00, -999.00,9, -999.00,9, -999.00, -999.00,9,-999.000,9, -999.00,9, -999.00,9,      14.83,2, 20210428,      919,  17.9575, -65.1339,     4.2059,2,     0.0430,1,     4.6813,1,     -999.0,9,     -999.0,9,     -999.0,9
325020210420,        A22,      29,          1,         12,         12,2,20210428,       0809,    17.9575,   -65.1339,       4508,  1615.9,   4.1205,  34.9810,2,  34.9809,2,    231.6,2,   232.5,2,   20.98,2,   20.43,2,    0.00,2,    1.36,2,   0.913,2,   0.474,2,   0.3400,2,  -999.0,9, -999.00,9, -999.000,9,  -999.00,-999.00000,9,  -999.00, -999.00,9, -999.00,9, -999.00, -999.00,9,-999.000,9, -999.00,9, -999.00,9,      14.32,2, 20210428,      915,  17.9575, -65.1339,     4.1202,2,     0.0421,1,     4.6813,1,     -999.0,9,     -999.0,9,     -999.0,9
325020210420,        A22,      29,          1,         11,         11,2,20210428,       0809,    17.9575,   -65.1339,       4508,  1818.9,   3.9185,  34.9827,2,  34.9827,2,    255.3,2,   256.2,2,   14.93,2,   18.25,2,    0.00,2,    1.20,2,   1.658,2,   0.836,2,   0.4500,2,  2170.2,2, 2310.16,2, -999.000,9,  -999.00,   7.72587,2,    25.02, -999.00,9, -999.00,9, -999.00, -999.00,9,-999.000,9, -999.00,9, -999.00,9,      13.74,2, 20210428,      910,  17.9575, -65.1339,     3.9186,2,     0.0420,1,     4.6819,1,     -999.0,9,     -999.0,9,     -999.0,9
325020210420,        A22,      29,          1,         10,         10,2,20210428,       0809,    17.9575,   -65.1339,       4508,  2021.5,   3.8665,  34.9799,2,  34.9797,2,    257.0,2,   257.4,2,   14.93,2,   18.17,2,    0.00,2,    1.19,2,   1.588,2,   0.810,2,   0.4000,2,  -999.0,9, -999.00,9, -999.000,9,  -999.00,-999.00000,9,  -999.00, -999.00,9, -999.00,9, -999.00, -999.00,9,-999.000,9, -999.00,9, -999.00,9,      13.62,2, 20210428,      905,  17.9575, -65.1339,     3.8670,2,     0.0424,1,     4.6821,1,     -999.0,9,     -999.0,9,     -999.0,9
325020210420,        A22,      29,          1,          9,          9,2,20210428,       0809,    17.9575,   -65.1339,       4508,  2275.6,   3.8517,  34.9777,2,  34.9787,2,    257.6,2,   257.7,2,   15.12,2,   18.17,2,    0.00,2,    1.19,2,   1.518,2,   0.763,2,   0.4400,2,  -999.0,9, -999.00,9, -999.000,9,  -999.00,-999.00000,9,  -999.00, -999.00,9, -999.00,9, -999.00, -999.00,9,-999.000,9, -999.00,9, -999.00,9,      13.62,2, 20210428,      859,  17.9575, -65.1339,     3.8519,2,     0.0418,1,     4.6825,1,     -999.0,9,     -999.0,9,     -999.0,9
325020210420,        A22,      29,          1,          8,          8,2,20210428,       0809,    17.9575,   -65.1339,       4508,  2529.8,   3.8603,  34.9764,2,  34.9762,2,    257.6,2,   257.9,2,   15.22,2,   18.18,2,    0.00,2,    1.19,2,   1.411,2,   0.712,2,   0.5800,2,  -999.0,9, -999.00,9, -999.000,9,  -999.00,-999.00000,9,  -999.00, -999.00,9, -999.00,9, -999.00, -999.00,9,-999.000,9, -999.00,9, -999.00,9,      13.65,2, 20210428,      853,  17.9575, -65.1339,     3.8605,2,     0.0422,1,     4.6824,1,     -999.0,9,     -999.0,9,     -999.0,9
325020210420,        A22,      29,          1,          7,          7,2,20210428,       0809,    17.9575,   -65.1339,       4508,  2784.8,   3.8808,  34.9760,2,  34.9764,2,    257.6,2,   257.9,2,   15.32,2,   18.21,2,    0.00,2,    1.19,2,   1.362,2,   0.683,2,   0.4600,2,  2170.0,2, 2304.14,2, -999.000,9,  -999.00,   7.73112,2,    25.02, -999.00,9, -999.00,9, -999.00, -999.00,9,-999.000,9, -999.00,9, -999.00,9,      13.63,2, 20210428,      847,  17.9575, -65.1339,     3.8810,2,     0.0416,1,     4.6820,1,     -999.0,9,     -999.0,9,     -999.0,9
325020210420,        A22,      29,          1,          6,          6,2,20210428,       0809,    17.9575,   -65.1339,       4508,  3039.7,   3.9024,  34.9755,2,  34.9750,2,    257.5,2,   257.7,2,   15.42,2,   18.25,2,    0.00,2,    1.19,2,   1.280,2,   0.653,2,   0.6500,2,  -999.0,9, -999.00,9, -999.000,9,  -999.00,-999.00000,9,  -999.00, -999.00,9, -999.00,9, -999.00, -999.00,9,-999.000,9, -999.00,9, -999.00,9,      13.55,2, 20210428,      842,  17.9575, -65.1339,     3.9025,2,     0.0421,1,     4.6817,1,     -999.0,9,     -999.0,9,     -999.0,9
325020210420,        A22,      29,          1,          5,          5,2,20210428,       0809,    17.9575,   -65.1339,       4508,  3346.7,   3.9314,  34.9751,2,  34.9758,2,    257.4,2,   257.5,2,   15.51,2,   18.28,2,    0.00,2,    1.19,2,   1.212,2,   0.615,2,   0.6700,2,  -999.0,9, -999.00,9, -999.000,9,  -999.00,-999.00000,9,  -999.00, -999.00,9, -999.00,9, -999.00, -999.00,9,-999.000,9, -999.00,9, -999.00,9,      13.48,2, 20210428,      835,  17.9575, -65.1339,     3.9316,2,     0.0422,1,     4.6813,1,     -999.0,9,     -999.0,9,     -999.0,9
325020210420,        A22,      29,          1,          4,          4,2,20210428,       0809,    17.9575,   -65.1339,       4508,  3653.2,   3.9654,  34.9752,2,  34.9754,2,    257.2,2,   257.4,2,   15.71,2,   18.29,2,    0.00,2,    1.19,2,   1.185,2,   0.597,2,   0.7800,2,  -999.0,9, -999.00,9, -999.000,9,  -999.00,-999.00000,9,  -999.00, -999.00,9, -999.00,9, -999.00, -999.00,9,-999.000,9, -999.00,9, -999.00,9,      13.50,2, 20210428,      828,  17.9575, -65.1339,     3.9657,2,     0.0418,1,     4.6802,1,     -999.0,9,     -999.0,9,     -999.0,9
325020210420,        A22,      29,          1,          3,          3,2,20210428,       0809,    17.9575,   -65.1339,       4508,  3959.5,   4.0027,  34.9751,2,  34.9758,2,    257.1,2,   257.2,2,   15.61,2,   18.29,2,    0.00,2,    1.19,2,   1.159,2,   0.592,2,   0.7500,2,  -999.0,9, -999.00,9, -999.000,9,  -999.00,-999.00000,9,  -999.00, -999.00,9, -999.00,9, -999.00, -999.00,9,-999.000,9, -999.00,9, -999.00,9,      13.66,2, 20210428,      822,  17.9575, -65.1339,     4.0031,2,     0.0424,1,     4.6801,1,     -999.0,9,     -999.0,9,     -999.0,9