BOTTLE,20230513CCHSIOCBG
EXPOCODE,SECT_ID,STNNBR,CASTNO,SAMPNO,BTLNBR,BTLNBR_FLAG_W,DATE,TIME,LATITUDE,LONGITUDE,DEPTH,CTDPRS,CTDTMP,CTDSAL,CTDSAL_FLAG_W,SALNTY,SALNTY_FLAG_W,CTDOXY,CTDOXY_FLAG_W,OXYGEN,OXYGEN_FLAG_W,SILCAT,SILCAT_FLAG_W,NITRAT,NITRAT_FLAG_W,NITRIT,NITRIT_FLAG_W,PHSPHT,PHSPHT_FLAG_W,CFC-11,CFC-11_FLAG_W,CFC-12,CFC-12_FLAG_W,SF6,SF6_FLAG_W,TCARBN,TCARBN_FLAG_W,ALKALI,ALKALI_FLAG_W,FCO2,FCO2_FLAG_W,FCO2TMP,PH_TOT,PH_TOT_FLAG_W,PH_TMP,DELC13,DELC13_FLAG_W,DELC14,DELC14_FLAG_W,C14ERR,DELO18,DELO18_FLAG_W,POC,POC_FLAG_W,DOC,DOC_FLAG_W,TDN,TDN_FLAG_W,N2O,N2O_FLAG_W,BTL_DATE,BTL_TIME,BTL_LAT,BTL_LON,REFTMP,REFTMP_FLAG_W,CTDFLUOR,CTDFLUOR_FLAG_W,CTDXMISS,CTDXMISS_FLAG_W,D15N_NO2+NO3,D15N_NO2+NO3_FLAG_W,D18O_NO2+NO3,D18O_NO2+NO3_FLAG_W,HPLC,HPLC_FLAG_W
,,,,,,,,,,,METERS,DBAR,ITS-90,PSS-78,,PSS-78,,UMOL/KG,,UMOL/KG,,UMOL/KG,,UMOL/KG,,UMOL/KG,,UMOL/KG,,PMOL/KG,,PMOL/KG,,FMOL/KG,,UMOL/KG,,UMOL/KG,,UATM,,DEG C,,,DEG C,/MILLE,,/MILLE,,/MILLE,/MILLE,,UG/KG,,UMOL/KG,,UMOL/KG,,NMOL/KG,,,,,,ITS-90,,VOLTS,,VOLTS,,/MILLE,,/MILLE,,,
325020210420,        A22,      11,          1,         36,         36,2,20210424,       0535,    14.1414,   -69.6991,       4649,     5.3,  27.2334,  35.9476,2,  35.9483,2,    201.2,2,   200.6,2,    0.78,2,    0.01,2,    0.00,2,    0.00,2,   1.425,2,   0.941,2,   1.5700,2,  2023.0,6,  2358.4,2, -999.000,9,  -999.00,   8.09365,2,    24.98, -999.00,9, -999.00,9, -999.00, -999.00,1,-999.000,9, -999.00,9, -999.00,9,       6.06,2, 20210424,      742,  14.1414, -69.6991,    27.2306,2,     0.0472,1,     4.6209,1,     -999.0,1,     -999.0,1,     -999.0,9
325020210420,        A22,      11,          1,         35,         35,2,20210424,       0535,    14.1414,   -69.6991,       4649,    25.2,  27.2431,  35.9475,2,  35.9483,2,    201.3,2,   201.1,2,    0.78,2,    0.00,2,    0.00,2,    0.00,2,-999.000,9,-999.000,9,-999.0000,9,  -999.0,9, -999.00,9, -999.000,9,  -999.00,-999.00000,9,  -999.00, -999.00,9, -999.00,9, -999.00, -999.00,9,-999.000,9, -999.00,9, -999.00,9,     -999.0,9, 20210424,      741,  14.1414, -69.6991,    27.2434,2,     0.0471,1,     4.6200,1,     -999.0,1,     -999.0,1,     -999.0,9
325020210420,        A22,      11,          1,         34,         34,2,20210424,       0535,    14.1414,   -69.6991,       4649,    50.3,  27.0655,  35.9689,2,  35.9924,3,    202.4,2,   202.6,2,    0.78,2,    0.01,2,    0.00,2,    0.00,2,-999.000,9,-999.000,9,-999.0000,9,  2027.4,2, -999.00,9, -999.000,9,  -999.00,    8.0964,6,    25.00, -999.00,9, -999.00,9, -999.00, -999.00,9,-999.000,9, -999.00,9, -999.00,9,     -999.0,9, 20210424,      739,  14.1414, -69.6992,    27.0762,2,     0.0526,1,     4.6226,1,     -999.0,1,     -999.0,1,     -999.0,9
325020210420,        A22,      11,          1,         33,         33,2,20210424,       0535,    14.1414,   -69.6991,       4649,    75.4,  26.5402,  36.3931,2,  36.3762,2,    191.1,2,   191.3,2,    0.78,2,    0.05,2,    0.01,2,    0.00,2,   1.482,2,   0.968,2,   1.5800,2,  2053.9,2, 2380.69,2, -999.000,9,  -999.00,   8.07778,2,    24.98, -999.00,9, -999.00,9, -999.00, -999.00,9,-999.000,9, -999.00,9, -999.00,9,       6.56,2, 20210424,      738,  14.1414, -69.6992,    26.5494,2,     0.1081,1,     4.6011,1,     -999.0,1,     -999.0,1,     -999.0,9
325020210420,        A22,      11,          1,         32,         32,2,20210424,       0535,    14.1414,   -69.6991,       4649,   101.3,  25.8786,  36.9584,2,  36.9580,2,    184.7,2,   186.1,2,    0.49,2,    0.58,2,    0.16,2,    0.02,2,-999.000,9,-999.000,9,-999.0000,9,  2096.5,2, -999.00,9, -999.000,9,  -999.00,   8.05452,6,    25.01, -999.00,9, -999.00,9, -999.00, -999.00,1,-999.000,9, -999.00,9, -999.00,9,     -999.0,9, 20210424,      736,  14.1414, -69.6991,    25.8845,2,     0.0742,1,     4.6405,1,     -999.0,1,     -999.0,1,     -999.0,9
325020210420,        A22,      11,          1,         31,         31,2,20210424,       0535,    14.1414,   -69.6991,       4649,   151.2,  22.0427,  37.0753,2,  37.0686,2,    168.0,3,   169.9,2,    0.29,2,    2.24,2,    0.01,2,    0.07,2,-999.000,9,-999.000,9,-999.0000,9,  2149.1,2, -999.00,9, -999.000,9,  -999.00,   7.97393,2,    24.99, -999.00,9, -999.00,9, -999.00, -999.00,9,-999.000,9, -999.00,9, -999.00,9,     -999.0,9, 20210424,      734,  14.1414, -69.6992,    22.0464,2,     0.0425,1,     4.6712,1,     -999.0,1,     -999.0,1,     -999.0,9
325020210420,        A22,      11,          1,         30,         30,2,20210424,       0535,    14.1414,   -69.6991,       4649,   201.6,  19.3991,  36.7011,2,  36.6963,2,    158.0,2,   159.5,2,    1.36,2,    6.42,2,    0.00,2,    0.30,2,   1.962,2,   1.251,2,   1.5600,2,  2161.4,2, 2393.07,2, -999.000,9,  -999.00,   7.91118,2,    24.96, -999.00,9, -999.00,9, -999.00, -999.00,9,-999.000,9, -999.00,9, -999.00,9,      11.54,2, 20210424,      732,  14.1414, -69.6992,    19.3998,2,     0.0408,1,     4.6747,1,     -999.0,1,     -999.0,1,     -999.0,9
325020210420,        A22,      11,          1,         29,         29,2,20210424,       0535,    14.1414,   -69.6991,       4649,   252.0,  17.2501,  36.3623,2,  36.3576,2,    160.0,2,   160.1,2,    2.63,2,    9.63,2,    0.00,2,    0.51,2,-999.000,9,-999.000,9,-999.0000,9,  -999.0,9, -999.00,9, -999.000,9,  -999.00,-999.00000,9,  -999.00, -999.00,9, -999.00,9, -999.00, -999.00,9,-999.000,9, -999.00,9, -999.00,9,     -999.0,9, 20210424,      729,  14.1414, -69.6991,    17.2482,2,     0.0407,1,     4.6778,1,     -999.0,1,     -999.0,1,     -999.0,9
325020210420,        A22,      11,          1,         28,         28,2,20210424,       0535,    14.1414,   -69.6991,       4649,   301.9,  14.1941,  35.7925,2,  35.7946,2,    132.2,2,   131.4,2,    6.53,2,   17.82,2,    0.00,2,    1.04,2,-999.000,9,-999.000,9,-999.0000,9,  -999.0,9, -999.00,9, -999.000,9,  -999.00,-999.00000,9,  -999.00, -999.00,9, -999.00,9, -999.00, -999.00,9,-999.000,9, -999.00,9, -999.00,9,     -999.0,9, 20210424,      727,  14.1414, -69.6992,    14.2391,2,     0.0417,1,     4.6770,1,     -999.0,1,     -999.0,1,     -999.0,9
325020210420,        A22,      11,          1,         27,         27,2,20210424,       0535,    14.1414,   -69.6991,       4649,   353.1,  12.0255,  35.4323,2,  35.4310,2,    124.2,2,   125.0,2,    9.56,2,   22.32,2,    0.00,2,    1.36,2,-999.000,9,-999.000,9,-999.0000,9,  2199.1,2, -999.00,9, -999.000,9,  -999.00,   7.68456,2,    25.02, -999.00,9, -999.00,9, -999.00, -999.00,9,-999.000,9, -999.00,9, -999.00,9,     -999.0,9, 20210424,      725,  14.1414, -69.6991,    12.0376,2,     0.0405,1,     4.6780,1,     -999.0,1,     -999.0,1,     -999.0,9
325020210420,        A22,      11,          1,         26,         26,2,20210424,       0535,    14.1414,   -69.6991,       4649,   403.3,  11.2692,  35.3069,2,  35.3072,2,    123.8,2,   123.9,2,   10.73,2,   23.80,2,    0.00,2,    1.45,2,-999.000,9,-999.000,9,-999.0000,9,  -999.0,9, -999.00,9, -999.000,9,  -999.00,-999.00000,9,  -999.00, -999.00,9, -999.00,9, -999.00, -999.00,9,-999.000,9, -999.00,9, -999.00,9,     -999.0,9, 20210424,      723,  14.1414, -69.6992,    11.2678,2,     0.0415,1,     4.6789,1,     -999.0,1,     -999.0,1,     -999.0,9
325020210420,        A22,      11,          1,         25,         25,2,20210424,       0535,    14.1414,   -69.6991,       4649,   454.4,  10.4976,  35.1800,2,  35.1786,2,    119.8,2,   119.9,2,   12.29,2,   25.67,2,    0.00,2,    1.59,2,-999.000,9,-999.000,9,-999.0000,9,  -999.0,9, -999.00,9, -999.000,9,  -999.00,-999.00000,9,  -999.00, -999.00,9, -999.00,9, -999.00, -999.00,9,-999.000,9, -999.00,9, -999.00,9,     -999.0,9, 20210424,      721,  14.1414, -69.6991,    10.5036,2,     0.0423,1,     4.6778,1,     -999.0,1,     -999.0,1,     -999.0,9
325020210420,        A22,      11,          1,         24,         24,2,20210424,       0535,    14.1414,   -69.6991,       4649,   503.7,   9.4341,  35.0318,2,  35.0285,2,    118.6,2,   118.8,2,   14.63,2,   27.93,2,    0.00,2,    1.75,2,   1.551,2,   0.857,2,   0.5200,2,  2212.1,2, 2306.89,2, -999.000,9,  -999.00,   7.60436,2,    25.02, -999.00,9, -999.00,9, -999.00, -999.00,9,-999.000,9, -999.00,9, -999.00,9,      26.69,2, 20210424,      717,  14.1414, -69.6991,     9.4347,2,     0.0424,1,     4.6788,1,     -999.0,1,     -999.0,1,     -999.0,9
325020210420,        A22,      11,          1,         23,         23,2,20210424,       0535,    14.1414,   -69.6991,       4649,   604.8,   7.9213,  34.8459,2,  34.8448,2,    120.3,2,   120.5,2,   18.64,2,   30.83,2,    0.00,2,    1.96,2,-999.000,9,-999.000,9,-999.0000,9,  -999.0,9, -999.00,9, -999.000,9,  -999.00,-999.00000,9,  -999.00, -999.00,9, -999.00,9, -999.00, -999.00,9,-999.000,9, -999.00,9, -999.00,9,     -999.0,9, 20210424,      715,  14.1414, -69.6991,     7.9206,2,     0.0430,1,     4.6789,1,     -999.0,1,     -999.0,1,     -999.0,9
325020210420,        A22,      11,          1,         22,         22,2,20210424,       0535,    14.1414,   -69.6991,       4649,   705.5,   7.1789,  34.7781,2,  34.7773,2,    123.1,2,   123.2,2,   20.98,2,   31.91,2,    0.00,2,    2.05,2,-999.000,9,-999.000,9,-999.0000,9,  -999.0,9, -999.00,9, -999.000,9,  -999.00,-999.00000,9,  -999.00, -999.00,9, -999.00,9, -999.00, -999.00,9,-999.000,9, -999.00,9, -999.00,9,     -999.0,9, 20210424,      712,  14.1414, -69.6991,     7.1787,2,     0.0430,1,     4.6798,1,     -999.0,1,     -999.0,1,     -999.0,9
325020210420,        A22,      11,          1,         21,         21,2,20210424,       0535,    14.1414,   -69.6991,       4649,   806.6,   6.5435,  34.7429,2,  34.7449,2,    128.4,2,   128.1,2,   22.93,2,   32.40,2,    0.00,2,    2.10,2,-999.000,9,-999.000,9,-999.0000,9,  -999.0,9, -999.00,9, -999.000,9,  -999.00,-999.00000,9,  -999.00, -999.00,9, -999.00,9, -999.00, -999.00,9,-999.000,9, -999.00,9, -999.00,9,     -999.0,9, 20210424,      709,  14.1414, -69.6992,     6.5435,2,     0.0434,1,     4.6797,1,     -999.0,1,     -999.0,1,     -999.0,9
325020210420,        A22,      11,          1,         20,         20,2,20210424,       0535,    14.1414,   -69.6991,       4649,   906.7,   6.1564,  34.7916,2,  34.7913,2,    138.8,2,   139.0,2,   23.81,2,   31.14,2,    0.00,2,    2.03,2,-999.000,9,-999.000,9,-999.0000,9,  -999.0,9, -999.00,9, -999.000,9,  -999.00,-999.00000,9,  -999.00, -999.00,9, -999.00,9, -999.00, -999.00,9,-999.000,9, -999.00,9, -999.00,9,     -999.0,9, 20210424,      705,  14.1414, -69.6991,     6.1641,2,     0.0429,1,     4.6812,1,     -999.0,1,     -999.0,1,     -999.0,9
325020210420,        A22,      11,          1,         19,         19,2,20210424,       0535,    14.1414,   -69.6991,       4649,  1008.4,   5.6045,  34.8546,2,  34.8544,2,    157.5,2,   157.9,2,   24.39,2,   28.65,2,    0.00,2,    1.90,2,   0.265,2,   0.144,2,   0.1200,2,  2212.0,2, -999.00,9, -999.000,9,  -999.00,   7.61089,6,    24.98, -999.00,9, -999.00,9, -999.00, -999.00,9,-999.000,9, -999.00,9, -999.00,9,      21.25,2, 20210424,      701,  14.1414, -69.6991,     5.6065,2,     0.0430,1,     4.6811,1,     -999.0,1,     -999.0,1,     -999.0,9
325020210420,        A22,      11,          1,         18,         18,2,20210424,       0535,    14.1414,   -69.6991,       4649,  1109.4,   5.1571,  34.9210,2,  34.9209,2,    177.5,2,   177.9,2,   24.59,2,   25.99,2,    0.00,2,    1.74,2,-999.000,9,-999.000,9,-999.0000,9,  -999.0,9, -999.00,9, -999.000,9,  -999.00,-999.00000,9,  -999.00, -999.00,9, -999.00,9, -999.00, -999.00,9,-999.000,9, -999.00,9, -999.00,9,     -999.0,9, 20210424,      659,  14.1414, -69.6992,     5.1587,2,     0.0430,1,     4.6829,1,     -999.0,1,     -999.0,1,     -999.0,9
325020210420,        A22,      11,          1,         17,         17,2,20210424,       0535,    14.1414,   -69.6991,       4649,  1210.6,   4.8757,  34.9496,2,  34.9494,2,    191.5,2,   191.5,2,   23.90,2,   24.47,2,    0.00,2,    1.63,2,-999.000,9,-999.000,9,-999.0000,9,  -999.0,9, -999.00,9, -999.000,9,  -999.00,-999.00000,9,  -999.00, -999.00,9, -999.00,9, -999.00, -999.00,9,-999.000,9, -999.00,9, -999.00,9,     -999.0,9, 20210424,      656,  14.1414, -69.6991,     4.8769,2,     0.0429,1,     4.6832,1,     -999.0,1,     -999.0,1,     -999.0,9
325020210420,        A22,      11,          1,         16,         16,2,20210424,       0535,    14.1414,   -69.6991,       4649,  1312.6,   4.6687,  34.9575,2,  34.9559,2,    197.4,2,   197.2,2,   24.49,2,   23.90,2,    0.00,2,    1.59,2,-999.000,9,-999.000,9,-999.0000,9,  -999.0,9, -999.00,9, -999.000,9,  -999.00,-999.00000,9,  -999.00, -999.00,9, -999.00,9, -999.00, -999.00,9,-999.000,9, -999.00,9, -999.00,9,     -999.0,9, 20210424,      653,  14.1414, -69.6991,     4.6681,2,     0.0427,1,     4.6824,1,     -999.0,1,     -999.0,1,     -999.0,9
325020210420,        A22,      11,          1,         15,         15,2,20210424,       0535,    14.1414,   -69.6991,       4649,  1412.7,   4.5068,  34.9651,2,  34.9644,2,    202.7,2,   203.0,2,   24.68,2,   23.31,2,    0.00,2,    1.55,2,-999.000,9,-999.000,9,-999.0000,9,  -999.0,9, -999.00,9, -999.000,9,  -999.00,-999.00000,9,  -999.00, -999.00,9, -999.00,9, -999.00, -999.00,9,-999.000,9, -999.00,9, -999.00,9,     -999.0,9, 20210424,      650,  14.1414, -69.6991,     4.5065,2,     0.0435,1,     4.6826,1,     -999.0,1,     -999.0,1,     -999.0,9
325020210420,        A22,      11,          1,         14,         14,2,20210424,       0535,    14.1414,   -69.6991,       4649,  1515.1,   4.4037,  34.9679,2,  34.9691,2,    205.4,2,   205.5,2,   25.56,2,   23.02,2,    0.00,2,    1.53,2,   0.124,2,   0.070,2,   0.1100,2,  2197.1,2, 2325.28,6, -999.000,9,  -999.00,   7.69058,2,    25.01, -999.00,9, -999.00,9, -999.00, -999.00,9,-999.000,9, -999.00,9, -999.00,9,      15.44,2, 20210424,      647,  14.1414, -69.6992,     4.4037,2,     0.0429,1,     4.6819,1,     -999.0,1,     -999.0,1,     -999.0,9
325020210420,        A22,      11,          1,         13,         13,2,20210424,       0535,    14.1414,   -69.6991,       4649,  1616.3,   4.3300,  34.9699,2,  34.9701,2,    207.5,2,   207.9,2,   26.15,2,   22.75,2,    0.00,2,    1.52,2,-999.000,9,-999.000,9,-999.0000,9,  -999.0,9, -999.00,9, -999.000,9,  -999.00,-999.00000,9,  -999.00, -999.00,9, -999.00,9, -999.00, -999.00,9,-999.000,9, -999.00,9, -999.00,9,     -999.0,9, 20210424,      645,  14.1414, -69.6991,     4.3300,2,     0.0429,1,     4.6818,1,     -999.0,1,     -999.0,1,     -999.0,9
325020210420,        A22,      11,          1,         12,         12,2,20210424,       0535,    14.1414,   -69.6991,       4649,  1819.2,   4.2158,  34.9729,2,  34.9724,2,    210.7,2,   210.9,2,   27.02,2,   22.43,2,    0.00,2,    1.49,2,-999.000,9,-999.000,9,-999.0000,9,  -999.0,9, -999.00,9, -999.000,9,  -999.00,-999.00000,9,  -999.00, -999.00,9, -999.00,9, -999.00, -999.00,9,-999.000,9, -999.00,9, -999.00,9,     -999.0,9, 20210424,      640,  14.1414, -69.6991,     4.2156,2,     0.0429,1,     4.6822,1,     -999.0,1,     -999.0,1,     -999.0,9
325020210420,        A22,      11,          1,         11,         11,2,20210424,       0535,    14.1414,   -69.6991,       4649,  2021.2,   4.1671,  34.9742,2,  34.9740,2,    212.8,2,   212.9,2,   27.41,2,   22.20,2,    0.00,2,    1.49,2,-999.000,9,-999.000,9,-999.0000,9,  -999.0,9, -999.00,9, -999.000,9,  -999.00,-999.00000,9,  -999.00, -999.00,9, -999.00,9, -999.00, -999.00,9,-999.000,9, -999.00,9, -999.00,9,     -999.0,9, 20210424,      635,  14.1414, -69.6991,     4.1672,2,     0.0435,1,     4.6823,1,     -999.0,1,     -999.0,1,     -999.0,9
325020210420,        A22,      11,          1,         10,         10,2,20210424,       0535,    14.1414,   -69.6991,       4649,  2275.9,   4.1410,  34.9747,2,  34.9746,2,    214.0,2,   214.2,2,   27.90,2,   22.11,2,    0.00,2,    1.47,2,   0.080,2,   0.052,2,   0.3100,2,  2200.0,2, -999.00,9, -999.000,9,  -999.00,   7.70439,2,    25.05, -999.00,9, -999.00,9, -999.00, -999.00,9,-999.000,9, -999.00,9, -999.00,9,      14.52,2, 20210424,      629,  14.1414, -69.6991,     4.1409,2,     0.0429,1,     4.6825,1,     -999.0,1,     -999.0,1,     -999.0,9
325020210420,        A22,      11,          1,          9,          9,2,20210424,       0535,    14.1414,   -69.6991,       4649,  2529.4,   4.1453,  34.9750,2,  34.9742,2,    214.5,2,   214.6,2,   28.00,2,   22.10,2,    0.00,2,    1.47,2,-999.000,9,-999.000,9,-999.0000,9,  -999.0,9, -999.00,9, -999.000,9,  -999.00,-999.00000,9,  -999.00, -999.00,9, -999.00,9, -999.00, -999.00,9,-999.000,9, -999.00,9, -999.00,9,     -999.0,9, 20210424,      624,  14.1414, -69.6991,     4.1453,2,     0.0429,1,     4.6833,1,     -999.0,1,     -999.0,1,     -999.0,9
325020210420,        A22,      11,          1,          8,          8,2,20210424,       0535,    14.1414,   -69.6991,       4649,  2784.3,   4.1611,  34.9752,2,  34.9748,2,    214.9,2,   215.1,2,   28.29,2,   22.10,2,    0.00,2,    1.47,2,-999.000,9,-999.000,9,-999.0000,9,  -999.0,9, -999.00,9, -999.000,9,  -999.00,-999.00000,9,  -999.00, -999.00,9, -999.00,9, -999.00, -999.00,9,-999.000,9, -999.00,9, -999.00,9,     -999.0,9, 20210424,      618,  14.1414, -69.6992,     4.1612,2,     0.0429,1,     4.6837,1,     -999.0,1,     -999.0,1,     -999.0,9
325020210420,        A22,      11,          1,          7,          7,2,20210424,       0535,    14.1414,   -69.6991,       4649,  3040.1,   4.1825,  34.9753,2,  34.9750,2,    214.7,2,   214.8,2,   28.59,2,   22.09,2,    0.00,2,    1.46,2,   0.068,2,   0.050,2,   0.2700,2,  2200.2,2, 2335.65,2, -999.000,9,  -999.00,   7.70707,2,    25.02, -999.00,9, -999.00,9, -999.00, -999.00,9,-999.000,9, -999.00,9, -999.00,9,      14.17,2, 20210424,      612,  14.1414, -69.6991,     4.1825,2,     0.0430,1,     4.6827,1,     -999.0,1,     -999.0,1,     -999.0,9
325020210420,        A22,      11,          1,          6,          6,2,20210424,       0535,    14.1414,   -69.6991,       4649,  3346.3,   4.2127,  34.9753,2,  34.9748,2,    214.9,2,   214.8,2,   28.68,2,   22.03,2,    0.00,2,    1.46,2,-999.000,9,-999.000,9,-999.0000,9,  -999.0,9, -999.00,9, -999.000,9,  -999.00,-999.00000,9,  -999.00, -999.00,9, -999.00,9, -999.00, -999.00,9,-999.000,9, -999.00,9, -999.00,9,     -999.0,9, 20210424,      606,  14.1414, -69.6991,     4.2128,2,     0.0429,1,     4.6825,1,     -999.0,1,     -999.0,1,     -999.0,9
325020210420,        A22,      11,          1,          5,          5,2,20210424,       0535,    14.1414,   -69.6991,       4649,  3652.6,   4.2462,  34.9754,2,  34.9750,2,    215.2,2,   215.3,2,   28.68,2,   22.01,2,    0.00,2,    1.46,2,-999.000,9,-999.000,9,-999.0000,9,  -999.0,9, -999.00,9, -999.000,9,  -999.00,-999.00000,9,  -999.00, -999.00,9, -999.00,9, -999.00, -999.00,9,-999.000,9, -999.00,9, -999.00,9,     -999.0,9, 20210424,      559,  14.1414, -69.6991,     4.2463,2,     0.0423,1,     4.6829,1,     -999.0,1,     -999.0,1,     -999.0,9
325020210420,        A22,      11,          1,          4,          4,2,20210424,       0535,    14.1414,   -69.6991,       4649,  3959.4,   4.2818,  34.9754,2,  34.9758,2,    215.3,2,   215.3,2,   28.68,2,   21.95,2,    0.00,2,    1.46,2,-999.000,9,-999.000,9,-999.0000,9,  -999.0,9, -999.00,9, -999.000,9,  -999.00,-999.00000,9,  -999.00, -999.00,9, -999.00,9, -999.00, -999.00,9,-999.000,9, -999.00,9, -999.00,9,     -999.0,9, 20210424,      552,  14.1414, -69.6992,     4.2818,2,     0.0436,1,     4.6821,1,     -999.0,1,     -999.0,1,     -999.0,9
325020210420,        A22,      11,          1,          3,          3,2,20210424,       0535,    14.1414,   -69.6991,       4649,  4267.2,   4.3196,  34.9757,2,  34.9764,2,    215.2,2,   215.3,2,   28.68,2,   21.97,2,    0.00,2,    1.46,2,   0.098,2,   0.065,2,   0.1600,2,  2203.9,2, -999.00,9, -999.000,9,  -999.00,    7.7094,6,    25.01, -999.00,9, -999.00,9, -999.00, -999.00,9,-999.000,9, -999.00,9, -999.00,9,      13.99,2, 20210424,      546,  14.1414, -69.6992,     4.3198,2,     0.0435,1,     4.6812,1,     -999.0,1,     -999.0,1,     -999.0,9