BOTTLE,20230513CCHSIOCBG
EXPOCODE,SECT_ID,STNNBR,CASTNO,SAMPNO,BTLNBR,BTLNBR_FLAG_W,DATE,TIME,LATITUDE,LONGITUDE,DEPTH,CTDPRS,CTDTMP,CTDSAL,CTDSAL_FLAG_W,SALNTY,SALNTY_FLAG_W,CTDOXY,CTDOXY_FLAG_W,OXYGEN,OXYGEN_FLAG_W,SILCAT,SILCAT_FLAG_W,NITRAT,NITRAT_FLAG_W,NITRIT,NITRIT_FLAG_W,PHSPHT,PHSPHT_FLAG_W,CFC-11,CFC-11_FLAG_W,CFC-12,CFC-12_FLAG_W,SF6,SF6_FLAG_W,TCARBN,TCARBN_FLAG_W,ALKALI,ALKALI_FLAG_W,FCO2,FCO2_FLAG_W,FCO2TMP,PH_TOT,PH_TOT_FLAG_W,PH_TMP,DELC13,DELC13_FLAG_W,DELC14,DELC14_FLAG_W,C14ERR,DELO18,DELO18_FLAG_W,POC,POC_FLAG_W,DOC,DOC_FLAG_W,TDN,TDN_FLAG_W,N2O,N2O_FLAG_W,BTL_DATE,BTL_TIME,BTL_LAT,BTL_LON,REFTMP,REFTMP_FLAG_W,CTDFLUOR,CTDFLUOR_FLAG_W,CTDXMISS,CTDXMISS_FLAG_W,D15N_NO2+NO3,D15N_NO2+NO3_FLAG_W,D18O_NO2+NO3,D18O_NO2+NO3_FLAG_W,HPLC,HPLC_FLAG_W
,,,,,,,,,,,METERS,DBAR,ITS-90,PSS-78,,PSS-78,,UMOL/KG,,UMOL/KG,,UMOL/KG,,UMOL/KG,,UMOL/KG,,UMOL/KG,,PMOL/KG,,PMOL/KG,,FMOL/KG,,UMOL/KG,,UMOL/KG,,UATM,,DEG C,,,DEG C,/MILLE,,/MILLE,,/MILLE,/MILLE,,UG/KG,,UMOL/KG,,UMOL/KG,,NMOL/KG,,,,,,ITS-90,,VOLTS,,VOLTS,,/MILLE,,/MILLE,,,
325020210420,        A22,      84,          1,         36,         36,2,20210514,       0958,    39.2585,   -69.4916,       2633,     5.4,  17.7895,  35.9483,2,  35.9441,2,    255.0,2,   254.6,2,    0.20,2,    0.02,2,    0.00,2,    0.00,2,-999.000,9,-999.000,9,-999.0000,9,  2065.5,6, 2368.06,6, -999.000,9,  -999.00,    8.0447,2,    25.03, -999.00,9, -999.00,9, -999.00, -999.00,1,-999.000,9,   64.30,2,    4.15,2,     -999.0,9, 20210514,     1130,  39.2585, -69.4916,    17.7897,2,     0.1708,1,     4.2269,1,     -999.0,9,     -999.0,9,     -999.0,9
325020210420,        A22,      84,          1,         35,         35,2,20210514,       0958,    39.2585,   -69.4916,       2633,    35.2,  17.7009,  35.9491,2,  35.9481,2,    241.1,2,   241.2,2,    0.00,2,    0.00,2,    0.01,2,    0.00,2,   2.142,2,   1.312,2,   2.0500,2,  2078.3,2, 2369.23,2, -999.000,9,  -999.00,   8.02086,6,    25.02, -999.00,9, -999.00,9, -999.00, -999.00,9,-999.000,9,   63.30,2,    4.19,2,       7.98,2, 20210514,     1128,  39.2585, -69.4916,    17.7033,2,     0.3329,1,     4.2108,1,     -999.0,9,     -999.0,9,     -999.0,9
325020210420,        A22,      84,          1,         34,         34,2,20210514,       0958,    39.2585,   -69.4916,       2633,    60.5,  16.5600,  35.9453,2,  35.9493,2,    181.9,2,   181.1,2,    2.93,2,    7.25,2,    0.34,2,    0.43,2,-999.000,9,-999.000,9,-999.0000,9,  2139.7,2, 2359.37,2, -999.000,9,  -999.00,   7.89418,6,    25.02, -999.00,9, -999.00,9, -999.00, -999.00,9,-999.000,9,   53.70,2,   10.96,2,     -999.0,9, 20210514,     1126,  39.2585, -69.4916,    16.5576,2,     0.1773,1,     4.4797,1,     -999.0,9,     -999.0,9,     -999.0,9
325020210420,        A22,      84,          1,         33,         33,2,20210514,       0958,    39.2585,   -69.4916,       2633,    85.7,  15.6209,  36.0037,2,  35.9924,2,    145.7,3,   148.6,2,    5.56,2,   13.30,2,    0.06,2,    0.75,2,-999.000,9,-999.000,9,-999.0000,9,  2172.6,2, 2360.12,2, -999.000,9,  -999.00,   7.82248,2,    25.03, -999.00,9, -999.00,9, -999.00, -999.00,1,-999.000,9,   49.50,2,   16.00,2,     -999.0,9, 20210514,     1124,  39.2585, -69.4916,    15.6215,2,     0.0646,1,     4.5992,1,     -999.0,9,     -999.0,9,     -999.0,9
325020210420,        A22,      84,          1,         32,         32,2,20210514,       0958,    39.2585,   -69.4916,       2633,   111.0,  14.4969,  35.8702,2,  35.8672,2,    154.7,2,   155.6,2,    6.14,2,   14.48,2,    0.02,2,    0.84,2,   2.075,2,   1.232,2,   1.3000,2,  2171.2,2, 2352.34,2, -999.000,9,  -999.00,   7.80509,2,    25.03, -999.00,9, -999.00,9, -999.00, -999.00,9,-999.000,9,   49.20,2,   17.84,3,      15.18,2, 20210514,     1123,  39.2585, -69.4916,    14.4929,2,     0.0675,1,     4.6132,1,     -999.0,9,     -999.0,9,     -999.0,9
325020210420,        A22,      84,          1,         31,         31,2,20210514,       0958,    39.2585,   -69.4916,       2633,   135.9,  13.5717,  35.7216,2,  35.7177,2,    188.8,2,   190.0,2,    5.56,2,   12.42,2,    0.01,2,    0.74,2,-999.000,9,-999.000,9,-999.0000,9,  2157.7,2, 2345.57,2, -999.000,9,  -999.00,   7.82813,2,    25.03, -999.00,9, -999.00,9, -999.00, -999.00,9,-999.000,9,   50.10,2,   15.23,3,     -999.0,9, 20210514,     1121,  39.2585, -69.4916,    13.5708,2,     0.0561,1,     4.6347,1,     -999.0,9,     -999.0,9,     -999.0,9
325020210420,        A22,      84,          1,         30,         30,2,20210514,       0958,    39.2585,   -69.4916,       2633,   161.4,  13.1262,  35.6726,2,  35.6721,2,    173.6,2,   172.2,2,    7.12,2,   15.06,2,    0.01,2,    0.90,2,   2.079,2,   1.236,2,   1.4100,2,  2170.0,2, 2341.82,2, -999.000,9,  -999.00,   7.79402,2,    25.03, -999.00,9, -999.00,9, -999.00, -999.00,9,-999.000,9,   47.50,2,   17.55,2,      14.53,2, 20210514,     1119,  39.2585, -69.4916,    13.1120,2,     0.0463,1,     4.6432,1,     -999.0,9,     -999.0,9,     -999.0,9
325020210420,        A22,      84,          1,         29,         29,2,20210514,       0958,    39.2585,   -69.4916,       2633,   186.3,  11.9132,  35.5266,2,  35.5221,2,    142.3,2,   141.8,2,   10.14,2,   20.23,2,    0.00,2,    1.22,2,-999.000,9,-999.000,9,-999.0000,9,  2189.6,2,  2332.5,2, -999.000,9,  -999.00,   7.72338,2,    25.04, -999.00,9, -999.00,9, -999.00, -999.00,9,-999.000,9,   43.80,2,   22.84,2,     -999.0,9, 20210514,     1117,  39.2585, -69.4916,    11.9143,2,     0.0419,1,     4.6542,1,     -999.0,9,     -999.0,9,     -999.0,9
325020210420,        A22,      84,          1,         28,         28,2,20210514,       0958,    39.2585,   -69.4916,       2633,   211.8,  11.1306,  35.4275,2,  35.4247,2,    143.9,2,   144.5,2,   10.93,2,   21.13,2,    0.00,2,    1.29,2,   1.755,2,   0.993,2,   0.8500,2,  2190.2,2, 2330.55,2, -999.000,9,  -999.00,   7.70789,2,    25.01, -999.00,9, -999.00,9, -999.00, -999.00,9,-999.000,9,   44.30,2,   23.84,2,      18.48,2, 20210514,     1116,  39.2585, -69.4916,    11.1302,2,     0.0420,1,     4.6535,1,     -999.0,9,     -999.0,9,     -999.0,9
325020210420,        A22,      84,          1,         27,         27,2,20210514,       0958,    39.2585,   -69.4916,       2633,   236.9,  10.6019,  35.3673,2,  35.3656,2,    140.2,2,   139.9,2,   12.10,2,   22.45,2,    0.00,2,    1.39,2,-999.000,9,-999.000,9,-999.0000,9,  2197.0,2, 2326.21,2, -999.000,9,  -999.00,   7.68948,2,    25.03, -999.00,9, -999.00,9, -999.00, -999.00,9,-999.000,9,   42.80,2,   24.97,2,     -999.0,9, 20210514,     1114,  39.2585, -69.4916,    10.6023,2,     0.0428,1,     4.6557,1,     -999.0,9,     -999.0,9,     -999.0,9
325020210420,        A22,      84,          1,         26,         26,2,20210514,       0958,    39.2585,   -69.4916,       2633,   267.2,   9.6324,  35.2407,2,  35.2398,2,    135.0,2,   134.9,2,   14.54,2,   24.80,2,    0.00,2,    1.55,2,   1.331,2,   0.746,2,   0.5200,2,  2203.6,2, 2321.21,2, -999.000,9,  -999.00,   7.66017,2,    25.04, -999.00,9, -999.00,9, -999.00, -999.00,9,-999.000,9,   42.70,2, -999.00,1,      20.26,2, 20210514,     1112,  39.2585, -69.4916,     9.6337,2,     0.0432,1,     4.6557,1,     -999.0,9,     -999.0,9,     -999.0,9
325020210420,        A22,      84,          1,         25,         25,2,20210514,       0958,    39.2585,   -69.4916,       2633,   317.2,   8.7945,  35.1700,2,  35.1670,2,    142.0,2,   141.5,2,   15.32,2,   25.23,2,    0.00,2,    1.59,2,-999.000,9,-999.000,9,-999.0000,9,  2203.4,2, 2320.51,2, -999.000,9,  -999.00,   7.65001,2,    25.02, -999.00,9, -999.00,9, -999.00, -999.00,9,-999.000,9,   42.70,2, -999.00,1,     -999.0,9, 20210514,     1110,  39.2585, -69.4916,     8.7995,2,     0.0425,1,     4.6550,1,     -999.0,9,     -999.0,9,     -999.0,9
325020210420,        A22,      84,          1,         24,         24,2,20210514,       0958,    39.2585,   -69.4916,       2633,   367.8,   8.0966,  35.1544,2,  35.1536,2,    159.6,2,   160.0,2,   14.54,2,   23.75,2,    0.00,2,    1.50,2,   1.520,2,   0.827,2,   0.5800,2,  2199.6,6, 2314.87,2, -999.000,9,  -999.00,   7.66172,2,    25.03, -999.00,9, -999.00,9, -999.00, -999.00,9,-999.000,9,   42.60,2, -999.00,1,      18.40,2, 20210514,     1108,  39.2585, -69.4916,     8.0950,2,     0.0431,1,     4.6574,1,     -999.0,9,     -999.0,9,     -999.0,9
325020210420,        A22,      84,          1,         23,         23,2,20210514,       0958,    39.2585,   -69.4916,       2633,   418.5,   7.2068,  35.1284,2,  35.1246,2,    180.5,3,   182.5,2,   13.95,2,   22.14,2,    0.00,2,    1.42,2,-999.000,9,-999.000,9,-999.0000,9,  2192.9,2, 2316.73,2, -999.000,9,  -999.00,   7.67641,2,    25.03, -999.00,9, -999.00,9, -999.00, -999.00,9,-999.000,9,   42.30,2, -999.00,1,     -999.0,9, 20210514,     1106,  39.2585, -69.4916,     7.2160,2,     0.0418,1,     4.6621,1,     -999.0,9,     -999.0,9,     -999.0,9
325020210420,        A22,      84,          1,         22,         22,2,20210514,       0958,    39.2585,   -69.4916,       2633,   469.3,   6.4455,  35.0926,2,  35.0915,2,    197.3,2,   198.0,2,   13.46,2,   21.22,2,    0.00,2,    1.37,2,   1.976,2,   1.057,2,   0.7300,2,  2190.7,2, 2313.98,2, -999.000,9,  -999.00,   7.67687,6,    25.03, -999.00,9, -999.00,9, -999.00, -999.00,9,-999.000,9,   43.90,2, -999.00,1,      16.43,2, 20210514,     1104,  39.2585, -69.4916,     6.4460,2,     0.0424,1,     4.6556,1,     -999.0,9,     -999.0,9,     -999.0,9
325020210420,        A22,      84,          1,         21,         21,2,20210514,       0958,    39.2585,   -69.4916,       2633,   519.4,   5.8814,  35.0600,2,  35.0600,2,    211.5,2,   211.5,2,   12.98,2,   20.39,2,    0.00,2,    1.32,2,-999.000,9,-999.000,9,-999.0000,9,  2188.6,2, 2313.15,6, -999.000,9,  -999.00,   7.68009,2,    25.03, -999.00,9, -999.00,9, -999.00, -999.00,9,-999.000,9,   43.70,2, -999.00,1,     -999.0,9, 20210514,     1102,  39.2585, -69.4916,     5.8820,2,     0.0412,1,     4.6601,1,     -999.0,9,     -999.0,9,     -999.0,9
325020210420,        A22,      84,          1,         20,         20,2,20210514,       0958,    39.2585,   -69.4916,       2633,   569.7,   5.4456,  35.0454,2,  35.0447,2,    224.6,2,   224.6,2,   12.59,2,   19.58,2,    0.00,2,    1.27,2,-999.000,9,-999.000,9,-999.0000,9,  2184.3,2, 2311.12,2, -999.000,9,  -999.00,   7.68813,2,    25.04, -999.00,9, -999.00,9, -999.00, -999.00,9,-999.000,9,   43.30,2, -999.00,1,     -999.0,9, 20210514,     1100,  39.2585, -69.4916,     5.4459,2,     0.0423,1,     4.6618,1,     -999.0,9,     -999.0,9,     -999.0,9
325020210420,        A22,      84,          1,         19,         19,2,20210514,       0958,    39.2585,   -69.4916,       2633,   620.4,   5.1760,  35.0374,2,  35.0374,2,    232.7,2,   232.6,2,   12.29,2,   19.08,2,    0.00,2,    1.25,2,   2.513,2,   1.347,2,   0.9500,2,  2181.7,2,  2311.5,2, -999.000,9,  -999.00,   7.69431,2,    25.04, -999.00,9, -999.00,9, -999.00, -999.00,9,-999.000,9,   45.90,2, -999.00,1,      14.50,2, 20210514,     1058,  39.2585, -69.4916,     5.1780,2,     0.0423,1,     4.6599,1,     -999.0,9,     -999.0,9,     -999.0,9
325020210420,        A22,      84,          1,         18,         18,2,20210514,       0958,    39.2585,   -69.4916,       2633,   671.1,   4.9495,  35.0299,2,  35.0301,2,    240.0,2,   240.1,2,   12.00,2,   18.61,2,    0.00,2,    1.22,2,-999.000,9,-999.000,9,-999.0000,9,  2179.5,2, 2309.68,2, -999.000,9,  -999.00,   7.70025,2,    25.03, -999.00,9, -999.00,9, -999.00, -999.00,9,-999.000,9,   44.70,2, -999.00,1,     -999.0,9, 20210514,     1056,  39.2585, -69.4916,     4.9495,2,     0.0430,1,     4.6625,1,     -999.0,9,     -999.0,9,     -999.0,9
325020210420,        A22,      84,          1,         17,         17,2,20210514,       0958,    39.2585,   -69.4916,       2633,   721.6,   4.8421,  35.0217,2,  35.0216,2,    243.5,2,   243.7,2,   12.00,2,   18.40,2,    0.00,2,    1.21,2,   2.683,2,   1.443,2,   1.0100,2,  2178.6,2, 2309.08,2, -999.000,9,  -999.00,   7.70217,2,    25.04, -999.00,9, -999.00,9, -999.00, -999.00,9,-999.000,9,   43.60,2, -999.00,1,      14.06,2, 20210514,     1054,  39.2585, -69.4916,     4.8424,2,     0.0416,1,     4.6645,1,     -999.0,9,     -999.0,9,     -999.0,9
325020210420,        A22,      84,          1,         16,         16,2,20210514,       0958,    39.2585,   -69.4916,       2633,   771.9,   4.7463,  35.0157,2,  35.0155,2,    246.9,2,   246.3,2,   11.90,2,   18.26,2,    0.00,2,    1.20,2,-999.000,9,-999.000,9,-999.0000,9,  -999.0,9, -999.00,9, -999.000,9,  -999.00,-999.00000,9,  -999.00, -999.00,9, -999.00,9, -999.00, -999.00,9,-999.000,9,   45.50,2, -999.00,1,     -999.0,9, 20210514,     1052,  39.2585, -69.4916,     4.7477,2,     0.0418,1,     4.6643,1,     -999.0,9,     -999.0,9,     -999.0,9
325020210420,        A22,      84,          1,         15,         15,2,20210514,       0958,    39.2585,   -69.4916,       2633,   823.1,   4.6270,  35.0095,2,  35.0091,2,    249.7,2,   250.0,2,   11.90,2,   18.09,2,    0.00,2,    1.19,2,   2.767,2,   1.487,2,   1.0500,2,  2176.7,2, 2308.83,2, -999.000,9,  -999.00,   7.70574,2,    25.04, -999.00,9, -999.00,9, -999.00, -999.00,9,-999.000,9,   44.60,2, -999.00,1,      13.71,2, 20210514,     1050,  39.2585, -69.4916,     4.6271,2,     0.0408,1,     4.6648,1,     -999.0,9,     -999.0,9,     -999.0,9
325020210420,        A22,      84,          1,         14,         14,2,20210514,       0958,    39.2585,   -69.4916,       2633,   873.5,   4.5160,  35.0008,2,  35.0006,2,    252.5,2,   252.5,2,   11.71,2,   17.98,2,    0.00,2,    1.18,2,-999.000,9,-999.000,9,-999.0000,9,  -999.0,9, -999.00,9, -999.000,9,  -999.00,-999.00000,9,  -999.00, -999.00,9, -999.00,9, -999.00, -999.00,9,-999.000,9,   44.70,2, -999.00,1,     -999.0,9, 20210514,     1048,  39.2585, -69.4916,     4.5159,2,     0.0416,1,     4.6649,1,     -999.0,9,     -999.0,9,     -999.0,9
325020210420,        A22,      84,          1,         13,         13,2,20210514,       0958,    39.2585,   -69.4916,       2633,   923.7,   4.4086,  34.9929,2,  34.9937,2,    255.1,2,   255.1,2,   11.61,2,   17.89,2,    0.00,2,    1.18,2,   2.866,2,   1.531,2,   1.0800,2,  2173.7,2, 2307.79,2, -999.000,9,  -999.00,   7.70723,2,    25.04, -999.00,9, -999.00,9, -999.00, -999.00,9,-999.000,9,   45.40,2, -999.00,1,      13.41,2, 20210514,     1046,  39.2585, -69.4916,     4.4072,2,     0.0422,1,     4.6651,1,     -999.0,9,     -999.0,9,     -999.0,9
325020210420,        A22,      84,          1,         12,         12,2,20210514,       0958,    39.2585,   -69.4916,       2633,   994.8,   4.3070,  34.9846,2,  34.9854,2,    257.8,2,   257.8,2,   11.61,2,   17.77,2,    0.00,2,    1.17,2,-999.000,9,-999.000,9,-999.0000,9,  -999.0,9, -999.00,9, -999.000,9,  -999.00,-999.00000,9,  -999.00, -999.00,9, -999.00,9, -999.00, -999.00,9,-999.000,9,   44.10,2, -999.00,1,     -999.0,9, 20210514,     1043,  39.2585, -69.4916,     4.3067,2,     0.0428,1,     4.6649,1,     -999.0,9,     -999.0,9,     -999.0,9
325020210420,        A22,      84,          1,         11,         11,2,20210514,       0958,    39.2585,   -69.4916,       2633,  1071.0,   4.1761,  34.9751,2,  34.9742,2,    260.4,2,   260.6,2,   11.81,2,   17.68,2,    0.00,2,    1.17,2,   2.887,2,   1.547,2,   1.0600,2,  2173.4,2, 2308.94,2, -999.000,9,  -999.00,   7.70977,2,    25.04, -999.00,9, -999.00,9, -999.00, -999.00,9,-999.000,9,   44.20,2, -999.00,1,      13.29,2, 20210514,     1041,  39.2585, -69.4916,     4.1760,2,     0.0418,1,     4.6648,1,     -999.0,9,     -999.0,9,     -999.0,9
325020210420,        A22,      84,          1,         10,         10,2,20210514,       0958,    39.2585,   -69.4916,       2633,  1146.8,   4.1313,  34.9765,2,  34.9758,2,    260.0,2,   260.2,2,   12.10,2,   17.72,2,    0.00,2,    1.17,2,-999.000,9,-999.000,9,-999.0000,9,  -999.0,9, -999.00,9, -999.000,9,  -999.00,-999.00000,9,  -999.00, -999.00,9, -999.00,9, -999.00, -999.00,9,-999.000,9,   44.30,2, -999.00,1,     -999.0,9, 20210514,     1038,  39.2585, -69.4916,     4.1314,2,     0.0424,1,     4.6647,1,     -999.0,9,     -999.0,9,     -999.0,9
325020210420,        A22,      84,          1,          9,          9,2,20210514,       0958,    39.2585,   -69.4916,       2633,  1222.6,   4.0610,  34.9721,2,  34.9713,2,    261.2,2,   261.4,2,   12.30,2,   17.74,2,    0.00,2,    1.17,2,   2.699,2,   1.437,2,   0.8900,2,  2171.2,2, 2305.17,2, -999.000,9,  -999.00,   7.71284,6,    25.03, -999.00,9, -999.00,9, -999.00, -999.00,9,-999.000,9,   45.10,2, -999.00,1,      13.20,2, 20210514,     1036,  39.2585, -69.4916,     4.0609,2,     0.0427,1,     4.6637,1,     -999.0,9,     -999.0,9,     -999.0,9
325020210420,        A22,      84,          1,          8,          8,2,20210514,       0958,    39.2585,   -69.4916,       2633,  1314.2,   3.9357,  34.9667,2,  34.9652,2,    263.2,2,   263.5,2,   12.39,2,   17.60,2,    0.00,2,    1.16,2,-999.000,9,-999.000,9,-999.0000,9,  -999.0,9, -999.00,9, -999.000,9,  -999.00,-999.00000,9,  -999.00, -999.00,9, -999.00,9, -999.00, -999.00,9,-999.000,9,   45.50,2, -999.00,1,     -999.0,9, 20210514,     1033,  39.2585, -69.4916,     3.9364,2,     0.0424,1,     4.6654,1,     -999.0,9,     -999.0,9,     -999.0,9
325020210420,        A22,      84,          1,          7,          7,2,20210514,       0958,    39.2585,   -69.4916,       2633,  1415.6,   3.8367,  34.9640,2,  34.9628,2,    263.5,2,   263.9,2,   12.88,2,   17.62,2,    0.00,2,    1.16,2,   2.511,2,   1.302,2,   0.7600,2,  2169.1,2,  2305.6,2, -999.000,9,  -999.00,   7.71736,2,    25.03, -999.00,9, -999.00,9, -999.00, -999.00,9,-999.000,9,   44.20,2, -999.00,1,      13.05,2, 20210514,     1029,  39.2585, -69.4916,     3.8366,2,     0.0419,1,     4.6643,1,     -999.0,9,     -999.0,9,     -999.0,9
325020210420,        A22,      84,          1,          6,          6,2,20210514,       0958,    39.2585,   -69.4916,       2633,  1517.2,   3.7444,  34.9623,2,  34.9624,2,    263.5,2,   263.8,2,   13.47,2,   17.66,2,    0.00,2,    1.17,2,-999.000,9,-999.000,9,-999.0000,9,  -999.0,9, -999.00,9, -999.000,9,  -999.00,-999.00000,9,  -999.00, -999.00,9, -999.00,9, -999.00, -999.00,9,-999.000,9,   43.70,2, -999.00,1,     -999.0,9, 20210514,     1025,  39.2585, -69.4916,     3.7445,2,     0.0417,1,     4.6662,1,     -999.0,9,     -999.0,9,     -999.0,9
325020210420,        A22,      84,          1,          5,          5,2,20210514,       0958,    39.2585,   -69.4916,       2633,  1618.2,   3.6928,  34.9623,2,  34.9614,2,    263.4,2,   263.6,2,   13.86,2,   17.78,2,    0.00,2,    1.17,2,   2.156,2,   1.099,2,   0.5100,2,  2168.1,2, 2311.61,2, -999.000,9,  -999.00,   7.72241,2,    25.04, -999.00,9, -999.00,9, -999.00, -999.00,9,-999.000,9,   44.90,2, -999.00,1,      12.95,2, 20210514,     1022,  39.2585, -69.4916,     3.6930,2,     0.0428,1,     4.6670,1,     -999.0,9,     -999.0,9,     -999.0,9
325020210420,        A22,      84,          1,          4,          4,2,20210514,       0958,    39.2585,   -69.4916,       2633,  1720.2,   3.6035,  34.9591,2,  34.9579,2,    263.9,2,   263.7,2,   14.44,2,   17.73,2,    0.00,2,    1.17,2,-999.000,9,-999.000,9,-999.0000,9,  -999.0,9, -999.00,9, -999.000,9,  -999.00,-999.00000,9,  -999.00, -999.00,9, -999.00,9, -999.00, -999.00,9,-999.000,9,   45.50,2, -999.00,1,     -999.0,9, 20210514,     1019,  39.2585, -69.4916,     3.6036,2,     0.0422,1,     4.6670,1,     -999.0,9,     -999.0,9,     -999.0,9
325020210420,        A22,      84,          1,          3,          3,2,20210514,       0958,    39.2585,   -69.4916,       2633,  2025.1,   3.3395,  34.9498,2,  34.9482,2,    264.8,2,   265.1,2,   16.30,2,   17.76,2,    0.00,2,    1.18,2,   1.712,2,   0.868,2,   0.3900,2,  2168.8,2, 2311.69,2, -999.000,9,  -999.00,   7.72898,6,    25.03, -999.00,9, -999.00,9, -999.00, -999.00,9,-999.000,9,   43.50,2, -999.00,1,      12.25,2, 20210514,     1012,  39.2585, -69.4916,     3.3393,2,     0.0417,1,     4.6684,1,     -999.0,9,     -999.0,9,     -999.0,9