BOTTLE,20230513CCHSIOCBG
EXPOCODE,SECT_ID,STNNBR,CASTNO,SAMPNO,BTLNBR,BTLNBR_FLAG_W,DATE,TIME,LATITUDE,LONGITUDE,DEPTH,CTDPRS,CTDTMP,CTDSAL,CTDSAL_FLAG_W,SALNTY,SALNTY_FLAG_W,CTDOXY,CTDOXY_FLAG_W,OXYGEN,OXYGEN_FLAG_W,SILCAT,SILCAT_FLAG_W,NITRAT,NITRAT_FLAG_W,NITRIT,NITRIT_FLAG_W,PHSPHT,PHSPHT_FLAG_W,CFC-11,CFC-11_FLAG_W,CFC-12,CFC-12_FLAG_W,SF6,SF6_FLAG_W,TCARBN,TCARBN_FLAG_W,ALKALI,ALKALI_FLAG_W,FCO2,FCO2_FLAG_W,FCO2TMP,PH_TOT,PH_TOT_FLAG_W,PH_TMP,DELC13,DELC13_FLAG_W,DELC14,DELC14_FLAG_W,C14ERR,DELO18,DELO18_FLAG_W,POC,POC_FLAG_W,DOC,DOC_FLAG_W,TDN,TDN_FLAG_W,N2O,N2O_FLAG_W,BTL_DATE,BTL_TIME,BTL_LAT,BTL_LON,REFTMP,REFTMP_FLAG_W,CTDFLUOR,CTDFLUOR_FLAG_W,CTDXMISS,CTDXMISS_FLAG_W,D15N_NO2+NO3,D15N_NO2+NO3_FLAG_W,D18O_NO2+NO3,D18O_NO2+NO3_FLAG_W,HPLC,HPLC_FLAG_W
,,,,,,,,,,,METERS,DBAR,ITS-90,PSS-78,,PSS-78,,UMOL/KG,,UMOL/KG,,UMOL/KG,,UMOL/KG,,UMOL/KG,,UMOL/KG,,PMOL/KG,,PMOL/KG,,FMOL/KG,,UMOL/KG,,UMOL/KG,,UATM,,DEG C,,,DEG C,/MILLE,,/MILLE,,/MILLE,/MILLE,,UG/KG,,UMOL/KG,,UMOL/KG,,NMOL/KG,,,,,,ITS-90,,VOLTS,,VOLTS,,/MILLE,,/MILLE,,,
325020210420,        A22,      62,          1,         36,         36,2,20210507,       1054,    30.8128,   -65.3236,       4803,     5.3,  23.4288,  36.9901,2,  36.9890,2,    214.4,2,   213.7,2,    0.68,2,    0.00,2,    0.00,2,    0.00,2,   1.719,2,   1.082,2,   1.7300,2,  2094.5,6, 2414.64,2,  327.730,2,    20.00,    8.0595,2,    25.04, -999.00,9, -999.00,9, -999.00, -999.00,1,-999.000,9,   69.00,2,    4.12,2,       6.45,2, 20210507,     1313,  30.8128, -65.3236,    23.4249,2,     0.0402,1,     4.6192,1,     -999.0,9,     -999.0,9,     -999.0,9
325020210420,        A22,      62,          1,         35,         35,2,20210507,       1054,    30.8128,   -65.3236,       4803,    25.4,  23.3763,  36.9882,2,  36.9880,2,    214.5,2,   213.8,2,    0.68,2,    0.00,2,    0.00,2,    0.00,2,   1.715,2,   1.085,2,   1.7700,2,  2093.4,2, 2414.39,2,  328.250,2,    20.00,    8.0598,6,    25.00, -999.00,9, -999.00,9, -999.00, -999.00,9,-999.000,9,   69.10,2,    4.19,2,       6.40,2, 20210507,     1311,  30.8129, -65.3236,    23.3750,2,     0.0415,1,     4.6190,1,     -999.0,9,     -999.0,9,     -999.0,9
325020210420,        A22,      62,          1,         34,         34,2,20210507,       1054,    30.8128,   -65.3236,       4803,    50.8,  22.5494,  37.0150,2,  37.0144,2,    218.1,2,   217.5,2,    0.58,2,    0.00,2,    0.00,2,    0.00,2,-999.000,9,-999.000,9,-999.0000,9,  2093.6,2, 2416.48,6,  327.010,2,    20.00,   8.06135,2,    25.05, -999.00,9, -999.00,9, -999.00, -999.00,9,-999.000,9,   70.20,2,    4.13,2,     -999.0,9, 20210507,     1309,  30.8129, -65.3236,    22.5500,2,     0.0431,1,     4.6283,1,     -999.0,9,     -999.0,9,     -999.0,9
325020210420,        A22,      62,          1,         33,         33,2,20210507,       1054,    30.8128,   -65.3236,       4803,    75.7,  21.6935,  36.9016,2,  36.9010,2,    215.9,2,   215.5,2,    0.58,2,    0.00,2,    0.00,2,    0.00,2,   1.806,2,   1.136,2,   1.8200,2,  2099.0,2, 2415.27,2,  341.870,2,    20.00,   8.04759,6,    24.99, -999.00,9, -999.00,9, -999.00, -999.00,9,-999.000,9,   64.90,2,    3.41,2,       6.82,2, 20210507,     1308,  30.8129, -65.3236,    21.6971,2,     0.0474,1,     4.6261,1,     -999.0,9,     -999.0,9,     -999.0,9
325020210420,        A22,      62,          1,         32,         32,2,20210507,       1054,    30.8128,   -65.3236,       4803,   101.0,  20.2589,  36.7540,2,  36.7472,2,    226.0,2,   226.1,2,    0.78,2,    0.02,2,    0.00,2,    0.00,2,-999.000,9,-999.000,9,-999.0000,9,  2097.3,2, 2399.72,2,  354.410,2,    20.00,   8.02998,6,    25.03, -999.00,9, -999.00,9, -999.00, -999.00,9,-999.000,9,   61.80,2,    3.57,2,     -999.0,9, 20210507,     1306,  30.8129, -65.3236,    20.2640,2,     0.0937,1,     4.5600,1,     -999.0,9,     -999.0,9,     -999.0,9
325020210420,        A22,      62,          1,         31,         31,2,20210507,       1054,    30.8128,   -65.3236,       4803,   151.1,  19.5613,  36.7185,2,  36.7177,2,    217.8,2,   217.8,2,    0.88,2,    0.63,2,    0.20,2,    0.00,2,   1.960,2,   1.229,2,   1.9200,2,  2108.3,2, 2398.82,2,  374.740,2,    20.00,    8.0117,2,    24.98, -999.00,9, -999.00,9, -999.00, -999.00,1,-999.000,9,   57.30,2,    4.41,2,       7.46,2, 20210507,     1304,  30.8129, -65.3236,    19.5685,2,     0.0871,1,     4.6240,1,     -999.0,9,     -999.0,9,     -999.0,9
325020210420,        A22,      62,          1,         30,         30,2,20210507,       1054,    30.8128,   -65.3236,       4803,   202.4,  19.2523,  36.6895,2,  36.6889,2,    218.0,2,   218.1,2,    0.88,2,    1.34,2,    0.00,2,    0.00,2,   1.996,2,   1.239,2,   1.9700,2,  2109.9,2, 2397.38,2,  377.480,2,    20.00,   8.00591,2,    24.99, -999.00,9, -999.00,9, -999.00, -999.00,9,-999.000,9,   56.20,2,    4.78,2,       7.48,2, 20210507,     1301,  30.8129, -65.3236,    19.2507,2,     0.0439,1,     4.6563,1,     -999.0,9,     -999.0,9,     -999.0,9
325020210420,        A22,      62,          1,         29,         29,2,20210507,       1054,    30.8128,   -65.3236,       4803,   251.8,  19.1945,  36.6852,2,  36.6856,2,    216.5,2,   216.3,2,    0.88,2,    1.64,2,    0.00,2,    0.01,2,-999.000,9,-999.000,9,-999.0000,9,  2110.1,2, 2395.37,2,  380.620,2,    20.00,   8.00302,2,    24.97, -999.00,9, -999.00,9, -999.00, -999.00,9,-999.000,9,   54.60,2,    5.00,2,     -999.0,9, 20210507,     1300,  30.8129, -65.3236,    19.1936,2,     0.0403,1,     4.6570,1,     -999.0,9,     -999.0,9,     -999.0,9
325020210420,        A22,      62,          1,         28,         28,2,20210507,       1054,    30.8128,   -65.3236,       4803,   302.6,  19.0873,  36.6851,2,  36.6850,2,    214.8,2,   214.9,2,    0.88,2,    1.86,2,    0.00,2,    0.02,2,   1.993,2,   1.248,2,   1.9400,2,  2112.9,2, 2395.75,2,  384.780,2,    20.00,   7.99901,2,    24.97, -999.00,9, -999.00,9, -999.00, -999.00,9,-999.000,9,   53.70,2, -999.00,1,       7.57,2, 20210507,     1258,  30.8129, -65.3236,    19.0852,2,     0.0398,1,     4.6596,1,     -999.0,9,     -999.0,9,     -999.0,9
325020210420,        A22,      62,          1,         27,         27,2,20210507,       1054,    30.8128,   -65.3236,       4803,   352.1,  18.9666,  36.6736,2,  36.6725,2,    213.1,2,   212.9,2,    0.97,2,    2.21,2,    0.00,2,    0.03,2,   1.983,2,   1.249,2,   1.8600,2,  2115.1,2, 2395.69,2,  389.690,2,    20.00,   7.99633,2,    24.95, -999.00,9, -999.00,9, -999.00, -999.00,9,-999.000,9,   54.60,2, -999.00,1,       7.76,2, 20210507,     1256,  30.8129, -65.3236,    18.9676,2,     0.0393,1,     4.6605,1,     -999.0,9,     -999.0,9,     -999.0,9
325020210420,        A22,      62,          1,         26,         26,2,20210507,       1054,    30.8128,   -65.3236,       4803,   403.9,  18.6236,  36.6060,2,  36.6080,2,    203.8,2,   204.3,2,    1.36,2,    3.48,2,    0.00,2,    0.10,2,-999.000,9,-999.000,9,-999.0000,9,  2121.5,2, 2389.83,2,  410.260,2,    20.00,   7.97564,2,    24.96, -999.00,9, -999.00,9, -999.00, -999.00,9,-999.000,9,   51.20,2, -999.00,1,     -999.0,9, 20210507,     1253,  30.8129, -65.3236,    18.6205,2,     0.0392,1,     4.6618,1,     -999.0,9,     -999.0,9,     -999.0,9
325020210420,        A22,      62,          1,         25,         25,2,20210507,       1054,    30.8128,   -65.3236,       4803,   454.0,  17.9499,  36.4826,2,  36.4816,2,    189.3,2,   190.3,2,    1.85,2,    5.82,2,    0.00,2,    0.22,2,   2.119,2,   1.325,2,   1.6200,2,  2135.8,2, 2382.31,2,  450.290,2,    20.00,   7.94018,2,    24.97, -999.00,9, -999.00,9, -999.00, -999.00,9,-999.000,9,   47.90,2, -999.00,1,       9.20,2, 20210507,     1251,  30.8129, -65.3236,    17.9488,2,     0.0395,1,     4.6639,1,     -999.0,9,     -999.0,9,     -999.0,9
325020210420,        A22,      62,          1,         24,         24,2,20210507,       1054,    30.8128,   -65.3236,       4803,   504.5,  17.1369,  36.3389,2,  36.3394,2,    182.3,2,   182.9,2,    2.44,2,    7.79,2,    0.00,2,    0.35,2,-999.000,9,-999.000,9,-999.0000,9,  2145.1,2, 2376.11,2,  485.870,2,    20.00,   7.90922,6,    24.98, -999.00,9, -999.00,9, -999.00, -999.00,9,-999.000,9,   47.00,2, -999.00,1,     -999.0,9, 20210507,     1248,  30.8129, -65.3236,    17.1460,2,     0.0403,1,     4.6642,1,     -999.0,9,     -999.0,9,     -999.0,9
325020210420,        A22,      62,          1,         23,         23,2,20210507,       1054,    30.8128,   -65.3236,       4803,   605.4,  14.9542,  35.9788,2,  35.9738,2,    172.1,2,   171.8,2,    4.58,2,   12.36,2,    0.00,2,    0.65,2,   2.223,2,   1.331,2,   1.3100,2,  2160.4,2, 2356.06,2,  575.360,2,    20.00,   7.84215,2,    25.00, -999.00,9, -999.00,9, -999.00, -999.00,9,-999.000,9,   45.50,2, -999.00,1,      13.26,2, 20210507,     1245,  30.8129, -65.3236,    14.9588,2,     0.0408,1,     4.6689,1,     -999.0,9,     -999.0,9,     -999.0,9
325020210420,        A22,      62,          1,         22,         22,2,20210507,       1054,    30.8128,   -65.3236,       4803,   705.9,  12.6293,  35.6342,2,  35.6336,2,    158.3,2,   158.2,2,    7.71,2,   17.59,2,    0.00,2,    1.00,2,-999.000,9,-999.000,9,-999.0000,9,  2177.2,2, 2337.95,2,  689.000,6,    20.00,   7.76733,2,    25.00, -999.00,9, -999.00,9, -999.00, -999.00,9,-999.000,9,   47.50,2, -999.00,1,     -999.0,9, 20210507,     1240,  30.8129, -65.3236,    12.6297,2,     0.0414,1,     4.6720,1,     -999.0,9,     -999.0,9,     -999.0,9
325020210420,        A22,      62,          1,         21,         21,2,20210507,       1054,    30.8128,   -65.3236,       4803,   807.2,  10.2402,  35.3406,2,  35.3392,2,    149.5,2,   149.8,2,   11.80,2,   22.17,2,    0.00,2,    1.33,2,   1.648,2,   0.913,2,   0.6900,2,  2192.6,6, 2325.67,2,  811.130,2,    20.00,   7.69952,2,    25.05, -999.00,9, -999.00,9, -999.00, -999.00,9,-999.000,9,   42.40,2, -999.00,1,      19.21,2, 20210507,     1238,  30.8129, -65.3236,    10.2376,2,     0.0406,1,     4.6728,1,     -999.0,9,     -999.0,9,     -999.0,9
325020210420,        A22,      62,          1,         20,         20,2,20210507,       1054,    30.8128,   -65.3236,       4803,   907.8,   8.6576,  35.2108,2,  35.2125,2,    159.4,2,   159.2,2,   13.56,2,   23.08,2,    0.00,2,    1.41,2,   1.417,2,   0.781,2,   0.5200,2,  2195.0,2, 2319.68,2,  845.560,2,    20.00,   7.68087,2,    25.01, -999.00,9, -999.00,9, -999.00, -999.00,9,-999.000,9,   43.00,2, -999.00,1,      18.93,2, 20210507,     1235,  30.8129, -65.3236,     8.6616,2,     0.0413,1,     4.6740,1,     -999.0,9,     -999.0,9,     -999.0,9
325020210420,        A22,      62,          1,         19,         19,2,20210507,       1054,    30.8128,   -65.3236,       4803,  1009.0,   7.0888,  35.1321,2,  35.1321,2,    183.1,2,   182.7,2,   14.34,2,   22.44,2,    0.00,2,    1.40,2,   1.442,2,   0.770,2,   0.4800,2,  2192.1,2, 2319.13,2,  844.070,2,    20.00,   7.68153,6,    25.00, -999.00,9, -999.00,9, -999.00, -999.00,9,-999.000,9,   43.60,2, -999.00,1,      17.68,2, 20210507,     1231,  30.8129, -65.3236,     7.0943,2,     0.0418,1,     4.6755,1,     -999.0,9,     -999.0,9,     -999.0,9
325020210420,        A22,      62,          1,         18,         18,2,20210507,       1054,    30.8128,   -65.3236,       4803,  1110.5,   6.1208,  35.1056,2,  35.1049,2,    209.4,2,   209.0,2,   13.27,2,   20.25,2,    0.00,2,    1.30,2,-999.000,9,-999.000,9,-999.0000,9,  2184.5,2, 2313.86,6,  814.520,2,    20.00,    7.6947,2,    25.00, -999.00,9, -999.00,9, -999.00, -999.00,9,-999.000,9,   43.60,2, -999.00,1,     -999.0,9, 20210507,     1228,  30.8129, -65.3236,     6.1206,2,     0.0417,1,     4.6752,1,     -999.0,9,     -999.0,9,     -999.0,9
325020210420,        A22,      62,          1,         17,         17,2,20210507,       1054,    30.8128,   -65.3236,       4803,  1212.0,   5.5652,  35.0947,2,  35.0943,2,    225.8,2,   226.1,2,   12.59,2,   19.13,2,    0.00,2,    1.24,2,   2.042,2,   1.076,2,   0.5900,2,  2180.7,2, 2315.96,2,  793.000,2,    20.00,   7.70563,2,    25.01, -999.00,9, -999.00,9, -999.00, -999.00,9,-999.000,9,   44.20,2, -999.00,1,      14.47,2, 20210507,     1224,  30.8129, -65.3236,     5.5661,2,     0.0423,1,     4.6761,1,     -999.0,9,     -999.0,9,     -999.0,9
325020210420,        A22,      62,          1,         16,         16,2,20210507,       1054,    30.8128,   -65.3236,       4803,  1313.0,   5.1148,  35.0673,2,  35.0675,2,    238.1,2,   238.4,2,   12.39,2,   18.49,2,    0.00,2,    1.20,2,-999.000,9,-999.000,9,-999.0000,9,  2176.7,2, 2314.17,2,  782.500,2,    20.00,   7.71085,2,    24.99, -999.00,9, -999.00,9, -999.00, -999.00,9,-999.000,9,   43.20,2, -999.00,1,     -999.0,9, 20210507,     1222,  30.8129, -65.3236,     5.1141,2,     0.0417,1,     4.6752,1,     -999.0,9,     -999.0,9,     -999.0,9
325020210420,        A22,      62,          1,         15,         15,2,20210507,       1054,    30.8128,   -65.3236,       4803,  1414.1,   4.8102,  35.0477,2,  35.0484,2,    245.1,2,   245.0,2,   12.59,2,   18.17,2,    0.00,2,    1.18,2,   2.353,2,   1.223,2,   0.6900,2,  2173.1,2, 2312.38,2,  775.880,2,    20.00,   7.71438,2,    24.99, -999.00,9, -999.00,9, -999.00, -999.00,9,-999.000,9,   44.40,2, -999.00,1,      13.97,2, 20210507,     1219,  30.8129, -65.3236,     4.8111,2,     0.0428,1,     4.6752,1,     -999.0,9,     -999.0,9,     -999.0,9
325020210420,        A22,      62,          1,         14,         14,2,20210507,       1054,    30.8128,   -65.3236,       4803,  1515.4,   4.5281,  35.0262,2,  35.0262,2,    250.7,2,   250.9,2,   12.69,2,   18.00,2,    0.00,2,    1.17,2,   2.337,2,   1.219,2,   0.7200,2,  2170.0,2, 2307.63,2,  771.150,2,    20.00,   7.71653,2,    25.03, -999.00,9, -999.00,9, -999.00, -999.00,9,-999.000,9,   44.00,2, -999.00,1,      13.77,2, 20210507,     1215,  30.8129, -65.3236,     4.5296,2,     0.0426,1,     4.6755,1,     -999.0,9,     -999.0,9,     -999.0,9
325020210420,        A22,      62,          1,         13,         13,2,20210507,       1054,    30.8128,   -65.3236,       4803,  1617.6,   4.4018,  35.0271,2,  35.0285,2,    250.8,2,   251.9,2,   13.27,2,   18.14,2,    0.00,2,    1.17,2,   2.000,2,   1.016,2,   0.4900,2,  2170.3,2,  2312.1,2,  759.310,2,    20.00,   7.72093,2,    25.01, -999.00,9, -999.00,9, -999.00, -999.00,9,-999.000,9,   44.00,2, -999.00,1,      13.77,2, 20210507,     1212,  30.8129, -65.3236,     4.4014,2,     0.0419,1,     4.6764,1,     -999.0,9,     -999.0,9,     -999.0,9
325020210420,        A22,      62,          1,         12,         12,2,20210507,       1054,    30.8128,   -65.3236,       4803,  1821.2,   4.0777,  35.0176,2,  35.0175,2,    253.1,2,   253.3,2,   14.93,2,   18.23,2,    0.00,2,    1.19,2,-999.000,9,-999.000,9,-999.0000,9,  2168.5,2, 2313.32,2,  747.700,2,    20.00,   7.72977,2,    25.00, -999.00,9, -999.00,9, -999.00, -999.00,9,-999.000,9,   43.70,2, -999.00,1,     -999.0,9, 20210507,     1207,  30.8129, -65.3236,     4.0781,2,     0.0425,1,     4.6768,1,     -999.0,9,     -999.0,9,     -999.0,9
325020210420,        A22,      62,          1,         11,         11,2,20210507,       1054,    30.8128,   -65.3236,       4803,  2024.2,   3.7357,  34.9891,2,  34.9894,2,    257.2,2,   257.2,2,   16.39,2,   18.16,2,    0.00,2,    1.20,2,   1.372,6,   0.685,6,   0.2300,6,  2168.9,2, 2312.06,2,  742.350,2,    20.00,   7.73132,2,    24.98, -999.00,9, -999.00,9, -999.00, -999.00,9,-999.000,9,   42.80,2, -999.00,1,      13.34,6, 20210507,     1200,  30.8129, -65.3236,     3.7359,2,     0.0424,1,     4.6764,1,     -999.0,9,     -999.0,9,     -999.0,9
325020210420,        A22,      62,          1,         10,         10,2,20210507,       1054,    30.8128,   -65.3236,       4803,  2277.7,   3.4643,  34.9741,2,  34.9736,2,    257.8,2,   257.9,2,   18.93,2,   18.41,2,    0.00,2,    1.22,2,-999.000,9,-999.000,9,-999.0000,9,  2169.4,2, 2313.87,2,  736.440,2,    20.00,   7.73615,2,    25.01, -999.00,9, -999.00,9, -999.00, -999.00,9,-999.000,9,   43.00,2, -999.00,1,     -999.0,9, 20210507,     1154,  30.8129, -65.3236,     3.4636,2,     0.0421,1,     4.6763,1,     -999.0,9,     -999.0,9,     -999.0,9
325020210420,        A22,      62,          1,          9,          9,2,20210507,       1054,    30.8128,   -65.3236,       4803,  2531.5,   3.2184,  34.9599,2,  34.9608,2,    258.0,2,   258.1,2,   21.27,2,   18.64,2,    0.00,2,    1.24,2,   0.727,2,   0.368,2,   0.1600,2,  2170.1,2, 2318.63,2,  731.240,2,    20.00,   7.73673,2,    25.02, -999.00,9, -999.00,9, -999.00, -999.00,9,-999.000,9,   42.50,2, -999.00,1,      13.15,2, 20210507,     1149,  30.8129, -65.3236,     3.2183,2,     0.0429,1,     4.6765,1,     -999.0,9,     -999.0,9,     -999.0,9
325020210420,        A22,      62,          1,          8,          8,2,20210507,       1054,    30.8128,   -65.3236,       4803,  2788.6,   2.9628,  34.9409,2,  34.9408,2,    261.6,2,   262.0,2,   22.15,2,   18.44,2,    0.00,2,    1.22,2,-999.000,9,-999.000,9,-999.0000,9,  2172.0,2,  2315.9,2,  730.250,2,    20.00,   7.73822,2,    24.99, -999.00,9, -999.00,9, -999.00, -999.00,9,-999.000,9,   46.60,3, -999.00,1,     -999.0,9, 20210507,     1143,  30.8129, -65.3236,     2.9628,2,     0.0417,1,     4.6760,1,     -999.0,9,     -999.0,9,     -999.0,9
325020210420,        A22,      62,          1,          7,          7,2,20210507,       1054,    30.8128,   -65.3236,       4803,  3042.9,   2.7133,  34.9243,2,  34.9242,2,    265.2,2,   265.3,2,   22.93,2,   18.25,2,    0.00,2,    1.21,2,   0.883,2,   0.446,2,   0.1300,2,  2170.2,6, 2315.18,2,  730.570,2,    20.00,   7.73789,2,    25.00, -999.00,9, -999.00,9, -999.00, -999.00,9,-999.000,9,   43.60,2, -999.00,1,      13.10,2, 20210507,     1137,  30.8129, -65.3236,     2.7132,2,     0.0430,1,     4.6762,1,     -999.0,9,     -999.0,9,     -999.0,9
325020210420,        A22,      62,          1,          6,          6,2,20210507,       1054,    30.8128,   -65.3236,       4803,  3348.8,   2.4976,  34.9098,2,  34.9113,2,    267.5,2,   267.7,2,   24.30,2,   18.09,2,    0.00,2,    1.21,2,   1.062,2,   0.536,2,   0.2100,2,  2168.3,2, 2317.48,2,  736.810,2,    20.00,   7.73631,2,    25.01, -999.00,9, -999.00,9, -999.00, -999.00,9,-999.000,9,   44.70,2, -999.00,1,      12.80,2, 20210507,     1131,  30.8129, -65.3236,     2.4977,2,     0.0421,1,     4.6764,1,     -999.0,9,     -999.0,9,     -999.0,9
325020210420,        A22,      62,          1,          5,          5,2,20210507,       1054,    30.8128,   -65.3236,       4803,  3656.0,   2.3124,  34.8966,2,  34.8971,2,    267.0,2,   266.9,2,   27.91,2,   18.43,2,    0.00,2,    1.23,2,   1.049,2,   0.534,2,   0.2000,2,  2174.1,2, 2320.25,2,  741.570,2,    20.00,    7.7325,2,    25.03, -999.00,9, -999.00,9, -999.00, -999.00,9,-999.000,9,   43.20,2, -999.00,1,      13.02,2, 20210507,     1124,  30.8129, -65.3236,     2.3127,2,     0.0429,1,     4.6752,1,     -999.0,9,     -999.0,9,     -999.0,9
325020210420,        A22,      62,          1,          4,          4,2,20210507,       1054,    30.8128,   -65.3236,       4803,  3963.3,   2.2580,  34.8903,2,  34.8898,2,    265.5,2,   265.5,2,   30.64,2,   18.76,2,    0.00,2,    1.26,2,-999.000,9,-999.000,9,-999.0000,9,  2176.7,2,  2322.6,2, -999.000,9,  -999.00,   7.73218,2,    25.01, -999.00,9, -999.00,9, -999.00, -999.00,9,-999.000,9,   43.30,2, -999.00,1,     -999.0,9, 20210507,     1116,  30.8129, -65.3236,     2.2580,2,     0.0426,1,     4.6753,1,     -999.0,9,     -999.0,9,     -999.0,9
325020210420,        A22,      62,          1,          3,          3,2,20210507,       1054,    30.8128,   -65.3236,       4803,  4271.8,   2.2334,  34.8850,2,  34.8855,2,    263.5,2,   264.2,2,   33.77,2,   19.24,2,    0.00,2,    1.29,2,   0.909,2,   0.465,2,   0.1600,2,  2183.0,2, 2325.21,2,  750.780,2,    20.00,    7.7298,6,    25.00, -999.00,9, -999.00,9, -999.00, -999.00,9,-999.000,9,   43.10,2, -999.00,1,      13.37,2, 20210507,     1109,  30.8129, -65.3236,     2.2336,2,     0.0428,1,     4.6727,1,     -999.0,9,     -999.0,9,     -999.0,9