BOTTLE,20230513CCHSIOCBG
EXPOCODE,SECT_ID,STNNBR,CASTNO,SAMPNO,BTLNBR,BTLNBR_FLAG_W,DATE,TIME,LATITUDE,LONGITUDE,DEPTH,CTDPRS,CTDTMP,CTDSAL,CTDSAL_FLAG_W,SALNTY,SALNTY_FLAG_W,CTDOXY,CTDOXY_FLAG_W,OXYGEN,OXYGEN_FLAG_W,SILCAT,SILCAT_FLAG_W,NITRAT,NITRAT_FLAG_W,NITRIT,NITRIT_FLAG_W,PHSPHT,PHSPHT_FLAG_W,CFC-11,CFC-11_FLAG_W,CFC-12,CFC-12_FLAG_W,SF6,SF6_FLAG_W,TCARBN,TCARBN_FLAG_W,ALKALI,ALKALI_FLAG_W,FCO2,FCO2_FLAG_W,FCO2TMP,PH_TOT,PH_TOT_FLAG_W,PH_TMP,DELC13,DELC13_FLAG_W,DELC14,DELC14_FLAG_W,C14ERR,DELO18,DELO18_FLAG_W,POC,POC_FLAG_W,DOC,DOC_FLAG_W,TDN,TDN_FLAG_W,N2O,N2O_FLAG_W,BTL_DATE,BTL_TIME,BTL_LAT,BTL_LON,REFTMP,REFTMP_FLAG_W,CTDFLUOR,CTDFLUOR_FLAG_W,CTDXMISS,CTDXMISS_FLAG_W,D15N_NO2+NO3,D15N_NO2+NO3_FLAG_W,D18O_NO2+NO3,D18O_NO2+NO3_FLAG_W,HPLC,HPLC_FLAG_W
,,,,,,,,,,,METERS,DBAR,ITS-90,PSS-78,,PSS-78,,UMOL/KG,,UMOL/KG,,UMOL/KG,,UMOL/KG,,UMOL/KG,,UMOL/KG,,PMOL/KG,,PMOL/KG,,FMOL/KG,,UMOL/KG,,UMOL/KG,,UATM,,DEG C,,,DEG C,/MILLE,,/MILLE,,/MILLE,/MILLE,,UG/KG,,UMOL/KG,,UMOL/KG,,NMOL/KG,,,,,,ITS-90,,VOLTS,,VOLTS,,/MILLE,,/MILLE,,,
325020210420,        A22,      35,          1,         33,         33,2,20210429,       1431,    18.9127,   -66.0021,       3004,     5.4,  26.9584,  36.1292,2,  36.1308,2,    203.0,2,   201.0,2,    1.66,2,    0.00,2,    0.00,2,    0.00,2,   1.473,2,   0.948,2,   1.5900,2,  2032.3,6, 2365.11,2, -999.000,9,  -999.00,    8.0929,2,    24.97, -999.00,9, -999.00,9, -999.00, -999.00,1,-999.000,9, -999.00,9, -999.00,9,       5.91,2, 20210429,     1611,  18.9127, -66.0021,    26.9564,2,     0.0402,1,     4.6293,1,     -999.0,9,     -999.0,9,     -999.0,9
325020210420,        A22,      35,          1,         32,         32,2,20210429,       1431,    18.9127,   -66.0021,       3004,    25.5,  26.6553,  36.3850,2,  36.3887,2,    204.2,2,   203.0,2,    1.46,2,    0.00,2,    0.00,2,    0.00,2,-999.000,9,-999.000,9,-999.0000,9,  -999.0,9, -999.00,9, -999.000,9,  -999.00,-999.00000,9,  -999.00, -999.00,9, -999.00,9, -999.00, -999.00,9,-999.000,9, -999.00,9, -999.00,9,     -999.0,9, 20210429,     1609,  18.9127, -66.0021,    26.6701,2,     0.0448,1,     4.6143,1,     -999.0,9,     -999.0,9,     -999.0,9
325020210420,        A22,      35,          1,         31,         31,2,20210429,       1431,    18.9127,   -66.0021,       3004,    50.0,  26.2501,  36.5530,2,  36.5400,2,    205.4,2,   205.0,2,    1.36,2,    0.00,2,    0.00,2,    0.00,2,-999.000,9,-999.000,9,-999.0000,9,  2047.4,2, 2393.43,2, -999.000,9,  -999.00,   8.10017,6,    24.98, -999.00,9, -999.00,9, -999.00, -999.00,9,-999.000,9, -999.00,9, -999.00,9,     -999.0,9, 20210429,     1608,  18.9127, -66.0021,    26.2511,2,     0.0477,1,     4.6220,1,     -999.0,9,     -999.0,9,     -999.0,9
325020210420,        A22,      35,          1,         30,         30,2,20210429,       1431,    18.9127,   -66.0021,       3004,    75.4,  25.9963,  36.7707,2,  36.7722,2,    202.8,2,   202.8,2,    1.17,2,    0.00,2,    0.00,2,    0.00,2,-999.000,9,-999.000,9,-999.0000,9,  -999.0,9, -999.00,9, -999.000,9,  -999.00,-999.00000,9,  -999.00, -999.00,9, -999.00,9, -999.00, -999.00,9,-999.000,9, -999.00,9, -999.00,9,     -999.0,9, 20210429,     1606,  18.9127, -66.0021,    25.9947,2,     0.0603,1,     4.6263,1,     -999.0,9,     -999.0,9,     -999.0,9
325020210420,        A22,      35,          1,         29,         29,2,20210429,       1431,    18.9127,   -66.0021,       3004,   100.2,  25.4581,  37.1375,2,  37.1121,3,    200.0,2,   201.5,2,    0.88,2,    0.00,2,    0.00,2,    0.00,2,   1.590,2,   1.027,2,   1.6600,2,  2088.9,2, 2428.14,6, -999.000,9,  -999.00,   8.07273,2,    25.04, -999.00,9, -999.00,9, -999.00, -999.00,9,-999.000,9, -999.00,9, -999.00,9,       6.27,2, 20210429,     1604,  18.9127, -66.0021,    25.4548,2,     0.0726,1,     4.6383,1,     -999.0,9,     -999.0,9,     -999.0,9
325020210420,        A22,      35,          1,         28,         28,2,20210429,       1431,    18.9127,   -66.0021,       3004,   125.8,  23.7386,  37.2438,2,  37.2401,2,    184.7,3,   186.9,2,    0.68,2,    0.19,2,    0.06,2,    0.00,2,-999.000,9,-999.000,9,-999.0000,9,  -999.0,9, -999.00,9, -999.000,9,  -999.00,-999.00000,9,  -999.00, -999.00,9, -999.00,9, -999.00, -999.00,9,-999.000,9, -999.00,9, -999.00,9,     -999.0,9, 20210429,     1601,  18.9127, -66.0021,    23.7383,2,     0.0826,1,     4.6416,1,     -999.0,9,     -999.0,9,     -999.0,9
325020210420,        A22,      35,          1,         27,         27,2,20210429,       1431,    18.9127,   -66.0021,       3004,   150.5,  22.1358,  37.0796,2,  37.0754,2,    182.0,2,   182.4,2,    0.68,2,    0.75,2,    0.02,2,    0.00,2,-999.000,9,-999.000,9,-999.0000,9,  2134.9,2, 2420.77,2, -999.000,9,  -999.00,   7.99541,2,    24.99, -999.00,9, -999.00,9, -999.00, -999.00,1,-999.000,9, -999.00,9, -999.00,9,     -999.0,9, 20210429,     1601,  18.9127, -66.0021,    22.0938,2,     0.0611,1,     4.6576,1,     -999.0,9,     -999.0,9,     -999.0,9
325020210420,        A22,      35,          1,         26,         26,2,20210429,       1431,    18.9127,   -66.0021,       3004,   201.0,  19.9173,  36.7917,2,  36.7937,2,    180.0,2,   180.9,2,    1.17,2,    2.55,2,    0.00,2,    0.04,2,-999.000,9,-999.000,9,-999.0000,9,  -999.0,9, -999.00,9, -999.000,9,  -999.00,-999.00000,9,  -999.00, -999.00,9, -999.00,9, -999.00, -999.00,9,-999.000,9, -999.00,9, -999.00,9,     -999.0,9, 20210429,     1559,  18.9127, -66.0021,    19.9209,2,     0.0428,1,     4.6702,1,     -999.0,9,     -999.0,9,     -999.0,9
325020210420,        A22,      35,          1,         25,         25,2,20210429,       1431,    18.9127,   -66.0021,       3004,   252.4,  18.6043,  36.5892,2,  36.5878,2,    193.3,2,   193.8,2,    1.46,2,    4.04,2,    0.00,2,    0.14,2,   2.092,2,   1.303,2,   1.7600,2,  2130.0,2, 2387.62,2, -999.000,9,  -999.00,   7.95941,2,    25.05, -999.00,9, -999.00,9, -999.00, -999.00,9,-999.000,9, -999.00,9, -999.00,9,       8.61,2, 20210429,     1556,  18.9127, -66.0021,    18.6066,2,     0.0399,1,     4.6744,1,     -999.0,9,     -999.0,9,     -999.0,9
325020210420,        A22,      35,          1,         24,         24,2,20210429,       1431,    18.9127,   -66.0021,       3004,   302.1,  17.6372,  36.4411,2,  36.4309,2,    183.2,2,   182.0,2,    2.14,2,    6.74,2,    0.00,2,    0.29,2,-999.000,9,-999.000,9,-999.0000,9,  -999.0,9, -999.00,9, -999.000,9,  -999.00,-999.00000,9,  -999.00, -999.00,9, -999.00,9, -999.00, -999.00,9,-999.000,9, -999.00,9, -999.00,9,     -999.0,9, 20210429,     1554,  18.9127, -66.0021,    17.6223,2,     0.0394,1,     4.6755,1,     -999.0,9,     -999.0,9,     -999.0,9
325020210420,        A22,      35,          1,         23,         23,2,20210429,       1431,    18.9127,   -66.0021,       3004,   353.3,  16.2882,  36.2261,2,  36.2204,2,    164.1,2,   163.6,2,    3.12,2,   10.67,2,    0.00,2,    0.55,2,-999.000,9,-999.000,9,-999.0000,9,  2161.1,2, 2369.34,2, -999.000,9,  -999.00,   7.86116,2,    25.02, -999.00,9, -999.00,9, -999.00, -999.00,9,-999.000,9, -999.00,9, -999.00,9,     -999.0,9, 20210429,     1551,  18.9127, -66.0021,    16.2855,2,     0.0402,1,     4.6764,1,     -999.0,9,     -999.0,9,     -999.0,9
325020210420,        A22,      35,          1,         22,         22,2,20210429,       1431,    18.9127,   -66.0021,       3004,   402.8,  15.1511,  36.0354,2,  36.0283,2,    149.5,2,   148.8,2,    4.68,2,   14.07,2,    0.00,2,    0.75,2,-999.000,9,-999.000,9,-999.0000,9,  -999.0,9, -999.00,9, -999.000,9,  -999.00,-999.00000,9,  -999.00, -999.00,9, -999.00,9, -999.00, -999.00,9,-999.000,9, -999.00,9, -999.00,9,     -999.0,9, 20210429,     1549,  18.9127, -66.0021,    15.1476,2,     0.0400,1,     4.6771,1,     -999.0,9,     -999.0,9,     -999.0,9
325020210420,        A22,      35,          1,         21,         21,2,20210429,       1431,    18.9127,   -66.0021,       3004,   453.3,  13.6909,  35.7710,2,  35.7709,2,    139.0,2,   138.4,2,    6.73,2,   17.67,2,    0.00,2,    0.99,2,   2.131,2,   1.237,2,   0.9500,2,  2184.8,2, 2345.33,2, -999.000,9,  -999.00,   7.75757,2,    24.93, -999.00,9, -999.00,9, -999.00, -999.00,9,-999.000,9, -999.00,9, -999.00,9,      19.40,2, 20210429,     1547,  18.9127, -66.0021,    13.7048,2,     0.0408,1,     4.6784,1,     -999.0,9,     -999.0,9,     -999.0,9
325020210420,        A22,      35,          1,         20,         20,2,20210429,       1431,    18.9127,   -66.0021,       3004,   503.8,  12.4671,  35.5641,2,  35.5535,3,    128.9,2,   128.5,2,    8.87,2,   21.07,2,    0.00,2,    1.21,2,-999.000,9,-999.000,9,-999.0000,9,  -999.0,9, -999.00,9, -999.000,9,  -999.00,-999.00000,9,  -999.00, -999.00,9, -999.00,9, -999.00, -999.00,9,-999.000,9, -999.00,9, -999.00,9,     -999.0,9, 20210429,     1544,  18.9127, -66.0021,    12.4630,2,     0.0417,1,     4.6789,1,     -999.0,9,     -999.0,9,     -999.0,9
325020210420,        A22,      35,          1,         19,         19,2,20210429,       1431,    18.9127,   -66.0021,       3004,   605.2,  10.3106,  35.2436,2,  35.2410,2,    123.7,2,   123.7,2,   12.87,2,   25.59,2,    0.00,2,    1.52,2,-999.000,9,-999.000,9,-999.0000,9,  2206.7,2, 2317.63,2, -999.000,9,  -999.00,    7.6482,2,    24.94, -999.00,9, -999.00,9, -999.00, -999.00,9,-999.000,9, -999.00,9, -999.00,9,     -999.0,9, 20210429,     1540,  18.9127, -66.0021,    10.3102,2,     0.0418,1,     4.6797,1,     -999.0,9,     -999.0,9,     -999.0,9
325020210420,        A22,      35,          1,         18,         18,2,20210429,       1431,    18.9127,   -66.0021,       3004,   705.8,   9.2736,  35.1437,2,  35.1435,2,    127.6,2,   127.6,2,   15.12,2,   26.89,2,    0.00,2,    1.63,2,-999.000,9,-999.000,9,-999.0000,9,  -999.0,9, -999.00,9, -999.000,9,  -999.00,-999.00000,9,  -999.00, -999.00,9, -999.00,9, -999.00, -999.00,9,-999.000,9, -999.00,9, -999.00,9,     -999.0,9, 20210429,     1538,  18.9127, -66.0021,     9.2751,2,     0.0420,1,     4.6810,1,     -999.0,9,     -999.0,9,     -999.0,9
325020210420,        A22,      35,          1,         17,         17,2,20210429,       1431,    18.9127,   -66.0021,       3004,   806.9,   7.7006,  34.9701,2,  34.9697,2,    132.1,2,   132.0,2,   19.22,2,   29.16,2,    0.00,2,    1.82,2,   0.775,2,   0.411,2,   0.2500,2,  2212.3,2, 2311.03,2, -999.000,9,  -999.00,    7.6074,2,    24.97, -999.00,9, -999.00,9, -999.00, -999.00,9,-999.000,9, -999.00,9, -999.00,9,      23.64,2, 20210429,     1534,  18.9127, -66.0021,     7.7020,2,     0.0428,1,     4.6806,1,     -999.0,9,     -999.0,9,     -999.0,9
325020210420,        A22,      35,          1,         16,         16,2,20210429,       1431,    18.9127,   -66.0021,       3004,   906.7,   6.9178,  34.9403,2,  34.9400,2,    143.2,2,   142.9,2,   20.68,2,   28.84,2,    0.00,2,    1.82,2,-999.000,9,-999.000,9,-999.0000,9,  -999.0,9, -999.00,9, -999.000,9,  -999.00,-999.00000,9,  -999.00, -999.00,9, -999.00,9, -999.00, -999.00,9,-999.000,9, -999.00,9, -999.00,9,     -999.0,9, 20210429,     1531,  18.9128, -66.0021,     6.9169,2,     0.0417,1,     4.6824,1,     -999.0,9,     -999.0,9,     -999.0,9
325020210420,        A22,      35,          1,         15,         15,2,20210429,       1431,    18.9127,   -66.0021,       3004,  1009.4,   6.2955,  34.9966,2,  34.9959,2,    173.4,2,   173.2,2,   18.44,2,   25.31,2,    0.00,2,    1.62,2,-999.000,9,-999.000,9,-999.0000,9,  2199.5,2, 2315.38,2, -999.000,9,  -999.00,   7.65283,2,    25.00, -999.00,9, -999.00,9, -999.00, -999.00,9,-999.000,9, -999.00,9, -999.00,9,     -999.0,9, 20210429,     1527,  18.9127, -66.0021,     6.2955,2,     0.0421,1,     4.6825,1,     -999.0,9,     -999.0,9,     -999.0,9
325020210420,        A22,      35,          1,         14,         14,2,20210429,       1431,    18.9127,   -66.0021,       3004,  1110.5,   5.7119,  35.0176,2,  35.0171,2,    196.2,2,   196.9,2,   17.07,2,   22.99,2,    0.00,2,    1.47,2,-999.000,9,-999.000,9,-999.0000,9,  -999.0,9, -999.00,9, -999.000,9,  -999.00,-999.00000,9,  -999.00, -999.00,9, -999.00,9, -999.00, -999.00,9,-999.000,9, -999.00,9, -999.00,9,     -999.0,9, 20210429,     1524,  18.9128, -66.0021,     5.7116,2,     0.0419,1,     4.6838,1,     -999.0,9,     -999.0,9,     -999.0,9
325020210420,        A22,      35,          1,         13,         13,2,20210429,       1431,    18.9127,   -66.0021,       3004,  1211.6,   5.4227,  35.0493,2,  35.0488,2,    221.5,2,   221.1,2,   14.05,2,   20.22,2,    0.00,2,    1.30,2,   1.707,2,   0.885,2,   0.5500,2,  2181.3,2, 2311.34,2, -999.000,9,  -999.00,   7.70148,6,    25.03, -999.00,9, -999.00,9, -999.00, -999.00,9,-999.000,9, -999.00,9, -999.00,9,      15.70,2, 20210429,     1520,  18.9127, -66.0021,     5.4210,2,     0.0418,1,     4.6837,1,     -999.0,9,     -999.0,9,     -999.0,9
325020210420,        A22,      35,          1,         12,         12,2,20210429,       1431,    18.9127,   -66.0021,       3004,  1312.6,   4.9555,  35.0371,2,  35.0362,2,    236.6,2,   237.1,2,   13.07,2,   19.06,2,    0.00,2,    1.22,2,-999.000,9,-999.000,9,-999.0000,9,  -999.0,9, -999.00,9, -999.000,9,  -999.00,-999.00000,9,  -999.00, -999.00,9, -999.00,9, -999.00, -999.00,9,-999.000,9, -999.00,9, -999.00,9,     -999.0,9, 20210429,     1516,  18.9127, -66.0021,     4.9550,2,     0.0421,1,     4.6838,1,     -999.0,9,     -999.0,9,     -999.0,9
325020210420,        A22,      35,          1,         11,         11,2,20210429,       1431,    18.9127,   -66.0021,       3004,  1414.1,   4.5627,  35.0175,2,  35.0175,2,    246.3,2,   247.0,2,   12.78,2,   18.54,2,    0.00,2,    1.19,2,-999.000,9,-999.000,9,-999.0000,9,  -999.0,9, -999.00,9, -999.000,9,  -999.00,-999.00000,9,  -999.00, -999.00,9, -999.00,9, -999.00, -999.00,9,-999.000,9, -999.00,9, -999.00,9,     -999.0,9, 20210429,     1514,  18.9127, -66.0021,     4.5617,2,     0.0423,1,     4.6841,1,     -999.0,9,     -999.0,9,     -999.0,9
325020210420,        A22,      35,          1,         10,         10,2,20210429,       1431,    18.9127,   -66.0021,       3004,  1514.6,   4.3297,  35.0071,2,  35.0071,2,    251.6,2,   252.1,2,   13.07,2,   18.25,2,    0.00,2,    1.18,2,-999.000,9,-999.000,9,-999.0000,9,  -999.0,9, -999.00,9, -999.000,9,  -999.00,-999.00000,9,  -999.00, -999.00,9, -999.00,9, -999.00, -999.00,9,-999.000,9, -999.00,9, -999.00,9,     -999.0,9, 20210429,     1510,  18.9127, -66.0021,     4.3291,2,     0.0415,1,     4.6838,1,     -999.0,9,     -999.0,9,     -999.0,9
325020210420,        A22,      35,          1,          9,          9,2,20210429,       1431,    18.9127,   -66.0021,       3004,  1616.2,   4.1330,  34.9961,2,  34.9957,2,    255.1,2,   255.7,2,   13.56,2,   18.12,2,    0.00,2,    1.17,2,   1.943,2,   0.992,2,   0.5300,2,  2171.0,2, 2310.82,2, -999.000,9,  -999.00,   7.72344,2,    25.07, -999.00,9, -999.00,9, -999.00, -999.00,9,-999.000,9, -999.00,9, -999.00,9,      13.60,2, 20210429,     1507,  18.9128, -66.0021,     4.1331,2,     0.0418,1,     4.6839,1,     -999.0,9,     -999.0,9,     -999.0,9
325020210420,        A22,      35,          1,          8,          8,2,20210429,       1431,    18.9127,   -66.0021,       3004,  1718.0,   3.9830,  34.9876,2,  34.9872,2,    257.0,2,   257.6,2,   14.05,2,   18.07,2,    0.00,2,    1.16,2,-999.000,9,-999.000,9,-999.0000,9,  -999.0,9, -999.00,9, -999.000,9,  -999.00,-999.00000,9,  -999.00, -999.00,9, -999.00,9, -999.00, -999.00,9,-999.000,9, -999.00,9, -999.00,9,     -999.0,9, 20210429,     1504,  18.9128, -66.0021,     3.9824,2,     0.0416,1,     4.6839,1,     -999.0,9,     -999.0,9,     -999.0,9
325020210420,        A22,      35,          1,          7,          7,2,20210429,       1431,    18.9127,   -66.0021,       3004,  1819.5,   3.8155,  34.9802,2,  34.9793,2,    258.5,2,   259.1,2,   14.63,2,   18.06,2,    0.00,2,    1.17,2,-999.000,9,-999.000,9,-999.0000,9,  -999.0,9, -999.00,9, -999.000,9,  -999.00,-999.00000,9,  -999.00, -999.00,9, -999.00,9, -999.00, -999.00,9,-999.000,9, -999.00,9, -999.00,9,     -999.0,9, 20210429,     1501,  18.9127, -66.0021,     3.8157,2,     0.0425,1,     4.6848,1,     -999.0,9,     -999.0,9,     -999.0,9
325020210420,        A22,      35,          1,          6,          6,2,20210429,       1431,    18.9127,   -66.0021,       3004,  2022.5,   3.5531,  34.9673,2,  34.9662,2,    260.4,2,   260.9,2,   16.10,2,   18.08,2,    0.00,2,    1.18,2,-999.000,9,-999.000,9,-999.0000,9,  -999.0,9, -999.00,9, -999.000,9,  -999.00,-999.00000,9,  -999.00, -999.00,9, -999.00,9, -999.00, -999.00,9,-999.000,9, -999.00,9, -999.00,9,     -999.0,9, 20210429,     1455,  18.9128, -66.0021,     3.5527,2,     0.0427,1,     4.6846,1,     -999.0,9,     -999.0,9,     -999.0,9
325020210420,        A22,      35,          1,          5,          5,2,20210429,       1431,    18.9127,   -66.0021,       3004,  2225.1,   3.3391,  34.9565,2,  34.9561,2,    261.6,2,   262.1,2,   17.76,2,   18.09,2,    0.00,2,    1.18,2,   1.231,2,   0.606,2,   0.2500,2,  2169.4,2, 2312.14,2, -999.000,9,  -999.00,   7.73329,2,    25.03, -999.00,9, -999.00,9, -999.00, -999.00,9,-999.000,9, -999.00,9, -999.00,9,      13.37,2, 20210429,     1451,  18.9127, -66.0021,     3.3390,2,     0.0422,1,     4.6838,1,     -999.0,9,     -999.0,9,     -999.0,9
325020210420,        A22,      35,          1,          4,          4,2,20210429,       1431,    18.9127,   -66.0021,       3004,  2428.8,   3.1766,  34.9498,2,  34.9496,2,    261.8,2,   262.2,2,   19.51,2,   18.18,2,    0.00,2,    1.19,2,-999.000,9,-999.000,9,-999.0000,9,  -999.0,9, -999.00,9, -999.000,9,  -999.00,-999.00000,9,  -999.00, -999.00,9, -999.00,9, -999.00, -999.00,9,-999.000,9, -999.00,9, -999.00,9,     -999.0,9, 20210429,     1446,  18.9127, -66.0021,     3.1762,2,     0.0423,1,     4.6847,1,     -999.0,9,     -999.0,9,     -999.0,9
325020210420,        A22,      35,          1,          3,          3,4,20210429,       1431,    18.9127,   -66.0021,       3004,  2631.9,   3.0172,  34.9410,3,-999.0000,9,    262.6,3,  -999.0,9, -999.00,9, -999.00,9, -999.00,9, -999.00,9,-999.000,9,-999.000,9,-999.0000,9,  -999.0,9, -999.00,9, -999.000,9,  -999.00,-999.00000,9,  -999.00, -999.00,9, -999.00,9, -999.00, -999.00,9,-999.000,9, -999.00,9, -999.00,9,     -999.0,9, 20210429,     1439,  18.9127, -66.0021,     3.0164,3,     0.0421,1,     4.6847,1,     -999.0,9,     -999.0,9,     -999.0,9
325020210420,        A22,      35,          1,          2,          2,2,20210429,       1431,    18.9127,   -66.0021,       3004,  2835.9,   2.8160,  34.9293,2,  34.9290,2,    264.4,2,   264.9,2,   21.95,2,   18.12,2,    0.00,2,    1.19,2,   1.082,2,   0.551,2,   0.3400,2,  -999.0,9, -999.00,9, -999.000,9,  -999.00,-999.00000,9,  -999.00, -999.00,9, -999.00,9, -999.00, -999.00,9,-999.000,9, -999.00,9, -999.00,9,      13.18,2, 20210429,     1436,  18.9127, -66.0021,     2.8153,2,     0.0423,1,     4.6850,1,     -999.0,9,     -999.0,9,     -999.0,9
325020210420,        A22,      35,          1,          1,          1,2,20210429,       1431,    18.9127,   -66.0021,       3004,  3034.4,   2.8041,  34.9273,2,  34.9276,2,    265.0,2,   265.1,2,   22.05,2,   18.09,2,    0.00,2,    1.19,2,   1.098,2,   0.558,2,   0.3300,2,  2175.3,2, 2316.14,2, -999.000,9,  -999.00,   7.73576,2,    24.91, -999.00,9, -999.00,9, -999.00, -999.00,9,-999.000,9, -999.00,9, -999.00,9,      13.12,2, 20210429,     1431,  18.9127, -66.0021,     2.8035,2,     0.0429,1,     4.6845,1,     -999.0,9,     -999.0,9,     -999.0,9