BOTTLE,20230513CCHSIOCBG
EXPOCODE,SECT_ID,STNNBR,CASTNO,SAMPNO,BTLNBR,BTLNBR_FLAG_W,DATE,TIME,LATITUDE,LONGITUDE,DEPTH,CTDPRS,CTDTMP,CTDSAL,CTDSAL_FLAG_W,SALNTY,SALNTY_FLAG_W,CTDOXY,CTDOXY_FLAG_W,OXYGEN,OXYGEN_FLAG_W,SILCAT,SILCAT_FLAG_W,NITRAT,NITRAT_FLAG_W,NITRIT,NITRIT_FLAG_W,PHSPHT,PHSPHT_FLAG_W,CFC-11,CFC-11_FLAG_W,CFC-12,CFC-12_FLAG_W,SF6,SF6_FLAG_W,TCARBN,TCARBN_FLAG_W,ALKALI,ALKALI_FLAG_W,FCO2,FCO2_FLAG_W,FCO2TMP,PH_TOT,PH_TOT_FLAG_W,PH_TMP,DELC13,DELC13_FLAG_W,DELC14,DELC14_FLAG_W,C14ERR,DELO18,DELO18_FLAG_W,POC,POC_FLAG_W,DOC,DOC_FLAG_W,TDN,TDN_FLAG_W,N2O,N2O_FLAG_W,BTL_DATE,BTL_TIME,BTL_LAT,BTL_LON,REFTMP,REFTMP_FLAG_W,CTDFLUOR,CTDFLUOR_FLAG_W,CTDXMISS,CTDXMISS_FLAG_W,D15N_NO2+NO3,D15N_NO2+NO3_FLAG_W,D18O_NO2+NO3,D18O_NO2+NO3_FLAG_W,HPLC,HPLC_FLAG_W
,,,,,,,,,,,METERS,DBAR,ITS-90,PSS-78,,PSS-78,,UMOL/KG,,UMOL/KG,,UMOL/KG,,UMOL/KG,,UMOL/KG,,UMOL/KG,,PMOL/KG,,PMOL/KG,,FMOL/KG,,UMOL/KG,,UMOL/KG,,UATM,,DEG C,,,DEG C,/MILLE,,/MILLE,,/MILLE,/MILLE,,UG/KG,,UMOL/KG,,UMOL/KG,,NMOL/KG,,,,,,ITS-90,,VOLTS,,VOLTS,,/MILLE,,/MILLE,,,
325020210420,        A22,      16,          1,         36,         36,2,20210425,       1203,    16.0057,   -68.2167,       4280,     5.7,  27.1570,  35.8871,2,  35.8896,2,    202.8,2,   201.5,2,    1.27,2,    0.00,2,    0.00,2,    0.00,2,   1.469,2,   0.952,2,   1.6800,2,  2026.7,6, 2355.07,2,  296.060,2,    20.00,   8.09332,2,    25.00, -999.00,9, -999.00,9, -999.00, -999.00,1,-999.000,9,   74.10,2,    4.60,2,       5.82,2, 20210425,     1419,  16.0057, -68.2167,    27.1559,2,     0.0432,1,     4.6192,1,     -999.0,9,     -999.0,9,     -999.0,9
325020210420,        A22,      16,          1,         35,         35,2,20210425,       1203,    16.0057,   -68.2167,       4280,    20.3,  27.1484,  35.8868,2,  35.8890,2,    202.9,2,   202.2,2,    1.27,2,    0.00,2,    0.00,2,    0.00,2,-999.000,9,-999.000,9,-999.0000,9,  2027.4,2, 2353.33,2,  294.590,2,    20.00,   8.09241,6,    25.01, -999.00,9, -999.00,9, -999.00, -999.00,9,-999.000,9,   72.40,2,    4.71,2,     -999.0,9, 20210425,     1417,  16.0057, -68.2167,    27.1490,2,     0.0445,1,     4.6188,1,     -999.0,9,     -999.0,9,     -999.0,9
325020210420,        A22,      16,          1,         34,         34,2,20210425,       1203,    16.0057,   -68.2167,       4280,    40.6,  27.1385,  35.8867,2,  35.8886,2,    202.8,2,   201.7,2,    1.17,2,    0.00,2,    0.00,2,    0.00,2,-999.000,9,-999.000,9,-999.0000,9,  2027.4,2, 2349.61,6,  295.250,2,    20.00,   8.09209,2,    24.98, -999.00,9, -999.00,9, -999.00, -999.00,9,-999.000,9,   72.60,2,    4.36,2,     -999.0,9, 20210425,     1415,  16.0057, -68.2166,    27.1400,2,     0.0479,1,     4.6204,1,     -999.0,9,     -999.0,9,     -999.0,9
325020210420,        A22,      16,          1,         33,         33,2,20210425,       1203,    16.0057,   -68.2167,       4280,    64.9,  26.8960,  35.8866,2,  35.8898,2,    202.5,2,   201.4,2,    1.07,2,    0.00,2,    0.00,2,    0.00,2,   1.483,2,   0.958,2,   1.7600,2,  2026.0,2, -999.00,9, -999.000,9,  -999.00,   8.09023,2,    25.00, -999.00,9, -999.00,9, -999.00, -999.00,9,-999.000,9,   72.50,2,    4.28,2,       5.72,2, 20210425,     1413,  16.0056, -68.2167,    26.8967,2,     0.0636,1,     4.6239,1,     -999.0,9,     -999.0,9,     -999.0,9
325020210420,        A22,      16,          1,         32,         32,2,20210425,       1203,    16.0057,   -68.2167,       4280,    90.9,  26.4831,  36.1447,2,  36.1361,2,    200.7,2,   200.6,2,    1.07,2,    0.00,2,    0.00,2,    0.00,2,-999.000,9,-999.000,9,-999.0000,9,  2039.9,2, 2400.91,2,  302.110,2,    20.00,   8.08631,2,    25.01, -999.00,9, -999.00,9, -999.00, -999.00,9,-999.000,9,   68.10,2,    3.70,2,     -999.0,9, 20210425,     1410,  16.0056, -68.2167,    26.4865,2,     0.0663,1,     4.6298,1,     -999.0,9,     -999.0,9,     -999.0,9
325020210420,        A22,      16,          1,         31,         31,2,20210425,       1203,    16.0057,   -68.2167,       4280,   116.1,  25.5295,  36.9967,2,  36.9902,2,    186.1,2,   187.6,2,    0.68,2,    0.21,2,    0.16,2,    0.00,2,   1.626,2,   1.046,2,   1.7200,2,  2101.2,2, 2415.83,2,  338.860,6,    20.00,   8.05176,2,    25.02, -999.00,9, -999.00,9, -999.00, -999.00,1,-999.000,9,   62.70,2,    4.43,2,       6.75,2, 20210425,     1408,  16.0057, -68.2167,    25.5334,2,     0.0828,1,     4.6315,1,     -999.0,9,     -999.0,9,     -999.0,9
325020210420,        A22,      16,          1,         30,         30,2,20210425,       1203,    16.0057,   -68.2167,       4280,   141.0,  23.9397,  37.2182,2,  37.2141,2,    176.6,2,   178.1,2,    0.58,2,    1.28,2,    0.03,2,    0.02,2,-999.000,9,-999.000,9,-999.0000,9,  2134.2,2, 2429.29,2,  371.910,2,    20.00,   8.01719,2,    25.04, -999.00,9, -999.00,9, -999.00, -999.00,9,-999.000,9,   58.20,2,    5.35,2,     -999.0,9, 20210425,     1406,  16.0056, -68.2167,    23.9537,2,     0.0553,1,     4.6603,1,     -999.0,9,     -999.0,9,     -999.0,9
325020210420,        A22,      16,          1,         29,         29,2,20210425,       1203,    16.0057,   -68.2167,       4280,   186.6,  20.7749,  36.9048,2,  36.9054,2,    165.0,3,   166.9,2,    1.07,2,    3.60,2,    0.00,2,    0.12,2,   1.900,2,   1.203,2,   1.5600,2,  2155.5,2, -999.00,9, -999.000,9,  -999.00,   7.94842,2,    24.97, -999.00,9, -999.00,9, -999.00, -999.00,9,-999.000,9,   54.00,2,    7.16,2,       9.29,2, 20210425,     1404,  16.0057, -68.2167,    20.7684,2,     0.0399,1,     4.6720,1,     -999.0,9,     -999.0,9,     -999.0,9
325020210420,        A22,      16,          1,         28,         28,2,20210425,       1203,    16.0057,   -68.2167,       4280,   236.6,  18.6855,  36.5792,2,  36.9054,3,    172.2,2,   172.3,2,    1.75,2,    6.13,2,    0.00,2,    0.26,2,   2.033,2,   1.277,2,   1.5400,2,  2149.7,2, 2387.23,2,  469.310,2,    20.00,   7.92511,2,    24.96, -999.00,9, -999.00,9, -999.00, -999.00,9,-999.000,9,   49.50,2,    8.98,2,      10.51,2, 20210425,     1401,  16.0057, -68.2167,    18.6867,2,     0.0398,1,     4.6740,1,     -999.0,9,     -999.0,9,     -999.0,9
325020210420,        A22,      16,          1,         27,         27,2,20210425,       1203,    16.0057,   -68.2167,       4280,   287.1,  16.9460,  36.3238,2,  36.3229,2,    163.2,3,   165.1,2,    2.73,2,    9.56,2,    0.00,2,    0.49,2,   2.201,2,   1.347,2,   1.5200,2,  2162.6,2, -999.00,9, -999.000,9,  -999.00,   7.87691,2,    25.01, -999.00,9, -999.00,9, -999.00, -999.00,9,-999.000,9,   46.90,2, -999.00,1,      12.79,2, 20210425,     1358,  16.0057, -68.2167,    16.9454,2,     0.0403,1,     4.6770,1,     -999.0,9,     -999.0,9,     -999.0,9
325020210420,        A22,      16,          1,         26,         26,2,20210425,       1203,    16.0057,   -68.2167,       4280,   337.5,  14.8289,  35.9354,2,  35.9350,2,    142.5,2,   141.6,2,    5.95,2,   15.68,2,    0.00,2,    0.89,2,   2.112,2,   1.251,2,   1.2000,2,  2183.4,2, -999.00,9, -999.000,9,  -999.00,   7.78867,2,    25.01, -999.00,9, -999.00,9, -999.00, -999.00,9,-999.000,9,   46.70,2, -999.00,1,      18.27,2, 20210425,     1354,  16.0056, -68.2167,    14.8365,2,     0.0408,1,     4.6765,1,     -999.0,9,     -999.0,9,     -999.0,9
325020210420,        A22,      16,          1,         25,         25,2,20210425,       1203,    16.0057,   -68.2167,       4280,   387.7,  13.0455,  35.6057,2,  35.5924,2,    129.4,2,   128.7,2,    8.48,2,   20.37,2,    0.00,2,    1.20,2,   2.030,2,   1.168,2,   0.9100,2,  2198.6,2, 2334.45,2,  783.560,2,    20.00,   7.71656,2,    25.01, -999.00,9, -999.00,9, -999.00, -999.00,9,-999.000,9,   45.20,2, -999.00,1,      22.50,2, 20210425,     1352,  16.0057, -68.2167,    13.0705,2,     0.0420,1,     4.6774,1,     -999.0,9,     -999.0,9,     -999.0,9
325020210420,        A22,      16,          1,         24,         24,2,20210425,       1203,    16.0057,   -68.2167,       4280,   438.3,  11.4524,  35.3384,2,  35.3386,2,    121.3,2,   121.4,2,   10.92,2,   23.74,2,    0.00,2,    1.43,2,-999.000,9,-999.000,9,-999.0000,9,  2204.0,2, 2321.63,2,  885.420,2,    20.00,   7.66387,2,    25.01, -999.00,9, -999.00,9, -999.00, -999.00,9,-999.000,9,   44.50,2, -999.00,1,     -999.0,9, 20210425,     1350,  16.0057, -68.2167,    11.4513,2,     0.0425,1,     4.6766,1,     -999.0,9,     -999.0,9,     -999.0,9
325020210420,        A22,      16,          1,         23,         23,2,20210425,       1203,    16.0057,   -68.2167,       4280,   488.6,  10.5537,  35.1951,2,  35.1898,2,    119.6,2,   119.9,2,   12.58,2,   25.80,2,    0.00,2,    1.58,2,   1.739,2,   0.979,2,   0.6400,2,  2209.1,6, 2314.44,2,  947.710,2,    20.00,   7.63519,2,    25.00, -999.00,9, -999.00,9, -999.00, -999.00,9,-999.000,9,   44.80,2, -999.00,1,      26.37,2, 20210425,     1348,  16.0056, -68.2166,    10.5580,2,     0.0425,1,     4.6775,1,     -999.0,9,     -999.0,9,     -999.0,9
325020210420,        A22,      16,          1,         22,         22,2,20210425,       1203,    16.0057,   -68.2167,       4280,   569.4,   8.8810,  34.9605,2,  34.9624,2,    118.4,2,   118.5,2,   16.20,2,   29.10,2,    0.00,2,    1.80,2,   1.433,2,   0.781,2,   0.5000,2,  2218.3,2, 2307.07,2, 1048.420,2,    20.00,   7.58958,6,    25.01, -999.00,9, -999.00,9, -999.00, -999.00,9,-999.000,9,   43.30,2, -999.00,1,      27.25,2, 20210425,     1344,  16.0057, -68.2167,     8.8794,2,     0.0429,1,     4.6766,1,     -999.0,9,     -999.0,9,     -999.0,9
325020210420,        A22,      16,          1,         21,         21,2,20210425,       1203,    16.0057,   -68.2167,       4280,   670.3,   7.4250,  34.8065,2,  34.8076,2,    121.9,2,   121.8,2,   20.39,2,   31.63,2,    0.00,2,    2.01,2,   0.938,2,   0.500,2,   0.2300,2,  2222.1,2, -999.00,9, -999.000,9,  -999.00,   7.55979,2,    25.00, -999.00,9, -999.00,9, -999.00, -999.00,9,-999.000,9,   40.80,2, -999.00,1,      26.81,2, 20210425,     1341,  16.0056, -68.2167,     7.4253,2,     0.0432,1,     4.6777,1,     -999.0,9,     -999.0,9,     -999.0,9
325020210420,        A22,      16,          1,         20,         20,2,20210425,       1203,    16.0057,   -68.2167,       4280,   772.0,   6.3963,  34.7493,2,  34.7498,2,    130.5,2,   130.9,2,   23.81,2,   32.37,2,    0.00,2,    2.09,2,   0.540,2,   0.287,2,   0.2500,2,  2225.6,2, 2302.83,2, 1122.920,2,    20.00,   7.55794,2,    24.96, -999.00,9, -999.00,9, -999.00, -999.00,9,-999.000,9,   41.80,2, -999.00,1,      25.61,2, 20210425,     1338,  16.0056, -68.2167,     6.3973,2,     0.0429,1,     4.6780,1,     -999.0,9,     -999.0,9,     -999.0,9
325020210420,        A22,      16,          1,         19,         19,2,20210425,       1203,    16.0057,   -68.2167,       4280,   872.2,   5.8685,  34.8206,2,  34.8208,2,    147.1,2,   147.2,2,   24.49,2,   30.15,2,    0.00,2,    1.97,2,   0.319,2,   0.173,2,   0.0200,2,  2219.1,2, -999.00,9, -999.000,9,  -999.00,   7.59147,2,    24.99, -999.00,9, -999.00,9, -999.00, -999.00,9,-999.000,9,   41.50,2, -999.00,1,      22.81,2, 20210425,     1334,  16.0057, -68.2167,     5.8729,2,     0.0429,1,     4.6811,1,     -999.0,9,     -999.0,9,     -999.0,9
325020210420,        A22,      16,          1,         18,         18,2,20210425,       1203,    16.0057,   -68.2167,       4280,   972.8,   5.4186,  34.8952,2,  34.8955,2,    167.6,2,   167.8,2,   24.68,2,   27.43,2,    0.00,2,    1.80,2,-999.000,9,-999.000,9,-999.0000,9,  2211.7,2, 2314.82,2,  955.880,2,    20.00,   7.63081,2,    25.01, -999.00,9, -999.00,9, -999.00, -999.00,9,-999.000,9,   40.70,2, -999.00,1,     -999.0,9, 20210425,     1331,  16.0057, -68.2167,     5.4211,2,     0.0429,1,     4.6813,1,     -999.0,9,     -999.0,9,     -999.0,9
325020210420,        A22,      16,          1,         17,         17,2,20210425,       1203,    16.0057,   -68.2167,       4280,  1074.9,   5.0439,  34.9301,2,  34.9309,2,    181.9,2,   181.6,2,   24.88,2,   25.72,2,    0.00,2,    1.71,2,   0.163,6,   0.090,6,   0.2000,6,  2208.3,2, 2318.28,2,  903.800,2,    20.00,   7.65373,2,    25.01, -999.00,9, -999.00,9, -999.00, -999.00,9,-999.000,9,   41.40,2, -999.00,1,      18.48,6, 20210425,     1327,  16.0057, -68.2166,     5.0420,2,     0.0428,1,     4.6814,1,     -999.0,9,     -999.0,9,     -999.0,9
325020210420,        A22,      16,          1,         16,         16,2,20210425,       1203,    16.0057,   -68.2167,       4280,  1175.9,   4.8000,  34.9487,2,  34.9498,2,    191.6,2,   191.6,2,   24.88,2,   24.62,2,    0.00,2,    1.64,2,-999.000,9,-999.000,9,-999.0000,9,  2206.6,2,  2317.4,2,  872.010,2,    20.00,   7.66795,2,    25.03, -999.00,9, -999.00,9, -999.00, -999.00,9,-999.000,9,   41.70,2, -999.00,1,     -999.0,9, 20210425,     1324,  16.0057, -68.2167,     4.8000,2,     0.0432,1,     4.6813,1,     -999.0,9,     -999.0,9,     -999.0,9
325020210420,        A22,      16,          1,         15,         15,2,20210425,       1203,    16.0057,   -68.2167,       4280,  1276.1,   4.6452,  34.9575,2,  34.9579,2,    197.1,2,   197.0,2,   25.17,2,   24.03,2,    0.00,2,    1.60,2,   0.137,2,   0.076,2,   0.2000,2,  2204.3,6,  2319.1,2,  855.000,2,    20.00,   7.67623,2,    25.04, -999.00,9, -999.00,9, -999.00, -999.00,9,-999.000,9,   41.40,2, -999.00,1,      16.58,2, 20210425,     1320,  16.0056, -68.2167,     4.6461,2,     0.0428,1,     4.6803,1,     -999.0,9,     -999.0,9,     -999.0,9
325020210420,        A22,      16,          1,         14,         14,2,20210425,       1203,    16.0057,   -68.2167,       4280,  1378.3,   4.5139,  34.9639,2,  34.9654,2,    201.6,2,   201.8,2,   25.46,2,   23.49,2,    0.00,2,    1.57,2,   0.131,2,   0.071,2,   0.0300,2,  2203.2,2, 2322.07,2,  841.280,2,    20.00,   7.68294,2,    25.04, -999.00,9, -999.00,9, -999.00, -999.00,9,-999.000,9,   43.00,2, -999.00,1,      16.22,2, 20210425,     1317,  16.0057, -68.2166,     4.5132,2,     0.0428,1,     4.6810,1,     -999.0,9,     -999.0,9,     -999.0,9
325020210420,        A22,      16,          1,         13,         13,2,20210425,       1203,    16.0057,   -68.2167,       4280,  1477.9,   4.4194,  34.9703,2,  34.9732,2,    208.0,2,   208.7,2,   24.68,2,   22.88,2,    0.00,2,    1.52,2,-999.000,9,-999.000,9,-999.0000,9,  2200.2,2, -999.00,9, -999.000,9,  -999.00,   7.69149,2,    24.99, -999.00,9, -999.00,9, -999.00, -999.00,9,-999.000,9,   40.40,2, -999.00,1,     -999.0,9, 20210425,     1313,  16.0057, -68.2167,     4.4206,2,     0.0429,1,     4.6823,1,     -999.0,9,     -999.0,9,     -999.0,9
325020210420,        A22,      16,          1,         12,         12,2,20210425,       1203,    16.0057,   -68.2167,       4280,  1581.8,   4.3191,  34.9720,2,  34.9723,2,    209.8,2,   210.0,2,   25.56,2,   22.67,2,    0.00,2,    1.52,2,   0.158,2,   0.087,2,   0.2200,2,  2202.9,2, 2324.03,2,  818.620,2,    20.00,   7.69482,2,    25.03,    0.88,6,  -93.98,6,    2.15, -999.00,9,-999.000,9,   41.10,2, -999.00,1,      15.47,2, 20210425,     1309,  16.0057, -68.2167,     4.3189,2,     0.0424,1,     4.6820,1,     -999.0,9,     -999.0,9,     -999.0,9
325020210420,        A22,      16,          1,         11,         11,2,20210425,       1203,    16.0057,   -68.2167,       4280,  1681.5,   4.2470,  34.9732,2,  34.9738,2,    211.4,2,   211.6,2,   26.34,2,   22.57,2,    0.00,2,    1.51,2,   0.139,2,   0.076,2,   0.2300,2,  2202.7,2, -999.00,9, -999.000,9,  -999.00,   7.69691,2,    25.03, -999.00,9, -999.00,9, -999.00, -999.00,9,-999.000,9,   41.80,2, -999.00,1,      14.98,2, 20210425,     1305,  16.0057, -68.2167,     4.2471,2,     0.0429,1,     4.6824,1,     -999.0,9,     -999.0,9,     -999.0,9
325020210420,        A22,      16,          1,         10,         10,2,20210425,       1203,    16.0057,   -68.2167,       4280,  1783.3,   4.2017,  34.9738,2,  34.9744,2,    212.8,2,   213.0,2,   26.63,2,   22.42,2,    0.00,2,    1.50,2,-999.000,9,-999.000,9,-999.0000,9,  2202.2,2, 2324.89,2,  809.160,2,    20.00,   7.69999,2,    25.04, -999.00,9, -999.00,9, -999.00, -999.00,9,-999.000,9,   42.20,2, -999.00,1,     -999.0,9, 20210425,     1301,  16.0057, -68.2167,     4.2028,2,     0.0433,1,     4.6825,1,     -999.0,9,     -999.0,9,     -999.0,9
325020210420,        A22,      16,          1,          9,          9,2,20210425,       1203,    16.0057,   -68.2167,       4280,  1955.3,   4.1574,  34.9746,2,  34.9756,2,    214.4,2,   214.7,2,   27.02,2,   22.28,2,    0.00,2,    1.49,2,   0.132,2,   0.075,2,   0.2100,2,  2202.4,2, -999.00,9, -999.000,9,  -999.00,   7.70266,2,    25.04, -999.00,9, -999.00,9, -999.00, -999.00,9,-999.000,9,   40.20,2, -999.00,1,      14.69,2, 20210425,     1257,  16.0056, -68.2167,     4.1575,2,     0.0426,1,     4.6826,1,     -999.0,9,     -999.0,9,     -999.0,9
325020210420,        A22,      16,          1,          8,          8,2,20210425,       1203,    16.0057,   -68.2167,       4280,  2189.2,   4.1345,  34.9753,2,  34.9764,2,    215.9,2,   216.3,2,   27.22,2,   22.12,2,    0.00,2,    1.47,2,-999.000,9,-999.000,9,-999.0000,9,  2205.1,2, -999.00,9, -999.000,9,  -999.00,     7.705,2,    25.03, -999.00,9, -999.00,9, -999.00, -999.00,9,-999.000,9,   42.90,2, -999.00,1,     -999.0,9, 20210425,     1251,  16.0057, -68.2167,     4.1346,2,     0.0428,1,     4.6838,1,     -999.0,9,     -999.0,9,     -999.0,9
325020210420,        A22,      16,          1,          7,          7,2,20210425,       1203,    16.0057,   -68.2167,       4280,  2443.8,   4.1320,  34.9753,2,  34.9762,2,    216.2,2,   216.2,2,   27.80,2,   22.13,2,    0.00,2,    1.48,2,   0.130,2,   0.079,2,   0.4100,2,  2202.0,2, 2329.34,2,  797.540,2,    20.00,   7.70613,2,    25.02, -999.00,9, -999.00,9, -999.00, -999.00,9,-999.000,9,   39.70,2, -999.00,1,      14.42,2, 20210425,     1244,  16.0057, -68.2167,     4.1320,2,     0.0429,1,     4.6835,1,     -999.0,9,     -999.0,9,     -999.0,9
325020210420,        A22,      16,          1,          6,          6,2,20210425,       1203,    16.0057,   -68.2167,       4280,  2698.4,   4.1476,  34.9756,2,  34.9752,2,    216.2,2,   216.4,2,   28.10,2,   22.11,2,    0.00,2,    1.47,2,   0.122,2,   0.075,2,   0.2700,2,  2205.1,2, -999.00,9, -999.000,9,  -999.00,   7.70695,2,    25.03, -999.00,9, -999.00,9, -999.00, -999.00,9,-999.000,9,   41.50,2, -999.00,1,      14.45,2, 20210425,     1238,  16.0057, -68.2166,     4.1476,2,     0.0429,1,     4.6827,1,     -999.0,9,     -999.0,9,     -999.0,9
325020210420,        A22,      16,          1,          5,          5,2,20210425,       1203,    16.0057,   -68.2167,       4280,  2952.9,   4.1691,  34.9755,2,  34.9752,2,    215.8,2,   215.8,2,   28.59,2,   22.18,2,    0.00,2,    1.47,2,-999.000,9,-999.000,9,-999.0000,9,  2205.0,2, -999.00,9,  796.310,2,    20.00,   7.70787,2,    25.04, -999.00,9, -999.00,9, -999.00, -999.00,9,-999.000,9,   40.20,2, -999.00,1,     -999.0,9, 20210425,     1232,  16.0056, -68.2167,     4.1692,2,     0.0431,1,     4.6837,1,     -999.0,9,     -999.0,9,     -999.0,9
325020210420,        A22,      16,          1,          4,          4,2,20210425,       1203,    16.0057,   -68.2167,       4280,  3243.9,   4.1976,  34.9757,2,  34.9762,2,    215.8,2,   216.1,2,   28.59,2,   22.13,2,    0.00,2,    1.48,2,   0.113,2,   0.073,2,   0.3200,2,  2205.8,2, -999.00,9, -999.000,9,  -999.00,   7.70826,2,    25.05, -999.00,9, -999.00,9, -999.00, -999.00,9,-999.000,9,   41.20,2, -999.00,1,      14.25,2, 20210425,     1224,  16.0057, -68.2166,     4.1977,2,     0.0429,1,     4.6833,1,     -999.0,9,     -999.0,9,     -999.0,9
325020210420,        A22,      16,          1,          3,          3,2,20210425,       1203,    16.0057,   -68.2167,       4280,  3786.4,   4.2581,  34.9760,2,  34.9772,2,    216.7,2,   217.5,2,   28.59,2,   22.06,2,    0.00,2,    1.47,2,   0.150,2,   0.090,2,   0.2900,2,  2204.0,2, 2333.65,6,  792.790,2,    20.00,   7.70934,6,    25.04, -999.00,9, -999.00,9, -999.00, -999.00,9,-999.000,9,   40.80,2, -999.00,1,      13.98,2, 20210425,     1214,  16.0056, -68.2167,     4.2582,2,     0.0432,1,     4.6812,1,     -999.0,9,     -999.0,9,     -999.0,9