BOTTLE,20230513CCHSIOCBG
EXPOCODE,SECT_ID,STNNBR,CASTNO,SAMPNO,BTLNBR,BTLNBR_FLAG_W,DATE,TIME,LATITUDE,LONGITUDE,DEPTH,CTDPRS,CTDTMP,CTDSAL,CTDSAL_FLAG_W,SALNTY,SALNTY_FLAG_W,CTDOXY,CTDOXY_FLAG_W,OXYGEN,OXYGEN_FLAG_W,SILCAT,SILCAT_FLAG_W,NITRAT,NITRAT_FLAG_W,NITRIT,NITRIT_FLAG_W,PHSPHT,PHSPHT_FLAG_W,CFC-11,CFC-11_FLAG_W,CFC-12,CFC-12_FLAG_W,SF6,SF6_FLAG_W,TCARBN,TCARBN_FLAG_W,ALKALI,ALKALI_FLAG_W,FCO2,FCO2_FLAG_W,FCO2TMP,PH_TOT,PH_TOT_FLAG_W,PH_TMP,DELC13,DELC13_FLAG_W,DELC14,DELC14_FLAG_W,C14ERR,DELO18,DELO18_FLAG_W,POC,POC_FLAG_W,DOC,DOC_FLAG_W,TDN,TDN_FLAG_W,N2O,N2O_FLAG_W,BTL_DATE,BTL_TIME,BTL_LAT,BTL_LON,REFTMP,REFTMP_FLAG_W,CTDFLUOR,CTDFLUOR_FLAG_W,CTDXMISS,CTDXMISS_FLAG_W,D15N_NO2+NO3,D15N_NO2+NO3_FLAG_W,D18O_NO2+NO3,D18O_NO2+NO3_FLAG_W,HPLC,HPLC_FLAG_W
,,,,,,,,,,,METERS,DBAR,ITS-90,PSS-78,,PSS-78,,UMOL/KG,,UMOL/KG,,UMOL/KG,,UMOL/KG,,UMOL/KG,,UMOL/KG,,PMOL/KG,,PMOL/KG,,FMOL/KG,,UMOL/KG,,UMOL/KG,,UATM,,DEG C,,,DEG C,/MILLE,,/MILLE,,/MILLE,/MILLE,,UG/KG,,UMOL/KG,,UMOL/KG,,NMOL/KG,,,,,,ITS-90,,VOLTS,,VOLTS,,/MILLE,,/MILLE,,,
325020210420,        A22,      89,          1,         19,         19,2,20210515,       0946,    39.8961,   -69.9298,        768,     5.0,  14.2866,  34.4728,2,  34.4447,3,    267.3,2,   268.4,2,    0.20,2,    0.00,2,    0.00,2,    0.08,2,   2.797,2,   1.651,2,   2.6100,2,  2049.8,6, 2298.65,2,  415.230,2,    20.00,   7.96201,2,    25.02, -999.00,9, -999.00,9, -999.00, -999.00,1,-999.000,9, -999.00,9, -999.00,9,       8.60,2, 20210515,     1029,  39.8961, -69.9298,    14.1700,3,     0.1115,1,     4.2547,1,     -999.0,9,     -999.0,9,     -999.0,9
325020210420,        A22,      89,          1,         18,         18,2,20210515,       0946,    39.8961,   -69.9298,        768,    25.2,  15.9843,  35.3212,2,  35.3096,2,    258.4,2,   258.5,2,    0.00,2,    0.00,2,    0.00,2,    0.03,2,-999.000,9,-999.000,9,-999.0000,9,  -999.0,9, -999.00,9, -999.000,9,  -999.00,-999.00000,9,  -999.00, -999.00,9, -999.00,9, -999.00, -999.00,1,-999.000,9, -999.00,9, -999.00,9,     -999.0,9, 20210515,     1027,  39.8961, -69.9298,    15.9615,2,     0.1870,1,     4.3332,1,     -999.0,9,     -999.0,9,     -999.0,9
325020210420,        A22,      89,          1,         17,         17,2,20210515,       0946,    39.8961,   -69.9298,        768,    50.1,  13.9620,  35.3817,2,  35.3890,2,    229.4,2,   229.1,2,    1.56,2,    4.27,2,    0.20,2,    0.30,2,   2.577,2,   1.541,2,   2.3200,2,  2106.2,2, 2335.84,2,  483.610,2,    20.00,   7.90701,6,    25.01, -999.00,9, -999.00,9, -999.00, -999.00,9,-999.000,9, -999.00,9, -999.00,9,       9.53,2, 20210515,     1025,  39.8961, -69.9298,    13.9402,2,     0.1122,1,     4.5613,1,     -999.0,9,     -999.0,9,     -999.0,9
325020210420,        A22,      89,          1,         16,         16,2,20210515,       0946,    39.8961,   -69.9298,        768,    75.9,  14.1320,  35.6309,2,  35.6269,2,    228.2,2,   227.3,2,    1.66,2,    5.65,2,    0.04,2,    0.34,2,-999.000,9,-999.000,9,-999.0000,9,  -999.0,9, -999.00,9, -999.000,9,  -999.00,-999.00000,9,  -999.00, -999.00,9, -999.00,9, -999.00, -999.00,9,-999.000,9, -999.00,9, -999.00,9,     -999.0,9, 20210515,     1023,  39.8961, -69.9298,    14.1085,2,     0.0662,1,     4.6092,1,     -999.0,9,     -999.0,9,     -999.0,9
325020210420,        A22,      89,          1,         15,         15,2,20210515,       0946,    39.8961,   -69.9298,        768,   101.3,  13.5400,  35.6165,2,  35.6153,2,    220.3,2,   220.1,2,    2.93,2,    8.68,2,    0.01,2,    0.53,2,   2.467,2,   1.482,2,   2.2000,2,  2133.1,2, 2345.23,2,  538.090,2,    20.00,   7.86682,2,    25.00, -999.00,9, -999.00,9, -999.00, -999.00,9,-999.000,9, -999.00,9, -999.00,9,      10.49,2, 20210515,     1021,  39.8961, -69.9298,    13.5402,2,     0.0493,1,     4.6432,1,     -999.0,9,     -999.0,9,     -999.0,9
325020210420,        A22,      89,          1,         14,         14,2,20210515,       0946,    39.8961,   -69.9298,        768,   126.2,  13.4767,  35.6557,2,  35.6526,2,    212.1,2,   212.3,2,    3.90,2,   10.13,2,    0.01,2,    0.61,2,-999.000,9,-999.000,9,-999.0000,9,  -999.0,9, -999.00,9, -999.000,9,  -999.00,-999.00000,9,  -999.00, -999.00,9, -999.00,9, -999.00, -999.00,9,-999.000,9, -999.00,9, -999.00,9,     -999.0,9, 20210515,     1019,  39.8961, -69.9298,    13.4728,2,     0.0463,1,     4.6312,1,     -999.0,9,     -999.0,9,     -999.0,9
325020210420,        A22,      89,          1,         13,         13,2,20210515,       0946,    39.8961,   -69.9298,        768,   151.1,  12.8509,  35.6245,2,  35.6216,2,    162.8,2,   162.2,2,    7.51,2,   16.50,2,    0.00,2,    0.98,2,-999.000,9,-999.000,9,-999.0000,9,  2169.6,2, 2340.29,2,  680.970,2,    20.00,    7.7724,2,    25.01, -999.00,9, -999.00,9, -999.00, -999.00,9,-999.000,9, -999.00,9, -999.00,9,     -999.0,9, 20210515,     1017,  39.8961, -69.9298,    12.8529,2,     0.0448,1,     4.6516,1,     -999.0,9,     -999.0,9,     -999.0,9
325020210420,        A22,      89,          1,         12,         12,2,20210515,       0946,    39.8961,   -69.9298,        768,   176.3,  11.8781,  35.5203,2,  35.5016,2,    133.6,2,   134.6,2,   10.43,2,   21.21,2,    0.00,2,    1.28,2,   1.745,2,   0.991,2,   0.7800,2,  2189.4,2,  2333.0,2,  797.430,2,    20.00,   7.71004,2,    25.01, -999.00,9, -999.00,9, -999.00, -999.00,9,-999.000,9, -999.00,9, -999.00,9,      19.03,2, 20210515,     1015,  39.8961, -69.9298,    11.8719,2,     0.0587,1,     4.6464,1,     -999.0,9,     -999.0,9,     -999.0,9
325020210420,        A22,      89,          1,         11,         11,2,20210515,       0946,    39.8961,   -69.9298,        768,   201.7,  11.2952,  35.4469,2,  35.4511,2,    134.3,2,   134.3,2,   11.12,2,   21.88,2,    0.00,2,    1.34,2,-999.000,9,-999.000,9,-999.0000,9,  -999.0,9, -999.00,9, -999.000,9,  -999.00,-999.00000,9,  -999.00, -999.00,9, -999.00,9, -999.00, -999.00,9,-999.000,9, -999.00,9, -999.00,9,     -999.0,9, 20210515,     1013,  39.8961, -69.9298,    11.3173,2,     0.0449,1,     4.6467,1,     -999.0,9,     -999.0,9,     -999.0,9
325020210420,        A22,      89,          1,         10,         10,2,20210515,       0946,    39.8961,   -69.9298,        768,   226.3,  10.6955,  35.3678,2,  35.3524,2,    131.5,2,   131.8,2,   12.58,2,   23.49,2,    0.00,2,    1.45,2,-999.000,9,-999.000,9,-999.0000,9,  -999.0,9, -999.00,9, -999.000,9,  -999.00,-999.00000,9,  -999.00, -999.00,9, -999.00,9, -999.00, -999.00,9,-999.000,9, -999.00,9, -999.00,9,     -999.0,9, 20210515,     1011,  39.8962, -69.9298,    10.7059,2,     0.0438,1,     4.6493,1,     -999.0,9,     -999.0,9,     -999.0,9
325020210420,        A22,      89,          1,          9,          9,2,20210515,       0946,    39.8961,   -69.9298,        768,   257.3,   9.5347,  35.2350,2,  35.2365,2,    132.0,2,   132.0,2,   14.44,2,   25.09,2,    0.00,2,    1.56,2,   1.372,2,   0.758,2,   0.5200,2,  2200.9,2, 2321.22,2,  909.010,2,    20.00,   7.65353,6,    25.01, -999.00,9, -999.00,9, -999.00, -999.00,9,-999.000,9, -999.00,9, -999.00,9,      20.42,2, 20210515,     1008,  39.8961, -69.9298,     9.5780,2,     0.0436,1,     4.6496,1,     -999.0,9,     -999.0,9,     -999.0,9
325020210420,        A22,      89,          1,          8,          8,2,20210515,       0946,    39.8961,   -69.9298,        768,   301.9,   8.9682,  35.2067,2,  35.2058,2,    143.7,2,   143.9,2,   14.34,2,   24.35,2,    0.03,2,    1.53,2,   1.467,2,   0.804,2,   0.5900,2,  2196.1,2, 2320.44,2,  901.085,6,    20.00,   7.65745,6,    25.01, -999.00,9, -999.00,9, -999.00, -999.00,9,-999.000,9, -999.00,9, -999.00,9,      19.22,2, 20210515,     1006,  39.8961, -69.9298,     8.9681,2,     0.0417,1,     4.6484,1,     -999.0,9,     -999.0,9,     -999.0,9
325020210420,        A22,      89,          1,          7,          7,2,20210515,       0946,    39.8961,   -69.9298,        768,   353.0,   8.0151,  35.1570,2,  35.1545,2,    165.0,2,   163.6,2,   14.14,2,   23.25,2,    0.03,2,    1.47,2,-999.000,9,-999.000,9,-999.0000,9,  -999.0,9, -999.00,9, -999.000,9,  -999.00,-999.00000,9,  -999.00, -999.00,9, -999.00,9, -999.00, -999.00,9,-999.000,9, -999.00,9, -999.00,9,     -999.0,9, 20210515,     1003,  39.8961, -69.9298,     7.9859,2,     0.0433,1,     4.6483,1,     -999.0,9,     -999.0,9,     -999.0,9
325020210420,        A22,      89,          1,          6,          6,2,20210515,       0946,    39.8961,   -69.9298,        768,   403.3,   7.0362,  35.1163,2,  35.1122,2,    184.6,2,   186.0,2,   13.75,2,   21.86,2,    0.02,2,    1.40,2,-999.000,9,-999.000,9,-999.0000,9,  -999.0,9, -999.00,9, -999.000,9,  -999.00,-999.00000,9,  -999.00, -999.00,9, -999.00,9, -999.00, -999.00,9,-999.000,9, -999.00,9, -999.00,9,     -999.0,9, 20210515,     1001,  39.8961, -69.9298,     7.0639,2,     0.0428,1,     4.6483,1,     -999.0,9,     -999.0,9,     -999.0,9
325020210420,        A22,      89,          1,          5,          5,2,20210515,       0946,    39.8961,   -69.9298,        768,   453.6,   6.3350,  35.0837,2,  35.0791,2,    203.4,2,   204.3,2,   13.36,2,   20.74,2,    0.02,2,    1.34,2,   2.175,2,   1.166,2,   0.8700,2,  2184.7,2, 2312.57,6,  852.470,2,    20.00,   7.67904,2,    25.02, -999.00,9, -999.00,9, -999.00, -999.00,9,-999.000,9, -999.00,9, -999.00,9,      15.97,2, 20210515,      958,  39.8961, -69.9298,     6.3316,2,     0.0430,1,     4.6442,1,     -999.0,9,     -999.0,9,     -999.0,9
325020210420,        A22,      89,          1,          4,          4,2,20210515,       0946,    39.8961,   -69.9298,        768,   514.7,   5.7302,  35.0539,2,  35.0526,2,    218.4,2,   218.0,2,   12.68,2,   19.95,2,    0.00,2,    1.29,2,-999.000,9,-999.000,9,-999.0000,9,  -999.0,9, -999.00,9, -999.000,9,  -999.00,-999.00000,9,  -999.00, -999.00,9, -999.00,9, -999.00, -999.00,9,-999.000,9, -999.00,9, -999.00,9,     -999.0,9, 20210515,      956,  39.8961, -69.9298,     5.7300,2,     0.0430,1,     4.6458,1,     -999.0,9,     -999.0,9,     -999.0,9
325020210420,        A22,      89,          1,          3,          3,2,20210515,       0946,    39.8961,   -69.9298,        768,   605.9,   5.3012,  35.0321,2,  35.0299,2,    229.6,2,   229.8,2,   12.49,2,   19.20,2,    0.00,2,    1.25,2,   2.583,2,   1.387,2,   1.0500,2,  2176.8,2, 2310.54,2,  828.220,2,    20.00,   7.68983,2,    25.01, -999.00,9, -999.00,9, -999.00, -999.00,9,-999.000,9, -999.00,9, -999.00,9,      14.76,2, 20210515,      953,  39.8961, -69.9298,     5.3050,2,     0.0424,1,     4.6344,1,     -999.0,9,     -999.0,9,     -999.0,9
325020210420,        A22,      89,          1,          2,          2,2,20210515,       0946,    39.8961,   -69.9298,        768,   707.5,   4.8573,  35.0077,2,  35.0049,2,    241.7,2,   241.9,2,   12.19,2,   18.55,2,    0.00,2,    1.20,2,-999.000,9,-999.000,9,-999.0000,9,  -999.0,9, -999.00,9, -999.000,9,  -999.00,-999.00000,9,  -999.00, -999.00,9, -999.00,9, -999.00, -999.00,9,-999.000,9, -999.00,9, -999.00,9,     -999.0,9, 20210515,      949,  39.8961, -69.9298,     4.8579,2,     0.0419,1,     4.6467,1,     -999.0,9,     -999.0,9,     -999.0,9
325020210420,        A22,      89,          1,          1,          1,2,20210515,       0946,    39.8961,   -69.9298,        768,   766.1,   4.7434,  35.0020,2,  35.0002,2,    245.0,2,   245.0,2,   12.19,2,   18.42,2,    0.00,2,    1.19,2,   2.830,2,   1.510,2,   1.1800,2,  2171.9,2, 2309.51,2,  814.160,2,    20.00,   7.69583,2,    25.01, -999.00,9, -999.00,9, -999.00, -999.00,9,-999.000,9, -999.00,9, -999.00,9,      14.03,2, 20210515,      946,  39.8961, -69.9298,     4.7425,2,     0.0425,1,     4.6364,1,     -999.0,9,     -999.0,9,     -999.0,9
325020210420,        A22,      90,          1,          8,          8,2,20210515,       1311,    40.0107,   -70.0066,        163,     5.0,  10.5726,  32.5429,2,  32.5435,2,    303.6,2,   303.4,2,    0.49,2,    0.01,2,    0.00,2,    0.26,2,   3.696,2,   2.129,2,   3.3200,2,  2027.2,6, 2210.83,2,  532.710,2,    20.00,   7.85362,2,    25.01, -999.00,9, -999.00,9, -999.00, -999.00,1,-999.000,9,   70.70,2,    4.16,2,      10.16,2, 20210515,     1323,  40.0107, -70.0066,    10.5695,2,     0.0608,1,     4.4504,1,     -999.0,1,     -999.0,1,     -999.0,9
325020210420,        A22,      90,          1,          7,          7,2,20210515,       1311,    40.0107,   -70.0066,        163,    25.5,  13.9182,  34.5978,2,  34.5492,3,    278.4,2,   279.7,2,    0.10,2,    0.06,2,    0.01,2,    0.09,2,-999.000,9,-999.000,9,-999.0000,9,  2052.2,2, 2304.12,2,  410.780,2,    20.00,   7.96493,6,    25.00, -999.00,9, -999.00,9, -999.00, -999.00,1,-999.000,9,   68.20,2,    4.42,2,     -999.0,9, 20210515,     1321,  40.0107, -70.0066,    13.8894,2,     0.2480,1,     4.2006,1,     -999.0,1,     -999.0,1,     -999.0,9
325020210420,        A22,      90,          1,          6,          6,2,20210515,       1311,    40.0107,   -70.0066,        163,    40.1,  13.4618,  35.0702,2,  35.0539,2,    242.4,3,   238.5,2,    1.66,2,    3.29,2,    0.23,2,    0.31,2,-999.000,9,-999.000,9,-999.0000,9,  2099.4,2, 2324.52,2,  479.820,2,    20.00,   7.90133,2,    25.01, -999.00,9, -999.00,9, -999.00, -999.00,9,-999.000,9,   61.70,2,    7.11,2,     -999.0,9, 20210515,     1319,  40.0108, -70.0066,    13.7715,3,     0.2433,1,     4.4451,1,     -999.0,1,     -999.0,1,     -999.0,9
325020210420,        A22,      90,          1,          5,          5,2,20210515,       1311,    40.0107,   -70.0066,        163,    61.0,  11.9040,  34.9514,2,  34.9431,2,    217.8,2,   219.5,2,    4.39,2,    9.03,2,    0.02,2,    0.62,2,   2.773,2,   1.652,2,   2.4400,2,  2127.6,2, 2312.03,2,  601.220,6,    20.00,   7.81761,2,    25.01, -999.00,9, -999.00,9, -999.00, -999.00,9,-999.000,9,   56.40,2,   12.13,2,      10.57,2, 20210515,     1317,  40.0108, -70.0066,    11.9132,2,     0.0513,1,     4.5855,1,     -999.0,1,     -999.0,1,     -999.0,9
325020210420,        A22,      90,          1,          4,          4,2,20210515,       1311,    40.0107,   -70.0066,        163,    85.7,  13.7833,  35.5994,2,  35.6007,2,    209.8,3,   212.8,2,    2.83,2,    8.41,2,    0.02,2,    0.51,2,-999.000,9,-999.000,9,-999.0000,9,  2128.5,2, 2344.39,2,  532.290,2,    20.00,   7.87128,2,    25.01, -999.00,9, -999.00,9, -999.00, -999.00,9,-999.000,9,   54.90,2,   10.77,2,     -999.0,9, 20210515,     1316,  40.0107, -70.0066,    13.7811,2,     0.0512,1,     4.6263,1,     -999.0,1,     -999.0,1,     -999.0,9
325020210420,        A22,      90,          1,          3,          3,2,20210515,       1311,    40.0107,   -70.0066,        163,   110.6,  13.6923,  35.7355,2,  35.7266,2,    196.7,2,   197.1,2,    4.68,2,   11.53,2,    0.01,2,    0.68,2,   2.283,2,   1.363,2,   1.8000,2,  2149.4,2, 2348.28,2,  575.920,2,    20.00,   7.83921,6,    25.01, -999.00,9, -999.00,9, -999.00, -999.00,9,-999.000,9,   52.40,2,   13.92,2,      12.18,2, 20210515,     1314,  40.0107, -70.0066,    13.6932,2,     0.0458,1,     4.6401,1,     -999.0,1,     -999.0,1,     -999.0,9
325020210420,        A22,      90,          1,          2,          2,2,20210515,       1311,    40.0107,   -70.0066,        163,   136.4,  13.3706,  35.7053,2,-999.0000,5,    188.8,2,   188.0,2,    6.34,2,   12.82,2,    0.03,2,    0.77,2,-999.000,9,-999.000,9,-999.0000,9,  2154.4,2, 2345.62,6,  604.720,2,    20.00,   7.81929,2,    25.01, -999.00,9, -999.00,9, -999.00, -999.00,9,-999.000,9,   51.60,2,   15.84,2,     -999.0,9, 20210515,     1312,  40.0107, -70.0066,    13.3720,2,     0.0501,1,     4.5926,1,     -999.0,1,     -999.0,1,     -999.0,9
325020210420,        A22,      90,          1,          1,          1,2,20210515,       1311,    40.0107,   -70.0066,        163,   153.6,  13.3712,  35.7056,2,  35.7043,2,    188.1,2,   187.2,2,    6.44,2,   12.89,2,    0.04,2,    0.78,2,   2.207,2,   1.310,2,   1.6900,2,  2156.0,2,  2349.0,2,  605.000,2,    20.00,   7.81897,2,    25.01, -999.00,9, -999.00,9, -999.00, -999.00,9,-999.000,9,   50.80,2,   15.37,2,      12.99,2, 20210515,     1311,  40.0107, -70.0066,    13.3702,2,     0.0504,1,     4.5865,1,     -999.0,1,     -999.0,1,     -999.0,9