BOTTLE,20230513CCHSIOCBG
EXPOCODE,SECT_ID,STNNBR,CASTNO,SAMPNO,BTLNBR,BTLNBR_FLAG_W,DATE,TIME,LATITUDE,LONGITUDE,DEPTH,CTDPRS,CTDTMP,CTDSAL,CTDSAL_FLAG_W,SALNTY,SALNTY_FLAG_W,CTDOXY,CTDOXY_FLAG_W,OXYGEN,OXYGEN_FLAG_W,SILCAT,SILCAT_FLAG_W,NITRAT,NITRAT_FLAG_W,NITRIT,NITRIT_FLAG_W,PHSPHT,PHSPHT_FLAG_W,CFC-11,CFC-11_FLAG_W,CFC-12,CFC-12_FLAG_W,SF6,SF6_FLAG_W,TCARBN,TCARBN_FLAG_W,ALKALI,ALKALI_FLAG_W,FCO2,FCO2_FLAG_W,FCO2TMP,PH_TOT,PH_TOT_FLAG_W,PH_TMP,DELC13,DELC13_FLAG_W,DELC14,DELC14_FLAG_W,C14ERR,DELO18,DELO18_FLAG_W,POC,POC_FLAG_W,DOC,DOC_FLAG_W,TDN,TDN_FLAG_W,N2O,N2O_FLAG_W,BTL_DATE,BTL_TIME,BTL_LAT,BTL_LON,REFTMP,REFTMP_FLAG_W,CTDFLUOR,CTDFLUOR_FLAG_W,CTDXMISS,CTDXMISS_FLAG_W,D15N_NO2+NO3,D15N_NO2+NO3_FLAG_W,D18O_NO2+NO3,D18O_NO2+NO3_FLAG_W,HPLC,HPLC_FLAG_W
,,,,,,,,,,,METERS,DBAR,ITS-90,PSS-78,,PSS-78,,UMOL/KG,,UMOL/KG,,UMOL/KG,,UMOL/KG,,UMOL/KG,,UMOL/KG,,PMOL/KG,,PMOL/KG,,FMOL/KG,,UMOL/KG,,UMOL/KG,,UATM,,DEG C,,,DEG C,/MILLE,,/MILLE,,/MILLE,/MILLE,,UG/KG,,UMOL/KG,,UMOL/KG,,NMOL/KG,,,,,,ITS-90,,VOLTS,,VOLTS,,/MILLE,,/MILLE,,,
325020210420,        A22,      36,          1,         36,         36,2,20210429,       1958,    18.9816,   -66.0048,       3658,     5.9,  26.9235,  36.2684,2,  36.2725,2,    202.9,2,   202.0,2,    1.46,2,    0.00,2,    0.00,2,    0.00,2,   1.498,2,   0.963,2,   1.6400,2,  2040.2,6, 2375.65,2,  293.960,2,    20.00,   8.09403,2,    25.01,    0.85,2,   28.53,2,    2.02, -999.00,1,-999.000,9,   73.00,2,    4.51,2,       5.79,2, 20210429,     2152,  18.9816, -66.0048,    26.9187,2,     0.0444,1,     4.6159,1,     -999.0,9,     -999.0,9,     -999.0,9
325020210420,        A22,      36,          1,         35,         35,2,20210429,       1958,    18.9816,   -66.0048,       3658,    35.2,  26.6306,  36.3610,2,  36.3782,2,    204.7,2,   203.9,2,    1.36,2,    0.00,2,    0.00,2,    0.00,2,-999.000,9,-999.000,9,-999.0000,9,  2043.3,2,  2384.4,2,  291.960,2,    20.00,   8.09736,6,    25.01, -999.00,9, -999.00,9, -999.00, -999.00,9,-999.000,9,   75.80,2,   20.84,4,     -999.0,9, 20210429,     2150,  18.9816, -66.0048,    26.6258,2,     0.0476,1,     4.6136,1,     -999.0,9,     -999.0,9,     -999.0,9
325020210420,        A22,      36,          1,         34,         34,2,20210429,       1958,    18.9816,   -66.0048,       3658,    60.2,  26.1651,  36.6975,2,  36.6994,2,    204.9,2,   205.0,2,    1.17,2,    0.00,2,    0.00,2,    0.00,2,   1.464,6,   0.972,6,   1.7000,6,  2057.3,2,  2400.0,6,  291.010,2,    20.00,    8.1011,2,    25.00, -999.00,9, -999.00,9, -999.00, -999.00,9,-999.000,9,   77.70,2,    4.73,2,       5.40,6, 20210429,     2148,  18.9816, -66.0048,    26.1637,2,     0.0508,1,     4.6196,1,     -999.0,9,     -999.0,9,     -999.0,9
325020210420,        A22,      36,          1,         33,         33,2,20210429,       1958,    18.9816,   -66.0048,       3658,    85.5,  25.9207,  36.8888,2,  36.8992,2,    203.2,2,   202.8,2,    1.07,2,    0.00,2,    0.00,2,    0.00,2,-999.000,9,-999.000,9,-999.0000,9,  2073.8,2, 2410.96,2,  301.490,2,    20.00,   8.09015,2,    25.00, -999.00,9, -999.00,9, -999.00, -999.00,9,-999.000,9,   74.80,2,    4.99,2,     -999.0,9, 20210429,     2146,  18.9816, -66.0048,    25.9234,2,     0.0612,1,     4.6303,1,     -999.0,9,     -999.0,9,     -999.0,9
325020210420,        A22,      36,          1,         32,         32,2,20210429,       1958,    18.9816,   -66.0048,       3658,   110.4,  24.5701,  37.2770,2,  37.2769,2,    193.4,2,   193.0,2,    0.78,2,    0.00,2,    0.02,2,    0.00,2,-999.000,9,-999.000,9,-999.0000,9,  2118.8,2, 2432.47,2,  344.260,2,    20.00,   8.04286,2,    25.02, -999.00,9, -999.00,9, -999.00, -999.00,1,-999.000,9,   66.00,2,    3.68,2,     -999.0,9, 20210429,     2144,  18.9816, -66.0048,    24.5687,2,     0.0800,1,     4.6337,1,     -999.0,9,     -999.0,9,     -999.0,9
325020210420,        A22,      36,          1,         31,         31,2,20210429,       1958,    18.9816,   -66.0048,       3658,   135.5,  22.9518,  37.1874,2,  37.1763,2,    180.8,2,   182.0,2,    0.68,2,    0.58,2,    0.04,2,    0.00,2,   1.742,2,   1.111,2,   1.7500,2,  2136.1,2, 2423.32,2,  377.590,2,    20.00,   8.00526,2,    25.03,    0.65,2,   38.98,2,    2.31, -999.00,9,-999.000,9,   57.20,2,    4.28,2,       7.11,2, 20210429,     2143,  18.9816, -66.0048,    22.9432,2,     0.0729,1,     4.6488,1,     -999.0,9,     -999.0,9,     -999.0,9
325020210420,        A22,      36,          1,         30,         30,2,20210429,       1958,    18.9816,   -66.0048,       3658,   161.0,  21.6354,  37.0560,2,  37.0519,2,    177.4,2,   178.8,2,    0.78,2,    1.19,2,    0.02,2,    0.00,2,-999.000,9,-999.000,9,-999.0000,9,  2140.0,2, 2415.86,2,  406.480,2,    20.00,   7.98179,2,    25.02,    0.52,2,   36.08,2,    2.14, -999.00,9,-999.000,9,   54.40,2,    4.57,2,     -999.0,9, 20210429,     2140,  18.9816, -66.0048,    21.6370,2,     0.0568,1,     4.6603,1,     -999.0,9,     -999.0,9,     -999.0,9
325020210420,        A22,      36,          1,         29,         29,2,20210429,       1958,    18.9816,   -66.0048,       3658,   186.1,  20.1094,  36.7820,2,  36.7788,2,    183.2,2,   183.4,2,    0.97,2,    1.78,2,    0.00,2,    0.00,2,   1.946,2,   1.224,2,   1.6800,2,  2134.5,2, 2401.14,2,  417.000,2,    20.00,   7.97074,2,    25.01,    0.44,2,   41.16,2,    2.15, -999.00,9,-999.000,9,   52.10,2,    5.55,2,       7.90,2, 20210429,     2139,  18.9816, -66.0048,    20.1486,2,     0.0475,1,     4.6657,1,     -999.0,9,     -999.0,9,     -999.0,9
325020210420,        A22,      36,          1,         28,         28,2,20210429,       1958,    18.9816,   -66.0048,       3658,   216.9,  19.1608,  36.6626,2,  36.6628,2,    185.5,2,   185.7,2,    1.17,2,    3.61,2,    0.00,2,    0.09,2,-999.000,9,-999.000,9,-999.0000,9,  2134.1,2, 2392.66,2,  429.890,2,    20.00,   7.95909,2,    25.01,    0.44,2,   46.18,2,    2.12, -999.00,9,-999.000,9,   49.60,2,    6.45,2,     -999.0,9, 20210429,     2137,  18.9816, -66.0048,    19.1806,2,     0.0399,1,     4.6722,1,     -999.0,9,     -999.0,9,     -999.0,9
325020210420,        A22,      36,          1,         27,         27,2,20210429,       1958,    18.9816,   -66.0048,       3658,   266.0,  18.3202,  36.5492,2,  36.5567,2,    189.5,2,   188.2,2,    1.66,2,    5.02,2,    0.00,2,    0.18,2,   2.121,2,   1.321,2,   1.6900,2,  2136.9,2, 2385.33,2,  447.030,2,    20.00,    7.9444,2,    25.02,    0.51,2,   52.39,2,    2.94, -999.00,9,-999.000,9,   48.60,2, -999.00,1,       9.17,2, 20210429,     2135,  18.9816, -66.0048,    18.3289,2,     0.0393,1,     4.6742,1,     -999.0,9,     -999.0,9,     -999.0,9
325020210420,        A22,      36,          1,         26,         26,2,20210429,       1958,    18.9816,   -66.0048,       3658,   316.3,  17.7089,  36.4531,2,  36.4473,2,    176.9,2,   177.8,2,    2.34,2,    7.01,2,    0.00,2,    0.30,2,-999.000,9,-999.000,9,-999.0000,9,  2146.6,2, 2379.35,2,  481.840,2,    20.00,    7.9149,2,    25.00,    0.53,2,   52.64,2,    2.20, -999.00,9,-999.000,9,   47.70,2, -999.00,1,     -999.0,9, 20210429,     2132,  18.9816, -66.0048,    17.7037,2,     0.0400,1,     4.6759,1,     -999.0,9,     -999.0,9,     -999.0,9
325020210420,        A22,      36,          1,         25,         25,2,20210429,       1958,    18.9816,   -66.0048,       3658,   367.4,  16.1810,  36.2106,2,  36.2093,2,    157.1,2,   156.8,2,    3.61,2,   11.46,2,    0.00,2,    0.58,2,   2.189,2,   1.335,2,   1.3400,2,  2169.1,2, 2366.18,2,  572.800,2,    20.00,   7.84637,2,    24.96,    0.41,2,   49.30,2,    2.17, -999.00,9,-999.000,9,   46.70,2, -999.00,1,      14.33,2, 20210429,     2130,  18.9816, -66.0048,    16.2126,2,     0.0403,1,     4.6769,1,     -999.0,9,     -999.0,9,     -999.0,9
325020210420,        A22,      36,          1,         24,         24,2,20210429,       1958,    18.9816,   -66.0048,       3658,   417.5,  14.7367,  35.9655,2,  35.9538,2,    145.2,2,   145.3,2,    5.17,2,   15.13,2,    0.00,2,    0.80,2,-999.000,9,-999.000,9,-999.0000,9,  2181.4,2, 2350.84,2, -999.000,9,  -999.00,    7.7928,2,    24.98,    0.43,2,   47.83,2,    2.05, -999.00,9,-999.000,9,   46.60,2, -999.00,1,     -999.0,9, 20210429,     2128,  18.9816, -66.0048,    14.7183,2,     0.0407,1,     4.6785,1,     -999.0,9,     -999.0,9,     -999.0,9
325020210420,        A22,      36,          1,         23,         23,2,20210429,       1958,    18.9816,   -66.0048,       3658,   468.9,  13.2063,  35.6987,2,  35.6942,2,    131.9,2,   132.2,2,    7.51,2,   19.25,2,    0.00,2,    1.07,2,   2.030,2,   1.172,2,   0.9100,2,  2194.6,2, 2336.74,2,  753.510,2,    20.00,   7.73359,2,    25.02,    0.44,2,   37.15,2,    2.14, -999.00,9,-999.000,9,   45.20,2, -999.00,1,      20.61,2, 20210429,     2126,  18.9816, -66.0048,    13.1995,2,     0.0418,1,     4.6789,1,     -999.0,9,     -999.0,9,     -999.0,9
325020210420,        A22,      36,          1,         22,         22,2,20210429,       1958,    18.9816,   -66.0048,       3658,   538.8,  11.0267,  35.3308,2,  35.3277,2,    125.0,2,   125.5,2,   11.61,2,   24.11,2,    0.00,2,    1.40,2,-999.000,9,-999.000,9,-999.0000,9,  2205.0,2, 2319.34,2,  882.760,2,    20.00,   7.66602,2,    25.05,    0.54,2,    6.46,2,    1.97, -999.00,9,-999.000,9,   44.20,2, -999.00,1,     -999.0,9, 20210429,     2123,  18.9816, -66.0048,    11.0316,2,     0.0418,1,     4.6788,1,     -999.0,9,     -999.0,9,     -999.0,9
325020210420,        A22,      36,          1,         21,         21,2,20210429,       1958,    18.9816,   -66.0048,       3658,   639.5,   9.3038,  35.0832,2,  35.0835,2,    122.4,2,   122.6,2,   15.41,2,   27.78,2,    0.00,2,    1.69,2,   1.369,2,   0.744,2,   0.4900,2,  2211.9,6,  2315.6,2,  986.530,2,    20.00,   7.61766,2,    25.04,    0.61,2,  -16.83,2,    2.03, -999.00,9,-999.000,9,   42.30,2, -999.00,1,      25.18,2, 20210429,     2120,  18.9816, -66.0048,     9.3034,2,     0.0418,1,     4.6789,1,     -999.0,9,     -999.0,9,     -999.0,9
325020210420,        A22,      36,          1,         20,         20,2,20210429,       1958,    18.9816,   -66.0048,       3658,   741.3,   8.4832,  35.0392,2,  35.0331,2,    127.6,2,   127.9,2,   17.56,2,   28.47,2,    0.00,2,    1.77,2,-999.000,9,-999.000,9,-999.0000,9,  2215.2,2, 2316.17,2,  992.470,2,    20.00,   7.61425,6,    25.00,    0.68,2,  -35.80,2,    2.04, -999.00,9,-999.000,9,   42.00,2, -999.00,1,     -999.0,9, 20210429,     2116,  18.9816, -66.0048,     8.4802,2,     0.0421,1,     4.6806,1,     -999.0,9,     -999.0,9,     -999.0,9
325020210420,        A22,      36,          1,         19,         19,2,20210429,       1958,    18.9816,   -66.0048,       3658,   841.5,   7.3563,  34.9401,2,  34.9400,2,    134.6,2,   135.0,2,   20.29,2,   29.40,2,    0.00,2,    1.84,2,   0.680,2,   0.367,2,   0.2600,2,  2216.0,2, 2311.09,6, 1017.550,2,    20.00,   7.60424,2,    25.00,    0.70,2,  -56.33,2,    1.85, -999.00,9,-999.000,9,   41.30,2, -999.00,1,      23.30,2, 20210429,     2114,  18.9816, -66.0048,     7.3544,2,     0.0422,1,     4.6810,1,     -999.0,9,     -999.0,9,     -999.0,9
325020210420,        A22,      36,          1,         18,         18,2,20210429,       1958,    18.9816,   -66.0048,       3658,   942.9,   6.5278,  34.9377,2,  34.9305,2,    152.5,2,   151.3,2,   20.98,2,   28.27,2,    0.00,2,    1.80,2,   0.562,2,   0.300,2,   0.1700,2,  2211.8,2, 2311.54,2,  983.860,2,    20.00,   7.61718,2,    25.02,    0.75,2,  -70.86,2,    1.83, -999.00,9,-999.000,9,   40.80,2, -999.00,1,      21.74,2, 20210429,     2111,  18.9816, -66.0048,     6.5222,2,     0.0424,1,     4.6817,1,     -999.0,9,     -999.0,9,     -999.0,9
325020210420,        A22,      36,          1,         17,         17,2,20210429,       1958,    18.9816,   -66.0048,       3658,  1043.6,   6.0181,  34.9864,2,  34.9846,2,    178.2,2,   178.3,2,   18.93,2,   25.21,2,    0.00,2,    1.60,2,-999.000,9,-999.000,9,-999.0000,9,  2201.1,2, 2314.29,2,  901.990,2,    20.00,   7.65396,2,    25.03,    0.87,2,  -62.17,2,    2.25, -999.00,9,-999.000,9,   42.70,2, -999.00,1,     -999.0,9, 20210429,     2107,  18.9816, -66.0048,     6.0152,2,     0.0417,1,     4.6836,1,     -999.0,9,     -999.0,9,     -999.0,9
325020210420,        A22,      36,          1,         16,         16,2,20210429,       1958,    18.9816,   -66.0048,       3658,  1145.5,   5.5193,  35.0355,2,  35.0358,2,    210.4,2,   210.0,2,   15.51,2,   21.51,2,    0.00,2,    1.37,2,   1.359,2,   0.701,2,   0.5300,2,  2188.7,2,  2314.0,2, -999.000,9,  -999.00,   7.69142,2,    25.02,    0.88,2,  -49.36,2,    1.97, -999.00,9,-999.000,9,   43.30,2, -999.00,1,      16.33,2, 20210429,     2104,  18.9816, -66.0048,     5.5194,2,     0.0423,1,     4.6838,1,     -999.0,9,     -999.0,9,     -999.0,9
325020210420,        A22,      36,          1,         15,         15,2,20210429,       1958,    18.9816,   -66.0048,       3658,  1246.8,   5.1447,  35.0442,2,  35.0433,2,    231.2,2,   231.6,2,   13.36,2,   19.42,2,    0.00,2,    1.24,2,-999.000,9,-999.000,9,-999.0000,9,  2180.1,2, 2311.55,2,  790.465,6,    20.00,    7.7077,2,    25.01,    0.84,2,  -35.15,2,    1.99, -999.00,9,-999.000,9,   43.90,2, -999.00,1,     -999.0,9, 20210429,     2101,  18.9816, -66.0048,     5.1446,2,     0.0417,1,     4.6838,1,     -999.0,9,     -999.0,9,     -999.0,9
325020210420,        A22,      36,          1,         14,         14,2,20210429,       1958,    18.9816,   -66.0048,       3658,  1347.4,   4.7957,  35.0301,2,  35.0305,2,    241.8,2,   242.0,2,   12.88,2,   18.74,2,    0.00,2,    1.19,2,   2.080,2,   1.069,2,   0.5800,2,  2176.4,2, 2309.89,2, -999.000,9,  -999.00,   7.71435,6,    25.01,    0.91,2,  -29.27,2,    2.02, -999.00,9,-999.000,9,   44.40,2, -999.00,1,      14.34,2, 20210429,     2058,  18.9816, -66.0048,     4.7947,2,     0.0420,1,     4.6838,1,     -999.0,9,     -999.0,9,     -999.0,9
325020210420,        A22,      36,          1,         13,         13,2,20210429,       1958,    18.9816,   -66.0048,       3658,  1448.8,   4.4932,  35.0156,2,  35.0161,2,    249.2,2,   248.9,2,   12.88,2,   18.31,2,    0.00,2,    1.17,2,-999.000,9,-999.000,9,-999.0000,9,  2173.2,2, 2309.92,2,  770.710,2,    20.00,   7.71827,2,    25.00,    0.89,2,  -27.83,2,    2.10, -999.00,9,-999.000,9,   43.90,2, -999.00,1,     -999.0,9, 20210429,     2055,  18.9816, -66.0048,     4.4934,2,     0.0427,1,     4.6839,1,     -999.0,9,     -999.0,9,     -999.0,9
325020210420,        A22,      36,          1,         12,         12,2,20210429,       1958,    18.9816,   -66.0048,       3658,  1550.2,   4.2454,  35.0021,2,  35.0030,2,    253.4,2,   253.5,2,   13.37,2,   18.19,2,    0.00,2,    1.16,2,   2.013,2,   1.021,2,   0.5300,2,  2170.3,2, 2308.21,2,  761.640,2,    20.00,   7.72295,2,    25.02,    0.93,2,  -31.29,2,    2.01, -999.00,9,-999.000,9,   44.80,2, -999.00,1,      13.78,2, 20210429,     2052,  18.9816, -66.0048,     4.2428,2,     0.0424,1,     4.6838,1,     -999.0,9,     -999.0,9,     -999.0,9
325020210420,        A22,      36,          1,         11,         11,2,20210429,       1958,    18.9816,   -66.0048,       3658,  1651.9,   4.0303,  34.9914,2,  34.9909,2,    256.2,2,   256.2,2,   13.95,2,   18.12,2,    0.00,2,    1.15,2,   1.808,2,   0.909,2,   0.4100,2,  2169.9,6, 2309.74,2,  753.900,2,    20.00,   7.72601,2,    25.01,    0.95,2,  -35.00,2,    1.90, -999.00,9,-999.000,9,   43.80,2, -999.00,1,      13.58,2, 20210429,     2047,  18.9816, -66.0048,     4.0300,2,     0.0412,1,     4.6838,1,     -999.0,9,     -999.0,9,     -999.0,9
325020210420,        A22,      36,          1,         10,         10,2,20210429,       1958,    18.9816,   -66.0048,       3658,  1752.8,   3.8727,  34.9830,2,  34.9835,2,    258.1,2,   258.3,2,   14.44,2,   18.08,2,    0.00,2,    1.15,2,-999.000,9,-999.000,9,-999.0000,9,  2168.7,2, 2310.78,2,  750.410,2,    20.00,     7.728,6,    25.01,    0.97,2,  -37.92,2,    1.93, -999.00,9,-999.000,9,   44.10,2, -999.00,1,     -999.0,9, 20210429,     2045,  18.9816, -66.0048,     3.8717,2,     0.0423,1,     4.6841,1,     -999.0,9,     -999.0,9,     -999.0,9
325020210420,        A22,      36,          1,          9,          9,2,20210429,       1958,    18.9816,   -66.0048,       3658,  1884.4,   3.6772,  34.9739,2,  34.9744,2,    259.5,2,   260.1,2,   15.51,2,   18.12,2,    0.00,2,    1.16,2,   1.472,2,   0.719,2,   0.3500,2,  2168.0,2, 2310.56,6, -999.000,9,  -999.00,   7.73067,2,    25.01,    1.07,2,  -50.19,2,    1.98, -999.00,9,-999.000,9,   43.10,2, -999.00,1,      13.32,2, 20210429,     2042,  18.9816, -66.0048,     3.6765,2,     0.0416,1,     4.6840,1,     -999.0,9,     -999.0,9,     -999.0,9
325020210420,        A22,      36,          1,          8,          8,2,20210429,       1958,    18.9816,   -66.0048,       3658,  2087.4,   3.4645,  34.9641,2,  34.9640,2,    260.7,2,   261.2,2,   17.07,2,   18.19,2,    0.00,2,    1.17,2,   1.250,2,   0.613,2,   0.2300,2,  2168.5,2, 2311.84,2,  740.620,2,    20.00,   7.73426,2,    24.97,    1.03,2,  -56.51,2,    1.89, -999.00,9,-999.000,9,   44.10,2, -999.00,1,      13.39,2, 20210429,     2037,  18.9816, -66.0048,     3.4644,2,     0.0428,1,     4.6838,1,     -999.0,9,     -999.0,9,     -999.0,9
325020210420,        A22,      36,          1,          7,          7,2,20210429,       1958,    18.9816,   -66.0048,       3658,  2291.0,   3.2839,  34.9573,2,  34.9575,2,    260.4,2,   260.8,2,   19.12,2,   18.34,2,    0.00,2,    1.17,2,-999.000,9,-999.000,9,-999.0000,9,  2169.1,2, 2313.48,2, -999.000,9,  -999.00,   7.73596,2,    25.01,    1.08,2,  -65.18,2,    1.90, -999.00,9,-999.000,9,   43.60,2, -999.00,1,     -999.0,9, 20210429,     2031,  18.9816, -66.0048,     3.2836,2,     0.0418,1,     4.6845,1,     -999.0,9,     -999.0,9,     -999.0,9
325020210420,        A22,      36,          1,          6,          6,2,20210429,       1958,    18.9816,   -66.0048,       3658,  2495.4,   3.1106,  34.9494,2,  34.9496,2,    260.2,2,   260.5,2,   21.17,2,   18.51,2,    0.00,2,    1.20,2,   0.837,2,   0.416,2,   0.1400,2,  2170.5,2, 2316.24,2, -999.000,9,  -999.00,   7.73822,2,    25.02,    1.09,2,  -67.95,2,    2.18, -999.00,9,-999.000,9,   43.30,2, -999.00,1,      13.37,2, 20210429,     2027,  18.9816, -66.0048,     3.1096,2,     0.0424,1,     4.6845,1,     -999.0,9,     -999.0,9,     -999.0,9
325020210420,        A22,      36,          1,          5,          5,2,20210429,       1958,    18.9816,   -66.0048,       3658,  2699.3,   2.9411,  34.9380,2,  34.9378,2,    262.2,2,   262.5,2,   21.85,2,   18.38,2,    0.00,2,    1.19,2,   0.919,2,   0.458,2,   0.2900,2,  2172.1,2, 2317.53,2,  734.960,2,    20.00,   7.73844,2,    24.92,    1.05,2,  -70.06,2,    2.07, -999.00,9,-999.000,9,   43.20,2, -999.00,1,      13.40,2, 20210429,     2022,  18.9816, -66.0048,     2.9409,2,     0.0424,1,     4.6846,1,     -999.0,9,     -999.0,9,     -999.0,9
325020210420,        A22,      36,          1,          4,          4,2,20210429,       1958,    18.9816,   -66.0048,       3658,  2902.2,   2.7706,  34.9274,2,  34.9282,2,    263.5,2,   263.3,2,   23.12,2,   18.33,2,    0.00,2,    1.19,2,   0.958,2,   0.480,2,   0.2900,2,  2171.3,2, 2317.96,2, -999.000,9,  -999.00,   7.73683,2,    25.00,    1.09,2,  -67.68,2,    1.93, -999.00,9,-999.000,9,   43.40,2, -999.00,1,      13.28,2, 20210429,     2017,  18.9816, -66.0048,     2.7704,2,     0.0420,1,     4.6847,1,     -999.0,9,     -999.0,9,     -999.0,9
325020210420,        A22,      36,          1,          3,          3,2,20210429,       1958,    18.9816,   -66.0048,       3658,  3106.6,   2.6482,  34.9187,2,  34.9205,2,    266.2,2,   266.7,2,   22.93,2,   18.05,2,    0.00,2,    1.16,2,-999.000,9,-999.000,9,-999.0000,9,  2172.0,2, 2316.07,2, -999.000,9,  -999.00,   7.73655,2,    25.01,    1.04,2,  -55.30,2,    1.72, -999.00,9,-999.000,9,   43.50,2, -999.00,1,     -999.0,9, 20210429,     2012,  18.9816, -66.0048,     2.6475,2,     0.0425,1,     4.6836,1,     -999.0,9,     -999.0,9,     -999.0,9