BOTTLE,20230513CCHSIOCBG
EXPOCODE,SECT_ID,STNNBR,CASTNO,SAMPNO,BTLNBR,BTLNBR_FLAG_W,DATE,TIME,LATITUDE,LONGITUDE,DEPTH,CTDPRS,CTDTMP,CTDSAL,CTDSAL_FLAG_W,SALNTY,SALNTY_FLAG_W,CTDOXY,CTDOXY_FLAG_W,OXYGEN,OXYGEN_FLAG_W,SILCAT,SILCAT_FLAG_W,NITRAT,NITRAT_FLAG_W,NITRIT,NITRIT_FLAG_W,PHSPHT,PHSPHT_FLAG_W,CFC-11,CFC-11_FLAG_W,CFC-12,CFC-12_FLAG_W,SF6,SF6_FLAG_W,TCARBN,TCARBN_FLAG_W,ALKALI,ALKALI_FLAG_W,FCO2,FCO2_FLAG_W,FCO2TMP,PH_TOT,PH_TOT_FLAG_W,PH_TMP,DELC13,DELC13_FLAG_W,DELC14,DELC14_FLAG_W,C14ERR,DELO18,DELO18_FLAG_W,POC,POC_FLAG_W,DOC,DOC_FLAG_W,TDN,TDN_FLAG_W,N2O,N2O_FLAG_W,BTL_DATE,BTL_TIME,BTL_LAT,BTL_LON,REFTMP,REFTMP_FLAG_W,CTDFLUOR,CTDFLUOR_FLAG_W,CTDXMISS,CTDXMISS_FLAG_W,D15N_NO2+NO3,D15N_NO2+NO3_FLAG_W,D18O_NO2+NO3,D18O_NO2+NO3_FLAG_W,HPLC,HPLC_FLAG_W
,,,,,,,,,,,METERS,DBAR,ITS-90,PSS-78,,PSS-78,,UMOL/KG,,UMOL/KG,,UMOL/KG,,UMOL/KG,,UMOL/KG,,UMOL/KG,,PMOL/KG,,PMOL/KG,,FMOL/KG,,UMOL/KG,,UMOL/KG,,UATM,,DEG C,,,DEG C,/MILLE,,/MILLE,,/MILLE,/MILLE,,UG/KG,,UMOL/KG,,UMOL/KG,,NMOL/KG,,,,,,ITS-90,,VOLTS,,VOLTS,,/MILLE,,/MILLE,,,
325020210420,        A22,      66,          1,         36,         36,2,20210508,       1436,    32.9338,   -65.1987,       4728,     4.4,  20.9772,  36.6980,2,  36.6996,2,    223.4,2,   222.7,2,    0.49,2,    0.00,2,    0.00,2,    0.00,2,   1.903,2,   1.182,2,   1.9500,2,  2096.0,6, 2398.01,2,  353.590,2,    20.00,   8.03041,2,    25.02,    0.71,2,   34.44,2,    2.13, -999.00,1,-999.000,9,   62.10,2,    3.54,2,       6.91,2, 20210508,     1646,  32.9338, -65.1987,    20.9667,2,     0.0437,1,     4.6055,1,     -999.0,9,     -999.0,9,     -999.0,9
325020210420,        A22,      66,          1,         35,         35,2,20210508,       1436,    32.9338,   -65.1987,       4728,    35.7,  20.2347,  36.7400,2,  36.7415,2,    226.3,2,   226.2,2,    0.39,2,    0.00,2,    0.00,2,    0.00,2,-999.000,9,-999.000,9,-999.0000,9,  2098.3,2, 2400.76,2,  354.300,2,    20.00,   8.02875,6,    24.99,    0.71,2,   35.35,2,    2.22, -999.00,9,-999.000,9,   62.30,2,    4.07,2,     -999.0,9, 20210508,     1645,  32.9338, -65.1986,    20.2351,2,     0.0474,1,     4.5994,1,     -999.0,9,     -999.0,9,     -999.0,9
325020210420,        A22,      66,          1,         34,         34,2,20210508,       1436,    32.9338,   -65.1987,       4728,    60.9,  19.9657,  36.7479,2,  36.7484,2,    225.5,2,   225.5,2,    0.49,2,    0.00,2,    0.00,2,    0.00,2,-999.000,9,-999.000,9,-999.0000,9,  2099.3,2, 2400.65,6,  356.200,2,    20.00,   8.02739,2,    24.97,    0.70,2,   35.01,2,    2.04, -999.00,9,-999.000,9,   59.70,2,    4.32,2,     -999.0,9, 20210508,     1643,  32.9338, -65.1987,    19.9649,2,     0.0590,1,     4.6005,1,     -999.0,9,     -999.0,9,     -999.0,9
325020210420,        A22,      66,          1,         33,         33,2,20210508,       1436,    32.9338,   -65.1987,       4728,    85.9,  19.8211,  36.7452,2,  36.7461,2,    221.8,2,   221.9,2,    0.39,2,    0.06,2,    0.00,2,    0.00,2,   1.923,2,   1.203,2,   1.9100,2,  2102.4,2, 2401.05,2,  361.590,2,    20.00,   8.02205,2,    24.99,    0.66,2,   37.79,2,    2.55, -999.00,1,-999.000,9,   57.60,2,    3.09,2,       7.08,2, 20210508,     1641,  32.9338, -65.1986,    19.8194,2,     0.1206,1,     4.5671,1,     -999.0,9,     -999.0,9,     -999.0,9
325020210420,        A22,      66,          1,         32,         32,2,20210508,       1436,    32.9338,   -65.1987,       4728,   116.8,  19.6112,  36.7269,2,  36.7262,2,    223.7,2,   223.9,2,    0.49,2,    0.11,2,    0.09,2,    0.00,2,-999.000,9,-999.000,9,-999.0000,9,  2102.7,2, 2399.13,2,  364.820,2,    20.00,   8.01952,2,    24.99,    0.64,2,   35.72,2,    2.84, -999.00,9,-999.000,9,   56.90,2,    3.74,2,     -999.0,9, 20210508,     1639,  32.9338, -65.1987,    19.6101,2,     0.0774,1,     4.6267,1,     -999.0,9,     -999.0,9,     -999.0,9
325020210420,        A22,      66,          1,         31,         31,2,20210508,       1436,    32.9338,   -65.1987,       4728,   167.0,  19.2419,  36.6770,2,  36.6780,2,    211.7,2,   211.9,2,    0.68,2,    1.68,2,    0.04,2,    0.02,2,   1.964,6,   1.235,6,   1.8700,6,  2111.7,2, 2396.54,2,  385.950,2,    20.00,   7.99832,2,    25.00,    0.55,2,   39.24,2,    2.14, -999.00,9,-999.000,9,   52.90,2,    5.30,2,       7.52,6, 20210508,     1637,  32.9338, -65.1987,    19.2405,2,     0.0455,1,     4.6532,1,     -999.0,9,     -999.0,9,     -999.0,9
325020210420,        A22,      66,          1,         30,         30,2,20210508,       1436,    32.9338,   -65.1987,       4728,   216.5,  18.9653,  36.6437,2,  36.6453,2,    208.4,2,   208.8,2,    0.88,2,    2.42,2,    0.00,2,    0.06,2,-999.000,9,-999.000,9,-999.0000,9,  2117.5,2, 2393.09,2,  396.210,2,    20.00,     7.988,2,    25.01,    0.58,2,   44.70,2,    2.67, -999.00,9,-999.000,9,   52.00,2,    5.78,2,     -999.0,9, 20210508,     1635,  32.9338, -65.1986,    18.9635,2,     0.0394,1,     4.6555,1,     -999.0,9,     -999.0,9,     -999.0,9
325020210420,        A22,      66,          1,         29,         29,2,20210508,       1436,    32.9338,   -65.1987,       4728,   267.1,  18.7289,  36.6087,2,  36.6108,2,    203.1,2,   203.6,2,    0.97,2,    3.23,2,    0.00,2,    0.10,2,   2.032,2,   1.267,2,   1.8200,2,  2123.8,2, 2392.46,2,  409.030,2,    20.00,   7.97665,2,    25.01,    0.53,2,   42.75,2,    2.15, -999.00,9,-999.000,9,   49.90,2, -999.00,1,       8.06,2, 20210508,     1632,  32.9338, -65.1986,    18.7270,2,     0.0397,1,     4.6580,1,     -999.0,9,     -999.0,9,     -999.0,9
325020210420,        A22,      66,          1,         28,         28,2,20210508,       1436,    32.9338,   -65.1987,       4728,   317.7,  18.4584,  36.5679,2,  36.5678,2,    199.1,2,   198.8,2,    1.17,2,    4.03,2,    0.00,2,    0.14,2,-999.000,9,-999.000,9,-999.0000,9,  2126.8,2, 2388.88,2,  423.020,2,    20.00,   7.96337,2,    24.98,    0.50,2,   48.40,2,    2.51, -999.00,9,-999.000,9,   49.40,2, -999.00,1,     -999.0,9, 20210508,     1630,  32.9338, -65.1986,    18.4598,2,     0.0391,1,     4.6606,1,     -999.0,9,     -999.0,9,     -999.0,9
325020210420,        A22,      66,          1,         27,         27,2,20210508,       1436,    32.9338,   -65.1987,       4728,   368.2,  18.0335,  36.4959,2,  36.4976,2,    192.8,2,   192.8,2,    1.46,2,    5.23,2,    0.00,2,    0.20,2,   2.107,2,   1.317,2,   1.6700,2,  2134.7,2, 2386.96,2,  444.300,2,    20.00,   7.94525,2,    24.95, -999.00,9, -999.00,9, -999.00, -999.00,9,-999.000,9,   47.40,2, -999.00,1,       8.93,2, 20210508,     1628,  32.9338, -65.1986,    18.0428,2,     0.0400,1,     4.6628,1,     -999.0,9,     -999.0,9,     -999.0,9
325020210420,        A22,      66,          1,         26,         26,2,20210508,       1436,    32.9338,   -65.1987,       4728,   419.3,  17.5496,  36.4139,2,  36.4158,2,    186.9,2,   186.7,2,    2.05,2,    6.54,2,    0.00,2,    0.28,2,-999.000,9,-999.000,9,-999.0000,9,  2139.3,2,  2378.6,2,  467.080,2,    20.00,    7.9265,2,    25.00,    0.55,2,   54.24,2,    2.17, -999.00,9,-999.000,9,   46.60,2, -999.00,1,     -999.0,9, 20210508,     1625,  32.9338, -65.1986,    17.5504,2,     0.0404,1,     4.6637,1,     -999.0,9,     -999.0,9,     -999.0,9
325020210420,        A22,      66,          1,         25,         25,2,20210508,       1436,    32.9338,   -65.1987,       4728,   469.2,  16.5650,  36.2483,2,  36.2475,2,    179.8,2,   179.4,2,    2.73,2,    8.85,2,    0.00,2,    0.43,2,   2.215,2,   1.341,2,   1.4700,2,  2148.3,2, 2369.23,2,  508.370,2,    20.00,   7.89276,2,    24.98, -999.00,9, -999.00,9, -999.00, -999.00,9,-999.000,9,   45.50,2, -999.00,1,      11.03,2, 20210508,     1624,  32.9338, -65.1986,    16.5648,2,     0.0404,1,     4.6637,1,     -999.0,9,     -999.0,9,     -999.0,9
325020210420,        A22,      66,          1,         24,         24,2,20210508,       1436,    32.9338,   -65.1987,       4728,   539.4,  15.5182,  36.0709,2,  36.0734,2,    177.5,2,   178.1,2,    3.61,2,   10.66,2,    0.00,2,    0.56,2,-999.000,9,-999.000,9,-999.0000,9,  2153.8,2, 2360.22,2,  545.890,2,    20.00,   7.86428,2,    24.98,    0.53,2,   46.87,2,    2.15, -999.00,9,-999.000,9,   45.60,2, -999.00,1,     -999.0,9, 20210508,     1622,  32.9338, -65.1986,    15.5212,2,     0.0407,1,     4.6658,1,     -999.0,9,     -999.0,9,     -999.0,9
325020210420,        A22,      66,          1,         23,         23,2,20210508,       1436,    32.9338,   -65.1987,       4728,   641.4,  13.2184,  35.7117,2,  35.7120,2,    163.0,2,   162.7,2,    6.63,2,   15.87,2,    0.00,2,    0.91,2,   2.094,2,   1.233,2,   1.1500,2,  2172.9,2, 2342.92,2,  661.010,2,    20.00,    7.7869,2,    24.96, -999.00,9, -999.00,9, -999.00, -999.00,9,-999.000,9,   50.00,3, -999.00,1,      15.67,2, 20210508,     1619,  32.9338, -65.1986,    13.2165,2,     0.0406,1,     4.6690,1,     -999.0,9,     -999.0,9,     -999.0,9
325020210420,        A22,      66,          1,         22,         22,2,20210508,       1436,    32.9338,   -65.1987,       4728,   741.8,  10.8747,  35.4060,2,  35.4066,2,    151.9,2,   151.9,2,   10.53,2,   20.71,2,    0.00,2,    1.24,2,   1.788,2,   1.014,2,   0.9000,2,  2187.2,6, 2327.97,2,  785.150,2,    20.00,   7.71515,2,    24.96,    0.62,2,    8.09,2,    2.25, -999.00,9,-999.000,9,   44.30,2, -999.00,1,      18.48,2, 20210508,     1616,  32.9338, -65.1987,    10.8744,2,     0.0423,1,     4.6705,1,     -999.0,9,     -999.0,9,     -999.0,9
325020210420,        A22,      66,          1,         21,         21,2,20210508,       1436,    32.9338,   -65.1987,       4728,   842.6,   8.8997,  35.2294,2,  35.2322,2,    160.1,2,   160.4,2,   12.78,2,   22.39,2,    0.00,2,    1.38,2,   1.613,2,   0.881,2,   0.7200,2,  2191.4,2, 2320.77,2,  845.040,2,    20.00,   7.68378,6,    24.98, -999.00,9, -999.00,9, -999.00, -999.00,9,-999.000,9,   42.50,2, -999.00,1,      18.83,2, 20210508,     1613,  32.9338, -65.1986,     8.8975,2,     0.0431,1,     4.6723,1,     -999.0,9,     -999.0,9,     -999.0,9
325020210420,        A22,      66,          1,         20,         20,2,20210508,       1436,    32.9338,   -65.1987,       4728,   943.6,   7.2314,  35.1368,2,  35.1382,2,    184.5,2,   184.8,2,   13.37,2,   21.63,2,    0.00,2,    1.36,2,-999.000,9,-999.000,9,-999.0000,9,  2192.1,2, 2317.08,6,  850.140,2,    20.00,   7.67977,2,    24.98,    0.76,2,  -24.84,2,    2.00, -999.00,9,-999.000,9,   42.90,2, -999.00,1,     -999.0,9, 20210508,     1609,  32.9338, -65.1986,     7.2367,2,     0.0421,1,     4.6725,1,     -999.0,9,     -999.0,9,     -999.0,9
325020210420,        A22,      66,          1,         19,         19,2,20210508,       1436,    32.9338,   -65.1987,       4728,  1045.2,   6.3269,  35.1176,2,  35.1171,2,    205.1,2,   204.9,2,   13.27,2,   20.58,2,    0.00,2,    1.30,2,   1.800,2,   0.965,2,   0.6400,2,  2185.2,2, 2316.84,2,  822.590,2,    20.00,    7.6938,2,    24.99, -999.00,9, -999.00,9, -999.00, -999.00,9,-999.000,9,   42.60,2, -999.00,1,      15.76,2, 20210508,     1606,  32.9338, -65.1986,     6.3269,2,     0.0417,1,     4.6740,1,     -999.0,9,     -999.0,9,     -999.0,9
325020210420,        A22,      66,          1,         18,         18,2,20210508,       1436,    32.9338,   -65.1987,       4728,  1145.7,   5.6897,  35.1057,2,  35.1055,2,    223.0,2,   223.0,2,   12.78,2,   19.46,2,    0.00,2,    1.24,2,   1.967,2,   1.048,2,   0.6500,2,  2180.2,2, 2315.28,2,  794.000,2,    20.00,   7.70584,2,    24.97,    0.85,2,  -27.06,2,    2.00, -999.00,9,-999.000,9,   43.00,2, -999.00,1,      14.99,2, 20210508,     1604,  32.9338, -65.1987,     5.6907,2,     0.0411,1,     4.6745,1,     -999.0,9,     -999.0,9,     -999.0,9
325020210420,        A22,      66,          1,         17,         17,2,20210508,       1436,    32.9338,   -65.1987,       4728,  1247.2,   5.2543,  35.0704,2,  35.0701,2,    233.9,2,   233.9,2,   12.29,2,   18.92,2,    0.00,2,    1.21,2,   2.168,2,   1.151,2,   0.7500,2,  2176.5,2, 2315.91,2,  788.800,2,    20.00,   7.70848,2,    24.99, -999.00,9, -999.00,9, -999.00, -999.00,9,-999.000,9,   43.10,2, -999.00,1,      14.11,2, 20210508,     1601,  32.9338, -65.1986,     5.2536,2,     0.0416,1,     4.6740,1,     -999.0,9,     -999.0,9,     -999.0,9
325020210420,        A22,      66,          1,         16,         16,2,20210508,       1436,    32.9338,   -65.1987,       4728,  1349.6,   4.9350,  35.0573,2,  35.0592,2,    242.4,2,   242.7,2,   12.29,2,   18.41,2,    0.00,2,    1.18,2,-999.000,9,-999.000,9,-999.0000,9,  2172.7,2, 2313.74,2,  778.470,2,    20.00,   7.71343,2,    24.98,    0.93,6,  -23.43,6,    1.90, -999.00,9,-999.000,9,   42.80,2, -999.00,1,     -999.0,9, 20210508,     1558,  32.9338, -65.1986,     4.9376,2,     0.0413,1,     4.6740,1,     -999.0,9,     -999.0,9,     -999.0,9
325020210420,        A22,      66,          1,         15,         15,2,20210508,       1436,    32.9338,   -65.1987,       4728,  1450.1,   4.6985,  35.0439,2,  35.0435,2,    247.3,2,   247.1,2,   12.39,2,   18.20,2,    0.00,2,    1.16,2,   2.310,2,   1.205,2,   0.6800,2,  2171.7,2, 2315.04,2,  772.260,2,    20.00,   7.71744,2,    25.00, -999.00,9, -999.00,9, -999.00, -999.00,9,-999.000,9,   43.30,2, -999.00,1,      13.90,2, 20210508,     1555,  32.9338, -65.1986,     4.6994,2,     0.0418,1,     4.6748,1,     -999.0,9,     -999.0,9,     -999.0,9
325020210420,        A22,      66,          1,         14,         14,2,20210508,       1436,    32.9338,   -65.1987,       4728,  1553.2,   4.5215,  35.0397,2,  35.0403,2,    247.9,2,   248.5,2,   13.17,2,   18.41,2,    0.00,2,    1.17,2,   1.852,2,   0.948,2,   0.4500,2,  2168.0,2, 2314.66,2,  761.310,2,    20.00,   7.72343,2,    24.99,    0.98,2,  -30.34,2,    1.99, -999.00,9,-999.000,9,   42.30,2, -999.00,1,      13.67,2, 20210508,     1552,  32.9338, -65.1986,     4.5247,2,     0.0411,1,     4.6759,1,     -999.0,9,     -999.0,9,     -999.0,9
325020210420,        A22,      66,          1,         13,         13,2,20210508,       1436,    32.9338,   -65.1987,       4728,  1683.5,   4.2850,  35.0245,2,  35.0236,2,    251.6,2,   252.6,2,   13.76,2,   18.28,2,    0.00,2,    1.17,2,   1.710,2,   0.864,2,   0.3100,2,  2166.1,2, 2314.06,2,  755.080,2,    20.00,   7.72571,2,    24.98, -999.00,9, -999.00,9, -999.00, -999.00,9,-999.000,9,   42.20,2, -999.00,1,      13.41,2, 20210508,     1549,  32.9338, -65.1986,     4.2861,2,     0.0422,1,     4.6752,1,     -999.0,9,     -999.0,9,     -999.0,9
325020210420,        A22,      66,          1,         12,         12,2,20210508,       1436,    32.9338,   -65.1987,       4728,  1885.9,   3.9715,  35.0048,2,  35.0041,2,    254.9,2,   255.1,2,   15.03,2,   18.27,2,    0.00,2,    1.18,2,   1.431,2,   0.715,2,   0.2700,2,  2166.7,2, 2319.84,2,  745.760,2,    20.00,   7.73087,2,    24.98, -999.00,9, -999.00,9, -999.00, -999.00,9,-999.000,9,   42.70,2, -999.00,1,      13.01,2, 20210508,     1543,  32.9338, -65.1986,     3.9716,2,     0.0424,1,     4.6752,1,     -999.0,9,     -999.0,9,     -999.0,9
325020210420,        A22,      66,          1,         11,         11,2,20210508,       1436,    32.9338,   -65.1987,       4728,  2110.8,   3.6523,  34.9841,2,  34.9841,2,    257.5,2,   257.6,2,   16.78,2,   18.29,2,    0.00,2,    1.18,2,   1.215,2,   0.607,2,   0.2400,2,  2165.3,6, 2314.76,2,  739.740,2,    20.00,   7.73261,2,    25.00, -999.00,9, -999.00,9, -999.00, -999.00,9,-999.000,9,   41.50,2, -999.00,1,      13.07,2, 20210508,     1538,  32.9338, -65.1986,     3.6555,2,     0.0417,1,     4.6752,1,     -999.0,9,     -999.0,9,     -999.0,9
325020210420,        A22,      66,          1,         10,         10,2,20210508,       1436,    32.9338,   -65.1987,       4728,  2365.6,   3.3612,  34.9670,2,  34.9663,2,    258.5,2,   258.7,2,   19.42,2,   18.42,2,    0.00,2,    1.20,2,-999.000,9,-999.000,9,-999.0000,9,  2164.2,2, 2318.36,2,  735.940,2,    20.00,   7.73687,6,    24.99, -999.00,9, -999.00,9, -999.00, -999.00,9,-999.000,9,   45.40,2, -999.00,1,     -999.0,9, 20210508,     1532,  32.9338, -65.1986,     3.3619,2,     0.0430,1,     4.6746,1,     -999.0,9,     -999.0,9,     -999.0,9
325020210420,        A22,      66,          1,          9,          9,2,20210508,       1436,    32.9338,   -65.1987,       4728,  2619.4,   3.1326,  34.9526,2,  34.9520,2,    259.9,2,   259.6,2,   21.47,2,   18.52,2,    0.00,2,    1.21,2,   0.723,2,   0.372,2,   0.1200,2,  2165.9,2, 2316.82,6,  733.210,2,    20.00,   7.73866,2,    24.99, -999.00,9, -999.00,9, -999.00, -999.00,9,-999.000,9,   45.00,2, -999.00,1,      12.95,2, 20210508,     1526,  32.9338, -65.1987,     3.1320,2,     0.0427,1,     4.6754,1,     -999.0,9,     -999.0,9,     -999.0,9
325020210420,        A22,      66,          1,          8,          8,2,20210508,       1436,    32.9338,   -65.1987,       4728,  2875.2,   2.8924,  34.9360,2,  34.9372,2,    262.7,2,   263.1,2,   22.44,2,   18.35,2,    0.00,2,    1.20,2,   0.761,2,   0.387,2,   0.1600,2,  2162.2,2, 2335.79,3,  730.080,6,    20.00,    7.7392,2,    25.00, -999.00,9, -999.00,9, -999.00, -999.00,9,-999.000,9,   42.80,2, -999.00,1,      12.91,2, 20210508,     1520,  32.9338, -65.1986,     2.8925,2,     0.0434,1,     4.6752,1,     -999.0,9,     -999.0,9,     -999.0,9
325020210420,        A22,      66,          1,          7,          7,2,20210508,       1436,    32.9338,   -65.1987,       4728,  3145.0,   2.6336,  34.9185,2,  34.9176,2,    266.8,2,   267.0,2,   22.93,2,   17.96,2,    0.00,2,    1.19,2,-999.000,9,-999.000,9,-999.0000,9,  2164.2,2, 2321.62,2,  737.510,2,    20.00,   7.73541,2,    24.98, -999.00,9, -999.00,9, -999.00, -999.00,9,-999.000,9,   43.40,2, -999.00,1,     -999.0,9, 20210508,     1514,  32.9338, -65.1986,     2.6339,2,     0.0430,1,     4.6743,1,     -999.0,9,     -999.0,9,     -999.0,9
325020210420,        A22,      66,          1,          6,          6,2,20210508,       1436,    32.9338,   -65.1987,       4728,  3451.6,   2.4131,  34.9040,2,  34.9028,2,    267.6,2,   267.9,2,   25.66,2,   18.10,2,    0.00,2,    1.20,2,   1.104,2,   0.557,2,   0.2200,2,  2166.7,2, 2320.15,2,  740.400,2,    20.00,   7.73383,2,    24.96, -999.00,9, -999.00,9, -999.00, -999.00,9,-999.000,9,   43.50,2, -999.00,1,      13.05,2, 20210508,     1508,  32.9338, -65.1986,     2.4137,2,     0.0430,1,     4.6749,1,     -999.0,9,     -999.0,9,     -999.0,9
325020210420,        A22,      66,          1,          5,          5,2,20210508,       1436,    32.9338,   -65.1987,       4728,  3759.5,   2.2838,  34.8934,2,  34.8930,2,    266.5,2,   266.4,2,   29.47,2,   18.52,2,    0.00,2,    1.23,2,   1.098,2,   0.567,2,   0.3000,2,  2171.9,2, 2321.65,2,  747.020,2,    20.00,   7.73138,2,    24.95, -999.00,9, -999.00,9, -999.00, -999.00,9,-999.000,9,   43.50,2, -999.00,1,      12.84,2, 20210508,     1501,  32.9338, -65.1986,     2.2842,2,     0.0431,1,     4.6726,1,     -999.0,9,     -999.0,9,     -999.0,9
325020210420,        A22,      66,          1,          4,          4,2,20210508,       1436,    32.9338,   -65.1987,       4728,  4067.0,   2.2300,  34.8863,2,  34.8859,2,    264.1,2,   264.2,2,   32.79,2,   18.96,2,    0.00,2,    1.28,2,   0.988,2,   0.517,2,   0.2400,2,  2175.5,2, 2327.81,2,  751.780,2,    20.00,   7.72893,2,    24.97, -999.00,9, -999.00,9, -999.00, -999.00,9,-999.000,9,   44.50,2, -999.00,1,      13.35,2, 20210508,     1454,  32.9338, -65.1987,     2.2300,2,     0.0429,1,     4.6665,1,     -999.0,9,     -999.0,9,     -999.0,9
325020210420,        A22,      66,          1,          3,          3,2,20210508,       1436,    32.9338,   -65.1987,       4728,  4374.6,   2.2275,  34.8826,2,  34.8804,3,    262.5,2,   263.3,2,   35.13,2,   19.36,2,    0.00,2,    1.30,2,-999.000,9,-999.000,9,-999.0000,9,  2179.3,2, 2330.38,2, -999.000,9,  -999.00,    7.7284,2,    24.99, -999.00,9, -999.00,9, -999.00, -999.00,9,-999.000,9,   45.20,2, -999.00,1,     -999.0,9, 20210508,     1447,  32.9338, -65.1987,     2.2274,2,     0.0425,1,     4.6581,1,     -999.0,9,     -999.0,9,     -999.0,9