BOTTLE,20230513CCHSIOCBG
EXPOCODE,SECT_ID,STNNBR,CASTNO,SAMPNO,BTLNBR,BTLNBR_FLAG_W,DATE,TIME,LATITUDE,LONGITUDE,DEPTH,CTDPRS,CTDTMP,CTDSAL,CTDSAL_FLAG_W,SALNTY,SALNTY_FLAG_W,CTDOXY,CTDOXY_FLAG_W,OXYGEN,OXYGEN_FLAG_W,SILCAT,SILCAT_FLAG_W,NITRAT,NITRAT_FLAG_W,NITRIT,NITRIT_FLAG_W,PHSPHT,PHSPHT_FLAG_W,CFC-11,CFC-11_FLAG_W,CFC-12,CFC-12_FLAG_W,SF6,SF6_FLAG_W,TCARBN,TCARBN_FLAG_W,ALKALI,ALKALI_FLAG_W,FCO2,FCO2_FLAG_W,FCO2TMP,PH_TOT,PH_TOT_FLAG_W,PH_TMP,DELC13,DELC13_FLAG_W,DELC14,DELC14_FLAG_W,C14ERR,DELO18,DELO18_FLAG_W,POC,POC_FLAG_W,DOC,DOC_FLAG_W,TDN,TDN_FLAG_W,N2O,N2O_FLAG_W,BTL_DATE,BTL_TIME,BTL_LAT,BTL_LON,REFTMP,REFTMP_FLAG_W,CTDFLUOR,CTDFLUOR_FLAG_W,CTDXMISS,CTDXMISS_FLAG_W,D15N_NO2+NO3,D15N_NO2+NO3_FLAG_W,D18O_NO2+NO3,D18O_NO2+NO3_FLAG_W,HPLC,HPLC_FLAG_W
,,,,,,,,,,,METERS,DBAR,ITS-90,PSS-78,,PSS-78,,UMOL/KG,,UMOL/KG,,UMOL/KG,,UMOL/KG,,UMOL/KG,,UMOL/KG,,PMOL/KG,,PMOL/KG,,FMOL/KG,,UMOL/KG,,UMOL/KG,,UATM,,DEG C,,,DEG C,/MILLE,,/MILLE,,/MILLE,/MILLE,,UG/KG,,UMOL/KG,,UMOL/KG,,NMOL/KG,,,,,,ITS-90,,VOLTS,,VOLTS,,/MILLE,,/MILLE,,,
325020210420,        A22,      53,          1,         36,         36,2,20210504,       2130,    26.3204,   -65.6326,       5083,     5.2,  24.8940,  36.9020,2,  36.9036,2,    213.7,3,   210.1,2,    0.88,2,    0.00,2,    0.00,2,    0.00,2,-999.000,9,-999.000,9,-999.0000,9,  2078.7,6, 2411.13,2, -999.000,9,  -999.00,   8.06816,2,    25.05, -999.00,9, -999.00,9, -999.00, -999.00,1,-999.000,9, -999.00,9, -999.00,9,     -999.0,9, 20210504,     2355,  26.3204, -65.6326,    24.8939,2,     0.0437,1,     4.6092,1,     -999.0,9,     -999.0,9,     -999.0,9
325020210420,        A22,      53,          1,         35,         35,2,20210504,       2130,    26.3204,   -65.6326,       5083,    25.0,  22.9416,  36.9363,2,  36.9399,2,    216.5,2,   216.7,2,    0.68,2,    0.00,2,    0.00,2,    0.00,2,-999.000,9,-999.000,9,-999.0000,9,  -999.0,9, -999.00,9, -999.000,9,  -999.00,-999.00000,9,  -999.00, -999.00,9, -999.00,9, -999.00, -999.00,9,-999.000,9, -999.00,9, -999.00,9,     -999.0,9, 20210504,     2355,  26.3204, -65.6326,    22.9427,2,     0.0437,1,     4.6217,1,     -999.0,9,     -999.0,9,     -999.0,9
325020210420,        A22,      53,          1,         34,         34,2,20210504,       2130,    26.3204,   -65.6326,       5083,    50.0,  22.4709,  36.9330,2,  36.9334,2,    216.1,2,   216.4,2,    0.68,2,    0.00,2,    0.00,2,    0.00,2,-999.000,9,-999.000,9,-999.0000,9,  2088.6,2, 2411.17,2, -999.000,9,  -999.00,   8.05801,6,    25.03, -999.00,9, -999.00,9, -999.00, -999.00,9,-999.000,9, -999.00,9, -999.00,9,     -999.0,9, 20210504,     2353,  26.3204, -65.6326,    22.4704,2,     0.0443,1,     4.6239,1,     -999.0,9,     -999.0,9,     -999.0,9
325020210420,        A22,      53,          1,         33,         33,2,20210504,       2130,    26.3204,   -65.6326,       5083,    75.7,  21.6485,  36.8634,2,  36.8647,2,    214.6,2,   215.1,2,    0.58,2,    0.00,2,    0.00,2,    0.00,2,-999.000,9,-999.000,9,-999.0000,9,  2095.1,2,  2407.4,6, -999.000,9,  -999.00,   8.04371,2,    24.94, -999.00,9, -999.00,9, -999.00, -999.00,9,-999.000,9, -999.00,9, -999.00,9,     -999.0,9, 20210504,     2351,  26.3204, -65.6326,    21.6480,2,     0.0526,1,     4.6190,1,     -999.0,9,     -999.0,9,     -999.0,9
325020210420,        A22,      53,          1,         32,         32,2,20210504,       2130,    26.3204,   -65.6326,       5083,   100.7,  21.0178,  36.8278,2,  36.8250,2,    217.2,2,   217.1,2,    0.58,2,    0.00,2,    0.00,2,    0.00,2,-999.000,9,-999.000,9,-999.0000,9,  -999.0,9, -999.00,9, -999.000,9,  -999.00,-999.00000,9,  -999.00, -999.00,9, -999.00,9, -999.00, -999.00,1,-999.000,9, -999.00,9, -999.00,9,     -999.0,9, 20210504,     2349,  26.3204, -65.6326,    21.0123,2,     0.0752,1,     4.6123,1,     -999.0,9,     -999.0,9,     -999.0,9
325020210420,        A22,      53,          1,         31,         31,2,20210504,       2130,    26.3204,   -65.6326,       5083,   151.4,  20.0327,  36.7246,2,  36.7236,2,    204.8,2,   205.1,2,    0.68,2,    0.58,2,    0.09,2,    0.00,2,-999.000,9,-999.000,9,-999.0000,9,  2110.0,2, 2399.48,2, -999.000,9,  -999.00,   8.00153,6,    25.00, -999.00,9, -999.00,9, -999.00, -999.00,9,-999.000,9, -999.00,9, -999.00,9,     -999.0,9, 20210504,     2346,  26.3204, -65.6326,    20.0324,2,     0.0752,1,     4.6410,1,     -999.0,9,     -999.0,9,     -999.0,9
325020210420,        A22,      53,          1,         30,         30,2,20210504,       2130,    26.3204,   -65.6326,       5083,   200.9,  19.5199,  36.6847,2,  36.6854,2,    198.6,2,   198.8,2,    0.88,2,    2.03,2,    0.00,2,    0.01,2,-999.000,9,-999.000,9,-999.0000,9,  -999.0,9, -999.00,9, -999.000,9,  -999.00,-999.00000,9,  -999.00, -999.00,9, -999.00,9, -999.00, -999.00,9,-999.000,9, -999.00,9, -999.00,9,     -999.0,9, 20210504,     2344,  26.3204, -65.6326,    19.5214,2,     0.0433,1,     4.6613,1,     -999.0,9,     -999.0,9,     -999.0,9
325020210420,        A22,      53,          1,         29,         29,2,20210504,       2130,    26.3204,   -65.6326,       5083,   251.9,  19.0934,  36.6418,2,  36.6398,2,    196.4,2,   197.2,2,    0.97,2,    3.06,2,    0.00,2,    0.06,2,-999.000,9,-999.000,9,-999.0000,9,  2120.2,2, 2390.93,2, -999.000,9,  -999.00,   7.97697,2,    25.02, -999.00,9, -999.00,9, -999.00, -999.00,9,-999.000,9, -999.00,9, -999.00,9,     -999.0,9, 20210504,     2341,  26.3204, -65.6326,    19.0954,2,     0.0394,1,     4.6663,1,     -999.0,9,     -999.0,9,     -999.0,9
325020210420,        A22,      53,          1,         28,         28,2,20210504,       2130,    26.3204,   -65.6326,       5083,   302.5,  18.7722,  36.6058,2,  36.6060,2,    196.1,2,   196.4,2,    1.27,2,    3.67,2,    0.00,2,    0.10,2,-999.000,9,-999.000,9,-999.0000,9,  -999.0,9, -999.00,9, -999.000,9,  -999.00,-999.00000,9,  -999.00, -999.00,9, -999.00,9, -999.00, -999.00,9,-999.000,9, -999.00,9, -999.00,9,     -999.0,9, 20210504,     2339,  26.3204, -65.6326,    18.7708,2,     0.0394,1,     4.6679,1,     -999.0,9,     -999.0,9,     -999.0,9
325020210420,        A22,      53,          1,         27,         27,2,20210504,       2130,    26.3204,   -65.6326,       5083,   352.6,  18.4058,  36.5576,2,  36.5557,2,    192.9,2,   193.2,2,    1.46,2,    4.60,2,    0.00,2,    0.15,2,-999.000,9,-999.000,9,-999.0000,9,  2127.0,2, 2388.51,2, -999.000,9,  -999.00,   7.95406,2,    25.04, -999.00,9, -999.00,9, -999.00, -999.00,9,-999.000,9, -999.00,9, -999.00,9,     -999.0,9, 20210504,     2336,  26.3204, -65.6326,    18.4036,2,     0.0403,1,     4.6692,1,     -999.0,9,     -999.0,9,     -999.0,9
325020210420,        A22,      53,          1,         26,         26,2,20210504,       2130,    26.3204,   -65.6326,       5083,   403.2,  17.9129,  36.4778,2,  36.4764,2,    188.9,2,   189.4,2,    1.85,2,    5.75,2,    0.00,2,    0.21,2,-999.000,9,-999.000,9,-999.0000,9,  -999.0,9, -999.00,9, -999.000,9,  -999.00,-999.00000,9,  -999.00, -999.00,9, -999.00,9, -999.00, -999.00,9,-999.000,9, -999.00,9, -999.00,9,     -999.0,9, 20210504,     2334,  26.3204, -65.6326,    17.9118,2,     0.0398,1,     4.6701,1,     -999.0,9,     -999.0,9,     -999.0,9
325020210420,        A22,      53,          1,         25,         25,2,20210504,       2130,    26.3204,   -65.6326,       5083,   504.4,  16.2392,  36.2079,2,  36.2044,2,    174.8,2,   175.1,2,    3.12,2,    9.74,2,    0.00,2,    0.47,2,-999.000,9,-999.000,9,-999.0000,9,  -999.0,9, -999.00,9, -999.000,9,  -999.00,-999.00000,9,  -999.00, -999.00,9, -999.00,9, -999.00, -999.00,9,-999.000,9, -999.00,9, -999.00,9,     -999.0,9, 20210504,     2331,  26.3204, -65.6326,    16.2361,2,     0.0409,1,     4.6717,1,     -999.0,9,     -999.0,9,     -999.0,9
325020210420,        A22,      53,          1,         24,         24,2,20210504,       2130,    26.3204,   -65.6326,       5083,   605.5,  14.4884,  35.9205,2,  35.9135,2,    164.5,2,   164.5,2,    5.17,2,   13.69,2,    0.00,2,    0.73,2,-999.000,9,-999.000,9,-999.0000,9,  -999.0,9, -999.00,9, -999.000,9,  -999.00,-999.00000,9,  -999.00, -999.00,9, -999.00,9, -999.00, -999.00,9,-999.000,9, -999.00,9, -999.00,9,     -999.0,9, 20210504,     2328,  26.3204, -65.6326,    14.4852,2,     0.0407,1,     4.6740,1,     -999.0,9,     -999.0,9,     -999.0,9
325020210420,        A22,      53,          1,         23,         23,2,20210504,       2130,    26.3204,   -65.6326,       5083,   705.6,  12.1555,  35.5854,2,  35.5790,2,    153.1,2,   152.8,2,    8.38,2,   18.60,2,    0.00,2,    1.06,2,   1.896,2,   1.078,2,   0.7700,2,  2175.0,2, 2335.53,2, -999.000,9,  -999.00,   7.75284,2,    24.97, -999.00,9, -999.00,9, -999.00, -999.00,9,-999.000,9, -999.00,9, -999.00,9,      17.74,2, 20210504,     2324,  26.3204, -65.6326,    12.1635,2,     0.0406,1,     4.6764,1,     -999.0,9,     -999.0,9,     -999.0,9
325020210420,        A22,      53,          1,         22,         22,2,20210504,       2130,    26.3204,   -65.6326,       5083,   807.0,   9.4737,  35.2557,2,  35.2530,2,    146.5,2,   146.4,2,   13.46,2,   23.53,2,    0.00,2,    1.41,2,-999.000,9,-999.000,9,-999.0000,9,  2189.4,2, 2322.06,2, -999.000,9,  -999.00,   7.67749,2,    25.01, -999.00,9, -999.00,9, -999.00, -999.00,9,-999.000,9, -999.00,9, -999.00,9,     -999.0,9, 20210504,     2319,  26.3204, -65.6326,     9.5110,2,     0.0422,1,     4.6772,1,     -999.0,9,     -999.0,9,     -999.0,9
325020210420,        A22,      53,          1,         21,         21,2,20210504,       2130,    26.3204,   -65.6326,       5083,   907.4,   7.7954,  35.1430,2,  35.1429,2,    165.2,2,   164.8,2,   14.82,2,   23.49,2,    0.00,2,    1.44,2,   1.207,2,   0.676,2,   0.4700,2,  -999.0,9, -999.00,9, -999.000,9,  -999.00,-999.00000,9,  -999.00, -999.00,9, -999.00,9, -999.00, -999.00,9,-999.000,9, -999.00,9, -999.00,9,      18.75,2, 20210504,     2315,  26.3204, -65.6326,     7.8206,2,     0.0417,1,     4.6778,1,     -999.0,9,     -999.0,9,     -999.0,9
325020210420,        A22,      53,          1,         20,         20,2,20210504,       2130,    26.3204,   -65.6326,       5083,  1008.8,   6.5327,  35.0796,2,  35.0797,2,    186.1,2,   186.8,2,   15.51,2,   22.81,2,    0.00,2,    1.44,2,-999.000,9,-999.000,9,-999.0000,9,  2183.8,2, 2316.06,2, -999.000,9,  -999.00,   7.67916,2,    24.93, -999.00,9, -999.00,9, -999.00, -999.00,9,-999.000,9, -999.00,9, -999.00,9,     -999.0,9, 20210504,     2310,  26.3204, -65.6326,     6.5304,2,     0.0424,1,     4.6786,1,     -999.0,9,     -999.0,9,     -999.0,9
325020210420,        A22,      53,          1,         19,         19,2,20210504,       2130,    26.3204,   -65.6326,       5083,  1109.1,   5.6691,  35.0621,2,  35.0616,2,    212.9,2,   213.0,2,   14.53,2,   20.81,2,    0.00,2,    1.33,2,   1.424,2,   0.747,2,   0.4500,2,  -999.0,9, -999.00,9, -999.000,9,  -999.00,-999.00000,9,  -999.00, -999.00,9, -999.00,9, -999.00, -999.00,9,-999.000,9, -999.00,9, -999.00,9,      15.93,2, 20210504,     2307,  26.3204, -65.6326,     5.6694,2,     0.0425,1,     4.6798,1,     -999.0,9,     -999.0,9,     -999.0,9
325020210420,        A22,      53,          1,         18,         18,2,20210504,       2130,    26.3204,   -65.6326,       5083,  1211.1,   5.3099,  35.0646,2,  35.0642,2,    225.5,2,   226.0,2,   13.75,2,   19.80,2,    0.00,2,    1.26,2,-999.000,9,-999.000,9,-999.0000,9,  -999.0,9, -999.00,9, -999.000,9,  -999.00,-999.00000,9,  -999.00, -999.00,9, -999.00,9, -999.00, -999.00,9,-999.000,9, -999.00,9, -999.00,9,     -999.0,9, 20210504,     2304,  26.3204, -65.6326,     5.3085,2,     0.0410,1,     4.6795,1,     -999.0,9,     -999.0,9,     -999.0,9
325020210420,        A22,      53,          1,         17,         17,2,20210504,       2130,    26.3204,   -65.6326,       5083,  1312.9,   4.8825,  35.0473,2,  35.0468,2,    238.4,2,   238.4,2,   13.26,2,   18.95,2,    0.00,2,    1.21,2,   1.689,2,   0.871,2,   0.4500,2,  -999.0,9, -999.00,9, -999.000,9,  -999.00,-999.00000,9,  -999.00, -999.00,9, -999.00,9, -999.00, -999.00,9,-999.000,9, -999.00,9, -999.00,9,      14.25,2, 20210504,     2301,  26.3204, -65.6326,     4.8819,2,     0.0419,1,     4.6796,1,     -999.0,9,     -999.0,9,     -999.0,9
325020210420,        A22,      53,          1,         16,         16,2,20210504,       2130,    26.3204,   -65.6326,       5083,  1414.6,   4.6891,  35.0504,2,  35.0496,2,    242.5,2,   242.2,2,   13.66,2,   18.76,2,    0.00,2,    1.20,2,   1.532,2,   0.785,2,   0.3700,2,  -999.0,9, -999.00,9, -999.000,9,  -999.00,-999.00000,9,  -999.00, -999.00,9, -999.00,9, -999.00, -999.00,9,-999.000,9, -999.00,9, -999.00,9,      14.01,2, 20210504,     2257,  26.3204, -65.6326,     4.6888,2,     0.0424,1,     4.6801,1,     -999.0,9,     -999.0,9,     -999.0,9
325020210420,        A22,      53,          1,         15,         15,2,20210504,       2130,    26.3204,   -65.6326,       5083,  1515.3,   4.5114,  35.0481,2,  35.0476,2,    245.4,2,   245.6,2,   14.24,2,   18.60,2,    0.00,2,    1.19,2,   1.395,2,   0.708,2,   0.3100,2,  2167.7,2,  2313.3,2, -999.000,9,  -999.00,   7.72802,2,    24.98, -999.00,9, -999.00,9, -999.00, -999.00,9,-999.000,9, -999.00,9, -999.00,9,      13.83,2, 20210504,     2253,  26.3204, -65.6326,     4.5129,2,     0.0422,1,     4.6802,1,     -999.0,9,     -999.0,9,     -999.0,9
325020210420,        A22,      53,          1,         14,         14,2,20210504,       2130,    26.3204,   -65.6326,       5083,  1616.0,   4.3371,  35.0419,2,  35.0423,2,    247.5,2,   247.6,2,   15.02,2,   18.61,2,    0.00,2,    1.20,2,-999.000,9,-999.000,9,-999.0000,9,  -999.0,9, -999.00,9, -999.000,9,  -999.00,-999.00000,9,  -999.00, -999.00,9, -999.00,9, -999.00, -999.00,9,-999.000,9, -999.00,9, -999.00,9,     -999.0,9, 20210504,     2249,  26.3204, -65.6326,     4.3361,2,     0.0424,1,     4.6802,1,     -999.0,9,     -999.0,9,     -999.0,9
325020210420,        A22,      53,          1,         13,         13,2,20210504,       2130,    26.3204,   -65.6326,       5083,  1820.6,   3.9180,  35.0139,2,  35.0128,2,    252.0,2,   252.0,2,   16.97,2,   18.58,2,    0.00,2,    1.21,2,   0.917,2,   0.464,2,   0.1700,2,  -999.0,9, -999.00,9, -999.000,9,  -999.00,-999.00000,9,  -999.00, -999.00,9, -999.00,9, -999.00, -999.00,9,-999.000,9, -999.00,9, -999.00,9,      13.53,2, 20210504,     2245,  26.3204, -65.6326,     3.9172,2,     0.0416,1,     4.6801,1,     -999.0,9,     -999.0,9,     -999.0,9
325020210420,        A22,      53,          1,         12,         12,2,20210504,       2130,    26.3204,   -65.6326,       5083,  2022.7,   3.6312,  34.9981,2,  34.9978,2,    252.5,2,   252.9,2,   19.61,2,   18.83,2,    0.00,2,    1.24,2,-999.000,9,-999.000,9,-999.0000,9,  -999.0,9, -999.00,9, -999.000,9,  -999.00,-999.00000,9,  -999.00, -999.00,9, -999.00,9, -999.00, -999.00,9,-999.000,9, -999.00,9, -999.00,9,     -999.0,9, 20210504,     2240,  26.3204, -65.6326,     3.6317,2,     0.0426,1,     4.6801,1,     -999.0,9,     -999.0,9,     -999.0,9
325020210420,        A22,      53,          1,         11,         11,2,20210504,       2130,    26.3204,   -65.6326,       5083,  2277.3,   3.3454,  34.9783,2,  34.9787,2,    253.0,2,   253.3,2,   22.82,2,   19.11,2,    0.00,2,    1.26,2,   0.381,2,   0.200,2,   0.0000,2,  2169.2,2, 2321.08,2, -999.000,9,  -999.00,   7.73949,2,    25.04, -999.00,9, -999.00,9, -999.00, -999.00,9,-999.000,9, -999.00,9, -999.00,9,      13.11,2, 20210504,     2234,  26.3204, -65.6326,     3.3457,2,     0.0430,1,     4.6799,1,     -999.0,9,     -999.0,9,     -999.0,9
325020210420,        A22,      53,          1,         10,         10,2,20210504,       2130,    26.3204,   -65.6326,       5083,  2530.9,   3.1058,  34.9605,2,  34.9591,2,    253.2,2,   253.2,2,   25.95,2,   19.41,2,    0.00,2,    1.29,2,-999.000,9,-999.000,9,-999.0000,9,  -999.0,9, -999.00,9, -999.000,9,  -999.00,-999.00000,9,  -999.00, -999.00,9, -999.00,9, -999.00, -999.00,9,-999.000,9, -999.00,9, -999.00,9,     -999.0,9, 20210504,     2228,  26.3204, -65.6326,     3.1050,2,     0.0429,1,     4.6792,1,     -999.0,9,     -999.0,9,     -999.0,9
325020210420,        A22,      53,          1,          9,          9,2,20210504,       2130,    26.3204,   -65.6326,       5083,  2785.4,   2.9091,  34.9446,2,  34.9439,2,    254.2,2,   254.6,2,   28.48,2,   19.63,2,    0.00,2,    1.30,2,   0.216,2,   0.114,2,   0.0200,2,  -999.0,9, -999.00,9, -999.000,9,  -999.00,-999.00000,9,  -999.00, -999.00,9, -999.00,9, -999.00, -999.00,9,-999.000,9, -999.00,9, -999.00,9,      13.34,2, 20210504,     2222,  26.3204, -65.6326,     2.9090,2,     0.0421,1,     4.6801,1,     -999.0,9,     -999.0,9,     -999.0,9
325020210420,        A22,      53,          1,          8,          8,2,20210504,       2130,    26.3204,   -65.6326,       5083,  3041.8,   2.7323,  34.9294,2,  34.9290,2,    257.5,2,   257.8,2,   29.07,2,   19.44,2,    0.00,2,    1.30,2,-999.000,9,-999.000,9,-999.0000,9,  -999.0,9, -999.00,9, -999.000,9,  -999.00,-999.00000,9,  -999.00, -999.00,9, -999.00,9, -999.00, -999.00,9,-999.000,9, -999.00,9, -999.00,9,     -999.0,9, 20210504,     2216,  26.3204, -65.6326,     2.7334,2,     0.0421,1,     4.6800,1,     -999.0,9,     -999.0,9,     -999.0,9
325020210420,        A22,      53,          1,          7,          7,2,20210504,       2130,    26.3204,   -65.6326,       5083,  3348.2,   2.5663,  34.9156,2,  34.9144,2,    262.6,2,   262.9,2,   27.51,2,   18.79,2,    0.00,2,    1.25,2,   0.549,2,   0.285,2,   0.1000,2,  -999.0,9, -999.00,9, -999.000,9,  -999.00,-999.00000,9,  -999.00, -999.00,9, -999.00,9, -999.00, -999.00,9,-999.000,9, -999.00,9, -999.00,9,      13.36,2, 20210504,     2209,  26.3204, -65.6326,     2.5659,2,     0.0428,1,     4.6796,1,     -999.0,9,     -999.0,9,     -999.0,9
325020210420,        A22,      53,          1,          6,          6,2,20210504,       2130,    26.3204,   -65.6326,       5083,  3655.4,   2.4261,  34.9050,2,  34.9038,2,    264.8,2,   264.9,2,   28.48,2,   18.63,2,    0.00,2,    1.25,2,-999.000,9,-999.000,9,-999.0000,9,  -999.0,9, -999.00,9, -999.000,9,  -999.00,-999.00000,9,  -999.00, -999.00,9, -999.00,9, -999.00, -999.00,9,-999.000,9, -999.00,9, -999.00,9,     -999.0,9, 20210504,     2203,  26.3204, -65.6326,     2.4260,2,     0.0429,1,     4.6801,1,     -999.0,9,     -999.0,9,     -999.0,9
325020210420,        A22,      53,          1,          5,          5,2,20210504,       2130,    26.3204,   -65.6326,       5083,  3962.2,   2.3291,  34.8963,2,  34.8955,2,    264.3,2,   264.4,2,   31.02,2,   18.91,2,    0.00,2,    1.27,2,   0.566,2,   0.291,2,   0.0900,2,  2171.0,2, 2324.69,2, -999.000,9,  -999.00,   7.73706,2,    25.04, -999.00,9, -999.00,9, -999.00, -999.00,9,-999.000,9, -999.00,9, -999.00,9,      13.31,2, 20210504,     2156,  26.3204, -65.6326,     2.3287,2,     0.0423,1,     4.6796,1,     -999.0,9,     -999.0,9,     -999.0,9
325020210420,        A22,      53,          1,          4,          4,2,20210504,       2130,    26.3204,   -65.6326,       5083,  4270.0,   2.2671,  34.8882,2,  34.8875,2,    262.9,2,   262.7,2,   33.85,2,   19.23,2,    0.00,2,    1.30,2,-999.000,9,-999.000,9,-999.0000,9,  -999.0,9, -999.00,9, -999.000,9,  -999.00,-999.00000,9,  -999.00, -999.00,9, -999.00,9, -999.00, -999.00,9,-999.000,9, -999.00,9, -999.00,9,     -999.0,9, 20210504,     2149,  26.3205, -65.6326,     2.2673,2,     0.0423,1,     4.6794,1,     -999.0,9,     -999.0,9,     -999.0,9
325020210420,        A22,      53,          1,          3,          3,2,20210504,       2130,    26.3204,   -65.6326,       5083,  4577.9,   2.1943,  34.8767,2,  34.8759,2,    258.7,2,   258.9,2,   39.99,2,   20.18,2,    0.00,2,    1.36,2,   0.462,2,   0.246,2,   0.1000,2,  2181.0,2, 2332.88,2, -999.000,9,  -999.00,   7.73015,2,    24.99, -999.00,9, -999.00,9, -999.00, -999.00,9,-999.000,9, -999.00,9, -999.00,9,      13.84,2, 20210504,     2143,  26.3205, -65.6326,     2.1944,2,     0.0423,1,     4.6788,1,     -999.0,9,     -999.0,9,     -999.0,9