BOTTLE,20230513CCHSIOCBG
EXPOCODE,SECT_ID,STNNBR,CASTNO,SAMPNO,BTLNBR,BTLNBR_FLAG_W,DATE,TIME,LATITUDE,LONGITUDE,DEPTH,CTDPRS,CTDTMP,CTDSAL,CTDSAL_FLAG_W,SALNTY,SALNTY_FLAG_W,CTDOXY,CTDOXY_FLAG_W,OXYGEN,OXYGEN_FLAG_W,SILCAT,SILCAT_FLAG_W,NITRAT,NITRAT_FLAG_W,NITRIT,NITRIT_FLAG_W,PHSPHT,PHSPHT_FLAG_W,CFC-11,CFC-11_FLAG_W,CFC-12,CFC-12_FLAG_W,SF6,SF6_FLAG_W,TCARBN,TCARBN_FLAG_W,ALKALI,ALKALI_FLAG_W,FCO2,FCO2_FLAG_W,FCO2TMP,PH_TOT,PH_TOT_FLAG_W,PH_TMP,DELC13,DELC13_FLAG_W,DELC14,DELC14_FLAG_W,C14ERR,DELO18,DELO18_FLAG_W,POC,POC_FLAG_W,DOC,DOC_FLAG_W,TDN,TDN_FLAG_W,N2O,N2O_FLAG_W,BTL_DATE,BTL_TIME,BTL_LAT,BTL_LON,REFTMP,REFTMP_FLAG_W,CTDFLUOR,CTDFLUOR_FLAG_W,CTDXMISS,CTDXMISS_FLAG_W,D15N_NO2+NO3,D15N_NO2+NO3_FLAG_W,D18O_NO2+NO3,D18O_NO2+NO3_FLAG_W,HPLC,HPLC_FLAG_W
,,,,,,,,,,,METERS,DBAR,ITS-90,PSS-78,,PSS-78,,UMOL/KG,,UMOL/KG,,UMOL/KG,,UMOL/KG,,UMOL/KG,,UMOL/KG,,PMOL/KG,,PMOL/KG,,FMOL/KG,,UMOL/KG,,UMOL/KG,,UATM,,DEG C,,,DEG C,/MILLE,,/MILLE,,/MILLE,/MILLE,,UG/KG,,UMOL/KG,,UMOL/KG,,NMOL/KG,,,,,,ITS-90,,VOLTS,,VOLTS,,/MILLE,,/MILLE,,,
325020210420,        A22,      22,          1,         36,         36,2,20210427,       0138,    17.4960,   -66.0024,       3254,     5.2,  27.1770,  36.0288,2,  36.0291,2,    202.7,2,   201.7,2,    1.17,2,    0.09,2,    0.00,2,    0.00,2,   1.487,2,   0.952,2,   1.6500,2,  2026.5,6, 2362.66,2,  292.690,2,    20.00,   8.09613,2,    25.01, -999.00,9, -999.00,9, -999.00, -999.00,1,-999.000,9,   74.90,2,    4.48,2,       5.98,2, 20210427,      316,  17.4960, -66.0024,    27.1747,2,     0.0450,1,     4.6153,1,     -999.0,1,     -999.0,1,     -999.0,9
325020210420,        A22,      22,          1,         35,         35,2,20210427,       0138,    17.4960,   -66.0024,       3254,    19.9,  27.1889,  36.0308,2,  36.0323,2,    202.7,2,   201.8,2,    0.88,2,    0.00,2,    0.00,2,    0.00,2,-999.000,9,-999.000,9,-999.0000,9,  2025.4,2, -999.00,9,  292.920,2,    20.00,   8.09729,6,    25.02, -999.00,9, -999.00,9, -999.00, -999.00,9,-999.000,9,   76.90,2,    4.45,2,     -999.0,9, 20210427,      316,  17.4960, -66.0024,    27.1889,2,     0.0452,1,     4.6178,1,     -999.0,1,     -999.0,1,     -999.0,9
325020210420,        A22,      22,          1,         34,         34,2,20210427,       0138,    17.4960,   -66.0024,       3254,    40.1,  27.0891,  36.0564,2,  36.0588,2,    203.0,2,   202.4,2,    0.88,2,    0.00,2,    0.00,2,    0.00,2,-999.000,9,-999.000,9,-999.0000,9,  2025.8,2, 2362.69,6,  291.940,2,    20.00,   8.09801,2,    25.01, -999.00,9, -999.00,9, -999.00, -999.00,9,-999.000,9,   76.30,2,    4.58,2,     -999.0,9, 20210427,      314,  17.4960, -66.0024,    27.0892,2,     0.0498,1,     4.6150,1,     -999.0,1,     -999.0,1,     -999.0,9
325020210420,        A22,      22,          1,         33,         33,2,20210427,       0138,    17.4960,   -66.0024,       3254,    65.5,  26.8062,  36.2734,2,  36.3368,3,    206.0,2,   205.5,2,    0.68,2,    0.00,2,    0.00,2,    0.00,2,   1.499,2,   0.962,2,   1.6100,2,  2033.3,2, 2379.83,2,  289.690,2,    20.00,   8.10135,6,    25.01, -999.00,9, -999.00,9, -999.00, -999.00,9,-999.000,9,   77.00,2,    4.47,2,       6.03,2, 20210427,      313,  17.4960, -66.0025,    26.8057,2,     0.0556,1,     4.6217,1,     -999.0,1,     -999.0,1,     -999.0,9
325020210420,        A22,      22,          1,         32,         32,2,20210427,       0138,    17.4960,   -66.0024,       3254,    90.9,  26.3825,  37.0071,2,  37.0317,3,    197.9,2,   197.9,2,    0.19,2,    0.00,2,    0.00,2,    0.00,2,-999.000,9,-999.000,9,-999.0000,9,  2084.8,2, 2420.51,2,  316.950,2,    20.00,   8.07647,2,    25.04, -999.00,9, -999.00,9, -999.00, -999.00,1,-999.000,9,   70.40,2,    4.68,2,     -999.0,9, 20210427,      311,  17.4960, -66.0024,    26.3825,2,     0.0682,1,     4.6331,1,     -999.0,1,     -999.0,1,     -999.0,9
325020210420,        A22,      22,          1,         31,         31,2,20210427,       0138,    17.4960,   -66.0024,       3254,   115.7,  25.0867,  37.2336,2,  37.2324,2,    183.4,2,   183.6,2,    0.19,2,    0.52,2,    0.07,2,    0.00,2,   1.639,2,   1.047,2,   1.6200,2,  2118.6,2, -999.00,9,  353.830,2,    20.00,   8.03689,2,    24.98, -999.00,9, -999.00,9, -999.00, -999.00,9,-999.000,9,   62.60,2,    4.55,2,       6.94,2, 20210427,      310,  17.4960, -66.0024,    25.1275,2,     0.0835,1,     4.6381,1,     -999.0,1,     -999.0,1,     -999.0,9
325020210420,        A22,      22,          1,         30,         30,2,20210427,       0138,    17.4960,   -66.0024,       3254,   141.1,  23.8060,  37.2413,2,  37.2375,2,    172.2,2,   173.3,2,    0.19,2,    1.36,2,    0.03,2,    0.02,2,-999.000,9,-999.000,9,-999.0000,9,  2137.8,2, 2429.52,2,  386.390,2,    20.00,   8.00384,2,    24.98, -999.00,9, -999.00,9, -999.00, -999.00,9,-999.000,9,   59.10,2,    4.76,2,     -999.0,9, 20210427,      308,  17.4960, -66.0024,    23.8065,2,     0.0519,1,     4.6604,1,     -999.0,1,     -999.0,1,     -999.0,9
325020210420,        A22,      22,          1,         29,         29,2,20210427,       0138,    17.4960,   -66.0024,       3254,   166.2,  22.1379,  37.1015,2,  37.0891,2,    166.6,2,   167.0,2,    0.39,2,    2.66,2,    0.01,2,    0.08,2,-999.000,9,-999.000,9,-999.0000,9,  2149.8,2, 2418.48,2,  423.450,2,    20.00,   7.96766,2,    25.00, -999.00,9, -999.00,9, -999.00, -999.00,9,-999.000,9,   55.60,2,    6.49,2,     -999.0,9, 20210427,      307,  17.4960, -66.0024,    22.1376,2,     0.0447,1,     4.6670,1,     -999.0,1,     -999.0,1,     -999.0,9
325020210420,        A22,      22,          1,         28,         28,2,20210427,       0138,    17.4960,   -66.0024,       3254,   191.2,  20.7911,  36.9203,2,  36.9155,2,    166.3,2,   167.0,2,    0.58,2,    3.67,2,    0.00,2,    0.13,2,   1.935,2,   1.211,2,   1.6700,2,  2151.9,2, 2412.13,2,  444.670,2,    20.00,   7.94764,2,    24.97, -999.00,9, -999.00,9, -999.00, -999.00,9,-999.000,9,   53.20,2,    6.69,2,       9.34,2, 20210427,      305,  17.4960, -66.0024,    20.8184,2,     0.0428,1,     4.6671,1,     -999.0,1,     -999.0,1,     -999.0,9
325020210420,        A22,      22,          1,         27,         27,2,20210427,       0138,    17.4960,   -66.0024,       3254,   216.4,  19.5774,  36.7425,2,  36.7363,2,    168.2,3,   170.1,2,    0.88,2,    4.86,2,    0.00,2,    0.19,2,-999.000,9,-999.000,9,-999.0000,9,  2150.0,2, -999.00,9,  460.670,2,    20.00,   7.93306,2,    24.98, -999.00,9, -999.00,9, -999.00, -999.00,9,-999.000,9,   50.80,2,    7.18,2,     -999.0,9, 20210427,      303,  17.4960, -66.0024,    19.5812,2,     0.0408,1,     4.6724,1,     -999.0,1,     -999.0,1,     -999.0,9
325020210420,        A22,      22,          1,         26,         26,2,20210427,       0138,    17.4960,   -66.0024,       3254,   241.9,  18.6353,  36.5983,2,  36.5900,2,    168.9,2,   169.9,2,    1.46,2,    6.43,2,    0.00,2,    0.28,2,-999.000,9,-999.000,9,-999.0000,9,  2152.5,2,  2389.0,2,  479.640,2,    20.00,   7.91673,2,    24.98, -999.00,9, -999.00,9, -999.00, -999.00,9,-999.000,9,   48.40,2,    9.34,2,     -999.0,9, 20210427,      301,  17.4960, -66.0025,    18.6413,2,     0.0404,1,     4.6729,1,     -999.0,1,     -999.0,1,     -999.0,9
325020210420,        A22,      22,          1,         25,         25,2,20210427,       0138,    17.4960,   -66.0024,       3254,   287.0,  16.9351,  36.2993,2,  36.2936,2,    150.4,2,   151.3,2,    3.02,2,   11.19,2,    0.00,2,    0.59,2,   2.130,2,   1.305,2,   1.3900,2,  2170.2,2, 2371.02,2,  567.380,2,    20.00,   7.84969,2,    24.95, -999.00,9, -999.00,9, -999.00, -999.00,9,-999.000,9,   46.80,2, -999.00,1,      15.14,2, 20210427,      259,  17.4960, -66.0024,    16.9428,2,     0.0407,1,     4.6750,1,     -999.0,1,     -999.0,1,     -999.0,9
325020210420,        A22,      22,          1,         24,         24,2,20210427,       0138,    17.4960,   -66.0024,       3254,   337.3,  15.5457,  36.0778,2,  36.0687,2,    147.3,3,   145.8,2,    4.19,2,   13.93,2,    0.00,2,    0.77,2,-999.000,9,-999.000,9,-999.0000,9,  2177.1,2, 2360.38,2,  627.240,2,    20.00,   7.81019,2,    24.96, -999.00,9, -999.00,9, -999.00, -999.00,9,-999.000,9,   46.60,2, -999.00,1,     -999.0,9, 20210427,      257,  17.4960, -66.0024,    15.6285,2,     0.0406,1,     4.6751,1,     -999.0,1,     -999.0,1,     -999.0,9
325020210420,        A22,      22,          1,         23,         23,2,20210427,       0138,    17.4960,   -66.0024,       3254,   387.8,  14.1946,  35.8474,2,  35.8269,3,    139.8,2,   139.2,2,    6.04,2,   17.07,2,    0.00,2,    0.97,2,   2.106,2,   1.237,2,   0.9600,2,  2184.1,2, -999.00,5, -999.000,9,  -999.00,   7.76616,2,    24.97, -999.00,9, -999.00,9, -999.00, -999.00,9,-999.000,9,   44.90,2, -999.00,1,      19.56,2, 20210427,      255,  17.4960, -66.0024,    14.1376,2,     0.0412,1,     4.6755,1,     -999.0,1,     -999.0,1,     -999.0,9
325020210420,        A22,      22,          1,         22,         22,2,20210427,       0138,    17.4960,   -66.0024,       3254,   438.5,  12.9788,  35.6519,2,  35.6490,2,    133.7,2,   133.8,2,    7.70,2,   19.46,2,    0.00,2,    1.13,2,-999.000,9,-999.000,9,-999.0000,9,  2198.4,2, -999.00,9,  756.170,2,    20.00,   7.73215,2,    24.98, -999.00,9, -999.00,9, -999.00, -999.00,9,-999.000,9,   43.80,2, -999.00,1,     -999.0,9, 20210427,      253,  17.4960, -66.0024,    12.9732,2,     0.0412,1,     4.6764,1,     -999.0,1,     -999.0,1,     -999.0,9
325020210420,        A22,      22,          1,         21,         21,2,20210427,       0138,    17.4960,   -66.0024,       3254,   488.3,  11.4822,  35.4194,2,  35.4172,2,    128.1,2,   128.7,2,   10.34,2,   22.80,2,    0.00,2,    1.36,2,-999.000,9,-999.000,9,-999.0000,9,  2206.0,2, 2328.31,2,  841.890,2,    20.00,   7.68634,2,    24.97, -999.00,9, -999.00,9, -999.00, -999.00,1,-999.000,9,   43.70,2, -999.00,1,     -999.0,9, 20210427,      251,  17.4960, -66.0024,    11.4888,2,     0.0418,1,     4.6780,1,     -999.0,1,     -999.0,1,     -999.0,9
325020210420,        A22,      22,          1,         20,         20,2,20210427,       0138,    17.4960,   -66.0024,       3254,   569.3,   9.8601,  35.1561,2,  35.1547,2,    121.7,2,   122.0,2,   13.75,2,   26.53,2,    0.00,2,    1.62,2,   1.541,2,   0.838,2,   0.4800,2,  2212.0,6, 2312.89,2,  957.160,2,    20.00,   7.63114,2,    24.94, -999.00,9, -999.00,9, -999.00, -999.00,9,-999.000,9,   43.00,2, -999.00,1,      25.90,2, 20210427,      249,  17.4960, -66.0024,     9.8626,2,     0.0417,1,     4.6785,1,     -999.0,1,     -999.0,1,     -999.0,9
325020210420,        A22,      22,          1,         19,         19,2,20210427,       0138,    17.4960,   -66.0024,       3254,   669.9,   8.3737,  34.9785,2,  34.9772,2,    124.0,2,   124.5,2,   17.56,2,   29.03,2,    0.00,2,    1.83,2,-999.000,9,-999.000,9,-999.0000,9,  2220.4,2,  2310.4,2, 1028.700,2,    20.00,   7.59971,6,    24.95, -999.00,9, -999.00,9, -999.00, -999.00,9,-999.000,9,   42.80,2, -999.00,1,     -999.0,9, 20210427,      245,  17.4960, -66.0024,     8.3754,2,     0.0430,1,     4.6790,1,     -999.0,1,     -999.0,1,     -999.0,9
325020210420,        A22,      22,          1,         18,         18,2,20210427,       0138,    17.4960,   -66.0024,       3254,   771.2,   6.9133,  34.8183,2,  34.8218,2,    129.0,2,   129.0,2,   21.76,2,   31.34,2,    0.00,2,    2.01,2,-999.000,9,-999.000,9,-999.0000,9,  2224.5,2, 2305.08,6, -999.000,9,  -999.00,   7.57207,2,    25.01, -999.00,9, -999.00,9, -999.00, -999.00,9,-999.000,9,   40.00,2, -999.00,1,     -999.0,9, 20210427,      242,  17.4960, -66.0024,     6.9148,2,     0.0424,1,     4.6790,1,     -999.0,1,     -999.0,1,     -999.0,9
325020210420,        A22,      22,          1,         17,         17,2,20210427,       0138,    17.4960,   -66.0024,       3254,   872.2,   6.1241,  34.8300,2,  34.8298,2,    144.2,2,   144.1,2,   23.51,2,   30.26,2,    0.00,2,    1.96,2,   0.398,2,   0.217,2,   0.0600,2,  2223.0,2, -999.00,9, 1052.380,2,    20.00,   7.59031,2,    25.01, -999.00,9, -999.00,9, -999.00, -999.00,9,-999.000,9,   39.80,2, -999.00,1,      23.86,2, 20210427,      239,  17.4960, -66.0024,     6.1230,2,     0.0420,1,     4.6799,1,     -999.0,1,     -999.0,1,     -999.0,9
325020210420,        A22,      22,          1,         16,         16,2,20210427,       0138,    17.4960,   -66.0024,       3254,   973.0,   5.7254,  34.9137,2,  34.9111,2,    166.4,2,   165.2,2,   23.12,2,   27.31,2,    0.00,2,    1.79,2,-999.000,9,-999.000,9,-999.0000,9,  2214.3,2, 2315.88,2, -999.000,9,  -999.00,   7.63199,2,    25.00, -999.00,9, -999.00,9, -999.00, -999.00,9,-999.000,9,   40.60,2, -999.00,1,     -999.0,9, 20210427,      236,  17.4960, -66.0024,     5.7254,2,     0.0429,1,     4.6808,1,     -999.0,1,     -999.0,1,     -999.0,9
325020210420,        A22,      22,          1,         15,         15,2,20210427,       0138,    17.4960,   -66.0024,       3254,  1074.2,   5.1488,  34.9424,2,  34.9414,2,    184.2,2,   183.9,2,   23.61,2,   25.30,2,    0.00,2,    1.67,2,   0.245,6,   0.135,6,   0.0600,6,  2209.7,2, 2318.78,2,  895.120,2,    20.00,   7.65852,2,    25.00, -999.00,9, -999.00,9, -999.00, -999.00,9,-999.000,9,   39.10,2, -999.00,1,      18.51,6, 20210427,      233,  17.4960, -66.0024,     5.1503,2,     0.0429,1,     4.6813,1,     -999.0,1,     -999.0,1,     -999.0,9
325020210420,        A22,      22,          1,         14,         14,2,20210427,       0138,    17.4960,   -66.0024,       3254,  1175.3,   4.7609,  34.9618,2,  34.9620,2,    198.1,2,   198.1,2,   23.80,2,   23.83,2,    0.00,2,    1.57,2,-999.000,9,-999.000,9,-999.0000,9,  2204.4,2, -999.00,9,  853.400,2,    20.00,    7.6776,2,    25.00, -999.00,9, -999.00,9, -999.00, -999.00,9,-999.000,9,   40.90,2, -999.00,1,     -999.0,9, 20210427,      230,  17.4960, -66.0024,     4.7641,2,     0.0429,1,     4.6806,1,     -999.0,1,     -999.0,1,     -999.0,9
325020210420,        A22,      22,          1,         13,         13,2,20210427,       0138,    17.4960,   -66.0024,       3254,  1276.0,   4.5042,  34.9681,2,  34.9673,2,    205.2,2,   205.4,2,   24.29,2,   23.18,2,    0.00,2,    1.53,2,   0.221,2,   0.121,2,   0.0500,2,  2203.1,2, 2321.53,2, -999.000,9,  -999.00,   7.68786,2,    25.01, -999.00,9, -999.00,9, -999.00, -999.00,9,-999.000,9,   39.20,2, -999.00,1,      16.31,2, 20210427,      227,  17.4960, -66.0024,     4.5071,2,     0.0430,1,     4.6810,1,     -999.0,1,     -999.0,1,     -999.0,9
325020210420,        A22,      22,          1,         12,         12,2,20210427,       0138,    17.4960,   -66.0024,       3254,  1378.1,   4.3969,  34.9697,2,  34.9689,2,    207.2,2,   207.2,2,   25.17,2,   22.94,2,    0.00,2,    1.52,2,-999.000,9,-999.000,9,-999.0000,9,  2203.5,2, -999.00,9,  828.840,2,    20.00,   7.69053,2,    24.98, -999.00,9, -999.00,9, -999.00, -999.00,9,-999.000,9,   40.30,2, -999.00,1,     -999.0,9, 20210427,      225,  17.4960, -66.0024,     4.3965,2,     0.0423,1,     4.6813,1,     -999.0,1,     -999.0,1,     -999.0,9
325020210420,        A22,      22,          1,         11,         11,2,20210427,       0138,    17.4960,   -66.0024,       3254,  1479.3,   4.3096,  34.9723,2,  34.9719,2,    210.1,2,   210.7,2,   25.27,2,   22.60,2,    0.00,2,    1.50,2,   0.204,2,   0.113,2,   0.0800,2,  2202.0,6, -999.00,9,  821.730,2,    20.00,   7.69593,2,    25.00, -999.00,9, -999.00,9, -999.00, -999.00,9,-999.000,9,   39.20,2, -999.00,1,      15.54,2, 20210427,      222,  17.4960, -66.0024,     4.3098,2,     0.0434,1,     4.6813,1,     -999.0,1,     -999.0,1,     -999.0,9
325020210420,        A22,      22,          1,         10,         10,2,20210427,       0138,    17.4960,   -66.0024,       3254,  1580.9,   4.2471,  34.9744,2,  34.9736,2,    213.5,2,   214.1,2,   25.07,2,   22.26,2,    0.00,2,    1.48,2,-999.000,9,-999.000,9,-999.0000,9,  2203.4,2, 2325.62,2, -999.000,9,  -999.00,   7.69843,6,    25.01, -999.00,9, -999.00,9, -999.00, -999.00,9,-999.000,9,   39.30,2, -999.00,1,     -999.0,9, 20210427,      219,  17.4960, -66.0024,     4.2468,2,     0.0431,1,     4.6813,1,     -999.0,1,     -999.0,1,     -999.0,9
325020210420,        A22,      22,          1,          9,          9,2,20210427,       0138,    17.4960,   -66.0024,       3254,  1681.6,   4.1967,  34.9742,2,  34.9732,2,    213.2,2,   213.5,2,   26.14,2,   22.34,2,    0.00,2,    1.48,2,   0.181,2,   0.101,2,   0.1300,2,  2202.4,2, -999.00,9,  812.820,2,    20.00,   7.69936,2,    25.02, -999.00,9, -999.00,9, -999.00, -999.00,9,-999.000,9,   38.80,2, -999.00,1,      15.28,2, 20210427,      216,  17.4960, -66.0024,     4.1969,2,     0.0429,1,     4.6814,1,     -999.0,1,     -999.0,1,     -999.0,9
325020210420,        A22,      22,          1,          8,          8,2,20210427,       0138,    17.4960,   -66.0024,       3254,  1783.1,   4.1700,  34.9755,2,  34.9758,2,    216.2,2,   216.6,2,   25.75,2,   22.05,2,    0.00,2,    1.46,2,-999.000,9,-999.000,9,-999.0000,9,  2199.1,2, 2330.72,6,  804.940,2,    20.00,    7.7026,2,    25.01, -999.00,9, -999.00,9, -999.00, -999.00,9,-999.000,9,   40.20,2, -999.00,1,     -999.0,9, 20210427,      213,  17.4960, -66.0024,     4.1700,2,     0.0430,1,     4.6815,1,     -999.0,1,     -999.0,1,     -999.0,9
325020210420,        A22,      22,          1,          7,          7,2,20210427,       0138,    17.4960,   -66.0024,       3254,  1885.0,   4.1449,  34.9756,2,  34.9748,2,    216.2,2,   216.4,2,   26.34,2,   22.00,2,    0.00,2,    1.46,2,   0.211,2,   0.119,2,   0.2100,2,  2199.2,2, -999.00,9, -999.000,9,  -999.00,   7.70384,2,    24.99, -999.00,9, -999.00,9, -999.00, -999.00,9,-999.000,9,   40.60,2, -999.00,1,      14.53,2, 20210427,      210,  17.4960, -66.0024,     4.1447,2,     0.0430,1,     4.6814,1,     -999.0,1,     -999.0,1,     -999.0,9
325020210420,        A22,      22,          1,          6,          6,2,20210427,       0138,    17.4960,   -66.0024,       3254,  1985.7,   4.1334,  34.9753,2,  34.9748,2,    214.8,2,   215.1,2,   27.12,2,   22.11,2,    0.00,2,    1.48,2,   0.129,2,   0.077,2,   0.2400,2,  2200.8,2, 2330.99,2, -999.000,9,  -999.00,   7.70408,2,    25.00, -999.00,9, -999.00,9, -999.00, -999.00,9,-999.000,9,   39.60,2, -999.00,1,      14.47,2, 20210427,      207,  17.4960, -66.0024,     4.1332,2,     0.0430,1,     4.6818,1,     -999.0,1,     -999.0,1,     -999.0,9
325020210420,        A22,      22,          1,          5,          5,2,20210427,       0138,    17.4960,   -66.0024,       3254,  2159.1,   4.1218,  34.9756,2,  34.9752,2,    215.6,2,   215.7,2,   27.31,2,   22.15,2,    0.00,2,    1.48,2,-999.000,9,-999.000,9,-999.0000,9,  2201.1,2, -999.00,9,  801.385,6,    20.00,    7.7064,2,    25.00, -999.00,9, -999.00,9, -999.00, -999.00,9,-999.000,9,   39.20,2, -999.00,1,     -999.0,9, 20210427,      202,  17.4960, -66.0024,     4.1218,2,     0.0428,1,     4.6825,1,     -999.0,1,     -999.0,1,     -999.0,9
325020210420,        A22,      22,          1,          4,          4,2,20210427,       0138,    17.4960,   -66.0024,       3254,  2362.3,   4.1412,  34.9797,2,  34.9801,2,    228.4,2,   228.2,2,   23.02,2,   20.88,2,    0.00,2,    1.39,2,   0.680,2,   0.356,2,   0.3000,2,  2194.1,2, 2324.02,3,  786.960,2,    20.00,   7.71146,2,    25.00, -999.00,9, -999.00,9, -999.00, -999.00,9,-999.000,9,   40.90,2, -999.00,1,      14.63,2, 20210427,      158,  17.4960, -66.0024,     4.1409,2,     0.0430,1,     4.6817,1,     -999.0,1,     -999.0,1,     -999.0,9
325020210420,        A22,      22,          1,          3,          3,2,20210427,       0138,    17.4960,   -66.0024,       3254,  2565.9,   4.1364,  34.9758,2,  34.9762,2,    214.7,2,   214.9,2,   28.49,2,   22.19,2,    0.00,2,    1.48,2,   0.080,2,   0.056,2,   0.3200,2,  2205.6,3,  2335.5,2,  798.850,2,    20.00,   7.70657,2,    25.03, -999.00,9, -999.00,9, -999.00, -999.00,9,-999.000,9,   39.10,2, -999.00,1,      14.78,2, 20210427,      153,  17.4960, -66.0024,     4.1365,2,     0.0434,1,     4.6813,1,     -999.0,1,     -999.0,1,     -999.0,9