BOTTLE,20230513CCHSIOCBG
EXPOCODE,SECT_ID,STNNBR,CASTNO,SAMPNO,BTLNBR,BTLNBR_FLAG_W,DATE,TIME,LATITUDE,LONGITUDE,DEPTH,CTDPRS,CTDTMP,CTDSAL,CTDSAL_FLAG_W,SALNTY,SALNTY_FLAG_W,CTDOXY,CTDOXY_FLAG_W,OXYGEN,OXYGEN_FLAG_W,SILCAT,SILCAT_FLAG_W,NITRAT,NITRAT_FLAG_W,NITRIT,NITRIT_FLAG_W,PHSPHT,PHSPHT_FLAG_W,CFC-11,CFC-11_FLAG_W,CFC-12,CFC-12_FLAG_W,SF6,SF6_FLAG_W,TCARBN,TCARBN_FLAG_W,ALKALI,ALKALI_FLAG_W,FCO2,FCO2_FLAG_W,FCO2TMP,PH_TOT,PH_TOT_FLAG_W,PH_TMP,DELC13,DELC13_FLAG_W,DELC14,DELC14_FLAG_W,C14ERR,DELO18,DELO18_FLAG_W,POC,POC_FLAG_W,DOC,DOC_FLAG_W,TDN,TDN_FLAG_W,N2O,N2O_FLAG_W,BTL_DATE,BTL_TIME,BTL_LAT,BTL_LON,REFTMP,REFTMP_FLAG_W,CTDFLUOR,CTDFLUOR_FLAG_W,CTDXMISS,CTDXMISS_FLAG_W,D15N_NO2+NO3,D15N_NO2+NO3_FLAG_W,D18O_NO2+NO3,D18O_NO2+NO3_FLAG_W,HPLC,HPLC_FLAG_W
,,,,,,,,,,,METERS,DBAR,ITS-90,PSS-78,,PSS-78,,UMOL/KG,,UMOL/KG,,UMOL/KG,,UMOL/KG,,UMOL/KG,,UMOL/KG,,PMOL/KG,,PMOL/KG,,FMOL/KG,,UMOL/KG,,UMOL/KG,,UATM,,DEG C,,,DEG C,/MILLE,,/MILLE,,/MILLE,/MILLE,,UG/KG,,UMOL/KG,,UMOL/KG,,NMOL/KG,,,,,,ITS-90,,VOLTS,,VOLTS,,/MILLE,,/MILLE,,,
325020210420,        A22,      83,          1,         36,         36,2,20210514,       0415,    39.0181,   -69.3335,       3053,     5.3,  17.5061,  35.8929,2,  35.8919,2,    253.2,2,   253.5,2,    0.00,2,    0.00,2,    0.00,2,    0.02,2,-999.000,9,-999.000,9,-999.0000,9,  2062.7,6,  2367.8,2, -999.000,9,  -999.00,   8.04397,2,    25.04, -999.00,9, -999.00,9, -999.00, -999.00,9,-999.000,9, -999.00,9, -999.00,9,     -999.0,9, 20210514,      555,  39.0181, -69.3335,    17.5061,2,     0.2302,1,     4.2416,1,     -999.0,1,     -999.0,1,     -999.0,9
325020210420,        A22,      83,          1,         35,         35,2,20210514,       0415,    39.0181,   -69.3335,       3053,    25.3,  17.4335,  35.8941,2,  35.8921,2,    238.2,2,   238.1,2,    0.00,2,    0.04,2,    0.01,2,    0.02,2,-999.000,9,-999.000,9,-999.0000,9,  -999.0,9, -999.00,9, -999.000,9,  -999.00,-999.00000,9,  -999.00, -999.00,9, -999.00,9, -999.00, -999.00,9,-999.000,9, -999.00,9, -999.00,9,     -999.0,9, 20210514,      554,  39.0181, -69.3335,    17.4321,2,     0.3201,1,     4.1506,1,     -999.0,1,     -999.0,1,     -999.0,9
325020210420,        A22,      83,          1,         34,         34,2,20210514,       0415,    39.0181,   -69.3335,       3053,    50.9,  16.1401,  35.8334,2,  35.8333,2,    220.9,2,   219.8,2,    1.27,2,    1.83,2,    0.38,2,    0.21,2,-999.000,9,-999.000,9,-999.0000,9,  -999.0,9, -999.00,9, -999.000,9,  -999.00,-999.00000,9,  -999.00, -999.00,9, -999.00,9, -999.00, -999.00,9,-999.000,9, -999.00,9, -999.00,9,     -999.0,9, 20210514,      552,  39.0181, -69.3335,    16.1414,2,     0.1458,1,     4.5108,1,     -999.0,1,     -999.0,1,     -999.0,9
325020210420,        A22,      83,          1,         33,         33,2,20210514,       0415,    39.0181,   -69.3335,       3053,    75.8,  15.6590,  35.9654,2,  35.9427,3,    160.8,2,   161.4,2,    4.29,2,   11.40,2,    0.06,2,    0.67,2,   2.039,2,   1.274,2,   1.4400,2,  -999.0,9, -999.00,9, -999.000,9,  -999.00,-999.00000,9,  -999.00, -999.00,9, -999.00,9, -999.00, -999.00,9,-999.000,9, -999.00,9, -999.00,9,      13.61,2, 20210514,      550,  39.0181, -69.3334,    15.6609,2,     0.1159,1,     4.4163,1,     -999.0,1,     -999.0,1,     -999.0,9
325020210420,        A22,      83,          1,         32,         32,2,20210514,       0415,    39.0181,   -69.3335,       3053,   100.7,  14.3203,  35.8075,2,  35.8054,2,    182.0,2,   183.1,2,    4.29,2,   11.63,2,    0.01,2,    0.70,2,-999.000,9,-999.000,9,-999.0000,9,  2156.3,2, 2350.32,2, -999.000,9,  -999.00,   7.83626,6,    25.03, -999.00,9, -999.00,9, -999.00, -999.00,9,-999.000,9, -999.00,9, -999.00,9,     -999.0,9, 20210514,      547,  39.0181, -69.3335,    14.3290,2,     0.0867,1,     4.6188,1,     -999.0,1,     -999.0,1,     -999.0,9
325020210420,        A22,      83,          1,         31,         31,2,20210514,       0415,    39.0181,   -69.3335,       3053,   125.8,  13.7223,  35.7491,2,  35.7472,2,    172.4,3,   174.3,2,    5.75,2,   13.84,2,    0.01,2,    0.84,2,-999.000,9,-999.000,9,-999.0000,9,  -999.0,9, -999.00,9, -999.000,9,  -999.00,-999.00000,9,  -999.00, -999.00,9, -999.00,9, -999.00, -999.00,9,-999.000,9, -999.00,9, -999.00,9,     -999.0,9, 20210514,      546,  39.0181, -69.3335,    13.7292,2,     0.0461,1,     4.6474,1,     -999.0,1,     -999.0,1,     -999.0,9
325020210420,        A22,      83,          1,         30,         30,2,20210514,       0415,    39.0181,   -69.3335,       3053,   151.3,  13.2729,  35.7040,2,  35.7031,2,    152.3,2,   151.4,2,    7.51,2,   16.97,2,    0.00,2,    1.03,2,-999.000,9,-999.000,9,-999.0000,9,  -999.0,9, -999.00,9, -999.000,9,  -999.00,-999.00000,9,  -999.00, -999.00,9, -999.00,9, -999.00, -999.00,9,-999.000,9, -999.00,9, -999.00,9,     -999.0,9, 20210514,      545,  39.0181, -69.3335,    13.2760,2,     0.0492,1,     4.6486,1,     -999.0,1,     -999.0,1,     -999.0,9
325020210420,        A22,      83,          1,         29,         29,2,20210514,       0415,    39.0181,   -69.3335,       3053,   176.9,  12.5272,  35.6096,2,  35.6052,2,    134.2,2,   133.4,2,    9.46,2,   20.11,2,    0.00,2,    1.24,2,-999.000,9,-999.000,9,-999.0000,9,  2191.5,2, 2336.15,2, -999.000,9,  -999.00,   7.72649,2,    25.04, -999.00,9, -999.00,9, -999.00, -999.00,9,-999.000,9, -999.00,9, -999.00,9,     -999.0,9, 20210514,      543,  39.0181, -69.3335,    12.5280,2,     0.0431,1,     4.6510,1,     -999.0,1,     -999.0,1,     -999.0,9
325020210420,        A22,      83,          1,         28,         28,2,20210514,       0415,    39.0181,   -69.3335,       3053,   201.9,  11.7822,  35.4999,2,  35.4959,2,    130.6,2,   131.0,2,   10.73,2,   21.77,2,    0.00,2,    1.36,2,-999.000,9,-999.000,9,-999.0000,9,  -999.0,9, -999.00,9, -999.000,9,  -999.00,-999.00000,9,  -999.00, -999.00,9, -999.00,9, -999.00, -999.00,9,-999.000,9, -999.00,9, -999.00,9,     -999.0,9, 20210514,      541,  39.0181, -69.3335,    11.7839,2,     0.0424,1,     4.6541,1,     -999.0,1,     -999.0,1,     -999.0,9
325020210420,        A22,      83,          1,         27,         27,2,20210514,       0415,    39.0181,   -69.3335,       3053,   226.7,  11.1398,  35.4236,2,  35.4145,2,    134.1,2,   134.5,2,   11.90,2,   22.38,2,    0.00,2,    1.39,2,-999.000,9,-999.000,9,-999.0000,9,  -999.0,9, -999.00,9, -999.000,9,  -999.00,-999.00000,9,  -999.00, -999.00,9, -999.00,9, -999.00, -999.00,9,-999.000,9, -999.00,9, -999.00,9,     -999.0,9, 20210514,      539,  39.0181, -69.3335,    11.1389,2,     0.0426,1,     4.6558,1,     -999.0,1,     -999.0,1,     -999.0,9
325020210420,        A22,      83,          1,         26,         26,2,20210514,       0415,    39.0181,   -69.3335,       3053,   252.5,  10.3757,  35.3371,2,  35.3309,2,    135.4,2,   135.8,2,   12.68,2,   23.38,2,    0.00,2,    1.47,2,-999.000,9,-999.000,9,-999.0000,9,  -999.0,9, -999.00,9, -999.000,9,  -999.00,-999.00000,9,  -999.00, -999.00,9, -999.00,9, -999.00, -999.00,9,-999.000,9, -999.00,9, -999.00,9,     -999.0,9, 20210514,      538,  39.0181, -69.3335,    10.3765,2,     0.0428,1,     4.6564,1,     -999.0,1,     -999.0,1,     -999.0,9
325020210420,        A22,      83,          1,         25,         25,2,20210514,       0415,    39.0181,   -69.3335,       3053,   301.9,   8.9193,  35.1587,2,  35.1585,2,    135.6,2,   135.6,2,   15.71,2,   25.74,2,    0.00,2,    1.64,2,   1.202,2,   0.661,2,   0.4300,2,  2206.2,2, 2319.38,2, -999.000,9,  -999.00,   7.64423,6,    25.02, -999.00,9, -999.00,9, -999.00, -999.00,9,-999.000,9, -999.00,9, -999.00,9,      21.42,2, 20210514,      535,  39.0181, -69.3335,     8.9197,2,     0.0427,1,     4.6490,1,     -999.0,1,     -999.0,1,     -999.0,9
325020210420,        A22,      83,          1,         24,         24,2,20210514,       0415,    39.0181,   -69.3335,       3053,   353.5,   8.1133,  35.1563,2,  35.1547,2,    158.5,2,   158.8,2,   14.24,2,   23.73,2,    0.00,2,    1.52,2,-999.000,9,-999.000,9,-999.0000,9,  -999.0,9, -999.00,9, -999.000,9,  -999.00,-999.00000,9,  -999.00, -999.00,9, -999.00,9, -999.00, -999.00,9,-999.000,9, -999.00,9, -999.00,9,     -999.0,9, 20210514,      533,  39.0181, -69.3335,     8.1110,2,     0.0429,1,     4.6569,1,     -999.0,1,     -999.0,1,     -999.0,9
325020210420,        A22,      83,          1,         23,         23,2,20210514,       0415,    39.0181,   -69.3335,       3053,   403.5,   7.2222,  35.1284,2,  35.1282,2,    180.4,2,   179.9,2,   13.66,2,   22.27,2,    0.00,2,    1.44,2,-999.000,9,-999.000,9,-999.0000,9,  -999.0,9, -999.00,9, -999.000,9,  -999.00,-999.00000,9,  -999.00, -999.00,9, -999.00,9, -999.00, -999.00,9,-999.000,9, -999.00,9, -999.00,9,     -999.0,9, 20210514,      531,  39.0181, -69.3335,     7.2220,2,     0.0422,1,     4.6629,1,     -999.0,1,     -999.0,1,     -999.0,9
325020210420,        A22,      83,          1,         22,         22,2,20210514,       0415,    39.0181,   -69.3335,       3053,   454.1,   6.6264,  35.1111,2,  35.1106,2,    194.9,2,   195.0,2,   13.37,2,   21.29,2,    0.00,2,    1.39,2,-999.000,9,-999.000,9,-999.0000,9,  -999.0,9, -999.00,9, -999.000,9,  -999.00,-999.00000,9,  -999.00, -999.00,9, -999.00,9, -999.00, -999.00,9,-999.000,9, -999.00,9, -999.00,9,     -999.0,9, 20210514,      529,  39.0181, -69.3335,     6.6252,2,     0.0417,1,     4.6634,1,     -999.0,1,     -999.0,1,     -999.0,9
325020210420,        A22,      83,          1,         21,         21,2,20210514,       0415,    39.0181,   -69.3335,       3053,   504.6,   6.0497,  35.0738,2,  35.0732,2,    207.7,2,   208.0,2,   12.98,2,   20.55,2,    0.00,2,    1.35,2,-999.000,9,-999.000,9,-999.0000,9,  -999.0,9, -999.00,9, -999.000,9,  -999.00,-999.00000,9,  -999.00, -999.00,9, -999.00,9, -999.00, -999.00,9,-999.000,9, -999.00,9, -999.00,9,     -999.0,9, 20210514,      526,  39.0181, -69.3335,     6.0505,2,     0.0423,1,     4.6587,1,     -999.0,1,     -999.0,1,     -999.0,9
325020210420,        A22,      83,          1,         20,         20,2,20210514,       0415,    39.0181,   -69.3335,       3053,   605.6,   5.3726,  35.0415,2,  35.0419,2,    226.8,2,   226.8,2,   12.29,2,   19.38,2,    0.00,2,    1.28,2,-999.000,9,-999.000,9,-999.0000,9,  2183.2,2, 2310.15,6, -999.000,9,  -999.00,   7.68983,2,    25.04, -999.00,9, -999.00,9, -999.00, -999.00,9,-999.000,9, -999.00,9, -999.00,9,     -999.0,9, 20210514,      523,  39.0181, -69.3335,     5.3745,2,     0.0425,1,     4.6613,1,     -999.0,1,     -999.0,1,     -999.0,9
325020210420,        A22,      83,          1,         19,         19,2,20210514,       0415,    39.0181,   -69.3335,       3053,   707.2,   5.0426,  35.0338,2,  35.0335,2,    237.1,2,   237.4,2,   12.00,2,   18.78,2,    0.00,2,    1.24,2,-999.000,9,-999.000,9,-999.0000,9,  -999.0,9, -999.00,9, -999.000,9,  -999.00,-999.00000,9,  -999.00, -999.00,9, -999.00,9, -999.00, -999.00,9,-999.000,9, -999.00,9, -999.00,9,     -999.0,9, 20210514,      520,  39.0181, -69.3335,     5.0426,2,     0.0425,1,     4.6612,1,     -999.0,1,     -999.0,1,     -999.0,9
325020210420,        A22,      83,          1,         18,         18,2,20210514,       0415,    39.0181,   -69.3335,       3053,   807.2,   4.7773,  35.0225,2,  35.0218,2,    245.0,2,   245.0,2,   11.81,2,   18.34,2,    0.00,2,    1.20,2,   2.621,2,   1.408,2,   0.9500,2,  -999.0,9, -999.00,9, -999.000,9,  -999.00,-999.00000,9,  -999.00, -999.00,9, -999.00,9, -999.00, -999.00,9,-999.000,9, -999.00,9, -999.00,9,      13.21,2, 20210514,      517,  39.0181, -69.3335,     4.7771,2,     0.0430,1,     4.6623,1,     -999.0,1,     -999.0,1,     -999.0,9
325020210420,        A22,      83,          1,         17,         17,2,20210514,       0415,    39.0181,   -69.3335,       3053,   908.8,   4.5132,  35.0022,2,  35.0020,2,    251.8,2,   252.1,2,   11.61,2,   18.10,2,    0.00,2,    1.18,2,-999.000,9,-999.000,9,-999.0000,9,  2175.3,2, 2306.63,2, -999.000,9,  -999.00,    7.7065,2,    25.03, -999.00,9, -999.00,9, -999.00, -999.00,9,-999.000,9, -999.00,9, -999.00,9,     -999.0,9, 20210514,      514,  39.0181, -69.3335,     4.5138,2,     0.0429,1,     4.6647,1,     -999.0,1,     -999.0,1,     -999.0,9
325020210420,        A22,      83,          1,         16,         16,2,20210514,       0415,    39.0181,   -69.3335,       3053,  1010.0,   4.3493,  34.9902,2,  34.9900,2,    255.7,2,   255.9,2,   11.61,2,   17.89,2,    0.00,2,    1.17,2,   2.775,2,   1.477,2,   0.9600,2,  -999.0,9, -999.00,9, -999.000,9,  -999.00,-999.00000,9,  -999.00, -999.00,9, -999.00,9, -999.00, -999.00,9,-999.000,9, -999.00,9, -999.00,9,      13.67,2, 20210514,      510,  39.0181, -69.3335,     4.3497,2,     0.0425,1,     4.6635,1,     -999.0,1,     -999.0,1,     -999.0,9
325020210420,        A22,      83,          1,         15,         15,2,20210514,       0415,    39.0181,   -69.3335,       3053,  1111.0,   4.2190,  34.9815,2,  34.9811,2,    258.9,2,   258.5,2,   11.61,2,   17.76,2,    0.00,2,    1.16,2,-999.000,9,-999.000,9,-999.0000,9,  -999.0,9, -999.00,9, -999.000,9,  -999.00,-999.00000,9,  -999.00, -999.00,9, -999.00,9, -999.00, -999.00,9,-999.000,9, -999.00,9, -999.00,9,     -999.0,9, 20210514,      508,  39.0181, -69.3335,     4.2191,2,     0.0419,1,     4.6642,1,     -999.0,1,     -999.0,1,     -999.0,9
325020210420,        A22,      83,          1,         14,         14,2,20210514,       0415,    39.0181,   -69.3335,       3053,  1212.7,   4.0841,  34.9723,2,  34.9723,2,    261.6,2,   261.6,2,   11.90,2,   17.55,2,    0.00,2,    1.15,2,-999.000,9,-999.000,9,-999.0000,9,  2172.3,2, 2303.15,2, -999.000,9,  -999.00,   7.71183,2,    25.03, -999.00,9, -999.00,9, -999.00, -999.00,9,-999.000,9, -999.00,9, -999.00,9,     -999.0,9, 20210514,      505,  39.0181, -69.3335,     4.0846,2,     0.0429,1,     4.6643,1,     -999.0,1,     -999.0,1,     -999.0,9
325020210420,        A22,      83,          1,         13,         13,2,20210514,       0415,    39.0181,   -69.3335,       3053,  1314.5,   3.9827,  34.9678,2,  34.9677,2,    263.1,2,   264.0,2,   12.10,2,   17.47,2,    0.00,2,    1.15,2,   2.719,2,   1.426,2,   0.8900,2,  -999.0,9, -999.00,9, -999.000,9,  -999.00,-999.00000,9,  -999.00, -999.00,9, -999.00,9, -999.00, -999.00,9,-999.000,9, -999.00,9, -999.00,9,      12.76,2, 20210514,      502,  39.0181, -69.3335,     3.9824,2,     0.0423,1,     4.6662,1,     -999.0,1,     -999.0,1,     -999.0,9
325020210420,        A22,      83,          1,         12,         12,2,20210514,       0415,    39.0181,   -69.3335,       3053,  1415.5,   3.9022,  34.9647,2,  34.9642,2,    263.5,2,   263.6,2,   12.49,2,   17.52,2,    0.00,2,    1.15,2,-999.000,9,-999.000,9,-999.0000,9,  -999.0,9, -999.00,9, -999.000,9,  -999.00,-999.00000,9,  -999.00, -999.00,9, -999.00,9, -999.00, -999.00,9,-999.000,9, -999.00,9, -999.00,9,     -999.0,9, 20210514,      459,  39.0181, -69.3335,     3.9019,2,     0.0424,1,     4.6650,1,     -999.0,1,     -999.0,1,     -999.0,9
325020210420,        A22,      83,          1,         11,         11,2,20210514,       0415,    39.0181,   -69.3335,       3053,  1517.6,   3.8320,  34.9660,2,  34.9660,2,    263.2,2,   263.1,2,   12.78,2,   17.57,2,    0.00,2,    1.15,2,-999.000,9,-999.000,9,-999.0000,9,  -999.0,9, -999.00,9, -999.000,9,  -999.00,-999.00000,9,  -999.00, -999.00,9, -999.00,9, -999.00, -999.00,9,-999.000,9, -999.00,9, -999.00,9,     -999.0,9, 20210514,      456,  39.0181, -69.3335,     3.8314,2,     0.0418,1,     4.6645,1,     -999.0,1,     -999.0,1,     -999.0,9
325020210420,        A22,      83,          1,         10,         10,2,20210514,       0415,    39.0181,   -69.3335,       3053,  1618.2,   3.7415,  34.9626,2,  34.9618,2,    263.8,2,   263.6,2,   13.27,2,   17.55,2,    0.00,2,    1.16,2,   2.273,2,   1.163,2,   0.5800,2,  -999.0,9, -999.00,9, -999.000,9,  -999.00,-999.00000,9,  -999.00, -999.00,9, -999.00,9, -999.00, -999.00,9,-999.000,9, -999.00,9, -999.00,9,      12.92,2, 20210514,      453,  39.0181, -69.3335,     3.7412,2,     0.0427,1,     4.6669,1,     -999.0,1,     -999.0,1,     -999.0,9
325020210420,        A22,      83,          1,          9,          9,2,20210514,       0415,    39.0181,   -69.3335,       3053,  1720.3,   3.6722,  34.9614,2,  34.9610,2,    263.5,2,   263.3,2,   13.86,2,   17.56,2,    0.00,2,    1.16,2,-999.000,9,-999.000,9,-999.0000,9,  -999.0,9, -999.00,9, -999.000,9,  -999.00,-999.00000,9,  -999.00, -999.00,9, -999.00,9, -999.00, -999.00,9,-999.000,9, -999.00,9, -999.00,9,     -999.0,9, 20210514,      450,  39.0181, -69.3335,     3.6722,2,     0.0413,1,     4.6654,1,     -999.0,1,     -999.0,1,     -999.0,9
325020210420,        A22,      83,          1,          8,          8,2,20210514,       0415,    39.0181,   -69.3335,       3053,  1821.9,   3.5725,  34.9576,2,  34.9581,2,    264.3,2,   264.4,2,   14.34,2,   17.58,2,    0.00,2,    1.17,2,-999.000,9,-999.000,9,-999.0000,9,  -999.0,9, -999.00,9, -999.000,9,  -999.00,-999.00000,9,  -999.00, -999.00,9, -999.00,9, -999.00, -999.00,9,-999.000,9, -999.00,9, -999.00,9,     -999.0,9, 20210514,      446,  39.0181, -69.3335,     3.5722,2,     0.0424,1,     4.6664,1,     -999.0,1,     -999.0,1,     -999.0,9
325020210420,        A22,      83,          1,          7,          7,2,20210514,       0415,    39.0181,   -69.3335,       3053,  1923.2,   3.4781,  34.9540,2,  34.9532,2,    264.7,2,   264.7,2,   14.83,2,   17.63,2,    0.00,2,    1.17,2,-999.000,9,-999.000,9,-999.0000,9,  2169.8,2, 2307.09,2, -999.000,9,  -999.00,   7.72719,2,    25.03, -999.00,9, -999.00,9, -999.00, -999.00,9,-999.000,9, -999.00,9, -999.00,9,     -999.0,9, 20210514,      443,  39.0181, -69.3335,     3.4779,2,     0.0424,1,     4.6674,1,     -999.0,1,     -999.0,1,     -999.0,9
325020210420,        A22,      83,          1,          6,          6,2,20210514,       0415,    39.0181,   -69.3335,       3053,  2025.7,   3.3898,  34.9511,2,  34.9490,3,    265.0,2,   265.1,2,   15.61,2,   17.71,2,    0.00,2,    1.17,2,   1.760,2,   0.883,2,   0.3700,2,  -999.0,9, -999.00,9, -999.000,9,  -999.00,-999.00000,9,  -999.00, -999.00,9, -999.00,9, -999.00, -999.00,9,-999.000,9, -999.00,9, -999.00,9,      12.52,2, 20210514,      440,  39.0181, -69.3335,     3.3901,2,     0.0427,1,     4.6671,1,     -999.0,1,     -999.0,1,     -999.0,9
325020210420,        A22,      83,          1,          5,          5,2,20210514,       0415,    39.0181,   -69.3335,       3053,  2229.0,   3.2380,  34.9456,2,  34.9453,2,    265.6,2,   265.6,2,   16.68,2,   17.71,2,    0.00,2,    1.16,2,-999.000,9,-999.000,9,-999.0000,9,  -999.0,9, -999.00,9, -999.000,9,  -999.00,-999.00000,9,  -999.00, -999.00,9, -999.00,9, -999.00, -999.00,9,-999.000,9, -999.00,9, -999.00,9,     -999.0,9, 20210514,      436,  39.0180, -69.3335,     3.2377,2,     0.0428,1,     4.6681,1,     -999.0,1,     -999.0,1,     -999.0,9
325020210420,        A22,      83,          1,          4,          4,2,20210514,       0415,    39.0181,   -69.3335,       3053,  2433.1,   3.0616,  34.9380,2,  34.9374,2,    266.7,2,   266.9,2,   17.76,2,   17.63,2,    0.00,2,    1.17,2,-999.000,9,-999.000,9,-999.0000,9,  -999.0,9, -999.00,9, -999.000,9,  -999.00,-999.00000,9,  -999.00, -999.00,9, -999.00,9, -999.00, -999.00,9,-999.000,9, -999.00,9, -999.00,9,     -999.0,9, 20210514,      431,  39.0180, -69.3335,     3.0597,2,     0.0419,1,     4.6691,1,     -999.0,1,     -999.0,1,     -999.0,9
325020210420,        A22,      83,          1,          3,          3,2,20210514,       0415,    39.0181,   -69.3335,       3053,  2637.0,   2.8896,  34.9306,2,  34.9299,2,    268.0,2,   268.2,2,   18.83,2,   17.53,2,    0.00,2,    1.16,2,   1.601,2,   0.822,2,   0.4500,2,  -999.0,9, -999.00,9, -999.000,9,  -999.00,-999.00000,9,  -999.00, -999.00,9, -999.00,9, -999.00, -999.00,9,-999.000,9, -999.00,9, -999.00,9,      12.69,2, 20210514,      425,  39.0180, -69.3335,     2.8891,2,     0.0423,1,     4.6680,1,     -999.0,1,     -999.0,1,     -999.0,9