BOTTLE,20230513CCHSIOCBG
EXPOCODE,SECT_ID,STNNBR,CASTNO,SAMPNO,BTLNBR,BTLNBR_FLAG_W,DATE,TIME,LATITUDE,LONGITUDE,DEPTH,CTDPRS,CTDTMP,CTDSAL,CTDSAL_FLAG_W,SALNTY,SALNTY_FLAG_W,CTDOXY,CTDOXY_FLAG_W,OXYGEN,OXYGEN_FLAG_W,SILCAT,SILCAT_FLAG_W,NITRAT,NITRAT_FLAG_W,NITRIT,NITRIT_FLAG_W,PHSPHT,PHSPHT_FLAG_W,CFC-11,CFC-11_FLAG_W,CFC-12,CFC-12_FLAG_W,SF6,SF6_FLAG_W,TCARBN,TCARBN_FLAG_W,ALKALI,ALKALI_FLAG_W,FCO2,FCO2_FLAG_W,FCO2TMP,PH_TOT,PH_TOT_FLAG_W,PH_TMP,DELC13,DELC13_FLAG_W,DELC14,DELC14_FLAG_W,C14ERR,DELO18,DELO18_FLAG_W,POC,POC_FLAG_W,DOC,DOC_FLAG_W,TDN,TDN_FLAG_W,N2O,N2O_FLAG_W,BTL_DATE,BTL_TIME,BTL_LAT,BTL_LON,REFTMP,REFTMP_FLAG_W,CTDFLUOR,CTDFLUOR_FLAG_W,CTDXMISS,CTDXMISS_FLAG_W,D15N_NO2+NO3,D15N_NO2+NO3_FLAG_W,D18O_NO2+NO3,D18O_NO2+NO3_FLAG_W,HPLC,HPLC_FLAG_W
,,,,,,,,,,,METERS,DBAR,ITS-90,PSS-78,,PSS-78,,UMOL/KG,,UMOL/KG,,UMOL/KG,,UMOL/KG,,UMOL/KG,,UMOL/KG,,PMOL/KG,,PMOL/KG,,FMOL/KG,,UMOL/KG,,UMOL/KG,,UATM,,DEG C,,,DEG C,/MILLE,,/MILLE,,/MILLE,/MILLE,,UG/KG,,UMOL/KG,,UMOL/KG,,NMOL/KG,,,,,,ITS-90,,VOLTS,,VOLTS,,/MILLE,,/MILLE,,,
325020210420,        A22,       6,          1,         34,         34,2,20210423,       0018,    13.1886,   -69.8743,       2538,     5.6,  27.2091,  35.9474,2,  35.9493,2,    202.4,2,   201.3,2,    0.88,2,    0.00,2,    0.00,2,    0.00,2,   1.439,2,   0.943,2,   1.6700,2,  2026.9,6, 2353.56,2,  294.260,2,    20.00,   8.09637,2,    25.02,    1.01,2,   28.66,2,    1.88, -999.00,1,-999.000,9,   74.50,2,    4.96,2,       6.19,2, 20210423,      144,  13.1886, -69.8743,    27.2013,2,     0.0506,1,     4.6019,1,     -999.0,9,     -999.0,9,     -999.0,9
325020210420,        A22,       6,          1,         33,         33,2,20210423,       0018,    13.1886,   -69.8743,       2538,    35.9,  27.1976,  35.9583,2,  35.9589,2,    202.3,2,   201.3,2,    0.78,2,    0.00,2,    0.00,2,    0.00,2,   1.426,2,   0.939,2,   1.6900,2,  2028.0,2, 2356.99,2,  295.410,2,    20.00,   8.09523,2,    25.03, -999.00,9, -999.00,9, -999.00, -999.00,9,-999.000,9,   75.30,2,    4.71,2,       6.03,2, 20210423,      142,  13.1886, -69.8743,    27.2033,2,     0.0502,1,     4.6068,1,     -999.0,9,     -999.0,9,     -999.0,9
325020210420,        A22,       6,          1,         32,         32,2,20210423,       0018,    13.1886,   -69.8743,       2538,    60.6,  26.4636,  36.4908,2,  36.5040,2,    194.4,2,   194.7,2,    0.78,2,    0.00,2,    0.01,2,    0.00,2,-999.000,9,-999.000,9,-999.0000,9,  2061.5,2, 2387.02,2,  311.410,2,    20.00,   8.08072,2,    25.00, -999.00,9, -999.00,9, -999.00, -999.00,9,-999.000,9,   72.20,2,    4.48,2,     -999.0,9, 20210423,      140,  13.1886, -69.8743,    26.4619,2,     0.0894,1,     4.6049,1,     -999.0,9,     -999.0,9,     -999.0,9
325020210420,        A22,       6,          1,         31,         31,2,20210423,       0018,    13.1886,   -69.8743,       2538,    85.5,  24.7632,  36.8011,2,  36.8403,3,    165.0,2,   165.7,2,    1.36,2,    2.74,2,    0.15,2,    0.16,2,-999.000,9,-999.000,9,-999.0000,9,  2121.8,2, 2407.32,2,  386.570,2,    20.00,    8.0021,2,    25.00, -999.00,9, -999.00,9, -999.00, -999.00,9,-999.000,9,   66.00,2,    6.89,2,     -999.0,9, 20210423,      139,  13.1886, -69.8743,    24.7581,2,     0.0849,1,     4.6360,1,     -999.0,9,     -999.0,9,     -999.0,9
325020210420,        A22,       6,          1,         30,         30,2,20210423,       0018,    13.1886,   -69.8743,       2538,   110.9,  23.8648,  37.2331,2,  37.2332,2,    170.8,2,   172.0,2,    0.29,2,    1.45,2,    0.05,2,    0.03,2,   1.679,2,   1.091,2,   1.6800,2,  2139.1,2, 2430.83,2,  384.430,2,    20.00,   8.00637,2,    24.90,    0.67,2,   36.28,2,    1.99, -999.00,1,-999.000,9,   61.60,2,    4.98,2,       7.68,2, 20210423,      137,  13.1887, -69.8743,    23.8669,2,     0.0609,1,     4.6595,1,     -999.0,9,     -999.0,9,     -999.0,9
325020210420,        A22,       6,          1,         29,         29,2,20210423,       0018,    13.1886,   -69.8743,       2538,   135.6,  21.4399,  36.9691,2,  36.6273,3,    157.4,2,   158.7,2,    0.97,2,    4.09,2,    0.01,2,    0.15,2,-999.000,9,-999.000,9,-999.0000,9,  2159.3,2, 2411.93,2,  450.520,2,    20.00,   7.94557,2,    25.00, -999.00,9, -999.00,9, -999.00, -999.00,9,-999.000,9,   54.50,2,    7.27,2,     -999.0,9, 20210423,      136,  13.1886, -69.8743,    21.4319,2,     0.0445,1,     4.6700,1,     -999.0,9,     -999.0,9,     -999.0,9
325020210420,        A22,       6,          1,         28,         28,2,20210423,       0018,    13.1886,   -69.8743,       2538,   160.8,  19.9134,  36.7484,2,  36.7391,2,    152.9,2,   153.3,2,    1.56,2,    6.59,2,    0.01,2,    0.28,2,   1.931,2,   1.245,2,   2.2400,4,  2164.4,2, 2396.27,2, -999.000,9,  -999.00,   7.90868,2,    25.00,    0.36,2,   43.13,2,    2.05, -999.00,9,-999.000,9,   53.80,2,    8.97,2,      11.88,2, 20210423,      134,  13.1886, -69.8743,    19.9226,2,     0.0415,1,     4.6728,1,     -999.0,9,     -999.0,9,     -999.0,9
325020210420,        A22,       6,          1,         27,         27,2,20210423,       0018,    13.1886,   -69.8743,       2538,   186.4,  18.2786,  36.4985,2,  36.4879,2,    150.1,2,   150.1,2,    2.44,2,    9.40,2,    0.00,2,    0.46,2,-999.000,9,-999.000,9,-999.0000,9,  2170.8,2, 2384.81,2,  536.510,2,    20.00,   7.87221,2,    25.05, -999.00,9, -999.00,9, -999.00, -999.00,9,-999.000,9,   50.80,2,   11.59,2,     -999.0,9, 20210423,      132,  13.1886, -69.8743,    18.2998,2,     0.0402,1,     4.6751,1,     -999.0,9,     -999.0,9,     -999.0,9
325020210420,        A22,       6,          1,         26,         26,2,20210423,       0018,    13.1886,   -69.8743,       2538,   211.2,  16.9480,  36.2602,2,  36.2457,2,    139.7,2,   138.8,2,    4.19,2,   12.68,2,    0.00,2,    0.67,2,   2.065,2,   1.280,2,   1.1600,2,  2178.4,2, 2368.92,2,  600.280,2,    20.00,   7.82592,2,    25.05,    0.28,2,   49.05,2,    2.21, -999.00,9,-999.000,9,   49.60,2,   14.23,2,      16.40,2, 20210423,      131,  13.1887, -69.8743,    16.9642,2,     0.0412,1,     4.6752,1,     -999.0,9,     -999.0,9,     -999.0,9
325020210420,        A22,       6,          1,         25,         25,2,20210423,       0018,    13.1886,   -69.8743,       2538,   237.0,  15.9055,  36.0769,2,  36.0620,2,    133.0,2,   133.0,2,    5.16,2,   15.00,2,    0.00,2,    0.83,2,-999.000,9,-999.000,9,-999.0000,9,  2183.7,2, 2357.07,2,  651.380,2,    20.00,    7.7913,2,    25.04, -999.00,9, -999.00,9, -999.00, -999.00,9,-999.000,9,   49.30,2,   17.17,2,     -999.0,9, 20210423,      129,  13.1887, -69.8743,    15.9080,2,     0.0411,1,     4.6723,1,     -999.0,9,     -999.0,9,     -999.0,9
325020210420,        A22,       6,          1,         24,         24,2,20210423,       0018,    13.1886,   -69.8743,       2538,   267.0,  14.7351,  35.8712,2,  35.8493,3,    130.4,2,   130.9,2,    6.33,2,   17.32,2,    0.00,2,    0.99,2,   2.059,2,   1.245,2,   0.9500,2,  2188.2,2,  2346.9,2, -999.000,9,  -999.00,   7.75786,2,    25.05,    0.32,2,   36.13,2,    1.86, -999.00,9,-999.000,9,   46.10,2, -999.00,1,      20.25,2, 20210423,      127,  13.1887, -69.8743,    14.7325,2,     0.0404,1,     4.6752,1,     -999.0,9,     -999.0,9,     -999.0,9
325020210420,        A22,       6,          1,         23,         23,2,20210423,       0018,    13.1886,   -69.8743,       2538,   316.7,  12.7392,  35.5300,2,  35.5196,2,    124.9,2,   124.9,2,    8.68,2,   21.24,2,    0.00,2,    1.26,2,-999.000,9,-999.000,9,-999.0000,9,  2199.1,2, 2329.47,2,  809.870,2,    20.00,   7.69871,2,    25.05, -999.00,9, -999.00,9, -999.00, -999.00,9,-999.000,9,   44.90,2, -999.00,1,     -999.0,9, 20210423,      125,  13.1886, -69.8743,    12.7496,2,     0.0404,1,     4.6771,1,     -999.0,9,     -999.0,9,     -999.0,9
325020210420,        A22,       6,          1,         22,         22,2,20210423,       0018,    13.1886,   -69.8743,       2538,   367.1,  11.2685,  35.3085,2,  35.3058,2,    120.3,2,   120.0,2,   11.41,2,   24.26,2,    0.00,2,    1.46,2,-999.000,9,-999.000,9,-999.0000,9,  2206.3,2, 2320.65,2,  897.620,2,    20.00,   7.65621,2,    25.05,    0.41,2,   17.06,2,    1.84, -999.00,9,-999.000,9,   44.90,2, -999.00,1,     -999.0,9, 20210423,      123,  13.1886, -69.8743,    11.2871,2,     0.0416,1,     4.6734,1,     -999.0,9,     -999.0,9,     -999.0,9
325020210420,        A22,       6,          1,         21,         21,2,20210423,       0018,    13.1886,   -69.8743,       2538,   417.8,  10.2549,  35.1537,2,  35.1530,2,    118.6,2,   118.3,2,   13.07,2,   26.33,2,    0.00,2,    1.61,2,   1.680,2,   0.947,2,   0.6200,2,  2210.9,2, 2314.56,2, -999.000,9,  -999.00,   7.62683,6,    25.02,    0.44,2,    5.44,2,    1.81, -999.00,9,-999.000,9,   45.10,2, -999.00,1,      25.87,2, 20210423,      121,  13.1886, -69.8743,    10.2570,2,     0.0427,1,     4.6768,1,     -999.0,9,     -999.0,9,     -999.0,9
325020210420,        A22,       6,          1,         20,         20,2,20210423,       0018,    13.1886,   -69.8743,       2538,   468.4,   9.3700,  35.0318,2,  35.0350,2,    117.9,2,   118.4,2,   15.02,2,   28.05,2,    0.00,2,    1.74,2,-999.000,9,-999.000,9,-999.0000,9,  2212.8,6, 2308.91,2, 1014.860,2,    20.00,   7.60332,2,    25.02,    0.57,3,  -16.27,2,    2.12, -999.00,9,-999.000,9,   42.90,2, -999.00,1,     -999.0,9, 20210423,      119,  13.1887, -69.8743,     9.3721,2,     0.0421,1,     4.6764,1,     -999.0,9,     -999.0,9,     -999.0,9
325020210420,        A22,       6,          1,         19,         19,2,20210423,       0018,    13.1886,   -69.8743,       2538,   539.0,   8.5051,  34.9280,2,  34.9248,2,    118.8,2,   118.7,2,   17.26,2,   29.78,2,    0.00,2,    1.85,2,   1.257,6,   0.683,6,   0.4500,6,  2218.2,2, 2305.07,2, 1061.390,2,    20.00,   7.58173,6,    24.99,    0.55,2,  -34.39,2,    1.95, -999.00,9,-999.000,9,   42.60,2, -999.00,1,      26.46,6, 20210423,      117,  13.1887, -69.8743,     8.4959,2,     0.0429,1,     4.6782,1,     -999.0,9,     -999.0,9,     -999.0,9
325020210420,        A22,       6,          1,         18,         18,2,20210423,       0018,    13.1886,   -69.8743,       2538,   639.7,   7.3820,  34.8128,2,  34.8129,2,    122.5,2,   122.5,2,   20.38,2,   31.47,2,    0.00,2,    1.99,2,-999.000,9,-999.000,9,-999.0000,9,  2220.9,2, 2302.51,6, -999.000,9,  -999.00,   7.56126,2,    25.01, -999.00,9, -999.00,9, -999.00, -999.00,9,-999.000,9,   41.70,2, -999.00,1,     -999.0,9, 20210423,      114,  13.1887, -69.8743,     7.3817,2,     0.0429,1,     4.6811,1,     -999.0,9,     -999.0,9,     -999.0,9
325020210420,        A22,       6,          1,         17,         17,2,20210423,       0018,    13.1886,   -69.8743,       2538,   740.6,   6.8056,  34.7778,2,  34.7793,2,    127.1,2,   127.0,2,   22.43,2,   31.97,2,    0.00,2,    2.05,2,   0.661,2,   0.358,2,   0.9000,4,  2222.2,2, 2303.07,2, 1107.380,2,    20.00,    7.5588,2,    25.05,    0.65,2,  -63.77,2,    3.82, -999.00,9,-999.000,9,   40.40,2, -999.00,1,      25.66,2, 20210423,      111,  13.1887, -69.8743,     6.8051,2,     0.0423,1,     4.6807,1,     -999.0,9,     -999.0,9,     -999.0,9
325020210420,        A22,       6,          1,         16,         16,2,20210423,       0018,    13.1886,   -69.8743,       2538,   841.6,   6.0967,  34.7992,2,  34.7999,2,    140.4,2,   141.5,2,   24.09,2,   30.86,2,    0.00,2,    2.00,2,-999.000,9,-999.000,9,-999.0000,9,  2218.8,2, 2309.76,2, 1068.075,6,    20.00,    7.5801,2,    25.01,    0.72,2,  -83.65,2,    2.09, -999.00,9,-999.000,9,   39.80,2, -999.00,1,     -999.0,9, 20210423,      108,  13.1887, -69.8743,     6.0962,2,     0.0435,1,     4.6803,1,     -999.0,9,     -999.0,9,     -999.0,9
325020210420,        A22,       6,          1,         15,         15,2,20210423,       0018,    13.1886,   -69.8743,       2538,   942.8,   5.5337,  34.8752,2,  34.8749,2,    161.8,2,   161.5,2,   24.58,2,   28.14,2,    0.00,2,    1.84,2,-999.000,9,-999.000,9,-999.0000,9,  2214.2,2, -999.00,5, -999.000,9,  -999.00,   7.57914,2,    24.99,    0.73,2,  -91.57,2,    1.88, -999.00,9,-999.000,9,   40.80,2, -999.00,1,     -999.0,9, 20210423,      105,  13.1887, -69.8743,     5.5362,2,     0.0429,1,     4.6813,1,     -999.0,9,     -999.0,9,     -999.0,9
325020210420,        A22,       6,          1,         14,         14,2,20210423,       0018,    13.1886,   -69.8743,       2538,  1044.0,   5.1423,  34.9250,2,  34.9264,2,    178.8,2,   179.5,2,   24.09,2,   25.89,2,    0.00,2,    1.71,2,   0.185,2,   0.100,2,   0.0300,2,  2207.0,2, 2319.55,2,  907.650,2,    20.00,    7.6186,2,    25.00,    0.75,2,  -94.27,2,    1.98, -999.00,9,-999.000,9,   40.50,2, -999.00,1,      18.34,2, 20210423,      101,  13.1887, -69.8743,     5.1426,2,     0.0430,1,     4.6796,1,     -999.0,9,     -999.0,9,     -999.0,9
325020210420,        A22,       6,          1,         13,         13,2,20210423,       0018,    13.1886,   -69.8743,       2538,  1144.4,   4.8125,  34.9504,2,  34.9508,2,    193.3,2,   193.4,2,   23.70,2,   24.36,2,    0.00,2,    1.61,2,-999.000,9,-999.000,9,-999.0000,9,  2202.8,2, 2321.39,2, -999.000,9,  -999.00,   7.67152,2,    25.00, -999.00,9, -999.00,9, -999.00, -999.00,9,-999.000,9,   40.50,2, -999.00,1,     -999.0,9, 20210423,       58,  13.1887, -69.8743,     4.8142,2,     0.0428,1,     4.6812,1,     -999.0,9,     -999.0,9,     -999.0,9
325020210420,        A22,       6,          1,         12,         12,2,20210423,       0018,    13.1886,   -69.8743,       2538,  1246.1,   4.6022,  34.9610,2,  34.9632,2,    200.5,2,   200.5,2,   24.18,2,   23.53,2,    0.00,2,    1.56,2,-999.000,9,-999.000,9,-999.0000,9,  2200.0,6, 2323.96,2,  844.040,2,    20.00,    7.6815,2,    25.01,    0.84,2,  -95.04,2,    1.92, -999.00,9,-999.000,9,   41.70,2, -999.00,1,     -999.0,9, 20210423,       55,  13.1886, -69.8743,     4.6018,2,     0.0433,1,     4.6788,1,     -999.0,9,     -999.0,9,     -999.0,9
325020210420,        A22,       6,          1,         11,         11,2,20210423,       0018,    13.1886,   -69.8743,       2538,  1348.0,   4.4774,  34.9666,2,  34.9683,2,    204.7,2,   205.0,2,   24.57,2,   23.06,2,    0.00,2,    1.54,2,   0.162,2,   0.088,2,   0.0200,2,  2201.8,2, 2325.87,2, -999.000,9,  -999.00,   7.68696,6,    25.01, -999.00,9, -999.00,9, -999.00, -999.00,9,-999.000,9,   42.40,2, -999.00,1,      15.61,2, 20210423,       52,  13.1887, -69.8743,     4.4767,2,     0.0429,1,     4.6814,1,     -999.0,9,     -999.0,9,     -999.0,9
325020210420,        A22,       6,          1,         10,         10,2,20210423,       0018,    13.1886,   -69.8743,       2538,  1449.2,   4.3737,  34.9702,2,  34.9703,2,    208.1,2,   208.4,2,   25.26,2,   22.73,2,    0.00,2,    1.51,2,-999.000,9,-999.000,9,-999.0000,9,  2198.7,2, 2327.53,6,  821.830,2,    20.00,   7.69266,2,    25.01,    0.85,2,  -95.33,2,    1.99, -999.00,9,-999.000,9,   41.10,2, -999.00,1,     -999.0,9, 20210423,       49,  13.1887, -69.8743,     4.3733,2,     0.0428,1,     4.6838,1,     -999.0,9,     -999.0,9,     -999.0,9
325020210420,        A22,       6,          1,          9,          9,2,20210423,       0018,    13.1886,   -69.8743,       2538,  1549.6,   4.2925,  34.9713,2,  34.9715,2,    209.4,2,   209.5,2,   25.94,2,   22.62,2,    0.00,2,    1.51,2,-999.000,9,-999.000,9,-999.0000,9,  2199.7,2, 2328.25,2,  817.480,2,    20.00,   7.69481,2,    25.02,    0.86,2, -100.36,2,    1.86, -999.00,9,-999.000,9,   40.40,2, -999.00,1,     -999.0,9, 20210423,       46,  13.1887, -69.8743,     4.2930,2,     0.0436,1,     4.6847,1,     -999.0,9,     -999.0,9,     -999.0,9
325020210420,        A22,       6,          1,          8,          8,2,20210423,       0018,    13.1886,   -69.8743,       2538,  1651.1,   4.2246,  34.9724,2,  34.9736,2,    211.0,2,   211.4,2,   26.52,2,   22.50,2,    0.00,2,    1.50,2,   0.113,2,   0.066,2,   0.8300,4,  2199.1,2, 2331.81,2, -999.000,9,  -999.00,   7.69779,2,    25.01, -999.00,9, -999.00,9, -999.00, -999.00,9,-999.000,9,   40.50,2, -999.00,1,      14.86,2, 20210423,       43,  13.1887, -69.8743,     4.2243,2,     0.0429,1,     4.6851,1,     -999.0,9,     -999.0,9,     -999.0,9
325020210420,        A22,       6,          1,          7,          7,2,20210423,       0018,    13.1886,   -69.8743,       2538,  1752.9,   4.1808,  34.9736,2,  34.9740,2,    211.9,2,   212.3,2,   27.01,2,   22.41,2,    0.00,2,    1.50,2,-999.000,9,-999.000,9,-999.0000,9,  2202.0,2, 2331.02,2, -999.000,9,  -999.00,   7.70027,2,    25.02, -999.00,9, -999.00,9, -999.00, -999.00,9,-999.000,9,   40.90,2, -999.00,1,     -999.0,9, 20210423,       40,  13.1887, -69.8743,     4.1805,2,     0.0427,1,     4.6838,1,     -999.0,9,     -999.0,9,     -999.0,9
325020210420,        A22,       6,          1,          6,          6,2,20210423,       0018,    13.1886,   -69.8743,       2538,  1853.4,   4.1534,  34.9741,2,  34.9738,2,    212.8,2,   213.0,2,   27.21,2,   22.32,2,    0.00,2,    1.49,2,-999.000,9,-999.000,9,-999.0000,9,  2202.4,2, 2331.41,2,  804.560,2,    20.00,   7.70215,2,    25.01, -999.00,9, -999.00,9, -999.00, -999.00,9,-999.000,9,   39.90,2, -999.00,1,     -999.0,9, 20210423,       37,  13.1887, -69.8743,     4.1534,2,     0.0423,1,     4.6849,1,     -999.0,9,     -999.0,9,     -999.0,9
325020210420,        A22,       6,          1,          5,          5,2,20210423,       0018,    13.1886,   -69.8743,       2538,  1955.5,   4.1301,  34.9742,2,  34.9746,2,    213.7,2,   214.0,2,   27.69,2,   22.22,2,    0.00,2,    1.48,2,   0.090,2,   0.058,2,   0.2100,2,  2200.3,2, 2333.45,2, -999.000,9,  -999.00,   7.70331,2,    25.01, -999.00,9, -999.00,9, -999.00, -999.00,9,-999.000,9,   41.50,2, -999.00,1,      14.20,2, 20210423,       34,  13.1887, -69.8743,     4.1298,2,     0.0422,1,     4.6857,1,     -999.0,9,     -999.0,9,     -999.0,9
325020210420,        A22,       6,          1,          4,          4,2,20210423,       0018,    13.1886,   -69.8743,       2538,  2088.0,   4.1146,  34.9743,2,  34.9752,2,    214.0,2,   214.2,2,   28.18,2,   22.16,2,    0.00,2,    1.47,2,   0.077,2,   0.055,2,   0.3100,2,  2201.6,2, 2337.79,2,  796.990,2,    20.00,   7.70512,2,    25.02, -999.00,9, -999.00,9, -999.00, -999.00,9,-999.000,9,   40.50,2, -999.00,1,      14.00,2, 20210423,       30,  13.1887, -69.8743,     4.1142,2,     0.0427,1,     4.6851,1,     -999.0,9,     -999.0,9,     -999.0,9
325020210420,        A22,       6,          1,          3,          3,2,20210423,       0018,    13.1886,   -69.8743,       2538,  2290.0,   4.1149,  34.9748,2,  34.9762,2,    213.0,2,   213.1,2,   29.16,2,   22.19,2,    0.00,2,    1.49,2,   0.064,2,   0.051,2,   0.3300,2,  2204.3,2, 2338.86,6, -999.000,9,  -999.00,   7.70497,2,    25.04, -999.00,9, -999.00,9, -999.00, -999.00,9,-999.000,9,   41.40,2, -999.00,1,      13.76,2, 20210423,       24,  13.1887, -69.8743,     4.1146,2,     0.0432,1,     4.6824,1,     -999.0,9,     -999.0,9,     -999.0,9
325020210420,        A22,       6,          1,          2,          2,2,20210423,       0018,    13.1886,   -69.8743,       2538,  2493.9,   4.1280,  34.9746,2,  34.9752,2,    212.8,2,   213.1,2,   29.55,2,   22.23,2,    0.00,2,    1.49,2,   0.063,2,   0.050,2,   0.2800,2,  2204.8,2, 2337.63,2,  798.830,2,    20.00,   7.70455,6,    25.03, -999.00,9, -999.00,9, -999.00, -999.00,9,-999.000,9,   39.70,2, -999.00,1,      13.92,2, 20210423,       20,  13.1887, -69.8743,     4.1277,2,     0.0423,1,     4.6812,1,     -999.0,9,     -999.0,9,     -999.0,9
325020210420,        A22,       6,          1,          1,          1,2,20210423,       0018,    13.1886,   -69.8743,       2538,  2556.6,   4.1345,  34.9746,2,  34.9750,2,    213.0,2,   213.1,2,   29.45,2,   22.26,2,    0.00,2,    1.49,2,   0.067,2,   0.051,2,   0.2200,2,  2206.0,6, 2338.25,2,  794.910,2,    20.00,   7.70483,2,    25.01, -999.00,9, -999.00,9, -999.00, -999.00,9,-999.000,9,   40.00,2, -999.00,1,      13.97,2, 20210423,       18,  13.1887, -69.8743,     4.1340,2,     0.0429,1,     4.6814,1,     -999.0,9,     -999.0,9,     -999.0,9