BOTTLE,20230513CCHSIOCBG
EXPOCODE,SECT_ID,STNNBR,CASTNO,SAMPNO,BTLNBR,BTLNBR_FLAG_W,DATE,TIME,LATITUDE,LONGITUDE,DEPTH,CTDPRS,CTDTMP,CTDSAL,CTDSAL_FLAG_W,SALNTY,SALNTY_FLAG_W,CTDOXY,CTDOXY_FLAG_W,OXYGEN,OXYGEN_FLAG_W,SILCAT,SILCAT_FLAG_W,NITRAT,NITRAT_FLAG_W,NITRIT,NITRIT_FLAG_W,PHSPHT,PHSPHT_FLAG_W,CFC-11,CFC-11_FLAG_W,CFC-12,CFC-12_FLAG_W,SF6,SF6_FLAG_W,TCARBN,TCARBN_FLAG_W,ALKALI,ALKALI_FLAG_W,FCO2,FCO2_FLAG_W,FCO2TMP,PH_TOT,PH_TOT_FLAG_W,PH_TMP,DELC13,DELC13_FLAG_W,DELC14,DELC14_FLAG_W,C14ERR,DELO18,DELO18_FLAG_W,POC,POC_FLAG_W,DOC,DOC_FLAG_W,TDN,TDN_FLAG_W,N2O,N2O_FLAG_W,BTL_DATE,BTL_TIME,BTL_LAT,BTL_LON,REFTMP,REFTMP_FLAG_W,CTDFLUOR,CTDFLUOR_FLAG_W,CTDXMISS,CTDXMISS_FLAG_W,D15N_NO2+NO3,D15N_NO2+NO3_FLAG_W,D18O_NO2+NO3,D18O_NO2+NO3_FLAG_W,HPLC,HPLC_FLAG_W
,,,,,,,,,,,METERS,DBAR,ITS-90,PSS-78,,PSS-78,,UMOL/KG,,UMOL/KG,,UMOL/KG,,UMOL/KG,,UMOL/KG,,UMOL/KG,,PMOL/KG,,PMOL/KG,,FMOL/KG,,UMOL/KG,,UMOL/KG,,UATM,,DEG C,,,DEG C,/MILLE,,/MILLE,,/MILLE,/MILLE,,UG/KG,,UMOL/KG,,UMOL/KG,,NMOL/KG,,,,,,ITS-90,,VOLTS,,VOLTS,,/MILLE,,/MILLE,,,
325020210420,        A22,      23,          1,         34,         34,2,20210427,       0643,    17.6303,   -66.0009,       2503,     5.4,  27.1228,  36.0167,2,  36.0177,2,    202.2,2,   201.8,2,    0.97,2,    0.02,2,    0.00,2,    0.00,2,   1.471,2,   0.947,2,   1.6700,2,  2027.5,6, 2358.04,2, -999.000,9,  -999.00,   8.09654,6,    25.02, -999.00,9, -999.00,9, -999.00, -999.00,1,-999.000,9, -999.00,9, -999.00,9,       5.87,2, 20210427,      815,  17.6303, -66.0009,    27.1188,2,     0.0457,1,     4.6157,1,     -999.0,9,     -999.0,9,     -999.0,9
325020210420,        A22,      23,          1,         33,         33,2,20210427,       0643,    17.6303,   -66.0009,       2503,    25.3,  27.1060,  36.0166,2,  36.0181,2,    202.3,2,   202.1,2,    0.97,2,    0.00,2,    0.00,2,    0.00,2,-999.000,9,-999.000,9,-999.0000,9,  -999.0,9, -999.00,9, -999.000,9,  -999.00,-999.00000,9,  -999.00, -999.00,9, -999.00,9, -999.00, -999.00,9,-999.000,9, -999.00,9, -999.00,9,     -999.0,9, 20210427,      813,  17.6303, -66.0009,    27.1094,2,     0.0475,1,     4.6167,1,     -999.0,9,     -999.0,9,     -999.0,9
325020210420,        A22,      23,          1,         32,         32,2,20210427,       0643,    17.6303,   -66.0009,       2503,    50.5,  26.7860,  36.2086,2,  36.1899,2,    205.7,2,   205.0,2,    0.88,2,    0.00,2,    0.00,2,    0.00,2,-999.000,9,-999.000,9,-999.0000,9,  -999.0,9, -999.00,9, -999.000,9,  -999.00,-999.00000,9,  -999.00, -999.00,9, -999.00,9, -999.00, -999.00,9,-999.000,9, -999.00,9, -999.00,9,     -999.0,9, 20210427,      810,  17.6303, -66.0009,    26.7846,2,     0.0527,1,     4.6180,1,     -999.0,9,     -999.0,9,     -999.0,9
325020210420,        A22,      23,          1,         31,         31,2,20210427,       0643,    17.6303,   -66.0009,       2503,    75.5,  26.5152,  36.8242,2,  36.8665,3,    197.8,2,   197.3,2,    0.58,2,    0.03,2,    0.00,2,    0.00,2,-999.000,9,-999.000,9,-999.0000,9,  -999.0,9, -999.00,9, -999.000,9,  -999.00,-999.00000,9,  -999.00, -999.00,9, -999.00,9, -999.00, -999.00,9,-999.000,9, -999.00,9, -999.00,9,     -999.0,9, 20210427,      808,  17.6303, -66.0009,    26.5161,2,     0.0691,1,     4.6295,1,     -999.0,9,     -999.0,9,     -999.0,9
325020210420,        A22,      23,          1,         30,         30,2,20210427,       0643,    17.6303,   -66.0009,       2503,   100.7,  25.7709,  37.0560,2,  37.0629,2,    192.9,2,   193.5,2,    0.29,2,    0.03,2,    0.09,2,    0.00,2,-999.000,9,-999.000,9,-999.0000,9,  2092.1,2, 2419.62,6, -999.000,9,  -999.00,   8.06434,2,    25.03, -999.00,9, -999.00,9, -999.00, -999.00,1,-999.000,9, -999.00,9, -999.00,9,     -999.0,9, 20210427,      806,  17.6303, -66.0009,    25.7732,2,     0.0808,1,     4.6376,1,     -999.0,9,     -999.0,9,     -999.0,9
325020210420,        A22,      23,          1,         29,         29,2,20210427,       0643,    17.6303,   -66.0009,       2503,   126.1,  24.4162,  37.2071,2,  37.2069,2,    193.2,2,   194.0,2,    0.19,2,    0.06,2,    0.13,2,    0.00,2,-999.000,9,-999.000,9,-999.0000,9,  -999.0,9, -999.00,9, -999.000,9,  -999.00,-999.00000,9,  -999.00, -999.00,9, -999.00,9, -999.00, -999.00,9,-999.000,9, -999.00,9, -999.00,9,     -999.0,9, 20210427,      804,  17.6303, -66.0009,    24.4284,2,     0.0612,1,     4.6519,1,     -999.0,9,     -999.0,9,     -999.0,9
325020210420,        A22,      23,          1,         28,         28,2,20210427,       0643,    17.6303,   -66.0009,       2503,   151.4,  23.1407,  37.1906,2,  37.1894,2,    177.0,2,   177.4,2,    0.29,2,    1.20,2,    0.04,2,    0.00,2,-999.000,9,-999.000,9,-999.0000,9,  -999.0,9, -999.00,9, -999.000,9,  -999.00,-999.00000,9,  -999.00, -999.00,9, -999.00,9, -999.00, -999.00,9,-999.000,9, -999.00,9, -999.00,9,     -999.0,9, 20210427,      802,  17.6303, -66.0010,    23.1407,2,     0.0568,1,     4.6581,1,     -999.0,9,     -999.0,9,     -999.0,9
325020210420,        A22,      23,          1,         27,         27,2,20210427,       0643,    17.6303,   -66.0009,       2503,   174.5,  21.6664,  37.0322,2,  37.0277,2,    168.0,2,   168.5,2,    0.49,2,    2.83,2,    0.01,2,    0.07,2,-999.000,9,-999.000,9,-999.0000,9,  -999.0,9, -999.00,9, -999.000,9,  -999.00,-999.00000,9,  -999.00, -999.00,9, -999.00,9, -999.00, -999.00,9,-999.000,9, -999.00,9, -999.00,9,     -999.0,9, 20210427,      800,  17.6303, -66.0009,    21.6664,2,     0.0485,1,     4.6642,1,     -999.0,9,     -999.0,9,     -999.0,9
325020210420,        A22,      23,          1,         26,         26,2,20210427,       0643,    17.6303,   -66.0009,       2503,   201.3,  20.4620,  36.8736,2,  36.8724,2,    166.6,2,   166.8,2,    0.78,2,    4.10,2,    0.00,2,    0.13,2,-999.000,9,-999.000,9,-999.0000,9,  -999.0,9, -999.00,9, -999.000,9,  -999.00,-999.00000,9,  -999.00, -999.00,9, -999.00,9, -999.00, -999.00,9,-999.000,9, -999.00,9, -999.00,9,     -999.0,9, 20210427,      758,  17.6303, -66.0009,    20.4599,2,     0.0421,1,     4.6685,1,     -999.0,9,     -999.0,9,     -999.0,9
325020210420,        A22,      23,          1,         25,         25,2,20210427,       0643,    17.6303,   -66.0009,       2503,   226.2,  19.5763,  36.7408,2,  36.7355,2,    166.8,2,   166.8,2,    1.07,2,    5.30,2,    0.00,2,    0.19,2,-999.000,9,-999.000,9,-999.0000,9,  -999.0,9, -999.00,9, -999.000,9,  -999.00,-999.00000,9,  -999.00, -999.00,9, -999.00,9, -999.00, -999.00,9,-999.000,9, -999.00,9, -999.00,9,     -999.0,9, 20210427,      757,  17.6303, -66.0009,    19.5781,2,     0.0399,1,     4.6710,1,     -999.0,9,     -999.0,9,     -999.0,9
325020210420,        A22,      23,          1,         24,         24,2,20210427,       0643,    17.6303,   -66.0009,       2503,   251.7,  18.7507,  36.6152,2,  36.6124,2,    172.8,2,   172.5,2,    1.27,2,    5.98,2,    0.00,2,    0.24,2,-999.000,9,-999.000,9,-999.0000,9,  -999.0,9, -999.00,9, -999.000,9,  -999.00,-999.00000,9,  -999.00, -999.00,9, -999.00,9, -999.00, -999.00,9,-999.000,9, -999.00,9, -999.00,9,     -999.0,9, 20210427,      754,  17.6303, -66.0009,    18.7511,2,     0.0409,1,     4.6727,1,     -999.0,9,     -999.0,9,     -999.0,9
325020210420,        A22,      23,          1,         23,         23,2,20210427,       0643,    17.6303,   -66.0009,       2503,   301.8,  17.2386,  36.3683,2,  36.3629,2,    160.3,2,   159.5,2,    2.53,2,    9.79,2,    0.00,2,    0.49,2,   2.141,2,   1.321,2,   1.4500,2,  2161.9,2, 2475.31,4, -999.000,9,  -999.00,   7.86963,6,    25.01, -999.00,9, -999.00,9, -999.00, -999.00,9,-999.000,9, -999.00,9, -999.00,9,      13.60,2, 20210427,      752,  17.6303, -66.0009,    17.2388,2,     0.0401,1,     4.6740,1,     -999.0,9,     -999.0,9,     -999.0,9
325020210420,        A22,      23,          1,         22,         22,2,20210427,       0643,    17.6303,   -66.0009,       2503,   352.3,  15.6607,  36.0849,2,  36.0898,2,    144.3,2,   144.7,2,    4.29,2,   13.85,2,    0.00,2,    0.75,2,-999.000,9,-999.000,9,-999.0000,9,  -999.0,9, -999.00,9, -999.000,9,  -999.00,-999.00000,9,  -999.00, -999.00,9, -999.00,9, -999.00, -999.00,9,-999.000,9, -999.00,9, -999.00,9,     -999.0,9, 20210427,      750,  17.6303, -66.0009,    15.6764,2,     0.0400,1,     4.6741,1,     -999.0,9,     -999.0,9,     -999.0,9
325020210420,        A22,      23,          1,         21,         21,2,20210427,       0643,    17.6303,   -66.0009,       2503,   402.5,  14.3347,  35.8932,2,  35.8890,2,    143.8,2,   143.3,2,    5.36,2,   16.09,2,    0.00,2,    0.90,2,-999.000,9,-999.000,9,-999.0000,9,  -999.0,9, -999.00,9, -999.000,9,  -999.00,-999.00000,9,  -999.00, -999.00,9, -999.00,9, -999.00, -999.00,9,-999.000,9, -999.00,9, -999.00,9,     -999.0,9, 20210427,      746,  17.6303, -66.0009,    14.3383,2,     0.0405,1,     4.6761,1,     -999.0,9,     -999.0,9,     -999.0,9
325020210420,        A22,      23,          1,         20,         20,2,20210427,       0643,    17.6303,   -66.0009,       2503,   453.2,  12.6472,  35.5990,2,  35.6028,2,    132.1,2,   133.2,2,    8.09,2,   20.22,2,    0.00,2,    1.17,2,-999.000,9,-999.000,9,-999.0000,9,  -999.0,9, -999.00,9, -999.000,9,  -999.00,-999.00000,9,  -999.00, -999.00,9, -999.00,9, -999.00, -999.00,9,-999.000,9, -999.00,9, -999.00,9,     -999.0,9, 20210427,      745,  17.6303, -66.0009,    12.6455,2,     0.0412,1,     4.6760,1,     -999.0,9,     -999.0,9,     -999.0,9
325020210420,        A22,      23,          1,         19,         19,2,20210427,       0643,    17.6303,   -66.0009,       2503,   503.4,  11.9489,  35.4991,2,  35.4947,2,    131.1,2,   131.1,2,    9.46,2,   21.73,2,    0.00,2,    1.28,2,   1.846,2,   1.056,2,   0.7200,2,  -999.0,9, -999.00,9, -999.000,9,  -999.00,-999.00000,9,  -999.00, -999.00,9, -999.00,9, -999.00, -999.00,9,-999.000,9, -999.00,9, -999.00,9,      22.50,2, 20210427,      742,  17.6303, -66.0009,    11.9438,2,     0.0413,1,     4.6787,1,     -999.0,9,     -999.0,9,     -999.0,9
325020210420,        A22,      23,          1,         18,         18,2,20210427,       0643,    17.6303,   -66.0009,       2503,   604.1,   9.4422,  35.0967,2,  35.0945,2,    121.3,2,   121.6,2,   14.73,2,   27.51,2,    0.00,2,    1.69,2,-999.000,9,-999.000,9,-999.0000,9,  -999.0,9, -999.00,9, -999.000,9,  -999.00,-999.00000,9,  -999.00, -999.00,9, -999.00,9, -999.00, -999.00,9,-999.000,9, -999.00,9, -999.00,9,     -999.0,9, 20210427,      739,  17.6303, -66.0009,     9.4498,2,     0.0423,1,     4.6784,1,     -999.0,9,     -999.0,9,     -999.0,9
325020210420,        A22,      23,          1,         17,         17,2,20210427,       0643,    17.6303,   -66.0009,       2503,   705.8,   7.8288,  34.8969,2,  34.8973,2,    122.9,2,   123.6,2,   18.93,2,   30.40,2,    0.00,2,    1.91,2,-999.000,9,-999.000,9,-999.0000,9,  2216.7,2, 2305.08,2, -999.000,9,  -999.00,   7.58125,2,    25.01, -999.00,9, -999.00,9, -999.00, -999.00,9,-999.000,9, -999.00,9, -999.00,9,     -999.0,9, 20210427,      735,  17.6303, -66.0009,     7.8292,2,     0.0430,1,     4.6789,1,     -999.0,9,     -999.0,9,     -999.0,9
325020210420,        A22,      23,          1,         16,         16,2,20210427,       0643,    17.6303,   -66.0009,       2503,   806.0,   6.6543,  34.8168,2,  34.8245,2,    132.2,2,   131.8,2,   22.05,2,   31.22,2,    0.00,2,    1.99,2,-999.000,9,-999.000,9,-999.0000,9,  -999.0,9, -999.00,9, -999.000,9,  -999.00,-999.00000,9,  -999.00, -999.00,9, -999.00,9, -999.00, -999.00,9,-999.000,9, -999.00,9, -999.00,9,     -999.0,9, 20210427,      732,  17.6303, -66.0009,     6.6543,2,     0.0419,1,     4.6794,1,     -999.0,9,     -999.0,9,     -999.0,9
325020210420,        A22,      23,          1,         15,         15,2,20210427,       0643,    17.6303,   -66.0009,       2503,   907.5,   6.1393,  34.8890,2,  34.8880,2,    153.2,2,   153.2,2,   22.73,2,   28.71,2,    0.00,2,    1.85,2,-999.000,9,-999.000,9,-999.0000,9,  -999.0,9, -999.00,9, -999.000,9,  -999.00,-999.00000,9,  -999.00, -999.00,9, -999.00,9, -999.00, -999.00,9,-999.000,9, -999.00,9, -999.00,9,     -999.0,9, 20210427,      728,  17.6303, -66.0009,     6.1337,2,     0.0429,1,     4.6801,1,     -999.0,9,     -999.0,9,     -999.0,9
325020210420,        A22,      23,          1,         14,         14,2,20210427,       0643,    17.6303,   -66.0009,       2503,  1008.9,   5.4824,  34.9330,2,  34.9325,2,    175.7,2,   175.3,2,   23.22,2,   26.21,2,    0.00,2,    1.71,2,-999.000,9,-999.000,9,-999.0000,9,  -999.0,9, -999.00,9, -999.000,9,  -999.00,-999.00000,9,  -999.00, -999.00,9, -999.00,9, -999.00, -999.00,9,-999.000,9, -999.00,9, -999.00,9,     -999.0,9, 20210427,      725,  17.6303, -66.0009,     5.4819,2,     0.0430,1,     4.6789,1,     -999.0,9,     -999.0,9,     -999.0,9
325020210420,        A22,      23,          1,         13,         13,2,20210427,       0643,    17.6303,   -66.0009,       2503,  1109.8,   5.0103,  34.9525,2,  34.9520,2,    190.3,2,   190.3,2,   23.61,2,   24.64,2,    0.00,2,    1.62,2,-999.000,9,-999.000,9,-999.0000,9,  -999.0,9, -999.00,9, -999.000,9,  -999.00,-999.00000,9,  -999.00, -999.00,9, -999.00,9, -999.00, -999.00,9,-999.000,9, -999.00,9, -999.00,9,     -999.0,9, 20210427,      722,  17.6303, -66.0009,     5.0095,2,     0.0423,1,     4.6800,1,     -999.0,9,     -999.0,9,     -999.0,9
325020210420,        A22,      23,          1,         12,         12,2,20210427,       0643,    17.6303,   -66.0009,       2503,  1210.4,   4.5958,  34.9662,2,  34.9650,2,    203.0,2,   203.3,2,   24.20,2,   23.38,2,    0.00,2,    1.54,2,-999.000,9,-999.000,9,-999.0000,9,  -999.0,9, -999.00,9, -999.000,9,  -999.00,-999.00000,9,  -999.00, -999.00,9, -999.00,9, -999.00, -999.00,9,-999.000,9, -999.00,9, -999.00,9,     -999.0,9, 20210427,      719,  17.6303, -66.0009,     4.5971,2,     0.0425,1,     4.6795,1,     -999.0,9,     -999.0,9,     -999.0,9
325020210420,        A22,      23,          1,         11,         11,2,20210427,       0643,    17.6303,   -66.0009,       2503,  1312.3,   4.3945,  34.9709,2,  34.9705,2,    208.4,2,   208.7,2,   24.68,2,   22.81,2,    0.00,2,    1.51,2,-999.000,9,-999.000,9,-999.0000,9,  2196.4,2, 2323.91,2, -999.000,9,  -999.00,    7.6917,2,    25.03, -999.00,9, -999.00,9, -999.00, -999.00,9,-999.000,9, -999.00,9, -999.00,9,     -999.0,9, 20210427,      716,  17.6303, -66.0009,     4.3942,2,     0.0429,1,     4.6803,1,     -999.0,9,     -999.0,9,     -999.0,9
325020210420,        A22,      23,          1,         10,         10,2,20210427,       0643,    17.6303,   -66.0009,       2503,  1413.2,   4.2800,  34.9736,2,  34.9734,2,    212.4,2,   212.6,2,   24.98,2,   22.49,2,    0.00,2,    1.48,2,-999.000,9,-999.000,9,-999.0000,9,  -999.0,9, -999.00,9, -999.000,9,  -999.00,-999.00000,9,  -999.00, -999.00,9, -999.00,9, -999.00, -999.00,9,-999.000,9, -999.00,9, -999.00,9,     -999.0,9, 20210427,      713,  17.6303, -66.0009,     4.2800,2,     0.0429,1,     4.6813,1,     -999.0,9,     -999.0,9,     -999.0,9
325020210420,        A22,      23,          1,          9,          9,2,20210427,       0643,    17.6303,   -66.0009,       2503,  1514.0,   4.2034,  34.9774,2,  34.9762,2,    219.5,2,   219.9,2,   23.81,2,   21.73,2,    0.00,2,    1.43,2,-999.000,9,-999.000,9,-999.0000,9,  -999.0,9, -999.00,9, -999.000,9,  -999.00,-999.00000,9,  -999.00, -999.00,9, -999.00,9, -999.00, -999.00,9,-999.000,9, -999.00,9, -999.00,9,     -999.0,9, 20210427,      709,  17.6303, -66.0009,     4.2035,2,     0.0420,1,     4.6798,1,     -999.0,9,     -999.0,9,     -999.0,9
325020210420,        A22,      23,          1,          8,          8,2,20210427,       0643,    17.6303,   -66.0009,       2503,  1615.8,   4.1675,  34.9798,2,  34.9789,2,    225.4,2,   225.6,2,   22.44,2,   21.18,2,    0.00,2,    1.40,2,-999.000,9,-999.000,9,-999.0000,9,  -999.0,9, -999.00,9, -999.000,9,  -999.00,-999.00000,9,  -999.00, -999.00,9, -999.00,9, -999.00, -999.00,9,-999.000,9, -999.00,9, -999.00,9,     -999.0,9, 20210427,      707,  17.6303, -66.0009,     4.1676,2,     0.0429,1,     4.6799,1,     -999.0,9,     -999.0,9,     -999.0,9
325020210420,        A22,      23,          1,          7,          7,2,20210427,       0643,    17.6303,   -66.0009,       2503,  1716.7,   4.1518,  34.9806,2,  34.9789,2,    228.2,2,   228.7,2,   21.76,2,   20.85,2,    0.00,2,    1.38,2,-999.000,9,-999.000,9,-999.0000,9,  -999.0,9, -999.00,9, -999.000,9,  -999.00,-999.00000,9,  -999.00, -999.00,9, -999.00,9, -999.00, -999.00,9,-999.000,9, -999.00,9, -999.00,9,     -999.0,9, 20210427,      704,  17.6303, -66.0009,     4.1520,2,     0.0424,1,     4.6818,1,     -999.0,9,     -999.0,9,     -999.0,9
325020210420,        A22,      23,          1,          6,          6,2,20210427,       0643,    17.6303,   -66.0009,       2503,  1818.6,   4.1149,  34.9760,2,  34.9750,2,    216.1,2,   216.4,2,   26.63,2,   22.03,2,    0.00,2,    1.46,2,-999.000,9,-999.000,9,-999.0000,9,  2195.1,2, 2333.83,2, -999.000,9,  -999.00,   7.70467,2,    25.01, -999.00,9, -999.00,9, -999.00, -999.00,9,-999.000,9, -999.00,9, -999.00,9,     -999.0,9, 20210427,      701,  17.6303, -66.0009,     4.1147,2,     0.0429,1,     4.6826,1,     -999.0,9,     -999.0,9,     -999.0,9
325020210420,        A22,      23,          1,          5,          5,2,20210427,       0643,    17.6303,   -66.0009,       2503,  1920.1,   4.1107,  34.9777,2,  34.9766,2,    221.1,2,   221.3,2,   25.17,2,   21.53,2,    0.00,2,    1.43,2,-999.000,9,-999.000,9,-999.0000,9,  -999.0,9, -999.00,9, -999.000,9,  -999.00,-999.00000,9,  -999.00, -999.00,9, -999.00,9, -999.00, -999.00,9,-999.000,9, -999.00,9, -999.00,9,     -999.0,9, 20210427,      658,  17.6303, -66.0009,     4.1105,2,     0.0430,1,     4.6826,1,     -999.0,9,     -999.0,9,     -999.0,9
325020210420,        A22,      23,          1,          4,          4,2,20210427,       0643,    17.6303,   -66.0009,       2503,  2022.0,   4.1084,  34.9785,2,  34.9782,2,    223.3,2,   223.6,2,   24.59,2,   21.35,2,    0.00,2,    1.41,2,-999.000,9,-999.000,9,-999.0000,9,  -999.0,9, -999.00,9, -999.000,9,  -999.00,-999.00000,9,  -999.00, -999.00,9, -999.00,9, -999.00, -999.00,9,-999.000,9, -999.00,9, -999.00,9,     -999.0,9, 20210427,      655,  17.6303, -66.0009,     4.1085,2,     0.0430,1,     4.6819,1,     -999.0,9,     -999.0,9,     -999.0,9
325020210420,        A22,      23,          1,          3,          3,2,20210427,       0643,    17.6303,   -66.0009,       2503,  2225.3,   4.1115,  34.9770,2,  34.9764,2,    218.4,2,   218.7,2,   26.54,2,   21.79,2,    0.00,2,    1.45,2,   0.252,2,   0.145,2,   0.3400,2,  -999.0,9, -999.00,9, -999.000,9,  -999.00,-999.00000,9,  -999.00, -999.00,9, -999.00,9, -999.00, -999.00,9,-999.000,9, -999.00,9, -999.00,9,      14.50,2, 20210427,      651,  17.6303, -66.0009,     4.1115,2,     0.0423,1,     4.6824,1,     -999.0,9,     -999.0,9,     -999.0,9
325020210420,        A22,      23,          1,          2,          2,2,20210427,       0643,    17.6303,   -66.0009,       2503,  2371.8,   4.1173,  34.9766,2,  34.9754,2,    217.9,2,   218.1,2,   27.12,2,   21.89,2,    0.00,2,    1.46,2,   0.215,2,   0.125,2,   0.3300,2,  -999.0,9, -999.00,9, -999.000,9,  -999.00,-999.00000,9,  -999.00, -999.00,9, -999.00,9, -999.00, -999.00,9,-999.000,9, -999.00,9, -999.00,9,      14.51,2, 20210427,      647,  17.6303, -66.0009,     4.1174,2,     0.0422,1,     4.6825,1,     -999.0,9,     -999.0,9,     -999.0,9
325020210420,        A22,      23,          1,          1,          1,2,20210427,       0643,    17.6303,   -66.0009,       2503,  2520.9,   4.1324,  34.9772,2,  34.9770,2,    221.7,2,   221.4,2,   25.85,2,   21.53,2,    0.00,2,    1.43,2,   0.372,2,   0.203,2,   0.3100,2,  2194.0,2, 2327.72,2, -999.000,9,  -999.00,   7.70939,2,    25.03, -999.00,9, -999.00,9, -999.00, -999.00,9,-999.000,9, -999.00,9, -999.00,9,      14.62,2, 20210427,      643,  17.6303, -66.0009,     4.1322,2,     0.0430,1,     4.6822,1,     -999.0,9,     -999.0,9,     -999.0,9