BOTTLE,20230513CCHSIOCBG
EXPOCODE,SECT_ID,STNNBR,CASTNO,SAMPNO,BTLNBR,BTLNBR_FLAG_W,DATE,TIME,LATITUDE,LONGITUDE,DEPTH,CTDPRS,CTDTMP,CTDSAL,CTDSAL_FLAG_W,SALNTY,SALNTY_FLAG_W,CTDOXY,CTDOXY_FLAG_W,OXYGEN,OXYGEN_FLAG_W,SILCAT,SILCAT_FLAG_W,NITRAT,NITRAT_FLAG_W,NITRIT,NITRIT_FLAG_W,PHSPHT,PHSPHT_FLAG_W,CFC-11,CFC-11_FLAG_W,CFC-12,CFC-12_FLAG_W,SF6,SF6_FLAG_W,TCARBN,TCARBN_FLAG_W,ALKALI,ALKALI_FLAG_W,FCO2,FCO2_FLAG_W,FCO2TMP,PH_TOT,PH_TOT_FLAG_W,PH_TMP,DELC13,DELC13_FLAG_W,DELC14,DELC14_FLAG_W,C14ERR,DELO18,DELO18_FLAG_W,POC,POC_FLAG_W,DOC,DOC_FLAG_W,TDN,TDN_FLAG_W,N2O,N2O_FLAG_W,BTL_DATE,BTL_TIME,BTL_LAT,BTL_LON,REFTMP,REFTMP_FLAG_W,CTDFLUOR,CTDFLUOR_FLAG_W,CTDXMISS,CTDXMISS_FLAG_W,D15N_NO2+NO3,D15N_NO2+NO3_FLAG_W,D18O_NO2+NO3,D18O_NO2+NO3_FLAG_W,HPLC,HPLC_FLAG_W
,,,,,,,,,,,METERS,DBAR,ITS-90,PSS-78,,PSS-78,,UMOL/KG,,UMOL/KG,,UMOL/KG,,UMOL/KG,,UMOL/KG,,UMOL/KG,,PMOL/KG,,PMOL/KG,,FMOL/KG,,UMOL/KG,,UMOL/KG,,UATM,,DEG C,,,DEG C,/MILLE,,/MILLE,,/MILLE,/MILLE,,UG/KG,,UMOL/KG,,UMOL/KG,,NMOL/KG,,,,,,ITS-90,,VOLTS,,VOLTS,,/MILLE,,/MILLE,,,
325020210420,        A22,      60,          1,         36,         36,2,20210506,       2108,    29.8148,   -65.3951,       4895,     4.9,  23.6478,  37.0182,2,  37.0204,2,    215.3,2,   213.8,2,    0.68,2,    0.00,2,    0.00,2,    0.00,2,   1.719,2,   1.087,2,   1.8300,2,  2094.4,6, 2418.13,2,  326.560,2,    20.00,   8.05917,2,    24.99,    0.72,2,   36.44,2,    2.56, -999.00,1,-999.000,9,   70.90,2,    4.08,2,       6.40,2, 20210506,     2325,  29.8148, -65.3951,    23.6960,2,     0.0418,1,     4.6161,1,     -999.0,9,     -999.0,9,     -999.0,9
325020210420,        A22,      60,          1,         35,         35,2,20210506,       2108,    29.8148,   -65.3951,       4895,    34.9,  22.5983,  37.0273,2,  37.0277,2,    217.5,2,   217.3,2,    0.68,2,    0.00,2,    0.00,2,    0.00,2,-999.000,9,-999.000,9,-999.0000,9,  2089.6,2, 2417.81,2,  322.510,2,    20.00,    8.0633,6,    24.96, -999.00,9, -999.00,9, -999.00, -999.00,9,-999.000,9,   71.10,2,    3.81,2,     -999.0,9, 20210506,     2323,  29.8148, -65.3951,    22.5919,2,     0.0431,1,     4.6189,1,     -999.0,9,     -999.0,9,     -999.0,9
325020210420,        A22,      60,          1,         34,         34,2,20210506,       2108,    29.8148,   -65.3951,       4895,    60.6,  22.3448,  37.0069,2,  37.0055,2,    217.2,2,   217.4,2,    0.68,2,    0.00,2,    0.00,2,    0.00,2,   1.762,2,   1.109,2,   1.8400,2,  2092.0,2, 2416.02,6,  325.560,2,    20.00,   8.05999,2,    24.99, -999.00,9, -999.00,9, -999.00, -999.00,1,-999.000,9,   70.70,2,    3.94,2,       6.55,2, 20210506,     2321,  29.8148, -65.3951,    22.3438,2,     0.0489,1,     4.6180,1,     -999.0,9,     -999.0,9,     -999.0,9
325020210420,        A22,      60,          1,         33,         33,2,20210506,       2108,    29.8148,   -65.3951,       4895,    85.3,  22.0558,  36.9578,2,  36.9580,2,    216.1,2,   216.1,2,    0.68,2,    0.00,2,    0.00,2,    0.00,2,-999.000,9,-999.000,9,-999.0000,9,  2092.3,2, 2414.37,2,  331.100,2,    20.00,   8.05495,2,    24.99, -999.00,9, -999.00,9, -999.00, -999.00,9,-999.000,9,   66.30,2,    3.99,2,     -999.0,9, 20210506,     2319,  29.8148, -65.3951,    22.0546,2,     0.0552,1,     4.6211,1,     -999.0,9,     -999.0,9,     -999.0,9
325020210420,        A22,      60,          1,         32,         32,2,20210506,       2108,    29.8148,   -65.3951,       4895,   115.6,  21.3471,  36.8676,2,  36.8689,2,    212.9,2,   213.1,2,    0.58,2,    0.00,2,    0.00,2,    0.00,2,   1.869,2,   1.150,2,   1.8500,2,  2098.7,2, 2408.28,2,  347.970,2,    20.00,   8.03631,2,    24.99, -999.00,9, -999.00,9, -999.00, -999.00,9,-999.000,9,   62.70,2,    3.93,2,       6.79,2, 20210506,     2317,  29.8148, -65.3951,    21.3504,2,     0.0841,1,     4.6184,1,     -999.0,9,     -999.0,9,     -999.0,9
325020210420,        A22,      60,          1,         31,         31,2,20210506,       2108,    29.8148,   -65.3951,       4895,   165.5,  19.8535,  36.7284,2,  36.7278,2,    220.7,2,   221.1,2,    0.58,2,    0.03,2,    0.31,2,    0.00,2,-999.000,9,-999.000,9,-999.0000,9,  2100.7,2, 2399.08,2,  362.900,2,    20.00,   8.01903,2,    25.00,    0.57,2,   42.69,2,    2.02, -999.00,9,-999.000,9,   58.50,2,    4.15,2,     -999.0,9, 20210506,     2315,  29.8148, -65.3951,    19.8511,2,     0.0510,1,     4.6485,1,     -999.0,9,     -999.0,9,     -999.0,9
325020210420,        A22,      60,          1,         30,         30,2,20210506,       2108,    29.8148,   -65.3951,       4895,   216.1,  19.3566,  36.6867,2,  36.6862,2,    216.3,2,   216.1,2,    0.78,2,    1.36,2,    0.00,2,    0.00,2,   1.966,2,   1.233,2,   1.9600,2,  2105.8,2, 2396.01,2,  375.180,2,    20.00,   8.00698,2,    25.03,    0.56,2,   39.68,2,    2.10, -999.00,9,-999.000,9,   56.40,2,    5.33,2,       7.30,2, 20210506,     2313,  29.8148, -65.3951,    19.3565,2,     0.0461,1,     4.6557,1,     -999.0,9,     -999.0,9,     -999.0,9
325020210420,        A22,      60,          1,         29,         29,2,20210506,       2108,    29.8148,   -65.3951,       4895,   267.3,  19.2916,  36.6889,2,  36.6885,2,    216.5,2,   216.5,2,    0.78,2,    1.44,2,    0.00,2,    0.00,2,   1.983,2,   1.238,2,   1.9400,2,  2106.4,2, 2395.25,2,  377.030,2,    20.00,   8.00618,2,    25.03,    0.53,2,   40.37,2,    2.61, -999.00,9,-999.000,9,   54.90,2, -999.00,1,       7.27,2, 20210506,     2310,  29.8148, -65.3951,    19.2922,2,     0.0394,1,     4.6592,1,     -999.0,9,     -999.0,9,     -999.0,9
325020210420,        A22,      60,          1,         28,         28,2,20210506,       2108,    29.8148,   -65.3951,       4895,   317.1,  19.2418,  36.6822,2,  36.6822,2,    217.4,2,   217.0,2,    0.88,2,    1.45,2,    0.00,2,    0.00,2,   1.990,2,   1.232,2,   1.9800,2,  2105.9,2, 2397.49,2,  375.480,2,    20.00,   8.00771,2,    25.02,    0.51,2,   37.30,2,    2.23, -999.00,9,-999.000,9,   57.10,2, -999.00,1,       7.45,2, 20210506,     2308,  29.8148, -65.3951,    19.2409,2,     0.0389,1,     4.6601,1,     -999.0,9,     -999.0,9,     -999.0,9
325020210420,        A22,      60,          1,         27,         27,2,20210506,       2108,    29.8148,   -65.3951,       4895,   367.8,  19.2473,  36.6832,2,  36.6828,2,    217.5,2,   218.2,4,    0.97,2,    1.45,2,    0.00,2,    0.00,2,-999.000,9,-999.000,9,-999.0000,9,  2106.1,2, 2396.57,2,  376.120,2,    20.00,   8.00447,6,    25.04,    0.53,2,   39.31,2,    2.11, -999.00,9,-999.000,9,   57.30,2, -999.00,1,     -999.0,9, 20210506,     2306,  29.8148, -65.3951,    19.2464,2,     0.0398,1,     4.6609,1,     -999.0,9,     -999.0,9,     -999.0,9
325020210420,        A22,      60,          1,         26,         26,2,20210506,       2108,    29.8148,   -65.3951,       4895,   418.7,  19.1808,  36.6797,2,  36.6790,2,    214.3,2,   214.3,2,    0.88,2,    1.74,2,    0.00,2,    0.00,2,   1.985,2,   1.244,2,   1.9300,2,  2110.9,2, 2394.34,2,  382.590,6,    20.00,   8.00101,2,    25.02,    0.49,2,   41.04,2,    2.06, -999.00,9,-999.000,9,   54.20,2, -999.00,1,       7.48,2, 20210506,     2304,  29.8148, -65.3951,    19.1784,2,     0.0390,1,     4.6619,1,     -999.0,9,     -999.0,9,     -999.0,9
325020210420,        A22,      60,          1,         25,         25,2,20210506,       2108,    29.8148,   -65.3951,       4895,   468.6,  18.8746,  36.6412,2,  36.6366,2,    204.6,2,   206.4,2,    0.97,2,    2.85,2,    0.00,2,    0.04,2,-999.000,9,-999.000,9,-999.0000,9,  2118.7,2, 2390.55,2,  402.210,2,    20.00,   7.98239,2,    25.02,    0.47,2,   42.98,2,    2.07, -999.00,9,-999.000,9,   51.30,2, -999.00,1,     -999.0,9, 20210506,     2302,  29.8148, -65.3951,    18.8730,2,     0.0389,1,     4.6632,1,     -999.0,9,     -999.0,9,     -999.0,9
325020210420,        A22,      60,          1,         24,         24,2,20210506,       2108,    29.8148,   -65.3951,       4895,   538.8,  17.9271,  36.4707,2,  36.4693,2,    190.4,2,   191.0,2,    1.75,2,    5.68,2,    0.00,2,    0.19,2,   2.150,2,   1.321,2,   1.6700,2,  2133.8,2, 2384.73,2,  449.830,2,    20.00,   7.93808,2,    25.01,    0.49,6,   54.97,6,    2.15, -999.00,9,-999.000,9,   49.50,2, -999.00,1,       9.20,2, 20210506,     2259,  29.8148, -65.3951,    17.9237,2,     0.0406,1,     4.6654,1,     -999.0,9,     -999.0,9,     -999.0,9
325020210420,        A22,      60,          1,         23,         23,2,20210506,       2108,    29.8148,   -65.3951,       4895,   640.2,  15.5622,  36.0901,2,  36.0910,2,    178.2,2,   178.2,2,    3.51,2,   10.48,2,    0.00,2,    0.50,2,-999.000,9,-999.000,9,-999.0000,9,  2152.1,2, 2359.47,2,  538.750,2,    20.00,   7.86731,2,    25.00,    0.50,2,   49.85,2,    2.11, -999.00,9,-999.000,9,   47.00,2, -999.00,1,     -999.0,9, 20210506,     2254,  29.8148, -65.3951,    15.5632,2,     0.0408,1,     4.6716,1,     -999.0,9,     -999.0,9,     -999.0,9
325020210420,        A22,      60,          1,         22,         22,2,20210506,       2108,    29.8148,   -65.3951,       4895,   740.8,  13.5077,  35.7667,2,  35.7633,2,    169.1,2,   169.0,2,    6.24,2,   14.80,2,    0.00,2,    0.79,2,   2.197,6,   1.282,6,   1.1500,6,  2166.3,2, 2343.25,2,  630.800,2,    20.00,   7.80397,2,    25.00,    0.44,3,   39.18,2,    2.20, -999.00,9,-999.000,9,   44.10,2, -999.00,1,      14.64,6, 20210506,     2251,  29.8148, -65.3951,    13.5097,2,     0.0409,1,     4.6728,1,     -999.0,9,     -999.0,9,     -999.0,9
325020210420,        A22,      60,          1,         21,         21,2,20210506,       2108,    29.8148,   -65.3951,       4895,   842.0,  10.7564,  35.4066,2,  35.4054,2,    149.0,2,   149.4,2,   10.73,2,   21.23,2,    0.00,2,    1.22,2,   1.634,2,   0.910,2,   0.6400,2,  2187.4,2, 2326.59,2,  781.070,2,    20.00,   7.71581,2,    25.02,    0.61,2,    2.77,2,    2.09, -999.00,9,-999.000,9,   43.20,2, -999.00,1,      18.76,2, 20210506,     2248,  29.8148, -65.3951,    10.7555,2,     0.0417,1,     4.6738,1,     -999.0,9,     -999.0,9,     -999.0,9
325020210420,        A22,      60,          1,         20,         20,2,20210506,       2108,    29.8148,   -65.3951,       4895,   943.5,   8.6278,  35.1924,2,  35.1898,2,    155.2,2,   154.9,2,   13.94,2,   23.73,2,    0.00,2,    1.41,2,   1.317,2,   0.708,2,   0.5000,2,  2195.3,6, 2316.72,2,  859.160,2,    20.00,   7.67489,2,    25.04,    0.70,2,  -23.99,2,    2.07, -999.00,9,-999.000,9,   42.50,2, -999.00,1,      19.55,2, 20210506,     2245,  29.8148, -65.3951,     8.6294,2,     0.0425,1,     4.6761,1,     -999.0,9,     -999.0,9,     -999.0,9
325020210420,        A22,      60,          1,         19,         19,2,20210506,       2108,    29.8148,   -65.3951,       4895,  1044.2,   7.0453,  35.1247,2,  35.1242,2,    183.0,2,   183.7,2,   14.34,2,   22.35,2,    0.00,2,    1.36,2,-999.000,9,-999.000,9,-999.0000,9,  2189.4,2,  2317.2,2,  842.960,2,    20.00,   7.68163,6,    25.02,    0.75,2,  -33.60,2,    2.33, -999.00,9,-999.000,9,   42.60,2, -999.00,1,     -999.0,9, 20210506,     2242,  29.8148, -65.3951,     7.0468,2,     0.0417,1,     4.6759,1,     -999.0,9,     -999.0,9,     -999.0,9
325020210420,        A22,      60,          1,         18,         18,2,20210506,       2108,    29.8148,   -65.3951,       4895,  1145.9,   6.1875,  35.1184,2,  35.1171,2,    207.8,2,   207.5,2,   13.56,2,   20.60,2,    0.00,2,    1.26,2,   1.730,2,   0.886,2,   0.4800,2,  2182.9,2, 2316.86,6,  810.260,2,    20.00,   7.69816,2,    24.98,    0.84,2,  -30.00,2,    2.05, -999.00,9,-999.000,9,   43.50,2, -999.00,1,      15.72,2, 20210506,     2238,  29.8148, -65.3951,     6.1868,2,     0.0422,1,     4.6763,1,     -999.0,9,     -999.0,9,     -999.0,9
325020210420,        A22,      60,          1,         17,         17,2,20210506,       2108,    29.8148,   -65.3951,       4895,  1247.3,   5.6414,  35.0966,2,  35.0963,2,    221.8,2,   221.8,2,   13.17,2,   19.76,2,    0.00,2,    1.22,2,-999.000,9,-999.000,9,-999.0000,9,  2179.3,2, 2314.74,2,  793.990,2,    20.00,   7.70737,2,    24.95,    0.84,2,  -29.97,2,    1.98, -999.00,9,-999.000,9,   42.60,2, -999.00,1,     -999.0,9, 20210506,     2235,  29.8148, -65.3951,     5.6415,2,     0.0416,1,     4.6768,1,     -999.0,9,     -999.0,9,     -999.0,9
325020210420,        A22,      60,          1,         16,         16,2,20210506,       2108,    29.8148,   -65.3951,       4895,  1348.2,   5.1998,  35.0817,2,  35.0799,2,    234.2,2,   234.5,2,   12.87,2,   19.02,2,    0.00,2,    1.18,2,   1.895,2,   0.993,2,   0.5600,2,  2175.5,2, 2314.79,2,  776.910,2,    20.00,   7.71507,2,    24.97,    0.90,2,  -34.26,2,    2.02, -999.00,9,-999.000,9,   43.50,2, -999.00,1,      14.50,2, 20210506,     2232,  29.8148, -65.3950,     5.1997,2,     0.0418,1,     4.6775,1,     -999.0,9,     -999.0,9,     -999.0,9
325020210420,        A22,      60,          1,         15,         15,2,20210506,       2108,    29.8148,   -65.3951,       4895,  1449.7,   4.9139,  35.0634,2,  35.0644,2,    241.4,2,   241.7,2,   12.78,2,   18.58,2,    0.00,2,    1.15,2,   2.039,2,   1.063,2,   0.5700,2,  2172.3,2, 2312.96,2,  770.320,2,    20.00,   7.71711,2,    25.00,    0.92,2,  -29.74,2,    2.04, -999.00,9,-999.000,9,   42.60,2, -999.00,1,      13.84,2, 20210506,     2228,  29.8148, -65.3950,     4.9141,2,     0.0414,1,     4.6766,1,     -999.0,9,     -999.0,9,     -999.0,9
325020210420,        A22,      60,          1,         14,         14,2,20210506,       2108,    29.8148,   -65.3951,       4895,  1551.2,   4.6814,  35.0565,2,  35.0567,2,    245.8,2,   246.3,2,   12.87,2,   18.37,2,    0.00,2,    1.14,2,-999.000,9,-999.000,9,-999.0000,9,  2170.6,2, 2314.11,2,  762.200,2,    20.00,   7.72128,2,    25.01,    0.95,2,  -25.73,2,    1.94, -999.00,9,-999.000,9,   42.30,2, -999.00,1,     -999.0,9, 20210506,     2225,  29.8148, -65.3950,     4.6813,2,     0.0418,1,     4.6771,1,     -999.0,9,     -999.0,9,     -999.0,9
325020210420,        A22,      60,          1,         13,         13,2,20210506,       2108,    29.8148,   -65.3951,       4895,  1682.6,   4.3729,  35.0347,2,  35.0342,2,    250.4,2,   251.8,2,   13.56,2,   18.24,2,    0.00,2,    1.14,2,   1.867,2,   0.944,2,   0.4100,2,  2167.4,2, 2312.41,2,  755.830,2,    20.00,   7.72433,2,    24.89,    1.00,2,  -31.58,2,    2.04, -999.00,9,-999.000,9,   42.30,2, -999.00,1,      13.60,2, 20210506,     2221,  29.8148, -65.3950,     4.3720,2,     0.0423,1,     4.6766,1,     -999.0,9,     -999.0,9,     -999.0,9
325020210420,        A22,      60,          1,         12,         12,2,20210506,       2108,    29.8148,   -65.3951,       4895,  1885.8,   4.0626,  35.0198,2,  35.0197,2,    252.4,2,   252.7,2,   15.41,2,   18.41,2,    0.00,2,    1.15,2,-999.000,9,-999.000,9,-999.0000,9,  2167.8,2, 2312.86,2,  743.850,2,    20.00,   7.72683,2,    24.93,    1.00,2,  -48.81,2,    1.90, -999.00,9,-999.000,9,   42.60,2, -999.00,1,     -999.0,9, 20210506,     2216,  29.8148, -65.3950,     4.0645,2,     0.0425,1,     4.6774,1,     -999.0,9,     -999.0,9,     -999.0,9
325020210420,        A22,      60,          1,         11,         11,2,20210506,       2108,    29.8148,   -65.3951,       4895,  2110.0,   3.6464,  34.9888,2,  34.9884,2,    256.1,2,   256.4,2,   17.75,2,   18.44,2,    0.00,2,    1.17,2,   1.043,2,   0.514,2,   0.1500,2,  2163.9,2, 2182.44,4,  737.320,2,    20.00,   7.73542,2,    25.07,    1.01,2,  -60.24,2,    2.04, -999.00,9,-999.000,9,   42.00,2, -999.00,1,      13.32,2, 20210506,     2211,  29.8148, -65.3950,     3.6460,2,     0.0421,1,     4.6777,1,     -999.0,9,     -999.0,9,     -999.0,9
325020210420,        A22,      60,          1,         10,         10,2,20210506,       2108,    29.8148,   -65.3951,       4895,  2364.5,   3.3717,  34.9712,2,  34.9713,2,    257.0,2,   257.2,2,   20.29,2,   18.60,2,    0.00,2,    1.18,2,   0.778,2,   0.385,2,   0.1500,2,  2164.6,2, 2313.44,2,  733.270,2,    20.00,   7.73587,2,    24.97,    1.07,2,  -62.33,2,    1.88, -999.00,9,-999.000,9,   41.70,2, -999.00,1,      13.10,2, 20210506,     2206,  29.8148, -65.3950,     3.3723,2,     0.0423,1,     4.6763,1,     -999.0,9,     -999.0,9,     -999.0,9
325020210420,        A22,      60,          1,          9,          9,2,20210506,       2108,    29.8148,   -65.3951,       4895,  2619.8,   3.1059,  34.9522,2,  34.9512,2,    259.2,2,   259.6,2,   21.95,2,   18.63,2,    0.00,2,    1.19,2,   0.735,2,   0.334,2,   0.1000,2,  2164.8,2, 2315.17,2,  731.660,2,    20.00,   7.73823,2,    24.99,    1.04,2,  -68.28,2,    2.20, -999.00,9,-999.000,9,   42.50,2, -999.00,1,      12.96,2, 20210506,     2200,  29.8148, -65.3950,     3.1057,2,     0.0427,1,     4.6774,1,     -999.0,9,     -999.0,9,     -999.0,9
325020210420,        A22,      60,          1,          8,          8,2,20210506,       2108,    29.8148,   -65.3951,       4895,  2873.8,   2.8542,  34.9340,2,  34.9347,2,    262.9,2,   263.4,2,   22.53,2,   18.40,2,    0.00,2,    1.18,2,-999.000,9,-999.000,9,-999.0000,9,  2164.7,2, 2315.33,2,  730.820,2,    20.00,   7.73783,2,    24.98,    1.09,2,  -65.95,2,    1.89, -999.00,9,-999.000,9,   42.50,2, -999.00,1,     -999.0,9, 20210506,     2154,  29.8148, -65.3950,     2.8546,2,     0.0429,1,     4.6772,1,     -999.0,9,     -999.0,9,     -999.0,9
325020210420,        A22,      60,          1,          7,          7,2,20210506,       2108,    29.8148,   -65.3951,       4895,  3144.3,   2.6376,  34.9190,2,  34.9185,2,    266.6,2,   266.8,2,   23.02,2,   18.01,2,    0.00,2,    1.17,2,   0.959,2,   0.483,2,   0.1800,2,  2165.6,2, 2313.73,2,  732.130,2,    20.00,   7.73807,2,    24.95,    1.11,2,  -58.96,2,    1.88, -999.00,9,-999.000,9,   43.30,2, -999.00,1,      13.14,2, 20210506,     2148,  29.8148, -65.3950,     2.6372,2,     0.0423,1,     4.6766,1,     -999.0,9,     -999.0,9,     -999.0,9
325020210420,        A22,      60,          1,          6,          6,2,20210506,       2108,    29.8148,   -65.3951,       4895,  3450.5,   2.4202,  34.9050,2,  34.9050,2,    267.7,2,   267.9,2,   25.46,2,   18.09,2,    0.00,2,    1.18,2,   1.006,2,   0.505,2,   0.2000,2,  2167.1,2, 2315.55,2,  737.550,2,    20.00,   7.73559,2,    24.99,    1.06,2,  -61.99,2,    2.00, -999.00,9,-999.000,9,   43.00,2, -999.00,1,      12.90,2, 20210506,     2142,  29.8148, -65.3950,     2.4209,2,     0.0429,1,     4.6773,1,     -999.0,9,     -999.0,9,     -999.0,9
325020210420,        A22,      60,          1,          5,          5,2,20210506,       2108,    29.8148,   -65.3951,       4895,  3757.9,   2.3022,  34.8955,2,  34.8947,2,    267.0,2,   267.1,2,   28.38,2,   18.39,2,    0.00,2,    1.20,2,   0.984,2,   0.501,2,   0.1900,2,  2170.4,2,  2322.3,2,  740.320,2,    20.00,   7.73447,6,    25.02,    1.05,2,  -66.29,2,    2.34, -999.00,9,-999.000,9,   43.40,2, -999.00,1,      12.98,2, 20210506,     2135,  29.8148, -65.3950,     2.3022,2,     0.0425,1,     4.6766,1,     -999.0,9,     -999.0,9,     -999.0,9
325020210420,        A22,      60,          1,          4,          4,2,20210506,       2108,    29.8148,   -65.3951,       4895,  4065.8,   2.2488,  34.8886,2,  34.8886,2,    265.0,2,   265.0,2,   31.60,2,   18.82,2,    0.00,2,    1.24,2,-999.000,9,-999.000,9,-999.0000,9,  2173.9,2, 2327.77,2,  745.370,2,    20.00,    7.7316,2,    24.99,    1.04,2,  -73.33,2,    1.86, -999.00,9,-999.000,9,   42.60,2, -999.00,1,     -999.0,9, 20210506,     2128,  29.8148, -65.3950,     2.2490,2,     0.0428,1,     4.6752,1,     -999.0,9,     -999.0,9,     -999.0,9
325020210420,        A22,      60,          1,          3,          3,2,20210506,       2108,    29.8148,   -65.3951,       4895,  4374.6,   2.2229,  34.8826,2,  34.8827,2,    262.4,2,   263.1,2,   35.02,2,   19.32,2,    0.00,2,    1.28,2,   0.855,2,   0.445,2,   0.2100,2,  2179.0,2,  2327.2,2,  751.490,2,    20.00,   7.72883,2,    25.01,    0.99,2,  -76.46,2,    1.86, -999.00,9,-999.000,9,   41.20,2, -999.00,1,      13.51,2, 20210506,     2122,  29.8148, -65.3950,     2.2230,2,     0.0431,1,     4.6709,1,     -999.0,9,     -999.0,9,     -999.0,9