BOTTLE,20230513CCHSIOCBG
EXPOCODE,SECT_ID,STNNBR,CASTNO,SAMPNO,BTLNBR,BTLNBR_FLAG_W,DATE,TIME,LATITUDE,LONGITUDE,DEPTH,CTDPRS,CTDTMP,CTDSAL,CTDSAL_FLAG_W,SALNTY,SALNTY_FLAG_W,CTDOXY,CTDOXY_FLAG_W,OXYGEN,OXYGEN_FLAG_W,SILCAT,SILCAT_FLAG_W,NITRAT,NITRAT_FLAG_W,NITRIT,NITRIT_FLAG_W,PHSPHT,PHSPHT_FLAG_W,CFC-11,CFC-11_FLAG_W,CFC-12,CFC-12_FLAG_W,SF6,SF6_FLAG_W,TCARBN,TCARBN_FLAG_W,ALKALI,ALKALI_FLAG_W,FCO2,FCO2_FLAG_W,FCO2TMP,PH_TOT,PH_TOT_FLAG_W,PH_TMP,DELC13,DELC13_FLAG_W,DELC14,DELC14_FLAG_W,C14ERR,DELO18,DELO18_FLAG_W,POC,POC_FLAG_W,DOC,DOC_FLAG_W,TDN,TDN_FLAG_W,N2O,N2O_FLAG_W,BTL_DATE,BTL_TIME,BTL_LAT,BTL_LON,REFTMP,REFTMP_FLAG_W,CTDFLUOR,CTDFLUOR_FLAG_W,CTDXMISS,CTDXMISS_FLAG_W,D15N_NO2+NO3,D15N_NO2+NO3_FLAG_W,D18O_NO2+NO3,D18O_NO2+NO3_FLAG_W,HPLC,HPLC_FLAG_W
,,,,,,,,,,,METERS,DBAR,ITS-90,PSS-78,,PSS-78,,UMOL/KG,,UMOL/KG,,UMOL/KG,,UMOL/KG,,UMOL/KG,,UMOL/KG,,PMOL/KG,,PMOL/KG,,FMOL/KG,,UMOL/KG,,UMOL/KG,,UATM,,DEG C,,,DEG C,/MILLE,,/MILLE,,/MILLE,/MILLE,,UG/KG,,UMOL/KG,,UMOL/KG,,NMOL/KG,,,,,,ITS-90,,VOLTS,,VOLTS,,/MILLE,,/MILLE,,,
325020210420,        A22,      40,          1,         36,         36,2,20210430,       2358,    20.0246,   -65.9974,       7559,     5.1,  26.5590,  36.6864,2,  36.6889,2,    203.3,2,   202.6,2,    0.97,2,    0.00,2,    0.00,2,    0.00,2,   1.490,2,   0.967,2,   1.6800,2,  2053.5,6,  2404.0,2,  296.270,2,    20.00,   8.10295,2,    24.98,    1.00,2,   29.64,2,    2.01, -999.00,1,-999.000,9,   77.50,2,    4.54,2,       5.82,2, 20210501,      233,  20.0246, -65.9974,    26.5580,2,     0.0427,1,     4.6256,1,     -999.0,9,     -999.0,9,     -999.0,9
325020210420,        A22,      40,          1,         35,         35,2,20210430,       2358,    20.0246,   -65.9974,       7559,    35.6,  26.3847,  36.7569,2,  36.7568,2,    205.1,2,   204.9,2,    0.88,2,    0.00,2,    0.00,2,    0.00,2,-999.000,9,-999.000,9,-999.0000,9,  2057.5,2, 2404.57,2,  291.620,2,    20.00,   8.10521,6,    24.99, -999.00,9, -999.00,9, -999.00, -999.00,9,-999.000,9,   77.90,2,    4.79,2,     -999.0,9, 20210501,      231,  20.0246, -65.9974,    26.3823,2,     0.0445,1,     4.6165,1,     -999.0,9,     -999.0,9,     -999.0,9
325020210420,        A22,      40,          1,         34,         34,2,20210430,       2358,    20.0246,   -65.9974,       7559,    60.3,  25.9436,  36.8235,2,  36.8274,2,    207.0,2,   206.7,2,    0.88,2,    0.00,2,    0.00,2,    0.00,2,-999.000,9,-999.000,9,-999.0000,9,  2060.3,2, 2409.77,6,  291.320,2,    20.00,   8.10652,2,    24.99, -999.00,9, -999.00,9, -999.00, -999.00,9,-999.000,9,   79.70,2,    4.78,2,     -999.0,9, 20210501,      229,  20.0246, -65.9974,    25.9424,2,     0.0479,1,     4.6246,1,     -999.0,9,     -999.0,9,     -999.0,9
325020210420,        A22,      40,          1,         33,         33,2,20210430,       2358,    20.0246,   -65.9974,       7559,    85.9,  25.6250,  36.8141,2,  36.8181,2,    207.2,2,   206.6,2,    0.97,2,    0.00,2,    0.00,2,    0.00,2,   1.564,2,   0.992,2,   1.6900,2,  2060.3,2, 2408.08,2,  292.870,2,    20.00,   8.10494,2,    24.99, -999.00,9, -999.00,9, -999.00, -999.00,9,-999.000,9,   79.50,2,    4.54,2,       6.15,2, 20210501,      227,  20.0246, -65.9974,    25.6236,2,     0.0495,1,     4.6325,1,     -999.0,9,     -999.0,9,     -999.0,9
325020210420,        A22,      40,          1,         32,         32,2,20210430,       2358,    20.0246,   -65.9974,       7559,   121.3,  25.2676,  37.1419,2,  37.1421,2,    200.9,2,   201.5,2,    0.58,2,    0.00,2,    0.00,2,    0.00,2,-999.000,9,-999.000,9,-999.0000,9,  2091.1,2, 2426.74,2,  318.420,2,    20.00,   8.07565,2,    24.99, -999.00,9, -999.00,9, -999.00, -999.00,1,-999.000,9,   69.10,2,    3.78,2,     -999.0,9, 20210501,      225,  20.0246, -65.9974,    25.2683,2,     0.0646,1,     4.6388,1,     -999.0,9,     -999.0,9,     -999.0,9
325020210420,        A22,      40,          1,         31,         31,2,20210430,       2358,    20.0246,   -65.9974,       7559,   171.2,  23.2395,  37.2448,2,  37.2409,2,    176.5,2,   177.8,2,    0.49,2,    0.89,2,    0.02,2,    0.00,2,   1.736,2,   1.112,2,   1.6900,2,  2135.7,2, 2430.95,2,  386.990,2,    20.00,   8.00353,2,    25.00,    0.67,2,   40.12,2,    2.03, -999.00,9,-999.000,9,   57.10,2,    4.87,2,       7.20,2, 20210501,      222,  20.0246, -65.9974,    23.2406,2,     0.0579,1,     4.6538,1,     -999.0,9,     -999.0,9,     -999.0,9
325020210420,        A22,      40,          1,         30,         30,2,20210430,       2358,    20.0246,   -65.9974,       7559,   216.4,  21.0340,  36.9782,2,  36.9804,2,    167.8,2,   168.2,2,    0.78,2,    2.97,2,    0.00,2,    0.07,2,-999.000,9,-999.000,9,-999.0000,9,  2151.5,2, 2412.65,2,  439.090,2,    20.00,   7.95265,6,    25.01,    0.51,2,   46.17,2,    2.06, -999.00,9,-999.000,9,   52.10,2,    6.38,2,     -999.0,9, 20210501,      220,  20.0246, -65.9974,    21.0326,2,     0.0425,1,     4.6681,1,     -999.0,9,     -999.0,9,     -999.0,9
325020210420,        A22,      40,          1,         29,         29,2,20210430,       2358,    20.0246,   -65.9974,       7559,   271.7,  18.8135,  36.6307,2,  36.6279,2,    169.6,2,   170.5,2,    1.56,2,    6.12,2,    0.00,2,    0.25,2,   2.077,2,   1.286,2,   1.5800,2,  2149.9,2, 2388.15,2,  477.680,2,    20.00,   7.92033,2,    25.01,    0.44,2,   50.51,2,    2.15, -999.00,9,-999.000,9,   47.90,2, -999.00,1,      10.57,2, 20210501,      218,  20.0246, -65.9974,    18.8121,2,     0.0392,1,     4.6717,1,     -999.0,9,     -999.0,9,     -999.0,9
325020210420,        A22,      40,          1,         28,         28,2,20210430,       2358,    20.0246,   -65.9974,       7559,   317.1,  17.7841,  36.4594,2,  36.4445,2,    164.5,2,   163.1,2,    2.24,2,    8.62,2,    0.00,2,    0.41,2,   2.132,6,   1.316,6,   1.5600,6,  2157.8,2, 2378.69,2,  518.300,2,    20.00,   7.88768,2,    24.99,    0.35,2,   52.37,2,    2.05, -999.00,9,-999.000,9,   48.30,2, -999.00,1,      12.59,6, 20210501,      215,  20.0246, -65.9974,    17.7923,2,     0.0403,1,     4.6729,1,     -999.0,9,     -999.0,9,     -999.0,9
325020210420,        A22,      40,          1,         27,         27,2,20210430,       2358,    20.0246,   -65.9974,       7559,   372.8,  16.1732,  36.1687,2,  36.1652,2,    147.5,2,   148.7,2,    3.80,2,   12.71,2,    0.00,2,    0.67,2,-999.000,9,-999.000,9,-999.0000,9,  2171.4,2, 2362.72,2,  599.830,2,    20.00,   7.82847,2,    24.99,    0.39,2,   49.02,2,    2.05, -999.00,9,-999.000,9,   47.90,2, -999.00,1,     -999.0,9, 20210501,      213,  20.0246, -65.9974,    16.1743,2,     0.0407,1,     4.6732,1,     -999.0,9,     -999.0,9,     -999.0,9
325020210420,        A22,      40,          1,         26,         26,2,20210430,       2358,    20.0246,   -65.9974,       7559,   437.8,  14.7072,  35.9245,2,  35.8880,3,    137.7,2,   136.7,2,    5.85,2,   16.62,2,    0.00,2,    0.93,2,   2.138,2,   1.266,2,   1.1000,2,  2184.7,2, 2346.64,2,  688.520,2,    20.00,   7.77109,2,    25.00,    0.35,2,   43.27,2,    2.14, -999.00,9,-999.000,9,   46.60,2, -999.00,1,      19.30,2, 20210501,      210,  20.0246, -65.9974,    14.6834,2,     0.0407,1,     4.6747,1,     -999.0,9,     -999.0,9,     -999.0,9
325020210420,        A22,      40,          1,         25,         25,2,20210430,       2358,    20.0246,   -65.9974,       7559,   538.8,  13.0061,  35.6765,2,  35.6686,2,    136.5,2,   136.3,2,    7.51,2,   19.13,2,    0.00,2,    1.09,2,   2.023,2,   1.163,2,   0.8300,2,  2190.2,2, 2334.11,2,  745.560,2,    20.00,   7.73891,2,    25.00,    0.45,2,   36.51,2,    2.83, -999.00,9,-999.000,9,   47.00,2, -999.00,1,      20.05,2, 20210501,      207,  20.0246, -65.9974,    12.9959,2,     0.0413,1,     4.6773,1,     -999.0,9,     -999.0,9,     -999.0,9
325020210420,        A22,      40,          1,         24,         24,2,20210430,       2358,    20.0246,   -65.9974,       7559,   639.6,  11.1271,  35.3914,2,  35.3904,2,    129.4,2,   130.0,2,   10.93,2,   23.16,2,    0.00,2,    1.38,2,-999.000,9,-999.000,9,-999.0000,9,  2199.1,6, 2323.31,2,  847.370,2,    20.00,   7.68538,2,    25.00,    0.51,2,   10.00,2,    2.05, -999.00,9,-999.000,9,   44.30,2, -999.00,1,     -999.0,9, 20210501,      204,  20.0246, -65.9974,    11.1261,2,     0.0414,1,     4.6759,1,     -999.0,9,     -999.0,9,     -999.0,9
325020210420,        A22,      40,          1,         23,         23,2,20210430,       2358,    20.0246,   -65.9974,       7559,   751.0,   8.5496,  35.0795,2,  35.0797,2,    131.1,2,   131.0,2,   16.68,2,   27.66,2,    0.00,2,    1.71,2,   0.971,2,   0.526,2,   0.3100,2,  2212.1,2, 2315.88,2,  960.930,2,    20.00,   7.62846,6,    25.00,    0.64,2,  -33.89,2,    2.02, -999.00,9,-999.000,9,   43.40,2, -999.00,1,      23.36,2, 20210501,      200,  20.0246, -65.9974,     8.5514,2,     0.0417,1,     4.6773,1,     -999.0,9,     -999.0,9,     -999.0,9
325020210420,        A22,      40,          1,         22,         22,2,20210430,       2358,    20.0246,   -65.9974,       7559,   846.8,   7.2384,  34.9766,2,  34.9764,2,    142.6,2,   143.0,2,   19.52,2,   28.31,2,    0.00,2,    1.78,2,   0.657,2,   0.358,2,   0.2200,2,  2211.1,2, 2310.46,6,  977.770,2,    20.00,   7.62167,2,    25.02,    0.69,2,  -61.64,2,    1.85, -999.00,9,-999.000,9,   41.90,2, -999.00,1,      22.45,2, 20210501,      156,  20.0246, -65.9974,     7.2369,2,     0.0426,1,     4.6795,1,     -999.0,9,     -999.0,9,     -999.0,9
325020210420,        A22,      40,          1,         21,         21,2,20210430,       2358,    20.0246,   -65.9974,       7559,   953.2,   6.6583,  34.9896,2,  34.9894,2,    160.9,2,   161.7,2,   18.73,2,   26.57,2,    0.00,2,    1.67,2,   0.747,2,   0.398,2,   0.2900,2,  2204.7,2, 2312.75,2,  930.440,2,    20.00,   7.64186,2,    25.01,    0.71,2,  -58.39,2,    1.90, -999.00,9,-999.000,9,   42.30,2, -999.00,1,      20.51,2, 20210501,      153,  20.0246, -65.9974,     6.6635,2,     0.0424,1,     4.6804,1,     -999.0,9,     -999.0,9,     -999.0,9
325020210420,        A22,      40,          1,         20,         20,2,20210430,       2358,    20.0246,   -65.9974,       7559,  1054.1,   6.2078,  35.0258,2,  35.0274,2,    185.1,2,   185.0,2,   16.88,2,   23.87,2,    0.00,2,    1.52,2,-999.000,9,-999.000,9,-999.0000,9,  2198.0,2,  2315.2,2,  869.120,2,    20.00,   7.67034,2,    25.01,    0.81,2,  -51.83,2,    1.88, -999.00,9,-999.000,9,   42.10,2, -999.00,1,     -999.0,9, 20210501,      150,  20.0246, -65.9974,     6.2101,2,     0.0430,1,     4.6814,1,     -999.0,9,     -999.0,9,     -999.0,9
325020210420,        A22,      40,          1,         19,         19,2,20210430,       2358,    20.0246,   -65.9974,       7559,  1155.4,   5.5886,  35.0393,2,  35.0398,2,    210.6,2,   210.6,2,   15.12,2,   21.40,2,    0.00,2,    1.37,2,   1.421,2,   0.741,2,   0.6000,2,  2186.6,2, 2311.97,2,  818.350,2,    20.00,   7.69333,2,    24.98,    0.81,2,  -41.51,2,    2.05, -999.00,9,-999.000,9,   42.30,2, -999.00,1,      16.52,2, 20210501,      146,  20.0246, -65.9974,     5.5875,2,     0.0412,1,     4.6825,1,     -999.0,9,     -999.0,9,     -999.0,9
325020210420,        A22,      40,          1,         18,         18,2,20210430,       2358,    20.0246,   -65.9974,       7559,  1256.8,   5.1479,  35.0400,2,  35.0402,2,    229.3,2,   229.4,2,   13.56,2,   19.71,2,    0.00,2,    1.27,2,   1.802,2,   0.927,2,   0.5600,2,  2179.4,2, 2312.48,2,  786.350,2,    20.00,    7.7075,2,    24.99,    0.89,2,  -38.14,2,    1.99, -999.00,9,-999.000,9,   43.60,2, -999.00,1,      14.98,2, 20210501,      143,  20.0246, -65.9974,     5.1471,2,     0.0415,1,     4.6825,1,     -999.0,9,     -999.0,9,     -999.0,9
325020210420,        A22,      40,          1,         17,         17,2,20210430,       2358,    20.0246,   -65.9974,       7559,  1357.9,   4.7432,  35.0251,2,  35.0258,2,    241.8,2,   241.7,2,   12.98,2,   18.89,2,    0.00,2,    1.21,2,-999.000,9,-999.000,9,-999.0000,9,  2173.6,2, 2311.23,2,  776.670,2,    20.00,    7.7152,2,    25.00,    0.88,2,  -30.82,2,    2.50, -999.00,9,-999.000,9,   44.20,2, -999.00,1,     -999.0,9, 20210501,      140,  20.0246, -65.9974,     4.7424,2,     0.0431,1,     4.6831,1,     -999.0,9,     -999.0,9,     -999.0,9
325020210420,        A22,      40,          1,         16,         16,2,20210430,       2358,    20.0246,   -65.9974,       7559,  1489.5,   4.3323,  35.0063,2,  35.0063,2,    251.4,2,   251.4,2,   12.98,2,   18.31,2,    0.00,2,    1.17,2,   1.963,2,   1.006,2,   0.5500,2,  2170.6,2,  2310.9,2,  761.740,2,    20.00,   7.72305,2,    25.01,    1.01,2,  -24.95,2,    2.02, -999.00,9,-999.000,9,   43.90,2, -999.00,1,      13.97,2, 20210501,      137,  20.0246, -65.9974,     4.3323,2,     0.0424,1,     4.6826,1,     -999.0,9,     -999.0,9,     -999.0,9
325020210420,        A22,      40,          1,         15,         15,2,20210430,       2358,    20.0246,   -65.9974,       7559,  1697.3,   3.9022,  34.9842,2,  34.9845,2,    257.6,2,   258.0,2,   14.15,2,   18.14,2,    0.00,2,    1.16,2,   1.701,2,   0.849,2,   0.4000,2,  2169.2,2, 2309.94,2,  750.240,2,    20.00,   7.72949,2,    25.00,    1.08,2,  -34.94,2,    2.08, -999.00,9,-999.000,9,   43.80,2, -999.00,1,      13.41,2, 20210501,      132,  20.0246, -65.9974,     3.9017,2,     0.0411,1,     4.6826,1,     -999.0,9,     -999.0,9,     -999.0,9
325020210420,        A22,      40,          1,         14,         14,2,20210430,       2358,    20.0246,   -65.9974,       7559,  1905.7,   3.5762,  34.9705,2,  34.9713,2,    259.8,2,   260.2,2,   16.10,2,   18.17,2,    0.00,2,    1.17,2,-999.000,9,-999.000,9,-999.0000,9,  2168.2,2, 2310.71,2,  740.170,2,    20.00,   7.73432,2,    24.97,    1.12,2,  -49.97,2,    1.87, -999.00,9,-999.000,9,   42.80,2, -999.00,1,     -999.0,9, 20210501,      127,  20.0246, -65.9974,     3.5755,2,     0.0406,1,     4.6833,1,     -999.0,9,     -999.0,9,     -999.0,9
325020210420,        A22,      40,          1,         13,         13,2,20210430,       2358,    20.0246,   -65.9974,       7559,  2129.0,   3.3029,  34.9577,2,  34.9577,2,    260.8,2,   261.1,2,   18.05,2,   18.26,2,    0.00,2,    1.18,2,   1.070,2,   0.537,2,   0.2900,2,  2170.0,2, 2311.96,2,  737.090,2,    20.00,   7.73636,2,    24.99,    1.13,2,  -56.66,2,    1.96, -999.00,9,-999.000,9,   44.30,2, -999.00,1,      13.27,2, 20210501,      122,  20.0246, -65.9974,     3.3026,2,     0.0429,1,     4.6826,1,     -999.0,9,     -999.0,9,     -999.0,9
325020210420,        A22,      40,          1,         12,         12,2,20210430,       2358,    20.0246,   -65.9974,       7559,  2387.6,   3.0402,  34.9444,2,  34.9447,2,    261.8,2,   261.8,2,   20.59,2,   18.34,2,    0.00,2,    1.19,2,   0.925,2,   0.471,2,   0.0700,2,  2171.0,2, 2315.67,6,  734.370,2,    20.00,   7.73828,2,    24.99,    1.14,2,  -62.65,2,    1.85, -999.00,9,-999.000,9,   43.40,2, -999.00,1,      13.23,2, 20210501,      117,  20.0246, -65.9974,     3.0414,2,     0.0429,1,     4.6825,1,     -999.0,9,     -999.0,9,     -999.0,9
325020210420,        A22,      40,          1,         11,         11,2,20210430,       2358,    20.0246,   -65.9974,       7559,  2647.7,   2.8120,  34.9306,2,  34.9307,2,    263.7,2,   264.1,2,   22.05,2,   18.23,2,    0.00,2,    1.20,2,   0.999,2,   0.507,2,   0.2600,2,  2174.0,6, 2317.02,2,  735.060,2,    20.00,    7.7375,2,    25.00,    1.08,3,  -65.63,2,    1.86, -999.00,9,-999.000,9,   43.10,2, -999.00,1,      13.38,2, 20210501,      111,  20.0246, -65.9974,     2.8120,2,     0.0428,1,     4.6819,1,     -999.0,9,     -999.0,9,     -999.0,9
325020210420,        A22,      40,          1,         10,         10,2,20210430,       2358,    20.0246,   -65.9974,       7559,  2907.5,   2.6220,  34.9189,2,  34.9191,2,    264.6,2,   264.9,2,   24.20,2,   18.31,2,    0.00,2,    1.20,2,-999.000,9,-999.000,9,-999.0000,9,  2175.1,2, 2316.44,2,  737.510,2,    20.00,   7.73712,6,    25.04,    1.13,2,  -66.61,2,    1.84, -999.00,9,-999.000,9,   42.70,2, -999.00,1,     -999.0,9, 20210501,      105,  20.0246, -65.9974,     2.6226,2,     0.0431,1,     4.6818,1,     -999.0,9,     -999.0,9,     -999.0,9
325020210420,        A22,      40,          1,          9,          9,2,20210430,       2358,    20.0246,   -65.9974,       7559,  3183.7,   2.4760,  34.9091,2,  34.9091,2,    265.2,2,   265.7,2,   26.25,2,   18.45,2,    0.00,2,    1.22,2,   0.910,2,   0.465,2,   0.1100,2,  2176.3,2,  2318.5,2,  737.230,2,    20.00,   7.73594,2,    25.00,    1.14,2,  -66.29,2,    1.84, -999.00,9,-999.000,9,   42.50,2, -999.00,1,      13.29,2, 20210501,       59,  20.0246, -65.9974,     2.4759,2,     0.0424,1,     4.6825,1,     -999.0,9,     -999.0,9,     -999.0,9
325020210420,        A22,      40,          1,          8,          8,2,20210430,       2358,    20.0246,   -65.9974,       7559,  3495.1,   2.3594,  34.9005,2,  34.9008,2,    264.3,2,   264.5,2,   29.37,2,   18.86,2,    0.00,2,    1.25,2,   0.703,2,   0.361,2,   0.1800,2,  2179.4,2, 2322.36,2,  735.350,2,    20.00,   7.73713,2,    25.01,    1.12,2,  -71.33,2,    2.00, -999.00,9,-999.000,9,   42.70,2, -999.00,1,      13.33,2, 20210501,       52,  20.0246, -65.9974,     2.3593,2,     0.0429,1,     4.6827,1,     -999.0,9,     -999.0,9,     -999.0,9
325020210420,        A22,      40,          1,          7,          7,2,20210430,       2358,    20.0246,   -65.9974,       7559,  3848.1,   2.2850,  34.8931,2,  34.8945,2,    263.8,2,   264.0,2,   31.52,2,   19.08,2,    0.00,2,    1.27,2,   0.625,2,   0.327,2,   0.0900,2,  2180.8,2, 2324.16,2,  735.620,2,    20.00,    7.7355,2,    24.99,    1.13,2,  -77.29,2,    1.81, -999.00,9,-999.000,9,   42.10,2, -999.00,1,      13.89,2, 20210501,       45,  20.0246, -65.9974,     2.2851,2,     0.0428,1,     4.6815,1,     -999.0,9,     -999.0,9,     -999.0,9
325020210420,        A22,      40,          1,          6,          6,2,20210430,       2358,    20.0246,   -65.9974,       7559,  4268.2,   2.2473,  34.8858,2,  34.8869,2,    263.5,2,   263.6,2,   33.37,2,   19.20,2,    0.00,2,    1.28,2,-999.000,9,-999.000,9,-999.0000,9,  2185.5,2, 2327.92,2,  750.120,2,    20.00,   7.73197,2,    24.99,    1.10,2,  -72.71,2,    1.82, -999.00,9,-999.000,9,   42.60,2, -999.00,1,     -999.0,9, 20210501,       37,  20.0246, -65.9974,     2.2476,2,     0.0429,1,     4.6800,1,     -999.0,9,     -999.0,9,     -999.0,9
325020210420,        A22,      40,          1,          5,          5,2,20210430,       2358,    20.0246,   -65.9974,       7559,  4690.0,   2.2061,  34.8756,2,  34.8757,2,    259.3,2,   259.3,2,   39.33,2,   20.12,2,    0.00,2,    1.35,2,   0.642,2,   0.339,2,   0.1500,2,  2190.2,2, 2333.38,2,  758.960,6,    20.00,   7.72731,2,    24.98,    1.10,2,  -83.79,2,    1.80, -999.00,9,-999.000,9,   43.60,2, -999.00,1,      13.77,2, 20210501,       28,  20.0246, -65.9974,     2.2049,2,     0.0429,1,     4.6764,1,     -999.0,9,     -999.0,9,     -999.0,9
325020210420,        A22,      40,          1,          4,          4,2,20210430,       2358,    20.0246,   -65.9974,       7559,  5111.4,   2.0403,  34.8497,2,  34.8491,2,    250.1,2,   249.8,2,   53.58,2,   22.44,2,    0.00,2,    1.50,2,   0.285,2,   0.165,2,   0.0700,2,  2204.9,2, 2338.77,2,  791.210,2,    20.00,   7.71295,2,    24.98,    1.01,2, -105.10,2,    1.76, -999.00,9,-999.000,9,   42.40,2, -999.00,1,      14.74,2, 20210501,       19,  20.0246, -65.9974,     2.0405,2,     0.0430,1,     4.6744,1,     -999.0,9,     -999.0,9,     -999.0,9
325020210420,        A22,      40,          1,          3,          3,2,20210430,       2358,    20.0246,   -65.9974,       7559,  5528.6,   1.9792,  34.8353,2,  34.8367,2,    245.9,2,   246.0,2,   60.31,2,   23.51,2,    0.00,2,    1.58,2,-999.000,9,-999.000,9,-999.0000,9,  2211.5,2, 2343.32,2,  808.100,2,    20.00,    7.7042,2,    24.97,    0.97,2, -112.36,2,    2.64, -999.00,9,-999.000,9,   41.10,2, -999.00,1,     -999.0,9, 20210501,       11,  20.0246, -65.9974,     1.9793,2,     0.0436,1,     4.6770,1,     -999.0,9,     -999.0,9,     -999.0,9