BOTTLE,20230513CCHSIOCBG
EXPOCODE,SECT_ID,STNNBR,CASTNO,SAMPNO,BTLNBR,BTLNBR_FLAG_W,DATE,TIME,LATITUDE,LONGITUDE,DEPTH,CTDPRS,CTDTMP,CTDSAL,CTDSAL_FLAG_W,SALNTY,SALNTY_FLAG_W,CTDOXY,CTDOXY_FLAG_W,OXYGEN,OXYGEN_FLAG_W,SILCAT,SILCAT_FLAG_W,NITRAT,NITRAT_FLAG_W,NITRIT,NITRIT_FLAG_W,PHSPHT,PHSPHT_FLAG_W,CFC-11,CFC-11_FLAG_W,CFC-12,CFC-12_FLAG_W,SF6,SF6_FLAG_W,TCARBN,TCARBN_FLAG_W,ALKALI,ALKALI_FLAG_W,FCO2,FCO2_FLAG_W,FCO2TMP,PH_TOT,PH_TOT_FLAG_W,PH_TMP,DELC13,DELC13_FLAG_W,DELC14,DELC14_FLAG_W,C14ERR,DELO18,DELO18_FLAG_W,POC,POC_FLAG_W,DOC,DOC_FLAG_W,TDN,TDN_FLAG_W,N2O,N2O_FLAG_W,BTL_DATE,BTL_TIME,BTL_LAT,BTL_LON,REFTMP,REFTMP_FLAG_W,CTDFLUOR,CTDFLUOR_FLAG_W,CTDXMISS,CTDXMISS_FLAG_W,D15N_NO2+NO3,D15N_NO2+NO3_FLAG_W,D18O_NO2+NO3,D18O_NO2+NO3_FLAG_W,HPLC,HPLC_FLAG_W
,,,,,,,,,,,METERS,DBAR,ITS-90,PSS-78,,PSS-78,,UMOL/KG,,UMOL/KG,,UMOL/KG,,UMOL/KG,,UMOL/KG,,UMOL/KG,,PMOL/KG,,PMOL/KG,,FMOL/KG,,UMOL/KG,,UMOL/KG,,UATM,,DEG C,,,DEG C,/MILLE,,/MILLE,,/MILLE,/MILLE,,UG/KG,,UMOL/KG,,UMOL/KG,,NMOL/KG,,,,,,ITS-90,,VOLTS,,VOLTS,,/MILLE,,/MILLE,,,
325020210420,        A22,       3,          1,         23,         23,2,20210422,       1234,    12.7881,   -69.9483,       1012,     3.8,  26.7361,  36.8503,2,  36.8508,2,    200.0,2,   199.5,2,    0.88,2,    0.00,2,    0.00,2,    0.00,2,   1.443,2,   0.977,2,   1.7400,2,  2091.9,6, 2410.93,6,  337.090,2,    20.00,   8.05417,2,    24.99, -999.00,9, -999.00,9, -999.00, -999.00,1,-999.000,9, -999.00,9, -999.00,9,       6.37,2, 20210422,     1323,  12.7881, -69.9483,    26.7376,2,     0.0479,1,     4.6214,1,     -999.0,9,     -999.0,9,     -999.0,9
325020210420,        A22,       3,          1,         22,         22,2,20210422,       1234,    12.7881,   -69.9483,       1012,    35.3,  26.7314,  36.8509,2,  36.8514,2,    199.3,2,   199.2,2,    1.07,2,    0.00,2,    0.00,2,    0.00,2,-999.000,9,-999.000,9,-999.0000,9,  -999.0,9, -999.00,9, -999.000,9,  -999.00,-999.00000,9,  -999.00, -999.00,9, -999.00,9, -999.00, -999.00,9,-999.000,9, -999.00,9, -999.00,9,     -999.0,9, 20210422,     1317,  12.7881, -69.9483,    26.7310,2,     0.0536,1,     4.6250,1,     -999.0,9,     -999.0,9,     -999.0,9
325020210420,        A22,       3,          1,         21,         21,2,20210422,       1234,    12.7881,   -69.9483,       1012,    60.3,  25.0577,  36.9615,2,  36.9187,3,    176.5,3,   172.6,2,    1.56,2,    1.91,2,    0.17,2,    0.09,2,   1.592,2,   1.058,2,   1.5800,2,  2114.9,2, 2411.76,2,  371.620,2,    20.00,   8.01636,6,    24.98, -999.00,9, -999.00,9, -999.00, -999.00,9,-999.000,9, -999.00,9, -999.00,9,       8.11,2, 20210422,     1317,  12.7881, -69.9483,    25.0701,2,     0.1207,1,     4.5985,1,     -999.0,9,     -999.0,9,     -999.0,9
325020210420,        A22,       3,          1,         20,         20,2,20210422,       1234,    12.7881,   -69.9483,       1012,    85.1,  23.5000,  36.9623,2,  36.9636,2,    160.6,2,   160.3,2,    1.76,2,    3.56,2,    0.05,2,    0.17,2,-999.000,9,-999.000,9,-999.0000,9,  2141.1,2, 2415.29,2,  415.030,2,    20.00,   7.97589,2,    24.97, -999.00,9, -999.00,9, -999.00, -999.00,9,-999.000,9, -999.00,9, -999.00,9,     -999.0,9, 20210422,     1315,  12.7881, -69.9483,    23.4938,2,     0.0860,1,     4.6341,1,     -999.0,9,     -999.0,9,     -999.0,9
325020210420,        A22,       3,          1,         19,         19,2,20210422,       1234,    12.7881,   -69.9483,       1012,   110.9,  21.3453,  36.9687,2,  36.9697,2,    160.2,2,   160.4,2,    1.27,2,    3.95,2,    0.01,2,    0.13,2,-999.000,9,-999.000,9,-999.0000,9,  2154.8,2, 2414.38,2,  447.440,2,    20.00,   7.94708,6,    24.98, -999.00,9, -999.00,9, -999.00, -999.00,1,-999.000,9, -999.00,9, -999.00,9,     -999.0,9, 20210422,     1313,  12.7881, -69.9483,    21.3539,2,     0.0472,1,     4.6663,1,     -999.0,9,     -999.0,9,     -999.0,9
325020210420,        A22,       3,          1,         18,         18,2,20210422,       1234,    12.7881,   -69.9483,       1012,   135.6,  19.9999,  36.7366,2,  36.7393,2,    148.1,2,   149.0,2,    2.15,2,    6.94,2,    0.00,2,    0.30,2,   1.898,2,   1.237,2,   1.6300,2,  2163.4,2, 2399.75,2,  495.900,2,    20.00,   7.90488,2,    24.99, -999.00,9, -999.00,9, -999.00, -999.00,9,-999.000,9, -999.00,9, -999.00,9,      11.82,2, 20210422,     1311,  12.7881, -69.9483,    19.9947,2,     0.0410,1,     4.6698,1,     -999.0,9,     -999.0,9,     -999.0,9
325020210420,        A22,       3,          1,         17,         17,2,20210422,       1234,    12.7881,   -69.9483,       1012,   161.4,  18.7723,  36.5515,2,  36.5515,2,    147.0,2,   146.9,2,    2.73,2,    8.91,2,    0.00,2,    0.42,2,-999.000,9,-999.000,9,-999.0000,9,  2167.5,2, 2386.37,2,  528.805,6,    20.00,   7.87913,2,    24.99, -999.00,9, -999.00,9, -999.00, -999.00,9,-999.000,9, -999.00,9, -999.00,9,     -999.0,9, 20210422,     1309,  12.7881, -69.9483,    18.7730,2,     0.0393,1,     4.6729,1,     -999.0,9,     -999.0,9,     -999.0,9
325020210420,        A22,       3,          1,         16,         16,2,20210422,       1234,    12.7881,   -69.9483,       1012,   186.1,  17.9102,  36.4186,2,  36.4164,2,    145.5,2,   145.7,2,    3.32,2,   10.38,2,    0.00,2,    0.52,2,   2.000,2,   1.282,2,   1.3900,2,  2171.4,2, 2379.54,2, -999.000,9,  -999.00,   7.86016,2,    24.98, -999.00,9, -999.00,9, -999.00, -999.00,9,-999.000,9, -999.00,9, -999.00,9,      14.17,2, 20210422,     1308,  12.7881, -69.9483,    17.8998,2,     0.0405,1,     4.6747,1,     -999.0,9,     -999.0,9,     -999.0,9
325020210420,        A22,       3,          1,         15,         15,2,20210422,       1234,    12.7881,   -69.9483,       1012,   211.7,  16.6070,  36.2047,2,  36.2089,2,    141.3,3,   139.6,2,    4.49,2,   12.99,2,    0.00,2,    0.69,2,-999.000,9,-999.000,9,-999.0000,9,  2177.3,2, 2368.99,2,  605.930,2,    20.00,   7.82329,2,    24.97, -999.00,9, -999.00,9, -999.00, -999.00,9,-999.000,9, -999.00,9, -999.00,9,     -999.0,9, 20210422,     1306,  12.7881, -69.9482,    16.6419,2,     0.0405,1,     4.6748,1,     -999.0,9,     -999.0,9,     -999.0,9
325020210420,        A22,       3,          1,         14,         14,2,20210422,       1234,    12.7881,   -69.9483,       1012,   236.7,  15.5012,  36.0183,2,  36.0175,2,    134.5,2,   135.3,2,    5.56,2,   15.32,2,    0.00,2,    0.85,2,   2.071,2,   1.270,2,   1.1400,2,  -999.0,9, -999.00,9, -999.000,9,  -999.00,-999.00000,9,  -999.00, -999.00,9, -999.00,9, -999.00, -999.00,9,-999.000,9, -999.00,9, -999.00,9,      18.13,2, 20210422,     1304,  12.7881, -69.9483,    15.5112,2,     0.0405,1,     4.6740,1,     -999.0,9,     -999.0,9,     -999.0,9
325020210420,        A22,       3,          1,         13,         13,2,20210422,       1234,    12.7881,   -69.9483,       1012,   271.5,  14.4750,  35.8423,2,  35.8388,2,    130.4,2,   129.7,2,    6.83,2,   17.61,2,    0.00,2,    1.01,2,-999.000,9,-999.000,9,-999.0000,9,  2188.9,2, 2348.51,2,  713.100,2,    20.00,   7.75512,2,    24.97, -999.00,9, -999.00,9, -999.00, -999.00,9,-999.000,9, -999.00,9, -999.00,9,     -999.0,9, 20210422,     1301,  12.7881, -69.9482,    14.5188,2,     0.0404,1,     4.6728,1,     -999.0,9,     -999.0,9,     -999.0,9
325020210420,        A22,       3,          1,         12,         12,2,20210422,       1234,    12.7881,   -69.9483,       1012,   316.8,  12.9831,  35.5894,2,  35.5851,2,    126.7,2,   126.0,2,    8.69,2,   20.62,2,    0.00,2,    1.21,2,   1.951,2,   1.173,2,   0.8800,2,  -999.0,9, -999.00,9, -999.000,9,  -999.00,-999.00000,9,  -999.00, -999.00,9, -999.00,9, -999.00, -999.00,9,-999.000,9, -999.00,9, -999.00,9,      22.46,2, 20210422,     1300,  12.7881, -69.9483,    13.0051,2,     0.0411,1,     4.6763,1,     -999.0,9,     -999.0,9,     -999.0,9
325020210420,        A22,       3,          1,         11,         11,2,20210422,       1234,    12.7881,   -69.9483,       1012,   368.1,  11.8467,  35.4057,2,  35.4080,2,    123.1,2,   123.2,2,   10.25,2,   22.98,2,    0.00,2,    1.37,2,-999.000,9,-999.000,9,-999.0000,9,  -999.0,9, -999.00,9, -999.000,9,  -999.00,-999.00000,9,  -999.00, -999.00,9, -999.00,9, -999.00, -999.00,9,-999.000,9, -999.00,9, -999.00,9,     -999.0,9, 20210422,     1258,  12.7881, -69.9483,    11.8212,2,     0.0425,1,     4.6777,1,     -999.0,9,     -999.0,9,     -999.0,9
325020210420,        A22,       3,          1,         10,         10,2,20210422,       1234,    12.7881,   -69.9483,       1012,   418.5,  10.5923,  35.2069,2,  35.1967,2,    119.4,2,   119.3,2,   12.79,2,   25.78,2,    0.00,2,    1.57,2,   1.715,2,   0.970,2,   0.5600,2,  2205.8,2, 2317.98,2,  940.460,2,    20.00,   7.63433,2,    24.98, -999.00,9, -999.00,9, -999.00, -999.00,9,-999.000,9, -999.00,9, -999.00,9,      25.44,2, 20210422,     1256,  12.7881, -69.9483,    10.5912,2,     0.0425,1,     4.6764,1,     -999.0,9,     -999.0,9,     -999.0,9
325020210420,        A22,       3,          1,          9,          9,2,20210422,       1234,    12.7881,   -69.9483,       1012,   468.2,   9.6153,  35.0710,2,  35.0713,2,    118.6,2,   118.3,2,   14.65,2,   27.67,2,    0.00,2,    1.71,2,-999.000,9,-999.000,9,-999.0000,9,  -999.0,9, -999.00,9, -999.000,9,  -999.00,-999.00000,9,  -999.00, -999.00,9, -999.00,9, -999.00, -999.00,9,-999.000,9, -999.00,9, -999.00,9,     -999.0,9, 20210422,     1254,  12.7881, -69.9483,     9.6277,2,     0.0429,1,     4.6776,1,     -999.0,9,     -999.0,9,     -999.0,9
325020210420,        A22,       3,          1,          8,          8,2,20210422,       1234,    12.7881,   -69.9483,       1012,   518.9,   8.9376,  34.9906,2,  34.9852,2,    119.1,2,   119.2,2,   16.41,2,   29.01,2,    0.00,2,    1.80,2,   1.340,2,   0.756,2,   0.3700,2,  2211.8,2, 2309.92,2, 1036.460,2,    20.00,   7.59287,2,    24.99, -999.00,9, -999.00,9, -999.00, -999.00,9,-999.000,9, -999.00,9, -999.00,9,      26.11,2, 20210422,     1252,  12.7881, -69.9483,     8.9387,2,     0.0423,1,     4.6789,1,     -999.0,9,     -999.0,9,     -999.0,9
325020210420,        A22,       3,          1,          7,          7,2,20210422,       1234,    12.7881,   -69.9483,       1012,   569.4,   8.2898,  34.9258,2,  34.9176,2,    120.7,2,   120.7,2,   18.16,2,   30.12,2,    0.00,2,    1.87,2,-999.000,9,-999.000,9,-999.0000,9,  -999.0,9, -999.00,9, -999.000,9,  -999.00,-999.00000,9,  -999.00, -999.00,9, -999.00,9, -999.00, -999.00,9,-999.000,9, -999.00,9, -999.00,9,     -999.0,9, 20210422,     1249,  12.7881, -69.9482,     8.2913,2,     0.0434,1,     4.6813,1,     -999.0,9,     -999.0,9,     -999.0,9
325020210420,        A22,       3,          1,          6,          6,2,20210422,       1234,    12.7881,   -69.9483,       1012,   619.3,   7.6864,  34.8547,2,  34.8542,2,    122.1,2,   122.8,2,   19.92,2,   31.00,2,    0.00,2,    1.96,2,-999.000,9,-999.000,9,-999.0000,9,  -999.0,9, -999.00,9, -999.000,9,  -999.00,-999.00000,9,  -999.00, -999.00,9, -999.00,9, -999.00, -999.00,9,-999.000,9, -999.00,9, -999.00,9,     -999.0,9, 20210422,     1247,  12.7881, -69.9482,     7.6898,2,     0.0424,1,     4.6806,1,     -999.0,9,     -999.0,9,     -999.0,9
325020210420,        A22,       3,          1,          5,          5,2,20210422,       1234,    12.7881,   -69.9483,       1012,   690.7,   6.8285,  34.7951,2,  34.7964,2,    128.2,2,   127.5,2,   22.46,2,   31.93,2,    0.00,2,    2.03,2,   0.632,2,   0.346,2,   0.0500,2,  -999.0,9, -999.00,9, -999.000,9,  -999.00,-999.00000,9,  -999.00, -999.00,9, -999.00,9, -999.00, -999.00,9,-999.000,9, -999.00,9, -999.00,9,      25.01,2, 20210422,     1245,  12.7881, -69.9482,     6.8234,2,     0.0422,1,     4.6823,1,     -999.0,9,     -999.0,9,     -999.0,9
325020210420,        A22,       3,          1,          4,          4,2,20210422,       1234,    12.7881,   -69.9483,       1012,   796.5,   6.1459,  34.8209,2,  34.8226,2,    142.4,2,   142.4,2,   24.22,2,   30.54,2,    0.00,2,    1.97,2,-999.000,9,-999.000,9,-999.0000,9,  2215.5,2, 2310.38,2, 1055.370,2,    20.00,   7.58549,2,    25.00, -999.00,9, -999.00,9, -999.00, -999.00,9,-999.000,9, -999.00,9, -999.00,9,     -999.0,9, 20210422,     1242,  12.7881, -69.9483,     6.1465,2,     0.0428,1,     4.6819,1,     -999.0,9,     -999.0,9,     -999.0,9
325020210420,        A22,       3,          1,          3,          3,2,20210422,       1234,    12.7881,   -69.9483,       1012,   871.8,   5.7130,  34.8714,2,  34.8717,2,    157.6,2,   157.5,2,   24.41,2,   28.57,2,    0.00,2,    1.87,2,   0.263,2,   0.147,2,   0.0000,2,  -999.0,9, -999.00,9, -999.000,9,  -999.00,-999.00000,9,  -999.00, -999.00,9, -999.00,9, -999.00, -999.00,9,-999.000,9, -999.00,9, -999.00,9,      21.00,2, 20210422,     1239,  12.7881, -69.9483,     5.7155,2,     0.0422,1,     4.6831,1,     -999.0,9,     -999.0,9,     -999.0,9
325020210420,        A22,       3,          1,          2,          2,2,20210422,       1234,    12.7881,   -69.9483,       1012,   947.8,   5.3307,  34.9113,2,  34.9109,2,    172.2,2,   172.4,2,   24.41,2,   26.77,2,    0.00,2,    1.75,2,-999.000,9,-999.000,9,-999.0000,9,  -999.0,9, -999.00,9, -999.000,9,  -999.00,-999.00000,9,  -999.00, -999.00,9, -999.00,9, -999.00, -999.00,9,-999.000,9, -999.00,9, -999.00,9,     -999.0,9, 20210422,     1237,  12.7881, -69.9483,     5.3293,2,     0.0416,1,     4.6761,1,     -999.0,9,     -999.0,9,     -999.0,9
325020210420,        A22,       3,          1,          1,          1,2,20210422,       1234,    12.7881,   -69.9483,       1012,  1010.3,   5.1335,  34.9270,2,  34.9264,2,    179.3,2,   179.5,2,   24.32,2,   25.91,2,    0.00,2,    1.71,2,   0.131,2,   0.073,2,   0.0000,2,  2206.3,2, 2320.79,2,  905.440,2,    20.00,   7.64954,6,    24.99, -999.00,9, -999.00,9, -999.00, -999.00,9,-999.000,9, -999.00,9, -999.00,9,      13.34,2, 20210422,     1234,  12.7881, -69.9483,     5.1340,2,     0.0420,1,     4.6605,1,     -999.0,9,     -999.0,9,     -999.0,9