BOTTLE,20230513CCHSIOCBG
EXPOCODE,SECT_ID,STNNBR,CASTNO,SAMPNO,BTLNBR,BTLNBR_FLAG_W,DATE,TIME,LATITUDE,LONGITUDE,DEPTH,CTDPRS,CTDTMP,CTDSAL,CTDSAL_FLAG_W,SALNTY,SALNTY_FLAG_W,CTDOXY,CTDOXY_FLAG_W,OXYGEN,OXYGEN_FLAG_W,SILCAT,SILCAT_FLAG_W,NITRAT,NITRAT_FLAG_W,NITRIT,NITRIT_FLAG_W,PHSPHT,PHSPHT_FLAG_W,CFC-11,CFC-11_FLAG_W,CFC-12,CFC-12_FLAG_W,SF6,SF6_FLAG_W,TCARBN,TCARBN_FLAG_W,ALKALI,ALKALI_FLAG_W,FCO2,FCO2_FLAG_W,FCO2TMP,PH_TOT,PH_TOT_FLAG_W,PH_TMP,DELC13,DELC13_FLAG_W,DELC14,DELC14_FLAG_W,C14ERR,DELO18,DELO18_FLAG_W,POC,POC_FLAG_W,DOC,DOC_FLAG_W,TDN,TDN_FLAG_W,N2O,N2O_FLAG_W,BTL_DATE,BTL_TIME,BTL_LAT,BTL_LON,REFTMP,REFTMP_FLAG_W,CTDFLUOR,CTDFLUOR_FLAG_W,CTDXMISS,CTDXMISS_FLAG_W,D15N_NO2+NO3,D15N_NO2+NO3_FLAG_W,D18O_NO2+NO3,D18O_NO2+NO3_FLAG_W,HPLC,HPLC_FLAG_W
,,,,,,,,,,,METERS,DBAR,ITS-90,PSS-78,,PSS-78,,UMOL/KG,,UMOL/KG,,UMOL/KG,,UMOL/KG,,UMOL/KG,,UMOL/KG,,PMOL/KG,,PMOL/KG,,FMOL/KG,,UMOL/KG,,UMOL/KG,,UATM,,DEG C,,,DEG C,/MILLE,,/MILLE,,/MILLE,/MILLE,,UG/KG,,UMOL/KG,,UMOL/KG,,NMOL/KG,,,,,,ITS-90,,VOLTS,,VOLTS,,/MILLE,,/MILLE,,,
325020210420,        A22,       2,          1,         21,         21,2,20210422,       0908,    12.6772,   -69.9686,        806,     4.8,  26.5746,  36.8692,2,  36.8697,2,    199.5,2,   199.5,2,    0.49,2,    0.00,2,    0.00,2,    0.00,2,   1.470,2,   0.967,2,   1.5900,2,  2092.3,6, 2414.93,2,  331.310,2,    20.00,   8.05875,2,    25.02, -999.00,9, -999.00,9, -999.00, -999.00,1,-999.000,9,   67.70,2,    4.71,2,       6.33,2, 20210422,      948,  12.6772, -69.9686,    26.5738,2,     0.0471,1,     4.6271,1,     -999.0,9,     -999.0,9,     -999.0,9
325020210420,        A22,       2,          1,         20,         20,2,20210422,       0908,    12.6772,   -69.9686,        806,    25.1,  26.5771,  36.8770,2,  36.8758,2,    199.3,2,   199.3,2,    0.39,2,    0.00,2,    0.00,2,    0.00,2,-999.000,9,-999.000,9,-999.0000,9,  2090.9,2, 2413.43,2,  332.420,2,    20.00,   8.05827,6,    24.99, -999.00,9, -999.00,9, -999.00, -999.00,9,-999.000,9,   66.70,2,    4.41,2,     -999.0,9, 20210422,      946,  12.6772, -69.9686,    26.5761,2,     0.0474,1,     4.6267,1,     -999.0,9,     -999.0,9,     -999.0,9
325020210420,        A22,       2,          1,         19,         19,2,20210422,       0908,    12.6772,   -69.9686,        806,    49.5,  26.3487,  36.9926,2,  36.9926,2,    197.4,2,   197.6,2,    0.19,2,    0.00,2,    0.00,2,    0.00,2,-999.000,9,-999.000,9,-999.0000,9,  2099.3,2, -999.00,9, -999.000,9,  -999.00,   8.05103,2,    24.95, -999.00,9, -999.00,9, -999.00, -999.00,9,-999.000,9,   65.70,2,    3.93,2,     -999.0,9, 20210422,      944,  12.6772, -69.9686,    26.3522,2,     0.0576,1,     4.6147,1,     -999.0,9,     -999.0,9,     -999.0,9
325020210420,        A22,       2,          1,         18,         18,2,20210422,       0908,    12.6772,   -69.9686,        806,    75.2,  23.9603,  37.1719,2,  37.1843,2,    167.0,3,   171.2,2,    0.58,2,    1.57,2,    0.10,2,    0.03,2,-999.000,9,-999.000,9,-999.0000,9,  2138.1,2,  2428.9,6,  384.580,2,    20.00,   8.00681,2,    24.95, -999.00,9, -999.00,9, -999.00, -999.00,9,-999.000,9,   59.90,2,    5.09,2,     -999.0,9, 20210422,      942,  12.6772, -69.9686,    23.9795,2,     0.1028,1,     4.6218,1,     -999.0,9,     -999.0,9,     -999.0,9
325020210420,        A22,       2,          1,         17,         17,2,20210422,       0908,    12.6772,   -69.9686,        806,   100.2,  21.2691,  36.8454,2,  36.8488,2,    145.8,2,   144.8,2,    1.85,2,    6.23,2,    0.05,2,    0.27,2,-999.000,9,-999.000,9,-999.0000,9,  2161.3,2, 2403.75,2,  477.300,2,    20.00,   7.92185,2,    25.01, -999.00,9, -999.00,9, -999.00, -999.00,1,-999.000,9,   53.50,2,    9.39,2,     -999.0,9, 20210422,      940,  12.6772, -69.9686,    21.3730,2,     0.0551,1,     4.6265,1,     -999.0,9,     -999.0,9,     -999.0,9
325020210420,        A22,       2,          1,         16,         16,2,20210422,       0908,    12.6772,   -69.9686,        806,   125.8,  19.9474,  36.7126,2,  36.7000,2,    145.6,2,   145.4,2,    2.14,2,    7.56,2,    0.02,2,    0.34,2,-999.000,9,-999.000,9,-999.0000,9,  2167.5,2,  2394.2,2,  504.890,2,    20.00,   7.89808,2,    24.98, -999.00,9, -999.00,9, -999.00, -999.00,9,-999.000,9,   51.40,2,   10.23,2,     -999.0,9, 20210422,      939,  12.6772, -69.9686,    19.9974,2,     0.0441,1,     4.6589,1,     -999.0,9,     -999.0,9,     -999.0,9
325020210420,        A22,       2,          1,         15,         15,2,20210422,       0908,    12.6772,   -69.9686,        806,   150.6,  18.8687,  36.5687,2,  36.5789,2,    145.3,2,   145.3,2,    2.53,2,    8.75,2,    0.01,2,    0.41,2,-999.000,9,-999.000,9,-999.0000,9,  2165.8,2, -999.00,9, -999.000,9,  -999.00,   7.88292,2,    24.98, -999.00,9, -999.00,9, -999.00, -999.00,9,-999.000,9,   50.70,2,   10.74,2,     -999.0,9, 20210422,      937,  12.6772, -69.9686,    18.9033,2,     0.0407,1,     4.6617,1,     -999.0,9,     -999.0,9,     -999.0,9
325020210420,        A22,       2,          1,         14,         14,2,20210422,       0908,    12.6772,   -69.9686,        806,   176.2,  17.8527,  36.4143,2,  36.4148,2,    144.9,2,   145.6,2,    3.12,2,   10.42,2,    0.00,2,    0.52,2,-999.000,9,-999.000,9,-999.0000,9,  2172.2,2, 2380.06,2,  552.900,2,    20.00,    7.8596,2,    24.97, -999.00,9, -999.00,9, -999.00, -999.00,9,-999.000,9,   50.50,2,   12.70,2,     -999.0,9, 20210422,      936,  12.6772, -69.9686,    17.8528,2,     0.0404,1,     4.6695,1,     -999.0,9,     -999.0,9,     -999.0,9
325020210420,        A22,       2,          1,         13,         13,2,20210422,       0908,    12.6772,   -69.9686,        806,   201.0,  16.5424,  36.2140,2,  36.2133,2,    147.2,2,   148.0,2,    3.80,2,   12.19,2,    0.00,2,    0.64,2,   2.111,2,   1.309,2,   1.2600,2,  2170.6,2, -999.00,9,  584.680,2,    20.00,   7.83785,2,    24.98, -999.00,9, -999.00,9, -999.00, -999.00,9,-999.000,9,   48.20,2,   14.24,2,      15.40,2, 20210422,      934,  12.6772, -69.9686,    16.5412,2,     0.0407,1,     4.6739,1,     -999.0,9,     -999.0,9,     -999.0,9
325020210420,        A22,       2,          1,         12,         12,2,20210422,       0908,    12.6772,   -69.9686,        806,   226.5,  15.9563,  36.1054,2,  36.0859,2,    140.4,2,   141.0,2,    4.58,2,   14.03,2,    0.00,2,    0.78,2,-999.000,9,-999.000,9,-999.0000,9,  -999.0,9, -999.00,9,  623.700,6,    20.00,-999.00000,9,  -999.00, -999.00,9, -999.00,9, -999.00, -999.00,9,-999.000,9, -999.00,9, -999.00,9,     -999.0,9, 20210422,      932,  12.6772, -69.9686,    15.9424,2,     0.0405,1,     4.6761,1,     -999.0,9,     -999.0,9,     -999.0,9
325020210420,        A22,       2,          1,         11,         11,2,20210422,       0908,    12.6772,   -69.9686,        806,   256.3,  14.5362,  35.8641,2,  35.8661,2,    134.3,2,   133.8,2,    6.14,2,   16.88,2,    0.00,2,    0.97,2,-999.000,9,-999.000,9,-999.0000,9,  -999.0,9, -999.00,9, -999.000,9,  -999.00,-999.00000,9,  -999.00, -999.00,9, -999.00,9, -999.00, -999.00,9,-999.000,9, -999.00,9, -999.00,9,     -999.0,9, 20210422,      931,  12.6772, -69.9686,    14.5567,2,     0.0410,1,     4.6767,1,     -999.0,9,     -999.0,9,     -999.0,9
325020210420,        A22,       2,          1,         10,         10,2,20210422,       0908,    12.6772,   -69.9686,        806,   301.1,  12.8507,  35.5733,2,  35.5788,2,    126.1,2,   125.9,2,    8.48,2,   20.69,2,    0.00,2,    1.22,2,   1.975,2,   1.168,2,   0.8700,2,  2194.9,2, -999.00,9,  794.820,2,    20.00,   7.71051,2,    24.94, -999.00,9, -999.00,9, -999.00, -999.00,9,-999.000,9,   45.50,2, -999.00,1,      22.46,2, 20210422,      929,  12.6772, -69.9686,    12.8599,2,     0.0411,1,     4.6764,1,     -999.0,9,     -999.0,9,     -999.0,9
325020210420,        A22,       2,          1,          9,          9,2,20210422,       0908,    12.6772,   -69.9686,        806,   352.0,  11.6153,  35.3696,2,  35.3877,2,    122.5,2,   122.1,2,   10.53,2,   23.12,2,    0.00,2,    1.40,2,-999.000,9,-999.000,9,-999.0000,9,  -999.0,9, -999.00,9, -999.000,9,  -999.00,-999.00000,9,  -999.00, -999.00,9, -999.00,9, -999.00, -999.00,9,-999.000,9, -999.00,9, -999.00,9,     -999.0,9, 20210422,      927,  12.6772, -69.9686,    11.6304,2,     0.0410,1,     4.6763,1,     -999.0,9,     -999.0,9,     -999.0,9
325020210420,        A22,       2,          1,          8,          8,2,20210422,       0908,    12.6772,   -69.9686,        806,   402.9,  10.9310,  35.2689,2,  35.2481,3,    120.0,2,   120.3,2,   12.09,2,   25.11,2,    0.00,2,    1.54,2,-999.000,9,-999.000,9,-999.0000,9,  2203.1,2, -999.00,9, -999.000,9,  -999.00,   7.64584,2,    24.98, -999.00,9, -999.00,9, -999.00, -999.00,9,-999.000,9,   44.40,2, -999.00,1,     -999.0,9, 20210422,      924,  12.6772, -69.9686,    10.9235,2,     0.0419,1,     4.6759,1,     -999.0,9,     -999.0,9,     -999.0,9
325020210420,        A22,       2,          1,          7,          7,2,20210422,       0908,    12.6772,   -69.9686,        806,   452.8,   9.9895,  35.1359,2,  35.1291,2,    119.3,2,   119.2,2,   13.85,2,   26.78,2,    0.00,2,    1.69,2,   1.573,2,   0.891,2,   0.5800,2,  2207.6,2, 2316.95,2,  975.020,2,    20.00,   7.62163,6,    24.98, -999.00,9, -999.00,9, -999.00, -999.00,9,-999.000,9,   43.20,2, -999.00,1,      25.65,2, 20210422,      923,  12.6772, -69.9686,     9.9882,2,     0.0426,1,     4.6776,1,     -999.0,9,     -999.0,9,     -999.0,9
325020210420,        A22,       2,          1,          6,          6,2,20210422,       0908,    12.6772,   -69.9686,        806,   503.2,   9.1204,  35.0166,2,  35.0142,2,    118.8,2,   118.8,2,   15.90,2,   28.43,2,    0.00,2,    1.80,2,-999.000,9,-999.000,9,-999.0000,9,  -999.0,9, -999.00,9, -999.000,9,  -999.00,-999.00000,9,  -999.00, -999.00,9, -999.00,9, -999.00, -999.00,9,-999.000,9, -999.00,9, -999.00,9,     -999.0,9, 20210422,      921,  12.6772, -69.9686,     9.1199,2,     0.0430,1,     4.6765,1,     -999.0,9,     -999.0,9,     -999.0,9
325020210420,        A22,       2,          1,          5,          5,2,20210422,       0908,    12.6772,   -69.9686,        806,   554.0,   8.5020,  34.9388,2,  34.9362,2,    119.1,2,   119.7,2,   17.46,2,   29.57,2,    0.00,2,    1.88,2,-999.000,9,-999.000,9,-999.0000,9,  -999.0,9, -999.00,9, -999.000,9,  -999.00,-999.00000,9,  -999.00, -999.00,9, -999.00,9, -999.00, -999.00,9,-999.000,9, -999.00,9, -999.00,9,     -999.0,9, 20210422,      919,  12.6772, -69.9686,     8.4847,2,     0.0429,1,     4.6731,1,     -999.0,9,     -999.0,9,     -999.0,9
325020210420,        A22,       2,          1,          4,          4,2,20210422,       0908,    12.6772,   -69.9686,        806,   603.9,   7.8272,  34.8647,2,  34.8595,2,    120.9,2,   121.3,2,   19.31,2,   30.70,2,    0.00,2,    1.98,2,-999.000,9,-999.000,9,-999.0000,9,  -999.0,9, -999.00,9, -999.000,9,  -999.00,-999.00000,9,  -999.00, -999.00,9, -999.00,9, -999.00, -999.00,9,-999.000,9, -999.00,9, -999.00,9,     -999.0,9, 20210422,      916,  12.6772, -69.9687,     7.8289,2,     0.0430,1,     4.6747,1,     -999.0,9,     -999.0,9,     -999.0,9
325020210420,        A22,       2,          1,          3,          3,2,20210422,       0908,    12.6772,   -69.9686,        806,   654.9,   7.2454,  34.8195,2,  34.8200,2,    124.0,2,   123.9,2,   20.97,2,   31.28,2,    0.00,2,    2.03,2,   0.812,2,   0.445,2,   0.1500,2,  2218.2,2, -999.00,9, -999.000,9,  -999.00,   7.56494,2,    25.03, -999.00,9, -999.00,9, -999.00, -999.00,9,-999.000,9,   40.60,2, -999.00,1,      25.39,2, 20210422,      914,  12.6772, -69.9686,     7.2536,2,     0.0430,1,     4.6673,1,     -999.0,9,     -999.0,9,     -999.0,9
325020210420,        A22,       2,          1,          2,          2,2,20210422,       0908,    12.6772,   -69.9686,        806,   705.4,   6.6867,  34.7892,2,  34.7883,2,    129.0,2,   129.1,2,   22.63,2,   31.51,2,    0.00,2,    2.06,2,   0.596,2,   0.326,2,   0.0300,2,  2218.4,2, 2305.33,2, 1109.940,2,    20.00,    7.5641,6,    25.09, -999.00,9, -999.00,9, -999.00, -999.00,9,-999.000,9,   44.10,3, -999.00,1,      24.96,2, 20210422,      911,  12.6772, -69.9686,     6.6820,2,     0.0417,1,     4.6688,1,     -999.0,9,     -999.0,9,     -999.0,9
325020210420,        A22,       2,          1,          1,          1,2,20210422,       0908,    12.6772,   -69.9686,        806,   801.9,   5.9983,  34.8311,2,  34.8283,2,    145.5,2,   145.3,2,   23.99,2,   29.94,2,    0.00,2,    1.97,2,   0.332,2,   0.182,2,   0.0000,2,  2214.9,6, 2319.81,2, 1042.090,2,    20.00,   7.58969,2,    25.02, -999.00,9, -999.00,9, -999.00, -999.00,9,-999.000,9,   41.40,2, -999.00,1,      22.62,2, 20210422,      908,  12.6772, -69.9686,     6.0010,2,     0.0428,1,     4.6653,1,     -999.0,9,     -999.0,9,     -999.0,9