BOTTLE,20230513CCHSIOCBG
EXPOCODE,SECT_ID,STNNBR,CASTNO,SAMPNO,BTLNBR,BTLNBR_FLAG_W,DATE,TIME,LATITUDE,LONGITUDE,DEPTH,CTDPRS,CTDTMP,CTDSAL,CTDSAL_FLAG_W,SALNTY,SALNTY_FLAG_W,CTDOXY,CTDOXY_FLAG_W,OXYGEN,OXYGEN_FLAG_W,SILCAT,SILCAT_FLAG_W,NITRAT,NITRAT_FLAG_W,NITRIT,NITRIT_FLAG_W,PHSPHT,PHSPHT_FLAG_W,CFC-11,CFC-11_FLAG_W,CFC-12,CFC-12_FLAG_W,SF6,SF6_FLAG_W,TCARBN,TCARBN_FLAG_W,ALKALI,ALKALI_FLAG_W,FCO2,FCO2_FLAG_W,FCO2TMP,PH_TOT,PH_TOT_FLAG_W,PH_TMP,DELC13,DELC13_FLAG_W,DELC14,DELC14_FLAG_W,C14ERR,DELO18,DELO18_FLAG_W,POC,POC_FLAG_W,DOC,DOC_FLAG_W,TDN,TDN_FLAG_W,N2O,N2O_FLAG_W,BTL_DATE,BTL_TIME,BTL_LAT,BTL_LON,REFTMP,REFTMP_FLAG_W,CTDFLUOR,CTDFLUOR_FLAG_W,CTDXMISS,CTDXMISS_FLAG_W,D15N_NO2+NO3,D15N_NO2+NO3_FLAG_W,D18O_NO2+NO3,D18O_NO2+NO3_FLAG_W,HPLC,HPLC_FLAG_W
,,,,,,,,,,,METERS,DBAR,ITS-90,PSS-78,,PSS-78,,UMOL/KG,,UMOL/KG,,UMOL/KG,,UMOL/KG,,UMOL/KG,,UMOL/KG,,PMOL/KG,,PMOL/KG,,FMOL/KG,,UMOL/KG,,UMOL/KG,,UATM,,DEG C,,,DEG C,/MILLE,,/MILLE,,/MILLE,/MILLE,,UG/KG,,UMOL/KG,,UMOL/KG,,NMOL/KG,,,,,,ITS-90,,VOLTS,,VOLTS,,/MILLE,,/MILLE,,,
325020210420,        A22,      27,          1,         27,         27,2,20210427,       2309,    17.9367,   -65.9973,        423,     5.1,  27.4828,  35.9470,2,-999.0000,5,    201.9,2,   201.4,2,    1.36,2,    0.00,2,    0.00,2,    0.00,2,   1.432,2,   0.938,2,   1.6200,2,  2022.5,2, 2353.41,2, -999.000,1,  -999.00,   8.09675,2,    24.99, -999.00,9, -999.00,9, -999.00, -999.00,1,-999.000,9, -999.00,9, -999.00,9,       5.76,2, 20210427,     2339,  17.9367, -65.9973,    27.4834,2,     0.0439,1,     4.6155,1,     -999.0,9,     -999.0,9,     -999.0,9
325020210420,        A22,      27,          1,         25,         25,2,20210427,       2309,    17.9367,   -65.9973,        423,    34.5,  27.3115,  35.9445,2,  35.9410,2,    202.0,2,   201.4,2,    1.36,2,    0.00,2,    0.00,2,    0.00,2,-999.000,9,-999.000,9,-999.0000,9,  2019.6,2, 2352.49,2, -999.000,9,  -999.00,   8.09616,6,    25.01, -999.00,9, -999.00,9, -999.00, -999.00,9,-999.000,9, -999.00,9, -999.00,9,     -999.0,9, 20210427,     2336,  17.9367, -65.9973,    27.3131,2,     0.0468,1,     4.6033,1,     -999.0,9,     -999.0,9,     -999.0,9
325020210420,        A22,      27,          1,         23,         23,2,20210427,       2309,    17.9367,   -65.9973,        423,    60.6,  26.3810,  36.7023,2,  36.7020,2,    201.1,2,   201.1,2,    0.88,2,    0.00,2,    0.00,2,    0.00,2,-999.000,9,-999.000,9,-999.0000,9,  -999.0,9, -999.00,9, -999.000,9,  -999.00,-999.00000,9,  -999.00, -999.00,9, -999.00,9, -999.00, -999.00,9,-999.000,9, -999.00,9, -999.00,9,     -999.0,9, 20210427,     2334,  17.9367, -65.9973,    26.3855,2,     0.0588,1,     4.6163,1,     -999.0,9,     -999.0,9,     -999.0,9
325020210420,        A22,      27,          1,         21,         21,2,20210427,       2309,    17.9367,   -65.9973,        423,    85.4,  26.1593,  36.8271,2,  36.8316,2,    199.7,2,   200.3,2,    0.78,2,    0.00,2,    0.00,2,    0.00,2,   1.506,2,   0.983,2,   1.6100,2,  -999.0,9, -999.00,9, -999.000,9,  -999.00,-999.00000,9,  -999.00, -999.00,9, -999.00,9, -999.00, -999.00,1,-999.000,9, -999.00,9, -999.00,9,       6.14,2, 20210427,     2331,  17.9367, -65.9973,    26.1583,2,     0.0695,1,     4.6200,1,     -999.0,9,     -999.0,9,     -999.0,9
325020210420,        A22,      27,          1,         19,         19,2,20210427,       2309,    17.9367,   -65.9973,        423,   110.5,  25.6879,  36.9985,2,  37.0015,2,    199.4,2,   200.3,2,    0.58,2,    0.00,2,    0.00,2,    0.00,2,-999.000,9,-999.000,9,-999.0000,9,  2082.9,2, 2417.74,6, -999.000,9,  -999.00,   8.07844,2,    24.97, -999.00,9, -999.00,9, -999.00, -999.00,9,-999.000,9, -999.00,9, -999.00,9,     -999.0,9, 20210427,     2330,  17.9367, -65.9973,    25.6851,2,     0.0773,1,     4.6349,1,     -999.0,9,     -999.0,9,     -999.0,9
325020210420,        A22,      27,          1,         17,         17,2,20210427,       2309,    17.9367,   -65.9973,        423,   135.8,  23.7171,  37.1804,2,  37.1797,2,    189.0,2,   187.6,2,    0.39,2,    0.43,2,    0.08,2,    0.00,2,-999.000,9,-999.000,9,-999.0000,9,  -999.0,9, -999.00,9, -999.000,9,  -999.00,-999.00000,9,  -999.00, -999.00,9, -999.00,9, -999.00, -999.00,9,-999.000,9, -999.00,9, -999.00,9,     -999.0,9, 20210427,     2328,  17.9367, -65.9973,    23.7031,2,     0.0608,1,     4.6550,1,     -999.0,9,     -999.0,9,     -999.0,9
325020210420,        A22,      27,          1,         15,         15,2,20210427,       2309,    17.9367,   -65.9973,        423,   160.8,  21.5636,  37.0131,2,  37.0053,2,    176.4,2,   177.6,2,    0.58,2,    1.66,2,    0.01,2,    0.02,2,   1.797,2,   1.171,2,   1.6700,2,  2140.1,2, 2413.46,2, -999.000,1,  -999.00,   7.97998,2,    25.01, -999.00,9, -999.00,9, -999.00, -999.00,9,-999.000,9, -999.00,9, -999.00,9,       7.89,2, 20210427,     2326,  17.9367, -65.9973,    21.5587,2,     0.0471,1,     4.6626,1,     -999.0,9,     -999.0,9,     -999.0,9
325020210420,        A22,      27,          1,         13,         13,2,20210427,       2309,    17.9367,   -65.9973,        423,   185.8,  20.1078,  36.8190,2,  36.8177,2,    175.8,2,   175.8,2,    0.97,2,    3.25,2,    0.00,2,    0.09,2,-999.000,9,-999.000,9,-999.0000,9,  -999.0,9, -999.00,9, -999.000,9,  -999.00,-999.00000,9,  -999.00, -999.00,9, -999.00,9, -999.00, -999.00,9,-999.000,9, -999.00,9, -999.00,9,     -999.0,9, 20210427,     2324,  17.9367, -65.9973,    20.1058,2,     0.0428,1,     4.6679,1,     -999.0,9,     -999.0,9,     -999.0,9
325020210420,        A22,      27,          1,         11,         11,2,20210427,       2309,    17.9367,   -65.9973,        423,   211.2,  19.5084,  36.7242,2,  36.7282,2,    179.8,2,   179.9,2,    1.07,2,    3.60,2,    0.00,2,    0.11,2,-999.000,9,-999.000,9,-999.0000,9,  2139.6,2, 2397.16,2, -999.000,9,  -999.00,   7.95345,2,    25.00, -999.00,9, -999.00,9, -999.00, -999.00,9,-999.000,9, -999.00,9, -999.00,9,     -999.0,9, 20210427,     2322,  17.9367, -65.9973,    19.5047,2,     0.0408,1,     4.6698,1,     -999.0,9,     -999.0,9,     -999.0,9
325020210420,        A22,      27,          1,          9,          9,2,20210427,       2309,    17.9367,   -65.9973,        423,   236.0,  19.3220,  36.7053,2,  36.7034,2,    177.7,2,   177.0,2,    1.17,2,    4.37,2,    0.00,2,    0.16,2,   1.962,2,   1.260,2,   1.6700,2,  -999.0,9, -999.00,9, -999.000,9,  -999.00,-999.00000,9,  -999.00, -999.00,9, -999.00,9, -999.00, -999.00,9,-999.000,9, -999.00,9, -999.00,9,       9.47,2, 20210427,     2320,  17.9367, -65.9973,    19.3345,2,     0.0393,1,     4.6697,1,     -999.0,9,     -999.0,9,     -999.0,9
325020210420,        A22,      27,          1,          7,          7,2,20210427,       2309,    17.9367,   -65.9973,        423,   271.9,  18.0458,  36.5047,2,  36.5052,2,    175.6,2,   175.4,2,    1.85,2,    6.72,2,    0.00,2,    0.31,2,-999.000,9,-999.000,9,-999.0000,9,  -999.0,9, -999.00,9, -999.000,9,  -999.00,-999.00000,9,  -999.00, -999.00,9, -999.00,9, -999.00, -999.00,9,-999.000,9, -999.00,9, -999.00,9,     -999.0,9, 20210427,     2317,  17.9367, -65.9973,    18.0257,2,     0.0398,1,     4.6691,1,     -999.0,9,     -999.0,9,     -999.0,9
325020210420,        A22,      27,          1,          5,          5,2,20210427,       2309,    17.9367,   -65.9973,        423,   322.3,  16.9341,  36.3212,2,  36.3150,2,    160.8,2,   161.1,2,    2.92,2,   10.04,2,    0.00,2,    0.53,2,   2.130,2,   1.329,2,   1.4400,2,  2159.5,2, 2372.62,2, -999.000,9,  -999.00,   7.86908,2,    25.00, -999.00,9, -999.00,9, -999.00, -999.00,9,-999.000,9, -999.00,9, -999.00,9,      13.65,2, 20210427,     2315,  17.9367, -65.9973,    16.9545,2,     0.0392,1,     4.6685,1,     -999.0,9,     -999.0,9,     -999.0,9
325020210420,        A22,      27,          1,          3,          3,2,20210427,       2309,    17.9367,   -65.9973,        423,   372.7,  15.6181,  36.1078,2,  36.1173,2,    154.1,2,   153.6,2,    4.09,2,   12.72,2,    0.00,2,    0.70,2,-999.000,9,-999.000,9,-999.0000,9,  -999.0,9, -999.00,9, -999.000,9,  -999.00,-999.00000,9,  -999.00, -999.00,9, -999.00,9, -999.00, -999.00,9,-999.000,9, -999.00,9, -999.00,9,     -999.0,9, 20210427,     2312,  17.9367, -65.9973,    15.6336,2,     0.0404,1,     4.6688,1,     -999.0,9,     -999.0,9,     -999.0,9
325020210420,        A22,      27,          1,          1,          1,2,20210427,       2309,    17.9367,   -65.9973,        423,   416.9,  15.0243,  36.0104,2,  36.0141,2,    149.1,2,   149.6,2,    4.78,2,   14.21,2,    0.00,2,    0.80,2,   2.131,2,   1.300,2,   1.1300,2,  2172.5,2, 2353.44,2,  620.830,2,    20.00,   7.80944,2,    25.00, -999.00,9, -999.00,9, -999.00, -999.00,9,-999.000,9, -999.00,9, -999.00,9,      16.86,2, 20210427,     2309,  17.9367, -65.9973,    15.0214,2,     0.0403,1,     4.6691,1,     -999.0,9,     -999.0,9,     -999.0,9