BOTTLE,20230513CCHSIOCBG
EXPOCODE,SECT_ID,STNNBR,CASTNO,SAMPNO,BTLNBR,BTLNBR_FLAG_W,DATE,TIME,LATITUDE,LONGITUDE,DEPTH,CTDPRS,CTDTMP,CTDSAL,CTDSAL_FLAG_W,SALNTY,SALNTY_FLAG_W,CTDOXY,CTDOXY_FLAG_W,OXYGEN,OXYGEN_FLAG_W,SILCAT,SILCAT_FLAG_W,NITRAT,NITRAT_FLAG_W,NITRIT,NITRIT_FLAG_W,PHSPHT,PHSPHT_FLAG_W,CFC-11,CFC-11_FLAG_W,CFC-12,CFC-12_FLAG_W,SF6,SF6_FLAG_W,TCARBN,TCARBN_FLAG_W,ALKALI,ALKALI_FLAG_W,FCO2,FCO2_FLAG_W,FCO2TMP,PH_TOT,PH_TOT_FLAG_W,PH_TMP,DELC13,DELC13_FLAG_W,DELC14,DELC14_FLAG_W,C14ERR,DELO18,DELO18_FLAG_W,POC,POC_FLAG_W,DOC,DOC_FLAG_W,TDN,TDN_FLAG_W,N2O,N2O_FLAG_W,BTL_DATE,BTL_TIME,BTL_LAT,BTL_LON,REFTMP,REFTMP_FLAG_W,CTDFLUOR,CTDFLUOR_FLAG_W,CTDXMISS,CTDXMISS_FLAG_W,D15N_NO2+NO3,D15N_NO2+NO3_FLAG_W,D18O_NO2+NO3,D18O_NO2+NO3_FLAG_W,HPLC,HPLC_FLAG_W
,,,,,,,,,,,METERS,DBAR,ITS-90,PSS-78,,PSS-78,,UMOL/KG,,UMOL/KG,,UMOL/KG,,UMOL/KG,,UMOL/KG,,UMOL/KG,,PMOL/KG,,PMOL/KG,,FMOL/KG,,UMOL/KG,,UMOL/KG,,UATM,,DEG C,,,DEG C,/MILLE,,/MILLE,,/MILLE,/MILLE,,UG/KG,,UMOL/KG,,UMOL/KG,,NMOL/KG,,,,,,ITS-90,,VOLTS,,VOLTS,,/MILLE,,/MILLE,,,
325020210420,        A22,      50,          1,         36,         36,2,20210504,       0022,    24.8227,   -65.7306,       5662,     5.4,  26.2480,  36.8526,2,  36.8554,2,    204.9,2,   204.5,2,    1.07,2,    0.00,2,    0.00,2,    0.00,2,   1.552,2,   0.995,2,   1.6600,2,  2066.2,2, 2411.72,2,  297.160,2,    20.00,   8.09456,2,    25.05,    0.87,2,   25.61,2,    2.07, -999.00,1,-999.000,9,   82.30,2,    4.23,2,       5.99,2, 20210504,      255,  24.8227, -65.7306,    26.2445,2,     0.0422,1,     4.6270,1,     -999.0,1,     -999.0,1,     -999.0,9
325020210420,        A22,      50,          1,         35,         35,2,20210504,       0022,    24.8227,   -65.7306,       5662,    25.2,  25.6796,  36.8219,2,  36.8240,2,    206.5,2,   206.4,2,    0.78,2,    0.00,2,    0.00,2,    0.00,2,-999.000,9,-999.000,9,-999.0000,9,  2065.9,2, 2409.62,2,  297.170,2,    20.00,   8.09475,6,    25.02, -999.00,9, -999.00,9, -999.00, -999.00,9,-999.000,9,   80.90,2,    4.58,2,     -999.0,9, 20210504,      254,  24.8227, -65.7306,    25.6747,2,     0.0412,1,     4.6294,1,     -999.0,1,     -999.0,1,     -999.0,9
325020210420,        A22,      50,          1,         34,         34,2,20210504,       0022,    24.8227,   -65.7306,       5662,    50.6,  24.7596,  36.8386,2,  36.8409,2,    210.8,2,   210.3,2,    0.88,2,    0.00,2,    0.00,2,    0.00,2,   1.599,2,   1.023,2,   1.7600,2,  2066.6,2,  2409.7,6,  298.530,2,    20.00,   8.09339,2,    25.00, -999.00,9, -999.00,9, -999.00, -999.00,9,-999.000,9,   76.60,2,    4.04,2,       6.11,2, 20210504,      252,  24.8227, -65.7306,    24.7571,2,     0.0419,1,     4.6272,1,     -999.0,1,     -999.0,1,     -999.0,9
325020210420,        A22,      50,          1,         33,         33,2,20210504,       0022,    24.8227,   -65.7306,       5662,    75.8,  24.5177,  36.8641,2,  36.8645,2,    211.1,2,   210.9,2,    0.78,2,    0.00,2,    0.00,2,    0.00,2,-999.000,9,-999.000,9,-999.0000,9,  2069.1,2, 2411.15,2,  300.490,2,    20.00,   8.09127,2,    24.98, -999.00,9, -999.00,9, -999.00, -999.00,9,-999.000,9,   78.00,2,    4.18,2,     -999.0,9, 20210504,      250,  24.8227, -65.7306,    24.5164,2,     0.0474,1,     4.6259,1,     -999.0,1,     -999.0,1,     -999.0,9
325020210420,        A22,      50,          1,         32,         32,2,20210504,       0022,    24.8227,   -65.7306,       5662,   101.0,  24.1305,  36.9447,2,  36.9465,2,    210.9,2,   211.0,2,    0.58,2,    0.00,2,    0.00,2,    0.00,2,   1.640,2,   1.049,2,   1.7700,2,  2076.3,2, 2415.45,2,  307.900,2,    20.00,   8.08357,2,    24.96, -999.00,9, -999.00,9, -999.00, -999.00,9,-999.000,9,   70.20,2,    3.74,2,       6.31,2, 20210504,      247,  24.8227, -65.7306,    24.1291,2,     0.0508,1,     4.6291,1,     -999.0,1,     -999.0,1,     -999.0,9
325020210420,        A22,      50,          1,         31,         31,2,20210504,       0022,    24.8227,   -65.7306,       5662,   150.6,  22.7871,  36.9713,2,  36.9703,2,    210.6,2,   210.6,2,    0.29,2,    0.00,2,    0.00,2,    0.00,2,-999.000,9,-999.000,9,-999.0000,9,  2093.7,2, 2414.84,2,  330.480,2,    20.00,   8.05891,2,    24.98,    0.69,2,   39.01,2,    2.21, -999.00,1,-999.000,9,   69.90,2,    4.04,2,     -999.0,9, 20210504,      245,  24.8227, -65.7306,    22.7839,2,     0.0680,1,     4.6419,1,     -999.0,1,     -999.0,1,     -999.0,9
325020210420,        A22,      50,          1,         30,         30,2,20210504,       0022,    24.8227,   -65.7306,       5662,   201.5,  21.9128,  36.9103,2,  36.9125,2,    211.5,2,   211.9,2,    0.39,2,    0.00,2,    0.00,2,    0.00,2,   1.791,2,   1.130,2,   1.8600,2,  2097.3,2, 2410.74,2,  340.940,2,    20.00,   8.04628,2,    25.01,    0.70,2,   38.22,2,    2.10, -999.00,9,-999.000,9,   64.50,2,    3.85,2,       6.70,2, 20210504,      243,  24.8227, -65.7306,    21.9109,2,     0.0470,1,     4.6548,1,     -999.0,1,     -999.0,1,     -999.0,9
325020210420,        A22,      50,          1,         29,         29,2,20210504,       0022,    24.8227,   -65.7306,       5662,   251.8,  20.5006,  36.7614,2,  36.7556,2,    201.2,2,   200.1,2,    0.39,2,    0.75,2,    0.01,2,    0.00,2,-999.000,9,-999.000,9,-999.0000,9,  2113.2,2, 2401.95,2,  380.480,2,    20.00,   8.00455,2,    25.00,    0.46,2,   42.24,2,    2.09, -999.00,9,-999.000,9,   56.40,2,    4.37,2,     -999.0,9, 20210504,      241,  24.8227, -65.7306,    20.5025,2,     0.0505,1,     4.6596,1,     -999.0,1,     -999.0,1,     -999.0,9
325020210420,        A22,      50,          1,         28,         28,2,20210504,       0022,    24.8227,   -65.7306,       5662,   302.5,  19.5215,  36.6947,2,  36.6953,2,    188.1,2,   188.4,2,    0.78,2,    2.52,2,    0.00,2,    0.02,2,   1.991,2,   1.259,2,   1.7600,2,  2131.2,2, 2396.29,2,  415.300,2,    20.00,   7.97079,2,    25.03,    0.43,2,   47.36,2,    2.23, -999.00,9,-999.000,9,   49.80,2, -999.00,1,       8.04,2, 20210504,      238,  24.8227, -65.7306,    19.5207,2,     0.0398,1,     4.6671,1,     -999.0,1,     -999.0,1,     -999.0,9
325020210420,        A22,      50,          1,         27,         27,2,20210504,       0022,    24.8227,   -65.7306,       5662,   353.1,  18.8720,  36.6191,2,  36.6172,2,    192.0,2,   192.2,2,    0.97,2,    3.81,2,    0.00,2,    0.11,2,   2.058,2,   1.292,2,   1.7400,2,  2131.0,2, 2392.96,2,  423.700,2,    20.00,    7.9637,2,    25.02,    0.40,2,   50.35,2,    2.09, -999.00,9,-999.000,9,   50.20,2, -999.00,1,       8.49,2, 20210504,      235,  24.8227, -65.7306,    18.8702,2,     0.0399,1,     4.6691,1,     -999.0,1,     -999.0,1,     -999.0,9
325020210420,        A22,      50,          1,         26,         26,2,20210504,       0022,    24.8227,   -65.7306,       5662,   403.5,  18.3457,  36.5558,2,  36.5569,2,    184.9,2,   185.1,2,    1.56,2,    5.34,2,    0.00,2,    0.20,2,-999.000,9,-999.000,9,-999.0000,9,  2141.0,2, 2388.65,2,  451.650,2,    20.00,   7.93753,6,    24.98,    0.42,2,   52.11,2,    2.24, -999.00,9,-999.000,9,   47.50,2, -999.00,1,     -999.0,9, 20210504,      231,  24.8227, -65.7306,    18.3434,2,     0.0395,1,     4.6710,1,     -999.0,1,     -999.0,1,     -999.0,9
325020210420,        A22,      50,          1,         25,         25,2,20210504,       0022,    24.8227,   -65.7306,       5662,   504.2,  16.8396,  36.3117,2,  36.3097,2,    176.4,2,   176.9,2,    2.34,2,    8.48,2,    0.00,2,    0.40,2,   2.219,2,   1.370,2,   1.4300,2,  2150.8,2, 2372.59,2,  503.670,2,    20.00,   7.89511,6,    25.05,    0.47,2,   56.00,2,    2.19, -999.00,9,-999.000,9,   47.40,2, -999.00,1,      11.22,2, 20210504,      229,  24.8227, -65.7306,    16.8403,2,     0.0408,1,     4.6729,1,     -999.0,1,     -999.0,1,     -999.0,9
325020210420,        A22,      50,          1,         24,         24,2,20210504,       0022,    24.8227,   -65.7306,       5662,   604.8,  14.9738,  36.0159,2,  36.0151,2,    167.1,2,   167.4,2,    4.00,2,   12.32,2,    0.00,2,    0.65,2,-999.000,9,-999.000,9,-999.0000,9,  1047.6,4, 2356.19,2,  581.000,2,    20.00,   7.83897,2,    25.03,    0.54,2,   52.18,2,    2.06, -999.00,9,-999.000,9,   45.70,2, -999.00,1,     -999.0,9, 20210504,      226,  24.8227, -65.7306,    14.9745,2,     0.0407,1,     4.6744,1,     -999.0,1,     -999.0,1,     -999.0,9
325020210420,        A22,      50,          1,         23,         23,2,20210504,       0022,    24.8227,   -65.7306,       5662,   705.6,  12.6185,  35.6489,2,  35.6435,2,    147.8,2,   147.7,2,    7.60,2,   18.36,2,    0.00,2,    1.05,2,   1.981,2,   1.131,2,   0.8000,2,  2185.3,2, 2337.02,2,  713.680,2,    20.00,   7.75542,2,    25.02,    0.58,2,   28.87,2,    2.14, -999.00,9,-999.000,9,   45.20,2, -999.00,1,      18.35,2, 20210504,      222,  24.8227, -65.7306,    12.6182,2,     0.0413,1,     4.6764,1,     -999.0,1,     -999.0,1,     -999.0,9
325020210420,        A22,      50,          1,         22,         22,2,20210504,       0022,    24.8227,   -65.7306,       5662,   806.4,  10.9292,  35.4341,2,  35.4298,2,    144.8,2,   144.7,2,   10.73,2,   21.52,2,    0.00,2,    1.28,2,-999.000,9,-999.000,9,-999.0000,9,  2192.0,2, 2328.64,2,  786.980,2,    20.00,   7.71385,2,    25.01,    0.63,2,    2.71,2,    2.09, -999.00,9,-999.000,9,   42.30,2, -999.00,1,     -999.0,9, 20210504,      219,  24.8227, -65.7306,    10.9328,2,     0.0412,1,     4.6789,1,     -999.0,1,     -999.0,1,     -999.0,9
325020210420,        A22,      50,          1,         21,         21,2,20210504,       0022,    24.8227,   -65.7306,       5662,   908.2,   8.7637,  35.1708,2,  35.1719,2,    142.8,2,   143.0,2,   15.12,2,   25.19,2,    0.00,2,    1.55,2,   1.005,2,   0.540,2,   0.4100,2,  2202.7,6, 2320.23,2,  887.490,2,    20.00,   7.66399,2,    25.03,    0.67,2,  -32.02,2,    1.93, -999.00,9,-999.000,9,   40.80,2, -999.00,1,      20.91,2, 20210504,      216,  24.8227, -65.7306,     8.7644,2,     0.0423,1,     4.6791,1,     -999.0,1,     -999.0,1,     -999.0,9
325020210420,        A22,      50,          1,         20,         20,2,20210504,       0022,    24.8227,   -65.7306,       5662,  1008.8,   7.1361,  35.0288,2,  35.0287,2,    154.0,2,   154.0,2,   18.24,2,   26.46,2,    0.00,2,    1.67,2,   0.671,2,   0.360,2,   0.2200,2,  2206.4,2, 2315.26,2,  928.080,2,    20.00,   7.64459,6,    25.03,    0.73,2,  -59.21,2,    2.94, -999.00,9,-999.000,9,   40.00,2, -999.00,1,      20.84,2, 20210504,      212,  24.8226, -65.7306,     7.1319,2,     0.0428,1,     4.6793,1,     -999.0,1,     -999.0,1,     -999.0,9
325020210420,        A22,      50,          1,         19,         19,2,20210504,       0022,    24.8227,   -65.7306,       5662,  1110.1,   6.3826,  35.0414,2,  35.0419,2,    179.4,2,   180.3,2,   16.87,2,   23.95,2,    0.00,2,    1.52,2,   0.884,6,   0.462,6,   0.3100,6,  2197.9,2, 2317.66,2,  869.540,2,    20.00,   7.67045,2,    25.02,    0.74,2,  -56.11,2,    1.86, -999.00,9,-999.000,9,   41.00,2, -999.00,1,      18.46,6, 20210504,      209,  24.8227, -65.7306,     6.3890,2,     0.0423,1,     4.6800,1,     -999.0,1,     -999.0,1,     -999.0,9
325020210420,        A22,      50,          1,         18,         18,2,20210504,       0022,    24.8227,   -65.7306,       5662,  1210.7,   5.7883,  35.0801,2,  35.0797,2,    211.2,2,   211.4,2,   14.14,2,   20.68,2,    0.00,2,    1.33,2,-999.000,9,-999.000,9,-999.0000,9,  2185.7,2, 2317.04,2,  806.200,2,    20.00,   7.70112,2,    25.01,    0.84,2,  -41.49,2,    1.98, -999.00,9,-999.000,9,   42.70,2, -999.00,1,     -999.0,9, 20210504,      206,  24.8226, -65.7306,     5.7965,2,     0.0419,1,     4.6801,1,     -999.0,1,     -999.0,1,     -999.0,9
325020210420,        A22,      50,          1,         17,         17,2,20210504,       0022,    24.8227,   -65.7306,       5662,  1312.1,   5.3591,  35.0751,2,  35.0762,2,    226.9,2,   226.8,2,   13.56,2,   19.50,2,    0.00,2,    1.25,2,   1.649,2,   0.864,2,   0.5100,2,  2181.7,2, 2314.11,2,  784.850,2,    20.00,   7.71088,2,    25.01,    0.91,2,  -39.59,2,    2.11, -999.00,9,-999.000,9,   44.10,2, -999.00,1,      14.97,2, 20210504,      202,  24.8226, -65.7306,     5.3589,2,     0.0411,1,     4.6801,1,     -999.0,1,     -999.0,1,     -999.0,9
325020210420,        A22,      50,          1,         16,         16,2,20210504,       0022,    24.8227,   -65.7306,       5662,  1414.6,   5.0006,  35.0632,2,  35.0648,2,    237.6,2,   237.7,2,   13.17,2,   18.82,2,    0.00,2,    1.21,2,   1.778,2,   0.924,2,   0.5200,2,  2178.4,2, 2314.71,2,  770.660,2,    20.00,   7.71789,2,    25.00,    0.81,3,  -36.49,2,    2.00, -999.00,9,-999.000,9,   41.80,2, -999.00,1,      14.44,2, 20210504,      158,  24.8226, -65.7306,     4.9991,2,     0.0422,1,     4.6811,1,     -999.0,1,     -999.0,1,     -999.0,9
325020210420,        A22,      50,          1,         15,         15,2,20210504,       0022,    24.8227,   -65.7306,       5662,  1616.0,   4.4955,  35.0470,2,  35.0486,2,    245.7,2,   245.7,2,   14.14,2,   18.55,2,    0.00,2,    1.20,2,-999.000,9,-999.000,9,-999.0000,9,  2172.8,2,  2315.2,2,  750.780,2,    20.00,    7.7281,2,    25.00,    1.17,2,  -44.32,2,    2.02, -999.00,9,-999.000,9,   42.20,2, -999.00,1,     -999.0,9, 20210504,      153,  24.8226, -65.7306,     4.4971,2,     0.0424,1,     4.6811,1,     -999.0,1,     -999.0,1,     -999.0,9
325020210420,        A22,      50,          1,         14,         14,2,20210504,       0022,    24.8227,   -65.7306,       5662,  1820.0,   4.0306,  35.0213,2,  35.0216,2,    250.8,2,   251.2,2,   15.90,2,   18.55,2,    0.00,2,    1.21,2,   1.012,2,   0.507,2,   0.2100,2,  2171.7,2, 2316.11,2,  739.090,2,    20.00,   7.73396,2,    25.00,    1.26,2,  -55.79,2,    1.86, -999.00,9,-999.000,9,   41.40,2, -999.00,1,      13.45,2, 20210504,      148,  24.8226, -65.7306,     4.0304,2,     0.0426,1,     4.6813,1,     -999.0,1,     -999.0,1,     -999.0,9
325020210420,        A22,      50,          1,         13,         13,2,20210504,       0022,    24.8227,   -65.7306,       5662,  2022.9,   3.7258,  35.0049,2,  35.0063,2,    251.5,2,   252.6,2,   19.02,2,   18.81,2,    0.00,2,    1.23,2,-999.000,9,-999.000,9,-999.0000,9,  2173.2,2, 2315.89,2,  733.330,2,    20.00,   7.73913,2,    25.01,    1.29,2,  -69.69,2,    1.95, -999.00,9,-999.000,9,   42.60,2, -999.00,1,     -999.0,9, 20210504,      143,  24.8226, -65.7306,     3.7260,2,     0.0422,1,     4.6813,1,     -999.0,1,     -999.0,1,     -999.0,9
325020210420,        A22,      50,          1,         12,         12,2,20210504,       0022,    24.8227,   -65.7306,       5662,  2276.6,   3.3702,  34.9811,2,  34.9815,2,    252.0,2,   252.3,2,   22.92,2,   19.17,2,    0.00,2,    1.25,2,   0.356,2,   0.187,2,   0.1100,2,  2176.0,2, 2322.09,2,  732.550,2,    20.00,   7.74056,2,    25.01,    1.20,2,  -78.67,2,    1.93, -999.00,9,-999.000,9,   40.90,2, -999.00,1,      13.37,2, 20210504,      138,  24.8226, -65.7306,     3.3705,2,     0.0429,1,     4.6813,1,     -999.0,1,     -999.0,1,     -999.0,9
325020210420,        A22,      50,          1,         11,         11,2,20210504,       0022,    24.8227,   -65.7306,       5662,  2531.9,   3.1111,  34.9614,2,  34.9612,2,    251.7,2,   251.9,2,   26.63,2,   19.59,2,    0.00,2,    1.29,2,   0.213,2,   0.113,2,   0.0000,2,  2176.4,2,  2324.9,2,  731.990,2,    20.00,   7.74044,2,    24.99,    1.18,2,  -90.44,2,    1.89, -999.00,9,-999.000,9,   40.50,2, -999.00,1,      13.47,2, 20210504,      132,  24.8226, -65.7306,     3.1115,2,     0.0431,1,     4.6807,1,     -999.0,1,     -999.0,1,     -999.0,9
325020210420,        A22,      50,          1,         10,         10,2,20210504,       0022,    24.8227,   -65.7306,       5662,  2786.1,   2.8932,  34.9425,2,  34.9425,2,    254.1,2,   254.2,2,   28.29,2,   19.63,2,    0.00,2,    1.30,2,-999.000,9,-999.000,9,-999.0000,9,  2177.7,2, 2326.88,2,  730.230,2,    20.00,   7.74137,6,    25.01,    1.17,2,  -95.83,2,    2.09, -999.00,9,-999.000,9,   41.30,2, -999.00,1,     -999.0,9, 20210504,      125,  24.8226, -65.7306,     2.8930,2,     0.0429,1,     4.6796,1,     -999.0,1,     -999.0,1,     -999.0,9
325020210420,        A22,      50,          1,          9,          9,2,20210504,       0022,    24.8227,   -65.7306,       5662,  3042.2,   2.7634,  34.9314,2,  34.9315,2,    255.2,2,   255.5,2,   29.94,2,   19.73,2,    0.00,2,    1.31,2,   0.231,2,   0.119,2,   0.1200,2,  2178.9,2, 2326.84,2,  732.555,6,    20.00,   7.74086,2,    24.99,    1.22,2,  -96.21,2,    1.86, -999.00,9,-999.000,9,   40.20,2, -999.00,1,      13.25,2, 20210504,      121,  24.8227, -65.7306,     2.7633,2,     0.0422,1,     4.6801,1,     -999.0,1,     -999.0,1,     -999.0,9
325020210420,        A22,      50,          1,          8,          8,2,20210504,       0022,    24.8227,   -65.7306,       5662,  3347.6,   2.5737,  34.9161,2,  34.9156,2,    258.2,2,   258.7,2,   31.21,2,   19.59,2,    0.00,2,    1.31,2,   0.304,2,   0.159,2,   0.1000,2,  2178.2,2, 2325.08,6,  728.020,2,    20.00,   7.74042,2,    24.96,    1.20,2,  -94.81,2,    1.86, -999.00,9,-999.000,9,   40.40,2, -999.00,1,      13.57,2, 20210504,      114,  24.8226, -65.7306,     2.5741,2,     0.0429,1,     4.6799,1,     -999.0,1,     -999.0,1,     -999.0,9
325020210420,        A22,      50,          1,          7,          7,2,20210504,       0022,    24.8227,   -65.7306,       5662,  3654.7,   2.4446,  34.9054,2,  34.9054,2,    261.5,2,   261.5,2,   31.02,2,   19.26,2,    0.00,2,    1.29,2,   0.419,2,   0.219,2,   0.1300,2,  2178.7,2,  2324.1,2,  735.320,2,    20.00,   7.73912,2,    24.99,    1.16,2,  -85.03,2,    1.92, -999.00,9,-999.000,9,   43.10,2, -999.00,1,      13.10,2, 20210504,      107,  24.8227, -65.7306,     2.4445,2,     0.0429,1,     4.6801,1,     -999.0,1,     -999.0,1,     -999.0,9
325020210420,        A22,      50,          1,          6,          6,2,20210504,       0022,    24.8227,   -65.7306,       5662,  3962.3,   2.3418,  34.8963,2,  34.8967,2,    263.0,2,   263.2,2,   31.90,2,   19.15,2,    0.00,2,    1.28,2,-999.000,9,-999.000,9,-999.0000,9,  2178.5,2, 2326.24,2,  737.280,2,    20.00,   7.73758,2,    25.03,    1.22,2,  -81.96,2,    2.29, -999.00,9,-999.000,9,   43.70,2, -999.00,1,     -999.0,9, 20210504,      101,  24.8226, -65.7306,     2.3418,2,     0.0430,1,     4.6801,1,     -999.0,1,     -999.0,1,     -999.0,9
325020210420,        A22,      50,          1,          5,          5,2,20210504,       0022,    24.8227,   -65.7306,       5662,  4372.5,   2.2639,  34.8864,2,  34.8861,2,    261.5,2,   261.5,2,   35.31,2,   19.59,2,    0.00,2,    1.32,2,   0.490,2,   0.256,2,   0.1400,2,  2182.1,2,  2328.6,2,  744.270,2,    20.00,   7.73554,2,    25.04,    1.18,2,  -86.26,2,    1.79, -999.00,9,-999.000,9,   41.10,2, -999.00,1,      13.41,2, 20210504,       52,  24.8227, -65.7306,     2.2640,2,     0.0428,1,     4.6797,1,     -999.0,1,     -999.0,1,     -999.0,9
325020210420,        A22,      50,          1,          4,          4,2,20210504,       0022,    24.8227,   -65.7306,       5662,  4783.6,   2.1889,  34.8731,2,  34.8731,2,    257.2,2,   257.4,2,   41.85,2,   20.59,2,    0.00,2,    1.39,2,   0.390,2,   0.206,2,   0.1500,2,  2190.5,2, 2334.98,2,  757.440,2,    20.00,   7.72904,2,    25.04,    1.06,2,  -96.52,2,    1.90, -999.00,9,-999.000,9,   41.90,2, -999.00,1,      13.90,2, 20210504,       44,  24.8227, -65.7306,     2.1891,2,     0.0430,1,     4.6789,1,     -999.0,1,     -999.0,1,     -999.0,9
325020210420,        A22,      50,          1,          3,          3,2,20210504,       0022,    24.8227,   -65.7306,       5662,  5195.5,   2.1068,  34.8570,2,  34.8564,2,    251.8,2,   252.5,2,   50.33,2,   21.93,2,    0.00,2,    1.48,2,   0.235,2,   0.130,2,   0.0300,2,  2199.1,2, 2340.91,2,  775.430,2,    20.00,   7.72009,6,    24.97,    1.00,2, -106.97,2,    1.78, -999.00,9,-999.000,9,   40.30,2, -999.00,1,      14.32,2, 20210504,       35,  24.8227, -65.7306,     2.1068,2,     0.0429,1,     4.6772,1,     -999.0,1,     -999.0,1,     -999.0,9