BOTTLE,20230513CCHSIOCBG
EXPOCODE,SECT_ID,STNNBR,CASTNO,SAMPNO,BTLNBR,BTLNBR_FLAG_W,DATE,TIME,LATITUDE,LONGITUDE,DEPTH,CTDPRS,CTDTMP,CTDSAL,CTDSAL_FLAG_W,SALNTY,SALNTY_FLAG_W,CTDOXY,CTDOXY_FLAG_W,OXYGEN,OXYGEN_FLAG_W,SILCAT,SILCAT_FLAG_W,NITRAT,NITRAT_FLAG_W,NITRIT,NITRIT_FLAG_W,PHSPHT,PHSPHT_FLAG_W,CFC-11,CFC-11_FLAG_W,CFC-12,CFC-12_FLAG_W,SF6,SF6_FLAG_W,TCARBN,TCARBN_FLAG_W,ALKALI,ALKALI_FLAG_W,FCO2,FCO2_FLAG_W,FCO2TMP,PH_TOT,PH_TOT_FLAG_W,PH_TMP,DELC13,DELC13_FLAG_W,DELC14,DELC14_FLAG_W,C14ERR,DELO18,DELO18_FLAG_W,POC,POC_FLAG_W,DOC,DOC_FLAG_W,TDN,TDN_FLAG_W,N2O,N2O_FLAG_W,BTL_DATE,BTL_TIME,BTL_LAT,BTL_LON,REFTMP,REFTMP_FLAG_W,CTDFLUOR,CTDFLUOR_FLAG_W,CTDXMISS,CTDXMISS_FLAG_W,D15N_NO2+NO3,D15N_NO2+NO3_FLAG_W,D18O_NO2+NO3,D18O_NO2+NO3_FLAG_W,HPLC,HPLC_FLAG_W
,,,,,,,,,,,METERS,DBAR,ITS-90,PSS-78,,PSS-78,,UMOL/KG,,UMOL/KG,,UMOL/KG,,UMOL/KG,,UMOL/KG,,UMOL/KG,,PMOL/KG,,PMOL/KG,,FMOL/KG,,UMOL/KG,,UMOL/KG,,UATM,,DEG C,,,DEG C,/MILLE,,/MILLE,,/MILLE,/MILLE,,UG/KG,,UMOL/KG,,UMOL/KG,,NMOL/KG,,,,,,ITS-90,,VOLTS,,VOLTS,,/MILLE,,/MILLE,,,
325020210420,        A22,      58,          1,         35,         35,2,20210506,       0738,    28.8169,   -65.4643,       5175,     4.9,  24.0890,  36.9867,2,  36.9870,2,    212.1,2,   212.7,2,    0.58,2,    0.00,2,    0.00,2,    0.00,2,   1.706,2,   1.073,2,   1.7900,2,  2091.1,6, 2416.26,2,  325.460,2,    20.00,   8.05978,2,    24.98, -999.00,9, -999.00,9, -999.00, -999.00,1,-999.000,9,   68.50,2,    3.95,2,       6.47,2, 20210506,     1003,  28.8169, -65.4643,    24.0673,2,     0.0441,1,     4.6159,1,     -999.0,9,     -999.0,9,     -999.0,9
325020210420,        A22,      58,          1,         36,         36,2,20210506,       0738,    28.8169,   -65.4643,       5175,     5.1,  24.0356,  36.9860,2,  36.9900,2,    213.0,2,  -999.0,9,    0.68,2,    0.00,2,    0.00,2,    0.00,2,-999.000,9,-999.000,9,-999.0000,9,  -999.0,9, -999.00,9, -999.000,9,  -999.00,-999.00000,9,  -999.00, -999.00,9, -999.00,9, -999.00, -999.00,9,-999.000,1, -999.00,9, -999.00,9,     -999.0,9, 20210506,     1004,  28.8169, -65.4643,    23.9950,3,     0.0428,1,     4.6155,1,     -999.0,9,     -999.0,9,     -999.0,1
325020210420,        A22,      58,          1,         34,         34,2,20210506,       0738,    28.8169,   -65.4643,       5175,    20.5,  22.9120,  36.9401,2,  36.9455,2,    215.6,2,   215.7,2,    0.58,2,    0.00,2,    0.00,2,    0.00,2,-999.000,9,-999.000,9,-999.0000,9,  2090.6,2, 2414.58,2,  326.650,2,    20.00,   8.05944,6,    25.02, -999.00,9, -999.00,9, -999.00, -999.00,9,-999.000,9,   67.10,2,    4.37,2,     -999.0,9, 20210506,     1001,  28.8169, -65.4643,    22.9152,2,     0.0441,1,     4.6194,1,     -999.0,9,     -999.0,9,     -999.0,9
325020210420,        A22,      58,          1,         33,         33,2,20210506,       0738,    28.8169,   -65.4643,       5175,    40.3,  21.8555,  36.8495,2,  36.8562,2,    220.3,2,   218.7,2,    0.49,2,    0.00,2,    0.00,2,    0.00,2,   1.818,2,   1.138,2,   1.8600,2,  2092.9,2, 2407.73,6,  337.010,2,    20.00,   8.04768,2,    24.97, -999.00,9, -999.00,9, -999.00, -999.00,9,-999.000,9,   64.60,2,    3.85,2,       6.74,2, 20210506,     1000,  28.8169, -65.4643,    21.8473,2,     0.0479,1,     4.6167,1,     -999.0,9,     -999.0,9,     -999.0,9
325020210420,        A22,      58,          1,         32,         32,2,20210506,       0738,    28.8169,   -65.4643,       5175,    65.5,  21.0516,  36.8332,2,  36.8373,2,    213.2,2,   212.8,2,    0.49,2,    0.00,2,    0.00,2,    0.00,2,-999.000,9,-999.000,9,-999.0000,9,  2101.6,2, 2405.35,2,  352.920,2,    20.00,   8.03096,2,    24.99, -999.00,9, -999.00,9, -999.00, -999.00,9,-999.000,9,   58.20,2,    3.18,2,     -999.0,9, 20210506,      958,  28.8169, -65.4643,    21.0578,2,     0.0623,1,     4.6288,1,     -999.0,9,     -999.0,9,     -999.0,9
325020210420,        A22,      58,          1,         30,         30,2,20210506,       0738,    28.8169,   -65.4643,       5175,    80.6,  20.5085,  36.7741,2,  36.7742,2,    211.2,2,   210.8,2,    0.49,2,    0.15,2,    0.05,2,    0.00,2,   1.931,2,   1.201,2,   1.9300,2,  2105.2,2, 2402.01,2,  366.740,2,    20.00,   8.01777,2,    24.99, -999.00,9, -999.00,9, -999.00, -999.00,1,-999.000,9,   55.80,2,    3.95,2,       6.90,2, 20210506,      956,  28.8169, -65.4643,    20.5022,2,     0.0939,1,     4.6168,1,     -999.0,9,     -999.0,9,     -999.0,9
325020210420,        A22,      58,          1,         31,         31,2,20210506,       0738,    28.8169,   -65.4643,       5175,    80.7,  20.5027,  36.7735,2,  36.7752,2,    211.1,2,  -999.0,9,    0.49,2,    0.15,2,    0.05,2,    0.00,2,-999.000,9,-999.000,9,-999.0000,9,  -999.0,9, -999.00,9, -999.000,9,  -999.00,-999.00000,9,  -999.00, -999.00,9, -999.00,9, -999.00, -999.00,9,-999.000,1, -999.00,9, -999.00,9,     -999.0,9, 20210506,      956,  28.8169, -65.4643,     -999.0,9,     0.0968,1,     4.6174,1,     -999.0,9,     -999.0,9,     -999.0,1
325020210420,        A22,      58,          1,         29,         29,2,20210506,       0738,    28.8169,   -65.4643,       5175,   135.7,  19.7227,  36.7110,2,  36.7115,2,    210.2,2,   209.7,2,    0.49,2,    1.00,2,    0.03,2,    0.00,2,   1.957,2,   1.225,2,   1.9200,2,  2109.3,2,  2400.1,2,  379.610,2,    20.00,    8.0033,2,    24.97, -999.00,9, -999.00,9, -999.00, -999.00,9,-999.000,9,   55.90,2,    4.74,2,       7.46,2, 20210506,      954,  28.8169, -65.4643,    19.7216,2,     0.0511,1,     4.6532,1,     -999.0,9,     -999.0,9,     -999.0,9
325020210420,        A22,      58,          1,         28,         28,2,20210506,       0738,    28.8169,   -65.4643,       5175,   186.5,  19.3393,  36.6632,2,  36.6639,2,    197.0,2,   197.0,2,    0.78,2,    2.34,2,    0.00,2,    0.01,2,-999.000,9,-999.000,9,-999.0000,9,  2120.3,2, 2393.99,2,  403.000,2,    20.00,   7.98118,2,    24.90, -999.00,9, -999.00,9, -999.00, -999.00,9,-999.000,9,   50.90,2,    4.88,2,     -999.0,9, 20210506,      952,  28.8169, -65.4643,    19.3386,2,     0.0426,1,     4.6618,1,     -999.0,9,     -999.0,9,     -999.0,9
325020210420,        A22,      58,          1,         27,         27,2,20210506,       0738,    28.8169,   -65.4643,       5175,   236.5,  19.1673,  36.6587,2,  36.6596,2,    205.5,2,   205.5,2,    0.78,2,    2.35,2,    0.00,2,    0.02,2,   2.004,6,   1.256,6,   1.9000,6,  2116.1,2, 2396.89,2,  394.450,2,    20.00,   7.98877,2,    25.00, -999.00,9, -999.00,9, -999.00, -999.00,9,-999.000,9,   50.80,2,    5.50,2,       7.71,6, 20210506,      950,  28.8169, -65.4643,    19.1648,2,     0.0395,1,     4.6618,1,     -999.0,9,     -999.0,9,     -999.0,9
325020210420,        A22,      58,          1,         26,         26,2,20210506,       0738,    28.8169,   -65.4643,       5175,   286.7,  18.9267,  36.6267,2,  36.6261,2,    202.8,2,   202.5,2,    1.17,2,    3.00,2,    0.00,2,    0.05,2,-999.000,9,-999.000,9,-999.0000,9,  2119.1,2,  2391.5,2,  404.365,6,    20.00,   7.97932,2,    24.98, -999.00,9, -999.00,9, -999.00, -999.00,9,-999.000,9,   51.00,2, -999.00,1,     -999.0,9, 20210506,      947,  28.8169, -65.4643,    18.9252,2,     0.0391,1,     4.6640,1,     -999.0,9,     -999.0,9,     -999.0,9
325020210420,        A22,      58,          1,         25,         25,2,20210506,       0738,    28.8169,   -65.4643,       5175,   337.2,  18.6136,  36.5876,2,  36.5894,2,    198.7,2,   198.3,2,    1.07,2,    3.84,2,    0.00,2,    0.10,2,   2.085,2,   1.298,2,   1.7500,2,  2124.1,2, 2388.18,2,  418.450,2,    20.00,   7.96823,2,    25.00, -999.00,9, -999.00,9, -999.00, -999.00,9,-999.000,9,   48.70,2, -999.00,1,       8.35,2, 20210506,      945,  28.8169, -65.4643,    18.6156,2,     0.0392,1,     4.6679,1,     -999.0,9,     -999.0,9,     -999.0,9
325020210420,        A22,      58,          1,         24,         24,2,20210506,       0738,    28.8169,   -65.4643,       5175,   387.3,  18.1910,  36.5242,2,  36.5232,2,    192.4,2,   192.9,2,    1.36,2,    5.09,2,    0.00,2,    0.16,2,-999.000,9,-999.000,9,-999.0000,9,  2129.7,2, 2385.07,2,  438.020,2,    20.00,   7.94924,2,    25.03, -999.00,9, -999.00,9, -999.00, -999.00,9,-999.000,9,   47.40,2, -999.00,1,     -999.0,9, 20210506,      942,  28.8169, -65.4643,    18.1887,2,     0.0393,1,     4.6689,1,     -999.0,9,     -999.0,9,     -999.0,9
325020210420,        A22,      58,          1,         23,         23,2,20210506,       0738,    28.8169,   -65.4643,       5175,   468.2,  17.0810,  36.3358,2,  36.3342,2,    182.7,2,   182.3,2,    2.34,2,    7.78,2,    0.00,2,    0.33,2,   2.210,2,   1.350,2,   1.5000,2,  2143.0,6, 2374.39,2,  485.990,2,    20.00,   7.90972,2,    25.02, -999.00,9, -999.00,9, -999.00, -999.00,9,-999.000,9,   46.30,2, -999.00,1,      10.38,2, 20210506,      938,  28.8169, -65.4643,    17.0807,2,     0.0389,1,     4.6671,1,     -999.0,9,     -999.0,9,     -999.0,9
325020210420,        A22,      58,          1,         22,         22,2,20210506,       0738,    28.8169,   -65.4643,       5175,   569.0,  15.2795,  36.0322,2,  36.0299,2,    174.5,2,   175.8,2,    4.00,2,   11.29,2,    0.00,2,    0.57,2,   2.245,2,   1.351,2,   1.3900,2,  2154.8,2, 2357.42,2,  556.430,2,    20.00,   7.85616,2,    25.03, -999.00,9, -999.00,9, -999.00, -999.00,9,-999.000,9,   46.10,2, -999.00,1,      12.64,2, 20210506,      935,  28.8169, -65.4643,    15.2795,2,     0.0404,1,     4.6687,1,     -999.0,9,     -999.0,9,     -999.0,9
325020210420,        A22,      58,          1,         21,         21,2,20210506,       0738,    28.8169,   -65.4643,       5175,   671.0,  13.3490,  35.7408,2,  35.7428,2,    160.8,2,   160.6,2,    6.53,2,   15.95,2,    0.00,2,    0.87,2,   2.114,2,   1.228,2,   1.0400,2,  2171.1,2, 2344.44,2,  652.680,2,    20.00,   7.79269,6,    25.01, -999.00,9, -999.00,9, -999.00, -999.00,9,-999.000,9,   44.20,2, -999.00,1,      15.80,2, 20210506,      931,  28.8169, -65.4643,    13.3517,2,     0.0408,1,     4.6728,1,     -999.0,9,     -999.0,9,     -999.0,9
325020210420,        A22,      58,          1,         20,         20,2,20210506,       0738,    28.8169,   -65.4643,       5175,   772.2,  10.9575,  35.4338,2,  35.4369,2,    148.8,2,   149.4,2,   10.24,2,   20.85,2,    0.00,2,    1.20,2,   1.676,2,   0.927,2,   0.6500,2,  2185.8,2, 2327.73,6,  768.530,2,    20.00,   7.72442,2,    24.99, -999.00,9, -999.00,9, -999.00, -999.00,9,-999.000,9,   42.40,2, -999.00,1,      18.41,2, 20210506,      926,  28.8169, -65.4643,    10.9806,2,     0.0424,1,     4.6755,1,     -999.0,9,     -999.0,9,     -999.0,9
325020210420,        A22,      58,          1,         19,         19,2,20210506,       0738,    28.8169,   -65.4643,       5175,   873.2,   9.0565,  35.2232,2,  35.2251,2,    147.9,2,   147.8,2,   13.75,2,   24.02,2,    0.00,2,    1.43,2,-999.000,9,-999.000,9,-999.0000,9,  2195.3,2, 2320.46,2,  853.020,2,    20.00,   7.68001,2,    24.97, -999.00,9, -999.00,9, -999.00, -999.00,9,-999.000,9,   42.50,2, -999.00,1,     -999.0,9, 20210506,      921,  28.8169, -65.4643,     9.0592,2,     0.0417,1,     4.6766,1,     -999.0,9,     -999.0,9,     -999.0,9
325020210420,        A22,      58,          1,         18,         18,2,20210506,       0738,    28.8169,   -65.4643,       5175,   974.2,   7.4725,  35.1129,2,  35.1114,2,    165.1,2,   164.9,2,   15.61,2,   24.20,2,    0.00,2,    1.47,2,   1.060,2,   0.563,2,   0.3200,2,  2196.2,2, 2319.35,2,  871.580,2,    20.00,   7.67021,2,    25.08, -999.00,9, -999.00,9, -999.00, -999.00,9,-999.000,9,   40.80,2, -999.00,1,      18.73,2, 20210506,      916,  28.8169, -65.4643,     7.4746,2,     0.0410,1,     4.6767,1,     -999.0,9,     -999.0,9,     -999.0,9
325020210420,        A22,      58,          1,         17,         17,2,20210506,       0738,    28.8169,   -65.4643,       5175,  1074.8,   6.6260,  35.1154,2,  35.1156,2,    191.7,2,   190.4,2,   14.54,2,   22.10,2,    0.00,2,    1.36,2,   1.310,2,   0.691,2,   0.3700,2,  2188.5,2, 2317.79,2,  832.930,2,    20.00,   7.68895,2,    25.06, -999.00,9, -999.00,9, -999.00, -999.00,9,-999.000,9,   42.70,2, -999.00,1,      17.17,2, 20210506,      913,  28.8169, -65.4643,     6.6270,2,     0.0422,1,     4.6776,1,     -999.0,9,     -999.0,9,     -999.0,9
325020210420,        A22,      58,          1,         16,         16,2,20210506,       0738,    28.8169,   -65.4643,       5175,  1176.1,   5.9925,  35.1242,2,  35.1240,2,    212.4,2,   213.0,2,   13.36,2,   20.22,2,    0.00,2,    1.25,2,   1.665,2,   0.873,2,   0.5100,2,  2182.8,2,  2317.0,2,  799.190,2,    20.00,   7.70565,2,    25.04, -999.00,9, -999.00,9, -999.00, -999.00,9,-999.000,9,   43.40,2, -999.00,1,      15.60,2, 20210506,      910,  28.8169, -65.4643,     5.9947,2,     0.0415,1,     4.6780,1,     -999.0,9,     -999.0,9,     -999.0,9
325020210420,        A22,      58,          1,         15,         15,2,20210506,       0738,    28.8169,   -65.4643,       5175,  1277.7,   5.5235,  35.1123,2,  35.1150,2,    226.5,2,   226.0,2,   12.97,2,   19.37,2,    0.00,2,    1.20,2,-999.000,9,-999.000,9,-999.0000,9,  2183.4,2, 2317.38,2,  780.840,2,    20.00,   7.71428,2,    25.04, -999.00,9, -999.00,9, -999.00, -999.00,9,-999.000,9,   43.30,2, -999.00,1,     -999.0,9, 20210506,      906,  28.8169, -65.4643,     5.5321,2,     0.0418,1,     4.6781,1,     -999.0,9,     -999.0,9,     -999.0,9
325020210420,        A22,      58,          1,         14,         14,2,20210506,       0738,    28.8169,   -65.4643,       5175,  1379.0,   5.1350,  35.0807,2,  35.0821,2,    235.7,2,   236.0,2,   12.97,2,   18.94,2,    0.00,2,    1.18,2,   1.879,2,   0.959,2,   0.4900,2,  2177.6,2, 2316.63,2,  772.640,2,    20.00,   7.72013,2,    25.00, -999.00,9, -999.00,9, -999.00, -999.00,9,-999.000,9,   43.20,2, -999.00,1,      14.18,2, 20210506,      903,  28.8169, -65.4643,     5.1297,2,     0.0430,1,     4.6785,1,     -999.0,9,     -999.0,9,     -999.0,9
325020210420,        A22,      58,          1,         13,         13,2,20210506,       0738,    28.8169,   -65.4643,       5175,  1550.4,   4.6531,  35.0592,2,  35.0594,2,    244.5,2,   245.5,2,   13.46,2,   18.56,2,    0.00,2,    1.16,2,   1.721,2,   0.876,2,   0.3700,2,  2175.3,2, 2312.71,2,  758.360,2,    20.00,   7.72755,2,    24.96, -999.00,9, -999.00,9, -999.00, -999.00,9,-999.000,9,   45.20,2, -999.00,1,      13.63,2, 20210506,      858,  28.8169, -65.4643,     4.6518,2,     0.0417,1,     4.6788,1,     -999.0,9,     -999.0,9,     -999.0,9
325020210420,        A22,      58,          1,         12,         12,2,20210506,       0738,    28.8169,   -65.4643,       5175,  1753.4,   4.1382,  35.0130,2,  35.0134,2,    253.4,2,   253.7,2,   14.15,2,   18.26,2,    0.00,2,    1.15,2,-999.000,9,-999.000,9,-999.0000,9,  2170.8,2, 2311.15,2,  750.490,2,    20.00,   7.72861,2,    24.98, -999.00,9, -999.00,9, -999.00, -999.00,9,-999.000,9,   42.90,2, -999.00,1,     -999.0,9, 20210506,      853,  28.8169, -65.4643,     4.1380,2,     0.0429,1,     4.6777,1,     -999.0,9,     -999.0,9,     -999.0,9
325020210420,        A22,      58,          1,         11,         11,2,20210506,       0738,    28.8169,   -65.4643,       5175,  1956.7,   3.8203,  34.9963,2,  34.9970,2,    255.6,2,   255.8,2,   15.90,2,   18.37,2,    0.00,2,    1.17,2,   1.221,2,   0.599,2,   0.1300,2,  2170.6,6, 2311.31,2,  740.860,2,    20.00,   7.73321,2,    25.00, -999.00,9, -999.00,9, -999.00, -999.00,9,-999.000,9,   43.80,2, -999.00,1,      13.48,2, 20210506,      847,  28.8169, -65.4643,     3.8186,2,     0.0421,1,     4.6788,1,     -999.0,9,     -999.0,9,     -999.0,9
325020210420,        A22,      58,          1,         10,         10,2,20210506,       0738,    28.8169,   -65.4643,       5175,  2190.7,   3.4865,  34.9745,2,  34.9746,2,    257.9,2,   258.1,2,   18.05,2,   18.43,2,    0.00,2,    1.18,2,   0.963,2,   0.483,2,   0.0900,2,  2169.1,2, 2313.46,2,  734.910,2,    20.00,   7.73629,2,    25.04, -999.00,9, -999.00,9, -999.00, -999.00,9,-999.000,9,   50.70,3, -999.00,1,      12.73,2, 20210506,      843,  28.8169, -65.4643,     3.4871,2,     0.0417,1,     4.6773,1,     -999.0,9,     -999.0,9,     -999.0,9
325020210420,        A22,      58,          1,          9,          9,2,20210506,       0738,    28.8169,   -65.4643,       5175,  2445.6,   3.2031,  34.9553,2,  34.9545,2,    260.2,2,   260.2,2,   20.00,2,   18.40,2,    0.00,2,    1.19,2,   0.879,2,   0.440,2,   0.1000,2,  2169.6,2,  2316.9,2,  732.850,2,    20.00,   7.73887,2,    25.02, -999.00,9, -999.00,9, -999.00, -999.00,9,-999.000,9,   42.80,2, -999.00,1,      13.02,2, 20210506,      837,  28.8169, -65.4643,     3.2031,2,     0.0424,1,     4.6776,1,     -999.0,9,     -999.0,9,     -999.0,9
325020210420,        A22,      58,          1,          8,          8,2,20210506,       0738,    28.8169,   -65.4643,       5175,  2699.8,   2.9820,  34.9415,2,  34.9420,2,    261.7,2,   262.3,2,   21.66,2,   18.40,2,    0.00,2,    1.19,2,-999.000,9,-999.000,9,-999.0000,9,  2171.3,2,  2316.8,2,  730.610,2,    20.00,   7.73992,2,    24.98, -999.00,9, -999.00,9, -999.00, -999.00,9,-999.000,9,   43.50,2, -999.00,1,     -999.0,9, 20210506,      831,  28.8169, -65.4643,     2.9815,2,     0.0421,1,     4.6776,1,     -999.0,9,     -999.0,9,     -999.0,9
325020210420,        A22,      58,          1,          7,          7,2,20210506,       0738,    28.8169,   -65.4643,       5175,  2955.1,   2.7354,  34.9256,2,  34.9264,2,    265.2,2,   265.4,2,   22.34,2,   18.14,2,    0.00,2,    1.17,2,   0.918,2,   0.461,2,   0.1200,2,  2168.3,2, 2314.87,2,  730.550,2,    20.00,   7.74053,2,    24.95, -999.00,9, -999.00,9, -999.00, -999.00,9,-999.000,9,   43.40,2, -999.00,1,      13.10,2, 20210506,      825,  28.8169, -65.4643,     2.7356,2,     0.0429,1,     4.6770,1,     -999.0,9,     -999.0,9,     -999.0,9
325020210420,        A22,      58,          1,          6,          6,2,20210506,       0738,    28.8169,   -65.4643,       5175,  3246.3,   2.5356,  34.9125,2,  34.9134,2,    267.1,2,   267.5,2,   23.71,2,   18.01,2,    0.00,2,    1.18,2,-999.000,9,-999.000,9,-999.0000,9,  2170.7,2, 2314.63,2,  735.220,2,    20.00,   7.73824,2,    24.97, -999.00,9, -999.00,9, -999.00, -999.00,9,-999.000,9,   45.20,2, -999.00,1,     -999.0,9, 20210506,      819,  28.8169, -65.4643,     2.5355,2,     0.0428,1,     4.6774,1,     -999.0,9,     -999.0,9,     -999.0,9
325020210420,        A22,      58,          1,          5,          5,2,20210506,       0738,    28.8169,   -65.4643,       5175,  3619.3,   2.3689,  34.9007,2,  34.9010,2,    267.6,2,   267.7,2,   26.05,2,   18.12,2,    0.00,2,    1.19,2,   1.098,2,   0.554,2,   0.2300,2,  2172.4,2, 2319.68,2,  740.800,2,    20.00,   7.73559,6,    24.96, -999.00,9, -999.00,9, -999.00, -999.00,9,-999.000,9,   46.10,2, -999.00,1,      13.23,2, 20210506,      810,  28.8169, -65.4643,     2.3698,2,     0.0429,1,     4.6771,1,     -999.0,9,     -999.0,9,     -999.0,9
325020210420,        A22,      58,          1,          4,          4,2,20210506,       0738,    28.8169,   -65.4643,       5175,  4029.7,   2.2865,  34.8923,2,  34.8928,2,    266.0,2,   266.2,2,   29.56,2,   18.58,2,    0.00,2,    1.23,2,   1.004,2,   0.499,2,   0.1800,2,  2177.6,2, 2323.12,6,  744.210,2,    20.00,   7.73269,2,    24.96, -999.00,9, -999.00,9, -999.00, -999.00,9,-999.000,9,   45.00,2, -999.00,1,      13.23,2, 20210506,      802,  28.8169, -65.4643,     2.2867,2,     0.0432,1,     4.6765,1,     -999.0,9,     -999.0,9,     -999.0,9
325020210420,        A22,      58,          1,          3,          3,2,20210506,       0738,    28.8169,   -65.4643,       5175,  4440.5,   2.2597,  34.8858,2,  34.8859,2,    263.4,2,   264.3,2,   33.37,2,   19.15,2,    0.00,2,    1.27,2,   0.837,2,   0.432,2,   0.1000,2,  2182.3,2, 2326.01,2,  747.610,2,    20.00,   7.73189,2,    24.99, -999.00,9, -999.00,9, -999.00, -999.00,9,-999.000,9,   44.00,2, -999.00,1,      13.55,2, 20210506,      754,  28.8169, -65.4643,     2.2599,2,     0.0438,1,     4.6764,1,     -999.0,9,     -999.0,9,     -999.0,9