BOTTLE,20230513CCHSIOCBG
EXPOCODE,SECT_ID,STNNBR,CASTNO,SAMPNO,BTLNBR,BTLNBR_FLAG_W,DATE,TIME,LATITUDE,LONGITUDE,DEPTH,CTDPRS,CTDTMP,CTDSAL,CTDSAL_FLAG_W,SALNTY,SALNTY_FLAG_W,CTDOXY,CTDOXY_FLAG_W,OXYGEN,OXYGEN_FLAG_W,SILCAT,SILCAT_FLAG_W,NITRAT,NITRAT_FLAG_W,NITRIT,NITRIT_FLAG_W,PHSPHT,PHSPHT_FLAG_W,CFC-11,CFC-11_FLAG_W,CFC-12,CFC-12_FLAG_W,SF6,SF6_FLAG_W,TCARBN,TCARBN_FLAG_W,ALKALI,ALKALI_FLAG_W,FCO2,FCO2_FLAG_W,FCO2TMP,PH_TOT,PH_TOT_FLAG_W,PH_TMP,DELC13,DELC13_FLAG_W,DELC14,DELC14_FLAG_W,C14ERR,DELO18,DELO18_FLAG_W,POC,POC_FLAG_W,DOC,DOC_FLAG_W,TDN,TDN_FLAG_W,N2O,N2O_FLAG_W,BTL_DATE,BTL_TIME,BTL_LAT,BTL_LON,REFTMP,REFTMP_FLAG_W,CTDFLUOR,CTDFLUOR_FLAG_W,CTDXMISS,CTDXMISS_FLAG_W,D15N_NO2+NO3,D15N_NO2+NO3_FLAG_W,D18O_NO2+NO3,D18O_NO2+NO3_FLAG_W,HPLC,HPLC_FLAG_W
,,,,,,,,,,,METERS,DBAR,ITS-90,PSS-78,,PSS-78,,UMOL/KG,,UMOL/KG,,UMOL/KG,,UMOL/KG,,UMOL/KG,,UMOL/KG,,PMOL/KG,,PMOL/KG,,FMOL/KG,,UMOL/KG,,UMOL/KG,,UATM,,DEG C,,,DEG C,/MILLE,,/MILLE,,/MILLE,/MILLE,,UG/KG,,UMOL/KG,,UMOL/KG,,NMOL/KG,,,,,,ITS-90,,VOLTS,,VOLTS,,/MILLE,,/MILLE,,,
325020210420,        A22,      51,          1,         36,         36,2,20210504,       0727,    25.3212,   -65.6983,       5312,     4.4,  24.9860,  36.9063,2,  36.9062,2,    209.0,2,   208.3,2,    0.88,2,    0.00,2,    0.00,2,    0.00,2,-999.000,9,-999.000,9,-999.0000,9,  2079.6,6, 2411.92,2, -999.000,9,  -999.00,   8.07738,2,    25.00, -999.00,9, -999.00,9, -999.00, -999.00,1,-999.000,9, -999.00,9, -999.00,9,     -999.0,9, 20210504,      949,  25.3212, -65.6983,    24.9869,2,     0.0430,1,     4.6220,1,     -999.0,9,     -999.0,9,     -999.0,9
325020210420,        A22,      51,          1,         35,         35,2,20210504,       0727,    25.3212,   -65.6983,       5312,    35.2,  24.4245,  36.8858,2,  36.8867,2,    210.2,2,   210.2,2,    0.78,2,    0.00,2,    0.00,2,    0.00,2,-999.000,9,-999.000,9,-999.0000,9,  -999.0,9, -999.00,9, -999.000,9,  -999.00,-999.00000,9,  -999.00, -999.00,9, -999.00,9, -999.00, -999.00,9,-999.000,9, -999.00,9, -999.00,9,     -999.0,9, 20210504,      947,  25.3212, -65.6983,    24.4228,2,     0.0429,1,     4.6283,1,     -999.0,9,     -999.0,9,     -999.0,9
325020210420,        A22,      51,          1,         34,         34,2,20210504,       0727,    25.3212,   -65.6983,       5312,    59.9,  23.7052,  36.9672,2,  36.9667,2,    213.2,2,   213.0,2,    0.78,2,    0.00,2,    0.00,2,    0.00,2,-999.000,9,-999.000,9,-999.0000,9,  -999.0,9, -999.00,9, -999.000,9,  -999.00,-999.00000,9,  -999.00, -999.00,9, -999.00,9, -999.00, -999.00,1,-999.000,9, -999.00,9, -999.00,9,     -999.0,9, 20210504,      945,  25.3212, -65.6983,    23.7053,2,     0.0436,1,     4.6289,1,     -999.0,9,     -999.0,9,     -999.0,9
325020210420,        A22,      51,          1,         33,         33,2,20210504,       0727,    25.3212,   -65.6983,       5312,    85.6,  23.2417,  36.9665,2,  36.9671,2,    214.8,2,   214.3,2,    0.68,2,    0.00,2,    0.00,2,    0.00,2,   1.715,2,   1.075,2,   1.8400,2,  2084.9,2, 2415.37,2, -999.000,9,  -999.00,   8.07188,6,    25.00, -999.00,9, -999.00,9, -999.00, -999.00,9,-999.000,9, -999.00,9, -999.00,9,       6.52,2, 20210504,      943,  25.3212, -65.6983,    23.2396,2,     0.0458,1,     4.6295,1,     -999.0,9,     -999.0,9,     -999.0,9
325020210420,        A22,      51,          1,         32,         32,2,20210504,       0727,    25.3212,   -65.6983,       5312,   115.8,  22.8214,  36.9575,2,  36.9588,2,    211.9,2,   212.2,2,    0.78,2,    0.00,2,    0.00,2,    0.00,2,-999.000,9,-999.000,9,-999.0000,9,  -999.0,9, -999.00,9, -999.000,9,  -999.00,-999.00000,9,  -999.00, -999.00,9, -999.00,9, -999.00, -999.00,9,-999.000,9, -999.00,9, -999.00,9,     -999.0,9, 20210504,      942,  25.3212, -65.6983,    22.8199,2,     0.0511,1,     4.6318,1,     -999.0,9,     -999.0,9,     -999.0,9
325020210420,        A22,      51,          1,         31,         31,2,20210504,       0727,    25.3212,   -65.6983,       5312,   165.8,  21.6600,  36.8811,2,  36.8806,2,    206.8,2,   206.4,2,    0.58,2,    0.04,2,    0.03,2,    0.00,2,-999.000,9,-999.000,9,-999.0000,9,  2102.4,2, 2410.51,2, -999.000,9,  -999.00,   8.03412,2,    24.99, -999.00,9, -999.00,9, -999.00, -999.00,9,-999.000,9, -999.00,9, -999.00,9,     -999.0,9, 20210504,      940,  25.3212, -65.6983,    21.6595,2,     0.0748,1,     4.6361,1,     -999.0,9,     -999.0,9,     -999.0,9
325020210420,        A22,      51,          1,         30,         30,2,20210504,       0727,    25.3212,   -65.6983,       5312,   216.6,  20.2402,  36.7427,2,  36.7435,2,    195.0,2,   195.9,2,    0.68,2,    1.01,2,    0.01,2,    0.00,2,-999.000,9,-999.000,9,-999.0000,9,  -999.0,9, -999.00,9, -999.000,9,  -999.00,-999.00000,9,  -999.00, -999.00,9, -999.00,9, -999.00, -999.00,9,-999.000,9, -999.00,9, -999.00,9,     -999.0,9, 20210504,      938,  25.3212, -65.6983,    20.2411,2,     0.0498,1,     4.6573,1,     -999.0,9,     -999.0,9,     -999.0,9
325020210420,        A22,      51,          1,         29,         29,2,20210504,       0727,    25.3212,   -65.6983,       5312,   267.2,  19.6217,  36.6883,2,  36.6867,2,    205.6,2,   204.9,2,    0.88,2,    1.60,2,    0.00,2,    0.00,2,-999.000,9,-999.000,9,-999.0000,9,  -999.0,9, -999.00,9, -999.000,9,  -999.00,-999.00000,9,  -999.00, -999.00,9, -999.00,9, -999.00, -999.00,9,-999.000,9, -999.00,9, -999.00,9,     -999.0,9, 20210504,      936,  25.3212, -65.6983,    19.6226,2,     0.0454,1,     4.6606,1,     -999.0,9,     -999.0,9,     -999.0,9
325020210420,        A22,      51,          1,         28,         28,2,20210504,       0727,    25.3212,   -65.6983,       5312,   316.9,  19.1700,  36.6453,2,  36.6447,2,    199.9,2,   200.1,2,    0.97,2,    2.70,2,    0.00,2,    0.04,2,   2.013,2,   1.261,2,   1.8900,2,  2122.1,2, 2393.18,2, -999.000,9,  -999.00,   7.98234,2,    24.97, -999.00,9, -999.00,9, -999.00, -999.00,9,-999.000,9, -999.00,9, -999.00,9,       7.91,2, 20210504,      934,  25.3212, -65.6983,    19.1682,2,     0.0402,1,     4.6654,1,     -999.0,9,     -999.0,9,     -999.0,9
325020210420,        A22,      51,          1,         27,         27,2,20210504,       0727,    25.3212,   -65.6983,       5312,   367.7,  18.8147,  36.6103,2,  36.6102,2,    199.9,2,   200.3,2,    1.17,2,    3.35,2,    0.00,2,    0.08,2,-999.000,9,-999.000,9,-999.0000,9,  -999.0,9, -999.00,9, -999.000,9,  -999.00,-999.00000,9,  -999.00, -999.00,9, -999.00,9, -999.00, -999.00,9,-999.000,9, -999.00,9, -999.00,9,     -999.0,9, 20210504,      932,  25.3212, -65.6983,    18.8146,2,     0.0393,1,     4.6698,1,     -999.0,9,     -999.0,9,     -999.0,9
325020210420,        A22,      51,          1,         26,         26,2,20210504,       0727,    25.3212,   -65.6983,       5312,   438.5,  18.2104,  36.5253,2,  36.5256,2,    192.4,2,   193.0,2,    1.75,2,    5.01,2,    0.00,2,    0.18,2,-999.000,9,-999.000,9,-999.0000,9,  -999.0,9, -999.00,9, -999.000,9,  -999.00,-999.00000,9,  -999.00, -999.00,9, -999.00,9, -999.00, -999.00,1,-999.000,9, -999.00,9, -999.00,9,     -999.0,9, 20210504,      930,  25.3212, -65.6983,    18.2137,2,     0.0401,1,     4.6715,1,     -999.0,9,     -999.0,9,     -999.0,9
325020210420,        A22,      51,          1,         25,         25,2,20210504,       0727,    25.3212,   -65.6983,       5312,   538.5,  16.5159,  36.2515,2,  36.2495,2,    176.1,2,   176.2,2,    2.83,2,    9.15,2,    0.00,2,    0.44,2,-999.000,9,-999.000,9,-999.0000,9,  -999.0,9, -999.00,9, -999.000,9,  -999.00,-999.00000,9,  -999.00, -999.00,9, -999.00,9, -999.00, -999.00,9,-999.000,9, -999.00,9, -999.00,9,     -999.0,9, 20210504,      926,  25.3211, -65.6983,    16.5148,2,     0.0408,1,     4.6726,1,     -999.0,9,     -999.0,9,     -999.0,9
325020210420,        A22,      51,          1,         24,         24,2,20210504,       0727,    25.3212,   -65.6983,       5312,   639.9,  14.2634,  35.8803,2,  35.8797,2,    163.7,2,   163.7,2,    5.36,2,   14.04,2,    0.00,2,    0.76,2,   2.168,2,   1.287,2,   1.2000,2,  2167.6,2, 2352.35,2, -999.000,9,  -999.00,   7.81865,2,    24.94, -999.00,9, -999.00,9, -999.00, -999.00,9,-999.000,9, -999.00,9, -999.00,9,      14.63,2, 20210504,      923,  25.3212, -65.6983,    14.2630,2,     0.0411,1,     4.6743,1,     -999.0,9,     -999.0,9,     -999.0,9
325020210420,        A22,      51,          1,         23,         23,2,20210504,       0727,    25.3212,   -65.6983,       5312,   741.1,  11.8984,  35.5476,2,  35.5462,2,    151.8,2,   151.8,2,    8.87,2,   19.11,2,    0.00,2,    1.10,2,-999.000,9,-999.000,9,-999.0000,9,  -999.0,9, -999.00,9, -999.000,9,  -999.00,-999.00000,9,  -999.00, -999.00,9, -999.00,9, -999.00, -999.00,9,-999.000,9, -999.00,9, -999.00,9,     -999.0,9, 20210504,      920,  25.3211, -65.6983,    11.8965,2,     0.0400,1,     4.6776,1,     -999.0,9,     -999.0,9,     -999.0,9
325020210420,        A22,      51,          1,         22,         22,2,20210504,       0727,    25.3212,   -65.6983,       5312,   841.1,   9.6258,  35.2720,2,  35.2704,2,    145.4,2,   145.5,2,   13.07,2,   23.39,2,    0.00,2,    1.40,2,-999.000,9,-999.000,9,-999.0000,9,  -999.0,9, -999.00,9, -999.000,9,  -999.00,-999.00000,9,  -999.00, -999.00,9, -999.00,9, -999.00, -999.00,9,-999.000,9, -999.00,9, -999.00,9,     -999.0,9, 20210504,      916,  25.3212, -65.6983,     9.6133,2,     0.0424,1,     4.6786,1,     -999.0,9,     -999.0,9,     -999.0,9
325020210420,        A22,      51,          1,         21,         21,2,20210504,       0727,    25.3212,   -65.6983,       5312,   943.2,   7.9205,  35.1131,2,  35.1150,2,    153.6,2,   153.8,2,   15.90,2,   25.07,2,    0.00,2,    1.55,2,-999.000,9,-999.000,9,-999.0000,9,  2204.6,2, 2316.26,2, -999.000,9,  -999.00,    7.6607,2,    24.92, -999.00,9, -999.00,9, -999.00, -999.00,9,-999.000,9, -999.00,9, -999.00,9,     -999.0,9, 20210504,      913,  25.3212, -65.6983,     7.9252,2,     0.0424,1,     4.6789,1,     -999.0,9,     -999.0,9,     -999.0,9
325020210420,        A22,      51,          1,         20,         20,2,20210504,       0727,    25.3212,   -65.6983,       5312,  1044.3,   6.8480,  35.0804,2,  35.0801,2,    176.6,2,   176.7,2,   15.90,2,   23.68,2,    0.00,2,    1.48,2,   1.077,2,   0.567,2,   0.3900,2,  2197.0,2, 2317.18,2, -999.000,9,  -999.00,   7.67224,2,    25.00, -999.00,9, -999.00,9, -999.00, -999.00,9,-999.000,9, -999.00,9, -999.00,9,      18.33,2, 20210504,      910,  25.3212, -65.6983,     6.8484,2,     0.0425,1,     4.6793,1,     -999.0,9,     -999.0,9,     -999.0,9
325020210420,        A22,      51,          1,         19,         19,2,20210504,       0727,    25.3212,   -65.6983,       5312,  1145.6,   5.9730,  35.0774,2,  35.0762,2,    203.9,2,   203.7,2,   14.63,2,   21.50,2,    0.00,2,    1.36,2,-999.000,9,-999.000,9,-999.0000,9,  -999.0,9, -999.00,9, -999.000,9,  -999.00,-999.00000,9,  -999.00, -999.00,9, -999.00,9, -999.00, -999.00,9,-999.000,9, -999.00,9, -999.00,9,     -999.0,9, 20210504,      907,  25.3212, -65.6983,     5.9719,2,     0.0430,1,     4.6800,1,     -999.0,9,     -999.0,9,     -999.0,9
325020210420,        A22,      51,          1,         18,         18,2,20210504,       0727,    25.3212,   -65.6983,       5312,  1246.4,   5.2788,  35.0642,2,  35.0636,2,    227.2,2,   227.5,2,   13.56,2,   19.70,2,    0.00,2,    1.25,2,-999.000,9,-999.000,9,-999.0000,9,  2181.4,2, 2315.61,2, -999.000,9,  -999.00,   7.71204,6,    24.99, -999.00,9, -999.00,9, -999.00, -999.00,9,-999.000,9, -999.00,9, -999.00,9,     -999.0,9, 20210504,      903,  25.3212, -65.6983,     5.2799,2,     0.0417,1,     4.6803,1,     -999.0,9,     -999.0,9,     -999.0,9
325020210420,        A22,      51,          1,         17,         17,2,20210504,       0727,    25.3212,   -65.6983,       5312,  1347.0,   4.9726,  35.0580,2,  35.0571,2,    235.8,2,   235.9,2,   13.36,2,   19.14,2,    0.00,2,    1.21,2,-999.000,9,-999.000,9,-999.0000,9,  -999.0,9, -999.00,9, -999.000,9,  -999.00,-999.00000,9,  -999.00, -999.00,9, -999.00,9, -999.00, -999.00,9,-999.000,9, -999.00,9, -999.00,9,     -999.0,9, 20210504,      900,  25.3212, -65.6983,     4.9730,2,     0.0411,1,     4.6801,1,     -999.0,9,     -999.0,9,     -999.0,9
325020210420,        A22,      51,          1,         16,         16,2,20210504,       0727,    25.3212,   -65.6983,       5312,  1449.4,   4.7009,  35.0490,2,  35.0484,2,    242.1,2,   242.5,2,   13.56,2,   18.80,2,    0.00,2,    1.19,2,-999.000,9,-999.000,9,-999.0000,9,  -999.0,9, -999.00,9, -999.000,9,  -999.00,-999.00000,9,  -999.00, -999.00,9, -999.00,9, -999.00, -999.00,9,-999.000,9, -999.00,9, -999.00,9,     -999.0,9, 20210504,      855,  25.3212, -65.6983,     4.7010,2,     0.0428,1,     4.6813,1,     -999.0,9,     -999.0,9,     -999.0,9
325020210420,        A22,      51,          1,         15,         15,2,20210504,       0727,    25.3212,   -65.6983,       5312,  1551.3,   4.4628,  35.0359,2,  35.0356,2,    246.7,2,   247.0,2,   13.85,2,   18.60,2,    0.00,2,    1.19,2,   1.494,2,   0.748,2,   0.3600,2,  2172.9,2, 2312.18,2, -999.000,9,  -999.00,   7.72734,2,    25.00, -999.00,9, -999.00,9, -999.00, -999.00,9,-999.000,9, -999.00,9, -999.00,9,      13.85,2, 20210504,      853,  25.3211, -65.6983,     4.4617,2,     0.0416,1,     4.6802,1,     -999.0,9,     -999.0,9,     -999.0,9
325020210420,        A22,      51,          1,         14,         14,2,20210504,       0727,    25.3212,   -65.6983,       5312,  1683.1,   4.2491,  35.0296,2,  35.0291,2,    249.0,2,   249.5,2,   14.73,2,   18.57,2,    0.00,2,    1.19,2,-999.000,9,-999.000,9,-999.0000,9,  -999.0,9, -999.00,9, -999.000,9,  -999.00,-999.00000,9,  -999.00, -999.00,9, -999.00,9, -999.00, -999.00,9,-999.000,9, -999.00,9, -999.00,9,     -999.0,9, 20210504,      849,  25.3212, -65.6983,     4.2481,2,     0.0424,1,     4.6807,1,     -999.0,9,     -999.0,9,     -999.0,9
325020210420,        A22,      51,          1,         13,         13,2,20210504,       0727,    25.3212,   -65.6983,       5312,  1886.3,   3.7971,  35.0015,2,  35.0006,2,    253.5,2,   254.1,2,   17.07,2,   18.59,2,    0.00,2,    1.20,2,-999.000,9,-999.000,9,-999.0000,9,  -999.0,9, -999.00,9, -999.000,9,  -999.00,-999.00000,9,  -999.00, -999.00,9, -999.00,9, -999.00, -999.00,9,-999.000,9, -999.00,9, -999.00,9,     -999.0,9, 20210504,      845,  25.3211, -65.6983,     3.7961,2,     0.0424,1,     4.6811,1,     -999.0,9,     -999.0,9,     -999.0,9
325020210420,        A22,      51,          1,         12,         12,2,20210504,       0727,    25.3212,   -65.6983,       5312,  2108.8,   3.5546,  34.9923,2,  34.9923,2,    252.2,2,   252.9,2,   20.58,2,   18.98,2,    0.00,2,    1.23,2,-999.000,9,-999.000,9,-999.0000,9,  -999.0,9, -999.00,9, -999.000,9,  -999.00,-999.00000,9,  -999.00, -999.00,9, -999.00,9, -999.00, -999.00,9,-999.000,9, -999.00,9, -999.00,9,     -999.0,9, 20210504,      839,  25.3212, -65.6983,     3.5561,2,     0.0423,1,     4.6805,1,     -999.0,9,     -999.0,9,     -999.0,9
325020210420,        A22,      51,          1,         11,         11,2,20210504,       0727,    25.3212,   -65.6983,       5312,  2362.5,   3.2505,  34.9717,2,  34.9744,3,    252.4,2,   252.7,2,   24.19,2,   19.32,2,    0.00,2,    1.26,2,   0.317,2,   0.166,2,   0.0900,2,  2177.3,2, 2322.73,2, -999.000,9,  -999.00,   7.74129,2,    24.99, -999.00,9, -999.00,9, -999.00, -999.00,9,-999.000,9, -999.00,9, -999.00,9,      13.33,2, 20210504,      834,  25.3212, -65.6983,     3.2517,2,     0.0429,1,     4.6806,1,     -999.0,9,     -999.0,9,     -999.0,9
325020210420,        A22,      51,          1,         10,         10,2,20210504,       0727,    25.3212,   -65.6983,       5312,  2618.3,   3.0260,  34.9547,2,  34.9549,2,    252.4,2,   252.6,2,   27.51,2,   19.67,2,    0.00,2,    1.29,2,-999.000,9,-999.000,9,-999.0000,9,  -999.0,9, -999.00,9, -999.000,9,  -999.00,-999.00000,9,  -999.00, -999.00,9, -999.00,9, -999.00, -999.00,9,-999.000,9, -999.00,9, -999.00,9,     -999.0,9, 20210504,      828,  25.3212, -65.6983,     3.0269,2,     0.0429,1,     4.6809,1,     -999.0,9,     -999.0,9,     -999.0,9
325020210420,        A22,      51,          1,          9,          9,2,20210504,       0727,    25.3212,   -65.6983,       5312,  2872.8,   2.8716,  34.9419,2,  34.9425,2,    252.3,2,   252.6,2,   30.04,2,   19.96,2,    0.00,2,    1.31,2,   0.144,2,   0.074,2,   0.0700,2,  2180.5,2, 2327.24,2, -999.000,9,  -999.00,   7.74103,2,    24.97, -999.00,9, -999.00,9, -999.00, -999.00,9,-999.000,9, -999.00,9, -999.00,9,      13.25,2, 20210504,      822,  25.3212, -65.6983,     2.8716,2,     0.0423,1,     4.6803,1,     -999.0,9,     -999.0,9,     -999.0,9
325020210420,        A22,      51,          1,          8,          8,2,20210504,       0727,    25.3212,   -65.6983,       5312,  3143.1,   2.6947,  34.9265,2,  34.9262,2,    255.1,2,   255.3,2,   31.31,2,   19.86,2,    0.00,2,    1.31,2,-999.000,9,-999.000,9,-999.0000,9,  -999.0,9, -999.00,9, -999.000,9,  -999.00,-999.00000,9,  -999.00, -999.00,9, -999.00,9, -999.00, -999.00,9,-999.000,9, -999.00,9, -999.00,9,     -999.0,9, 20210504,      816,  25.3212, -65.6983,     2.6954,2,     0.0423,1,     4.6800,1,     -999.0,9,     -999.0,9,     -999.0,9
325020210420,        A22,      51,          1,          7,          7,2,20210504,       0727,    25.3212,   -65.6983,       5312,  3450.3,   2.5303,  34.9123,2,  34.9130,2,    259.2,2,   259.1,2,   31.31,2,   19.52,2,    0.00,2,    1.30,2,   0.326,2,   0.170,2,   0.1400,2,  2178.3,2, 2324.76,2, -999.000,9,  -999.00,   7.74005,2,    24.98, -999.00,9, -999.00,9, -999.00, -999.00,9,-999.000,9, -999.00,9, -999.00,9,      13.34,2, 20210504,      810,  25.3212, -65.6983,     2.5302,2,     0.0428,1,     4.6802,1,     -999.0,9,     -999.0,9,     -999.0,9
325020210420,        A22,      51,          1,          6,          6,2,20210504,       0727,    25.3212,   -65.6983,       5312,  3756.6,   2.4087,  34.9029,2,  34.9022,2,    263.5,2,   263.8,2,   29.65,2,   18.88,2,    0.00,2,    1.26,2,-999.000,9,-999.000,9,-999.0000,9,  -999.0,9, -999.00,9, -999.000,9,  -999.00,-999.00000,9,  -999.00, -999.00,9, -999.00,9, -999.00, -999.00,9,-999.000,9, -999.00,9, -999.00,9,     -999.0,9, 20210504,      802,  25.3212, -65.6983,     2.4088,2,     0.0429,1,     4.6802,1,     -999.0,9,     -999.0,9,     -999.0,9
325020210420,        A22,      51,          1,          5,          5,2,20210504,       0727,    25.3212,   -65.6983,       5312,  4064.5,   2.3196,  34.8944,2,  34.8943,2,    263.3,2,   263.5,2,   31.80,2,   19.08,2,    0.00,2,    1.27,2,   0.542,2,   0.275,2,   0.1700,2,  2180.0,2, 2325.74,2, -999.000,9,  -999.00,   7.73773,6,    24.96, -999.00,9, -999.00,9, -999.00, -999.00,9,-999.000,9, -999.00,9, -999.00,9,      13.56,2, 20210504,      754,  25.3212, -65.6983,     2.3200,2,     0.0424,1,     4.6801,1,     -999.0,9,     -999.0,9,     -999.0,9
325020210420,        A22,      51,          1,          4,          4,2,20210504,       0727,    25.3212,   -65.6983,       5312,  4372.2,   2.2643,  34.8866,2,  34.8863,2,    261.6,2,   261.9,2,   34.92,2,   19.49,2,    0.00,2,    1.30,2,   0.510,2,   0.263,2,   0.1400,2,  -999.0,9, -999.00,9, -999.000,9,  -999.00,-999.00000,9,  -999.00, -999.00,9, -999.00,9, -999.00, -999.00,9,-999.000,9, -999.00,9, -999.00,9,      13.46,2, 20210504,      749,  25.3212, -65.6983,     2.2645,2,     0.0434,1,     4.6799,1,     -999.0,9,     -999.0,9,     -999.0,9
325020210420,        A22,      51,          1,          3,          3,2,20210504,       0727,    25.3212,   -65.6983,       5312,  4681.3,   2.1980,  34.8756,2,  34.8759,2,    257.9,2,   258.3,2,   40.48,2,   20.35,2,    0.00,2,    1.37,2,   0.417,2,   0.226,2,   0.1800,2,  -999.0,9, -999.00,9, -999.000,9,  -999.00,-999.00000,9,  -999.00, -999.00,9, -999.00,9, -999.00, -999.00,9,-999.000,9, -999.00,9, -999.00,9,      13.60,2, 20210504,      743,  25.3211, -65.6983,     2.1979,2,     0.0429,1,     4.6795,1,     -999.0,9,     -999.0,9,     -999.0,9