BOTTLE,20230513CCHSIOCBG
EXPOCODE,SECT_ID,STNNBR,CASTNO,SAMPNO,BTLNBR,BTLNBR_FLAG_W,DATE,TIME,LATITUDE,LONGITUDE,DEPTH,CTDPRS,CTDTMP,CTDSAL,CTDSAL_FLAG_W,SALNTY,SALNTY_FLAG_W,CTDOXY,CTDOXY_FLAG_W,OXYGEN,OXYGEN_FLAG_W,SILCAT,SILCAT_FLAG_W,NITRAT,NITRAT_FLAG_W,NITRIT,NITRIT_FLAG_W,PHSPHT,PHSPHT_FLAG_W,CFC-11,CFC-11_FLAG_W,CFC-12,CFC-12_FLAG_W,SF6,SF6_FLAG_W,TCARBN,TCARBN_FLAG_W,ALKALI,ALKALI_FLAG_W,FCO2,FCO2_FLAG_W,FCO2TMP,PH_TOT,PH_TOT_FLAG_W,PH_TMP,DELC13,DELC13_FLAG_W,DELC14,DELC14_FLAG_W,C14ERR,DELO18,DELO18_FLAG_W,POC,POC_FLAG_W,DOC,DOC_FLAG_W,TDN,TDN_FLAG_W,N2O,N2O_FLAG_W,BTL_DATE,BTL_TIME,BTL_LAT,BTL_LON,REFTMP,REFTMP_FLAG_W,CTDFLUOR,CTDFLUOR_FLAG_W,CTDXMISS,CTDXMISS_FLAG_W,D15N_NO2+NO3,D15N_NO2+NO3_FLAG_W,D18O_NO2+NO3,D18O_NO2+NO3_FLAG_W,HPLC,HPLC_FLAG_W
,,,,,,,,,,,METERS,DBAR,ITS-90,PSS-78,,PSS-78,,UMOL/KG,,UMOL/KG,,UMOL/KG,,UMOL/KG,,UMOL/KG,,UMOL/KG,,PMOL/KG,,PMOL/KG,,FMOL/KG,,UMOL/KG,,UMOL/KG,,UATM,,DEG C,,,DEG C,/MILLE,,/MILLE,,/MILLE,/MILLE,,UG/KG,,UMOL/KG,,UMOL/KG,,NMOL/KG,,,,,,ITS-90,,VOLTS,,VOLTS,,/MILLE,,/MILLE,,,
325020210420,        A22,      33,          1,         31,         31,2,20210429,       0408,    18.7516,   -66.0043,       1980,     5.2,  26.9118,  36.0789,2,  36.0811,2,    201.6,2,   201.1,2,    1.37,2,    0.00,2,    0.00,2,    0.00,2,-999.000,9,-999.000,9,-999.0000,9,  2034.0,6, 2361.48,2, -999.000,9,  -999.00,   8.09331,6,    25.00, -999.00,9, -999.00,9, -999.00, -999.00,1,-999.000,9, -999.00,9, -999.00,9,     -999.0,9, 20210429,      523,  18.7516, -66.0043,    26.9060,2,     0.0466,1,     4.6320,1,     -999.0,9,     -999.0,9,     -999.0,9
325020210420,        A22,      33,          1,         30,         30,2,20210429,       0408,    18.7516,   -66.0043,       1980,    35.3,  26.4372,  36.5872,2,  36.5876,2,    204.6,2,   204.4,2,    1.07,2,    0.00,2,    0.00,2,    0.00,2,-999.000,9,-999.000,9,-999.0000,9,  -999.0,9, -999.00,9, -999.000,9,  -999.00,-999.00000,9,  -999.00, -999.00,9, -999.00,9, -999.00, -999.00,9,-999.000,9, -999.00,9, -999.00,9,     -999.0,9, 20210429,      521,  18.7516, -66.0043,    26.4365,2,     0.0472,1,     4.6310,1,     -999.0,9,     -999.0,9,     -999.0,9
325020210420,        A22,      33,          1,         29,         29,2,20210429,       0408,    18.7516,   -66.0043,       1980,    60.3,  26.2061,  36.6906,2,  36.6931,2,    203.8,2,   204.0,2,    1.17,2,    0.00,2,    0.00,2,    0.00,2,-999.000,9,-999.000,9,-999.0000,9,  2060.1,2, 2399.48,2, -999.000,9,  -999.00,   8.10214,6,    25.02, -999.00,9, -999.00,9, -999.00, -999.00,9,-999.000,9, -999.00,9, -999.00,9,     -999.0,9, 20210429,      519,  18.7516, -66.0043,    26.2022,2,     0.0519,1,     4.6354,1,     -999.0,9,     -999.0,9,     -999.0,9
325020210420,        A22,      33,          1,         28,         28,2,20210429,       0408,    18.7516,   -66.0043,       1980,    85.8,  25.9298,  36.8823,2,  36.8903,2,    202.6,2,   202.7,2,    0.88,2,    0.00,2,    0.00,2,    0.00,2,-999.000,9,-999.000,9,-999.0000,9,  -999.0,9, -999.00,9, -999.000,9,  -999.00,-999.00000,9,  -999.00, -999.00,9, -999.00,9, -999.00, -999.00,9,-999.000,9, -999.00,9, -999.00,9,     -999.0,9, 20210429,      518,  18.7516, -66.0043,    25.9265,2,     0.0580,1,     4.6395,1,     -999.0,9,     -999.0,9,     -999.0,9
325020210420,        A22,      33,          1,         27,         27,2,20210429,       0408,    18.7516,   -66.0043,       1980,   110.3,  24.9235,  37.1901,2,  37.1994,2,    195.6,3,   197.6,2,    0.49,2,    0.00,2,    0.00,2,    0.00,2,-999.000,9,-999.000,9,-999.0000,9,  2108.3,2, 2426.36,2, -999.000,9,  -999.00,   8.05935,2,    24.99, -999.00,9, -999.00,9, -999.00, -999.00,1,-999.000,9, -999.00,9, -999.00,9,     -999.0,9, 20210429,      516,  18.7516, -66.0043,    24.8075,2,     0.0730,1,     4.6414,1,     -999.0,9,     -999.0,9,     -999.0,9
325020210420,        A22,      33,          1,         26,         26,2,20210429,       0408,    18.7516,   -66.0043,       1980,   136.0,  22.9039,  37.1377,2,  37.1215,2,    185.0,2,   184.9,2,    0.68,2,    0.61,2,    0.04,2,    0.00,2,-999.000,9,-999.000,9,-999.0000,9,  -999.0,9, -999.00,9, -999.000,9,  -999.00,-999.00000,9,  -999.00, -999.00,9, -999.00,9, -999.00, -999.00,9,-999.000,9, -999.00,9, -999.00,9,     -999.0,9, 20210429,      514,  18.7516, -66.0043,    22.9067,2,     0.0679,1,     4.6509,1,     -999.0,9,     -999.0,9,     -999.0,9
325020210420,        A22,      33,          1,         25,         25,2,20210429,       0408,    18.7516,   -66.0043,       1980,   160.8,  21.1885,  36.9858,2,  37.0023,2,    178.0,2,   177.1,2,    0.68,2,    1.58,2,    0.01,2,    0.01,2,-999.000,9,-999.000,9,-999.0000,9,  2145.6,2, 2417.35,2, -999.000,9,  -999.00,   7.97626,2,    25.02, -999.00,9, -999.00,9, -999.00, -999.00,9,-999.000,9, -999.00,9, -999.00,9,     -999.0,9, 20210429,      513,  18.7516, -66.0043,    21.2301,2,     0.0496,1,     4.6640,1,     -999.0,9,     -999.0,9,     -999.0,9
325020210420,        A22,      33,          1,         24,         24,2,20210429,       0408,    18.7516,   -66.0043,       1980,   186.4,  20.1558,  36.8420,2,  36.8506,2,    177.8,2,   177.4,2,    0.78,2,    2.60,2,    0.00,2,    0.05,2,-999.000,9,-999.000,9,-999.0000,9,  -999.0,9, -999.00,9, -999.000,9,  -999.00,-999.00000,9,  -999.00, -999.00,9, -999.00,9, -999.00, -999.00,9,-999.000,9, -999.00,9, -999.00,9,     -999.0,9, 20210429,      510,  18.7516, -66.0043,    20.2272,2,     0.0420,1,     4.6699,1,     -999.0,9,     -999.0,9,     -999.0,9
325020210420,        A22,      33,          1,         23,         23,2,20210429,       0408,    18.7516,   -66.0043,       1980,   212.1,  19.5757,  36.7523,2,  36.7512,2,    179.3,2,   179.6,2,    0.97,2,    3.46,2,    0.00,2,    0.09,2,-999.000,9,-999.000,9,-999.0000,9,  2142.6,2, 2399.12,2, -999.000,9,  -999.00,   7.95197,2,    24.93, -999.00,9, -999.00,9, -999.00, -999.00,9,-999.000,9, -999.00,9, -999.00,9,     -999.0,9, 20210429,      509,  18.7516, -66.0043,    19.5722,2,     0.0396,1,     4.6719,1,     -999.0,9,     -999.0,9,     -999.0,9
325020210420,        A22,      33,          1,         22,         22,2,20210429,       0408,    18.7516,   -66.0043,       1980,   236.7,  18.8417,  36.6322,2,  36.6316,2,    183.5,2,   183.8,2,    1.27,2,    4.54,2,    0.00,2,    0.17,2,-999.000,9,-999.000,9,-999.0000,9,  -999.0,9, -999.00,9, -999.000,9,  -999.00,-999.00000,9,  -999.00, -999.00,9, -999.00,9, -999.00, -999.00,9,-999.000,9, -999.00,9, -999.00,9,     -999.0,9, 20210429,      507,  18.7516, -66.0043,    18.8412,2,     0.0393,1,     4.6707,1,     -999.0,9,     -999.0,9,     -999.0,9
325020210420,        A22,      33,          1,         21,         21,2,20210429,       0408,    18.7516,   -66.0043,       1980,   266.8,  18.2096,  36.5407,2,  36.5448,2,    183.2,2,   185.0,2,    1.56,2,    5.51,2,    0.00,2,    0.22,2,-999.000,9,-999.000,9,-999.0000,9,  -999.0,9, -999.00,9, -999.000,9,  -999.00,-999.00000,9,  -999.00, -999.00,9, -999.00,9, -999.00, -999.00,9,-999.000,9, -999.00,9, -999.00,9,     -999.0,9, 20210429,      505,  18.7516, -66.0043,    18.1965,2,     0.0387,1,     4.6745,1,     -999.0,9,     -999.0,9,     -999.0,9
325020210420,        A22,      33,          1,         20,         20,2,20210429,       0408,    18.7516,   -66.0043,       1980,   317.3,  17.1465,  36.3698,2,  36.3810,2,    173.2,2,   173.1,2,    2.24,2,    8.21,2,    0.00,2,    0.39,2,-999.000,9,-999.000,9,-999.0000,9,  2156.3,2, 2375.95,2, -999.000,9,  -999.00,   7.89596,2,    24.97, -999.00,9, -999.00,9, -999.00, -999.00,9,-999.000,9, -999.00,9, -999.00,9,     -999.0,9, 20210429,      502,  18.7516, -66.0043,    17.1616,2,     0.0401,1,     4.6760,1,     -999.0,9,     -999.0,9,     -999.0,9
325020210420,        A22,      33,          1,         19,         19,2,20210429,       0408,    18.7516,   -66.0043,       1980,   367.5,  16.3128,  36.2361,2,  36.2234,2,    168.0,2,   167.9,2,    2.92,2,   10.22,2,    0.00,2,    0.53,2,-999.000,9,-999.000,9,-999.0000,9,  -999.0,9, -999.00,9, -999.000,9,  -999.00,-999.00000,9,  -999.00, -999.00,9, -999.00,9, -999.00, -999.00,9,-999.000,9, -999.00,9, -999.00,9,     -999.0,9, 20210429,      500,  18.7516, -66.0043,    16.2847,2,     0.0399,1,     4.6773,1,     -999.0,9,     -999.0,9,     -999.0,9
325020210420,        A22,      33,          1,         18,         18,2,20210429,       0408,    18.7516,   -66.0043,       1980,   417.7,  14.6370,  35.9508,2,  35.9394,2,    151.0,3,   153.1,2,    4.97,2,   14.54,2,    0.00,2,    0.80,2,-999.000,9,-999.000,9,-999.0000,9,  -999.0,9, -999.00,9, -999.000,9,  -999.00,-999.00000,9,  -999.00, -999.00,9, -999.00,9, -999.00, -999.00,9,-999.000,9, -999.00,9, -999.00,9,     -999.0,9, 20210429,      458,  18.7516, -66.0043,    14.6573,2,     0.0406,1,     4.6782,1,     -999.0,9,     -999.0,9,     -999.0,9
325020210420,        A22,      33,          1,         17,         17,2,20210429,       0408,    18.7516,   -66.0043,       1980,   468.4,  13.2379,  35.7058,2,  35.7053,2,    135.8,2,   136.5,2,    7.22,2,   18.67,2,    0.00,2,    1.08,2,   2.062,2,   1.195,2,   0.9500,2,  -999.0,9, -999.00,9, -999.000,9,  -999.00,-999.00000,9,  -999.00, -999.00,9, -999.00,9, -999.00, -999.00,9,-999.000,9, -999.00,9, -999.00,9,      20.65,2, 20210429,      456,  18.7516, -66.0043,    13.2308,2,     0.0399,1,     4.6787,1,     -999.0,9,     -999.0,9,     -999.0,9
325020210420,        A22,      33,          1,         16,         16,2,20210429,       0408,    18.7516,   -66.0043,       1980,   518.8,  12.5580,  35.6078,2,  35.6100,2,    135.2,2,   135.2,2,    8.10,2,   19.96,2,    0.00,2,    1.16,2,-999.000,9,-999.000,9,-999.0000,9,  -999.0,9, -999.00,9, -999.000,9,  -999.00,-999.00000,9,  -999.00, -999.00,9, -999.00,9, -999.00, -999.00,9,-999.000,9, -999.00,9, -999.00,9,     -999.0,9, 20210429,      454,  18.7516, -66.0043,    12.5505,2,     0.0413,1,     4.6789,1,     -999.0,9,     -999.0,9,     -999.0,9
325020210420,        A22,      33,          1,         15,         15,2,20210429,       0408,    18.7516,   -66.0043,       1980,   569.4,  11.6030,  35.4762,2,  35.4776,2,    133.2,2,   133.5,2,    9.75,2,   21.90,2,    0.00,2,    1.29,2,-999.000,9,-999.000,9,-999.0000,9,  2196.4,2, 2330.02,2, -999.000,9,  -999.00,   7.70167,2,    25.04, -999.00,9, -999.00,9, -999.00, -999.00,9,-999.000,9, -999.00,9, -999.00,9,     -999.0,9, 20210429,      451,  18.7516, -66.0043,    11.6000,2,     0.0409,1,     4.6811,1,     -999.0,9,     -999.0,9,     -999.0,9
325020210420,        A22,      33,          1,         14,         14,2,20210429,       0408,    18.7516,   -66.0043,       1980,   639.6,   9.9255,  35.2461,2,  35.2491,2,    129.5,2,   129.5,2,   13.46,2,   25.36,2,    0.00,2,    1.55,2,   1.321,2,   0.737,2,   0.4500,2,  -999.0,9, -999.00,9, -999.000,9,  -999.00,-999.00000,9,  -999.00, -999.00,9, -999.00,9, -999.00, -999.00,9,-999.000,9, -999.00,9, -999.00,9,      23.05,2, 20210429,      448,  18.7516, -66.0043,     9.9299,2,     0.0411,1,     4.6801,1,     -999.0,9,     -999.0,9,     -999.0,9
325020210420,        A22,      33,          1,         13,         13,2,20210429,       0408,    18.7516,   -66.0043,       1980,   740.3,   8.4601,  35.0649,2,  35.0655,2,    129.2,2,   129.3,2,   17.17,2,   28.12,2,    0.00,2,    1.76,2,-999.000,9,-999.000,9,-999.0000,9,  2211.5,2,  2313.3,2, -999.000,9,  -999.00,   7.62123,2,    24.95, -999.00,9, -999.00,9, -999.00, -999.00,9,-999.000,9, -999.00,9, -999.00,9,     -999.0,9, 20210429,      444,  18.7516, -66.0043,     8.4678,2,     0.0422,1,     4.6829,1,     -999.0,9,     -999.0,9,     -999.0,9
325020210420,        A22,      33,          1,         12,         12,2,20210429,       0408,    18.7516,   -66.0043,       1980,   842.3,   7.0560,  34.9399,2,  34.9408,2,    137.3,2,   137.5,2,   20.59,2,   29.42,2,    0.00,2,    1.88,2,   0.539,2,   0.292,2,   0.1800,2,  -999.0,9, -999.00,9, -999.000,9,  -999.00,-999.00000,9,  -999.00, -999.00,9, -999.00,9, -999.00, -999.00,9,-999.000,9, -999.00,9, -999.00,9,      23.25,2, 20210429,      441,  18.7516, -66.0043,     7.0555,2,     0.0429,1,     4.6830,1,     -999.0,9,     -999.0,9,     -999.0,9
325020210420,        A22,      33,          1,         11,         11,2,20210429,       0408,    18.7516,   -66.0043,       1980,   943.2,   6.2092,  34.9057,2,  34.9044,2,    150.5,2,   150.3,2,   21.86,2,   28.99,2,    0.00,2,    1.88,2,-999.000,9,-999.000,9,-999.0000,9,  2212.4,2, 2312.55,2, -999.000,9,  -999.00,   7.60971,6,    24.98, -999.00,9, -999.00,9, -999.00, -999.00,9,-999.000,9, -999.00,9, -999.00,9,     -999.0,9, 20210429,      439,  18.7516, -66.0043,     6.2083,2,     0.0422,1,     4.6840,1,     -999.0,9,     -999.0,9,     -999.0,9
325020210420,        A22,      33,          1,         10,         10,2,20210429,       0408,    18.7516,   -66.0043,       1980,  1044.4,   5.7613,  34.9849,2,  34.9835,2,    184.6,2,   184.4,2,   18.83,2,   24.67,2,    0.00,2,    1.61,2,   0.771,2,   0.407,2,   0.3000,2,  -999.0,9, -999.00,9, -999.000,9,  -999.00,-999.00000,9,  -999.00, -999.00,9, -999.00,9, -999.00, -999.00,9,-999.000,9, -999.00,9, -999.00,9,      18.85,2, 20210429,      435,  18.7516, -66.0043,     5.7608,2,     0.0423,1,     4.6845,1,     -999.0,9,     -999.0,9,     -999.0,9
325020210420,        A22,      33,          1,          9,          9,2,20210429,       0408,    18.7516,   -66.0043,       1980,  1145.4,   5.3508,  35.0461,2,  35.0455,2,    223.0,2,   222.9,2,   14.15,2,   20.18,2,    0.00,2,    1.31,2,   1.747,2,   0.910,2,   0.5900,2,  2183.2,2, 2314.04,6, -999.000,9,  -999.00,   7.70073,2,    25.05, -999.00,9, -999.00,9, -999.00, -999.00,9,-999.000,9, -999.00,9, -999.00,9,      15.88,2, 20210429,      432,  18.7516, -66.0043,     5.3495,2,     0.0424,1,     4.6837,1,     -999.0,9,     -999.0,9,     -999.0,9
325020210420,        A22,      33,          1,          8,          8,2,20210429,       0408,    18.7516,   -66.0043,       1980,  1246.1,   4.9270,  35.0367,2,  35.0358,2,    237.8,2,   238.1,2,   13.08,2,   19.00,2,    0.00,2,    1.24,2,-999.000,9,-999.000,9,-999.0000,9,  -999.0,9, -999.00,9, -999.000,9,  -999.00,-999.00000,9,  -999.00, -999.00,9, -999.00,9, -999.00, -999.00,9,-999.000,9, -999.00,9, -999.00,9,     -999.0,9, 20210429,      430,  18.7516, -66.0043,     4.9263,2,     0.0429,1,     4.6844,1,     -999.0,9,     -999.0,9,     -999.0,9
325020210420,        A22,      33,          1,          7,          7,2,20210429,       0408,    18.7516,   -66.0043,       1980,  1347.8,   4.5482,  35.0168,2,  35.0157,2,    246.6,2,   246.8,2,   13.08,2,   18.62,2,    0.00,2,    1.20,2,-999.000,9,-999.000,9,-999.0000,9,  -999.0,9, -999.00,9, -999.000,9,  -999.00,-999.00000,9,  -999.00, -999.00,9, -999.00,9, -999.00, -999.00,9,-999.000,9, -999.00,9, -999.00,9,     -999.0,9, 20210429,      427,  18.7516, -66.0043,     4.5481,2,     0.0416,1,     4.6850,1,     -999.0,9,     -999.0,9,     -999.0,9
325020210420,        A22,      33,          1,          6,          6,2,20210429,       0408,    18.7516,   -66.0043,       1980,  1450.1,   4.2952,  35.0037,2,  35.0026,2,    251.9,2,   252.2,2,   13.27,2,   18.29,2,    0.00,2,    1.19,2,   2.012,2,   1.044,2,   0.5100,2,  -999.0,9, -999.00,9, -999.000,9,  -999.00,-999.00000,9,  -999.00, -999.00,9, -999.00,9, -999.00, -999.00,9,-999.000,9, -999.00,9, -999.00,9,      14.15,2, 20210429,      424,  18.7516, -66.0043,     4.2946,2,     0.0420,1,     4.6841,1,     -999.0,9,     -999.0,9,     -999.0,9
325020210420,        A22,      33,          1,          5,          5,2,20210429,       0408,    18.7516,   -66.0043,       1980,  1550.8,   4.0927,  34.9940,2,  34.9931,2,    255.6,2,   255.8,2,   13.66,2,   18.11,2,    0.00,2,    1.17,2,   1.933,2,   0.993,2,   0.5500,2,  2172.1,2,  2308.0,2, -999.000,9,  -999.00,   7.72176,6,    25.04, -999.00,9, -999.00,9, -999.00, -999.00,9,-999.000,9, -999.00,9, -999.00,9,      13.71,2, 20210429,      421,  18.7516, -66.0043,     4.0921,2,     0.0423,1,     4.6849,1,     -999.0,9,     -999.0,9,     -999.0,9
325020210420,        A22,      33,          1,          4,          4,2,20210429,       0408,    18.7516,   -66.0043,       1980,  1652.1,   3.9148,  34.9844,2,  34.9833,2,    257.8,2,   258.1,2,   14.25,2,   18.09,2,    0.00,2,    1.18,2,   1.819,2,   0.915,2,   0.4800,2,  -999.0,9, -999.00,9, -999.000,9,  -999.00,-999.00000,9,  -999.00, -999.00,9, -999.00,9, -999.00, -999.00,9,-999.000,9, -999.00,9, -999.00,9,      13.83,2, 20210429,      417,  18.7516, -66.0043,     3.9146,2,     0.0429,1,     4.6850,1,     -999.0,9,     -999.0,9,     -999.0,9
325020210420,        A22,      33,          1,          3,          3,4,20210429,       0408,    18.7516,   -66.0043,       1980,  1752.9,   3.7993,  34.9781,3,-999.0000,9,    259.1,3,  -999.0,9, -999.00,9, -999.00,9, -999.00,9, -999.00,9,-999.000,9,-999.000,9,-999.0000,9,  -999.0,9, -999.00,9, -999.000,9,  -999.00,-999.00000,9,  -999.00, -999.00,9, -999.00,9, -999.00, -999.00,9,-999.000,9, -999.00,9, -999.00,9,     -999.0,9, 20210429,      415,  18.7516, -66.0043,     3.7986,3,     0.0426,1,     4.6852,1,     -999.0,9,     -999.0,9,     -999.0,9
325020210420,        A22,      33,          1,          2,          2,2,20210429,       0408,    18.7516,   -66.0043,       1980,  1854.0,   3.7252,  34.9742,2,  34.9721,2,    259.7,2,   260.0,2,   15.13,2,   18.10,2,    0.00,2,    1.18,2,   1.555,2,   0.816,2,   0.3300,2,  -999.0,9, -999.00,9, -999.000,9,  -999.00,-999.00000,9,  -999.00, -999.00,9, -999.00,9, -999.00, -999.00,9,-999.000,9, -999.00,9, -999.00,9,      13.87,2, 20210429,      412,  18.7516, -66.0043,     3.7233,2,     0.0417,1,     4.6854,1,     -999.0,9,     -999.0,9,     -999.0,9
325020210420,        A22,      33,          1,          1,          1,2,20210429,       0408,    18.7516,   -66.0043,       1980,  1991.6,   3.6672,  34.9708,2,  34.9701,2,    260.5,2,   260.4,2,   15.52,2,   18.08,2,    0.00,2,    1.18,2,   1.566,2,   0.782,2,   0.3600,2,  2173.2,2, 2309.04,6, -999.000,9,  -999.00,   7.73018,2,    25.00, -999.00,9, -999.00,9, -999.00, -999.00,9,-999.000,9, -999.00,9, -999.00,9,      13.77,2, 20210429,      408,  18.7516, -66.0043,     3.6663,2,     0.0420,1,     4.6858,1,     -999.0,9,     -999.0,9,     -999.0,9