BOTTLE,20230513CCHSIOCBG
EXPOCODE,SECT_ID,STNNBR,CASTNO,SAMPNO,BTLNBR,BTLNBR_FLAG_W,DATE,TIME,LATITUDE,LONGITUDE,DEPTH,CTDPRS,CTDTMP,CTDSAL,CTDSAL_FLAG_W,SALNTY,SALNTY_FLAG_W,CTDOXY,CTDOXY_FLAG_W,OXYGEN,OXYGEN_FLAG_W,SILCAT,SILCAT_FLAG_W,NITRAT,NITRAT_FLAG_W,NITRIT,NITRIT_FLAG_W,PHSPHT,PHSPHT_FLAG_W,CFC-11,CFC-11_FLAG_W,CFC-12,CFC-12_FLAG_W,SF6,SF6_FLAG_W,TCARBN,TCARBN_FLAG_W,ALKALI,ALKALI_FLAG_W,FCO2,FCO2_FLAG_W,FCO2TMP,PH_TOT,PH_TOT_FLAG_W,PH_TMP,DELC13,DELC13_FLAG_W,DELC14,DELC14_FLAG_W,C14ERR,DELO18,DELO18_FLAG_W,POC,POC_FLAG_W,DOC,DOC_FLAG_W,TDN,TDN_FLAG_W,N2O,N2O_FLAG_W,BTL_DATE,BTL_TIME,BTL_LAT,BTL_LON,REFTMP,REFTMP_FLAG_W,CTDFLUOR,CTDFLUOR_FLAG_W,CTDXMISS,CTDXMISS_FLAG_W,D15N_NO2+NO3,D15N_NO2+NO3_FLAG_W,D18O_NO2+NO3,D18O_NO2+NO3_FLAG_W,HPLC,HPLC_FLAG_W
,,,,,,,,,,,METERS,DBAR,ITS-90,PSS-78,,PSS-78,,UMOL/KG,,UMOL/KG,,UMOL/KG,,UMOL/KG,,UMOL/KG,,UMOL/KG,,PMOL/KG,,PMOL/KG,,FMOL/KG,,UMOL/KG,,UMOL/KG,,UATM,,DEG C,,,DEG C,/MILLE,,/MILLE,,/MILLE,/MILLE,,UG/KG,,UMOL/KG,,UMOL/KG,,NMOL/KG,,,,,,ITS-90,,VOLTS,,VOLTS,,/MILLE,,/MILLE,,,
325020210420,        A22,       8,          1,         36,         36,2,20210423,       0957,    13.4741,   -69.8219,       3733,     5.2,  27.1967,  35.9256,2,  35.9267,2,    201.8,2,   201.1,2,    0.88,2,    0.02,2,    0.00,2,    0.00,2,   1.446,2,   0.955,2,   1.6900,2,  2026.0,6, 2355.71,6,  295.270,2,    20.00,   8.09591,2,    25.00, -999.00,9, -999.00,9, -999.00, -999.00,1,-999.000,9,   76.40,2,    4.60,2,       6.09,2, 20210423,     1153,  13.4741, -69.8219,    27.1970,2,     0.0486,1,     4.6158,1,     -999.0,9,     -999.0,9,     -999.0,9
325020210420,        A22,       8,          1,         35,         35,2,20210423,       0957,    13.4741,   -69.8219,       3733,    25.0,  27.1993,  35.9261,2,  35.9267,2,    201.6,2,   201.1,2,    0.88,2,    0.01,2,    0.00,2,    0.00,2,   1.443,2,   0.944,2,   1.6900,2,  2026.9,2, 2353.06,2,  296.210,2,    20.00,   8.09602,6,    25.00, -999.00,9, -999.00,9, -999.00, -999.00,9,-999.000,9,   75.50,2,    4.55,2,       6.18,2, 20210423,     1151,  13.4741, -69.8219,    27.1986,2,     0.0505,1,     4.6173,1,     -999.0,9,     -999.0,9,     -999.0,9
325020210420,        A22,       8,          1,         34,         34,2,20210423,       0957,    13.4741,   -69.8219,       3733,    50.1,  27.0621,  35.9997,2,  36.0032,2,    203.5,2,   202.7,2,    0.68,2,    0.00,2,    0.00,2,    0.00,2,-999.000,9,-999.000,9,-999.0000,9,  2025.7,2,  2359.6,2, -999.000,9,  -999.00,   8.10016,2,    25.00, -999.00,9, -999.00,9, -999.00, -999.00,9,-999.000,9,   73.90,2,    4.77,2,     -999.0,9, 20210423,     1149,  13.4741, -69.8219,    27.0573,2,     0.0551,1,     4.6097,1,     -999.0,9,     -999.0,9,     -999.0,9
325020210420,        A22,       8,          1,         33,         33,2,20210423,       0957,    13.4741,   -69.8219,       3733,    75.3,  26.5583,  36.5895,2,  36.5848,2,    196.6,2,   197.1,2,    0.58,2,    0.00,2,    0.00,2,    0.00,2,-999.000,9,-999.000,9,-999.0000,9,  2058.4,2, 2393.34,2,  301.830,2,    20.00,    8.0938,6,    25.02, -999.00,9, -999.00,9, -999.00, -999.00,9,-999.000,9,   72.20,2,    4.35,2,     -999.0,9, 20210423,     1147,  13.4741, -69.8219,    26.5577,2,     0.0661,1,     4.6309,1,     -999.0,9,     -999.0,9,     -999.0,9
325020210420,        A22,       8,          1,         32,         32,2,20210423,       0957,    13.4741,   -69.8219,       3733,   101.0,  25.5908,  37.1335,2,  37.1193,2,    187.0,3,   189.8,2,    0.29,2,    0.18,2,    0.19,2,    0.00,2,   1.555,2,   1.030,2,   1.6500,2,  2103.1,2, 2424.68,2, -999.000,9,  -999.00,   8.05942,2,    24.99, -999.00,9, -999.00,9, -999.00, -999.00,1,-999.000,9,   66.70,2,    4.62,2,       6.90,2, 20210423,     1146,  13.4741, -69.8219,    25.6117,2,     0.0790,1,     4.6366,1,     -999.0,9,     -999.0,9,     -999.0,9
325020210420,        A22,       8,          1,         31,         31,2,20210423,       0957,    13.4741,   -69.8219,       3733,   125.9,  23.1610,  37.1869,2,  37.1829,2,    169.3,2,   170.3,2,    0.49,2,    2.00,2,    0.03,2,    0.06,2,-999.000,9,-999.000,9,-999.0000,9,  2146.6,2, 2427.16,2,  403.400,2,    20.00,   7.99046,2,    24.98, -999.00,9, -999.00,9, -999.00, -999.00,9,-999.000,9,   58.40,2,    5.17,2,     -999.0,9, 20210423,     1144,  13.4741, -69.8219,    23.1660,2,     0.0464,1,     4.6676,1,     -999.0,9,     -999.0,9,     -999.0,9
325020210420,        A22,       8,          1,         30,         30,2,20210423,       0957,    13.4741,   -69.8219,       3733,   151.0,  21.5062,  37.0178,2,  37.0144,2,    160.6,2,   161.5,2,    0.88,2,    3.76,2,    0.01,2,    0.13,2,   1.830,2,   1.174,2,   1.6700,2,  2159.2,2, 2417.46,2, -999.000,9,  -999.00,   7.94836,2,    25.00, -999.00,9, -999.00,9, -999.00, -999.00,9,-999.000,9,   57.90,2,    7.46,2,       9.66,2, 20210423,     1142,  13.4741, -69.8219,    21.5064,2,     0.0432,1,     4.6733,1,     -999.0,9,     -999.0,9,     -999.0,9
325020210420,        A22,       8,          1,         29,         29,2,20210423,       0957,    13.4741,   -69.8219,       3733,   201.2,  18.2751,  36.5112,2,  36.4978,2,    154.7,2,   155.1,2,    2.24,2,    8.76,2,    0.00,2,    0.42,2,-999.000,9,-999.000,9,-999.0000,9,  2164.4,2, 2382.32,2, -999.000,9,  -999.00,   7.88239,2,    24.98, -999.00,9, -999.00,9, -999.00, -999.00,9,-999.000,9,   49.60,2,   11.02,2,     -999.0,9, 20210423,     1139,  13.4741, -69.8219,    18.2741,2,     0.0397,1,     4.6764,1,     -999.0,9,     -999.0,9,     -999.0,9
325020210420,        A22,       8,          1,         28,         28,2,20210423,       0957,    13.4741,   -69.8219,       3733,   251.8,  16.0981,  36.1571,2,  36.1599,2,    150.9,2,   151.0,2,    3.90,2,   12.42,2,    0.00,2,    0.66,2,-999.000,9,-999.000,9,-999.0000,9,  2170.3,2, 2362.63,2,  591.930,2,    20.00,   7.83406,2,    24.96, -999.00,9, -999.00,9, -999.00, -999.00,9,-999.000,9,   47.00,2,   13.81,2,     -999.0,9, 20210423,     1138,  13.4741, -69.8219,    16.1082,2,     0.0412,1,     4.6782,1,     -999.0,9,     -999.0,9,     -999.0,9
325020210420,        A22,       8,          1,         27,         27,2,20210423,       0957,    13.4741,   -69.8219,       3733,   302.1,  14.2349,  35.8150,2,  35.8137,2,    135.6,2,   136.8,2,    6.53,2,   17.21,2,    0.00,2,    0.98,2,   2.074,2,   1.247,2,   1.1200,2,  2184.7,2, 2344.97,2, -999.000,9,  -999.00,   7.76118,2,    25.06, -999.00,9, -999.00,9, -999.00, -999.00,9,-999.000,9,   45.00,2, -999.00,1,      19.83,2, 20210423,     1136,  13.4741, -69.8219,    14.2302,2,     0.0405,1,     4.6786,1,     -999.0,9,     -999.0,9,     -999.0,9
325020210420,        A22,       8,          1,         26,         26,2,20210423,       0957,    13.4741,   -69.8219,       3733,   353.4,  12.1387,  35.4266,2,  35.4249,2,    123.6,2,   123.7,2,    9.75,2,   22.29,2,    0.00,2,    1.33,2,-999.000,9,-999.000,9,-999.0000,9,  2201.0,2, 2325.66,2,  849.310,2,    20.00,   7.68128,2,    25.06, -999.00,9, -999.00,9, -999.00, -999.00,9,-999.000,9,   46.70,2, -999.00,1,     -999.0,9, 20210423,     1134,  13.4741, -69.8220,    12.1379,2,     0.0413,1,     4.6758,1,     -999.0,9,     -999.0,9,     -999.0,9
325020210420,        A22,       8,          1,         25,         25,2,20210423,       0957,    13.4741,   -69.8219,       3733,   402.9,  11.0382,  35.2741,2,  35.2739,2,    119.7,2,   119.8,2,   11.60,2,   24.53,2,    0.00,2,    1.48,2,   1.781,2,   1.021,2,   0.6800,2,  2207.5,2, 2317.61,2, -999.000,9,  -999.00,   7.64841,2,    25.03, -999.00,9, -999.00,9, -999.00, -999.00,9,-999.000,9,   44.70,2, -999.00,1,      25.22,2, 20210423,     1131,  13.4741, -69.8219,    11.0381,2,     0.0417,1,     4.6756,1,     -999.0,9,     -999.0,9,     -999.0,9
325020210420,        A22,       8,          1,         24,         24,2,20210423,       0957,    13.4741,   -69.8219,       3733,   452.4,   9.9126,  35.1036,2,  35.1043,2,    118.8,2,   118.3,2,   13.94,2,   26.80,2,    0.00,2,    1.66,2,-999.000,9,-999.000,9,-999.0000,9,  2216.4,2, 2314.21,2,  986.950,2,    20.00,     7.616,2,    25.02, -999.00,9, -999.00,9, -999.00, -999.00,9,-999.000,9,   43.40,2, -999.00,1,     -999.0,9, 20210423,     1129,  13.4741, -69.8219,     9.9296,2,     0.0429,1,     4.6751,1,     -999.0,9,     -999.0,9,     -999.0,9
325020210420,        A22,       8,          1,         23,         23,2,20210423,       0957,    13.4741,   -69.8219,       3733,   503.6,   9.2957,  35.0209,2,  35.0187,2,    118.4,2,   118.1,2,   15.41,2,   28.15,2,    0.00,2,    1.75,2,   1.500,2,   0.819,2,   0.5300,2,  2213.4,6, 2309.24,2, 1028.140,2,    20.00,   7.59884,2,    25.02, -999.00,9, -999.00,9, -999.00, -999.00,9,-999.000,9,   44.90,2, -999.00,1,      26.48,2, 20210423,     1127,  13.4741, -69.8219,     9.3185,2,     0.0429,1,     4.6750,1,     -999.0,9,     -999.0,9,     -999.0,9
325020210420,        A22,       8,          1,         22,         22,2,20210423,       0957,    13.4741,   -69.8219,       3733,   605.0,   8.1022,  34.8817,2,  34.8800,2,    119.8,2,   120.5,2,   18.82,2,   30.23,2,    0.00,2,    1.90,2,-999.000,9,-999.000,9,-999.0000,9,  2217.8,2, 2302.87,2, 1088.100,6,    20.00,   7.57315,6,    25.02, -999.00,9, -999.00,9, -999.00, -999.00,9,-999.000,9,   41.60,2, -999.00,1,     -999.0,9, 20210423,     1124,  13.4741, -69.8219,     8.1028,2,     0.0429,1,     4.6777,1,     -999.0,9,     -999.0,9,     -999.0,9
325020210420,        A22,       8,          1,         21,         21,2,20210423,       0957,    13.4741,   -69.8219,       3733,   705.7,   6.9820,  34.7896,2,  34.7905,2,    125.7,2,   125.8,2,   21.94,2,   31.54,2,    0.00,2,    2.03,2,   0.727,6,   0.390,6,   0.2100,6,  2221.3,2, 2302.69,6, 1114.380,2,    20.00,    7.5607,2,    25.03, -999.00,9, -999.00,9, -999.00, -999.00,9,-999.000,9,   43.20,2, -999.00,1,      25.59,6, 20210423,     1120,  13.4741, -69.8219,     6.9825,2,     0.0428,1,     4.6801,1,     -999.0,9,     -999.0,9,     -999.0,9
325020210420,        A22,       8,          1,         20,         20,2,20210423,       0957,    13.4741,   -69.8219,       3733,   805.8,   6.2559,  34.7861,2,  34.7864,2,    136.0,2,   136.0,2,   23.99,2,   31.20,2,    0.00,2,    2.03,2,-999.000,9,-999.000,9,-999.0000,9,  2219.1,2, 2304.62,2, 1093.450,2,    20.00,   7.56983,2,    25.01, -999.00,9, -999.00,9, -999.00, -999.00,9,-999.000,9,   40.50,2, -999.00,1,     -999.0,9, 20210423,     1117,  13.4741, -69.8219,     6.2590,2,     0.0429,1,     4.6797,1,     -999.0,9,     -999.0,9,     -999.0,9
325020210420,        A22,       8,          1,         19,         19,2,20210423,       0957,    13.4741,   -69.8219,       3733,   907.4,   5.7333,  34.8331,2,  34.8328,2,    152.1,2,   152.3,2,   24.58,2,   29.31,2,    0.00,2,    1.92,2,   0.297,2,   0.161,2,   0.1400,2,  2215.0,2,  2312.0,2, -999.000,9,  -999.00,   7.59779,2,    25.02, -999.00,9, -999.00,9, -999.00, -999.00,9,-999.000,9,   40.70,2, -999.00,1,      22.00,2, 20210423,     1114,  13.4741, -69.8219,     5.7341,2,     0.0429,1,     4.6813,1,     -999.0,9,     -999.0,9,     -999.0,9
325020210420,        A22,       8,          1,         18,         18,2,20210423,       0957,    13.4741,   -69.8219,       3733,  1008.3,   5.2592,  34.9078,2,  34.9085,2,    173.3,2,   173.5,2,   24.77,2,   26.47,2,    0.00,2,    1.75,2,-999.000,9,-999.000,9,-999.0000,9,  2209.0,2, 2315.73,2,  828.380,4,    20.00,   7.63905,2,    25.03, -999.00,9, -999.00,9, -999.00, -999.00,9,-999.000,9,   44.00,3, -999.00,1,     -999.0,9, 20210423,     1110,  13.4741, -69.8219,     5.2589,2,     0.0429,1,     4.6825,1,     -999.0,9,     -999.0,9,     -999.0,9
325020210420,        A22,       8,          1,         17,         17,2,20210423,       0957,    13.4741,   -69.8219,       3733,  1109.4,   4.9831,  34.9341,2,  34.9341,2,    183.9,2,   183.9,2,   25.06,2,   25.24,2,    0.00,2,    1.68,2,   0.155,2,   0.083,2,   0.0900,2,  2204.7,2, 2318.92,2, -999.000,9,  -999.00,   7.65653,2,    25.00, -999.00,9, -999.00,9, -999.00, -999.00,9,-999.000,9,   39.70,2, -999.00,1,      17.92,2, 20210423,     1108,  13.4741, -69.8219,     4.9838,2,     0.0428,1,     4.6825,1,     -999.0,9,     -999.0,9,     -999.0,9
325020210420,        A22,       8,          1,         16,         16,2,20210423,       0957,    13.4741,   -69.8219,       3733,  1211.0,   4.7239,  34.9523,2,  34.9520,2,    194.1,2,   193.8,2,   25.16,2,   24.16,2,    0.00,2,    1.61,2,-999.000,9,-999.000,9,-999.0000,9,  2203.7,2, 2322.15,2, -999.000,9,  -999.00,   7.67102,2,    25.02, -999.00,9, -999.00,9, -999.00, -999.00,9,-999.000,9,   41.20,2, -999.00,1,     -999.0,9, 20210423,     1105,  13.4741, -69.8219,     4.7228,2,     0.0424,1,     4.6823,1,     -999.0,9,     -999.0,9,     -999.0,9
325020210420,        A22,       8,          1,         15,         15,2,20210423,       0957,    13.4741,   -69.8219,       3733,  1312.1,   4.5556,  34.9623,2,  34.9626,2,    200.8,2,   201.2,2,   25.06,2,   23.41,2,    0.00,2,    1.56,2,   0.144,2,   0.081,2,   0.1800,2,  2201.8,2,  2323.8,2, -999.000,9,  -999.00,   7.68342,6,    25.01, -999.00,9, -999.00,9, -999.00, -999.00,9,-999.000,9,   40.90,2, -999.00,1,      16.05,2, 20210423,     1102,  13.4741, -69.8219,     4.5557,2,     0.0428,1,     4.6825,1,     -999.0,9,     -999.0,9,     -999.0,9
325020210420,        A22,       8,          1,         14,         14,2,20210423,       0957,    13.4741,   -69.8219,       3733,  1412.8,   4.4451,  34.9683,2,  34.9701,2,    206.2,2,   206.5,2,   24.87,2,   22.85,2,    0.00,2,    1.53,2,-999.000,9,-999.000,9,-999.0000,9,  2199.8,2, 2324.98,2,  930.900,4,    20.00,   7.68995,2,    25.02, -999.00,9, -999.00,9, -999.00, -999.00,9,-999.000,9,   40.70,2, -999.00,1,     -999.0,9, 20210423,     1059,  13.4741, -69.8219,     4.4448,2,     0.0429,1,     4.6813,1,     -999.0,9,     -999.0,9,     -999.0,9
325020210420,        A22,       8,          1,         13,         13,2,20210423,       0957,    13.4741,   -69.8219,       3733,  1513.1,   4.3571,  34.9701,2,  34.9709,2,    208.1,2,   208.1,2,   25.26,2,   22.73,2,    0.00,2,    1.54,2,   0.141,2,   0.078,2,   0.1100,2,  2201.2,2, 2325.53,2, -999.000,9,  -999.00,   7.69313,2,    25.01, -999.00,9, -999.00,9, -999.00, -999.00,9,-999.000,9,   39.80,2, -999.00,1,      14.98,2, 20210423,     1056,  13.4741, -69.8219,     4.3576,2,     0.0430,1,     4.6816,1,     -999.0,9,     -999.0,9,     -999.0,9
325020210420,        A22,       8,          1,         12,         12,2,20210423,       0957,    13.4741,   -69.8219,       3733,  1614.3,   4.2613,  34.9729,2,  34.9726,2,    211.1,2,   211.3,2,   26.04,2,   22.49,2,    0.00,2,    1.50,2,-999.000,9,-999.000,9,-999.0000,9,  2200.6,2, 2327.92,2, -999.000,9,  -999.00,   7.69854,2,    25.03, -999.00,9, -999.00,9, -999.00, -999.00,9,-999.000,9,   40.70,2, -999.00,1,     -999.0,9, 20210423,     1052,  13.4741, -69.8219,     4.2608,2,     0.0434,1,     4.6822,1,     -999.0,9,     -999.0,9,     -999.0,9
325020210420,        A22,       8,          1,         11,         11,2,20210423,       0957,    13.4741,   -69.8219,       3733,  1717.2,   4.2065,  34.9739,2,  34.9736,2,    212.0,2,   212.5,2,   26.91,2,   22.47,2,    0.00,2,    1.50,2,   0.104,2,   0.064,2,   0.1200,2,  2199.7,6, 2329.55,2,  805.520,2,    20.00,   7.70132,2,    25.03, -999.00,9, -999.00,9, -999.00, -999.00,9,-999.000,9,   40.90,2, -999.00,1,      14.53,2, 20210423,     1049,  13.4741, -69.8219,     4.2066,2,     0.0429,1,     4.6822,1,     -999.0,9,     -999.0,9,     -999.0,9
325020210420,        A22,       8,          1,         10,         10,2,20210423,       0957,    13.4741,   -69.8219,       3733,  1818.2,   4.1649,  34.9742,2,  34.9750,2,    212.3,2,   212.7,2,   27.50,2,   22.39,2,    0.00,2,    1.50,2,-999.000,9,-999.000,9,-999.0000,9,  2202.8,2, 2330.53,2, -999.000,9,  -999.00,   7.70133,2,    25.02, -999.00,9, -999.00,9, -999.00, -999.00,9,-999.000,9,   43.40,2, -999.00,1,     -999.0,9, 20210423,     1046,  13.4741, -69.8219,     4.1650,2,     0.0433,1,     4.6821,1,     -999.0,9,     -999.0,9,     -999.0,9
325020210420,        A22,       8,          1,          9,          9,2,20210423,       0957,    13.4741,   -69.8219,       3733,  2021.2,   4.1255,  34.9746,2,  34.9746,2,    212.7,2,   213.0,2,   28.38,2,   22.34,2,    0.00,2,    1.50,2,   0.070,2,   0.050,2,   0.3100,2,  2200.5,2, 2334.17,2, -999.000,9,  -999.00,   7.70327,2,    25.01, -999.00,9, -999.00,9, -999.00, -999.00,9,-999.000,9,   44.20,2, -999.00,1,      14.23,2, 20210423,     1041,  13.4741, -69.8219,     4.1253,2,     0.0422,1,     4.6813,1,     -999.0,9,     -999.0,9,     -999.0,9
325020210420,        A22,       8,          1,          8,          8,2,20210423,       0957,    13.4741,   -69.8219,       3733,  2224.9,   4.1134,  34.9750,2,  34.9750,2,    213.7,2,   214.0,2,   28.86,2,   22.28,2,    0.00,2,    1.50,2,   0.065,2,   0.050,2,   0.3600,2,  2197.2,2, 2335.67,2,  798.120,2,    20.00,   7.70566,2,    25.00, -999.00,9, -999.00,9, -999.00, -999.00,9,-999.000,9,   40.30,2, -999.00,1,      13.94,2, 20210423,     1035,  13.4741, -69.8219,     4.1135,2,     0.0429,1,     4.6819,1,     -999.0,9,     -999.0,9,     -999.0,9
325020210420,        A22,       8,          1,          7,          7,2,20210423,       0957,    13.4741,   -69.8219,       3733,  2428.0,   4.1242,  34.9749,2,  34.9754,2,    214.1,2,   214.5,2,   28.86,2,   22.27,2,    0.00,2,    1.49,2,   0.072,2,   0.051,2,   0.3200,2,  2203.3,2, 2335.04,2, -999.000,9,  -999.00,   7.70631,2,    25.01, -999.00,9, -999.00,9, -999.00, -999.00,9,-999.000,9,   42.40,2, -999.00,1,      14.02,2, 20210423,     1030,  13.4741, -69.8219,     4.1242,2,     0.0429,1,     4.6830,1,     -999.0,9,     -999.0,9,     -999.0,9
325020210420,        A22,       8,          1,          6,          6,2,20210423,       0957,    13.4741,   -69.8219,       3733,  2631.4,   4.1392,  34.9750,2,  34.9752,2,    213.8,2,   214.3,2,   28.96,2,   22.26,2,    0.00,2,    1.50,2,-999.000,9,-999.000,9,-999.0000,9,  2204.6,2, 2334.94,2, -999.000,9,  -999.00,   7.70787,2,    25.02, -999.00,9, -999.00,9, -999.00, -999.00,9,-999.000,9,   41.90,2, -999.00,1,     -999.0,9, 20210423,     1025,  13.4741, -69.8219,     4.1390,2,     0.0430,1,     4.6810,1,     -999.0,9,     -999.0,9,     -999.0,9
325020210420,        A22,       8,          1,          5,          5,2,20210423,       0957,    13.4741,   -69.8219,       3733,  2834.8,   4.1576,  34.9751,2,  34.9752,2,    213.8,2,   214.0,2,   29.25,2,   22.23,2,    0.00,2,    1.49,2,   0.065,2,   0.050,2,   0.2100,2,  2206.0,2, 2337.41,2, -999.000,9,  -999.00,   7.70607,2,    25.03, -999.00,9, -999.00,9, -999.00, -999.00,9,-999.000,9,   41.30,2, -999.00,1,      13.94,2, 20210423,     1020,  13.4741, -69.8219,     4.1576,2,     0.0429,1,     4.6801,1,     -999.0,9,     -999.0,9,     -999.0,9
325020210420,        A22,       8,          1,          4,          4,2,20210423,       0957,    13.4741,   -69.8219,       3733,  3039.5,   4.1781,  34.9749,2,  34.9762,2,    213.6,2,   213.6,2,   29.45,2,   22.20,2,    0.00,2,    1.50,2,   0.068,2,   0.053,2,   0.2000,2,  2206.5,2, 2338.11,2, -999.000,9,  -999.00,   7.70721,2,    25.02, -999.00,9, -999.00,9, -999.00, -999.00,9,-999.000,9,   42.90,2, -999.00,1,      13.93,2, 20210423,     1015,  13.4741, -69.8219,     4.1780,2,     0.0428,1,     4.6764,1,     -999.0,9,     -999.0,9,     -999.0,9
325020210420,        A22,       8,          1,          3,          3,2,20210423,       0957,    13.4741,   -69.8219,       3733,  3344.6,   4.2119,  34.9749,2,  34.9764,2,    213.4,2,   213.8,2,   29.64,2,   22.20,2,    0.00,2,    1.49,2,   0.070,2,   0.055,2,   0.2000,2,  2204.4,2, 2335.97,2, -999.000,9,  -999.00,   7.70727,2,    25.02, -999.00,9, -999.00,9, -999.00, -999.00,9,-999.000,9,   42.90,2, -999.00,1,      13.81,2, 20210423,     1008,  13.4741, -69.8219,     4.2117,2,     0.0433,1,     4.6719,1,     -999.0,9,     -999.0,9,     -999.0,9