BOTTLE,20230513CCHSIOCBG
EXPOCODE,SECT_ID,STNNBR,CASTNO,SAMPNO,BTLNBR,BTLNBR_FLAG_W,DATE,TIME,LATITUDE,LONGITUDE,DEPTH,CTDPRS,CTDTMP,CTDSAL,CTDSAL_FLAG_W,SALNTY,SALNTY_FLAG_W,CTDOXY,CTDOXY_FLAG_W,OXYGEN,OXYGEN_FLAG_W,SILCAT,SILCAT_FLAG_W,NITRAT,NITRAT_FLAG_W,NITRIT,NITRIT_FLAG_W,PHSPHT,PHSPHT_FLAG_W,CFC-11,CFC-11_FLAG_W,CFC-12,CFC-12_FLAG_W,SF6,SF6_FLAG_W,TCARBN,TCARBN_FLAG_W,ALKALI,ALKALI_FLAG_W,FCO2,FCO2_FLAG_W,FCO2TMP,PH_TOT,PH_TOT_FLAG_W,PH_TMP,DELC13,DELC13_FLAG_W,DELC14,DELC14_FLAG_W,C14ERR,DELO18,DELO18_FLAG_W,POC,POC_FLAG_W,DOC,DOC_FLAG_W,TDN,TDN_FLAG_W,N2O,N2O_FLAG_W,BTL_DATE,BTL_TIME,BTL_LAT,BTL_LON,REFTMP,REFTMP_FLAG_W,CTDFLUOR,CTDFLUOR_FLAG_W,CTDXMISS,CTDXMISS_FLAG_W,D15N_NO2+NO3,D15N_NO2+NO3_FLAG_W,D18O_NO2+NO3,D18O_NO2+NO3_FLAG_W,HPLC,HPLC_FLAG_W
,,,,,,,,,,,METERS,DBAR,ITS-90,PSS-78,,PSS-78,,UMOL/KG,,UMOL/KG,,UMOL/KG,,UMOL/KG,,UMOL/KG,,UMOL/KG,,PMOL/KG,,PMOL/KG,,FMOL/KG,,UMOL/KG,,UMOL/KG,,UATM,,DEG C,,,DEG C,/MILLE,,/MILLE,,/MILLE,/MILLE,,UG/KG,,UMOL/KG,,UMOL/KG,,NMOL/KG,,,,,,ITS-90,,VOLTS,,VOLTS,,/MILLE,,/MILLE,,,
325020210420,        A22,      38,          1,         36,         36,2,20210430,       0812,    19.3588,   -66.0021,       7826,     5.3,  26.8380,  36.2503,2,  36.2535,2,    202.3,2,   201.1,2,    1.17,2,    0.00,2,    0.00,2,    0.00,2,   1.485,2,   0.961,2,   1.6100,2,  2042.7,2,  2372.6,2,  298.630,2,    20.00,   8.09201,2,    24.99, -999.00,9, -999.00,9, -999.00, -999.00,1,-999.000,9,   71.60,2,    4.16,2,       5.91,2, 20210430,     1101,  19.3588, -66.0021,    26.8347,2,     0.0432,1,     4.6336,1,     -999.0,9,     -999.0,9,     -999.0,9
325020210420,        A22,      38,          1,         35,         35,2,20210430,       0812,    19.3588,   -66.0021,       7826,    24.7,  26.6904,  36.4660,2,  36.4935,3,    202.7,2,   202.2,2,    1.07,2,    0.00,2,    0.00,2,    0.00,2,-999.000,9,-999.000,9,-999.0000,9,  2049.0,2, 2384.54,2,  298.260,2,    20.00,    8.0975,6,    25.00, -999.00,9, -999.00,9, -999.00, -999.00,9,-999.000,9,   75.90,2,    4.19,2,     -999.0,9, 20210430,     1059,  19.3587, -66.0021,    26.7248,2,     0.0436,1,     4.6335,1,     -999.0,9,     -999.0,9,     -999.0,9
325020210420,        A22,      38,          1,         34,         34,2,20210430,       0812,    19.3588,   -66.0021,       7826,    50.1,  26.4835,  36.6191,2,  36.6271,2,    205.1,2,   204.7,2,    0.88,2,    0.00,2,    0.00,2,    0.00,2,-999.000,9,-999.000,9,-999.0000,9,  2033.8,2, 2393.18,6, -999.000,9,  -999.00,   8.10023,2,    25.00, -999.00,9, -999.00,9, -999.00, -999.00,9,-999.000,9,   75.60,2,    4.23,2,     -999.0,9, 20210430,     1058,  19.3588, -66.0021,    26.4927,2,     0.0448,1,     4.6294,1,     -999.0,9,     -999.0,9,     -999.0,9
325020210420,        A22,      38,          1,         33,         33,2,20210430,       0812,    19.3588,   -66.0021,       7826,    76.2,  26.1967,  36.7226,2,  36.7236,2,    206.5,2,   206.2,2,    0.88,2,    0.00,2,    0.00,2,    0.00,2,   1.528,2,   0.973,2,   1.6400,2,  2054.2,2, 2399.59,2,  291.760,2,    20.00,   8.10328,2,    25.00, -999.00,9, -999.00,9, -999.00, -999.00,9,-999.000,9,   77.00,2,    4.66,2,       6.06,2, 20210430,     1056,  19.3587, -66.0021,    26.1980,2,     0.0499,1,     4.6333,1,     -999.0,9,     -999.0,9,     -999.0,9
325020210420,        A22,      38,          1,         32,         32,2,20210430,       0812,    19.3588,   -66.0021,       7826,   100.7,  25.8942,  36.9743,2,  36.9844,2,    203.9,2,   203.9,2,    0.68,2,    0.00,2,    0.00,2,    0.00,2,   1.541,2,   1.003,2,   1.6500,2,  2075.2,2, 2413.71,2,  303.730,2,    20.00,   8.09184,2,    24.98, -999.00,9, -999.00,9, -999.00, -999.00,9,-999.000,9,   73.80,2,    4.24,2,       6.17,2, 20210430,     1053,  19.3587, -66.0021,    25.8955,2,     0.0552,1,     4.6380,1,     -999.0,9,     -999.0,9,     -999.0,9
325020210420,        A22,      38,          1,         31,         31,2,20210430,       0812,    19.3588,   -66.0021,       7826,   151.1,  23.3839,  37.3071,2,  37.3079,2,    189.0,2,   189.8,2,    0.29,2,    0.16,2,    0.06,2,    0.00,2,-999.000,9,-999.000,9,-999.0000,9,  2131.3,2,  2432.2,2,  368.090,2,    20.00,   8.02415,2,    24.98, -999.00,9, -999.00,9, -999.00, -999.00,1,-999.000,9,   58.30,2,    3.97,2,     -999.0,9, 20210430,     1050,  19.3587, -66.0021,    23.3737,2,     0.0818,1,     4.6437,1,     -999.0,9,     -999.0,9,     -999.0,9
325020210420,        A22,      38,          1,         30,         30,2,20210430,       0812,    19.3588,   -66.0021,       7826,   201.4,  20.7090,  36.9355,2,  36.9336,2,    175.4,2,   176.3,2,    0.78,2,    2.14,2,    0.00,2,    0.02,2,   1.935,2,   1.214,2,   1.7100,2,  2146.9,2, 2408.16,2,  428.430,2,    20.00,   7.96234,2,    24.98, -999.00,9, -999.00,9, -999.00, -999.00,9,-999.000,9,   51.80,2,    5.30,2,       8.27,2, 20210430,     1046,  19.3588, -66.0021,    20.7079,2,     0.0431,1,     4.6680,1,     -999.0,9,     -999.0,9,     -999.0,9
325020210420,        A22,      38,          1,         29,         29,2,20210430,       0812,    19.3588,   -66.0021,       7826,   251.6,  19.1871,  36.6958,2,  36.6943,2,    184.7,2,   185.1,2,    0.88,2,    3.59,2,    0.00,2,    0.10,2,-999.000,9,-999.000,9,-999.0000,9,  2139.9,2, 2392.08,2,  435.680,2,    20.00,   7.95384,2,    24.98, -999.00,9, -999.00,9, -999.00, -999.00,9,-999.000,9,   48.90,2,    6.55,2,     -999.0,9, 20210430,     1043,  19.3588, -66.0021,    19.1842,2,     0.0402,1,     4.6724,1,     -999.0,9,     -999.0,9,     -999.0,9
325020210420,        A22,      38,          1,         28,         28,2,20210430,       0812,    19.3588,   -66.0021,       7826,   307.0,  18.0989,  36.5215,2,  36.5232,2,    187.4,2,   188.1,2,    1.46,2,    5.31,2,    0.00,2,    0.21,2,-999.000,9,-999.000,9,-999.0000,9,  2141.6,2, 2382.73,2,  454.720,2,    20.00,   7.93697,2,    24.98, -999.00,9, -999.00,9, -999.00, -999.00,9,-999.000,9,   48.00,2, -999.00,1,     -999.0,9, 20210430,     1040,  19.3587, -66.0021,    18.0995,2,     0.0392,1,     4.6740,1,     -999.0,9,     -999.0,9,     -999.0,9
325020210420,        A22,      38,          1,         27,         27,2,20210430,       0812,    19.3588,   -66.0021,       7826,   352.6,  16.9671,  36.3394,2,  36.3400,2,    174.3,2,   174.9,2,    2.34,2,    8.27,2,    0.00,2,    0.39,2,   2.220,6,   1.362,6,   1.5100,6,  2153.9,2, 2373.96,2,  510.900,2,    20.00,   7.89165,2,    24.99, -999.00,9, -999.00,9, -999.00, -999.00,9,-999.000,9,   46.70,2, -999.00,1,      11.46,6, 20210430,     1037,  19.3587, -66.0021,    16.9667,2,     0.0405,1,     4.6751,1,     -999.0,9,     -999.0,9,     -999.0,9
325020210420,        A22,      38,          1,         26,         26,2,20210430,       0812,    19.3588,   -66.0021,       7826,   402.2,  15.7316,  36.1394,2,  36.1389,2,    171.7,2,   171.5,2,    3.41,2,   10.54,2,    0.00,2,    0.54,2,-999.000,9,-999.000,9,-999.0000,9,  2156.5,2, -999.00,5,  549.130,2,    20.00,   7.86253,2,    24.99, -999.00,9, -999.00,9, -999.00, -999.00,9,-999.000,9,   44.60,2, -999.00,1,     -999.0,9, 20210430,     1035,  19.3588, -66.0021,    15.7311,2,     0.0401,1,     4.6772,1,     -999.0,9,     -999.0,9,     -999.0,9
325020210420,        A22,      38,          1,         25,         25,2,20210430,       0812,    19.3588,   -66.0021,       7826,   503.8,  13.0613,  35.7110,2,  35.7083,2,    141.5,2,   141.3,2,    7.02,2,   18.13,2,    0.00,2,    1.01,2,   2.074,2,   1.176,2,   0.9000,2,  2187.1,2, 2336.49,2,  722.910,2,    20.00,   7.75135,6,    25.00, -999.00,9, -999.00,9, -999.00, -999.00,9,-999.000,9,   43.60,2, -999.00,1,      18.92,2, 20210430,     1031,  19.3587, -66.0021,    13.0611,2,     0.0411,1,     4.6792,1,     -999.0,9,     -999.0,9,     -999.0,9
325020210420,        A22,      38,          1,         24,         24,2,20210430,       0812,    19.3588,   -66.0021,       7826,   609.5,  10.7332,  35.3531,2,  35.3508,2,    130.5,2,   130.3,2,   11.52,2,   23.62,2,    0.00,2,    1.40,2,   1.573,2,   0.868,2,   0.5100,2,  2199.3,2, 2320.76,2,  863.550,2,    20.00,   7.67732,2,    25.01, -999.00,9, -999.00,9, -999.00, -999.00,9,-999.000,9,   42.80,2, -999.00,1,      21.85,2, 20210430,     1027,  19.3588, -66.0021,    10.7355,2,     0.0425,1,     4.6801,1,     -999.0,9,     -999.0,9,     -999.0,9
325020210420,        A22,      38,          1,         23,         23,2,20210430,       0812,    19.3588,   -66.0021,       7826,   710.3,   9.1016,  35.1399,2,  35.1400,2,    128.2,2,   128.2,2,   15.42,2,   26.90,2,    0.00,2,    1.63,2,   1.090,2,   0.591,2,   0.3800,2,  2207.2,6, 2315.66,2,  951.550,2,    20.00,   7.63472,2,    24.99, -999.00,9, -999.00,9, -999.00, -999.00,9,-999.000,9,   41.40,2, -999.00,1,      23.33,2, 20210430,     1023,  19.3587, -66.0021,     9.1023,2,     0.0430,1,     4.6806,1,     -999.0,9,     -999.0,9,     -999.0,9
325020210420,        A22,      38,          1,         22,         22,2,20210430,       0812,    19.3588,   -66.0021,       7826,   811.9,   7.5986,  34.9616,2,  34.9616,2,    131.4,2,   131.3,2,   19.43,2,   29.31,2,    0.00,2,    1.84,2,-999.000,9,-999.000,9,-999.0000,9,  2214.1,2,  2309.1,2, 1019.200,2,    20.00,   7.60442,6,    24.98, -999.00,9, -999.00,9, -999.00, -999.00,9,-999.000,9,   40.20,2, -999.00,1,     -999.0,9, 20210430,     1020,  19.3588, -66.0021,     7.5990,2,     0.0430,1,     4.6807,1,     -999.0,9,     -999.0,9,     -999.0,9
325020210420,        A22,      38,          1,         21,         21,2,20210430,       0812,    19.3588,   -66.0021,       7826,   912.5,   6.7520,  34.9199,2,  34.9205,2,    142.2,2,   142.0,2,   20.99,2,   29.17,2,    0.00,2,    1.85,2,   0.490,2,   0.265,2,   0.1800,2,  2213.3,2, 2309.11,6, 1014.380,2,    20.00,   7.60643,2,    24.97, -999.00,9, -999.00,9, -999.00, -999.00,9,-999.000,9,   40.00,2, -999.00,1,      22.68,2, 20210430,     1016,  19.3588, -66.0021,     6.7513,2,     0.0424,1,     4.6811,1,     -999.0,9,     -999.0,9,     -999.0,9
325020210420,        A22,      38,          1,         20,         20,2,20210430,       0812,    19.3588,   -66.0021,       7826,  1019.3,   6.1528,  34.9501,2,  34.9557,3,    164.4,2,   165.8,2,   20.01,2,   26.64,2,    0.00,2,    1.71,2,   0.609,2,   0.326,2,   0.2700,2,  2204.4,2, 2313.15,2,  939.280,2,    20.00,   7.63715,2,    24.99, -999.00,9, -999.00,9, -999.00, -999.00,9,-999.000,9,   40.30,2, -999.00,1,      20.41,2, 20210430,     1012,  19.3587, -66.0021,     6.1567,2,     0.0423,1,     4.6821,1,     -999.0,9,     -999.0,9,     -999.0,9
325020210420,        A22,      38,          1,         19,         19,2,20210430,       0812,    19.3588,   -66.0021,       7826,  1119.8,   5.8724,  35.0512,2,  35.0524,2,    204.5,2,   204.6,2,   14.94,2,   21.52,2,    0.00,2,    1.37,2,   1.437,2,   0.747,2,   0.5500,2,  2187.0,2, 2313.14,2,  829.060,2,    20.00,   7.68906,2,    25.00, -999.00,9, -999.00,9, -999.00, -999.00,9,-999.000,9,   41.50,2, -999.00,1,      16.67,2, 20210430,     1008,  19.3587, -66.0021,     5.8701,2,     0.0417,1,     4.6823,1,     -999.0,9,     -999.0,9,     -999.0,9
325020210420,        A22,      38,          1,         18,         18,2,20210430,       0812,    19.3588,   -66.0021,       7826,  1221.0,   5.2929,  35.0458,2,  35.0463,2,    225.6,2,   225.5,2,   13.76,2,   19.86,2,    0.00,2,    1.27,2,-999.000,9,-999.000,9,-999.0000,9,  2180.9,2, 2312.55,2,  799.550,2,    20.00,   7.70377,2,    24.99, -999.00,9, -999.00,9, -999.00, -999.00,9,-999.000,9,   42.70,2, -999.00,1,     -999.0,9, 20210430,     1005,  19.3588, -66.0021,     5.2936,2,     0.0413,1,     4.6832,1,     -999.0,9,     -999.0,9,     -999.0,9
325020210420,        A22,      38,          1,         17,         17,2,20210430,       0812,    19.3588,   -66.0021,       7826,  1321.4,   4.8422,  35.0302,2,  35.0309,2,    239.0,2,   239.1,2,   13.08,2,   18.93,2,    0.00,2,    1.21,2,   1.926,2,   0.989,2,   0.6100,2,  2175.9,2, 2309.73,2,  782.020,2,    20.00,   7.71296,2,    25.01, -999.00,9, -999.00,9, -999.00, -999.00,9,-999.000,9,   43.20,2, -999.00,1,      14.43,2, 20210430,     1001,  19.3588, -66.0021,     4.8418,2,     0.0412,1,     4.6839,1,     -999.0,9,     -999.0,9,     -999.0,9
325020210420,        A22,      38,          1,         16,         16,2,20210430,       0812,    19.3588,   -66.0021,       7826,  1428.7,   4.5225,  35.0169,2,  35.0177,2,    247.7,2,   248.1,2,   12.69,2,   18.37,2,    0.00,2,    1.18,2,   2.006,2,   1.043,2,   0.6000,2,  2172.1,2, 2312.06,2,  770.180,6,    20.00,   7.71844,2,    25.00, -999.00,9, -999.00,9, -999.00, -999.00,9,-999.000,9,   42.60,2, -999.00,1,      14.08,2, 20210430,      958,  19.3587, -66.0021,     4.5219,2,     0.0421,1,     4.6837,1,     -999.0,9,     -999.0,9,     -999.0,9
325020210420,        A22,      38,          1,         15,         15,2,20210430,       0812,    19.3588,   -66.0021,       7826,  1630.9,   4.0896,  34.9946,2,  34.9957,2,    255.0,2,   255.1,2,   13.67,2,   18.16,2,    0.00,2,    1.16,2,   1.753,2,   0.884,2,   0.4500,2,  2168.3,2, 2311.08,2,  755.780,2,    20.00,   7.72722,6,    25.01, -999.00,9, -999.00,9, -999.00, -999.00,9,-999.000,9,   43.30,2, -999.00,1,      13.66,2, 20210430,      953,  19.3588, -66.0021,     4.0894,2,     0.0422,1,     4.6837,1,     -999.0,9,     -999.0,9,     -999.0,9
325020210420,        A22,      38,          1,         14,         14,2,20210430,       0812,    19.3588,   -66.0021,       7826,  1839.1,   3.7320,  34.9762,2,  34.9784,2,    259.3,2,   260.2,2,   14.74,2,   17.97,2,    0.00,2,    1.17,2,-999.000,9,-999.000,9,-999.0000,9,  2168.0,2, 2308.86,2, -999.000,9,  -999.00,   7.73135,2,    24.98, -999.00,9, -999.00,9, -999.00, -999.00,9,-999.000,9,   43.40,2, -999.00,1,     -999.0,9, 20210430,      947,  19.3587, -66.0021,     3.7342,2,     0.0412,1,     4.6833,1,     -999.0,9,     -999.0,9,     -999.0,9
325020210420,        A22,      38,          1,         13,         13,2,20210430,       0812,    19.3588,   -66.0021,       7826,  2042.6,   3.4697,  34.9642,2,  34.9665,3,    260.6,2,   260.7,2,   16.99,2,   18.07,2,    0.00,2,    1.17,2,   1.230,2,   0.610,2,   0.3200,2,  2170.3,6,  2313.8,2,  741.030,2,    20.00,   7.73479,2,    24.98, -999.00,9, -999.00,9, -999.00, -999.00,9,-999.000,9,   42.80,2, -999.00,1,      13.28,2, 20210430,      942,  19.3588, -66.0021,     3.4691,2,     0.0430,1,     4.6835,1,     -999.0,9,     -999.0,9,     -999.0,9
325020210420,        A22,      38,          1,         12,         12,2,20210430,       0812,    19.3588,   -66.0021,       7826,  2301.3,   3.1873,  34.9518,2,  34.9543,3,    261.2,2,   261.5,2,   19.33,2,   18.16,2,    0.00,2,    1.18,2,-999.000,9,-999.000,9,-999.0000,9,  2169.2,2, 2315.37,2,  737.750,2,    20.00,   7.73675,2,    24.95, -999.00,9, -999.00,9, -999.00, -999.00,9,-999.000,9,   42.50,2, -999.00,1,     -999.0,9, 20210430,      936,  19.3588, -66.0021,     3.1881,2,     0.0422,1,     4.6836,1,     -999.0,9,     -999.0,9,     -999.0,9
325020210420,        A22,      38,          1,         11,         11,2,20210430,       0812,    19.3588,   -66.0021,       7826,  2560.9,   2.9405,  34.9386,2,  34.9402,2,    262.1,2,   262.9,2,   21.67,2,   18.27,2,    0.00,2,    1.20,2,   0.897,2,   0.454,2,   0.2200,2,  2175.8,2,  2318.7,2, -999.000,9,  -999.00,   7.73755,2,    25.00, -999.00,9, -999.00,9, -999.00, -999.00,9,-999.000,9,   41.90,2, -999.00,1,      13.20,2, 20210430,      930,  19.3587, -66.0021,     2.9396,2,     0.0417,1,     4.6837,1,     -999.0,9,     -999.0,9,     -999.0,9
325020210420,        A22,      38,          1,         10,         10,2,20210430,       0812,    19.3588,   -66.0021,       7826,  2815.7,   2.7471,  34.9269,2,  34.9288,2,    262.9,2,   263.2,2,   23.72,2,   18.37,2,    0.00,2,    1.20,2,-999.000,9,-999.000,9,-999.0000,9,  2174.1,2, 2319.57,2,  737.430,2,    20.00,   7.73714,2,    25.01, -999.00,9, -999.00,9, -999.00, -999.00,9,-999.000,9,   42.20,2, -999.00,1,     -999.0,9, 20210430,      924,  19.3587, -66.0021,     2.7473,2,     0.0428,1,     4.6828,1,     -999.0,9,     -999.0,9,     -999.0,9
325020210420,        A22,      38,          1,          9,          9,2,20210430,       0812,    19.3588,   -66.0021,       7826,  3080.6,   2.5793,  34.9158,2,  34.9172,2,    264.7,2,   264.7,2,   24.89,2,   18.30,2,    0.00,2,    1.21,2,   0.938,2,   0.473,2,   0.2800,2,  2174.9,2, 2318.23,2, -999.000,9,  -999.00,     7.737,2,    25.01, -999.00,9, -999.00,9, -999.00, -999.00,9,-999.000,9,   42.60,2, -999.00,1,      13.30,2, 20210430,      916,  19.3587, -66.0021,     2.5797,2,     0.0429,1,     4.6835,1,     -999.0,9,     -999.0,9,     -999.0,9
325020210420,        A22,      38,          1,          8,          8,2,20210430,       0812,    19.3588,   -66.0021,       7826,  3391.3,   2.4166,  34.9041,2,  34.9056,2,    267.1,2,   267.2,2,   25.77,2,   18.14,2,    0.00,2,    1.20,2,   1.094,2,   0.551,2,   0.3600,2,  2173.8,2, 2319.35,2,  743.030,2,    20.00,   7.73469,2,    25.00, -999.00,9, -999.00,9, -999.00, -999.00,9,-999.000,9,   43.00,2, -999.00,1,      13.33,2, 20210430,      910,  19.3588, -66.0021,     2.4166,2,     0.0428,1,     4.6825,1,     -999.0,9,     -999.0,9,     -999.0,9
325020210420,        A22,      38,          1,          7,          7,2,20210430,       0812,    19.3588,   -66.0021,       7826,  3704.0,   2.3233,  34.8964,2,  34.8993,3,    267.6,2,   268.1,2,   27.43,2,   18.16,2,    0.00,2,    1.20,2,   1.217,2,   0.619,2,   0.3900,2,  2178.3,2, 2319.72,2, -999.000,9,  -999.00,   7.73169,2,    24.99, -999.00,9, -999.00,9, -999.00, -999.00,9,-999.000,9,   45.50,2, -999.00,1,      13.51,2, 20210430,      903,  19.3587, -66.0021,     2.3235,2,     0.0422,1,     4.6809,1,     -999.0,9,     -999.0,9,     -999.0,9
325020210420,        A22,      38,          1,          6,          6,2,20210430,       0812,    19.3588,   -66.0021,       7826,  4119.4,   2.2632,  34.8883,2,  34.8892,2,    265.3,2,   265.3,2,   31.14,2,   18.68,2,    0.00,2,    1.24,2,-999.000,9,-999.000,9,-999.0000,9,  2182.7,2, 2324.41,2,  754.360,2,    20.00,   7.72988,2,    24.98, -999.00,9, -999.00,9, -999.00, -999.00,9,-999.000,9,   42.00,2, -999.00,1,     -999.0,9, 20210430,      854,  19.3587, -66.0021,     2.2632,2,     0.0429,1,     4.6790,1,     -999.0,9,     -999.0,9,     -999.0,9
325020210420,        A22,      38,          1,          5,          5,2,20210430,       0812,    19.3588,   -66.0021,       7826,  4545.3,   2.2374,  34.8812,2,  34.8821,2,    261.7,2,   261.8,2,   35.83,2,   19.49,2,    0.00,2,    1.30,2,   0.812,2,   0.417,2,   0.1900,2,  2188.2,2, 2328.26,2, -999.000,9,  -999.00,   7.73015,2,    24.99, -999.00,9, -999.00,9, -999.00, -999.00,9,-999.000,9,   42.40,2, -999.00,1,      13.71,2, 20210430,      845,  19.3587, -66.0021,     2.2376,2,     0.0423,1,     4.6777,1,     -999.0,9,     -999.0,9,     -999.0,9
325020210420,        A22,      38,          1,          4,          4,2,20210430,       0812,    19.3588,   -66.0021,       7826,  4967.4,   2.1270,  34.8621,2,  34.8629,2,    254.4,2,   254.5,2,   46.28,2,   21.24,2,    0.00,2,    1.43,2,   0.464,2,   0.249,2,   0.1600,2,  2198.2,2, 2334.47,2,  773.930,2,    20.00,   7.72106,2,    24.98, -999.00,9, -999.00,9, -999.00, -999.00,9,-999.000,9,   40.90,2, -999.00,1,      13.89,2, 20210430,      837,  19.3588, -66.0021,     2.1268,2,     0.0434,1,     4.6706,1,     -999.0,9,     -999.0,9,     -999.0,9
325020210420,        A22,      38,          1,          3,          3,2,20210430,       0812,    19.3588,   -66.0021,       7826,  5394.1,   1.9884,  34.8385,2,  34.8397,2,    246.8,2,   246.8,2,   58.38,2,   23.21,2,    0.00,2,    1.55,2,   0.243,2,   0.129,2,   0.0700,2,  2210.7,2,  2342.1,2, -999.000,9,  -999.00,   7.70559,6,    24.99, -999.00,9, -999.00,9, -999.00, -999.00,9,-999.000,9,   40.00,2, -999.00,1,      14.72,2, 20210430,      827,  19.3587, -66.0021,     1.9885,2,     0.0434,1,     4.6787,1,     -999.0,9,     -999.0,9,     -999.0,9