BOTTLE,20230513CCHSIOCBG
EXPOCODE,SECT_ID,STNNBR,CASTNO,SAMPNO,BTLNBR,BTLNBR_FLAG_W,DATE,TIME,LATITUDE,LONGITUDE,DEPTH,CTDPRS,CTDTMP,CTDSAL,CTDSAL_FLAG_W,SALNTY,SALNTY_FLAG_W,CTDOXY,CTDOXY_FLAG_W,OXYGEN,OXYGEN_FLAG_W,SILCAT,SILCAT_FLAG_W,NITRAT,NITRAT_FLAG_W,NITRIT,NITRIT_FLAG_W,PHSPHT,PHSPHT_FLAG_W,CFC-11,CFC-11_FLAG_W,CFC-12,CFC-12_FLAG_W,SF6,SF6_FLAG_W,TCARBN,TCARBN_FLAG_W,ALKALI,ALKALI_FLAG_W,FCO2,FCO2_FLAG_W,FCO2TMP,PH_TOT,PH_TOT_FLAG_W,PH_TMP,DELC13,DELC13_FLAG_W,DELC14,DELC14_FLAG_W,C14ERR,DELO18,DELO18_FLAG_W,POC,POC_FLAG_W,DOC,DOC_FLAG_W,TDN,TDN_FLAG_W,N2O,N2O_FLAG_W,BTL_DATE,BTL_TIME,BTL_LAT,BTL_LON,REFTMP,REFTMP_FLAG_W,CTDFLUOR,CTDFLUOR_FLAG_W,CTDXMISS,CTDXMISS_FLAG_W,D15N_NO2+NO3,D15N_NO2+NO3_FLAG_W,D18O_NO2+NO3,D18O_NO2+NO3_FLAG_W,HPLC,HPLC_FLAG_W
,,,,,,,,,,,METERS,DBAR,ITS-90,PSS-78,,PSS-78,,UMOL/KG,,UMOL/KG,,UMOL/KG,,UMOL/KG,,UMOL/KG,,UMOL/KG,,PMOL/KG,,PMOL/KG,,FMOL/KG,,UMOL/KG,,UMOL/KG,,UATM,,DEG C,,,DEG C,/MILLE,,/MILLE,,/MILLE,/MILLE,,UG/KG,,UMOL/KG,,UMOL/KG,,NMOL/KG,,,,,,ITS-90,,VOLTS,,VOLTS,,/MILLE,,/MILLE,,,
325020210420,        A22,      25,          1,         25,         25,2,20210427,       1522,    17.7005,   -66.0008,       1439,     4.7,  27.2793,  35.9467,2,  35.9483,2,    202.3,2,   201.7,2,    1.27,2,    0.00,2,    0.00,2,    0.00,2,-999.000,9,-999.000,9,-999.0000,9,  2020.7,6,  2354.1,2, -999.000,9,  -999.00,   8.09543,2,    25.02, -999.00,9, -999.00,9, -999.00, -999.00,1,-999.000,9, -999.00,9, -999.00,9,     -999.0,9, 20210427,     1622,  17.7005, -66.0008,    27.2713,2,     0.0413,1,     4.6173,1,     -999.0,9,     -999.0,9,     -999.0,9
325020210420,        A22,      25,          1,         24,         24,2,20210427,       1522,    17.7005,   -66.0008,       1439,    20.6,  27.1361,  35.9554,2,  35.9560,2,    202.6,2,   202.6,2,    1.36,2,    0.00,2,    0.00,2,    0.00,2,-999.000,9,-999.000,9,-999.0000,9,  -999.0,9, -999.00,9, -999.000,9,  -999.00,-999.00000,9,  -999.00, -999.00,9, -999.00,9, -999.00, -999.00,9,-999.000,9, -999.00,9, -999.00,9,     -999.0,9, 20210427,     1620,  17.7005, -66.0008,    27.1371,2,     0.0430,1,     4.6142,1,     -999.0,9,     -999.0,9,     -999.0,9
325020210420,        A22,      25,          1,         23,         23,2,20210427,       1522,    17.7005,   -66.0008,       1439,    40.1,  26.8437,  35.9544,2,  35.9605,2,    205.5,2,   205.0,2,    1.36,2,    0.00,2,    0.00,2,    0.00,2,-999.000,9,-999.000,9,-999.0000,9,  -999.0,9, -999.00,9, -999.000,9,  -999.00,-999.00000,9,  -999.00, -999.00,9, -999.00,9, -999.00, -999.00,9,-999.000,9, -999.00,9, -999.00,9,     -999.0,9, 20210427,     1619,  17.7005, -66.0008,    26.8453,2,     0.0477,1,     4.6123,1,     -999.0,9,     -999.0,9,     -999.0,9
325020210420,        A22,      25,          1,         22,         22,2,20210427,       1522,    17.7005,   -66.0008,       1439,    65.3,  26.5487,  36.4308,2,  36.4505,2,    203.1,2,   203.1,2,    1.36,2,    0.00,2,    0.00,2,    0.00,2,-999.000,9,-999.000,9,-999.0000,9,  -999.0,9, -999.00,9, -999.000,9,  -999.00,-999.00000,9,  -999.00, -999.00,9, -999.00,9, -999.00, -999.00,9,-999.000,9, -999.00,9, -999.00,9,     -999.0,9, 20210427,     1617,  17.7006, -66.0008,    26.5472,2,     0.0601,1,     4.6217,1,     -999.0,9,     -999.0,9,     -999.0,9
325020210420,        A22,      25,          1,         21,         21,2,20210427,       1522,    17.7005,   -66.0008,       1439,    90.9,  26.1923,  36.8609,2,  36.8683,2,    196.4,2,   196.9,2,    0.88,2,    0.00,2,    0.02,2,    0.00,2,-999.000,9,-999.000,9,-999.0000,9,  -999.0,9, -999.00,9, -999.000,9,  -999.00,-999.00000,9,  -999.00, -999.00,9, -999.00,9, -999.00, -999.00,1,-999.000,9, -999.00,9, -999.00,9,     -999.0,9, 20210427,     1615,  17.7005, -66.0008,    26.1940,2,     0.0887,1,     4.6170,1,     -999.0,9,     -999.0,9,     -999.0,9
325020210420,        A22,      25,          1,         20,         20,2,20210427,       1522,    17.7005,   -66.0008,       1439,   115.9,  24.8296,  37.1917,2,  37.1924,2,    195.5,2,   195.8,2,    0.58,2,    0.00,2,    0.09,2,    0.00,2,-999.000,9,-999.000,9,-999.0000,9,  -999.0,9, -999.00,9, -999.000,9,  -999.00,-999.00000,9,  -999.00, -999.00,9, -999.00,9, -999.00, -999.00,9,-999.000,9, -999.00,9, -999.00,9,     -999.0,9, 20210427,     1613,  17.7005, -66.0008,    24.8299,2,     0.0727,1,     4.6452,1,     -999.0,9,     -999.0,9,     -999.0,9
325020210420,        A22,      25,          1,         19,         19,2,20210427,       1522,    17.7005,   -66.0008,       1439,   140.6,  23.1182,  37.1541,2,  37.1541,2,    185.8,2,   186.1,2,    0.49,2,    0.48,2,    0.07,2,    0.00,2,-999.000,9,-999.000,9,-999.0000,9,  -999.0,9, -999.00,9, -999.000,9,  -999.00,-999.00000,9,  -999.00, -999.00,9, -999.00,9, -999.00, -999.00,9,-999.000,9, -999.00,9, -999.00,9,     -999.0,9, 20210427,     1611,  17.7005, -66.0008,    23.1175,2,     0.0623,1,     4.6558,1,     -999.0,9,     -999.0,9,     -999.0,9
325020210420,        A22,      25,          1,         18,         18,2,20210427,       1522,    17.7005,   -66.0008,       1439,   166.2,  21.8979,  37.0465,2,  37.0482,2,    180.2,2,   180.7,2,    0.58,2,    1.17,2,    0.02,2,    0.00,2,-999.000,9,-999.000,9,-999.0000,9,  -999.0,9, -999.00,9, -999.000,9,  -999.00,-999.00000,9,  -999.00, -999.00,9, -999.00,9, -999.00, -999.00,9,-999.000,9, -999.00,9, -999.00,9,     -999.0,9, 20210427,     1609,  17.7005, -66.0008,    21.8949,2,     0.0517,1,     4.6604,1,     -999.0,9,     -999.0,9,     -999.0,9
325020210420,        A22,      25,          1,         17,         17,2,20210427,       1522,    17.7005,   -66.0008,       1439,   191.0,  21.2151,  36.9724,2,  36.9747,2,    167.4,3,   169.8,2,    0.97,2,    2.92,2,    0.01,2,    0.09,2,-999.000,9,-999.000,9,-999.0000,9,  -999.0,9, -999.00,9, -999.000,9,  -999.00,-999.00000,9,  -999.00, -999.00,9, -999.00,9, -999.00, -999.00,9,-999.000,9, -999.00,9, -999.00,9,     -999.0,9, 20210427,     1607,  17.7005, -66.0008,    21.2094,2,     0.0470,1,     4.6654,1,     -999.0,9,     -999.0,9,     -999.0,9
325020210420,        A22,      25,          1,         16,         16,2,20210427,       1522,    17.7005,   -66.0008,       1439,   217.1,  19.5851,  36.7422,2,  36.7504,2,    174.2,2,   173.9,2,    1.17,2,    4.18,2,    0.00,2,    0.15,2,-999.000,9,-999.000,9,-999.0000,9,  -999.0,9, -999.00,9, -999.000,9,  -999.00,-999.00000,9,  -999.00, -999.00,9, -999.00,9, -999.00, -999.00,9,-999.000,9, -999.00,9, -999.00,9,     -999.0,9, 20210427,     1605,  17.7005, -66.0008,    19.6201,2,     0.0403,1,     4.6703,1,     -999.0,9,     -999.0,9,     -999.0,9
325020210420,        A22,      25,          1,         15,         15,2,20210427,       1522,    17.7005,   -66.0008,       1439,   241.7,  18.8419,  36.6303,2,  36.6296,2,    179.3,2,   178.7,2,    1.36,2,    5.05,2,    0.00,2,    0.19,2,-999.000,9,-999.000,9,-999.0000,9,  -999.0,9, -999.00,9, -999.000,9,  -999.00,-999.00000,9,  -999.00, -999.00,9, -999.00,9, -999.00, -999.00,9,-999.000,9, -999.00,9, -999.00,9,     -999.0,9, 20210427,     1603,  17.7005, -66.0008,    18.8442,2,     0.0393,1,     4.6728,1,     -999.0,9,     -999.0,9,     -999.0,9
325020210420,        A22,      25,          1,         14,         14,2,20210427,       1522,    17.7005,   -66.0008,       1439,   287.0,  17.7368,  36.4540,2,  36.4539,2,    167.7,2,   167.9,2,    2.24,2,    8.05,2,    0.00,2,    0.39,2,-999.000,9,-999.000,9,-999.0000,9,  -999.0,9, -999.00,9, -999.000,9,  -999.00,-999.00000,9,  -999.00, -999.00,9, -999.00,9, -999.00, -999.00,9,-999.000,9, -999.00,9, -999.00,9,     -999.0,9, 20210427,     1601,  17.7005, -66.0008,    17.7429,2,     0.0398,1,     4.6739,1,     -999.0,9,     -999.0,9,     -999.0,9
325020210420,        A22,      25,          1,         13,         13,2,20210427,       1522,    17.7005,   -66.0008,       1439,   337.1,  15.8570,  36.1409,2,  36.1399,2,    152.8,2,   152.8,2,    4.00,2,   12.64,2,    0.00,2,    0.68,2,-999.000,9,-999.000,9,-999.0000,9,  -999.0,9, -999.00,9, -999.000,9,  -999.00,-999.00000,9,  -999.00, -999.00,9, -999.00,9, -999.00, -999.00,9,-999.000,9, -999.00,9, -999.00,9,     -999.0,9, 20210427,     1559,  17.7005, -66.0008,    15.8580,2,     0.0412,1,     4.6752,1,     -999.0,9,     -999.0,9,     -999.0,9
325020210420,        A22,      25,          1,         12,         12,2,20210427,       1522,    17.7005,   -66.0008,       1439,   387.5,  14.9671,  35.9984,2,  35.9900,2,    148.2,2,   148.1,2,    4.87,2,   14.62,2,    0.00,2,    0.81,2,-999.000,9,-999.000,9,-999.0000,9,  -999.0,9, -999.00,9, -999.000,9,  -999.00,-999.00000,9,  -999.00, -999.00,9, -999.00,9, -999.00, -999.00,9,-999.000,9, -999.00,9, -999.00,9,     -999.0,9, 20210427,     1557,  17.7005, -66.0008,    14.9731,2,     0.0406,1,     4.6764,1,     -999.0,9,     -999.0,9,     -999.0,9
325020210420,        A22,      25,          1,         11,         11,2,20210427,       1522,    17.7005,   -66.0008,       1439,   437.9,  13.3708,  35.7146,2,  35.7163,2,    135.3,2,   135.7,2,    7.31,2,   18.59,2,    0.00,2,    1.08,2,   2.048,2,   1.197,2,   0.9500,2,  -999.0,9, -999.00,9, -999.000,9,  -999.00,-999.00000,9,  -999.00, -999.00,9, -999.00,9, -999.00, -999.00,9,-999.000,9, -999.00,9, -999.00,9,      20.36,2, 20210427,     1554,  17.7005, -66.0008,    13.3746,2,     0.0406,1,     4.6752,1,     -999.0,9,     -999.0,9,     -999.0,9
325020210420,        A22,      25,          1,         10,         10,2,20210427,       1522,    17.7005,   -66.0008,       1439,   488.5,  12.4669,  35.5816,2,  35.5837,2,    133.8,2,   133.6,2,    8.68,2,   20.34,2,    0.00,2,    1.20,2,-999.000,9,-999.000,9,-999.0000,9,  -999.0,9, -999.00,9, -999.000,9,  -999.00,-999.00000,9,  -999.00, -999.00,9, -999.00,9, -999.00, -999.00,9,-999.000,9, -999.00,9, -999.00,9,     -999.0,9, 20210427,     1552,  17.7005, -66.0008,    12.4765,2,     0.0409,1,     4.6768,1,     -999.0,9,     -999.0,9,     -999.0,9
325020210420,        A22,      25,          1,          9,          9,2,20210427,       1522,    17.7005,   -66.0008,       1439,   569.4,  10.7022,  35.2942,2,  35.2956,2,    125.9,2,   126.1,2,   12.19,2,   24.61,2,    0.00,2,    1.48,2,   1.634,2,   0.918,2,   0.5700,2,  2199.2,2, 2319.21,2, -999.000,9,  -999.00,   7.66154,6,    25.02, -999.00,9, -999.00,9, -999.00, -999.00,9,-999.000,9, -999.00,9, -999.00,9,      23.95,2, 20210427,     1549,  17.7005, -66.0008,    10.6965,2,     0.0425,1,     4.6789,1,     -999.0,9,     -999.0,9,     -999.0,9
325020210420,        A22,      25,          1,          8,          8,2,20210427,       1522,    17.7005,   -66.0008,       1439,   670.5,   8.5546,  34.9830,2,  34.9754,2,    122.1,2,   122.2,2,   17.37,2,   29.21,2,    0.00,2,    1.81,2,-999.000,9,-999.000,9,-999.0000,9,  -999.0,9, -999.00,9, -999.000,9,  -999.00,-999.00000,9,  -999.00, -999.00,9, -999.00,9, -999.00, -999.00,9,-999.000,9, -999.00,9, -999.00,9,     -999.0,9, 20210427,     1545,  17.7005, -66.0008,     8.5537,2,     0.0424,1,     4.6782,1,     -999.0,9,     -999.0,9,     -999.0,9
325020210420,        A22,      25,          1,          7,          7,2,20210427,       1522,    17.7005,   -66.0008,       1439,   770.9,   7.2055,  34.8500,2,  34.8501,2,    128.5,2,   128.7,2,   21.17,2,   30.91,2,    0.00,2,    1.96,2,   0.732,2,   0.394,2,   0.2400,2,  -999.0,9, -999.00,9, -999.000,9,  -999.00,-999.00000,9,  -999.00, -999.00,9, -999.00,9, -999.00, -999.00,9,-999.000,9, -999.00,9, -999.00,9,      25.37,2, 20210427,     1542,  17.7005, -66.0008,     7.2051,2,     0.0429,1,     4.6793,1,     -999.0,9,     -999.0,9,     -999.0,9
325020210420,        A22,      25,          1,          6,          6,2,20210427,       1522,    17.7005,   -66.0008,       1439,   872.2,   6.4122,  34.8682,2,  34.8656,2,    144.7,2,   144.4,2,   22.83,2,   29.65,2,    0.00,2,    1.90,2,-999.000,9,-999.000,9,-999.0000,9,  -999.0,9, -999.00,9, -999.000,9,  -999.00,-999.00000,9,  -999.00, -999.00,9, -999.00,9, -999.00, -999.00,9,-999.000,9, -999.00,9, -999.00,9,     -999.0,9, 20210427,     1539,  17.7005, -66.0008,     6.4127,2,     0.0428,1,     4.6800,1,     -999.0,9,     -999.0,9,     -999.0,9
325020210420,        A22,      25,          1,          5,          5,2,20210427,       1522,    17.7005,   -66.0008,       1439,   973.1,   5.6979,  34.9223,2,  34.9237,2,    169.7,2,   170.1,2,   23.51,2,   26.70,2,    0.00,2,    1.74,2,   0.343,2,   0.190,2,   0.1500,2,  -999.0,9, -999.00,9, -999.000,9,  -999.00,-999.00000,9,  -999.00, -999.00,9, -999.00,9, -999.00, -999.00,9,-999.000,9, -999.00,9, -999.00,9,      20.10,2, 20210427,     1536,  17.7005, -66.0008,     5.6977,2,     0.0436,1,     4.6796,1,     -999.0,9,     -999.0,9,     -999.0,9
325020210420,        A22,      25,          1,          4,          4,2,20210427,       1522,    17.7005,   -66.0008,       1439,  1074.5,   5.1982,  34.9452,2,  34.9439,2,    185.0,2,   184.5,2,   23.81,2,   25.24,2,    0.00,2,    1.66,2,-999.000,9,-999.000,9,-999.0000,9,  -999.0,9, -999.00,9, -999.000,9,  -999.00,-999.00000,9,  -999.00, -999.00,9, -999.00,9, -999.00, -999.00,9,-999.000,9, -999.00,9, -999.00,9,     -999.0,9, 20210427,     1532,  17.7005, -66.0008,     5.1972,2,     0.0429,1,     4.6801,1,     -999.0,9,     -999.0,9,     -999.0,9
325020210420,        A22,      25,          1,          3,          3,2,20210427,       1522,    17.7005,   -66.0008,       1439,  1175.7,   4.7327,  34.9627,2,  34.9618,2,    199.8,2,   200.5,2,   24.39,2,   23.69,2,    0.00,2,    1.56,2,   0.264,2,   0.147,2,   0.1100,2,  -999.0,9, -999.00,9, -999.000,9,  -999.00,-999.00000,9,  -999.00, -999.00,9, -999.00,9, -999.00, -999.00,9,-999.000,9, -999.00,9, -999.00,9,      16.74,2, 20210427,     1530,  17.7005, -66.0008,     4.7324,2,     0.0429,1,     4.6798,1,     -999.0,9,     -999.0,9,     -999.0,9
325020210420,        A22,      25,          1,          2,          2,2,20210427,       1522,    17.7005,   -66.0008,       1439,  1306.7,   4.3238,  34.9741,2,  34.9721,2,    212.9,2,   213.4,2,   24.59,2,   22.37,2,    0.00,2,    1.48,2,   0.341,2,   0.186,2,   0.1800,2,  -999.0,9, -999.00,9, -999.000,9,  -999.00,-999.00000,9,  -999.00, -999.00,9, -999.00,9, -999.00, -999.00,9,-999.000,9, -999.00,9, -999.00,9,      15.32,2, 20210427,     1526,  17.7005, -66.0008,     4.3252,2,     0.0429,1,     4.6827,1,     -999.0,9,     -999.0,9,     -999.0,9
325020210420,        A22,      25,          1,          1,          1,2,20210427,       1522,    17.7005,   -66.0008,       1439,  1441.5,   4.2018,  34.9790,2,  34.9774,2,    222.5,2,   222.3,2,   23.32,2,   21.45,2,    0.00,2,    1.42,2,   0.588,2,   0.312,2,   0.2400,2,  2187.9,2, 2324.26,6, -999.000,9,  -999.00,    7.7043,2,    25.04, -999.00,9, -999.00,9, -999.00, -999.00,9,-999.000,9, -999.00,9, -999.00,9,      14.89,2, 20210427,     1522,  17.7005, -66.0008,     4.2010,2,     0.0429,1,     4.6838,1,     -999.0,9,     -999.0,9,     -999.0,9