BOTTLE,20230513CCHSIOCBG
EXPOCODE,SECT_ID,STNNBR,CASTNO,SAMPNO,BTLNBR,BTLNBR_FLAG_W,DATE,TIME,LATITUDE,LONGITUDE,DEPTH,CTDPRS,CTDTMP,CTDSAL,CTDSAL_FLAG_W,SALNTY,SALNTY_FLAG_W,CTDOXY,CTDOXY_FLAG_W,OXYGEN,OXYGEN_FLAG_W,SILCAT,SILCAT_FLAG_W,NITRAT,NITRAT_FLAG_W,NITRIT,NITRIT_FLAG_W,PHSPHT,PHSPHT_FLAG_W,CFC-11,CFC-11_FLAG_W,CFC-12,CFC-12_FLAG_W,SF6,SF6_FLAG_W,TCARBN,TCARBN_FLAG_W,ALKALI,ALKALI_FLAG_W,FCO2,FCO2_FLAG_W,FCO2TMP,PH_TOT,PH_TOT_FLAG_W,PH_TMP,DELC13,DELC13_FLAG_W,DELC14,DELC14_FLAG_W,C14ERR,DELO18,DELO18_FLAG_W,POC,POC_FLAG_W,DOC,DOC_FLAG_W,TDN,TDN_FLAG_W,N2O,N2O_FLAG_W,BTL_DATE,BTL_TIME,BTL_LAT,BTL_LON,REFTMP,REFTMP_FLAG_W,CTDFLUOR,CTDFLUOR_FLAG_W,CTDXMISS,CTDXMISS_FLAG_W,D15N_NO2+NO3,D15N_NO2+NO3_FLAG_W,D18O_NO2+NO3,D18O_NO2+NO3_FLAG_W,HPLC,HPLC_FLAG_W
,,,,,,,,,,,METERS,DBAR,ITS-90,PSS-78,,PSS-78,,UMOL/KG,,UMOL/KG,,UMOL/KG,,UMOL/KG,,UMOL/KG,,UMOL/KG,,PMOL/KG,,PMOL/KG,,FMOL/KG,,UMOL/KG,,UMOL/KG,,UATM,,DEG C,,,DEG C,/MILLE,,/MILLE,,/MILLE,/MILLE,,UG/KG,,UMOL/KG,,UMOL/KG,,NMOL/KG,,,,,,ITS-90,,VOLTS,,VOLTS,,/MILLE,,/MILLE,,,
325020210420,        A22,      20,          1,         36,         36,2,20210426,       1345,    17.0707,   -66.4711,       4772,     5.8,  27.2323,  35.8514,2,  35.8530,2,    203.2,2,   202.3,2,    1.27,2,    0.00,2,    0.00,2,    0.00,2,   1.458,2,   0.949,2,   1.6100,2,  2022.0,6,  2348.5,2,  291.310,2,    20.00,   8.09738,2,    24.98, -999.00,9, -999.00,9, -999.00, -999.00,1,-999.000,9,   79.30,2,    4.54,2,       5.72,2, 20210426,     1551,  17.0707, -66.4711,    27.2300,2,     0.0441,1,     4.6198,1,     -999.0,9,     -999.0,9,     -999.0,9
325020210420,        A22,      20,          1,         35,         35,2,20210426,       1345,    17.0707,   -66.4711,       4772,    24.7,  27.1755,  35.8496,2,  35.8554,2,    202.9,2,   202.9,2,    1.27,2,    0.00,2,    0.00,2,    0.00,2,   1.463,2,   0.944,2,   1.6200,2,  2018.4,2, 2349.35,6,  292.220,2,    20.00,   8.09789,2,    25.00, -999.00,9, -999.00,9, -999.00, -999.00,9,-999.000,9,   75.90,2,    4.65,2,       5.82,2, 20210426,     1549,  17.0707, -66.4711,    27.1750,2,     0.0468,1,     4.6130,1,     -999.0,9,     -999.0,9,     -999.0,9
325020210420,        A22,      20,          1,         34,         34,2,20210426,       1345,    17.0707,   -66.4711,       4772,    50.4,  27.0437,  35.8402,2,  35.8447,2,    203.9,2,   203.5,2,    1.27,2,    0.00,2,    0.00,2,    0.00,2,-999.000,9,-999.000,9,-999.0000,9,  2022.0,2, 2348.76,2,  292.690,2,    20.00,   8.09769,6,    24.99, -999.00,9, -999.00,9, -999.00, -999.00,9,-999.000,9,   77.40,2,    4.63,2,     -999.0,9, 20210426,     1548,  17.0707, -66.4711,    27.0441,2,     0.0572,1,     4.6149,1,     -999.0,9,     -999.0,9,     -999.0,9
325020210420,        A22,      20,          1,         33,         33,2,20210426,       1345,    17.0707,   -66.4711,       4772,    75.5,  26.6049,  36.2261,2,  36.2374,2,    202.1,2,   202.0,2,    0.97,2,    0.00,2,    0.00,2,    0.00,2,   1.489,2,   0.959,2,   1.5200,2,  2043.6,2, -999.00,9, -999.000,9,  -999.00,   8.09052,2,    25.00, -999.00,9, -999.00,9, -999.00, -999.00,9,-999.000,9,   71.70,2,    4.83,2,       6.15,2, 20210426,     1547,  17.0707, -66.4711,    26.6072,2,     0.0691,1,     4.6272,1,     -999.0,9,     -999.0,9,     -999.0,9
325020210420,        A22,      20,          1,         32,         32,2,20210426,       1345,    17.0707,   -66.4711,       4772,   100.9,  26.1759,  36.5784,2,  36.6005,3,    193.6,2,   194.2,2,    0.97,2,    0.00,2,    0.08,2,    0.00,2,-999.000,9,-999.000,9,-999.0000,9,  2068.0,2, 2392.71,2,  313.180,2,    20.00,   8.07857,2,    24.98, -999.00,9, -999.00,9, -999.00, -999.00,1,-999.000,9,   71.00,2,    4.53,2,     -999.0,9, 20210426,     1545,  17.0707, -66.4711,    26.1731,2,     0.1118,1,     4.6179,1,     -999.0,9,     -999.0,9,     -999.0,9
325020210420,        A22,      20,          1,         31,         31,2,20210426,       1345,    17.0707,   -66.4711,       4772,   151.4,  23.6906,  37.2268,2,  37.2212,2,    171.4,2,   172.5,2,    0.58,2,    1.42,2,    0.04,2,    0.01,2,   1.724,2,   1.099,2,   1.6200,2,  2140.9,2, 2429.26,2,  389.380,2,    20.00,   8.00074,2,    24.98, -999.00,9, -999.00,9, -999.00, -999.00,9,-999.000,9,   58.20,2,    4.75,2,       7.58,2, 20210426,     1543,  17.0707, -66.4711,    23.6886,2,     0.0631,1,     4.6580,1,     -999.0,9,     -999.0,9,     -999.0,9
325020210420,        A22,      20,          1,         30,         30,2,20210426,       1345,    17.0707,   -66.4711,       4772,   201.2,  20.7137,  36.8936,2,  36.8899,2,    164.6,2,   164.5,2,    1.07,2,    3.88,2,    0.00,2,    0.12,2,-999.000,9,-999.000,9,-999.0000,9,  2157.4,2, 2421.67,2,  449.200,2,    20.00,   7.94545,2,    24.99, -999.00,9, -999.00,9, -999.00, -999.00,9,-999.000,9,   53.00,2,    6.69,2,     -999.0,9, 20210426,     1540,  17.0707, -66.4711,    20.7464,2,     0.0407,1,     4.6728,1,     -999.0,9,     -999.0,9,     -999.0,9
325020210420,        A22,      20,          1,         29,         29,2,20210426,       1345,    17.0707,   -66.4711,       4772,   251.8,  18.0116,  36.4903,2,  36.4927,2,    160.2,2,   160.5,2,    2.24,2,    8.32,2,    0.00,2,    0.39,2,   2.096,2,   1.294,2,   1.4500,2,  2162.1,2,  2386.0,2,  515.500,2,    20.00,   7.88953,2,    25.01, -999.00,9, -999.00,9, -999.00, -999.00,9,-999.000,9,   48.90,2,   10.99,2,      12.51,2, 20210426,     1539,  17.0707, -66.4711,    18.0354,2,     0.0406,1,     4.6762,1,     -999.0,9,     -999.0,9,     -999.0,9
325020210420,        A22,      20,          1,         28,         28,2,20210426,       1345,    17.0707,   -66.4711,       4772,   302.4,  15.7368,  36.0832,2,  36.1098,3,    147.2,2,   147.4,2,    4.19,2,   13.27,2,    0.00,2,    0.72,2,-999.000,9,-999.000,9,-999.0000,9,  2175.6,2, 2360.19,2,  610.750,2,    20.00,   7.82047,2,    25.01, -999.00,9, -999.00,9, -999.00, -999.00,9,-999.000,9,   47.90,2, -999.00,1,     -999.0,9, 20210426,     1537,  17.0707, -66.4711,    15.8561,3,     0.0402,1,     4.6769,1,     -999.0,9,     -999.0,9,     -999.0,9
325020210420,        A22,      20,          1,         27,         27,2,20210426,       1345,    17.0707,   -66.4711,       4772,   352.8,  14.1714,  35.8383,2,  35.8370,2,    140.4,2,   139.7,2,    6.14,2,   16.82,2,    0.00,2,    0.95,2,   2.115,2,   1.247,2,   0.9900,2,  2185.3,2,  2348.3,2,  690.310,6,    20.00,   7.76983,2,    25.00, -999.00,9, -999.00,9, -999.00, -999.00,9,-999.000,9,   46.90,2, -999.00,1,      19.44,2, 20210426,     1535,  17.0707, -66.4711,    14.2002,2,     0.0406,1,     4.6777,1,     -999.0,9,     -999.0,9,     -999.0,9
325020210420,        A22,      20,          1,         26,         26,2,20210426,       1345,    17.0707,   -66.4711,       4772,   403.3,  12.5607,  35.5328,2,  35.5358,2,    128.4,2,   127.5,2,    8.97,2,   21.00,2,    0.00,2,    1.23,2,   1.976,2,   1.137,2,   0.8100,2,  2196.0,2, 2332.46,2,  803.560,2,    20.00,   7.70652,2,    25.00, -999.00,9, -999.00,9, -999.00, -999.00,9,-999.000,9,   45.70,2, -999.00,1,      22.91,2, 20210426,     1532,  17.0707, -66.4711,    12.5662,3,     0.0413,1,     4.6776,1,     -999.0,9,     -999.0,9,     -999.0,9
325020210420,        A22,      20,          1,         25,         25,2,20210426,       1345,    17.0707,   -66.4711,       4772,   453.9,  11.0682,  35.2948,2,  35.2922,2,    122.8,2,   122.0,2,   11.51,2,   24.36,2,    0.00,2,    1.45,2,-999.000,9,-999.000,9,-999.0000,9,  2202.9,2, 2322.15,2,  901.740,2,    20.00,   7.65666,2,    25.01, -999.00,9, -999.00,9, -999.00, -999.00,9,-999.000,9,   44.60,2, -999.00,1,     -999.0,9, 20210426,     1531,  17.0707, -66.4711,    11.1038,2,     0.0420,1,     4.6773,1,     -999.0,9,     -999.0,9,     -999.0,9
325020210420,        A22,      20,          1,         24,         24,2,20210426,       1345,    17.0707,   -66.4711,       4772,   503.5,  10.1084,  35.1446,2,  35.1319,3,    119.7,2,   120.0,2,   13.66,2,   26.65,2,    0.00,2,    1.61,2,   1.616,6,   0.903,6,   0.5500,6,  2210.3,6, 2311.63,2,  973.740,2,    20.00,   7.62381,2,    25.00, -999.00,9, -999.00,9, -999.00, -999.00,9,-999.000,9,   44.70,2, -999.00,1,      26.31,6, 20210426,     1529,  17.0707, -66.4711,    10.1251,2,     0.0429,1,     4.6774,1,     -999.0,9,     -999.0,9,     -999.0,9
325020210420,        A22,      20,          1,         23,         23,2,20210426,       1345,    17.0707,   -66.4711,       4772,   604.6,   8.5577,  34.9581,2,  34.9595,2,    120.6,2,   120.7,2,   17.27,2,   29.40,2,    0.00,2,    1.81,2,   1.262,2,   0.677,2,   0.4100,2,  2215.7,2, 2306.62,2, 1050.320,2,    20.00,    7.5901,2,    25.02, -999.00,9, -999.00,9, -999.00, -999.00,9,-999.000,9,   43.30,2, -999.00,1,      26.44,2, 20210426,     1526,  17.0707, -66.4711,     8.5574,2,     0.0429,1,     4.6789,1,     -999.0,9,     -999.0,9,     -999.0,9
325020210420,        A22,      20,          1,         22,         22,2,20210426,       1345,    17.0707,   -66.4711,       4772,   705.6,   7.4698,  34.8785,2,  34.8780,2,    126.5,2,   127.0,2,   20.30,2,   30.58,2,    0.00,2,    1.93,2,-999.000,9,-999.000,9,-999.0000,9,  2219.6,2, 2304.45,2, 1072.290,2,    20.00,   7.58202,2,    25.00, -999.00,9, -999.00,9, -999.00, -999.00,9,-999.000,9,   42.60,2, -999.00,1,     -999.0,9, 20210426,     1524,  17.0707, -66.4711,     7.4750,2,     0.0427,1,     4.6798,1,     -999.0,9,     -999.0,9,     -999.0,9
325020210420,        A22,      20,          1,         21,         21,2,20210426,       1345,    17.0707,   -66.4711,       4772,   806.1,   6.4263,  34.8154,2,  34.8194,2,    136.4,2,   136.6,2,   23.32,2,   30.92,2,    0.00,2,    1.97,2,   0.468,2,   0.251,2,   0.1400,2,  2219.5,2, 2305.44,2, 1073.760,2,    20.00,   7.58086,2,    25.01, -999.00,9, -999.00,9, -999.00, -999.00,9,-999.000,9,   40.90,2, -999.00,1,      24.39,2, 20210426,     1520,  17.0707, -66.4711,     6.4274,2,     0.0424,1,     4.6800,1,     -999.0,9,     -999.0,9,     -999.0,9
325020210420,        A22,      20,          1,         20,         20,2,20210426,       1345,    17.0707,   -66.4711,       4772,   907.9,   5.8702,  34.8823,2,  34.8814,2,    157.2,2,   157.2,2,   23.71,2,   28.41,2,    0.00,2,    1.83,2,-999.000,9,-999.000,9,-999.0000,9,  2213.5,2, 2312.46,2,  988.880,2,    20.00,    7.6155,2,    25.01, -999.00,9, -999.00,9, -999.00, -999.00,9,-999.000,9,   41.90,2, -999.00,1,     -999.0,9, 20210426,     1518,  17.0707, -66.4711,     5.8672,2,     0.0428,1,     4.6808,1,     -999.0,9,     -999.0,9,     -999.0,9
325020210420,        A22,      20,          1,         19,         19,2,20210426,       1345,    17.0707,   -66.4711,       4772,  1008.7,   5.2829,  34.9282,2,  34.9286,2,    177.3,2,   177.6,2,   24.10,2,   26.05,2,    0.00,2,    1.70,2,   0.247,2,   0.135,2,   0.1500,2,  2203.6,2,  2317.8,2,  913.820,2,    20.00,   7.64864,2,    25.01, -999.00,9, -999.00,9, -999.00, -999.00,9,-999.000,9,   41.70,2, -999.00,1,      19.08,2, 20210426,     1515,  17.0707, -66.4711,     5.2917,2,     0.0429,1,     4.6811,1,     -999.0,9,     -999.0,9,     -999.0,9
325020210420,        A22,      20,          1,         18,         18,2,20210426,       1345,    17.0707,   -66.4711,       4772,  1109.4,   4.8985,  34.9506,2,  34.9502,2,    190.7,2,   191.9,2,   24.00,2,   24.62,2,    0.00,2,    1.60,2,   0.218,2,   0.119,2,   0.0700,2,  2201.2,2, 2321.34,2,  872.140,2,    20.00,   7.66835,2,    25.01, -999.00,9, -999.00,9, -999.00, -999.00,9,-999.000,9,   40.90,2, -999.00,1,      17.63,2, 20210426,     1512,  17.0707, -66.4711,     4.9043,2,     0.0429,1,     4.6816,1,     -999.0,9,     -999.0,9,     -999.0,9
325020210420,        A22,      20,          1,         17,         17,2,20210426,       1345,    17.0707,   -66.4711,       4772,  1210.9,   4.6617,  34.9618,2,  34.9620,2,    200.1,2,   200.3,2,   24.10,2,   23.69,2,    0.00,2,    1.55,2,   0.214,2,   0.116,2,   0.1200,2,  2198.6,2, 2321.68,2,  848.840,2,    20.00,   7.68026,2,    25.00, -999.00,9, -999.00,9, -999.00, -999.00,9,-999.000,9,   40.40,2, -999.00,1,      16.80,2, 20210426,     1509,  17.0707, -66.4711,     4.6612,2,     0.0426,1,     4.6814,1,     -999.0,9,     -999.0,9,     -999.0,9
325020210420,        A22,      20,          1,         16,         16,2,20210426,       1345,    17.0707,   -66.4711,       4772,  1312.1,   4.5002,  34.9688,2,  34.9687,2,    206.0,2,   206.6,2,   24.29,2,   23.07,2,    0.00,2,    1.51,2,-999.000,9,-999.000,9,-999.0000,9,  2198.6,2, 2324.74,2,  830.470,2,    20.00,    7.6891,2,    25.01, -999.00,9, -999.00,9, -999.00, -999.00,9,-999.000,9,   41.30,2, -999.00,1,     -999.0,9, 20210426,     1506,  17.0707, -66.4711,     4.5010,2,     0.0429,1,     4.6815,1,     -999.0,9,     -999.0,9,     -999.0,9
325020210420,        A22,      20,          1,         15,         15,2,20210426,       1345,    17.0707,   -66.4711,       4772,  1414.0,   4.3761,  34.9713,2,  34.9721,2,    208.3,2,   208.8,2,   25.17,2,   22.82,2,    0.00,2,    1.50,2,   0.177,2,   0.099,2,   0.0900,2,  2197.1,6, 2324.61,2,  823.900,2,    20.00,   7.69267,2,    25.00, -999.00,9, -999.00,9, -999.00, -999.00,9,-999.000,9,   41.30,2, -999.00,1,      15.41,2, 20210426,     1503,  17.0707, -66.4711,     4.3760,2,     0.0424,1,     4.6819,1,     -999.0,9,     -999.0,9,     -999.0,9
325020210420,        A22,      20,          1,         14,         14,2,20210426,       1345,    17.0707,   -66.4711,       4772,  1514.2,   4.3007,  34.9714,2,  34.9728,2,    208.4,2,   209.2,2,   26.34,2,   22.79,2,    0.00,2,    1.50,2,   0.126,2,   0.071,2,   0.1200,2,  2198.1,2, 2327.53,6,  822.320,2,    20.00,   7.69347,2,    25.00, -999.00,9, -999.00,9, -999.00, -999.00,9,-999.000,9,   40.50,2, -999.00,1,      15.64,2, 20210426,     1500,  17.0707, -66.4711,     4.3010,2,     0.0434,1,     4.6805,1,     -999.0,9,     -999.0,9,     -999.0,9
325020210420,        A22,      20,          1,         13,         13,2,20210426,       1345,    17.0707,   -66.4711,       4772,  1616.0,   4.2467,  34.9726,2,  34.9734,2,    210.2,2,   210.5,2,   26.73,2,   22.67,2,    0.00,2,    1.48,2,   0.116,2,   0.067,2,   0.1100,2,  2199.2,2, -999.00,9, -999.000,9,  -999.00,   7.69667,6,    25.01, -999.00,9, -999.00,9, -999.00, -999.00,9,-999.000,9,   40.20,2, -999.00,1,      15.38,2, 20210426,     1457,  17.0707, -66.4711,     4.2466,2,     0.0422,1,     4.6813,1,     -999.0,9,     -999.0,9,     -999.0,9
325020210420,        A22,      20,          1,         12,         12,2,20210426,       1345,    17.0707,   -66.4711,       4772,  1818.6,   4.1686,  34.9745,2,  34.9748,2,    213.8,2,   214.1,2,   26.93,2,   22.32,2,    0.00,2,    1.47,2,-999.000,9,-999.000,9,-999.0000,9,  2198.6,2, 2328.98,2,  808.980,2,    20.00,   7.70129,2,    24.99, -999.00,9, -999.00,9, -999.00, -999.00,9,-999.000,9,   39.90,2, -999.00,1,     -999.0,9, 20210426,     1452,  17.0707, -66.4711,     4.1689,2,     0.0429,1,     4.6824,1,     -999.0,9,     -999.0,9,     -999.0,9
325020210420,        A22,      20,          1,         11,         11,2,20210426,       1345,    17.0707,   -66.4711,       4772,  2021.3,   4.1407,  34.9751,2,  34.9768,2,    215.4,2,   215.6,2,   27.03,2,   22.15,2,    0.00,2,    1.46,2,   0.155,2,   0.088,2,   0.2800,2,  2199.1,2, 2332.78,2,  802.690,2,    20.00,    7.7043,2,    25.02, -999.00,9, -999.00,9, -999.00, -999.00,9,-999.000,9,   41.10,2, -999.00,1,      14.50,2, 20210426,     1447,  17.0707, -66.4711,     4.1407,2,     0.0430,1,     4.6822,1,     -999.0,9,     -999.0,9,     -999.0,9
325020210420,        A22,      20,          1,         10,         10,2,20210426,       1345,    17.0707,   -66.4711,       4772,  2275.9,   4.1279,  34.9755,2,  34.9754,2,    215.7,2,   215.7,2,   27.71,2,   22.11,2,    0.00,2,    1.46,2,-999.000,9,-999.000,9,-999.0000,9,  2198.8,2, -999.00,9, -999.000,9,  -999.00,   7.70506,2,    25.07, -999.00,9, -999.00,9, -999.00, -999.00,9,-999.000,9,   39.90,2, -999.00,1,     -999.0,9, 20210426,     1442,  17.0707, -66.4711,     4.1279,2,     0.0428,1,     4.6820,1,     -999.0,9,     -999.0,9,     -999.0,9
325020210420,        A22,      20,          1,          9,          9,2,20210426,       1345,    17.0707,   -66.4711,       4772,  2530.2,   4.1373,  34.9755,2,  34.9754,2,    215.3,2,   215.1,2,   28.39,2,   22.20,2,    0.00,2,    1.46,2,   0.085,2,   0.057,2,   0.2900,2,  2202.7,2, 2333.52,2,  799.120,2,    20.00,   7.70662,2,    25.02, -999.00,9, -999.00,9, -999.00, -999.00,9,-999.000,9,   40.60,2, -999.00,1,      14.54,2, 20210426,     1436,  17.0707, -66.4711,     4.1374,2,     0.0428,1,     4.6817,1,     -999.0,9,     -999.0,9,     -999.0,9
325020210420,        A22,      20,          1,          8,          8,2,20210426,       1345,    17.0707,   -66.4711,       4772,  2784.3,   4.1560,  34.9755,2,  34.9756,2,    215.2,2,   215.1,2,   28.69,2,   22.16,2,    0.00,2,    1.46,2,   0.079,2,   0.054,2,   0.3200,2,  2200.5,2, -999.00,9, -999.000,9,  -999.00,   7.70766,2,    25.02, -999.00,9, -999.00,9, -999.00, -999.00,9,-999.000,9,   40.20,2, -999.00,1,      14.45,2, 20210426,     1431,  17.0707, -66.4711,     4.1560,2,     0.0428,1,     4.6815,1,     -999.0,9,     -999.0,9,     -999.0,9
325020210420,        A22,      20,          1,          7,          7,2,20210426,       1345,    17.0707,   -66.4711,       4772,  3039.1,   4.1784,  34.9756,2,  34.9756,2,    215.3,2,   215.4,2,   28.88,2,   22.17,2,    0.00,2,    1.46,2,   0.075,2,   0.054,2,   0.3000,2,  2200.6,2, 2334.13,6,  796.470,2,    20.00,   7.70825,6,    24.98, -999.00,9, -999.00,9, -999.00, -999.00,9,-999.000,9,   40.20,2, -999.00,1,      14.25,2, 20210426,     1425,  17.0707, -66.4711,     4.1785,2,     0.0429,1,     4.6816,1,     -999.0,9,     -999.0,9,     -999.0,9
325020210420,        A22,      20,          1,          6,          6,2,20210426,       1345,    17.0707,   -66.4711,       4772,  3346.6,   4.2099,  34.9757,2,  34.9760,2,    216.0,2,   215.5,2,   28.78,2,   22.12,2,    0.00,2,    1.46,2,-999.000,9,-999.000,9,-999.0000,9,  2201.3,2, -999.00,9, -999.000,9,  -999.00,   7.70816,2,    25.01, -999.00,9, -999.00,9, -999.00, -999.00,9,-999.000,9,   39.90,2, -999.00,1,     -999.0,9, 20210426,     1418,  17.0707, -66.4711,     4.2100,2,     0.0428,1,     4.6822,1,     -999.0,9,     -999.0,9,     -999.0,9
325020210420,        A22,      20,          1,          5,          5,2,20210426,       1345,    17.0707,   -66.4711,       4772,  3653.1,   4.2436,  34.9758,2,  34.9756,2,    216.0,2,   215.6,2,   28.78,2,   22.12,2,    0.00,2,    1.47,2,   0.095,2,   0.063,2,   0.2200,2,  2199.6,2, -999.00,9, -999.000,9,  -999.00,   7.70874,2,    25.01, -999.00,9, -999.00,9, -999.00, -999.00,9,-999.000,9,   41.10,2, -999.00,1,      14.47,2, 20210426,     1412,  17.0707, -66.4711,     4.2438,2,     0.0428,1,     4.6807,1,     -999.0,9,     -999.0,9,     -999.0,9
325020210420,        A22,      20,          1,          4,          4,2,20210426,       1345,    17.0707,   -66.4711,       4772,  3960.3,   4.2794,  34.9760,2,  34.9768,2,    216.3,2,   216.2,2,   28.78,2,   22.09,2,    0.00,2,    1.45,2,-999.000,9,-999.000,9,-999.0000,9,  2200.8,2, 2336.44,2,  794.150,2,    20.00,   7.70884,2,    25.01, -999.00,9, -999.00,9, -999.00, -999.00,9,-999.000,9,   40.70,2, -999.00,1,     -999.0,9, 20210426,     1406,  17.0707, -66.4711,     4.2797,2,     0.0429,1,     4.6804,1,     -999.0,9,     -999.0,9,     -999.0,9
325020210420,        A22,      20,          1,          3,          3,2,20210426,       1345,    17.0707,   -66.4711,       4772,  4267.6,   4.3186,  34.9762,2,  34.9776,2,    216.5,2,   216.8,2,   28.88,2,   22.01,2,    0.00,2,    1.45,2,   0.140,2,   0.089,2,   0.1700,2,  2203.7,2, -999.00,9, -999.000,9,  -999.00,      7.71,6,    24.99, -999.00,9, -999.00,9, -999.00, -999.00,9,-999.000,9,   40.30,2, -999.00,1,      14.26,2, 20210426,     1359,  17.0707, -66.4711,     4.3188,2,     0.0427,1,     4.6795,1,     -999.0,9,     -999.0,9,     -999.0,9