BOTTLE,20230513CCHSIOCBG
EXPOCODE,SECT_ID,STNNBR,CASTNO,SAMPNO,BTLNBR,BTLNBR_FLAG_W,DATE,TIME,LATITUDE,LONGITUDE,DEPTH,CTDPRS,CTDTMP,CTDSAL,CTDSAL_FLAG_W,SALNTY,SALNTY_FLAG_W,CTDOXY,CTDOXY_FLAG_W,OXYGEN,OXYGEN_FLAG_W,SILCAT,SILCAT_FLAG_W,NITRAT,NITRAT_FLAG_W,NITRIT,NITRIT_FLAG_W,PHSPHT,PHSPHT_FLAG_W,CFC-11,CFC-11_FLAG_W,CFC-12,CFC-12_FLAG_W,SF6,SF6_FLAG_W,TCARBN,TCARBN_FLAG_W,ALKALI,ALKALI_FLAG_W,FCO2,FCO2_FLAG_W,FCO2TMP,PH_TOT,PH_TOT_FLAG_W,PH_TMP,DELC13,DELC13_FLAG_W,DELC14,DELC14_FLAG_W,C14ERR,DELO18,DELO18_FLAG_W,POC,POC_FLAG_W,DOC,DOC_FLAG_W,TDN,TDN_FLAG_W,N2O,N2O_FLAG_W,BTL_DATE,BTL_TIME,BTL_LAT,BTL_LON,REFTMP,REFTMP_FLAG_W,CTDFLUOR,CTDFLUOR_FLAG_W,CTDXMISS,CTDXMISS_FLAG_W,D15N_NO2+NO3,D15N_NO2+NO3_FLAG_W,D18O_NO2+NO3,D18O_NO2+NO3_FLAG_W,HPLC,HPLC_FLAG_W
,,,,,,,,,,,METERS,DBAR,ITS-90,PSS-78,,PSS-78,,UMOL/KG,,UMOL/KG,,UMOL/KG,,UMOL/KG,,UMOL/KG,,UMOL/KG,,PMOL/KG,,PMOL/KG,,FMOL/KG,,UMOL/KG,,UMOL/KG,,UATM,,DEG C,,,DEG C,/MILLE,,/MILLE,,/MILLE,/MILLE,,UG/KG,,UMOL/KG,,UMOL/KG,,NMOL/KG,,,,,,ITS-90,,VOLTS,,VOLTS,,/MILLE,,/MILLE,,,
325020210420,        A22,      13,          1,         36,         36,2,20210424,       1811,    15.1993,   -69.5128,       3882,     4.9,  27.3492,  35.8719,2,  35.8779,2,    202.5,2,   201.3,2,    1.17,2,    0.01,2,    0.00,2,    0.00,2,   1.462,2,   0.951,2,   1.5800,2,  2021.3,6, 2349.83,2, -999.000,9,  -999.00,   8.09089,6,    24.99, -999.00,9, -999.00,9, -999.00, -999.00,1,-999.000,9, -999.00,9, -999.00,9,       5.95,2, 20210424,     2002,  15.1993, -69.5128,    27.3465,2,     0.0444,1,     4.6101,1,     -999.0,9,     -999.0,9,     -999.0,9
325020210420,        A22,      13,          1,         35,         35,2,20210424,       1811,    15.1993,   -69.5128,       3882,    19.6,  27.2738,  35.8697,2,  35.8716,2,    202.6,2,   201.9,2,    1.17,2,    0.01,2,    0.00,2,    0.00,2,-999.000,9,-999.000,9,-999.0000,9,  -999.0,9, -999.00,9, -999.000,9,  -999.00,-999.00000,9,  -999.00, -999.00,9, -999.00,9, -999.00, -999.00,9,-999.000,9, -999.00,9, -999.00,9,     -999.0,9, 20210424,     2000,  15.1993, -69.5128,    27.2803,2,     0.0465,1,     4.6098,1,     -999.0,9,     -999.0,9,     -999.0,9
325020210420,        A22,      13,          1,         34,         34,2,20210424,       1811,    15.1993,   -69.5128,       3882,    40.0,  27.2289,  35.8751,2,  35.8783,2,    202.6,2,   202.0,2,    1.17,2,    0.01,2,    0.00,2,    0.00,2,-999.000,9,-999.000,9,-999.0000,9,  2020.4,2, 2350.36,2, -999.000,9,  -999.00,   8.09358,6,    24.99, -999.00,9, -999.00,9, -999.00, -999.00,9,-999.000,9, -999.00,9, -999.00,9,     -999.0,9, 20210424,     1958,  15.1993, -69.5128,    27.2209,2,     0.0494,1,     4.6063,1,     -999.0,9,     -999.0,9,     -999.0,9
325020210420,        A22,      13,          1,         33,         33,2,20210424,       1811,    15.1993,   -69.5128,       3882,    64.8,  26.7051,  36.0930,2,  36.1076,2,    203.3,2,   203.0,2,    1.27,2,    0.00,2,    0.00,2,    0.00,2,-999.000,9,-999.000,9,-999.0000,9,  2030.4,2, 2362.99,6, -999.000,9,  -999.00,   8.09973,2,    24.99, -999.00,9, -999.00,9, -999.00, -999.00,9,-999.000,9, -999.00,9, -999.00,9,     -999.0,9, 20210424,     1957,  15.1993, -69.5128,    26.7024,2,     0.0662,1,     4.6078,1,     -999.0,9,     -999.0,9,     -999.0,9
325020210420,        A22,      13,          1,         32,         32,2,20210424,       1811,    15.1993,   -69.5128,       3882,    90.3,  26.4922,  36.4586,2,  36.4568,2,    198.1,2,   198.7,2,    1.07,2,    0.00,2,    0.00,2,    0.00,2,   1.492,2,   0.960,2,   1.6200,2,  2050.0,2,  2384.0,2, -999.000,9,  -999.00,   8.09504,2,    24.99, -999.00,9, -999.00,9, -999.00, -999.00,1,-999.000,9, -999.00,9, -999.00,9,       5.86,2, 20210424,     1954,  15.1993, -69.5128,    26.4914,2,     0.0981,1,     4.6125,1,     -999.0,9,     -999.0,9,     -999.0,9
325020210420,        A22,      13,          1,         31,         31,2,20210424,       1811,    15.1993,   -69.5128,       3882,   115.4,  26.1323,  36.8714,2,  36.8615,2,    192.1,2,   193.3,2,    0.68,2,    0.02,2,    0.21,2,    0.00,2,-999.000,9,-999.000,9,-999.0000,9,  -999.0,9, -999.00,9, -999.000,9,  -999.00,-999.00000,9,  -999.00, -999.00,9, -999.00,9, -999.00, -999.00,9,-999.000,9, -999.00,9, -999.00,9,     -999.0,9, 20210424,     1953,  15.1993, -69.5128,    26.1321,2,     0.0758,1,     4.6445,1,     -999.0,9,     -999.0,9,     -999.0,9
325020210420,        A22,      13,          1,         30,         30,2,20210424,       1811,    15.1993,   -69.5128,       3882,   140.9,  24.0735,  37.2109,2,  37.1904,3,    168.3,3,   171.2,2,    0.68,2,    1.71,2,    0.04,2,    0.02,2,-999.000,9,-999.000,9,-999.0000,9,  -999.0,9, -999.00,9, -999.000,9,  -999.00,-999.00000,9,  -999.00, -999.00,9, -999.00,9, -999.00, -999.00,9,-999.000,9, -999.00,9, -999.00,9,     -999.0,9, 20210424,     1952,  15.1993, -69.5129,    24.0720,2,     0.0564,1,     4.6611,1,     -999.0,9,     -999.0,9,     -999.0,9
325020210420,        A22,      13,          1,         29,         29,2,20210424,       1811,    15.1993,   -69.5128,       3882,   185.2,  20.7221,  36.7974,2,  36.8030,2,    144.0,2,   144.4,2,    2.24,2,    6.71,2,    0.00,2,    0.29,2,   1.906,2,   1.194,2,   1.5400,2,  -999.0,9, -999.00,9, -999.000,9,  -999.00,-999.00000,9,  -999.00, -999.00,9, -999.00,9, -999.00, -999.00,9,-999.000,9, -999.00,9, -999.00,9,      11.50,2, 20210424,     1949,  15.1993, -69.5129,    20.7402,2,     0.0407,1,     4.6653,1,     -999.0,9,     -999.0,9,     -999.0,9
325020210420,        A22,      13,          1,         28,         28,2,20210424,       1811,    15.1993,   -69.5128,       3882,   236.2,  19.0388,  36.5791,2,  36.5767,2,    143.8,3,   145.7,2,    2.73,2,    8.85,2,    0.00,2,    0.41,2,-999.000,9,-999.000,9,-999.0000,9,  -999.0,9, -999.00,9, -999.000,9,  -999.00,-999.00000,9,  -999.00, -999.00,9, -999.00,9, -999.00, -999.00,9,-999.000,9, -999.00,9, -999.00,9,     -999.0,9, 20210424,     1946,  15.1993, -69.5128,    19.0527,2,     0.0402,1,     4.6728,1,     -999.0,9,     -999.0,9,     -999.0,9
325020210420,        A22,      13,          1,         27,         27,2,20210424,       1811,    15.1993,   -69.5128,       3882,   286.7,  16.3528,  36.1452,2,  36.1284,2,    136.8,2,   135.9,2,    4.87,2,   14.25,2,    0.00,2,    0.76,2,-999.000,9,-999.000,9,-999.0000,9,  -999.0,9, -999.00,9, -999.000,9,  -999.00,-999.00000,9,  -999.00, -999.00,9, -999.00,9, -999.00, -999.00,9,-999.000,9, -999.00,9, -999.00,9,     -999.0,9, 20210424,     1945,  15.1993, -69.5128,    16.3867,2,     0.0403,1,     4.6748,1,     -999.0,9,     -999.0,9,     -999.0,9
325020210420,        A22,      13,          1,         26,         26,2,20210424,       1811,    15.1993,   -69.5128,       3882,   337.2,  14.8123,  35.8719,2,  35.8516,3,    129.6,2,   129.5,2,    6.63,2,   17.46,2,    0.00,2,    0.97,2,-999.000,9,-999.000,9,-999.0000,9,  -999.0,9, -999.00,9, -999.000,9,  -999.00,-999.00000,9,  -999.00, -999.00,9, -999.00,9, -999.00, -999.00,9,-999.000,9, -999.00,9, -999.00,9,     -999.0,9, 20210424,     1943,  15.1993, -69.5128,    14.8083,2,     0.0404,1,     4.6742,1,     -999.0,9,     -999.0,9,     -999.0,9
325020210420,        A22,      13,          1,         25,         25,2,20210424,       1811,    15.1993,   -69.5128,       3882,   387.4,  13.3805,  35.6297,2,  35.6194,2,    126.1,2,   125.8,2,    8.29,2,   20.16,2,    0.00,2,    1.17,2,-999.000,9,-999.000,9,-999.0000,9,  -999.0,9, -999.00,9, -999.000,9,  -999.00,-999.00000,9,  -999.00, -999.00,9, -999.00,9, -999.00, -999.00,9,-999.000,9, -999.00,9, -999.00,9,     -999.0,9, 20210424,     1941,  15.1993, -69.5128,    13.4072,2,     0.0417,1,     4.6743,1,     -999.0,9,     -999.0,9,     -999.0,9
325020210420,        A22,      13,          1,         24,         24,2,20210424,       1811,    15.1993,   -69.5128,       3882,   438.6,  12.1425,  35.4429,2,  35.4300,2,    124.1,2,   124.4,2,    9.85,2,   22.33,2,    0.00,2,    1.31,2,-999.000,9,-999.000,9,-999.0000,9,  -999.0,9, -999.00,9, -999.000,9,  -999.00,-999.00000,9,  -999.00, -999.00,9, -999.00,9, -999.00, -999.00,9,-999.000,9, -999.00,9, -999.00,9,     -999.0,9, 20210424,     1939,  15.1993, -69.5128,    12.1416,2,     0.0423,1,     4.6754,1,     -999.0,9,     -999.0,9,     -999.0,9
325020210420,        A22,      13,          1,         23,         23,2,20210424,       1811,    15.1993,   -69.5128,       3882,   488.7,  10.6110,  35.2005,2,  35.2063,2,    119.9,2,   120.2,2,   12.58,2,   25.46,2,    0.00,2,    1.53,2,   1.820,2,   1.012,2,   0.6000,2,  2207.4,2, 2318.27,2, -999.000,9,  -999.00,   7.63895,2,    24.99, -999.00,9, -999.00,9, -999.00, -999.00,9,-999.000,9, -999.00,9, -999.00,9,      25.99,2, 20210424,     1937,  15.1993, -69.5128,    10.6126,2,     0.0421,1,     4.6771,1,     -999.0,9,     -999.0,9,     -999.0,9
325020210420,        A22,      13,          1,         22,         22,2,20210424,       1811,    15.1993,   -69.5128,       3882,   569.0,   8.6933,  34.9427,2,  34.9414,2,    119.1,2,   119.8,2,   16.98,2,   29.49,2,    0.00,2,    1.80,2,-999.000,9,-999.000,9,-999.0000,9,  2214.0,2, 2304.95,2, -999.000,9,  -999.00,   7.58591,2,    25.00, -999.00,9, -999.00,9, -999.00, -999.00,9,-999.000,9, -999.00,9, -999.00,9,     -999.0,9, 20210424,     1935,  15.1993, -69.5129,     8.6996,2,     0.0425,1,     4.6778,1,     -999.0,9,     -999.0,9,     -999.0,9
325020210420,        A22,      13,          1,         21,         21,2,20210424,       1811,    15.1993,   -69.5128,       3882,   670.6,   7.4504,  34.8425,2,  34.8426,2,    123.6,2,   123.7,2,   20.49,2,   31.16,2,    0.00,2,    1.95,2,-999.000,9,-999.000,9,-999.0000,9,  2219.5,2, 2305.39,2, -999.000,9,  -999.00,    7.5707,2,    25.01, -999.00,9, -999.00,9, -999.00, -999.00,9,-999.000,9, -999.00,9, -999.00,9,     -999.0,9, 20210424,     1931,  15.1993, -69.5128,     7.4503,2,     0.0436,1,     4.6798,1,     -999.0,9,     -999.0,9,     -999.0,9
325020210420,        A22,      13,          1,         20,         20,2,20210424,       1811,    15.1993,   -69.5128,       3882,   771.4,   6.3193,  34.7481,2,  34.7492,2,    132.0,2,   131.9,2,   24.20,2,   32.30,2,    0.00,2,    2.06,2,-999.000,9,-999.000,9,-999.0000,9,  -999.0,9, -999.00,9, -999.000,9,  -999.00,-999.00000,9,  -999.00, -999.00,9, -999.00,9, -999.00, -999.00,9,-999.000,9, -999.00,9, -999.00,9,     -999.0,9, 20210424,     1928,  15.1993, -69.5128,     6.3195,2,     0.0430,1,     4.6787,1,     -999.0,9,     -999.0,9,     -999.0,9
325020210420,        A22,      13,          1,         19,         19,2,20210424,       1811,    15.1993,   -69.5128,       3882,   872.1,   5.9345,  34.8065,2,  34.8060,2,    145.1,2,   145.3,2,   24.49,2,   30.59,2,    0.00,2,    1.96,2,   0.358,2,   0.189,2,   0.0600,2,  -999.0,9, -999.00,9, -999.000,9,  -999.00,-999.00000,9,  -999.00, -999.00,9, -999.00,9, -999.00, -999.00,9,-999.000,9, -999.00,9, -999.00,9,      22.75,2, 20210424,     1925,  15.1993, -69.5128,     5.9386,2,     0.0435,1,     4.6799,1,     -999.0,9,     -999.0,9,     -999.0,9
325020210420,        A22,      13,          1,         18,         18,2,20210424,       1811,    15.1993,   -69.5128,       3882,   972.9,   5.5650,  34.8775,2,  34.8816,2,    162.3,2,   162.4,2,   24.39,2,   28.03,2,    0.00,2,    1.81,2,-999.000,9,-999.000,9,-999.0000,9,  -999.0,9, -999.00,9, -999.000,9,  -999.00,-999.00000,9,  -999.00, -999.00,9, -999.00,9, -999.00, -999.00,9,-999.000,9, -999.00,9, -999.00,9,     -999.0,9, 20210424,     1923,  15.1993, -69.5128,     5.5647,2,     0.0426,1,     4.6813,1,     -999.0,9,     -999.0,9,     -999.0,9
325020210420,        A22,      13,          1,         17,         17,2,20210424,       1811,    15.1993,   -69.5128,       3882,  1074.7,   5.1981,  34.9368,2,  34.9374,2,    181.9,2,   183.5,2,   23.90,2,   25.54,2,    0.00,2,    1.66,2,-999.000,9,-999.000,9,-999.0000,9,  -999.0,9, -999.00,9, -999.000,9,  -999.00,-999.00000,9,  -999.00, -999.00,9, -999.00,9, -999.00, -999.00,9,-999.000,9, -999.00,9, -999.00,9,     -999.0,9, 20210424,     1920,  15.1993, -69.5128,     5.1982,2,     0.0430,1,     4.6838,1,     -999.0,9,     -999.0,9,     -999.0,9
325020210420,        A22,      13,          1,         16,         16,2,20210424,       1811,    15.1993,   -69.5128,       3882,  1174.7,   4.8744,  34.9560,2,  34.9555,2,    194.9,2,   194.6,2,   23.61,2,   24.17,2,    0.00,2,    1.57,2,-999.000,9,-999.000,9,-999.0000,9,  -999.0,9, -999.00,9, -999.000,9,  -999.00,-999.00000,9,  -999.00, -999.00,9, -999.00,9, -999.00, -999.00,9,-999.000,9, -999.00,9, -999.00,9,     -999.0,9, 20210424,     1917,  15.1993, -69.5128,     4.8752,2,     0.0419,1,     4.6838,1,     -999.0,9,     -999.0,9,     -999.0,9
325020210420,        A22,      13,          1,         15,         15,2,20210424,       1811,    15.1993,   -69.5128,       3882,  1276.4,   4.5736,  34.9653,2,  34.9658,2,    203.1,2,   203.5,2,   24.49,2,   23.34,2,    0.00,2,    1.53,2,-999.000,9,-999.000,9,-999.0000,9,  2196.9,2, 2327.67,2, -999.000,9,  -999.00,   7.68469,2,    25.03, -999.00,9, -999.00,9, -999.00, -999.00,9,-999.000,9, -999.00,9, -999.00,9,     -999.0,9, 20210424,     1913,  15.1993, -69.5128,     4.5731,2,     0.0429,1,     4.6837,1,     -999.0,9,     -999.0,9,     -999.0,9
325020210420,        A22,      13,          1,         14,         14,2,20210424,       1811,    15.1993,   -69.5128,       3882,  1376.9,   4.4508,  34.9694,2,  34.9713,2,    206.7,2,   207.0,2,   24.78,2,   22.97,2,    0.00,2,    1.51,2,   0.192,2,   0.104,2,   0.0800,2,  -999.0,9, -999.00,9, -999.000,9,  -999.00,-999.00000,9,  -999.00, -999.00,9, -999.00,9, -999.00, -999.00,9,-999.000,9, -999.00,9, -999.00,9,      15.15,2, 20210424,     1911,  15.1993, -69.5128,     4.4510,2,     0.0428,1,     4.6825,1,     -999.0,9,     -999.0,9,     -999.0,9
325020210420,        A22,      13,          1,         13,         13,2,20210424,       1811,    15.1993,   -69.5128,       3882,  1479.0,   4.3458,  34.9717,2,  34.9717,2,    209.2,2,   209.1,2,   25.17,2,   22.73,2,    0.00,2,    1.50,2,-999.000,9,-999.000,9,-999.0000,9,  -999.0,9, -999.00,9, -999.000,9,  -999.00,-999.00000,9,  -999.00, -999.00,9, -999.00,9, -999.00, -999.00,9,-999.000,9, -999.00,9, -999.00,9,     -999.0,9, 20210424,     1908,  15.1993, -69.5128,     4.3462,2,     0.0424,1,     4.6828,1,     -999.0,9,     -999.0,9,     -999.0,9
325020210420,        A22,      13,          1,         12,         12,2,20210424,       1811,    15.1993,   -69.5128,       3882,  1581.0,   4.2573,  34.9732,2,  34.9721,2,    211.2,2,   211.5,2,   26.05,2,   22.53,2,    0.00,2,    1.48,2,-999.000,9,-999.000,9,-999.0000,9,  -999.0,9, -999.00,9, -999.000,9,  -999.00,-999.00000,9,  -999.00, -999.00,9, -999.00,9, -999.00, -999.00,9,-999.000,9, -999.00,9, -999.00,9,     -999.0,9, 20210424,     1905,  15.1993, -69.5128,     4.2571,2,     0.0423,1,     4.6832,1,     -999.0,9,     -999.0,9,     -999.0,9
325020210420,        A22,      13,          1,         11,         11,2,20210424,       1811,    15.1993,   -69.5128,       3882,  1681.2,   4.2027,  34.9737,2,  34.9732,2,    212.3,2,   212.6,2,   26.73,2,   22.45,2,    0.00,2,    1.47,2,-999.000,9,-999.000,9,-999.0000,9,  -999.0,9, -999.00,9, -999.000,9,  -999.00,-999.00000,9,  -999.00, -999.00,9, -999.00,9, -999.00, -999.00,9,-999.000,9, -999.00,9, -999.00,9,     -999.0,9, 20210424,     1901,  15.1993, -69.5129,     4.2028,2,     0.0429,1,     4.6834,1,     -999.0,9,     -999.0,9,     -999.0,9
325020210420,        A22,      13,          1,         10,         10,2,20210424,       1811,    15.1993,   -69.5128,       3882,  1782.7,   4.1741,  34.9741,2,  34.9740,2,    213.2,2,   213.4,2,   27.22,2,   22.39,2,    0.00,2,    1.47,2,-999.000,9,-999.000,9,-999.0000,9,  -999.0,9, -999.00,9, -999.000,9,  -999.00,-999.00000,9,  -999.00, -999.00,9, -999.00,9, -999.00, -999.00,9,-999.000,9, -999.00,9, -999.00,9,     -999.0,9, 20210424,     1859,  15.1993, -69.5128,     4.1744,2,     0.0429,1,     4.6835,1,     -999.0,9,     -999.0,9,     -999.0,9
325020210420,        A22,      13,          1,          9,          9,2,20210424,       1811,    15.1993,   -69.5128,       3882,  1954.5,   4.1312,  34.9749,2,  34.9746,2,    215.0,2,   215.5,2,   27.41,2,   22.17,2,    0.00,2,    1.45,2,   0.133,2,   0.077,2,   0.2000,2,  -999.0,9, -999.00,9, -999.000,9,  -999.00,-999.00000,9,  -999.00, -999.00,9, -999.00,9, -999.00, -999.00,9,-999.000,9, -999.00,9, -999.00,9,      14.44,2, 20210424,     1854,  15.1993, -69.5128,     4.1312,2,     0.0429,1,     4.6840,1,     -999.0,9,     -999.0,9,     -999.0,9
325020210420,        A22,      13,          1,          8,          8,2,20210424,       1811,    15.1993,   -69.5128,       3882,  2158.7,   4.1196,  34.9754,2,  34.9752,2,    215.7,2,   216.1,2,   27.80,2,   22.13,2,    0.00,2,    1.45,2,-999.000,9,-999.000,9,-999.0000,9,  2197.9,2, 2333.63,2, -999.000,9,  -999.00,   7.70744,2,    24.96, -999.00,9, -999.00,9, -999.00, -999.00,9,-999.000,9, -999.00,9, -999.00,9,     -999.0,9, 20210424,     1850,  15.1993, -69.5128,     4.1197,2,     0.0429,1,     4.6838,1,     -999.0,9,     -999.0,9,     -999.0,9
325020210420,        A22,      13,          1,          7,          7,2,20210424,       1811,    15.1993,   -69.5128,       3882,  2361.2,   4.1221,  34.9753,2,  34.9750,2,    215.5,2,   215.9,2,   28.20,2,   22.10,2,    0.00,2,    1.46,2,   0.105,2,   0.065,2,   0.2300,2,  -999.0,9, -999.00,9, -999.000,9,  -999.00,-999.00000,9,  -999.00, -999.00,9, -999.00,9, -999.00, -999.00,9,-999.000,9, -999.00,9, -999.00,9,      14.00,2, 20210424,     1845,  15.1993, -69.5128,     4.1220,2,     0.0435,1,     4.6838,1,     -999.0,9,     -999.0,9,     -999.0,9
325020210420,        A22,      13,          1,          6,          6,2,20210424,       1811,    15.1993,   -69.5128,       3882,  2565.0,   4.1312,  34.9755,2,  34.9742,2,    215.3,2,   215.7,2,   28.68,2,   22.13,2,    0.00,2,    1.46,2,-999.000,9,-999.000,9,-999.0000,9,  -999.0,9, -999.00,9, -999.000,9,  -999.00,-999.00000,9,  -999.00, -999.00,9, -999.00,9, -999.00, -999.00,9,-999.000,9, -999.00,9, -999.00,9,     -999.0,9, 20210424,     1840,  15.1993, -69.5128,     4.1313,2,     0.0431,1,     4.6838,1,     -999.0,9,     -999.0,9,     -999.0,9
325020210420,        A22,      13,          1,          5,          5,2,20210424,       1811,    15.1993,   -69.5128,       3882,  2768.7,   4.1477,  34.9755,2,  34.9760,2,    215.6,2,   215.7,2,   28.68,2,   22.11,2,    0.00,2,    1.47,2,   0.095,2,   0.062,2,   0.2000,2,  -999.0,9, -999.00,9, -999.000,9,  -999.00,-999.00000,9,  -999.00, -999.00,9, -999.00,9, -999.00, -999.00,9,-999.000,9, -999.00,9, -999.00,9,      13.89,2, 20210424,     1836,  15.1993, -69.5128,     4.1478,2,     0.0428,1,     4.6841,1,     -999.0,9,     -999.0,9,     -999.0,9
325020210420,        A22,      13,          1,          4,          4,2,20210424,       1811,    15.1993,   -69.5128,       3882,  2973.6,   4.1669,  34.9756,2,  34.9752,2,    215.6,2,   215.3,2,   28.88,2,   22.11,2,    0.00,2,    1.47,2,-999.000,9,-999.000,9,-999.0000,9,  -999.0,9, -999.00,9, -999.000,9,  -999.00,-999.00000,9,  -999.00, -999.00,9, -999.00,9, -999.00, -999.00,9,-999.000,9, -999.00,9, -999.00,9,     -999.0,9, 20210424,     1831,  15.1993, -69.5128,     4.1669,2,     0.0425,1,     4.6840,1,     -999.0,9,     -999.0,9,     -999.0,9
325020210420,        A22,      13,          1,          3,          3,2,20210424,       1811,    15.1993,   -69.5128,       3882,  3243.9,   4.1949,  34.9756,2,  34.9764,2,    215.8,2,   215.8,2,   28.98,2,   22.17,2,    0.00,2,    1.47,2,   0.103,2,   0.066,2,   0.1500,2,  -999.0,9, -999.00,9, -999.000,9,  -999.00,-999.00000,9,  -999.00, -999.00,9, -999.00,9, -999.00, -999.00,9,-999.000,9, -999.00,9, -999.00,9,      14.04,2, 20210424,     1824,  15.1993, -69.5128,     4.1948,2,     0.0429,1,     4.6827,1,     -999.0,9,     -999.0,9,     -999.0,9