BOTTLE,20230513CCHSIOCBG
EXPOCODE,SECT_ID,STNNBR,CASTNO,SAMPNO,BTLNBR,BTLNBR_FLAG_W,DATE,TIME,LATITUDE,LONGITUDE,DEPTH,CTDPRS,CTDTMP,CTDSAL,CTDSAL_FLAG_W,SALNTY,SALNTY_FLAG_W,CTDOXY,CTDOXY_FLAG_W,OXYGEN,OXYGEN_FLAG_W,SILCAT,SILCAT_FLAG_W,NITRAT,NITRAT_FLAG_W,NITRIT,NITRIT_FLAG_W,PHSPHT,PHSPHT_FLAG_W,CFC-11,CFC-11_FLAG_W,CFC-12,CFC-12_FLAG_W,SF6,SF6_FLAG_W,TCARBN,TCARBN_FLAG_W,ALKALI,ALKALI_FLAG_W,FCO2,FCO2_FLAG_W,FCO2TMP,PH_TOT,PH_TOT_FLAG_W,PH_TMP,DELC13,DELC13_FLAG_W,DELC14,DELC14_FLAG_W,C14ERR,DELO18,DELO18_FLAG_W,POC,POC_FLAG_W,DOC,DOC_FLAG_W,TDN,TDN_FLAG_W,N2O,N2O_FLAG_W,BTL_DATE,BTL_TIME,BTL_LAT,BTL_LON,REFTMP,REFTMP_FLAG_W,CTDFLUOR,CTDFLUOR_FLAG_W,CTDXMISS,CTDXMISS_FLAG_W,D15N_NO2+NO3,D15N_NO2+NO3_FLAG_W,D18O_NO2+NO3,D18O_NO2+NO3_FLAG_W,HPLC,HPLC_FLAG_W
,,,,,,,,,,,METERS,DBAR,ITS-90,PSS-78,,PSS-78,,UMOL/KG,,UMOL/KG,,UMOL/KG,,UMOL/KG,,UMOL/KG,,UMOL/KG,,PMOL/KG,,PMOL/KG,,FMOL/KG,,UMOL/KG,,UMOL/KG,,UATM,,DEG C,,,DEG C,/MILLE,,/MILLE,,/MILLE,/MILLE,,UG/KG,,UMOL/KG,,UMOL/KG,,NMOL/KG,,,,,,ITS-90,,VOLTS,,VOLTS,,/MILLE,,/MILLE,,,
325020210420,        A22,      14,          1,         36,         36,4,20210425,       0005,    15.4687,   -69.0828,       3947,     5.4,  27.3982,  35.8640,3,-999.0000,9,    201.9,3,   300.5,3,    1.36,3,    0.20,3,    0.00,3,    0.00,3,-999.000,9,-999.000,9,-999.0000,9,  -999.0,9, -999.00,9, -999.000,9,  -999.00,-999.00000,9,  -999.00, -999.00,9, -999.00,9, -999.00, -999.00,9,-999.000,9, -999.00,9, -999.00,9,     -999.0,9, 20210425,      157,  15.4687, -69.0828,    27.3980,3,     0.0468,1,     4.6077,1,     -999.0,9,     -999.0,9,     -999.0,9
325020210420,        A22,      14,          1,         35,         35,2,20210425,       0005,    15.4687,   -69.0828,       3947,    25.2,  27.3882,  35.8644,2,  35.8512,2,    201.9,2,   201.2,2,    1.07,2,    0.00,2,    0.00,2,    0.00,2,-999.000,9,-999.000,9,-999.0000,9,  2020.9,6, 2347.39,2,  293.180,2,    20.00,   8.09365,6,    25.04, -999.00,9, -999.00,9, -999.00, -999.00,9,-999.000,9,   74.60,2,    4.88,2,     -999.0,9, 20210425,      154,  15.4688, -69.0828,    27.3870,2,     0.0479,1,     4.6117,1,     -999.0,9,     -999.0,9,     -999.0,9
325020210420,        A22,      14,          1,         34,         34,2,20210425,       0005,    15.4687,   -69.0828,       3947,    50.1,  27.2489,  35.8461,2,  35.8489,2,    202.5,2,   202.0,2,    1.17,2,    0.00,2,    0.00,2,    0.00,2,   1.465,2,   0.943,2,   1.5900,2,  2019.0,2, 2348.97,2,  294.390,2,    20.00,   8.09399,2,    25.02, -999.00,9, -999.00,9, -999.00, -999.00,9,-999.000,9,   76.50,2,    4.51,2,       5.96,2, 20210425,      153,  15.4687, -69.0828,    27.2442,2,     0.0553,1,     4.6074,1,     -999.0,9,     -999.0,9,     -999.0,9
325020210420,        A22,      14,          1,         33,         33,2,20210425,       0005,    15.4687,   -69.0828,       3947,    76.1,  26.9012,  35.8840,2,  35.8876,2,    200.7,2,   199.7,2,    1.07,2,    0.00,2,    0.00,2,    0.00,2,-999.000,9,-999.000,9,-999.0000,9,  2025.0,2,  2347.9,6,  300.390,2,    20.00,   8.08706,2,    24.98, -999.00,9, -999.00,9, -999.00, -999.00,9,-999.000,9,   72.80,2,    4.73,2,     -999.0,9, 20210425,      152,  15.4687, -69.0828,    26.8980,2,     0.0865,1,     4.6070,1,     -999.0,9,     -999.0,9,     -999.0,9
325020210420,        A22,      14,          1,         32,         32,2,20210425,       0005,    15.4687,   -69.0828,       3947,   100.6,  26.6441,  36.1218,2,  36.1478,3,    193.7,2,   193.9,2,    1.27,2,    0.02,2,    0.19,2,    0.00,2,   1.507,2,   0.977,2,   1.7100,2,  2037.8,2, 2364.44,2,  303.890,2,    20.00,   8.08519,2,    25.00, -999.00,9, -999.00,9, -999.00, -999.00,9,-999.000,9,   73.60,2,    4.64,2,       6.13,2, 20210425,      150,  15.4688, -69.0828,    26.6427,2,     0.0816,1,     4.6297,1,     -999.0,9,     -999.0,9,     -999.0,9
325020210420,        A22,      14,          1,         31,         31,2,20210425,       0005,    15.4687,   -69.0828,       3947,   125.6,  25.7351,  36.9864,2,  36.9963,2,    173.2,2,   174.5,2,    1.07,2,    1.33,2,    0.04,2,    0.02,2,-999.000,9,-999.000,9,-999.0000,9,  2107.3,2,  2412.8,2,  356.230,2,    20.00,   8.03261,2,    25.00, -999.00,9, -999.00,9, -999.00, -999.00,9,-999.000,9,   63.50,2,    5.05,2,     -999.0,9, 20210425,      148,  15.4688, -69.0828,    25.7601,2,     0.0622,1,     4.6534,1,     -999.0,9,     -999.0,9,     -999.0,9
325020210420,        A22,      14,          1,         30,         30,2,20210425,       0005,    15.4687,   -69.0828,       3947,   151.1,  24.1867,  37.1671,2,  37.1326,3,    164.1,2,   164.2,2,    1.17,2,    2.59,2,    0.02,2,    0.09,2,   1.733,2,   1.106,2,   1.6900,2,  2141.1,2, 2423.11,2,  402.450,2,    20.00,   7.98756,2,    25.02, -999.00,9, -999.00,9, -999.00, -999.00,9,-999.000,9,   58.00,2,    6.18,2,       8.33,2, 20210425,      146,  15.4688, -69.0828,    24.1681,2,     0.0500,1,     4.6650,1,     -999.0,9,     -999.0,9,     -999.0,9
325020210420,        A22,      14,          1,         29,         29,2,20210425,       0005,    15.4687,   -69.0828,       3947,   201.4,  20.5728,  36.8285,2,  36.8254,2,    151.5,2,   152.2,2,    1.75,2,    5.98,2,    0.00,2,    0.24,2,   1.934,2,   1.205,2,   1.5300,2,  2161.9,2, 2403.75,2,  481.960,2,    20.00,   7.91594,2,    25.04, -999.00,9, -999.00,9, -999.00, -999.00,9,-999.000,9,   52.90,2,    9.79,2,      11.27,2, 20210425,      145,  15.4688, -69.0828,    20.5604,2,     0.0406,1,     4.6717,1,     -999.0,9,     -999.0,9,     -999.0,9
325020210420,        A22,      14,          1,         28,         28,2,20210425,       0005,    15.4687,   -69.0828,       3947,   251.1,  17.9626,  36.4208,2,  36.3990,3,    141.5,3,   144.5,2,    3.31,2,   10.73,2,    0.00,2,    0.55,2,-999.000,9,-999.000,9,-999.0000,9,  2172.8,2, 2375.78,2,  562.470,2,    20.00,   7.85313,2,    25.04, -999.00,9, -999.00,9, -999.00, -999.00,9,-999.000,9,   50.40,2,   12.97,2,     -999.0,9, 20210425,      143,  15.4687, -69.0828,    17.9489,2,     0.0406,1,     4.6740,1,     -999.0,9,     -999.0,9,     -999.0,9
325020210420,        A22,      14,          1,         27,         27,2,20210425,       0005,    15.4687,   -69.0828,       3947,   302.0,  15.5508,  36.0125,2,  36.0155,2,    136.2,2,   135.6,2,    5.36,2,   15.33,2,    0.00,2,    0.87,2,   2.121,6,   1.271,6,   1.1500,6,  2184.8,2, 2355.73,2,  661.040,2,    20.00,   7.78753,2,    25.01, -999.00,9, -999.00,9, -999.00, -999.00,9,-999.000,9,   46.70,2, -999.00,1,      18.90,6, 20210425,      140,  15.4688, -69.0828,    15.5657,2,     0.0405,1,     4.6748,1,     -999.0,9,     -999.0,9,     -999.0,9
325020210420,        A22,      14,          1,         26,         26,2,20210425,       0005,    15.4687,   -69.0828,       3947,   352.1,  13.6656,  35.6860,2,  35.6729,2,    129.5,3,   127.5,2,    7.70,2,   19.39,2,    0.00,2,    1.13,2,-999.000,9,-999.000,9,-999.0000,9,  2192.1,2,  2337.4,2,  762.050,2,    20.00,   7.72794,6,    25.00, -999.00,9, -999.00,9, -999.00, -999.00,9,-999.000,9,   45.90,2, -999.00,1,     -999.0,9, 20210425,      138,  15.4688, -69.0828,    13.7117,2,     0.0408,1,     4.6748,1,     -999.0,9,     -999.0,9,     -999.0,9
325020210420,        A22,      14,          1,         25,         25,2,20210425,       0005,    15.4687,   -69.0828,       3947,   402.9,  12.1108,  35.4175,2,  35.3934,3,    122.2,2,   123.5,2,   10.14,2,   22.83,2,    0.00,2,    1.37,2,   1.978,2,   1.129,2,   0.8400,2,  2199.5,2, 2321.27,2,  858.260,2,    20.00,   7.67601,2,    25.01, -999.00,9, -999.00,9, -999.00, -999.00,9,-999.000,9,   45.30,2, -999.00,1,      24.98,2, 20210425,      136,  15.4688, -69.0828,    12.1302,2,     0.0419,1,     4.6740,1,     -999.0,9,     -999.0,9,     -999.0,9
325020210420,        A22,      14,          1,         24,         24,2,20210425,       0005,    15.4687,   -69.0828,       3947,   453.4,  10.8565,  35.2411,2,  35.2255,2,    120.3,2,   120.4,2,   12.19,2,   25.21,2,    0.00,2,    1.53,2,   1.798,2,   1.008,2,   0.6000,2,  2204.1,2, 2315.55,2,  925.290,2,    20.00,   7.64262,2,    25.06, -999.00,9, -999.00,9, -999.00, -999.00,9,-999.000,9, -999.00,1, -999.00,1,      26.00,2, 20210425,      134,  15.4688, -69.0828,    10.8552,2,     0.0422,1,     4.6743,1,     -999.0,9,     -999.0,9,     -999.0,9
325020210420,        A22,      14,          1,         23,         23,2,20210425,       0005,    15.4687,   -69.0828,       3947,   503.8,   9.8105,  35.0910,2,  35.0913,2,    118.8,2,   119.0,2,   14.15,2,   27.15,2,    0.00,2,    1.68,2,   1.652,2,   0.903,2,   0.5100,2,  2209.9,6, 2309.01,2,  989.630,2,    20.00,   7.61439,2,    25.01, -999.00,9, -999.00,9, -999.00, -999.00,9,-999.000,9,   43.70,2, -999.00,1,      26.75,2, 20210425,      132,  15.4688, -69.0828,     9.8076,2,     0.0427,1,     4.6772,1,     -999.0,9,     -999.0,9,     -999.0,9
325020210420,        A22,      14,          1,         22,         22,2,20210425,       0005,    15.4687,   -69.0828,       3947,   604.7,   8.2337,  34.8896,2,  34.8792,3,    119.6,2,   119.7,2,   18.44,2,   30.45,2,    0.00,2,    1.91,2,-999.000,9,-999.000,9,-999.0000,9,  2217.2,2, 2302.38,2, 1088.720,2,    20.00,   7.57343,6,    24.99, -999.00,9, -999.00,9, -999.00, -999.00,9,-999.000,9,   41.70,2, -999.00,1,     -999.0,9, 20210425,      129,  15.4688, -69.0828,     8.2408,2,     0.0430,1,     4.6777,1,     -999.0,9,     -999.0,9,     -999.0,9
325020210420,        A22,      14,          1,         21,         21,2,20210425,       0005,    15.4687,   -69.0828,       3947,   705.9,   7.2202,  34.8200,2,  34.8208,2,    125.1,2,   125.0,2,   21.17,2,   31.34,2,    0.00,2,    2.00,2,   0.807,2,   0.425,2,   0.2400,2,  2219.4,2, 2303.34,6, 1104.550,2,    20.00,   7.56769,2,    25.00, -999.00,9, -999.00,9, -999.00, -999.00,9,-999.000,9,   41.50,2, -999.00,1,      26.06,2, 20210425,      125,  15.4688, -69.0828,     7.2329,2,     0.0427,1,     4.6795,1,     -999.0,9,     -999.0,9,     -999.0,9
325020210420,        A22,      14,          1,         20,         20,2,20210425,       0005,    15.4687,   -69.0828,       3947,   806.7,   6.3685,  34.7896,2,  34.7887,2,    134.2,2,   134.2,2,   23.61,2,   31.47,2,    0.00,2,    2.03,2,-999.000,9,-999.000,9,-999.0000,9,  2221.2,2, 2303.91,2, 1096.350,6,    20.00,   7.57055,2,    25.02, -999.00,9, -999.00,9, -999.00, -999.00,9,-999.000,9,   40.90,2, -999.00,1,     -999.0,9, 20210425,      123,  15.4688, -69.0828,     6.3686,2,     0.0429,1,     4.6801,1,     -999.0,9,     -999.0,9,     -999.0,9
325020210420,        A22,      14,          1,         19,         19,2,20210425,       0005,    15.4687,   -69.0828,       3947,   907.1,   5.8259,  34.8399,2,  34.8399,2,    151.5,2,   151.5,2,   24.20,2,   29.48,2,    0.00,2,    1.93,2,   0.299,2,   0.161,2,   0.0800,2,  2215.6,2, 2309.66,2, 1025.430,2,    20.00,   7.59981,2,    25.01, -999.00,9, -999.00,9, -999.00, -999.00,9,-999.000,9,   40.90,2, -999.00,1,      22.00,2, 20210425,      120,  15.4688, -69.0828,     5.8366,2,     0.0429,1,     4.6803,1,     -999.0,9,     -999.0,9,     -999.0,9
325020210420,        A22,      14,          1,         18,         18,2,20210425,       0005,    15.4687,   -69.0828,       3947,  1008.4,   5.3590,  34.8993,2,  34.8999,2,    169.0,2,   169.6,2,   24.20,2,   27.10,2,    0.00,2,    1.80,2,-999.000,9,-999.000,9,-999.0000,9,  2210.1,2, 2314.56,2,  942.590,2,    20.00,   7.63316,2,    25.02, -999.00,9, -999.00,9, -999.00, -999.00,9,-999.000,9,   40.50,2, -999.00,1,     -999.0,9, 20210425,      117,  15.4688, -69.0828,     5.3622,2,     0.0429,1,     4.6812,1,     -999.0,9,     -999.0,9,     -999.0,9
325020210420,        A22,      14,          1,         17,         17,2,20210425,       0005,    15.4687,   -69.0828,       3947,  1109.9,   5.0592,  34.9425,2,  34.9423,2,    186.8,2,   186.5,2,   24.00,2,   25.06,2,    0.00,2,    1.66,2,   0.230,2,   0.124,2,   0.0900,2,  2202.1,2, 2321.69,2,  885.330,2,    20.00,   7.66092,2,    24.98, -999.00,9, -999.00,9, -999.00, -999.00,9,-999.000,9,   41.30,2, -999.00,1,      17.90,2, 20210425,      114,  15.4688, -69.0828,     5.0616,2,     0.0435,1,     4.6833,1,     -999.0,9,     -999.0,9,     -999.0,9
325020210420,        A22,      14,          1,         16,         16,2,20210425,       0005,    15.4687,   -69.0828,       3947,  1210.3,   4.7562,  34.9581,2,  34.9561,2,    197.5,2,   197.2,2,   24.00,2,   23.88,2,    0.00,2,    1.59,2,   0.224,2,   0.119,2,   0.0700,2,  2199.0,2, 2319.52,2,  856.180,2,    20.00,   7.67512,2,    25.00, -999.00,9, -999.00,9, -999.00, -999.00,9,-999.000,9,   40.80,2, -999.00,1,      17.04,2, 20210425,      111,  15.4688, -69.0828,     4.7560,2,     0.0429,1,     4.6827,1,     -999.0,9,     -999.0,9,     -999.0,9
325020210420,        A22,      14,          1,         15,         15,2,20210425,       0005,    15.4687,   -69.0828,       3947,  1312.1,   4.5742,  34.9663,2,  34.9667,2,    204.4,2,   204.5,2,   24.10,2,   23.16,2,    0.00,2,    1.55,2,-999.000,9,-999.000,9,-999.0000,9,  2196.5,2, 2321.68,2,  836.300,2,    20.00,   7.68583,2,    25.01, -999.00,9, -999.00,9, -999.00, -999.00,9,-999.000,9,   42.30,2, -999.00,1,     -999.0,9, 20210425,      108,  15.4688, -69.0828,     4.5748,2,     0.0422,1,     4.6835,1,     -999.0,9,     -999.0,9,     -999.0,9
325020210420,        A22,      14,          1,         14,         14,2,20210425,       0005,    15.4687,   -69.0828,       3947,  1412.9,   4.4403,  34.9697,2,  34.9713,2,    207.4,2,   207.4,2,   24.29,2,   22.80,2,    0.00,2,    1.53,2,   0.196,2,   0.107,2,   0.0500,2,  2198.1,2,  2323.6,2,  824.690,2,    20.00,   7.69176,2,    25.02, -999.00,9, -999.00,9, -999.00, -999.00,9,-999.000,9,   41.80,2, -999.00,1,      15.72,2, 20210425,      105,  15.4688, -69.0828,     4.4411,2,     0.0429,1,     4.6833,1,     -999.0,9,     -999.0,9,     -999.0,9
325020210420,        A22,      14,          1,         13,         13,2,20210425,       0005,    15.4687,   -69.0828,       3947,  1514.4,   4.3321,  34.9719,2,  34.9724,2,    210.1,2,   210.1,2,   25.46,2,   22.56,2,    0.00,2,    1.52,2,   0.176,2,   0.095,2,   0.1300,2,  2198.2,2, 2326.02,2,  814.100,2,    20.00,   7.69514,2,    25.01, -999.00,9, -999.00,9, -999.00, -999.00,9,-999.000,9,   40.10,2, -999.00,1,      15.13,2, 20210425,      101,  15.4688, -69.0828,     4.3335,2,     0.0429,1,     4.6834,1,     -999.0,9,     -999.0,9,     -999.0,9
325020210420,        A22,      14,          1,         12,         12,2,20210425,       0005,    15.4687,   -69.0828,       3947,  1615.9,   4.2599,  34.9729,2,  34.9730,2,    211.6,2,   211.8,2,   25.85,2,   22.44,2,    0.00,2,    1.51,2,-999.000,9,-999.000,9,-999.0000,9,  2197.6,2, 2327.11,2,  812.980,2,    20.00,   7.69732,2,    24.99, -999.00,9, -999.00,9, -999.00, -999.00,9,-999.000,9,   40.50,2, -999.00,1,     -999.0,9, 20210425,       59,  15.4688, -69.0828,     4.2597,2,     0.0435,1,     4.6835,1,     -999.0,9,     -999.0,9,     -999.0,9
325020210420,        A22,      14,          1,         11,         11,2,20210425,       0005,    15.4687,   -69.0828,       3947,  1716.9,   4.2055,  34.9736,2,  34.9740,2,    212.8,2,   214.0,2,   26.73,2,   22.31,2,    0.00,2,    1.50,2,   0.143,2,   0.079,2,   0.1500,2,  2198.0,6, 2328.67,2,  808.750,2,    20.00,   7.69969,2,    24.99, -999.00,9, -999.00,9, -999.00, -999.00,9,-999.000,9,   39.70,2, -999.00,1,      14.87,2, 20210425,       56,  15.4688, -69.0828,     4.2052,2,     0.0430,1,     4.6834,1,     -999.0,9,     -999.0,9,     -999.0,9
325020210420,        A22,      14,          1,         10,         10,2,20210425,       0005,    15.4687,   -69.0828,       3947,  1818.4,   4.1708,  34.9742,2,  34.9717,2,    213.8,2,   214.1,2,   27.02,2,   22.23,2,    0.00,2,    1.49,2,   0.141,2,   0.079,2,   0.1600,2,  2198.3,2, 2329.46,2,  804.980,2,    20.00,   7.70181,6,    25.02, -999.00,9, -999.00,9, -999.00, -999.00,9,-999.000,9,   40.50,2, -999.00,1,      14.56,2, 20210425,       53,  15.4687, -69.0828,     4.1708,2,     0.0430,1,     4.6832,1,     -999.0,9,     -999.0,9,     -999.0,9
325020210420,        A22,      14,          1,          9,          9,2,20210425,       0005,    15.4687,   -69.0828,       3947,  2020.9,   4.1321,  34.9750,2,  34.9746,2,    215.5,2,   215.5,2,   27.32,2,   22.03,2,    0.00,2,    1.48,2,-999.000,9,-999.000,9,-999.0000,9,  2196.9,2,  2331.1,6,  799.290,2,    20.00,   7.70455,2,    25.07, -999.00,9, -999.00,9, -999.00, -999.00,9,-999.000,9,   40.30,2, -999.00,1,     -999.0,9, 20210425,       49,  15.4687, -69.0828,     4.1322,2,     0.0430,1,     4.6838,1,     -999.0,9,     -999.0,9,     -999.0,9
325020210420,        A22,      14,          1,          8,          8,2,20210425,       0005,    15.4687,   -69.0828,       3947,  2225.1,   4.1235,  34.9753,2,  34.9748,2,    215.7,2,   215.8,2,   27.80,2,   22.02,2,    0.00,2,    1.48,2,   0.126,2,   0.074,2,   0.2500,2,  2197.4,2, 2332.33,2,  796.340,2,    20.00,   7.70648,6,    25.02, -999.00,9, -999.00,9, -999.00, -999.00,9,-999.000,9,   39.80,2, -999.00,1,      14.28,2, 20210425,       44,  15.4688, -69.0828,     4.1234,2,     0.0426,1,     4.6843,1,     -999.0,9,     -999.0,9,     -999.0,9
325020210420,        A22,      14,          1,          7,          7,2,20210425,       0005,    15.4687,   -69.0828,       3947,  2428.4,   4.1284,  34.9754,2,  34.9760,2,    215.7,2,   215.8,2,   28.20,2,   22.01,2,    0.00,2,    1.48,2,   0.113,2,   0.068,2,   0.3300,2,  2199.4,2, 2334.72,2,  796.740,2,    20.00,   7.70612,2,    25.00, -999.00,9, -999.00,9, -999.00, -999.00,9,-999.000,9,   41.50,2, -999.00,1,      14.34,2, 20210425,       39,  15.4687, -69.0828,     4.1284,2,     0.0429,1,     4.6842,1,     -999.0,9,     -999.0,9,     -999.0,9
325020210420,        A22,      14,          1,          6,          6,2,20210425,       0005,    15.4687,   -69.0828,       3947,  2631.7,   4.1411,  34.9754,2,  34.9754,2,    215.6,2,   216.2,2,   28.49,2,   21.96,2,    0.00,2,    1.48,2,-999.000,9,-999.000,9,-999.0000,9,  2199.7,2, 2333.95,2,  794.370,2,    20.00,   7.70756,6,    25.03, -999.00,9, -999.00,9, -999.00, -999.00,9,-999.000,9,   40.10,2, -999.00,1,     -999.0,9, 20210425,       34,  15.4688, -69.0828,     4.1412,2,     0.0428,1,     4.6839,1,     -999.0,9,     -999.0,9,     -999.0,9
325020210420,        A22,      14,          1,          5,          5,2,20210425,       0005,    15.4687,   -69.0828,       3947,  2835.9,   4.1570,  34.9754,2,  34.9750,2,    215.6,2,   215.5,2,   28.68,2,   22.03,2,    0.00,2,    1.48,2,   0.096,2,   0.062,2,   0.2300,2,  2198.6,2, 2335.62,2,  794.360,2,    20.00,   7.70777,2,    24.99, -999.00,9, -999.00,9, -999.00, -999.00,9,-999.000,9,   40.20,2, -999.00,1,      14.28,2, 20210425,       30,  15.4687, -69.0828,     4.1571,2,     0.0429,1,     4.6837,1,     -999.0,9,     -999.0,9,     -999.0,9
325020210420,        A22,      14,          1,          4,          4,2,20210425,       0005,    15.4687,   -69.0828,       3947,  3039.4,   4.1758,  34.9755,2,  34.9756,2,    215.6,2,   215.9,2,   28.78,2,   21.99,2,    0.00,2,    1.48,2,-999.000,9,-999.000,9,-999.0000,9,  2200.0,2, 2336.68,2,  788.820,2,    20.00,   7.70834,2,    25.02, -999.00,9, -999.00,9, -999.00, -999.00,9,-999.000,9,   41.20,2, -999.00,1,     -999.0,9, 20210425,       24,  15.4687, -69.0828,     4.1759,2,     0.0435,1,     4.6838,1,     -999.0,9,     -999.0,9,     -999.0,9
325020210420,        A22,      14,          1,          3,          3,2,20210425,       0005,    15.4687,   -69.0828,       3947,  3345.6,   4.2072,  34.9756,2,  34.9762,2,    215.7,2,   215.8,2,   28.78,2,   21.93,2,    0.00,2,    1.47,2,   0.104,2,   0.069,2,   0.1600,2,  2200.5,2, 2335.41,2,  791.300,2,    20.00,   7.70906,2,    25.01, -999.00,9, -999.00,9, -999.00, -999.00,9,-999.000,9,   40.50,2, -999.00,1,      14.14,2, 20210425,       19,  15.4687, -69.0828,     4.2071,2,     0.0429,1,     4.6826,1,     -999.0,9,     -999.0,9,     -999.0,9