BOTTLE,20230513CCHSIOCBG
EXPOCODE,SECT_ID,STNNBR,CASTNO,SAMPNO,BTLNBR,BTLNBR_FLAG_W,DATE,TIME,LATITUDE,LONGITUDE,DEPTH,CTDPRS,CTDTMP,CTDSAL,CTDSAL_FLAG_W,SALNTY,SALNTY_FLAG_W,CTDOXY,CTDOXY_FLAG_W,OXYGEN,OXYGEN_FLAG_W,SILCAT,SILCAT_FLAG_W,NITRAT,NITRAT_FLAG_W,NITRIT,NITRIT_FLAG_W,PHSPHT,PHSPHT_FLAG_W,CFC-11,CFC-11_FLAG_W,CFC-12,CFC-12_FLAG_W,SF6,SF6_FLAG_W,TCARBN,TCARBN_FLAG_W,ALKALI,ALKALI_FLAG_W,FCO2,FCO2_FLAG_W,FCO2TMP,PH_TOT,PH_TOT_FLAG_W,PH_TMP,DELC13,DELC13_FLAG_W,DELC14,DELC14_FLAG_W,C14ERR,DELO18,DELO18_FLAG_W,POC,POC_FLAG_W,DOC,DOC_FLAG_W,TDN,TDN_FLAG_W,N2O,N2O_FLAG_W,BTL_DATE,BTL_TIME,BTL_LAT,BTL_LON,REFTMP,REFTMP_FLAG_W,CTDFLUOR,CTDFLUOR_FLAG_W,CTDXMISS,CTDXMISS_FLAG_W,D15N_NO2+NO3,D15N_NO2+NO3_FLAG_W,D18O_NO2+NO3,D18O_NO2+NO3_FLAG_W,HPLC,HPLC_FLAG_W
,,,,,,,,,,,METERS,DBAR,ITS-90,PSS-78,,PSS-78,,UMOL/KG,,UMOL/KG,,UMOL/KG,,UMOL/KG,,UMOL/KG,,UMOL/KG,,PMOL/KG,,PMOL/KG,,FMOL/KG,,UMOL/KG,,UMOL/KG,,UATM,,DEG C,,,DEG C,/MILLE,,/MILLE,,/MILLE,/MILLE,,UG/KG,,UMOL/KG,,UMOL/KG,,NMOL/KG,,,,,,ITS-90,,VOLTS,,VOLTS,,/MILLE,,/MILLE,,,
325020210420,        A22,       5,          1,         31,         31,2,20210422,       2001,    13.1319,   -69.8835,       1969,     4.7,  27.2814,  35.9123,2,  35.9139,2,    202.3,2,   201.8,2,    0.88,2,    0.00,2,    0.00,2,    0.00,2,-999.000,9,-999.000,9,-999.0000,9,  2022.8,6, 2351.42,2, -999.000,9,  -999.00,   8.09449,2,    25.02, -999.00,9, -999.00,9, -999.00, -999.00,1,-999.000,9, -999.00,9, -999.00,9,     -999.0,9, 20210422,     2118,  13.1319, -69.8835,    27.2829,2,     0.0481,1,     4.5972,1,     -999.0,9,     -999.0,9,     -999.0,9
325020210420,        A22,       5,          1,         30,         30,2,20210422,       2001,    13.1319,   -69.8835,       1969,    25.6,  27.2043,  35.9116,2,  35.9147,2,    202.5,2,   201.8,2,    0.97,2,    0.00,2,    0.00,2,    0.00,2,-999.000,9,-999.000,9,-999.0000,9,  -999.0,9, -999.00,9, -999.000,9,  -999.00,-999.00000,9,  -999.00, -999.00,9, -999.00,9, -999.00, -999.00,9,-999.000,9, -999.00,9, -999.00,9,     -999.0,9, 20210422,     2116,  13.1319, -69.8835,    27.2041,2,     0.0505,1,     4.5838,1,     -999.0,9,     -999.0,9,     -999.0,9
325020210420,        A22,       5,          1,         29,         29,2,20210422,       2001,    13.1319,   -69.8835,       1969,    50.3,  26.6992,  36.3186,2,  36.3194,2,    199.5,2,   199.6,2,    1.07,2,    0.01,2,    0.00,2,    0.00,2,-999.000,9,-999.000,9,-999.0000,9,  2042.7,2, 2377.17,2, -999.000,9,  -999.00,   8.09332,6,    25.00, -999.00,9, -999.00,9, -999.00, -999.00,1,-999.000,9, -999.00,9, -999.00,9,     -999.0,9, 20210422,     2115,  13.1319, -69.8835,    26.6951,2,     0.0753,1,     4.5979,1,     -999.0,9,     -999.0,9,     -999.0,9
325020210420,        A22,       5,          1,         28,         28,2,20210422,       2001,    13.1319,   -69.8835,       1969,    75.2,  25.4019,  36.9743,2,  37.0027,3,    177.6,3,   179.8,2,    0.97,2,    1.09,2,    0.22,2,    0.04,2,-999.000,9,-999.000,9,-999.0000,9,  -999.0,9, -999.00,9, -999.000,9,  -999.00,-999.00000,9,  -999.00, -999.00,9, -999.00,9, -999.00, -999.00,9,-999.000,9, -999.00,9, -999.00,9,     -999.0,9, 20210422,     2113,  13.1319, -69.8835,    25.4052,2,     0.0881,1,     4.6341,1,     -999.0,9,     -999.0,9,     -999.0,9
325020210420,        A22,       5,          1,         27,         27,2,20210422,       2001,    13.1319,   -69.8835,       1969,   100.5,  23.9031,  37.2057,2,  37.1996,2,    168.3,2,   169.2,2,    0.58,2,    1.78,2,    0.06,2,    0.03,2,-999.000,9,-999.000,9,-999.0000,9,  2136.6,2, 2427.24,6, -999.000,9,  -999.00,   8.00045,2,    25.01, -999.00,9, -999.00,9, -999.00, -999.00,9,-999.000,9, -999.00,9, -999.00,9,     -999.0,9, 20210422,     2111,  13.1319, -69.8835,    23.9072,2,     0.0655,1,     4.6569,1,     -999.0,9,     -999.0,9,     -999.0,9
325020210420,        A22,       5,          1,         26,         26,2,20210422,       2001,    13.1319,   -69.8835,       1969,   125.7,  21.7643,  36.9963,2,  37.0041,2,    156.3,3,   158.7,2,    0.97,2,    3.93,2,    0.01,2,    0.14,2,-999.000,9,-999.000,9,-999.0000,9,  -999.0,9, -999.00,9, -999.000,9,  -999.00,-999.00000,9,  -999.00, -999.00,9, -999.00,9, -999.00, -999.00,9,-999.000,9, -999.00,9, -999.00,9,     -999.0,9, 20210422,     2109,  13.1319, -69.8835,    21.7509,2,     0.0490,1,     4.6668,1,     -999.0,9,     -999.0,9,     -999.0,9
325020210420,        A22,       5,          1,         25,         25,2,20210422,       2001,    13.1319,   -69.8835,       1969,   151.2,  19.7260,  36.7251,2,  36.7240,3,    152.6,2,   153.2,2,    1.66,2,    6.79,2,    0.00,2,    0.29,2,-999.000,9,-999.000,9,-999.0000,9,  2161.3,2, 2395.42,2, -999.000,9,  -999.00,   7.90594,2,    25.00, -999.00,9, -999.00,9, -999.00, -999.00,9,-999.000,9, -999.00,9, -999.00,9,     -999.0,9, 20210422,     2107,  13.1319, -69.8835,    19.7262,2,     0.0406,1,     4.6718,1,     -999.0,9,     -999.0,9,     -999.0,9
325020210420,        A22,       5,          1,         24,         24,2,20210422,       2001,    13.1319,   -69.8835,       1969,   176.5,  18.6345,  36.5571,2,  36.5571,3,    150.7,2,   151.3,2,    2.34,2,    8.65,2,    0.00,2,    0.41,2,-999.000,9,-999.000,9,-999.0000,9,  -999.0,9, -999.00,9, -999.000,9,  -999.00,-999.00000,9,  -999.00, -999.00,9, -999.00,9, -999.00, -999.00,9,-999.000,9, -999.00,9, -999.00,9,     -999.0,9, 20210422,     2105,  13.1319, -69.8835,    18.6393,2,     0.0404,1,     4.6752,1,     -999.0,9,     -999.0,9,     -999.0,9
325020210420,        A22,       5,          1,         23,         23,2,20210422,       2001,    13.1319,   -69.8835,       1969,   200.7,  17.5420,  36.3838,2,  36.3732,3,    152.6,2,   152.8,2,    2.92,2,   10.21,2,    0.00,2,    0.51,2,-999.000,9,-999.000,9,-999.0000,9,  -999.0,9, -999.00,9, -999.000,9,  -999.00,-999.00000,9,  -999.00, -999.00,9, -999.00,9, -999.00, -999.00,9,-999.000,9, -999.00,9, -999.00,9,     -999.0,9, 20210422,     2103,  13.1319, -69.8835,    17.5734,2,     0.0399,1,     4.6764,1,     -999.0,9,     -999.0,9,     -999.0,9
325020210420,        A22,       5,          1,         22,         22,2,20210422,       2001,    13.1319,   -69.8835,       1969,   226.5,  16.4760,  36.1865,2,  36.1755,3,    142.4,2,   142.4,2,    4.19,2,   13.14,2,    0.00,2,    0.70,2,-999.000,9,-999.000,9,-999.0000,9,  -999.0,9, -999.00,9, -999.000,9,  -999.00,-999.00000,9,  -999.00, -999.00,9, -999.00,9, -999.00, -999.00,9,-999.000,9, -999.00,9, -999.00,9,     -999.0,9, 20210422,     2102,  13.1319, -69.8835,    16.4737,2,     0.0401,1,     4.6776,1,     -999.0,9,     -999.0,9,     -999.0,9
325020210420,        A22,       5,          1,         21,         21,2,20210422,       2001,    13.1319,   -69.8835,       1969,   257.0,  15.1037,  35.9450,2,  35.9431,3,    134.6,2,   134.7,2,    5.65,2,   16.11,2,    0.00,2,    0.91,2,-999.000,9,-999.000,9,-999.0000,9,  2181.9,2, 2350.54,2, -999.000,9,  -999.00,    7.7782,2,    24.99, -999.00,9, -999.00,9, -999.00, -999.00,9,-999.000,9, -999.00,9, -999.00,9,     -999.0,9, 20210422,     2100,  13.1319, -69.8834,    15.1098,2,     0.0404,1,     4.6777,1,     -999.0,9,     -999.0,9,     -999.0,9
325020210420,        A22,       5,          1,         20,         20,2,20210422,       2001,    13.1319,   -69.8835,       1969,   301.9,  13.6917,  35.6951,2,  35.6936,3,    128.1,2,   128.1,2,    7.51,2,   19.25,2,    0.00,2,    1.12,2,-999.000,9,-999.000,9,-999.0000,9,  -999.0,9, -999.00,9, -999.000,9,  -999.00,-999.00000,9,  -999.00, -999.00,9, -999.00,9, -999.00, -999.00,9,-999.000,9, -999.00,9, -999.00,9,     -999.0,9, 20210422,     2058,  13.1319, -69.8835,    13.6957,2,     0.0406,1,     4.6770,1,     -999.0,9,     -999.0,9,     -999.0,9
325020210420,        A22,       5,          1,         19,         19,2,20210422,       2001,    13.1319,   -69.8835,       1969,   352.4,  12.1219,  35.4458,2,  35.4500,3,    122.3,2,   122.3,2,    9.75,2,   22.51,2,    0.00,2,    1.35,2,-999.000,9,-999.000,9,-999.0000,9,  -999.0,9, -999.00,9, -999.000,9,  -999.00,-999.00000,9,  -999.00, -999.00,9, -999.00,9, -999.00, -999.00,9,-999.000,9, -999.00,9, -999.00,9,     -999.0,9, 20210422,     2055,  13.1319, -69.8835,    12.1312,2,     0.0410,1,     4.6739,1,     -999.0,9,     -999.0,9,     -999.0,9
325020210420,        A22,       5,          1,         18,         18,2,20210422,       2001,    13.1319,   -69.8835,       1969,   402.4,  11.0431,  35.2695,2,  35.2672,3,    120.0,2,   120.0,2,   11.51,2,   24.72,2,    0.00,2,    1.50,2,-999.000,9,-999.000,9,-999.0000,9,  -999.0,9, -999.00,9, -999.000,9,  -999.00,-999.00000,9,  -999.00, -999.00,9, -999.00,9, -999.00, -999.00,9,-999.000,9, -999.00,9, -999.00,9,     -999.0,9, 20210422,     2053,  13.1319, -69.8835,    11.0448,2,     0.0417,1,     4.6750,1,     -999.0,9,     -999.0,9,     -999.0,9
325020210420,        A22,       5,          1,         17,         17,2,20210422,       2001,    13.1319,   -69.8835,       1969,   452.9,   9.9820,  35.1192,2,  35.1195,3,    118.3,2,   118.9,2,   13.85,2,   26.95,2,    0.00,2,    1.66,2,-999.000,9,-999.000,9,-999.0000,9,  -999.0,9, -999.00,9, -999.000,9,  -999.00,-999.00000,9,  -999.00, -999.00,9, -999.00,9, -999.00, -999.00,9,-999.000,9, -999.00,9, -999.00,9,     -999.0,9, 20210422,     2051,  13.1319, -69.8835,     9.9813,2,     0.0423,1,     4.6764,1,     -999.0,9,     -999.0,9,     -999.0,9
325020210420,        A22,       5,          1,         16,         16,2,20210422,       2001,    13.1319,   -69.8835,       1969,   513.4,   9.0909,  34.9968,2,  35.0031,3,    118.1,2,   118.0,2,   15.70,2,   28.65,2,    0.00,2,    1.78,2,-999.000,9,-999.000,9,-999.0000,9,  2208.7,2, 2306.41,2, -999.000,9,  -999.00,   7.59636,2,    25.00, -999.00,9, -999.00,9, -999.00, -999.00,9,-999.000,9, -999.00,9, -999.00,9,     -999.0,9, 20210422,     2047,  13.1319, -69.8835,     9.0908,2,     0.0428,1,     4.6767,1,     -999.0,9,     -999.0,9,     -999.0,9
325020210420,        A22,       5,          1,         15,         15,2,20210422,       2001,    13.1319,   -69.8835,       1969,   604.2,   7.9132,  34.8643,2,  34.8635,3,    120.3,2,   120.5,2,   19.12,2,   30.82,2,    0.00,2,    1.94,2,-999.000,9,-999.000,9,-999.0000,9,  -999.0,9, -999.00,9, -999.000,9,  -999.00,-999.00000,9,  -999.00, -999.00,9, -999.00,9, -999.00, -999.00,9,-999.000,9, -999.00,9, -999.00,9,     -999.0,9, 20210422,     2045,  13.1319, -69.8835,     7.9133,2,     0.0422,1,     4.6795,1,     -999.0,9,     -999.0,9,     -999.0,9
325020210420,        A22,       5,          1,         14,         14,2,20210422,       2001,    13.1319,   -69.8835,       1969,   704.9,   7.1228,  34.7953,2,  34.7956,2,    124.4,2,   124.7,2,   21.46,2,   31.76,2,    0.00,2,    2.04,2,-999.000,9,-999.000,9,-999.0000,9,  -999.0,9, -999.00,9, -999.000,9,  -999.00,-999.00000,9,  -999.00, -999.00,9, -999.00,9, -999.00, -999.00,9,-999.000,9, -999.00,9, -999.00,9,     -999.0,9, 20210422,     2042,  13.1319, -69.8835,     7.1209,2,     0.0429,1,     4.6795,1,     -999.0,9,     -999.0,9,     -999.0,9
325020210420,        A22,       5,          1,         13,         13,2,20210422,       2001,    13.1319,   -69.8835,       1969,   806.3,   6.3433,  34.7876,2,  34.7866,2,    134.6,2,   134.1,2,   23.70,2,   31.70,2,    0.00,2,    2.05,2,-999.000,9,-999.000,9,-999.0000,9,  -999.0,9, -999.00,9, -999.000,9,  -999.00,-999.00000,9,  -999.00, -999.00,9, -999.00,9, -999.00, -999.00,9,-999.000,9, -999.00,9, -999.00,9,     -999.0,9, 20210422,     2038,  13.1319, -69.8835,     6.3456,2,     0.0427,1,     4.6824,1,     -999.0,9,     -999.0,9,     -999.0,9
325020210420,        A22,       5,          1,         12,         12,2,20210422,       2001,    13.1319,   -69.8835,       1969,   907.3,   5.6595,  34.8585,2,  34.8582,2,    156.8,2,   156.5,2,   24.58,2,   28.90,2,    0.00,2,    1.89,2,-999.000,9,-999.000,9,-999.0000,9,  2210.5,2, 2304.28,2, -999.000,9,  -999.00,   7.60944,2,    25.00, -999.00,9, -999.00,9, -999.00, -999.00,9,-999.000,9, -999.00,9, -999.00,9,     -999.0,9, 20210422,     2034,  13.1319, -69.8835,     5.6604,2,     0.0429,1,     4.6818,1,     -999.0,9,     -999.0,9,     -999.0,9
325020210420,        A22,       5,          1,         11,         11,2,20210422,       2001,    13.1319,   -69.8835,       1969,  1007.8,   5.2036,  34.9198,2,  34.9223,2,    176.7,2,   177.8,2,   24.09,2,   26.21,2,    0.00,2,    1.74,2,-999.000,9,-999.000,9,-999.0000,9,  -999.0,9, -999.00,9, -999.000,9,  -999.00,-999.00000,9,  -999.00, -999.00,9, -999.00,9, -999.00, -999.00,9,-999.000,9, -999.00,9, -999.00,9,     -999.0,9, 20210422,     2031,  13.1319, -69.8835,     5.2028,2,     0.0427,1,     4.6782,1,     -999.0,9,     -999.0,9,     -999.0,9
325020210420,        A22,       5,          1,         10,         10,2,20210422,       2001,    13.1319,   -69.8835,       1969,  1109.3,   4.8519,  34.9478,2,  34.9477,2,    190.9,2,   191.0,2,   23.99,2,   24.66,2,    0.00,2,    1.65,2,-999.000,9,-999.000,9,-999.0000,9,  -999.0,9, -999.00,9, -999.000,9,  -999.00,-999.00000,9,  -999.00, -999.00,9, -999.00,9, -999.00, -999.00,9,-999.000,9, -999.00,9, -999.00,9,     -999.0,9, 20210422,     2028,  13.1319, -69.8835,     4.8517,2,     0.0423,1,     4.6829,1,     -999.0,9,     -999.0,9,     -999.0,9
325020210420,        A22,       5,          1,          9,          9,2,20210422,       2001,    13.1319,   -69.8835,       1969,  1210.3,   4.6349,  34.9601,2,  34.9604,2,    199.9,2,   200.1,2,   24.09,2,   23.69,2,    0.00,2,    1.58,2,   0.176,2,   0.099,2,   0.0200,2,  2196.3,2, 2321.78,2, -999.000,9,  -999.00,   7.68059,6,    25.01, -999.00,9, -999.00,9, -999.00, -999.00,9,-999.000,9, -999.00,9, -999.00,9,      16.05,2, 20210422,     2025,  13.1319, -69.8835,     4.6340,2,     0.0429,1,     4.6830,1,     -999.0,9,     -999.0,9,     -999.0,9
325020210420,        A22,       5,          1,          8,          8,2,20210422,       2001,    13.1319,   -69.8835,       1969,  1310.8,   4.5162,  34.9652,2,  34.9689,2,    203.7,2,   203.8,2,   24.58,2,   23.24,2,    0.00,2,    1.56,2,-999.000,9,-999.000,9,-999.0000,9,  -999.0,9, -999.00,9, -999.000,9,  -999.00,-999.00000,9,  -999.00, -999.00,9, -999.00,9, -999.00, -999.00,9,-999.000,9, -999.00,9, -999.00,9,     -999.0,9, 20210422,     2022,  13.1319, -69.8835,     4.5158,2,     0.0433,1,     4.6810,1,     -999.0,9,     -999.0,9,     -999.0,9
325020210420,        A22,       5,          1,          7,          7,2,20210422,       2001,    13.1319,   -69.8835,       1969,  1412.7,   4.3977,  34.9691,2,  34.9699,2,    206.7,2,   207.0,2,   25.26,2,   22.86,2,    0.00,2,    1.53,2,   0.150,2,   0.086,2,   0.0000,2,  -999.0,9, -999.00,9, -999.000,9,  -999.00,-999.00000,9,  -999.00, -999.00,9, -999.00,9, -999.00, -999.00,9,-999.000,9, -999.00,9, -999.00,9,      15.04,2, 20210422,     2019,  13.1319, -69.8835,     4.3973,2,     0.0433,1,     4.6824,1,     -999.0,9,     -999.0,9,     -999.0,9
325020210420,        A22,       5,          1,          6,          6,2,20210422,       2001,    13.1319,   -69.8835,       1969,  1514.6,   4.3057,  34.9715,2,  34.9703,2,    209.4,2,   209.8,2,   25.94,2,   22.71,2,    0.00,2,    1.52,2,   0.131,2,   0.075,2,   0.0100,2,  -999.0,9, -999.00,9, -999.000,9,  -999.00,-999.00000,9,  -999.00, -999.00,9, -999.00,9, -999.00, -999.00,9,-999.000,9, -999.00,9, -999.00,9,      14.83,2, 20210422,     2016,  13.1319, -69.8835,     4.3056,2,     0.0429,1,     4.6856,1,     -999.0,9,     -999.0,9,     -999.0,9
325020210420,        A22,       5,          1,          5,          5,2,20210422,       2001,    13.1319,   -69.8835,       1969,  1614.9,   4.2385,  34.9722,2,  34.9758,2,    210.8,2,   211.1,2,   26.72,2,   22.51,2,    0.00,2,    1.51,2,   0.113,2,   0.070,2,   0.0500,2,  2195.5,2, 2323.78,2, -999.000,9,  -999.00,   7.69764,2,    25.01, -999.00,9, -999.00,9, -999.00, -999.00,9,-999.000,9, -999.00,9, -999.00,9,      14.51,2, 20210422,     2013,  13.1319, -69.8835,     4.2381,2,     0.0431,1,     4.6862,1,     -999.0,9,     -999.0,9,     -999.0,9
325020210420,        A22,       5,          1,          4,          4,2,20210422,       2001,    13.1319,   -69.8835,       1969,  1716.9,   4.1886,  34.9735,2,  34.9748,2,    211.6,2,   212.0,2,   27.21,2,   22.46,2,    0.00,2,    1.50,2,   0.099,2,   0.063,2,   0.0300,2,  -999.0,9, -999.00,9, -999.000,9,  -999.00,-999.00000,9,  -999.00, -999.00,9, -999.00,9, -999.00, -999.00,9,-999.000,9, -999.00,9, -999.00,9,      14.46,2, 20210422,     2010,  13.1319, -69.8835,     4.1883,2,     0.0428,1,     4.6853,1,     -999.0,9,     -999.0,9,     -999.0,9
325020210420,        A22,       5,          1,          3,          3,2,20210422,       2001,    13.1319,   -69.8835,       1969,  1817.8,   4.1589,  34.9740,2,  34.9756,2,    212.0,2,   212.2,2,   27.80,2,   22.38,2,    0.00,2,    1.51,2,   0.083,2,   0.057,2,   0.0800,2,  -999.0,9, -999.00,9, -999.000,9,  -999.00,-999.00000,9,  -999.00, -999.00,9, -999.00,9, -999.00, -999.00,9,-999.000,9, -999.00,9, -999.00,9,      14.25,2, 20210422,     2007,  13.1319, -69.8835,     4.1593,2,     0.0432,1,     4.6849,1,     -999.0,9,     -999.0,9,     -999.0,9
325020210420,        A22,       5,          1,          2,          2,2,20210422,       2001,    13.1319,   -69.8835,       1969,  1920.2,   4.1344,  34.9742,2,  34.9746,2,    211.4,2,   211.6,2,   28.58,2,   22.39,2,    0.00,2,    1.51,2,   0.074,2,   0.055,2,   0.3400,2,  -999.0,9, -999.00,9, -999.000,9,  -999.00,-999.00000,9,  -999.00, -999.00,9, -999.00,9, -999.00, -999.00,9,-999.000,9, -999.00,9, -999.00,9,      13.93,2, 20210422,     2004,  13.1319, -69.8835,     4.1338,2,     0.0428,1,     4.6823,1,     -999.0,9,     -999.0,9,     -999.0,9
325020210420,        A22,       5,          1,          1,          1,2,20210422,       2001,    13.1319,   -69.8835,       1969,  1980.0,   4.1168,  34.9747,2,  34.9752,2,    211.9,2,   211.7,2,   28.97,2,   22.33,2,    0.00,2,    1.50,2,   0.066,2,   0.050,2,   0.2500,2,  2201.3,2, 2333.38,2, -999.000,9,  -999.00,   7.70176,2,    25.01, -999.00,9, -999.00,9, -999.00, -999.00,9,-999.000,9, -999.00,9, -999.00,9,      13.98,2, 20210422,     2001,  13.1319, -69.8835,     4.1159,2,     0.0417,1,     4.6835,1,     -999.0,9,     -999.0,9,     -999.0,9