BOTTLE,20230513CCHSIOCBG
EXPOCODE,SECT_ID,STNNBR,CASTNO,SAMPNO,BTLNBR,BTLNBR_FLAG_W,DATE,TIME,LATITUDE,LONGITUDE,DEPTH,CTDPRS,CTDTMP,CTDSAL,CTDSAL_FLAG_W,SALNTY,SALNTY_FLAG_W,CTDOXY,CTDOXY_FLAG_W,OXYGEN,OXYGEN_FLAG_W,SILCAT,SILCAT_FLAG_W,NITRAT,NITRAT_FLAG_W,NITRIT,NITRIT_FLAG_W,PHSPHT,PHSPHT_FLAG_W,CFC-11,CFC-11_FLAG_W,CFC-12,CFC-12_FLAG_W,SF6,SF6_FLAG_W,TCARBN,TCARBN_FLAG_W,ALKALI,ALKALI_FLAG_W,FCO2,FCO2_FLAG_W,FCO2TMP,PH_TOT,PH_TOT_FLAG_W,PH_TMP,DELC13,DELC13_FLAG_W,DELC14,DELC14_FLAG_W,C14ERR,DELO18,DELO18_FLAG_W,POC,POC_FLAG_W,DOC,DOC_FLAG_W,TDN,TDN_FLAG_W,N2O,N2O_FLAG_W,BTL_DATE,BTL_TIME,BTL_LAT,BTL_LON,REFTMP,REFTMP_FLAG_W,CTDFLUOR,CTDFLUOR_FLAG_W,CTDXMISS,CTDXMISS_FLAG_W,D15N_NO2+NO3,D15N_NO2+NO3_FLAG_W,D18O_NO2+NO3,D18O_NO2+NO3_FLAG_W,HPLC,HPLC_FLAG_W
,,,,,,,,,,,METERS,DBAR,ITS-90,PSS-78,,PSS-78,,UMOL/KG,,UMOL/KG,,UMOL/KG,,UMOL/KG,,UMOL/KG,,UMOL/KG,,PMOL/KG,,PMOL/KG,,FMOL/KG,,UMOL/KG,,UMOL/KG,,UATM,,DEG C,,,DEG C,/MILLE,,/MILLE,,/MILLE,/MILLE,,UG/KG,,UMOL/KG,,UMOL/KG,,NMOL/KG,,,,,,ITS-90,,VOLTS,,VOLTS,,/MILLE,,/MILLE,,,
325020210420,        A22,      21,          1,         36,         36,2,20210426,       2010,    17.3629,   -65.9959,       4587,     5.5,  27.2560,  35.9567,2,  35.9578,2,    202.2,2,   201.3,2,    1.27,2,    0.00,2,    0.00,2,    0.00,2,-999.000,9,-999.000,9,-999.0000,9,  2026.2,6, 2357.07,2, -999.000,9,  -999.00,   8.09613,2,    25.00, -999.00,9, -999.00,9, -999.00, -999.00,1,-999.000,9, -999.00,9, -999.00,9,     -999.0,9, 20210426,     2217,  17.3629, -65.9959,    27.2536,2,     0.0449,1,     4.6142,1,     -999.0,9,     -999.0,9,     -999.0,9
325020210420,        A22,      21,          1,         35,         35,2,20210426,       2010,    17.3629,   -65.9959,       4587,    35.2,  27.1105,  36.0374,2,  36.0376,2,    202.8,2,   202.5,2,    1.27,2,    0.00,2,    0.00,2,    0.00,2,-999.000,9,-999.000,9,-999.0000,9,  2028.0,2, 2361.11,2, -999.000,9,  -999.00,   8.09786,6,    24.99, -999.00,9, -999.00,9, -999.00, -999.00,9,-999.000,9, -999.00,9, -999.00,9,     -999.0,9, 20210426,     2214,  17.3629, -65.9959,    27.1104,2,     0.0473,1,     4.6175,1,     -999.0,9,     -999.0,9,     -999.0,9
325020210420,        A22,      21,          1,         34,         34,2,20210426,       2010,    17.3629,   -65.9959,       4587,    60.2,  27.0285,  36.0554,2,  36.0511,2,    203.2,2,   202.8,2,    1.36,2,    0.00,2,    0.00,2,    0.00,2,-999.000,9,-999.000,9,-999.0000,9,  -999.0,9, -999.00,9, -999.000,9,  -999.00,-999.00000,9,  -999.00, -999.00,9, -999.00,9, -999.00, -999.00,9,-999.000,9, -999.00,9, -999.00,9,     -999.0,9, 20210426,     2213,  17.3629, -65.9959,    27.0247,2,     0.0502,1,     4.6228,1,     -999.0,9,     -999.0,9,     -999.0,9
325020210420,        A22,      21,          1,         33,         33,2,20210426,       2010,    17.3629,   -65.9959,       4587,    85.9,  26.7767,  36.6903,2,  36.7540,3,    201.8,2,   201.9,2,    0.97,2,    0.00,2,    0.00,2,    0.00,2,-999.000,9,-999.000,9,-999.0000,9,  2063.3,2, 2404.23,6, -999.000,9,  -999.00,   8.09473,2,    25.00, -999.00,9, -999.00,9, -999.00, -999.00,1,-999.000,9, -999.00,9, -999.00,9,     -999.0,9, 20210426,     2211,  17.3629, -65.9959,    26.7753,2,     0.0685,1,     4.6194,1,     -999.0,9,     -999.0,9,     -999.0,9
325020210420,        A22,      21,          1,         32,         32,2,20210426,       2010,    17.3629,   -65.9959,       4587,   110.4,  25.5920,  37.1865,2,  37.1793,2,    191.6,2,   192.5,2,    0.58,2,    0.00,2,    0.02,2,    0.00,2,-999.000,9,-999.000,9,-999.0000,9,  2107.0,2, 2428.66,2, -999.000,9,  -999.00,   8.05771,2,    24.99, -999.00,9, -999.00,9, -999.00, -999.00,9,-999.000,9, -999.00,9, -999.00,9,     -999.0,9, 20210426,     2209,  17.3629, -65.9959,    25.6341,2,     0.0881,1,     4.6307,1,     -999.0,9,     -999.0,9,     -999.0,9
325020210420,        A22,      21,          1,         31,         31,2,20210426,       2010,    17.3629,   -65.9959,       4587,   135.6,  23.8673,  37.2305,2,  37.2316,2,    175.3,3,   177.5,2,    0.58,2,    1.05,2,    0.04,2,    0.00,2,-999.000,9,-999.000,9,-999.0000,9,  2134.8,2, 2429.12,2, -999.000,9,  -999.00,   8.01235,6,    25.03, -999.00,9, -999.00,9, -999.00, -999.00,9,-999.000,9, -999.00,9, -999.00,9,     -999.0,9, 20210426,     2207,  17.3629, -65.9959,    23.8788,2,     0.0648,1,     4.6557,1,     -999.0,9,     -999.0,9,     -999.0,9
325020210420,        A22,      21,          1,         30,         30,2,20210426,       2010,    17.3629,   -65.9959,       4587,   166.0,  22.2517,  37.1053,2,  37.1062,2,    168.3,2,   168.5,2,    0.68,2,    2.38,2,    0.01,2,    0.04,2,-999.000,9,-999.000,9,-999.0000,9,  -999.0,9, -999.00,9, -999.000,9,  -999.00,-999.00000,9,  -999.00, -999.00,9, -999.00,9, -999.00, -999.00,9,-999.000,9, -999.00,9, -999.00,9,     -999.0,9, 20210426,     2205,  17.3629, -65.9959,    22.3000,2,     0.0495,1,     4.6664,1,     -999.0,9,     -999.0,9,     -999.0,9
325020210420,        A22,      21,          1,         29,         29,2,20210426,       2010,    17.3629,   -65.9959,       4587,   216.1,  19.2777,  36.6975,2,  36.7086,2,    166.4,3,   164.7,2,    1.46,2,    5.71,2,    0.00,2,    0.21,2,-999.000,9,-999.000,9,-999.0000,9,  2158.5,2, 2394.14,2, -999.000,9,  -999.00,   7.92095,2,    25.02, -999.00,9, -999.00,9, -999.00, -999.00,9,-999.000,9, -999.00,9, -999.00,9,     -999.0,9, 20210426,     2203,  17.3629, -65.9959,    19.4864,3,     0.0397,1,     4.6740,1,     -999.0,9,     -999.0,9,     -999.0,9
325020210420,        A22,      21,          1,         28,         28,2,20210426,       2010,    17.3629,   -65.9959,       4587,   266.5,  17.5430,  36.4174,2,  36.4016,2,    158.2,2,   158.4,2,    2.63,2,    9.45,2,    0.00,2,    0.45,2,-999.000,9,-999.000,9,-999.0000,9,  -999.0,9, -999.00,9, -999.000,9,  -999.00,-999.00000,9,  -999.00, -999.00,9, -999.00,9, -999.00, -999.00,9,-999.000,9, -999.00,9, -999.00,9,     -999.0,9, 20210426,     2201,  17.3629, -65.9959,    17.5618,2,     0.0405,1,     4.6760,1,     -999.0,9,     -999.0,9,     -999.0,9
325020210420,        A22,      21,          1,         27,         27,2,20210426,       2010,    17.3629,   -65.9959,       4587,   316.9,  15.9827,  36.1535,2,  36.1535,2,    151.2,2,   151.5,2,    4.00,2,   12.58,2,    0.00,2,    0.66,2,-999.000,9,-999.000,9,-999.0000,9,  -999.0,9, -999.00,9, -999.000,9,  -999.00,-999.00000,9,  -999.00, -999.00,9, -999.00,9, -999.00, -999.00,9,-999.000,9, -999.00,9, -999.00,9,     -999.0,9, 20210426,     2159,  17.3629, -65.9960,    15.9862,2,     0.0402,1,     4.6766,1,     -999.0,9,     -999.0,9,     -999.0,9
325020210420,        A22,      21,          1,         26,         26,2,20210426,       2010,    17.3629,   -65.9959,       4587,   367.4,  14.6364,  35.9336,2,  35.9198,2,    144.2,2,   143.7,2,    5.56,2,   15.66,2,    0.00,2,    0.86,2,-999.000,9,-999.000,9,-999.0000,9,  -999.0,9, -999.00,9, -999.000,9,  -999.00,-999.00000,9,  -999.00, -999.00,9, -999.00,9, -999.00, -999.00,9,-999.000,9, -999.00,9, -999.00,9,     -999.0,9, 20210426,     2157,  17.3629, -65.9959,    14.6526,2,     0.0414,1,     4.6777,1,     -999.0,9,     -999.0,9,     -999.0,9
325020210420,        A22,      21,          1,         25,         25,2,20210426,       2010,    17.3629,   -65.9959,       4587,   417.9,  12.7860,  35.5857,2,  35.5742,2,    130.8,2,   130.1,2,    8.48,2,   20.46,2,    0.00,2,    1.19,2,-999.000,9,-999.000,9,-999.0000,9,  -999.0,9, -999.00,9, -999.000,9,  -999.00,-999.00000,9,  -999.00, -999.00,9, -999.00,9, -999.00, -999.00,9,-999.000,9, -999.00,9, -999.00,9,     -999.0,9, 20210426,     2155,  17.3629, -65.9959,    12.7660,2,     0.0411,1,     4.6771,1,     -999.0,9,     -999.0,9,     -999.0,9
325020210420,        A22,      21,          1,         24,         24,2,20210426,       2010,    17.3629,   -65.9959,       4587,   469.0,  11.7815,  35.4431,2,  35.4379,2,    127.7,3,   137.4,4,   10.14,2,   22.43,2,    0.00,2,    1.32,2,-999.000,9,-999.000,9,-999.0000,9,  2200.2,2, 2327.05,2, -999.000,9,  -999.00,   7.68879,2,    24.98, -999.00,9, -999.00,9, -999.00, -999.00,9,-999.000,9, -999.00,9, -999.00,9,     -999.0,9, 20210426,     2153,  17.3629, -65.9959,    11.7784,2,     0.0407,1,     4.6784,1,     -999.0,9,     -999.0,9,     -999.0,9
325020210420,        A22,      21,          1,         23,         23,2,20210426,       2010,    17.3629,   -65.9959,       4587,   538.6,  10.3638,  35.2263,2,  35.2300,2,    123.5,2,   124.4,2,   12.97,2,   25.45,2,    0.00,2,    1.55,2,   1.585,2,   0.898,2,   0.5600,2,  2206.9,2,  2316.1,2, -999.000,9,  -999.00,   7.64602,2,    24.99, -999.00,9, -999.00,9, -999.00, -999.00,9,-999.000,9, -999.00,9, -999.00,9,      24.88,2, 20210426,     2151,  17.3629, -65.9959,    10.3815,2,     0.0416,1,     4.6789,1,     -999.0,9,     -999.0,9,     -999.0,9
325020210420,        A22,      21,          1,         22,         22,2,20210426,       2010,    17.3629,   -65.9959,       4587,   639.4,   8.6048,  35.0086,2,  35.0055,2,    123.9,2,   124.2,2,   17.27,2,   28.78,2,    0.00,2,    1.78,2,-999.000,9,-999.000,9,-999.0000,9,  2214.5,2, 2310.39,2, -999.000,9,  -999.00,   7.60434,2,    25.01, -999.00,9, -999.00,9, -999.00, -999.00,9,-999.000,9, -999.00,9, -999.00,9,     -999.0,9, 20210426,     2148,  17.3629, -65.9959,     8.6100,2,     0.0430,1,     4.6794,1,     -999.0,9,     -999.0,9,     -999.0,9
325020210420,        A22,      21,          1,         21,         21,2,20210426,       2010,    17.3629,   -65.9959,       4587,   740.7,   7.2943,  34.8886,2,  34.8875,2,    130.8,2,   130.6,2,   20.78,2,   30.21,2,    0.00,2,    1.90,2,-999.000,9,-999.000,9,-999.0000,9,  -999.0,9, -999.00,9, -999.000,9,  -999.00,-999.00000,9,  -999.00, -999.00,9, -999.00,9, -999.00, -999.00,9,-999.000,9, -999.00,9, -999.00,9,     -999.0,9, 20210426,     2145,  17.3629, -65.9959,     7.3351,2,     0.0429,1,     4.6801,1,     -999.0,9,     -999.0,9,     -999.0,9
325020210420,        A22,      21,          1,         20,         20,2,20210426,       2010,    17.3629,   -65.9959,       4587,   841.4,   6.3323,  34.8471,2,  34.8467,2,    142.5,2,   142.5,2,   23.13,2,   30.13,2,    0.00,2,    1.93,2,-999.000,9,-999.000,9,-999.0000,9,  -999.0,9, -999.00,9, -999.000,9,  -999.00,-999.00000,9,  -999.00, -999.00,9, -999.00,9, -999.00, -999.00,9,-999.000,9, -999.00,9, -999.00,9,     -999.0,9, 20210426,     2142,  17.3629, -65.9959,     6.3327,2,     0.0419,1,     4.6801,1,     -999.0,9,     -999.0,9,     -999.0,9
325020210420,        A22,      21,          1,         19,         19,2,20210426,       2010,    17.3629,   -65.9959,       4587,   942.9,   5.7766,  34.8906,2,  34.8914,2,    162.0,2,   161.2,2,   23.52,2,   28.03,2,    0.00,2,    1.81,2,   0.330,2,   0.182,2,   0.0900,2,  -999.0,9, -999.00,9, -999.000,9,  -999.00,-999.00000,9,  -999.00, -999.00,9, -999.00,9, -999.00, -999.00,9,-999.000,9, -999.00,9, -999.00,9,      21.30,2, 20210426,     2139,  17.3629, -65.9959,     5.7775,2,     0.0429,1,     4.6803,1,     -999.0,9,     -999.0,9,     -999.0,9
325020210420,        A22,      21,          1,         18,         18,2,20210426,       2010,    17.3629,   -65.9959,       4587,  1043.6,   5.3076,  34.9398,2,  34.9410,2,    181.1,2,   181.3,2,   23.52,2,   25.54,2,    0.00,2,    1.66,2,-999.000,9,-999.000,9,-999.0000,9,  -999.0,9, -999.00,9, -999.000,9,  -999.00,-999.00000,9,  -999.00, -999.00,9, -999.00,9, -999.00, -999.00,9,-999.000,9, -999.00,9, -999.00,9,     -999.0,9, 20210426,     2136,  17.3629, -65.9959,     5.3095,2,     0.0426,1,     4.6803,1,     -999.0,9,     -999.0,9,     -999.0,9
325020210420,        A22,      21,          1,         17,         17,2,20210426,       2010,    17.3629,   -65.9959,       4587,  1145.3,   4.9118,  34.9559,2,  34.9551,2,    193.3,2,   193.9,2,   23.91,2,   24.28,2,    0.00,2,    1.59,2,-999.000,9,-999.000,9,-999.0000,9,  -999.0,9, -999.00,9, -999.000,9,  -999.00,-999.00000,9,  -999.00, -999.00,9, -999.00,9, -999.00, -999.00,9,-999.000,9, -999.00,9, -999.00,9,     -999.0,9, 20210426,     2132,  17.3629, -65.9959,     4.9113,2,     0.0429,1,     4.6806,1,     -999.0,9,     -999.0,9,     -999.0,9
325020210420,        A22,      21,          1,         16,         16,2,20210426,       2010,    17.3629,   -65.9959,       4587,  1245.7,   4.6421,  34.9646,2,  34.9642,2,    201.3,2,   201.9,2,   24.30,2,   23.53,2,    0.00,2,    1.54,2,   0.234,2,   0.130,2,   0.1400,2,  2198.1,2, 2322.75,2, -999.000,9,  -999.00,   7.68246,2,    25.02, -999.00,9, -999.00,9, -999.00, -999.00,9,-999.000,9, -999.00,9, -999.00,9,      16.58,2, 20210426,     2129,  17.3629, -65.9959,     4.6456,2,     0.0429,1,     4.6803,1,     -999.0,9,     -999.0,9,     -999.0,9
325020210420,        A22,      21,          1,         15,         15,2,20210426,       2010,    17.3629,   -65.9959,       4587,  1347.7,   4.4679,  34.9690,2,  34.9671,2,    206.3,2,   206.2,2,   24.88,2,   23.05,2,    0.00,2,    1.52,2,-999.000,9,-999.000,9,-999.0000,9,  -999.0,9, -999.00,9, -999.000,9,  -999.00,-999.00000,9,  -999.00, -999.00,9, -999.00,9, -999.00, -999.00,9,-999.000,9, -999.00,9, -999.00,9,     -999.0,9, 20210426,     2126,  17.3629, -65.9959,     4.4698,2,     0.0428,1,     4.6812,1,     -999.0,9,     -999.0,9,     -999.0,9
325020210420,        A22,      21,          1,         14,         14,2,20210426,       2010,    17.3629,   -65.9959,       4587,  1449.1,   4.3663,  34.9710,2,  34.9709,2,    209.2,2,   209.5,2,   25.37,2,   22.69,2,    0.00,2,    1.50,2,-999.000,9,-999.000,9,-999.0000,9,  -999.0,9, -999.00,9, -999.000,9,  -999.00,-999.00000,9,  -999.00, -999.00,9, -999.00,9, -999.00, -999.00,9,-999.000,9, -999.00,9, -999.00,9,     -999.0,9, 20210426,     2123,  17.3629, -65.9959,     4.3655,2,     0.0428,1,     4.6807,1,     -999.0,9,     -999.0,9,     -999.0,9
325020210420,        A22,      21,          1,         13,         13,2,20210426,       2010,    17.3629,   -65.9959,       4587,  1550.2,   4.2829,  34.9726,2,  34.9715,2,    210.5,2,   210.9,2,   25.86,2,   22.61,2,    0.00,2,    1.50,2,   0.170,2,   0.095,2,   0.1100,2,  -999.0,9, -999.00,9, -999.000,9,  -999.00,-999.00000,9,  -999.00, -999.00,9, -999.00,9, -999.00, -999.00,9,-999.000,9, -999.00,9, -999.00,9,      15.34,2, 20210426,     2120,  17.3629, -65.9959,     4.2826,2,     0.0430,1,     4.6813,1,     -999.0,9,     -999.0,9,     -999.0,9
325020210420,        A22,      21,          1,         12,         12,2,20210426,       2010,    17.3629,   -65.9959,       4587,  1682.7,   4.2150,  34.9741,2,  34.9726,2,    213.3,2,   213.5,2,   26.25,2,   22.34,2,    0.00,2,    1.48,2,-999.000,9,-999.000,9,-999.0000,9,  -999.0,9, -999.00,9, -999.000,9,  -999.00,-999.00000,9,  -999.00, -999.00,9, -999.00,9, -999.00, -999.00,9,-999.000,9, -999.00,9, -999.00,9,     -999.0,9, 20210426,     2116,  17.3629, -65.9959,     4.2150,2,     0.0429,1,     4.6812,1,     -999.0,9,     -999.0,9,     -999.0,9
325020210420,        A22,      21,          1,         11,         11,2,20210426,       2010,    17.3629,   -65.9959,       4587,  1885.0,   4.1644,  34.9753,2,  34.9740,2,    215.5,2,   215.8,2,   26.44,2,   22.11,2,    0.00,2,    1.47,2,-999.000,9,-999.000,9,-999.0000,9,  -999.0,9, -999.00,9, -999.000,9,  -999.00,-999.00000,9,  -999.00, -999.00,9, -999.00,9, -999.00, -999.00,9,-999.000,9, -999.00,9, -999.00,9,     -999.0,9, 20210426,     2111,  17.3629, -65.9959,     4.1645,2,     0.0428,1,     4.6815,1,     -999.0,9,     -999.0,9,     -999.0,9
325020210420,        A22,      21,          1,         10,         10,2,20210426,       2010,    17.3629,   -65.9959,       4587,  2107.5,   4.1371,  34.9755,2,  34.9754,2,    215.5,2,   215.7,2,   27.42,2,   22.19,2,    0.00,2,    1.47,2,   0.140,2,   0.085,2,   0.2300,2,  -999.0,9, -999.00,9, -999.000,9,  -999.00,-999.00000,9,  -999.00, -999.00,9, -999.00,9, -999.00, -999.00,9,-999.000,9, -999.00,9, -999.00,9,      14.59,2, 20210426,     2106,  17.3629, -65.9960,     4.1375,2,     0.0435,1,     4.6815,1,     -999.0,9,     -999.0,9,     -999.0,9
325020210420,        A22,      21,          1,          9,          9,2,20210426,       2010,    17.3629,   -65.9959,       4587,  2362.5,   4.1335,  34.9757,2,  34.9746,2,    215.4,2,   215.4,2,   28.00,2,   22.19,2,    0.00,2,    1.47,2,-999.000,9,-999.000,9,-999.0000,9,  2200.6,2, 2329.59,2, -999.000,9,  -999.00,   7.70551,2,    24.99, -999.00,9, -999.00,9, -999.00, -999.00,9,-999.000,9, -999.00,9, -999.00,9,     -999.0,9, 20210426,     2100,  17.3629, -65.9959,     4.1337,2,     0.0423,1,     4.6819,1,     -999.0,9,     -999.0,9,     -999.0,9
325020210420,        A22,      21,          1,          8,          8,2,20210426,       2010,    17.3629,   -65.9959,       4587,  2617.1,   4.1461,  34.9756,2,  34.9744,2,    215.1,2,   215.1,2,   28.39,2,   22.26,2,    0.00,2,    1.48,2,   0.088,2,   0.058,2,   0.3100,2,  -999.0,9, -999.00,9, -999.000,9,  -999.00,-999.00000,9,  -999.00, -999.00,9, -999.00,9, -999.00, -999.00,9,-999.000,9, -999.00,9, -999.00,9,      14.58,2, 20210426,     2054,  17.3629, -65.9959,     4.1463,2,     0.0429,1,     4.6809,1,     -999.0,9,     -999.0,9,     -999.0,9
325020210420,        A22,      21,          1,          7,          7,2,20210426,       2010,    17.3629,   -65.9959,       4587,  2871.6,   4.1656,  34.9758,2,  34.9748,2,    214.9,2,   214.9,2,   28.69,2,   22.27,2,    0.00,2,    1.48,2,-999.000,9,-999.000,9,-999.0000,9,  -999.0,9, -999.00,9, -999.000,9,  -999.00,-999.00000,9,  -999.00, -999.00,9, -999.00,9, -999.00, -999.00,9,-999.000,9, -999.00,9, -999.00,9,     -999.0,9, 20210426,     2049,  17.3629, -65.9959,     4.1658,2,     0.0430,1,     4.6813,1,     -999.0,9,     -999.0,9,     -999.0,9
325020210420,        A22,      21,          1,          6,          6,2,20210426,       2010,    17.3629,   -65.9959,       4587,  3141.6,   4.1913,  34.9758,2,  34.9746,2,    215.1,2,   215.4,2,   28.88,2,   22.22,2,    0.00,2,    1.48,2,   0.071,2,   0.052,2,   0.2800,2,  2203.6,2, 2335.25,2, -999.000,9,  -999.00,   7.70708,2,    24.97, -999.00,9, -999.00,9, -999.00, -999.00,9,-999.000,9, -999.00,9, -999.00,9,      14.14,2, 20210426,     2043,  17.3629, -65.9959,     4.1915,2,     0.0430,1,     4.6813,1,     -999.0,9,     -999.0,9,     -999.0,9
325020210420,        A22,      21,          1,          5,          5,2,20210426,       2010,    17.3629,   -65.9959,       4587,  3448.5,   4.2226,  34.9759,2,  34.9748,2,    214.9,2,   214.9,2,   29.08,2,   22.23,2,    0.00,2,    1.48,2,-999.000,9,-999.000,9,-999.0000,9,  -999.0,9, -999.00,9, -999.000,9,  -999.00,-999.00000,9,  -999.00, -999.00,9, -999.00,9, -999.00, -999.00,9,-999.000,9, -999.00,9, -999.00,9,     -999.0,9, 20210426,     2036,  17.3629, -65.9959,     4.2229,2,     0.0428,1,     4.6806,1,     -999.0,9,     -999.0,9,     -999.0,9
325020210420,        A22,      21,          1,          4,          4,2,20210426,       2010,    17.3629,   -65.9959,       4587,  3754.9,   4.2574,  34.9760,2,  34.9758,2,    215.1,2,   215.0,2,   28.98,2,   22.22,2,    0.00,2,    1.48,2,-999.000,9,-999.000,9,-999.0000,9,  -999.0,9, -999.00,9, -999.000,9,  -999.00,-999.00000,9,  -999.00, -999.00,9, -999.00,9, -999.00, -999.00,9,-999.000,9, -999.00,9, -999.00,9,     -999.0,9, 20210426,     2029,  17.3629, -65.9959,     4.2576,2,     0.0429,1,     4.6794,1,     -999.0,9,     -999.0,9,     -999.0,9
325020210420,        A22,      21,          1,          3,          3,2,20210426,       2010,    17.3629,   -65.9959,       4587,  4061.9,   4.2928,  34.9763,2,  34.9752,2,    215.2,2,   215.2,2,   29.08,2,   22.16,2,    0.00,2,    1.48,2,   0.087,2,   0.061,2,   0.1700,2,  -999.0,9, -999.00,9, -999.000,9,  -999.00,-999.00000,9,  -999.00, -999.00,9, -999.00,9, -999.00, -999.00,9,-999.000,9, -999.00,9, -999.00,9,      14.45,2, 20210426,     2023,  17.3629, -65.9959,     4.2932,2,     0.0429,1,     4.6798,1,     -999.0,9,     -999.0,9,     -999.0,9