BOTTLE,20230513CCHSIOCBG
EXPOCODE,SECT_ID,STNNBR,CASTNO,SAMPNO,BTLNBR,BTLNBR_FLAG_W,DATE,TIME,LATITUDE,LONGITUDE,DEPTH,CTDPRS,CTDTMP,CTDSAL,CTDSAL_FLAG_W,SALNTY,SALNTY_FLAG_W,CTDOXY,CTDOXY_FLAG_W,OXYGEN,OXYGEN_FLAG_W,SILCAT,SILCAT_FLAG_W,NITRAT,NITRAT_FLAG_W,NITRIT,NITRIT_FLAG_W,PHSPHT,PHSPHT_FLAG_W,CFC-11,CFC-11_FLAG_W,CFC-12,CFC-12_FLAG_W,SF6,SF6_FLAG_W,TCARBN,TCARBN_FLAG_W,ALKALI,ALKALI_FLAG_W,FCO2,FCO2_FLAG_W,FCO2TMP,PH_TOT,PH_TOT_FLAG_W,PH_TMP,DELC13,DELC13_FLAG_W,DELC14,DELC14_FLAG_W,C14ERR,DELO18,DELO18_FLAG_W,POC,POC_FLAG_W,DOC,DOC_FLAG_W,TDN,TDN_FLAG_W,N2O,N2O_FLAG_W,BTL_DATE,BTL_TIME,BTL_LAT,BTL_LON,REFTMP,REFTMP_FLAG_W,CTDFLUOR,CTDFLUOR_FLAG_W,CTDXMISS,CTDXMISS_FLAG_W,D15N_NO2+NO3,D15N_NO2+NO3_FLAG_W,D18O_NO2+NO3,D18O_NO2+NO3_FLAG_W,HPLC,HPLC_FLAG_W
,,,,,,,,,,,METERS,DBAR,ITS-90,PSS-78,,PSS-78,,UMOL/KG,,UMOL/KG,,UMOL/KG,,UMOL/KG,,UMOL/KG,,UMOL/KG,,PMOL/KG,,PMOL/KG,,FMOL/KG,,UMOL/KG,,UMOL/KG,,UATM,,DEG C,,,DEG C,/MILLE,,/MILLE,,/MILLE,/MILLE,,UG/KG,,UMOL/KG,,UMOL/KG,,NMOL/KG,,,,,,ITS-90,,VOLTS,,VOLTS,,/MILLE,,/MILLE,,,
325020210420,        A22,      55,          1,         36,         36,2,20210505,       1114,    27.3188,   -65.5664,       5356,     5.2,  25.0601,  37.0309,2,  37.0309,2,    210.3,2,   209.9,2,    0.78,2,    0.00,2,    0.00,2,    0.00,2,   1.653,2,   1.053,2,   1.8100,2,  2093.1,6, 2417.43,2, -999.000,9,  -999.00,    8.0657,2,    25.01, -999.00,9, -999.00,9, -999.00, -999.00,1,-999.000,9, -999.00,9, -999.00,9,       6.30,2, 20210505,     1338,  27.3188, -65.5664,    25.0609,2,     0.0410,1,     4.6244,1,     -999.0,1,     -999.0,1,     -999.0,9
325020210420,        A22,      55,          1,         35,         35,2,20210505,       1114,    27.3188,   -65.5664,       5356,    20.1,  23.9501,  36.9970,2,  36.9975,2,    212.2,2,   212.1,2,    0.68,2,    0.00,2,    0.00,2,    0.00,2,-999.000,9,-999.000,9,-999.0000,9,  -999.0,9, -999.00,9, -999.000,9,  -999.00,-999.00000,9,  -999.00, -999.00,9, -999.00,9, -999.00, -999.00,9,-999.000,9, -999.00,9, -999.00,9,     -999.0,9, 20210505,     1337,  27.3188, -65.5664,    23.9450,2,     0.0415,1,     4.6266,1,     -999.0,1,     -999.0,1,     -999.0,9
325020210420,        A22,      55,          1,         34,         34,2,20210505,       1114,    27.3188,   -65.5664,       5356,    40.5,  22.9824,  36.9807,2,  36.9798,2,    217.5,2,   217.2,2,    0.49,2,    0.00,2,    0.00,2,    0.00,2,-999.000,9,-999.000,9,-999.0000,9,  -999.0,9, -999.00,9, -999.000,9,  -999.00,-999.00000,9,  -999.00, -999.00,9, -999.00,9, -999.00, -999.00,9,-999.000,9, -999.00,9, -999.00,9,     -999.0,9, 20210505,     1334,  27.3188, -65.5665,    22.9834,2,     0.0414,1,     4.6263,1,     -999.0,1,     -999.0,1,     -999.0,9
325020210420,        A22,      55,          1,         33,         33,2,20210505,       1114,    27.3188,   -65.5664,       5356,    65.3,  21.8743,  36.8804,2,  36.8766,2,    221.8,2,   219.7,2,    0.49,2,    0.00,2,    0.00,2,    0.00,2,-999.000,9,-999.000,9,-999.0000,9,  2096.0,2,  2411.5,2, -999.000,9,  -999.00,   8.05147,6,    25.05, -999.00,9, -999.00,9, -999.00, -999.00,9,-999.000,9, -999.00,9, -999.00,9,     -999.0,9, 20210505,     1332,  27.3188, -65.5665,    21.8929,2,     0.0449,1,     4.6246,1,     -999.0,1,     -999.0,1,     -999.0,9
325020210420,        A22,      55,          1,         32,         32,2,20210505,       1114,    27.3188,   -65.5664,       5356,    90.6,  21.3635,  36.8404,2,  36.8375,2,    217.5,2,   217.1,2,    0.58,2,    0.00,2,    0.00,2,    0.00,2,-999.000,9,-999.000,9,-999.0000,9,  -999.0,9, -999.00,9, -999.000,9,  -999.00,-999.00000,9,  -999.00, -999.00,9, -999.00,9, -999.00, -999.00,9,-999.000,9, -999.00,9, -999.00,9,     -999.0,9, 20210505,     1330,  27.3188, -65.5665,    21.3619,2,     0.0518,1,     4.6245,1,     -999.0,1,     -999.0,1,     -999.0,9
325020210420,        A22,      55,          1,         31,         31,2,20210505,       1114,    27.3188,   -65.5664,       5356,   136.1,  20.4642,  36.7829,2,  36.7768,2,    203.8,2,   204.7,2,    0.58,2,    0.34,2,    0.03,2,    0.00,2,   1.879,2,   1.194,2,   1.9200,2,  2113.0,2,  2401.7,2, -999.000,9,  -999.00,   8.00971,6,    24.92, -999.00,9, -999.00,9, -999.00, -999.00,1,-999.000,9, -999.00,9, -999.00,9,       7.15,2, 20210505,     1328,  27.3188, -65.5664,    20.4661,2,     0.0852,1,     4.6278,1,     -999.0,1,     -999.0,1,     -999.0,9
325020210420,        A22,      55,          1,         30,         30,2,20210505,       1114,    27.3188,   -65.5664,       5356,   186.0,  19.5353,  36.6745,2,  36.6745,2,    197.9,2,   198.2,2,    0.78,2,    1.97,2,    0.00,2,    0.01,2,-999.000,9,-999.000,9,-999.0000,9,  -999.0,9, -999.00,9, -999.000,9,  -999.00,-999.00000,9,  -999.00, -999.00,9, -999.00,9, -999.00, -999.00,9,-999.000,9, -999.00,9, -999.00,9,     -999.0,9, 20210505,     1325,  27.3188, -65.5664,    19.5349,2,     0.0566,1,     4.6505,1,     -999.0,1,     -999.0,1,     -999.0,9
325020210420,        A22,      55,          1,         29,         29,2,20210505,       1114,    27.3188,   -65.5664,       5356,   236.7,  19.1258,  36.6440,2,  36.6439,2,    199.0,2,   198.7,2,    0.78,2,    2.84,2,    0.00,2,    0.06,2,-999.000,9,-999.000,9,-999.0000,9,  -999.0,9, -999.00,9, -999.000,9,  -999.00,-999.00000,9,  -999.00, -999.00,9, -999.00,9, -999.00, -999.00,9,-999.000,9, -999.00,9, -999.00,9,     -999.0,9, 20210505,     1322,  27.3188, -65.5664,    19.1302,2,     0.0389,1,     4.6651,1,     -999.0,1,     -999.0,1,     -999.0,9
325020210420,        A22,      55,          1,         28,         28,2,20210505,       1114,    27.3188,   -65.5664,       5356,   286.9,  18.8451,  36.6154,2,  36.6146,2,    198.8,2,   198.5,2,    0.97,2,    3.34,2,    0.00,2,    0.09,2,   2.050,2,   1.283,2,   1.8400,2,  2127.1,2, 2392.41,2, -999.000,9,  -999.00,   7.97344,2,    24.96, -999.00,9, -999.00,9, -999.00, -999.00,9,-999.000,9, -999.00,9, -999.00,9,       8.26,2, 20210505,     1320,  27.3188, -65.5664,    18.8450,2,     0.0398,1,     4.6679,1,     -999.0,1,     -999.0,1,     -999.0,9
325020210420,        A22,      55,          1,         27,         27,2,20210505,       1114,    27.3188,   -65.5664,       5356,   337.9,  18.4849,  36.5705,2,  36.5678,2,    196.1,2,   196.7,2,    1.36,2,    4.24,2,    0.00,2,    0.14,2,-999.000,9,-999.000,9,-999.0000,9,  -999.0,9, -999.00,9, -999.000,9,  -999.00,-999.00000,9,  -999.00, -999.00,9, -999.00,9, -999.00, -999.00,9,-999.000,9, -999.00,9, -999.00,9,     -999.0,9, 20210505,     1317,  27.3187, -65.5665,    18.4895,2,     0.0392,1,     4.6682,1,     -999.0,1,     -999.0,1,     -999.0,9
325020210420,        A22,      55,          1,         26,         26,2,20210505,       1114,    27.3188,   -65.5664,       5356,   388.0,  17.8854,  36.4752,2,  36.4721,2,    186.9,2,   186.8,2,    1.75,2,    5.94,2,    0.00,2,    0.24,2,-999.000,9,-999.000,9,-999.0000,9,  -999.0,9, -999.00,9, -999.000,9,  -999.00,-999.00000,9,  -999.00, -999.00,9, -999.00,9, -999.00, -999.00,9,-999.000,9, -999.00,9, -999.00,9,     -999.0,9, 20210505,     1315,  27.3187, -65.5665,    17.8895,2,     0.0403,1,     4.6691,1,     -999.0,1,     -999.0,1,     -999.0,9
325020210420,        A22,      55,          1,         25,         25,2,20210505,       1114,    27.3188,   -65.5664,       5356,   468.5,  16.5795,  36.2565,2,  36.2541,2,    177.6,2,   178.3,2,    2.83,2,    8.84,2,    0.00,2,    0.43,2,   2.227,2,   1.348,2,   1.4300,2,  2154.2,2, 2372.98,2, -999.000,9,  -999.00,   7.89222,2,    24.97, -999.00,9, -999.00,9, -999.00, -999.00,9,-999.000,9, -999.00,9, -999.00,9,      11.09,2, 20210505,     1311,  27.3187, -65.5665,    16.5918,2,     0.0409,1,     4.6704,1,     -999.0,1,     -999.0,1,     -999.0,9
325020210420,        A22,      55,          1,         24,         24,2,20210505,       1114,    27.3188,   -65.5664,       5356,   570.0,  14.7050,  35.9606,2,  35.9591,2,    167.4,2,   167.5,2,    4.39,2,   12.85,2,    0.00,2,    0.69,2,-999.000,9,-999.000,9,-999.0000,9,  -999.0,9, -999.00,9, -999.000,9,  -999.00,-999.00000,9,  -999.00, -999.00,9, -999.00,9, -999.00, -999.00,9,-999.000,9, -999.00,9, -999.00,9,     -999.0,9, 20210505,     1308,  27.3187, -65.5665,    14.7071,2,     0.0412,1,     4.6731,1,     -999.0,1,     -999.0,1,     -999.0,9
325020210420,        A22,      55,          1,         23,         23,2,20210505,       1114,    27.3188,   -65.5664,       5356,   670.8,  12.2402,  35.5871,2,  35.5744,3,    153.2,2,   152.7,2,    8.48,2,   18.59,2,    0.00,2,    1.07,2,   1.918,2,   1.098,2,   0.9700,2,  2185.4,2, 2337.86,2, -999.000,9,  -999.00,   7.75177,2,    25.03, -999.00,9, -999.00,9, -999.00, -999.00,9,-999.000,9, -999.00,9, -999.00,9,      17.37,2, 20210505,     1305,  27.3187, -65.5665,    12.2252,2,     0.0407,1,     4.6752,1,     -999.0,1,     -999.0,1,     -999.0,9
325020210420,        A22,      55,          1,         22,         22,2,20210505,       1114,    27.3188,   -65.5664,       5356,   771.5,   9.7269,  35.2856,2,  35.2842,2,    146.1,2,   145.9,2,   12.87,2,   23.15,2,    0.00,2,    1.40,2,-999.000,9,-999.000,9,-999.0000,9,  -999.0,9, -999.00,9, -999.000,9,  -999.00,-999.00000,9,  -999.00, -999.00,9, -999.00,9, -999.00, -999.00,9,-999.000,9, -999.00,9, -999.00,9,     -999.0,9, 20210505,     1301,  27.3187, -65.5665,     9.7427,2,     0.0419,1,     4.6774,1,     -999.0,1,     -999.0,1,     -999.0,9
325020210420,        A22,      55,          1,         21,         21,2,20210505,       1114,    27.3188,   -65.5664,       5356,   872.6,   7.8816,  35.0931,2,  35.0961,2,    149.0,2,   149.7,2,   16.38,2,   25.80,2,    0.00,2,    1.60,2,   0.884,2,   0.477,2,   0.3900,2,  2205.4,2, 2315.74,2, -999.000,9,  -999.00,   7.65251,2,    25.01, -999.00,9, -999.00,9, -999.00, -999.00,9,-999.000,9, -999.00,9, -999.00,9,      20.47,2, 20210505,     1258,  27.3187, -65.5665,     7.8820,2,     0.0421,1,     4.6775,1,     -999.0,1,     -999.0,1,     -999.0,9
325020210420,        A22,      55,          1,         20,         20,2,20210505,       1114,    27.3188,   -65.5664,       5356,   973.5,   6.9426,  35.0513,2,  35.0520,2,    167.0,2,   166.8,2,   16.97,2,   24.97,2,    0.00,2,    1.58,2,   0.889,2,   0.467,2,   0.4400,2,  2202.3,2, 2315.44,2, -999.000,9,  -999.00,   7.65919,2,    25.04, -999.00,9, -999.00,9, -999.00, -999.00,9,-999.000,9, -999.00,9, -999.00,9,      19.44,2, 20210505,     1255,  27.3187, -65.5665,     6.9416,2,     0.0412,1,     4.6776,1,     -999.0,1,     -999.0,1,     -999.0,9
325020210420,        A22,      55,          1,         19,         19,2,20210505,       1114,    27.3188,   -65.5664,       5356,  1075.2,   6.2288,  35.0773,2,  35.0785,2,    194.5,2,   196.0,2,   14.82,2,   22.09,2,    0.00,2,    1.39,2,   1.241,2,   0.647,2,   0.4500,2,  -999.0,9, -999.00,9, -999.000,9,  -999.00,-999.00000,9,  -999.00, -999.00,9, -999.00,9, -999.00, -999.00,9,-999.000,9, -999.00,9, -999.00,9,      16.72,2, 20210505,     1252,  27.3187, -65.5665,     6.2336,2,     0.0427,1,     4.6788,1,     -999.0,1,     -999.0,1,     -999.0,9
325020210420,        A22,      55,          1,         18,         18,2,20210505,       1114,    27.3188,   -65.5664,       5356,  1176.2,   5.7360,  35.0879,2,  35.0876,2,    213.7,2,   214.1,2,   14.04,2,   20.57,2,    0.00,2,    1.32,2,-999.000,9,-999.000,9,-999.0000,9,  -999.0,9, -999.00,9, -999.000,9,  -999.00,-999.00000,9,  -999.00, -999.00,9, -999.00,9, -999.00, -999.00,9,-999.000,9, -999.00,9, -999.00,9,     -999.0,9, 20210505,     1249,  27.3187, -65.5665,     5.7295,2,     0.0411,1,     4.6792,1,     -999.0,1,     -999.0,1,     -999.0,9
325020210420,        A22,      55,          1,         17,         17,2,20210505,       1114,    27.3188,   -65.5664,       5356,  1277.4,   5.2977,  35.0908,2,  35.0905,2,    227.6,2,   228.5,2,   13.65,2,   19.56,2,    0.00,2,    1.25,2,   1.478,2,   0.772,2,   0.4800,2,  2181.3,2, 2315.76,2, -999.000,9,  -999.00,   7.71626,2,    24.97, -999.00,9, -999.00,9, -999.00, -999.00,9,-999.000,9, -999.00,9, -999.00,9,      14.23,2, 20210505,     1246,  27.3187, -65.5665,     5.2938,2,     0.0408,1,     4.6799,1,     -999.0,1,     -999.0,1,     -999.0,9
325020210420,        A22,      55,          1,         16,         16,2,20210505,       1114,    27.3188,   -65.5664,       5356,  1379.1,   4.9464,  35.0721,2,  35.0742,2,    237.7,2,   236.9,2,   13.46,2,   19.01,2,    0.00,2,    1.22,2,   1.594,2,   0.816,2,   0.5000,2,  2179.5,2, 2315.43,2, -999.000,9,  -999.00,    7.7208,2,    24.95, -999.00,9, -999.00,9, -999.00, -999.00,9,-999.000,9, -999.00,9, -999.00,9,      14.20,2, 20210505,     1243,  27.3187, -65.5665,     4.9456,2,     0.0430,1,     4.6791,1,     -999.0,1,     -999.0,1,     -999.0,9
325020210420,        A22,      55,          1,         15,         15,2,20210505,       1114,    27.3188,   -65.5664,       5356,  1581.1,   4.4189,  35.0427,2,  35.0429,2,    246.5,2,   246.9,2,   14.43,2,   18.64,2,    0.00,2,    1.20,2,   1.365,2,   0.688,2,   0.4000,2,  2174.8,2, 2314.52,6, -999.000,9,  -999.00,   7.72897,2,    24.97, -999.00,9, -999.00,9, -999.00, -999.00,9,-999.000,9, -999.00,9, -999.00,9,      13.80,2, 20210505,     1238,  27.3187, -65.5665,     4.4199,2,     0.0430,1,     4.6801,1,     -999.0,1,     -999.0,1,     -999.0,9
325020210420,        A22,      55,          1,         14,         14,2,20210505,       1114,    27.3188,   -65.5664,       5356,  1754.1,   4.0258,  35.0174,2,  35.0169,2,    251.6,2,   252.1,2,   15.70,2,   18.55,2,    0.00,2,    1.20,2,-999.000,9,-999.000,9,-999.0000,9,  -999.0,9, -999.00,9, -999.000,9,  -999.00,-999.00000,9,  -999.00, -999.00,9, -999.00,9, -999.00, -999.00,9,-999.000,9, -999.00,9, -999.00,9,     -999.0,9, 20210505,     1234,  27.3187, -65.5665,     4.0267,2,     0.0416,1,     4.6794,1,     -999.0,1,     -999.0,1,     -999.0,9
325020210420,        A22,      55,          1,         13,         13,2,20210505,       1114,    27.3188,   -65.5664,       5356,  1957.0,   3.7039,  34.9987,2,  34.9984,2,    253.3,2,   253.5,2,   18.14,2,   18.72,2,    0.00,2,    1.21,2,-999.000,9,-999.000,9,-999.0000,9,  -999.0,9, -999.00,9, -999.000,9,  -999.00,-999.00000,9,  -999.00, -999.00,9, -999.00,9, -999.00, -999.00,9,-999.000,9, -999.00,9, -999.00,9,     -999.0,9, 20210505,     1229,  27.3187, -65.5665,     3.7018,2,     0.0426,1,     4.6796,1,     -999.0,1,     -999.0,1,     -999.0,9
325020210420,        A22,      55,          1,         12,         12,2,20210505,       1114,    27.3188,   -65.5664,       5356,  2191.2,   3.4390,  34.9853,2,  34.9850,2,    252.5,2,   252.7,2,   21.75,2,   19.08,2,    0.00,2,    1.25,2,-999.000,9,-999.000,9,-999.0000,9,  -999.0,9, -999.00,9, -999.000,9,  -999.00,-999.00000,9,  -999.00, -999.00,9, -999.00,9, -999.00, -999.00,9,-999.000,9, -999.00,9, -999.00,9,     -999.0,9, 20210505,     1224,  27.3187, -65.5665,     3.4378,2,     0.0422,1,     4.6801,1,     -999.0,1,     -999.0,1,     -999.0,9
325020210420,        A22,      55,          1,         11,         11,2,20210505,       1114,    27.3188,   -65.5664,       5356,  2445.6,   3.1819,  34.9659,2,  34.9660,2,    253.1,2,   253.7,2,   24.77,2,   19.36,2,    0.00,2,    1.27,2,-999.000,9,-999.000,9,-999.0000,9,  -999.0,9, -999.00,9, -999.000,9,  -999.00,-999.00000,9,  -999.00, -999.00,9, -999.00,9, -999.00, -999.00,9,-999.000,9, -999.00,9, -999.00,9,     -999.0,9, 20210505,     1218,  27.3187, -65.5665,     3.1841,2,     0.0425,1,     4.6798,1,     -999.0,1,     -999.0,1,     -999.0,9
325020210420,        A22,      55,          1,         10,         10,2,20210505,       1114,    27.3188,   -65.5664,       5356,  2699.9,   2.9711,  34.9489,2,  34.9492,2,    254.3,2,   254.6,2,   26.82,2,   19.48,2,    0.00,2,    1.29,2,   0.268,2,   0.140,2,   0.1500,2,  2193.9,4, 2323.73,2, -999.000,9,  -999.00,   7.74096,2,    25.03, -999.00,9, -999.00,9, -999.00, -999.00,9,-999.000,9, -999.00,9, -999.00,9,      12.80,2, 20210505,     1213,  27.3187, -65.5665,     2.9713,2,     0.0429,1,     4.6790,1,     -999.0,1,     -999.0,1,     -999.0,9
325020210420,        A22,      55,          1,          9,          9,2,20210505,       1114,    27.3188,   -65.5664,       5356,  2954.6,   2.8166,  34.9360,2,  34.9359,2,    256.1,2,   256.1,2,   28.29,2,   19.51,2,    0.00,2,    1.29,2,-999.000,9,-999.000,9,-999.0000,9,  -999.0,9, -999.00,9, -999.000,9,  -999.00,-999.00000,9,  -999.00, -999.00,9, -999.00,9, -999.00, -999.00,9,-999.000,9, -999.00,9, -999.00,9,     -999.0,9, 20210505,     1207,  27.3187, -65.5665,     2.8172,2,     0.0416,1,     4.6789,1,     -999.0,1,     -999.0,1,     -999.0,9
325020210420,        A22,      55,          1,          8,          8,2,20210505,       1114,    27.3188,   -65.5664,       5356,  3246.0,   2.6560,  34.9230,2,  34.9225,2,    257.1,2,   257.3,2,   30.14,2,   19.66,2,    0.00,2,    1.30,2,-999.000,9,-999.000,9,-999.0000,9,  -999.0,9, -999.00,9, -999.000,9,  -999.00,-999.00000,9,  -999.00, -999.00,9, -999.00,9, -999.00, -999.00,9,-999.000,9, -999.00,9, -999.00,9,     -999.0,9, 20210505,     1200,  27.3187, -65.5665,     2.6559,2,     0.0421,1,     4.6790,1,     -999.0,1,     -999.0,1,     -999.0,9
325020210420,        A22,      55,          1,          7,          7,2,20210505,       1114,    27.3188,   -65.5664,       5356,  3553.0,   2.5056,  34.9108,2,  34.9119,2,    262.2,2,   262.4,2,   28.87,2,   19.02,2,    0.00,2,    1.26,2,   0.480,2,   0.247,2,   0.1800,2,  2179.7,2, 2322.04,2, -999.000,9,  -999.00,   7.74042,6,    25.01, -999.00,9, -999.00,9, -999.00, -999.00,9,-999.000,9, -999.00,9, -999.00,9,      13.25,2, 20210505,     1154,  27.3188, -65.5665,     2.5057,2,     0.0425,1,     4.6789,1,     -999.0,1,     -999.0,1,     -999.0,9
325020210420,        A22,      55,          1,          6,          6,2,20210505,       1114,    27.3188,   -65.5664,       5356,  3859.8,   2.3703,  34.8997,2,  34.8997,2,    265.1,2,   265.2,2,   28.97,2,   18.71,2,    0.00,2,    1.24,2,-999.000,9,-999.000,9,-999.0000,9,  -999.0,9, -999.00,9, -999.000,9,  -999.00,-999.00000,9,  -999.00, -999.00,9, -999.00,9, -999.00, -999.00,9,-999.000,9, -999.00,9, -999.00,9,     -999.0,9, 20210505,     1147,  27.3188, -65.5665,     2.3700,2,     0.0423,1,     4.6789,1,     -999.0,1,     -999.0,1,     -999.0,9
325020210420,        A22,      55,          1,          5,          5,2,20210505,       1114,    27.3188,   -65.5664,       5356,  4167.7,   2.3074,  34.8925,2,  34.8924,2,    263.6,2,   263.9,2,   31.99,2,   19.01,2,    0.00,2,    1.27,2,   0.627,2,   0.320,2,   0.2300,2,  -999.0,9, -999.00,9, -999.000,9,  -999.00,-999.00000,9,  -999.00, -999.00,9, -999.00,9, -999.00, -999.00,9,-999.000,9, -999.00,9, -999.00,9,      13.17,2, 20210505,     1141,  27.3188, -65.5665,     2.3074,2,     0.0427,1,     4.6789,1,     -999.0,1,     -999.0,1,     -999.0,9
325020210420,        A22,      55,          1,          4,          4,2,20210505,       1114,    27.3188,   -65.5664,       5356,  4475.5,   2.2662,  34.8857,2,  34.8853,2,    261.4,2,   261.7,2,   35.41,2,   19.57,2,    0.00,2,    1.31,2,-999.000,9,-999.000,9,-999.0000,9,  -999.0,9, -999.00,9, -999.000,9,  -999.00,-999.00000,9,  -999.00, -999.00,9, -999.00,9, -999.00, -999.00,9,-999.000,9, -999.00,9, -999.00,9,     -999.0,9, 20210505,     1135,  27.3188, -65.5665,     2.2665,2,     0.0428,1,     4.6787,1,     -999.0,1,     -999.0,1,     -999.0,9
325020210420,        A22,      55,          1,          3,          3,2,20210505,       1114,    27.3188,   -65.5664,       5356,  4783.6,   2.2101,  34.8754,2,  34.8755,2,    258.0,2,   258.4,2,   40.19,2,   20.35,2,    0.00,2,    1.36,2,   0.475,2,   0.251,2,   0.2100,2,  2193.8,2, 2332.92,2, -999.000,9,  -999.00,   7.72845,2,    25.03, -999.00,9, -999.00,9, -999.00, -999.00,9,-999.000,9, -999.00,9, -999.00,9,      13.78,2, 20210505,     1128,  27.3188, -65.5665,     2.2102,2,     0.0429,1,     4.6772,1,     -999.0,1,     -999.0,1,     -999.0,9