BOTTLE,20230513CCHSIOCBG
EXPOCODE,SECT_ID,STNNBR,CASTNO,SAMPNO,BTLNBR,BTLNBR_FLAG_W,DATE,TIME,LATITUDE,LONGITUDE,DEPTH,CTDPRS,CTDTMP,CTDSAL,CTDSAL_FLAG_W,SALNTY,SALNTY_FLAG_W,CTDOXY,CTDOXY_FLAG_W,OXYGEN,OXYGEN_FLAG_W,SILCAT,SILCAT_FLAG_W,NITRAT,NITRAT_FLAG_W,NITRIT,NITRIT_FLAG_W,PHSPHT,PHSPHT_FLAG_W,CFC-11,CFC-11_FLAG_W,CFC-12,CFC-12_FLAG_W,SF6,SF6_FLAG_W,TCARBN,TCARBN_FLAG_W,ALKALI,ALKALI_FLAG_W,FCO2,FCO2_FLAG_W,FCO2TMP,PH_TOT,PH_TOT_FLAG_W,PH_TMP,DELC13,DELC13_FLAG_W,DELC14,DELC14_FLAG_W,C14ERR,DELO18,DELO18_FLAG_W,POC,POC_FLAG_W,DOC,DOC_FLAG_W,TDN,TDN_FLAG_W,N2O,N2O_FLAG_W,BTL_DATE,BTL_TIME,BTL_LAT,BTL_LON,REFTMP,REFTMP_FLAG_W,CTDFLUOR,CTDFLUOR_FLAG_W,CTDXMISS,CTDXMISS_FLAG_W,D15N_NO2+NO3,D15N_NO2+NO3_FLAG_W,D18O_NO2+NO3,D18O_NO2+NO3_FLAG_W,HPLC,HPLC_FLAG_W
,,,,,,,,,,,METERS,DBAR,ITS-90,PSS-78,,PSS-78,,UMOL/KG,,UMOL/KG,,UMOL/KG,,UMOL/KG,,UMOL/KG,,UMOL/KG,,PMOL/KG,,PMOL/KG,,FMOL/KG,,UMOL/KG,,UMOL/KG,,UATM,,DEG C,,,DEG C,/MILLE,,/MILLE,,/MILLE,/MILLE,,UG/KG,,UMOL/KG,,UMOL/KG,,NMOL/KG,,,,,,ITS-90,,VOLTS,,VOLTS,,/MILLE,,/MILLE,,,
325020210420,        A22,      54,          1,         36,         36,2,20210505,       0420,    26.8199,   -65.6005,       5462,     5.0,  24.9399,  36.9111,2,  36.9205,2,    209.1,2,   209.4,2,    0.68,2,    0.00,2,    0.00,2,    0.00,2,   1.629,2,   1.043,2,   1.8000,2,  2074.8,6, 2411.66,2,  314.260,2,    20.00,   8.07448,2,    25.06,    0.78,2,   29.91,2,    2.90, -999.00,1,-999.000,9,   70.60,2,    4.08,2,       6.31,2, 20210505,      640,  26.8199, -65.6005,    24.9416,2,     0.0419,1,     4.6219,1,     -999.0,9,     -999.0,9,     -999.0,9
325020210420,        A22,      54,          1,         35,         35,2,20210505,       0420,    26.8199,   -65.6005,       5462,    35.7,  23.4758,  36.9740,2,  36.9695,2,    214.0,2,   214.0,2,    0.78,2,    0.00,2,    0.00,2,    0.00,2,-999.000,9,-999.000,9,-999.0000,9,  2079.9,2, 2414.39,2,  316.430,2,    20.00,   8.07235,6,    25.05, -999.00,9, -999.00,9, -999.00, -999.00,9,-999.000,9,   70.20,2,    3.70,2,     -999.0,9, 20210505,      640,  26.8199, -65.6005,    23.4760,2,     0.0426,1,     4.6288,1,     -999.0,9,     -999.0,9,     -999.0,9
325020210420,        A22,      54,          1,         34,         34,2,20210505,       0420,    26.8199,   -65.6005,       5462,    60.4,  22.7088,  36.9442,2,  36.9384,2,    214.2,2,   213.2,2,    0.49,2,    0.00,2,    0.00,2,    0.00,2,   1.757,2,   1.111,2,   1.8800,2,  2087.2,2, 2411.42,6,  328.850,2,    20.00,   8.05843,2,    25.03, -999.00,9, -999.00,9, -999.00, -999.00,9,-999.000,9,   64.80,2,    3.71,2,       6.66,2, 20210505,      638,  26.8199, -65.6005,    22.7156,2,     0.0448,1,     4.6292,1,     -999.0,9,     -999.0,9,     -999.0,9
325020210420,        A22,      54,          1,         33,         33,2,20210505,       0420,    26.8199,   -65.6005,       5462,    85.8,  21.9798,  36.9036,2,  36.8986,2,    212.7,2,   212.3,2,    0.58,2,    0.00,2,    0.00,2,    0.00,2,   1.763,2,   1.132,2,   1.8500,2,  2092.4,2, 2410.69,2,  339.810,2,    20.00,   8.04646,2,    25.03,    0.70,2,   40.36,2,    2.05, -999.00,9,-999.000,9,   62.80,2,    3.81,2,       6.54,2, 20210505,      636,  26.8199, -65.6005,    21.9737,2,     0.0520,1,     4.6315,1,     -999.0,9,     -999.0,9,     -999.0,9
325020210420,        A22,      54,          1,         32,         32,2,20210505,       0420,    26.8199,   -65.6005,       5462,   116.3,  21.1622,  36.8411,2,  36.8385,2,    217.8,2,   218.0,2,    0.49,2,    0.00,2,    0.00,2,    0.00,2,-999.000,9,-999.000,9,-999.0000,9,  2093.9,2, 2407.11,2,  346.810,2,    20.00,    8.0391,2,    24.98,    0.70,2,   34.46,2,    2.05, -999.00,9,-999.000,9,   52.40,2,    4.48,2,     -999.0,9, 20210505,      634,  26.8199, -65.6005,    21.1622,2,     0.0716,1,     4.6269,1,     -999.0,9,     -999.0,9,     -999.0,9
325020210420,        A22,      54,          1,         31,         31,2,20210505,       0420,    26.8199,   -65.6005,       5462,   166.9,  19.9028,  36.7108,2,  36.7090,2,    193.5,2,   193.8,2,    0.58,2,    1.52,2,    0.00,2,    0.00,2,   1.967,2,   1.234,2,   1.9400,2,  2119.2,2, 2400.36,2,  398.150,2,    20.00,   7.98607,2,    24.96,    0.43,2,   47.58,2,    2.18, -999.00,1,-999.000,9,   50.70,2,    5.64,2,       7.66,2, 20210505,      632,  26.8199, -65.6005,    19.9066,2,     0.0500,1,     4.6571,1,     -999.0,9,     -999.0,9,     -999.0,9
325020210420,        A22,      54,          1,         30,         30,2,20210505,       0420,    26.8199,   -65.6005,       5462,   216.9,  19.3498,  36.6629,2,  36.6610,2,    199.9,2,   200.6,2,    0.68,2,    2.38,2,    0.00,2,    0.02,2,-999.000,9,-999.000,9,-999.0000,9,  2113.9,2, 2394.09,2,  397.480,2,    20.00,   7.98776,2,    24.96,    0.38,2,   40.80,2,    2.15, -999.00,9,-999.000,9, -999.00,1, -999.00,1,     -999.0,9, 20210505,      630,  26.8199, -65.6005,    19.3504,2,     0.0391,1,     4.6658,1,     -999.0,9,     -999.0,9,     -999.0,9
325020210420,        A22,      54,          1,         29,         29,2,20210505,       0420,    26.8199,   -65.6005,       5462,   267.4,  18.9949,  36.6328,2,  36.6302,2,    201.9,2,   202.5,2,    0.97,2,    2.90,2,    0.00,2,    0.05,2,   2.035,2,   1.273,2,   1.8600,2,  2117.0,2, 2394.44,2,  403.830,2,    20.00,   7.98162,2,    25.02,    0.40,2,   39.61,2,    2.14, -999.00,9,-999.000,9,   49.90,2, -999.00,1,       7.94,2, 20210505,      627,  26.8199, -65.6005,    18.9947,2,     0.0399,1,     4.6675,1,     -999.0,9,     -999.0,9,     -999.0,9
325020210420,        A22,      54,          1,         28,         28,2,20210505,       0420,    26.8199,   -65.6005,       5462,   317.6,  18.6265,  36.5879,2,  36.5840,2,    196.7,2,   196.6,2,    1.17,2,    3.98,2,    0.00,2,    0.11,2,-999.000,9,-999.000,9,-999.0000,9,  2121.4,2, 2394.13,2,  421.320,2,    20.00,   7.96535,2,    25.04,    0.34,2,   49.38,2,    2.16, -999.00,9,-999.000,9,   48.00,2, -999.00,1,     -999.0,9, 20210505,      624,  26.8199, -65.6005,    18.6255,2,     0.0400,1,     4.6691,1,     -999.0,9,     -999.0,9,     -999.0,9
325020210420,        A22,      54,          1,         27,         27,2,20210505,       0420,    26.8199,   -65.6005,       5462,   367.9,  18.2753,  36.5381,2,  36.5359,2,    189.2,2,   189.1,2,    1.56,2,    5.14,2,    0.00,2,    0.17,2,   2.105,2,   1.320,2,   1.6100,2,  2129.3,2,  2389.1,2,  443.550,2,    20.00,   7.94614,2,    25.05,    0.37,2,   52.21,2,    2.19, -999.00,9,-999.000,9,   49.30,2, -999.00,1,       8.74,2, 20210505,      623,  26.8199, -65.6005,    18.2794,2,     0.0391,1,     4.6688,1,     -999.0,9,     -999.0,9,     -999.0,9
325020210420,        A22,      54,          1,         26,         26,2,20210505,       0420,    26.8199,   -65.6005,       5462,   438.5,  17.1442,  36.3561,2,  36.3515,2,    178.4,2,   178.6,2,    2.53,2,    7.89,2,    0.00,2,    0.34,2,   2.232,2,   1.361,2,   1.4900,2,  2140.0,2, 2379.98,2,  490.240,2,    20.00,   7.90665,2,    25.06,    0.36,2,   57.08,2,    2.21, -999.00,9,-999.000,9,   46.30,2, -999.00,1,      10.39,2, 20210505,      620,  26.8199, -65.6005,    17.1447,2,     0.0392,1,     4.6717,1,     -999.0,9,     -999.0,9,     -999.0,9
325020210420,        A22,      54,          1,         25,         25,2,20210505,       0420,    26.8199,   -65.6005,       5462,   538.9,  15.3070,  36.0479,2,  36.0412,2,    170.4,2,   170.1,2,    4.00,2,   11.72,2,    0.00,2,    0.58,2,-999.000,9,-999.000,9,-999.0000,9,  2152.2,2, 2358.84,2,  563.500,2,    20.00,     7.851,2,    25.06,    0.40,2,   52.14,2,    2.11, -999.00,1,-999.000,9,   45.90,2, -999.00,1,     -999.0,9, 20210505,      616,  26.8199, -65.6005,    15.3082,2,     0.0407,1,     4.6726,1,     -999.0,9,     -999.0,9,     -999.0,9
325020210420,        A22,      54,          1,         24,         24,2,20210505,       0420,    26.8199,   -65.6005,       5462,   639.9,  12.8609,  35.6820,3,  35.6640,2,    155.4,2,   155.5,2,    7.31,2,   17.25,2,    0.00,2,    0.96,2,   1.988,2,   1.152,2,   0.9500,2,  2170.4,2, 2338.64,2,  686.570,2,    20.00,   7.77104,6,    25.05,    0.46,2,   25.53,2,    2.03, -999.00,9,-999.000,9,   45.50,2, -999.00,1,      16.77,2, 20210505,      614,  26.8199, -65.6005,    12.8703,2,     0.0404,1,     4.6752,1,     -999.0,9,     -999.0,9,     -999.0,9
325020210420,        A22,      54,          1,         23,         23,2,20210505,       0420,    26.8199,   -65.6005,       5462,   741.0,  10.4931,  35.3763,2,  35.3671,2,    142.4,2,   142.5,2,   11.51,2,   22.46,2,    0.00,2,    1.31,2,   1.414,2,   0.773,2,   0.4400,2,  2188.7,6,  2326.4,2,  812.090,2,    20.00,   7.70029,2,    25.05,    0.51,2,   -3.14,2,    1.97, -999.00,9,-999.000,9,   44.20,2, -999.00,1,      19.62,2, 20210505,      610,  26.8199, -65.6005,    10.4923,2,     0.0407,1,     4.6776,1,     -999.0,9,     -999.0,9,     -999.0,9
325020210420,        A22,      54,          1,         22,         22,2,20210505,       0420,    26.8199,   -65.6005,       5462,   842.6,   8.5678,  35.1492,2,  35.1475,2,    142.6,2,   143.0,2,   15.61,2,   25.46,2,    0.00,2,    1.54,2,-999.000,9,-999.000,9,-999.0000,9,  2195.3,2, 2319.32,2,  896.430,2,    20.00,   7.65737,2,    24.98,    0.63,6,  -37.02,6,    2.41, -999.00,9,-999.000,9,   42.80,2, -999.00,1,     -999.0,9, 20210505,      606,  26.8199, -65.6005,     8.5679,2,     0.0421,1,     4.6786,1,     -999.0,9,     -999.0,9,     -999.0,9
325020210420,        A22,      54,          1,         21,         21,2,20210505,       0420,    26.8199,   -65.6005,       5462,   942.9,   7.1980,  35.0548,2,  35.0543,2,    159.7,2,   159.9,2,   17.17,2,   25.36,2,    0.00,2,    1.57,2,   0.843,2,   0.445,2,   0.4100,2,  2195.5,2, 2317.88,2,  903.800,2,    20.00,   7.65427,6,    24.98, -999.00,9, -999.00,9, -999.00, -999.00,9,-999.000,9,   42.10,2, -999.00,1,      19.64,2, 20210505,      603,  26.8199, -65.6005,     7.1936,2,     0.0425,1,     4.6788,1,     -999.0,9,     -999.0,9,     -999.0,9
325020210420,        A22,      54,          1,         20,         20,2,20210505,       0420,    26.8199,   -65.6005,       5462,  1045.3,   6.4267,  35.0610,2,  35.0612,2,    185.4,2,   185.5,2,   15.90,2,   23.03,2,    0.00,2,    1.44,2,   1.077,2,   0.569,2,   0.3800,2,  2185.3,2, 2315.88,6,  854.430,2,    20.00,   7.67694,2,    25.00,    0.70,2,  -48.14,2,    2.10, -999.00,9,-999.000,9,   42.70,2, -999.00,1,      17.73,2, 20210505,      600,  26.8199, -65.6005,     6.4254,2,     0.0420,1,     4.6789,1,     -999.0,9,     -999.0,9,     -999.0,9
325020210420,        A22,      54,          1,         19,         19,2,20210505,       0420,    26.8199,   -65.6005,       5462,  1145.7,   5.8055,  35.0720,2,  35.0709,2,    208.8,2,   209.1,2,   14.44,2,   20.94,2,    0.00,2,    1.32,2,   1.333,2,   0.688,2,   0.4800,2,  2179.9,2, 2315.39,2,  809.380,2,    20.00,   7.69692,2,    25.05, -999.00,9, -999.00,9, -999.00, -999.00,9,-999.000,9,   43.20,2, -999.00,1,      15.95,2, 20210505,      557,  26.8199, -65.6005,     5.8044,2,     0.0419,1,     4.6788,1,     -999.0,9,     -999.0,9,     -999.0,9
325020210420,        A22,      54,          1,         18,         18,2,20210505,       0420,    26.8199,   -65.6005,       5462,  1246.8,   5.2490,  35.0676,2,  35.0677,2,    228.9,2,   229.5,2,   13.17,2,   19.38,2,    0.00,2,    1.22,2,-999.000,9,-999.000,9,-999.0000,9,  2174.5,2, 2316.21,2,  781.020,2,    20.00,   7.71247,2,    25.04,    0.84,2,  -39.52,2,    2.00, -999.00,9,-999.000,9,   43.00,2, -999.00,1,     -999.0,9, 20210505,      554,  26.8199, -65.6005,     5.2484,2,     0.0425,1,     4.6798,1,     -999.0,9,     -999.0,9,     -999.0,9
325020210420,        A22,      54,          1,         17,         17,2,20210505,       0420,    26.8199,   -65.6005,       5462,  1348.4,   4.9523,  35.0643,2,  35.0638,2,    237.6,2,   237.9,2,   13.07,2,   18.83,2,    0.00,2,    1.19,2,   1.683,2,   0.869,2,   0.4700,2,  2171.9,2, 2315.22,2,  767.310,2,    20.00,   7.71996,2,    25.07, -999.00,9, -999.00,9, -999.00, -999.00,9,-999.000,9,   42.80,2, -999.00,1,      14.09,2, 20210505,      551,  26.8199, -65.6005,     4.9518,2,     0.0421,1,     4.6795,1,     -999.0,9,     -999.0,9,     -999.0,9
325020210420,        A22,      54,          1,         16,         16,2,20210505,       0420,    26.8199,   -65.6005,       5462,  1479.7,   4.5628,  35.0398,2,  35.0392,2,    246.7,2,   247.0,2,   13.17,2,   18.36,2,    0.00,2,    1.16,2,   1.839,2,   0.942,2,   0.5000,2,  2168.9,2,  2311.7,2,  761.155,6,    20.00,   7.72226,2,    25.00,    0.86,2,  -36.79,2,    1.90, -999.00,9,-999.000,9,   44.90,2, -999.00,1,      13.77,2, 20210505,      547,  26.8199, -65.6005,     4.5684,2,     0.0430,1,     4.6790,1,     -999.0,9,     -999.0,9,     -999.0,9
325020210420,        A22,      54,          1,         15,         15,2,20210505,       0420,    26.8199,   -65.6005,       5462,  1683.0,   4.1895,  35.0308,2,  35.0309,2,    249.1,2,   249.3,2,   15.32,2,   18.54,2,    0.00,2,    1.18,2,-999.000,9,-999.000,9,-999.0000,9,  2168.4,2, 2315.95,2,  741.860,2,    20.00,   7.73186,2,    24.98, -999.00,9, -999.00,9, -999.00, -999.00,9,-999.000,9,   43.90,2, -999.00,1,     -999.0,9, 20210505,      543,  26.8199, -65.6005,     4.1909,2,     0.0418,1,     4.6801,1,     -999.0,9,     -999.0,9,     -999.0,9
325020210420,        A22,      54,          1,         14,         14,2,20210505,       0420,    26.8199,   -65.6005,       5462,  1886.1,   3.8628,  35.0100,2,  35.0110,2,    252.1,2,   252.4,2,   17.17,2,   18.57,2,    0.00,2,    1.19,2,   0.849,2,   0.424,2,   0.1500,2,  2166.9,2,  2318.1,2,  737.000,2,    20.00,    7.7365,2,    25.00, -999.00,9, -999.00,9, -999.00, -999.00,9,-999.000,9,   42.80,2, -999.00,1,      13.24,2, 20210505,      539,  26.8199, -65.6005,     3.8622,2,     0.0425,1,     4.6801,1,     -999.0,9,     -999.0,9,     -999.0,9
325020210420,        A22,      54,          1,         13,         13,2,20210505,       0420,    26.8199,   -65.6005,       5462,  2109.3,   3.5367,  34.9912,2,  34.9915,2,    252.8,2,   253.0,2,   20.39,2,   18.83,2,    0.00,2,    1.22,2,-999.000,9,-999.000,9,-999.0000,9,  2170.7,2, 2320.13,2,  731.590,2,    20.00,   7.73955,2,    25.05, -999.00,9, -999.00,9, -999.00, -999.00,9,-999.000,9,   43.00,2, -999.00,1,     -999.0,9, 20210505,      534,  26.8199, -65.6005,     3.5375,2,     0.0429,1,     4.6801,1,     -999.0,9,     -999.0,9,     -999.0,9
325020210420,        A22,      54,          1,         12,         12,2,20210505,       0420,    26.8199,   -65.6005,       5462,  2364.0,   3.2684,  34.9726,2,  34.9762,3,    253.0,2,   253.4,2,   23.51,2,   19.15,2,    0.00,2,    1.24,2,   0.339,2,   0.176,2,   0.1800,2,  2173.4,2, 2324.25,2,  730.950,2,    20.00,   7.74035,2,    25.04, -999.00,9, -999.00,9, -999.00, -999.00,9,-999.000,9,   42.50,2, -999.00,1,      13.14,2, 20210505,      528,  26.8199, -65.6005,     3.2687,2,     0.0435,1,     4.6799,1,     -999.0,9,     -999.0,9,     -999.0,9
325020210420,        A22,      54,          1,         11,         11,2,20210505,       0420,    26.8199,   -65.6005,       5462,  2618.4,   3.0442,  34.9548,2,  34.9549,2,    253.8,2,   254.2,2,   26.25,2,   19.35,2,    0.00,2,    1.27,2,   0.265,2,   0.141,2,   0.0000,2,  2175.5,6,  2323.7,2,  730.160,2,    20.00,   7.74095,2,    25.01, -999.00,9, -999.00,9, -999.00, -999.00,9,-999.000,9,   41.80,2, -999.00,1,      13.10,2, 20210505,      523,  26.8199, -65.6005,     3.0424,2,     0.0424,1,     4.6796,1,     -999.0,9,     -999.0,9,     -999.0,9
325020210420,        A22,      54,          1,         10,         10,2,20210505,       0420,    26.8199,   -65.6005,       5462,  2873.6,   2.8368,  34.9374,2,  34.9370,2,    256.4,2,   256.8,2,   27.51,2,   19.28,2,    0.00,2,    1.26,2,-999.000,9,-999.000,9,-999.0000,9,  2174.4,2, 2325.47,2,  729.370,2,    20.00,   7.74176,2,    25.03, -999.00,9, -999.00,9, -999.00, -999.00,9,-999.000,9,   42.00,2, -999.00,1,     -999.0,9, 20210505,      517,  26.8199, -65.6005,     2.8388,2,     0.0427,1,     4.6790,1,     -999.0,9,     -999.0,9,     -999.0,9
325020210420,        A22,      54,          1,          9,          9,2,20210505,       0420,    26.8199,   -65.6005,       5462,  3143.2,   2.6949,  34.9254,2,  34.9250,2,    259.9,2,   260.2,2,   27.52,2,   19.04,2,    0.00,2,    1.25,2,   0.459,6,   0.236,6,   0.1400,6,  2176.1,2,  2325.6,2,  729.000,2,    20.00,   7.74097,6,    25.03, -999.00,9, -999.00,9, -999.00, -999.00,9,-999.000,9,   42.60,2, -999.00,1,      13.14,6, 20210505,      510,  26.8199, -65.6005,     2.6949,2,     0.0426,1,     4.6791,1,     -999.0,9,     -999.0,9,     -999.0,9
325020210420,        A22,      54,          1,          8,          8,2,20210505,       0420,    26.8199,   -65.6005,       5462,  3450.0,   2.5155,  34.9116,2,  34.9122,2,    264.1,2,   264.4,2,   27.13,2,   18.59,2,    0.00,2,    1.23,2,   0.632,2,   0.320,2,   0.2200,2,  2173.6,2,  2320.4,2,  730.420,2,    20.00,   7.73963,2,    25.02, -999.00,9, -999.00,9, -999.00, -999.00,9,-999.000,9,   42.20,2, -999.00,1,      13.24,2, 20210505,      505,  26.8199, -65.6005,     2.5154,2,     0.0429,1,     4.6789,1,     -999.0,9,     -999.0,9,     -999.0,9
325020210420,        A22,      54,          1,          7,          7,2,20210505,       0420,    26.8199,   -65.6005,       5462,  3758.1,   2.3682,  34.9005,2,  34.9006,2,    265.7,2,   265.9,2,   28.30,2,   18.52,2,    0.00,2,    1.23,2,-999.000,9,-999.000,9,-999.0000,9,  2174.1,2, 2321.91,2,  734.840,2,    20.00,   7.73767,2,    25.03, -999.00,9, -999.00,9, -999.00, -999.00,9,-999.000,9,   44.20,2, -999.00,1,     -999.0,9, 20210505,      459,  26.8199, -65.6005,     2.3683,2,     0.0430,1,     4.6789,1,     -999.0,9,     -999.0,9,     -999.0,9
325020210420,        A22,      54,          1,          6,          6,2,20210505,       0420,    26.8199,   -65.6005,       5462,  4065.2,   2.3057,  34.8936,2,  34.8938,2,    264.7,2,   265.0,2,   30.83,2,   18.82,2,    0.00,2,    1.26,2,   0.656,2,   0.337,2,   0.1300,2,  2178.1,2,  2324.6,2,  738.860,2,    20.00,    7.7363,2,    25.03, -999.00,9, -999.00,9, -999.00, -999.00,9,-999.000,9,   42.20,2, -999.00,1,      13.23,2, 20210505,      452,  26.8199, -65.6005,     2.3058,2,     0.0429,1,     4.6789,1,     -999.0,9,     -999.0,9,     -999.0,9
325020210420,        A22,      54,          1,          5,          5,2,20210505,       0420,    26.8199,   -65.6005,       5462,  4373.4,   2.2402,  34.8843,2,  34.8843,2,    261.7,2,   261.7,2,   35.61,2,   19.51,2,    0.00,2,    1.31,2,   0.559,2,   0.297,2,   0.1300,2,  2183.8,2,  2328.0,2,  746.390,2,    20.00,   7.73302,2,    25.03, -999.00,9, -999.00,9, -999.00, -999.00,9,-999.000,9,   42.80,2, -999.00,1,      13.38,2, 20210505,      446,  26.8199, -65.6005,     2.2407,2,     0.0428,1,     4.6789,1,     -999.0,9,     -999.0,9,     -999.0,9
325020210420,        A22,      54,          1,          4,          4,2,20210505,       0420,    26.8199,   -65.6005,       5462,  4681.3,   2.1772,  34.8733,2,  34.8733,2,    257.5,2,   257.8,2,   41.66,2,   20.41,2,    0.00,2,    1.37,2,   0.442,2,   0.236,2,   0.1000,2,  2185.0,2, 2336.28,2, -999.000,9,  -999.00,   7.72787,2,    24.93, -999.00,9, -999.00,9, -999.00, -999.00,9,-999.000,9,   42.00,2, -999.00,1,      13.63,2, 20210505,      439,  26.8199, -65.6005,     2.1760,2,     0.0424,1,     4.6777,1,     -999.0,9,     -999.0,9,     -999.0,9
325020210420,        A22,      54,          1,          3,          3,2,20210505,       0420,    26.8199,   -65.6005,       5462,  4990.4,   2.1614,  34.8667,2,  34.8670,2,    254.9,2,   255.3,2,   45.28,2,   21.02,2,    0.00,2,    1.41,2,-999.000,9,-999.000,9,-999.0000,9,  2191.7,2, 2336.15,2,  762.190,2,    20.00,   7.72511,6,    24.93, -999.00,9, -999.00,9, -999.00, -999.00,9,-999.000,9,   41.50,2, -999.00,1,     -999.0,9, 20210505,      433,  26.8199, -65.6005,     2.1614,2,     0.0435,1,     4.6764,1,     -999.0,9,     -999.0,9,     -999.0,9