BOTTLE,20230513CCHSIOCBG
EXPOCODE,SECT_ID,STNNBR,CASTNO,SAMPNO,BTLNBR,BTLNBR_FLAG_W,DATE,TIME,LATITUDE,LONGITUDE,DEPTH,CTDPRS,CTDTMP,CTDSAL,CTDSAL_FLAG_W,SALNTY,SALNTY_FLAG_W,CTDOXY,CTDOXY_FLAG_W,OXYGEN,OXYGEN_FLAG_W,SILCAT,SILCAT_FLAG_W,NITRAT,NITRAT_FLAG_W,NITRIT,NITRIT_FLAG_W,PHSPHT,PHSPHT_FLAG_W,CFC-11,CFC-11_FLAG_W,CFC-12,CFC-12_FLAG_W,SF6,SF6_FLAG_W,TCARBN,TCARBN_FLAG_W,ALKALI,ALKALI_FLAG_W,FCO2,FCO2_FLAG_W,FCO2TMP,PH_TOT,PH_TOT_FLAG_W,PH_TMP,DELC13,DELC13_FLAG_W,DELC14,DELC14_FLAG_W,C14ERR,DELO18,DELO18_FLAG_W,POC,POC_FLAG_W,DOC,DOC_FLAG_W,TDN,TDN_FLAG_W,N2O,N2O_FLAG_W,BTL_DATE,BTL_TIME,BTL_LAT,BTL_LON,REFTMP,REFTMP_FLAG_W,CTDFLUOR,CTDFLUOR_FLAG_W,CTDXMISS,CTDXMISS_FLAG_W,D15N_NO2+NO3,D15N_NO2+NO3_FLAG_W,D18O_NO2+NO3,D18O_NO2+NO3_FLAG_W,HPLC,HPLC_FLAG_W
,,,,,,,,,,,METERS,DBAR,ITS-90,PSS-78,,PSS-78,,UMOL/KG,,UMOL/KG,,UMOL/KG,,UMOL/KG,,UMOL/KG,,UMOL/KG,,PMOL/KG,,PMOL/KG,,FMOL/KG,,UMOL/KG,,UMOL/KG,,UATM,,DEG C,,,DEG C,/MILLE,,/MILLE,,/MILLE,/MILLE,,UG/KG,,UMOL/KG,,UMOL/KG,,NMOL/KG,,,,,,ITS-90,,VOLTS,,VOLTS,,/MILLE,,/MILLE,,,
325020210420,        A22,      72,          1,         36,         36,2,20210510,       0845,    35.7129,   -67.1668,       5101,     4.4,  20.2638,  36.7321,2,  36.7340,2,    224.3,2,   224.0,2,    0.88,2,    0.04,2,    0.00,2,    0.00,2,   1.921,2,   1.204,2,   1.9000,2,  2096.9,6, 2401.97,2,  352.430,2,    20.00,   8.02959,2,    25.03,    0.63,2,   37.70,2,    2.08, -999.00,1,-999.000,9,   62.40,2,    3.35,2,       7.04,2, 20210510,     1105,  35.7129, -67.1668,    20.2638,2,     0.0498,1,     4.5900,1,     -999.0,9,     -999.0,9,     -999.0,9
325020210420,        A22,      72,          1,         35,         35,2,20210510,       0845,    35.7129,   -67.1668,       5101,    34.9,  20.2444,  36.7343,2,  36.7345,2,    224.5,2,   224.1,2,    0.68,2,    0.00,2,    0.00,2,    0.00,2,   1.916,2,   1.191,2,   1.9500,2,  2098.1,2, 2400.74,2,  354.350,2,    20.00,   8.02842,6,    25.02, -999.00,9, -999.00,9, -999.00, -999.00,9,-999.000,9,   61.90,2,    3.61,2,       7.00,2, 20210510,     1102,  35.7129, -67.1667,    20.2451,2,     0.0512,1,     4.5950,1,     -999.0,9,     -999.0,9,     -999.0,9
325020210420,        A22,      72,          1,         34,         34,2,20210510,       0845,    35.7129,   -67.1668,       5101,    61.0,  20.2205,  36.7366,2,  36.7379,2,    224.5,2,   224.2,2,    0.78,2,    0.00,2,    0.00,2,    0.00,2,-999.000,9,-999.000,9,-999.0000,9,  2097.8,2, 2399.32,2,  356.400,2,    20.00,   8.02658,2,    25.03, -999.00,9, -999.00,9, -999.00, -999.00,9,-999.000,9,   61.40,2,    3.59,2,     -999.0,9, 20210510,     1101,  35.7129, -67.1668,    20.2198,2,     0.0518,1,     4.5998,1,     -999.0,9,     -999.0,9,     -999.0,9
325020210420,        A22,      72,          1,         33,         33,2,20210510,       0845,    35.7129,   -67.1668,       5101,    84.4,  20.1161,  36.7502,2,  36.7514,2,    224.0,2,   223.7,2,    0.78,2,    0.00,2,    0.00,2,    0.00,2,   1.930,2,   1.211,2,   1.9100,2,  2099.8,2, 2401.17,6,  359.130,2,    20.00,   8.02523,2,    25.02, -999.00,9, -999.00,9, -999.00, -999.00,1,-999.000,9,   60.10,2,    3.44,2,       6.80,2, 20210510,     1059,  35.7129, -67.1668,    20.1129,2,     0.0718,1,     4.5935,1,     -999.0,9,     -999.0,9,     -999.0,9
325020210420,        A22,      72,          1,         32,         32,2,20210510,       0845,    35.7129,   -67.1668,       5101,   116.9,  19.8390,  36.7423,2,  36.7435,2,    218.2,2,   218.2,2,    0.78,2,    0.35,2,    0.09,2,    0.00,2,-999.000,9,-999.000,9,-999.0000,9,  2105.8,2, 2400.96,2,  369.430,2,    20.00,   8.01297,6,    25.01,    0.59,2,   40.64,2,    2.14, -999.00,9,-999.000,9,   57.40,2,    4.11,2,     -999.0,9, 20210510,     1058,  35.7129, -67.1668,    19.8412,2,     0.0906,1,     4.6098,1,     -999.0,9,     -999.0,9,     -999.0,9
325020210420,        A22,      72,          1,         31,         31,2,20210510,       0845,    35.7129,   -67.1668,       5101,   166.5,  19.5383,  36.7070,2,  36.7072,2,    215.4,2,   215.4,2,    0.88,2,    0.94,2,    0.08,2,    0.00,2,   1.972,2,   1.237,2,   1.9500,2,  2107.7,2, 2399.59,2, -999.000,5,  -999.00,   8.00696,2,    25.02,    0.56,2,   42.59,2,    2.03, -999.00,9,-999.000,9,   54.70,2,    4.50,2,       7.48,2, 20210510,     1056,  35.7129, -67.1668,    19.5355,2,     0.0572,1,     4.6446,1,     -999.0,9,     -999.0,9,     -999.0,9
325020210420,        A22,      72,          1,         30,         30,2,20210510,       0845,    35.7129,   -67.1668,       5101,   216.4,  19.2871,  36.6879,2,  36.6889,2,    215.1,2,   214.9,2,    0.97,2,    1.40,2,    0.00,2,    0.00,2,-999.000,9,-999.000,9,-999.0000,9,  2110.5,2, 2397.85,2, -999.000,5,  -999.00,   8.00179,2,    25.02,    0.53,2,   42.48,2,    2.26, -999.00,9,-999.000,9,   54.90,2,    4.51,2,     -999.0,9, 20210510,     1054,  35.7129, -67.1668,    19.2857,2,     0.0426,1,     4.6526,1,     -999.0,9,     -999.0,9,     -999.0,9
325020210420,        A22,      72,          1,         29,         29,2,20210510,       0845,    35.7129,   -67.1668,       5101,   267.2,  19.1630,  36.6749,2,  36.6752,2,    214.8,2,   214.3,2,    1.07,2,    1.67,2,    0.00,2,    0.03,2,   1.983,2,   1.249,2,   1.9900,2,  2110.3,2, 2394.44,2,  384.700,2,    20.00,   7.99802,2,    25.02,    0.52,2,   43.73,2,    2.22, -999.00,9,-999.000,9,   52.90,2, -999.00,1,       7.57,2, 20210510,     1052,  35.7129, -67.1668,    19.1624,2,     0.0410,1,     4.6548,1,     -999.0,9,     -999.0,9,     -999.0,9
325020210420,        A22,      72,          1,         28,         28,2,20210510,       0845,    35.7129,   -67.1668,       5101,   318.0,  18.9767,  36.6444,2,  36.6453,2,    207.0,2,   207.3,2,    1.27,2,    2.59,2,    0.00,2,    0.07,2,   2.011,2,   1.251,2,   1.7900,2,  2116.5,2, 2392.55,2,  397.690,2,    20.00,   7.98554,2,    25.03,    0.49,2,   44.18,2,    2.04, -999.00,9,-999.000,9,   50.40,2, -999.00,1,       7.86,2, 20210510,     1050,  35.7129, -67.1668,    18.9759,2,     0.0393,1,     4.6557,1,     -999.0,9,     -999.0,9,     -999.0,9
325020210420,        A22,      72,          1,         27,         27,2,20210510,       0845,    35.7129,   -67.1668,       5101,   368.2,  18.7174,  36.6043,2,  36.6064,2,    201.6,2,   202.9,2,    1.36,2,    3.40,2,    0.00,2,    0.11,2,-999.000,9,-999.000,9,-999.0000,9,  2119.7,2, 2391.03,2,  411.230,2,    20.00,   7.97292,2,    25.03,    0.44,2,   45.41,2,    2.04, -999.00,9,-999.000,9,   51.40,2, -999.00,1,     -999.0,9, 20210510,     1046,  35.7129, -67.1668,    18.7155,2,     0.0389,1,     4.6568,1,     -999.0,9,     -999.0,9,     -999.0,9
325020210420,        A22,      72,          1,         26,         26,2,20210510,       0845,    35.7129,   -67.1668,       5101,   439.2,  18.3399,  36.5437,2,  36.5444,2,    196.6,2,   197.0,2,    1.85,2,    4.46,2,    0.00,2,    0.17,2,   2.087,2,   1.311,2,   1.7900,2,  2127.0,2, 2386.42,2,  430.000,2,    20.00,   7.95626,2,    25.03,    0.43,2,   50.85,2,    2.05, -999.00,9,-999.000,9,   49.60,2, -999.00,1,       8.46,2, 20210510,     1044,  35.7129, -67.1668,    18.3395,2,     0.0391,1,     4.6601,1,     -999.0,9,     -999.0,9,     -999.0,9
325020210420,        A22,      72,          1,         25,         25,2,20210510,       0845,    35.7129,   -67.1668,       5101,   539.8,  17.2625,  36.3610,2,  36.3629,2,    182.7,2,   182.8,2,    2.54,2,    7.42,2,    0.00,2,    0.34,2,   2.189,2,   1.347,2,   1.5200,2,  2140.9,2, 2376.18,2,  480.725,6,    20.00,   7.91337,2,    25.02,    0.45,2,   48.72,2,    2.04, -999.00,9,-999.000,9,   47.70,2, -999.00,1,      10.19,2, 20210510,     1041,  35.7129, -67.1668,    17.2661,2,     0.0408,1,     4.6618,1,     -999.0,9,     -999.0,9,     -999.0,9
325020210420,        A22,      72,          1,         24,         24,2,20210510,       0845,    35.7129,   -67.1668,       5101,   641.0,  15.6306,  36.0903,2,  36.0908,2,    179.1,2,   179.1,2,    3.80,2,   10.40,2,    0.00,2,    0.54,2,   2.253,2,   1.357,2,   1.4500,2,  2151.6,2,  2362.6,2,  539.320,2,    20.00,   7.86774,2,    25.04,    0.47,2,   51.13,2,    2.16, -999.00,9,-999.000,9,   47.30,2, -999.00,1,      12.03,2, 20210510,     1038,  35.7129, -67.1668,    15.6303,2,     0.0402,1,     4.6653,1,     -999.0,9,     -999.0,9,     -999.0,9
325020210420,        A22,      72,          1,         23,         23,2,20210510,       0845,    35.7129,   -67.1668,       5101,   742.2,  13.8949,  35.8073,2,  35.8062,2,    165.8,2,   165.9,2,    6.15,2,   14.49,2,    0.00,2,    0.81,2,-999.000,9,-999.000,9,-999.0000,9,  2166.4,2,  2345.7,2,  627.710,2,    20.00,   7.80684,2,    25.02,    0.50,2,   38.71,2,    2.03, -999.00,9,-999.000,9,   46.00,2, -999.00,1,     -999.0,9, 20210510,     1035,  35.7129, -67.1668,    13.8929,2,     0.0401,1,     4.6660,1,     -999.0,9,     -999.0,9,     -999.0,9
325020210420,        A22,      72,          1,         22,         22,2,20210510,       0845,    35.7129,   -67.1668,       5101,   843.5,  11.9608,  35.5359,2,  35.5375,2,    154.5,2,   155.1,2,    9.37,2,   18.75,2,    0.00,2,    1.09,2,   1.951,2,   1.127,2,   0.9500,2,  2180.2,2, 2335.67,2,  729.470,2,    20.00,   7.74512,2,    25.04,    0.53,2,   22.72,2,    2.10, -999.00,9,-999.000,9,   44.70,2, -999.00,1,      17.46,2, 20210510,     1032,  35.7129, -67.1668,    11.9640,2,     0.0409,1,     4.6681,1,     -999.0,9,     -999.0,9,     -999.0,9
325020210420,        A22,      72,          1,         21,         21,2,20210510,       0845,    35.7129,   -67.1668,       5101,   943.5,   9.5239,  35.2452,2,  35.2459,2,    144.1,2,   144.4,2,   13.86,2,   23.73,2,    0.00,2,    1.44,2,   1.438,2,   0.793,2,   0.5300,2,  2196.8,6, 2323.59,2,  866.760,2,    20.00,   7.67362,2,    25.02,    0.59,2,   -9.01,2,    2.04, -999.00,9,-999.000,9,   43.20,2, -999.00,1,      20.23,2, 20210510,     1028,  35.7129, -67.1667,     9.5240,2,     0.0428,1,     4.6661,1,     -999.0,9,     -999.0,9,     -999.0,9
325020210420,        A22,      72,          1,         20,         20,2,20210510,       0845,    35.7129,   -67.1668,       5101,  1044.9,   7.8453,  35.1506,2,  35.1514,2,    170.2,2,   170.1,2,   14.05,2,   22.65,2,    0.00,2,    1.40,2,   1.608,2,   0.881,2,   0.6500,2,  2193.5,2, 2317.05,2,  865.480,2,    20.00,   7.67223,2,    25.04,    0.65,6,  -23.31,6,    1.98, -999.00,9,-999.000,9,   43.60,2, -999.00,1,      18.38,2, 20210510,     1025,  35.7129, -67.1668,     7.8494,2,     0.0423,1,     4.6696,1,     -999.0,9,     -999.0,9,     -999.0,9
325020210420,        A22,      72,          1,         19,         19,2,20210510,       0845,    35.7129,   -67.1668,       5101,  1146.0,   6.6121,  35.1072,2,  35.1077,2,    197.8,2,   197.8,2,   13.57,2,   21.00,2,    0.00,2,    1.32,2,-999.000,9,-999.000,9,-999.0000,9,  2187.8,2,  2315.1,2,  841.500,2,    20.00,    7.6832,6,    25.02,    0.72,2,  -21.34,2,    1.91, -999.00,9,-999.000,9,   42.50,2, -999.00,1,     -999.0,9, 20210510,     1022,  35.7129, -67.1668,     6.6109,2,     0.0427,1,     4.6701,1,     -999.0,9,     -999.0,9,     -999.0,9
325020210420,        A22,      72,          1,         18,         18,2,20210510,       0845,    35.7129,   -67.1668,       5101,  1247.6,   5.8639,  35.0770,2,  35.0778,2,    216.7,2,   216.8,2,   13.08,2,   19.86,2,    0.00,2,    1.25,2,   2.214,2,   1.189,2,   0.8000,2,  2183.1,2, 2316.02,6,  825.140,2,    20.00,    7.6914,2,    25.07,    0.76,2,  -20.39,2,    2.01, -999.00,9,-999.000,9,   45.40,2, -999.00,1,      15.53,2, 20210510,     1017,  35.7129, -67.1667,     5.8663,2,     0.0430,1,     4.6699,1,     -999.0,9,     -999.0,9,     -999.0,9
325020210420,        A22,      72,          1,         17,         17,2,20210510,       0845,    35.7129,   -67.1668,       5101,  1349.9,   5.3445,  35.0604,2,  35.0632,2,    232.5,2,   232.3,2,   12.49,2,   18.88,2,    0.00,2,    1.19,2,   2.446,2,   1.315,2,   0.9200,2,  2179.3,2, 2314.28,2,  806.030,2,    20.00,   7.70084,2,    25.03,    0.82,2,  -15.71,2,    2.07, -999.00,9,-999.000,9,   46.00,2, -999.00,1,      14.60,2, 20210510,     1015,  35.7129, -67.1668,     5.3512,2,     0.0425,1,     4.6708,1,     -999.0,9,     -999.0,9,     -999.0,9
325020210420,        A22,      72,          1,         16,         16,2,20210510,       0845,    35.7129,   -67.1668,       5101,  1449.9,   4.9120,  35.0258,2,  35.0260,2,    243.5,2,   243.7,2,   12.10,2,   18.36,2,    0.00,2,    1.15,2,-999.000,9,-999.000,9,-999.0000,9,  2175.7,2, 2312.17,2,  799.260,2,    20.00,   7.70348,2,    25.02,    0.85,2,   -8.80,2,    2.08, -999.00,9,-999.000,9,   45.40,2, -999.00,1,     -999.0,9, 20210510,     1012,  35.7129, -67.1668,     4.9091,2,     0.0430,1,     4.6700,1,     -999.0,9,     -999.0,9,     -999.0,9
325020210420,        A22,      72,          1,         15,         15,2,20210510,       0845,    35.7129,   -67.1668,       5101,  1553.1,   4.6456,  35.0091,2,  35.0089,2,    250.7,2,   250.9,2,   12.00,2,   18.03,2,    0.00,2,    1.14,2,   2.807,2,   1.498,2,   0.9800,2,  2174.5,2, 2308.79,2,  790.530,2,    20.00,   7.70709,2,    25.01,    0.86,2,  -11.20,2,    2.09, -999.00,9,-999.000,9,   44.70,2, -999.00,1,      14.07,2, 20210510,     1009,  35.7129, -67.1668,     4.6451,2,     0.0423,1,     4.6699,1,     -999.0,9,     -999.0,9,     -999.0,9
325020210420,        A22,      72,          1,         14,         14,2,20210510,       0845,    35.7129,   -67.1668,       5101,  1684.5,   4.3992,  34.9938,2,  34.9937,2,    255.9,2,   256.0,2,   12.20,2,   17.80,2,    0.00,2,    1.12,2,   2.758,2,   1.464,2,   0.9100,2,  2171.2,2, 2309.22,2,  783.140,2,    20.00,   7.71108,2,    25.01,    0.89,2,   -9.45,2,    2.74, -999.00,9,-999.000,9,   46.70,2, -999.00,1,      13.69,2, 20210510,     1005,  35.7129, -67.1668,     4.3987,2,     0.0424,1,     4.6691,1,     -999.0,9,     -999.0,9,     -999.0,9
325020210420,        A22,      72,          1,         13,         13,2,20210510,       0845,    35.7129,   -67.1668,       5101,  1888.3,   4.1113,  34.9775,2,  34.9778,2,    260.4,2,   260.8,2,   12.59,2,   17.67,2,    0.00,2,    1.12,2,   2.634,2,   1.359,2,   0.7600,2,  2168.6,2, 2307.11,2,  773.960,2,    20.00,   7.71625,2,    24.98,    0.94,2,  -10.15,2,    2.25, -999.00,9,-999.000,9,   45.80,2, -999.00,1,      13.34,2, 20210510,     1000,  35.7129, -67.1668,     4.1106,2,     0.0420,1,     4.6702,1,     -999.0,9,     -999.0,9,     -999.0,9
325020210420,        A22,      72,          1,         12,         12,2,20210510,       0845,    35.7129,   -67.1668,       5101,  2111.1,   3.8943,  34.9741,2,  34.9734,2,    261.1,2,   261.3,2,   13.76,2,   17.72,2,    0.00,2,    1.13,2,-999.000,9,-999.000,9,-999.0000,9,  2166.8,2,  2311.0,2,  760.420,2,    20.00,   7.72354,2,    25.03,    1.00,2,  -27.23,2,    1.92, -999.00,9,-999.000,9,   45.40,2, -999.00,1,     -999.0,9, 20210510,      954,  35.7129, -67.1668,     3.8940,2,     0.0423,1,     4.6710,1,     -999.0,9,     -999.0,9,     -999.0,9
325020210420,        A22,      72,          1,         11,         11,2,20210510,       0845,    35.7129,   -67.1668,       5101,  2365.7,   3.6594,  34.9623,2,  34.9622,2,    262.8,2,   263.0,2,   15.03,2,   17.76,2,    0.00,2,    1.13,2,-999.000,9,-999.000,9,-999.0000,9,  2166.4,6, 2311.47,2,  753.430,2,    20.00,   7.72679,2,    25.04,    1.02,2,  -30.79,2,    2.03, -999.00,9,-999.000,9,   44.10,2, -999.00,1,     -999.0,9, 20210510,      948,  35.7129, -67.1668,     3.6591,2,     0.0429,1,     4.6715,1,     -999.0,9,     -999.0,9,     -999.0,9
325020210420,        A22,      72,          1,         10,         10,2,20210510,       0845,    35.7129,   -67.1668,       5101,  2619.7,   3.4330,  34.9537,2,  34.9510,3,    263.5,2,   263.7,2,   16.79,2,   17.84,2,    0.00,2,    1.14,2,   1.596,2,   0.803,2,   0.2800,2,  2165.4,2, 2311.01,2,  745.730,2,    20.00,   7.73006,2,    25.03,    1.03,2,  -44.93,2,    1.95, -999.00,9,-999.000,9,   42.10,2, -999.00,1,      12.68,2, 20210510,      943,  35.7129, -67.1668,     3.4328,2,     0.0426,1,     4.6714,1,     -999.0,9,     -999.0,9,     -999.0,9
325020210420,        A22,      72,          1,          9,          9,2,20210510,       0845,    35.7129,   -67.1668,       5101,  2876.9,   3.1995,  34.9449,2,  34.9429,3,    264.0,2,   264.2,2,   18.84,2,   17.92,2,    0.00,2,    1.15,2,-999.000,9,-999.000,9,-999.0000,9,  2166.3,2, 2314.62,2,  742.010,2,    20.00,   7.73314,2,    25.03,    1.06,2,  -50.63,2,    2.10, -999.00,9,-999.000,9,   44.40,2, -999.00,1,     -999.0,9, 20210510,      936,  35.7129, -67.1668,     3.1995,2,     0.0429,1,     4.6712,1,     -999.0,9,     -999.0,9,     -999.0,9
325020210420,        A22,      72,          1,          8,          8,2,20210510,       0845,    35.7129,   -67.1668,       5101,  3145.6,   2.9712,  34.9342,2,  34.9359,2,    265.2,2,   265.5,2,   20.59,2,   17.93,2,    0.00,2,    1.15,2,   1.244,2,   0.640,2,   0.2800,2,  2165.1,2, 2314.48,2,  739.890,2,    20.00,   7.73512,6,    25.03,    1.08,2,  -57.09,2,    2.13, -999.00,9,-999.000,9,   43.40,2, -999.00,1,      12.94,2, 20210510,      930,  35.7129, -67.1668,     2.9711,2,     0.0424,1,     4.6716,1,     -999.0,9,     -999.0,9,     -999.0,9
325020210420,        A22,      72,          1,          7,          7,2,20210510,       0845,    35.7129,   -67.1668,       5101,  3452.2,   2.7382,  34.9212,2,  34.9195,2,    267.5,2,   267.7,2,   22.06,2,   17.84,2,    0.00,2,    1.15,2,   1.288,2,   0.648,2,   0.2700,2,  2166.9,2, 2314.68,2,  739.600,2,    20.00,   7.73413,6,    25.02,    1.08,2,  -56.36,2,    2.10, -999.00,9,-999.000,9,   43.00,2, -999.00,1,      13.07,2, 20210510,      923,  35.7129, -67.1668,     2.7379,2,     0.0426,1,     4.6717,1,     -999.0,9,     -999.0,9,     -999.0,9
325020210420,        A22,      72,          1,          6,          6,2,20210510,       0845,    35.7129,   -67.1668,       5101,  3760.1,   2.5035,  34.9071,2,  34.9024,3,    268.5,2,   269.0,2,   24.79,2,   17.92,2,    0.00,2,    1.17,2,-999.000,9,-999.000,9,-999.0000,9,  2170.0,2,  2318.7,6,  743.560,2,    20.00,   7.73336,2,    25.01,    1.06,2,  -57.11,2,    1.90, -999.00,9,-999.000,9,   43.10,2, -999.00,1,     -999.0,9, 20210510,      916,  35.7129, -67.1668,     2.5036,2,     0.0423,1,     4.6716,1,     -999.0,9,     -999.0,9,     -999.0,9
325020210420,        A22,      72,          1,          5,          5,2,20210510,       0845,    35.7129,   -67.1668,       5101,  4067.3,   2.3724,  34.8974,2,  34.8957,2,    268.2,2,   268.6,2,   27.52,2,   18.17,2,    0.00,2,    1.19,2,   1.309,6,   0.672,6,   0.3600,6,  2173.4,2, 2321.52,2,  750.140,2,    20.00,   7.73037,2,    25.01,    1.09,2,  -57.76,2,    2.05, -999.00,9,-999.000,9,   43.80,2, -999.00,1,      12.91,6, 20210510,      910,  35.7129, -67.1667,     2.3726,2,     0.0428,1,     4.6703,1,     -999.0,9,     -999.0,9,     -999.0,9
325020210420,        A22,      72,          1,          4,          4,2,20210510,       0845,    35.7129,   -67.1668,       5101,  4377.4,   2.3038,  34.8902,2,  34.8886,2,    266.7,2,   266.8,2,   30.55,2,   18.53,2,    0.00,2,    1.22,2,-999.000,9,-999.000,9,-999.0000,9,  2177.0,2, 2325.51,2,  752.740,2,    20.00,   7.72832,2,    25.03, -999.00,9, -999.00,9, -999.00, -999.00,9,-999.000,9,   43.80,2, -999.00,1,     -999.0,9, 20210510,      903,  35.7129, -67.1668,     2.3038,2,     0.0434,1,     4.6659,1,     -999.0,9,     -999.0,9,     -999.0,9
325020210420,        A22,      72,          1,          3,          3,2,20210510,       0845,    35.7129,   -67.1668,       5101,  4683.5,   2.2924,  34.8859,2,  34.8818,3,    264.5,2,   264.6,2,   33.28,2,   18.99,2,    0.00,2,    1.26,2,   1.110,2,   0.579,2,   0.2800,2,  2178.7,2, 2327.79,2,  754.620,2,    20.00,   7.72792,2,    25.03,    1.08,2,  -68.38,2,    2.13, -999.00,9,-999.000,9,   43.40,2, -999.00,1,      13.46,2, 20210510,      857,  35.7129, -67.1667,     2.2923,2,     0.0424,1,     4.6581,1,     -999.0,9,     -999.0,9,     -999.0,9