BOTTLE,20230513CCHSIOCBG
EXPOCODE,SECT_ID,STNNBR,CASTNO,SAMPNO,BTLNBR,BTLNBR_FLAG_W,DATE,TIME,LATITUDE,LONGITUDE,DEPTH,CTDPRS,CTDTMP,CTDSAL,CTDSAL_FLAG_W,SALNTY,SALNTY_FLAG_W,CTDOXY,CTDOXY_FLAG_W,OXYGEN,OXYGEN_FLAG_W,SILCAT,SILCAT_FLAG_W,NITRAT,NITRAT_FLAG_W,NITRIT,NITRIT_FLAG_W,PHSPHT,PHSPHT_FLAG_W,CFC-11,CFC-11_FLAG_W,CFC-12,CFC-12_FLAG_W,SF6,SF6_FLAG_W,TCARBN,TCARBN_FLAG_W,ALKALI,ALKALI_FLAG_W,FCO2,FCO2_FLAG_W,FCO2TMP,PH_TOT,PH_TOT_FLAG_W,PH_TMP,DELC13,DELC13_FLAG_W,DELC14,DELC14_FLAG_W,C14ERR,DELO18,DELO18_FLAG_W,POC,POC_FLAG_W,DOC,DOC_FLAG_W,TDN,TDN_FLAG_W,N2O,N2O_FLAG_W,BTL_DATE,BTL_TIME,BTL_LAT,BTL_LON,REFTMP,REFTMP_FLAG_W,CTDFLUOR,CTDFLUOR_FLAG_W,CTDXMISS,CTDXMISS_FLAG_W,D15N_NO2+NO3,D15N_NO2+NO3_FLAG_W,D18O_NO2+NO3,D18O_NO2+NO3_FLAG_W,HPLC,HPLC_FLAG_W
,,,,,,,,,,,METERS,DBAR,ITS-90,PSS-78,,PSS-78,,UMOL/KG,,UMOL/KG,,UMOL/KG,,UMOL/KG,,UMOL/KG,,UMOL/KG,,PMOL/KG,,PMOL/KG,,FMOL/KG,,UMOL/KG,,UMOL/KG,,UATM,,DEG C,,,DEG C,/MILLE,,/MILLE,,/MILLE,/MILLE,,UG/KG,,UMOL/KG,,UMOL/KG,,NMOL/KG,,,,,,ITS-90,,VOLTS,,VOLTS,,/MILLE,,/MILLE,,,
325020210420,        A22,      82,          1,         36,         36,2,20210513,       2223,    38.7936,   -69.2057,       3245,     5.1,  17.5594,  35.7860,2,  35.7904,2,    259.9,3,   255.9,2,    0.10,2,    0.00,2,    0.00,2,    0.00,2,   2.246,6,   1.360,6,   2.1700,6,  2055.6,6, 2359.97,2,  336.660,2,    20.00,   8.04487,2,    25.03,    0.88,2,   29.88,2,    2.67, -999.00,1,-999.000,9,   66.10,2,    4.29,2,       7.61,6, 20210514,       12,  38.7936, -69.2057,    17.5701,2,     0.2364,1,     4.1802,1,     -999.0,9,     -999.0,9,     -999.0,9
325020210420,        A22,      82,          1,         35,         35,2,20210513,       2223,    38.7936,   -69.2057,       3245,    20.4,  16.2561,  35.6706,2,  35.6698,2,    257.2,2,   259.7,2,    0.20,2,    0.00,2,    0.00,2,    0.01,2,-999.000,9,-999.000,9,-999.0000,9,  2062.8,2, 2351.87,2,  353.260,2,    20.00,   8.02576,2,    25.02, -999.00,9, -999.00,9, -999.00, -999.00,9,-999.000,9,   67.10,2,    4.28,2,     -999.0,9, 20210514,       10,  38.7936, -69.2057,    16.2585,2,     0.4142,1,     3.9529,1,     -999.0,9,     -999.0,9,     -999.0,9
325020210420,        A22,      82,          1,         34,         34,2,20210513,       2223,    38.7936,   -69.2057,       3245,    40.5,  16.2002,  35.6668,2,  35.6664,2,    247.9,2,   249.9,2,    0.20,2,    0.00,2,    0.00,2,    0.00,2,   2.351,2,   1.423,2,   2.2800,2,  2072.0,2, 2353.24,2,  371.340,2,    20.00,   8.00771,2,    25.02, -999.00,9, -999.00,9, -999.00, -999.00,1,-999.000,9,   65.70,2,    4.56,2,       7.54,2, 20210514,        8,  38.7936, -69.2057,    16.1999,2,     0.3945,1,     4.0902,1,     -999.0,9,     -999.0,9,     -999.0,9
325020210420,        A22,      82,          1,         33,         33,2,20210513,       2223,    38.7936,   -69.2057,       3245,    65.6,  14.5085,  35.6345,2,  35.6297,2,    230.2,2,   232.3,2,    1.17,2,    3.82,2,    0.07,2,    0.24,2,-999.000,9,-999.000,9,-999.0000,9,  2108.7,2,  2346.8,6,  450.450,2,    20.00,   7.93424,2,    25.03,    0.65,2,   32.60,2,    2.03, -999.00,9,-999.000,9,   59.70,2,    7.13,2,     -999.0,9, 20210514,        6,  38.7936, -69.2057,    14.5107,2,     0.0503,1,     4.6172,1,     -999.0,9,     -999.0,9,     -999.0,9
325020210420,        A22,      82,          1,         32,         32,2,20210513,       2223,    38.7936,   -69.2057,       3245,    90.5,  13.6930,  35.6032,2,  35.5999,2,    215.3,2,   217.2,2,    2.83,2,    8.48,2,    0.01,2,    0.53,2,   2.451,2,   1.470,2,   2.1000,2,  2126.1,2, 2343.34,2,  530.620,2,    20.00,   7.87247,2,    25.02,    0.44,2,   34.21,2,    2.03, -999.00,9,-999.000,9,   54.90,2,   11.23,2,      10.62,2, 20210514,        4,  38.7936, -69.2057,    13.6610,2,     0.0434,1,     4.6493,1,     -999.0,9,     -999.0,9,     -999.0,9
325020210420,        A22,      82,          1,         31,         31,2,20210513,       2223,    38.7936,   -69.2057,       3245,   115.8,  13.5564,  35.6809,2,  35.6739,2,    216.6,2,   217.6,2,    3.90,2,    9.70,2,    0.01,2,    0.59,2,-999.000,9,-999.000,9,-999.0000,9,  2141.3,2, 2345.35,2,  547.040,2,    20.00,   7.86256,2,    25.01,    0.37,2,   32.01,2,    2.40, -999.00,9,-999.000,9,   53.60,2,   12.03,2,     -999.0,9, 20210514,        2,  38.7936, -69.2057,    13.5620,2,     0.0407,1,     4.6572,1,     -999.0,9,     -999.0,9,     -999.0,9
325020210420,        A22,      82,          1,         30,         30,2,20210513,       2223,    38.7936,   -69.2057,       3245,   141.3,  13.1548,  35.6409,2,  35.6376,2,    197.9,2,   196.1,2,    5.66,2,   12.79,2,    0.00,2,    0.78,2,   2.267,2,   1.350,2,   1.7500,2,  2155.6,2, 2341.33,2,  605.290,2,    20.00,   7.82428,2,    24.99,    0.38,2,   24.58,2,    2.22, -999.00,9,-999.000,9,   50.60,2,   15.90,2,      12.69,2, 20210514,        0,  38.7936, -69.2057,    13.1553,2,     0.0413,1,     4.6600,1,     -999.0,9,     -999.0,9,     -999.0,9
325020210420,        A22,      82,          1,         29,         29,2,20210513,       2223,    38.7936,   -69.2057,       3245,   166.2,  12.7966,  35.6132,2,  35.6023,2,    172.7,3,   164.5,2,    7.80,2,   16.67,2,    0.00,2,    1.01,2,-999.000,9,-999.000,9,-999.0000,9,  2174.7,2, 2337.28,2,  687.740,2,    20.00,   7.77468,2,    24.98,    0.39,2,   24.72,2,    2.01, -999.00,9,-999.000,9,   48.90,2,   19.46,2,     -999.0,9, 20210513,     2358,  38.7936, -69.2057,    12.8032,2,     0.0413,1,     4.6601,1,     -999.0,9,     -999.0,9,     -999.0,9
325020210420,        A22,      82,          1,         28,         28,2,20210513,       2223,    38.7936,   -69.2057,       3245,   191.8,  11.7466,  35.5074,2,  35.4914,2,    135.2,2,   134.3,2,   10.92,2,   21.66,2,    0.00,2,    1.32,2,-999.000,9,-999.000,9,-999.0000,9,  2194.6,6,  2330.9,2,  804.980,2,    20.00,   7.72037,6,    25.00,    0.41,2,   10.58,2,    3.44, -999.00,9,-999.000,9,   44.60,2,   24.00,2,     -999.0,9, 20210513,     2355,  38.7936, -69.2057,    11.7593,2,     0.0417,1,     4.6521,1,     -999.0,9,     -999.0,9,     -999.0,9
325020210420,        A22,      82,          1,         27,         27,2,20210513,       2223,    38.7936,   -69.2057,       3245,   216.8,  10.8640,  35.3946,2,  35.3782,2,    132.3,2,   133.1,2,   12.58,2,   23.35,2,    0.00,2,    1.43,2,   1.570,2,   0.881,2,   0.6400,2,  2197.8,2, 2327.48,2,  853.410,2,    20.00,     7.683,6,    24.99,    0.46,2,    1.53,2,    2.70, -999.00,9,-999.000,9,   43.10,2,   25.50,2,      20.37,2, 20210513,     2354,  38.7936, -69.2057,    10.8651,2,     0.0414,1,     4.6524,1,     -999.0,9,     -999.0,9,     -999.0,9
325020210420,        A22,      82,          1,         26,         26,2,20210513,       2223,    38.7936,   -69.2057,       3245,   241.9,   9.9172,  35.2864,2,  35.2761,2,    134.0,2,   134.4,2,   14.05,2,   24.49,2,    0.00,2,    1.52,2,-999.000,9,-999.000,9,-999.0000,9,  2199.3,2, 2321.64,2,  891.070,2,    20.00,   7.66713,2,    24.99,    0.52,2,   -8.69,2,    1.94, -999.00,9,-999.000,9,   42.80,2,   26.64,2,     -999.0,9, 20210513,     2352,  38.7936, -69.2057,     9.9276,2,     0.0408,1,     4.6546,1,     -999.0,9,     -999.0,9,     -999.0,9
325020210420,        A22,      82,          1,         25,         25,2,20210513,       2223,    38.7936,   -69.2057,       3245,   287.6,   8.6858,  35.1794,2,  35.1782,2,    147.2,2,   146.2,2,   14.93,2,   24.77,2,    0.00,2,    1.55,2,   1.426,2,   0.771,2,   0.5100,2,  2199.8,2, 2319.58,6,  907.250,2,    20.00,   7.65577,2,    24.99,    0.59,2,  -21.60,2,    2.44, -999.00,9,-999.000,9,   43.50,2, -999.00,1,      20.06,2, 20210513,     2350,  38.7936, -69.2057,     8.6847,2,     0.0432,1,     4.6559,1,     -999.0,9,     -999.0,9,     -999.0,9
325020210420,        A22,      82,          1,         24,         24,2,20210513,       2223,    38.7936,   -69.2057,       3245,   337.9,   7.9346,  35.1491,2,  35.1482,2,    164.1,2,   164.7,2,   14.44,2,   23.37,2,    0.00,2,    1.48,2,-999.000,9,-999.000,9,-999.0000,9,  2195.4,2,  2316.9,2,  880.810,2,    20.00,   7.66784,2,    25.00, -999.00,1, -999.00,1, -999.00, -999.00,9,-999.000,9,   42.90,2, -999.00,1,     -999.0,9, 20210513,     2347,  38.7936, -69.2057,     7.9338,2,     0.0426,1,     4.6601,1,     -999.0,9,     -999.0,9,     -999.0,9
325020210420,        A22,      82,          1,         23,         23,2,20210513,       2223,    38.7936,   -69.2057,       3245,   388.1,   7.0686,  35.1246,2,  35.1246,2,    184.5,2,   185.1,2,   13.85,2,   22.06,2,    0.00,2,    1.41,2,   1.690,2,   0.911,2,   0.6000,2,  2190.6,2, 2318.42,2,  853.500,2,    20.00,   7.68265,2,    24.98,    0.69,2,  -27.53,2,    2.29, -999.00,9,-999.000,9,   43.20,2, -999.00,1,      16.69,2, 20210513,     2345,  38.7936, -69.2057,     7.0657,2,     0.0436,1,     4.6647,1,     -999.0,9,     -999.0,9,     -999.0,9
325020210420,        A22,      82,          1,         22,         22,2,20210513,       2223,    38.7936,   -69.2057,       3245,   439.2,   6.4803,  35.1040,2,  35.1028,2,    198.4,2,   199.0,2,   13.56,2,   21.16,2,    0.00,2,    1.37,2,-999.000,9,-999.000,9,-999.0000,9,  2187.4,2, 2315.81,2,  840.660,2,    20.00,   7.68756,2,    25.00,    0.68,2,  -24.30,2,    2.01, -999.00,9,-999.000,9,   43.20,2, -999.00,1,     -999.0,9, 20210513,     2343,  38.7936, -69.2057,     6.4798,2,     0.0416,1,     4.6644,1,     -999.0,9,     -999.0,9,     -999.0,9
325020210420,        A22,      82,          1,         21,         21,2,20210513,       2223,    38.7936,   -69.2057,       3245,   489.5,   6.0330,  35.0932,2,  35.0915,2,    210.5,2,   211.0,2,   13.17,2,   20.34,2,    0.00,2,    1.32,2,   2.029,2,   1.077,2,   0.6800,2,  2184.1,2, 2314.61,2,  824.790,2,    20.00,   7.69365,2,    25.01, -999.00,1, -999.00,1, -999.00, -999.00,9,-999.000,9,   41.40,2, -999.00,1,      15.46,2, 20210513,     2341,  38.7936, -69.2057,     6.0297,2,     0.0422,1,     4.6669,1,     -999.0,9,     -999.0,9,     -999.0,9
325020210420,        A22,      82,          1,         20,         20,2,20210513,       2223,    38.7936,   -69.2057,       3245,   570.3,   5.3637,  35.0497,2,  35.0498,2,    226.3,2,   227.1,2,   12.68,2,   19.44,2,    0.00,2,    1.26,2,-999.000,9,-999.000,9,-999.0000,9,  2182.2,2, -999.00,5,  818.530,2,    20.00,    7.6955,2,    24.99,    0.72,2,  -18.69,2,    2.27, -999.00,9,-999.000,9,   43.20,2, -999.00,1,     -999.0,9, 20210513,     2338,  38.7936, -69.2057,     5.3692,2,     0.0426,1,     4.6607,1,     -999.0,9,     -999.0,9,     -999.0,9
325020210420,        A22,      82,          1,         19,         19,2,20210513,       2223,    38.7936,   -69.2057,       3245,   670.9,   4.9045,  35.0236,2,  35.0238,2,    240.7,2,   241.1,2,   12.29,2,   18.62,2,    0.00,2,    1.21,2,   2.630,2,   1.404,2,   0.9500,2,  2176.6,2, 2310.22,2,  805.660,2,    20.00,   7.70137,2,    25.00,    0.77,2,  -13.56,2,    2.40, -999.00,9,-999.000,9,   43.80,2, -999.00,1,      14.43,2, 20210513,     2335,  38.7936, -69.2057,     4.9042,2,     0.0421,1,     4.6618,1,     -999.0,9,     -999.0,9,     -999.0,9
325020210420,        A22,      82,          1,         18,         18,2,20210513,       2223,    38.7936,   -69.2057,       3245,   772.8,   4.6279,  35.0069,2,  35.0069,2,    248.7,2,   248.8,2,   12.10,2,   18.20,2,    0.00,2,    1.18,2,-999.000,9,-999.000,9,-999.0000,9,  2174.7,2, 2310.39,2,  798.970,2,    20.00,   7.70671,2,    24.99,    0.81,2,  -16.11,2,    2.07, -999.00,9,-999.000,9,   44.40,2, -999.00,1,     -999.0,9, 20210513,     2331,  38.7936, -69.2057,     4.6265,2,     0.0426,1,     4.6614,1,     -999.0,9,     -999.0,9,     -999.0,9
325020210420,        A22,      82,          1,         17,         17,2,20210513,       2223,    38.7936,   -69.2057,       3245,   873.8,   4.4353,  34.9931,2,  34.9933,2,    253.4,2,   253.6,2,   12.00,2,   17.96,2,    0.00,2,    1.17,2,   2.836,2,   1.509,2,   1.0500,2,  2172.6,2, 2306.64,2,  794.190,2,    20.00,   7.70873,2,    24.99,    0.82,2,  -13.27,2,    2.35, -999.00,9,-999.000,9,   44.10,2, -999.00,1,      13.44,2, 20210513,     2329,  38.7936, -69.2057,     4.4352,2,     0.0427,1,     4.6607,1,     -999.0,9,     -999.0,9,     -999.0,9
325020210420,        A22,      82,          1,         16,         16,2,20210513,       2223,    38.7936,   -69.2057,       3245,   975.4,   4.3001,  34.9865,2,  34.9866,2,    256.5,2,   256.4,2,   12.00,2,   17.72,2,    0.00,2,    1.16,2,-999.000,9,-999.000,9,-999.0000,9,  2170.2,2, 2306.92,2,  787.920,2,    20.00,   7.71003,6,    24.98,    0.86,2,  -12.48,2,    1.92, -999.00,9,-999.000,9,   44.00,2, -999.00,1,     -999.0,9, 20210513,     2325,  38.7936, -69.2057,     4.3001,2,     0.0415,1,     4.6617,1,     -999.0,9,     -999.0,9,     -999.0,9
325020210420,        A22,      82,          1,         15,         15,2,20210513,       2223,    38.7936,   -69.2057,       3245,  1076.3,   4.1863,  34.9809,2,  34.9809,2,    259.0,2,   259.2,2,   12.00,2,   17.66,2,    0.00,2,    1.15,2,   2.825,2,   1.487,2,   0.9400,2,  2169.3,2, 2306.53,2,  782.280,2,    20.00,   7.71247,2,    24.99,    0.90,2,  -17.99,2,    2.33, -999.00,9,-999.000,9,   44.30,2, -999.00,1,      13.92,2, 20210513,     2322,  38.7936, -69.2057,     4.1862,2,     0.0421,1,     4.6648,1,     -999.0,9,     -999.0,9,     -999.0,9
325020210420,        A22,      82,          1,         14,         14,2,20210513,       2223,    38.7936,   -69.2057,       3245,  1177.2,   4.0722,  34.9741,2,  34.9746,2,    260.6,2,   261.0,2,   12.49,2,   17.60,2,    0.00,2,    1.15,2,   2.705,2,   1.416,2,   0.9000,2,  2168.6,2, 2305.78,2,  780.500,2,    20.00,   7.71445,2,    24.99,    0.86,2,  -18.06,2,    2.21, -999.00,9,-999.000,9,   44.20,2, -999.00,1,      12.74,2, 20210513,     2319,  38.7936, -69.2057,     4.0724,2,     0.0419,1,     4.6639,1,     -999.0,9,     -999.0,9,     -999.0,9
325020210420,        A22,      82,          1,         13,         13,2,20210513,       2223,    38.7936,   -69.2057,       3245,  1278.9,   3.9736,  34.9675,2,  34.9673,2,    262.8,2,   263.1,2,   12.49,2,   17.49,2,    0.00,2,    1.14,2,-999.000,9,-999.000,9,-999.0000,9,  2169.6,2,  2304.4,2,  779.070,2,    20.00,   7.71464,2,    24.99,    0.91,2,  -20.99,2,    2.25, -999.00,9,-999.000,9,   44.30,2, -999.00,1,     -999.0,9, 20210513,     2315,  38.7936, -69.2057,     3.9736,2,     0.0423,1,     4.6647,1,     -999.0,9,     -999.0,9,     -999.0,9
325020210420,        A22,      82,          1,         12,         12,2,20210513,       2223,    38.7936,   -69.2057,       3245,  1380.1,   3.8761,  34.9610,2,  34.9610,2,    264.3,2,   264.6,2,   12.59,2,   17.41,2,    0.00,2,    1.13,2,   2.711,2,   1.407,2,   0.8800,2,  2167.9,2, 2305.46,2,  775.600,2,    20.00,   7.71599,2,    24.98,    0.92,2,  -17.80,2,    2.37, -999.00,9,-999.000,9,   44.30,2, -999.00,1,      13.09,2, 20210513,     2312,  38.7936, -69.2057,     3.8764,2,     0.0416,1,     4.6662,1,     -999.0,9,     -999.0,9,     -999.0,9
325020210420,        A22,      82,          1,         11,         11,2,20210513,       2223,    38.7936,   -69.2057,       3245,  1481.4,   3.8329,  34.9658,2,  34.9658,2,    262.9,2,   263.3,2,   13.27,2,   17.53,2,    0.00,2,    1.15,2,-999.000,9,-999.000,9,-999.0000,9,  2168.7,6, 2306.21,2,  767.900,2,    20.00,   7.72169,2,    24.98,    0.95,2,  -23.41,2,    2.13, -999.00,9,-999.000,9,   43.80,2, -999.00,1,     -999.0,9, 20210513,     2309,  38.7936, -69.2057,     3.8329,2,     0.0427,1,     4.6670,1,     -999.0,9,     -999.0,9,     -999.0,9
325020210420,        A22,      82,          1,         10,         10,2,20210513,       2223,    38.7936,   -69.2057,       3245,  1582.8,   3.7233,  34.9612,2,  34.9642,2,    263.8,2,   264.0,2,   13.66,2,   17.53,2,    0.00,2,    1.15,2,   2.281,2,   1.163,2,   0.5700,2,  2166.7,2, 2307.01,2,  764.560,2,    20.00,    7.7229,6,    24.99,    0.92,2,  -26.19,2,    1.99, -999.00,9,-999.000,9,   43.30,2, -999.00,1,      13.07,2, 20210513,     2305,  38.7936, -69.2057,     3.7231,2,     0.0418,1,     4.6670,1,     -999.0,9,     -999.0,9,     -999.0,9
325020210420,        A22,      82,          1,          9,          9,2,20210513,       2223,    38.7936,   -69.2057,       3245,  1684.1,   3.6471,  34.9606,2,  34.9606,2,    263.7,2,   264.2,2,   14.34,2,   17.57,2,    0.00,2,    1.15,2,-999.000,9,-999.000,9,-999.0000,9,  2165.4,2, 2306.96,6,  758.850,2,    20.00,   7.72448,2,    25.00,    0.95,2,  -32.26,2,    1.96, -999.00,9,-999.000,9,   44.00,2, -999.00,1,     -999.0,9, 20210513,     2302,  38.7936, -69.2057,     3.6467,2,     0.0418,1,     4.6671,1,     -999.0,9,     -999.0,9,     -999.0,9
325020210420,        A22,      82,          1,          8,          8,2,20210513,       2223,    38.7936,   -69.2057,       3245,  1785.8,   3.5609,  34.9578,2,  34.9583,2,    264.1,2,   264.6,2,   14.73,2,   17.58,2,    0.00,2,    1.16,2,   1.989,2,   0.998,2,   0.4400,2,  2165.1,2,  2307.0,2,  754.920,2,    20.00,   7.72707,2,    24.99,    1.04,2,  -32.66,2,    1.91, -999.00,9,-999.000,9,   43.50,2, -999.00,1,      12.74,2, 20210513,     2259,  38.7936, -69.2057,     3.5612,2,     0.0424,1,     4.6679,1,     -999.0,9,     -999.0,9,     -999.0,9
325020210420,        A22,      82,          1,          7,          7,2,20210513,       2223,    38.7936,   -69.2057,       3245,  1959.0,   3.4132,  34.9527,2,  34.9524,2,    264.5,2,   265.0,2,   15.71,2,   17.71,2,    0.00,2,    1.17,2,-999.000,9,-999.000,9,-999.0000,9,  2166.1,2, 2308.34,2,  749.040,2,    20.00,   7.72833,2,    24.99, -999.00,9, -999.00,9, -999.00, -999.00,9,-999.000,9,   43.20,2, -999.00,1,     -999.0,9, 20210513,     2254,  38.7936, -69.2057,     3.4127,2,     0.0428,1,     4.6683,1,     -999.0,9,     -999.0,9,     -999.0,9
325020210420,        A22,      82,          1,          6,          6,2,20210513,       2223,    38.7936,   -69.2057,       3245,  2162.4,   3.2447,  34.9451,2,  34.9451,2,    265.6,2,   266.2,2,   16.78,2,   17.64,2,    0.00,2,    1.17,2,   1.693,2,   0.848,2,   0.3700,2,  2167.7,2, 2311.29,2,  749.730,6,    20.00,   7.72972,2,    24.99,    1.03,2,  -41.14,2,    2.69, -999.00,9,-999.000,9,   43.00,2, -999.00,1,      12.92,2, 20210513,     2249,  38.7936, -69.2057,     3.2448,2,     0.0425,1,     4.6684,1,     -999.0,9,     -999.0,9,     -999.0,9
325020210420,        A22,      82,          1,          5,          5,2,20210513,       2223,    38.7936,   -69.2057,       3245,  2365.5,   3.0834,  34.9389,2,  34.9392,2,    266.4,2,   267.1,2,   17.86,2,   17.63,2,    0.00,2,    1.17,2,   1.642,2,   0.829,2,   0.4100,2,  2167.9,2, 2310.92,6,  748.030,2,    20.00,   7.72961,2,    24.98,    1.01,2,  -46.28,2,    1.86, -999.00,9,-999.000,9,   44.10,2, -999.00,1,      12.63,2, 20210513,     2245,  38.7936, -69.2057,     3.0841,2,     0.0420,1,     4.6679,1,     -999.0,9,     -999.0,9,     -999.0,9
325020210420,        A22,      82,          1,          4,          4,2,20210513,       2223,    38.7936,   -69.2057,       3245,  2569.9,   2.9064,  34.9322,2,  34.9321,2,    267.1,2,   267.1,2,   19.42,2,   17.68,2,    0.00,2,    1.17,2,-999.000,9,-999.000,9,-999.0000,9,  2167.3,2, 2314.34,2,  745.950,2,    20.00,   7.73048,2,    25.00, -999.00,9, -999.00,9, -999.00, -999.00,9,-999.000,9,   43.40,2, -999.00,1,     -999.0,9, 20210513,     2240,  38.7936, -69.2057,     2.9058,2,     0.0419,1,     4.6691,1,     -999.0,9,     -999.0,9,     -999.0,9
325020210420,        A22,      82,          1,          3,          3,2,20210513,       2223,    38.7936,   -69.2057,       3245,  2773.9,   2.7307,  34.9236,2,  34.9233,2,    268.6,2,   269.1,2,   20.30,2,   17.58,2,    0.00,2,    1.17,2,   1.523,2,   0.781,2,   0.4100,2,  2167.3,2, 2313.24,2, -999.000,9,  -999.00,   7.72939,2,    25.01,    1.01,2,  -59.06,2,    2.10, -999.00,9,-999.000,9,   43.40,2, -999.00,1,      12.49,2, 20210513,     2235,  38.7936, -69.2057,     2.7302,2,     0.0430,1,     4.6686,1,     -999.0,9,     -999.0,9,     -999.0,9