BOTTLE,20230513CCHSIOCBG
EXPOCODE,SECT_ID,STNNBR,CASTNO,SAMPNO,BTLNBR,BTLNBR_FLAG_W,DATE,TIME,LATITUDE,LONGITUDE,DEPTH,CTDPRS,CTDTMP,CTDSAL,CTDSAL_FLAG_W,SALNTY,SALNTY_FLAG_W,CTDOXY,CTDOXY_FLAG_W,OXYGEN,OXYGEN_FLAG_W,SILCAT,SILCAT_FLAG_W,NITRAT,NITRAT_FLAG_W,NITRIT,NITRIT_FLAG_W,PHSPHT,PHSPHT_FLAG_W,CFC-11,CFC-11_FLAG_W,CFC-12,CFC-12_FLAG_W,SF6,SF6_FLAG_W,TCARBN,TCARBN_FLAG_W,ALKALI,ALKALI_FLAG_W,FCO2,FCO2_FLAG_W,FCO2TMP,PH_TOT,PH_TOT_FLAG_W,PH_TMP,DELC13,DELC13_FLAG_W,DELC14,DELC14_FLAG_W,C14ERR,DELO18,DELO18_FLAG_W,POC,POC_FLAG_W,DOC,DOC_FLAG_W,TDN,TDN_FLAG_W,N2O,N2O_FLAG_W,BTL_DATE,BTL_TIME,BTL_LAT,BTL_LON,REFTMP,REFTMP_FLAG_W,CTDFLUOR,CTDFLUOR_FLAG_W,CTDXMISS,CTDXMISS_FLAG_W,D15N_NO2+NO3,D15N_NO2+NO3_FLAG_W,D18O_NO2+NO3,D18O_NO2+NO3_FLAG_W,HPLC,HPLC_FLAG_W
,,,,,,,,,,,METERS,DBAR,ITS-90,PSS-78,,PSS-78,,UMOL/KG,,UMOL/KG,,UMOL/KG,,UMOL/KG,,UMOL/KG,,UMOL/KG,,PMOL/KG,,PMOL/KG,,FMOL/KG,,UMOL/KG,,UMOL/KG,,UATM,,DEG C,,,DEG C,/MILLE,,/MILLE,,/MILLE,/MILLE,,UG/KG,,UMOL/KG,,UMOL/KG,,NMOL/KG,,,,,,ITS-90,,VOLTS,,VOLTS,,/MILLE,,/MILLE,,,
325020210420,        A22,      77,          1,         36,         36,2,20210512,       1540,    37.6074,   -68.3154,       4595,     4.1,  23.1447,  36.4586,2,  36.4596,2,    212.2,2,   211.6,2,    0.97,2,    0.00,2,    0.00,2,    0.00,2,   1.657,2,   1.048,2,   1.7600,2,  2057.6,6, 2381.32,2, -999.000,9,  -999.00,   8.06817,2,    24.95, -999.00,9, -999.00,9, -999.00, -999.00,1,-999.000,9, -999.00,9, -999.00,9,       6.15,2, 20210512,     1753,  37.6074, -68.3154,    23.1456,2,     0.0478,1,     4.5948,1,     -999.0,1,     -999.0,1,     -999.0,9
325020210420,        A22,      77,          1,         35,         35,2,20210512,       1540,    37.6074,   -68.3154,       4595,    25.1,  23.1507,  36.4594,2,  36.4592,2,    212.2,2,   212.2,2,    0.97,2,    0.00,2,    0.00,2,    0.00,2,-999.000,9,-999.000,9,-999.0000,9,  -999.0,9, -999.00,9, -999.000,9,  -999.00,-999.00000,9,  -999.00, -999.00,9, -999.00,9, -999.00, -999.00,9,-999.000,9, -999.00,9, -999.00,9,     -999.0,9, 20210512,     1751,  37.6076, -68.3160,    23.1511,2,     0.0496,1,     4.5974,1,     -999.0,1,     -999.0,1,     -999.0,9
325020210420,        A22,      77,          1,         34,         34,2,20210512,       1540,    37.6074,   -68.3154,       4595,    50.6,  23.1164,  36.5310,2,  36.5264,2,    211.9,2,   211.8,2,    0.88,2,    0.00,2,    0.00,2,    0.00,2,   1.655,2,   1.052,2,   1.7400,2,  2061.8,2, 2383.41,2, -999.000,9,  -999.00,   8.06568,6,    24.99, -999.00,9, -999.00,9, -999.00, -999.00,9,-999.000,9, -999.00,9, -999.00,9,       6.24,2, 20210512,     1749,  37.6077, -68.3166,    23.1175,2,     0.0556,1,     4.5986,1,     -999.0,1,     -999.0,1,     -999.0,9
325020210420,        A22,      77,          1,         33,         33,2,20210512,       1540,    37.6074,   -68.3154,       4595,    76.3,  22.8935,  36.6270,2,  36.6279,2,    212.2,2,   211.4,2,    0.78,2,    0.00,2,    0.00,2,    0.00,2,   1.679,2,   1.062,2,   1.7100,2,  2071.2,2, 2390.26,6, -999.000,9,  -999.00,   8.05737,6,    25.00, -999.00,9, -999.00,9, -999.00, -999.00,1,-999.000,9, -999.00,9, -999.00,9,       6.21,2, 20210512,     1747,  37.6078, -68.3171,    22.8942,2,     0.0705,1,     4.6061,1,     -999.0,1,     -999.0,1,     -999.0,9
325020210420,        A22,      77,          1,         32,         32,2,20210512,       1540,    37.6074,   -68.3154,       4595,   100.2,  22.4216,  36.7754,2,  36.7728,2,    196.3,2,   196.4,2,    0.78,2,    0.81,2,    0.10,2,    0.00,2,-999.000,9,-999.000,9,-999.0000,9,  -999.0,9, -999.00,9, -999.000,9,  -999.00,-999.00000,9,  -999.00, -999.00,9, -999.00,9, -999.00, -999.00,9,-999.000,9, -999.00,9, -999.00,9,     -999.0,9, 20210512,     1745,  37.6080, -68.3178,    22.4282,2,     0.0791,1,     4.6244,1,     -999.0,1,     -999.0,1,     -999.0,9
325020210420,        A22,      77,          1,         31,         31,2,20210512,       1540,    37.6074,   -68.3154,       4595,   127.5,  21.3366,  36.6972,2,  36.7115,2,    204.4,3,   202.1,2,    0.68,2,    0.75,2,    0.15,2,    0.00,2,   1.811,2,   1.142,2,   1.7900,2,  2096.8,2, 2394.13,2, -999.000,9,  -999.00,   8.02417,2,    24.98, -999.00,9, -999.00,9, -999.00, -999.00,9,-999.000,9, -999.00,9, -999.00,9,       7.05,2, 20210512,     1743,  37.6081, -68.3184,    21.3474,2,     0.0552,1,     4.6360,1,     -999.0,1,     -999.0,1,     -999.0,9
325020210420,        A22,      77,          1,         30,         30,2,20210512,       1540,    37.6074,   -68.3154,       4595,   152.6,  20.3743,  36.7417,2,  36.7421,2,    204.1,2,   202.6,2,    0.78,2,    1.13,2,    0.04,2,    0.00,2,-999.000,9,-999.000,9,-999.0000,9,  -999.0,9, -999.00,9, -999.000,9,  -999.00,-999.00000,9,  -999.00, -999.00,9, -999.00,9, -999.00, -999.00,9,-999.000,9, -999.00,9, -999.00,9,     -999.0,9, 20210512,     1741,  37.6082, -68.3190,    20.3833,2,     0.0456,1,     4.6459,1,     -999.0,1,     -999.0,1,     -999.0,9
325020210420,        A22,      77,          1,         29,         29,2,20210512,       1540,    37.6074,   -68.3154,       4595,   203.2,  19.5021,  36.7124,2,  36.7111,2,    218.6,2,   217.8,2,    0.68,2,    0.50,2,    0.29,2,    0.00,2,-999.000,9,-999.000,9,-999.0000,9,  -999.0,9, -999.00,9, -999.000,9,  -999.00,-999.00000,9,  -999.00, -999.00,9, -999.00,9, -999.00, -999.00,9,-999.000,9, -999.00,9, -999.00,9,     -999.0,9, 20210512,     1739,  37.6084, -68.3197,    19.5025,2,     0.0478,1,     4.6440,1,     -999.0,1,     -999.0,1,     -999.0,9
325020210420,        A22,      77,          1,         28,         28,2,20210512,       1540,    37.6074,   -68.3154,       4595,   253.0,  19.2322,  36.6892,2,  36.6832,2,    210.5,3,   208.1,2,    0.88,2,    2.04,2,    0.00,2,    0.02,2,-999.000,9,-999.000,9,-999.0000,9,  -999.0,9, -999.00,9, -999.000,9,  -999.00,-999.00000,9,  -999.00, -999.00,9, -999.00,9, -999.00, -999.00,9,-999.000,9, -999.00,9, -999.00,9,     -999.0,9, 20210512,     1737,  37.6085, -68.3203,    19.2329,2,     0.0391,1,     4.6539,1,     -999.0,1,     -999.0,1,     -999.0,9
325020210420,        A22,      77,          1,         27,         27,2,20210512,       1540,    37.6074,   -68.3154,       4595,   302.9,  19.1192,  36.6808,2,  36.6800,2,    211.1,2,   210.8,2,    0.97,2,    1.96,2,    0.00,2,    0.01,2,   1.995,2,   1.243,2,   1.8600,2,  2111.9,2, 2393.35,2, -999.000,9,  -999.00,   7.99606,2,    24.99, -999.00,9, -999.00,9, -999.00, -999.00,9,-999.000,9, -999.00,9, -999.00,9,       7.63,2, 20210512,     1735,  37.6086, -68.3209,    19.1195,2,     0.0389,1,     4.6532,1,     -999.0,1,     -999.0,1,     -999.0,9
325020210420,        A22,      77,          1,         26,         26,2,20210512,       1540,    37.6074,   -68.3154,       4595,   353.7,  18.8597,  36.6524,2,  36.6516,2,    207.3,2,   207.6,2,    1.07,2,    2.68,2,    0.00,2,    0.06,2,-999.000,9,-999.000,9,-999.0000,9,  -999.0,9, -999.00,9, -999.000,9,  -999.00,-999.00000,9,  -999.00, -999.00,9, -999.00,9, -999.00, -999.00,9,-999.000,9, -999.00,9, -999.00,9,     -999.0,9, 20210512,     1733,  37.6087, -68.3216,    18.8603,2,     0.0389,1,     4.6545,1,     -999.0,1,     -999.0,1,     -999.0,9
325020210420,        A22,      77,          1,         25,         25,2,20210512,       1540,    37.6074,   -68.3154,       4595,   404.5,  18.7437,  36.6439,2,  36.6423,2,    207.7,2,   207.2,2,    1.07,2,    2.89,2,    0.00,2,    0.07,2,-999.000,9,-999.000,9,-999.0000,9,  -999.0,9, -999.00,9, -999.000,9,  -999.00,-999.00000,9,  -999.00, -999.00,9, -999.00,9, -999.00, -999.00,1,-999.000,9, -999.00,9, -999.00,9,     -999.0,9, 20210512,     1730,  37.6089, -68.3223,    18.7437,2,     0.0390,1,     4.6553,1,     -999.0,1,     -999.0,1,     -999.0,9
325020210420,        A22,      77,          1,         24,         24,2,20210512,       1540,    37.6074,   -68.3154,       4595,   454.3,  18.4167,  36.5708,2,  36.5712,2,    196.4,2,   196.9,2,    1.46,2,    4.32,2,    0.00,2,    0.15,2,-999.000,9,-999.000,9,-999.0000,9,  -999.0,9, -999.00,9, -999.000,9,  -999.00,-999.00000,9,  -999.00, -999.00,9, -999.00,9, -999.00, -999.00,9,-999.000,9, -999.00,9, -999.00,9,     -999.0,9, 20210512,     1728,  37.6090, -68.3230,    18.4156,2,     0.0400,1,     4.6569,1,     -999.0,1,     -999.0,1,     -999.0,9
325020210420,        A22,      77,          1,         23,         23,2,20210512,       1540,    37.6074,   -68.3154,       4595,   504.4,  17.7332,  36.4469,2,  36.4451,2,    181.6,2,   181.7,2,    2.05,2,    6.73,2,    0.00,2,    0.28,2,-999.000,9,-999.000,9,-999.0000,9,  -999.0,9, -999.00,9, -999.000,9,  -999.00,-999.00000,9,  -999.00, -999.00,9, -999.00,9, -999.00, -999.00,9,-999.000,9, -999.00,9, -999.00,9,     -999.0,9, 20210512,     1725,  37.6092, -68.3239,    17.7329,2,     0.0405,1,     4.6596,1,     -999.0,1,     -999.0,1,     -999.0,9
325020210420,        A22,      77,          1,         22,         22,2,20210512,       1540,    37.6074,   -68.3154,       4595,   605.6,  16.0347,  36.1623,2,  36.1605,2,    171.1,2,   171.0,2,    3.70,2,   10.48,2,    0.00,2,    0.53,2,-999.000,9,-999.000,9,-999.0000,9,  -999.0,9, -999.00,9, -999.000,9,  -999.00,-999.00000,9,  -999.00, -999.00,9, -999.00,9, -999.00, -999.00,9,-999.000,9, -999.00,9, -999.00,9,     -999.0,9, 20210512,     1721,  37.6095, -68.3252,    16.0348,2,     0.0406,1,     4.6623,1,     -999.0,1,     -999.0,1,     -999.0,9
325020210420,        A22,      77,          1,         21,         21,2,20210512,       1540,    37.6074,   -68.3154,       4595,   705.6,  13.8912,  35.8128,2,  35.8125,2,    158.9,2,   159.3,2,    6.14,2,   15.16,2,    0.00,2,    0.84,2,   2.106,2,   1.243,2,   1.1100,2,  2168.4,2, 2345.08,2, -999.000,9,  -999.00,   7.79928,2,    24.99, -999.00,9, -999.00,9, -999.00, -999.00,9,-999.000,9, -999.00,9, -999.00,9,      15.28,2, 20210512,     1718,  37.6097, -68.3260,    13.8985,2,     0.0420,1,     4.6654,1,     -999.0,1,     -999.0,1,     -999.0,9
325020210420,        A22,      77,          1,         20,         20,2,20210512,       1540,    37.6074,   -68.3154,       4595,   807.0,  11.1011,  35.3870,2,  35.3859,2,    127.3,2,   127.3,2,   12.10,2,   23.47,2,    0.00,2,    1.40,2,   1.536,2,   0.866,2,   0.5600,2,  2197.4,2, 2325.46,2, -999.000,9,  -999.00,   7.68216,2,    25.02, -999.00,9, -999.00,9, -999.00, -999.00,1,-999.000,9, -999.00,9, -999.00,9,      21.90,2, 20210512,     1715,  37.6099, -68.3269,    11.1035,2,     0.0424,1,     4.6603,1,     -999.0,1,     -999.0,1,     -999.0,9
325020210420,        A22,      77,          1,         19,         19,2,20210512,       1540,    37.6074,   -68.3154,       4595,   908.4,   8.8043,  35.1965,2,  35.1959,2,    152.5,2,   152.2,2,   14.05,2,   23.78,2,    0.00,2,    1.46,2,-999.000,9,-999.000,9,-999.0000,9,  -999.0,9, -999.00,9, -999.000,9,  -999.00,-999.00000,9,  -999.00, -999.00,9, -999.00,9, -999.00, -999.00,9,-999.000,9, -999.00,9, -999.00,9,     -999.0,9, 20210512,     1710,  37.6101, -68.3278,     8.8024,2,     0.0423,1,     4.6656,1,     -999.0,1,     -999.0,1,     -999.0,9
325020210420,        A22,      77,          1,         18,         18,2,20210512,       1540,    37.6074,   -68.3154,       4595,  1009.6,   6.3298,  35.0965,2,  35.0955,2,    203.2,2,   202.9,2,   13.56,2,   20.88,2,    0.00,2,    1.32,2,-999.000,9,-999.000,9,-999.0000,9,  -999.0,9, -999.00,9, -999.000,9,  -999.00,-999.00000,9,  -999.00, -999.00,9, -999.00,9, -999.00, -999.00,9,-999.000,9, -999.00,9, -999.00,9,     -999.0,9, 20210512,     1708,  37.6102, -68.3287,     6.3328,2,     0.0428,1,     4.6633,1,     -999.0,1,     -999.0,1,     -999.0,9
325020210420,        A22,      77,          1,         17,         17,2,20210512,       1540,    37.6074,   -68.3154,       4595,  1111.8,   5.3214,  35.0438,2,  35.0447,2,    229.9,2,   229.7,2,   12.49,2,   19.23,2,    0.00,2,    1.22,2,-999.000,9,-999.000,9,-999.0000,9,  -999.0,9, -999.00,9, -999.000,9,  -999.00,-999.00000,9,  -999.00, -999.00,9, -999.00,9, -999.00, -999.00,9,-999.000,9, -999.00,9, -999.00,9,     -999.0,9, 20210512,     1705,  37.6104, -68.3295,     5.3204,2,     0.0416,1,     4.6617,1,     -999.0,1,     -999.0,1,     -999.0,9
325020210420,        A22,      77,          1,         16,         16,2,20210512,       1540,    37.6074,   -68.3154,       4595,  1213.2,   4.9208,  35.0242,2,  35.0248,2,    241.9,2,   242.0,2,   12.10,2,   18.52,2,    0.00,2,    1.18,2,-999.000,9,-999.000,9,-999.0000,9,  -999.0,9, -999.00,9, -999.000,9,  -999.00,-999.00000,9,  -999.00, -999.00,9, -999.00,9, -999.00, -999.00,9,-999.000,9, -999.00,9, -999.00,9,     -999.0,9, 20210512,     1702,  37.6106, -68.3304,     4.9207,2,     0.0420,1,     4.6615,1,     -999.0,1,     -999.0,1,     -999.0,9
325020210420,        A22,      77,          1,         15,         15,2,20210512,       1540,    37.6074,   -68.3154,       4595,  1314.5,   4.7032,  35.0102,2,  35.0100,2,    248.2,2,   248.1,2,   12.00,2,   18.21,2,    0.00,2,    1.16,2,-999.000,9,-999.000,9,-999.0000,9,  -999.0,9, -999.00,9, -999.000,9,  -999.00,-999.00000,9,  -999.00, -999.00,9, -999.00,9, -999.00, -999.00,9,-999.000,9, -999.00,9, -999.00,9,     -999.0,9, 20210512,     1700,  37.6108, -68.3313,     4.7034,2,     0.0431,1,     4.6607,1,     -999.0,1,     -999.0,1,     -999.0,9
325020210420,        A22,      77,          1,         14,         14,2,20210512,       1540,    37.6074,   -68.3154,       4595,  1416.1,   4.4845,  34.9958,2,  34.9967,2,    253.4,2,   253.6,2,   11.91,2,   17.97,2,    0.00,2,    1.15,2,-999.000,9,-999.000,9,-999.0000,9,  -999.0,9, -999.00,9, -999.000,9,  -999.00,-999.00000,9,  -999.00, -999.00,9, -999.00,9, -999.00, -999.00,9,-999.000,9, -999.00,9, -999.00,9,     -999.0,9, 20210512,     1657,  37.6109, -68.3320,     4.4833,2,     0.0420,1,     4.6629,1,     -999.0,1,     -999.0,1,     -999.0,9
325020210420,        A22,      77,          1,         13,         13,2,20210512,       1540,    37.6074,   -68.3154,       4595,  1517.7,   4.3364,  34.9876,2,  34.9880,2,    256.7,2,   256.8,2,   12.00,2,   17.87,2,    0.00,2,    1.15,2,   2.772,2,   1.454,2,   0.9900,2,  2169.9,2, 2304.99,2, -999.000,9,  -999.00,    7.7112,2,    24.98, -999.00,9, -999.00,9, -999.00, -999.00,9,-999.000,9, -999.00,9, -999.00,9,      13.86,2, 20210512,     1654,  37.6111, -68.3327,     4.3387,2,     0.0422,1,     4.6613,1,     -999.0,1,     -999.0,1,     -999.0,9
325020210420,        A22,      77,          1,         12,         12,2,20210512,       1540,    37.6074,   -68.3154,       4595,  1618.4,   4.1911,  34.9778,2,  34.9776,2,    259.4,2,   259.6,2,   12.20,2,   17.81,2,    0.00,2,    1.14,2,-999.000,9,-999.000,9,-999.0000,9,  -999.0,9, -999.00,9, -999.000,9,  -999.00,-999.00000,9,  -999.00, -999.00,9, -999.00,9, -999.00, -999.00,9,-999.000,9, -999.00,9, -999.00,9,     -999.0,9, 20210512,     1651,  37.6113, -68.3334,     4.1905,2,     0.0422,1,     4.6631,1,     -999.0,1,     -999.0,1,     -999.0,9
325020210420,        A22,      77,          1,         11,         11,2,20210512,       1540,    37.6074,   -68.3154,       4595,  1822.4,   3.9764,  34.9689,2,  34.9691,2,    262.0,2,   262.1,2,   12.69,2,   17.77,2,    0.00,2,    1.14,2,-999.000,9,-999.000,9,-999.0000,9,  -999.0,9, -999.00,9, -999.000,9,  -999.00,-999.00000,9,  -999.00, -999.00,9, -999.00,9, -999.00, -999.00,9,-999.000,9, -999.00,9, -999.00,9,     -999.0,9, 20210512,     1646,  37.6115, -68.3346,     3.9768,2,     0.0424,1,     4.6636,1,     -999.0,1,     -999.0,1,     -999.0,9
325020210420,        A22,      77,          1,         10,         10,2,20210512,       1540,    37.6074,   -68.3154,       4595,  2026.4,   3.7951,  34.9636,2,  34.9630,2,    263.0,2,   262.9,2,   13.66,2,   17.80,2,    0.00,2,    1.14,2,-999.000,9,-999.000,9,-999.0000,9,  -999.0,9, -999.00,9, -999.000,9,  -999.00,-999.00000,9,  -999.00, -999.00,9, -999.00,9, -999.00, -999.00,9,-999.000,9, -999.00,9, -999.00,9,     -999.0,9, 20210512,     1642,  37.6117, -68.3356,     3.7951,2,     0.0419,1,     4.6645,1,     -999.0,1,     -999.0,1,     -999.0,9
325020210420,        A22,      77,          1,          9,          9,2,20210512,       1540,    37.6074,   -68.3154,       4595,  2281.0,   3.5622,  34.9544,2,  34.9545,2,    264.3,2,   264.5,2,   15.03,2,   17.82,2,    0.00,2,    1.14,2,   1.949,2,   0.987,2,   0.4500,2,  2163.7,2, 2306.99,2, -999.000,9,  -999.00,   7.72661,2,    24.98, -999.00,9, -999.00,9, -999.00, -999.00,9,-999.000,9, -999.00,9, -999.00,9,      13.19,2, 20210512,     1636,  37.6119, -68.3366,     3.5616,2,     0.0424,1,     4.6640,1,     -999.0,1,     -999.0,1,     -999.0,9
325020210420,        A22,      77,          1,          8,          8,2,20210512,       1540,    37.6074,   -68.3154,       4595,  2536.1,   3.3439,  34.9477,2,  34.9479,2,    265.2,2,   265.4,2,   16.59,2,   17.82,2,    0.00,2,    1.15,2,-999.000,9,-999.000,9,-999.0000,9,  -999.0,9, -999.00,9, -999.000,9,  -999.00,-999.00000,9,  -999.00, -999.00,9, -999.00,9, -999.00, -999.00,9,-999.000,9, -999.00,9, -999.00,9,     -999.0,9, 20210512,     1629,  37.6122, -68.3379,     3.3433,2,     0.0417,1,     4.6679,1,     -999.0,1,     -999.0,1,     -999.0,9
325020210420,        A22,      77,          1,          7,          7,2,20210512,       1540,    37.6074,   -68.3154,       4595,  2791.4,   3.1091,  34.9383,2,  34.9368,2,    266.5,2,   266.7,2,   18.05,2,   17.76,2,    0.00,2,    1.15,2,-999.000,9,-999.000,9,-999.0000,9,  -999.0,9, -999.00,9, -999.000,9,  -999.00,-999.00000,9,  -999.00, -999.00,9, -999.00,9, -999.00, -999.00,9,-999.000,9, -999.00,9, -999.00,9,     -999.0,9, 20210512,     1623,  37.6124, -68.3389,     3.1090,2,     0.0425,1,     4.6680,1,     -999.0,1,     -999.0,1,     -999.0,9
325020210420,        A22,      77,          1,          6,          6,2,20210512,       1540,    37.6074,   -68.3154,       4595,  3045.8,   2.8839,  34.9291,2,  34.9278,2,    268.1,2,   268.2,2,   19.52,2,   17.67,2,    0.00,2,    1.16,2,-999.000,9,-999.000,9,-999.0000,9,  -999.0,9, -999.00,9, -999.000,9,  -999.00,-999.00000,9,  -999.00, -999.00,9, -999.00,9, -999.00, -999.00,9,-999.000,9, -999.00,9, -999.00,9,     -999.0,9, 20210512,     1617,  37.6126, -68.3398,     2.8801,2,     0.0432,1,     4.6688,1,     -999.0,1,     -999.0,1,     -999.0,9
325020210420,        A22,      77,          1,          5,          5,2,20210512,       1540,    37.6074,   -68.3154,       4595,  3353.9,   2.6017,  34.9147,2,  34.9140,2,    270.5,2,   270.4,2,   21.18,2,   17.54,2,    0.00,2,    1.16,2,-999.000,9,-999.000,9,-999.0000,9,  -999.0,9, -999.00,9, -999.000,9,  -999.00,-999.00000,9,  -999.00, -999.00,9, -999.00,9, -999.00, -999.00,9,-999.000,9, -999.00,9, -999.00,9,     -999.0,9, 20210512,     1609,  37.6129, -68.3412,     2.6019,2,     0.0429,1,     4.6693,1,     -999.0,1,     -999.0,1,     -999.0,9
325020210420,        A22,      77,          1,          4,          4,2,20210512,       1540,    37.6074,   -68.3154,       4595,  3661.1,   2.3865,  34.9019,2,  34.9014,2,    270.4,2,   270.5,2,   24.50,2,   17.79,2,    0.00,2,    1.18,2,-999.000,9,-999.000,9,-999.0000,9,  -999.0,9, -999.00,9, -999.000,9,  -999.00,-999.00000,9,  -999.00, -999.00,9, -999.00,9, -999.00, -999.00,9,-999.000,9, -999.00,9, -999.00,9,     -999.0,9, 20210512,     1603,  37.6131, -68.3422,     2.3863,2,     0.0428,1,     4.6681,1,     -999.0,1,     -999.0,1,     -999.0,9
325020210420,        A22,      77,          1,          3,          3,2,20210512,       1540,    37.6074,   -68.3154,       4595,  3967.0,   2.3022,  34.8950,2,  34.8936,2,    269.5,2,   269.7,2,   27.23,2,   18.13,2,    0.00,2,    1.21,2,-999.000,9,-999.000,9,-999.0000,9,  -999.0,9, -999.00,9, -999.000,9,  -999.00,-999.00000,9,  -999.00, -999.00,9, -999.00,9, -999.00, -999.00,9,-999.000,9, -999.00,9, -999.00,9,     -999.0,9, 20210512,     1556,  37.6134, -68.3433,     2.3022,2,     0.0429,1,     4.6650,1,     -999.0,1,     -999.0,1,     -999.0,9