BOTTLE,20230513CCHSIOCBG
EXPOCODE,SECT_ID,STNNBR,CASTNO,SAMPNO,BTLNBR,BTLNBR_FLAG_W,DATE,TIME,LATITUDE,LONGITUDE,DEPTH,CTDPRS,CTDTMP,CTDSAL,CTDSAL_FLAG_W,SALNTY,SALNTY_FLAG_W,CTDOXY,CTDOXY_FLAG_W,OXYGEN,OXYGEN_FLAG_W,SILCAT,SILCAT_FLAG_W,NITRAT,NITRAT_FLAG_W,NITRIT,NITRIT_FLAG_W,PHSPHT,PHSPHT_FLAG_W,CFC-11,CFC-11_FLAG_W,CFC-12,CFC-12_FLAG_W,SF6,SF6_FLAG_W,TCARBN,TCARBN_FLAG_W,ALKALI,ALKALI_FLAG_W,FCO2,FCO2_FLAG_W,FCO2TMP,PH_TOT,PH_TOT_FLAG_W,PH_TMP,DELC13,DELC13_FLAG_W,DELC14,DELC14_FLAG_W,C14ERR,DELO18,DELO18_FLAG_W,POC,POC_FLAG_W,DOC,DOC_FLAG_W,TDN,TDN_FLAG_W,N2O,N2O_FLAG_W,BTL_DATE,BTL_TIME,BTL_LAT,BTL_LON,REFTMP,REFTMP_FLAG_W,CTDFLUOR,CTDFLUOR_FLAG_W,CTDXMISS,CTDXMISS_FLAG_W,D15N_NO2+NO3,D15N_NO2+NO3_FLAG_W,D18O_NO2+NO3,D18O_NO2+NO3_FLAG_W,HPLC,HPLC_FLAG_W
,,,,,,,,,,,METERS,DBAR,ITS-90,PSS-78,,PSS-78,,UMOL/KG,,UMOL/KG,,UMOL/KG,,UMOL/KG,,UMOL/KG,,UMOL/KG,,PMOL/KG,,PMOL/KG,,FMOL/KG,,UMOL/KG,,UMOL/KG,,UATM,,DEG C,,,DEG C,/MILLE,,/MILLE,,/MILLE,/MILLE,,UG/KG,,UMOL/KG,,UMOL/KG,,NMOL/KG,,,,,,ITS-90,,VOLTS,,VOLTS,,/MILLE,,/MILLE,,,
325020210420,        A22,      64,          1,         36,         36,2,20210508,       0014,    31.9074,   -65.0452,       3850,     5.7,  22.6746,  36.9208,2,  36.9211,2,    217.0,2,   216.8,2,    0.49,2,    0.01,2,    0.00,2,    0.00,2,   1.743,2,   1.117,2,   1.8600,2,  2086.4,6, 2411.09,2,  329.250,2,    20.00,   8.05595,2,    25.03, -999.00,9, -999.00,9, -999.00, -999.00,1,-999.000,9,   70.90,2,    3.65,2,       6.48,2, 20210508,      210,  31.9074, -65.0452,    22.6716,2,     0.0432,1,     4.6081,1,     -999.0,9,     -999.0,9,     -999.0,9
325020210420,        A22,      64,          1,         35,         35,2,20210508,       0014,    31.9074,   -65.0452,       3850,    20.6,  22.6191,  36.9337,2,  36.9328,2,    217.2,2,   217.0,2,    0.39,2,    0.00,2,    0.00,2,    0.00,2,-999.000,9,-999.000,9,-999.0000,9,  2087.5,2, 2416.97,2,  329.030,2,    20.00,   8.05705,6,    24.97, -999.00,9, -999.00,9, -999.00, -999.00,9,-999.000,9,   69.50,2,    3.68,2,     -999.0,9, 20210508,      210,  31.9074, -65.0452,    22.6139,2,     0.0438,1,     4.6107,1,     -999.0,9,     -999.0,9,     -999.0,9
325020210420,        A22,      64,          1,         34,         34,2,20210508,       0014,    31.9074,   -65.0452,       3850,    40.3,  22.2975,  36.9921,2,  36.9902,2,    217.0,2,   217.0,2,    0.39,2,    0.00,2,    0.00,2,    0.00,2,-999.000,9,-999.000,9,-999.0000,9,  2087.4,2, 2414.65,2,  327.400,2,    20.00,   8.05885,2,    25.00, -999.00,9, -999.00,9, -999.00, -999.00,9,-999.000,9,   68.50,2,    3.61,2,     -999.0,9, 20210508,      208,  31.9074, -65.0452,    22.2996,2,     0.0442,1,     4.6211,1,     -999.0,9,     -999.0,9,     -999.0,9
325020210420,        A22,      64,          1,         33,         33,2,20210508,       0014,    31.9074,   -65.0452,       3850,    65.7,  21.8244,  36.9247,2,  36.9241,2,    215.5,2,   216.0,2,    0.39,2,    0.00,2,    0.00,2,    0.00,2,   1.814,2,   1.133,2,   1.8900,2,  2089.8,2, 2410.91,2,  336.190,2,    20.00,   8.04872,2,    24.98, -999.00,9, -999.00,9, -999.00, -999.00,9,-999.000,9,   67.40,2,    3.94,2,       6.67,2, 20210508,      206,  31.9074, -65.0452,    21.8234,2,     0.0495,1,     4.6228,1,     -999.0,9,     -999.0,9,     -999.0,9
325020210420,        A22,      64,          1,         32,         32,2,20210508,       0014,    31.9074,   -65.0452,       3850,    91.2,  20.7712,  36.7978,2,  36.7970,2,    208.1,2,   208.5,2,    0.29,2,    0.00,2,    0.00,2,    0.00,2,-999.000,9,-999.000,9,-999.0000,9,  2101.6,2,  2405.1,2,  364.510,2,    20.00,   8.01903,2,    24.91, -999.00,9, -999.00,9, -999.00, -999.00,1,-999.000,9,   57.30,2,    3.33,2,     -999.0,9, 20210508,      204,  31.9074, -65.0451,    20.7726,2,     0.0721,1,     4.6100,1,     -999.0,9,     -999.0,9,     -999.0,9
325020210420,        A22,      64,          1,         31,         31,2,20210508,       0014,    31.9074,   -65.0452,       3850,   116.1,  19.8622,  36.7195,2,  36.7195,2,    211.1,2,   210.4,2,    0.39,2,    0.67,2,    0.03,2,    0.00,2,   1.927,2,   1.220,2,   1.9400,2,  2104.9,2, 2397.87,2,  375.520,2,    20.00,   8.00633,2,    24.99, -999.00,9, -999.00,9, -999.00, -999.00,9,-999.000,9,   55.30,2,    4.27,2,       7.31,2, 20210508,      202,  31.9074, -65.0452,    19.8602,2,     0.0868,1,     4.6168,1,     -999.0,9,     -999.0,9,     -999.0,9
325020210420,        A22,      64,          1,         30,         30,2,20210508,       0014,    31.9074,   -65.0452,       3850,   141.6,  19.6126,  36.6954,2,  36.6955,2,    204.3,2,   204.8,2,    0.49,2,    1.44,2,    0.00,2,    0.01,2,-999.000,9,-999.000,9,-999.0000,9,  2108.6,2,  2395.4,2,  386.470,2,    20.00,   7.99654,2,    24.98, -999.00,9, -999.00,9, -999.00, -999.00,9,-999.000,9,   53.60,2,    4.66,2,     -999.0,9, 20210508,      200,  31.9074, -65.0452,    19.6093,2,     0.0532,1,     4.6519,1,     -999.0,9,     -999.0,9,     -999.0,9
325020210420,        A22,      64,          1,         29,         29,2,20210508,       0014,    31.9074,   -65.0452,       3850,   186.6,  19.3726,  36.6861,2,  36.6877,2,    211.1,2,   211.9,2,    0.58,2,    1.53,2,    0.01,2,    0.02,2,   1.944,2,   1.236,2,   2.0000,2,  2107.3,2,  2395.4,2,  380.190,2,    20.00,   8.00208,2,    24.94, -999.00,9, -999.00,9, -999.00, -999.00,9,-999.000,9,   55.00,2,    5.13,2,       7.30,2, 20210508,      158,  31.9074, -65.0452,    19.3708,2,     0.0480,1,     4.6520,1,     -999.0,9,     -999.0,9,     -999.0,9
325020210420,        A22,      64,          1,         28,         28,2,20210508,       0014,    31.9074,   -65.0452,       3850,   237.4,  19.2838,  36.6995,2,  36.6988,2,    217.9,2,   217.9,2,    0.49,2,    1.18,2,    0.01,2,    0.00,2,-999.000,9,-999.000,9,-999.0000,9,  2104.7,2, 2396.24,2,  376.220,6,    20.00,   8.00614,2,    24.92, -999.00,9, -999.00,9, -999.00, -999.00,9,-999.000,9,   55.40,2,    4.83,2,     -999.0,9, 20210508,      154,  31.9074, -65.0452,    19.2824,2,     0.0452,1,     4.6543,1,     -999.0,9,     -999.0,9,     -999.0,9
325020210420,        A22,      64,          1,         27,         27,2,20210508,       0014,    31.9074,   -65.0452,       3850,   288.0,  19.1506,  36.6811,2,  36.6806,2,    215.7,2,   215.7,2,    0.68,2,    1.59,2,    0.00,2,    0.02,2,   1.959,2,   1.245,2,   1.9600,2,  2108.9,2, 2395.06,2,  382.410,2,    20.00,   8.00076,2,    25.01, -999.00,9, -999.00,9, -999.00, -999.00,9,-999.000,9,   54.00,2, -999.00,1,       7.49,2, 20210508,      153,  31.9074, -65.0452,    19.1478,2,     0.0405,1,     4.6573,1,     -999.0,9,     -999.0,9,     -999.0,9
325020210420,        A22,      64,          1,         26,         26,2,20210508,       0014,    31.9074,   -65.0452,       3850,   337.1,  18.8935,  36.6409,2,  36.6390,2,    207.1,2,   206.9,2,    0.88,2,    2.68,2,    0.00,2,    0.08,2,   2.030,2,   1.273,2,   1.9600,2,  2116.5,2, 2392.14,2,  399.550,2,    20.00,   7.98505,2,    24.98, -999.00,9, -999.00,9, -999.00, -999.00,9,-999.000,9,   53.10,2, -999.00,1,       8.00,2, 20210508,      150,  31.9074, -65.0452,    18.8920,2,     0.0392,1,     4.6600,1,     -999.0,9,     -999.0,9,     -999.0,9
325020210420,        A22,      64,          1,         25,         25,2,20210508,       0014,    31.9074,   -65.0452,       3850,   387.9,  18.6403,  36.6051,2,  36.6025,2,    203.8,2,   203.4,2,    0.97,2,    3.38,2,    0.00,2,    0.11,2,-999.000,9,-999.000,9,-999.0000,9,  2121.2,2, 2390.41,2,  411.480,2,    20.00,   7.97484,2,    24.96, -999.00,9, -999.00,9, -999.00, -999.00,9,-999.000,9,   49.50,2, -999.00,1,     -999.0,9, 20210508,      148,  31.9074, -65.0451,    18.6398,2,     0.0387,1,     4.6607,1,     -999.0,9,     -999.0,9,     -999.0,9
325020210420,        A22,      64,          1,         24,         24,2,20210508,       0014,    31.9074,   -65.0452,       3850,   438.7,  18.0636,  36.4958,2,  36.4955,2,    191.2,2,   191.7,2,    1.46,2,    5.33,2,    0.00,2,    0.22,2,   2.108,2,   1.319,2,   1.6700,2,  2131.2,2, 2385.62,2,  444.700,2,    20.00,   7.94429,2,    25.00, -999.00,9, -999.00,9, -999.00, -999.00,9,-999.000,9,   47.00,2, -999.00,1,       8.97,2, 20210508,      146,  31.9074, -65.0452,    18.0632,2,     0.0400,1,     4.6630,1,     -999.0,9,     -999.0,9,     -999.0,9
325020210420,        A22,      64,          1,         23,         23,2,20210508,       0014,    31.9074,   -65.0452,       3850,   488.9,  17.3565,  36.3751,2,  36.3713,2,    184.0,2,   184.5,2,    2.05,2,    7.12,2,    0.00,2,    0.33,2,   2.155,2,   1.347,2,   1.5400,2,  2139.1,2, 2377.15,2,  476.010,2,    20.00,    7.9173,2,    24.97, -999.00,9, -999.00,9, -999.00, -999.00,9,-999.000,9,   47.10,2, -999.00,1,       9.98,2, 20210508,      143,  31.9074, -65.0452,    17.3468,2,     0.0399,1,     4.6637,1,     -999.0,9,     -999.0,9,     -999.0,9
325020210420,        A22,      64,          1,         22,         22,2,20210508,       0014,    31.9074,   -65.0452,       3850,   570.0,  15.8453,  36.1248,2,  36.1243,2,    176.5,2,   176.6,2,    3.41,2,   10.25,2,    0.00,2,    0.54,2,-999.000,9,-999.000,9,-999.0000,9,  2151.1,2, 2363.85,2,  535.900,2,    20.00,   7.87078,2,    25.01, -999.00,9, -999.00,9, -999.00, -999.00,9,-999.000,9,   48.40,2, -999.00,1,     -999.0,9, 20210508,      140,  31.9074, -65.0452,    15.8420,2,     0.0407,1,     4.6671,1,     -999.0,9,     -999.0,9,     -999.0,9
325020210420,        A22,      64,          1,         21,         21,2,20210508,       0014,    31.9074,   -65.0452,       3850,   671.2,  13.3034,  35.7245,2,  35.7250,2,    162.8,2,   163.2,2,    6.44,2,   15.65,2,    0.00,2,    0.90,2,   2.111,2,   1.250,2,   1.1100,2,  2168.8,2, 2341.86,2,  653.830,2,    20.00,   7.78971,2,    25.01, -999.00,9, -999.00,9, -999.00, -999.00,9,-999.000,9,   44.00,2, -999.00,1,      15.70,2, 20210508,      137,  31.9074, -65.0452,    13.3083,2,     0.0405,1,     4.6691,1,     -999.0,9,     -999.0,9,     -999.0,9
325020210420,        A22,      64,          1,         20,         20,2,20210508,       0014,    31.9074,   -65.0452,       3850,   772.1,  11.2776,  35.4549,2,  35.4563,2,    154.4,2,   154.5,2,    9.56,2,   19.72,2,    0.00,2,    1.18,2,   1.869,2,   1.079,2,   0.9100,2,  2182.1,2, 2330.53,2,  757.080,2,    20.00,   7.72861,2,    24.99, -999.00,9, -999.00,9, -999.00, -999.00,9,-999.000,9,   46.30,2, -999.00,1,      18.09,2, 20210508,      133,  31.9074, -65.0452,    11.2764,2,     0.0410,1,     4.6716,1,     -999.0,9,     -999.0,9,     -999.0,9
325020210420,        A22,      64,          1,         19,         19,2,20210508,       0014,    31.9074,   -65.0452,       3850,   872.7,   8.7902,  35.2177,2,  35.2146,2,    157.9,2,   156.9,2,   13.37,2,   23.02,2,    0.00,2,    1.42,2,   1.447,2,   0.785,2,   0.5300,2,  2191.9,6, 2319.42,2,  853.390,2,    20.00,    7.6801,2,    24.99, -999.00,9, -999.00,9, -999.00, -999.00,9,-999.000,9,   41.80,2, -999.00,1,      19.32,2, 20210508,      130,  31.9074, -65.0452,     8.7915,2,     0.0415,1,     4.6738,1,     -999.0,9,     -999.0,9,     -999.0,9
325020210420,        A22,      64,          1,         18,         18,2,20210508,       0014,    31.9074,   -65.0452,       3850,   974.0,   7.3004,  35.1305,2,  35.1299,2,    177.4,2,   177.4,2,   14.25,2,   22.58,2,    0.00,2,    1.43,2,-999.000,9,-999.000,9,-999.0000,9,  2190.1,2, 2317.07,2,  849.440,2,    20.00,   7.67858,6,    24.98, -999.00,9, -999.00,9, -999.00, -999.00,9,-999.000,9,   43.30,2, -999.00,1,     -999.0,9, 20210508,      127,  31.9074, -65.0452,     7.3000,2,     0.0423,1,     4.6745,1,     -999.0,9,     -999.0,9,     -999.0,9
325020210420,        A22,      64,          1,         17,         17,2,20210508,       0014,    31.9074,   -65.0452,       3850,  1075.1,   6.5121,  35.1548,2,  35.1536,2,    204.6,2,   204.5,2,   12.98,2,   20.26,2,    0.00,2,    1.30,2,   1.836,6,   0.985,6,   0.6700,6,  2183.0,2, 2317.04,2,  812.010,2,    20.00,   7.69774,2,    24.96, -999.00,9, -999.00,9, -999.00, -999.00,9,-999.000,9,   42.80,2, -999.00,1,      16.04,6, 20210508,      124,  31.9074, -65.0452,     6.5174,2,     0.0428,1,     4.6749,1,     -999.0,9,     -999.0,9,     -999.0,9
325020210420,        A22,      64,          1,         16,         16,2,20210508,       0014,    31.9074,   -65.0452,       3850,  1176.3,   5.8555,  35.1229,2,  35.1226,2,    220.6,2,   220.4,2,   12.49,2,   19.41,2,    0.00,2,    1.25,2,-999.000,9,-999.000,9,-999.0000,9,  2179.1,2, 2315.95,2,  796.210,2,    20.00,   7.70577,2,    24.96, -999.00,9, -999.00,9, -999.00, -999.00,9,-999.000,9,   42.70,2, -999.00,1,     -999.0,9, 20210508,      121,  31.9074, -65.0452,     5.8596,2,     0.0412,1,     4.6752,1,     -999.0,9,     -999.0,9,     -999.0,9
325020210420,        A22,      64,          1,         15,         15,2,20210508,       0014,    31.9074,   -65.0452,       3850,  1278.2,   5.2995,  35.0779,2,  35.0791,2,    232.1,2,   232.5,2,   12.49,2,   19.01,2,    0.00,2,    1.23,2,   2.103,2,   1.105,2,   0.6800,2,  2174.0,2,  2313.0,6,  786.240,2,    20.00,   7.71041,2,    24.97, -999.00,9, -999.00,9, -999.00, -999.00,9,-999.000,9,   42.20,2, -999.00,1,      14.70,2, 20210508,      117,  31.9074, -65.0452,     5.3029,2,     0.0422,1,     4.6750,1,     -999.0,9,     -999.0,9,     -999.0,9
325020210420,        A22,      64,          1,         14,         14,2,20210508,       0014,    31.9074,   -65.0452,       3850,  1379.5,   4.8940,  35.0501,2,  35.0506,2,    243.6,2,   243.7,2,   12.10,2,   18.36,2,    0.00,2,    1.18,2,   2.387,2,   1.277,2,   0.7900,2,  2171.6,2, 2309.73,2,  780.610,2,    20.00,   7.71296,6,    24.98, -999.00,9, -999.00,9, -999.00, -999.00,9,-999.000,9,   44.00,2, -999.00,1,      14.07,2, 20210508,      115,  31.9074, -65.0452,     4.8958,2,     0.0419,1,     4.6740,1,     -999.0,9,     -999.0,9,     -999.0,9
325020210420,        A22,      64,          1,         13,         13,2,20210508,       0014,    31.9074,   -65.0452,       3850,  1480.1,   4.6355,  35.0308,2,  35.0317,2,    249.4,2,   249.3,2,   12.10,2,   18.14,2,    0.00,2,    1.17,2,   2.466,2,   1.302,2,   0.7900,2,  2170.4,2, 2307.97,2,  774.710,2,    20.00,   7.71154,2,    25.01, -999.00,9, -999.00,9, -999.00, -999.00,9,-999.000,9,   45.20,2, -999.00,1,      13.75,2, 20210508,      112,  31.9074, -65.0451,     4.6364,2,     0.0427,1,     4.6740,1,     -999.0,9,     -999.0,9,     -999.0,9
325020210420,        A22,      64,          1,         12,         12,2,20210508,       0014,    31.9074,   -65.0452,       3850,  1581.4,   4.3761,  35.0122,2,  35.0122,2,    253.9,2,   254.3,2,   12.29,2,   17.97,2,    0.00,2,    1.16,2,   2.442,2,   1.274,2,   0.7200,2,  2169.0,2, 2308.41,2,  769.630,2,    20.00,    7.7169,2,    25.03, -999.00,9, -999.00,9, -999.00, -999.00,9,-999.000,9,   44.20,2, -999.00,1,      13.40,2, 20210508,      109,  31.9074, -65.0452,     4.3807,2,     0.0420,1,     4.6745,1,     -999.0,9,     -999.0,9,     -999.0,9
325020210420,        A22,      64,          1,         11,         11,2,20210508,       0014,    31.9074,   -65.0452,       3850,  1683.7,   4.2103,  35.0040,2,  35.0028,2,    256.0,2,   256.1,2,   12.78,2,   17.93,2,    0.00,2,    1.17,2,-999.000,9,-999.000,9,-999.0000,9,  2170.4,6, 2308.99,2,  763.530,2,    20.00,   7.72014,2,    25.04, -999.00,9, -999.00,9, -999.00, -999.00,9,-999.000,9,   43.90,2, -999.00,1,     -999.0,9, 20210508,      106,  31.9074, -65.0452,     4.2099,2,     0.0420,1,     4.6740,1,     -999.0,9,     -999.0,9,     -999.0,9
325020210420,        A22,      64,          1,         10,         10,2,20210508,       0014,    31.9074,   -65.0452,       3850,  1784.8,   3.9656,  34.9772,2,  34.9762,2,    260.4,2,   260.8,2,   12.78,2,   17.76,2,    0.00,2,    1.16,2,   2.330,2,   1.213,2,   0.6200,2,  2169.6,2, 2308.14,2,  764.480,2,    20.00,   7.71975,6,    25.02, -999.00,9, -999.00,9, -999.00, -999.00,9,-999.000,9,   44.50,2, -999.00,1,      13.42,2, 20210508,      101,  31.9074, -65.0452,     3.9672,2,     0.0427,1,     4.6740,1,     -999.0,9,     -999.0,9,     -999.0,9
325020210420,        A22,      64,          1,          9,          9,2,20210508,       0014,    31.9074,   -65.0452,       3850,  1957.6,   3.7812,  34.9711,2,  34.9697,2,    261.2,2,   261.6,2,   13.76,2,   17.80,2,    0.00,2,    1.16,2,   2.079,2,   1.047,2,   0.4200,2,  2167.3,2, 2309.46,6,  752.840,2,    20.00,   7.72402,2,    24.99, -999.00,9, -999.00,9, -999.00, -999.00,9,-999.000,9,   42.60,2, -999.00,1,      13.47,2, 20210508,       58,  31.9074, -65.0452,     3.7809,2,     0.0430,1,     4.6740,1,     -999.0,9,     -999.0,9,     -999.0,9
325020210420,        A22,      64,          1,          8,          8,2,20210508,       0014,    31.9074,   -65.0452,       3850,  2161.8,   3.6079,  34.9765,2,  34.9760,2,    258.9,2,   259.4,2,   16.49,2,   18.19,2,    0.00,2,    1.19,2,-999.000,9,-999.000,9,-999.0000,9,  2169.3,2, 2312.22,2,  738.700,2,    20.00,   7.73122,2,    25.01, -999.00,9, -999.00,9, -999.00, -999.00,9,-999.000,9,   44.40,2, -999.00,1,     -999.0,9, 20210508,       53,  31.9074, -65.0452,     3.6079,2,     0.0422,1,     4.6752,1,     -999.0,9,     -999.0,9,     -999.0,9
325020210420,        A22,      64,          1,          7,          7,2,20210508,       0014,    31.9074,   -65.0452,       3850,  2365.2,   3.3365,  34.9575,2,  34.9577,2,    261.0,2,   261.5,2,   18.05,2,   18.15,2,    0.00,2,    1.19,2,   1.280,2,   0.644,2,   0.2700,2,  2170.4,2, 2312.16,2,  741.340,2,    20.00,   7.73329,2,    25.03, -999.00,9, -999.00,9, -999.00, -999.00,9,-999.000,9,   45.50,3, -999.00,1,      13.19,2, 20210508,       48,  31.9074, -65.0451,     3.3360,2,     0.0423,1,     4.6751,1,     -999.0,9,     -999.0,9,     -999.0,9
325020210420,        A22,      64,          1,          6,          6,2,20210508,       0014,    31.9074,   -65.0452,       3850,  2569.3,   3.1544,  34.9494,2,  34.9486,2,    261.5,2,   261.7,2,   19.71,2,   18.24,2,    0.00,2,    1.19,2,   1.096,2,   0.563,2,   0.2300,2,  2170.2,2, 2316.12,2,  738.280,2,    20.00,   7.73447,2,    25.06, -999.00,9, -999.00,9, -999.00, -999.00,9,-999.000,9,   42.20,2, -999.00,1,      12.98,2, 20210508,       44,  31.9074, -65.0452,     3.1547,2,     0.0416,1,     4.6753,1,     -999.0,9,     -999.0,9,     -999.0,9
325020210420,        A22,      64,          1,          5,          5,2,20210508,       0014,    31.9074,   -65.0452,       3850,  2771.8,   2.9494,  34.9372,2,  34.9362,2,    263.4,2,   264.0,2,   20.79,2,   18.12,2,    0.00,2,    1.20,2,   1.103,2,   0.552,2,   0.2200,2,  2169.0,2, 2318.83,2,  736.700,2,    20.00,   7.73533,2,    25.00, -999.00,9, -999.00,9, -999.00, -999.00,9,-999.000,9,   44.50,2, -999.00,1,      13.25,2, 20210508,       39,  31.9074, -65.0452,     2.9503,2,     0.0423,1,     4.6753,1,     -999.0,9,     -999.0,9,     -999.0,9
325020210420,        A22,      64,          1,          4,          4,2,20210508,       0014,    31.9074,   -65.0452,       3850,  2976.4,   2.7420,  34.9251,2,  34.9250,2,    265.5,2,   265.7,2,   21.86,2,   17.96,2,    0.00,2,    1.19,2,-999.000,9,-999.000,9,-999.0000,9,  2168.6,2, 2314.26,2, -999.000,9,  -999.00,    7.7355,2,    25.03, -999.00,9, -999.00,9, -999.00, -999.00,9,-999.000,9,   45.90,3, -999.00,1,     -999.0,9, 20210508,       34,  31.9074, -65.0452,     2.7423,2,     0.0426,1,     4.6754,1,     -999.0,9,     -999.0,9,     -999.0,9
325020210420,        A22,      64,          1,          3,          3,2,20210508,       0014,    31.9074,   -65.0452,       3850,  3247.5,   2.4970,  34.9102,2,  34.9093,2,    267.2,2,   267.5,2,   24.01,2,   17.97,2,    0.00,2,    1.20,2,   1.182,2,   0.604,2,   0.2500,2,  2170.4,2, 2316.86,2,  740.880,2,    20.00,   7.73314,2,    24.99, -999.00,9, -999.00,9, -999.00, -999.00,9,-999.000,9,   42.50,2, -999.00,1,      13.12,2, 20210508,       28,  31.9074, -65.0452,     2.4970,2,     0.0429,1,     4.6757,1,     -999.0,9,     -999.0,9,     -999.0,9