BOTTLE,20230513CCHSIOCBG
EXPOCODE,SECT_ID,STNNBR,CASTNO,SAMPNO,BTLNBR,BTLNBR_FLAG_W,DATE,TIME,LATITUDE,LONGITUDE,DEPTH,CTDPRS,CTDTMP,CTDSAL,CTDSAL_FLAG_W,SALNTY,SALNTY_FLAG_W,CTDOXY,CTDOXY_FLAG_W,OXYGEN,OXYGEN_FLAG_W,SILCAT,SILCAT_FLAG_W,NITRAT,NITRAT_FLAG_W,NITRIT,NITRIT_FLAG_W,PHSPHT,PHSPHT_FLAG_W,CFC-11,CFC-11_FLAG_W,CFC-12,CFC-12_FLAG_W,SF6,SF6_FLAG_W,TCARBN,TCARBN_FLAG_W,ALKALI,ALKALI_FLAG_W,FCO2,FCO2_FLAG_W,FCO2TMP,PH_TOT,PH_TOT_FLAG_W,PH_TMP,DELC13,DELC13_FLAG_W,DELC14,DELC14_FLAG_W,C14ERR,DELO18,DELO18_FLAG_W,POC,POC_FLAG_W,DOC,DOC_FLAG_W,TDN,TDN_FLAG_W,N2O,N2O_FLAG_W,BTL_DATE,BTL_TIME,BTL_LAT,BTL_LON,REFTMP,REFTMP_FLAG_W,CTDFLUOR,CTDFLUOR_FLAG_W,CTDXMISS,CTDXMISS_FLAG_W,D15N_NO2+NO3,D15N_NO2+NO3_FLAG_W,D18O_NO2+NO3,D18O_NO2+NO3_FLAG_W,HPLC,HPLC_FLAG_W
,,,,,,,,,,,METERS,DBAR,ITS-90,PSS-78,,PSS-78,,UMOL/KG,,UMOL/KG,,UMOL/KG,,UMOL/KG,,UMOL/KG,,UMOL/KG,,PMOL/KG,,PMOL/KG,,FMOL/KG,,UMOL/KG,,UMOL/KG,,UATM,,DEG C,,,DEG C,/MILLE,,/MILLE,,/MILLE,/MILLE,,UG/KG,,UMOL/KG,,UMOL/KG,,NMOL/KG,,,,,,ITS-90,,VOLTS,,VOLTS,,/MILLE,,/MILLE,,,
325020210420,        A22,      85,          1,         33,         33,2,20210514,       1458,    39.4749,   -69.6395,       2401,     5.1,  14.5501,  34.2950,2,  34.2805,2,    285.4,2,   283.4,2,    0.00,2,    0.00,2,    0.00,2,    0.09,2,   2.879,2,   1.704,2,   2.6900,2,  2044.1,6, 2287.49,2, -999.000,9,  -999.00,   7.96888,2,    25.04, -999.00,9, -999.00,9, -999.00, -999.00,1,-999.000,9, -999.00,9, -999.00,9,       8.95,2, 20210514,     1623,  39.4749, -69.6395,    14.4234,3,     0.0752,1,     4.2247,1,     -999.0,9,     -999.0,9,     -999.0,9
325020210420,        A22,      85,          1,         32,         32,2,20210514,       1458,    39.4749,   -69.6395,       2401,    19.8,  11.0600,  34.0324,2,  34.0311,2,    271.8,2,   273.5,2,    1.27,2,    0.69,2,    0.26,2,    0.23,2,-999.000,9,-999.000,9,-999.0000,9,  -999.0,9, -999.00,9, -999.000,9,  -999.00,-999.00000,9,  -999.00, -999.00,9, -999.00,9, -999.00, -999.00,1,-999.000,9, -999.00,9, -999.00,9,     -999.0,9, 20210514,     1621,  39.4749, -69.6395,    10.9027,3,     0.1243,1,     4.5000,1,     -999.0,9,     -999.0,9,     -999.0,9
325020210420,        A22,      85,          1,         31,         31,2,20210514,       1458,    39.4749,   -69.6395,       2401,    39.8,  16.1676,  35.8973,2,  35.8947,2,    188.7,2,   188.8,2,    2.83,2,    6.33,2,    0.51,2,    0.39,2,-999.000,9,-999.000,9,-999.0000,9,  -999.0,9, -999.00,9, -999.000,9,  -999.00,-999.00000,9,  -999.00, -999.00,9, -999.00,9, -999.00, -999.00,9,-999.000,9, -999.00,9, -999.00,9,     -999.0,9, 20210514,     1620,  39.4749, -69.6395,    16.1683,2,     0.1726,1,     4.5135,1,     -999.0,9,     -999.0,9,     -999.0,9
325020210420,        A22,      85,          1,         30,         30,2,20210514,       1458,    39.4749,   -69.6395,       2401,    65.2,  15.3339,  35.9808,2,  35.9807,2,    166.4,2,   167.3,2,    4.68,2,   11.70,2,    0.03,2,    0.66,2,-999.000,9,-999.000,9,-999.0000,9,  2158.3,2, 2359.78,2, -999.000,9,  -999.00,   7.84263,6,    25.02, -999.00,9, -999.00,9, -999.00, -999.00,9,-999.000,9, -999.00,9, -999.00,9,     -999.0,9, 20210514,     1617,  39.4749, -69.6395,    15.3337,2,     0.0879,1,     4.5878,1,     -999.0,9,     -999.0,9,     -999.0,9
325020210420,        A22,      85,          1,         29,         29,2,20210514,       1458,    39.4749,   -69.6395,       2401,    90.7,  14.8895,  35.9673,2,  35.9566,2,    206.9,3,   212.2,2,    3.02,2,    8.02,2,    0.00,2,    0.46,2,-999.000,9,-999.000,9,-999.0000,9,  -999.0,9, -999.00,9, -999.000,9,  -999.00,-999.00000,9,  -999.00, -999.00,9, -999.00,9, -999.00, -999.00,9,-999.000,9, -999.00,9, -999.00,9,     -999.0,9, 20210514,     1615,  39.4749, -69.6395,    14.8896,2,     0.0556,1,     4.6393,1,     -999.0,9,     -999.0,9,     -999.0,9
325020210420,        A22,      85,          1,         28,         28,2,20210514,       1458,    39.4749,   -69.6395,       2401,   115.9,  14.7366,  35.9585,2,  35.9550,2,    211.6,2,   213.7,2,    3.41,2,    8.28,2,    0.00,2,    0.47,2,-999.000,9,-999.000,9,-999.0000,9,  2136.6,2, 2358.78,6, -999.000,9,  -999.00,   7.88936,2,    25.03, -999.00,9, -999.00,9, -999.00, -999.00,9,-999.000,9, -999.00,9, -999.00,9,     -999.0,9, 20210514,     1613,  39.4749, -69.6395,    14.7372,2,     0.0490,1,     4.6520,1,     -999.0,9,     -999.0,9,     -999.0,9
325020210420,        A22,      85,          1,         27,         27,2,20210514,       1458,    39.4749,   -69.6395,       2401,   141.5,  13.8950,  35.7856,2,  35.7868,2,    181.7,3,   179.8,2,    5.66,2,   13.05,2,    0.00,2,    0.76,2,-999.000,9,-999.000,9,-999.0000,9,  -999.0,9, -999.00,9, -999.000,9,  -999.00,-999.00000,9,  -999.00, -999.00,9, -999.00,9, -999.00, -999.00,9,-999.000,9, -999.00,9, -999.00,9,     -999.0,9, 20210514,     1612,  39.4749, -69.6395,    13.8960,2,     0.0437,1,     4.6513,1,     -999.0,9,     -999.0,9,     -999.0,9
325020210420,        A22,      85,          1,         26,         26,2,20210514,       1458,    39.4749,   -69.6395,       2401,   165.9,  13.1832,  35.6967,2,  35.6899,2,    150.5,2,   151.3,2,    7.90,2,   17.23,2,    0.00,2,    1.01,2,   1.968,2,   1.146,2,   1.0300,2,  2178.3,2, 2343.22,2, -999.000,9,  -999.00,   7.76752,2,    25.05, -999.00,9, -999.00,9, -999.00, -999.00,9,-999.000,9, -999.00,9, -999.00,9,      16.97,2, 20210514,     1609,  39.4749, -69.6395,    13.1802,2,     0.0413,1,     4.6563,1,     -999.0,9,     -999.0,9,     -999.0,9
325020210420,        A22,      85,          1,         25,         25,2,20210514,       1458,    39.4749,   -69.6395,       2401,   191.0,  12.1350,  35.5527,2,  35.5470,2,    132.5,2,   131.2,2,   10.34,2,   21.14,2,    0.00,2,    1.26,2,-999.000,9,-999.000,9,-999.0000,9,  -999.0,9, -999.00,9, -999.000,9,  -999.00,-999.00000,9,  -999.00, -999.00,9, -999.00,9, -999.00, -999.00,9,-999.000,9, -999.00,9, -999.00,9,     -999.0,9, 20210514,     1608,  39.4749, -69.6395,    12.1347,2,     0.0412,1,     4.6557,1,     -999.0,9,     -999.0,9,     -999.0,9
325020210420,        A22,      85,          1,         24,         24,2,20210514,       1458,    39.4749,   -69.6395,       2401,   217.1,  11.0095,  35.4008,2,  35.3997,2,    131.4,2,   131.2,2,   12.19,2,   23.00,2,    0.00,2,    1.40,2,-999.000,9,-999.000,9,-999.0000,9,  2199.2,2,  2329.8,2, -999.000,9,  -999.00,   7.68631,2,    25.02, -999.00,9, -999.00,9, -999.00, -999.00,9,-999.000,9, -999.00,9, -999.00,9,     -999.0,9, 20210514,     1606,  39.4749, -69.6395,    11.0099,2,     0.0408,1,     4.6563,1,     -999.0,9,     -999.0,9,     -999.0,9
325020210420,        A22,      85,          1,         23,         23,2,20210514,       1458,    39.4749,   -69.6395,       2401,   241.8,  10.2448,  35.3119,2,  35.3088,2,    133.7,2,   133.0,2,   13.27,2,   23.99,2,    0.00,2,    1.47,2,-999.000,9,-999.000,9,-999.0000,9,  -999.0,9, -999.00,9, -999.000,9,  -999.00,-999.00000,9,  -999.00, -999.00,9, -999.00,9, -999.00, -999.00,9,-999.000,9, -999.00,9, -999.00,9,     -999.0,9, 20210514,     1604,  39.4749, -69.6395,    10.2452,2,     0.0416,1,     4.6547,1,     -999.0,9,     -999.0,9,     -999.0,9
325020210420,        A22,      85,          1,         22,         22,2,20210514,       1458,    39.4749,   -69.6395,       2401,   287.1,   9.1071,  35.1765,2,  35.1811,2,    135.0,2,   135.5,2,   15.42,2,   25.56,2,    0.00,2,    1.59,2,   1.245,2,   0.689,2,   0.4600,2,  2206.6,2, 2317.96,2, -999.000,9,  -999.00,   7.64814,2,    25.01, -999.00,9, -999.00,9, -999.00, -999.00,9,-999.000,9, -999.00,9, -999.00,9,      21.08,2, 20210514,     1601,  39.4749, -69.6395,     9.1089,2,     0.0425,1,     4.6528,1,     -999.0,9,     -999.0,9,     -999.0,9
325020210420,        A22,      85,          1,         21,         21,2,20210514,       1458,    39.4749,   -69.6395,       2401,   337.9,   8.2578,  35.1581,2,  35.1577,2,    155.6,2,   156.8,2,   14.44,2,   23.91,2,    0.00,2,    1.49,2,-999.000,9,-999.000,9,-999.0000,9,  -999.0,9, -999.00,9, -999.000,9,  -999.00,-999.00000,9,  -999.00, -999.00,9, -999.00,9, -999.00, -999.00,9,-999.000,9, -999.00,9, -999.00,9,     -999.0,9, 20210514,     1600,  39.4749, -69.6395,     8.2581,2,     0.0425,1,     4.6575,1,     -999.0,9,     -999.0,9,     -999.0,9
325020210420,        A22,      85,          1,         20,         20,2,20210514,       1458,    39.4749,   -69.6395,       2401,   388.3,   7.0372,  35.1145,2,  35.1138,2,    183.7,2,   182.1,2,   13.76,2,   22.26,2,    0.00,2,    1.41,2,-999.000,9,-999.000,9,-999.0000,9,  -999.0,9, -999.00,9, -999.000,9,  -999.00,-999.00000,9,  -999.00, -999.00,9, -999.00,9, -999.00, -999.00,9,-999.000,9, -999.00,9, -999.00,9,     -999.0,9, 20210514,     1557,  39.4749, -69.6395,     7.0364,2,     0.0411,1,     4.6584,1,     -999.0,9,     -999.0,9,     -999.0,9
325020210420,        A22,      85,          1,         19,         19,2,20210514,       1458,    39.4749,   -69.6395,       2401,   439.0,   6.5092,  35.0888,2,  35.0890,2,    195.9,2,   196.7,2,   13.47,2,   21.27,2,    0.00,2,    1.36,2,-999.000,9,-999.000,9,-999.0000,9,  -999.0,9, -999.00,9, -999.000,9,  -999.00,-999.00000,9,  -999.00, -999.00,9, -999.00,9, -999.00, -999.00,9,-999.000,9, -999.00,9, -999.00,9,     -999.0,9, 20210514,     1555,  39.4749, -69.6395,     6.4814,2,     0.0430,1,     4.6585,1,     -999.0,9,     -999.0,9,     -999.0,9
325020210420,        A22,      85,          1,         18,         18,2,20210514,       1458,    39.4749,   -69.6395,       2401,   490.2,   6.0518,  35.0680,2,  35.0667,2,    207.0,2,   207.3,2,   13.27,2,   20.63,2,    0.00,2,    1.32,2,-999.000,9,-999.000,9,-999.0000,9,  -999.0,9, -999.00,9, -999.000,9,  -999.00,-999.00000,9,  -999.00, -999.00,9, -999.00,9, -999.00, -999.00,9,-999.000,9, -999.00,9, -999.00,9,     -999.0,9, 20210514,     1553,  39.4749, -69.6395,     6.0625,2,     0.0420,1,     4.6599,1,     -999.0,9,     -999.0,9,     -999.0,9
325020210420,        A22,      85,          1,         17,         17,2,20210514,       1458,    39.4749,   -69.6395,       2401,   569.7,   5.5052,  35.0510,2,  35.0512,2,    223.1,2,   223.1,2,   12.69,2,   19.59,2,    0.00,2,    1.27,2,   2.344,2,   1.263,2,   0.9700,2,  2182.9,2, 2310.87,2, -999.000,9,  -999.00,   7.68862,2,    25.01, -999.00,9, -999.00,9, -999.00, -999.00,9,-999.000,9, -999.00,9, -999.00,9,      14.92,2, 20210514,     1551,  39.4749, -69.6395,     5.5069,2,     0.0421,1,     4.6604,1,     -999.0,9,     -999.0,9,     -999.0,9
325020210420,        A22,      85,          1,         16,         16,2,20210514,       1458,    39.4749,   -69.6395,       2401,   671.6,   5.0845,  35.0389,2,  35.0386,2,    236.5,2,   236.4,2,   12.20,2,   18.80,2,    0.00,2,    1.22,2,-999.000,9,-999.000,9,-999.0000,9,  -999.0,9, -999.00,9, -999.000,9,  -999.00,-999.00000,9,  -999.00, -999.00,9, -999.00,9, -999.00, -999.00,9,-999.000,9, -999.00,9, -999.00,9,     -999.0,9, 20210514,     1548,  39.4749, -69.6395,     5.0847,2,     0.0419,1,     4.6641,1,     -999.0,9,     -999.0,9,     -999.0,9
325020210420,        A22,      85,          1,         15,         15,2,20210514,       1458,    39.4749,   -69.6395,       2401,   772.5,   4.7112,  35.0132,2,  35.0134,2,    247.5,2,   246.8,2,   11.91,2,   18.28,2,    0.00,2,    1.18,2,-999.000,9,-999.000,9,-999.0000,9,  -999.0,9, -999.00,9, -999.000,9,  -999.00,-999.00000,9,  -999.00, -999.00,9, -999.00,9, -999.00, -999.00,9,-999.000,9, -999.00,9, -999.00,9,     -999.0,9, 20210514,     1545,  39.4749, -69.6395,     4.7115,2,     0.0411,1,     4.6641,1,     -999.0,9,     -999.0,9,     -999.0,9
325020210420,        A22,      85,          1,         14,         14,2,20210514,       1458,    39.4749,   -69.6395,       2401,   873.6,   4.5086,  34.9989,2,  34.9998,2,    253.2,2,   253.1,2,   11.81,2,   18.00,2,    0.00,2,    1.16,2,   2.815,2,   1.503,2,   1.0600,2,  2172.6,2, 2306.25,2, -999.000,9,  -999.00,   7.70453,2,    25.02, -999.00,9, -999.00,9, -999.00, -999.00,9,-999.000,9, -999.00,9, -999.00,9,      13.72,2, 20210514,     1542,  39.4749, -69.6395,     4.5083,2,     0.0429,1,     4.6634,1,     -999.0,9,     -999.0,9,     -999.0,9
325020210420,        A22,      85,          1,         13,         13,2,20210514,       1458,    39.4749,   -69.6395,       2401,   974.8,   4.3270,  34.9871,2,  34.9882,2,    257.4,2,   258.2,2,   11.91,2,   17.78,2,    0.00,2,    1.15,2,-999.000,9,-999.000,9,-999.0000,9,  -999.0,9, -999.00,9, -999.000,9,  -999.00,-999.00000,9,  -999.00, -999.00,9, -999.00,9, -999.00, -999.00,9,-999.000,9, -999.00,9, -999.00,9,     -999.0,9, 20210514,     1539,  39.4749, -69.6395,     4.3270,2,     0.0429,1,     4.6646,1,     -999.0,9,     -999.0,9,     -999.0,9
325020210420,        A22,      85,          1,         12,         12,2,20210514,       1458,    39.4749,   -69.6395,       2401,  1076.3,   4.1640,  34.9775,2,  34.9784,2,    260.2,2,   260.1,2,   12.10,2,   17.70,2,    0.00,2,    1.15,2,-999.000,9,-999.000,9,-999.0000,9,  -999.0,9, -999.00,9, -999.000,9,  -999.00,-999.00000,9,  -999.00, -999.00,9, -999.00,9, -999.00, -999.00,9,-999.000,9, -999.00,9, -999.00,9,     -999.0,9, 20210514,     1536,  39.4749, -69.6395,     4.1642,2,     0.0423,1,     4.6625,1,     -999.0,9,     -999.0,9,     -999.0,9
325020210420,        A22,      85,          1,         11,         11,2,20210514,       1458,    39.4749,   -69.6395,       2401,  1177.6,   4.0615,  34.9710,2,  34.9724,2,    261.9,2,   261.8,2,   12.20,2,   17.65,2,    0.00,2,    1.14,2,-999.000,9,-999.000,9,-999.0000,9,  -999.0,9, -999.00,9, -999.000,9,  -999.00,-999.00000,9,  -999.00, -999.00,9, -999.00,9, -999.00, -999.00,9,-999.000,9, -999.00,9, -999.00,9,     -999.0,9, 20210514,     1532,  39.4749, -69.6395,     4.0613,2,     0.0416,1,     4.6638,1,     -999.0,9,     -999.0,9,     -999.0,9
325020210420,        A22,      85,          1,         10,         10,2,20210514,       1458,    39.4749,   -69.6395,       2401,  1279.3,   3.9744,  34.9686,2,  34.9691,2,    262.6,2,   262.7,2,   12.30,2,   17.66,2,    0.00,2,    1.14,2,-999.000,9,-999.000,9,-999.0000,9,  -999.0,9, -999.00,9, -999.000,9,  -999.00,-999.00000,9,  -999.00, -999.00,9, -999.00,9, -999.00, -999.00,9,-999.000,9, -999.00,9, -999.00,9,     -999.0,9, 20210514,     1530,  39.4749, -69.6395,     3.9742,2,     0.0419,1,     4.6640,1,     -999.0,9,     -999.0,9,     -999.0,9
325020210420,        A22,      85,          1,          9,          9,2,20210514,       1458,    39.4749,   -69.6395,       2401,  1380.4,   3.8742,  34.9642,2,  34.9646,2,    264.0,2,   264.0,2,   12.39,2,   17.63,2,    0.00,2,    1.14,2,   2.549,2,   1.335,2,   0.7900,2,  2167.3,2, 2305.71,2, -999.000,9,  -999.00,   7.71723,2,    25.03, -999.00,9, -999.00,9, -999.00, -999.00,9,-999.000,9, -999.00,9, -999.00,9,      12.98,2, 20210514,     1527,  39.4749, -69.6395,     3.8727,2,     0.0418,1,     4.6655,1,     -999.0,9,     -999.0,9,     -999.0,9
325020210420,        A22,      85,          1,          8,          8,2,20210514,       1458,    39.4749,   -69.6395,       2401,  1482.0,   3.7941,  34.9647,2,  34.9654,2,    263.5,2,   263.8,2,   13.27,2,   17.67,2,    0.00,2,    1.15,2,-999.000,9,-999.000,9,-999.0000,9,  -999.0,9, -999.00,9, -999.000,9,  -999.00,-999.00000,9,  -999.00, -999.00,9, -999.00,9, -999.00, -999.00,9,-999.000,9, -999.00,9, -999.00,9,     -999.0,9, 20210514,     1524,  39.4749, -69.6395,     3.7932,2,     0.0416,1,     4.6640,1,     -999.0,9,     -999.0,9,     -999.0,9
325020210420,        A22,      85,          1,          7,          7,2,20210514,       1458,    39.4749,   -69.6395,       2401,  1582.9,   3.7129,  34.9617,2,  34.9626,2,    264.1,2,   264.3,2,   13.66,2,   17.61,2,    0.00,2,    1.15,2,-999.000,9,-999.000,9,-999.0000,9,  -999.0,9, -999.00,9, -999.000,9,  -999.00,-999.00000,9,  -999.00, -999.00,9, -999.00,9, -999.00, -999.00,9,-999.000,9, -999.00,9, -999.00,9,     -999.0,9, 20210514,     1521,  39.4749, -69.6395,     3.7126,2,     0.0429,1,     4.6671,1,     -999.0,9,     -999.0,9,     -999.0,9
325020210420,        A22,      85,          1,          6,          6,2,20210514,       1458,    39.4749,   -69.6395,       2401,  1684.9,   3.6218,  34.9593,2,  34.9597,2,    264.2,2,   264.4,2,   14.35,2,   17.68,2,    0.00,2,    1.15,2,-999.000,9,-999.000,9,-999.0000,9,  -999.0,9, -999.00,9, -999.000,9,  -999.00,-999.00000,9,  -999.00, -999.00,9, -999.00,9, -999.00, -999.00,9,-999.000,9, -999.00,9, -999.00,9,     -999.0,9, 20210514,     1518,  39.4749, -69.6395,     3.6214,2,     0.0420,1,     4.6676,1,     -999.0,9,     -999.0,9,     -999.0,9
325020210420,        A22,      85,          1,          5,          5,2,20210514,       1458,    39.4749,   -69.6395,       2401,  1786.0,   3.5156,  34.9560,2,  34.9565,2,    264.6,2,   264.8,2,   14.93,2,   17.75,2,    0.00,2,    1.15,2,-999.000,9,-999.000,9,-999.0000,9,  -999.0,9, -999.00,9, -999.000,9,  -999.00,-999.00000,9,  -999.00, -999.00,9, -999.00,9, -999.00, -999.00,9,-999.000,9, -999.00,9, -999.00,9,     -999.0,9, 20210514,     1515,  39.4749, -69.6395,     3.5151,2,     0.0419,1,     4.6672,1,     -999.0,9,     -999.0,9,     -999.0,9
325020210420,        A22,      85,          1,          4,          4,2,20210514,       1458,    39.4749,   -69.6395,       2401,  1887.7,   3.4397,  34.9530,2,  34.9536,2,    264.8,2,   265.1,2,   15.52,2,   17.73,2,    0.00,2,    1.15,2,-999.000,9,-999.000,9,-999.0000,9,  -999.0,9, -999.00,9, -999.000,9,  -999.00,-999.00000,9,  -999.00, -999.00,9, -999.00,9, -999.00, -999.00,9,-999.000,9, -999.00,9, -999.00,9,     -999.0,9, 20210514,     1512,  39.4749, -69.6395,     3.4396,2,     0.0414,1,     4.6678,1,     -999.0,9,     -999.0,9,     -999.0,9
325020210420,        A22,      85,          1,          3,          3,2,20210514,       1458,    39.4749,   -69.6395,       2401,  2040.7,   3.3059,  34.9483,2,  34.9490,2,    265.5,2,   265.6,2,   16.49,2,   17.77,2,    0.00,2,    1.16,2,   1.713,2,   0.865,2,   0.4100,2,  -999.0,9, -999.00,9, -999.000,9,  -999.00,-999.00000,9,  -999.00, -999.00,9, -999.00,9, -999.00, -999.00,9,-999.000,9, -999.00,9, -999.00,9,      12.65,2, 20210514,     1508,  39.4749, -69.6395,     3.3057,2,     0.0423,1,     4.6670,1,     -999.0,9,     -999.0,9,     -999.0,9
325020210420,        A22,      85,          1,          2,          2,2,20210514,       1458,    39.4749,   -69.6395,       2401,  2193.2,   3.1344,  34.9410,2,  34.9412,2,    266.7,2,   266.9,2,   17.37,2,   17.67,2,    0.00,2,    1.16,2,   1.668,2,   0.852,2,   0.4100,2,  -999.0,9, -999.00,9, -999.000,9,  -999.00,-999.00000,9,  -999.00, -999.00,9, -999.00,9, -999.00, -999.00,9,-999.000,9, -999.00,9, -999.00,9,      12.72,2, 20210514,     1504,  39.4749, -69.6395,     3.1339,2,     0.0424,1,     4.6667,1,     -999.0,9,     -999.0,9,     -999.0,9
325020210420,        A22,      85,          1,          1,          1,2,20210514,       1458,    39.4749,   -69.6395,       2401,  2422.1,   2.9714,  34.9338,2,  34.9343,2,    267.8,2,   267.8,2,   18.44,2,   17.60,2,    0.00,2,    1.16,2,   1.694,2,   0.862,2,   0.4400,2,  2167.9,2,  2312.1,2, -999.000,9,  -999.00,   7.72762,2,    25.03, -999.00,9, -999.00,9, -999.00, -999.00,9,-999.000,9, -999.00,9, -999.00,9,      12.56,2, 20210514,     1458,  39.4749, -69.6395,     2.9706,2,     0.0423,1,     4.6504,1,     -999.0,9,     -999.0,9,     -999.0,9