BOTTLE,20230513CCHSIOCBG
EXPOCODE,SECT_ID,STNNBR,CASTNO,SAMPNO,BTLNBR,BTLNBR_FLAG_W,DATE,TIME,LATITUDE,LONGITUDE,DEPTH,CTDPRS,CTDTMP,CTDSAL,CTDSAL_FLAG_W,SALNTY,SALNTY_FLAG_W,CTDOXY,CTDOXY_FLAG_W,OXYGEN,OXYGEN_FLAG_W,SILCAT,SILCAT_FLAG_W,NITRAT,NITRAT_FLAG_W,NITRIT,NITRIT_FLAG_W,PHSPHT,PHSPHT_FLAG_W,CFC-11,CFC-11_FLAG_W,CFC-12,CFC-12_FLAG_W,SF6,SF6_FLAG_W,TCARBN,TCARBN_FLAG_W,ALKALI,ALKALI_FLAG_W,FCO2,FCO2_FLAG_W,FCO2TMP,PH_TOT,PH_TOT_FLAG_W,PH_TMP,DELC13,DELC13_FLAG_W,DELC14,DELC14_FLAG_W,C14ERR,DELO18,DELO18_FLAG_W,POC,POC_FLAG_W,DOC,DOC_FLAG_W,TDN,TDN_FLAG_W,N2O,N2O_FLAG_W,BTL_DATE,BTL_TIME,BTL_LAT,BTL_LON,REFTMP,REFTMP_FLAG_W,CTDFLUOR,CTDFLUOR_FLAG_W,CTDXMISS,CTDXMISS_FLAG_W,D15N_NO2+NO3,D15N_NO2+NO3_FLAG_W,D18O_NO2+NO3,D18O_NO2+NO3_FLAG_W,HPLC,HPLC_FLAG_W
,,,,,,,,,,,METERS,DBAR,ITS-90,PSS-78,,PSS-78,,UMOL/KG,,UMOL/KG,,UMOL/KG,,UMOL/KG,,UMOL/KG,,UMOL/KG,,PMOL/KG,,PMOL/KG,,FMOL/KG,,UMOL/KG,,UMOL/KG,,UATM,,DEG C,,,DEG C,/MILLE,,/MILLE,,/MILLE,/MILLE,,UG/KG,,UMOL/KG,,UMOL/KG,,NMOL/KG,,,,,,ITS-90,,VOLTS,,VOLTS,,/MILLE,,/MILLE,,,
325020210420,        A22,      68,          1,         36,         36,2,20210509,       0427,    33.7857,   -65.9965,       5111,     4.4,  20.6604,  36.7140,2,  36.7151,2,    224.8,2,   224.1,2,    0.88,2,    0.00,2,    0.00,2,    0.00,2,   1.908,2,   1.202,2,   1.9200,2,  2092.2,6, 2397.64,2,  353.730,2,    20.00,   8.02843,2,    25.00, -999.00,9, -999.00,9, -999.00, -999.00,1,-999.000,9,   64.10,2,    4.07,2,       6.95,2, 20210509,      640,  33.7857, -65.9965,    20.6588,2,     0.0473,1,     4.5995,1,     -999.0,9,     -999.0,9,     -999.0,9
325020210420,        A22,      68,          1,         35,         35,2,20210509,       0427,    33.7857,   -65.9965,       5111,    24.0,  20.6644,  36.7133,2,  36.7139,2,    224.6,2,   224.3,2,    0.97,2,    0.00,2,    0.00,2,    0.00,2,-999.000,9,-999.000,9,-999.0000,9,  2093.2,2, -999.00,9,  353.490,2,    20.00,   8.02776,6,    25.01, -999.00,9, -999.00,9, -999.00, -999.00,9,-999.000,9,   65.20,2,    3.61,2,     -999.0,9, 20210509,      638,  33.7857, -65.9965,    20.6645,2,     0.0485,1,     4.5991,1,     -999.0,9,     -999.0,9,     -999.0,9
325020210420,        A22,      68,          1,         34,         34,2,20210509,       0427,    33.7857,   -65.9965,       5111,    51.0,  20.2345,  36.7798,2,  36.7796,2,    225.1,2,   224.8,2,    0.78,2,    0.00,2,    0.00,2,    0.00,2,   1.910,2,   1.203,2,   1.9000,2,  2094.7,2, 2401.48,2,  353.690,2,    20.00,   8.02924,2,    25.02, -999.00,9, -999.00,9, -999.00, -999.00,9,-999.000,9,   65.40,2,    3.64,2,       6.78,2, 20210509,      636,  33.7857, -65.9965,    20.2314,2,     0.0523,1,     4.6066,1,     -999.0,9,     -999.0,9,     -999.0,9
325020210420,        A22,      68,          1,         33,         33,2,20210509,       0427,    33.7857,   -65.9965,       5111,    77.3,  19.8191,  36.7359,2,  36.7367,2,    218.2,2,   218.2,2,    0.78,2,    0.36,2,    0.05,2,    0.00,2,-999.000,9,-999.000,9,-999.0000,9,  2098.6,2, 2397.77,2,  366.590,2,    20.00,   8.01543,2,    25.01, -999.00,9, -999.00,9, -999.00, -999.00,1,-999.000,9,   61.50,2,    4.39,2,     -999.0,9, 20210509,      635,  33.7857, -65.9964,    19.8182,2,     0.0952,1,     4.6045,1,     -999.0,9,     -999.0,9,     -999.0,9
325020210420,        A22,      68,          1,         32,         32,2,20210509,       0427,    33.7857,   -65.9965,       5111,   101.0,  19.5834,  36.7167,2,  36.7175,2,    215.9,2,   216.0,2,    0.78,2,    0.98,2,    0.01,2,    0.00,2,   1.940,2,   1.223,2,   2.0300,2,  2103.3,2, 2397.61,2,  371.720,2,    20.00,   8.01022,2,    25.00, -999.00,9, -999.00,9, -999.00, -999.00,9,-999.000,9,   61.80,2,    4.74,2,       7.41,2, 20210509,      632,  33.7857, -65.9965,    19.5843,2,     0.0611,1,     4.6415,1,     -999.0,9,     -999.0,9,     -999.0,9
325020210420,        A22,      68,          1,         31,         31,2,20210509,       0427,    33.7857,   -65.9965,       5111,   152.4,  19.4040,  36.6965,2,  36.6983,2,    214.8,2,   214.8,2,    0.97,2,    1.37,2,    0.00,2,    0.00,2,-999.000,9,-999.000,9,-999.0000,9,  2104.7,2, -999.00,9,  378.050,2,    20.00,   8.00491,2,    25.01, -999.00,9, -999.00,9, -999.00, -999.00,9,-999.000,9,   57.90,2,    4.28,2,     -999.0,9, 20210509,      631,  33.7857, -65.9964,    19.4011,2,     0.0406,1,     4.6572,1,     -999.0,9,     -999.0,9,     -999.0,9
325020210420,        A22,      68,          1,         30,         30,2,20210509,       0427,    33.7857,   -65.9965,       5111,   202.0,  19.1611,  36.6674,2,  36.6703,2,    209.8,2,   210.2,2,    1.07,2,    2.05,2,    0.00,2,    0.03,2,   1.970,2,   1.251,2,   1.9500,2,  2109.2,2,  2394.8,2,  389.990,2,    20.00,   7.99288,2,    25.01, -999.00,9, -999.00,9, -999.00, -999.00,9,-999.000,9,   56.00,2,    4.79,2,       7.65,2, 20210509,      629,  33.7857, -65.9964,    19.1623,2,     0.0397,1,     4.6574,1,     -999.0,9,     -999.0,9,     -999.0,9
325020210420,        A22,      68,          1,         29,         29,2,20210509,       0427,    33.7857,   -65.9965,       5111,   252.2,  18.8403,  36.6228,2,  36.6235,2,    203.6,2,   204.0,2,    1.27,2,    3.05,2,    0.00,2,    0.08,2,-999.000,9,-999.000,9,-999.0000,9,  2115.4,2, -999.00,9,  405.420,2,    20.00,   7.97679,6,    25.00, -999.00,9, -999.00,9, -999.00, -999.00,9,-999.000,9,   53.80,2,    6.03,2,     -999.0,9, 20210509,      627,  33.7857, -65.9964,    18.8392,2,     0.0395,1,     4.6600,1,     -999.0,9,     -999.0,9,     -999.0,9
325020210420,        A22,      68,          1,         28,         28,2,20210509,       0427,    33.7857,   -65.9965,       5111,   302.1,  18.5576,  36.5848,2,  36.5878,2,    200.2,2,   200.1,2,    1.56,2,    3.84,2,    0.00,2,    0.13,2,   2.065,2,   1.292,2,   1.7900,2,  2120.9,2, 2387.64,2,  418.930,2,    20.00,   7.96731,2,    25.02, -999.00,9, -999.00,9, -999.00, -999.00,9,-999.000,9,   53.50,2, -999.00,1,       8.46,2, 20210509,      624,  33.7857, -65.9965,    18.5542,2,     0.0404,1,     4.6602,1,     -999.0,9,     -999.0,9,     -999.0,9
325020210420,        A22,      68,          1,         27,         27,2,20210509,       0427,    33.7857,   -65.9965,       5111,   352.3,  18.0438,  36.4958,2,  36.4963,2,    192.4,2,   193.5,2,    1.75,2,    5.21,2,    0.00,2,    0.21,2,-999.000,9,-999.000,9,-999.0000,9,  2129.3,2, -999.00,9,  442.990,2,    20.00,    7.9448,2,    25.01, -999.00,9, -999.00,9, -999.00, -999.00,9,-999.000,9,   52.00,2, -999.00,1,     -999.0,9, 20210509,      623,  33.7857, -65.9965,    18.0409,2,     0.0392,1,     4.6610,1,     -999.0,9,     -999.0,9,     -999.0,9
325020210420,        A22,      68,          1,         26,         26,2,20210509,       0427,    33.7857,   -65.9965,       5111,   403.6,  17.2643,  36.3628,2,  36.3631,2,    185.1,2,   185.1,2,    2.63,2,    7.20,2,    0.00,2,    0.33,2,   2.169,2,   1.342,2,   1.6000,2,  2139.7,2, 2376.06,2,  478.120,2,    20.00,   7.91645,2,    25.03, -999.00,9, -999.00,9, -999.00, -999.00,1,-999.000,9,   51.40,2, -999.00,1,      10.12,2, 20210509,      621,  33.7857, -65.9964,    17.2657,2,     0.0405,1,     4.6618,1,     -999.0,9,     -999.0,9,     -999.0,9
325020210420,        A22,      68,          1,         25,         25,2,20210509,       0427,    33.7857,   -65.9965,       5111,   505.3,  16.0287,  36.1555,2,  36.1577,2,    177.1,2,   177.1,2,    3.61,2,    9.91,2,    0.00,2,    0.51,2,   2.230,2,   1.357,2,   1.4100,2,  2148.5,2, -999.00,9,  528.930,2,    20.00,   7.87582,2,    25.00, -999.00,9, -999.00,9, -999.00, -999.00,9,-999.000,9,   50.00,2, -999.00,1,      11.88,2, 20210509,      616,  33.7857, -65.9965,    16.0326,2,     0.0406,1,     4.6642,1,     -999.0,9,     -999.0,9,     -999.0,9
325020210420,        A22,      68,          1,         24,         24,2,20210509,       0427,    33.7857,   -65.9965,       5111,   603.9,  14.2419,  35.8653,2,  35.8655,2,    169.3,2,   169.5,2,    5.46,2,   13.51,2,    0.00,2,    0.76,2,   2.186,2,   1.304,2,   1.2700,2,  2159.8,2, 2350.37,2,  607.920,2,    20.00,   7.82009,2,    24.98, -999.00,9, -999.00,9, -999.00, -999.00,9,-999.000,9,   50.10,2, -999.00,1,      13.92,2, 20210509,      614,  33.7857, -65.9964,    14.2422,2,     0.0403,1,     4.6666,1,     -999.0,9,     -999.0,9,     -999.0,9
325020210420,        A22,      68,          1,         23,         23,2,20210509,       0427,    33.7857,   -65.9965,       5111,   706.1,  12.2786,  35.5820,2,  35.5829,2,    157.7,2,   157.8,2,    8.39,2,   17.85,2,    0.00,2,    1.05,2,-999.000,9,-999.000,9,-999.0000,9,  2175.0,6, -999.00,9,  710.000,2,    20.00,   7.75645,2,    25.00, -999.00,9, -999.00,9, -999.00, -999.00,9,-999.000,9,   47.30,2, -999.00,1,     -999.0,9, 20210509,      609,  33.7857, -65.9964,    12.2839,2,     0.0411,1,     4.6691,1,     -999.0,9,     -999.0,9,     -999.0,9
325020210420,        A22,      68,          1,         22,         22,2,20210509,       0427,    33.7857,   -65.9965,       5111,   806.6,  10.3216,  35.3491,2,  35.3490,2,    152.6,2,   152.9,2,   11.51,2,   21.32,2,    0.00,2,    1.31,2,   1.726,2,   0.976,2,   0.8100,2,  2186.3,2, 2325.21,2,  806.270,2,    20.00,    7.7042,2,    25.02, -999.00,9, -999.00,9, -999.00, -999.00,9,-999.000,9,   45.20,2, -999.00,1,      18.71,2, 20210509,      606,  33.7857, -65.9965,    10.3243,2,     0.0420,1,     4.6703,1,     -999.0,9,     -999.0,9,     -999.0,9
325020210420,        A22,      68,          1,         21,         21,2,20210509,       0427,    33.7857,   -65.9965,       5111,   906.8,   8.5013,  35.2037,2,  35.2042,2,    163.1,2,   163.1,2,   13.46,2,   22.58,2,    0.00,2,    1.40,2,   1.531,2,   0.834,2,   0.5900,2,  2189.6,2, -999.00,9,  849.230,2,    20.00,   7.68057,6,    25.00, -999.00,9, -999.00,9, -999.00, -999.00,9,-999.000,9,   44.30,2, -999.00,1,      18.61,2, 20210509,      603,  33.7857, -65.9965,     8.4985,2,     0.0425,1,     4.6716,1,     -999.0,9,     -999.0,9,     -999.0,9
325020210420,        A22,      68,          1,         20,         20,2,20210509,       0427,    33.7857,   -65.9965,       5111,  1008.8,   7.1483,  35.1450,2,  35.1461,2,    185.1,2,   185.3,2,   13.95,2,   21.75,2,    0.00,2,    1.39,2,   1.565,2,   0.841,2,   0.5300,2,  2186.6,2,  2316.2,2,  839.130,2,    20.00,   7.68559,2,    25.00, -999.00,9, -999.00,9, -999.00, -999.00,9,-999.000,9,   42.90,2, -999.00,1,      17.20,2, 20210509,      600,  33.7857, -65.9965,     7.1478,2,     0.0415,1,     4.6728,1,     -999.0,9,     -999.0,9,     -999.0,9
325020210420,        A22,      68,          1,         19,         19,2,20210509,       0427,    33.7857,   -65.9965,       5111,  1111.6,   6.1581,  35.1231,2,  35.1242,2,    210.4,2,   210.5,2,   13.27,2,   20.10,2,    0.00,2,    1.30,2,-999.000,9,-999.000,9,-999.0000,9,  2181.8,2, -999.00,9,  809.950,2,    20.00,   7.69843,2,    25.01, -999.00,9, -999.00,9, -999.00, -999.00,9,-999.000,9,   45.60,2, -999.00,1,     -999.0,9, 20210509,      557,  33.7857, -65.9965,     6.1661,2,     0.0423,1,     4.6732,1,     -999.0,9,     -999.0,9,     -999.0,9
325020210420,        A22,      68,          1,         18,         18,2,20210509,       0427,    33.7857,   -65.9965,       5111,  1211.8,   5.6104,  35.1050,2,  35.1049,2,    227.2,2,   227.5,2,   12.58,2,   19.03,2,    0.00,2,    1.23,2,   2.205,2,   1.170,2,   0.7700,2,  2177.4,2, 2315.61,2,  795.350,2,    20.00,   7.70741,2,    25.03, -999.00,9, -999.00,9, -999.00, -999.00,9,-999.000,9,   44.70,2, -999.00,1,      14.45,2, 20210509,      555,  33.7857, -65.9965,     5.6103,2,     0.0422,1,     4.6728,1,     -999.0,9,     -999.0,9,     -999.0,9
325020210420,        A22,      68,          1,         17,         17,2,20210509,       0427,    33.7857,   -65.9965,       5111,  1313.9,   5.1791,  35.0736,2,  35.0738,2,    238.6,2,   238.9,2,   12.19,2,   18.44,2,    0.00,2,    1.20,2,-999.000,9,-999.000,9,-999.0000,9,  2175.5,2, -999.00,9,  789.670,2,    20.00,   7.71151,2,    25.02, -999.00,9, -999.00,9, -999.00, -999.00,9,-999.000,9,   44.90,2, -999.00,1,     -999.0,9, 20210509,      551,  33.7857, -65.9965,     5.1757,2,     0.0427,1,     4.6730,1,     -999.0,9,     -999.0,9,     -999.0,9
325020210420,        A22,      68,          1,         16,         16,2,20210509,       0427,    33.7857,   -65.9965,       5111,  1414.5,   4.8270,  35.0441,2,  35.0472,2,    247.0,2,   247.0,2,   12.00,2,   18.12,2,    0.00,2,    1.18,2,   2.545,2,   1.372,2,   0.9500,2,  2170.6,2, 2309.81,2,  783.560,2,    20.00,   7.71243,2,    25.03, -999.00,9, -999.00,9, -999.00, -999.00,9,-999.000,9,   45.40,2, -999.00,1,      13.90,2, 20210509,      547,  33.7857, -65.9965,     4.8269,2,     0.0421,1,     4.6729,1,     -999.0,9,     -999.0,9,     -999.0,9
325020210420,        A22,      68,          1,         15,         15,2,20210509,       0427,    33.7857,   -65.9965,       5111,  1516.6,   4.4924,  35.0087,2,  35.0091,2,    254.0,2,   254.2,2,   12.00,2,   17.84,2,    0.00,2,    1.17,2,   2.654,2,   1.422,2,   0.9600,2,  2169.5,2, 2306.62,2,  779.870,2,    20.00,   7.71409,6,    25.03, -999.00,9, -999.00,9, -999.00, -999.00,9,-999.000,9,   45.00,2, -999.00,1,      13.69,2, 20210509,      546,  33.7857, -65.9964,     4.4941,2,     0.0428,1,     4.6714,1,     -999.0,9,     -999.0,9,     -999.0,9
325020210420,        A22,      68,          1,         14,         14,2,20210509,       0427,    33.7857,   -65.9965,       5111,  1618.4,   4.3253,  35.0026,2,  35.0031,2,    256.7,2,   256.8,2,   12.39,2,   17.78,2,    0.00,2,    1.16,2,   2.564,2,   1.357,2,   0.8000,2,  2167.9,2, -999.00,9,  774.805,6,    20.00,   7.71753,2,    25.05, -999.00,9, -999.00,9, -999.00, -999.00,9,-999.000,9,   44.50,2, -999.00,1,      13.82,2, 20210509,      543,  33.7857, -65.9965,     4.3246,2,     0.0413,1,     4.6726,1,     -999.0,9,     -999.0,9,     -999.0,9
325020210420,        A22,      68,          1,         13,         13,2,20210509,       0427,    33.7857,   -65.9965,       5111,  1821.3,   4.0932,  34.9963,2,  34.9965,2,    257.9,2,   258.1,2,   13.37,2,   17.85,2,    0.00,2,    1.17,2,-999.000,9,-999.000,9,-999.0000,9,  2169.8,6, 2307.97,2,  761.510,2,    20.00,   7.72224,2,    25.04, -999.00,9, -999.00,9, -999.00, -999.00,9,-999.000,9,   43.80,2, -999.00,1,     -999.0,9, 20210509,      538,  33.7857, -65.9965,     4.0925,2,     0.0419,1,     4.6731,1,     -999.0,9,     -999.0,9,     -999.0,9
325020210420,        A22,      68,          1,         12,         12,2,20210509,       0427,    33.7857,   -65.9965,       5111,  2023.0,   3.8948,  34.9984,2,  34.9982,2,    256.5,2,   256.7,2,   15.51,2,   18.16,2,    0.00,2,    1.19,2,   1.536,6,   0.773,6,   0.2900,6,  2166.7,2, -999.00,9,  748.050,2,    20.00,   7.73057,2,    25.01, -999.00,9, -999.00,9, -999.00, -999.00,9,-999.000,9,   42.80,2, -999.00,1,      13.30,6, 20210509,      533,  33.7857, -65.9965,     3.8950,2,     0.0423,1,     4.6740,1,     -999.0,9,     -999.0,9,     -999.0,9
325020210420,        A22,      68,          1,         11,         11,2,20210509,       0427,    33.7857,   -65.9965,       5111,  2278.9,   3.5219,  34.9699,2,  34.9697,2,    260.1,2,   260.3,2,   17.17,2,   18.10,2,    0.00,2,    1.20,2,-999.000,9,-999.000,9,-999.0000,9,  2167.7,2, 2311.73,2,  741.350,2,    20.00,   7.73431,2,    25.00, -999.00,9, -999.00,9, -999.00, -999.00,9,-999.000,9,   41.80,2, -999.00,1,     -999.0,9, 20210509,      528,  33.7857, -65.9965,     3.5223,2,     0.0427,1,     4.6739,1,     -999.0,9,     -999.0,9,     -999.0,9
325020210420,        A22,      68,          1,         10,         10,2,20210509,       0427,    33.7857,   -65.9965,       5111,  2532.5,   3.2687,  34.9546,2,  34.9555,2,    261.6,2,   262.0,2,   19.02,2,   18.12,2,    0.00,2,    1.20,2,   1.184,2,   0.597,2,   0.2100,2,  2167.9,2, -999.00,9,  739.630,2,    20.00,   7.73539,2,    25.04, -999.00,9, -999.00,9, -999.00, -999.00,9,-999.000,9,   44.20,2, -999.00,1,      13.11,2, 20210509,      523,  33.7857, -65.9965,     3.2693,2,     0.0424,1,     4.6730,1,     -999.0,9,     -999.0,9,     -999.0,9
325020210420,        A22,      68,          1,          9,          9,2,20210509,       0427,    33.7857,   -65.9965,       5111,  2788.3,   3.0905,  34.9466,2,  34.9467,2,    261.6,2,   262.0,2,   21.07,2,   18.26,2,    0.00,2,    1.22,2,   0.922,2,   0.471,2,   0.1600,2,  2169.2,2, 2314.59,2,  734.890,2,    20.00,   7.73854,2,    25.01, -999.00,9, -999.00,9, -999.00, -999.00,9,-999.000,9,   42.10,2, -999.00,1,      12.95,2, 20210509,      517,  33.7857, -65.9964,     3.0909,2,     0.0424,1,     4.6739,1,     -999.0,9,     -999.0,9,     -999.0,9
325020210420,        A22,      68,          1,          8,          8,2,20210509,       0427,    33.7857,   -65.9965,       5111,  3044.4,   2.8676,  34.9319,2,  34.9321,2,    264.5,2,   264.6,2,   21.76,2,   18.11,2,    0.00,2,    1.21,2,-999.000,9,-999.000,9,-999.0000,9,  2169.2,2, -999.00,9,  734.690,2,    20.00,    7.7375,2,    25.02, -999.00,9, -999.00,9, -999.00, -999.00,9,-999.000,9,   43.70,2, -999.00,1,     -999.0,9, 20210509,      512,  33.7857, -65.9965,     2.8675,2,     0.0428,1,     4.6735,1,     -999.0,9,     -999.0,9,     -999.0,9
325020210420,        A22,      68,          1,          7,          7,2,20210509,       0427,    33.7857,   -65.9965,       5111,  3351.4,   2.6247,  34.9166,2,  34.9170,2,    267.3,2,   267.5,2,   23.12,2,   17.93,2,    0.00,2,    1.20,2,   1.132,2,   0.575,2,   0.2500,2,  2169.7,2, 2314.31,2,  738.260,2,    20.00,   7.73684,2,    25.02, -999.00,9, -999.00,9, -999.00, -999.00,9,-999.000,9,   43.60,2, -999.00,1,      13.01,2, 20210509,      506,  33.7857, -65.9965,     2.6246,2,     0.0427,1,     4.6735,1,     -999.0,9,     -999.0,9,     -999.0,9
325020210420,        A22,      68,          1,          6,          6,2,20210509,       0427,    33.7857,   -65.9965,       5111,  3658.1,   2.4067,  34.9021,2,  34.9026,2,    267.7,2,   268.2,2,   26.24,2,   18.09,2,    0.00,2,    1.22,2,   1.110,2,   0.570,2,   0.2300,2,  2172.9,2, -999.00,9,  742.500,2,    20.00,    7.7349,2,    25.04, -999.00,9, -999.00,9, -999.00, -999.00,9,-999.000,9,   42.70,2, -999.00,1,      13.12,2, 20210509,      459,  33.7857, -65.9965,     2.4066,2,     0.0429,1,     4.6739,1,     -999.0,9,     -999.0,9,     -999.0,9
325020210420,        A22,      68,          1,          5,          5,2,20210509,       0427,    33.7857,   -65.9965,       5111,  3964.4,   2.3193,  34.8943,2,  34.8945,2,    266.9,2,   266.8,2,   28.98,2,   18.43,2,    0.00,2,    1.25,2,   1.092,2,   0.563,2,   0.2700,2,  2175.8,2, 2318.34,2,  746.570,2,    20.00,   7.73152,2,    25.03, -999.00,9, -999.00,9, -999.00, -999.00,9,-999.000,9,   43.20,2, -999.00,1,      13.33,2, 20210509,      453,  33.7857, -65.9965,     2.3201,2,     0.0429,1,     4.6726,1,     -999.0,9,     -999.0,9,     -999.0,9
325020210420,        A22,      68,          1,          4,          4,2,20210509,       0427,    33.7857,   -65.9965,       5111,  4274.2,   2.2722,  34.8879,2,  34.8877,2,    264.8,2,   265.0,2,   32.20,2,   18.84,2,    0.00,2,    1.28,2,-999.000,9,-999.000,9,-999.0000,9,  2178.8,2, -999.00,9, -999.000,9,  -999.00,   7.73107,2,    25.04, -999.00,9, -999.00,9, -999.00, -999.00,9,-999.000,9,   43.40,2, -999.00,1,     -999.0,9, 20210509,      446,  33.7857, -65.9965,     2.2722,2,     0.0430,1,     4.6689,1,     -999.0,9,     -999.0,9,     -999.0,9
325020210420,        A22,      68,          1,          3,          3,2,20210509,       0427,    33.7857,   -65.9965,       5111,  4580.9,   2.2642,  34.8837,2,  34.8837,2,    262.9,2,   263.3,2,   34.44,2,   19.16,2,    0.00,2,    1.31,2,   0.933,2,   0.488,2,   0.2200,2,  2182.9,2, -999.00,9,  753.870,2,    20.00,   7.73019,2,    25.03, -999.00,9, -999.00,9, -999.00, -999.00,9,-999.000,9,   43.70,2, -999.00,1,      13.42,2, 20210509,      441,  33.7857, -65.9965,     2.2642,2,     0.0435,1,     4.6606,1,     -999.0,9,     -999.0,9,     -999.0,9