BOTTLE,20230513CCHSIOCBG
EXPOCODE,SECT_ID,STNNBR,CASTNO,SAMPNO,BTLNBR,BTLNBR_FLAG_W,DATE,TIME,LATITUDE,LONGITUDE,DEPTH,CTDPRS,CTDTMP,CTDSAL,CTDSAL_FLAG_W,SALNTY,SALNTY_FLAG_W,CTDOXY,CTDOXY_FLAG_W,OXYGEN,OXYGEN_FLAG_W,SILCAT,SILCAT_FLAG_W,NITRAT,NITRAT_FLAG_W,NITRIT,NITRIT_FLAG_W,PHSPHT,PHSPHT_FLAG_W,CFC-11,CFC-11_FLAG_W,CFC-12,CFC-12_FLAG_W,SF6,SF6_FLAG_W,TCARBN,TCARBN_FLAG_W,ALKALI,ALKALI_FLAG_W,FCO2,FCO2_FLAG_W,FCO2TMP,PH_TOT,PH_TOT_FLAG_W,PH_TMP,DELC13,DELC13_FLAG_W,DELC14,DELC14_FLAG_W,C14ERR,DELO18,DELO18_FLAG_W,POC,POC_FLAG_W,DOC,DOC_FLAG_W,TDN,TDN_FLAG_W,N2O,N2O_FLAG_W,BTL_DATE,BTL_TIME,BTL_LAT,BTL_LON,REFTMP,REFTMP_FLAG_W,CTDFLUOR,CTDFLUOR_FLAG_W,CTDXMISS,CTDXMISS_FLAG_W,D15N_NO2+NO3,D15N_NO2+NO3_FLAG_W,D18O_NO2+NO3,D18O_NO2+NO3_FLAG_W,HPLC,HPLC_FLAG_W
,,,,,,,,,,,METERS,DBAR,ITS-90,PSS-78,,PSS-78,,UMOL/KG,,UMOL/KG,,UMOL/KG,,UMOL/KG,,UMOL/KG,,UMOL/KG,,PMOL/KG,,PMOL/KG,,FMOL/KG,,UMOL/KG,,UMOL/KG,,UATM,,DEG C,,,DEG C,/MILLE,,/MILLE,,/MILLE,/MILLE,,UG/KG,,UMOL/KG,,UMOL/KG,,NMOL/KG,,,,,,ITS-90,,VOLTS,,VOLTS,,/MILLE,,/MILLE,,,
325020210420,        A22,      39,          1,         36,         36,2,20210430,       1619,    19.6913,   -65.9983,       7427,     5.0,  26.6613,  36.6787,2,  36.6804,2,    204.1,2,   202.9,2,    1.07,2,    0.00,2,    0.00,2,    0.00,2,-999.000,9,-999.000,9,-999.0000,9,  2053.6,2, 2395.49,2, -999.000,9,  -999.00,   8.10111,2,    25.03, -999.00,9, -999.00,9, -999.00, -999.00,1,-999.000,9, -999.00,9, -999.00,9,     -999.0,9, 20210430,     1852,  19.6913, -65.9983,    26.6610,2,     0.0399,1,     4.6258,1,     -999.0,9,     -999.0,9,     -999.0,9
325020210420,        A22,      39,          1,         35,         35,2,20210430,       1619,    19.6913,   -65.9983,       7427,    20.1,  26.5424,  36.6792,2,  36.6939,2,    203.6,2,   203.4,2,    1.07,2,    0.00,2,    0.00,2,    0.00,2,-999.000,9,-999.000,9,-999.0000,9,  -999.0,9, -999.00,9, -999.000,9,  -999.00,-999.00000,9,  -999.00, -999.00,9, -999.00,9, -999.00, -999.00,9,-999.000,9, -999.00,9, -999.00,9,     -999.0,9, 20210430,     1850,  19.6913, -65.9982,    26.5422,2,     0.0419,1,     4.6202,1,     -999.0,9,     -999.0,9,     -999.0,9
325020210420,        A22,      39,          1,         34,         34,2,20210430,       1619,    19.6913,   -65.9983,       7427,    39.9,  26.0232,  36.7929,2,  36.7905,2,    206.1,2,   205.6,2,    0.97,2,    0.00,2,    0.00,2,    0.00,2,-999.000,9,-999.000,9,-999.0000,9,  -999.0,9, -999.00,9, -999.000,9,  -999.00,-999.00000,9,  -999.00, -999.00,9, -999.00,9, -999.00, -999.00,9,-999.000,9, -999.00,9, -999.00,9,     -999.0,9, 20210430,     1849,  19.6913, -65.9982,    26.0218,2,     0.0443,1,     4.6218,1,     -999.0,9,     -999.0,9,     -999.0,9
325020210420,        A22,      39,          1,         33,         33,2,20210430,       1619,    19.6913,   -65.9983,       7427,    65.6,  25.8110,  36.8054,2,  36.8074,2,    206.2,2,   205.7,2,    0.97,2,    0.00,2,    0.00,2,    0.00,2,-999.000,9,-999.000,9,-999.0000,9,  2059.8,2, 2405.35,2, -999.000,9,  -999.00,   8.10364,2,    25.04, -999.00,9, -999.00,9, -999.00, -999.00,9,-999.000,9, -999.00,9, -999.00,9,     -999.0,9, 20210430,     1847,  19.6913, -65.9983,    25.8095,2,     0.0511,1,     4.6201,1,     -999.0,9,     -999.0,9,     -999.0,9
325020210420,        A22,      39,          1,         32,         32,2,20210430,       1619,    19.6913,   -65.9983,       7427,    90.3,  25.7007,  36.8372,2,  36.8375,2,    206.1,2,   205.8,2,    0.97,2,    0.00,2,    0.00,2,    0.00,2,-999.000,9,-999.000,9,-999.0000,9,  -999.0,9, -999.00,9, -999.000,9,  -999.00,-999.00000,9,  -999.00, -999.00,9, -999.00,9, -999.00, -999.00,9,-999.000,9, -999.00,9, -999.00,9,     -999.0,9, 20210430,     1845,  19.6913, -65.9982,    25.7024,2,     0.0564,1,     4.6276,1,     -999.0,9,     -999.0,9,     -999.0,9
325020210420,        A22,      39,          1,         31,         31,2,20210430,       1619,    19.6913,   -65.9983,       7427,   135.6,  25.1277,  37.2112,2,  37.2234,2,    197.6,2,   197.8,2,    0.58,2,    0.00,2,    0.00,2,    0.00,2,   1.624,2,   1.039,2,   1.6500,2,  2105.7,2, 2427.51,2, -999.000,9,  -999.00,   8.05983,2,    25.03, -999.00,9, -999.00,9, -999.00, -999.00,1,-999.000,9, -999.00,9, -999.00,9,       6.43,2, 20210430,     1843,  19.6913, -65.9982,    25.1356,2,     0.0806,1,     4.6362,1,     -999.0,9,     -999.0,9,     -999.0,9
325020210420,        A22,      39,          1,         30,         30,2,20210430,       1619,    19.6913,   -65.9983,       7427,   186.1,  22.2453,  37.1156,2,  37.1151,2,    168.2,2,   169.1,2,    0.58,2,    2.00,2,    0.00,2,    0.04,2,-999.000,9,-999.000,9,-999.0000,9,  -999.0,9, -999.00,9, -999.000,9,  -999.00,-999.00000,9,  -999.00, -999.00,9, -999.00,9, -999.00, -999.00,9,-999.000,9, -999.00,9, -999.00,9,     -999.0,9, 20210430,     1840,  19.6913, -65.9983,    22.2420,2,     0.0559,1,     4.6619,1,     -999.0,9,     -999.0,9,     -999.0,9
325020210420,        A22,      39,          1,         29,         29,2,20210430,       1619,    19.6913,   -65.9983,       7427,   236.6,  20.0217,  36.8115,2,  36.8026,2,    160.3,2,   161.2,2,    1.27,2,    5.32,2,    0.00,2,    0.20,2,-999.000,9,-999.000,9,-999.0000,9,  -999.0,9, -999.00,9, -999.000,9,  -999.00,-999.00000,9,  -999.00, -999.00,9, -999.00,9, -999.00, -999.00,9,-999.000,9, -999.00,9, -999.00,9,     -999.0,9, 20210430,     1838,  19.6913, -65.9982,    20.0091,2,     0.0403,1,     4.6645,1,     -999.0,9,     -999.0,9,     -999.0,9
325020210420,        A22,      39,          1,         28,         28,2,20210430,       1619,    19.6913,   -65.9983,       7427,   302.1,  17.9173,  36.4857,2,  36.4863,2,    169.8,2,   170.2,2,    1.95,2,    7.51,2,    0.00,2,    0.35,2,-999.000,9,-999.000,9,-999.0000,9,  -999.0,9, -999.00,9, -999.000,9,  -999.00,-999.00000,9,  -999.00, -999.00,9, -999.00,9, -999.00, -999.00,9,-999.000,9, -999.00,9, -999.00,9,     -999.0,9, 20210430,     1836,  19.6913, -65.9983,    17.9159,2,     0.0406,1,     4.6735,1,     -999.0,9,     -999.0,9,     -999.0,9
325020210420,        A22,      39,          1,         27,         27,2,20210430,       1619,    19.6913,   -65.9983,       7427,   342.3,  16.6396,  36.2714,2,  36.2693,2,    156.5,2,   157.1,2,    3.22,2,   10.94,2,    0.00,2,    0.58,2,   2.182,2,   1.325,2,   1.3800,2,  2166.9,2, 2365.99,2, -999.000,9,  -999.00,   7.85414,2,    25.02, -999.00,9, -999.00,9, -999.00, -999.00,9,-999.000,9, -999.00,9, -999.00,9,      14.30,2, 20210430,     1834,  19.6913, -65.9983,    16.6393,2,     0.0406,1,     4.6738,1,     -999.0,9,     -999.0,9,     -999.0,9
325020210420,        A22,      39,          1,         26,         26,2,20210430,       1619,    19.6913,   -65.9983,       7427,   387.5,  15.5479,  36.0869,2,  36.0782,2,    149.8,2,   150.2,2,    4.29,2,   13.44,2,    0.00,2,    0.75,2,-999.000,9,-999.000,9,-999.0000,9,  -999.0,9, -999.00,9, -999.000,9,  -999.00,-999.00000,9,  -999.00, -999.00,9, -999.00,9, -999.00, -999.00,9,-999.000,9, -999.00,9, -999.00,9,     -999.0,9, 20210430,     1831,  19.6913, -65.9982,    15.5450,2,     0.0408,1,     4.6754,1,     -999.0,9,     -999.0,9,     -999.0,9
325020210420,        A22,      39,          1,         25,         25,2,20210430,       1619,    19.6913,   -65.9983,       7427,   468.0,  13.5979,  35.7703,2,  35.7655,2,    139.2,2,   139.1,2,    6.53,2,   17.74,2,    0.00,2,    1.02,2,-999.000,9,-999.000,9,-999.0000,9,  -999.0,9, -999.00,9, -999.000,9,  -999.00,-999.00000,9,  -999.00, -999.00,9, -999.00,9, -999.00, -999.00,9,-999.000,9, -999.00,9, -999.00,9,     -999.0,9, 20210430,     1829,  19.6913, -65.9983,    13.5974,2,     0.0402,1,     4.6770,1,     -999.0,9,     -999.0,9,     -999.0,9
325020210420,        A22,      39,          1,         24,         24,2,20210430,       1619,    19.6913,   -65.9983,       7427,   568.8,  11.6942,  35.4440,2,  35.4470,2,    126.7,2,   127.1,2,    9.66,2,   22.50,2,    0.00,2,    1.34,2,-999.000,9,-999.000,9,-999.0000,9,  2196.7,2, 2322.72,2, -999.000,9,  -999.00,   7.68775,2,    25.00, -999.00,9, -999.00,9, -999.00, -999.00,9,-999.000,9, -999.00,9, -999.00,9,     -999.0,9, 20210430,     1826,  19.6913, -65.9982,    11.6903,2,     0.0422,1,     4.6771,1,     -999.0,9,     -999.0,9,     -999.0,9
325020210420,        A22,      39,          1,         23,         23,2,20210430,       1619,    19.6913,   -65.9983,       7427,   670.0,  10.2365,  35.2770,2,  35.2688,2,    128.9,2,   128.6,2,   12.68,2,   25.08,2,    0.00,2,    1.52,2,   1.430,2,   0.779,2,   0.4800,2,  2199.9,2, 2311.82,2, -999.000,9,  -999.00,   7.65964,2,    24.98, -999.00,9, -999.00,9, -999.00, -999.00,9,-999.000,9, -999.00,9, -999.00,9,      22.66,2, 20210430,     1822,  19.6913, -65.9982,    10.2457,2,     0.0422,1,     4.6790,1,     -999.0,9,     -999.0,9,     -999.0,9
325020210420,        A22,      39,          1,         22,         22,2,20210430,       1619,    19.6913,   -65.9983,       7427,   776.7,   8.4475,  35.0562,2,  35.0535,2,    130.1,2,   130.1,2,   17.17,2,   28.10,2,    0.00,2,    1.75,2,-999.000,9,-999.000,9,-999.0000,9,  -999.0,9, -999.00,9, -999.000,9,  -999.00,-999.00000,9,  -999.00, -999.00,9, -999.00,9, -999.00, -999.00,9,-999.000,9, -999.00,9, -999.00,9,     -999.0,9, 20210430,     1819,  19.6913, -65.9983,     8.4484,2,     0.0421,1,     4.6801,1,     -999.0,9,     -999.0,9,     -999.0,9
325020210420,        A22,      39,          1,         21,         21,2,20210430,       1619,    19.6913,   -65.9983,       7427,   877.2,   7.4659,  34.9818,2,  34.9827,2,    138.4,2,   138.3,2,   19.22,2,   28.49,2,    0.00,2,    1.80,2,   0.694,2,   0.371,2,   0.2300,2,  2211.8,2,  2306.6,2, -999.000,9,  -999.00,   7.61694,2,    25.01, -999.00,9, -999.00,9, -999.00, -999.00,9,-999.000,9, -999.00,9, -999.00,9,      23.18,2, 20210430,     1816,  19.6913, -65.9982,     7.4646,2,     0.0420,1,     4.6802,1,     -999.0,9,     -999.0,9,     -999.0,9
325020210420,        A22,      39,          1,         20,         20,2,20210430,       1619,    19.6913,   -65.9983,       7427,   984.5,   6.5918,  34.9662,2,  34.9650,2,    158.1,2,   157.7,2,   19.81,2,   27.21,2,    0.00,2,    1.74,2,-999.000,9,-999.000,9,-999.0000,9,  -999.0,9, -999.00,9, -999.000,9,  -999.00,-999.00000,9,  -999.00, -999.00,9, -999.00,9, -999.00, -999.00,9,-999.000,9, -999.00,9, -999.00,9,     -999.0,9, 20210430,     1813,  19.6913, -65.9982,     6.5922,2,     0.0423,1,     4.6806,1,     -999.0,9,     -999.0,9,     -999.0,9
325020210420,        A22,      39,          1,         19,         19,2,20210430,       1619,    19.6913,   -65.9983,       7427,  1085.1,   6.1055,  35.0122,2,  35.0124,2,    184.0,2,   184.1,2,   17.56,2,   24.10,2,    0.00,2,    1.55,2,-999.000,9,-999.000,9,-999.0000,9,  -999.0,9, -999.00,9, -999.000,9,  -999.00,-999.00000,9,  -999.00, -999.00,9, -999.00,9, -999.00, -999.00,9,-999.000,9, -999.00,9, -999.00,9,     -999.0,9, 20210430,     1810,  19.6913, -65.9982,     6.1045,2,     0.0430,1,     4.6816,1,     -999.0,9,     -999.0,9,     -999.0,9
325020210420,        A22,      39,          1,         18,         18,2,20210430,       1619,    19.6913,   -65.9983,       7427,  1185.7,   5.6151,  35.0471,2,  35.0466,2,    213.0,2,   212.6,2,   14.34,2,   21.00,2,    0.00,2,    1.36,2,-999.000,9,-999.000,9,-999.0000,9,  -999.0,9, -999.00,9, -999.000,9,  -999.00,-999.00000,9,  -999.00, -999.00,9, -999.00,9, -999.00, -999.00,9,-999.000,9, -999.00,9, -999.00,9,     -999.0,9, 20210430,     1807,  19.6913, -65.9982,     5.6122,2,     0.0412,1,     4.6824,1,     -999.0,9,     -999.0,9,     -999.0,9
325020210420,        A22,      39,          1,         17,         17,2,20210430,       1619,    19.6913,   -65.9983,       7427,  1287.8,   5.0923,  35.0393,2,  35.0403,2,    231.9,2,   231.9,2,   13.27,2,   19.47,2,    0.00,2,    1.26,2,   1.622,2,   0.972,2,   0.6300,2,  2178.1,2, 2307.42,2, -999.000,9,  -999.00,   7.70713,2,    25.00, -999.00,9, -999.00,9, -999.00, -999.00,9,-999.000,9, -999.00,9, -999.00,9,      14.94,2, 20210430,     1804,  19.6913, -65.9983,     5.0917,2,     0.0411,1,     4.6825,1,     -999.0,9,     -999.0,9,     -999.0,9
325020210420,        A22,      39,          1,         16,         16,2,20210430,       1619,    19.6913,   -65.9983,       7427,  1388.5,   4.7132,  35.0249,2,  35.0248,2,    243.4,2,   243.9,2,   12.88,2,   18.70,2,    0.00,2,    1.21,2,-999.000,9,-999.000,9,-999.0000,9,  -999.0,9, -999.00,9, -999.000,9,  -999.00,-999.00000,9,  -999.00, -999.00,9, -999.00,9, -999.00, -999.00,9,-999.000,9, -999.00,9, -999.00,9,     -999.0,9, 20210430,     1801,  19.6913, -65.9982,     4.7123,2,     0.0423,1,     4.6828,1,     -999.0,9,     -999.0,9,     -999.0,9
325020210420,        A22,      39,          1,         15,         15,2,20210430,       1619,    19.6913,   -65.9983,       7427,  1565.7,   4.2895,  35.0036,2,  35.0035,2,    252.5,2,   252.4,2,   13.07,2,   18.22,2,    0.00,2,    1.18,2,   2.001,2,   1.011,2,   0.5200,2,  2170.7,2, 2304.41,2, -999.000,9,  -999.00,   7.72149,2,    24.99, -999.00,9, -999.00,9, -999.00, -999.00,9,-999.000,9, -999.00,9, -999.00,9,      13.76,2, 20210430,     1755,  19.6913, -65.9983,     4.2894,2,     0.0410,1,     4.6833,1,     -999.0,9,     -999.0,9,     -999.0,9
325020210420,        A22,      39,          1,         14,         14,2,20210430,       1619,    19.6913,   -65.9983,       7427,  1768.3,   3.7858,  34.9776,2,  34.9791,2,    258.7,2,   259.4,2,   14.63,2,   18.08,2,    0.00,2,    1.17,2,-999.000,9,-999.000,9,-999.0000,9,  -999.0,9, -999.00,9, -999.000,9,  -999.00,-999.00000,9,  -999.00, -999.00,9, -999.00,9, -999.00, -999.00,9,-999.000,9, -999.00,9, -999.00,9,     -999.0,9, 20210430,     1751,  19.6913, -65.9982,     3.7852,2,     0.0422,1,     4.6826,1,     -999.0,9,     -999.0,9,     -999.0,9
325020210420,        A22,      39,          1,         13,         13,2,20210430,       1619,    19.6913,   -65.9983,       7427,  1976.7,   3.3312,  34.9590,2,  34.9591,2,    260.9,2,   262.1,2,   17.95,2,   18.17,2,    0.00,2,    1.19,2,-999.000,9,-999.000,9,-999.0000,9,  -999.0,9, -999.00,9, -999.000,9,  -999.00,-999.00000,9,  -999.00, -999.00,9, -999.00,9, -999.00, -999.00,9,-999.000,9, -999.00,9, -999.00,9,     -999.0,9, 20210430,     1747,  19.6913, -65.9983,     3.3307,2,     0.0426,1,     4.6834,1,     -999.0,9,     -999.0,9,     -999.0,9
325020210420,        A22,      39,          1,         12,         12,2,20210430,       1619,    19.6913,   -65.9983,       7427,  2214.6,   3.0780,  34.9477,2,  34.9479,2,    261.2,2,   261.7,2,   20.10,2,   18.34,2,    0.00,2,    1.20,2,-999.000,9,-999.000,9,-999.0000,9,  -999.0,9, -999.00,9, -999.000,9,  -999.00,-999.00000,9,  -999.00, -999.00,9, -999.00,9, -999.00, -999.00,9,-999.000,9, -999.00,9, -999.00,9,     -999.0,9, 20210430,     1741,  19.6913, -65.9982,     3.0775,2,     0.0420,1,     4.6827,1,     -999.0,9,     -999.0,9,     -999.0,9
325020210420,        A22,      39,          1,         11,         11,2,20210430,       1619,    19.6913,   -65.9983,       7427,  2474.3,   2.8959,  34.9364,2,  34.9372,2,    262.9,2,   263.1,2,   21.27,2,   18.25,2,    0.00,2,    1.21,2,   0.993,2,   0.498,2,   0.2500,2,  2170.8,2, 2308.87,2, -999.000,9,  -999.00,    7.7363,2,    24.99, -999.00,9, -999.00,9, -999.00, -999.00,9,-999.000,9, -999.00,9, -999.00,9,      13.37,2, 20210430,     1736,  19.6913, -65.9982,     2.8963,2,     0.0426,1,     4.6825,1,     -999.0,9,     -999.0,9,     -999.0,9
325020210420,        A22,      39,          1,         10,         10,2,20210430,       1619,    19.6913,   -65.9983,       7427,  2734.3,   2.7099,  34.9249,2,  34.9254,2,    264.0,2,   264.2,2,   23.12,2,   18.31,2,    0.00,2,    1.21,2,-999.000,9,-999.000,9,-999.0000,9,  -999.0,9, -999.00,9, -999.000,9,  -999.00,-999.00000,9,  -999.00, -999.00,9, -999.00,9, -999.00, -999.00,9,-999.000,9, -999.00,9, -999.00,9,     -999.0,9, 20210430,     1730,  19.6913, -65.9982,     2.7096,2,     0.0427,1,     4.6817,1,     -999.0,9,     -999.0,9,     -999.0,9
325020210420,        A22,      39,          1,          9,          9,2,20210430,       1619,    19.6913,   -65.9983,       7427,  2989.8,   2.5474,  34.9148,2,  34.9158,2,    263.3,2,   263.0,2,   26.54,2,   18.70,2,    0.00,2,    1.24,2,-999.000,9,-999.000,9,-999.0000,9,  -999.0,9, -999.00,9, -999.000,9,  -999.00,-999.00000,9,  -999.00, -999.00,9, -999.00,9, -999.00, -999.00,9,-999.000,9, -999.00,9, -999.00,9,     -999.0,9, 20210430,     1724,  19.6913, -65.9982,     2.5488,2,     0.0436,1,     4.6826,1,     -999.0,9,     -999.0,9,     -999.0,9
325020210420,        A22,      39,          1,          8,          8,2,20210430,       1619,    19.6913,   -65.9983,       7427,  3290.1,   2.4076,  34.9046,2,  34.9050,2,    265.3,2,   265.7,2,   27.42,2,   18.56,2,    0.00,2,    1.23,2,-999.000,9,-999.000,9,-999.0000,9,  -999.0,9, -999.00,9, -999.000,9,  -999.00,-999.00000,9,  -999.00, -999.00,9, -999.00,9, -999.00, -999.00,9,-999.000,9, -999.00,9, -999.00,9,     -999.0,9, 20210430,     1717,  19.6913, -65.9982,     2.4078,2,     0.0432,1,     4.6830,1,     -999.0,9,     -999.0,9,     -999.0,9
325020210420,        A22,      39,          1,          7,          7,2,20210430,       1619,    19.6913,   -65.9983,       7427,  3597.4,   2.3150,  34.8967,2,  34.8981,2,    266.7,2,   267.0,2,   28.10,2,   18.42,2,    0.00,2,    1.23,2,   1.028,2,   0.518,2,   0.2800,2,  2177.2,2, 2315.19,2, -999.000,9,  -999.00,   7.73294,2,    24.99, -999.00,9, -999.00,9, -999.00, -999.00,9,-999.000,9, -999.00,9, -999.00,9,      13.27,2, 20210430,     1710,  19.6913, -65.9982,     2.3149,2,     0.0429,1,     4.6819,1,     -999.0,9,     -999.0,9,     -999.0,9
325020210420,        A22,      39,          1,          6,          6,2,20210430,       1619,    19.6913,   -65.9983,       7427,  3980.6,   2.2662,  34.8902,2,  34.8912,2,    265.9,2,   266.0,2,   30.25,2,   18.70,2,    0.00,2,    1.25,2,-999.000,9,-999.000,9,-999.0000,9,  -999.0,9, -999.00,9, -999.000,9,  -999.00,-999.00000,9,  -999.00, -999.00,9, -999.00,9, -999.00, -999.00,9,-999.000,9, -999.00,9, -999.00,9,     -999.0,9, 20210430,     1702,  19.6913, -65.9982,     2.2666,2,     0.0428,1,     4.6806,1,     -999.0,9,     -999.0,9,     -999.0,9
325020210420,        A22,      39,          1,          5,          5,2,20210430,       1619,    19.6913,   -65.9983,       7427,  4401.4,   2.2365,  34.8832,2,  34.8831,2,    262.4,2,   262.2,2,   34.93,2,   19.50,2,    0.00,2,    1.31,2,   0.767,2,   0.392,2,   0.2300,2,  -999.0,9, -999.00,9, -999.000,9,  -999.00,-999.00000,9,  -999.00, -999.00,9, -999.00,9, -999.00, -999.00,9,-999.000,9, -999.00,9, -999.00,9,      13.80,2, 20210430,     1654,  19.6913, -65.9982,     2.2367,2,     0.0423,1,     4.6808,1,     -999.0,9,     -999.0,9,     -999.0,9
325020210420,        A22,      39,          1,          4,          4,2,20210430,       1619,    19.6913,   -65.9983,       7427,  4823.3,   2.1356,  34.8656,2,  34.8660,2,    255.4,2,   255.2,2,   44.98,2,   21.12,2,    0.00,2,    1.41,2,   0.463,2,   0.249,2,   0.1700,2,  -999.0,9, -999.00,9, -999.000,9,  -999.00,-999.00000,9,  -999.00, -999.00,9, -999.00,9, -999.00, -999.00,9,-999.000,9, -999.00,9, -999.00,9,      14.04,2, 20210430,     1646,  19.6913, -65.9982,     2.1357,2,     0.0430,1,     4.6758,1,     -999.0,9,     -999.0,9,     -999.0,9
325020210420,        A22,      39,          1,          3,          3,2,20210430,       1619,    19.6913,   -65.9983,       7427,  5244.8,   1.9911,  34.8415,2,  34.8420,2,    247.6,2,   248.6,2,   57.37,2,   23.08,2,    0.00,2,    1.55,2,   0.243,2,   0.138,2,   0.1400,2,  2208.1,2, 2340.93,6, -999.000,9,  -999.00,   7.70772,2,    25.00, -999.00,9, -999.00,9, -999.00, -999.00,9,-999.000,9, -999.00,9, -999.00,9,      14.58,2, 20210430,     1637,  19.6913, -65.9982,     1.9914,2,     0.0435,1,     4.6759,1,     -999.0,9,     -999.0,9,     -999.0,9