BOTTLE,20230513CCHSIOCBG
EXPOCODE,SECT_ID,STNNBR,CASTNO,SAMPNO,BTLNBR,BTLNBR_FLAG_W,DATE,TIME,LATITUDE,LONGITUDE,DEPTH,CTDPRS,CTDTMP,CTDSAL,CTDSAL_FLAG_W,SALNTY,SALNTY_FLAG_W,CTDOXY,CTDOXY_FLAG_W,OXYGEN,OXYGEN_FLAG_W,SILCAT,SILCAT_FLAG_W,NITRAT,NITRAT_FLAG_W,NITRIT,NITRIT_FLAG_W,PHSPHT,PHSPHT_FLAG_W,CFC-11,CFC-11_FLAG_W,CFC-12,CFC-12_FLAG_W,SF6,SF6_FLAG_W,TCARBN,TCARBN_FLAG_W,ALKALI,ALKALI_FLAG_W,FCO2,FCO2_FLAG_W,FCO2TMP,PH_TOT,PH_TOT_FLAG_W,PH_TMP,DELC13,DELC13_FLAG_W,DELC14,DELC14_FLAG_W,C14ERR,DELO18,DELO18_FLAG_W,POC,POC_FLAG_W,DOC,DOC_FLAG_W,TDN,TDN_FLAG_W,N2O,N2O_FLAG_W,BTL_DATE,BTL_TIME,BTL_LAT,BTL_LON,REFTMP,REFTMP_FLAG_W,CTDFLUOR,CTDFLUOR_FLAG_W,CTDXMISS,CTDXMISS_FLAG_W,D15N_NO2+NO3,D15N_NO2+NO3_FLAG_W,D18O_NO2+NO3,D18O_NO2+NO3_FLAG_W,HPLC,HPLC_FLAG_W
,,,,,,,,,,,METERS,DBAR,ITS-90,PSS-78,,PSS-78,,UMOL/KG,,UMOL/KG,,UMOL/KG,,UMOL/KG,,UMOL/KG,,UMOL/KG,,PMOL/KG,,PMOL/KG,,FMOL/KG,,UMOL/KG,,UMOL/KG,,UATM,,DEG C,,,DEG C,/MILLE,,/MILLE,,/MILLE,/MILLE,,UG/KG,,UMOL/KG,,UMOL/KG,,NMOL/KG,,,,,,ITS-90,,VOLTS,,VOLTS,,/MILLE,,/MILLE,,,
325020210420,        A22,      79,          1,         36,         36,2,20210513,       0535,    38.1032,   -68.5696,       4117,     5.2,  23.1841,  36.2691,2,  36.2681,2,    212.6,2,   212.1,2,    0.68,2,    0.00,2,    0.00,2,    0.00,2,-999.000,9,-999.000,9,-999.0000,9,  2070.2,6, 2383.83,2, -999.000,9,  -999.00,   8.04844,2,    24.98, -999.00,9, -999.00,9, -999.00, -999.00,1,-999.000,9, -999.00,9, -999.00,9,     -999.0,9, 20210513,      741,  38.1032, -68.5696,    23.1802,2,     0.0789,1,     4.5687,1,     -999.0,9,     -999.0,9,     -999.0,9
325020210420,        A22,      79,          1,         35,         35,2,20210513,       0535,    38.1032,   -68.5696,       4117,    20.3,  23.1932,  36.2695,2,  36.2681,2,    211.9,2,   212.0,2,    0.68,2,    0.00,2,    0.00,2,    0.00,2,-999.000,9,-999.000,9,-999.0000,9,  -999.0,9, -999.00,9, -999.000,9,  -999.00,-999.00000,9,  -999.00, -999.00,9, -999.00,9, -999.00, -999.00,9,-999.000,9, -999.00,9, -999.00,9,     -999.0,9, 20210513,      739,  38.1032, -68.5718,    23.1967,2,     0.0791,1,     4.5674,1,     -999.0,9,     -999.0,9,     -999.0,9
325020210420,        A22,      79,          1,         34,         34,2,20210513,       0535,    38.1032,   -68.5696,       4117,    40.0,  23.1957,  36.2676,2,  36.2669,2,    211.5,2,   212.2,2,    0.58,2,    0.00,2,    0.00,2,    0.00,2,-999.000,9,-999.000,9,-999.0000,9,  2070.8,2, 2382.61,2, -999.000,9,  -999.00,   8.04911,6,    24.99, -999.00,9, -999.00,9, -999.00, -999.00,1,-999.000,9, -999.00,9, -999.00,9,     -999.0,9, 20210513,      737,  38.1032, -68.5743,    23.1934,2,     0.0792,1,     4.5723,1,     -999.0,9,     -999.0,9,     -999.0,9
325020210420,        A22,      79,          1,         33,         33,2,20210513,       0535,    38.1032,   -68.5696,       4117,    65.9,  21.2627,  36.1371,2,  36.1371,2,    209.0,2,   208.1,2,    0.98,2,    0.65,2,    0.16,2,    0.03,2,   1.875,2,   1.173,2,   1.8800,2,  2088.9,2, 2379.79,2, -999.000,9,  -999.00,   8.01118,2,    25.00, -999.00,9, -999.00,9, -999.00, -999.00,9,-999.000,9, -999.00,9, -999.00,9,       7.84,2, 20210513,      735,  38.1031, -68.5769,    21.2518,2,     0.2035,1,     4.4463,1,     -999.0,9,     -999.0,9,     -999.0,9
325020210420,        A22,      79,          1,         32,         32,2,20210513,       0535,    38.1032,   -68.5696,       4117,    90.9,  18.0617,  35.7432,2,  35.7979,3,    208.0,3,   204.9,2,    1.37,2,    2.55,2,    0.16,2,    0.16,2,-999.000,9,-999.000,9,-999.0000,9,  -999.0,9, -999.00,9, -999.000,9,  -999.00,-999.00000,9,  -999.00, -999.00,9, -999.00,9, -999.00, -999.00,9,-999.000,9, -999.00,9, -999.00,9,     -999.0,9, 20210513,      733,  38.1030, -68.5794,    18.0676,3,     0.1039,1,     4.5017,1,     -999.0,9,     -999.0,9,     -999.0,9
325020210420,        A22,      79,          1,         31,         31,2,20210513,       0535,    38.1032,   -68.5696,       4117,   115.6,  17.6708,  36.1287,2,  36.0584,3,    186.5,3,   183.8,2,    2.24,2,    5.79,2,    0.19,2,    0.32,2,-999.000,9,-999.000,9,-999.0000,9,  2135.5,2, 2366.65,2, -999.000,9,  -999.00,    7.9092,2,    25.01, -999.00,9, -999.00,9, -999.00, -999.00,9,-999.000,9, -999.00,9, -999.00,9,     -999.0,9, 20210513,      731,  38.1029, -68.5823,    17.6575,2,     0.0563,1,     4.6167,1,     -999.0,9,     -999.0,9,     -999.0,9
325020210420,        A22,      79,          1,         30,         30,2,20210513,       0535,    38.1032,   -68.5696,       4117,   141.4,  14.0473,  35.2927,3,  35.3129,2,    245.2,2,   244.8,2,    0.98,2,    1.37,2,    0.71,2,    0.16,2,-999.000,9,-999.000,9,-999.0000,9,  -999.0,9, -999.00,9, -999.000,9,  -999.00,-999.00000,9,  -999.00, -999.00,9, -999.00,9, -999.00, -999.00,9,-999.000,9, -999.00,9, -999.00,9,     -999.0,9, 20210513,      729,  38.1028, -68.5839,    14.0472,2,     0.0570,1,     4.5865,1,     -999.0,9,     -999.0,9,     -999.0,9
325020210420,        A22,      79,          1,         29,         29,2,20210513,       0535,    38.1032,   -68.5696,       4117,   186.6,  14.1507,  35.6927,2,  35.6903,2,    209.5,2,   210.2,2,    2.83,2,    8.41,2,    0.03,2,    0.50,2,-999.000,9,-999.000,9,-999.0000,9,  2133.0,2, 2347.29,2, -999.000,9,  -999.00,   7.87518,2,    25.00, -999.00,9, -999.00,9, -999.00, -999.00,9,-999.000,9, -999.00,9, -999.00,9,     -999.0,9, 20210513,      727,  38.1027, -68.5856,    14.1567,2,     0.0437,1,     4.6422,1,     -999.0,9,     -999.0,9,     -999.0,9
325020210420,        A22,      79,          1,         28,         28,2,20210513,       0535,    38.1032,   -68.5696,       4117,   237.7,  13.5647,  35.6916,2,  35.6913,2,    217.2,2,   218.7,2,    3.90,2,    9.76,2,    0.01,2,    0.58,2,-999.000,9,-999.000,9,-999.0000,9,  -999.0,9, -999.00,9, -999.000,9,  -999.00,-999.00000,9,  -999.00, -999.00,9, -999.00,9, -999.00, -999.00,9,-999.000,9, -999.00,9, -999.00,9,     -999.0,9, 20210513,      724,  38.1025, -68.5881,    13.5653,2,     0.0412,1,     4.6585,1,     -999.0,9,     -999.0,9,     -999.0,9
325020210420,        A22,      79,          1,         27,         27,2,20210513,       0535,    38.1032,   -68.5696,       4117,   287.6,  12.9050,  35.6306,2,  35.6289,2,    166.6,2,   166.7,2,    7.32,2,   16.22,2,    0.01,2,    0.97,2,-999.000,9,-999.000,9,-999.0000,9,  2172.0,2,  2339.8,2, -999.000,9,  -999.00,   7.77982,2,    25.02, -999.00,9, -999.00,9, -999.00, -999.00,1,-999.000,9, -999.00,9, -999.00,9,     -999.0,9, 20210513,      721,  38.1022, -68.5907,    12.9047,2,     0.0424,1,     4.6596,1,     -999.0,9,     -999.0,9,     -999.0,9
325020210420,        A22,      79,          1,         26,         26,2,20210513,       0535,    38.1032,   -68.5696,       4117,   337.5,  11.5628,  35.4758,2,  35.4811,2,    134.5,2,   135.2,2,   10.83,2,   21.61,2,    0.00,2,    1.31,2,-999.000,9,-999.000,9,-999.0000,9,  -999.0,9, -999.00,9, -999.000,9,  -999.00,-999.00000,9,  -999.00, -999.00,9, -999.00,9, -999.00, -999.00,9,-999.000,9, -999.00,9, -999.00,9,     -999.0,9, 20210513,      719,  38.1021, -68.5923,    11.5555,2,     0.0431,1,     4.6602,1,     -999.0,9,     -999.0,9,     -999.0,9
325020210420,        A22,      79,          1,         25,         25,2,20210513,       0535,    38.1032,   -68.5696,       4117,   389.7,  10.2048,  35.3046,2,  35.3064,2,    132.7,2,   132.7,2,   13.37,2,   24.10,2,    0.00,2,    1.49,2,-999.000,9,-999.000,9,-999.0000,9,  2200.7,2,  2324.0,2, -999.000,9,  -999.00,    7.6731,2,    24.99, -999.00,9, -999.00,9, -999.00, -999.00,9,-999.000,9, -999.00,9, -999.00,9,     -999.0,9, 20210513,      717,  38.1020, -68.5936,    10.2031,2,     0.0425,1,     4.6546,1,     -999.0,9,     -999.0,9,     -999.0,9
325020210420,        A22,      79,          1,         24,         24,2,20210513,       0535,    38.1032,   -68.5696,       4117,   440.5,   8.3157,  35.1562,2,  35.1561,2,    154.2,2,   154.0,2,   14.73,2,   24.18,2,    0.00,2,    1.52,2,-999.000,9,-999.000,9,-999.0000,9,  -999.0,9, -999.00,9, -999.000,9,  -999.00,-999.00000,9,  -999.00, -999.00,9, -999.00,9, -999.00, -999.00,9,-999.000,9, -999.00,9, -999.00,9,     -999.0,9, 20210513,      714,  38.1019, -68.5949,     8.3098,2,     0.0419,1,     4.6583,1,     -999.0,9,     -999.0,9,     -999.0,9
325020210420,        A22,      79,          1,         23,         23,2,20210513,       0535,    38.1032,   -68.5696,       4117,   489.9,   7.3935,  35.1234,2,  35.1236,2,    172.9,2,   172.4,2,   14.15,2,   22.89,2,    0.00,2,    1.46,2,-999.000,9,-999.000,9,-999.0000,9,  2193.4,2, 2314.11,2, -999.000,9,  -999.00,    7.6651,2,    25.00, -999.00,9, -999.00,9, -999.00, -999.00,9,-999.000,9, -999.00,9, -999.00,9,     -999.0,9, 20210513,      712,  38.1018, -68.5962,     7.4017,2,     0.0413,1,     4.6578,1,     -999.0,9,     -999.0,9,     -999.0,9
325020210420,        A22,      79,          1,         22,         22,2,20210513,       0535,    38.1032,   -68.5696,       4117,   572.2,   6.3139,  35.0830,2,  35.0825,2,    199.6,2,   199.8,2,   13.47,2,   21.11,2,    0.00,2,    1.37,2,   2.130,2,   1.083,2,   0.7700,2,  -999.0,9, -999.00,9, -999.000,9,  -999.00,-999.00000,9,  -999.00, -999.00,9, -999.00,9, -999.00, -999.00,9,-999.000,9, -999.00,9, -999.00,9,      17.02,2, 20210513,      709,  38.1016, -68.5979,     6.3152,2,     0.0430,1,     4.6591,1,     -999.0,9,     -999.0,9,     -999.0,9
325020210420,        A22,      79,          1,         21,         21,2,20210513,       0535,    38.1032,   -68.5696,       4117,   674.4,   5.4252,  35.0525,2,  35.0529,2,    226.0,2,   225.6,2,   12.30,2,   19.36,2,    0.00,2,    1.27,2,-999.000,9,-999.000,9,-999.0000,9,  2180.6,2, 2312.79,2, -999.000,9,  -999.00,   7.69442,2,    25.00, -999.00,9, -999.00,9, -999.00, -999.00,9,-999.000,9, -999.00,9, -999.00,9,     -999.0,9, 20210513,      706,  38.1015, -68.5994,     5.4205,2,     0.0420,1,     4.6642,1,     -999.0,9,     -999.0,9,     -999.0,9
325020210420,        A22,      79,          1,         20,         20,2,20210513,       0535,    38.1032,   -68.5696,       4117,   779.3,   4.9599,  35.0234,2,  35.0236,2,    240.0,2,   239.8,2,   11.71,2,   18.56,2,    0.00,2,    1.21,2,-999.000,9,-999.000,9,-999.0000,9,  -999.0,9, -999.00,9, -999.000,9,  -999.00,-999.00000,9,  -999.00, -999.00,9, -999.00,9, -999.00, -999.00,9,-999.000,9, -999.00,9, -999.00,9,     -999.0,9, 20210513,      703,  38.1014, -68.6010,     4.9589,2,     0.0429,1,     4.6651,1,     -999.0,9,     -999.0,9,     -999.0,9
325020210420,        A22,      79,          1,         19,         19,2,20210513,       0535,    38.1032,   -68.5696,       4117,   877.9,   4.7687,  35.0170,2,  35.0169,2,    245.6,2,   245.7,2,   11.91,2,   18.27,2,    0.00,2,    1.20,2,-999.000,9,-999.000,9,-999.0000,9,  2174.9,2, 2309.35,2, -999.000,9,  -999.00,   7.70508,2,    25.01, -999.00,9, -999.00,9, -999.00, -999.00,9,-999.000,9, -999.00,9, -999.00,9,     -999.0,9, 20210513,      659,  38.1012, -68.6026,     4.7663,2,     0.0422,1,     4.6663,1,     -999.0,9,     -999.0,9,     -999.0,9
325020210420,        A22,      79,          1,         18,         18,2,20210513,       0535,    38.1032,   -68.5696,       4117,   978.9,   4.5175,  34.9970,2,  34.9972,2,    252.2,2,   252.3,2,   11.71,2,   17.91,2,    0.00,2,    1.18,2,   2.834,2,   1.525,2,   1.1200,2,  -999.0,9, -999.00,9, -999.000,9,  -999.00,-999.00000,9,  -999.00, -999.00,9, -999.00,9, -999.00, -999.00,9,-999.000,9, -999.00,9, -999.00,9,      14.04,2, 20210513,      655,  38.1010, -68.6040,     4.5162,2,     0.0413,1,     4.6656,1,     -999.0,9,     -999.0,9,     -999.0,9
325020210420,        A22,      79,          1,         17,         17,2,20210513,       0535,    38.1032,   -68.5696,       4117,  1082.1,   4.3759,  34.9917,2,  34.9919,2,    255.3,2,   255.8,2,   11.81,2,   17.79,2,    0.00,2,    1.17,2,-999.000,9,-999.000,9,-999.0000,9,  -999.0,9, -999.00,9, -999.000,9,  -999.00,-999.00000,9,  -999.00, -999.00,9, -999.00,9, -999.00, -999.00,9,-999.000,9, -999.00,9, -999.00,9,     -999.0,9, 20210513,      652,  38.1009, -68.6053,     4.3752,2,     0.0423,1,     4.6664,1,     -999.0,9,     -999.0,9,     -999.0,9
325020210420,        A22,      79,          1,         16,         16,2,20210513,       0535,    38.1032,   -68.5696,       4117,  1183.1,   4.2037,  34.9793,2,  34.9799,2,    258.5,2,   258.8,2,   11.91,2,   17.66,2,    0.00,2,    1.16,2,-999.000,9,-999.000,9,-999.0000,9,  -999.0,9, -999.00,9, -999.000,9,  -999.00,-999.00000,9,  -999.00, -999.00,9, -999.00,9, -999.00, -999.00,9,-999.000,9, -999.00,9, -999.00,9,     -999.0,9, 20210513,      648,  38.1008, -68.6066,     4.2006,2,     0.0419,1,     4.6655,1,     -999.0,9,     -999.0,9,     -999.0,9
325020210420,        A22,      79,          1,         15,         15,2,20210513,       0535,    38.1032,   -68.5696,       4117,  1283.5,   4.1017,  34.9748,2,  34.9748,2,    260.2,2,   260.4,2,   12.20,2,   17.63,2,    0.00,2,    1.17,2,-999.000,9,-999.000,9,-999.0000,9,  2169.4,2, 2307.13,6, -999.000,9,  -999.00,   7.71447,2,    24.99, -999.00,9, -999.00,9, -999.00, -999.00,9,-999.000,9, -999.00,9, -999.00,9,     -999.0,9, 20210513,      645,  38.1006, -68.6080,     4.1016,2,     0.0427,1,     4.6662,1,     -999.0,9,     -999.0,9,     -999.0,9
325020210420,        A22,      79,          1,         14,         14,2,20210513,       0535,    38.1032,   -68.5696,       4117,  1383.2,   4.0484,  34.9752,2,  34.9766,2,    260.4,2,   260.8,2,   12.39,2,   17.67,2,    0.00,2,    1.17,2,-999.000,9,-999.000,9,-999.0000,9,  -999.0,9, -999.00,9, -999.000,9,  -999.00,-999.00000,9,  -999.00, -999.00,9, -999.00,9, -999.00, -999.00,9,-999.000,9, -999.00,9, -999.00,9,     -999.0,9, 20210513,      642,  38.1004, -68.6093,     4.0474,2,     0.0422,1,     4.6667,1,     -999.0,9,     -999.0,9,     -999.0,9
325020210420,        A22,      79,          1,         13,         13,2,20210513,       0535,    38.1032,   -68.5696,       4117,  1485.7,   3.9693,  34.9742,2,  34.9750,2,    260.8,2,   261.0,2,   12.78,2,   17.73,2,    0.00,2,    1.17,2,-999.000,9,-999.000,9,-999.0000,9,  -999.0,9, -999.00,9, -999.000,9,  -999.00,-999.00000,9,  -999.00, -999.00,9, -999.00,9, -999.00, -999.00,9,-999.000,9, -999.00,9, -999.00,9,     -999.0,9, 20210513,      639,  38.1003, -68.6107,     3.9688,2,     0.0427,1,     4.6678,1,     -999.0,9,     -999.0,9,     -999.0,9
325020210420,        A22,      79,          1,         12,         12,2,20210513,       0535,    38.1032,   -68.5696,       4117,  1587.3,   3.8858,  34.9718,2,  34.9723,2,    261.8,2,   261.7,2,   13.08,2,   17.81,2,    0.00,2,    1.17,2,-999.000,9,-999.000,9,-999.0000,9,  -999.0,9, -999.00,9, -999.000,9,  -999.00,-999.00000,9,  -999.00, -999.00,9, -999.00,9, -999.00, -999.00,9,-999.000,9, -999.00,9, -999.00,9,     -999.0,9, 20210513,      635,  38.1001, -68.6120,     3.8855,2,     0.0430,1,     4.6679,1,     -999.0,9,     -999.0,9,     -999.0,9
325020210420,        A22,      79,          1,         11,         11,2,20210513,       0535,    38.1032,   -68.5696,       4117,  1690.6,   3.8254,  34.9728,2,  34.9726,2,    261.2,2,   261.7,2,   13.56,2,   17.83,2,    0.00,2,    1.17,2,   2.087,2,   1.059,2,   0.4700,2,  2165.3,2, 2308.21,2, -999.000,9,  -999.00,   7.72229,2,    24.99, -999.00,9, -999.00,9, -999.00, -999.00,9,-999.000,9, -999.00,9, -999.00,9,      13.39,2, 20210513,      632,  38.1000, -68.6132,     3.8255,2,     0.0421,1,     4.6691,1,     -999.0,9,     -999.0,9,     -999.0,9
325020210420,        A22,      79,          1,         10,         10,2,20210513,       0535,    38.1032,   -68.5696,       4117,  1789.9,   3.6989,  34.9627,2,  34.9630,2,    263.0,2,   263.0,2,   13.95,2,   17.79,2,    0.00,2,    1.17,2,-999.000,9,-999.000,9,-999.0000,9,  -999.0,9, -999.00,9, -999.000,9,  -999.00,-999.00000,9,  -999.00, -999.00,9, -999.00,9, -999.00, -999.00,9,-999.000,9, -999.00,9, -999.00,9,     -999.0,9, 20210513,      629,  38.0999, -68.6145,     3.6988,2,     0.0423,1,     4.6688,1,     -999.0,9,     -999.0,9,     -999.0,9
325020210420,        A22,      79,          1,          9,          9,2,20210513,       0535,    38.1032,   -68.5696,       4117,  1961.6,   3.5210,  34.9538,2,  34.9538,2,    264.4,2,   264.5,2,   14.83,2,   17.73,2,    0.00,2,    1.17,2,   2.017,2,   0.984,2,   0.4200,2,  -999.0,9, -999.00,9, -999.000,9,  -999.00,-999.00000,9,  -999.00, -999.00,9, -999.00,9, -999.00, -999.00,9,-999.000,9, -999.00,9, -999.00,9,      13.32,2, 20210513,      624,  38.0997, -68.6165,     3.5210,2,     0.0420,1,     4.6661,1,     -999.0,9,     -999.0,9,     -999.0,9
325020210420,        A22,      79,          1,          8,          8,2,20210513,       0535,    38.1032,   -68.5696,       4117,  2193.9,   3.3379,  34.9477,2,  34.9475,2,    265.3,2,   265.5,2,   16.20,2,   17.70,2,    0.00,2,    1.17,2,-999.000,9,-999.000,9,-999.0000,9,  -999.0,9, -999.00,9, -999.000,9,  -999.00,-999.00000,9,  -999.00, -999.00,9, -999.00,9, -999.00, -999.00,9,-999.000,9, -999.00,9, -999.00,9,     -999.0,9, 20210513,      619,  38.0995, -68.6190,     3.3380,2,     0.0421,1,     4.6669,1,     -999.0,9,     -999.0,9,     -999.0,9
325020210420,        A22,      79,          1,          7,          7,2,20210513,       0535,    38.1032,   -68.5696,       4117,  2450.0,   3.0779,  34.9371,2,  34.9384,2,    267.0,2,   267.2,2,   17.57,2,   17.59,2,    0.00,2,    1.16,2,-999.000,9,-999.000,9,-999.0000,9,  2166.0,2, 2312.71,2, -999.000,9,  -999.00,   7.73093,6,    25.00, -999.00,9, -999.00,9, -999.00, -999.00,9,-999.000,9, -999.00,9, -999.00,9,     -999.0,9, 20210513,      613,  38.0993, -68.6216,     3.0789,2,     0.0417,1,     4.6661,1,     -999.0,9,     -999.0,9,     -999.0,9
325020210420,        A22,      79,          1,          6,          6,2,20210513,       0535,    38.1032,   -68.5696,       4117,  2703.3,   2.8588,  34.9280,2,  34.9288,2,    268.6,2,   268.7,2,   18.64,2,   17.48,2,    0.00,2,    1.16,2,   1.682,2,   0.858,2,   0.4900,2,  -999.0,9, -999.00,9, -999.000,9,  -999.00,-999.00000,9,  -999.00, -999.00,9, -999.00,9, -999.00, -999.00,9,-999.000,9, -999.00,9, -999.00,9,      13.16,2, 20210513,      607,  38.0991, -68.6240,     2.8599,2,     0.0423,1,     4.6672,1,     -999.0,9,     -999.0,9,     -999.0,9
325020210420,        A22,      79,          1,          5,          5,2,20210513,       0535,    38.1032,   -68.5696,       4117,  2957.9,   2.6167,  34.9171,2,  34.9170,2,    270.3,2,   270.4,2,   20.30,2,   17.38,2,    0.00,2,    1.16,2,   1.774,2,   0.853,2,   0.4800,2,  -999.0,9, -999.00,9, -999.000,9,  -999.00,-999.00000,9,  -999.00, -999.00,9, -999.00,9, -999.00, -999.00,9,-999.000,9, -999.00,9, -999.00,9,      13.35,2, 20210513,      601,  38.0988, -68.6266,     2.6159,2,     0.0429,1,     4.6691,1,     -999.0,9,     -999.0,9,     -999.0,9
325020210420,        A22,      79,          1,          4,          4,2,20210513,       0535,    38.1032,   -68.5696,       4117,  3248.3,   2.4096,  34.9055,2,  34.9069,2,    270.9,2,   271.0,2,   22.93,2,   17.53,2,    0.00,2,    1.17,2,-999.000,9,-999.000,9,-999.0000,9,  -999.0,9, -999.00,9, -999.000,9,  -999.00,-999.00000,9,  -999.00, -999.00,9, -999.00,9, -999.00, -999.00,9,-999.000,9, -999.00,9, -999.00,9,     -999.0,9, 20210513,      555,  38.0986, -68.6290,     2.4099,2,     0.0429,1,     4.6691,1,     -999.0,9,     -999.0,9,     -999.0,9
325020210420,        A22,      79,          1,          3,          3,2,20210513,       0535,    38.1032,   -68.5696,       4117,  3556.0,   2.2751,  34.8955,2,  34.8961,2,    268.7,2,   268.8,2,   27.23,2,   18.10,2,    0.00,2,    1.21,2,   1.422,2,   0.734,2,   0.4500,2,  2174.9,2, 2320.44,2, -999.000,9,  -999.00,   7.73071,6,    24.99, -999.00,9, -999.00,9, -999.00, -999.00,9,-999.000,9, -999.00,9, -999.00,9,      13.40,2, 20210513,      547,  38.0985, -68.6312,     2.2746,2,     0.0436,1,     4.6674,1,     -999.0,9,     -999.0,9,     -999.0,9