BOTTLE,20230513CCHSIOCBG
EXPOCODE,SECT_ID,STNNBR,CASTNO,SAMPNO,BTLNBR,BTLNBR_FLAG_W,DATE,TIME,LATITUDE,LONGITUDE,DEPTH,CTDPRS,CTDTMP,CTDSAL,CTDSAL_FLAG_W,SALNTY,SALNTY_FLAG_W,CTDOXY,CTDOXY_FLAG_W,OXYGEN,OXYGEN_FLAG_W,SILCAT,SILCAT_FLAG_W,NITRAT,NITRAT_FLAG_W,NITRIT,NITRIT_FLAG_W,PHSPHT,PHSPHT_FLAG_W,CFC-11,CFC-11_FLAG_W,CFC-12,CFC-12_FLAG_W,SF6,SF6_FLAG_W,TCARBN,TCARBN_FLAG_W,ALKALI,ALKALI_FLAG_W,FCO2,FCO2_FLAG_W,FCO2TMP,PH_TOT,PH_TOT_FLAG_W,PH_TMP,DELC13,DELC13_FLAG_W,DELC14,DELC14_FLAG_W,C14ERR,DELO18,DELO18_FLAG_W,POC,POC_FLAG_W,DOC,DOC_FLAG_W,TDN,TDN_FLAG_W,N2O,N2O_FLAG_W,BTL_DATE,BTL_TIME,BTL_LAT,BTL_LON,REFTMP,REFTMP_FLAG_W,CTDFLUOR,CTDFLUOR_FLAG_W,CTDXMISS,CTDXMISS_FLAG_W,D15N_NO2+NO3,D15N_NO2+NO3_FLAG_W,D18O_NO2+NO3,D18O_NO2+NO3_FLAG_W,HPLC,HPLC_FLAG_W
,,,,,,,,,,,METERS,DBAR,ITS-90,PSS-78,,PSS-78,,UMOL/KG,,UMOL/KG,,UMOL/KG,,UMOL/KG,,UMOL/KG,,UMOL/KG,,PMOL/KG,,PMOL/KG,,FMOL/KG,,UMOL/KG,,UMOL/KG,,UATM,,DEG C,,,DEG C,/MILLE,,/MILLE,,/MILLE,/MILLE,,UG/KG,,UMOL/KG,,UMOL/KG,,NMOL/KG,,,,,,ITS-90,,VOLTS,,VOLTS,,/MILLE,,/MILLE,,,
325020210420,        A22,      49,          1,         36,         36,2,20210503,       1728,    24.3232,   -65.7637,       5803,     4.9,  26.1096,  36.8102,2,  36.8141,2,    207.3,2,   206.4,2,    1.17,2,    0.00,2,    0.00,2,    0.00,2,   1.572,2,   0.998,2,   1.6000,2,  2067.1,6,  2410.0,2, -999.000,9,  -999.00,    8.0944,2,    25.03, -999.00,9, -999.00,9, -999.00, -999.00,1,-999.000,9, -999.00,9, -999.00,9,       6.10,2, 20210503,     1954,  24.3232, -65.7637,    26.1025,2,     0.0398,1,     4.6292,1,     -999.0,9,     -999.0,9,     -999.0,9
325020210420,        A22,      49,          1,         35,         35,2,20210503,       1728,    24.3232,   -65.7637,       5803,    20.1,  25.4278,  36.7884,2,  36.7903,2,    207.4,2,   207.5,2,    1.07,2,    0.00,2,    0.00,2,    0.00,2,-999.000,9,-999.000,9,-999.0000,9,  -999.0,9, -999.00,9, -999.000,9,  -999.00,-999.00000,9,  -999.00, -999.00,9, -999.00,9, -999.00, -999.00,9,-999.000,9, -999.00,9, -999.00,9,     -999.0,9, 20210503,     1953,  24.3232, -65.7637,    25.4190,2,     0.0404,1,     4.6264,1,     -999.0,9,     -999.0,9,     -999.0,9
325020210420,        A22,      49,          1,         34,         34,2,20210503,       1728,    24.3232,   -65.7637,       5803,    40.3,  24.6848,  36.8954,2,  36.8967,2,    210.7,2,   210.7,2,    0.97,2,    0.00,2,    0.00,2,    0.00,2,   1.618,2,   1.023,2,   1.6500,2,  2073.3,2, 2414.96,2, -999.000,9,  -999.00,   8.09091,6,    25.02, -999.00,9, -999.00,9, -999.00, -999.00,9,-999.000,9, -999.00,9, -999.00,9,       6.16,2, 20210503,     1951,  24.3232, -65.7637,    24.6861,2,     0.0417,1,     4.6233,1,     -999.0,9,     -999.0,9,     -999.0,9
325020210420,        A22,      49,          1,         33,         33,2,20210503,       1728,    24.3232,   -65.7637,       5803,    65.5,  24.1288,  36.9337,2,  36.9356,2,    211.8,2,   211.4,2,    0.97,2,    0.00,2,    0.00,2,    0.00,2,   1.627,2,   1.034,2,   1.6900,2,  2074.2,2, 2414.93,6, -999.000,9,  -999.00,   8.08969,2,    25.05, -999.00,9, -999.00,9, -999.00, -999.00,9,-999.000,9, -999.00,9, -999.00,9,       6.15,2, 20210503,     1949,  24.3232, -65.7637,    24.1272,2,     0.0440,1,     4.6270,1,     -999.0,9,     -999.0,9,     -999.0,9
325020210420,        A22,      49,          1,         32,         32,2,20210503,       1728,    24.3232,   -65.7637,       5803,    90.3,  23.2604,  36.9593,2,  36.9608,2,    213.3,2,   213.3,2,    0.68,2,    0.00,2,    0.00,2,    0.00,2,-999.000,9,-999.000,9,-999.0000,9,  -999.0,9, -999.00,9, -999.000,9,  -999.00,-999.00000,9,  -999.00, -999.00,9, -999.00,9, -999.00, -999.00,9,-999.000,9, -999.00,9, -999.00,9,     -999.0,9, 20210503,     1946,  24.3232, -65.7637,    23.2625,2,     0.0506,1,     4.6244,1,     -999.0,9,     -999.0,9,     -999.0,9
325020210420,        A22,      49,          1,         31,         31,2,20210503,       1728,    24.3232,   -65.7637,       5803,   136.3,  22.3714,  36.9581,2,  36.9548,2,    206.9,2,   207.5,2,    0.49,2,    0.00,2,    0.00,2,    0.00,2,   1.755,2,   1.107,2,   1.8000,2,  2098.5,2, 2414.69,2, -999.000,9,  -999.00,    8.0506,2,    25.02, -999.00,9, -999.00,9, -999.00, -999.00,9,-999.000,9, -999.00,9, -999.00,9,       6.61,2, 20210503,     1945,  24.3232, -65.7637,    22.3641,2,     0.0693,1,     4.6299,1,     -999.0,9,     -999.0,9,     -999.0,9
325020210420,        A22,      49,          1,         30,         30,2,20210503,       1728,    24.3232,   -65.7637,       5803,   186.5,  20.9342,  36.8089,2,  36.8091,2,    202.8,2,   203.0,2,    0.58,2,    0.22,2,    0.04,2,    0.00,2,   1.855,2,   1.176,2,   1.8200,2,  2109.1,2,  2403.9,2, -999.000,9,  -999.00,    8.0201,2,    24.98, -999.00,9, -999.00,9, -999.00, -999.00,1,-999.000,9, -999.00,9, -999.00,9,       6.97,2, 20210503,     1942,  24.3232, -65.7637,    20.9328,2,     0.0749,1,     4.6447,1,     -999.0,9,     -999.0,9,     -999.0,9
325020210420,        A22,      49,          1,         29,         29,2,20210503,       1728,    24.3232,   -65.7637,       5803,   237.3,  19.8119,  36.7059,2,  36.7048,2,    198.3,2,   198.5,2,    0.78,2,    1.65,2,    0.00,2,    0.00,2,-999.000,9,-999.000,9,-999.0000,9,  -999.0,9, -999.00,9, -999.000,9,  -999.00,-999.00000,9,  -999.00, -999.00,9, -999.00,9, -999.00, -999.00,9,-999.000,9, -999.00,9, -999.00,9,     -999.0,9, 20210503,     1940,  24.3232, -65.7637,    19.8096,2,     0.0415,1,     4.6637,1,     -999.0,9,     -999.0,9,     -999.0,9
325020210420,        A22,      49,          1,         28,         28,2,20210503,       1728,    24.3232,   -65.7637,       5803,   287.1,  19.2349,  36.6531,2,  36.6544,2,    201.1,2,   200.9,2,    0.97,2,    2.49,2,    0.00,2,    0.02,2,-999.000,9,-999.000,9,-999.0000,9,  -999.0,9, -999.00,9, -999.000,9,  -999.00,-999.00000,9,  -999.00, -999.00,9, -999.00,9, -999.00, -999.00,9,-999.000,9, -999.00,9, -999.00,9,     -999.0,9, 20210503,     1938,  24.3232, -65.7637,    19.2335,2,     0.0395,1,     4.6689,1,     -999.0,9,     -999.0,9,     -999.0,9
325020210420,        A22,      49,          1,         27,         27,2,20210503,       1728,    24.3232,   -65.7637,       5803,   337.8,  18.9250,  36.6223,2,  36.6223,2,    198.9,2,   199.5,2,    1.07,2,    3.22,2,    0.00,2,    0.06,2,-999.000,9,-999.000,9,-999.0000,9,  -999.0,9, -999.00,9, -999.000,9,  -999.00,-999.00000,9,  -999.00, -999.00,9, -999.00,9, -999.00, -999.00,9,-999.000,9, -999.00,9, -999.00,9,     -999.0,9, 20210503,     1935,  24.3232, -65.7637,    18.9242,2,     0.0402,1,     4.6691,1,     -999.0,9,     -999.0,9,     -999.0,9
325020210420,        A22,      49,          1,         26,         26,2,20210503,       1728,    24.3232,   -65.7637,       5803,   387.5,  18.6277,  36.5871,2,  36.5864,2,    196.9,2,   197.3,2,    1.27,2,    3.92,2,    0.00,2,    0.10,2,-999.000,9,-999.000,9,-999.0000,9,  -999.0,9, -999.00,9, -999.000,9,  -999.00,-999.00000,9,  -999.00, -999.00,9, -999.00,9, -999.00, -999.00,9,-999.000,9, -999.00,9, -999.00,9,     -999.0,9, 20210503,     1933,  24.3232, -65.7637,    18.6254,2,     0.0391,1,     4.6713,1,     -999.0,9,     -999.0,9,     -999.0,9
325020210420,        A22,      49,          1,         25,         25,2,20210503,       1728,    24.3232,   -65.7637,       5803,   468.5,  17.6999,  36.4408,2,  36.4380,2,    185.0,2,   185.3,2,    2.05,2,    6.50,2,    0.00,2,    0.25,2,-999.000,9,-999.000,9,-999.0000,9,  -999.0,9, -999.00,9, -999.000,9,  -999.00,-999.00000,9,  -999.00, -999.00,9, -999.00,9, -999.00, -999.00,9,-999.000,9, -999.00,9, -999.00,9,     -999.0,9, 20210503,     1930,  24.3232, -65.7637,    17.7006,2,     0.0399,1,     4.6728,1,     -999.0,9,     -999.0,9,     -999.0,9
325020210420,        A22,      49,          1,         24,         24,2,20210503,       1728,    24.3232,   -65.7637,       5803,   569.0,  15.5172,  36.0834,2,  36.0782,2,    172.7,2,   172.9,2,    3.90,2,   11.14,2,    0.00,2,    0.56,2,-999.000,9,-999.000,9,-999.0000,9,  -999.0,9, -999.00,9, -999.000,9,  -999.00,-999.00000,9,  -999.00, -999.00,9, -999.00,9, -999.00, -999.00,9,-999.000,9, -999.00,9, -999.00,9,     -999.0,9, 20210503,     1927,  24.3232, -65.7637,    15.5183,2,     0.0407,1,     4.6739,1,     -999.0,9,     -999.0,9,     -999.0,9
325020210420,        A22,      49,          1,         23,         23,2,20210503,       1728,    24.3232,   -65.7637,       5803,   670.8,  13.2741,  35.7425,2,  35.7331,2,    159.6,2,   158.6,2,    6.73,2,   16.22,2,    0.00,2,    0.90,2,-999.000,9,-999.000,9,-999.0000,9,  -999.0,9, -999.00,9, -999.000,9,  -999.00,-999.00000,9,  -999.00, -999.00,9, -999.00,9, -999.00, -999.00,9,-999.000,9, -999.00,9, -999.00,9,     -999.0,9, 20210503,     1924,  24.3232, -65.7637,    13.2850,2,     0.0405,1,     4.6762,1,     -999.0,9,     -999.0,9,     -999.0,9
325020210420,        A22,      49,          1,         22,         22,2,20210503,       1728,    24.3232,   -65.7637,       5803,   771.0,  11.0735,  35.4406,2,  35.4387,2,    144.5,2,   145.1,2,   10.63,2,   21.31,2,    0.00,2,    1.23,2,   1.608,2,   0.886,2,   0.6000,2,  2186.8,2, 2330.02,2, -999.000,9,  -999.00,   7.71781,2,    24.98, -999.00,9, -999.00,9, -999.00, -999.00,9,-999.000,9, -999.00,9, -999.00,9,      19.25,2, 20210503,     1921,  24.3232, -65.7637,    11.0752,2,     0.0411,1,     4.6786,1,     -999.0,9,     -999.0,9,     -999.0,9
325020210420,        A22,      49,          1,         21,         21,2,20210503,       1728,    24.3232,   -65.7637,       5803,   872.0,   9.3098,  35.2274,2,  35.2262,2,    140.6,2,   140.2,2,   14.14,2,   24.79,2,    0.00,2,    1.48,2,-999.000,9,-999.000,9,-999.0000,9,  2198.7,2, 2319.97,2, -999.000,9,  -999.00,   7.67132,2,    25.00, -999.00,9, -999.00,9, -999.00, -999.00,9,-999.000,9, -999.00,9, -999.00,9,     -999.0,9, 20210503,     1917,  24.3232, -65.7637,     9.3136,2,     0.0412,1,     4.6795,1,     -999.0,9,     -999.0,9,     -999.0,9
325020210420,        A22,      49,          1,         20,         20,2,20210503,       1728,    24.3232,   -65.7637,       5803,   973.1,   7.6706,  35.0755,2,  35.0744,2,    151.1,2,   152.0,2,   16.58,2,   26.03,2,    0.00,2,    1.60,2,   0.831,2,   0.446,2,   0.3300,2,  2201.2,2, 2319.67,2, -999.000,9,  -999.00,   7.65043,2,    25.01, -999.00,9, -999.00,9, -999.00, -999.00,9,-999.000,9, -999.00,9, -999.00,9,      20.53,2, 20210503,     1915,  24.3232, -65.7637,     7.6846,2,     0.0418,1,     4.6795,1,     -999.0,9,     -999.0,9,     -999.0,9
325020210420,        A22,      49,          1,         19,         19,2,20210503,       1728,    24.3232,   -65.7637,       5803,  1074.8,   6.6779,  35.0685,2,  35.0679,2,    179.3,2,   179.8,2,   16.00,2,   23.69,2,    0.00,2,    1.46,2,-999.000,9,-999.000,9,-999.0000,9,  -999.0,9, -999.00,9, -999.000,9,  -999.00,-999.00000,9,  -999.00, -999.00,9, -999.00,9, -999.00, -999.00,9,-999.000,9, -999.00,9, -999.00,9,     -999.0,9, 20210503,     1912,  24.3232, -65.7637,     6.6836,2,     0.0423,1,     4.6801,1,     -999.0,9,     -999.0,9,     -999.0,9
325020210420,        A22,      49,          1,         18,         18,2,20210503,       1728,    24.3232,   -65.7637,       5803,  1176.0,   5.8306,  35.0669,2,  35.0673,2,    207.7,2,   208.2,2,   14.44,2,   21.24,2,    0.00,2,    1.33,2,-999.000,9,-999.000,9,-999.0000,9,  -999.0,9, -999.00,9, -999.000,9,  -999.00,-999.00000,9,  -999.00, -999.00,9, -999.00,9, -999.00, -999.00,9,-999.000,9, -999.00,9, -999.00,9,     -999.0,9, 20210503,     1909,  24.3232, -65.7637,     5.8304,2,     0.0423,1,     4.6802,1,     -999.0,9,     -999.0,9,     -999.0,9
325020210420,        A22,      49,          1,         17,         17,2,20210503,       1728,    24.3232,   -65.7637,       5803,  1277.5,   5.3432,  35.0669,2,  35.0675,2,    225.5,2,   225.7,2,   13.56,2,   19.84,2,    0.00,2,    1.24,2,   1.546,2,   0.807,2,   0.4600,2,  2178.1,2,  2317.9,2, -999.000,9,  -999.00,   7.71037,2,    25.06, -999.00,9, -999.00,9, -999.00, -999.00,9,-999.000,9, -999.00,9, -999.00,9,      15.03,2, 20210503,     1906,  24.3232, -65.7637,     5.3396,2,     0.0420,1,     4.6811,1,     -999.0,9,     -999.0,9,     -999.0,9
325020210420,        A22,      49,          1,         16,         16,2,20210503,       1728,    24.3232,   -65.7637,       5803,  1379.5,   4.9943,  35.0620,2,  35.0616,2,    234.3,2,   234.5,2,   13.56,2,   19.31,2,    0.00,2,    1.22,2,-999.000,9,-999.000,9,-999.0000,9,  -999.0,9, -999.00,9, -999.000,9,  -999.00,-999.00000,9,  -999.00, -999.00,9, -999.00,9, -999.00, -999.00,9,-999.000,9, -999.00,9, -999.00,9,     -999.0,9, 20210503,     1903,  24.3232, -65.7637,     4.9947,2,     0.0417,1,     4.6813,1,     -999.0,9,     -999.0,9,     -999.0,9
325020210420,        A22,      49,          1,         15,         15,2,20210503,       1728,    24.3232,   -65.7637,       5803,  1551.0,   4.5358,  35.0461,2,  35.0457,2,    244.3,2,   244.2,2,   14.05,2,   18.81,2,    0.00,2,    1.18,2,-999.000,9,-999.000,9,-999.0000,9,  -999.0,9, -999.00,9, -999.000,9,  -999.00,-999.00000,9,  -999.00, -999.00,9, -999.00,9, -999.00, -999.00,9,-999.000,9, -999.00,9, -999.00,9,     -999.0,9, 20210503,     1859,  24.3232, -65.7637,     4.5352,2,     0.0421,1,     4.6814,1,     -999.0,9,     -999.0,9,     -999.0,9
325020210420,        A22,      49,          1,         14,         14,2,20210503,       1728,    24.3232,   -65.7637,       5803,  1753.7,   4.1256,  35.0240,2,  35.0246,2,    250.2,2,   250.5,2,   15.41,2,   18.63,2,    0.00,2,    1.18,2,-999.000,9,-999.000,9,-999.0000,9,  -999.0,9, -999.00,9, -999.000,9,  -999.00,-999.00000,9,  -999.00, -999.00,9, -999.00,9, -999.00, -999.00,9,-999.000,9, -999.00,9, -999.00,9,     -999.0,9, 20210503,     1854,  24.3232, -65.7637,     4.1231,2,     0.0418,1,     4.6813,1,     -999.0,9,     -999.0,9,     -999.0,9
325020210420,        A22,      49,          1,         13,         13,2,20210503,       1728,    24.3232,   -65.7637,       5803,  1957.9,   3.7886,  35.0061,2,  35.0063,2,    251.9,2,   253.0,2,   17.85,2,   18.76,2,    0.00,2,    1.20,2,   0.707,2,   0.355,2,   0.1400,2,  2169.6,2, 2318.59,2, -999.000,9,  -999.00,   7.73737,2,    25.02, -999.00,9, -999.00,9, -999.00, -999.00,9,-999.000,9, -999.00,9, -999.00,9,      13.51,2, 20210503,     1849,  24.3232, -65.7637,     3.7865,2,     0.0427,1,     4.6813,1,     -999.0,9,     -999.0,9,     -999.0,9
325020210420,        A22,      49,          1,         12,         12,2,20210503,       1728,    24.3232,   -65.7637,       5803,  2190.8,   3.4641,  34.9876,2,  34.9868,2,    251.6,2,   251.8,2,   21.85,2,   19.18,2,    0.00,2,    1.23,2,-999.000,9,-999.000,9,-999.0000,9,  -999.0,9, -999.00,9, -999.000,9,  -999.00,-999.00000,9,  -999.00, -999.00,9, -999.00,9, -999.00, -999.00,9,-999.000,9, -999.00,9, -999.00,9,     -999.0,9, 20210503,     1844,  24.3232, -65.7637,     3.4637,2,     0.0410,1,     4.6813,1,     -999.0,9,     -999.0,9,     -999.0,9
325020210420,        A22,      49,          1,         11,         11,2,20210503,       1728,    24.3232,   -65.7637,       5803,  2444.9,   3.1791,  34.9657,2,  34.9660,2,    252.6,2,   252.8,2,   24.78,2,   19.42,2,    0.00,2,    1.26,2,-999.000,9,-999.000,9,-999.0000,9,  -999.0,9, -999.00,9, -999.000,9,  -999.00,-999.00000,9,  -999.00, -999.00,9, -999.00,9, -999.00, -999.00,9,-999.000,9, -999.00,9, -999.00,9,     -999.0,9, 20210503,     1839,  24.3232, -65.7637,     3.1793,2,     0.0424,1,     4.6812,1,     -999.0,9,     -999.0,9,     -999.0,9
325020210420,        A22,      49,          1,         10,         10,2,20210503,       1728,    24.3232,   -65.7637,       5803,  2699.8,   2.9797,  34.9499,2,  34.9496,2,    252.9,2,   253.1,2,   27.80,2,   19.70,2,    0.00,2,    1.28,2,-999.000,9,-999.000,9,-999.0000,9,  -999.0,9, -999.00,9, -999.000,9,  -999.00,-999.00000,9,  -999.00, -999.00,9, -999.00,9, -999.00, -999.00,9,-999.000,9, -999.00,9, -999.00,9,     -999.0,9, 20210503,     1834,  24.3232, -65.7637,     2.9804,2,     0.0422,1,     4.6811,1,     -999.0,9,     -999.0,9,     -999.0,9
325020210420,        A22,      49,          1,          9,          9,2,20210503,       1728,    24.3232,   -65.7637,       5803,  2953.9,   2.7947,  34.9335,2,  34.9337,2,    256.9,2,   256.9,2,   28.00,2,   19.40,2,    0.00,2,    1.26,2,-999.000,9,-999.000,9,-999.0000,9,  -999.0,9, -999.00,9, -999.000,9,  -999.00,-999.00000,9,  -999.00, -999.00,9, -999.00,9, -999.00, -999.00,9,-999.000,9, -999.00,9, -999.00,9,     -999.0,9, 20210503,     1828,  24.3232, -65.7637,     2.7946,2,     0.0422,1,     4.6802,1,     -999.0,9,     -999.0,9,     -999.0,9
325020210420,        A22,      49,          1,          8,          8,2,20210503,       1728,    24.3232,   -65.7637,       5803,  3245.4,   2.6093,  34.9183,2,  34.9183,2,    261.7,2,   262.5,2,   27.31,2,   18.88,2,    0.00,2,    1.23,2,-999.000,9,-999.000,9,-999.0000,9,  -999.0,9, -999.00,9, -999.000,9,  -999.00,-999.00000,9,  -999.00, -999.00,9, -999.00,9, -999.00, -999.00,9,-999.000,9, -999.00,9, -999.00,9,     -999.0,9, 20210503,     1822,  24.3232, -65.7637,     2.6097,2,     0.0434,1,     4.6803,1,     -999.0,9,     -999.0,9,     -999.0,9
325020210420,        A22,      49,          1,          7,          7,2,20210503,       1728,    24.3232,   -65.7637,       5803,  3552.0,   2.4718,  34.9080,2,  34.9081,2,    261.3,2,   261.2,2,   30.43,2,   19.26,2,    0.00,2,    1.27,2,   0.406,2,   0.212,2,   0.1100,2,  2176.8,2, 2327.46,2, -999.000,9,  -999.00,   7.73917,2,    25.07, -999.00,9, -999.00,9, -999.00, -999.00,9,-999.000,9, -999.00,9, -999.00,9,      13.30,2, 20210503,     1815,  24.3232, -65.7637,     2.4719,2,     0.0429,1,     4.6806,1,     -999.0,9,     -999.0,9,     -999.0,9
325020210420,        A22,      49,          1,          6,          6,2,20210503,       1728,    24.3232,   -65.7637,       5803,  3859.2,   2.3694,  34.8987,2,  34.8977,2,    262.4,2,   262.6,2,   31.70,2,   19.22,2,    0.00,2,    1.27,2,-999.000,9,-999.000,9,-999.0000,9,  -999.0,9, -999.00,9, -999.000,9,  -999.00,-999.00000,9,  -999.00, -999.00,9, -999.00,9, -999.00, -999.00,9,-999.000,9, -999.00,9, -999.00,9,     -999.0,9, 20210503,     1809,  24.3232, -65.7637,     2.3696,2,     0.0429,1,     4.6801,1,     -999.0,9,     -999.0,9,     -999.0,9
325020210420,        A22,      49,          1,          5,          5,2,20210503,       1728,    24.3232,   -65.7637,       5803,  4269.0,   2.2896,  34.8891,2,  34.8886,2,    260.8,2,   260.8,2,   35.51,2,   19.71,2,    0.00,2,    1.31,2,-999.000,9,-999.000,9,-999.0000,9,  -999.0,9, -999.00,9, -999.000,9,  -999.00,-999.00000,9,  -999.00, -999.00,9, -999.00,9, -999.00, -999.00,9,-999.000,9, -999.00,9, -999.00,9,     -999.0,9, 20210503,     1801,  24.3232, -65.7637,     2.2896,2,     0.0425,1,     4.6801,1,     -999.0,9,     -999.0,9,     -999.0,9
325020210420,        A22,      49,          1,          4,          4,2,20210503,       1728,    24.3232,   -65.7637,       5803,  4681.5,   2.2219,  34.8780,2,  34.8778,2,    258.8,2,   259.1,2,   39.41,2,   20.21,2,    0.00,2,    1.35,2,-999.000,9,-999.000,9,-999.0000,9,  -999.0,9, -999.00,9, -999.000,9,  -999.00,-999.00000,9,  -999.00, -999.00,9, -999.00,9, -999.00, -999.00,9,-999.000,9, -999.00,9, -999.00,9,     -999.0,9, 20210503,     1753,  24.3232, -65.7637,     2.2219,2,     0.0430,1,     4.6798,1,     -999.0,9,     -999.0,9,     -999.0,9
325020210420,        A22,      49,          1,          3,          3,2,20210503,       1728,    24.3232,   -65.7637,       5803,  5092.7,   2.1156,  34.8598,2,  34.8601,2,    252.6,2,   253.5,2,   48.87,2,   21.74,2,    0.00,2,    1.45,2,   0.258,2,   0.143,2,   0.1000,2,  2195.3,2, 2341.51,2, -999.000,9,  -999.00,   7.72197,2,    25.00, -999.00,9, -999.00,9, -999.00, -999.00,9,-999.000,9, -999.00,9, -999.00,9,      14.33,2, 20210503,     1745,  24.3232, -65.7637,     2.1157,2,     0.0433,1,     4.6763,1,     -999.0,9,     -999.0,9,     -999.0,9