BOTTLE,20230513CCHSIOCBG
EXPOCODE,SECT_ID,STNNBR,CASTNO,SAMPNO,BTLNBR,BTLNBR_FLAG_W,DATE,TIME,LATITUDE,LONGITUDE,DEPTH,CTDPRS,CTDTMP,CTDSAL,CTDSAL_FLAG_W,SALNTY,SALNTY_FLAG_W,CTDOXY,CTDOXY_FLAG_W,OXYGEN,OXYGEN_FLAG_W,SILCAT,SILCAT_FLAG_W,NITRAT,NITRAT_FLAG_W,NITRIT,NITRIT_FLAG_W,PHSPHT,PHSPHT_FLAG_W,CFC-11,CFC-11_FLAG_W,CFC-12,CFC-12_FLAG_W,SF6,SF6_FLAG_W,TCARBN,TCARBN_FLAG_W,ALKALI,ALKALI_FLAG_W,FCO2,FCO2_FLAG_W,FCO2TMP,PH_TOT,PH_TOT_FLAG_W,PH_TMP,DELC13,DELC13_FLAG_W,DELC14,DELC14_FLAG_W,C14ERR,DELO18,DELO18_FLAG_W,POC,POC_FLAG_W,DOC,DOC_FLAG_W,TDN,TDN_FLAG_W,N2O,N2O_FLAG_W,BTL_DATE,BTL_TIME,BTL_LAT,BTL_LON,REFTMP,REFTMP_FLAG_W,CTDFLUOR,CTDFLUOR_FLAG_W,CTDXMISS,CTDXMISS_FLAG_W,D15N_NO2+NO3,D15N_NO2+NO3_FLAG_W,D18O_NO2+NO3,D18O_NO2+NO3_FLAG_W,HPLC,HPLC_FLAG_W
,,,,,,,,,,,METERS,DBAR,ITS-90,PSS-78,,PSS-78,,UMOL/KG,,UMOL/KG,,UMOL/KG,,UMOL/KG,,UMOL/KG,,UMOL/KG,,PMOL/KG,,PMOL/KG,,FMOL/KG,,UMOL/KG,,UMOL/KG,,UATM,,DEG C,,,DEG C,/MILLE,,/MILLE,,/MILLE,/MILLE,,UG/KG,,UMOL/KG,,UMOL/KG,,NMOL/KG,,,,,,ITS-90,,VOLTS,,VOLTS,,/MILLE,,/MILLE,,,
325020210420,        A22,      65,          1,         36,         36,2,20210508,       0754,    32.6483,   -64.9287,       4008,     5.4,  21.1523,  36.5961,2,  36.5963,2,    222.6,2,   222.5,2,    0.58,2,    0.00,2,    0.00,2,    0.00,2,   1.896,2,   1.194,2,   1.9400,2,  2086.6,6, 2388.48,2, -999.000,9,  -999.00,   8.02843,2,    24.98, -999.00,9, -999.00,9, -999.00, -999.00,1,-999.000,9, -999.00,9, -999.00,9,       7.03,2, 20210508,     1001,  32.6483, -64.9287,    21.1512,2,     0.0491,1,     4.5984,1,     -999.0,9,     -999.0,9,     -999.0,9
325020210420,        A22,      65,          1,         35,         35,2,20210508,       0754,    32.6483,   -64.9287,       4008,    24.8,  20.4667,  36.7229,2,  36.7288,2,    220.8,2,   220.6,2,    0.58,2,    0.00,2,    0.00,2,    0.00,2,-999.000,9,-999.000,9,-999.0000,9,  -999.0,9, -999.00,9, -999.000,9,  -999.00,-999.00000,9,  -999.00, -999.00,9, -999.00,9, -999.00, -999.00,9,-999.000,9, -999.00,9, -999.00,9,     -999.0,9, 20210508,      959,  32.6482, -64.9286,    20.4624,2,     0.0690,1,     4.5738,1,     -999.0,9,     -999.0,9,     -999.0,9
325020210420,        A22,      65,          1,         34,         34,2,20210508,       0754,    32.6483,   -64.9287,       4008,    50.0,  20.0481,  36.7135,2,  36.7135,2,    221.4,2,   221.2,2,    0.58,2,    0.09,2,    0.00,2,    0.00,2,-999.000,9,-999.000,9,-999.0000,9,  -999.0,9, -999.00,9, -999.000,9,  -999.00,-999.00000,9,  -999.00, -999.00,9, -999.00,9, -999.00, -999.00,9,-999.000,9, -999.00,9, -999.00,9,     -999.0,9, 20210508,      957,  32.6482, -64.9286,    20.0503,2,     0.1099,1,     4.5401,1,     -999.0,9,     -999.0,9,     -999.0,9
325020210420,        A22,      65,          1,         33,         33,2,20210508,       0754,    32.6483,   -64.9287,       4008,    75.6,  19.8321,  36.7136,2,  36.7123,2,    205.1,3,   210.1,2,    0.58,2,    0.59,2,    0.01,2,    0.00,2,-999.000,9,-999.000,9,-999.0000,9,  2105.9,2, 2395.12,2, -999.000,9,  -999.00,   8.00429,6,    24.96, -999.00,9, -999.00,9, -999.00, -999.00,1,-999.000,9, -999.00,9, -999.00,9,     -999.0,9, 20210508,      956,  32.6483, -64.9287,    19.8289,2,     0.1107,1,     4.5666,1,     -999.0,9,     -999.0,9,     -999.0,9
325020210420,        A22,      65,          1,         32,         32,2,20210508,       0754,    32.6483,   -64.9287,       4008,   100.5,  19.5603,  36.6919,2,  36.6953,2,    205.1,3,   208.6,2,    0.58,2,    1.14,2,    0.04,2,    0.00,2,   1.951,2,   1.240,2,   1.8700,2,  -999.0,9, -999.00,9, -999.000,9,  -999.00,-999.00000,9,  -999.00, -999.00,9, -999.00,9, -999.00, -999.00,9,-999.000,9, -999.00,9, -999.00,9,       7.55,2, 20210508,      954,  32.6483, -64.9286,    19.5586,2,     0.0829,1,     4.6147,1,     -999.0,9,     -999.0,9,     -999.0,9
325020210420,        A22,      65,          1,         31,         31,2,20210508,       0754,    32.6483,   -64.9287,       4008,   126.3,  19.3514,  36.6933,2,  36.6943,2,    217.5,2,   217.7,2,    0.68,2,    1.00,2,    0.06,2,    0.00,2,-999.000,9,-999.000,9,-999.0000,9,  2103.6,2, -999.00,9, -999.000,9,  -999.00,    8.0068,2,    24.97, -999.00,9, -999.00,9, -999.00, -999.00,9,-999.000,9, -999.00,9, -999.00,9,     -999.0,9, 20210508,      952,  32.6484, -64.9286,    19.3483,2,     0.0705,1,     4.6327,1,     -999.0,9,     -999.0,9,     -999.0,9
325020210420,        A22,      65,          1,         30,         30,2,20210508,       0754,    32.6483,   -64.9287,       4008,   151.5,  19.2044,  36.6823,2,  36.6806,2,    214.6,2,   214.5,2,    0.78,2,    1.58,2,    0.01,2,    0.01,2,-999.000,9,-999.000,9,-999.0000,9,  -999.0,9, -999.00,9, -999.000,9,  -999.00,-999.00000,9,  -999.00, -999.00,9, -999.00,9, -999.00, -999.00,9,-999.000,9, -999.00,9, -999.00,9,     -999.0,9, 20210508,      950,  32.6483, -64.9286,    19.2006,2,     0.0471,1,     4.6527,1,     -999.0,9,     -999.0,9,     -999.0,9
325020210420,        A22,      65,          1,         29,         29,2,20210508,       0754,    32.6483,   -64.9287,       4008,   201.8,  19.1357,  36.6763,2,  36.6756,2,    213.6,2,   213.8,2,    0.88,2,    1.76,2,    0.00,2,    0.01,2,   1.995,2,   1.251,2,   1.9400,2,  2107.6,2, 2393.72,2, -999.000,9,  -999.00,   7.99862,2,    25.01, -999.00,9, -999.00,9, -999.00, -999.00,9,-999.000,9, -999.00,9, -999.00,9,       7.60,2, 20210508,      948,  32.6483, -64.9286,    19.1324,2,     0.0427,1,     4.6556,1,     -999.0,9,     -999.0,9,     -999.0,9
325020210420,        A22,      65,          1,         28,         28,2,20210508,       0754,    32.6483,   -64.9287,       4008,   252.6,  18.9349,  36.6510,2,  36.6503,2,    208.9,2,   209.3,2,    0.88,2,    2.42,2,    0.00,2,    0.05,2,-999.000,9,-999.000,9,-999.0000,9,  -999.0,9, -999.00,9, -999.000,9,  -999.00,-999.00000,9,  -999.00, -999.00,9, -999.00,9, -999.00, -999.00,9,-999.000,9, -999.00,9, -999.00,9,     -999.0,9, 20210508,      947,  32.6483, -64.9286,    18.9326,2,     0.0402,1,     4.6581,1,     -999.0,9,     -999.0,9,     -999.0,9
325020210420,        A22,      65,          1,         27,         27,2,20210508,       0754,    32.6483,   -64.9287,       4008,   301.4,  18.6620,  36.6061,2,  36.6064,2,    203.1,2,   203.4,2,    0.97,2,    3.31,2,    0.00,2,    0.09,2,   2.058,2,   1.282,2,   1.7700,2,  2117.2,2, -999.00,9, -999.000,9,  -999.00,    7.9709,6,    24.99, -999.00,9, -999.00,9, -999.00, -999.00,1,-999.000,9, -999.00,9, -999.00,9,       8.21,2, 20210508,      945,  32.6483, -64.9286,    18.6622,2,     0.0390,1,     4.6599,1,     -999.0,9,     -999.0,9,     -999.0,9
325020210420,        A22,      65,          1,         26,         26,2,20210508,       0754,    32.6483,   -64.9287,       4008,   353.1,  18.0839,  36.5048,2,  36.5048,2,    192.2,2,   192.4,2,    1.56,2,    5.19,2,    0.00,2,    0.19,2,-999.000,9,-999.000,9,-999.0000,9,  -999.0,9, -999.00,9, -999.000,9,  -999.00,-999.00000,9,  -999.00, -999.00,9, -999.00,9, -999.00, -999.00,9,-999.000,9, -999.00,9, -999.00,9,     -999.0,9, 20210508,      943,  32.6482, -64.9285,    18.0829,2,     0.0394,1,     4.6617,1,     -999.0,9,     -999.0,9,     -999.0,9
325020210420,        A22,      65,          1,         25,         25,2,20210508,       0754,    32.6483,   -64.9287,       4008,   402.9,  17.7054,  36.4385,2,  36.4333,2,    187.0,2,   186.9,2,    1.95,2,    6.35,2,    0.00,2,    0.26,2,-999.000,9,-999.000,9,-999.0000,9,  2134.7,2, 2380.04,2, -999.000,9,  -999.00,   7.92946,2,    24.98, -999.00,9, -999.00,9, -999.00, -999.00,9,-999.000,9, -999.00,9, -999.00,9,     -999.0,9, 20210508,      940,  32.6482, -64.9285,    17.6954,2,     0.0403,1,     4.6620,1,     -999.0,9,     -999.0,9,     -999.0,9
325020210420,        A22,      65,          1,         24,         24,2,20210508,       0754,    32.6483,   -64.9287,       4008,   454.1,  17.0057,  36.3196,2,  36.3174,2,    181.4,2,   181.6,2,    2.44,2,    7.92,2,    0.00,2,    0.36,2,-999.000,9,-999.000,9,-999.0000,9,  -999.0,9, -999.00,9, -999.000,9,  -999.00,-999.00000,9,  -999.00, -999.00,9, -999.00,9, -999.00, -999.00,9,-999.000,9, -999.00,9, -999.00,9,     -999.0,9, 20210508,      938,  32.6482, -64.9285,    17.0022,2,     0.0401,1,     4.6641,1,     -999.0,9,     -999.0,9,     -999.0,9
325020210420,        A22,      65,          1,         23,         23,2,20210508,       0754,    32.6483,   -64.9287,       4008,   504.2,  16.3172,  36.2038,2,  36.2028,2,    179.6,2,   179.7,2,    3.02,2,    9.19,2,    0.00,2,    0.44,2,   2.204,2,   1.358,2,   1.4800,2,  -999.0,9, -999.00,9, -999.000,9,  -999.00,-999.00000,9,  -999.00, -999.00,9, -999.00,9, -999.00, -999.00,9,-999.000,9, -999.00,9, -999.00,9,      11.35,2, 20210508,      936,  32.6482, -64.9285,    16.3170,2,     0.0397,1,     4.6642,1,     -999.0,9,     -999.0,9,     -999.0,9
325020210420,        A22,      65,          1,         22,         22,2,20210508,       0754,    32.6483,   -64.9287,       4008,   604.5,  15.0666,  35.9954,2,  35.9935,2,    174.9,2,   175.0,2,    4.19,2,   11.60,2,    0.00,2,    0.60,2,-999.000,9,-999.000,9,-999.0000,9,  2154.3,2, -999.00,9, -999.000,9,  -999.00,   7.84876,2,    24.97, -999.00,9, -999.00,9, -999.00, -999.00,9,-999.000,9, -999.00,9, -999.00,9,     -999.0,9, 20210508,      932,  32.6482, -64.9285,    15.0727,2,     0.0406,1,     4.6670,1,     -999.0,9,     -999.0,9,     -999.0,9
325020210420,        A22,      65,          1,         21,         21,2,20210508,       0754,    32.6483,   -64.9287,       4008,   705.3,  12.2402,  35.5777,2,  35.5758,2,    157.5,2,   157.5,2,    8.29,2,   17.91,2,    0.00,2,    1.03,2,-999.000,9,-999.000,9,-999.0000,9,  -999.0,9, -999.00,9, -999.000,9,  -999.00,-999.00000,9,  -999.00, -999.00,9, -999.00,9, -999.00, -999.00,9,-999.000,9, -999.00,9, -999.00,9,     -999.0,9, 20210508,      929,  32.6482, -64.9285,    12.2463,2,     0.0420,1,     4.6696,1,     -999.0,9,     -999.0,9,     -999.0,9
325020210420,        A22,      65,          1,         20,         20,2,20210508,       0754,    32.6483,   -64.9287,       4008,   806.9,  10.2168,  35.3374,2,  35.3252,3,    151.8,2,   152.4,2,   11.71,2,   21.67,2,    0.00,2,    1.31,2,   1.695,2,   0.944,2,   0.7200,2,  2188.5,2, 2323.12,2, -999.000,9,  -999.00,   7.69747,2,    24.97, -999.00,9, -999.00,9, -999.00, -999.00,9,-999.000,9, -999.00,9, -999.00,9,      18.98,2, 20210508,      924,  32.6482, -64.9285,    10.2106,2,     0.0417,1,     4.6716,1,     -999.0,9,     -999.0,9,     -999.0,9
325020210420,        A22,      65,          1,         19,         19,2,20210508,       0754,    32.6483,   -64.9287,       4008,   908.6,   8.5843,  35.2123,2,  35.2128,2,    163.2,2,   163.4,2,   12.98,2,   22.40,2,    0.00,2,    1.38,2,-999.000,9,-999.000,9,-999.0000,9,  -999.0,9, -999.00,9, -999.000,9,  -999.00,-999.00000,9,  -999.00, -999.00,9, -999.00,9, -999.00, -999.00,9,-999.000,9, -999.00,9, -999.00,9,     -999.0,9, 20210508,      923,  32.6482, -64.9285,     8.5859,2,     0.0415,1,     4.6720,1,     -999.0,9,     -999.0,9,     -999.0,9
325020210420,        A22,      65,          1,         18,         18,2,20210508,       0754,    32.6483,   -64.9287,       4008,  1008.9,   7.2589,  35.1637,2,  35.1638,2,    185.2,2,   185.8,2,   13.56,2,   21.58,2,    0.00,2,    1.35,2,   1.639,2,   0.882,2,   0.5800,2,  -999.0,9, -999.00,9, -999.000,9,  -999.00,-999.00000,9,  -999.00, -999.00,9, -999.00,9, -999.00, -999.00,9,-999.000,9, -999.00,9, -999.00,9,      17.19,2, 20210508,      919,  32.6482, -64.9285,     7.2692,2,     0.0416,1,     4.6733,1,     -999.0,9,     -999.0,9,     -999.0,9
325020210420,        A22,      65,          1,         17,         17,2,20210508,       0754,    32.6483,   -64.9287,       4008,  1110.1,   6.3192,  35.1277,2,  35.1278,2,    206.0,2,   205.7,2,   13.37,2,   20.61,2,    0.00,2,    1.30,2,-999.000,9,-999.000,9,-999.0000,9,  -999.0,9, -999.00,9, -999.000,9,  -999.00,-999.00000,9,  -999.00, -999.00,9, -999.00,9, -999.00, -999.00,9,-999.000,9, -999.00,9, -999.00,9,     -999.0,9, 20210508,      916,  32.6482, -64.9285,     6.3231,2,     0.0412,1,     4.6740,1,     -999.0,9,     -999.0,9,     -999.0,9
325020210420,        A22,      65,          1,         16,         16,2,20210508,       0754,    32.6483,   -64.9287,       4008,  1211.9,   5.6869,  35.1040,2,  35.1028,2,    224.0,2,   224.0,2,   12.69,2,   19.50,2,    0.00,2,    1.24,2,-999.000,9,-999.000,9,-999.0000,9,  2178.1,2, -999.00,9, -999.000,9,  -999.00,   7.70438,2,    25.02, -999.00,9, -999.00,9, -999.00, -999.00,9,-999.000,9, -999.00,9, -999.00,9,     -999.0,9, 20210508,      914,  32.6482, -64.9285,     5.6859,2,     0.0423,1,     4.6742,1,     -999.0,9,     -999.0,9,     -999.0,9
325020210420,        A22,      65,          1,         15,         15,2,20210508,       0754,    32.6483,   -64.9287,       4008,  1315.0,   5.2134,  35.0816,2,  35.0811,2,    236.2,2,   236.1,2,   12.39,2,   18.94,2,    0.00,2,    1.20,2,-999.000,9,-999.000,9,-999.0000,9,  -999.0,9, -999.00,9, -999.000,9,  -999.00,-999.00000,9,  -999.00, -999.00,9, -999.00,9, -999.00, -999.00,9,-999.000,9, -999.00,9, -999.00,9,     -999.0,9, 20210508,      910,  32.6482, -64.9285,     5.2139,2,     0.0424,1,     4.6752,1,     -999.0,9,     -999.0,9,     -999.0,9
325020210420,        A22,      65,          1,         14,         14,2,20210508,       0754,    32.6483,   -64.9287,       4008,  1416.3,   4.9144,  35.0657,2,  35.0657,2,    243.4,2,   243.6,2,   12.39,2,   18.59,2,    0.00,2,    1.18,2,-999.000,9,-999.000,9,-999.0000,9,  -999.0,9, -999.00,9, -999.000,9,  -999.00,-999.00000,9,  -999.00, -999.00,9, -999.00,9, -999.00, -999.00,9,-999.000,9, -999.00,9, -999.00,9,     -999.0,9, 20210508,      908,  32.6482, -64.9285,     4.9118,2,     0.0428,1,     4.6752,1,     -999.0,9,     -999.0,9,     -999.0,9
325020210420,        A22,      65,          1,         13,         13,2,20210508,       0754,    32.6483,   -64.9287,       4008,  1519.2,   4.5231,  35.0213,2,  35.0183,2,    252.6,2,   253.5,2,   11.91,2,   18.18,2,    0.00,2,    1.16,2,   2.659,2,   1.405,2,   0.8600,2,  2167.8,2,  2311.3,2, -999.000,9,  -999.00,   7.71315,2,    24.97, -999.00,9, -999.00,9, -999.00, -999.00,9,-999.000,9, -999.00,9, -999.00,9,      13.79,2, 20210508,      905,  32.6482, -64.9285,     4.5226,2,     0.0430,1,     4.6739,1,     -999.0,9,     -999.0,9,     -999.0,9
325020210420,        A22,      65,          1,         12,         12,2,20210508,       0754,    32.6483,   -64.9287,       4008,  1620.5,   4.2338,  34.9904,2,  34.9896,2,    258.5,2,   259.0,2,   12.00,2,   17.98,2,    0.00,2,    1.15,2,-999.000,9,-999.000,9,-999.0000,9,  -999.0,9, -999.00,9, -999.000,9,  -999.00,-999.00000,9,  -999.00, -999.00,9, -999.00,9, -999.00, -999.00,9,-999.000,9, -999.00,9, -999.00,9,     -999.0,9, 20210508,      901,  32.6482, -64.9285,     4.2312,2,     0.0421,1,     4.6728,1,     -999.0,9,     -999.0,9,     -999.0,9
325020210420,        A22,      65,          1,         11,         11,2,20210508,       0754,    32.6483,   -64.9287,       4008,  1722.8,   4.0944,  34.9863,2,  34.9856,2,    259.3,2,   259.6,2,   12.69,2,   17.97,2,    0.00,2,    1.16,2,-999.000,9,-999.000,9,-999.0000,9,  2166.5,2, -999.00,9, -999.000,9,  -999.00,   7.71577,2,    24.99, -999.00,9, -999.00,9, -999.00, -999.00,9,-999.000,9, -999.00,9, -999.00,9,     -999.0,9, 20210508,      857,  32.6482, -64.9285,     4.0940,2,     0.0425,1,     4.6728,1,     -999.0,9,     -999.0,9,     -999.0,9
325020210420,        A22,      65,          1,         10,         10,2,20210508,       0754,    32.6483,   -64.9287,       4008,  1812.4,   3.9420,  34.9759,2,  34.9744,2,    261.1,2,   261.2,2,   13.18,2,   17.91,2,    0.00,2,    1.16,2,-999.000,9,-999.000,9,-999.0000,9,  -999.0,9, -999.00,9, -999.000,9,  -999.00,-999.00000,9,  -999.00, -999.00,9, -999.00,9, -999.00, -999.00,9,-999.000,9, -999.00,9, -999.00,9,     -999.0,9, 20210508,      846,  32.6503, -64.9313,     3.9420,2,     0.0427,1,     4.6720,1,     -999.0,9,     -999.0,9,     -999.0,9
325020210420,        A22,      65,          1,          9,          9,2,20210508,       0754,    32.6483,   -64.9287,       4008,  2018.4,   3.7695,  34.9825,2,  34.9799,3,    259.5,2,   259.6,2,   15.03,2,   18.08,2,    0.00,2,    1.18,2,-999.000,9,-999.000,9,-999.0000,9,  2163.3,2, 2308.88,2, -999.000,9,  -999.00,     7.726,2,    24.96, -999.00,9, -999.00,9, -999.00, -999.00,9,-999.000,9, -999.00,9, -999.00,9,     -999.0,9, 20210508,      842,  32.6497, -64.9339,     3.7690,2,     0.0423,1,     4.6750,1,     -999.0,9,     -999.0,9,     -999.0,9
325020210420,        A22,      65,          1,          8,          8,2,20210508,       0754,    32.6483,   -64.9287,       4008,  2227.1,   3.4845,  34.9654,2,  34.9644,2,    260.9,2,   261.1,2,   16.88,2,   18.18,2,    0.00,2,    1.19,2,-999.000,9,-999.000,9,-999.0000,9,  -999.0,9, -999.00,9, -999.000,9,  -999.00,-999.00000,9,  -999.00, -999.00,9, -999.00,9, -999.00, -999.00,9,-999.000,9, -999.00,9, -999.00,9,     -999.0,9, 20210508,      837,  32.6496, -64.9354,     3.4852,2,     0.0430,1,     4.6751,1,     -999.0,9,     -999.0,9,     -999.0,9
325020210420,        A22,      65,          1,          7,          7,2,20210508,       0754,    32.6483,   -64.9287,       4008,  2432.1,   3.3110,  34.9605,2,  34.9601,2,    259.9,2,   260.1,2,   19.23,2,   18.44,2,    0.00,2,    1.22,2,   1.067,2,   0.542,2,   0.1800,2,  -999.0,9, -999.00,9, -999.000,9,  -999.00,-999.00000,9,  -999.00, -999.00,9, -999.00,9, -999.00, -999.00,9,-999.000,9, -999.00,9, -999.00,9,      13.00,2, 20210508,      831,  32.6497, -64.9356,     3.3117,2,     0.0430,1,     4.6749,1,     -999.0,9,     -999.0,9,     -999.0,9
325020210420,        A22,      65,          1,          6,          6,2,20210508,       0754,    32.6483,   -64.9287,       4008,  2634.9,   3.0482,  34.9445,2,  34.9427,2,    261.9,2,   262.3,2,   20.89,2,   18.34,2,    0.00,2,    1.22,2,   0.998,2,   0.511,2,   0.2000,2,  -999.0,9, -999.00,9, -999.000,9,  -999.00,-999.00000,9,  -999.00, -999.00,9, -999.00,9, -999.00, -999.00,9,-999.000,9, -999.00,9, -999.00,9,      13.08,2, 20210508,      827,  32.6497, -64.9355,     3.0484,2,     0.0429,1,     4.6752,1,     -999.0,9,     -999.0,9,     -999.0,9
325020210420,        A22,      65,          1,          5,          5,2,20210508,       0754,    32.6483,   -64.9287,       4008,  2838.2,   2.9009,  34.9362,2,  34.9345,2,    263.0,2,   263.3,2,   21.96,2,   18.30,2,    0.00,2,    1.23,2,-999.000,9,-999.000,9,-999.0000,9,  2165.4,2, -999.00,9, -999.000,9,  -999.00,   7.73771,2,    24.96, -999.00,9, -999.00,9, -999.00, -999.00,9,-999.000,9, -999.00,9, -999.00,9,     -999.0,9, 20210508,      822,  32.6497, -64.9356,     2.9004,2,     0.0424,1,     4.6753,1,     -999.0,9,     -999.0,9,     -999.0,9
325020210420,        A22,      65,          1,          4,          4,2,20210508,       0754,    32.6483,   -64.9287,       4008,  3043.0,   2.7105,  34.9232,2,  34.9219,2,    265.8,2,   266.2,2,   22.35,2,   18.07,2,    0.00,2,    1.21,2,-999.000,9,-999.000,9,-999.0000,9,  -999.0,9, -999.00,9, -999.000,9,  -999.00,-999.00000,9,  -999.00, -999.00,9, -999.00,9, -999.00, -999.00,9,-999.000,9, -999.00,9, -999.00,9,     -999.0,9, 20210508,      817,  32.6497, -64.9355,     2.7113,2,     0.0423,1,     4.6752,1,     -999.0,9,     -999.0,9,     -999.0,9
325020210420,        A22,      65,          1,          3,          3,2,20210508,       0754,    32.6483,   -64.9287,       4008,  3350.8,   2.4820,  34.9086,2,  34.9079,2,    267.3,2,   267.7,2,   24.69,2,   18.05,2,    0.00,2,    1.22,2,   1.150,2,   0.587,2,   0.2300,2,  2169.0,2, -999.00,9, -999.000,9,  -999.00,   7.73501,6,    24.98, -999.00,9, -999.00,9, -999.00, -999.00,9,-999.000,9, -999.00,9, -999.00,9,      13.06,2, 20210508,      810,  32.6498, -64.9356,     2.4826,2,     0.0428,1,     4.6753,1,     -999.0,9,     -999.0,9,     -999.0,9