BOTTLE,20230513CCHSIOCBG
EXPOCODE,SECT_ID,STNNBR,CASTNO,SAMPNO,BTLNBR,BTLNBR_FLAG_W,DATE,TIME,LATITUDE,LONGITUDE,DEPTH,CTDPRS,CTDTMP,CTDSAL,CTDSAL_FLAG_W,SALNTY,SALNTY_FLAG_W,CTDOXY,CTDOXY_FLAG_W,OXYGEN,OXYGEN_FLAG_W,SILCAT,SILCAT_FLAG_W,NITRAT,NITRAT_FLAG_W,NITRIT,NITRIT_FLAG_W,PHSPHT,PHSPHT_FLAG_W,CFC-11,CFC-11_FLAG_W,CFC-12,CFC-12_FLAG_W,SF6,SF6_FLAG_W,TCARBN,TCARBN_FLAG_W,ALKALI,ALKALI_FLAG_W,FCO2,FCO2_FLAG_W,FCO2TMP,PH_TOT,PH_TOT_FLAG_W,PH_TMP,DELC13,DELC13_FLAG_W,DELC14,DELC14_FLAG_W,C14ERR,DELO18,DELO18_FLAG_W,POC,POC_FLAG_W,DOC,DOC_FLAG_W,TDN,TDN_FLAG_W,N2O,N2O_FLAG_W,BTL_DATE,BTL_TIME,BTL_LAT,BTL_LON,REFTMP,REFTMP_FLAG_W,CTDFLUOR,CTDFLUOR_FLAG_W,CTDXMISS,CTDXMISS_FLAG_W,D15N_NO2+NO3,D15N_NO2+NO3_FLAG_W,D18O_NO2+NO3,D18O_NO2+NO3_FLAG_W,HPLC,HPLC_FLAG_W
,,,,,,,,,,,METERS,DBAR,ITS-90,PSS-78,,PSS-78,,UMOL/KG,,UMOL/KG,,UMOL/KG,,UMOL/KG,,UMOL/KG,,UMOL/KG,,PMOL/KG,,PMOL/KG,,FMOL/KG,,UMOL/KG,,UMOL/KG,,UATM,,DEG C,,,DEG C,/MILLE,,/MILLE,,/MILLE,/MILLE,,UG/KG,,UMOL/KG,,UMOL/KG,,NMOL/KG,,,,,,ITS-90,,VOLTS,,VOLTS,,/MILLE,,/MILLE,,,
325020210420,        A22,      42,          1,         36,         36,2,20210501,       1400,    20.8290,   -65.9799,       5371,     5.0,  26.7157,  36.8510,2,  36.8534,2,    204.4,2,   202.7,2,    1.07,2,    0.00,2,    0.00,2,    0.00,2,   1.499,2,   0.967,2,   1.6200,2,  2066.5,6, 2409.86,2,  292.980,2,    20.00,   8.10404,2,    25.03, -999.00,9, -999.00,9, -999.00, -999.00,1,-999.000,9,   80.90,2,    5.22,2,       5.86,2, 20210501,     1625,  20.8290, -65.9799,    26.6218,2,     0.0392,1,     4.6330,1,     -999.0,9,     -999.0,9,     -999.0,9
325020210420,        A22,      42,          1,         35,         35,2,20210501,       1400,    20.8290,   -65.9799,       5371,    35.9,  25.9087,  36.8123,2,  36.8010,2,    207.9,2,   207.0,2,    0.97,2,    0.00,2,    0.00,2,    0.00,2,-999.000,9,-999.000,9,-999.0000,9,  2061.5,2, 2410.64,2,  290.160,2,    20.00,   8.10758,2,    25.02, -999.00,9, -999.00,9, -999.00, -999.00,9,-999.000,9,   79.10,2,    4.48,2,     -999.0,9, 20210501,     1623,  20.8290, -65.9799,    25.9208,2,     0.0412,1,     4.6241,1,     -999.0,9,     -999.0,9,     -999.0,9
325020210420,        A22,      42,          1,         34,         34,2,20210501,       1400,    20.8290,   -65.9799,       5371,    60.5,  25.7664,  36.8496,2,  36.8538,2,    208.2,2,   207.5,2,    0.88,2,    0.00,2,    0.00,2,    0.00,2,   1.553,2,   0.982,2,   1.6700,2,  2062.3,2, 2410.88,2,  291.680,2,    20.00,   8.10709,6,    25.01, -999.00,9, -999.00,9, -999.00, -999.00,9,-999.000,9,   79.60,2,    4.57,2,       6.02,2, 20210501,     1621,  20.8290, -65.9799,    25.7652,2,     0.0449,1,     4.6264,1,     -999.0,9,     -999.0,9,     -999.0,9
325020210420,        A22,      42,          1,         33,         33,2,20210501,       1400,    20.8290,   -65.9799,       5371,    85.6,  25.4598,  36.8777,2,  36.8909,2,    208.0,2,   207.7,2,    0.88,2,    0.00,2,    0.00,2,    0.00,2,-999.000,9,-999.000,9,-999.0000,9,  2067.1,2,  2415.0,6,  293.870,2,    20.00,   8.10557,2,    25.00, -999.00,9, -999.00,9, -999.00, -999.00,9,-999.000,9,   80.20,2,    5.02,2,     -999.0,9, 20210501,     1619,  20.8290, -65.9799,    25.4589,2,     0.0492,1,     4.6290,1,     -999.0,9,     -999.0,9,     -999.0,9
325020210420,        A22,      42,          1,         32,         32,2,20210501,       1400,    20.8290,   -65.9799,       5371,   116.2,  24.8612,  37.0727,2,  37.0748,2,    206.7,2,   206.8,2,    0.78,2,    0.00,2,    0.00,2,    0.00,2,   1.590,2,   1.021,2,   1.6900,2,  2087.7,2, 2422.38,2,  307.510,2,    20.00,   8.09003,2,    25.02, -999.00,9, -999.00,9, -999.00, -999.00,1,-999.000,9,   74.50,2,    4.33,2,       6.01,2, 20210501,     1617,  20.8290, -65.9799,    24.8611,2,     0.0607,1,     4.6389,1,     -999.0,9,     -999.0,9,     -999.0,9
325020210420,        A22,      42,          1,         31,         31,2,20210501,       1400,    20.8290,   -65.9799,       5371,   166.8,  23.2081,  37.2387,2,  37.2387,2,    190.7,2,   191.4,2,    0.39,2,    0.27,2,    0.04,2,    0.00,2,   1.729,2,   1.092,2,   1.6700,2,  2132.5,2, 2430.39,2,  363.970,2,    20.00,   8.02758,2,    25.01, -999.00,9, -999.00,9, -999.00, -999.00,9,-999.000,9,   60.30,2,    4.74,2,       6.52,2, 20210501,     1615,  20.8290, -65.9799,    23.2138,2,     0.0725,1,     4.6499,1,     -999.0,9,     -999.0,9,     -999.0,9
325020210420,        A22,      42,          1,         30,         30,2,20210501,       1400,    20.8290,   -65.9799,       5371,   216.8,  20.8087,  36.9202,2,  36.9080,2,    181.7,2,   182.8,2,    0.58,2,    1.47,2,    0.00,2,    0.00,2,-999.000,9,-999.000,9,-999.0000,9,  2142.6,2, 2407.44,2,  412.540,2,    20.00,   7.97858,2,    25.01, -999.00,9, -999.00,9, -999.00, -999.00,9,-999.000,9,   52.10,2,    5.56,2,     -999.0,9, 20210501,     1613,  20.8290, -65.9799,    20.8102,2,     0.0441,1,     4.6675,1,     -999.0,9,     -999.0,9,     -999.0,9
325020210420,        A22,      42,          1,         29,         29,2,20210501,       1400,    20.8290,   -65.9799,       5371,   266.5,  18.9166,  36.6303,2,  36.6253,2,    187.8,2,   188.9,2,    1.07,2,    3.97,2,    0.00,2,    0.11,2,   2.047,6,   1.284,6,   1.6700,6,  2134.3,2, 2390.76,2,  430.230,2,    20.00,   7.96159,2,    25.04, -999.00,9, -999.00,9, -999.00, -999.00,9,-999.000,9,   48.10,2, -999.00,1,       8.55,6, 20210501,     1611,  20.8290, -65.9799,    18.9164,2,     0.0397,1,     4.6727,1,     -999.0,9,     -999.0,9,     -999.0,9
325020210420,        A22,      42,          1,         28,         28,2,20210501,       1400,    20.8290,   -65.9799,       5371,   317.2,  18.0250,  36.5087,2,  36.4881,3,    169.2,3,   166.3,2,    1.95,2,    7.95,2,    0.00,2,    0.35,2,-999.000,9,-999.000,9,-999.0000,9,  2158.7,2, 2379.08,2,  506.290,2,    20.00,   7.89713,2,    25.04, -999.00,9, -999.00,9, -999.00, -999.00,9,-999.000,9,   47.60,2, -999.00,1,     -999.0,9, 20210501,     1609,  20.8290, -65.9799,    18.0179,2,     0.0406,1,     4.6728,1,     -999.0,9,     -999.0,9,     -999.0,9
325020210420,        A22,      42,          1,         27,         27,2,20210501,       1400,    20.8290,   -65.9799,       5371,   367.4,  16.6955,  36.2763,2,  36.2489,3,    153.7,2,   153.8,2,    3.22,2,   11.47,2,    0.00,2,    0.57,2,   2.180,2,   1.321,2,   1.3400,2,  2171.3,2, 2366.89,2,  574.260,2,    20.00,   7.84664,6,    25.03, -999.00,9, -999.00,9, -999.00, -999.00,9,-999.000,9,   48.50,2, -999.00,1,      14.79,2, 20210501,     1606,  20.8290, -65.9799,    16.6963,2,     0.0409,1,     4.6740,1,     -999.0,9,     -999.0,9,     -999.0,9
325020210420,        A22,      42,          1,         26,         26,2,20210501,       1400,    20.8290,   -65.9799,       5371,   438.6,  14.8803,  35.9841,2,  35.8714,3,    153.9,2,   154.1,2,    4.68,2,   14.00,2,    0.00,2,    0.74,2,-999.000,9,-999.000,9,-999.0000,9,  2177.3,2, 2351.56,2,  626.150,2,    20.00,   7.81078,2,    25.02, -999.00,9, -999.00,9, -999.00, -999.00,9,-999.000,9,   46.90,2, -999.00,1,     -999.0,9, 20210501,     1604,  20.8290, -65.9799,    14.8747,2,     0.0411,1,     4.6756,1,     -999.0,9,     -999.0,9,     -999.0,9
325020210420,        A22,      42,          1,         25,         25,2,20210501,       1400,    20.8290,   -65.9799,       5371,   538.6,  12.5111,  35.5793,2,  35.5721,2,    132.2,2,   131.8,2,    8.48,2,   20.52,2,    0.00,2,    1.17,2,   1.976,2,   1.117,2,   0.7900,2,  2194.1,2, 2331.16,2,  786.450,2,    20.00,    7.7155,2,    25.01, -999.00,9, -999.00,9, -999.00, -999.00,9,-999.000,9,   45.50,2, -999.00,1,      21.42,2, 20210501,     1601,  20.8290, -65.9799,    12.5295,2,     0.0416,1,     4.6765,1,     -999.0,9,     -999.0,9,     -999.0,9
325020210420,        A22,      42,          1,         24,         24,2,20210501,       1400,    20.8290,   -65.9799,       5371,   639.9,  10.7689,  35.3400,2,  35.3277,3,    128.3,2,   128.4,2,   11.80,2,   24.18,2,    0.00,2,    1.42,2,   1.597,2,   0.869,2,   0.5200,2,  2202.3,2, 2321.34,2,  876.500,2,    20.00,   7.67106,2,    25.03, -999.00,9, -999.00,9, -999.00, -999.00,9,-999.000,9,   44.70,2, -999.00,1,      22.57,2, 20210501,     1557,  20.8290, -65.9799,    10.7621,2,     0.0424,1,     4.6782,1,     -999.0,9,     -999.0,9,     -999.0,9
325020210420,        A22,      42,          1,         23,         23,2,20210501,       1400,    20.8290,   -65.9799,       5371,   741.0,   9.2937,  35.1520,2,  35.1504,2,    127.6,2,   128.1,2,   15.02,2,   26.76,2,    0.00,2,    1.63,2,-999.000,9,-999.000,9,-999.0000,9,  2207.7,6, 2316.16,2,  945.730,2,    20.00,    7.6465,2,    25.02, -999.00,9, -999.00,9, -999.00, -999.00,9,-999.000,9,   43.10,2, -999.00,1,     -999.0,9, 20210501,     1554,  20.8290, -65.9799,     9.2957,2,     0.0417,1,     4.6789,1,     -999.0,9,     -999.0,9,     -999.0,9
325020210420,        A22,      42,          1,         22,         22,2,20210501,       1400,    20.8290,   -65.9799,       5371,   842.0,   7.8062,  34.9869,2,  34.9858,2,    131.5,2,   131.9,2,   18.92,2,   28.96,2,    0.00,2,    1.80,2,   0.751,2,   0.400,2,   0.2100,2,  2214.7,2,  2308.9,2, 1007.300,2,    20.00,   7.60857,2,    25.02, -999.00,9, -999.00,9, -999.00, -999.00,9,-999.000,9,   41.10,2, -999.00,1,      23.65,2, 20210501,     1551,  20.8290, -65.9799,     7.8054,2,     0.0428,1,     4.6785,1,     -999.0,9,     -999.0,9,     -999.0,9
325020210420,        A22,      42,          1,         21,         21,2,20210501,       1400,    20.8290,   -65.9799,       5371,   943.1,   6.7817,  34.9255,2,  34.9266,2,    143.2,2,   143.1,2,   20.97,2,   29.03,2,    0.00,2,    1.83,2,   0.523,2,   0.281,2,   0.1700,2,  2212.5,2, 2311.18,2, 1005.150,2,    20.00,   7.60906,6,    25.02, -999.00,9, -999.00,9, -999.00, -999.00,9,-999.000,9,   43.40,2, -999.00,1,      22.71,2, 20210501,     1547,  20.8290, -65.9799,     6.7830,2,     0.0428,1,     4.6799,1,     -999.0,9,     -999.0,9,     -999.0,9
325020210420,        A22,      42,          1,         20,         20,2,20210501,       1400,    20.8290,   -65.9799,       5371,  1044.3,   6.3019,  34.9730,2,  34.9732,2,    167.3,2,   167.3,2,   19.41,2,   26.25,2,    0.00,2,    1.67,2,-999.000,9,-999.000,9,-999.0000,9,  2203.8,2, 2313.01,6,  928.670,2,    20.00,   7.64257,2,    25.03, -999.00,9, -999.00,9, -999.00, -999.00,9,-999.000,9,   41.70,2, -999.00,1,     -999.0,9, 20210501,     1544,  20.8290, -65.9799,     6.3021,2,     0.0419,1,     4.6803,1,     -999.0,9,     -999.0,9,     -999.0,9
325020210420,        A22,      42,          1,         19,         19,2,20210501,       1400,    20.8290,   -65.9799,       5371,  1145.6,   5.8069,  35.0120,2,  35.0114,2,    192.7,2,   192.2,2,   17.36,2,   23.50,2,    0.00,2,    1.50,2,   0.985,2,   0.514,2,   0.3500,2,  2193.9,2, 2312.77,2,  863.490,2,    20.00,   7.67243,2,    25.02, -999.00,9, -999.00,9, -999.00, -999.00,9,-999.000,9,   43.90,2, -999.00,1,      17.72,2, 20210501,     1540,  20.8290, -65.9799,     5.8062,2,     0.0423,1,     4.6815,1,     -999.0,9,     -999.0,9,     -999.0,9
325020210420,        A22,      42,          1,         18,         18,2,20210501,       1400,    20.8290,   -65.9799,       5371,  1246.7,   5.2759,  35.0269,2,  35.0279,2,    216.3,2,   216.7,2,   15.22,2,   21.11,2,    0.00,2,    1.36,2,   1.304,2,   0.670,2,   0.3700,2,  2183.7,2, 2311.62,2,  812.440,2,    20.00,   7.69831,2,    25.01, -999.00,9, -999.00,9, -999.00, -999.00,9,-999.000,9,   41.70,2, -999.00,1,      15.92,2, 20210501,     1537,  20.8290, -65.9799,     5.2750,2,     0.0425,1,     4.6822,1,     -999.0,9,     -999.0,9,     -999.0,9
325020210420,        A22,      42,          1,         17,         17,2,20210501,       1400,    20.8290,   -65.9799,       5371,  1347.8,   4.9113,  35.0340,2,  35.0354,2,    238.3,2,   239.4,2,   12.78,2,   18.93,2,    0.00,2,    1.22,2,   1.988,2,   1.031,2,   0.6000,2,  2176.0,2, 2308.86,2,  782.010,2,    20.00,    7.7129,2,    25.01, -999.00,9, -999.00,9, -999.00, -999.00,9,-999.000,9,   43.80,2, -999.00,1,      14.46,2, 20210501,     1534,  20.8290, -65.9799,     4.9103,2,     0.0429,1,     4.6820,1,     -999.0,9,     -999.0,9,     -999.0,9
325020210420,        A22,      42,          1,         16,         16,2,20210501,       1400,    20.8290,   -65.9799,       5371,  1448.7,   4.5577,  35.0173,2,  35.0191,2,    247.7,2,   247.7,2,   12.78,2,   18.40,2,    0.00,2,    1.18,2,   2.122,2,   1.084,2,   0.6200,2,  2173.6,2, 2307.62,2,  772.110,2,    20.00,   7.71677,2,    25.01, -999.00,9, -999.00,9, -999.00, -999.00,9,-999.000,9,   44.00,2, -999.00,1,      13.84,2, 20210501,     1531,  20.8290, -65.9799,     4.5618,2,     0.0430,1,     4.6815,1,     -999.0,9,     -999.0,9,     -999.0,9
325020210420,        A22,      42,          1,         15,         15,2,20210501,       1400,    20.8290,   -65.9799,       5371,  1550.2,   4.3318,  35.0060,2,  35.0085,2,    251.8,2,   251.9,2,   13.07,2,   18.28,2,    0.00,2,    1.18,2,   1.975,2,   1.009,2,   0.5200,2,  2171.1,2, 2308.88,2,  762.490,2,    20.00,   7.72161,2,    25.02, -999.00,9, -999.00,9, -999.00, -999.00,9,-999.000,9,   44.00,2, -999.00,1,      13.79,2, 20210501,     1528,  20.8290, -65.9799,     4.3333,2,     0.0423,1,     4.6822,1,     -999.0,9,     -999.0,9,     -999.0,9
325020210420,        A22,      42,          1,         14,         14,2,20210501,       1400,    20.8290,   -65.9799,       5371,  1682.3,   4.0483,  34.9916,2,  34.9945,2,    256.1,2,   256.5,2,   13.66,2,   18.14,2,    0.00,2,    1.17,2,-999.000,9,-999.000,9,-999.0000,9,  2168.2,2, 2306.51,2,  754.650,2,    20.00,   7.72597,2,    25.03, -999.00,9, -999.00,9, -999.00, -999.00,9,-999.000,9,   43.70,2, -999.00,1,     -999.0,9, 20210501,     1524,  20.8290, -65.9799,     4.0479,2,     0.0423,1,     4.6819,1,     -999.0,9,     -999.0,9,     -999.0,9
325020210420,        A22,      42,          1,         13,         13,2,20210501,       1400,    20.8290,   -65.9799,       5371,  1884.7,   3.6787,  34.9744,2,  34.9760,2,    259.5,2,   259.6,2,   15.22,2,   18.14,2,    0.00,2,    1.18,2,   1.395,2,   0.689,2,   0.2300,2,  2166.1,6, 2309.31,2,  743.690,2,    20.00,   7.73207,2,    25.02, -999.00,9, -999.00,9, -999.00, -999.00,9,-999.000,9,   44.50,2, -999.00,1,      13.35,2, 20210501,     1519,  20.8290, -65.9799,     3.6781,2,     0.0428,1,     4.6825,1,     -999.0,9,     -999.0,9,     -999.0,9
325020210420,        A22,      42,          1,         12,         12,2,20210501,       1400,    20.8290,   -65.9799,       5371,  2108.9,   3.4445,  34.9635,2,  34.9632,2,    260.7,2,   260.9,2,   17.17,2,   18.19,2,    0.00,2,    1.18,2,-999.000,9,-999.000,9,-999.0000,9,  2167.6,2, 2308.63,2,  738.535,6,    20.00,   7.73467,2,    25.03, -999.00,9, -999.00,9, -999.00, -999.00,9,-999.000,9,   43.40,2, -999.00,1,     -999.0,9, 20210501,     1514,  20.8290, -65.9799,     3.4446,2,     0.0418,1,     4.6818,1,     -999.0,9,     -999.0,9,     -999.0,9
325020210420,        A22,      42,          1,         11,         11,2,20210501,       1400,    20.8290,   -65.9799,       5371,  2363.4,   3.1486,  34.9492,2,  34.9516,3,    261.9,2,   262.0,2,   19.70,2,   18.24,2,    0.00,2,    1.19,2,   1.022,2,   0.507,2,   0.2300,2,  2166.8,2, 2310.88,2,  735.350,2,    20.00,   7.73635,2,    25.01, -999.00,9, -999.00,9, -999.00, -999.00,9,-999.000,9,   42.80,2, -999.00,1,      13.03,2, 20210501,     1508,  20.8290, -65.9799,     3.1483,2,     0.0421,1,     4.6820,1,     -999.0,9,     -999.0,9,     -999.0,9
325020210420,        A22,      42,          1,         10,         10,2,20210501,       1400,    20.8290,   -65.9799,       5371,  2617.0,   2.9395,  34.9400,2,  34.9410,2,    260.4,2,   260.7,2,   23.22,2,   18.68,2,    0.00,2,    1.23,2,-999.000,9,-999.000,9,-999.0000,9,  2171.0,2, 2315.25,2,  732.430,2,    20.00,   7.73946,6,    25.02, -999.00,9, -999.00,9, -999.00, -999.00,9,-999.000,9,   42.90,2, -999.00,1,     -999.0,9, 20210501,     1502,  20.8290, -65.9799,     2.9397,2,     0.0429,1,     4.6819,1,     -999.0,9,     -999.0,9,     -999.0,9
325020210420,        A22,      42,          1,          9,          9,2,20210501,       1400,    20.8290,   -65.9799,       5371,  2871.7,   2.7473,  34.9270,2,  34.9284,2,    262.1,2,   262.3,2,   24.78,2,   18.66,2,    0.00,2,    1.23,2,   0.757,2,   0.382,2,   0.1500,2,  2169.7,2, 2318.86,2,  733.900,2,    20.00,   7.73814,2,    25.02, -999.00,9, -999.00,9, -999.00, -999.00,9,-999.000,9,   43.80,2, -999.00,1,      13.17,2, 20210501,     1455,  20.8290, -65.9799,     2.7470,2,     0.0429,1,     4.6820,1,     -999.0,9,     -999.0,9,     -999.0,9
325020210420,        A22,      42,          1,          8,          8,2,20210501,       1400,    20.8290,   -65.9799,       5371,  3142.7,   2.5736,  34.9154,2,  34.9168,2,    261.9,2,   262.3,2,   27.61,2,   18.92,2,    0.00,2,    1.25,2,   0.632,2,   0.320,2,   0.1200,2,  2172.2,2, 2320.06,2,  733.710,2,    20.00,   7.73867,2,    25.00, -999.00,9, -999.00,9, -999.00, -999.00,9,-999.000,9,   42.80,2, -999.00,1,      13.18,2, 20210501,     1450,  20.8290, -65.9799,     2.5732,2,     0.0429,1,     4.6824,1,     -999.0,9,     -999.0,9,     -999.0,9
325020210420,        A22,      42,          1,          7,          7,2,20210501,       1400,    20.8290,   -65.9799,       5371,  3449.5,   2.4074,  34.9035,2,  34.9042,2,    267.2,2,   267.6,2,   25.95,2,   18.20,2,    0.00,2,    1.21,2,   1.121,2,   0.556,2,   0.2700,2,  2173.1,2, 2316.34,2,  741.380,2,    20.00,   7.73408,2,    25.01, -999.00,9, -999.00,9, -999.00, -999.00,9,-999.000,9,   44.20,2, -999.00,1,      13.19,2, 20210501,     1444,  20.8290, -65.9799,     2.4078,2,     0.0433,1,     4.6809,1,     -999.0,9,     -999.0,9,     -999.0,9
325020210420,        A22,      42,          1,          6,          6,2,20210501,       1400,    20.8290,   -65.9799,       5371,  3755.8,   2.3233,  34.8960,2,  34.8975,2,    267.2,2,   267.4,2,   27.80,2,   18.37,2,    0.00,2,    1.22,2,-999.000,9,-999.000,9,-999.0000,9,  2174.5,2, 2317.16,2,  744.630,2,    20.00,   7.73334,2,    25.02, -999.00,9, -999.00,9, -999.00, -999.00,9,-999.000,9,   44.60,2, -999.00,1,     -999.0,9, 20210501,     1437,  20.8290, -65.9799,     2.3233,2,     0.0423,1,     4.6802,1,     -999.0,9,     -999.0,9,     -999.0,9
325020210420,        A22,      42,          1,          5,          5,2,20210501,       1400,    20.8290,   -65.9799,       5371,  4063.5,   2.2849,  34.8908,2,  34.8916,2,    265.9,2,   266.3,2,   29.95,2,   18.64,2,    0.00,2,    1.25,2,   1.086,2,   0.554,2,   0.2800,2,  2177.4,2, 2319.54,2,  748.150,2,    20.00,   7.73085,2,    25.04, -999.00,9, -999.00,9, -999.00, -999.00,9,-999.000,9,   44.30,2, -999.00,1,      13.45,2, 20210501,     1431,  20.8290, -65.9799,     2.2850,2,     0.0419,1,     4.6798,1,     -999.0,9,     -999.0,9,     -999.0,9
325020210420,        A22,      42,          1,          4,          4,2,20210501,       1400,    20.8290,   -65.9799,       5371,  4371.2,   2.2660,  34.8862,2,  34.8869,2,    263.9,2,   263.9,2,   32.68,2,   19.08,2,    0.00,2,    1.27,2,   0.952,2,   0.489,2,   0.2400,2,  2178.9,2, 2325.28,2,  750.110,2,    20.00,   7.73083,6,    25.01, -999.00,9, -999.00,9, -999.00, -999.00,9,-999.000,9,   43.80,2, -999.00,1,      13.61,2, 20210501,     1424,  20.8290, -65.9799,     2.2659,2,     0.0429,1,     4.6784,1,     -999.0,9,     -999.0,9,     -999.0,9
325020210420,        A22,      42,          1,          3,          3,4,20210501,       1400,    20.8290,   -65.9799,       5371,  4678.2,   2.2516,  34.8810,3,-999.0000,9,    261.5,3,  -999.0,9, -999.00,9, -999.00,9, -999.00,9, -999.00,9,-999.000,9,-999.000,9,-999.0000,9,  -999.0,9, -999.00,9, -999.000,9,  -999.00,-999.00000,9,  -999.00, -999.00,9, -999.00,9, -999.00, -999.00,9,-999.000,9, -999.00,9, -999.00,9,     -999.0,9, 20210501,     1417,  20.8290, -65.9799,     2.2523,3,     0.0429,1,     4.6765,1,     -999.0,9,     -999.0,9,     -999.0,9