BOTTLE,20230513CCHSIOCBG
EXPOCODE,SECT_ID,STNNBR,CASTNO,SAMPNO,BTLNBR,BTLNBR_FLAG_W,DATE,TIME,LATITUDE,LONGITUDE,DEPTH,CTDPRS,CTDTMP,CTDSAL,CTDSAL_FLAG_W,SALNTY,SALNTY_FLAG_W,CTDOXY,CTDOXY_FLAG_W,OXYGEN,OXYGEN_FLAG_W,SILCAT,SILCAT_FLAG_W,NITRAT,NITRAT_FLAG_W,NITRIT,NITRIT_FLAG_W,PHSPHT,PHSPHT_FLAG_W,CFC-11,CFC-11_FLAG_W,CFC-12,CFC-12_FLAG_W,SF6,SF6_FLAG_W,TCARBN,TCARBN_FLAG_W,ALKALI,ALKALI_FLAG_W,FCO2,FCO2_FLAG_W,FCO2TMP,PH_TOT,PH_TOT_FLAG_W,PH_TMP,DELC13,DELC13_FLAG_W,DELC14,DELC14_FLAG_W,C14ERR,DELO18,DELO18_FLAG_W,POC,POC_FLAG_W,DOC,DOC_FLAG_W,TDN,TDN_FLAG_W,N2O,N2O_FLAG_W,BTL_DATE,BTL_TIME,BTL_LAT,BTL_LON,REFTMP,REFTMP_FLAG_W,CTDFLUOR,CTDFLUOR_FLAG_W,CTDXMISS,CTDXMISS_FLAG_W,D15N_NO2+NO3,D15N_NO2+NO3_FLAG_W,D18O_NO2+NO3,D18O_NO2+NO3_FLAG_W,HPLC,HPLC_FLAG_W
,,,,,,,,,,,METERS,DBAR,ITS-90,PSS-78,,PSS-78,,UMOL/KG,,UMOL/KG,,UMOL/KG,,UMOL/KG,,UMOL/KG,,UMOL/KG,,PMOL/KG,,PMOL/KG,,FMOL/KG,,UMOL/KG,,UMOL/KG,,UATM,,DEG C,,,DEG C,/MILLE,,/MILLE,,/MILLE,/MILLE,,UG/KG,,UMOL/KG,,UMOL/KG,,NMOL/KG,,,,,,ITS-90,,VOLTS,,VOLTS,,/MILLE,,/MILLE,,,
325020210420,        A22,      46,          1,         36,         36,2,20210502,       1937,    22.8267,   -65.8570,       5827,     4.5,  27.0615,  36.4204,2,  36.4283,2,    203.0,2,   202.4,2,    1.46,2,    0.01,2,    0.00,2,    0.00,2,   1.512,2,   0.968,2,   1.6300,2,  2047.4,6, 2380.39,2,  295.600,2,    20.00,    8.0973,6,    24.98,    0.86,2,   29.05,2,    2.07, -999.00,1,-999.000,9,   76.10,2,    4.52,2,       5.96,2, 20210502,     2212,  22.8267, -65.8570,    27.0616,2,     0.0413,1,     4.6267,1,     -999.0,1,     -999.0,1,     -999.0,9
325020210420,        A22,      46,          1,         35,         35,2,20210502,       1937,    22.8267,   -65.8570,       5827,    19.7,  26.5789,  36.4045,2,  36.4091,2,    203.8,2,   203.5,2,    1.36,2,    0.00,2,    0.00,2,    0.00,2,   1.491,2,   0.960,2,   1.6900,2,  2046.2,2, 2380.73,2,  294.350,2,    20.00,   8.09987,6,    24.99, -999.00,9, -999.00,9, -999.00, -999.00,9,-999.000,9,   76.30,2,    4.31,2,       5.91,2, 20210502,     2209,  22.8267, -65.8570,    26.5783,2,     0.0411,1,     4.6246,1,     -999.0,1,     -999.0,1,     -999.0,9
325020210420,        A22,      46,          1,         34,         34,2,20210502,       1937,    22.8267,   -65.8570,       5827,    40.5,  25.9787,  36.5491,2,  36.5496,2,    208.2,2,   207.4,2,    1.27,2,    0.00,2,    0.00,2,    0.00,2,-999.000,9,-999.000,9,-999.0000,9,  2049.5,2, 2389.65,6,  291.730,2,    20.00,   8.10555,2,    25.05, -999.00,9, -999.00,9, -999.00, -999.00,9,-999.000,9,   76.40,2,    4.01,2,     -999.0,9, 20210502,     2208,  22.8267, -65.8570,    25.9778,2,     0.0419,1,     4.6274,1,     -999.0,1,     -999.0,1,     -999.0,9
325020210420,        A22,      46,          1,         33,         33,2,20210502,       1937,    22.8267,   -65.8570,       5827,    65.7,  25.9490,  36.9514,2,  36.9654,2,    205.1,2,   205.4,2,    0.97,2,    0.00,2,    0.00,2,    0.00,2,   1.573,2,   0.997,2,   1.6300,2,  2069.7,2, 2412.02,2,  300.660,2,    20.00,   8.09758,2,    25.02, -999.00,9, -999.00,9, -999.00, -999.00,9,-999.000,9,   76.90,2,    4.19,2,       6.01,2, 20210502,     2205,  22.8267, -65.8570,    25.9472,2,     0.0493,1,     4.6242,1,     -999.0,1,     -999.0,1,     -999.0,9
325020210420,        A22,      46,          1,         32,         32,2,20210502,       1937,    22.8267,   -65.8570,       5827,    90.9,  25.4775,  37.1560,2,  37.1592,2,    203.3,2,   203.9,2,    0.78,2,    0.00,2,    0.00,2,    0.00,2,-999.000,9,-999.000,9,-999.0000,9,  2091.9,2, 2414.19,2,  318.380,2,    20.00,   8.07839,2,    24.99, -999.00,9, -999.00,9, -999.00, -999.00,9,-999.000,9,   69.70,2,    3.82,2,     -999.0,9, 20210502,     2203,  22.8267, -65.8570,    25.4789,2,     0.0561,1,     4.6286,1,     -999.0,1,     -999.0,1,     -999.0,9
325020210420,        A22,      46,          1,         31,         31,2,20210502,       1937,    22.8267,   -65.8570,       5827,   135.7,  23.1726,  37.2824,2,  37.2787,2,    187.1,2,   187.6,2,    0.49,2,    0.23,2,    0.04,2,    0.00,2,   1.730,2,   1.099,2,   1.7400,2,  2132.4,2, 2433.55,2,  371.920,2,    20.00,   8.02074,2,    25.00,    0.70,2,   41.92,2,    2.15, -999.00,1,-999.000,9,   58.30,2,    4.34,2,       6.81,2, 20210502,     2200,  22.8267, -65.8570,    23.1711,2,     0.0835,1,     4.6398,1,     -999.0,1,     -999.0,1,     -999.0,9
325020210420,        A22,      46,          1,         30,         30,2,20210502,       1937,    22.8267,   -65.8570,       5827,   185.9,  20.7176,  36.9013,2,  36.9026,2,    180.9,2,   182.0,2,    0.68,2,    1.54,2,    0.00,2,    0.00,2,-999.000,9,-999.000,9,-999.0000,9,  2137.3,2, 2408.55,2,  413.420,2,    20.00,   7.97747,2,    25.02,    0.47,2,   46.30,2,    2.15, -999.00,9,-999.000,9,   53.40,2,    4.26,2,     -999.0,9, 20210502,     2157,  22.8267, -65.8570,    20.7125,2,     0.0499,1,     4.6605,1,     -999.0,1,     -999.0,1,     -999.0,9
325020210420,        A22,      46,          1,         29,         29,2,20210502,       1937,    22.8267,   -65.8570,       5827,   236.8,  19.2514,  36.6617,2,  36.6620,2,    191.7,2,   191.6,2,    1.07,2,    2.97,2,    0.00,2,    0.03,2,-999.000,9,-999.000,9,-999.0000,9,  2130.1,2, 2391.83,2,  415.540,2,    20.00,   7.97319,2,    24.99,    0.47,2,   48.24,2,    2.12, -999.00,9,-999.000,9,   48.40,2,    6.07,2,     -999.0,9, 20210502,     2155,  22.8267, -65.8570,    19.2523,2,     0.0397,1,     4.6687,1,     -999.0,1,     -999.0,1,     -999.0,9
325020210420,        A22,      46,          1,         28,         28,2,20210502,       1937,    22.8267,   -65.8570,       5827,   286.4,  18.7639,  36.6057,2,  36.6070,2,    192.3,2,   192.2,2,    1.27,2,    3.93,2,    0.00,2,    0.10,2,   2.081,2,   1.300,2,   1.6700,2,  2132.1,2, 2388.83,2,  424.340,2,    20.00,   7.96495,2,    25.00,    0.47,2,   48.31,2,    2.68, -999.00,9,-999.000,9,   46.50,2, -999.00,1,       8.58,2, 20210502,     2153,  22.8267, -65.8570,    18.7629,2,     0.0403,1,     4.6703,1,     -999.0,1,     -999.0,1,     -999.0,9
325020210420,        A22,      46,          1,         27,         27,2,20210502,       1937,    22.8267,   -65.8570,       5827,   337.1,  18.1385,  36.5193,2,  36.5171,2,    189.5,2,   189.7,2,    1.66,2,    5.31,2,    0.00,2,    0.18,2,-999.000,9,-999.000,9,-999.0000,9,  2134.7,2,  2376.7,2,  446.720,2,    20.00,   7.94498,2,    25.00,    0.44,2,   53.52,2,    2.08, -999.00,9,-999.000,9,   47.70,2, -999.00,1,     -999.0,9, 20210502,     2150,  22.8267, -65.8570,    18.1373,2,     0.0395,1,     4.6716,1,     -999.0,1,     -999.0,1,     -999.0,9
325020210420,        A22,      46,          1,         26,         26,2,20210502,       1937,    22.8267,   -65.8570,       5827,   388.0,  17.1401,  36.3615,2,  36.3596,2,    180.0,2,   180.6,2,    2.53,2,    7.66,2,    0.00,2,    0.33,2,   2.232,2,   1.360,2,   1.5000,2,  2147.2,2, 2373.43,2,  489.040,2,    20.00,   7.91016,2,    24.99,    0.44,2,   55.89,2,    2.61, -999.00,9,-999.000,9,   45.50,2, -999.00,1,      10.65,2, 20210502,     2147,  22.8267, -65.8570,    17.1388,2,     0.0401,1,     4.6736,1,     -999.0,1,     -999.0,1,     -999.0,9
325020210420,        A22,      46,          1,         25,         25,2,20210502,       1937,    22.8267,   -65.8570,       5827,   468.5,  15.6016,  36.1179,2,  36.1163,2,    169.7,2,   169.6,2,    3.51,2,   11.10,2,    0.00,2,    0.57,2,-999.000,9,-999.000,9,-999.0000,9,  2161.3,2, 2376.74,2,  554.100,2,    20.00,    7.8584,2,    24.97,    0.44,2,   54.41,2,    2.21, -999.00,9,-999.000,9,   45.70,2, -999.00,1,     -999.0,9, 20210502,     2144,  22.8267, -65.8570,    15.6034,2,     0.0408,1,     4.6751,1,     -999.0,1,     -999.0,1,     -999.0,9
325020210420,        A22,      46,          1,         24,         24,2,20210502,       1937,    22.8267,   -65.8570,       5827,   569.3,  13.6974,  35.8161,2,  35.8135,2,    157.5,2,   157.5,2,    5.85,2,   15.50,2,    0.00,2,    0.83,2,   2.148,2,   1.247,2,   0.9900,2,  2171.1,2, 2345.72,2,  646.880,2,    20.00,   7.79605,2,    25.03,    0.87,4,  -38.13,4,    1.97, -999.00,9,-999.000,9,   43.60,2, -999.00,1,      15.99,2, 20210502,     2140,  22.8267, -65.8570,    13.6966,2,     0.0407,1,     4.6775,1,     -999.0,1,     -999.0,1,     -999.0,9
325020210420,        A22,      46,          1,         23,         23,2,20210502,       1937,    22.8267,   -65.8570,       5827,   670.4,  11.7184,  35.5197,2,  35.5186,2,    143.0,2,   142.9,2,    9.36,2,   20.45,2,    0.00,2,    1.18,2,   1.785,2,   0.991,2,   0.6500,2,  2188.9,2, 2327.18,2,  764.590,2,    20.00,   7.72776,6,    25.01,    0.57,2,   20.10,2,    2.16, -999.00,9,-999.000,9,   43.70,2, -999.00,1,      19.42,2, 20210502,     2138,  22.8267, -65.8570,    11.7220,2,     0.0409,1,     4.6789,1,     -999.0,1,     -999.0,1,     -999.0,9
325020210420,        A22,      46,          1,         22,         22,2,20210502,       1937,    22.8267,   -65.8570,       5827,   770.8,   9.7196,  35.2519,2,  35.2522,2,    135.7,2,   136.0,2,   13.65,2,   24.78,2,    0.00,2,    1.47,2,-999.000,9,-999.000,9,-999.0000,9,  2199.2,2, 2319.32,2,  875.630,2,    20.00,   7.66949,2,    25.00,    0.69,2,  -16.48,2,    2.08, -999.00,9,-999.000,9,   42.30,2, -999.00,1,     -999.0,9, 20210502,     2135,  22.8267, -65.8570,     9.7194,2,     0.0424,1,     4.6789,1,     -999.0,1,     -999.0,1,     -999.0,9
325020210420,        A22,      46,          1,         21,         21,2,20210502,       1937,    22.8267,   -65.8570,       5827,   872.3,   7.9621,  35.0222,2,  35.0236,2,    134.0,2,   134.3,2,   18.24,2,   28.21,2,    0.00,2,    1.74,2,   0.805,2,   0.429,2,   0.2700,2,  2209.4,6, 2311.36,2,  982.150,2,    20.00,   7.62112,2,    25.03,    0.66,2,  -46.36,2,    1.95, -999.00,9,-999.000,9,   41.70,2, -999.00,1,      23.35,2, 20210502,     2132,  22.8267, -65.8570,     7.9660,2,     0.0427,1,     4.6788,1,     -999.0,1,     -999.0,1,     -999.0,9
325020210420,        A22,      46,          1,         20,         20,2,20210502,       1937,    22.8267,   -65.8570,       5827,   972.7,   7.0796,  34.9901,2,  34.9900,2,    149.1,2,   149.0,2,   19.02,2,   27.46,2,    0.00,2,    1.72,2,   0.662,2,   0.356,2,   0.2200,2,  2208.3,2, 2308.91,2,  958.010,2,    20.00,   7.63011,6,    25.01,    0.71,2,  -61.55,2,    2.02, -999.00,9,-999.000,9,   40.80,2, -999.00,1,      21.67,2, 20210502,     2128,  22.8267, -65.8570,     7.0806,2,     0.0417,1,     4.6789,1,     -999.0,1,     -999.0,1,     -999.0,9
325020210420,        A22,      46,          1,         19,         19,2,20210502,       1937,    22.8267,   -65.8570,       5827,  1074.4,   6.3755,  35.0339,2,  35.0331,2,    181.5,2,   180.4,2,   16.87,2,   24.03,2,    0.00,2,    1.51,2,-999.000,9,-999.000,9,-999.0000,9,  2194.1,2, 2314.51,6,  878.090,2,    20.00,   7.66706,2,    24.98,    0.78,2,  -55.21,2,    2.00, -999.00,9,-999.000,9,   42.30,2, -999.00,1,     -999.0,9, 20210502,     2124,  22.8267, -65.8570,     6.3788,2,     0.0429,1,     4.6805,1,     -999.0,1,     -999.0,1,     -999.0,9
325020210420,        A22,      46,          1,         18,         18,2,20210502,       1937,    22.8267,   -65.8570,       5827,  1175.6,   5.7809,  35.0415,2,  35.0425,2,    203.5,2,   203.4,2,   15.50,2,   21.90,2,    0.00,2,    1.38,2,   1.243,2,   0.644,2,   0.4100,2,  2188.5,2, 2313.34,2,  830.820,2,    20.00,   7.68774,2,    24.97, -999.00,9, -999.00,9, -999.00, -999.00,9,-999.000,9,   41.90,2, -999.00,1,      16.70,2, 20210502,     2121,  22.8267, -65.8570,     5.7837,2,     0.0425,1,     4.6814,1,     -999.0,1,     -999.0,1,     -999.0,9
325020210420,        A22,      46,          1,         17,         17,2,20210502,       1937,    22.8267,   -65.8570,       5827,  1276.2,   5.1837,  35.0386,2,  35.0390,2,    227.3,2,   227.9,2,   13.85,2,   19.81,2,    0.00,2,    1.26,2,   1.752,2,   0.899,2,   0.5500,2,  2179.4,2, 2310.05,2,  795.870,2,    20.00,   7.70583,2,    25.02,    0.88,2,  -39.41,2,    2.33, -999.00,9,-999.000,9,   41.60,2, -999.00,1,      15.27,2, 20210502,     2118,  22.8267, -65.8570,     5.1851,2,     0.0417,1,     4.6811,1,     -999.0,1,     -999.0,1,     -999.0,9
325020210420,        A22,      46,          1,         16,         16,2,20210502,       1937,    22.8267,   -65.8570,       5827,  1378.4,   4.7988,  35.0282,2,  35.0287,2,    240.4,2,   241.0,2,   12.97,2,   18.85,2,    0.00,2,    1.20,2,-999.000,9,-999.000,9,-999.0000,9,  2172.7,2,  2310.6,2,  778.610,2,    20.00,   7.71417,2,    25.01, -999.00,9, -999.00,9, -999.00, -999.00,9,-999.000,9,   43.40,2, -999.00,1,     -999.0,9, 20210502,     2115,  22.8267, -65.8570,     4.7981,2,     0.0424,1,     4.6813,1,     -999.0,1,     -999.0,1,     -999.0,9
325020210420,        A22,      46,          1,         15,         15,2,20210502,       1937,    22.8267,   -65.8570,       5827,  1550.1,   4.3749,  35.0097,2,  35.0106,2,    250.8,2,   250.9,2,   12.97,2,   18.31,2,    0.00,2,    1.16,2,   1.878,2,   0.961,2,   0.4800,2,  2168.8,2, 2306.05,2,  762.225,6,    20.00,   7.72181,2,    25.00,    0.95,2,  -30.56,2,    2.05, -999.00,9,-999.000,9,   42.90,2, -999.00,1,      13.90,2, 20210502,     2111,  22.8267, -65.8570,     4.3757,2,     0.0429,1,     4.6813,1,     -999.0,1,     -999.0,1,     -999.0,9
325020210420,        A22,      46,          1,         14,         14,2,20210502,       1937,    22.8267,   -65.8570,       5827,  1753.3,   3.9876,  34.9908,2,  34.9939,2,    256.4,2,   256.7,2,   14.14,2,   18.14,2,    0.00,2,    1.16,2,   1.555,2,   0.767,2,   0.3200,2,  2166.7,2,  2307.8,2,  747.420,2,    20.00,     7.729,2,    25.01, -999.00,9, -999.00,9, -999.00, -999.00,9,-999.000,9,   43.20,2, -999.00,1,      13.54,2, 20210502,     2106,  22.8267, -65.8570,     3.9882,2,     0.0427,1,     4.6813,1,     -999.0,1,     -999.0,1,     -999.0,9
325020210420,        A22,      46,          1,         13,         13,2,20210502,       1937,    22.8267,   -65.8570,       5827,  1956.4,   3.7197,  34.9784,2,  34.9793,2,    258.9,2,   258.8,2,   15.60,2,   18.15,2,    0.00,2,    1.17,2,-999.000,9,-999.000,9,-999.0000,9,  2167.3,2, 2308.48,2,  742.180,2,    20.00,   7.73431,2,    25.00, -999.00,9, -999.00,9, -999.00, -999.00,9,-999.000,9,   44.40,2, -999.00,1,     -999.0,9, 20210502,     2101,  22.8267, -65.8570,     3.7179,2,     0.0419,1,     4.6814,1,     -999.0,1,     -999.0,1,     -999.0,9
325020210420,        A22,      46,          1,         12,         12,2,20210502,       1937,    22.8267,   -65.8570,       5827,  2190.1,   3.4348,  34.9669,2,  34.9667,2,    259.7,2,   259.9,2,   17.94,2,   18.28,2,    0.00,2,    1.18,2,   0.991,2,   0.492,2,   0.1700,2,  2164.8,2, 2312.94,2,  735.180,2,    20.00,   7.73703,2,    24.99, -999.00,9, -999.00,9, -999.00, -999.00,9,-999.000,9,   42.80,2, -999.00,1,      13.39,2, 20210502,     2055,  22.8267, -65.8570,     3.4349,2,     0.0422,1,     4.6813,1,     -999.0,1,     -999.0,1,     -999.0,9
325020210420,        A22,      46,          1,         11,         11,2,20210502,       1937,    22.8267,   -65.8570,       5827,  2444.7,   3.2038,  34.9572,2,  34.9577,2,    258.6,2,   259.2,2,   20.97,2,   18.61,2,    0.00,2,    1.21,2,-999.000,9,-999.000,9,-999.0000,9,  2162.9,2, 2315.32,2,  731.490,2,    20.00,   7.73915,2,    25.00, -999.00,9, -999.00,9, -999.00, -999.00,9,-999.000,9,   40.70,2, -999.00,1,     -999.0,9, 20210502,     2050,  22.8267, -65.8570,     3.2030,2,     0.0429,1,     4.6813,1,     -999.0,1,     -999.0,1,     -999.0,9
325020210420,        A22,      46,          1,         10,         10,2,20210502,       1937,    22.8267,   -65.8570,       5827,  2699.5,   2.9823,  34.9421,2,  34.9443,3,    260.6,2,   260.9,2,   22.53,2,   18.53,2,    0.00,2,    1.21,2,   0.724,2,   0.370,2,   0.1700,2,  2165.4,2, 2314.79,2,  733.530,2,    20.00,   7.73919,6,    25.02, -999.00,9, -999.00,9, -999.00, -999.00,9,-999.000,9,   41.90,2, -999.00,1,      13.33,2, 20210502,     2044,  22.8267, -65.8570,     2.9814,2,     0.0425,1,     4.6813,1,     -999.0,1,     -999.0,1,     -999.0,9
325020210420,        A22,      46,          1,          9,          9,2,20210502,       1937,    22.8267,   -65.8570,       5827,  2954.1,   2.7790,  34.9279,2,  34.9292,2,    263.7,2,   263.9,2,   22.92,2,   18.28,2,    0.00,2,    1.46,3,   0.922,2,   0.466,2,   0.2100,2,  2166.0,2, 2315.99,6,  736.250,2,    20.00,   7.73903,2,    24.99, -999.00,9, -999.00,9, -999.00, -999.00,9,-999.000,9,   43.00,2, -999.00,1,      13.28,2, 20210502,     2038,  22.8267, -65.8570,     2.7785,2,     0.0426,1,     4.6807,1,     -999.0,1,     -999.0,1,     -999.0,9
325020210420,        A22,      46,          1,          8,          8,2,20210502,       1937,    22.8267,   -65.8570,       5827,  3244.6,   2.6062,  34.9160,2,  34.9189,3,    265.9,2,   266.3,2,   23.70,2,   18.10,2,    0.00,2,    1.19,2,   1.042,2,   0.531,2,   0.2400,2,  2167.3,2, 2315.93,2,  738.550,2,    20.00,   7.73588,2,    24.99, -999.00,9, -999.00,9, -999.00, -999.00,9,-999.000,9,   42.80,2, -999.00,1,      13.43,2, 20210502,     2031,  22.8267, -65.8570,     2.6060,2,     0.0427,1,     4.6801,1,     -999.0,1,     -999.0,1,     -999.0,9
325020210420,        A22,      46,          1,          7,          7,2,20210502,       1937,    22.8267,   -65.8570,       5827,  3617.3,   2.4215,  34.9032,2,  34.9048,2,    267.0,2,   267.1,2,   26.14,2,   18.19,2,    0.00,2,    1.21,2,   1.069,2,   0.535,2,   0.2700,2,  2169.5,2, 2316.37,6,  740.600,2,    20.00,   7.73555,6,    24.98, -999.00,9, -999.00,9, -999.00, -999.00,9,-999.000,9,   43.40,2, -999.00,1,      13.29,2, 20210502,     2024,  22.8267, -65.8570,     2.4214,2,     0.0422,1,     4.6801,1,     -999.0,1,     -999.0,1,     -999.0,9
325020210420,        A22,      46,          1,          6,          6,2,20210502,       1937,    22.8267,   -65.8570,       5827,  4027.8,   2.3224,  34.8941,2,  34.8939,2,    266.7,2,   266.7,2,   28.77,2,   18.44,2,    0.00,2,    1.23,2,-999.000,9,-999.000,9,-999.0000,9,  2171.0,2, 2321.64,2,  746.870,2,    20.00,   7.73259,2,    25.01, -999.00,9, -999.00,9, -999.00, -999.00,9,-999.000,9,   43.10,2, -999.00,1,     -999.0,9, 20210502,     2016,  22.8267, -65.8570,     2.3224,2,     0.0429,1,     4.6788,1,     -999.0,1,     -999.0,1,     -999.0,9
325020210420,        A22,      46,          1,          5,          5,2,20210502,       1937,    22.8267,   -65.8570,       5827,  4438.0,   2.2867,  34.8876,2,  34.8880,2,    264.3,2,   264.4,2,   32.09,2,   18.97,2,    0.00,2,    1.26,2,   0.906,6,   0.463,6,   0.2400,6,  2176.9,2, 2322.52,2, -999.000,9,  -999.00,    7.7321,2,    24.98, -999.00,9, -999.00,9, -999.00, -999.00,9,-999.000,9,   42.40,2, -999.00,1,      13.35,6, 20210502,     2008,  22.8267, -65.8570,     2.2868,2,     0.0425,1,     4.6787,1,     -999.0,1,     -999.0,1,     -999.0,9
325020210420,        A22,      46,          1,          4,          4,2,20210502,       1937,    22.8267,   -65.8570,       5827,  4850.0,   2.2727,  34.8814,2,  34.8816,2,    261.1,2,   261.2,2,   35.99,2,   19.60,2,    0.00,2,    1.34,2,   0.681,2,   0.356,2,   0.1800,2,  2179.9,2, 2326.26,2,  754.300,2,    20.00,   7.73035,2,    25.00, -999.00,9, -999.00,9, -999.00, -999.00,9,-999.000,9,   43.20,2, -999.00,1,      13.28,2, 20210502,     2000,  22.8267, -65.8570,     2.2730,2,     0.0424,1,     4.6779,1,     -999.0,1,     -999.0,1,     -999.0,9
325020210420,        A22,      46,          1,          3,          3,2,20210502,       1937,    22.8267,   -65.8570,       5827,  5261.3,   2.1500,  34.8611,2,  34.8617,2,    253.0,2,   253.4,2,   47.69,2,   21.52,2,    0.00,2,    1.44,2,   0.301,2,   0.165,2,   0.0600,2,  2192.4,2, 2334.58,2,  772.250,2,    20.00,   7.72257,2,    25.01, -999.00,9, -999.00,9, -999.00, -999.00,9,-999.000,9,   42.60,2, -999.00,1,      14.07,2, 20210502,     1952,  22.8267, -65.8570,     2.1511,2,     0.0426,1,     4.6764,1,     -999.0,1,     -999.0,1,     -999.0,9