BOTTLE,20230513CCHSIOCBG
EXPOCODE,SECT_ID,STNNBR,CASTNO,SAMPNO,BTLNBR,BTLNBR_FLAG_W,DATE,TIME,LATITUDE,LONGITUDE,DEPTH,CTDPRS,CTDTMP,CTDSAL,CTDSAL_FLAG_W,SALNTY,SALNTY_FLAG_W,CTDOXY,CTDOXY_FLAG_W,OXYGEN,OXYGEN_FLAG_W,SILCAT,SILCAT_FLAG_W,NITRAT,NITRAT_FLAG_W,NITRIT,NITRIT_FLAG_W,PHSPHT,PHSPHT_FLAG_W,CFC-11,CFC-11_FLAG_W,CFC-12,CFC-12_FLAG_W,SF6,SF6_FLAG_W,TCARBN,TCARBN_FLAG_W,ALKALI,ALKALI_FLAG_W,FCO2,FCO2_FLAG_W,FCO2TMP,PH_TOT,PH_TOT_FLAG_W,PH_TMP,DELC13,DELC13_FLAG_W,DELC14,DELC14_FLAG_W,C14ERR,DELO18,DELO18_FLAG_W,POC,POC_FLAG_W,DOC,DOC_FLAG_W,TDN,TDN_FLAG_W,N2O,N2O_FLAG_W,BTL_DATE,BTL_TIME,BTL_LAT,BTL_LON,REFTMP,REFTMP_FLAG_W,CTDFLUOR,CTDFLUOR_FLAG_W,CTDXMISS,CTDXMISS_FLAG_W,D15N_NO2+NO3,D15N_NO2+NO3_FLAG_W,D18O_NO2+NO3,D18O_NO2+NO3_FLAG_W,HPLC,HPLC_FLAG_W
,,,,,,,,,,,METERS,DBAR,ITS-90,PSS-78,,PSS-78,,UMOL/KG,,UMOL/KG,,UMOL/KG,,UMOL/KG,,UMOL/KG,,UMOL/KG,,PMOL/KG,,PMOL/KG,,FMOL/KG,,UMOL/KG,,UMOL/KG,,UATM,,DEG C,,,DEG C,/MILLE,,/MILLE,,/MILLE,/MILLE,,UG/KG,,UMOL/KG,,UMOL/KG,,NMOL/KG,,,,,,ITS-90,,VOLTS,,VOLTS,,/MILLE,,/MILLE,,,
325020210420,        A22,       7,          1,         35,         35,2,20210423,       0458,    13.3263,   -69.8484,       3065,     5.1,  27.2340,  35.9109,2,  35.9119,2,    201.5,2,   201.4,2,    0.78,2,    0.00,2,    0.00,2,    0.00,2,-999.000,9,-999.000,9,-999.0000,9,  2026.6,6, 2352.42,6, -999.000,9,  -999.00,   8.09558,2,    25.02, -999.00,9, -999.00,9, -999.00, -999.00,1,-999.000,9, -999.00,9, -999.00,9,     -999.0,9, 20210423,      635,  13.3263, -69.8484,    27.2348,2,     0.0505,1,     4.6057,1,     -999.0,9,     -999.0,9,     -999.0,9
325020210420,        A22,       7,          1,         34,         34,2,20210423,       0458,    13.3263,   -69.8484,       3065,    20.3,  27.2394,  35.9107,2,  35.9119,2,    201.4,2,   201.1,2,    0.68,2,    0.00,2,    0.00,2,    0.00,2,-999.000,9,-999.000,9,-999.0000,9,  -999.0,9, -999.00,9, -999.000,9,  -999.00,-999.00000,9,  -999.00, -999.00,9, -999.00,9, -999.00, -999.00,9,-999.000,9, -999.00,9, -999.00,9,     -999.0,9, 20210423,      634,  13.3263, -69.8483,    27.2392,2,     0.0520,1,     4.6104,1,     -999.0,9,     -999.0,9,     -999.0,9
325020210420,        A22,       7,          1,         33,         33,2,20210423,       0458,    13.3263,   -69.8484,       3065,    39.6,  27.2476,  35.9108,2,  35.9123,2,    201.1,2,   201.1,2,    0.58,2,    0.00,2,    0.00,2,    0.00,2,-999.000,9,-999.000,9,-999.0000,9,  -999.0,9, -999.00,9, -999.000,9,  -999.00,-999.00000,9,  -999.00, -999.00,9, -999.00,9, -999.00, -999.00,9,-999.000,9, -999.00,9, -999.00,9,     -999.0,9, 20210423,      632,  13.3262, -69.8483,    27.2469,2,     0.0507,1,     4.6144,1,     -999.0,9,     -999.0,9,     -999.0,9
325020210420,        A22,       7,          1,         32,         32,2,20210423,       0458,    13.3263,   -69.8484,       3065,    65.4,  26.6002,  36.3917,2,  36.3827,2,    200.2,2,   200.5,2,    0.78,2,    0.00,2,    0.00,2,    0.00,2,-999.000,9,-999.000,9,-999.0000,9,  2045.7,2, 2376.55,2, -999.000,9,  -999.00,   8.09816,6,    25.01, -999.00,9, -999.00,9, -999.00, -999.00,9,-999.000,9, -999.00,9, -999.00,9,     -999.0,9, 20210423,      630,  13.3263, -69.8484,    26.5995,2,     0.0611,1,     4.6106,1,     -999.0,9,     -999.0,9,     -999.0,9
325020210420,        A22,       7,          1,         31,         31,2,20210423,       0458,    13.3263,   -69.8484,       3065,    90.9,  25.7550,  36.9063,2,  36.8586,3,    185.1,3,   188.3,2,    0.39,2,    0.30,2,    0.21,2,    0.00,2,-999.000,9,-999.000,9,-999.0000,9,  -999.0,9, -999.00,9, -999.000,9,  -999.00,-999.00000,9,  -999.00, -999.00,9, -999.00,9, -999.00, -999.00,9,-999.000,9, -999.00,9, -999.00,9,     -999.0,9, 20210423,      629,  13.3263, -69.8483,    25.7551,2,     0.0890,1,     4.6250,1,     -999.0,9,     -999.0,9,     -999.0,9
325020210420,        A22,       7,          1,         30,         30,2,20210423,       0458,    13.3263,   -69.8484,       3065,   116.2,  23.5991,  37.1788,2,  37.1922,2,    165.8,3,   176.6,4,    0.49,2,    1.72,2,    0.06,2,    0.04,2,-999.000,9,-999.000,9,-999.0000,9,  2144.8,2, 2426.57,2, -999.000,9,  -999.00,   7.99473,6,    25.02, -999.00,9, -999.00,9, -999.00, -999.00,1,-999.000,9, -999.00,9, -999.00,9,     -999.0,9, 20210423,      627,  13.3263, -69.8484,    23.5944,2,     0.0563,1,     4.6612,1,     -999.0,9,     -999.0,9,     -999.0,9
325020210420,        A22,       7,          1,         29,         29,2,20210423,       0458,    13.3263,   -69.8484,       3065,   141.0,  21.6666,  36.9844,2,  36.9844,2,    155.7,3,   157.6,2,    0.97,2,    4.13,2,    0.01,2,    0.16,2,-999.000,9,-999.000,9,-999.0000,9,  -999.0,9, -999.00,9, -999.000,9,  -999.00,-999.00000,9,  -999.00, -999.00,9, -999.00,9, -999.00, -999.00,9,-999.000,9, -999.00,9, -999.00,9,     -999.0,9, 20210423,      624,  13.3263, -69.8483,    21.6684,2,     0.0453,1,     4.6663,1,     -999.0,9,     -999.0,9,     -999.0,9
325020210420,        A22,       7,          1,         28,         28,2,20210423,       0458,    13.3263,   -69.8484,       3065,   165.9,  20.1892,  36.8073,2,  36.8048,2,    155.9,2,   155.8,2,    1.27,2,    5.85,2,    0.00,2,    0.23,2,-999.000,9,-999.000,9,-999.0000,9,  2165.1,2, 2400.53,2, -999.000,9,  -999.00,    7.9193,2,    25.02, -999.00,9, -999.00,9, -999.00, -999.00,9,-999.000,9, -999.00,9, -999.00,9,     -999.0,9, 20210423,      624,  13.3263, -69.8483,    20.1863,2,     0.0407,1,     4.6735,1,     -999.0,9,     -999.0,9,     -999.0,9
325020210420,        A22,       7,          1,         27,         27,2,20210423,       0458,    13.3263,   -69.8484,       3065,   191.5,  18.6420,  36.5755,2,  36.5607,2,    155.7,2,   157.2,2,    1.95,2,    8.02,2,    0.00,2,    0.37,2,-999.000,9,-999.000,9,-999.0000,9,  -999.0,9, -999.00,9, -999.000,9,  -999.00,-999.00000,9,  -999.00, -999.00,9, -999.00,9, -999.00, -999.00,9,-999.000,9, -999.00,9, -999.00,9,     -999.0,9, 20210423,      622,  13.3262, -69.8483,    18.6424,2,     0.0407,1,     4.6770,1,     -999.0,9,     -999.0,9,     -999.0,9
325020210420,        A22,       7,          1,         26,         26,2,20210423,       0458,    13.3263,   -69.8484,       3065,   237.0,  16.1145,  36.1146,2,  36.1078,2,    137.7,2,   138.0,2,    4.48,2,   14.13,2,    0.00,2,    0.77,2,-999.000,9,-999.000,9,-999.0000,9,  -999.0,9, -999.00,9, -999.000,9,  -999.00,-999.00000,9,  -999.00, -999.00,9, -999.00,9, -999.00, -999.00,9,-999.000,9, -999.00,9, -999.00,9,     -999.0,9, 20210423,      620,  13.3262, -69.8484,    16.1190,2,     0.0410,1,     4.6764,1,     -999.0,9,     -999.0,9,     -999.0,9
325020210420,        A22,       7,          1,         25,         25,4,20210423,       0458,    13.3263,   -69.8484,       3065,   286.6,  14.2240,  35.8030,3,-999.0000,9,    130.4,3,  -999.0,9, -999.00,9, -999.00,9, -999.00,9, -999.00,9,-999.000,9,-999.000,9,-999.0000,9,  -999.0,9, -999.00,9, -999.000,9,  -999.00,-999.00000,9,  -999.00, -999.00,9, -999.00,9, -999.00, -999.00,9,-999.000,9, -999.00,9, -999.00,9,     -999.0,9, 20210423,      616,  13.3263, -69.8483,    14.2264,3,     0.0409,1,     4.6744,1,     -999.0,9,     -999.0,9,     -999.0,9
325020210420,        A22,       7,          1,         24,         24,2,20210423,       0458,    13.3263,   -69.8484,       3065,   337.3,  12.3442,  35.4849,2,  35.4795,2,    122.5,2,   122.6,2,    9.55,2,   22.05,2,    0.00,2,    1.30,2,-999.000,9,-999.000,9,-999.0000,9,  2202.4,2, 2329.32,2, -999.000,9,  -999.00,   7.68907,2,    25.02, -999.00,9, -999.00,9, -999.00, -999.00,9,-999.000,9, -999.00,9, -999.00,9,     -999.0,9, 20210423,      615,  13.3262, -69.8484,    12.3511,2,     0.0424,1,     4.6714,1,     -999.0,9,     -999.0,9,     -999.0,9
325020210420,        A22,       7,          1,         23,         23,2,20210423,       0458,    13.3263,   -69.8484,       3065,   387.8,  11.0050,  35.2597,2,  35.2475,2,    120.1,2,   120.1,2,   11.70,2,   24.92,2,    0.00,2,    1.50,2,-999.000,9,-999.000,9,-999.0000,9,  -999.0,9, -999.00,9, -999.000,9,  -999.00,-999.00000,9,  -999.00, -999.00,9, -999.00,9, -999.00, -999.00,9,-999.000,9, -999.00,9, -999.00,9,     -999.0,9, 20210423,      614,  13.3262, -69.8483,    11.0026,2,     0.0425,1,     4.6752,1,     -999.0,9,     -999.0,9,     -999.0,9
325020210420,        A22,       7,          1,         22,         22,2,20210423,       0458,    13.3263,   -69.8484,       3065,   438.0,   9.9168,  35.0836,2,  35.0827,2,    118.8,2,   118.9,2,   13.75,2,   27.10,2,    0.00,2,    1.66,2,-999.000,9,-999.000,9,-999.0000,9,  -999.0,9, -999.00,9, -999.000,9,  -999.00,-999.00000,9,  -999.00, -999.00,9, -999.00,9, -999.00, -999.00,9,-999.000,9, -999.00,9, -999.00,9,     -999.0,9, 20210423,      611,  13.3262, -69.8483,     9.9171,2,     0.0418,1,     4.6765,1,     -999.0,9,     -999.0,9,     -999.0,9
325020210420,        A22,       7,          1,         21,         21,2,20210423,       0458,    13.3263,   -69.8484,       3065,   488.3,   9.0597,  34.9651,2,  34.9656,2,    118.3,2,   118.8,2,   15.50,2,   28.76,2,    0.00,2,    1.77,2,-999.000,9,-999.000,9,-999.0000,9,  2213.3,2, 2307.78,2, -999.000,9,  -999.00,   7.59086,2,    24.99, -999.00,9, -999.00,9, -999.00, -999.00,9,-999.000,9, -999.00,9, -999.00,9,     -999.0,9, 20210423,      609,  13.3263, -69.8484,     9.0606,2,     0.0424,1,     4.6763,1,     -999.0,9,     -999.0,9,     -999.0,9
325020210420,        A22,       7,          1,         20,         20,2,20210423,       0458,    13.3263,   -69.8484,       3065,   569.1,   8.2093,  34.8751,2,  34.8768,2,    119.0,2,   119.5,2,   17.94,2,   30.32,2,    0.00,2,    1.89,2,-999.000,9,-999.000,9,-999.0000,9,  -999.0,9, -999.00,9, -999.000,9,  -999.00,-999.00000,9,  -999.00, -999.00,9, -999.00,9, -999.00, -999.00,9,-999.000,9, -999.00,9, -999.00,9,     -999.0,9, 20210423,      607,  13.3262, -69.8483,     8.2084,2,     0.0425,1,     4.6788,1,     -999.0,9,     -999.0,9,     -999.0,9
325020210420,        A22,       7,          1,         19,         19,2,20210423,       0458,    13.3263,   -69.8484,       3065,   670.3,   7.3150,  34.8115,2,  34.8112,2,    123.1,2,   123.2,2,   20.77,2,   31.46,2,    0.00,2,    1.99,2,-999.000,9,-999.000,9,-999.0000,9,  -999.0,9, -999.00,9, -999.000,9,  -999.00,-999.00000,9,  -999.00, -999.00,9, -999.00,9, -999.00, -999.00,9,-999.000,9, -999.00,9, -999.00,9,     -999.0,9, 20210423,      603,  13.3263, -69.8484,     7.3138,2,     0.0440,1,     4.6789,1,     -999.0,9,     -999.0,9,     -999.0,9
325020210420,        A22,       7,          1,         18,         18,2,20210423,       0458,    13.3263,   -69.8484,       3065,   771.9,   6.5406,  34.7703,2,  34.7689,2,    130.1,2,   129.9,2,   23.02,2,   31.91,2,    0.00,2,    2.05,2,-999.000,9,-999.000,9,-999.0000,9,  -999.0,9, -999.00,9, -999.000,9,  -999.00,-999.00000,9,  -999.00, -999.00,9, -999.00,9, -999.00, -999.00,9,-999.000,9, -999.00,9, -999.00,9,     -999.0,9, 20210423,      600,  13.3263, -69.8484,     6.5448,2,     0.0430,1,     4.6803,1,     -999.0,9,     -999.0,9,     -999.0,9
325020210420,        A22,       7,          1,         17,         17,2,20210423,       0458,    13.3263,   -69.8484,       3065,   870.8,   5.9472,  34.8247,2,  34.8235,2,    145.8,2,   146.0,2,   24.28,2,   30.14,2,    0.00,2,    1.95,2,-999.000,9,-999.000,9,-999.0000,9,  2216.6,2, 2309.45,2, -999.000,9,  -999.00,   7.58994,2,    25.01, -999.00,9, -999.00,9, -999.00, -999.00,9,-999.000,9, -999.00,9, -999.00,9,     -999.0,9, 20210423,      555,  13.3263, -69.8483,     5.9518,2,     0.0422,1,     4.6797,1,     -999.0,9,     -999.0,9,     -999.0,9
325020210420,        A22,       7,          1,         16,         16,2,20210423,       0458,    13.3263,   -69.8484,       3065,   973.5,   5.3952,  34.8881,2,  34.8896,2,    167.5,2,   167.5,2,   24.87,2,   27.43,2,    0.00,2,    1.80,2,-999.000,9,-999.000,9,-999.0000,9,  -999.0,9, -999.00,9, -999.000,9,  -999.00,-999.00000,9,  -999.00, -999.00,9, -999.00,9, -999.00, -999.00,9,-999.000,9, -999.00,9, -999.00,9,     -999.0,9, 20210423,      553,  13.3263, -69.8483,     5.3933,2,     0.0427,1,     4.6813,1,     -999.0,9,     -999.0,9,     -999.0,9
325020210420,        A22,       7,          1,         15,         15,2,20210423,       0458,    13.3263,   -69.8484,       3065,  1073.7,   5.0155,  34.9307,2,  34.9299,2,    182.7,2,   182.8,2,   24.96,2,   25.61,2,    0.00,2,    1.69,2,-999.000,9,-999.000,9,-999.0000,9,  -999.0,9, -999.00,9, -999.000,9,  -999.00,-999.00000,9,  -999.00, -999.00,9, -999.00,9, -999.00, -999.00,9,-999.000,9, -999.00,9, -999.00,9,     -999.0,9, 20210423,      550,  13.3262, -69.8483,     5.0150,2,     0.0435,1,     4.6826,1,     -999.0,9,     -999.0,9,     -999.0,9
325020210420,        A22,       7,          1,         14,         14,2,20210423,       0458,    13.3263,   -69.8484,       3065,  1174.9,   4.7644,  34.9512,2,  34.9524,2,    193.4,2,   193.4,2,   24.77,2,   24.39,2,    0.00,2,    1.61,2,-999.000,9,-999.000,9,-999.0000,9,  2201.8,2, 2323.94,2, -999.000,9,  -999.00,   7.67076,2,    25.01, -999.00,9, -999.00,9, -999.00, -999.00,9,-999.000,9, -999.00,9, -999.00,9,     -999.0,9, 20210423,      547,  13.3262, -69.8483,     4.7648,2,     0.0429,1,     4.6828,1,     -999.0,9,     -999.0,9,     -999.0,9
325020210420,        A22,       7,          1,         13,         13,2,20210423,       0458,    13.3263,   -69.8484,       3065,  1276.5,   4.5982,  34.9621,2,  34.9616,2,    201.5,2,   201.4,2,   24.28,2,   23.49,2,    0.00,2,    1.55,2,-999.000,9,-999.000,9,-999.0000,9,  -999.0,9, -999.00,9, -999.000,9,  -999.00,-999.00000,9,  -999.00, -999.00,9, -999.00,9, -999.00, -999.00,9,-999.000,9, -999.00,9, -999.00,9,     -999.0,9, 20210423,      545,  13.3263, -69.8484,     4.5986,2,     0.0429,1,     4.6826,1,     -999.0,9,     -999.0,9,     -999.0,9
325020210420,        A22,       7,          1,         12,         12,2,20210423,       0458,    13.3263,   -69.8484,       3065,  1377.1,   4.4639,  34.9674,2,  34.9665,2,    205.7,2,   205.7,2,   24.77,2,   23.06,2,    0.00,2,    1.53,2,-999.000,9,-999.000,9,-999.0000,9,  -999.0,9, -999.00,9, -999.000,9,  -999.00,-999.00000,9,  -999.00, -999.00,9, -999.00,9, -999.00, -999.00,9,-999.000,9, -999.00,9, -999.00,9,     -999.0,9, 20210423,      542,  13.3262, -69.8483,     4.4637,2,     0.0436,1,     4.6825,1,     -999.0,9,     -999.0,9,     -999.0,9
325020210420,        A22,       7,          1,         11,         11,2,20210423,       0458,    13.3263,   -69.8484,       3065,  1478.7,   4.3702,  34.9704,2,  34.9701,2,    208.4,2,   208.9,2,   25.26,2,   22.75,2,    0.00,2,    1.51,2,-999.000,9,-999.000,9,-999.0000,9,  -999.0,9, -999.00,9, -999.000,9,  -999.00,-999.00000,9,  -999.00, -999.00,9, -999.00,9, -999.00, -999.00,9,-999.000,9, -999.00,9, -999.00,9,     -999.0,9, 20210423,      539,  13.3262, -69.8483,     4.3690,2,     0.0428,1,     4.6819,1,     -999.0,9,     -999.0,9,     -999.0,9
325020210420,        A22,       7,          1,         10,         10,2,20210423,       0458,    13.3263,   -69.8484,       3065,  1579.9,   4.2737,  34.9724,2,  34.9723,2,    210.4,2,   211.0,2,   26.04,2,   22.60,2,    0.00,2,    1.51,2,-999.000,9,-999.000,9,-999.0000,9,  -999.0,9, -999.00,9, -999.000,9,  -999.00,-999.00000,9,  -999.00, -999.00,9, -999.00,9, -999.00, -999.00,9,-999.000,9, -999.00,9, -999.00,9,     -999.0,9, 20210423,      536,  13.3262, -69.8483,     4.2742,2,     0.0428,1,     4.6826,1,     -999.0,9,     -999.0,9,     -999.0,9
325020210420,        A22,       7,          1,          9,          9,2,20210423,       0458,    13.3263,   -69.8484,       3065,  1682.2,   4.2152,  34.9732,2,  34.9724,2,    211.4,2,   211.6,2,   26.82,2,   22.46,2,    0.00,2,    1.49,2,-999.000,9,-999.000,9,-999.0000,9,  -999.0,9, -999.00,9, -999.000,9,  -999.00,-999.00000,9,  -999.00, -999.00,9, -999.00,9, -999.00, -999.00,9,-999.000,9, -999.00,9, -999.00,9,     -999.0,9, 20210423,      533,  13.3262, -69.8483,     4.2147,2,     0.0428,1,     4.6824,1,     -999.0,9,     -999.0,9,     -999.0,9
325020210420,        A22,       7,          1,          8,          8,2,20210423,       0458,    13.3263,   -69.8484,       3065,  1782.6,   4.1729,  34.9739,2,  34.9734,2,    212.3,2,   212.4,2,   27.40,2,   22.39,2,    0.00,2,    1.49,2,-999.000,9,-999.000,9,-999.0000,9,  -999.0,9, -999.00,9, -999.000,9,  -999.00,-999.00000,9,  -999.00, -999.00,9, -999.00,9, -999.00, -999.00,9,-999.000,9, -999.00,9, -999.00,9,     -999.0,9, 20210423,      530,  13.3262, -69.8483,     4.1728,2,     0.0426,1,     4.6825,1,     -999.0,9,     -999.0,9,     -999.0,9
325020210420,        A22,       7,          1,          7,          7,2,20210423,       0458,    13.3263,   -69.8484,       3065,  1956.0,   4.1303,  34.9747,2,  34.9750,2,    212.8,2,   212.9,2,   28.28,2,   22.32,2,    0.00,2,    1.48,2,-999.000,9,-999.000,9,-999.0000,9,  2200.5,2, 2334.77,2, -999.000,9,  -999.00,   7.70257,2,    25.02, -999.00,9, -999.00,9, -999.00, -999.00,9,-999.000,9, -999.00,9, -999.00,9,     -999.0,9, 20210423,      526,  13.3263, -69.8484,     4.1306,2,     0.0424,1,     4.6823,1,     -999.0,9,     -999.0,9,     -999.0,9
325020210420,        A22,       7,          1,          6,          6,2,20210423,       0458,    13.3263,   -69.8484,       3065,  2158.8,   4.1227,  34.9748,2,  34.9742,2,    214.1,2,   214.5,2,   28.28,2,   22.26,2,    0.00,2,    1.47,2,-999.000,9,-999.000,9,-999.0000,9,  -999.0,9, -999.00,9, -999.000,9,  -999.00,-999.00000,9,  -999.00, -999.00,9, -999.00,9, -999.00, -999.00,9,-999.000,9, -999.00,9, -999.00,9,     -999.0,9, 20210423,      521,  13.3263, -69.8484,     4.1226,2,     0.0427,1,     4.6835,1,     -999.0,9,     -999.0,9,     -999.0,9
325020210420,        A22,       7,          1,          5,          5,2,20210423,       0458,    13.3263,   -69.8484,       3065,  2361.7,   4.1226,  34.9749,2,  34.9746,2,    214.2,2,   214.3,2,   28.77,2,   22.20,2,    0.00,2,    1.47,2,   0.064,2,   0.048,2,   0.2800,2,  -999.0,9, -999.00,9, -999.000,9,  -999.00,-999.00000,9,  -999.00, -999.00,9, -999.00,9, -999.00, -999.00,9,-999.000,9, -999.00,9, -999.00,9,      14.00,2, 20210423,      516,  13.3262, -69.8484,     4.1224,2,     0.0418,1,     4.6837,1,     -999.0,9,     -999.0,9,     -999.0,9
325020210420,        A22,       7,          1,          4,          4,2,20210423,       0458,    13.3263,   -69.8484,       3065,  2565.1,   4.1346,  34.9749,2,  34.9762,2,    213.8,2,   214.1,2,   29.06,2,   22.16,2,    0.00,2,    1.47,2,   0.065,2,   0.051,2,   0.2700,2,  -999.0,9, -999.00,9, -999.000,9,  -999.00,-999.00000,9,  -999.00, -999.00,9, -999.00,9, -999.00, -999.00,9,-999.000,9, -999.00,9, -999.00,9,      13.89,2, 20210423,      510,  13.3263, -69.8483,     4.1345,2,     0.0429,1,     4.6825,1,     -999.0,9,     -999.0,9,     -999.0,9
325020210420,        A22,       7,          1,          3,          3,2,20210423,       0458,    13.3263,   -69.8484,       3065,  2769.9,   4.1517,  34.9750,2,  34.9766,2,    213.4,2,   213.7,2,   29.35,2,   22.12,2,    0.00,2,    1.47,2,   0.065,2,   0.051,2,   0.2700,2,  -999.0,9, -999.00,9, -999.000,9,  -999.00,-999.00000,9,  -999.00, -999.00,9, -999.00,9, -999.00, -999.00,9,-999.000,9, -999.00,9, -999.00,9,      13.97,2, 20210423,      506,  13.3263, -69.8483,     4.1517,2,     0.0422,1,     4.6809,1,     -999.0,9,     -999.0,9,     -999.0,9
325020210420,        A22,       7,          1,          2,          2,2,20210423,       0458,    13.3263,   -69.8484,       3065,  2973.8,   4.1712,  34.9750,2,  34.9752,2,    213.2,2,   213.6,2,   29.55,2,   22.17,2,    0.00,2,    1.47,2,   0.064,2,   0.052,2,   0.1900,2,  -999.0,9, -999.00,9, -999.000,9,  -999.00,-999.00000,9,  -999.00, -999.00,9, -999.00,9, -999.00, -999.00,9,-999.000,9, -999.00,9, -999.00,9,      13.90,2, 20210423,      502,  13.3263, -69.8483,     4.1709,2,     0.0431,1,     4.6807,1,     -999.0,9,     -999.0,9,     -999.0,9