BOTTLE,20230513CCHSIOCBG
EXPOCODE,SECT_ID,STNNBR,CASTNO,SAMPNO,BTLNBR,BTLNBR_FLAG_W,DATE,TIME,LATITUDE,LONGITUDE,DEPTH,CTDPRS,CTDTMP,CTDSAL,CTDSAL_FLAG_W,SALNTY,SALNTY_FLAG_W,CTDOXY,CTDOXY_FLAG_W,OXYGEN,OXYGEN_FLAG_W,SILCAT,SILCAT_FLAG_W,NITRAT,NITRAT_FLAG_W,NITRIT,NITRIT_FLAG_W,PHSPHT,PHSPHT_FLAG_W,CFC-11,CFC-11_FLAG_W,CFC-12,CFC-12_FLAG_W,SF6,SF6_FLAG_W,TCARBN,TCARBN_FLAG_W,ALKALI,ALKALI_FLAG_W,FCO2,FCO2_FLAG_W,FCO2TMP,PH_TOT,PH_TOT_FLAG_W,PH_TMP,DELC13,DELC13_FLAG_W,DELC14,DELC14_FLAG_W,C14ERR,DELO18,DELO18_FLAG_W,POC,POC_FLAG_W,DOC,DOC_FLAG_W,TDN,TDN_FLAG_W,N2O,N2O_FLAG_W,BTL_DATE,BTL_TIME,BTL_LAT,BTL_LON,REFTMP,REFTMP_FLAG_W,CTDFLUOR,CTDFLUOR_FLAG_W,CTDXMISS,CTDXMISS_FLAG_W,D15N_NO2+NO3,D15N_NO2+NO3_FLAG_W,D18O_NO2+NO3,D18O_NO2+NO3_FLAG_W,HPLC,HPLC_FLAG_W
,,,,,,,,,,,METERS,DBAR,ITS-90,PSS-78,,PSS-78,,UMOL/KG,,UMOL/KG,,UMOL/KG,,UMOL/KG,,UMOL/KG,,UMOL/KG,,PMOL/KG,,PMOL/KG,,FMOL/KG,,UMOL/KG,,UMOL/KG,,UATM,,DEG C,,,DEG C,/MILLE,,/MILLE,,/MILLE,/MILLE,,UG/KG,,UMOL/KG,,UMOL/KG,,NMOL/KG,,,,,,ITS-90,,VOLTS,,VOLTS,,/MILLE,,/MILLE,,,
325020210420,        A22,      86,          1,          2,          2,2,20210514,       2018,    39.7011,   -69.8031,       2072,  2005.2,   3.4812,  34.9521,2,  34.9512,2,    264.7,2,   264.9,2,   15.32,2,   17.69,2,    0.00,2,    1.15,2,   1.976,2,   0.995,2,   0.4400,2,  -999.0,9, -999.00,9, -999.000,9,  -999.00,-999.00000,9,  -999.00, -999.00,9, -999.00,9, -999.00, -999.00,9,-999.000,9,   44.30,2, -999.00,1,      12.78,2, 20210514,     2022,  39.7011, -69.8030,     3.4805,2,     0.0422,1,     4.6580,1,     -999.0,9,     -999.0,9,     -999.0,9
325020210420,        A22,      86,          1,          1,          1,2,20210514,       2018,    39.7011,   -69.8031,       2072,  2087.8,   3.4212,  34.9499,2,  34.9490,2,    264.9,2,   264.9,2,   15.61,2,   17.68,2,    0.00,2,    1.15,2,   1.941,2,   0.976,2,   0.4600,2,  2165.5,6, 2308.91,2,  751.600,2,    20.00,   7.72521,2,    25.02, -999.00,9, -999.00,9, -999.00, -999.00,9,-999.000,9,   43.00,2, -999.00,1,      12.82,2, 20210514,     2018,  39.7011, -69.8030,     3.4204,2,     0.0425,1,     4.6532,1,     -999.0,9,     -999.0,9,     -999.0,9
325020210420,        A22,      87,          1,         31,         31,2,20210515,       0116,    39.7914,   -69.8517,       1446,     5.2,  15.6269,  35.0068,2,  35.0049,2,    267.3,2,   266.2,2,    0.29,2,    0.00,2,    0.00,2,    0.05,2,-999.000,9,-999.000,9,-999.0000,9,  2058.5,6, 2325.45,2, -999.000,9,  -999.00,   7.99772,2,    24.98, -999.00,9, -999.00,9, -999.00, -999.00,1,-999.000,9, -999.00,9, -999.00,9,     -999.0,9, 20210515,      219,  39.7914, -69.8517,    15.6634,2,     0.1259,1,     4.2938,1,     -999.0,9,     -999.0,9,     -999.0,9
325020210420,        A22,      87,          1,         32,         32,2,20210515,       0116,    39.7914,   -69.8517,       1446,     5.3,  15.7131,  35.0291,2,  34.9990,3,    266.9,2,   266.9,2,    0.20,2,    0.00,2,    0.00,2,    0.05,2,-999.000,9,-999.000,9,-999.0000,9,  -999.0,9, -999.00,9, -999.000,9,  -999.00,-999.00000,9,  -999.00, -999.00,9, -999.00,9, -999.00, -999.00,9,-999.000,9, -999.00,9, -999.00,9,     -999.0,9, 20210515,      219,  39.7914, -69.8517,    15.7330,2,     0.1283,1,     4.2894,1,     -999.0,9,     -999.0,9,     -999.0,9
325020210420,        A22,      87,          1,         30,         30,2,20210515,       0116,    39.7914,   -69.8517,       1446,    35.5,  17.4501,  35.8887,2,  35.8831,2,    243.3,2,   243.5,2,    0.20,2,    0.02,2,    0.01,2,    0.00,2,-999.000,9,-999.000,9,-999.0000,9,  -999.0,9, -999.00,9, -999.000,9,  -999.00,-999.00000,9,  -999.00, -999.00,9, -999.00,9, -999.00, -999.00,9,-999.000,9, -999.00,9, -999.00,9,     -999.0,9, 20210515,      216,  39.7914, -69.8517,    17.4448,2,     0.2945,1,     4.1470,1,     -999.0,9,     -999.0,9,     -999.0,9
325020210420,        A22,      87,          1,         29,         29,2,20210515,       0116,    39.7914,   -69.8517,       1446,    60.5,  15.6071,  35.8290,2,  35.7535,3,    191.1,3,   206.7,2,    2.24,2,    5.77,2,    0.32,2,    0.35,2,-999.000,9,-999.000,9,-999.0000,9,  2129.8,2, 2352.07,2, -999.000,9,  -999.00,   7.90788,6,    24.96, -999.00,9, -999.00,9, -999.00, -999.00,9,-999.000,9, -999.00,9, -999.00,9,     -999.0,9, 20210515,      214,  39.7914, -69.8517,    15.6227,2,     0.1160,1,     4.5331,1,     -999.0,9,     -999.0,9,     -999.0,9
325020210420,        A22,      87,          1,         28,         28,2,20210515,       0116,    39.7914,   -69.8517,       1446,    86.0,  13.6869,  35.5532,2,  35.5760,3,    217.5,2,   217.7,2,    2.54,2,    7.84,2,    0.02,2,    0.48,2,-999.000,9,-999.000,9,-999.0000,9,  2137.6,2, 2342.64,6, -999.000,9,  -999.00,   7.87458,2,    24.97, -999.00,9, -999.00,9, -999.00, -999.00,1,-999.000,9, -999.00,9, -999.00,9,     -999.0,9, 20210515,      212,  39.7914, -69.8517,    13.6868,2,     0.0718,1,     4.6145,1,     -999.0,9,     -999.0,9,     -999.0,9
325020210420,        A22,      87,          1,         27,         27,2,20210515,       0116,    39.7914,   -69.8517,       1446,   110.9,  13.9949,  35.7328,2,  35.7499,2,    213.8,2,   214.9,2,    3.41,2,    8.81,2,    0.01,2,    0.52,2,-999.000,9,-999.000,9,-999.0000,9,  2142.9,2, 2350.99,2, -999.000,9,  -999.00,   7.87119,2,    24.97, -999.00,9, -999.00,9, -999.00, -999.00,9,-999.000,9, -999.00,9, -999.00,9,     -999.0,9, 20210515,      210,  39.7914, -69.8517,    13.9948,2,     0.0548,1,     4.6274,1,     -999.0,9,     -999.0,9,     -999.0,9
325020210420,        A22,      87,          1,         25,         25,2,20210515,       0116,    39.7914,   -69.8517,       1446,   136.2,  13.5607,  35.6978,2,  35.6885,2,    203.3,3,   207.0,2,    4.29,2,   10.83,2,    0.00,2,    0.64,2,-999.000,9,-999.000,9,-999.0000,9,  -999.0,9, -999.00,9, -999.000,9,  -999.00,-999.00000,9,  -999.00, -999.00,9, -999.00,9, -999.00, -999.00,9,-999.000,9, -999.00,9, -999.00,9,     -999.0,9, 20210515,      208,  39.7914, -69.8517,    13.5682,2,     0.0513,1,     4.6402,1,     -999.0,9,     -999.0,9,     -999.0,9
325020210420,        A22,      87,          1,         26,         26,2,20210515,       0116,    39.7914,   -69.8517,       1446,   136.5,  13.5578,  35.6975,2,  35.6927,2,    203.6,3,   206.3,2,    4.39,2,   10.79,2,    0.01,2,    0.64,2,-999.000,9,-999.000,9,-999.0000,9,  -999.0,9, -999.00,9, -999.000,9,  -999.00,-999.00000,9,  -999.00, -999.00,9, -999.00,9, -999.00, -999.00,9,-999.000,9, -999.00,9, -999.00,9,     -999.0,9, 20210515,      209,  39.7914, -69.8517,    13.5634,2,     0.0496,1,     4.6424,1,     -999.0,9,     -999.0,9,     -999.0,9
325020210420,        A22,      87,          1,         24,         24,2,20210515,       0116,    39.7914,   -69.8517,       1446,   136.7,  13.5595,  35.6964,2,  35.6855,2,    202.8,3,   208.2,2,    4.29,2,   10.78,2,    0.00,2,    0.64,2,-999.000,9,-999.000,9,-999.0000,9,  2151.3,2, 2345.49,2, -999.000,9,  -999.00,   7.84749,2,    24.97, -999.00,9, -999.00,9, -999.00, -999.00,9,-999.000,9, -999.00,9, -999.00,9,     -999.0,9, 20210515,      208,  39.7914, -69.8517,    13.5626,2,     0.0490,1,     4.6458,1,     -999.0,9,     -999.0,9,     -999.0,9
325020210420,        A22,      87,          1,         23,         23,2,20210515,       0116,    39.7914,   -69.8517,       1446,   161.4,  12.8693,  35.6231,2,  35.6218,2,    166.2,2,   166.0,2,    7.31,2,   16.18,2,    0.00,2,    0.97,2,-999.000,9,-999.000,9,-999.0000,9,  2176.2,2, 2340.47,2, -999.000,9,  -999.00,   7.77712,2,    24.97, -999.00,9, -999.00,9, -999.00, -999.00,9,-999.000,9, -999.00,9, -999.00,9,     -999.0,9, 20210515,      206,  39.7914, -69.8517,    12.8695,2,     0.0468,1,     4.6507,1,     -999.0,9,     -999.0,9,     -999.0,9
325020210420,        A22,      87,          1,         22,         22,2,20210515,       0116,    39.7914,   -69.8517,       1446,   186.7,  12.0166,  35.5359,2,  35.5316,2,    136.0,2,   135.5,2,   10.14,2,   20.78,2,    0.00,2,    1.25,2,-999.000,9,-999.000,9,-999.0000,9,  -999.0,9, -999.00,9, -999.000,9,  -999.00,-999.00000,9,  -999.00, -999.00,9, -999.00,9, -999.00, -999.00,9,-999.000,9, -999.00,9, -999.00,9,     -999.0,9, 20210515,      205,  39.7914, -69.8517,    12.0146,2,     0.0423,1,     4.6520,1,     -999.0,9,     -999.0,9,     -999.0,9
325020210420,        A22,      87,          1,         21,         21,2,20210515,       0116,    39.7914,   -69.8517,       1446,   211.6,  11.3559,  35.4483,2,  35.4458,2,    132.5,2,   132.9,2,   11.31,2,   22.21,2,    0.00,2,    1.36,2,   1.648,2,   0.932,2,   0.6800,2,  2198.6,2, 2329.43,2, -999.000,9,  -999.00,   7.69711,2,    24.97, -999.00,9, -999.00,9, -999.00, -999.00,9,-999.000,9, -999.00,9, -999.00,9,      20.38,2, 20210515,      202,  39.7914, -69.8517,    11.3542,2,     0.0407,1,     4.6512,1,     -999.0,9,     -999.0,9,     -999.0,9
325020210420,        A22,      87,          1,         20,         20,2,20210515,       0116,    39.7914,   -69.8517,       1446,   237.1,  10.6803,  35.3709,2,  35.3735,2,    131.6,2,   131.8,2,   12.29,2,   23.31,2,    0.00,2,    1.42,2,-999.000,9,-999.000,9,-999.0000,9,  -999.0,9, -999.00,9, -999.000,9,  -999.00,-999.00000,9,  -999.00, -999.00,9, -999.00,9, -999.00, -999.00,9,-999.000,9, -999.00,9, -999.00,9,     -999.0,9, 20210515,      201,  39.7914, -69.8517,    10.6790,2,     0.0415,1,     4.6538,1,     -999.0,9,     -999.0,9,     -999.0,9
325020210420,        A22,      87,          1,         19,         19,2,20210515,       0116,    39.7914,   -69.8517,       1446,   237.1,  10.6985,  35.3735,2,  35.3715,2,    131.4,2,   131.7,2,   12.29,2,   23.35,2,    0.00,2,    1.43,2,-999.000,9,-999.000,9,-999.0000,9,  -999.0,9, -999.00,9, -999.000,9,  -999.00,-999.00000,9,  -999.00, -999.00,9, -999.00,9, -999.00, -999.00,9,-999.000,9, -999.00,9, -999.00,9,     -999.0,9, 20210515,      200,  39.7914, -69.8517,    10.6987,2,     0.0434,1,     4.6538,1,     -999.0,9,     -999.0,9,     -999.0,9
325020210420,        A22,      87,          1,         18,         18,2,20210515,       0116,    39.7914,   -69.8517,       1446,   237.1,  10.6988,  35.3733,2,  35.3705,2,    131.4,2,   131.7,2,   12.39,2,   23.32,2,    0.00,2,    1.42,2,-999.000,9,-999.000,9,-999.0000,9,  2203.1,2, 2326.81,2, -999.000,9,  -999.00,   7.67754,2,    24.98, -999.00,9, -999.00,9, -999.00, -999.00,9,-999.000,9, -999.00,9, -999.00,9,     -999.0,9, 20210515,      200,  39.7914, -69.8517,    10.7039,2,     0.0428,1,     4.6541,1,     -999.0,9,     -999.0,9,     -999.0,9
325020210420,        A22,      87,          1,         17,         17,2,20210515,       0116,    39.7914,   -69.8517,       1446,   267.0,   9.9143,  35.2805,2,  35.2804,2,    133.9,2,   134.1,2,   13.56,2,   24.25,2,    0.00,2,    1.50,2,-999.000,9,-999.000,9,-999.0000,9,  2204.6,2, 2323.49,2, -999.000,9,  -999.00,     7.665,2,    24.95, -999.00,9, -999.00,9, -999.00, -999.00,9,-999.000,9, -999.00,9, -999.00,9,     -999.0,9, 20210515,      158,  39.7914, -69.8517,     9.9154,2,     0.0420,1,     4.6540,1,     -999.0,9,     -999.0,9,     -999.0,9
325020210420,        A22,      87,          1,         16,         16,2,20210515,       0116,    39.7914,   -69.8517,       1446,   317.4,   8.6399,  35.1819,2,  35.1807,2,    149.1,2,   148.7,2,   14.44,2,   24.22,2,    0.00,2,    1.52,2,   1.456,2,   0.794,2,   0.5600,2,  -999.0,9, -999.00,9, -999.000,9,  -999.00,-999.00000,9,  -999.00, -999.00,9, -999.00,9, -999.00, -999.00,9,-999.000,9, -999.00,9, -999.00,9,      19.97,2, 20210515,      154,  39.7914, -69.8517,     8.6412,2,     0.0424,1,     4.6560,1,     -999.0,9,     -999.0,9,     -999.0,9
325020210420,        A22,      87,          1,         15,         15,2,20210515,       0116,    39.7914,   -69.8517,       1446,   368.1,   7.5631,  35.1346,2,  35.1333,2,    171.2,2,   170.8,2,   14.05,2,   22.91,2,    0.00,2,    1.45,2,-999.000,9,-999.000,9,-999.0000,9,  2199.6,2, 2316.56,2, -999.000,9,  -999.00,   7.66544,2,    24.97, -999.00,9, -999.00,9, -999.00, -999.00,9,-999.000,9, -999.00,9, -999.00,9,     -999.0,9, 20210515,      153,  39.7914, -69.8517,     7.5625,2,     0.0426,1,     4.6574,1,     -999.0,9,     -999.0,9,     -999.0,9
325020210420,        A22,      87,          1,         14,         14,2,20210515,       0116,    39.7914,   -69.8517,       1446,   418.5,   6.6931,  35.1070,2,  35.1065,2,    192.2,2,   192.1,2,   13.56,2,   21.53,2,    0.00,2,    1.39,2,-999.000,9,-999.000,9,-999.0000,9,  -999.0,9, -999.00,9, -999.000,9,  -999.00,-999.00000,9,  -999.00, -999.00,9, -999.00,9, -999.00, -999.00,9,-999.000,9, -999.00,9, -999.00,9,     -999.0,9, 20210515,      150,  39.7914, -69.8517,     6.6905,2,     0.0411,1,     4.6608,1,     -999.0,9,     -999.0,9,     -999.0,9
325020210420,        A22,      87,          1,         13,         13,2,20210515,       0116,    39.7914,   -69.8517,       1446,   469.3,   6.0948,  35.0767,2,  35.0754,2,    207.4,2,   208.4,2,   12.98,2,   20.54,2,    0.00,2,    1.33,2,   2.129,2,   1.137,2,   0.8000,2,  2182.5,2, 2315.99,2, -999.000,9,  -999.00,   7.68299,6,    24.96, -999.00,9, -999.00,9, -999.00, -999.00,9,-999.000,9, -999.00,9, -999.00,9,      16.07,2, 20210515,      148,  39.7914, -69.8517,     6.0950,2,     0.0407,1,     4.6601,1,     -999.0,9,     -999.0,9,     -999.0,9
325020210420,        A22,      87,          1,         12,         12,2,20210515,       0116,    39.7914,   -69.8517,       1446,   520.0,   5.5369,  35.0478,2,  35.0474,2,    223.1,2,   223.2,2,   12.59,2,   19.57,2,    0.00,2,    1.27,2,-999.000,9,-999.000,9,-999.0000,9,  -999.0,9, -999.00,9, -999.000,9,  -999.00,-999.00000,9,  -999.00, -999.00,9, -999.00,9, -999.00, -999.00,9,-999.000,9, -999.00,9, -999.00,9,     -999.0,9, 20210515,      146,  39.7914, -69.8517,     5.5366,2,     0.0431,1,     4.6583,1,     -999.0,9,     -999.0,9,     -999.0,9
325020210420,        A22,      87,          1,         11,         11,2,20210515,       0116,    39.7914,   -69.8517,       1446,   570.3,   5.2902,  35.0289,2,  35.0272,2,    230.6,2,   230.4,2,   12.39,2,   19.16,2,    0.00,2,    1.25,2,-999.000,9,-999.000,9,-999.0000,9,  -999.0,9, -999.00,9, -999.000,9,  -999.00,-999.00000,9,  -999.00, -999.00,9, -999.00,9, -999.00, -999.00,9,-999.000,9, -999.00,9, -999.00,9,     -999.0,9, 20210515,      144,  39.7914, -69.8517,     5.2904,2,     0.0413,1,     4.6464,1,     -999.0,9,     -999.0,9,     -999.0,9
325020210420,        A22,      87,          1,         10,         10,2,20210515,       0116,    39.7914,   -69.8517,       1446,   641.3,   5.1243,  35.0184,2,  35.0157,2,    235.2,2,   235.0,2,   12.20,2,   18.88,2,    0.00,2,    1.22,2,   2.686,2,   1.445,2,   1.1700,2,  -999.0,9, -999.00,9, -999.000,9,  -999.00,-999.00000,9,  -999.00, -999.00,9, -999.00,9, -999.00, -999.00,9,-999.000,9, -999.00,9, -999.00,9,      14.37,2, 20210515,      141,  39.7914, -69.8517,     5.1257,2,     0.0425,1,     4.6505,1,     -999.0,9,     -999.0,9,     -999.0,9
325020210420,        A22,      87,          1,          9,          9,2,20210515,       0116,    39.7914,   -69.8517,       1446,   742.2,   4.8105,  35.0008,2,  34.9978,2,    244.0,2,   244.0,2,   12.00,2,   18.45,2,    0.00,2,    1.20,2,-999.000,9,-999.000,9,-999.0000,9,  -999.0,9, -999.00,9, -999.000,9,  -999.00,-999.00000,9,  -999.00, -999.00,9, -999.00,9, -999.00, -999.00,9,-999.000,9, -999.00,9, -999.00,9,     -999.0,9, 20210515,      138,  39.7914, -69.8517,     4.8111,2,     0.0427,1,     4.6457,1,     -999.0,9,     -999.0,9,     -999.0,9
325020210420,        A22,      87,          1,          8,          8,2,20210515,       0116,    39.7914,   -69.8517,       1446,   843.3,   4.7373,  34.9977,2,  34.9965,2,    246.2,2,   246.5,2,   11.81,2,   18.32,2,    0.00,2,    1.18,2,-999.000,9,-999.000,9,-999.0000,9,  -999.0,9, -999.00,9, -999.000,9,  -999.00,-999.00000,9,  -999.00, -999.00,9, -999.00,9, -999.00, -999.00,9,-999.000,9, -999.00,9, -999.00,9,     -999.0,9, 20210515,      135,  39.7914, -69.8517,     4.7375,2,     0.0429,1,     4.6529,1,     -999.0,9,     -999.0,9,     -999.0,9
325020210420,        A22,      87,          1,          7,          7,2,20210515,       0116,    39.7914,   -69.8517,       1446,   944.5,   4.6450,  34.9927,2,  34.9906,2,    248.8,2,   249.0,2,   11.90,2,   18.16,2,    0.00,2,    1.18,2,   2.901,2,   1.553,2,   1.1800,2,  2177.8,2, 2309.68,2, -999.000,9,  -999.00,   7.69883,6,    24.96, -999.00,9, -999.00,9, -999.00, -999.00,9,-999.000,9, -999.00,9, -999.00,9,      14.41,2, 20210515,      132,  39.7914, -69.8517,     4.6450,2,     0.0424,1,     4.6538,1,     -999.0,9,     -999.0,9,     -999.0,9
325020210420,        A22,      87,          1,          6,          6,2,20210515,       0116,    39.7914,   -69.8517,       1446,  1045.7,   4.4436,  34.9831,2,  34.9803,2,    253.7,2,   254.2,2,   11.90,2,   17.90,2,    0.00,2,    1.17,2,-999.000,9,-999.000,9,-999.0000,9,  -999.0,9, -999.00,9, -999.000,9,  -999.00,-999.00000,9,  -999.00, -999.00,9, -999.00,9, -999.00, -999.00,9,-999.000,9, -999.00,9, -999.00,9,     -999.0,9, 20210515,      129,  39.7914, -69.8517,     4.4402,2,     0.0427,1,     4.6534,1,     -999.0,9,     -999.0,9,     -999.0,9
325020210420,        A22,      87,          1,          5,          5,2,20210515,       0116,    39.7914,   -69.8517,       1446,  1146.8,   4.2456,  34.9762,2,  34.9742,2,    259.3,2,   259.3,2,   11.71,2,   17.65,2,    0.00,2,    1.16,2,   2.951,2,   1.572,2,   1.1600,2,  -999.0,9, -999.00,9, -999.000,9,  -999.00,-999.00000,9,  -999.00, -999.00,9, -999.00,9, -999.00, -999.00,9,-999.000,9, -999.00,9, -999.00,9,      13.57,2, 20210515,      125,  39.7914, -69.8517,     4.2466,2,     0.0430,1,     4.6630,1,     -999.0,9,     -999.0,9,     -999.0,9
325020210420,        A22,      87,          1,          4,          4,2,20210515,       0116,    39.7914,   -69.8517,       1446,  1248.1,   4.1358,  34.9691,2,  34.9677,2,    261.0,2,   261.2,2,   11.90,2,   17.63,2,    0.00,2,    1.15,2,   2.902,2,   1.550,2,   1.1100,2,  -999.0,9, -999.00,9, -999.000,9,  -999.00,-999.00000,9,  -999.00, -999.00,9, -999.00,9, -999.00, -999.00,9,-999.000,9, -999.00,9, -999.00,9,      13.21,2, 20210515,      123,  39.7914, -69.8517,     4.1357,2,     0.0413,1,     4.6582,1,     -999.0,9,     -999.0,9,     -999.0,9
325020210420,        A22,      87,          1,          3,          3,2,20210515,       0116,    39.7914,   -69.8517,       1446,  1349.9,   4.1211,  34.9681,2,  34.9671,2,    261.2,2,   261.3,2,   12.00,2,   17.64,2,    0.00,2,    1.16,2,-999.000,9,-999.000,9,-999.0000,9,  -999.0,9, -999.00,9, -999.000,9,  -999.00,-999.00000,9,  -999.00, -999.00,9, -999.00,9, -999.00, -999.00,9,-999.000,9, -999.00,9, -999.00,9,     -999.0,9, 20210515,      120,  39.7914, -69.8517,     4.1212,2,     0.0418,1,     4.6559,1,     -999.0,9,     -999.0,9,     -999.0,9
325020210420,        A22,      87,          1,          2,          2,2,20210515,       0116,    39.7914,   -69.8517,       1446,  1350.0,   4.1201,  34.9680,2,  34.9660,2,    261.2,2,   261.4,2,   12.00,2,   17.65,2,    0.00,2,    1.15,2,   2.883,2,   1.529,2,   1.0800,2,  -999.0,9, -999.00,9, -999.000,9,  -999.00,-999.00000,9,  -999.00, -999.00,9, -999.00,9, -999.00, -999.00,9,-999.000,9, -999.00,9, -999.00,9,      13.48,2, 20210515,      119,  39.7914, -69.8517,     4.1200,2,     0.0425,1,     4.6561,1,     -999.0,9,     -999.0,9,     -999.0,9
325020210420,        A22,      87,          1,          1,          1,2,20210515,       0116,    39.7914,   -69.8517,       1446,  1452.7,   4.0877,  34.9666,2,  34.9656,2,    262.1,2,   261.9,2,   12.10,2,   17.63,2,    0.00,2,    1.14,2,   2.857,2,   1.517,2,   1.0400,2,  2171.3,2, 2304.47,2, -999.000,9,  -999.00,   7.70937,2,    24.97, -999.00,9, -999.00,9, -999.00, -999.00,9,-999.000,9, -999.00,9, -999.00,9,      13.34,2, 20210515,      116,  39.7914, -69.8517,     4.0878,2,     0.0412,1,     4.6561,1,     -999.0,9,     -999.0,9,     -999.0,9