BOTTLE,20230513CCHSIOCBG
EXPOCODE,SECT_ID,STNNBR,CASTNO,SAMPNO,BTLNBR,BTLNBR_FLAG_W,DATE,TIME,LATITUDE,LONGITUDE,DEPTH,CTDPRS,CTDTMP,CTDSAL,CTDSAL_FLAG_W,SALNTY,SALNTY_FLAG_W,CTDOXY,CTDOXY_FLAG_W,OXYGEN,OXYGEN_FLAG_W,SILCAT,SILCAT_FLAG_W,NITRAT,NITRAT_FLAG_W,NITRIT,NITRIT_FLAG_W,PHSPHT,PHSPHT_FLAG_W,CFC-11,CFC-11_FLAG_W,CFC-12,CFC-12_FLAG_W,SF6,SF6_FLAG_W,TCARBN,TCARBN_FLAG_W,ALKALI,ALKALI_FLAG_W,FCO2,FCO2_FLAG_W,FCO2TMP,PH_TOT,PH_TOT_FLAG_W,PH_TMP,DELC13,DELC13_FLAG_W,DELC14,DELC14_FLAG_W,C14ERR,DELO18,DELO18_FLAG_W,POC,POC_FLAG_W,DOC,DOC_FLAG_W,TDN,TDN_FLAG_W,N2O,N2O_FLAG_W,BTL_DATE,BTL_TIME,BTL_LAT,BTL_LON,REFTMP,REFTMP_FLAG_W,CTDFLUOR,CTDFLUOR_FLAG_W,CTDXMISS,CTDXMISS_FLAG_W,D15N_NO2+NO3,D15N_NO2+NO3_FLAG_W,D18O_NO2+NO3,D18O_NO2+NO3_FLAG_W,HPLC,HPLC_FLAG_W
,,,,,,,,,,,METERS,DBAR,ITS-90,PSS-78,,PSS-78,,UMOL/KG,,UMOL/KG,,UMOL/KG,,UMOL/KG,,UMOL/KG,,UMOL/KG,,PMOL/KG,,PMOL/KG,,FMOL/KG,,UMOL/KG,,UMOL/KG,,UATM,,DEG C,,,DEG C,/MILLE,,/MILLE,,/MILLE,/MILLE,,UG/KG,,UMOL/KG,,UMOL/KG,,NMOL/KG,,,,,,ITS-90,,VOLTS,,VOLTS,,/MILLE,,/MILLE,,,
325020210420,        A22,      26,          1,         22,         22,2,20210427,       1930,    17.7336,   -66.0007,       1003,     4.5,  27.4428,  35.8960,2,  35.8999,2,    202.8,2,   201.9,2,    2.05,2,    0.00,2,    0.00,2,    0.00,2,   1.444,2,   0.944,2,   1.6400,2,  2022.5,6, 2352.87,2,  291.860,2,    20.00,   8.09727,6,    24.99, -999.00,9, -999.00,9, -999.00, -999.00,1,-999.000,9,   73.80,2,    4.63,2,       6.01,2, 20210427,     2018,  17.7336, -66.0007,    27.4463,2,     0.0422,1,     4.6152,1,     -999.0,9,     -999.0,9,     -999.0,9
325020210420,        A22,      26,          1,         21,         21,2,20210427,       1930,    17.7336,   -66.0007,       1003,    25.4,  27.1226,  35.8982,2,  35.9087,2,    203.9,2,   203.6,2,    1.36,2,    0.00,2,    0.00,2,    0.00,2,-999.000,9,-999.000,9,-999.0000,9,  2025.7,2, 2352.36,2,  292.060,2,    20.00,    8.0978,6,    25.01, -999.00,9, -999.00,9, -999.00, -999.00,9,-999.000,9,   75.80,2,    4.31,2,     -999.0,9, 20210427,     2016,  17.7336, -66.0007,    27.1526,2,     0.0479,1,     4.6078,1,     -999.0,9,     -999.0,9,     -999.0,9
325020210420,        A22,      26,          1,         20,         20,2,20210427,       1930,    17.7336,   -66.0007,       1003,    50.1,  26.5940,  36.1531,2,  36.1899,3,    206.2,2,   205.2,2,    1.36,2,    0.00,2,    0.00,2,    0.00,2,   1.468,2,   0.960,2,   1.6000,2,  2033.4,2, 2369.42,6,  289.940,2,    20.00,   8.10403,2,    25.01, -999.00,9, -999.00,9, -999.00, -999.00,9,-999.000,9,   75.00,2,    4.78,2,       6.06,2, 20210427,     2014,  17.7336, -66.0007,    26.5949,2,     0.0539,1,     4.6054,1,     -999.0,9,     -999.0,9,     -999.0,9
325020210420,        A22,      26,          1,         19,         19,2,20210427,       1930,    17.7336,   -66.0007,       1003,    75.0,  26.2357,  36.5226,2,  36.5414,2,    196.2,2,   196.1,2,    1.07,2,    0.00,2,    0.00,2,    0.00,2,-999.000,9,-999.000,9,-999.0000,9,  2062.2,2, 2390.43,2, -999.000,9,  -999.00,   8.08112,2,    25.00, -999.00,9, -999.00,9, -999.00, -999.00,9,-999.000,9,   71.10,2,    3.82,3,     -999.0,9, 20210427,     2012,  17.7336, -66.0007,    26.2353,2,     0.0806,1,     4.6080,1,     -999.0,9,     -999.0,9,     -999.0,9
325020210420,        A22,      26,          1,         18,         18,2,20210427,       1930,    17.7336,   -66.0007,       1003,   101.0,  25.6589,  37.0312,2,  37.0313,2,    197.0,2,   197.6,2,    0.68,2,    0.00,2,    0.00,2,    0.00,2,   1.538,2,   1.012,2,   1.6500,2,  2089.9,2, 2420.53,2,  320.270,2,    20.00,    8.0726,2,    25.00, -999.00,9, -999.00,9, -999.00, -999.00,1,-999.000,9,   66.80,2,    4.48,2,       6.41,2, 20210427,     2010,  17.7336, -66.0007,    25.6656,2,     0.0834,1,     4.6287,1,     -999.0,9,     -999.0,9,     -999.0,9
325020210420,        A22,      26,          1,         17,         17,2,20210427,       1930,    17.7336,   -66.0007,       1003,   125.7,  24.8888,  37.1826,2,  37.1837,2,    196.3,2,   196.8,2,    0.58,2,    0.00,2,    0.08,2,    0.00,2,-999.000,9,-999.000,9,-999.0000,9,  2107.1,2, 2430.03,2, -999.000,9,  -999.00,   8.05603,2,    25.01, -999.00,9, -999.00,9, -999.00, -999.00,9,-999.000,9,   66.50,2,    4.10,2,     -999.0,9, 20210427,     2008,  17.7336, -66.0007,    24.8967,2,     0.0762,1,     4.6446,1,     -999.0,9,     -999.0,9,     -999.0,9
325020210420,        A22,      26,          1,         16,         16,2,20210427,       1930,    17.7336,   -66.0007,       1003,   151.3,  22.5478,  37.1176,2,  37.1070,2,    181.5,2,   182.7,2,    0.58,2,    0.82,2,    0.03,2,    0.00,2,   1.790,2,   1.135,2,   1.7200,2,  2133.4,2,  2421.2,2,  385.200,2,    20.00,   8.00303,2,    25.01, -999.00,9, -999.00,9, -999.00, -999.00,9,-999.000,9,   56.40,2,    4.66,2,       7.43,2, 20210427,     2006,  17.7336, -66.0007,    22.5476,2,     0.0577,1,     4.6611,1,     -999.0,9,     -999.0,9,     -999.0,9
325020210420,        A22,      26,          1,         15,         15,2,20210427,       1930,    17.7336,   -66.0007,       1003,   176.3,  20.8315,  36.9207,2,  36.8988,3,    169.4,2,   170.2,2,    0.97,2,    3.33,2,    0.00,2,    0.11,2,-999.000,9,-999.000,9,-999.0000,9,  2152.6,2, 2408.46,2,  437.070,2,    20.00,   7.95362,6,    24.99, -999.00,9, -999.00,9, -999.00, -999.00,9,-999.000,9,   51.50,2,    6.49,2,     -999.0,9, 20210427,     2004,  17.7336, -66.0007,    20.7937,2,     0.0447,1,     4.6677,1,     -999.0,9,     -999.0,9,     -999.0,9
325020210420,        A22,      26,          1,         14,         14,2,20210427,       1930,    17.7336,   -66.0007,       1003,   200.8,  19.9551,  36.7956,2,  36.7976,2,    171.2,2,   170.9,2,    1.07,2,    4.11,2,    0.00,2,    0.15,2,   1.926,2,   1.235,2,   1.7400,2,  2149.1,2,  2400.5,2,  450.230,2,    20.00,   7.94337,2,    25.00, -999.00,9, -999.00,9, -999.00, -999.00,9,-999.000,9,   51.50,2,    7.91,2,       9.57,2, 20210427,     2002,  17.7336, -66.0007,    19.9642,2,     0.0416,1,     4.6701,1,     -999.0,9,     -999.0,9,     -999.0,9
325020210420,        A22,      26,          1,         13,         13,2,20210427,       1930,    17.7336,   -66.0007,       1003,   226.3,  18.9852,  36.6504,2,  36.6449,2,    178.5,2,   177.8,2,    1.27,2,    4.94,2,    0.00,2,    0.19,2,-999.000,9,-999.000,9,-999.0000,9,  2145.8,2,  2396.0,2, -999.000,9,  -999.00,   7.93989,2,    25.00, -999.00,9, -999.00,9, -999.00, -999.00,9,-999.000,9,   50.10,2,    7.47,2,     -999.0,9, 20210427,     2001,  17.7336, -66.0007,    18.9822,2,     0.0391,1,     4.6728,1,     -999.0,9,     -999.0,9,     -999.0,9
325020210420,        A22,      26,          1,         12,         12,2,20210427,       1930,    17.7336,   -66.0007,       1003,   256.5,  18.3429,  36.5514,2,  36.5470,2,    173.8,2,   173.2,2,    1.75,2,    6.53,2,    0.00,2,    0.28,2,   2.049,2,   1.298,2,   1.5900,2,  2147.4,2, 2386.41,2,  478.320,2,    20.00,    7.9181,2,    24.98, -999.00,9, -999.00,9, -999.00, -999.00,9,-999.000,9,   48.60,2,    9.37,2,      10.92,2, 20210427,     1959,  17.7336, -66.0007,    18.3407,2,     0.0391,1,     4.6724,1,     -999.0,9,     -999.0,9,     -999.0,9
325020210420,        A22,      26,          1,         11,         11,2,20210427,       1930,    17.7336,   -66.0007,       1003,   301.8,  17.1606,  36.3585,2,  36.3594,2,    162.8,2,   163.8,2,    2.63,2,    9.37,2,    0.00,2,    0.46,2,-999.000,9,-999.000,9,-999.0000,9,  2160.5,2,  2373.8,2, -999.000,9,  -999.00,   7.87877,2,    24.99, -999.00,9, -999.00,9, -999.00, -999.00,9,-999.000,9,   48.00,2, -999.00,1,     -999.0,9, 20210427,     1957,  17.7336, -66.0007,    17.1592,2,     0.0397,1,     4.6753,1,     -999.0,9,     -999.0,9,     -999.0,9
325020210420,        A22,      26,          1,         10,         10,2,20210427,       1930,    17.7336,   -66.0007,       1003,   352.3,  15.8058,  36.1367,2,  36.1351,2,    152.9,2,   153.2,2,    3.90,2,   12.54,2,    0.00,2,    0.66,2,   2.190,2,   1.323,2,   1.1400,2,  2169.6,2, 2362.86,2,  594.900,2,    20.00,   7.83238,2,    25.00, -999.00,9, -999.00,9, -999.00, -999.00,9,-999.000,9,   46.00,2, -999.00,1,      15.63,2, 20210427,     1954,  17.7336, -66.0007,    15.7790,2,     0.0400,1,     4.6757,1,     -999.0,9,     -999.0,9,     -999.0,9
325020210420,        A22,      26,          1,          9,          9,2,20210427,       1930,    17.7336,   -66.0007,       1003,   402.8,  14.7001,  35.9494,2,  35.9453,2,    145.2,2,   144.7,2,    5.26,2,   15.30,2,    0.00,2,    0.84,2,-999.000,9,-999.000,9,-999.0000,9,  2179.5,2, 2353.46,2, -999.000,9,  -999.00,   7.79268,2,    24.99, -999.00,9, -999.00,9, -999.00, -999.00,9,-999.000,9,   46.40,2, -999.00,1,     -999.0,9, 20210427,     1952,  17.7336, -66.0007,    14.6997,2,     0.0401,1,     4.6768,1,     -999.0,9,     -999.0,9,     -999.0,9
325020210420,        A22,      26,          1,          8,          8,2,20210427,       1930,    17.7336,   -66.0007,       1003,   453.4,  13.4715,  35.7392,2,  35.7377,2,    137.3,2,   137.1,2,    6.92,2,   18.22,2,    0.00,2,    1.04,2,   2.024,2,   1.198,2,   0.9500,2,  2187.1,2, 2340.24,2,  723.910,2,    20.00,   7.75096,6,    24.99, -999.00,9, -999.00,9, -999.00, -999.00,9,-999.000,9,   45.20,2, -999.00,1,      20.13,2, 20210427,     1949,  17.7336, -66.0007,    13.4695,2,     0.0413,1,     4.6769,1,     -999.0,9,     -999.0,9,     -999.0,9
325020210420,        A22,      26,          1,          7,          7,2,20210427,       1930,    17.7336,   -66.0007,       1003,   503.8,  12.2540,  35.5381,2,  35.5466,2,    131.8,2,   131.2,2,    9.07,2,   20.93,2,    0.00,2,    1.23,2,-999.000,9,-999.000,9,-999.0000,9,  2193.7,2, 2332.06,2,  791.900,2,    20.00,   7.71193,2,    25.00, -999.00,9, -999.00,9, -999.00, -999.00,9,-999.000,9,   44.80,2, -999.00,1,     -999.0,9, 20210427,     1946,  17.7336, -66.0007,    12.3081,2,     0.0405,1,     4.6770,1,     -999.0,9,     -999.0,9,     -999.0,9
325020210420,        A22,      26,          1,          6,          6,2,20210427,       1930,    17.7336,   -66.0007,       1003,   553.6,  10.9835,  35.3385,2,  35.3327,2,    126.5,2,   126.6,2,   11.51,2,   23.94,2,    0.00,2,    1.44,2,-999.000,9,-999.000,9,-999.0000,9,  2203.8,2,  2323.0,2,  875.470,6,    20.00,   7.66912,2,    25.00, -999.00,9, -999.00,9, -999.00, -999.00,9,-999.000,9,   44.00,2, -999.00,1,     -999.0,9, 20210427,     1945,  17.7336, -66.0007,    10.9776,2,     0.0417,1,     4.6783,1,     -999.0,9,     -999.0,9,     -999.0,9
325020210420,        A22,      26,          1,          5,          5,2,20210427,       1930,    17.7336,   -66.0007,       1003,   614.2,   9.5646,  35.1140,2,  35.1120,2,    121.7,2,   121.9,2,   14.73,2,   27.18,2,    0.00,2,    1.67,2,   1.449,2,   0.794,2,   0.5200,2,  2210.5,2, 2311.67,2,  974.090,2,    20.00,   7.62177,2,    25.01, -999.00,9, -999.00,9, -999.00, -999.00,9,-999.000,9,   44.60,2, -999.00,1,      25.41,2, 20210427,     1942,  17.7336, -66.0007,     9.5677,2,     0.0411,1,     4.6788,1,     -999.0,9,     -999.0,9,     -999.0,9
325020210420,        A22,      26,          1,          4,          4,2,20210427,       1930,    17.7336,   -66.0007,       1003,   705.9,   7.8320,  34.9115,2,  34.9109,2,    125.3,2,   125.5,2,   19.41,2,   30.12,2,    0.00,2,    1.89,2,-999.000,9,-999.000,9,-999.0000,9,  2217.0,2, 2323.73,3, 1055.980,2,    20.00,   7.58606,2,    24.99, -999.00,9, -999.00,9, -999.00, -999.00,9,-999.000,9,   41.90,2, -999.00,1,     -999.0,9, 20210427,     1939,  17.7336, -66.0007,     7.8335,2,     0.0426,1,     4.6791,1,     -999.0,9,     -999.0,9,     -999.0,9
325020210420,        A22,      26,          1,          3,          3,2,20210427,       1930,    17.7336,   -66.0007,       1003,   806.5,   6.7800,  34.8625,2,  34.8605,2,    136.6,2,   136.6,2,   22.05,2,   30.20,2,    0.00,2,    1.94,2,   0.567,2,   0.310,2,   0.0900,2,  2217.3,2, 2306.54,6, 1050.890,2,    20.00,   7.58844,2,    25.00, -999.00,9, -999.00,9, -999.00, -999.00,9,-999.000,9,   42.20,2, -999.00,1,      24.19,2, 20210427,     1936,  17.7336, -66.0007,     6.7795,2,     0.0431,1,     4.6789,1,     -999.0,9,     -999.0,9,     -999.0,9
325020210420,        A22,      26,          1,          2,          2,2,20210427,       1930,    17.7336,   -66.0007,       1003,   907.5,   6.1657,  34.8874,2,  34.8857,2,    152.8,2,   154.1,2,   22.93,2,   28.59,2,    0.00,2,    1.87,2,   0.410,2,   0.227,2,   0.1400,2,  2211.1,2, 2314.43,2,  991.930,2,    20.00,    7.6125,6,    25.00, -999.00,9, -999.00,9, -999.00, -999.00,9,-999.000,9,   40.40,2, -999.00,1,      22.22,2, 20210427,     1933,  17.7336, -66.0007,     6.1664,2,     0.0424,1,     4.6801,1,     -999.0,9,     -999.0,9,     -999.0,9
325020210420,        A22,      26,          1,          1,          1,2,20210427,       1930,    17.7336,   -66.0007,       1003,  1001.2,   5.5534,  34.9290,2,  34.9262,2,    174.1,2,   173.3,2,   23.41,2,   26.39,2,    0.00,2,    1.73,2,   0.313,2,   0.184,2,   0.0800,2,  2205.8,6, 2318.16,2,  918.840,2,    20.00,   7.64283,2,    24.97, -999.00,9, -999.00,9, -999.00, -999.00,9,-999.000,9,   41.00,2, -999.00,1,      20.23,2, 20210427,     1930,  17.7336, -66.0007,     5.5503,2,     0.0420,1,     4.6809,1,     -999.0,9,     -999.0,9,     -999.0,9