BOTTLE,20230513CCHSIOCBG
EXPOCODE,SECT_ID,STNNBR,CASTNO,SAMPNO,BTLNBR,BTLNBR_FLAG_W,DATE,TIME,LATITUDE,LONGITUDE,DEPTH,CTDPRS,CTDTMP,CTDSAL,CTDSAL_FLAG_W,SALNTY,SALNTY_FLAG_W,CTDOXY,CTDOXY_FLAG_W,OXYGEN,OXYGEN_FLAG_W,SILCAT,SILCAT_FLAG_W,NITRAT,NITRAT_FLAG_W,NITRIT,NITRIT_FLAG_W,PHSPHT,PHSPHT_FLAG_W,CFC-11,CFC-11_FLAG_W,CFC-12,CFC-12_FLAG_W,SF6,SF6_FLAG_W,TCARBN,TCARBN_FLAG_W,ALKALI,ALKALI_FLAG_W,FCO2,FCO2_FLAG_W,FCO2TMP,PH_TOT,PH_TOT_FLAG_W,PH_TMP,DELC13,DELC13_FLAG_W,DELC14,DELC14_FLAG_W,C14ERR,DELO18,DELO18_FLAG_W,POC,POC_FLAG_W,DOC,DOC_FLAG_W,TDN,TDN_FLAG_W,N2O,N2O_FLAG_W,BTL_DATE,BTL_TIME,BTL_LAT,BTL_LON,REFTMP,REFTMP_FLAG_W,CTDFLUOR,CTDFLUOR_FLAG_W,CTDXMISS,CTDXMISS_FLAG_W,D15N_NO2+NO3,D15N_NO2+NO3_FLAG_W,D18O_NO2+NO3,D18O_NO2+NO3_FLAG_W,HPLC,HPLC_FLAG_W
,,,,,,,,,,,METERS,DBAR,ITS-90,PSS-78,,PSS-78,,UMOL/KG,,UMOL/KG,,UMOL/KG,,UMOL/KG,,UMOL/KG,,UMOL/KG,,PMOL/KG,,PMOL/KG,,FMOL/KG,,UMOL/KG,,UMOL/KG,,UATM,,DEG C,,,DEG C,/MILLE,,/MILLE,,/MILLE,/MILLE,,UG/KG,,UMOL/KG,,UMOL/KG,,NMOL/KG,,,,,,ITS-90,,VOLTS,,VOLTS,,/MILLE,,/MILLE,,,
325020210420,        A22,      44,          1,         36,         36,2,20210502,       0522,    21.8273,   -65.9188,       5544,     5.2,  26.5830,  36.4053,2,  36.4073,2,    203.9,2,   203.2,2,    1.07,2,    0.00,2,    0.00,2,    0.00,2,-999.000,9,-999.000,9,-999.0000,9,  2045.2,6,  2383.7,2,  294.940,2,    20.00,   8.09624,2,    24.99, -999.00,9, -999.00,9, -999.00, -999.00,1,-999.000,9,   76.90,2,    4.42,2,     -999.0,9, 20210502,      753,  21.8273, -65.9188,    26.5827,2,     0.0419,1,     4.6335,1,     -999.0,9,     -999.0,9,     -999.0,9
325020210420,        A22,      44,          1,         35,         35,2,20210502,       0522,    21.8273,   -65.9188,       5544,    25.0,  26.5346,  36.4039,2,  36.4035,2,    203.8,2,   203.7,2,    1.27,2,    0.00,2,    0.00,2,    0.00,2,   1.520,2,   0.972,2,   1.7000,2,  2044.0,2, 2383.32,2,  294.400,2,    20.00,   8.09632,2,    25.01, -999.00,9, -999.00,9, -999.00, -999.00,9,-999.000,9,   78.00,2,    4.14,2,       5.98,2, 20210502,      751,  21.8273, -65.9188,    26.4976,2,     0.0416,1,     4.6321,1,     -999.0,9,     -999.0,9,     -999.0,9
325020210420,        A22,      44,          1,         34,         34,2,20210502,       0522,    21.8273,   -65.9188,       5544,    50.6,  25.8444,  36.4560,2,  36.4764,3,    207.9,2,   207.5,2,    0.97,2,    0.00,2,    0.00,2,    0.00,2,-999.000,9,-999.000,9,-999.0000,9,  2045.1,2, 2389.07,2,  292.950,2,    20.00,   8.09963,6,    25.01, -999.00,9, -999.00,9, -999.00, -999.00,9,-999.000,9,   76.50,2,    4.53,2,     -999.0,9, 20210502,      748,  21.8273, -65.9188,    25.8442,2,     0.0425,1,     4.6294,1,     -999.0,9,     -999.0,9,     -999.0,9
325020210420,        A22,      44,          1,         33,         33,2,20210502,       0522,    21.8273,   -65.9188,       5544,    75.6,  25.5412,  36.6970,2,  36.6990,2,    209.0,2,   209.1,2,    0.68,2,    0.00,2,    0.00,2,    0.00,2,   1.582,2,   1.004,2,   1.6800,2,  2057.2,2, 2400.02,6,  295.690,2,    20.00,   8.09923,2,    25.01, -999.00,9, -999.00,9, -999.00, -999.00,9,-999.000,9,   76.10,2,    4.22,2,       6.21,2, 20210502,      746,  21.8273, -65.9188,    25.5380,2,     0.0455,1,     4.6313,1,     -999.0,9,     -999.0,9,     -999.0,9
325020210420,        A22,      44,          1,         32,         32,2,20210502,       0522,    21.8273,   -65.9188,       5544,   101.3,  25.1582,  36.7743,2,  36.7778,2,    209.5,2,   209.6,2,    0.68,2,    0.00,2,    0.00,2,    0.00,2,-999.000,9,-999.000,9,-999.0000,9,  2061.1,2, 2403.91,2,  299.780,2,    20.00,   8.09587,2,    25.01, -999.00,9, -999.00,9, -999.00, -999.00,9,-999.000,9,   75.60,2,    4.21,2,     -999.0,9, 20210502,      744,  21.8273, -65.9188,    25.1664,2,     0.0477,1,     4.6361,1,     -999.0,9,     -999.0,9,     -999.0,9
325020210420,        A22,      44,          1,         31,         31,2,20210502,       0522,    21.8273,   -65.9188,       5544,   151.5,  23.0216,  37.0729,2,  37.0637,2,    201.2,2,   199.8,2,    0.29,2,    0.01,2,    0.00,2,    0.00,2,   1.783,2,   1.127,2,   1.7800,2,  2111.3,2,  2420.8,2,  359.510,2,    20.00,   8.03264,2,    24.99, -999.00,9, -999.00,9, -999.00, -999.00,9,-999.000,9,   60.30,2,    4.41,2,       6.85,2, 20210502,      740,  21.8273, -65.9188,    23.0186,2,     0.0757,1,     4.6466,1,     -999.0,9,     -999.0,9,     -999.0,9
325020210420,        A22,      44,          1,         30,         30,2,20210502,       0522,    21.8273,   -65.9188,       5544,   201.2,  20.6184,  36.8474,2,  36.8383,2,    179.3,2,   180.5,2,    0.58,2,    1.74,2,    0.00,2,    0.02,2,   1.947,2,   1.222,2,   1.7700,2,  2134.9,2, 2403.56,2,  414.640,2,    20.00,    7.9721,2,    25.00, -999.00,9, -999.00,9, -999.00, -999.00,1,-999.000,9,   52.20,2,    5.29,2,       7.86,2, 20210502,      737,  21.8273, -65.9188,    20.5917,2,     0.0411,1,     4.6671,1,     -999.0,9,     -999.0,9,     -999.0,9
325020210420,        A22,      44,          1,         29,         29,2,20210502,       0522,    21.8273,   -65.9188,       5544,   252.5,  19.2347,  36.6662,2,  36.6653,2,    188.2,2,   188.7,2,    0.78,2,    3.28,2,    0.00,2,    0.10,2,-999.000,9,-999.000,9,-999.0000,9,  2132.4,2, 2394.51,2,  421.470,2,    20.00,   7.96604,2,    25.00, -999.00,9, -999.00,9, -999.00, -999.00,9,-999.000,9,   47.90,2,    6.85,2,     -999.0,9, 20210502,      734,  21.8273, -65.9188,    19.2510,2,     0.0400,1,     4.6703,1,     -999.0,9,     -999.0,9,     -999.0,9
325020210420,        A22,      44,          1,         28,         28,2,20210502,       0522,    21.8273,   -65.9188,       5544,   302.0,  18.6429,  36.5927,2,  36.5862,2,    186.6,2,   187.3,2,    0.97,2,    4.71,2,    0.00,2,    0.19,2,   2.113,6,   1.310,6,   1.6900,6,  2136.4,2, 2387.22,2,  440.240,2,    20.00,   7.94832,2,    25.01, -999.00,9, -999.00,9, -999.00, -999.00,9,-999.000,9,   46.90,2, -999.00,1,       9.01,6, 20210502,      732,  21.8273, -65.9188,    18.6222,2,     0.0392,1,     4.6721,1,     -999.0,9,     -999.0,9,     -999.0,9
325020210420,        A22,      44,          1,         27,         27,2,20210502,       0522,    21.8273,   -65.9188,       5544,   352.6,  17.6467,  36.4423,2,  36.4414,2,    174.9,2,   175.7,2,    1.66,2,    7.38,2,    0.00,2,    0.35,2,-999.000,9,-999.000,9,-999.0000,9,  2148.6,2, 2378.84,2,  486.140,2,    20.00,   7.91011,2,    24.99, -999.00,9, -999.00,9, -999.00, -999.00,9,-999.000,9,   47.90,2, -999.00,1,     -999.0,9, 20210502,      729,  21.8273, -65.9188,    17.6453,2,     0.0405,1,     4.6733,1,     -999.0,9,     -999.0,9,     -999.0,9
325020210420,        A22,      44,          1,         26,         26,2,20210502,       0522,    21.8273,   -65.9188,       5544,   403.1,  16.6106,  36.2727,2,  36.2645,2,    163.5,3,   165.4,2,    2.92,2,   10.14,2,    0.00,2,    0.54,2,   2.234,2,   1.348,2,   1.2800,2,  2160.5,2, 2367.33,2, -999.000,9,  -999.00,   7.86957,2,    24.99, -999.00,9, -999.00,9, -999.00, -999.00,9,-999.000,9,   46.00,2, -999.00,1,      12.96,2, 20210502,      725,  21.8273, -65.9188,    16.6050,2,     0.0408,1,     4.6751,1,     -999.0,9,     -999.0,9,     -999.0,9
325020210420,        A22,      44,          1,         25,         25,2,20210502,       0522,    21.8273,   -65.9188,       5544,   503.8,  14.3438,  35.9116,2,  35.9109,2,    152.1,2,   151.4,2,    5.07,2,   15.05,2,    0.00,2,    0.86,2,   2.204,2,   1.294,2,   1.0300,2,  2175.9,2, 2350.03,2,  641.250,2,    20.00,   7.79812,2,    24.99, -999.00,9, -999.00,9, -999.00, -999.00,1,-999.000,9,   44.00,2, -999.00,1,      16.58,2, 20210502,      723,  21.8273, -65.9188,    14.3522,2,     0.0408,1,     4.6763,1,     -999.0,9,     -999.0,9,     -999.0,9
325020210420,        A22,      44,          1,         24,         24,2,20210502,       0522,    21.8273,   -65.9188,       5544,   605.4,  11.9264,  35.5266,2,  35.5180,2,    135.6,2,   135.4,2,    9.07,2,   21.09,2,    0.00,2,    1.26,2,-999.000,9,-999.000,9,-999.0000,9,  2193.5,2, 2328.69,2,  783.520,2,    20.00,   7.71273,2,    24.99, -999.00,9, -999.00,9, -999.00, -999.00,9,-999.000,9,   42.50,2, -999.00,1,     -999.0,9, 20210502,      720,  21.8273, -65.9188,    11.9280,2,     0.0411,1,     4.6776,1,     -999.0,9,     -999.0,9,     -999.0,9
325020210420,        A22,      44,          1,         23,         23,2,20210502,       0522,    21.8273,   -65.9188,       5544,   705.6,  10.3916,  35.3100,2,  35.3080,2,    131.2,2,   131.4,2,   12.29,2,   24.31,2,    0.00,2,    1.49,2,   1.479,2,   0.799,2,   0.5000,2,  2201.6,6, 2321.09,2,  873.430,2,    20.00,   7.67149,2,    24.99, -999.00,9, -999.00,9, -999.00, -999.00,9,-999.000,9,   41.50,2, -999.00,1,      21.89,2, 20210502,      716,  21.8273, -65.9188,    10.3903,2,     0.0414,1,     4.6789,1,     -999.0,9,     -999.0,9,     -999.0,9
325020210420,        A22,      44,          1,         22,         22,2,20210502,       0522,    21.8273,   -65.9188,       5544,   806.5,   8.7181,  35.0962,2,  35.0957,2,    129.6,2,   129.8,2,   16.38,2,   27.52,2,    0.00,2,    1.74,2,-999.000,9,-999.000,9,-999.0000,9,  2210.5,2, 2314.26,2,  964.730,2,    20.00,   7.62875,2,    25.00, -999.00,9, -999.00,9, -999.00, -999.00,9,-999.000,9,   40.20,2, -999.00,1,     -999.0,9, 20210502,      712,  21.8273, -65.9188,     8.7202,2,     0.0427,1,     4.6795,1,     -999.0,9,     -999.0,9,     -999.0,9
325020210420,        A22,      44,          1,         21,         21,2,20210502,       0522,    21.8273,   -65.9188,       5544,   907.3,   7.7707,  35.0388,2,  35.0382,2,    141.2,2,   142.0,2,   17.75,2,   27.35,2,    0.00,2,    1.75,2,   0.783,2,   0.418,2,   0.2700,2,  2209.2,2, 2314.52,2,  953.920,6,    20.00,   7.63386,6,    24.99, -999.00,9, -999.00,9, -999.00, -999.00,9,-999.000,9,   39.50,2, -999.00,1,      22.68,2, 20210502,      709,  21.8273, -65.9188,     7.7748,2,     0.0430,1,     4.6799,1,     -999.0,9,     -999.0,9,     -999.0,9
325020210420,        A22,      44,          1,         20,         20,2,20210502,       0522,    21.8273,   -65.9188,       5544,  1008.7,   6.7429,  35.0052,2,  35.0091,2,    162.9,2,   164.0,2,   18.14,2,   25.84,2,    0.00,2,    1.68,2,   0.830,2,   0.442,2,   0.3300,2,  2203.2,2, 2314.53,6,  919.280,2,    20.00,   7.64642,2,    25.00, -999.00,9, -999.00,9, -999.00, -999.00,9,-999.000,9,   40.10,2, -999.00,1,      20.11,2, 20210502,      706,  21.8273, -65.9188,     6.7421,2,     0.0425,1,     4.6795,1,     -999.0,9,     -999.0,9,     -999.0,9
325020210420,        A22,      44,          1,         19,         19,2,20210502,       0522,    21.8273,   -65.9188,       5544,  1109.3,   6.0594,  35.0358,2,  35.0350,2,    192.5,2,   192.4,2,   16.19,2,   22.90,2,    0.00,2,    1.50,2,   1.161,2,   0.617,2,   0.4100,2,  2192.4,2, 2312.93,2,  852.230,2,    20.00,   7.67672,2,    25.01, -999.00,9, -999.00,9, -999.00, -999.00,9,-999.000,9,   40.30,2, -999.00,1,      17.68,2, 20210502,      703,  21.8273, -65.9188,     6.0628,2,     0.0423,1,     4.6801,1,     -999.0,9,     -999.0,9,     -999.0,9
325020210420,        A22,      44,          1,         18,         18,2,20210502,       0522,    21.8273,   -65.9188,       5544,  1211.1,   5.4234,  35.0519,2,  35.0524,2,    222.4,2,   222.4,2,   13.46,2,   20.05,2,    0.00,2,    1.32,2,-999.000,9,-999.000,9,-999.0000,9,  2182.4,2, 2315.27,2,  802.430,2,    20.00,   7.70265,2,    24.99, -999.00,9, -999.00,9, -999.00, -999.00,9,-999.000,9,   41.10,2, -999.00,1,     -999.0,9, 20210502,      700,  21.8273, -65.9188,     5.4226,2,     0.0416,1,     4.6804,1,     -999.0,9,     -999.0,9,     -999.0,9
325020210420,        A22,      44,          1,         17,         17,2,20210502,       0522,    21.8273,   -65.9188,       5544,  1311.8,   4.9783,  35.0389,2,  35.0396,2,    236.4,2,   236.6,2,   12.87,2,   19.07,2,    0.00,2,    1.26,2,   1.990,2,   1.023,2,   0.6300,2,  2178.6,2,  2310.0,2,  783.480,2,    20.00,   7.71097,2,    25.01, -999.00,9, -999.00,9, -999.00, -999.00,9,-999.000,9,   42.40,2, -999.00,1,      14.50,2, 20210502,      657,  21.8273, -65.9188,     4.9810,2,     0.0423,1,     4.6808,1,     -999.0,9,     -999.0,9,     -999.0,9
325020210420,        A22,      44,          1,         16,         16,2,20210502,       0522,    21.8273,   -65.9188,       5544,  1413.0,   4.6514,  35.0242,2,  35.0246,2,    245.5,2,   245.9,2,   12.48,2,   18.52,2,    0.00,2,    1.22,2,   2.091,2,   1.083,2,   0.6600,2,  2174.4,2, 2307.87,2,  772.110,2,    20.00,   7.71635,2,    25.02, -999.00,9, -999.00,9, -999.00, -999.00,9,-999.000,9,   45.30,3, -999.00,1,      14.35,2, 20210502,      654,  21.8273, -65.9188,     4.6525,2,     0.0411,1,     4.6810,1,     -999.0,9,     -999.0,9,     -999.0,9
325020210420,        A22,      44,          1,         15,         15,2,20210502,       0522,    21.8273,   -65.9188,       5544,  1615.5,   4.1857,  35.0008,2,  35.0020,2,    254.0,2,   254.4,2,   13.26,2,   18.17,2,    0.00,2,    1.19,2,   1.923,2,   0.955,2,   0.5200,2,  2170.4,2,  2310.4,2,  758.710,2,    20.00,     7.724,6,    25.04, -999.00,9, -999.00,9, -999.00, -999.00,9,-999.000,9,   42.70,2, -999.00,1,      13.62,2, 20210502,      649,  21.8273, -65.9188,     4.1863,2,     0.0427,1,     4.6812,1,     -999.0,9,     -999.0,9,     -999.0,9
325020210420,        A22,      44,          1,         14,         14,2,20210502,       0522,    21.8273,   -65.9188,       5544,  1819.5,   3.8762,  34.9845,2,  34.9852,2,    257.7,2,   258.3,2,   14.43,2,   18.07,2,    0.00,2,    1.19,2,-999.000,9,-999.000,9,-999.0000,9,  2169.7,2, 2307.88,2, -999.000,9,  -999.00,   7.72906,2,    25.04, -999.00,9, -999.00,9, -999.00, -999.00,9,-999.000,9,   41.40,2, -999.00,1,     -999.0,9, 20210502,      644,  21.8273, -65.9188,     3.8757,2,     0.0429,1,     4.6814,1,     -999.0,9,     -999.0,9,     -999.0,9
325020210420,        A22,      44,          1,         13,         13,2,20210502,       0522,    21.8273,   -65.9188,       5544,  2021.6,   3.5797,  34.9701,2,  34.9705,2,    260.0,2,   260.2,2,   16.29,2,   18.09,2,    0.00,2,    1.20,2,   1.367,2,   0.674,2,   0.2900,2,  2168.2,2, 2309.53,2,  741.430,2,    20.00,   7.73253,2,    25.03, -999.00,9, -999.00,9, -999.00, -999.00,9,-999.000,9,   41.60,2, -999.00,1,      13.38,2, 20210502,      640,  21.8273, -65.9188,     3.5799,2,     0.0428,1,     4.6813,1,     -999.0,9,     -999.0,9,     -999.0,9
325020210420,        A22,      44,          1,         12,         12,2,20210502,       0522,    21.8273,   -65.9188,       5544,  2276.2,   3.3232,  34.9587,2,  34.9599,2,    260.6,2,   261.0,2,   18.34,2,   18.21,2,    0.00,2,    1.21,2,-999.000,9,-999.000,9,-999.0000,9,  2171.7,2, 2311.94,2, -999.000,9,  -999.00,   7.73663,2,    25.03, -999.00,9, -999.00,9, -999.00, -999.00,9,-999.000,9,   40.20,2, -999.00,1,     -999.0,9, 20210502,      634,  21.8273, -65.9188,     3.3231,2,     0.0423,1,     4.6813,1,     -999.0,9,     -999.0,9,     -999.0,9
325020210420,        A22,      44,          1,         11,         11,2,20210502,       0522,    21.8273,   -65.9188,       5544,  2530.5,   3.0846,  34.9473,2,  34.9479,2,    260.9,2,   261.8,2,   20.77,2,   18.36,2,    0.00,2,    1.22,2,   0.911,2,   0.458,2,   0.2200,2,  2175.0,6, 2314.29,2,  736.510,2,    20.00,   7.73748,2,    25.03, -999.00,9, -999.00,9, -999.00, -999.00,9,-999.000,9,   41.30,2, -999.00,1,      13.31,2, 20210502,      628,  21.8273, -65.9188,     3.0850,2,     0.0429,1,     4.6813,1,     -999.0,9,     -999.0,9,     -999.0,9
325020210420,        A22,      44,          1,         10,         10,2,20210502,       0522,    21.8273,   -65.9188,       5544,  2785.5,   2.8632,  34.9324,2,  34.9329,2,    263.7,2,   264.2,2,   21.65,2,   18.13,2,    0.00,2,    1.21,2,-999.000,9,-999.000,9,-999.0000,9,  2175.1,2, 2311.14,2, -999.000,9,  -999.00,   7.73668,2,    25.02, -999.00,9, -999.00,9, -999.00, -999.00,9,-999.000,9,   40.70,2, -999.00,1,     -999.0,9, 20210502,      623,  21.8273, -65.9188,     2.8631,2,     0.0424,1,     4.6804,1,     -999.0,9,     -999.0,9,     -999.0,9
325020210420,        A22,      44,          1,          9,          9,2,20210502,       0522,    21.8273,   -65.9188,       5544,  3040.7,   2.7008,  34.9218,2,  34.9231,2,    265.7,2,   266.0,2,   22.53,2,   17.98,2,    0.00,2,    1.21,2,   1.144,2,   0.582,2,   0.3100,2,  2174.7,2, 2311.93,2,  738.300,2,    20.00,   7.73444,2,    25.03, -999.00,9, -999.00,9, -999.00, -999.00,9,-999.000,9,   42.00,2, -999.00,1,      13.24,2, 20210502,      618,  21.8273, -65.9188,     2.7012,2,     0.0435,1,     4.6800,1,     -999.0,9,     -999.0,9,     -999.0,9
325020210420,        A22,      44,          1,          8,          8,2,20210502,       0522,    21.8273,   -65.9188,       5544,  3346.6,   2.5103,  34.9096,2,  34.9107,2,    267.7,2,   268.0,2,   23.90,2,   17.89,2,    0.00,2,    1.20,2,   1.285,2,   0.645,2,   0.3400,2,  2176.5,2, 2312.99,2, -999.000,9,  -999.00,   7.73299,2,    25.03, -999.00,9, -999.00,9, -999.00, -999.00,9,-999.000,9,   41.30,2, -999.00,1,      13.65,2, 20210502,      611,  21.8273, -65.9188,     2.5106,2,     0.0429,1,     4.6789,1,     -999.0,9,     -999.0,9,     -999.0,9
325020210420,        A22,      44,          1,          7,          7,2,20210502,       0522,    21.8273,   -65.9188,       5544,  3653.4,   2.3859,  34.9007,2,  34.9022,2,    268.0,2,   268.6,2,   26.04,2,   18.00,2,    0.00,2,    1.21,2,   1.303,2,   0.661,2,   0.3900,2,  2178.2,2, 2313.69,2,  745.880,2,    20.00,   7.73185,2,    25.05, -999.00,9, -999.00,9, -999.00, -999.00,9,-999.000,9,   42.60,2, -999.00,1,      13.29,2, 20210502,      604,  21.8273, -65.9188,     2.3860,2,     0.0429,1,     4.6789,1,     -999.0,9,     -999.0,9,     -999.0,9
325020210420,        A22,      44,          1,          6,          6,2,20210502,       0522,    21.8273,   -65.9188,       5544,  3961.2,   2.3206,  34.8941,2,  34.8957,2,    266.9,2,   267.1,2,   28.48,2,   18.33,2,    0.00,2,    1.24,2,-999.000,9,-999.000,9,-999.0000,9,  2182.7,2, 2319.94,2, -999.000,9,  -999.00,   7.73221,2,    25.04, -999.00,9, -999.00,9, -999.00, -999.00,9,-999.000,9,   41.70,2, -999.00,1,     -999.0,9, 20210502,      558,  21.8273, -65.9188,     2.3205,2,     0.0428,1,     4.6788,1,     -999.0,9,     -999.0,9,     -999.0,9
325020210420,        A22,      44,          1,          5,          5,2,20210502,       0522,    21.8273,   -65.9188,       5544,  4268.9,   2.2969,  34.8899,2,  34.8910,2,    265.5,2,   265.8,2,   30.53,2,   18.61,2,    0.00,2,    1.25,2,   1.115,2,   0.565,2,   0.2900,2,  2184.6,2, 2321.35,2,  749.480,2,    20.00,   7.72996,2,    25.05, -999.00,9, -999.00,9, -999.00, -999.00,9,-999.000,9,   43.40,2, -999.00,1,      13.61,2, 20210502,      551,  21.8273, -65.9188,     2.2969,2,     0.0429,1,     4.6776,1,     -999.0,9,     -999.0,9,     -999.0,9
325020210420,        A22,      44,          1,          4,          4,2,20210502,       0522,    21.8273,   -65.9188,       5544,  4576.8,   2.2846,  34.8855,2,  34.8863,2,    263.6,2,   263.8,2,   33.06,2,   19.02,2,    0.00,2,    1.28,2,   0.968,2,   0.490,2,   0.2800,2,  2184.9,2, 2325.89,2, -999.000,9,  -999.00,   7.72984,2,    25.06, -999.00,9, -999.00,9, -999.00, -999.00,9,-999.000,9,   42.00,2, -999.00,1,      13.82,2, 20210502,      545,  21.8273, -65.9188,     2.2847,2,     0.0429,1,     4.6769,1,     -999.0,9,     -999.0,9,     -999.0,9
325020210420,        A22,      44,          1,          3,          3,2,20210502,       0522,    21.8273,   -65.9188,       5544,  4988.7,   2.2608,  34.8778,2,  34.8790,2,    259.7,2,   260.1,2,   38.23,2,   19.83,2,    0.00,2,    1.34,2,   0.725,2,   0.371,2,   0.2100,2,  2190.9,2, 2328.94,2,  756.750,2,    20.00,   7.72829,6,    25.04, -999.00,9, -999.00,9, -999.00, -999.00,9,-999.000,9,   42.10,2, -999.00,1,      13.41,2, 20210502,      536,  21.8273, -65.9188,     2.2611,2,     0.0430,1,     4.6739,1,     -999.0,9,     -999.0,9,     -999.0,9