BOTTLE,20230513CCHSIOCBG
EXPOCODE,SECT_ID,STNNBR,CASTNO,SAMPNO,BTLNBR,BTLNBR_FLAG_W,DATE,TIME,LATITUDE,LONGITUDE,DEPTH,CTDPRS,CTDTMP,CTDSAL,CTDSAL_FLAG_W,SALNTY,SALNTY_FLAG_W,CTDOXY,CTDOXY_FLAG_W,OXYGEN,OXYGEN_FLAG_W,SILCAT,SILCAT_FLAG_W,NITRAT,NITRAT_FLAG_W,NITRIT,NITRIT_FLAG_W,PHSPHT,PHSPHT_FLAG_W,CFC-11,CFC-11_FLAG_W,CFC-12,CFC-12_FLAG_W,SF6,SF6_FLAG_W,TCARBN,TCARBN_FLAG_W,ALKALI,ALKALI_FLAG_W,FCO2,FCO2_FLAG_W,FCO2TMP,PH_TOT,PH_TOT_FLAG_W,PH_TMP,DELC13,DELC13_FLAG_W,DELC14,DELC14_FLAG_W,C14ERR,DELO18,DELO18_FLAG_W,POC,POC_FLAG_W,DOC,DOC_FLAG_W,TDN,TDN_FLAG_W,N2O,N2O_FLAG_W,BTL_DATE,BTL_TIME,BTL_LAT,BTL_LON,REFTMP,REFTMP_FLAG_W,CTDFLUOR,CTDFLUOR_FLAG_W,CTDXMISS,CTDXMISS_FLAG_W,D15N_NO2+NO3,D15N_NO2+NO3_FLAG_W,D18O_NO2+NO3,D18O_NO2+NO3_FLAG_W,HPLC,HPLC_FLAG_W
,,,,,,,,,,,METERS,DBAR,ITS-90,PSS-78,,PSS-78,,UMOL/KG,,UMOL/KG,,UMOL/KG,,UMOL/KG,,UMOL/KG,,UMOL/KG,,PMOL/KG,,PMOL/KG,,FMOL/KG,,UMOL/KG,,UMOL/KG,,UATM,,DEG C,,,DEG C,/MILLE,,/MILLE,,/MILLE,/MILLE,,UG/KG,,UMOL/KG,,UMOL/KG,,NMOL/KG,,,,,,ITS-90,,VOLTS,,VOLTS,,/MILLE,,/MILLE,,,
325020210420,        A22,      69,          1,         36,         36,2,20210509,       1138,    34.2595,   -66.2925,       5212,     5.4,  20.5909,  36.8091,2,  36.8089,2,    223.8,2,   223.5,2,    0.68,2,    0.00,2,    0.00,2,    0.00,2,-999.000,9,-999.000,9,-999.0000,9,  2097.4,6, 2401.65,2, -999.000,9,  -999.00,   8.02845,2,    25.04, -999.00,9, -999.00,9, -999.00, -999.00,1,-999.000,9, -999.00,9, -999.00,9,     -999.0,9, 20210509,     1406,  34.2595, -66.2925,    20.5893,2,     0.0418,1,     4.6002,1,     -999.0,9,     -999.0,9,     -999.0,9
325020210420,        A22,      69,          1,         35,         35,2,20210509,       1138,    34.2595,   -66.2925,       5212,    35.5,  20.5753,  36.8083,2,  36.8080,2,    224.0,2,   223.5,2,    0.68,2,    0.00,2,    0.00,2,    0.00,2,   1.902,2,   1.191,2,   1.9400,2,  -999.0,9, -999.00,9, -999.000,9,  -999.00,-999.00000,9,  -999.00, -999.00,9, -999.00,9, -999.00, -999.00,9,-999.000,9, -999.00,9, -999.00,9,       7.01,2, 20210509,     1404,  34.2594, -66.2925,    20.5741,2,     0.0478,1,     4.5998,1,     -999.0,9,     -999.0,9,     -999.0,9
325020210420,        A22,      69,          1,         34,         34,2,20210509,       1138,    34.2595,   -66.2925,       5212,    60.3,  20.5535,  36.8070,2,  36.8066,2,    223.8,2,   223.5,2,    0.58,2,    0.00,2,    0.00,2,    0.00,2,-999.000,9,-999.000,9,-999.0000,9,  -999.0,9, -999.00,9, -999.000,9,  -999.00,-999.00000,9,  -999.00, -999.00,9, -999.00,9, -999.00, -999.00,9,-999.000,9, -999.00,9, -999.00,9,     -999.0,9, 20210509,     1402,  34.2594, -66.2925,    20.5529,2,     0.0490,1,     4.6018,1,     -999.0,9,     -999.0,9,     -999.0,9
325020210420,        A22,      69,          1,         33,         33,2,20210509,       1138,    34.2595,   -66.2925,       5212,    85.2,  20.0707,  36.7858,2,  36.7865,2,    220.7,2,   220.7,2,    0.68,2,    0.00,2,    0.03,2,    0.00,2,-999.000,9,-999.000,9,-999.0000,9,  2100.7,2,  2399.9,2, -999.000,9,  -999.00,   8.02258,6,    25.05, -999.00,9, -999.00,9, -999.00, -999.00,9,-999.000,9, -999.00,9, -999.00,9,     -999.0,9, 20210509,     1401,  34.2594, -66.2925,    20.0611,2,     0.0896,1,     4.5929,1,     -999.0,9,     -999.0,9,     -999.0,9
325020210420,        A22,      69,          1,         32,         32,2,20210509,       1138,    34.2595,   -66.2925,       5212,   117.1,  19.7318,  36.7372,2,  36.7389,2,    212.6,2,   212.6,2,    0.78,2,    0.87,2,    0.12,2,    0.00,2,   1.919,2,   1.210,2,   1.9500,2,  -999.0,9, -999.00,9, -999.000,9,  -999.00,-999.00000,9,  -999.00, -999.00,9, -999.00,9, -999.00, -999.00,1,-999.000,9, -999.00,9, -999.00,9,       7.17,2, 20210509,     1359,  34.2595, -66.2925,    19.7347,2,     0.0671,1,     4.6395,1,     -999.0,9,     -999.0,9,     -999.0,9
325020210420,        A22,      69,          1,         31,         31,2,20210509,       1138,    34.2595,   -66.2925,       5212,   166.7,  19.2872,  36.6727,2,  36.6721,2,    208.1,2,   207.8,2,    0.88,2,    1.91,2,    0.00,2,    0.04,2,-999.000,9,-999.000,9,-999.0000,9,  2110.1,2, -999.00,9, -999.000,9,  -999.00,   7.99253,2,    25.05, -999.00,9, -999.00,9, -999.00, -999.00,9,-999.000,9, -999.00,9, -999.00,9,     -999.0,9, 20210509,     1356,  34.2594, -66.2925,    19.2859,2,     0.0394,1,     4.6555,1,     -999.0,9,     -999.0,9,     -999.0,9
325020210420,        A22,      69,          1,         30,         30,2,20210509,       1138,    34.2595,   -66.2925,       5212,   216.4,  19.0318,  36.6411,2,  36.6411,2,    203.5,2,   203.5,2,    0.97,2,    2.67,2,    0.00,2,    0.07,2,   2.011,2,   1.260,2,   1.8400,2,  -999.0,9, -999.00,9, -999.000,9,  -999.00,-999.00000,9,  -999.00, -999.00,9, -999.00,9, -999.00, -999.00,9,-999.000,9, -999.00,9, -999.00,9,       7.97,2, 20210509,     1354,  34.2594, -66.2925,    19.0309,2,     0.0391,1,     4.6581,1,     -999.0,9,     -999.0,9,     -999.0,9
325020210420,        A22,      69,          1,         29,         29,2,20210509,       1138,    34.2595,   -66.2925,       5212,   266.9,  18.8785,  36.6311,2,  36.6312,2,    207.2,2,   206.9,2,    1.07,2,    2.71,2,    0.00,2,    0.08,2,-999.000,9,-999.000,9,-999.0000,9,  2113.4,2, 2390.07,2, -999.000,9,  -999.00,   7.98263,2,    25.08, -999.00,9, -999.00,9, -999.00, -999.00,9,-999.000,9, -999.00,9, -999.00,9,     -999.0,9, 20210509,     1352,  34.2594, -66.2925,    18.8777,2,     0.0389,1,     4.6592,1,     -999.0,9,     -999.0,9,     -999.0,9
325020210420,        A22,      69,          1,         28,         28,2,20210509,       1138,    34.2595,   -66.2925,       5212,   317.3,  18.6001,  36.5857,2,  36.5858,2,    199.9,2,   199.6,2,    1.17,2,    3.73,2,    0.00,2,    0.13,2,-999.000,9,-999.000,9,-999.0000,9,  -999.0,9, -999.00,9, -999.000,9,  -999.00,-999.00000,9,  -999.00, -999.00,9, -999.00,9, -999.00, -999.00,9,-999.000,9, -999.00,9, -999.00,9,     -999.0,9, 20210509,     1349,  34.2594, -66.2924,    18.5992,2,     0.0388,1,     4.6607,1,     -999.0,9,     -999.0,9,     -999.0,9
325020210420,        A22,      69,          1,         27,         27,2,20210509,       1138,    34.2595,   -66.2925,       5212,   367.9,  18.2686,  36.5366,2,  36.5367,2,    196.0,2,   196.7,2,    1.46,2,    4.60,2,    0.00,2,    0.18,2,-999.000,9,-999.000,9,-999.0000,9,  2125.3,2, -999.00,9, -999.000,9,  -999.00,   7.95363,2,    25.05, -999.00,9, -999.00,9, -999.00, -999.00,9,-999.000,9, -999.00,9, -999.00,9,     -999.0,9, 20210509,     1346,  34.2594, -66.2925,    18.2671,2,     0.0404,1,     4.6630,1,     -999.0,9,     -999.0,9,     -999.0,9
325020210420,        A22,      69,          1,         26,         26,2,20210509,       1138,    34.2595,   -66.2925,       5212,   437.9,  17.6585,  36.4318,2,  36.4313,2,    187.6,2,   187.9,2,    1.95,2,    6.29,2,    0.00,2,    0.28,2,-999.000,9,-999.000,9,-999.0000,9,  -999.0,9, -999.00,9, -999.000,9,  -999.00,-999.00000,9,  -999.00, -999.00,9, -999.00,9, -999.00, -999.00,9,-999.000,9, -999.00,9, -999.00,9,     -999.0,9, 20210509,     1344,  34.2595, -66.2925,    17.6548,2,     0.0387,1,     4.6637,1,     -999.0,9,     -999.0,9,     -999.0,9
325020210420,        A22,      69,          1,         25,         25,2,20210509,       1138,    34.2595,   -66.2925,       5212,   539.8,  16.3078,  36.2021,2,  36.2024,2,    181.9,2,   181.9,2,    2.92,2,    9.03,2,    0.00,2,    0.46,2,   2.223,2,   1.361,2,   1.4600,2,  2142.8,2, 2365.49,2, -999.000,9,  -999.00,   7.88799,2,    25.03, -999.00,9, -999.00,9, -999.00, -999.00,9,-999.000,9, -999.00,9, -999.00,9,      11.22,2, 20210509,     1341,  34.2594, -66.2925,    16.3072,2,     0.0403,1,     4.6641,1,     -999.0,9,     -999.0,9,     -999.0,9
325020210420,        A22,      69,          1,         24,         24,2,20210509,       1138,    34.2595,   -66.2925,       5212,   640.1,  14.3796,  35.8850,2,  35.8866,2,    169.1,2,   169.7,2,    5.07,2,   13.27,2,    0.00,2,    0.74,2,-999.000,9,-999.000,9,-999.0000,9,  -999.0,9, -999.00,9, -999.000,9,  -999.00,-999.00000,9,  -999.00, -999.00,9, -999.00,9, -999.00, -999.00,9,-999.000,9, -999.00,9, -999.00,9,     -999.0,9, 20210509,     1337,  34.2594, -66.2925,    14.3529,2,     0.0408,1,     4.6666,1,     -999.0,9,     -999.0,9,     -999.0,9
325020210420,        A22,      69,          1,         23,         23,2,20210509,       1138,    34.2595,   -66.2925,       5212,   742.4,  12.6255,  35.6262,2,  35.6315,2,    160.0,2,   160.3,2,    7.51,2,   17.05,2,    0.00,2,    0.99,2,-999.000,9,-999.000,9,-999.0000,9,  2172.0,2, -999.00,9, -999.000,9,  -999.00,   7.76943,2,    25.03, -999.00,9, -999.00,9, -999.00, -999.00,9,-999.000,9, -999.00,9, -999.00,9,     -999.0,9, 20210509,     1333,  34.2594, -66.2925,    12.6420,2,     0.0409,1,     4.6689,1,     -999.0,9,     -999.0,9,     -999.0,9
325020210420,        A22,      69,          1,         22,         22,2,20210509,       1138,    34.2595,   -66.2925,       5212,   842.0,  10.5165,  35.3663,2,  35.3670,2,    151.1,2,   151.2,2,   11.02,2,   21.27,2,    0.00,2,    1.29,2,-999.000,9,-999.000,9,-999.0000,9,  -999.0,9, -999.00,9, -999.000,9,  -999.00,-999.00000,9,  -999.00, -999.00,9, -999.00,9, -999.00, -999.00,9,-999.000,9, -999.00,9, -999.00,9,     -999.0,9, 20210509,     1330,  34.2595, -66.2925,    10.5104,2,     0.0417,1,     4.6692,1,     -999.0,9,     -999.0,9,     -999.0,9
325020210420,        A22,      69,          1,         21,         21,2,20210509,       1138,    34.2595,   -66.2925,       5212,   942.4,   8.6494,  35.2115,2,  35.2113,2,    161.8,2,   161.8,2,   13.27,2,   22.62,2,    0.00,2,    1.40,2,   1.586,2,   0.868,2,   0.6000,2,  2190.8,2,  2317.8,2, -999.000,9,  -999.00,   7.68043,2,    25.04, -999.00,9, -999.00,9, -999.00, -999.00,9,-999.000,9, -999.00,9, -999.00,9,      18.60,2, 20210509,     1325,  34.2594, -66.2925,     8.6567,2,     0.0421,1,     4.6705,1,     -999.0,9,     -999.0,9,     -999.0,9
325020210420,        A22,      69,          1,         20,         20,2,20210509,       1138,    34.2595,   -66.2925,       5212,  1045.2,   7.0417,  35.1393,2,  35.1386,2,    188.8,2,   188.6,2,   13.56,2,   21.51,2,    0.00,2,    1.37,2,-999.000,9,-999.000,9,-999.0000,9,  -999.0,9, -999.00,9, -999.000,9,  -999.00,-999.00000,9,  -999.00, -999.00,9, -999.00,9, -999.00, -999.00,9,-999.000,9, -999.00,9, -999.00,9,     -999.0,9, 20210509,     1322,  34.2595, -66.2925,     7.0441,2,     0.0428,1,     4.6719,1,     -999.0,9,     -999.0,9,     -999.0,9
325020210420,        A22,      69,          1,         19,         19,2,20210509,       1138,    34.2595,   -66.2925,       5212,  1145.9,   6.0520,  35.0915,2,  35.0905,2,    212.5,2,   212.1,2,   12.78,2,   20.08,2,    0.00,2,    1.29,2,   2.097,2,   1.134,2,   0.7900,2,  2180.2,2, -999.00,9, -999.000,9,  -999.00,   7.69059,2,    25.01, -999.00,9, -999.00,9, -999.00, -999.00,9,-999.000,9, -999.00,9, -999.00,9,      15.86,2, 20210509,     1319,  34.2595, -66.2925,     6.0498,2,     0.0420,1,     4.6702,1,     -999.0,9,     -999.0,9,     -999.0,9
325020210420,        A22,      69,          1,         18,         18,2,20210509,       1138,    34.2595,   -66.2925,       5212,  1247.4,   5.5398,  35.0789,2,  35.0793,2,    228.5,2,   228.4,2,   12.20,2,   19.05,2,    0.00,2,    1.22,2,-999.000,9,-999.000,9,-999.0000,9,  -999.0,9, -999.00,9, -999.000,9,  -999.00,-999.00000,9,  -999.00, -999.00,9, -999.00,9, -999.00, -999.00,9,-999.000,9, -999.00,9, -999.00,9,     -999.0,9, 20210509,     1316,  34.2595, -66.2925,     5.5417,2,     0.0420,1,     4.6716,1,     -999.0,9,     -999.0,9,     -999.0,9
325020210420,        A22,      69,          1,         17,         17,2,20210509,       1138,    34.2595,   -66.2925,       5212,  1347.4,   5.0979,  35.0514,2,  35.0527,2,    240.2,2,   240.6,2,   11.90,2,   18.46,2,    0.00,2,    1.18,2,-999.000,9,-999.000,9,-999.0000,9,  2172.8,2, 2309.64,2, -999.000,9,  -999.00,    7.7062,2,    25.01, -999.00,9, -999.00,9, -999.00, -999.00,9,-999.000,9, -999.00,9, -999.00,9,     -999.0,9, 20210509,     1313,  34.2595, -66.2925,     5.1012,2,     0.0430,1,     4.6716,1,     -999.0,9,     -999.0,9,     -999.0,9
325020210420,        A22,      69,          1,         16,         16,2,20210509,       1138,    34.2595,   -66.2925,       5212,  1450.4,   4.8146,  35.0322,2,  35.0335,2,    246.7,2,   246.5,2,   11.81,2,   18.23,2,    0.00,2,    1.17,2,-999.000,9,-999.000,9,-999.0000,9,  -999.0,9, -999.00,9, -999.000,9,  -999.00,-999.00000,9,  -999.00, -999.00,9, -999.00,9, -999.00, -999.00,9,-999.000,9, -999.00,9, -999.00,9,     -999.0,9, 20210509,     1309,  34.2595, -66.2925,     4.8137,2,     0.0422,1,     4.6716,1,     -999.0,9,     -999.0,9,     -999.0,9
325020210420,        A22,      69,          1,         15,         15,2,20210509,       1138,    34.2595,   -66.2925,       5212,  1552.1,   4.6151,  35.0226,2,  35.0240,2,    251.0,2,   251.2,2,   12.00,2,   18.02,2,    0.00,2,    1.16,2,   2.597,2,   1.382,2,   0.8500,2,  -999.0,9, -999.00,9, -999.000,9,  -999.00,-999.00000,9,  -999.00, -999.00,9, -999.00,9, -999.00, -999.00,9,-999.000,9, -999.00,9, -999.00,9,      13.93,2, 20210509,     1306,  34.2595, -66.2925,     4.6186,2,     0.0423,1,     4.6718,1,     -999.0,9,     -999.0,9,     -999.0,9
325020210420,        A22,      69,          1,         14,         14,2,20210509,       1138,    34.2595,   -66.2925,       5212,  1683.8,   4.3242,  35.0016,2,  35.0022,2,    256.7,2,   256.6,2,   12.20,2,   17.86,2,    0.00,2,    1.15,2,   2.581,2,   1.360,2,   0.8700,2,  -999.0,9, -999.00,9, -999.000,9,  -999.00,-999.00000,9,  -999.00, -999.00,9, -999.00,9, -999.00, -999.00,9,-999.000,9, -999.00,9, -999.00,9,      13.62,2, 20210509,     1301,  34.2595, -66.2925,     4.3231,2,     0.0422,1,     4.6720,1,     -999.0,9,     -999.0,9,     -999.0,9
325020210420,        A22,      69,          1,         13,         13,2,20210509,       1138,    34.2595,   -66.2925,       5212,  1887.4,   4.0861,  34.9924,2,  34.9929,2,    258.2,2,   258.5,2,   13.07,2,   17.88,2,    0.00,2,    1.16,2,-999.000,9,-999.000,9,-999.0000,9,  2164.2,2, 2306.15,2, -999.000,9,  -999.00,   7.72134,2,    25.01, -999.00,9, -999.00,9, -999.00, -999.00,9,-999.000,9, -999.00,9, -999.00,9,     -999.0,9, 20210509,     1257,  34.2595, -66.2925,     4.0855,2,     0.0419,1,     4.6728,1,     -999.0,9,     -999.0,9,     -999.0,9
325020210420,        A22,      69,          1,         12,         12,2,20210509,       1138,    34.2595,   -66.2925,       5212,  2111.7,   3.7983,  34.9776,2,  34.9778,2,    260.0,2,   260.4,2,   14.44,2,   17.90,2,    0.00,2,    1.16,2,-999.000,9,-999.000,9,-999.0000,9,  -999.0,9, -999.00,9, -999.000,9,  -999.00,-999.00000,9,  -999.00, -999.00,9, -999.00,9, -999.00, -999.00,9,-999.000,9, -999.00,9, -999.00,9,     -999.0,9, 20210509,     1252,  34.2595, -66.2925,     3.7976,2,     0.0417,1,     4.6729,1,     -999.0,9,     -999.0,9,     -999.0,9
325020210420,        A22,      69,          1,         11,         11,2,20210509,       1138,    34.2595,   -66.2925,       5212,  2365.7,   3.5191,  34.9652,2,  34.9656,2,    261.3,2,   262.0,2,   16.49,2,   18.01,2,    0.00,2,    1.17,2,   1.487,2,   0.742,2,   0.3100,2,  -999.0,9, -999.00,9, -999.000,9,  -999.00,-999.00000,9,  -999.00, -999.00,9, -999.00,9, -999.00, -999.00,9,-999.000,9, -999.00,9, -999.00,9,      13.20,2, 20210509,     1246,  34.2595, -66.2925,     3.5189,2,     0.0430,1,     4.6729,1,     -999.0,9,     -999.0,9,     -999.0,9
325020210420,        A22,      69,          1,         10,         10,2,20210509,       1138,    34.2595,   -66.2925,       5212,  2620.0,   3.2954,  34.9578,2,  34.9587,2,    260.3,2,   260.6,2,   19.22,2,   18.28,2,    0.00,2,    1.19,2,   1.069,2,   0.544,2,   0.2000,2,  -999.0,9, -999.00,9, -999.000,9,  -999.00,-999.00000,9,  -999.00, -999.00,9, -999.00,9, -999.00, -999.00,9,-999.000,9, -999.00,9, -999.00,9,      13.14,2, 20210509,     1240,  34.2595, -66.2925,     3.2951,2,     0.0429,1,     4.6729,1,     -999.0,9,     -999.0,9,     -999.0,9
325020210420,        A22,      69,          1,          9,          9,2,20210509,       1138,    34.2595,   -66.2925,       5212,  2874.5,   3.0510,  34.9427,2,  34.9429,2,    262.4,2,   262.5,2,   20.78,2,   18.23,2,    0.00,2,    1.20,2,-999.000,9,-999.000,9,-999.0000,9,  2164.9,2, 2314.45,2, -999.000,9,  -999.00,   7.73551,2,    25.01, -999.00,9, -999.00,9, -999.00, -999.00,9,-999.000,9, -999.00,9, -999.00,9,     -999.0,9, 20210509,     1234,  34.2595, -66.2925,     3.0507,2,     0.0430,1,     4.6733,1,     -999.0,9,     -999.0,9,     -999.0,9
325020210420,        A22,      69,          1,          8,          8,2,20210509,       1138,    34.2595,   -66.2925,       5212,  3146.1,   2.8038,  34.9273,2,  34.9278,2,    265.5,2,   265.7,2,   21.76,2,   18.07,2,    0.00,2,    1.20,2,-999.000,9,-999.000,9,-999.0000,9,  -999.0,9, -999.00,9, -999.000,9,  -999.00,-999.00000,9,  -999.00, -999.00,9, -999.00,9, -999.00, -999.00,9,-999.000,9, -999.00,9, -999.00,9,     -999.0,9, 20210509,     1228,  34.2595, -66.2925,     2.8036,2,     0.0427,1,     4.6736,1,     -999.0,9,     -999.0,9,     -999.0,9
325020210420,        A22,      69,          1,          7,          7,2,20210509,       1138,    34.2595,   -66.2925,       5212,  3452.7,   2.5782,  34.9131,2,  34.9152,3,    267.6,2,   268.0,2,   23.32,2,   17.95,2,    0.00,2,    1.19,2,   1.106,2,   0.565,2,   0.3000,2,  -999.0,9, -999.00,9, -999.000,9,  -999.00,-999.00000,9,  -999.00, -999.00,9, -999.00,9, -999.00, -999.00,9,-999.000,9, -999.00,9, -999.00,9,      12.99,2, 20210509,     1221,  34.2595, -66.2925,     2.5780,2,     0.0426,1,     4.6730,1,     -999.0,9,     -999.0,9,     -999.0,9
325020210420,        A22,      69,          1,          6,          6,2,20210509,       1138,    34.2595,   -66.2925,       5212,  3759.1,   2.4129,  34.9020,2,  34.9016,2,    268.0,2,   268.2,2,   25.76,2,   18.15,2,    0.00,2,    1.21,2,   1.125,2,   0.572,2,   0.2400,2,  2168.3,2, 2316.25,6, -999.000,9,  -999.00,   7.73385,2,    25.01, -999.00,9, -999.00,9, -999.00, -999.00,9,-999.000,9, -999.00,9, -999.00,9,      13.09,2, 20210509,     1214,  34.2595, -66.2925,     2.4132,2,     0.0433,1,     4.6733,1,     -999.0,9,     -999.0,9,     -999.0,9
325020210420,        A22,      69,          1,          5,          5,2,20210509,       1138,    34.2595,   -66.2925,       5212,  4068.3,   2.3357,  34.8946,2,  34.8955,2,    267.1,2,   267.3,2,   28.10,2,   18.43,2,    0.00,2,    1.23,2,   1.072,2,   0.550,2,   0.2400,2,  -999.0,9, -999.00,9, -999.000,9,  -999.00,-999.00000,9,  -999.00, -999.00,9, -999.00,9, -999.00, -999.00,9,-999.000,9, -999.00,9, -999.00,9,      13.11,2, 20210509,     1207,  34.2595, -66.2925,     2.3355,2,     0.0429,1,     4.6726,1,     -999.0,9,     -999.0,9,     -999.0,9
325020210420,        A22,      69,          1,          4,          4,2,20210509,       1138,    34.2595,   -66.2925,       5212,  4376.5,   2.2995,  34.8895,2,  34.8894,2,    265.7,2,   265.7,2,   30.54,2,   18.77,2,    0.00,2,    1.25,2,-999.000,9,-999.000,9,-999.0000,9,  -999.0,9, -999.00,9, -999.000,9,  -999.00,-999.00000,9,  -999.00, -999.00,9, -999.00,9, -999.00, -999.00,9,-999.000,9, -999.00,9, -999.00,9,     -999.0,9, 20210509,     1201,  34.2595, -66.2925,     2.2994,2,     0.0425,1,     4.6719,1,     -999.0,9,     -999.0,9,     -999.0,9
325020210420,        A22,      69,          1,          3,          3,2,20210509,       1138,    34.2595,   -66.2925,       5212,  4683.2,   2.2860,  34.8850,2,  34.8857,2,    263.4,2,   263.7,2,   33.37,2,   19.20,2,    0.00,2,    1.29,2,   0.935,2,   0.486,2,   0.2500,2,  2178.2,2, 2326.25,2, -999.000,9,  -999.00,   7.72952,2,    25.02, -999.00,9, -999.00,9, -999.00, -999.00,9,-999.000,9, -999.00,9, -999.00,9,      13.42,2, 20210509,     1154,  34.2595, -66.2925,     2.2861,2,     0.0430,1,     4.6685,1,     -999.0,9,     -999.0,9,     -999.0,9