BOTTLE,20230513CCHSIOCBG
EXPOCODE,SECT_ID,STNNBR,CASTNO,SAMPNO,BTLNBR,BTLNBR_FLAG_W,DATE,TIME,LATITUDE,LONGITUDE,DEPTH,CTDPRS,CTDTMP,CTDSAL,CTDSAL_FLAG_W,SALNTY,SALNTY_FLAG_W,CTDOXY,CTDOXY_FLAG_W,OXYGEN,OXYGEN_FLAG_W,SILCAT,SILCAT_FLAG_W,NITRAT,NITRAT_FLAG_W,NITRIT,NITRIT_FLAG_W,PHSPHT,PHSPHT_FLAG_W,CFC-11,CFC-11_FLAG_W,CFC-12,CFC-12_FLAG_W,SF6,SF6_FLAG_W,TCARBN,TCARBN_FLAG_W,ALKALI,ALKALI_FLAG_W,FCO2,FCO2_FLAG_W,FCO2TMP,PH_TOT,PH_TOT_FLAG_W,PH_TMP,DELC13,DELC13_FLAG_W,DELC14,DELC14_FLAG_W,C14ERR,DELO18,DELO18_FLAG_W,POC,POC_FLAG_W,DOC,DOC_FLAG_W,TDN,TDN_FLAG_W,N2O,N2O_FLAG_W,BTL_DATE,BTL_TIME,BTL_LAT,BTL_LON,REFTMP,REFTMP_FLAG_W,CTDFLUOR,CTDFLUOR_FLAG_W,CTDXMISS,CTDXMISS_FLAG_W,D15N_NO2+NO3,D15N_NO2+NO3_FLAG_W,D18O_NO2+NO3,D18O_NO2+NO3_FLAG_W,HPLC,HPLC_FLAG_W
,,,,,,,,,,,METERS,DBAR,ITS-90,PSS-78,,PSS-78,,UMOL/KG,,UMOL/KG,,UMOL/KG,,UMOL/KG,,UMOL/KG,,UMOL/KG,,PMOL/KG,,PMOL/KG,,FMOL/KG,,UMOL/KG,,UMOL/KG,,UATM,,DEG C,,,DEG C,/MILLE,,/MILLE,,/MILLE,/MILLE,,UG/KG,,UMOL/KG,,UMOL/KG,,NMOL/KG,,,,,,ITS-90,,VOLTS,,VOLTS,,/MILLE,,/MILLE,,,
325020210420,        A22,      12,          1,         36,         36,2,20210424,       1159,    14.6688,   -69.5985,       4172,     5.6,  27.2172,  35.8832,2,  35.8850,2,    201.7,2,   201.5,2,    1.07,2,    0.00,2,    0.00,2,    0.00,2,   1.469,2,   0.951,2,   1.6700,2,  2023.3,6, 2351.76,6,  294.090,2,    20.00,   8.09376,2,    24.99,    1.05,2,   22.36,2,    2.28, -999.00,1,-999.000,9,   76.10,2,    4.71,2,       5.68,2, 20210424,     1405,  14.6688, -69.5985,    27.2173,2,     0.0450,1,     4.6154,1,     -999.0,9,     -999.0,9,     -999.0,9
325020210420,        A22,      12,          1,         35,         35,2,20210424,       1159,    14.6688,   -69.5985,       4172,    35.1,  27.2090,  35.8826,2,  35.8848,2,    201.5,2,   201.5,2,    1.07,2,    0.00,2,    0.00,2,    0.00,2,-999.000,9,-999.000,9,-999.0000,9,  2021.5,2, -999.00,9,  294.760,2,    20.00,   8.09284,6,    25.00, -999.00,9, -999.00,9, -999.00, -999.00,9,-999.000,9,   76.00,2,    4.57,2,     -999.0,9, 20210424,     1402,  14.6688, -69.5985,    27.2073,2,     0.0484,1,     4.6171,1,     -999.0,9,     -999.0,9,     -999.0,9
325020210420,        A22,      12,          1,         34,         34,2,20210424,       1159,    14.6688,   -69.5985,       4172,    60.2,  26.6259,  36.0714,2,  36.0849,2,    201.5,2,   201.1,2,    1.27,2,    0.00,2,    0.00,2,    0.00,2,   1.499,2,   0.961,2,   1.6400,2,  2027.1,2, 2363.99,2,  292.210,2,    20.00,   8.09778,2,    24.98,    0.99,2,   25.26,2,    2.27, -999.00,9,-999.000,9,   76.00,2,    4.71,2,       5.94,2, 20210424,     1400,  14.6688, -69.5985,    26.6235,2,     0.0625,1,     4.6260,1,     -999.0,9,     -999.0,9,     -999.0,9
325020210420,        A22,      12,          1,         33,         33,2,20210424,       1159,    14.6688,   -69.5985,       4172,    86.0,  26.4577,  36.7042,2,  36.7407,3,    188.0,3,   190.4,2,    0.88,2,    0.11,2,    0.19,2,    0.00,2,-999.000,9,-999.000,9,-999.0000,9,  2070.7,2, -999.00,9,  313.340,2,    20.00,   8.07655,2,    24.99, -999.00,9, -999.00,9, -999.00, -999.00,1,-999.000,9,   69.00,2,    4.55,2,     -999.0,9, 20210424,     1358,  14.6688, -69.5985,    26.4559,2,     0.0967,1,     4.6212,1,     -999.0,9,     -999.0,9,     -999.0,9
325020210420,        A22,      12,          1,         32,         32,2,20210424,       1159,    14.6688,   -69.5985,       4172,   110.6,  24.9084,  37.1437,2,  37.1318,2,    177.8,2,   176.9,2,    0.68,2,    1.35,2,    0.04,2,    0.00,2,   1.637,2,   1.051,2,   1.6600,2,  2122.8,2, 2425.13,2,  362.220,2,    20.00,   8.02474,2,    25.01,    0.83,2,   39.29,2,    2.29, -999.00,9,-999.000,9,   61.70,2,    4.97,2,       6.95,2, 20210424,     1356,  14.6688, -69.5986,    24.9633,2,     0.0639,1,     4.6561,1,     -999.0,9,     -999.0,9,     -999.0,9
325020210420,        A22,      12,          1,         31,         31,2,20210424,       1159,    14.6688,   -69.5985,       4172,   136.2,  23.4512,  37.0984,2,  37.1022,2,    163.3,2,   164.1,2,    0.88,2,    2.74,2,    0.03,2,    0.08,2,-999.000,9,-999.000,9,-999.0000,9,  2145.2,2, 2420.55,2,  405.340,2,    20.00,   7.98292,2,    25.01, -999.00,1, -999.00,1, -999.00, -999.00,9,-999.000,9,   57.00,2,    6.06,2,     -999.0,9, 20210424,     1354,  14.6688, -69.5985,    23.5237,2,     0.0524,1,     4.6615,1,     -999.0,9,     -999.0,9,     -999.0,9
325020210420,        A22,      12,          1,         30,         30,2,20210424,       1159,    14.6688,   -69.5985,       4172,   166.5,  21.7982,  37.0407,2,  37.0327,2,    164.2,2,   165.0,2,    0.78,2,    2.99,2,    0.01,2,    0.05,2,   1.839,2,   1.173,2,   1.7100,2,  2153.8,2, 2418.46,2,  432.330,2,    20.00,   7.95944,2,    24.99,    0.50,2,   41.96,2,    2.22, -999.00,9,-999.000,9,   53.80,2,    5.99,2,       9.08,2, 20210424,     1352,  14.6688, -69.5985,    21.8125,2,     0.0444,1,     4.6688,1,     -999.0,9,     -999.0,9,     -999.0,9
325020210420,        A22,      12,          1,         29,         29,2,20210424,       1159,    14.6688,   -69.5985,       4172,   216.7,  19.5405,  36.7281,2,  36.7173,2,    179.6,2,   180.0,2,    0.88,2,    3.64,2,    0.00,2,    0.06,2,   1.985,2,   1.263,2,   1.6900,2,  2140.6,2, 2396.05,2,  436.190,2,    20.00,   7.95378,2,    24.99, -999.00,1, -999.00,1, -999.00, -999.00,9,-999.000,9,   50.00,2,    6.53,2,       8.82,2, 20210424,     1350,  14.6688, -69.5985,    19.5403,2,     0.0396,1,     4.6756,1,     -999.0,9,     -999.0,9,     -999.0,9
325020210420,        A22,      12,          1,         28,         28,2,20210424,       1159,    14.6688,   -69.5985,       4172,   267.5,  17.3152,  36.3241,2,  36.3257,2,    144.9,2,   145.1,2,    3.51,2,   11.36,2,    0.00,2,    0.55,2,-999.000,9,-999.000,9,-999.0000,9,  2173.3,2, 2373.33,2,  575.020,2,    20.00,   7.84509,2,    25.01,    0.36,2,   46.46,2,    2.31, -999.00,9,-999.000,9,   48.00,2, -999.00,1,     -999.0,9, 20210424,     1348,  14.6688, -69.5986,    17.3245,2,     0.0407,1,     4.6742,1,     -999.0,9,     -999.0,9,     -999.0,9
325020210420,        A22,      12,          1,         27,         27,2,20210424,       1159,    14.6688,   -69.5985,       4172,   317.6,  14.9869,  35.9106,2,  35.9074,2,    131.6,2,   132.0,2,    6.04,2,   16.70,2,    0.00,2,    0.90,2,   2.052,2,   1.256,2,   1.1100,2,  2187.7,2, -999.00,9,  694.130,2,    20.00,   7.76645,2,    25.01, -999.00,9, -999.00,9, -999.00, -999.00,9,-999.000,9,   46.80,2, -999.00,1,      19.99,2, 20210424,     1345,  14.6688, -69.5986,    14.9896,2,     0.0406,1,     4.6746,1,     -999.0,9,     -999.0,9,     -999.0,9
325020210420,        A22,      12,          1,         26,         26,2,20210424,       1159,    14.6688,   -69.5985,       4172,   367.8,  13.1115,  35.5902,2,  35.5683,3,    127.0,2,   126.2,2,    8.39,2,   20.63,2,    0.00,2,    1.17,2,-999.000,9,-999.000,9,-999.0000,9,  2194.0,2, 2333.62,2,  796.170,2,    20.00,   7.70949,2,    25.01,    0.31,2,   30.77,2,    2.94, -999.00,9,-999.000,9,   46.20,2, -999.00,1,     -999.0,9, 20210424,     1343,  14.6688, -69.5985,    13.1114,2,     0.0406,1,     4.6752,1,     -999.0,9,     -999.0,9,     -999.0,9
325020210420,        A22,      12,          1,         25,         25,2,20210424,       1159,    14.6688,   -69.5985,       4172,   418.2,  11.6312,  35.3480,2,  35.3461,2,    121.1,2,   121.5,2,   10.53,2,   23.49,2,    0.00,2,    1.37,2,   1.951,2,   1.097,2,   0.7500,2,  2201.2,6, -999.00,9,  880.610,2,    20.00,   7.66697,6,    24.99, -999.00,9, -999.00,9, -999.00, -999.00,9,-999.000,9,   45.00,2, -999.00,1,      24.99,2, 20210424,     1341,  14.6688, -69.5985,    11.6310,2,     0.0425,1,     4.6734,1,     -999.0,9,     -999.0,9,     -999.0,9
325020210420,        A22,      12,          1,         24,         24,2,20210424,       1159,    14.6688,   -69.5985,       4172,   468.0,  10.7295,  35.2283,2,  35.2241,2,    119.4,2,   119.3,2,   12.39,2,   25.44,2,    0.00,2,    1.50,2,   1.722,2,   0.984,2,   0.6400,2,  2209.0,2, 2317.28,2,  932.300,2,    20.00,   7.64096,2,    25.01,    0.46,2,    6.01,2,    2.04, -999.00,9,-999.000,9,   43.10,2, -999.00,1,      25.62,2, 20210424,     1338,  14.6687, -69.5985,    10.7212,2,     0.0425,1,     4.6759,1,     -999.0,9,     -999.0,9,     -999.0,9
325020210420,        A22,      12,          1,         23,         23,2,20210424,       1159,    14.6688,   -69.5985,       4172,   538.1,   9.3620,  35.0333,2,  35.0331,2,    118.7,2,   119.1,2,   15.02,2,   28.07,2,    0.00,2,    1.70,2,   1.530,2,   0.833,2,   0.4700,2,  2210.7,2, 2308.68,2, 1017.780,2,    20.00,   7.60419,6,    25.02,    0.56,2,  -15.17,2,    2.11, -999.00,9,-999.000,9,   45.20,3, -999.00,1,      26.31,2, 20210424,     1336,  14.6688, -69.5986,     9.3687,2,     0.0416,1,     4.6777,1,     -999.0,9,     -999.0,9,     -999.0,9
325020210420,        A22,      12,          1,         22,         22,2,20210424,       1159,    14.6688,   -69.5985,       4172,   640.1,   7.9190,  34.8521,2,  34.8497,2,    119.6,2,   120.3,2,   19.03,2,   30.90,2,    0.00,2,    1.91,2,-999.000,9,-999.000,9,-999.0000,9,  2219.6,2, -999.00,9, 1103.430,2,    20.00,   7.56809,2,    25.01, -999.00,9, -999.00,9, -999.00, -999.00,9,-999.000,9,   42.20,2, -999.00,1,     -999.0,9, 20210424,     1332,  14.6687, -69.5985,     7.9212,2,     0.0429,1,     4.6774,1,     -999.0,9,     -999.0,9,     -999.0,9
325020210420,        A22,      12,          1,         21,         21,2,20210424,       1159,    14.6688,   -69.5985,       4172,   740.3,   6.9060,  34.7795,2,  34.7805,2,    125.5,2,   125.8,2,   22.05,2,   31.91,2,    0.00,2,    2.00,2,   0.732,2,   0.386,2,   0.1600,2,  2221.1,2,  2300.9,2, 1125.060,2,    20.00,   7.56016,2,    24.99,    0.64,2,  -61.13,2,    2.08, -999.00,9,-999.000,9,   41.00,2, -999.00,1,      25.50,2, 20210424,     1329,  14.6688, -69.5986,     6.9080,2,     0.0423,1,     4.6792,1,     -999.0,9,     -999.0,9,     -999.0,9
325020210420,        A22,      12,          1,         20,         20,2,20210424,       1159,    14.6688,   -69.5985,       4172,   841.6,   6.2929,  34.7803,2,  34.7809,2,    134.4,2,   134.5,2,   23.81,2,   31.54,2,    0.00,2,    2.00,2,-999.000,9,-999.000,9,-999.0000,9,  2221.9,2, -999.00,9, 1099.580,2,    20.00,    7.5691,2,    24.99, -999.00,9, -999.00,9, -999.00, -999.00,9,-999.000,9,   42.10,2, -999.00,1,     -999.0,9, 20210424,     1325,  14.6688, -69.5985,     6.2975,2,     0.0433,1,     4.6803,1,     -999.0,9,     -999.0,9,     -999.0,9
325020210420,        A22,      12,          1,         19,         19,2,20210424,       1159,    14.6688,   -69.5985,       4172,   942.7,   5.7798,  34.8385,2,  34.8375,2,    152.5,2,   152.0,2,   24.29,2,   29.47,2,    0.00,2,    1.90,2,   0.305,2,   0.165,2,   0.1400,2,  2216.5,2, 2305.12,2, 1024.620,2,    20.00,    7.6003,2,    25.00,    0.74,2,  -85.94,2,    2.03, -999.00,9,-999.000,9,   40.60,2, -999.00,1,      22.11,2, 20210424,     1323,  14.6688, -69.5985,     5.7795,2,     0.0429,1,     4.6813,1,     -999.0,9,     -999.0,9,     -999.0,9
325020210420,        A22,      12,          1,         18,         18,2,20210424,       1159,    14.6688,   -69.5985,       4172,  1043.5,   5.2915,  34.9031,2,  34.9016,2,    171.4,2,   171.3,2,   24.78,2,   26.88,2,    0.00,2,    1.75,2,   0.199,2,   0.108,2,   0.0200,2,  2212.3,2, 2317.14,2,  942.210,2,    20.00,     7.636,2,    24.93,    0.80,2,  -89.20,2,    2.11, -999.00,9,-999.000,9,   41.10,2, -999.00,1,      19.01,2, 20210424,     1320,  14.6688, -69.5985,     5.2924,2,     0.0429,1,     4.6815,1,     -999.0,9,     -999.0,9,     -999.0,9
325020210420,        A22,      12,          1,         17,         17,2,20210424,       1159,    14.6688,   -69.5985,       4172,  1144.9,   4.9729,  34.9370,2,  34.9382,2,    185.1,2,   185.3,2,   24.88,2,   25.23,2,    0.00,2,    1.65,2,   0.169,2,   0.090,2,   0.0500,2,  2202.5,2, -999.00,9,  892.290,2,    20.00,   7.66017,2,    24.99, -999.00,9, -999.00,9, -999.00, -999.00,9,-999.000,9,   45.80,3, -999.00,1,      17.67,2, 20210424,     1317,  14.6688, -69.5985,     4.9695,2,     0.0429,1,     4.6815,1,     -999.0,9,     -999.0,9,     -999.0,9
325020210420,        A22,      12,          1,         16,         16,2,20210424,       1159,    14.6688,   -69.5985,       4172,  1246.0,   4.7487,  34.9533,2,  34.9530,2,    194.3,2,   194.4,2,   24.78,2,   24.25,2,    0.00,2,    1.60,2,-999.000,9,-999.000,9,-999.0000,9,  2201.4,2, -999.00,9,  863.570,2,    20.00,   7.67278,2,    25.00, -999.00,9, -999.00,9, -999.00, -999.00,9,-999.000,9,   41.90,2, -999.00,1,     -999.0,9, 20210424,     1313,  14.6688, -69.5985,     4.7479,2,     0.0429,1,     4.6813,1,     -999.0,9,     -999.0,9,     -999.0,9
325020210420,        A22,      12,          1,         15,         15,2,20210424,       1159,    14.6688,   -69.5985,       4172,  1347.5,   4.5628,  34.9619,2,  34.9622,2,    200.3,2,   200.3,2,   25.17,2,   23.61,2,    0.00,2,    1.56,2,   0.135,2,   0.075,2,   0.1000,2,  2201.3,2,  2326.8,2,  845.940,2,    20.00,    7.6815,2,    25.00,    0.89,2,  -94.09,2,    2.00, -999.00,9,-999.000,9,   40.80,2, -999.00,1,      16.28,2, 20210424,     1309,  14.6687, -69.5985,     4.5636,2,     0.0428,1,     4.6816,1,     -999.0,9,     -999.0,9,     -999.0,9
325020210420,        A22,      12,          1,         14,         14,2,20210424,       1159,    14.6688,   -69.5985,       4172,  1448.4,   4.4517,  34.9660,2,  34.9681,2,    203.7,2,   204.0,2,   25.76,2,   23.20,2,    0.00,2,    1.53,2,-999.000,9,-999.000,9,-999.0000,9,  2198.3,2, -999.00,9,  834.830,2,    20.00,   7.68772,2,    24.98, -999.00,9, -999.00,9, -999.00, -999.00,9,-999.000,9,   41.40,2, -999.00,1,     -999.0,9, 20210424,     1307,  14.6688, -69.5986,     4.4504,2,     0.0429,1,     4.6813,1,     -999.0,9,     -999.0,9,     -999.0,9
325020210420,        A22,      12,          1,         13,         13,2,20210424,       1159,    14.6688,   -69.5985,       4172,  1549.6,   4.3597,  34.9693,2,  34.9701,2,    206.5,2,   206.8,2,   26.15,2,   22.90,2,    0.00,2,    1.51,2,   0.128,2,   0.065,2,   0.0400,2,  2198.1,2, -999.00,9,  826.600,2,    20.00,   7.69135,2,    24.98, -999.00,9, -999.00,9, -999.00, -999.00,9,-999.000,9,   41.80,2, -999.00,1,      15.04,2, 20210424,     1304,  14.6687, -69.5985,     4.3598,2,     0.0429,1,     4.6811,1,     -999.0,9,     -999.0,9,     -999.0,9
325020210420,        A22,      12,          1,         12,         12,2,20210424,       1159,    14.6688,   -69.5985,       4172,  1651.6,   4.2938,  34.9720,2,  34.9717,2,    209.9,2,   210.1,2,   25.95,2,   22.62,2,    0.00,2,    1.50,2,   0.138,2,   0.076,2,   0.1500,2,  2199.3,2,  2326.8,2,  814.480,2,    20.00,   7.69568,2,    24.98,    0.87,2,  -94.32,2,    2.02, -999.00,9,-999.000,9,   41.40,2, -999.00,1,      15.05,2, 20210424,     1300,  14.6688, -69.5985,     4.2941,2,     0.0433,1,     4.6817,1,     -999.0,9,     -999.0,9,     -999.0,9
325020210420,        A22,      12,          1,         11,         11,2,20210424,       1159,    14.6688,   -69.5985,       4172,  1752.2,   4.2274,  34.9727,2,  34.9723,2,    210.5,2,   210.9,2,   26.93,2,   22.53,2,    0.00,2,    1.49,2,   0.103,6,   0.061,6,   0.1700,6,  2200.8,6, -999.00,9,  813.800,2,    20.00,   7.69768,2,    25.01, -999.00,9, -999.00,9, -999.00, -999.00,9,-999.000,9,   41.50,2, -999.00,1,      14.71,6, 20210424,     1257,  14.6688, -69.5985,     4.2274,2,     0.0435,1,     4.6825,1,     -999.0,9,     -999.0,9,     -999.0,9
325020210420,        A22,      12,          1,         10,         10,2,20210424,       1159,    14.6688,   -69.5985,       4172,  1884.9,   4.1830,  34.9737,2,  34.9738,2,    212.3,2,   212.7,2,   27.22,2,   22.30,2,    0.00,2,    1.48,2,-999.000,9,-999.000,9,-999.0000,9,  2202.8,2, 2327.69,6,  809.490,2,    20.00,   7.70031,2,    25.00, -999.00,9, -999.00,9, -999.00, -999.00,9,-999.000,9,   42.10,2, -999.00,1,     -999.0,9, 20210424,     1253,  14.6688, -69.5985,     4.1830,2,     0.0434,1,     4.6824,1,     -999.0,9,     -999.0,9,     -999.0,9
325020210420,        A22,      12,          1,          9,          9,2,20210424,       1159,    14.6688,   -69.5985,       4172,  2108.7,   4.1384,  34.9745,2,  34.9752,2,    213.6,2,   214.1,2,   27.51,2,   22.22,2,    0.00,2,    1.47,2,-999.000,9,-999.000,9,-999.0000,9,  2202.9,2, -999.00,9,  802.400,2,    20.00,   7.70319,2,    25.00, -999.00,9, -999.00,9, -999.00, -999.00,9,-999.000,9,   40.40,2, -999.00,1,     -999.0,9, 20210424,     1247,  14.6688, -69.5985,     4.1383,2,     0.0434,1,     4.6826,1,     -999.0,9,     -999.0,9,     -999.0,9
325020210420,        A22,      12,          1,          8,          8,2,20210424,       1159,    14.6688,   -69.5985,       4172,  2361.5,   4.1305,  34.9752,2,  34.9766,2,    215.7,2,   216.0,2,   27.71,2,   22.04,2,    0.00,2,    1.46,2,   0.112,2,   0.070,2,   0.3000,2,  2199.7,2, -999.00,9,  798.035,6,    20.00,   7.70611,2,    25.00, -999.00,9, -999.00,9, -999.00, -999.00,9,-999.000,9,   42.10,2, -999.00,1,      14.15,2, 20210424,     1242,  14.6688, -69.5985,     4.1306,2,     0.0429,1,     4.6837,1,     -999.0,9,     -999.0,9,     -999.0,9
325020210420,        A22,      12,          1,          7,          7,2,20210424,       1159,    14.6688,   -69.5985,       4172,  2616.8,   4.1410,  34.9752,2,  34.9752,2,    215.6,2,   215.7,2,   28.10,2,   22.07,2,    0.00,2,    1.46,2,   0.103,2,   0.065,2,   0.2900,2,  2200.6,2, -999.00,9,  796.390,2,    20.00,   7.70733,2,    24.98, -999.00,9, -999.00,9, -999.00, -999.00,9,-999.000,9,   40.20,2, -999.00,1,      13.86,2, 20210424,     1236,  14.6687, -69.5985,     4.1409,2,     0.0429,1,     4.6838,1,     -999.0,9,     -999.0,9,     -999.0,9
325020210420,        A22,      12,          1,          6,          6,2,20210424,       1159,    14.6688,   -69.5985,       4172,  2871.3,   4.1609,  34.9754,2,  34.9758,2,    215.7,2,   215.9,2,   28.39,2,   22.07,2,    0.00,2,    1.47,2,-999.000,9,-999.000,9,-999.0000,9,  2197.1,2, 2335.69,2,  794.430,2,    20.00,   7.70794,2,    24.99, -999.00,9, -999.00,9, -999.00, -999.00,9,-999.000,9,   40.80,2, -999.00,1,     -999.0,9, 20210424,     1230,  14.6687, -69.5985,     4.1610,2,     0.0435,1,     4.6837,1,     -999.0,9,     -999.0,9,     -999.0,9
325020210420,        A22,      12,          1,          5,          5,2,20210424,       1159,    14.6688,   -69.5985,       4172,  3126.8,   4.1846,  34.9755,2,  34.9760,2,    215.8,2,   215.8,2,   28.58,2,   22.06,2,    0.00,2,    1.47,2,   0.101,2,   0.066,2,   0.2100,2,  2200.1,2, -999.00,9,  793.150,2,    20.00,   7.70869,2,    25.01, -999.00,9, -999.00,9, -999.00, -999.00,9,-999.000,9,   41.20,2, -999.00,1,      13.81,2, 20210424,     1224,  14.6687, -69.5986,     4.1847,2,     0.0429,1,     4.6838,1,     -999.0,9,     -999.0,9,     -999.0,9
325020210420,        A22,      12,          1,          4,          4,2,20210424,       1159,    14.6688,   -69.5985,       4172,  3381.2,   4.2110,  34.9755,2,  34.9766,2,    215.5,2,   215.7,2,   28.88,2,   22.02,2,    0.00,2,    1.48,2,   0.088,2,   0.060,2,   0.1700,2,  2201.1,2, -999.00,9,  792.450,2,    20.00,   7.70829,2,    24.99, -999.00,9, -999.00,9, -999.00, -999.00,9,-999.000,9,   40.20,2, -999.00,1,      13.75,2, 20210424,     1219,  14.6687, -69.5985,     4.2111,2,     0.0429,1,     4.6831,1,     -999.0,9,     -999.0,9,     -999.0,9
325020210420,        A22,      12,          1,          3,          3,4,20210424,       1159,    14.6688,   -69.5985,       4172,  3636.7,   4.2396,  34.9756,3,-999.0000,9,    215.3,3,  -999.0,9, -999.00,9, -999.00,9, -999.00,9, -999.00,9,-999.000,9,-999.000,9,-999.0000,9,  -999.0,9, -999.00,9, -999.000,9,  -999.00,-999.00000,9,  -999.00, -999.00,9, -999.00,9, -999.00, -999.00,9,-999.000,9, -999.00,9, -999.00,9,     -999.0,9, 20210424,     1213,  14.6687, -69.5985,     4.2397,3,     0.0429,1,     4.6820,1,     -999.0,9,     -999.0,9,     -999.0,9