BOTTLE,20230513CCHSIOCBG
EXPOCODE,SECT_ID,STNNBR,CASTNO,SAMPNO,BTLNBR,BTLNBR_FLAG_W,DATE,TIME,LATITUDE,LONGITUDE,DEPTH,CTDPRS,CTDTMP,CTDSAL,CTDSAL_FLAG_W,SALNTY,SALNTY_FLAG_W,CTDOXY,CTDOXY_FLAG_W,OXYGEN,OXYGEN_FLAG_W,SILCAT,SILCAT_FLAG_W,NITRAT,NITRAT_FLAG_W,NITRIT,NITRIT_FLAG_W,PHSPHT,PHSPHT_FLAG_W,CFC-11,CFC-11_FLAG_W,CFC-12,CFC-12_FLAG_W,SF6,SF6_FLAG_W,TCARBN,TCARBN_FLAG_W,ALKALI,ALKALI_FLAG_W,FCO2,FCO2_FLAG_W,FCO2TMP,PH_TOT,PH_TOT_FLAG_W,PH_TMP,DELC13,DELC13_FLAG_W,DELC14,DELC14_FLAG_W,C14ERR,DELO18,DELO18_FLAG_W,POC,POC_FLAG_W,DOC,DOC_FLAG_W,TDN,TDN_FLAG_W,N2O,N2O_FLAG_W,BTL_DATE,BTL_TIME,BTL_LAT,BTL_LON,REFTMP,REFTMP_FLAG_W,CTDFLUOR,CTDFLUOR_FLAG_W,CTDXMISS,CTDXMISS_FLAG_W,D15N_NO2+NO3,D15N_NO2+NO3_FLAG_W,D18O_NO2+NO3,D18O_NO2+NO3_FLAG_W,HPLC,HPLC_FLAG_W
,,,,,,,,,,,METERS,DBAR,ITS-90,PSS-78,,PSS-78,,UMOL/KG,,UMOL/KG,,UMOL/KG,,UMOL/KG,,UMOL/KG,,UMOL/KG,,PMOL/KG,,PMOL/KG,,FMOL/KG,,UMOL/KG,,UMOL/KG,,UATM,,DEG C,,,DEG C,/MILLE,,/MILLE,,/MILLE,/MILLE,,UG/KG,,UMOL/KG,,UMOL/KG,,NMOL/KG,,,,,,ITS-90,,VOLTS,,VOLTS,,/MILLE,,/MILLE,,,
325020210420,        A22,      80,          1,         36,         36,2,20210513,       1104,    38.3242,   -68.8585,       3809,     5.1,  17.3572,  35.8880,2,  35.8908,2,    247.0,2,   246.3,2,    0.00,2,    0.00,2,    0.00,2,    0.00,2,   2.188,2,   1.342,2,   2.1300,2,  2068.6,6, 2365.17,6,  348.490,2,    20.00,    8.0334,2,    25.01, -999.00,9, -999.00,9, -999.00, -999.00,1,-999.000,9,   69.30,2,    4.42,2,       7.72,2, 20210513,     1259,  38.3242, -68.8585,    17.3618,2,     0.1050,1,     4.2709,1,     -999.0,9,     -999.0,9,     -999.0,9
325020210420,        A22,      80,          1,         35,         35,2,20210513,       1104,    38.3242,   -68.8585,       3809,    25.3,  17.3165,  35.8811,2,  35.8833,2,    245.9,2,   245.6,2,    0.00,2,    0.00,2,    0.00,2,    0.00,2,-999.000,9,-999.000,9,-999.0000,9,  2071.2,2, 2365.25,2,  351.060,2,    20.00,   8.03092,6,    25.03, -999.00,9, -999.00,9, -999.00, -999.00,9,-999.000,9,   66.60,2,    3.77,2,     -999.0,9, 20210513,     1257,  38.3242, -68.8585,    17.3215,2,     0.1946,1,     4.2711,1,     -999.0,9,     -999.0,9,     -999.0,9
325020210420,        A22,      80,          1,         34,         34,2,20210513,       1104,    38.3242,   -68.8585,       3809,    50.3,  16.3236,  35.7408,2,  35.7406,2,    233.7,2,   234.3,2,    0.39,2,    0.07,2,    0.12,2,    0.03,2,   2.331,2,   1.416,2,   2.2800,2,  2092.3,2, 2356.57,2,  396.170,2,    20.00,   7.98377,2,    25.01, -999.00,9, -999.00,9, -999.00, -999.00,1,-999.000,9,   66.20,2,    4.92,2,       8.30,2, 20210513,     1255,  38.3242, -68.8585,    16.3354,2,     0.2869,1,     4.3679,1,     -999.0,9,     -999.0,9,     -999.0,9
325020210420,        A22,      80,          1,         33,         33,2,20210513,       1104,    38.3242,   -68.8585,       3809,    75.5,  14.6655,  35.6645,2,  35.6652,2,    230.8,2,   231.2,2,    0.98,2,    3.60,2,    0.04,2,    0.21,2,-999.000,9,-999.000,9,-999.0000,9,  2109.1,2, 2350.85,2,  445.300,2,    20.00,   7.94008,2,    25.01, -999.00,9, -999.00,9, -999.00, -999.00,9,-999.000,9,   61.30,2,    6.81,2,     -999.0,9, 20210513,     1253,  38.3242, -68.8585,    14.6662,2,     0.0726,1,     4.6031,1,     -999.0,9,     -999.0,9,     -999.0,9
325020210420,        A22,      80,          1,         32,         32,2,20210513,       1104,    38.3242,   -68.8585,       3809,   101.2,  13.7566,  35.5814,2,  35.5815,2,    225.3,2,   227.1,2,    1.85,2,    6.74,2,    0.00,2,    0.40,2,-999.000,9,-999.000,9,-999.0000,9,  2125.2,2, 2343.49,2,  499.800,2,    20.00,   7.89413,2,    25.01, -999.00,9, -999.00,9, -999.00, -999.00,9,-999.000,9,   57.00,2,    9.80,2,     -999.0,9, 20210513,     1251,  38.3242, -68.8585,    13.7599,2,     0.0652,1,     4.6215,1,     -999.0,9,     -999.0,9,     -999.0,9
325020210420,        A22,      80,          1,         31,         31,2,20210513,       1104,    38.3242,   -68.8585,       3809,   126.0,  13.4686,  35.6141,2,  35.6147,2,    210.8,2,   211.5,2,    3.51,2,    9.91,2,    0.00,2,    0.59,2,   2.401,2,   1.448,2,   2.0500,2,  2142.2,2,  2341.1,2,  554.000,2,    20.00,   7.85396,2,    25.01, -999.00,9, -999.00,9, -999.00, -999.00,9,-999.000,9,   53.90,2,   12.99,2,      11.47,2, 20210513,     1249,  38.3242, -68.8585,    13.4712,2,     0.0522,1,     4.6345,1,     -999.0,9,     -999.0,9,     -999.0,9
325020210420,        A22,      80,          1,         30,         30,2,20210513,       1104,    38.3242,   -68.8585,       3809,   151.5,  13.1689,  35.6606,2,  35.6571,2,    174.7,3,   176.6,2,    6.44,2,   14.68,2,    0.00,2,    0.87,2,-999.000,9,-999.000,9,-999.0000,9,  2166.0,2, 2342.23,2,  641.650,2,    20.00,    7.7989,2,    25.00, -999.00,9, -999.00,9, -999.00, -999.00,9,-999.000,9,   49.00,2,   17.73,2,     -999.0,9, 20210513,     1247,  38.3242, -68.8585,    13.1704,2,     0.0470,1,     4.6520,1,     -999.0,9,     -999.0,9,     -999.0,9
325020210420,        A22,      80,          1,         29,         29,2,20210513,       1104,    38.3242,   -68.8585,       3809,   201.3,  11.5568,  35.4811,2,  35.4770,2,    133.8,2,   133.6,2,   11.02,2,   21.78,2,    0.00,2,    1.32,2,   1.695,2,   0.967,2,   0.7400,2,  2195.6,2, 2331.08,2,  811.610,2,    20.00,   7.70182,2,    25.00, -999.00,9, -999.00,9, -999.00, -999.00,9,-999.000,9,   44.30,2,   24.17,2,      19.98,2, 20210513,     1245,  38.3242, -68.8585,    11.5546,2,     0.0466,1,     4.6480,1,     -999.0,9,     -999.0,9,     -999.0,9
325020210420,        A22,      80,          1,         28,         28,2,20210513,       1104,    38.3242,   -68.8585,       3809,   252.0,   9.6364,  35.2644,2,  35.2633,2,    138.7,2,   138.3,2,   13.56,2,   24.17,2,    0.00,2,    1.49,2,-999.000,9,-999.000,9,-999.0000,9,  2202.3,6, 2321.95,2,  885.930,2,    20.00,   7.66448,2,    25.01, -999.00,9, -999.00,9, -999.00, -999.00,9,-999.000,9,   43.40,2,   26.50,2,     -999.0,9, 20210513,     1243,  38.3242, -68.8585,     9.6436,2,     0.0437,1,     4.6397,1,     -999.0,9,     -999.0,9,     -999.0,9
325020210420,        A22,      80,          1,         27,         27,2,20210513,       1104,    38.3242,   -68.8585,       3809,   302.7,   8.4384,  35.1720,2,  35.1723,2,    151.7,2,   151.9,2,   14.34,2,   24.27,2,    0.00,2,    1.52,2,   1.485,6,   0.809,6,   0.5600,6,  2201.5,2, 2318.09,2,  903.510,2,    20.00,   7.65653,6,    25.01, -999.00,9, -999.00,9, -999.00, -999.00,9,-999.000,9,   42.80,2, -999.00,1,      19.96,6, 20210513,     1240,  38.3242, -68.8585,     8.4395,2,     0.0476,1,     4.6564,1,     -999.0,9,     -999.0,9,     -999.0,9
325020210420,        A22,      80,          1,         26,         26,2,20210513,       1104,    38.3242,   -68.8585,       3809,   353.7,   7.3870,  35.1267,2,  35.1276,2,    174.3,2,   174.3,2,   13.95,2,   22.81,2,    0.00,2,    1.45,2,-999.000,9,-999.000,9,-999.0000,9,  2196.7,2, 2315.47,6,  880.160,2,    20.00,   7.66627,2,    25.01, -999.00,9, -999.00,9, -999.00, -999.00,9,-999.000,9,   42.60,2, -999.00,1,     -999.0,9, 20210513,     1238,  38.3242, -68.8585,     7.3898,2,     0.0432,1,     4.6569,1,     -999.0,9,     -999.0,9,     -999.0,9
325020210420,        A22,      80,          1,         25,         25,2,20210513,       1104,    38.3242,   -68.8585,       3809,   403.8,   7.1153,  35.1157,2,  35.1161,2,    180.9,2,   181.3,2,   13.85,2,   22.32,2,    0.00,2,    1.42,2,   1.778,2,   0.955,2,   0.6700,2,  2192.0,2, 2315.96,2,  869.840,2,    20.00,   7.66969,2,    25.01, -999.00,9, -999.00,9, -999.00, -999.00,9,-999.000,9,   44.10,2, -999.00,1,      17.39,2, 20210513,     1236,  38.3242, -68.8585,     7.1030,2,     0.0465,1,     4.6587,1,     -999.0,9,     -999.0,9,     -999.0,9
325020210420,        A22,      80,          1,         24,         24,2,20210513,       1104,    38.3242,   -68.8585,       3809,   454.1,   6.3693,  35.1022,2,  35.1008,2,    201.4,2,   201.9,2,   13.37,2,   20.91,2,    0.00,2,    1.36,2,-999.000,9,-999.000,9,-999.0000,9,  2185.2,2, 2314.12,2,  836.540,2,    20.00,   7.68581,2,    25.00, -999.00,9, -999.00,9, -999.00, -999.00,9,-999.000,9,   43.30,2, -999.00,1,     -999.0,9, 20210513,     1234,  38.3242, -68.8585,     6.3730,2,     0.0413,1,     4.6662,1,     -999.0,9,     -999.0,9,     -999.0,9
325020210420,        A22,      80,          1,         23,         23,2,20210513,       1104,    38.3242,   -68.8585,       3809,   504.7,   5.8603,  35.0766,2,  35.0778,2,    213.7,2,   214.0,2,   12.98,2,   20.18,2,    0.00,2,    1.31,2,   2.127,2,   1.142,2,   0.7600,2,  2185.5,2, 2314.45,2,  828.520,2,    20.00,   7.68954,2,    24.99, -999.00,9, -999.00,9, -999.00, -999.00,9,-999.000,9,   43.70,2, -999.00,1,      15.66,2, 20210513,     1231,  38.3242, -68.8585,     5.8635,2,     0.0429,1,     4.6642,1,     -999.0,9,     -999.0,9,     -999.0,9
325020210420,        A22,      80,          1,         22,         22,2,20210513,       1104,    38.3242,   -68.8585,       3809,   605.8,   5.3860,  35.0628,2,  35.0638,2,    228.2,2,   228.1,2,   12.68,2,   19.26,2,    0.00,2,    1.25,2,   2.281,2,   1.216,2,   0.7700,2,  2178.9,2, 2312.73,2,  806.940,2,    20.00,   7.70108,6,    24.96, -999.00,9, -999.00,9, -999.00, -999.00,9,-999.000,9,   44.90,2, -999.00,1,      14.75,2, 20210513,     1228,  38.3241, -68.8585,     5.3853,2,     0.0429,1,     4.6677,1,     -999.0,9,     -999.0,9,     -999.0,9
325020210420,        A22,      80,          1,         21,         21,2,20210513,       1104,    38.3242,   -68.8585,       3809,   706.5,   4.9263,  35.0253,2,  35.0264,2,    240.4,2,   240.6,2,   12.00,2,   18.61,2,    0.00,2,    1.21,2,   2.639,2,   1.411,2,   1.0100,2,  2177.0,2, 2310.02,2,  804.990,2,    20.00,   7.69973,2,    24.98, -999.00,9, -999.00,9, -999.00, -999.00,9,-999.000,9,   44.10,2, -999.00,1,      14.50,2, 20210513,     1224,  38.3241, -68.8585,     4.9262,2,     0.0421,1,     4.6643,1,     -999.0,9,     -999.0,9,     -999.0,9
325020210420,        A22,      80,          1,         20,         20,2,20210513,       1104,    38.3242,   -68.8585,       3809,   808.1,   4.6803,  35.0083,2,  35.0106,2,    247.7,2,   247.8,2,   11.81,2,   18.18,2,    0.00,2,    1.19,2,-999.000,9,-999.000,9,-999.0000,9,  2173.1,2, 2308.52,2,  797.730,2,    20.00,   7.70309,2,    25.00, -999.00,9, -999.00,9, -999.00, -999.00,9,-999.000,9,   44.10,2, -999.00,1,     -999.0,9, 20210513,     1222,  38.3242, -68.8585,     4.6801,2,     0.0429,1,     4.6638,1,     -999.0,9,     -999.0,9,     -999.0,9
325020210420,        A22,      80,          1,         19,         19,2,20210513,       1104,    38.3242,   -68.8585,       3809,   908.8,   4.4316,  34.9925,2,  34.9937,2,    254.1,2,   254.3,2,   11.81,2,   17.85,2,    0.00,2,    1.17,2,   2.835,2,   1.512,2,   1.0300,2,  2173.6,2, 2310.03,2,  791.130,2,    20.00,   7.70651,2,    25.03, -999.00,9, -999.00,9, -999.00, -999.00,9,-999.000,9,   45.00,2, -999.00,1,      13.54,2, 20210513,     1219,  38.3242, -68.8585,     4.4311,2,     0.0426,1,     4.6643,1,     -999.0,9,     -999.0,9,     -999.0,9
325020210420,        A22,      80,          1,         18,         18,2,20210513,       1104,    38.3242,   -68.8585,       3809,  1010.0,   4.3010,  34.9886,2,  34.9898,2,    256.4,2,   256.3,2,   12.00,2,   17.74,2,    0.00,2,    1.16,2,   2.753,2,   1.462,2,   0.9300,2,  2173.1,2, 2306.54,2,  783.680,2,    20.00,   7.71082,2,    25.04, -999.00,9, -999.00,9, -999.00, -999.00,9,-999.000,9,   43.70,2, -999.00,1,      13.36,2, 20210513,     1216,  38.3242, -68.8586,     4.3012,2,     0.0415,1,     4.6642,1,     -999.0,9,     -999.0,9,     -999.0,9
325020210420,        A22,      80,          1,         17,         17,2,20210513,       1104,    38.3242,   -68.8585,       3809,  1111.4,   4.1129,  34.9711,2,  34.9723,2,    261.1,2,   261.3,2,   11.90,2,   17.54,2,    0.00,2,    1.15,2,-999.000,9,-999.000,9,-999.0000,9,  2171.0,2, 2305.59,2,  784.610,2,    20.00,   7.70986,2,    25.03, -999.00,9, -999.00,9, -999.00, -999.00,9,-999.000,9,   44.60,2, -999.00,1,     -999.0,9, 20210513,     1213,  38.3242, -68.8585,     4.1119,2,     0.0417,1,     4.6642,1,     -999.0,9,     -999.0,9,     -999.0,9
325020210420,        A22,      80,          1,         16,         16,2,20210513,       1104,    38.3242,   -68.8585,       3809,  1212.6,   4.0247,  34.9720,2,  34.9732,2,    261.1,2,   261.3,2,   12.29,2,   17.66,2,    0.00,2,    1.16,2,   2.661,2,   1.390,2,   0.8500,2,  2168.3,2, 2307.89,2,  775.200,2,    20.00,   7.71411,2,    25.00, -999.00,9, -999.00,9, -999.00, -999.00,9,-999.000,9,   44.40,2, -999.00,1,      13.48,2, 20210513,     1210,  38.3242, -68.8585,     4.0250,2,     0.0422,1,     4.6631,1,     -999.0,9,     -999.0,9,     -999.0,9
325020210420,        A22,      80,          1,         15,         15,2,20210513,       1104,    38.3242,   -68.8585,       3809,  1314.1,   3.9377,  34.9686,2,  34.9701,2,    261.8,2,   261.7,2,   12.68,2,   17.62,2,    0.00,2,    1.15,2,   2.563,2,   1.328,2,   0.7800,2,  2166.6,2, 2305.55,2,  772.040,2,    20.00,   7.71558,2,    24.99, -999.00,9, -999.00,9, -999.00, -999.00,9,-999.000,9,   44.20,2, -999.00,1,      13.46,2, 20210513,     1207,  38.3242, -68.8585,     3.9384,2,     0.0427,1,     4.6640,1,     -999.0,9,     -999.0,9,     -999.0,9
325020210420,        A22,      80,          1,         14,         14,2,20210513,       1104,    38.3242,   -68.8585,       3809,  1415.2,   3.8713,  34.9666,2,  34.9660,2,    262.5,2,   262.8,2,   12.88,2,   17.62,2,    0.00,2,    1.15,2,-999.000,9,-999.000,9,-999.0000,9,  2168.2,2, 2309.03,2,  768.475,6,    20.00,   7.71764,2,    24.99, -999.00,9, -999.00,9, -999.00, -999.00,9,-999.000,9,   43.60,2, -999.00,1,     -999.0,9, 20210513,     1204,  38.3241, -68.8585,     3.8713,2,     0.0422,1,     4.6656,1,     -999.0,9,     -999.0,9,     -999.0,9
325020210420,        A22,      80,          1,         13,         13,2,20210513,       1104,    38.3242,   -68.8585,       3809,  1516.9,   3.7692,  34.9637,2,  34.9662,2,    263.5,2,   264.4,2,   13.27,2,   17.65,2,    0.00,2,    1.15,2,   2.337,2,   1.200,2,   0.6200,2,  2167.3,6, 2305.49,2,  763.380,2,    20.00,   7.72058,2,    25.00, -999.00,9, -999.00,9, -999.00, -999.00,9,-999.000,9,   43.30,2, -999.00,1,      13.14,2, 20210513,     1201,  38.3242, -68.8586,     3.7700,2,     0.0427,1,     4.6667,1,     -999.0,9,     -999.0,9,     -999.0,9
325020210420,        A22,      80,          1,         12,         12,2,20210513,       1104,    38.3242,   -68.8585,       3809,  1618.3,   3.7008,  34.9624,2,  34.9636,2,    263.3,2,   263.4,2,   13.95,2,   17.73,2,    0.00,2,    1.16,2,-999.000,9,-999.000,9,-999.0000,9,  2164.1,2, 2308.76,2,  758.780,2,    20.00,   7.72255,2,    24.99, -999.00,9, -999.00,9, -999.00, -999.00,9,-999.000,9,   43.90,2, -999.00,1,     -999.0,9, 20210513,     1158,  38.3241, -68.8585,     3.7010,2,     0.0426,1,     4.6662,1,     -999.0,9,     -999.0,9,     -999.0,9
325020210420,        A22,      80,          1,         11,         11,2,20210513,       1104,    38.3242,   -68.8585,       3809,  1720.3,   3.5915,  34.9585,2,  34.9604,2,    263.9,2,   263.9,2,   14.44,2,   17.79,2,    0.00,2,    1.16,2,   2.024,2,   1.025,2,   0.4500,2,  2164.0,2, 2308.66,2,  754.530,2,    20.00,   7.72466,2,    24.98, -999.00,9, -999.00,9, -999.00, -999.00,9,-999.000,9,   43.80,2, -999.00,1,      13.03,2, 20210513,     1155,  38.3242, -68.8585,     3.5919,2,     0.0429,1,     4.6684,1,     -999.0,9,     -999.0,9,     -999.0,9
325020210420,        A22,      80,          1,         10,         10,2,20210513,       1104,    38.3242,   -68.8585,       3809,  1821.8,   3.5118,  34.9555,2,  34.9573,2,    264.3,2,   264.4,2,   14.83,2,   17.67,2,    0.00,2,    1.16,2,-999.000,9,-999.000,9,-999.0000,9,  2165.0,2, 2309.03,2,  751.460,2,    20.00,   7.72681,2,    24.99, -999.00,9, -999.00,9, -999.00, -999.00,9,-999.000,9,   44.30,2, -999.00,1,     -999.0,9, 20210513,     1152,  38.3241, -68.8585,     3.5119,2,     0.0420,1,     4.6671,1,     -999.0,9,     -999.0,9,     -999.0,9
325020210420,        A22,      80,          1,          9,          9,2,20210513,       1104,    38.3242,   -68.8585,       3809,  2024.9,   3.3383,  34.9489,2,  34.9502,2,    265.2,2,   265.1,2,   16.10,2,   17.70,2,    0.00,2,    1.16,2,   1.749,2,   0.879,2,   0.3800,2,  2166.0,2, 2312.23,2,  748.880,2,    20.00,   7.72921,2,    25.00, -999.00,9, -999.00,9, -999.00, -999.00,9,-999.000,9,   43.30,2, -999.00,1,      12.90,2, 20210513,     1147,  38.3242, -68.8586,     3.3386,2,     0.0416,1,     4.6684,1,     -999.0,9,     -999.0,9,     -999.0,9
325020210420,        A22,      80,          1,          8,          8,2,20210513,       1104,    38.3242,   -68.8585,       3809,  2228.1,   3.1802,  34.9433,2,  34.9457,3,    265.6,2,   265.9,2,   17.37,2,   17.69,2,    0.00,2,    1.16,2,-999.000,9,-999.000,9,-999.0000,9,  2165.8,2, 2310.97,2,  743.370,2,    20.00,   7.73049,2,    24.99, -999.00,9, -999.00,9, -999.00, -999.00,9,-999.000,9,   45.90,2, -999.00,1,     -999.0,9, 20210513,     1142,  38.3242, -68.8585,     3.1801,2,     0.0430,1,     4.6689,1,     -999.0,9,     -999.0,9,     -999.0,9
325020210420,        A22,      80,          1,          7,          7,2,20210513,       1104,    38.3242,   -68.8585,       3809,  2432.4,   2.9609,  34.9346,2,  34.9359,2,    266.8,2,   267.1,2,   18.73,2,   17.69,2,    0.00,2,    1.17,2,   1.539,2,   0.781,2,   0.3900,2,  2166.5,2, 2314.01,2,  744.480,2,    20.00,    7.7304,2,    25.00, -999.00,9, -999.00,9, -999.00, -999.00,9,-999.000,9,   43.30,2, -999.00,1,      13.06,2, 20210513,     1137,  38.3242, -68.8585,     2.9605,2,     0.0422,1,     4.6691,1,     -999.0,9,     -999.0,9,     -999.0,9
325020210420,        A22,      80,          1,          6,          6,2,20210513,       1104,    38.3242,   -68.8585,       3809,  2636.2,   2.7803,  34.9256,2,  34.9258,2,    269.1,2,   269.4,2,   19.32,2,   17.48,2,    0.00,2,    1.16,2,   1.671,2,   0.851,2,   0.4900,2,  2167.2,2, 2314.51,2,  746.940,2,    20.00,   7.72958,2,    24.99, -999.00,9, -999.00,9, -999.00, -999.00,9,-999.000,9,   42.50,2, -999.00,1,      13.03,2, 20210513,     1133,  38.3242, -68.8585,     2.7807,2,     0.0435,1,     4.6685,1,     -999.0,9,     -999.0,9,     -999.0,9
325020210420,        A22,      80,          1,          5,          5,2,20210513,       1104,    38.3242,   -68.8585,       3809,  2840.1,   2.5720,  34.9157,2,  34.9168,2,    270.7,2,   270.7,2,   20.78,2,   17.42,2,    0.00,2,    1.16,2,   1.662,2,   0.856,2,   0.4900,2,  2168.5,2, 2313.46,2,  747.490,2,    20.00,   7.72907,6,    24.99, -999.00,9, -999.00,9, -999.00, -999.00,9,-999.000,9,   43.10,2, -999.00,1,      12.77,2, 20210513,     1127,  38.3241, -68.8585,     2.5719,2,     0.0429,1,     4.6690,1,     -999.0,9,     -999.0,9,     -999.0,9
325020210420,        A22,      80,          1,          4,          4,2,20210513,       1104,    38.3242,   -68.8585,       3809,  3044.8,   2.4083,  34.9071,2,  34.9073,2,    272.6,2,   272.8,2,   21.47,2,   17.23,2,    0.00,2,    1.14,2,-999.000,9,-999.000,9,-999.0000,9,  2170.8,2, 2314.86,6, -999.000,9,  -999.00,   7.72643,2,    24.99, -999.00,9, -999.00,9, -999.00, -999.00,9,-999.000,9,   43.70,2, -999.00,1,     -999.0,9, 20210513,     1122,  38.3241, -68.8585,     2.4080,2,     0.0429,1,     4.6679,1,     -999.0,9,     -999.0,9,     -999.0,9
325020210420,        A22,      80,          1,          3,          3,2,20210513,       1104,    38.3242,   -68.8585,       3809,  3249.1,   2.2887,  34.8999,2,  34.9004,2,    272.0,2,   272.3,2,   23.81,2,   17.49,2,    0.00,2,    1.16,2,   1.868,2,   0.973,2,   0.6000,2,  2173.9,2,  2316.4,2,  758.990,2,    20.00,   7.72431,2,    24.99, -999.00,9, -999.00,9, -999.00, -999.00,9,-999.000,9,   43.50,2, -999.00,1,      12.56,2, 20210513,     1117,  38.3241, -68.8585,     2.2881,2,     0.0423,1,     4.6646,1,     -999.0,9,     -999.0,9,     -999.0,9