BOTTLE,20230513CCHSIOCBG
EXPOCODE,SECT_ID,STNNBR,CASTNO,SAMPNO,BTLNBR,BTLNBR_FLAG_W,DATE,TIME,LATITUDE,LONGITUDE,DEPTH,CTDPRS,CTDTMP,CTDSAL,CTDSAL_FLAG_W,SALNTY,SALNTY_FLAG_W,CTDOXY,CTDOXY_FLAG_W,OXYGEN,OXYGEN_FLAG_W,SILCAT,SILCAT_FLAG_W,NITRAT,NITRAT_FLAG_W,NITRIT,NITRIT_FLAG_W,PHSPHT,PHSPHT_FLAG_W,CFC-11,CFC-11_FLAG_W,CFC-12,CFC-12_FLAG_W,SF6,SF6_FLAG_W,TCARBN,TCARBN_FLAG_W,ALKALI,ALKALI_FLAG_W,FCO2,FCO2_FLAG_W,FCO2TMP,PH_TOT,PH_TOT_FLAG_W,PH_TMP,DELC13,DELC13_FLAG_W,DELC14,DELC14_FLAG_W,C14ERR,DELO18,DELO18_FLAG_W,POC,POC_FLAG_W,DOC,DOC_FLAG_W,TDN,TDN_FLAG_W,N2O,N2O_FLAG_W,BTL_DATE,BTL_TIME,BTL_LAT,BTL_LON,REFTMP,REFTMP_FLAG_W,CTDFLUOR,CTDFLUOR_FLAG_W,CTDXMISS,CTDXMISS_FLAG_W,D15N_NO2+NO3,D15N_NO2+NO3_FLAG_W,D18O_NO2+NO3,D18O_NO2+NO3_FLAG_W,HPLC,HPLC_FLAG_W
,,,,,,,,,,,METERS,DBAR,ITS-90,PSS-78,,PSS-78,,UMOL/KG,,UMOL/KG,,UMOL/KG,,UMOL/KG,,UMOL/KG,,UMOL/KG,,PMOL/KG,,PMOL/KG,,FMOL/KG,,UMOL/KG,,UMOL/KG,,UATM,,DEG C,,,DEG C,/MILLE,,/MILLE,,/MILLE,/MILLE,,UG/KG,,UMOL/KG,,UMOL/KG,,NMOL/KG,,,,,,ITS-90,,VOLTS,,VOLTS,,/MILLE,,/MILLE,,,
325020210420,        A22,       4,          1,         26,         26,2,20210422,       1616,    13.0696,   -69.8939,       1468,     5.4,  27.1703,  36.0692,2,  36.0784,2,    201.8,2,   201.2,2,    0.78,2,    0.00,2,    0.00,2,    0.00,2,   1.433,2,   0.951,2,   1.7700,2,  2031.6,6, 2360.93,2,  299.680,2,    20.00,   8.09141,2,    25.01, -999.00,9, -999.00,9, -999.00, -999.00,1,-999.000,9,   72.40,2,    4.74,2,       6.02,2, 20210422,     1712,  13.0696, -69.8939,    27.1758,2,     0.0427,1,     4.6076,1,     -999.0,9,     -999.0,9,     -999.0,9
325020210420,        A22,       4,          1,         25,         25,2,20210422,       1616,    13.0696,   -69.8939,       1468,    19.5,  27.0788,  36.1466,2,  36.1450,2,    201.6,2,   201.0,2,    0.78,2,    0.01,2,    0.00,2,    0.00,2,-999.000,9,-999.000,9,-999.0000,9,  2036.8,2, 2365.39,2,  307.380,2,    20.00,   8.08911,6,    25.01, -999.00,9, -999.00,9, -999.00, -999.00,9,-999.000,9,   70.30,2,    4.68,2,     -999.0,9, 20210422,     1710,  13.0696, -69.8939,    27.0790,2,     0.0456,1,     4.6069,1,     -999.0,9,     -999.0,9,     -999.0,9
325020210420,        A22,       4,          1,         24,         24,2,20210422,       1616,    13.0696,   -69.8939,       1468,    41.4,  26.9000,  36.5338,2,  36.5357,2,    199.4,2,   200.1,2,    0.58,2,    0.00,2,    0.01,2,    0.00,2,-999.000,9,-999.000,9,-999.0000,9,  2064.2,2, 2388.47,6,  318.780,2,    20.00,   8.07148,2,    25.01, -999.00,9, -999.00,9, -999.00, -999.00,9,-999.000,9,   68.30,2,    4.29,2,     -999.0,9, 20210422,     1709,  13.0696, -69.8939,    26.9002,2,     0.0573,1,     4.6118,1,     -999.0,9,     -999.0,9,     -999.0,9
325020210420,        A22,       4,          1,         23,         23,2,20210422,       1616,    13.0696,   -69.8939,       1468,    64.8,  26.4989,  36.7116,2,  36.7538,3,    191.3,3,   194.2,2,    0.68,2,    0.06,2,    0.10,2,    0.00,2,   1.482,2,   0.993,2,   1.6100,2,  2080.7,2, 2401.18,2,  327.210,2,    20.00,   8.06483,2,    25.00, -999.00,9, -999.00,9, -999.00, -999.00,9,-999.000,9,   65.70,2,    4.44,2,       6.67,2, 20210422,     1707,  13.0696, -69.8940,    26.4943,2,     0.1211,1,     4.6016,1,     -999.0,9,     -999.0,9,     -999.0,9
325020210420,        A22,       4,          1,         22,         22,2,20210422,       1616,    13.0696,   -69.8939,       1468,    90.3,  24.5071,  37.2308,2,  37.2304,2,    173.0,2,   173.8,2,    0.58,2,    1.09,2,    0.05,2,    0.00,2,-999.000,9,-999.000,9,-999.0000,9,  2133.4,2, 2425.49,2,  373.640,2,    20.00,   8.01815,2,    25.01, -999.00,9, -999.00,9, -999.00, -999.00,9,-999.000,9,   58.80,2,    5.04,2,     -999.0,9, 20210422,     1705,  13.0696, -69.8939,    24.5151,2,     0.0737,1,     4.6486,1,     -999.0,9,     -999.0,9,     -999.0,9
325020210420,        A22,       4,          1,         21,         21,2,20210422,       1616,    13.0696,   -69.8939,       1468,   115.6,  22.6609,  37.1214,2,  37.0949,3,    163.4,2,   163.1,2,    0.78,2,    2.87,2,    0.02,2,    0.08,2,   1.749,2,   1.153,2,   1.5300,2,  2148.4,2,  2417.3,2,  423.190,2,    20.00,   7.97064,2,    25.01, -999.00,9, -999.00,9, -999.00, -999.00,9,-999.000,9,   52.50,2,    6.58,2,       8.86,2, 20210422,     1702,  13.0696, -69.8939,    22.6621,2,     0.0595,1,     4.6608,1,     -999.0,9,     -999.0,9,     -999.0,9
325020210420,        A22,       4,          1,         20,         20,2,20210422,       1616,    13.0696,   -69.8939,       1468,   140.3,  20.7549,  36.8798,2,  36.8778,2,    157.0,2,   157.1,2,    1.17,2,    4.99,2,    0.00,2,    0.19,2,-999.000,9,-999.000,9,-999.0000,9,  2157.0,2, 2403.21,6,  468.180,2,    20.00,    7.9306,2,    25.03, -999.00,9, -999.00,9, -999.00, -999.00,9,-999.000,9,   51.00,2,    8.51,2,     -999.0,9, 20210422,     1702,  13.0697, -69.8940,    20.7522,2,     0.0434,1,     4.6710,1,     -999.0,9,     -999.0,9,     -999.0,9
325020210420,        A22,       4,          1,         19,         19,2,20210422,       1616,    13.0696,   -69.8939,       1468,   166.6,  19.2271,  36.6713,2,  36.6762,2,    160.7,2,   161.6,2,    1.27,2,    6.29,2,    0.00,2,    0.24,2,   1.969,2,   1.252,2,   1.6400,2,  2156.0,2, 2392.16,2,  483.170,2,    20.00,    7.9154,2,    25.00, -999.00,9, -999.00,9, -999.00, -999.00,9,-999.000,9,   50.40,2,    8.61,2,      10.77,2, 20210422,     1700,  13.0696, -69.8939,    19.2417,2,     0.0401,1,     4.6759,1,     -999.0,9,     -999.0,9,     -999.0,9
325020210420,        A22,       4,          1,         18,         18,2,20210422,       1616,    13.0696,   -69.8939,       1468,   192.5,  17.5220,  36.3455,2,  36.3420,2,    141.2,2,   141.2,2,    3.02,2,   11.50,2,    0.00,2,    0.59,2,-999.000,9,-999.000,9,-999.0000,9,  2168.8,2, 2371.92,2,  576.940,2,    20.00,   7.84305,2,    24.99, -999.00,9, -999.00,9, -999.00, -999.00,9,-999.000,9,   48.00,2,   13.80,2,     -999.0,9, 20210422,     1659,  13.0696, -69.8940,    17.5259,2,     0.0394,1,     4.6752,1,     -999.0,9,     -999.0,9,     -999.0,9
325020210420,        A22,       4,          1,         17,         17,2,20210422,       1616,    13.0696,   -69.8939,       1468,   217.1,  17.0544,  36.2953,2,  36.2948,2,    149.3,2,   149.1,2,    3.31,2,   11.27,2,    0.00,2,    0.57,2,   2.069,2,   1.299,2,   1.2800,2,  2167.4,2, 2369.51,2,  568.630,2,    20.00,   7.84965,2,    24.98, -999.00,9, -999.00,9, -999.00, -999.00,9,-999.000,9,   47.10,2,   13.54,2,      14.92,2, 20210422,     1657,  13.0696, -69.8939,    17.0612,2,     0.0409,1,     4.6771,1,     -999.0,9,     -999.0,9,     -999.0,9
325020210420,        A22,       4,          1,         16,         16,2,20210422,       1616,    13.0696,   -69.8939,       1468,   242.0,  15.8029,  36.0744,2,  36.0752,2,    139.2,2,   139.2,2,    4.58,2,   14.31,2,    0.00,2,    0.78,2,-999.000,9,-999.000,9,-999.0000,9,  2176.8,2, 2357.53,2,  632.770,2,    20.00,   7.80411,2,    25.00, -999.00,9, -999.00,9, -999.00, -999.00,9,-999.000,9,   46.30,2,   16.56,2,     -999.0,9, 20210422,     1654,  13.0696, -69.8940,    15.8093,2,     0.0402,1,     4.6788,1,     -999.0,9,     -999.0,9,     -999.0,9
325020210420,        A22,       4,          1,         15,         15,2,20210422,       1616,    13.0696,   -69.8939,       1468,   286.9,  14.1870,  35.7950,2,  35.7997,2,    128.9,2,   129.1,2,    6.92,2,   18.08,2,    0.00,2,    1.02,2,   2.028,2,   1.236,2,   1.0300,2,  2190.1,2, 2343.27,2,  723.110,2,    20.00,   7.74877,2,    25.00, -999.00,9, -999.00,9, -999.00, -999.00,9,-999.000,9,   44.80,2, -999.00,1,      20.41,2, 20210422,     1653,  13.0696, -69.8939,    14.1923,2,     0.0412,1,     4.6738,1,     -999.0,9,     -999.0,9,     -999.0,9
325020210420,        A22,       4,          1,         14,         14,2,20210422,       1616,    13.0696,   -69.8939,       1468,   337.0,  12.5460,  35.5172,2,  35.5227,2,    123.4,2,   123.5,2,    9.07,2,   21.48,2,    0.00,2,    1.26,2,-999.000,9,-999.000,9,-999.0000,9,  2195.2,2, 2329.95,2,  812.800,2,    20.00,   7.69764,2,    25.01, -999.00,9, -999.00,9, -999.00, -999.00,9,-999.000,9,   45.00,2, -999.00,1,     -999.0,9, 20210422,     1651,  13.0696, -69.8939,    12.5514,2,     0.0412,1,     4.6751,1,     -999.0,9,     -999.0,9,     -999.0,9
325020210420,        A22,       4,          1,         13,         13,2,20210422,       1616,    13.0696,   -69.8939,       1468,   387.8,  11.2406,  35.3043,2,  35.3051,2,    120.1,2,   120.5,2,   11.31,2,   24.27,2,    0.00,2,    1.45,2,   1.812,2,   1.054,2,   0.7200,2,  2201.1,2,  2331.3,3,  901.140,2,    20.00,   7.65695,6,    24.95, -999.00,9, -999.00,9, -999.00, -999.00,9,-999.000,9,   42.30,2, -999.00,1,      25.09,2, 20210422,     1649,  13.0696, -69.8939,    11.2438,2,     0.0429,1,     4.6764,1,     -999.0,9,     -999.0,9,     -999.0,9
325020210420,        A22,       4,          1,         12,         12,2,20210422,       1616,    13.0696,   -69.8939,       1468,   438.5,   9.9739,  35.1171,2,  35.1173,2,    118.2,2,   118.3,2,   13.65,2,   26.88,2,    0.00,2,    1.63,2,-999.000,9,-999.000,9,-999.0000,9,  2204.8,2, 2316.16,6,  980.530,2,    20.00,   7.61866,2,    24.96, -999.00,9, -999.00,9, -999.00, -999.00,9,-999.000,9,   43.80,2, -999.00,1,     -999.0,9, 20210422,     1646,  13.0696, -69.8939,     9.9765,2,     0.0409,1,     4.6768,1,     -999.0,9,     -999.0,9,     -999.0,9
325020210420,        A22,       4,          1,         11,         11,2,20210422,       1616,    13.0696,   -69.8939,       1468,   488.6,   9.1444,  35.0080,2,  35.0079,2,    118.2,2,   118.3,2,   15.51,2,   28.53,2,    0.00,2,    1.78,2,   1.427,2,   0.800,2,   0.5100,2,  2211.3,6, 2309.22,2, 1030.590,2,    20.00,   7.59654,2,    24.97, -999.00,9, -999.00,9, -999.00, -999.00,9,-999.000,9,   42.50,2, -999.00,1,      26.45,2, 20210422,     1645,  13.0696, -69.8940,     9.1459,2,     0.0431,1,     4.6777,1,     -999.0,9,     -999.0,9,     -999.0,9
325020210420,        A22,       4,          1,         10,         10,2,20210422,       1616,    13.0696,   -69.8939,       1468,   568.8,   7.9097,  34.8638,2,  34.8609,2,    120.2,2,   120.1,2,   18.83,2,   30.82,2,    0.00,2,    1.94,2,-999.000,9,-999.000,9,-999.0000,9,  2215.1,2,  2303.2,2, 1097.380,2,    20.00,   7.56967,6,    24.99, -999.00,9, -999.00,9, -999.00, -999.00,1,-999.000,9,   41.20,2, -999.00,1,     -999.0,9, 20210422,     1642,  13.0696, -69.8939,     7.9059,2,     0.0436,1,     4.6788,1,     -999.0,9,     -999.0,9,     -999.0,9
325020210420,        A22,       4,          1,          9,          9,2,20210422,       1616,    13.0696,   -69.8939,       1468,   669.6,   7.0286,  34.7926,2,  34.7907,2,    125.2,2,   125.1,2,   21.66,2,   31.83,2,    0.00,2,    2.03,2,   0.738,2,   0.408,2,   0.2500,2,  2216.8,2, 2305.37,2, 1118.430,2,    20.00,   7.55988,2,    24.97, -999.00,9, -999.00,9, -999.00, -999.00,9,-999.000,9,   40.60,2, -999.00,1,      25.63,2, 20210422,     1640,  13.0696, -69.8939,     7.0314,2,     0.0429,1,     4.6813,1,     -999.0,9,     -999.0,9,     -999.0,9
325020210420,        A22,       4,          1,          8,          8,2,20210422,       1616,    13.0696,   -69.8939,       1468,   771.4,   6.3150,  34.7903,2,  34.7903,2,    135.1,2,   135.1,2,   23.70,2,   31.50,2,    0.00,2,    2.02,2,-999.000,9,-999.000,9,-999.0000,9,  2215.4,2, 2310.54,2, 1089.160,2,    20.00,    7.5713,2,    24.94, -999.00,9, -999.00,9, -999.00, -999.00,9,-999.000,9,   40.50,2, -999.00,1,     -999.0,9, 20210422,     1637,  13.0696, -69.8940,     6.3162,2,     0.0429,1,     4.6820,1,     -999.0,9,     -999.0,9,     -999.0,9
325020210420,        A22,       4,          1,          7,          7,2,20210422,       1616,    13.0696,   -69.8939,       1468,   871.3,   5.8473,  34.8474,2,  34.8473,2,    150.8,2,   151.2,2,   24.29,2,   29.54,2,    0.00,2,    1.91,2,   0.274,2,   0.156,2,   0.0200,2,  2211.3,2, 2314.13,2, 1020.850,2,    20.00,   7.60012,2,    24.96, -999.00,9, -999.00,9, -999.00, -999.00,9,-999.000,9,   40.50,2, -999.00,1,      21.62,2, 20210422,     1634,  13.0696, -69.8940,     5.8547,2,     0.0430,1,     4.6786,1,     -999.0,9,     -999.0,9,     -999.0,9
325020210420,        A22,       4,          1,          6,          6,2,20210422,       1616,    13.0696,   -69.8939,       1468,   972.7,   5.2880,  34.9140,2,  34.9146,2,    173.5,2,   173.6,2,   24.38,2,   26.69,2,    0.00,2,    1.75,2,-999.000,9,-999.000,9,-999.0000,9,  2203.8,2, 2319.68,2,  929.780,2,    20.00,   7.64083,2,    24.95, -999.00,9, -999.00,9, -999.00, -999.00,9,-999.000,9,   40.30,2, -999.00,1,     -999.0,9, 20210422,     1631,  13.0696, -69.8939,     5.2877,2,     0.0437,1,     4.6802,1,     -999.0,9,     -999.0,9,     -999.0,9
325020210420,        A22,       4,          1,          5,          5,2,20210422,       1616,    13.0696,   -69.8939,       1468,  1073.5,   4.9143,  34.9447,2,  34.9445,2,    189.5,2,   189.7,2,   23.90,2,   24.88,2,    0.00,2,    1.66,2,   0.189,2,   0.106,2,   0.0100,2,  2198.2,2, 2326.99,2,  877.500,2,    20.00,   7.66464,2,    24.97, -999.00,9, -999.00,9, -999.00, -999.00,9,-999.000,9,   40.40,2, -999.00,1,      17.36,2, 20210422,     1628,  13.0696, -69.8939,     4.9155,2,     0.0425,1,     4.6842,1,     -999.0,9,     -999.0,9,     -999.0,9
325020210420,        A22,       4,          1,          4,          4,2,20210422,       1616,    13.0696,   -69.8939,       1468,  1175.1,   4.7350,  34.9548,2,  34.9563,2,    196.3,2,   196.3,2,   23.80,2,   24.06,2,    0.00,2,    1.63,2,-999.000,9,-999.000,9,-999.0000,9,  2196.0,2, 2325.45,2,  856.040,6,    20.00,   7.67518,2,    24.96, -999.00,9, -999.00,9, -999.00, -999.00,9,-999.000,9,   40.40,2, -999.00,1,     -999.0,9, 20210422,     1625,  13.0696, -69.8939,     4.7334,2,     0.0428,1,     4.6837,1,     -999.0,9,     -999.0,9,     -999.0,9
325020210420,        A22,       4,          1,          3,          3,2,20210422,       1616,    13.0696,   -69.8939,       1468,  1276.0,   4.4969,  34.9663,2,  34.9673,2,    204.5,2,   204.7,2,   24.19,2,   23.15,2,    0.00,2,    1.56,2,   0.163,6,   0.092,6,   0.0300,6,  2194.4,2, 2324.44,6,  831.060,2,    20.00,   7.68734,2,    24.95, -999.00,9, -999.00,9, -999.00, -999.00,9,-999.000,9,   39.50,2, -999.00,1,      15.52,6, 20210422,     1622,  13.0696, -69.8939,     4.4970,2,     0.0419,1,     4.6850,1,     -999.0,9,     -999.0,9,     -999.0,9
325020210420,        A22,       4,          1,          2,          2,2,20210422,       1616,    13.0696,   -69.8939,       1468,  1377.2,   4.4169,  34.9689,2,  34.9683,2,    206.5,2,   206.8,2,   24.58,2,   22.95,2,    0.00,2,    1.55,2,-999.000,9,-999.000,9,-999.0000,9,  2195.8,2, 2332.73,2,  826.790,2,    20.00,   7.69049,6,    24.97, -999.00,9, -999.00,9, -999.00, -999.00,9,-999.000,9,   40.10,2, -999.00,1,     -999.0,9, 20210422,     1619,  13.0696, -69.8939,     4.4163,2,     0.0429,1,     4.6841,1,     -999.0,9,     -999.0,9,     -999.0,9
325020210420,        A22,       4,          1,          1,          1,2,20210422,       1616,    13.0696,   -69.8939,       1468,  1469.2,   4.3354,  34.9711,2,  34.9699,2,    208.2,2,   208.3,2,   25.94,2,   22.81,2,    0.00,2,    1.52,2,   0.128,2,   0.075,2,   0.0500,2,  2193.6,6, 2333.95,2,  818.480,2,    20.00,   7.69337,2,    24.96, -999.00,9, -999.00,9, -999.00, -999.00,9,-999.000,9,   40.90,2, -999.00,1,      14.91,2, 20210422,     1616,  13.0697, -69.8940,     4.3347,2,     0.0424,1,     4.6838,1,     -999.0,9,     -999.0,9,     -999.0,9