BOTTLE,20230513CCHSIOCBG
EXPOCODE,SECT_ID,STNNBR,CASTNO,SAMPNO,BTLNBR,BTLNBR_FLAG_W,DATE,TIME,LATITUDE,LONGITUDE,DEPTH,CTDPRS,CTDTMP,CTDSAL,CTDSAL_FLAG_W,SALNTY,SALNTY_FLAG_W,CTDOXY,CTDOXY_FLAG_W,OXYGEN,OXYGEN_FLAG_W,SILCAT,SILCAT_FLAG_W,NITRAT,NITRAT_FLAG_W,NITRIT,NITRIT_FLAG_W,PHSPHT,PHSPHT_FLAG_W,CFC-11,CFC-11_FLAG_W,CFC-12,CFC-12_FLAG_W,SF6,SF6_FLAG_W,TCARBN,TCARBN_FLAG_W,ALKALI,ALKALI_FLAG_W,FCO2,FCO2_FLAG_W,FCO2TMP,PH_TOT,PH_TOT_FLAG_W,PH_TMP,DELC13,DELC13_FLAG_W,DELC14,DELC14_FLAG_W,C14ERR,DELO18,DELO18_FLAG_W,POC,POC_FLAG_W,DOC,DOC_FLAG_W,TDN,TDN_FLAG_W,N2O,N2O_FLAG_W,BTL_DATE,BTL_TIME,BTL_LAT,BTL_LON,REFTMP,REFTMP_FLAG_W,CTDFLUOR,CTDFLUOR_FLAG_W,CTDXMISS,CTDXMISS_FLAG_W,D15N_NO2+NO3,D15N_NO2+NO3_FLAG_W,D18O_NO2+NO3,D18O_NO2+NO3_FLAG_W,HPLC,HPLC_FLAG_W
,,,,,,,,,,,METERS,DBAR,ITS-90,PSS-78,,PSS-78,,UMOL/KG,,UMOL/KG,,UMOL/KG,,UMOL/KG,,UMOL/KG,,UMOL/KG,,PMOL/KG,,PMOL/KG,,FMOL/KG,,UMOL/KG,,UMOL/KG,,UATM,,DEG C,,,DEG C,/MILLE,,/MILLE,,/MILLE,/MILLE,,UG/KG,,UMOL/KG,,UMOL/KG,,NMOL/KG,,,,,,ITS-90,,VOLTS,,VOLTS,,/MILLE,,/MILLE,,,
325020210420,        A22,      24,          1,         30,         30,2,20210427,       1102,    17.6668,   -66.0000,       1943,     5.4,  27.0991,  36.0044,2,  36.0044,2,    202.7,2,   201.8,2,    0.98,2,    0.00,2,    0.00,2,    0.00,2,   1.463,2,   0.952,2,   1.6600,2,  2025.1,6, 2357.92,2,  293.570,2,    20.00,   8.09603,2,    25.02, -999.00,9, -999.00,9, -999.00, -999.00,1,-999.000,9,   73.00,2,    4.51,2,       5.97,2, 20210427,     1223,  17.6668, -66.0000,    27.0985,2,     0.0428,1,     4.6173,1,     -999.0,9,     -999.0,9,     -999.0,9
325020210420,        A22,      24,          1,         29,         29,2,20210427,       1102,    17.6668,   -66.0000,       1943,    35.6,  27.0437,  35.9956,2,  35.9947,2,    203.5,2,   202.5,2,    1.07,2,    0.00,2,    0.00,2,    0.00,2,-999.000,9,-999.000,9,-999.0000,9,  2022.8,2,  2356.3,2,  293.510,2,    20.00,   8.09617,2,    25.01, -999.00,9, -999.00,9, -999.00, -999.00,9,-999.000,9,   70.80,2,    4.38,2,     -999.0,9, 20210427,     1221,  17.6668, -66.0000,    27.0404,2,     0.0482,1,     4.6170,1,     -999.0,9,     -999.0,9,     -999.0,9
325020210420,        A22,      24,          1,         28,         28,2,20210427,       1102,    17.6668,   -66.0000,       1943,    60.8,  26.6206,  36.2536,2,  36.2487,2,    204.5,2,   204.1,2,    0.88,2,    0.00,2,    0.00,2,    0.00,2,-999.000,9,-999.000,9,-999.0000,9,  2032.2,2,  2375.8,2,  292.430,2,    20.00,   8.10055,6,    25.02, -999.00,9, -999.00,9, -999.00, -999.00,9,-999.000,9,   71.10,2,    4.31,2,     -999.0,9, 20210427,     1219,  17.6668, -66.0000,    26.6229,2,     0.0547,1,     4.6243,1,     -999.0,9,     -999.0,9,     -999.0,9
325020210420,        A22,      24,          1,         27,         27,2,20210427,       1102,    17.6668,   -66.0000,       1943,    85.5,  25.9633,  36.7335,2,  36.7534,2,    190.9,2,   191.3,2,    0.78,2,    0.24,2,    0.17,2,    0.00,2,   1.545,2,   0.996,2,   1.6400,2,  2077.8,2, 2404.51,2,  321.900,2,    20.00,   8.06815,2,    25.04, -999.00,9, -999.00,9, -999.00, -999.00,9,-999.000,9,   66.80,2,    4.67,2,       6.66,2, 20210427,     1216,  17.6668, -66.0000,    25.9711,2,     0.0979,1,     4.6181,1,     -999.0,9,     -999.0,9,     -999.0,9
325020210420,        A22,      24,          1,         26,         26,2,20210427,       1102,    17.6668,   -66.0000,       1943,   110.9,  25.2010,  37.1278,2,  37.1292,2,    195.1,2,   195.6,2,    0.68,2,    0.00,2,    0.08,2,    0.00,2,-999.000,9,-999.000,9,-999.0000,9,  2099.6,2, 2425.02,6,  332.060,2,    20.00,   8.05991,2,    25.02, -999.00,9, -999.00,9, -999.00, -999.00,1,-999.000,9,   62.10,2,    4.05,2,     -999.0,9, 20210427,     1215,  17.6668, -66.0000,    25.2028,2,     0.0712,1,     4.6402,1,     -999.0,9,     -999.0,9,     -999.0,9
325020210420,        A22,      24,          1,         25,         25,2,20210427,       1102,    17.6668,   -66.0000,       1943,   135.9,  23.9742,  37.1832,2,  37.1803,2,    191.4,2,   192.6,2,    0.29,2,    0.07,2,    0.14,2,    0.00,2,-999.000,9,-999.000,9,-999.0000,9,  2114.1,2, 2427.89,2,  352.480,2,    20.00,   8.03565,6,    25.01, -999.00,9, -999.00,9, -999.00, -999.00,9,-999.000,9,   61.20,2,    3.95,2,     -999.0,9, 20210427,     1213,  17.6668, -66.0000,    23.9755,2,     0.0634,1,     4.6538,1,     -999.0,9,     -999.0,9,     -999.0,9
325020210420,        A22,      24,          1,         24,         24,2,20210427,       1102,    17.6668,   -66.0000,       1943,   161.0,  22.1894,  37.0685,2,  37.0655,2,    180.4,2,   181.0,2,    0.29,2,    1.12,2,    0.02,2,    0.00,2,-999.000,9,-999.000,9,-999.0000,9,  2134.9,2, 2426.27,2,  394.220,2,    20.00,   7.99566,2,    25.01, -999.00,9, -999.00,9, -999.00, -999.00,9,-999.000,9,   54.10,2,    4.77,2,     -999.0,9, 20210427,     1210,  17.6668, -66.0000,    22.1888,2,     0.0542,1,     4.6619,1,     -999.0,9,     -999.0,9,     -999.0,9
325020210420,        A22,      24,          1,         23,         23,2,20210427,       1102,    17.6668,   -66.0000,       1943,   186.7,  20.2843,  36.8509,2,  36.8427,2,    167.4,2,   167.8,2,    0.88,2,    4.17,2,    0.00,2,    0.14,2,   1.935,2,   1.229,2,   1.6900,2,  2153.5,2, 2408.02,2,  454.020,2,    20.00,   7.94015,2,    25.00, -999.00,9, -999.00,9, -999.00, -999.00,9,-999.000,9,   50.40,2,    7.58,2,       9.74,2, 20210427,     1208,  17.6668, -66.0000,    20.2856,2,     0.0415,1,     4.6685,1,     -999.0,9,     -999.0,9,     -999.0,9
325020210420,        A22,      24,          1,         22,         22,2,20210427,       1102,    17.6668,   -66.0000,       1943,   211.3,  19.1031,  36.6732,2,  36.6705,2,    170.9,2,   171.1,2,    1.27,2,    5.42,2,    0.00,2,    0.20,2,-999.000,9,-999.000,9,-999.0000,9,  2147.4,2, 2391.59,2,  467.640,2,    20.00,   7.92807,2,    25.01, -999.00,9, -999.00,9, -999.00, -999.00,9,-999.000,9,   48.50,2,    8.57,2,     -999.0,9, 20210427,     1206,  17.6668, -66.0000,    19.1030,2,     0.0396,1,     4.6705,1,     -999.0,9,     -999.0,9,     -999.0,9
325020210420,        A22,      24,          1,         21,         21,2,20210427,       1102,    17.6668,   -66.0000,       1943,   236.7,  18.5270,  36.5806,2,  36.5811,2,    171.5,2,   171.3,2,    1.56,2,    6.38,2,    0.00,2,    0.27,2,-999.000,9,-999.000,9,-999.0000,9,  -999.0,9, -999.00,9, -999.000,9,  -999.00,-999.00000,9,  -999.00, -999.00,9, -999.00,9, -999.00, -999.00,9,-999.000,9,   47.80,2,    8.71,2,     -999.0,9, 20210427,     1204,  17.6668, -66.0000,    18.5259,2,     0.0399,1,     4.6728,1,     -999.0,9,     -999.0,9,     -999.0,9
325020210420,        A22,      24,          1,         20,         20,2,20210427,       1102,    17.6668,   -66.0000,       1943,   272.2,  17.6555,  36.4395,2,  36.4400,2,    165.6,2,   165.8,2,    2.14,2,    8.32,2,    0.00,2,    0.39,2,   2.142,2,   1.321,2,   1.5700,2,  2158.0,2, 2379.34,2,  511.380,2,    20.00,   7.89134,2,    25.02, -999.00,9, -999.00,9, -999.00, -999.00,9,-999.000,9,   47.30,2, -999.00,1,      12.45,2, 20210427,     1202,  17.6668, -66.0000,    17.6497,2,     0.0396,1,     4.6724,1,     -999.0,9,     -999.0,9,     -999.0,9
325020210420,        A22,      24,          1,         19,         19,2,20210427,       1102,    17.6668,   -66.0000,       1943,   322.3,  15.9812,  36.1464,2,  36.1492,2,    148.9,2,   148.1,2,    4.00,2,   12.89,2,    0.00,2,    0.68,2,   2.141,2,   1.306,2,   1.2700,2,  2174.8,2, 2359.91,2,  602.410,2,    20.00,   7.82557,2,    25.02, -999.00,9, -999.00,9, -999.00, -999.00,9,-999.000,9,   45.90,2, -999.00,1,      16.08,2, 20210427,     1159,  17.6668, -66.0000,    15.9775,2,     0.0394,1,     4.6730,1,     -999.0,9,     -999.0,9,     -999.0,9
325020210420,        A22,      24,          1,         18,         18,2,20210427,       1102,    17.6668,   -66.0000,       1943,   372.5,  15.0660,  36.0121,2,  36.0135,2,    147.7,2,   147.6,2,    4.58,2,   14.31,2,    0.00,2,    0.77,2,-999.000,9,-999.000,9,-999.0000,9,  -999.0,9, -999.00,9, -999.000,9,  -999.00,-999.00000,9,  -999.00, -999.00,9, -999.00,9, -999.00, -999.00,9,-999.000,9,   45.10,2, -999.00,1,     -999.0,9, 20210427,     1157,  17.6668, -66.0000,    15.0430,2,     0.0409,1,     4.6764,1,     -999.0,9,     -999.0,9,     -999.0,9
325020210420,        A22,      24,          1,         17,         17,2,20210427,       1102,    17.6668,   -66.0000,       1943,   423.1,  13.6600,  35.7707,2,  35.7748,2,    138.3,2,   138.6,2,    6.63,2,   17.68,2,    0.00,2,    0.99,2,-999.000,9,-999.000,9,-999.0000,9,  2185.6,2, 2340.58,2,  708.825,6,    20.00,   7.75787,2,    25.02, -999.00,9, -999.00,9, -999.00, -999.00,9,-999.000,9,   45.60,2, -999.00,1,     -999.0,9, 20210427,     1154,  17.6668, -66.0000,    13.6719,2,     0.0412,1,     4.6757,1,     -999.0,9,     -999.0,9,     -999.0,9
325020210420,        A22,      24,          1,         16,         16,2,20210427,       1102,    17.6668,   -66.0000,       1943,   473.5,  12.4240,  35.5771,2,  35.5766,2,    133.3,2,   133.3,2,    8.58,2,   20.45,2,    0.00,2,    1.18,2,-999.000,9,-999.000,9,-999.0000,9,  -999.0,9, -999.00,9, -999.000,9,  -999.00,-999.00000,9,  -999.00, -999.00,9, -999.00,9, -999.00, -999.00,9,-999.000,9,   42.10,2, -999.00,1,     -999.0,9, 20210427,     1151,  17.6668, -66.0000,    12.4285,2,     0.0412,1,     4.6768,1,     -999.0,9,     -999.0,9,     -999.0,9
325020210420,        A22,      24,          1,         15,         15,2,20210427,       1102,    17.6668,   -66.0000,       1943,   539.1,  11.3777,  35.4077,2,  35.4149,2,    129.1,2,   129.2,2,   10.54,2,   22.76,2,    0.00,2,    1.35,2,   1.784,2,   0.999,2,   0.7300,2,  2197.0,2,  2325.7,2,  841.500,2,    20.00,   7.68572,2,    25.01, -999.00,9, -999.00,9, -999.00, -999.00,9,-999.000,9,   44.30,2, -999.00,1,      22.80,2, 20210427,     1147,  17.6668, -66.0000,    11.4144,2,     0.0412,1,     4.6787,1,     -999.0,9,     -999.0,9,     -999.0,9
325020210420,        A22,      24,          1,         14,         14,2,20210427,       1102,    17.6668,   -66.0000,       1943,   639.8,   8.8218,  35.0126,2,  35.0094,2,    121.0,2,   121.8,2,   16.49,2,   28.65,2,    0.00,2,    1.77,2,   1.265,6,   0.690,6,   0.4000,6,  2211.1,2, 2308.08,2, 1022.330,2,    20.00,   7.60215,2,    25.00, -999.00,9, -999.00,9, -999.00, -999.00,9,-999.000,9,   41.40,2, -999.00,1,      25.97,6, 20210427,     1145,  17.6668, -66.0000,     8.8215,2,     0.0420,1,     4.6782,1,     -999.0,9,     -999.0,9,     -999.0,9
325020210420,        A22,      24,          1,         13,         13,2,20210427,       1102,    17.6668,   -66.0000,       1943,   740.7,   7.3989,  34.8590,2,  34.8587,2,    125.5,2,   125.6,2,   20.49,2,   30.86,2,    0.00,2,    1.94,2,-999.000,9,-999.000,9,-999.0000,9,  2217.4,2, 2301.97,2, 1080.390,2,    20.00,   7.57689,2,    25.03, -999.00,9, -999.00,9, -999.00, -999.00,9,-999.000,9,   41.10,2, -999.00,1,     -999.0,9, 20210427,     1141,  17.6668, -66.0000,     7.4010,2,     0.0435,1,     4.6793,1,     -999.0,9,     -999.0,9,     -999.0,9
325020210420,        A22,      24,          1,         12,         12,2,20210427,       1102,    17.6668,   -66.0000,       1943,   841.3,   6.5574,  34.8337,2,  34.8328,2,    136.1,2,   136.1,2,   22.74,2,   30.76,2,    0.00,2,    1.96,2,-999.000,9,-999.000,9,-999.0000,9,  -999.0,9, -999.00,9, -999.000,9,  -999.00,-999.00000,9,  -999.00, -999.00,9, -999.00,9, -999.00, -999.00,9,-999.000,9,   41.50,2, -999.00,1,     -999.0,9, 20210427,     1137,  17.6668, -66.0000,     6.5572,2,     0.0424,1,     4.6795,1,     -999.0,9,     -999.0,9,     -999.0,9
325020210420,        A22,      24,          1,         11,         11,2,20210427,       1102,    17.6668,   -66.0000,       1943,   943.2,   6.0186,  34.9060,2,  34.9048,2,    158.7,2,   158.9,2,   22.93,2,   27.93,2,    0.00,2,    1.80,2,   0.392,2,   0.216,2,   0.1200,2,  2209.6,2, 2312.18,2,  969.880,2,    20.00,   7.62297,2,    25.05, -999.00,9, -999.00,9, -999.00, -999.00,9,-999.000,9,   40.90,2, -999.00,1,      21.38,2, 20210427,     1134,  17.6668, -66.0000,     6.0179,2,     0.0429,1,     4.6798,1,     -999.0,9,     -999.0,9,     -999.0,9
325020210420,        A22,      24,          1,         10,         10,2,20210427,       1102,    17.6668,   -66.0000,       1943,  1043.3,   5.3871,  34.9373,2,  34.9355,2,    178.6,2,   178.3,2,   23.62,2,   25.86,2,    0.00,2,    1.68,2,-999.000,9,-999.000,9,-999.0000,9,  -999.0,9, -999.00,9, -999.000,9,  -999.00,-999.00000,9,  -999.00, -999.00,9, -999.00,9, -999.00, -999.00,9,-999.000,9,   41.40,2, -999.00,1,     -999.0,9, 20210427,     1131,  17.6668, -66.0000,     5.3880,2,     0.0427,1,     4.6788,1,     -999.0,9,     -999.0,9,     -999.0,9
325020210420,        A22,      24,          1,          9,          9,2,20210427,       1102,    17.6668,   -66.0000,       1943,  1145.0,   4.8798,  34.9570,2,  34.9565,2,    194.4,2,   194.4,2,   24.10,2,   24.18,2,    0.00,2,    1.58,2,   0.279,2,   0.153,2,   0.1200,2,  2197.8,2, 2321.15,6,  861.490,2,    20.00,   7.67313,2,    25.03, -999.00,9, -999.00,9, -999.00, -999.00,9,-999.000,9,   41.60,2, -999.00,1,      17.26,2, 20210427,     1128,  17.6668, -66.0000,     4.8798,2,     0.0428,1,     4.6794,1,     -999.0,9,     -999.0,9,     -999.0,9
325020210420,        A22,      24,          1,          8,          8,2,20210427,       1102,    17.6668,   -66.0000,       1943,  1246.4,   4.5677,  34.9667,2,  34.9654,2,    204.0,2,   204.2,2,   24.49,2,   23.26,2,    0.00,2,    1.52,2,-999.000,9,-999.000,9,-999.0000,9,  -999.0,9, 2376.65,4, -999.000,9,  -999.00,-999.00000,9,  -999.00, -999.00,9, -999.00,9, -999.00, -999.00,9,-999.000,9,   39.80,2, -999.00,1,     -999.0,9, 20210427,     1125,  17.6668, -66.0000,     4.5673,2,     0.0435,1,     4.6802,1,     -999.0,9,     -999.0,9,     -999.0,9
325020210420,        A22,      24,          1,          7,          7,2,20210427,       1102,    17.6668,   -66.0000,       1943,  1347.0,   4.3593,  34.9724,2,  34.9707,2,    211.1,2,   211.2,2,   24.59,2,   22.54,2,    0.00,2,    1.48,2,   0.312,2,   0.169,2,   0.1800,2,  2196.3,2, 2324.07,2,  820.800,2,    20.00,   7.69437,2,    25.03, -999.00,9, -999.00,9, -999.00, -999.00,9,-999.000,9,   40.90,2, -999.00,1,      15.61,2, 20210427,     1122,  17.6668, -66.0000,     4.3603,2,     0.0427,1,     4.6810,1,     -999.0,9,     -999.0,9,     -999.0,9
325020210420,        A22,      24,          1,          6,          6,2,20210427,       1102,    17.6668,   -66.0000,       1943,  1447.9,   4.2108,  34.9772,2,  34.9780,2,    219.3,2,   219.6,2,   24.01,2,   21.72,2,    0.00,2,    1.42,2,-999.000,9,-999.000,9,-999.0000,9,  -999.0,9, -999.00,9, -999.000,9,  -999.00,-999.00000,9,  -999.00, -999.00,9, -999.00,9, -999.00, -999.00,9,-999.000,9,   40.60,2, -999.00,1,     -999.0,9, 20210427,     1118,  17.6668, -66.0000,     4.2108,2,     0.0430,1,     4.6823,1,     -999.0,9,     -999.0,9,     -999.0,9
325020210420,        A22,      24,          1,          5,          5,2,20210427,       1102,    17.6668,   -66.0000,       1943,  1550.1,   4.1523,  34.9791,2,  34.9795,2,    223.5,2,   223.8,2,   23.52,2,   21.28,2,    0.00,2,    1.40,2,   0.581,2,   0.309,2,   0.2500,2,  2191.3,2, 2322.56,2,  796.860,2,    20.00,   7.70536,2,    25.03, -999.00,9, -999.00,9, -999.00, -999.00,9,-999.000,9,   41.40,2, -999.00,1,      14.73,2, 20210427,     1115,  17.6668, -66.0000,     4.1515,2,     0.0429,1,     4.6825,1,     -999.0,9,     -999.0,9,     -999.0,9
325020210420,        A22,      24,          1,          4,          4,2,20210427,       1102,    17.6668,   -66.0000,       1943,  1650.8,   4.1359,  34.9807,2,  34.9795,2,    228.3,2,   228.6,2,   22.25,2,   20.79,2,    0.00,2,    1.37,2,-999.000,9,-999.000,9,-999.0000,9,  -999.0,9, -999.00,9, -999.000,9,  -999.00,-999.00000,9,  -999.00, -999.00,9, -999.00,9, -999.00, -999.00,9,-999.000,9,   42.50,2, -999.00,1,     -999.0,9, 20210427,     1112,  17.6668, -66.0000,     4.1357,2,     0.0429,1,     4.6827,1,     -999.0,9,     -999.0,9,     -999.0,9
325020210420,        A22,      24,          1,          3,          3,2,20210427,       1102,    17.6668,   -66.0000,       1943,  1752.3,   4.1146,  34.9780,2,  34.9770,2,    221.4,2,   221.9,2,   25.08,2,   21.54,2,    0.00,2,    1.42,2,   0.422,2,   0.229,2,   0.2900,2,  2194.7,2, 2327.04,6,  795.440,2,    20.00,   7.70699,2,    25.02, -999.00,9, -999.00,9, -999.00, -999.00,9,-999.000,9,   40.20,2, -999.00,1,      14.55,2, 20210427,     1108,  17.6668, -66.0000,     4.1146,2,     0.0421,1,     4.6835,1,     -999.0,9,     -999.0,9,     -999.0,9
325020210420,        A22,      24,          1,          2,          2,2,20210427,       1102,    17.6668,   -66.0000,       1943,  1853.7,   4.1176,  34.9787,2,  34.9782,2,    224.2,2,   224.3,2,   24.30,2,   21.28,2,    0.00,2,    1.41,2,   0.533,2,   0.285,2,   0.3600,2,  2191.0,2, 2323.56,2,  791.180,2,    20.00,   7.70809,6,    25.02, -999.00,9, -999.00,9, -999.00, -999.00,9,-999.000,9,   43.30,2, -999.00,1,      14.67,2, 20210427,     1105,  17.6668, -66.0000,     4.1176,2,     0.0426,1,     4.6836,1,     -999.0,9,     -999.0,9,     -999.0,9
325020210420,        A22,      24,          1,          1,          1,2,20210427,       1102,    17.6668,   -66.0000,       1943,  1953.7,   4.1079,  34.9790,2,  34.9785,2,    225.2,2,   225.1,2,   24.20,2,   21.19,2,    0.00,2,    1.41,2,   0.549,2,   0.291,2,   0.3500,2,  2189.6,6, 2324.44,2,  785.510,2,    20.00,   7.70918,2,    25.01, -999.00,9, -999.00,9, -999.00, -999.00,9,-999.000,9,   40.30,2, -999.00,1,      14.51,2, 20210427,     1102,  17.6668, -66.0000,     4.1075,2,     0.0423,1,     4.6838,1,     -999.0,9,     -999.0,9,     -999.0,9