BOTTLE,20230513CCHSIOCBG
EXPOCODE,SECT_ID,STNNBR,CASTNO,SAMPNO,BTLNBR,BTLNBR_FLAG_W,DATE,TIME,LATITUDE,LONGITUDE,DEPTH,CTDPRS,CTDTMP,CTDSAL,CTDSAL_FLAG_W,SALNTY,SALNTY_FLAG_W,CTDOXY,CTDOXY_FLAG_W,OXYGEN,OXYGEN_FLAG_W,SILCAT,SILCAT_FLAG_W,NITRAT,NITRAT_FLAG_W,NITRIT,NITRIT_FLAG_W,PHSPHT,PHSPHT_FLAG_W,CFC-11,CFC-11_FLAG_W,CFC-12,CFC-12_FLAG_W,SF6,SF6_FLAG_W,TCARBN,TCARBN_FLAG_W,ALKALI,ALKALI_FLAG_W,FCO2,FCO2_FLAG_W,FCO2TMP,PH_TOT,PH_TOT_FLAG_W,PH_TMP,DELC13,DELC13_FLAG_W,DELC14,DELC14_FLAG_W,C14ERR,DELO18,DELO18_FLAG_W,POC,POC_FLAG_W,DOC,DOC_FLAG_W,TDN,TDN_FLAG_W,N2O,N2O_FLAG_W,BTL_DATE,BTL_TIME,BTL_LAT,BTL_LON,REFTMP,REFTMP_FLAG_W,CTDFLUOR,CTDFLUOR_FLAG_W,CTDXMISS,CTDXMISS_FLAG_W,D15N_NO2+NO3,D15N_NO2+NO3_FLAG_W,D18O_NO2+NO3,D18O_NO2+NO3_FLAG_W,HPLC,HPLC_FLAG_W
,,,,,,,,,,,METERS,DBAR,ITS-90,PSS-78,,PSS-78,,UMOL/KG,,UMOL/KG,,UMOL/KG,,UMOL/KG,,UMOL/KG,,UMOL/KG,,PMOL/KG,,PMOL/KG,,FMOL/KG,,UMOL/KG,,UMOL/KG,,UATM,,DEG C,,,DEG C,/MILLE,,/MILLE,,/MILLE,/MILLE,,UG/KG,,UMOL/KG,,UMOL/KG,,NMOL/KG,,,,,,ITS-90,,VOLTS,,VOLTS,,/MILLE,,/MILLE,,,
325020210420,        A22,      75,          1,         36,         36,2,20210512,       0224,    37.1378,   -68.0560,       4903,     4.9,  20.1002,  36.7413,2,  36.7395,2,    225.3,2,   225.1,2,    0.19,2,    0.00,2,    0.00,2,    0.00,2,-999.000,9,-999.000,9,-999.0000,9,  2096.9,6, 2400.43,2, -999.000,9,  -999.00,   8.02819,2,    25.02, -999.00,9, -999.00,9, -999.00, -999.00,1,-999.000,9, -999.00,9, -999.00,9,     -999.0,9, 20210512,      434,  37.1378, -68.0560,    20.1007,2,     0.0729,1,     4.5657,1,     -999.0,9,     -999.0,9,     -999.0,9
325020210420,        A22,      75,          1,         35,         35,2,20210512,       0224,    37.1378,   -68.0560,       4903,    35.6,  20.1084,  36.7421,2,  36.7397,2,    225.1,2,   225.0,2,    0.49,2,    0.00,2,    0.00,2,    0.00,2,-999.000,9,-999.000,9,-999.0000,9,  -999.0,9, -999.00,9, -999.000,9,  -999.00,-999.00000,9,  -999.00, -999.00,9, -999.00,9, -999.00, -999.00,9,-999.000,9, -999.00,9, -999.00,9,     -999.0,9, 20210512,      432,  37.1378, -68.0560,    20.1097,2,     0.0740,1,     4.5665,1,     -999.0,9,     -999.0,9,     -999.0,9
325020210420,        A22,      75,          1,         34,         34,2,20210512,       0224,    37.1378,   -68.0560,       4903,    61.5,  20.0871,  36.7444,2,  36.7423,2,    223.8,2,   224.0,2,    0.49,2,    0.00,2,    0.00,2,    0.00,2,-999.000,9,-999.000,9,-999.0000,9,  -999.0,9, -999.00,9, -999.000,9,  -999.00,-999.00000,9,  -999.00, -999.00,9, -999.00,9, -999.00, -999.00,9,-999.000,9, -999.00,9, -999.00,9,     -999.0,9, 20210512,      430,  37.1378, -68.0560,    20.0876,2,     0.0771,1,     4.5900,1,     -999.0,9,     -999.0,9,     -999.0,9
325020210420,        A22,      75,          1,         33,         33,2,20210512,       0224,    37.1378,   -68.0560,       4903,    86.2,  20.0349,  36.7476,2,  36.7459,2,    221.9,2,   221.9,2,    0.49,2,    0.07,2,    0.06,2,    0.00,2,-999.000,9,-999.000,9,-999.0000,9,  2100.5,2, 2401.63,2, -999.000,9,  -999.00,   8.02309,6,    25.01, -999.00,9, -999.00,9, -999.00, -999.00,1,-999.000,9, -999.00,9, -999.00,9,     -999.0,9, 20210512,      429,  37.1378, -68.0560,    20.0365,2,     0.0685,1,     4.6163,1,     -999.0,9,     -999.0,9,     -999.0,9
325020210420,        A22,      75,          1,         32,         32,2,20210512,       0224,    37.1378,   -68.0560,       4903,   116.8,  19.5710,  36.7131,2,  36.7113,2,    216.4,2,   216.5,2,    0.39,2,    0.66,2,    0.25,2,    0.00,2,-999.000,9,-999.000,9,-999.0000,9,  2106.2,2, 2398.79,6, -999.000,9,  -999.00,   8.00848,2,    25.00, -999.00,9, -999.00,9, -999.00, -999.00,9,-999.000,9, -999.00,9, -999.00,9,     -999.0,9, 20210512,      427,  37.1378, -68.0560,    19.5711,2,     0.0581,1,     4.6353,1,     -999.0,9,     -999.0,9,     -999.0,9
325020210420,        A22,      75,          1,         31,         31,2,20210512,       0224,    37.1378,   -68.0560,       4903,   166.8,  19.2347,  36.6904,2,  36.6881,2,    211.8,2,   211.9,2,    0.68,2,    1.74,2,    0.01,2,    0.01,2,-999.000,9,-999.000,9,-999.0000,9,  -999.0,9, -999.00,9, -999.000,9,  -999.00,-999.00000,9,  -999.00, -999.00,9, -999.00,9, -999.00, -999.00,9,-999.000,9, -999.00,9, -999.00,9,     -999.0,9, 20210512,      425,  37.1378, -68.0560,    19.2348,2,     0.0426,1,     4.6514,1,     -999.0,9,     -999.0,9,     -999.0,9
325020210420,        A22,      75,          1,         30,         30,2,20210512,       0224,    37.1378,   -68.0560,       4903,   216.9,  19.1623,  36.6987,2,  36.6967,2,    215.4,2,   215.3,2,    0.68,2,    1.62,2,    0.00,2,    0.01,2,   1.984,2,   1.239,2,   1.9100,2,  -999.0,9, -999.00,9, -999.000,9,  -999.00,-999.00000,9,  -999.00, -999.00,9, -999.00,9, -999.00, -999.00,9,-999.000,9, -999.00,9, -999.00,9,       7.38,2, 20210512,      423,  37.1378, -68.0560,    19.1627,2,     0.0395,1,     4.6544,1,     -999.0,9,     -999.0,9,     -999.0,9
325020210420,        A22,      75,          1,         29,         29,2,20210512,       0224,    37.1378,   -68.0560,       4903,   267.7,  19.0095,  36.6760,2,  36.6747,2,    213.9,2,   213.8,2,    0.68,2,    1.91,2,    0.00,2,    0.02,2,-999.000,9,-999.000,9,-999.0000,9,  2112.9,2, 2394.85,2, -999.000,9,  -999.00,   7.99436,2,    25.02, -999.00,9, -999.00,9, -999.00, -999.00,9,-999.000,9, -999.00,9, -999.00,9,     -999.0,9, 20210512,      421,  37.1378, -68.0560,    19.0101,2,     0.0394,1,     4.6543,1,     -999.0,9,     -999.0,9,     -999.0,9
325020210420,        A22,      75,          1,         28,         28,2,20210512,       0224,    37.1378,   -68.0560,       4903,   317.3,  18.9476,  36.6787,2,  36.6752,2,    215.8,2,   215.4,2,    0.78,2,    1.88,2,    0.00,2,    0.01,2,-999.000,9,-999.000,9,-999.0000,9,  -999.0,9, -999.00,9, -999.000,9,  -999.00,-999.00000,9,  -999.00, -999.00,9, -999.00,9, -999.00, -999.00,9,-999.000,9, -999.00,9, -999.00,9,     -999.0,9, 20210512,      419,  37.1378, -68.0560,    18.9486,2,     0.0392,1,     4.6545,1,     -999.0,9,     -999.0,9,     -999.0,9
325020210420,        A22,      75,          1,         27,         27,2,20210512,       0224,    37.1378,   -68.0560,       4903,   368.8,  18.8281,  36.6606,2,  36.6588,2,    212.2,2,   212.3,2,    0.78,2,    2.37,2,    0.00,2,    0.04,2,   2.018,2,   1.269,2,   1.9000,2,  -999.0,9, -999.00,9, -999.000,9,  -999.00,-999.00000,9,  -999.00, -999.00,9, -999.00,9, -999.00, -999.00,9,-999.000,9, -999.00,9, -999.00,9,       7.69,2, 20210512,      417,  37.1378, -68.0560,    18.8272,2,     0.0388,1,     4.6552,1,     -999.0,9,     -999.0,9,     -999.0,9
325020210420,        A22,      75,          1,         26,         26,2,20210512,       0224,    37.1378,   -68.0560,       4903,   418.0,  18.7152,  36.6544,2,  36.6518,2,    212.1,2,   212.2,2,    0.97,2,    2.58,2,    0.00,2,    0.05,2,-999.000,9,-999.000,9,-999.0000,9,  -999.0,9, -999.00,9, -999.000,9,  -999.00,-999.00000,9,  -999.00, -999.00,9, -999.00,9, -999.00, -999.00,9,-999.000,9, -999.00,9, -999.00,9,     -999.0,9, 20210512,      415,  37.1378, -68.0560,    18.7158,2,     0.0391,1,     4.6561,1,     -999.0,9,     -999.0,9,     -999.0,9
325020210420,        A22,      75,          1,         25,         25,2,20210512,       0224,    37.1378,   -68.0560,       4903,   470.0,  18.6957,  36.6757,2,  36.6756,2,    215.8,2,   215.6,2,    0.78,2,    2.40,2,    0.00,2,    0.04,2,   2.023,2,   1.268,2,   1.9000,2,  2117.0,2, 2395.43,2, -999.000,9,  -999.00,   7.98719,2,    25.02, -999.00,9, -999.00,9, -999.00, -999.00,1,-999.000,9, -999.00,9, -999.00,9,       7.82,2, 20210512,      413,  37.1378, -68.0560,    18.6960,2,     0.0394,1,     4.6568,1,     -999.0,9,     -999.0,9,     -999.0,9
325020210420,        A22,      75,          1,         24,         24,2,20210512,       0224,    37.1378,   -68.0560,       4903,   540.5,  18.6510,  36.6706,2,  36.6691,2,    215.5,2,   215.4,2,    0.88,2,    2.48,2,    0.00,2,    0.05,2,-999.000,9,-999.000,9,-999.0000,9,  -999.0,9, -999.00,9, -999.000,9,  -999.00,-999.00000,9,  -999.00, -999.00,9, -999.00,9, -999.00, -999.00,9,-999.000,9, -999.00,9, -999.00,9,     -999.0,9, 20210512,      409,  37.1378, -68.0560,    18.6500,2,     0.0390,1,     4.6583,1,     -999.0,9,     -999.0,9,     -999.0,9
325020210420,        A22,      75,          1,         23,         23,2,20210512,       0224,    37.1378,   -68.0560,       4903,   641.1,  16.7916,  36.2847,2,  36.2921,2,    178.6,2,   178.8,2,    2.73,2,    8.57,2,    0.00,2,    0.40,2,   2.217,2,   1.348,2,   1.4200,2,  -999.0,9, -999.00,9, -999.000,9,  -999.00,-999.00000,9,  -999.00, -999.00,9, -999.00,9, -999.00, -999.00,9,-999.000,9, -999.00,9, -999.00,9,      11.12,2, 20210512,      407,  37.1378, -68.0560,    16.7815,2,     0.0405,1,     4.6608,1,     -999.0,9,     -999.0,9,     -999.0,9
325020210420,        A22,      75,          1,         22,         22,2,20210512,       0224,    37.1378,   -68.0560,       4903,   741.4,  14.9004,  35.9695,2,  35.9728,2,    171.0,2,   171.1,2,    4.58,2,   12.35,2,    0.00,2,    0.64,2,-999.000,9,-999.000,9,-999.0000,9,  -999.0,9, -999.00,9, -999.000,9,  -999.00,-999.00000,9,  -999.00, -999.00,9, -999.00,9, -999.00, -999.00,9,-999.000,9, -999.00,9, -999.00,9,     -999.0,9, 20210512,      404,  37.1378, -68.0560,    14.8992,2,     0.0407,1,     4.6645,1,     -999.0,9,     -999.0,9,     -999.0,9
325020210420,        A22,      75,          1,         21,         21,2,20210512,       0224,    37.1378,   -68.0560,       4903,   843.3,  12.9130,  35.6650,2,  35.6658,2,    157.0,2,   156.9,2,    7.41,2,   17.10,2,    0.00,2,    0.97,2,   2.058,2,   1.190,2,   1.0500,2,  2175.7,2, 2340.56,2, -999.000,9,  -999.00,   7.77222,2,    25.01, -999.00,9, -999.00,9, -999.00, -999.00,9,-999.000,9, -999.00,9, -999.00,9,      16.57,2, 20210512,      400,  37.1378, -68.0560,    12.9188,2,     0.0417,1,     4.6676,1,     -999.0,9,     -999.0,9,     -999.0,9
325020210420,        A22,      75,          1,         20,         20,2,20210512,       0224,    37.1378,   -68.0560,       4903,   943.7,  10.5952,  35.3597,2,  35.3606,2,    142.9,2,   142.8,2,   11.80,2,   22.25,2,    0.00,2,    1.34,2,-999.000,9,-999.000,9,-999.0000,9,  2193.5,2, 2327.94,2, -999.000,9,  -999.00,     7.698,2,    25.01, -999.00,9, -999.00,9, -999.00, -999.00,9,-999.000,9, -999.00,9, -999.00,9,     -999.0,9, 20210512,      357,  37.1378, -68.0560,    10.5924,2,     0.0415,1,     4.6678,1,     -999.0,9,     -999.0,9,     -999.0,9
325020210420,        A22,      75,          1,         19,         19,2,20210512,       0224,    37.1378,   -68.0560,       4903,  1045.8,   8.4289,  35.1657,2,  35.1654,2,    155.5,2,   155.6,2,   14.14,2,   23.85,2,    0.00,2,    1.48,2,   1.412,2,   0.764,2,   0.5200,2,  2197.2,2, 2318.71,2, -999.000,9,  -999.00,    7.6686,2,    24.99, -999.00,9, -999.00,9, -999.00, -999.00,9,-999.000,9, -999.00,9, -999.00,9,      19.84,2, 20210512,      354,  37.1378, -68.0560,     8.4256,2,     0.0419,1,     4.6666,1,     -999.0,9,     -999.0,9,     -999.0,9
325020210420,        A22,      75,          1,         18,         18,2,20210512,       0224,    37.1378,   -68.0560,       4903,  1146.4,   7.1939,  35.1247,2,  35.1242,2,    182.5,2,   182.8,2,   13.75,2,   22.10,2,    0.00,2,    1.38,2,-999.000,9,-999.000,9,-999.0000,9,  -999.0,9, -999.00,9, -999.000,9,  -999.00,-999.00000,9,  -999.00, -999.00,9, -999.00,9, -999.00, -999.00,9,-999.000,9, -999.00,9, -999.00,9,     -999.0,9, 20210512,      351,  37.1377, -68.0560,     7.1945,2,     0.0421,1,     4.6680,1,     -999.0,9,     -999.0,9,     -999.0,9
325020210420,        A22,      75,          1,         17,         17,2,20210512,       0224,    37.1378,   -68.0560,       4903,  1248.5,   5.8339,  35.0655,2,  35.0657,2,    216.1,2,   216.2,2,   12.87,2,   19.96,2,    0.00,2,    1.27,2,   2.238,2,   1.204,2,   0.8800,2,  2185.0,2, 2311.73,2, -999.000,9,  -999.00,   7.68971,6,    24.99, -999.00,9, -999.00,9, -999.00, -999.00,9,-999.000,9, -999.00,9, -999.00,9,      15.91,2, 20210512,      348,  37.1378, -68.0560,     5.8339,2,     0.0427,1,     4.6667,1,     -999.0,9,     -999.0,9,     -999.0,9
325020210420,        A22,      75,          1,         16,         16,2,20210512,       0224,    37.1378,   -68.0560,       4903,  1349.3,   5.3934,  35.0564,2,  35.0563,2,    230.9,2,   230.4,2,   12.29,2,   18.99,2,    0.00,2,    1.22,2,-999.000,9,-999.000,9,-999.0000,9,  -999.0,9, -999.00,9, -999.000,9,  -999.00,-999.00000,9,  -999.00, -999.00,9, -999.00,9, -999.00, -999.00,9,-999.000,9, -999.00,9, -999.00,9,     -999.0,9, 20210512,      346,  37.1378, -68.0560,     5.3924,2,     0.0419,1,     4.6682,1,     -999.0,9,     -999.0,9,     -999.0,9
325020210420,        A22,      75,          1,         15,         15,2,20210512,       0224,    37.1378,   -68.0560,       4903,  1450.7,   4.9764,  35.0317,2,  35.0317,2,    241.9,2,   242.0,2,   11.90,2,   18.39,2,    0.00,2,    1.19,2,-999.000,9,-999.000,9,-999.0000,9,  -999.0,9, -999.00,9, -999.000,9,  -999.00,-999.00000,9,  -999.00, -999.00,9, -999.00,9, -999.00, -999.00,9,-999.000,9, -999.00,9, -999.00,9,     -999.0,9, 20210512,      343,  37.1378, -68.0560,     4.9766,2,     0.0413,1,     4.6690,1,     -999.0,9,     -999.0,9,     -999.0,9
325020210420,        A22,      75,          1,         14,         14,2,20210512,       0224,    37.1378,   -68.0560,       4903,  1552.9,   4.7381,  35.0140,2,  35.0144,2,    247.7,2,   248.2,2,   11.70,2,   18.08,2,    0.00,2,    1.17,2,   2.717,2,   1.444,2,   0.9700,2,  2175.5,2, 2309.08,6, -999.000,9,  -999.00,   7.70732,2,    25.00, -999.00,9, -999.00,9, -999.00, -999.00,9,-999.000,9, -999.00,9, -999.00,9,      14.35,2, 20210512,      340,  37.1378, -68.0560,     4.7380,2,     0.0419,1,     4.6690,1,     -999.0,9,     -999.0,9,     -999.0,9
325020210420,        A22,      75,          1,         13,         13,2,20210512,       0224,    37.1378,   -68.0560,       4903,  1684.9,   4.5001,  34.9979,2,  34.9982,2,    253.8,2,   253.8,2,   11.80,2,   17.83,2,    0.00,2,    1.16,2,-999.000,9,-999.000,9,-999.0000,9,  -999.0,9, -999.00,9, -999.000,9,  -999.00,-999.00000,9,  -999.00, -999.00,9, -999.00,9, -999.00, -999.00,9,-999.000,9, -999.00,9, -999.00,9,     -999.0,9, 20210512,      336,  37.1378, -68.0560,     4.5022,2,     0.0414,1,     4.6685,1,     -999.0,9,     -999.0,9,     -999.0,9
325020210420,        A22,      75,          1,         12,         12,2,20210512,       0224,    37.1378,   -68.0560,       4903,  1887.8,   4.2277,  34.9872,2,  34.9872,2,    259.1,2,   258.8,2,   12.29,2,   17.65,2,    0.00,2,    1.15,2,   2.607,2,   1.376,2,   0.8000,2,  -999.0,9, -999.00,9, -999.000,9,  -999.00,-999.00000,9,  -999.00, -999.00,9, -999.00,9, -999.00, -999.00,9,-999.000,9, -999.00,9, -999.00,9,      13.55,2, 20210512,      331,  37.1378, -68.0560,     4.2280,2,     0.0426,1,     4.6701,1,     -999.0,9,     -999.0,9,     -999.0,9
325020210420,        A22,      75,          1,         11,         11,2,20210512,       0224,    37.1378,   -68.0560,       4903,  2111.5,   4.0063,  34.9798,2,  34.9793,2,    259.9,2,   260.3,2,   13.07,2,   17.77,2,    0.00,2,    1.17,2,-999.000,9,-999.000,9,-999.0000,9,  -999.0,9, -999.00,9, -999.000,9,  -999.00,-999.00000,9,  -999.00, -999.00,9, -999.00,9, -999.00, -999.00,9,-999.000,9, -999.00,9, -999.00,9,     -999.0,9, 20210512,      326,  37.1378, -68.0560,     4.0065,2,     0.0426,1,     4.6693,1,     -999.0,9,     -999.0,9,     -999.0,9
325020210420,        A22,      75,          1,         10,         10,2,20210512,       0224,    37.1378,   -68.0560,       4903,  2365.7,   3.7410,  34.9571,2,  34.9567,2,    264.5,2,   264.6,2,   13.46,2,   17.63,2,    0.00,2,    1.15,2,   2.285,2,   1.164,2,   0.6100,2,  -999.0,9, -999.00,9, -999.000,9,  -999.00,-999.00000,9,  -999.00, -999.00,9, -999.00,9, -999.00, -999.00,9,-999.000,9, -999.00,9, -999.00,9,      13.41,2, 20210512,      321,  37.1378, -68.0560,     3.7411,2,     0.0418,1,     4.6689,1,     -999.0,9,     -999.0,9,     -999.0,9
325020210420,        A22,      75,          1,          9,          9,2,20210512,       0224,    37.1378,   -68.0560,       4903,  2620.6,   3.5347,  34.9541,2,  34.9538,2,    264.2,2,   264.4,2,   15.22,2,   17.77,2,    0.00,2,    1.17,2,-999.000,9,-999.000,9,-999.0000,9,  2166.4,2, 2307.73,2, -999.000,9,  -999.00,   7.72901,2,    25.00, -999.00,9, -999.00,9, -999.00, -999.00,9,-999.000,9, -999.00,9, -999.00,9,     -999.0,9, 20210512,      315,  37.1378, -68.0560,     3.5349,2,     0.0430,1,     4.6696,1,     -999.0,9,     -999.0,9,     -999.0,9
325020210420,        A22,      75,          1,          8,          8,2,20210512,       0224,    37.1378,   -68.0560,       4903,  2876.3,   3.3056,  34.9452,2,  34.9451,2,    265.4,2,   265.6,2,   16.87,2,   17.80,2,    0.00,2,    1.17,2,   1.619,2,   0.812,2,   0.3200,2,  -999.0,9, -999.00,9, -999.000,9,  -999.00,-999.00000,9,  -999.00, -999.00,9, -999.00,9, -999.00, -999.00,9,-999.000,9, -999.00,9, -999.00,9,      13.02,2, 20210512,      310,  37.1378, -68.0560,     3.3058,2,     0.0421,1,     4.6690,1,     -999.0,9,     -999.0,9,     -999.0,9
325020210420,        A22,      75,          1,          7,          7,2,20210512,       0224,    37.1378,   -68.0560,       4903,  3146.5,   3.0804,  34.9349,2,  34.9357,2,    267.3,2,   267.4,2,   18.04,2,   17.69,2,    0.00,2,    1.17,2,-999.000,9,-999.000,9,-999.0000,9,  -999.0,9, -999.00,9, -999.000,9,  -999.00,-999.00000,9,  -999.00, -999.00,9, -999.00,9, -999.00, -999.00,9,-999.000,9, -999.00,9, -999.00,9,     -999.0,9, 20210512,      304,  37.1377, -68.0560,     3.0804,2,     0.0424,1,     4.6679,1,     -999.0,9,     -999.0,9,     -999.0,9
325020210420,        A22,      75,          1,          6,          6,2,20210512,       0224,    37.1378,   -68.0560,       4903,  3453.6,   2.8246,  34.9241,2,  34.9240,2,    268.9,2,   269.1,2,   19.80,2,   17.61,2,    0.00,2,    1.17,2,   1.565,2,   0.805,2,   0.3800,2,  -999.0,9, -999.00,9, -999.000,9,  -999.00,-999.00000,9,  -999.00, -999.00,9, -999.00,9, -999.00, -999.00,9,-999.000,9, -999.00,9, -999.00,9,      12.93,2, 20210512,      257,  37.1377, -68.0560,     2.8249,2,     0.0421,1,     4.6696,1,     -999.0,9,     -999.0,9,     -999.0,9
325020210420,        A22,      75,          1,          5,          5,2,20210512,       0224,    37.1378,   -68.0560,       4903,  3760.3,   2.5543,  34.9102,2,  34.9099,2,    270.8,2,   271.0,2,   21.95,2,   17.55,2,    0.00,2,    1.17,2,   1.670,2,   0.863,2,   0.4900,2,  -999.0,9, -999.00,9, -999.000,9,  -999.00,-999.00000,9,  -999.00, -999.00,9, -999.00,9, -999.00, -999.00,9,-999.000,9, -999.00,9, -999.00,9,      13.21,2, 20210512,      251,  37.1377, -68.0560,     2.5545,2,     0.0430,1,     4.6684,1,     -999.0,9,     -999.0,9,     -999.0,9
325020210420,        A22,      75,          1,          4,          4,2,20210512,       0224,    37.1378,   -68.0560,       4903,  4069.4,   2.4030,  34.9002,2,  34.9000,2,    269.9,2,   270.0,2,   24.78,2,   17.88,2,    0.00,2,    1.20,2,-999.000,9,-999.000,9,-999.0000,9,  -999.0,9, -999.00,9, -999.000,9,  -999.00,-999.00000,9,  -999.00, -999.00,9, -999.00,9, -999.00, -999.00,9,-999.000,9, -999.00,9, -999.00,9,     -999.0,9, 20210512,      244,  37.1377, -68.0560,     2.4033,2,     0.0427,1,     4.6679,1,     -999.0,9,     -999.0,9,     -999.0,9
325020210420,        A22,      75,          1,          3,          3,2,20210512,       0224,    37.1378,   -68.0560,       4903,  4377.2,   2.3276,  34.8931,2,  34.8930,2,    268.4,2,   268.6,2,   27.70,2,   18.23,2,    0.00,2,    1.23,2,   1.482,2,   0.772,2,   0.4300,2,  2178.0,2, 2320.89,2, -999.000,9,  -999.00,   7.72711,2,    25.01, -999.00,9, -999.00,9, -999.00, -999.00,9,-999.000,9, -999.00,9, -999.00,9,      13.27,2, 20210512,      238,  37.1377, -68.0560,     2.3277,2,     0.0427,1,     4.6644,1,     -999.0,9,     -999.0,9,     -999.0,9