BOTTLE,20230513CCHSIOCBG
EXPOCODE,SECT_ID,STNNBR,CASTNO,SAMPNO,BTLNBR,BTLNBR_FLAG_W,DATE,TIME,LATITUDE,LONGITUDE,DEPTH,CTDPRS,CTDTMP,CTDSAL,CTDSAL_FLAG_W,SALNTY,SALNTY_FLAG_W,CTDOXY,CTDOXY_FLAG_W,OXYGEN,OXYGEN_FLAG_W,SILCAT,SILCAT_FLAG_W,NITRAT,NITRAT_FLAG_W,NITRIT,NITRIT_FLAG_W,PHSPHT,PHSPHT_FLAG_W,CFC-11,CFC-11_FLAG_W,CFC-12,CFC-12_FLAG_W,SF6,SF6_FLAG_W,TCARBN,TCARBN_FLAG_W,ALKALI,ALKALI_FLAG_W,FCO2,FCO2_FLAG_W,FCO2TMP,PH_TOT,PH_TOT_FLAG_W,PH_TMP,DELC13,DELC13_FLAG_W,DELC14,DELC14_FLAG_W,C14ERR,DELO18,DELO18_FLAG_W,POC,POC_FLAG_W,DOC,DOC_FLAG_W,TDN,TDN_FLAG_W,N2O,N2O_FLAG_W,BTL_DATE,BTL_TIME,BTL_LAT,BTL_LON,REFTMP,REFTMP_FLAG_W,CTDFLUOR,CTDFLUOR_FLAG_W,CTDXMISS,CTDXMISS_FLAG_W,D15N_NO2+NO3,D15N_NO2+NO3_FLAG_W,D18O_NO2+NO3,D18O_NO2+NO3_FLAG_W,HPLC,HPLC_FLAG_W
,,,,,,,,,,,METERS,DBAR,ITS-90,PSS-78,,PSS-78,,UMOL/KG,,UMOL/KG,,UMOL/KG,,UMOL/KG,,UMOL/KG,,UMOL/KG,,PMOL/KG,,PMOL/KG,,FMOL/KG,,UMOL/KG,,UMOL/KG,,UATM,,DEG C,,,DEG C,/MILLE,,/MILLE,,/MILLE,/MILLE,,UG/KG,,UMOL/KG,,UMOL/KG,,NMOL/KG,,,,,,ITS-90,,VOLTS,,VOLTS,,/MILLE,,/MILLE,,,
325020210420,        A22,      81,          1,         36,         36,2,20210513,       1642,    38.5608,   -69.0246,       3451,     4.8,  17.1031,  35.7573,2,  35.7584,2,    260.6,3,   257.1,2,    0.10,2,    0.00,2,    0.00,2,    0.00,2,   2.272,2,   1.384,2,   2.2000,2,  2059.9,6, 2358.04,2, -999.000,9,  -999.00,   8.03492,2,    24.99, -999.00,9, -999.00,9, -999.00, -999.00,1,-999.000,9, -999.00,9, -999.00,9,       7.84,2, 20210513,     1831,  38.5608, -69.0246,    17.1130,2,     0.0919,1,     4.0531,1,     -999.0,9,     -999.0,9,     -999.0,9
325020210420,        A22,      81,          1,         35,         35,2,20210513,       1642,    38.5608,   -69.0246,       3451,    35.9,  16.6861,  35.6973,2,  35.7833,3,    246.8,2,   246.4,2,    0.10,2,    0.00,2,    0.00,2,    0.00,2,-999.000,9,-999.000,9,-999.0000,9,  2075.5,2, 2358.98,2, -999.000,9,  -999.00,   8.01066,6,    25.00, -999.00,9, -999.00,9, -999.00, -999.00,1,-999.000,9, -999.00,9, -999.00,9,     -999.0,9, 20210513,     1829,  38.5608, -69.0246,    16.6869,2,     0.3035,1,     4.2297,1,     -999.0,9,     -999.0,9,     -999.0,9
325020210420,        A22,      81,          1,         34,         34,2,20210513,       1642,    38.5608,   -69.0246,       3451,    60.2,  15.7122,  35.7397,2,  35.7391,2,    228.5,2,   229.1,2,    1.56,2,    1.34,2,    0.87,2,    0.15,2,-999.000,9,-999.000,9,-999.0000,9,  -999.0,9, -999.00,9, -999.000,9,  -999.00,-999.00000,9,  -999.00, -999.00,9, -999.00,9, -999.00, -999.00,9,-999.000,9, -999.00,9, -999.00,9,     -999.0,9, 20210513,     1827,  38.5608, -69.0246,    15.7101,2,     0.0617,1,     4.5969,1,     -999.0,9,     -999.0,9,     -999.0,9
325020210420,        A22,      81,          1,         33,         33,2,20210513,       1642,    38.5608,   -69.0246,       3451,    85.8,  15.0660,  35.8243,2,  35.8188,2,    191.5,3,   193.5,2,    3.51,2,    8.10,2,    0.16,2,    0.47,2,-999.000,9,-999.000,9,-999.0000,9,  -999.0,9, -999.00,9, -999.000,9,  -999.00,-999.00000,9,  -999.00, -999.00,9, -999.00,9, -999.00, -999.00,9,-999.000,9, -999.00,9, -999.00,9,     -999.0,9, 20210513,     1824,  38.5608, -69.0246,    15.0649,2,     0.0434,1,     4.6319,1,     -999.0,9,     -999.0,9,     -999.0,9
325020210420,        A22,      81,          1,         32,         32,2,20210513,       1642,    38.5608,   -69.0246,       3451,   111.0,  14.2450,  35.8586,2,  35.8599,2,    146.7,2,   146.9,2,    7.12,2,   15.74,2,    0.03,2,    0.92,2,-999.000,9,-999.000,9,-999.0000,9,  -999.0,9, -999.00,9, -999.000,9,  -999.00,-999.00000,9,  -999.00, -999.00,9, -999.00,9, -999.00, -999.00,9,-999.000,9, -999.00,9, -999.00,9,     -999.0,9, 20210513,     1823,  38.5608, -69.0246,    14.2448,2,     0.0424,1,     4.6383,1,     -999.0,9,     -999.0,9,     -999.0,9
325020210420,        A22,      81,          1,         31,         31,2,20210513,       1642,    38.5608,   -69.0246,       3451,   136.4,  13.0742,  35.7088,2,  35.6970,2,    136.1,2,   136.1,2,    9.36,2,   19.13,2,    0.04,2,    1.14,2,   1.791,2,   1.037,2,   0.8300,2,  2187.0,2,  2342.8,6, -999.000,9,  -999.00,   7.74522,6,    25.00, -999.00,9, -999.00,9, -999.00, -999.00,9,-999.000,9, -999.00,9, -999.00,9,      18.52,2, 20210513,     1821,  38.5608, -69.0246,    13.0710,2,     0.0418,1,     4.6388,1,     -999.0,9,     -999.0,9,     -999.0,9
325020210420,        A22,      81,          1,         30,         30,2,20210513,       1642,    38.5608,   -69.0246,       3451,   161.4,  11.5120,  35.4942,2,  35.4932,2,    134.4,2,   134.1,2,   11.61,2,   21.64,2,    0.03,2,    1.32,2,-999.000,9,-999.000,9,-999.0000,9,  2193.5,2, 2332.87,2, -999.000,9,  -999.00,   7.70598,2,    24.99, -999.00,9, -999.00,9, -999.00, -999.00,9,-999.000,9, -999.00,9, -999.00,9,     -999.0,9, 20210513,     1819,  38.5608, -69.0246,    11.5123,2,     0.0417,1,     4.6418,1,     -999.0,9,     -999.0,9,     -999.0,9
325020210420,        A22,      81,          1,         29,         29,2,20210513,       1642,    38.5608,   -69.0246,       3451,   187.2,  10.4616,  35.3612,2,  35.3664,2,    135.6,2,   136.1,2,   12.97,2,   23.17,2,    0.03,2,    1.42,2,   1.510,2,   0.845,2,   0.6000,2,  2198.9,2,  2327.1,2, -999.000,9,  -999.00,   7.68685,2,    24.99, -999.00,9, -999.00,9, -999.00, -999.00,9,-999.000,9, -999.00,9, -999.00,9,      20.67,2, 20210513,     1818,  38.5608, -69.0246,    10.4617,2,     0.0413,1,     4.6434,1,     -999.0,9,     -999.0,9,     -999.0,9
325020210420,        A22,      81,          1,         28,         28,2,20210513,       1642,    38.5608,   -69.0246,       3451,   211.1,   9.4675,  35.2455,2,  35.2396,2,    138.8,2,   138.7,2,   14.63,2,   24.43,2,    0.03,2,    1.52,2,-999.000,9,-999.000,9,-999.0000,9,  -999.0,9, -999.00,9, -999.000,9,  -999.00,-999.00000,9,  -999.00, -999.00,9, -999.00,9, -999.00, -999.00,9,-999.000,9, -999.00,9, -999.00,9,     -999.0,9, 20210513,     1815,  38.5608, -69.0246,     9.4671,2,     0.0417,1,     4.6447,1,     -999.0,9,     -999.0,9,     -999.0,9
325020210420,        A22,      81,          1,         27,         27,2,20210513,       1642,    38.5608,   -69.0246,       3451,   236.5,   9.0134,  35.2049,2,  35.2036,2,    141.9,2,   141.8,2,   14.73,2,   24.59,2,    0.00,2,    1.54,2,-999.000,9,-999.000,9,-999.0000,9,  -999.0,9, -999.00,9, -999.000,9,  -999.00,-999.00000,9,  -999.00, -999.00,9, -999.00,9, -999.00, -999.00,9,-999.000,9, -999.00,9, -999.00,9,     -999.0,9, 20210513,     1813,  38.5608, -69.0246,     9.0138,2,     0.0418,1,     4.6535,1,     -999.0,9,     -999.0,9,     -999.0,9
325020210420,        A22,      81,          1,         26,         26,2,20210513,       1642,    38.5608,   -69.0246,       3451,   267.2,   8.6920,  35.1832,2,  35.1829,2,    147.0,2,   146.6,2,   14.63,2,   24.45,2,    0.00,2,    1.54,2,-999.000,9,-999.000,9,-999.0000,9,  -999.0,9, -999.00,9, -999.000,9,  -999.00,-999.00000,9,  -999.00, -999.00,9, -999.00,9, -999.00, -999.00,9,-999.000,9, -999.00,9, -999.00,9,     -999.0,9, 20210513,     1811,  38.5608, -69.0245,     8.6924,2,     0.0419,1,     4.6547,1,     -999.0,9,     -999.0,9,     -999.0,9
325020210420,        A22,      81,          1,         25,         25,2,20210513,       1642,    38.5608,   -69.0246,       3451,   317.6,   7.8813,  35.1481,2,  35.1463,2,    163.4,2,   164.1,2,   14.44,2,   23.49,2,    0.00,2,    1.49,2,   1.576,2,   0.853,2,   0.5800,2,  2194.0,2, 2319.08,2, -999.000,9,  -999.00,   7.66148,2,    24.99, -999.00,9, -999.00,9, -999.00, -999.00,9,-999.000,9, -999.00,9, -999.00,9,      18.77,2, 20210513,     1809,  38.5609, -69.0245,     7.8811,2,     0.0421,1,     4.6564,1,     -999.0,9,     -999.0,9,     -999.0,9
325020210420,        A22,      81,          1,         24,         24,2,20210513,       1642,    38.5608,   -69.0246,       3451,   368.0,   6.9299,  35.1121,2,  35.1112,2,    186.3,2,   186.5,2,   13.95,2,   21.86,2,    0.00,2,    1.40,2,-999.000,9,-999.000,9,-999.0000,9,  -999.0,9, -999.00,9, -999.000,9,  -999.00,-999.00000,9,  -999.00, -999.00,9, -999.00,9, -999.00, -999.00,9,-999.000,9, -999.00,9, -999.00,9,     -999.0,9, 20210513,     1806,  38.5609, -69.0245,     6.9525,2,     0.0427,1,     4.6617,1,     -999.0,9,     -999.0,9,     -999.0,9
325020210420,        A22,      81,          1,         23,         23,2,20210513,       1642,    38.5608,   -69.0246,       3451,   418.4,   6.4765,  35.1019,2,  35.1012,2,    198.7,2,   198.6,2,   13.66,2,   21.02,2,    0.00,2,    1.36,2,-999.000,9,-999.000,9,-999.0000,9,  -999.0,9, -999.00,9, -999.000,9,  -999.00,-999.00000,9,  -999.00, -999.00,9, -999.00,9, -999.00, -999.00,9,-999.000,9, -999.00,9, -999.00,9,     -999.0,9, 20210513,     1804,  38.5608, -69.0245,     6.4699,2,     0.0421,1,     4.6654,1,     -999.0,9,     -999.0,9,     -999.0,9
325020210420,        A22,      81,          1,         22,         22,2,20210513,       1642,    38.5608,   -69.0246,       3451,   469.1,   6.0137,  35.0870,2,  35.0876,2,    210.5,2,   210.7,2,   13.27,2,   20.31,2,    0.00,2,    1.32,2,-999.000,9,-999.000,9,-999.0000,9,  -999.0,9, -999.00,9, -999.000,9,  -999.00,-999.00000,9,  -999.00, -999.00,9, -999.00,9, -999.00, -999.00,9,-999.000,9, -999.00,9, -999.00,9,     -999.0,9, 20210513,     1802,  38.5609, -69.0245,     6.0140,2,     0.0427,1,     4.6654,1,     -999.0,9,     -999.0,9,     -999.0,9
325020210420,        A22,      81,          1,         21,         21,2,20210513,       1642,    38.5608,   -69.0246,       3451,   539.8,   5.4489,  35.0543,2,  35.0549,2,    225.5,2,   225.3,2,   12.59,2,   19.48,2,    0.00,2,    1.26,2,   2.341,2,   1.256,2,   0.8800,2,  2181.0,2, 2311.58,2, -999.000,9,  -999.00,     7.693,2,    24.99, -999.00,9, -999.00,9, -999.00, -999.00,9,-999.000,9, -999.00,9, -999.00,9,      14.96,2, 20210513,     1759,  38.5609, -69.0245,     5.4477,2,     0.0422,1,     4.6636,1,     -999.0,9,     -999.0,9,     -999.0,9
325020210420,        A22,      81,          1,         20,         20,2,20210513,       1642,    38.5608,   -69.0246,       3451,   640.7,   5.0824,  35.0335,2,  35.0333,2,    236.3,2,   236.2,2,   12.29,2,   18.82,2,    0.00,2,    1.22,2,-999.000,9,-999.000,9,-999.0000,9,  -999.0,9, -999.00,9, -999.000,9,  -999.00,-999.00000,9,  -999.00, -999.00,9, -999.00,9, -999.00, -999.00,9,-999.000,9, -999.00,9, -999.00,9,     -999.0,9, 20210513,     1755,  38.5609, -69.0245,     5.0824,2,     0.0420,1,     4.6630,1,     -999.0,9,     -999.0,9,     -999.0,9
325020210420,        A22,      81,          1,         19,         19,2,20210513,       1642,    38.5608,   -69.0246,       3451,   740.9,   4.7627,  35.0146,2,  35.0122,2,    246.1,2,   246.0,2,   12.10,2,   18.27,2,    0.00,2,    1.18,2,   2.722,2,   1.452,2,   1.0700,2,  2174.7,2, 2308.14,2, -999.000,9,  -999.00,   7.70189,2,    25.00, -999.00,9, -999.00,9, -999.00, -999.00,9,-999.000,9, -999.00,9, -999.00,9,      13.76,2, 20210513,     1753,  38.5608, -69.0245,     4.7659,2,     0.0422,1,     4.6629,1,     -999.0,9,     -999.0,9,     -999.0,9
325020210420,        A22,      81,          1,         18,         18,2,20210513,       1642,    38.5608,   -69.0246,       3451,   842.9,   4.5415,  35.0013,2,  35.0008,2,    251.4,2,   251.5,2,   12.00,2,   17.99,2,    0.00,2,    1.17,2,-999.000,9,-999.000,9,-999.0000,9,  -999.0,9, -999.00,9, -999.000,9,  -999.00,-999.00000,9,  -999.00, -999.00,9, -999.00,9, -999.00, -999.00,9,-999.000,9, -999.00,9, -999.00,9,     -999.0,9, 20210513,     1750,  38.5609, -69.0245,     4.5413,2,     0.0422,1,     4.6629,1,     -999.0,9,     -999.0,9,     -999.0,9
325020210420,        A22,      81,          1,         17,         17,2,20210513,       1642,    38.5608,   -69.0246,       3451,   944.1,   4.3557,  34.9873,2,  34.9878,2,    256.3,2,   256.4,2,   11.90,2,   17.84,2,    0.00,2,    1.15,2,-999.000,9,-999.000,9,-999.0000,9,  -999.0,9, -999.00,9, -999.000,9,  -999.00,-999.00000,9,  -999.00, -999.00,9, -999.00,9, -999.00, -999.00,9,-999.000,9, -999.00,9, -999.00,9,     -999.0,9, 20210513,     1747,  38.5608, -69.0245,     4.3560,2,     0.0423,1,     4.6612,1,     -999.0,9,     -999.0,9,     -999.0,9
325020210420,        A22,      81,          1,         16,         16,2,20210513,       1642,    38.5608,   -69.0246,       3451,  1045.3,   4.2100,  34.9783,2,  34.9785,2,    259.4,2,   259.7,2,   12.00,2,   17.62,2,    0.00,2,    1.15,2,   2.844,2,   1.506,2,   1.0300,2,  2170.5,2, 2306.97,2, -999.000,9,  -999.00,   7.70962,2,    25.00, -999.00,9, -999.00,9, -999.00, -999.00,9,-999.000,9, -999.00,9, -999.00,9,      13.56,2, 20210513,     1744,  38.5609, -69.0245,     4.2105,2,     0.0419,1,     4.6636,1,     -999.0,9,     -999.0,9,     -999.0,9
325020210420,        A22,      81,          1,         15,         15,2,20210513,       1642,    38.5608,   -69.0246,       3451,  1147.4,   4.0785,  34.9701,2,  34.9699,2,    262.0,2,   261.7,2,   12.10,2,   17.60,2,    0.00,2,    1.14,2,-999.000,9,-999.000,9,-999.0000,9,  -999.0,9, -999.00,9, -999.000,9,  -999.00,-999.00000,9,  -999.00, -999.00,9, -999.00,9, -999.00, -999.00,9,-999.000,9, -999.00,9, -999.00,9,     -999.0,9, 20210513,     1741,  38.5609, -69.0245,     4.0781,2,     0.0424,1,     4.6644,1,     -999.0,9,     -999.0,9,     -999.0,9
325020210420,        A22,      81,          1,         14,         14,2,20210513,       1642,    38.5608,   -69.0246,       3451,  1247.3,   3.9900,  34.9678,2,  34.9685,2,    262.8,2,   262.7,2,   12.49,2,   17.59,2,    0.00,2,    1.14,2,-999.000,9,-999.000,9,-999.0000,9,  -999.0,9, -999.00,9, -999.000,9,  -999.00,-999.00000,9,  -999.00, -999.00,9, -999.00,9, -999.00, -999.00,9,-999.000,9, -999.00,9, -999.00,9,     -999.0,9, 20210513,     1738,  38.5608, -69.0245,     3.9894,2,     0.0423,1,     4.6635,1,     -999.0,9,     -999.0,9,     -999.0,9
325020210420,        A22,      81,          1,         13,         13,2,20210513,       1642,    38.5608,   -69.0246,       3451,  1349.7,   3.8997,  34.9643,2,  34.9703,3,    263.6,2,   263.8,2,   12.68,2,   17.51,2,    0.00,2,    1.14,2,   2.598,2,   1.355,2,   0.8200,2,  2167.4,2, 2304.64,2, -999.000,9,  -999.00,    7.7169,2,    24.98, -999.00,9, -999.00,9, -999.00, -999.00,9,-999.000,9, -999.00,9, -999.00,9,      13.39,2, 20210513,     1734,  38.5608, -69.0245,     3.8997,2,     0.0426,1,     4.6643,1,     -999.0,9,     -999.0,9,     -999.0,9
325020210420,        A22,      81,          1,         12,         12,2,20210513,       1642,    38.5608,   -69.0246,       3451,  1451.1,   3.8169,  34.9641,2,  34.9642,2,    263.2,2,   263.4,2,   13.27,2,   17.75,2,    0.00,2,    1.14,2,-999.000,9,-999.000,9,-999.0000,9,  -999.0,9, -999.00,9, -999.000,9,  -999.00,-999.00000,9,  -999.00, -999.00,9, -999.00,9, -999.00, -999.00,9,-999.000,9, -999.00,9, -999.00,9,     -999.0,9, 20210513,     1731,  38.5609, -69.0245,     3.8185,2,     0.0419,1,     4.6633,1,     -999.0,9,     -999.0,9,     -999.0,9
325020210420,        A22,      81,          1,         11,         11,2,20210513,       1642,    38.5608,   -69.0246,       3451,  1552.3,   3.7382,  34.9621,2,  34.9626,2,    263.7,2,   264.0,2,   13.66,2,   17.62,2,    0.00,2,    1.15,2,-999.000,9,-999.000,9,-999.0000,9,  -999.0,9, -999.00,9, -999.000,9,  -999.00,-999.00000,9,  -999.00, -999.00,9, -999.00,9, -999.00, -999.00,9,-999.000,9, -999.00,9, -999.00,9,     -999.0,9, 20210513,     1728,  38.5609, -69.0245,     3.7386,2,     0.0424,1,     4.6653,1,     -999.0,9,     -999.0,9,     -999.0,9
325020210420,        A22,      81,          1,         10,         10,2,20210513,       1642,    38.5608,   -69.0246,       3451,  1652.6,   3.6580,  34.9591,2,  34.9632,2,    264.0,2,   264.1,2,   14.15,2,   17.66,2,    0.00,2,    1.15,2,-999.000,9,-999.000,9,-999.0000,9,  -999.0,9, -999.00,9, -999.000,9,  -999.00,-999.00000,9,  -999.00, -999.00,9, -999.00,9, -999.00, -999.00,9,-999.000,9, -999.00,9, -999.00,9,     -999.0,9, 20210513,     1724,  38.5609, -69.0245,     3.6586,2,     0.0425,1,     4.6660,1,     -999.0,9,     -999.0,9,     -999.0,9
325020210420,        A22,      81,          1,          9,          9,2,20210513,       1642,    38.5608,   -69.0246,       3451,  1755.9,   3.5798,  34.9573,2,  34.9565,2,    264.3,2,   264.1,2,   14.64,2,   17.64,2,    0.00,2,    1.15,2,   1.980,2,   1.001,2,   0.4500,2,  2165.1,2, 2308.75,2, -999.000,9,  -999.00,   7.72469,2,    24.99, -999.00,9, -999.00,9, -999.00, -999.00,9,-999.000,9, -999.00,9, -999.00,9,      13.16,2, 20210513,     1722,  38.5609, -69.0245,     3.5801,2,     0.0417,1,     4.6676,1,     -999.0,9,     -999.0,9,     -999.0,9
325020210420,        A22,      81,          1,          8,          8,2,20210513,       1642,    38.5608,   -69.0246,       3451,  1887.3,   3.4897,  34.9548,2,  34.9541,2,    264.6,2,   264.8,2,   15.32,2,   17.65,2,    0.00,2,    1.16,2,-999.000,9,-999.000,9,-999.0000,9,  -999.0,9, -999.00,9, -999.000,9,  -999.00,-999.00000,9,  -999.00, -999.00,9, -999.00,9, -999.00, -999.00,9,-999.000,9, -999.00,9, -999.00,9,     -999.0,9, 20210513,     1718,  38.5609, -69.0245,     3.4895,2,     0.0426,1,     4.6671,1,     -999.0,9,     -999.0,9,     -999.0,9
325020210420,        A22,      81,          1,          7,          7,2,20210513,       1642,    38.5608,   -69.0246,       3451,  2091.3,   3.3159,  34.9472,2,  34.9473,2,    265.6,2,   265.7,2,   16.10,2,   17.64,2,    0.00,2,    1.16,2,-999.000,9,-999.000,9,-999.0000,9,  -999.0,9, -999.00,9, -999.000,9,  -999.00,-999.00000,9,  -999.00, -999.00,9, -999.00,9, -999.00, -999.00,9,-999.000,9, -999.00,9, -999.00,9,     -999.0,9, 20210513,     1713,  38.5609, -69.0245,     3.3146,2,     0.0430,1,     4.6688,1,     -999.0,9,     -999.0,9,     -999.0,9
325020210420,        A22,      81,          1,          6,          6,2,20210513,       1642,    38.5608,   -69.0246,       3451,  2293.8,   3.1645,  34.9431,2,  34.9429,2,    265.7,2,   265.7,2,   17.76,2,   17.77,2,    0.00,2,    1.17,2,-999.000,9,-999.000,9,-999.0000,9,  -999.0,9, -999.00,9, -999.000,9,  -999.00,-999.00000,9,  -999.00, -999.00,9, -999.00,9, -999.00, -999.00,9,-999.000,9, -999.00,9, -999.00,9,     -999.0,9, 20210513,     1708,  38.5609, -69.0245,     3.1647,2,     0.0423,1,     4.6681,1,     -999.0,9,     -999.0,9,     -999.0,9
325020210420,        A22,      81,          1,          5,          5,2,20210513,       1642,    38.5608,   -69.0246,       3451,  2498.3,   2.9661,  34.9346,2,  34.9339,2,    267.0,2,   267.3,2,   18.93,2,   17.74,2,    0.00,2,    1.17,2,   1.520,2,   0.774,2,   0.3800,2,  2167.0,2, 2327.15,3, -999.000,9,  -999.00,   7.73191,2,    24.99, -999.00,9, -999.00,9, -999.00, -999.00,9,-999.000,9, -999.00,9, -999.00,9,      13.00,2, 20210513,     1704,  38.5609, -69.0245,     2.9652,2,     0.0421,1,     4.6691,1,     -999.0,9,     -999.0,9,     -999.0,9
325020210420,        A22,      81,          1,          4,          4,2,20210513,       1642,    38.5608,   -69.0246,       3451,  2702.5,   2.8067,  34.9275,2,  34.9272,2,    268.0,2,   268.4,2,   20.10,2,   17.74,2,    0.00,2,    1.17,2,-999.000,9,-999.000,9,-999.0000,9,  -999.0,9, -999.00,9, -999.000,9,  -999.00,-999.00000,9,  -999.00, -999.00,9, -999.00,9, -999.00, -999.00,9,-999.000,9, -999.00,9, -999.00,9,     -999.0,9, 20210513,     1659,  38.5609, -69.0245,     2.8074,2,     0.0430,1,     4.6695,1,     -999.0,9,     -999.0,9,     -999.0,9
325020210420,        A22,      81,          1,          3,          3,2,20210513,       1642,    38.5608,   -69.0246,       3451,  2906.8,   2.6471,  34.9189,2,  34.9193,2,    269.7,2,   270.1,2,   20.78,2,   17.61,2,    0.00,2,    1.16,2,-999.000,9,-999.000,9,-999.0000,9,  -999.0,9, -999.00,9, -999.000,9,  -999.00,-999.00000,9,  -999.00, -999.00,9, -999.00,9, -999.00, -999.00,9,-999.000,9, -999.00,9, -999.00,9,     -999.0,9, 20210513,     1654,  38.5609, -69.0245,     2.6486,2,     0.0429,1,     4.6691,1,     -999.0,9,     -999.0,9,     -999.0,9