BOTTLE,20230513CCHSIOCBG
EXPOCODE,SECT_ID,STNNBR,CASTNO,SAMPNO,BTLNBR,BTLNBR_FLAG_W,DATE,TIME,LATITUDE,LONGITUDE,DEPTH,CTDPRS,CTDTMP,CTDSAL,CTDSAL_FLAG_W,SALNTY,SALNTY_FLAG_W,CTDOXY,CTDOXY_FLAG_W,OXYGEN,OXYGEN_FLAG_W,SILCAT,SILCAT_FLAG_W,NITRAT,NITRAT_FLAG_W,NITRIT,NITRIT_FLAG_W,PHSPHT,PHSPHT_FLAG_W,CFC-11,CFC-11_FLAG_W,CFC-12,CFC-12_FLAG_W,SF6,SF6_FLAG_W,TCARBN,TCARBN_FLAG_W,ALKALI,ALKALI_FLAG_W,FCO2,FCO2_FLAG_W,FCO2TMP,PH_TOT,PH_TOT_FLAG_W,PH_TMP,DELC13,DELC13_FLAG_W,DELC14,DELC14_FLAG_W,C14ERR,DELO18,DELO18_FLAG_W,POC,POC_FLAG_W,DOC,DOC_FLAG_W,TDN,TDN_FLAG_W,N2O,N2O_FLAG_W,BTL_DATE,BTL_TIME,BTL_LAT,BTL_LON,REFTMP,REFTMP_FLAG_W,CTDFLUOR,CTDFLUOR_FLAG_W,CTDXMISS,CTDXMISS_FLAG_W,D15N_NO2+NO3,D15N_NO2+NO3_FLAG_W,D18O_NO2+NO3,D18O_NO2+NO3_FLAG_W,HPLC,HPLC_FLAG_W
,,,,,,,,,,,METERS,DBAR,ITS-90,PSS-78,,PSS-78,,UMOL/KG,,UMOL/KG,,UMOL/KG,,UMOL/KG,,UMOL/KG,,UMOL/KG,,PMOL/KG,,PMOL/KG,,FMOL/KG,,UMOL/KG,,UMOL/KG,,UATM,,DEG C,,,DEG C,/MILLE,,/MILLE,,/MILLE,/MILLE,,UG/KG,,UMOL/KG,,UMOL/KG,,NMOL/KG,,,,,,ITS-90,,VOLTS,,VOLTS,,/MILLE,,/MILLE,,,
325020210420,        A22,      70,          1,         36,         36,2,20210509,       1843,    34.7395,   -66.5805,       5243,     5.1,  20.5922,  36.8180,2,  36.8201,2,    225.5,2,   223.9,2,    0.68,2,    0.00,2,    0.00,2,    0.00,2,   1.896,2,   1.183,2,   2.0100,2,  2099.7,6, 2408.72,2,  353.440,2,    20.00,   8.02918,2,    25.04, -999.00,9, -999.00,9, -999.00, -999.00,1,-999.000,9,   63.30,2,    3.95,2,       6.89,2, 20210509,     2121,  34.7395, -66.5805,     -999.0,9,     0.0510,1,     4.5813,1,     -999.0,9,     -999.0,9,     -999.0,9
325020210420,        A22,      70,          1,         35,         35,2,20210509,       1843,    34.7395,   -66.5805,       5243,     5.6,  20.5904,  36.8178,2,-999.0000,9,    225.5,2,  -999.0,9,    0.78,2,    0.03,2,    0.00,2,    0.00,2,-999.000,9,-999.000,9,-999.0000,9,  -999.0,9, -999.00,9, -999.000,9,  -999.00,-999.00000,9,  -999.00, -999.00,9, -999.00,9, -999.00, -999.00,9,-999.000,1, -999.00,9, -999.00,9,     -999.0,9, 20210509,     2121,  34.7395, -66.5805,    20.5900,2,     0.0506,1,     4.5815,1,     -999.0,9,     -999.0,9,     -999.0,1
325020210420,        A22,      70,          1,         34,         34,2,20210509,       1843,    34.7395,   -66.5805,       5243,    20.7,  20.5173,  36.8148,2,  36.8167,2,    225.0,2,   224.0,2,    0.68,2,    0.04,2,    0.00,2,    0.00,2,-999.000,9,-999.000,9,-999.0000,9,  2100.5,2, 2407.47,2,  353.600,2,    20.00,   8.02998,6,    25.05, -999.00,9, -999.00,9, -999.00, -999.00,9,-999.000,9,   62.20,2,    3.42,2,     -999.0,9, 20210509,     2116,  34.7395, -66.5800,    20.5196,2,     0.0519,1,     4.5783,1,     -999.0,9,     -999.0,9,     -999.0,9
325020210420,        A22,      70,          1,         33,         33,2,20210509,       1843,    34.7395,   -66.5805,       5243,    40.8,  20.4355,  36.8126,2,  36.8133,2,    224.6,2,   224.0,2,    0.68,2,    0.24,2,    0.00,2,    0.00,2,   1.909,2,   1.181,2,   1.9700,2,  2098.1,2,  2406.6,6,  354.130,2,    20.00,     8.029,2,    25.03, -999.00,9, -999.00,9, -999.00, -999.00,9,-999.000,9,   62.10,2,    3.69,2,       6.91,2, 20210509,     2114,  34.7395, -66.5801,    20.4344,2,     0.0505,1,     4.5836,1,     -999.0,9,     -999.0,9,     -999.0,9
325020210420,        A22,      70,          1,         32,         32,2,20210509,       1843,    34.7395,   -66.5805,       5243,    67.4,  20.3179,  36.8032,2,  36.8048,2,    224.3,2,   224.0,2,    0.68,2,    0.00,2,    0.00,2,    0.00,2,-999.000,9,-999.000,9,-999.0000,9,  2095.5,2, 2407.53,2,  355.760,2,    20.00,   8.02841,2,    25.01, -999.00,9, -999.00,9, -999.00, -999.00,9,-999.000,9,   61.00,2,    3.85,2,     -999.0,9, 20210509,     2112,  34.7395, -66.5802,    20.3373,2,     0.0575,1,     4.5909,1,     -999.0,9,     -999.0,9,     -999.0,9
325020210420,        A22,      70,          1,         30,         30,2,20210509,       1843,    34.7395,   -66.5805,       5243,   106.9,  19.7929,  36.7431,2,-999.0000,9,    213.7,2,  -999.0,9,    0.88,2,    0.77,2,    0.11,2,    0.00,2,-999.000,9,-999.000,9,-999.0000,9,  -999.0,9, -999.00,9, -999.000,9,  -999.00,-999.00000,9,  -999.00, -999.00,9, -999.00,9, -999.00, -999.00,9,-999.000,1, -999.00,9, -999.00,9,     -999.0,9, 20210509,     2109,  34.7395, -66.5803,    19.7868,2,     0.0689,1,     4.6349,1,     -999.0,9,     -999.0,9,     -999.0,1
325020210420,        A22,      70,          1,         31,         31,2,20210509,       1843,    34.7395,   -66.5805,       5243,   108.0,  19.7810,  36.7418,2,  36.7433,2,    213.6,2,   214.0,2,    0.78,2,    0.77,2,    0.11,2,    0.00,2,   1.943,2,   1.216,2,   1.8800,2,  2103.7,2, 2404.49,2,  373.030,2,    20.00,   8.01001,2,    25.00, -999.00,9, -999.00,9, -999.00, -999.00,1,-999.000,9,   58.00,2,    4.08,2,       7.37,2, 20210509,     2109,  34.7395, -66.5803,     -999.0,9,     0.0686,1,     4.6349,1,     -999.0,9,     -999.0,9,     -999.0,9
325020210420,        A22,      70,          1,         29,         29,2,20210509,       1843,    34.7395,   -66.5805,       5243,   148.3,  19.4608,  36.6946,2,  36.6943,2,    212.2,2,   211.6,2,    0.97,2,    1.47,2,    0.00,2,    0.02,2,-999.000,9,-999.000,9,-999.0000,9,  2108.0,2, 2398.39,2,  380.720,2,    20.00,   8.00191,2,    25.00, -999.00,9, -999.00,9, -999.00, -999.00,9,-999.000,9,   54.80,2,    4.66,2,     -999.0,9, 20210509,     2106,  34.7394, -66.5804,    19.4624,2,     0.0406,1,     4.6535,1,     -999.0,9,     -999.0,9,     -999.0,9
325020210420,        A22,      70,          1,         28,         28,2,20210509,       1843,    34.7395,   -66.5805,       5243,   185.5,  19.3162,  36.6810,2,  36.6852,2,    211.1,2,   210.9,2,    1.17,2,    1.71,2,    0.00,2,    0.02,2,   1.976,2,   1.236,2,   1.9300,2,  2110.3,2, 2396.28,2,  386.130,2,    20.00,   7.99707,2,    25.01, -999.00,9, -999.00,9, -999.00, -999.00,9,-999.000,9,   55.40,2,    6.42,3,       7.49,2, 20210509,     2104,  34.7394, -66.5805,    19.3140,2,     0.0411,1,     4.6545,1,     -999.0,9,     -999.0,9,     -999.0,9
325020210420,        A22,      70,          1,         27,         27,2,20210509,       1843,    34.7395,   -66.5805,       5243,   237.1,  19.0967,  36.6617,2,  36.6610,2,    213.1,2,   212.9,2,    1.17,2,    1.99,2,    0.00,2,    0.04,2,   1.976,2,   1.237,2,   1.9800,2,  2110.7,2,  2396.8,2,  387.160,2,    20.00,   7.99613,2,    25.07, -999.00,9, -999.00,9, -999.00, -999.00,9,-999.000,9,   54.40,2,    4.88,2,       7.50,2, 20210509,     2101,  34.7394, -66.5807,    19.0951,2,     0.0399,1,     4.6554,1,     -999.0,9,     -999.0,9,     -999.0,9
325020210420,        A22,      70,          1,         26,         26,2,20210509,       1843,    34.7395,   -66.5805,       5243,   288.2,  18.9036,  36.6246,2,  36.6249,2,    202.3,2,   202.2,2,    1.46,2,    3.02,2,    0.00,2,    0.08,2,   2.037,2,   1.274,2,   1.7700,2,  2120.8,2,  2392.9,2,  406.960,2,    20.00,   7.97731,2,    25.02, -999.00,9, -999.00,9, -999.00, -999.00,9,-999.000,9,   50.40,2, -999.00,1,       7.95,2, 20210509,     2058,  34.7394, -66.5807,    18.9045,2,     0.0390,1,     4.6579,1,     -999.0,9,     -999.0,9,     -999.0,9
325020210420,        A22,      70,          1,         25,         25,2,20210509,       1843,    34.7395,   -66.5805,       5243,   340.9,  18.6797,  36.5984,2,  36.5981,2,    201.3,2,   201.2,2,    1.27,2,    3.51,2,    0.00,2,    0.11,2,-999.000,9,-999.000,9,-999.0000,9,  2119.3,2, 2391.65,2,  415.050,2,    20.00,   7.97048,2,    25.02, -999.00,9, -999.00,9, -999.00, -999.00,9,-999.000,9,   50.60,2, -999.00,1,     -999.0,9, 20210509,     2055,  34.7394, -66.5804,    18.6779,2,     0.0390,1,     4.6593,1,     -999.0,9,     -999.0,9,     -999.0,9
325020210420,        A22,      70,          1,         24,         24,2,20210509,       1843,    34.7395,   -66.5805,       5243,   387.9,  18.3739,  36.5513,2,  36.5507,2,    196.9,2,   197.0,2,    1.56,2,    4.54,2,    0.00,2,    0.17,2,   2.076,2,   1.303,2,   1.7800,2,  2125.2,2, 2388.05,2,  428.810,2,    20.00,   7.95809,2,    25.02, -999.00,9, -999.00,9, -999.00, -999.00,9,-999.000,9,   49.50,2, -999.00,1,       8.21,2, 20210509,     2053,  34.7394, -66.5802,    18.3738,2,     0.0401,1,     4.6602,1,     -999.0,9,     -999.0,9,     -999.0,9
325020210420,        A22,      70,          1,         23,         23,2,20210509,       1843,    34.7395,   -66.5805,       5243,   467.7,  17.7446,  36.4435,2,  36.4463,2,    187.8,2,   188.3,2,    2.05,2,    6.14,2,    0.00,2,    0.26,2,   2.155,2,   1.332,2,   1.6200,2,  2134.4,2, 2383.09,2,  458.120,2,    20.00,   7.93214,2,    25.04, -999.00,9, -999.00,9, -999.00, -999.00,9,-999.000,9,   48.80,2, -999.00,1,       9.46,2, 20210509,     2050,  34.7394, -66.5802,    17.7455,2,     0.0390,1,     4.6608,1,     -999.0,9,     -999.0,9,     -999.0,9
325020210420,        A22,      70,          1,         22,         22,2,20210509,       1843,    34.7395,   -66.5805,       5243,   569.9,  16.3643,  36.2145,2,  36.2180,2,    182.2,2,   182.6,2,    3.12,2,    8.82,2,    0.00,2,    0.44,2,-999.000,9,-999.000,9,-999.0000,9,  2145.5,2, 2368.06,2,  508.260,2,    20.00,   7.89061,2,    25.04, -999.00,9, -999.00,9, -999.00, -999.00,9,-999.000,9,   46.80,2, -999.00,1,     -999.0,9, 20210509,     2046,  34.7394, -66.5802,    16.3505,2,     0.0405,1,     4.6627,1,     -999.0,9,     -999.0,9,     -999.0,9
325020210420,        A22,      70,          1,         21,         21,2,20210509,       1843,    34.7395,   -66.5805,       5243,   670.7,  14.8771,  35.9612,2,  35.9621,2,    173.2,2,   173.4,2,    4.58,2,   12.11,2,    0.00,2,    0.66,2,   2.228,6,   1.332,6,   1.3700,6,  2157.0,2, 2357.15,2,  574.620,2,    20.00,   7.84138,2,    25.05, -999.00,9, -999.00,9, -999.00, -999.00,9,-999.000,9,   46.40,2, -999.00,1,      13.09,6, 20210509,     2042,  34.7394, -66.5802,    14.8763,2,     0.0407,1,     4.6634,1,     -999.0,9,     -999.0,9,     -999.0,9
325020210420,        A22,      70,          1,         20,         20,2,20210509,       1843,    34.7395,   -66.5805,       5243,   773.2,  12.8998,  35.6623,2,  35.6640,2,    161.4,2,   161.5,2,    7.31,2,   16.56,2,    0.00,2,    0.96,2,   2.072,2,   1.208,2,   1.1200,2,  2173.4,2, 2339.85,2,  675.985,6,    20.00,   7.77592,2,    25.01, -999.00,9, -999.00,9, -999.00, -999.00,9,-999.000,9,   45.10,2, -999.00,1,      15.55,2, 20210509,     2036,  34.7394, -66.5802,    12.9044,2,     0.0408,1,     4.6664,1,     -999.0,9,     -999.0,9,     -999.0,9
325020210420,        A22,      70,          1,         19,         19,2,20210509,       1843,    34.7395,   -66.5805,       5243,   872.2,  10.9812,  35.4142,2,  35.4149,2,    150.0,2,   150.2,2,   10.53,2,   20.77,2,    0.00,2,    1.25,2,   1.781,2,   1.007,2,   0.8600,2,  2186.3,6,  2330.0,2,  783.180,2,    20.00,   7.71516,2,    25.01, -999.00,9, -999.00,9, -999.00, -999.00,9,-999.000,9,   43.70,2, -999.00,1,      18.52,2, 20210509,     2031,  34.7394, -66.5802,    10.9752,2,     0.0405,1,     4.6683,1,     -999.0,9,     -999.0,9,     -999.0,9
325020210420,        A22,      70,          1,         18,         18,2,20210509,       1843,    34.7395,   -66.5805,       5243,   974.6,   8.5797,  35.2006,2,  35.2006,2,    160.5,2,   160.5,2,   13.66,2,   22.95,2,    0.00,2,    1.42,2,-999.000,9,-999.000,9,-999.0000,9,  2194.2,2,  2321.6,2,  856.280,2,    20.00,   7.67807,6,    25.06, -999.00,9, -999.00,9, -999.00, -999.00,9,-999.000,9,   43.70,2, -999.00,1,     -999.0,9, 20210509,     2028,  34.7394, -66.5802,     8.5784,2,     0.0412,1,     4.6691,1,     -999.0,9,     -999.0,9,     -999.0,9
325020210420,        A22,      70,          1,         17,         17,2,20210509,       1843,    34.7395,   -66.5805,       5243,  1075.9,   7.2009,  35.1412,2,  35.1410,2,    184.8,2,   185.0,2,   13.76,2,   21.83,2,    0.00,2,    1.38,2,   1.672,2,   0.897,2,   0.5700,2,  2189.4,2, 2318.97,6,  844.260,2,    20.00,   7.68248,2,    25.04, -999.00,9, -999.00,9, -999.00, -999.00,9,-999.000,9,   43.00,2, -999.00,1,      17.28,2, 20210509,     2024,  34.7394, -66.5802,     7.2008,2,     0.0416,1,     4.6697,1,     -999.0,9,     -999.0,9,     -999.0,9
325020210420,        A22,      70,          1,         16,         16,2,20210509,       1843,    34.7395,   -66.5805,       5243,  1176.7,   6.2442,  35.1094,2,  35.1134,2,    208.9,3,   205.0,2,   13.07,2,   20.50,2,    0.00,2,    1.31,2,   1.967,2,   1.058,2,   0.7100,2,  2186.3,2, 2315.53,2,  826.640,2,    20.00,   7.69112,2,    25.04, -999.00,9, -999.00,9, -999.00, -999.00,9,-999.000,9,   43.60,2, -999.00,1,      15.97,2, 20210509,     2020,  34.7394, -66.5802,     6.2423,2,     0.0417,1,     4.6703,1,     -999.0,9,     -999.0,9,     -999.0,9
325020210420,        A22,      70,          1,         15,         15,2,20210509,       1843,    34.7395,   -66.5805,       5243,  1278.7,   5.6794,  35.0853,2,  35.0844,2,    223.6,2,   223.6,2,   12.68,2,   19.43,2,    0.00,2,    1.25,2,-999.000,9,-999.000,9,-999.0000,9,  2179.4,2, 2316.73,2,  809.450,2,    20.00,   7.69927,2,    25.03, -999.00,9, -999.00,9, -999.00, -999.00,9,-999.000,9,   44.10,2, -999.00,1,     -999.0,9, 20210509,     2015,  34.7394, -66.5802,     5.6784,2,     0.0424,1,     4.6703,1,     -999.0,9,     -999.0,9,     -999.0,9
325020210420,        A22,      70,          1,         14,         14,2,20210509,       1843,    34.7395,   -66.5805,       5243,  1381.9,   5.2909,  35.0720,2,  35.0722,2,    235.0,2,   235.2,2,   12.29,2,   18.98,2,    0.00,2,    1.20,2,   2.380,2,   1.266,2,   0.8500,2,  2175.6,2, 2317.17,2,  794.470,2,    20.00,   7.70653,2,    25.05, -999.00,9, -999.00,9, -999.00, -999.00,9,-999.000,9,   44.40,2, -999.00,1,      14.14,2, 20210509,     2010,  34.7394, -66.5802,     5.2914,2,     0.0419,1,     4.6715,1,     -999.0,9,     -999.0,9,     -999.0,9
325020210420,        A22,      70,          1,         13,         13,2,20210509,       1843,    34.7395,   -66.5805,       5243,  1553.5,   4.7397,  35.0312,2,  35.0305,2,    248.2,2,   248.3,2,   12.10,2,   18.21,2,    0.00,2,    1.17,2,   2.559,2,   1.341,2,   0.8000,2,  2171.4,2, 2310.78,2,  776.430,2,    20.00,   7.71152,2,    25.05, -999.00,9, -999.00,9, -999.00, -999.00,9,-999.000,9,   45.00,2, -999.00,1,      13.90,2, 20210509,     2006,  34.7394, -66.5802,     4.7396,2,     0.0430,1,     4.6703,1,     -999.0,9,     -999.0,9,     -999.0,9
325020210420,        A22,      70,          1,         12,         12,2,20210509,       1843,    34.7395,   -66.5805,       5243,  1755.1,   4.3311,  35.0031,2,  35.0018,2,    256.6,2,   256.7,2,   12.49,2,   18.08,2,    0.00,2,    1.15,2,   2.543,2,   1.340,2,   0.8700,2,  2167.5,2, 2309.89,2,  782.820,2,    20.00,     7.716,2,    25.02, -999.00,9, -999.00,9, -999.00, -999.00,9,-999.000,9,   45.00,2, -999.00,1,      13.44,2, 20210509,     2001,  34.7394, -66.5802,     4.3306,2,     0.0417,1,     4.6704,1,     -999.0,9,     -999.0,9,     -999.0,9
325020210420,        A22,      70,          1,         11,         11,2,20210509,       1843,    34.7395,   -66.5805,       5243,  1957.5,   4.0757,  34.9924,2,  34.9925,2,    258.5,2,   258.7,2,   13.46,2,   17.83,2,    0.00,2,    1.15,2,-999.000,9,-999.000,9,-999.0000,9,  2167.0,6, 2309.94,2,  763.130,2,    20.00,   7.72159,2,    25.01, -999.00,9, -999.00,9, -999.00, -999.00,9,-999.000,9,   43.20,2, -999.00,1,     -999.0,9, 20210509,     1954,  34.7394, -66.5802,     4.0753,2,     0.0428,1,     4.6711,1,     -999.0,9,     -999.0,9,     -999.0,9
325020210420,        A22,      70,          1,         10,         10,2,20210509,       1843,    34.7395,   -66.5805,       5243,  2192.2,   3.7386,  34.9732,2,  34.9726,2,    260.9,2,   261.1,2,   14.83,2,   17.86,2,    0.00,2,    1.16,2,   1.834,2,   0.920,2,   0.3600,2,  2163.2,2, 2310.28,2,  752.560,2,    20.00,   7.72684,6,    25.01, -999.00,9, -999.00,9, -999.00, -999.00,9,-999.000,9,   43.80,2, -999.00,1,      13.15,2, 20210509,     1949,  34.7394, -66.5803,     3.7388,2,     0.0431,1,     4.6716,1,     -999.0,9,     -999.0,9,     -999.0,9
325020210420,        A22,      70,          1,          9,          9,2,20210509,       1843,    34.7395,   -66.5805,       5243,  2447.9,   3.4939,  34.9651,2,  34.9638,2,    261.1,2,   261.6,2,   17.07,2,   17.97,2,    0.00,2,    1.17,2,-999.000,9,-999.000,9,-999.0000,9,  2162.7,2, 2312.85,6,  745.450,2,    20.00,   7.73141,2,    25.00, -999.00,9, -999.00,9, -999.00, -999.00,9,-999.000,9,   43.00,2, -999.00,1,     -999.0,9, 20210509,     1943,  34.7394, -66.5802,     3.4934,2,     0.0424,1,     4.6716,1,     -999.0,9,     -999.0,9,     -999.0,9
325020210420,        A22,      70,          1,          8,          8,2,20210509,       1843,    34.7395,   -66.5805,       5243,  2700.6,   3.2733,  34.9537,2,  34.9538,2,    261.6,2,   261.8,2,   19.03,2,   18.13,2,    0.00,2,    1.19,2,   1.114,2,   0.581,2,   0.1900,2,  2165.6,2,  2314.2,2,  740.180,2,    20.00,   7.73451,6,    25.01, -999.00,9, -999.00,9, -999.00, -999.00,9,-999.000,9,   43.50,2, -999.00,1,      12.27,2, 20210509,     1937,  34.7394, -66.5802,     3.2727,2,     0.0434,1,     4.6716,1,     -999.0,9,     -999.0,9,     -999.0,9
325020210420,        A22,      70,          1,          7,          7,2,20210509,       1843,    34.7395,   -66.5805,       5243,  2955.9,   3.0430,  34.9411,2,  34.9404,2,    262.9,2,   263.1,2,   20.68,2,   18.14,2,    0.00,2,    1.20,2,   1.035,2,   0.523,2,   0.2200,2,  2164.9,2, 2314.24,2,  737.270,2,    20.00,   7.73618,2,    25.05, -999.00,9, -999.00,9, -999.00, -999.00,9,-999.000,9,   42.40,2, -999.00,1,      12.79,2, 20210509,     1931,  34.7394, -66.5802,     3.0428,2,     0.0419,1,     4.6722,1,     -999.0,9,     -999.0,9,     -999.0,9
325020210420,        A22,      70,          1,          6,          6,2,20210509,       1843,    34.7395,   -66.5805,       5243,  3248.8,   2.8185,  34.9276,2,  34.9264,2,    265.2,2,   265.5,2,   21.95,2,   18.03,2,    0.00,2,    1.20,2,   1.052,2,   0.533,2,   0.2300,2,  2163.4,2, 2316.73,2,  736.780,2,    20.00,   7.73684,2,    24.99, -999.00,9, -999.00,9, -999.00, -999.00,9,-999.000,9,   42.70,2, -999.00,1,      12.96,2, 20210509,     1925,  34.7394, -66.5802,     2.8182,2,     0.0428,1,     4.6716,1,     -999.0,9,     -999.0,9,     -999.0,9
325020210420,        A22,      70,          1,          5,          5,2,20210509,       1843,    34.7395,   -66.5805,       5243,  3620.3,   2.5114,  34.9086,2,  34.9073,2,    267.5,2,   267.8,2,   24.59,2,   17.99,2,    0.00,2,    1.20,2,   1.108,2,   0.565,2,   0.2200,2,  2166.2,2, 2317.51,2,  739.770,2,    20.00,   7.73545,2,    25.03, -999.00,9, -999.00,9, -999.00, -999.00,9,-999.000,9,   43.20,2, -999.00,1,      12.80,2, 20210509,     1916,  34.7394, -66.5802,     2.5109,2,     0.0431,1,     4.6716,1,     -999.0,9,     -999.0,9,     -999.0,9
325020210420,        A22,      70,          1,          4,          4,2,20210509,       1843,    34.7395,   -66.5805,       5243,  4031.8,   2.3260,  34.8945,3,  34.8965,2,    266.7,2,   266.9,2,   28.49,2,   18.37,2,    0.00,2,    1.23,2,-999.000,9,-999.000,9,-999.0000,9,  2169.0,2, 2322.01,2,  744.460,2,    20.00,   7.73215,2,    25.00, -999.00,9, -999.00,9, -999.00, -999.00,9,-999.000,9,   43.40,2, -999.00,1,     -999.0,9, 20210509,     1908,  34.7394, -66.5802,     2.3260,2,     0.0441,1,     4.6716,1,     -999.0,9,     -999.0,9,     -999.0,9
325020210420,        A22,      70,          1,          3,          3,2,20210509,       1843,    34.7395,   -66.5805,       5243,  4441.8,   2.2719,  34.8862,2,  34.8847,2,    263.7,2,   264.2,2,   32.69,2,   19.02,2,    0.00,2,    1.28,2,   0.963,2,   0.500,2,   0.2000,2,  2175.6,2, 2327.13,2,  751.880,2,    20.00,   7.72973,2,    25.01, -999.00,9, -999.00,9, -999.00, -999.00,9,-999.000,9,   42.00,2, -999.00,1,      13.20,2, 20210509,     1900,  34.7394, -66.5802,     2.2717,2,     0.0433,1,     4.6684,1,     -999.0,9,     -999.0,9,     -999.0,9