BOTTLE,20230513CCHSIOCBG
EXPOCODE,SECT_ID,STNNBR,CASTNO,SAMPNO,BTLNBR,BTLNBR_FLAG_W,DATE,TIME,LATITUDE,LONGITUDE,DEPTH,CTDPRS,CTDTMP,CTDSAL,CTDSAL_FLAG_W,SALNTY,SALNTY_FLAG_W,CTDOXY,CTDOXY_FLAG_W,OXYGEN,OXYGEN_FLAG_W,SILCAT,SILCAT_FLAG_W,NITRAT,NITRAT_FLAG_W,NITRIT,NITRIT_FLAG_W,PHSPHT,PHSPHT_FLAG_W,CFC-11,CFC-11_FLAG_W,CFC-12,CFC-12_FLAG_W,SF6,SF6_FLAG_W,TCARBN,TCARBN_FLAG_W,ALKALI,ALKALI_FLAG_W,FCO2,FCO2_FLAG_W,FCO2TMP,PH_TOT,PH_TOT_FLAG_W,PH_TMP,DELC13,DELC13_FLAG_W,DELC14,DELC14_FLAG_W,C14ERR,DELO18,DELO18_FLAG_W,POC,POC_FLAG_W,DOC,DOC_FLAG_W,TDN,TDN_FLAG_W,N2O,N2O_FLAG_W,BTL_DATE,BTL_TIME,BTL_LAT,BTL_LON,REFTMP,REFTMP_FLAG_W,CTDFLUOR,CTDFLUOR_FLAG_W,CTDXMISS,CTDXMISS_FLAG_W,D15N_NO2+NO3,D15N_NO2+NO3_FLAG_W,D18O_NO2+NO3,D18O_NO2+NO3_FLAG_W,HPLC,HPLC_FLAG_W
,,,,,,,,,,,METERS,DBAR,ITS-90,PSS-78,,PSS-78,,UMOL/KG,,UMOL/KG,,UMOL/KG,,UMOL/KG,,UMOL/KG,,UMOL/KG,,PMOL/KG,,PMOL/KG,,FMOL/KG,,UMOL/KG,,UMOL/KG,,UATM,,DEG C,,,DEG C,/MILLE,,/MILLE,,/MILLE,/MILLE,,UG/KG,,UMOL/KG,,UMOL/KG,,NMOL/KG,,,,,,ITS-90,,VOLTS,,VOLTS,,/MILLE,,/MILLE,,,
325020210420,        A22,      63,          1,         36,         36,2,20210507,       1739,    31.3122,   -65.2886,       4630,     5.4,  22.1443,  36.6745,2,  36.6741,2,    222.1,2,   221.4,2,    0.78,2,    0.00,2,    0.00,2,    0.00,2,   1.870,2,   1.168,2,   1.8800,2,  2093.9,6, 2395.47,2, -999.000,9,  -999.00,   8.02929,2,    25.02, -999.00,9, -999.00,9, -999.00, -999.00,1,-999.000,9, -999.00,9, -999.00,9,       6.73,2, 20210507,     1948,  31.3122, -65.2886,    22.1741,2,     0.0442,1,     4.5800,1,     -999.0,9,     -999.0,9,     -999.0,9
325020210420,        A22,      63,          1,         35,         35,2,20210507,       1739,    31.3122,   -65.2886,       4630,    34.9,  20.2904,  36.6749,2,  36.6760,2,    229.0,2,   229.3,2,    0.78,2,    0.00,2,    0.00,2,    0.00,2,-999.000,9,-999.000,9,-999.0000,9,  -999.0,9, -999.00,9, -999.000,9,  -999.00,-999.00000,9,  -999.00, -999.00,9, -999.00,9, -999.00, -999.00,9,-999.000,9, -999.00,9, -999.00,9,     -999.0,9, 20210507,     1946,  31.3122, -65.2886,    20.2864,2,     0.0493,1,     4.5838,1,     -999.0,9,     -999.0,9,     -999.0,9
325020210420,        A22,      63,          1,         34,         34,2,20210507,       1739,    31.3122,   -65.2886,       4630,    60.0,  19.8677,  36.7342,2,  36.7351,2,    226.9,2,   226.7,2,    0.78,2,    0.00,2,    0.00,2,    0.00,2,-999.000,9,-999.000,9,-999.0000,9,  -999.0,9, -999.00,9, -999.000,9,  -999.00,-999.00000,9,  -999.00, -999.00,9, -999.00,9, -999.00, -999.00,1,-999.000,9, -999.00,9, -999.00,9,     -999.0,9, 20210507,     1944,  31.3122, -65.2886,    19.8662,2,     0.0588,1,     4.5864,1,     -999.0,9,     -999.0,9,     -999.0,9
325020210420,        A22,      63,          1,         33,         33,2,20210507,       1739,    31.3122,   -65.2886,       4630,    85.3,  19.6697,  36.7264,2,  36.7260,2,    223.8,2,   223.3,2,    0.78,2,    0.06,2,    0.08,2,    0.00,2,-999.000,9,-999.000,9,-999.0000,9,  -999.0,9, -999.00,9, -999.000,9,  -999.00,-999.00000,9,  -999.00, -999.00,9, -999.00,9, -999.00, -999.00,9,-999.000,9, -999.00,9, -999.00,9,     -999.0,9, 20210507,     1941,  31.3122, -65.2886,    19.6655,2,     0.1163,1,     4.5712,1,     -999.0,9,     -999.0,9,     -999.0,9
325020210420,        A22,      63,          1,         32,         32,2,20210507,       1739,    31.3122,   -65.2886,       4630,   111.4,  19.4918,  36.7208,2,  36.7199,2,    219.0,2,   218.9,2,    0.97,2,    0.57,2,    0.21,2,    0.00,2,-999.000,9,-999.000,9,-999.0000,9,  -999.0,9, -999.00,9, -999.000,9,  -999.00,-999.00000,9,  -999.00, -999.00,9, -999.00,9, -999.00, -999.00,9,-999.000,9, -999.00,9, -999.00,9,     -999.0,9, 20210507,     1939,  31.3122, -65.2886,    19.4908,2,     0.0843,1,     4.6264,1,     -999.0,9,     -999.0,9,     -999.0,9
325020210420,        A22,      63,          1,         31,         31,2,20210507,       1739,    31.3122,   -65.2886,       4630,   136.2,  19.3721,  36.7065,2,  36.7080,2,    217.2,2,   217.3,2,    0.88,2,    0.89,2,    0.15,2,    0.00,2,   1.948,2,   1.226,2,   1.9100,2,  2107.7,2, 2397.81,2, -999.000,9,  -999.00,   8.00794,6,    25.04, -999.00,9, -999.00,9, -999.00, -999.00,9,-999.000,9, -999.00,9, -999.00,9,       7.49,2, 20210507,     1937,  31.3122, -65.2886,    19.3714,2,     0.0576,1,     4.6461,1,     -999.0,9,     -999.0,9,     -999.0,9
325020210420,        A22,      63,          1,         30,         30,2,20210507,       1739,    31.3122,   -65.2886,       4630,   167.4,  19.2374,  36.6886,2,  36.6879,2,    215.8,2,   215.7,2,    0.88,2,    1.37,2,    0.03,2,    0.00,2,-999.000,9,-999.000,9,-999.0000,9,  -999.0,9, -999.00,9, -999.000,9,  -999.00,-999.00000,9,  -999.00, -999.00,9, -999.00,9, -999.00, -999.00,9,-999.000,9, -999.00,9, -999.00,9,     -999.0,9, 20210507,     1935,  31.3122, -65.2886,    19.2351,2,     0.0494,1,     4.6527,1,     -999.0,9,     -999.0,9,     -999.0,9
325020210420,        A22,      63,          1,         29,         29,2,20210507,       1739,    31.3122,   -65.2886,       4630,   217.3,  19.1229,  36.6706,2,  36.6701,2,    212.5,2,   212.6,2,    0.88,2,    1.86,2,    0.00,2,    0.02,2,   1.996,2,   1.242,2,   1.8800,2,  2111.3,2, 2396.06,6, -999.000,9,  -999.00,   7.99712,2,    24.95, -999.00,9, -999.00,9, -999.00, -999.00,9,-999.000,9, -999.00,9, -999.00,9,       7.63,2, 20210507,     1933,  31.3122, -65.2886,    19.1201,2,     0.0393,1,     4.6568,1,     -999.0,9,     -999.0,9,     -999.0,9
325020210420,        A22,      63,          1,         28,         28,2,20210507,       1739,    31.3122,   -65.2886,       4630,   266.7,  18.9511,  36.6442,2,  36.6445,2,    207.1,2,   207.1,2,    1.17,2,    2.58,2,    0.00,2,    0.05,2,-999.000,9,-999.000,9,-999.0000,9,  -999.0,9, -999.00,9, -999.000,9,  -999.00,-999.00000,9,  -999.00, -999.00,9, -999.00,9, -999.00, -999.00,9,-999.000,9, -999.00,9, -999.00,9,     -999.0,9, 20210507,     1931,  31.3122, -65.2886,    18.9504,2,     0.0393,1,     4.6580,1,     -999.0,9,     -999.0,9,     -999.0,9
325020210420,        A22,      63,          1,         27,         27,2,20210507,       1739,    31.3122,   -65.2886,       4630,   316.9,  18.7788,  36.6435,2,  36.6437,2,    208.8,2,   209.5,2,    1.17,2,    2.74,2,    0.00,2,    0.06,2,   2.009,2,   1.259,2,   1.8600,2,  2117.4,2, 2393.01,2, -999.000,9,  -999.00,   7.98443,2,    24.98, -999.00,9, -999.00,9, -999.00, -999.00,9,-999.000,9, -999.00,9, -999.00,9,       7.89,2, 20210507,     1928,  31.3122, -65.2886,    18.7778,2,     0.0388,1,     4.6599,1,     -999.0,9,     -999.0,9,     -999.0,9
325020210420,        A22,      63,          1,         26,         26,2,20210507,       1739,    31.3122,   -65.2886,       4630,   367.3,  18.5332,  36.5948,2,  36.5944,2,    202.6,2,   202.8,2,    1.46,2,    3.64,2,    0.00,2,    0.11,2,-999.000,9,-999.000,9,-999.0000,9,  -999.0,9, -999.00,9, -999.000,9,  -999.00,-999.00000,9,  -999.00, -999.00,9, -999.00,9, -999.00, -999.00,9,-999.000,9, -999.00,9, -999.00,9,     -999.0,9, 20210507,     1925,  31.3122, -65.2886,    18.5325,2,     0.0392,1,     4.6618,1,     -999.0,9,     -999.0,9,     -999.0,9
325020210420,        A22,      63,          1,         25,         25,2,20210507,       1739,    31.3122,   -65.2886,       4630,   418.0,  17.8412,  36.4577,2,  36.4558,2,    189.3,2,   189.6,2,    1.95,2,    5.89,2,    0.00,2,    0.23,2,   2.128,2,   1.316,2,   1.5700,2,  2135.7,2,  2382.1,2, -999.000,9,  -999.00,   7.93619,2,    25.03, -999.00,9, -999.00,9, -999.00, -999.00,9,-999.000,9, -999.00,9, -999.00,9,       9.37,2, 20210507,     1924,  31.3122, -65.2886,    17.8376,2,     0.0394,1,     4.6630,1,     -999.0,9,     -999.0,9,     -999.0,9
325020210420,        A22,      63,          1,         24,         24,2,20210507,       1739,    31.3122,   -65.2886,       4630,   468.9,  17.2562,  36.3583,2,  36.3568,2,    183.0,2,   183.2,2,    2.44,2,    7.39,2,    0.00,2,    0.33,2,-999.000,9,-999.000,9,-999.0000,9,  -999.0,9, -999.00,9, -999.000,9,  -999.00,-999.00000,9,  -999.00, -999.00,9, -999.00,9, -999.00, -999.00,9,-999.000,9, -999.00,9, -999.00,9,     -999.0,9, 20210507,     1922,  31.3122, -65.2886,    17.2545,2,     0.0404,1,     4.6641,1,     -999.0,9,     -999.0,9,     -999.0,9
325020210420,        A22,      63,          1,         23,         23,2,20210507,       1739,    31.3122,   -65.2886,       4630,   539.4,  16.1105,  36.1697,2,  36.1678,2,    179.9,2,   180.0,2,    3.31,2,    9.56,2,    0.00,2,    0.48,2,   2.218,2,   1.349,2,   1.4400,2,  2149.1,2, 2367.21,2, -999.000,9,  -999.00,   7.88051,2,    25.04, -999.00,9, -999.00,9, -999.00, -999.00,9,-999.000,9, -999.00,9, -999.00,9,      11.72,2, 20210507,     1919,  31.3122, -65.2886,    16.1062,2,     0.0402,1,     4.6663,1,     -999.0,9,     -999.0,9,     -999.0,9
325020210420,        A22,      63,          1,         22,         22,2,20210507,       1739,    31.3122,   -65.2886,       4630,   640.3,  14.0619,  35.8399,2,  35.8392,2,    170.5,2,   170.7,2,    5.46,2,   13.74,2,    0.00,2,    0.75,2,-999.000,9,-999.000,9,-999.0000,9,  -999.0,9, -999.00,9, -999.000,9,  -999.00,-999.00000,9,  -999.00, -999.00,9, -999.00,9, -999.00, -999.00,9,-999.000,9, -999.00,9, -999.00,9,     -999.0,9, 20210507,     1916,  31.3122, -65.2886,    14.0614,2,     0.0406,1,     4.6703,1,     -999.0,9,     -999.0,9,     -999.0,9
325020210420,        A22,      63,          1,         21,         21,2,20210507,       1739,    31.3122,   -65.2886,       4630,   741.6,  11.8445,  35.5277,2,  35.5259,2,    151.7,2,   151.5,2,    9.27,2,   19.41,2,    0.00,2,    1.12,2,-999.000,9,-999.000,9,-999.0000,9,  2181.1,2, 2332.42,2, -999.000,9,  -999.00,   7.73987,2,    25.00, -999.00,9, -999.00,9, -999.00, -999.00,9,-999.000,9, -999.00,9, -999.00,9,     -999.0,9, 20210507,     1913,  31.3122, -65.2886,    11.8528,2,     0.0413,1,     4.6728,1,     -999.0,9,     -999.0,9,     -999.0,9
325020210420,        A22,      63,          1,         20,         20,2,20210507,       1739,    31.3122,   -65.2886,       4630,   842.0,   9.5995,  35.2774,2,  35.2771,2,    151.8,2,   152.0,2,   12.58,2,   22.58,2,    0.00,2,    1.36,2,-999.000,9,-999.000,9,-999.0000,9,  -999.0,9, -999.00,9, -999.000,9,  -999.00,-999.00000,9,  -999.00, -999.00,9, -999.00,9, -999.00, -999.00,9,-999.000,9, -999.00,9, -999.00,9,     -999.0,9, 20210507,     1909,  31.3122, -65.2886,     9.6058,2,     0.0423,1,     4.6728,1,     -999.0,9,     -999.0,9,     -999.0,9
325020210420,        A22,      63,          1,         19,         19,2,20210507,       1739,    31.3122,   -65.2886,       4630,   942.8,   7.5783,  35.1515,2,  35.1500,2,    176.0,2,   176.3,2,   13.85,2,   22.39,2,    0.00,2,    1.38,2,   1.588,2,   0.857,2,   0.5500,2,  -999.0,9, -999.00,9, -999.000,9,  -999.00,-999.00000,9,  -999.00, -999.00,9, -999.00,9, -999.00, -999.00,9,-999.000,9, -999.00,9, -999.00,9,      17.97,2, 20210507,     1907,  31.3122, -65.2886,     7.5968,2,     0.0430,1,     4.6735,1,     -999.0,9,     -999.0,9,     -999.0,9
325020210420,        A22,      63,          1,         18,         18,2,20210507,       1739,    31.3122,   -65.2886,       4630,  1045.3,   6.4766,  35.1198,2,  35.1195,2,    200.7,2,   200.7,2,   13.27,2,   20.94,2,    0.00,2,    1.31,2,-999.000,9,-999.000,9,-999.0000,9,  -999.0,9, -999.00,9, -999.000,9,  -999.00,-999.00000,9,  -999.00, -999.00,9, -999.00,9, -999.00, -999.00,9,-999.000,9, -999.00,9, -999.00,9,     -999.0,9, 20210507,     1904,  31.3122, -65.2886,     6.5001,2,     0.0422,1,     4.6740,1,     -999.0,9,     -999.0,9,     -999.0,9
325020210420,        A22,      63,          1,         17,         17,2,20210507,       1739,    31.3122,   -65.2886,       4630,  1146.5,   5.7000,  35.0994,2,  35.0988,2,    221.0,2,   221.2,2,   12.98,2,   19.80,2,    0.00,2,    1.24,2,   1.863,2,   0.991,2,   0.5000,2,  2180.8,2,  2314.4,2, -999.000,9,  -999.00,   7.70524,2,    25.03, -999.00,9, -999.00,9, -999.00, -999.00,9,-999.000,9, -999.00,9, -999.00,9,      15.04,2, 20210507,     1901,  31.3122, -65.2886,     5.7054,2,     0.0429,1,     4.6756,1,     -999.0,9,     -999.0,9,     -999.0,9
325020210420,        A22,      63,          1,         16,         16,2,20210507,       1739,    31.3122,   -65.2886,       4630,  1247.6,   5.2096,  35.0757,2,  35.0744,2,    236.0,2,   236.5,2,   12.49,2,   18.80,2,    0.00,2,    1.19,2,-999.000,9,-999.000,9,-999.0000,9,  -999.0,9, -999.00,9, -999.000,9,  -999.00,-999.00000,9,  -999.00, -999.00,9, -999.00,9, -999.00, -999.00,9,-999.000,9, -999.00,9, -999.00,9,     -999.0,9, 20210507,     1858,  31.3122, -65.2886,     5.2079,2,     0.0422,1,     4.6752,1,     -999.0,9,     -999.0,9,     -999.0,9
325020210420,        A22,      63,          1,         15,         15,2,20210507,       1739,    31.3122,   -65.2886,       4630,  1348.7,   4.8720,  35.0514,2,  35.0498,2,    243.8,2,   243.9,2,   12.39,2,   18.46,2,    0.00,2,    1.17,2,-999.000,9,-999.000,9,-999.0000,9,  -999.0,9, -999.00,9, -999.000,9,  -999.00,-999.00000,9,  -999.00, -999.00,9, -999.00,9, -999.00, -999.00,9,-999.000,9, -999.00,9, -999.00,9,     -999.0,9, 20210507,     1855,  31.3122, -65.2886,     4.8733,2,     0.0417,1,     4.6750,1,     -999.0,9,     -999.0,9,     -999.0,9
325020210420,        A22,      63,          1,         14,         14,2,20210507,       1739,    31.3122,   -65.2886,       4630,  1449.6,   4.6387,  35.0398,2,  35.0394,2,    248.2,2,   248.4,2,   12.59,2,   18.29,2,    0.00,2,    1.16,2,-999.000,9,-999.000,9,-999.0000,9,  -999.0,9, -999.00,9, -999.000,9,  -999.00,-999.00000,9,  -999.00, -999.00,9, -999.00,9, -999.00, -999.00,9,-999.000,9, -999.00,9, -999.00,9,     -999.0,9, 20210507,     1852,  31.3122, -65.2886,     4.6372,2,     0.0421,1,     4.6751,1,     -999.0,9,     -999.0,9,     -999.0,9
325020210420,        A22,      63,          1,         13,         13,2,20210507,       1739,    31.3122,   -65.2886,       4630,  1551.7,   4.4429,  35.0263,2,  35.0258,2,    251.5,2,   251.6,2,   12.88,2,   18.15,2,    0.00,2,    1.15,2,-999.000,9,-999.000,9,-999.0000,9,  -999.0,9, -999.00,9, -999.000,9,  -999.00,-999.00000,9,  -999.00, -999.00,9, -999.00,9, -999.00, -999.00,9,-999.000,9, -999.00,9, -999.00,9,     -999.0,9, 20210507,     1849,  31.3122, -65.2886,     4.4428,2,     0.0418,1,     4.6752,1,     -999.0,9,     -999.0,9,     -999.0,9
325020210420,        A22,      63,          1,         12,         12,2,20210507,       1739,    31.3122,   -65.2886,       4630,  1684.3,   4.2269,  35.0148,2,  35.0146,2,    254.1,2,   253.9,2,   13.37,2,   18.19,2,    0.00,2,    1.16,2,   1.989,2,   1.018,2,   0.4700,2,  2170.2,2, 2311.23,2, -999.000,9,  -999.00,   7.72362,2,    25.06, -999.00,9, -999.00,9, -999.00, -999.00,9,-999.000,9, -999.00,9, -999.00,9,      13.57,2, 20210507,     1845,  31.3122, -65.2886,     4.2277,2,     0.0431,1,     4.6752,1,     -999.0,9,     -999.0,9,     -999.0,9
325020210420,        A22,      63,          1,         11,         11,2,20210507,       1739,    31.3122,   -65.2886,       4630,  1887.6,   3.8700,  34.9903,2,  34.9888,2,    257.5,2,   258.2,2,   14.64,2,   18.15,2,    0.00,2,    1.16,2,-999.000,9,-999.000,9,-999.0000,9,  -999.0,9, -999.00,9, -999.000,9,  -999.00,-999.00000,9,  -999.00, -999.00,9, -999.00,9, -999.00, -999.00,9,-999.000,9, -999.00,9, -999.00,9,     -999.0,9, 20210507,     1840,  31.3122, -65.2886,     3.8694,2,     0.0418,1,     4.6752,1,     -999.0,9,     -999.0,9,     -999.0,9
325020210420,        A22,      63,          1,         10,         10,2,20210507,       1739,    31.3122,   -65.2886,       4630,  2109.6,   3.5788,  34.9730,2,  34.9715,2,    259.7,2,   260.0,2,   16.49,2,   18.22,2,    0.00,2,    1.17,2,-999.000,9,-999.000,9,-999.0000,9,  -999.0,9, -999.00,9, -999.000,9,  -999.00,-999.00000,9,  -999.00, -999.00,9, -999.00,9, -999.00, -999.00,9,-999.000,9, -999.00,9, -999.00,9,     -999.0,9, 20210507,     1836,  31.3122, -65.2886,     3.5786,2,     0.0428,1,     4.6752,1,     -999.0,9,     -999.0,9,     -999.0,9
325020210420,        A22,      63,          1,          9,          9,2,20210507,       1739,    31.3122,   -65.2886,       4630,  2364.7,   3.3051,  34.9622,2,  34.9608,2,    259.3,2,   259.3,2,   19.52,2,   18.49,2,    0.00,2,    1.20,2,   0.971,2,   0.491,2,   0.2000,2,  2167.3,2, 2316.65,2, -999.000,9,  -999.00,   7.73636,2,    25.02, -999.00,9, -999.00,9, -999.00, -999.00,9,-999.000,9, -999.00,9, -999.00,9,      12.98,2, 20210507,     1830,  31.3122, -65.2886,     3.3045,2,     0.0430,1,     4.6758,1,     -999.0,9,     -999.0,9,     -999.0,9
325020210420,        A22,      63,          1,          8,          8,2,20210507,       1739,    31.3122,   -65.2886,       4630,  2618.8,   3.0410,  34.9465,2,  34.9455,2,    260.7,2,   261.2,2,   21.57,2,   18.56,2,    0.00,2,    1.21,2,-999.000,9,-999.000,9,-999.0000,9,  -999.0,9, -999.00,9, -999.000,9,  -999.00,-999.00000,9,  -999.00, -999.00,9, -999.00,9, -999.00, -999.00,9,-999.000,9, -999.00,9, -999.00,9,     -999.0,9, 20210507,     1824,  31.3122, -65.2886,     3.0408,2,     0.0424,1,     4.6763,1,     -999.0,9,     -999.0,9,     -999.0,9
325020210420,        A22,      63,          1,          7,          7,2,20210507,       1739,    31.3122,   -65.2886,       4630,  2873.8,   2.8258,  34.9320,2,  34.9311,2,    263.2,2,   263.4,2,   22.44,2,   18.37,2,    0.00,2,    1.21,2,   0.789,2,   0.424,2,   0.1500,2,  2168.7,2,  2316.0,2, -999.000,9,  -999.00,    7.7382,2,    24.99, -999.00,9, -999.00,9, -999.00, -999.00,9,-999.000,9, -999.00,9, -999.00,9,      13.16,2, 20210507,     1819,  31.3122, -65.2886,     2.8265,2,     0.0426,1,     4.6762,1,     -999.0,9,     -999.0,9,     -999.0,9
325020210420,        A22,      63,          1,          6,          6,2,20210507,       1739,    31.3122,   -65.2886,       4630,  3145.4,   2.5596,  34.9144,2,  34.9122,3,    267.0,2,   267.1,2,   23.42,2,   18.11,2,    0.00,2,    1.19,2,-999.000,9,-999.000,9,-999.0000,9,  -999.0,9, -999.00,9, -999.000,9,  -999.00,-999.00000,9,  -999.00, -999.00,9, -999.00,9, -999.00, -999.00,9,-999.000,9, -999.00,9, -999.00,9,     -999.0,9, 20210507,     1814,  31.3122, -65.2886,     2.5592,2,     0.0430,1,     4.6754,1,     -999.0,9,     -999.0,9,     -999.0,9
325020210420,        A22,      63,          1,          5,          5,2,20210507,       1739,    31.3122,   -65.2886,       4630,  3451.7,   2.3601,  34.9011,2,  34.9002,2,    267.2,2,   267.6,2,   26.45,2,   18.27,2,    0.00,2,    1.21,2,   1.117,2,   0.572,2,   0.2600,2,  2173.1,2, 2316.53,2, -999.000,9,  -999.00,   7.73344,2,    24.99, -999.00,9, -999.00,9, -999.00, -999.00,9,-999.000,9, -999.00,9, -999.00,9,      13.27,2, 20210507,     1807,  31.3122, -65.2886,     2.3601,2,     0.0429,1,     4.6752,1,     -999.0,9,     -999.0,9,     -999.0,9
325020210420,        A22,      63,          1,          4,          4,2,20210507,       1739,    31.3122,   -65.2886,       4630,  3759.8,   2.2641,  34.8927,2,  34.8922,2,    265.8,2,   265.9,2,   29.76,2,   18.70,2,    0.00,2,    1.24,2,-999.000,9,-999.000,9,-999.0000,9,  -999.0,9, -999.00,9, -999.000,9,  -999.00,-999.00000,9,  -999.00, -999.00,9, -999.00,9, -999.00, -999.00,9,-999.000,9, -999.00,9, -999.00,9,     -999.0,9, 20210507,     1801,  31.3122, -65.2886,     2.2641,2,     0.0430,1,     4.6754,1,     -999.0,9,     -999.0,9,     -999.0,9
325020210420,        A22,      63,          1,          3,          3,2,20210507,       1739,    31.3122,   -65.2886,       4630,  4067.1,   2.2210,  34.8859,2,  34.8853,2,    263.5,2,   263.7,2,   33.08,2,   19.15,2,    0.00,2,    1.28,2,   0.965,2,   0.498,2,   0.2200,2,  2181.9,2, 2326.86,2, -999.000,9,  -999.00,   7.72964,6,    25.05, -999.00,9, -999.00,9, -999.00, -999.00,9,-999.000,9, -999.00,9, -999.00,9,      13.59,2, 20210507,     1754,  31.3122, -65.2886,     2.2210,2,     0.0429,1,     4.6703,1,     -999.0,9,     -999.0,9,     -999.0,9