BOTTLE,20230513CCHSIOCBG
EXPOCODE,SECT_ID,STNNBR,CASTNO,SAMPNO,BTLNBR,BTLNBR_FLAG_W,DATE,TIME,LATITUDE,LONGITUDE,DEPTH,CTDPRS,CTDTMP,CTDSAL,CTDSAL_FLAG_W,SALNTY,SALNTY_FLAG_W,CTDOXY,CTDOXY_FLAG_W,OXYGEN,OXYGEN_FLAG_W,SILCAT,SILCAT_FLAG_W,NITRAT,NITRAT_FLAG_W,NITRIT,NITRIT_FLAG_W,PHSPHT,PHSPHT_FLAG_W,CFC-11,CFC-11_FLAG_W,CFC-12,CFC-12_FLAG_W,SF6,SF6_FLAG_W,TCARBN,TCARBN_FLAG_W,ALKALI,ALKALI_FLAG_W,FCO2,FCO2_FLAG_W,FCO2TMP,PH_TOT,PH_TOT_FLAG_W,PH_TMP,DELC13,DELC13_FLAG_W,DELC14,DELC14_FLAG_W,C14ERR,DELO18,DELO18_FLAG_W,POC,POC_FLAG_W,DOC,DOC_FLAG_W,TDN,TDN_FLAG_W,N2O,N2O_FLAG_W,BTL_DATE,BTL_TIME,BTL_LAT,BTL_LON,REFTMP,REFTMP_FLAG_W,CTDFLUOR,CTDFLUOR_FLAG_W,CTDXMISS,CTDXMISS_FLAG_W,D15N_NO2+NO3,D15N_NO2+NO3_FLAG_W,D18O_NO2+NO3,D18O_NO2+NO3_FLAG_W,HPLC,HPLC_FLAG_W
,,,,,,,,,,,METERS,DBAR,ITS-90,PSS-78,,PSS-78,,UMOL/KG,,UMOL/KG,,UMOL/KG,,UMOL/KG,,UMOL/KG,,UMOL/KG,,PMOL/KG,,PMOL/KG,,FMOL/KG,,UMOL/KG,,UMOL/KG,,UATM,,DEG C,,,DEG C,/MILLE,,/MILLE,,/MILLE,/MILLE,,UG/KG,,UMOL/KG,,UMOL/KG,,NMOL/KG,,,,,,ITS-90,,VOLTS,,VOLTS,,/MILLE,,/MILLE,,,
325020210420,        A22,      73,          1,         36,         36,2,20210511,       1235,    36.2074,   -67.4513,       4974,     5.6,  20.6265,  36.7115,2,  36.6975,2,    223.3,2,   223.0,2,    0.49,2,    0.00,2,    0.00,2,    0.00,2,   1.849,2,   1.168,2,   1.9500,2,  2086.3,6, 2399.64,2,  348.500,2,    20.00,    8.0347,2,    25.02, -999.00,9, -999.00,9, -999.00, -999.00,1,-999.000,9, -999.00,9, -999.00,9,       6.74,2, 20210511,     1453,  36.2074, -67.4513,    20.8383,2,     0.0516,1,     4.5861,1,     -999.0,1,     -999.0,1,     -999.0,9
325020210420,        A22,      73,          1,         35,         35,2,20210511,       1235,    36.2074,   -67.4513,       4974,    19.8,  20.2870,  36.7463,2,  36.7445,2,    224.2,2,   224.3,2,    0.29,2,    0.00,2,    0.00,2,    0.00,2,-999.000,9,-999.000,9,-999.0000,9,  -999.0,9, -999.00,9, -999.000,9,  -999.00,-999.00000,9,  -999.00, -999.00,9, -999.00,9, -999.00, -999.00,9,-999.000,9, -999.00,9, -999.00,9,     -999.0,9, 20210511,     1451,  36.2074, -67.4514,    20.2918,2,     0.0558,1,     4.5793,1,     -999.0,1,     -999.0,1,     -999.0,9
325020210420,        A22,      73,          1,         34,         34,2,20210511,       1235,    36.2074,   -67.4513,       4974,    40.1,  20.2682,  36.7602,2,  36.7587,2,    224.4,2,   224.3,2,    0.39,2,    0.00,2,    0.00,2,    0.00,2,-999.000,9,-999.000,9,-999.0000,9,  -999.0,9, -999.00,9, -999.000,9,  -999.00,-999.00000,9,  -999.00, -999.00,9, -999.00,9, -999.00, -999.00,9,-999.000,9, -999.00,9, -999.00,9,     -999.0,9, 20210511,     1450,  36.2074, -67.4514,    20.2686,2,     0.0559,1,     4.5851,1,     -999.0,1,     -999.0,1,     -999.0,9
325020210420,        A22,      73,          1,         33,         33,2,20210511,       1235,    36.2074,   -67.4513,       4974,    66.1,  20.2125,  36.7936,2,  36.7931,2,    224.4,2,   223.9,2,    0.39,2,    0.00,2,    0.00,2,    0.00,2,   1.935,2,   1.202,2,   1.9700,2,  2095.6,2, 2407.37,2,  356.740,2,    20.00,   8.02663,6,    25.03, -999.00,9, -999.00,9, -999.00, -999.00,9,-999.000,9, -999.00,9, -999.00,9,       7.03,2, 20210511,     1447,  36.2074, -67.4514,    20.2166,2,     0.0559,1,     4.6060,1,     -999.0,1,     -999.0,1,     -999.0,9
325020210420,        A22,      73,          1,         32,         32,2,20210511,       1235,    36.2074,   -67.4513,       4974,    90.5,  20.1181,  36.7739,2,  36.7728,2,    223.9,2,   223.9,2,    0.49,2,    0.00,2,    0.00,2,    0.00,2,-999.000,9,-999.000,9,-999.0000,9,  -999.0,9, -999.00,9, -999.000,9,  -999.00,-999.00000,9,  -999.00, -999.00,9, -999.00,9, -999.00, -999.00,1,-999.000,9, -999.00,9, -999.00,9,     -999.0,9, 20210511,     1446,  36.2074, -67.4514,    20.1145,2,     0.0706,1,     4.6059,1,     -999.0,1,     -999.0,1,     -999.0,9
325020210420,        A22,      73,          1,         31,         31,2,20210511,       1235,    36.2074,   -67.4513,       4974,   136.8,  19.7149,  36.7342,2,  36.7334,2,    216.5,2,   216.4,2,    0.58,2,    0.56,2,    0.15,2,    0.00,2,-999.000,9,-999.000,9,-999.0000,9,  2101.9,2, 2398.97,2,  371.490,2,    20.00,   8.00969,6,    25.02, -999.00,9, -999.00,9, -999.00, -999.00,9,-999.000,9, -999.00,9, -999.00,9,     -999.0,9, 20210511,     1444,  36.2074, -67.4514,    19.7145,2,     0.0584,1,     4.6432,1,     -999.0,1,     -999.0,1,     -999.0,9
325020210420,        A22,      73,          1,         30,         30,2,20210511,       1235,    36.2074,   -67.4513,       4974,   186.1,  19.2958,  36.6873,2,  36.6860,2,    213.1,2,   213.1,2,    0.68,2,    1.54,2,    0.00,2,    0.00,2,-999.000,9,-999.000,9,-999.0000,9,  -999.0,9, -999.00,9, -999.000,9,  -999.00,-999.00000,9,  -999.00, -999.00,9, -999.00,9, -999.00, -999.00,9,-999.000,9, -999.00,9, -999.00,9,     -999.0,9, 20210511,     1442,  36.2074, -67.4514,    19.2956,2,     0.0411,1,     4.6547,1,     -999.0,1,     -999.0,1,     -999.0,9
325020210420,        A22,      73,          1,         29,         29,2,20210511,       1235,    36.2074,   -67.4513,       4974,   236.9,  19.1967,  36.6868,2,  36.6856,2,    216.0,2,   215.8,2,    0.78,2,    1.57,2,    0.00,2,    0.00,2,   1.958,2,   1.229,2,   1.9100,2,  2105.0,2, 2398.27,2,  379.750,2,    20.00,   8.00166,2,    25.02, -999.00,9, -999.00,9, -999.00, -999.00,9,-999.000,9, -999.00,9, -999.00,9,       7.38,2, 20210511,     1439,  36.2074, -67.4514,    19.1976,2,     0.0400,1,     4.6545,1,     -999.0,1,     -999.0,1,     -999.0,9
325020210420,        A22,      73,          1,         28,         28,2,20210511,       1235,    36.2074,   -67.4513,       4974,   287.0,  19.1555,  36.6823,2,  36.6812,2,    214.6,2,   214.8,2,    0.78,2,    1.71,2,    0.00,2,    0.00,2,-999.000,9,-999.000,9,-999.0000,9,  -999.0,9, -999.00,9, -999.000,9,  -999.00,-999.00000,9,  -999.00, -999.00,9, -999.00,9, -999.00, -999.00,9,-999.000,9, -999.00,9, -999.00,9,     -999.0,9, 20210511,     1437,  36.2074, -67.4514,    19.1567,2,     0.0392,1,     4.6554,1,     -999.0,1,     -999.0,1,     -999.0,9
325020210420,        A22,      73,          1,         27,         27,2,20210511,       1235,    36.2074,   -67.4513,       4974,   337.3,  19.0839,  36.6763,2,  36.6774,2,    212.8,2,  -999.0,5,    0.78,2,    1.96,2,    0.00,2,    0.02,2,-999.000,9,-999.000,9,-999.0000,9,  -999.0,9, -999.00,9, -999.000,9,  -999.00,-999.00000,9,  -999.00, -999.00,9, -999.00,9, -999.00, -999.00,9,-999.000,9, -999.00,9, -999.00,9,     -999.0,9, 20210511,     1435,  36.2074, -67.4514,    19.0849,2,     0.0389,1,     4.6562,1,     -999.0,1,     -999.0,1,     -999.0,9
325020210420,        A22,      73,          1,         26,         26,2,20210511,       1235,    36.2074,   -67.4513,       4974,   389.1,  19.0278,  36.6880,2,  36.6862,2,    213.6,2,   214.2,2,    1.07,2,    1.93,2,    0.00,2,    0.01,2,   2.002,2,   1.252,2,   1.9400,2,  2109.3,2, 2398.28,2,  389.450,2,    20.00,   7.99547,2,    25.03, -999.00,9, -999.00,9, -999.00, -999.00,1,-999.000,9, -999.00,9, -999.00,9,       7.50,2, 20210511,     1431,  36.2074, -67.4514,    19.0295,2,     0.0391,1,     4.6577,1,     -999.0,1,     -999.0,1,     -999.0,9
325020210420,        A22,      73,          1,         25,         25,2,20210511,       1235,    36.2074,   -67.4513,       4974,   469.4,  18.2934,  36.5380,2,  36.5391,2,    196.7,2,   196.9,2,    1.27,2,    4.49,2,    0.00,2,    0.15,2,-999.000,9,-999.000,9,-999.0000,9,  -999.0,9, -999.00,9, -999.000,9,  -999.00,-999.00000,9,  -999.00, -999.00,9, -999.00,9, -999.00, -999.00,9,-999.000,9, -999.00,9, -999.00,9,     -999.0,9, 20210511,     1430,  36.2074, -67.4514,    18.2923,2,     0.0392,1,     4.6606,1,     -999.0,1,     -999.0,1,     -999.0,9
325020210420,        A22,      73,          1,         24,         24,2,20210511,       1235,    36.2074,   -67.4513,       4974,   570.5,  17.3467,  36.3746,2,  36.3772,2,    186.9,2,   187.0,2,    2.05,2,    6.86,2,    0.00,2,    0.29,2,-999.000,9,-999.000,9,-999.0000,9,  -999.0,9, -999.00,9, -999.000,9,  -999.00,-999.00000,9,  -999.00, -999.00,9, -999.00,9, -999.00, -999.00,9,-999.000,9, -999.00,9, -999.00,9,     -999.0,9, 20210511,     1426,  36.2074, -67.4514,    17.3560,2,     0.0408,1,     4.6627,1,     -999.0,1,     -999.0,1,     -999.0,9
325020210420,        A22,      73,          1,         23,         23,2,20210511,       1235,    36.2074,   -67.4513,       4974,   671.6,  16.1048,  36.1705,2,  36.1703,2,    180.5,2,   180.3,2,    3.12,2,    9.48,2,    0.00,2,    0.47,2,   2.216,2,   1.350,2,   1.4700,2,  2144.4,2, 2367.67,2,  522.600,2,    20.00,   7.88132,2,    25.03, -999.00,9, -999.00,9, -999.00, -999.00,9,-999.000,9, -999.00,9, -999.00,9,      11.16,2, 20210511,     1423,  36.2074, -67.4514,    16.1062,2,     0.0406,1,     4.6655,1,     -999.0,1,     -999.0,1,     -999.0,9
325020210420,        A22,      73,          1,         22,         22,2,20210511,       1235,    36.2074,   -67.4513,       4974,   772.0,  14.3065,  35.8845,2,  35.8835,2,    172.8,2,   172.7,2,    4.87,2,   13.03,2,    0.00,2,    0.70,2,-999.000,9,-999.000,9,-999.0000,9,  -999.0,9, -999.00,9, -999.000,9,  -999.00,-999.00000,9,  -999.00, -999.00,9, -999.00,9, -999.00, -999.00,1,-999.000,9, -999.00,9, -999.00,9,     -999.0,9, 20210511,     1420,  36.2074, -67.4514,    14.3030,2,     0.0408,1,     4.6680,1,     -999.0,1,     -999.0,1,     -999.0,9
325020210420,        A22,      73,          1,         21,         21,2,20210511,       1235,    36.2074,   -67.4513,       4974,   872.4,  12.1345,  35.5533,2,  35.5533,2,    147.1,2,   147.7,2,    8.97,2,   19.32,2,    0.00,2,    1.11,2,-999.000,9,-999.000,9,-999.0000,9,  -999.0,9, -999.00,9, -999.000,9,  -999.00,-999.00000,9,  -999.00, -999.00,9, -999.00,9, -999.00, -999.00,9,-999.000,9, -999.00,9, -999.00,9,     -999.0,9, 20210511,     1417,  36.2074, -67.4514,    12.1252,2,     0.0412,1,     4.6679,1,     -999.0,1,     -999.0,1,     -999.0,9
325020210420,        A22,      73,          1,         20,         20,2,20210511,       1235,    36.2074,   -67.4513,       4974,   974.0,   9.7864,  35.2645,2,  35.2653,2,    143.2,3,   141.3,2,   13.16,2,   23.73,2,    0.00,2,    1.42,2,   1.447,2,   0.802,2,   0.5800,2,  2191.8,2,  2322.8,2,  861.550,2,    20.00,    7.6752,2,    25.03, -999.00,9, -999.00,9, -999.00, -999.00,9,-999.000,9, -999.00,9, -999.00,9,      20.17,2, 20210511,     1414,  36.2074, -67.4514,     9.7877,2,     0.0417,1,     4.6679,1,     -999.0,1,     -999.0,1,     -999.0,9
325020210420,        A22,      73,          1,         19,         19,2,20210511,       1235,    36.2074,   -67.4513,       4974,  1074.7,   7.9437,  35.1459,2,  35.1451,2,    167.0,2,   165.5,2,   14.14,2,   23.36,2,    0.00,2,    1.43,2,   1.473,2,   0.798,2,   0.5600,2,  2189.1,2, 2320.43,2,  872.200,2,    20.00,   7.66939,2,    25.03, -999.00,9, -999.00,9, -999.00, -999.00,9,-999.000,9, -999.00,9, -999.00,9,      18.88,2, 20210511,     1410,  36.2074, -67.4514,     7.9458,2,     0.0420,1,     4.6652,1,     -999.0,1,     -999.0,1,     -999.0,9
325020210420,        A22,      73,          1,         18,         18,2,20210511,       1235,    36.2074,   -67.4513,       4974,  1176.2,   6.4445,  35.1091,2,  35.1093,2,    202.0,2,   201.4,2,   13.26,2,   20.84,2,    0.00,2,    1.30,2,   1.852,2,   0.982,2,   0.6100,2,  2181.9,2, 2317.36,2,  828.500,2,    20.00,   7.68925,2,    25.03, -999.00,9, -999.00,9, -999.00, -999.00,9,-999.000,9, -999.00,9, -999.00,9,      16.22,2, 20210511,     1408,  36.2074, -67.4514,     6.4463,2,     0.0418,1,     4.6706,1,     -999.0,1,     -999.0,1,     -999.0,9
325020210420,        A22,      73,          1,         17,         17,2,20210511,       1235,    36.2074,   -67.4513,       4974,  1278.5,   5.6892,  35.0782,2,  35.0789,2,    221.8,2,   221.7,2,   12.58,2,   19.59,2,    0.00,2,    1.23,2,-999.000,9,-999.000,9,-999.0000,9,  -999.0,9, -999.00,9, -999.000,9,  -999.00,-999.00000,9,  -999.00, -999.00,9, -999.00,9, -999.00, -999.00,9,-999.000,9, -999.00,9, -999.00,9,     -999.0,9, 20210511,     1404,  36.2074, -67.4514,     5.6959,2,     0.0422,1,     4.6709,1,     -999.0,1,     -999.0,1,     -999.0,9
325020210420,        A22,      73,          1,         16,         16,2,20210511,       1235,    36.2074,   -67.4513,       4974,  1378.2,   5.1379,  35.0487,2,  35.0468,2,    237.0,2,   237.2,2,   12.09,2,   18.72,2,    0.00,2,    1.18,2,-999.000,9,-999.000,9,-999.0000,9,  -999.0,9, -999.00,9, -999.000,9,  -999.00,-999.00000,9,  -999.00, -999.00,9, -999.00,9, -999.00, -999.00,9,-999.000,9, -999.00,9, -999.00,9,     -999.0,9, 20210511,     1401,  36.2074, -67.4514,     5.1406,2,     0.0417,1,     4.6691,1,     -999.0,1,     -999.0,1,     -999.0,9
325020210420,        A22,      73,          1,         15,         15,2,20210511,       1235,    36.2074,   -67.4513,       4974,  1481.9,   4.7449,  35.0077,2,  35.0081,2,    246.7,2,   247.0,2,   11.70,2,   18.22,2,    0.00,2,    1.16,2,-999.000,9,-999.000,9,-999.0000,9,  -999.0,9, -999.00,9, -999.000,9,  -999.00,-999.00000,9,  -999.00, -999.00,9, -999.00,9, -999.00, -999.00,9,-999.000,9, -999.00,9, -999.00,9,     -999.0,9, 20210511,     1358,  36.2074, -67.4514,     4.7464,2,     0.0422,1,     4.6646,1,     -999.0,1,     -999.0,1,     -999.0,9
325020210420,        A22,      73,          1,         14,         14,2,20210511,       1235,    36.2074,   -67.4513,       4974,  1583.5,   4.5258,  34.9979,2,  34.9974,2,    252.5,2,   252.8,2,   11.70,2,   17.97,2,    0.00,2,    1.14,2,   2.719,2,   1.464,2,   1.0100,2,  2169.0,2, 2308.88,2,  789.170,2,    20.00,   7.70727,2,    25.04, -999.00,9, -999.00,9, -999.00, -999.00,9,-999.000,9, -999.00,9, -999.00,9,      13.86,2, 20210511,     1354,  36.2074, -67.4514,     4.5262,2,     0.0419,1,     4.6671,1,     -999.0,1,     -999.0,1,     -999.0,9
325020210420,        A22,      73,          1,         13,         13,2,20210511,       1235,    36.2074,   -67.4513,       4974,  1755.9,   4.2481,  34.9809,2,  34.9809,2,    258.9,2,   259.1,2,   11.80,2,   17.72,2,    0.00,2,    1.12,2,-999.000,9,-999.000,9,-999.0000,9,  -999.0,9, -999.00,9, -999.000,9,  -999.00,-999.00000,9,  -999.00, -999.00,9, -999.00,9, -999.00, -999.00,9,-999.000,9, -999.00,9, -999.00,9,     -999.0,9, 20210511,     1350,  36.2074, -67.4514,     4.2478,2,     0.0424,1,     4.6688,1,     -999.0,1,     -999.0,1,     -999.0,9
325020210420,        A22,      73,          1,         12,         12,2,20210511,       1235,    36.2074,   -67.4513,       4974,  1959.7,   3.9838,  34.9668,2,  34.9677,2,    262.5,2,   262.6,2,   12.39,2,   17.64,2,    0.00,2,    1.12,2,   2.549,2,   1.339,2,   0.8100,2,  2164.1,2, -999.00,5,  771.860,2,    20.00,    7.7159,2,    25.03, -999.00,9, -999.00,9, -999.00, -999.00,9,-999.000,9, -999.00,9, -999.00,9,      13.46,2, 20210511,     1345,  36.2074, -67.4514,     3.9841,2,     0.0416,1,     4.6675,1,     -999.0,1,     -999.0,1,     -999.0,9
325020210420,        A22,      73,          1,         11,         11,2,20210511,       1235,    36.2074,   -67.4513,       4974,  2191.4,   3.8369,  34.9626,2,  34.9622,2,    263.4,2,   264.0,2,   13.07,2,   17.60,2,    0.00,2,    1.12,2,-999.000,9,-999.000,9,-999.0000,9,  -999.0,9, -999.00,9, -999.000,9,  -999.00,-999.00000,9,  -999.00, -999.00,9, -999.00,9, -999.00, -999.00,9,-999.000,9, -999.00,9, -999.00,9,     -999.0,9, 20210511,     1340,  36.2074, -67.4514,     3.8375,2,     0.0426,1,     4.6688,1,     -999.0,1,     -999.0,1,     -999.0,9
325020210420,        A22,      73,          1,         10,         10,2,20210511,       1235,    36.2074,   -67.4513,       4974,  2447.6,   3.6217,  34.9598,2,  34.9591,2,    263.2,2,   263.6,2,   14.83,2,   17.75,2,    0.00,2,    1.13,2,   1.844,2,   0.934,2,   0.3900,2,  2159.7,2, 2311.61,2,  750.630,2,    20.00,   7.72746,2,    25.03, -999.00,9, -999.00,9, -999.00, -999.00,9,-999.000,9, -999.00,9, -999.00,9,      13.12,2, 20210511,     1334,  36.2074, -67.4514,     3.6223,2,     0.0418,1,     4.6708,1,     -999.0,1,     -999.0,1,     -999.0,9
325020210420,        A22,      73,          1,          9,          9,2,20210511,       1235,    36.2074,   -67.4513,       4974,  2702.8,   3.3812,  34.9512,2,  34.9500,2,    264.2,2,   264.3,2,   16.48,2,   17.75,2,    0.00,2,    1.14,2,-999.000,9,-999.000,9,-999.0000,9,  -999.0,9, -999.00,9, -999.000,9,  -999.00,-999.00000,9,  -999.00, -999.00,9, -999.00,9, -999.00, -999.00,9,-999.000,9, -999.00,9, -999.00,9,     -999.0,9, 20210511,     1328,  36.2074, -67.4514,     3.3819,2,     0.0425,1,     4.6706,1,     -999.0,1,     -999.0,1,     -999.0,9
325020210420,        A22,      73,          1,          8,          8,2,20210511,       1235,    36.2074,   -67.4513,       4974,  2957.5,   3.1438,  34.9422,2,  34.9420,2,    264.7,2,   265.0,2,   18.34,2,   17.85,2,    0.00,2,    1.15,2,   1.375,2,   0.698,2,   0.2800,2,  -999.0,9, -999.00,9, -999.000,9,  -999.00,-999.00000,9,  -999.00, -999.00,9, -999.00,9, -999.00, -999.00,9,-999.000,9, -999.00,9, -999.00,9,      12.39,2, 20210511,     1323,  36.2074, -67.4514,     3.1441,2,     0.0417,1,     4.6712,1,     -999.0,1,     -999.0,1,     -999.0,9
325020210420,        A22,      73,          1,          7,          7,2,20210511,       1235,    36.2074,   -67.4513,       4974,  3248.9,   2.8681,  34.9282,2,  34.9268,2,    267.1,2,   267.3,2,   19.90,2,   17.66,2,    0.00,2,    1.15,2,-999.000,9,-999.000,9,-999.0000,9,  -999.0,9, -999.00,9, -999.000,9,  -999.00,-999.00000,9,  -999.00, -999.00,9, -999.00,9, -999.00, -999.00,9,-999.000,9, -999.00,9, -999.00,9,     -999.0,9, 20210511,     1316,  36.2074, -67.4514,     2.8683,2,     0.0429,1,     4.6703,1,     -999.0,1,     -999.0,1,     -999.0,9
325020210420,        A22,      73,          1,          6,          6,2,20210511,       1235,    36.2074,   -67.4513,       4974,  3556.6,   2.6192,  34.9149,2,  34.9152,2,    269.9,2,   269.9,2,   21.26,2,   17.48,2,    0.00,2,    1.14,2,   1.547,2,   0.796,2,   0.4600,2,  2165.4,2, 2316.27,2,  745.475,6,    20.00,   7.73047,6,    25.03, -999.00,9, -999.00,9, -999.00, -999.00,9,-999.000,9, -999.00,9, -999.00,9,      13.07,2, 20210511,     1309,  36.2074, -67.4514,     2.6201,2,     0.0425,1,     4.6708,1,     -999.0,1,     -999.0,1,     -999.0,9
325020210420,        A22,      73,          1,          5,          5,2,20210511,       1235,    36.2074,   -67.4513,       4974,  3863.3,   2.4305,  34.9040,2,  34.9024,2,    270.7,2,   271.0,2,   23.41,2,   17.55,2,    0.00,2,    1.15,2,-999.000,9,-999.000,9,-999.0000,9,  -999.0,9, -999.00,9, -999.000,9,  -999.00,-999.00000,9,  -999.00, -999.00,9, -999.00,9, -999.00, -999.00,9,-999.000,9, -999.00,9, -999.00,9,     -999.0,9, 20210511,     1303,  36.2074, -67.4514,     2.4309,2,     0.0430,1,     4.6691,1,     -999.0,1,     -999.0,1,     -999.0,9
325020210420,        A22,      73,          1,          4,          4,2,20210511,       1235,    36.2074,   -67.4513,       4974,  4170.9,   2.3232,  34.8948,2,  34.8941,2,    268.6,2,   268.6,2,   27.31,2,   18.09,2,    0.00,2,    1.19,2,-999.000,9,-999.000,9,-999.0000,9,  -999.0,9, -999.00,9, -999.000,9,  -999.00,-999.00000,9,  -999.00, -999.00,9, -999.00,9, -999.00, -999.00,9,-999.000,9, -999.00,9, -999.00,9,     -999.0,9, 20210511,     1257,  36.2074, -67.4514,     2.3234,2,     0.0429,1,     4.6654,1,     -999.0,1,     -999.0,1,     -999.0,9
325020210420,        A22,      73,          1,          3,          3,2,20210511,       1235,    36.2074,   -67.4513,       4974,  4480.0,   2.2832,  34.8876,2,  34.8869,2,    265.1,2,   265.3,2,   31.51,2,   18.79,2,    0.00,2,    1.24,2,   1.163,2,   0.602,2,   0.3300,2,  2175.7,2, 2331.67,2,  752.870,2,    20.00,   7.72839,2,    25.03, -999.00,9, -999.00,9, -999.00, -999.00,9,-999.000,9, -999.00,9, -999.00,9,      13.39,2, 20210511,     1250,  36.2075, -67.4514,     2.2834,2,     0.0433,1,     4.6618,1,     -999.0,1,     -999.0,1,     -999.0,9