BOTTLE,20230513CCHSIOCBG
# Merged parameters: DELC13, DELC13_FLAG_W, DELC14, DELC14_FLAG_W, C14ERR
# Merged parameters: PH_TOT, PH_TOT_FLAG_W
# Merged parameters: ALKALI, ALKALI_FLAG_W
# 20220814CCHSIOAMB
#ship: R/V Thomas G Thompson (3250)
#dates: 2021-04-20/05-16
#cruise: [A22]
#chief scientist: [Viviane Menezes]
#co-chief scientist: [Jesse Anderson]
#float deployments:
#  - [Sta,   WMO_ID,    Lat,        Lon,       Date,         Name,            Adopted by]
#  - [18,    5906437,   16.5421,    -67.3423,  2021-04-26,   Comets,          "Starside Elementary School, DeSoto, KS"]
#  - [48,    5906436,   23.8226,    -65.792,   2021-05-03,   The Dogie Diver, "Newcastle High School, Newcastle, WY"]
#  - [58,    5906439,   28.8169,    -65.4643,  2021-05-06,   AHEA,            "Alisal High Engineering Academy, Salinas, CA"]
#  - [70,    5906438,   34.7433,    -66.5846,  2021-05-09,   Integrity,       "Institute for Educational Advancement, Pasadena, CA"]
#
# DATA CITATION
#| CCHDO Citation Information
#|
#| Please cite data downloaded from CCHDO as: 
#| [Data providers of the parameter(s) used]. [Year of file access]. [CTD/Bottle] data from cruise [expocode], 
#| [format version used]. Accessed from CCHDO [url of cruise data page]. Access date [date of download].
#| [Applicable CCHDO cruise DOI if provided].
#|
#| For example: 
#| Swift, J. and Becker, S. 2019. CTD data from Cruise 33RR20160321, exchange version. Accessed from CCHDO 
#| https://cchdo.ucsd.edu/cruise/33RR20160321. Access date 2019-08-21. CCHDO cruise DOI: 10.7942/C2008W
#|
#| Information on the scientists who provided the different parameters can be found in the cruise report. 
#| Additionally, for US GO-SHIP cruises, this information is usually in the comments section in the text headers 
#| of the Exchange bottle files.
#|
#| Users are also encouraged to acknowledge the funding program that supported the data collection in their publication. 
#| For US GO-SHIP data this is the NSF/NOAA funded U.S Repeat Hydrography Program.
#|
#| For data citation, please use the data providers listed below. 
#|
#programs:
#  CTD:
#      who: [J.Swift, Susan Becker]
#      includes: [CTDPRS, CTDTMP, CTDSAL, CTDOXY, REFTMP]
#      status: final
#      notes: >
#  Salinity:
#      who: [J.Swift, Susan Becker]
#      status: final
#      includes: [SALNTY]
#      notes: >
#  Nutrients:
#      who: [J.Swift, Susan Becker]
#      includes: [SILCAT, NITRAT, NITRIT, PHSPHT]
#      status: final
#      notes: >
#  O2:
#      who: [J.Swift, Susan Becker]
#      includes: [OXYGEN]
#      status: final
#      notes: >
#  Tracers:
#      who: [Mark Warner]
#      includes: [CFC-11, CFC-12, SF6, N2O]
#      status: final
#      notes: >
#        Merged on 2022-08-14 by AMB
#  DIC:
#      who: [Richard Feely, Rik Wanninkhof]
#      includes: [TCARBN]
#      status: final
#      notes: >
#        Merged on 2022-08-14 by AMB
#  Talk:
#      who: [Andrew Dickson, Frank Millero]
#      includes: [ALKALI]
#      status: final
#      notes: >
#        Correction factor of 0.999411 applied
#        Merged on 2023-05-13 by CBG
#  pH:
#      who: [Andrew Dickson, Frank Millero]
#      includes: [PH_TOT, PH_TMP]
#      status: final
#      notes: >
#        Merged on 2023-05-13 by CBG
#  Discrete pCO2:
#      who: [Rik Wanninkhof]
#      includes: [FCO2, FCO2TMP]
#      status: final
#      notes: >
#        Merged on 2022-08-14 by AMB
#  DOC:
#      who: [Craig Carlson]
#      includes: [DOC, TDN]
#      status: final
#      notes: >
#        Merged on 2022-08-14 by AMB
#  Nitrogen isotopes:
#      who: [Dan Sigman, Dario, Marconi]
#      includes: [D15N_NO2+NO3, D18O_NO2+NO3]
#      status: collected
#      notes: >
#  13C/14C:
#      who: [Rolf Sonnerup, Roberta Hansman]
#      includes: [DELC13, DELC14]
#      status: final
#      notes: >
#        Merged on 2023-05-13 by CBG
#  HPLC:
#      who: [Lynne Talley]
#      includes: [HPLC]
#      status: collected
#      notes: >
#  POC:
#      who: [Lynne Talley]
#      includes: [POC]
#      status: collected
#      notes: >
#  18O:
#      who: [Kaustubh Thirumalai]
#      includes: [DELO18]
#      status: collected
#      notes: >
#  Transmissometer:
#      who: [Wilf Gardner]
#      includes: [CTDXMISS]
#      status: preliminary
#      notes: >
#  Fluorometer:
#      who: [GO-BGC]
#      includes: [CTDFLUOR]
#      status: preliminary
#      notes: >
#  Lowered ADCP:
#      who: [Andreas Thurnherr]
#      status: collected
#      notes: >
#  Shipboard ADCP:
#      who: [Eric Firing, Jules Hummon]
#      status: collected
#      notes: >
#  Underway pCO2:
#      who: [Richard Feely]
#      status: collected
#      notes: >
#  Chipod:
#      who: [Jonathan Nash]
#      status: collected
#      notes: >
#  UVP:
#      who: [Andrew McDonnell]
#      status: collected
#      notes: >
#        will be available at https://ecotaxa.obs-vlfr.fr/
EXPOCODE,SECT_ID,STNNBR,CASTNO,SAMPNO,BTLNBR,BTLNBR_FLAG_W,DATE,TIME,LATITUDE,LONGITUDE,DEPTH,CTDPRS,CTDTMP,CTDSAL,CTDSAL_FLAG_W,SALNTY,SALNTY_FLAG_W,CTDOXY,CTDOXY_FLAG_W,OXYGEN,OXYGEN_FLAG_W,SILCAT,SILCAT_FLAG_W,NITRAT,NITRAT_FLAG_W,NITRIT,NITRIT_FLAG_W,PHSPHT,PHSPHT_FLAG_W,CFC-11,CFC-11_FLAG_W,CFC-12,CFC-12_FLAG_W,SF6,SF6_FLAG_W,TCARBN,TCARBN_FLAG_W,ALKALI,ALKALI_FLAG_W,FCO2,FCO2_FLAG_W,FCO2TMP,PH_TOT,PH_TOT_FLAG_W,PH_TMP,DELC13,DELC13_FLAG_W,DELC14,DELC14_FLAG_W,C14ERR,DELO18,DELO18_FLAG_W,POC,POC_FLAG_W,DOC,DOC_FLAG_W,TDN,TDN_FLAG_W,N2O,N2O_FLAG_W,BTL_DATE,BTL_TIME,BTL_LAT,BTL_LON,REFTMP,REFTMP_FLAG_W,CTDFLUOR,CTDFLUOR_FLAG_W,CTDXMISS,CTDXMISS_FLAG_W,D15N_NO2+NO3,D15N_NO2+NO3_FLAG_W,D18O_NO2+NO3,D18O_NO2+NO3_FLAG_W,HPLC,HPLC_FLAG_W
,,,,,,,,,,,METERS,DBAR,ITS-90,PSS-78,,PSS-78,,UMOL/KG,,UMOL/KG,,UMOL/KG,,UMOL/KG,,UMOL/KG,,UMOL/KG,,PMOL/KG,,PMOL/KG,,FMOL/KG,,UMOL/KG,,UMOL/KG,,UATM,,DEG C,,,DEG C,/MILLE,,/MILLE,,/MILLE,/MILLE,,UG/KG,,UMOL/KG,,UMOL/KG,,NMOL/KG,,,,,,ITS-90,,VOLTS,,VOLTS,,/MILLE,,/MILLE,,,
325020210420,        A22,       1,          1,         12,         12,2,20210422,       0634,    12.5988,   -69.9945,        266,     5.4,  26.3648,  36.9937,2,  36.9943,2,    198.4,2,   198.3,2,    0.39,2,    0.02,2,    0.00,2,    0.00,2,   1.498,2,   0.996,2,   1.7900,2,  2102.0,6, 2418.49,2,  340.840,2,    20.00,   8.04885,2,    24.99, -999.00,9, -999.00,9, -999.00, -999.00,1,-999.000,9, -999.00,9, -999.00,9,       6.50,2, 20210422,      652,  12.5988, -69.9945,    26.3613,2,     0.0531,1,     4.6198,1,     -999.0,1,     -999.0,1,     -999.0,9
325020210420,        A22,       1,          1,         11,         11,2,20210422,       0634,    12.5988,   -69.9945,        266,    20.2,  26.3256,  36.9968,2,  36.9973,2,    197.6,2,   197.4,2,    0.39,2,    0.06,2,    0.00,2,    0.00,2,-999.000,9,-999.000,9,-999.0000,9,  2103.3,2,  2417.8,2,  344.100,2,    20.00,   8.04747,2,    25.00, -999.00,9, -999.00,9, -999.00, -999.00,9,-999.000,9, -999.00,9, -999.00,9,     -999.0,9, 20210422,      650,  12.5988, -69.9945,    26.3268,2,     0.0566,1,     4.6185,1,     -999.0,1,     -999.0,1,     -999.0,9
325020210420,        A22,       1,          1,         10,         10,2,20210422,       0634,    12.5988,   -69.9945,        266,    40.8,  25.2655,  37.1217,2,  37.1155,2,    185.0,2,   185.3,2,    0.39,2,    0.46,2,    0.05,2,    0.00,2,-999.000,9,-999.000,9,-999.0000,9,  2116.4,2,  2425.4,2, -999.000,9,  -999.00,   8.03333,2,    25.01, -999.00,9, -999.00,9, -999.00, -999.00,9,-999.000,9, -999.00,9, -999.00,9,     -999.0,9, 20210422,      648,  12.5988, -69.9945,    25.2787,2,     0.1024,1,     4.5850,1,     -999.0,1,     -999.0,1,     -999.0,9
325020210420,        A22,       1,          1,          9,          9,2,20210422,       0634,    12.5988,   -69.9945,        266,    65.8,  22.6984,  36.8951,2,  36.8919,2,    158.4,2,   158.9,2,    1.17,2,    4.16,2,    0.41,2,    0.20,2,   1.760,6,   1.137,6,   1.5700,6,  2152.1,2, 2409.61,2,  441.190,2,    20.00,    7.9524,2,    24.99, -999.00,9, -999.00,9, -999.00, -999.00,1,-999.000,9, -999.00,9, -999.00,9,       9.45,6, 20210422,      647,  12.5988, -69.9945,    22.5763,2,     0.1001,1,     4.6057,1,     -999.0,1,     -999.0,1,     -999.0,9
325020210420,        A22,       1,          1,          8,          8,2,20210422,       0634,    12.5988,   -69.9945,        266,    90.9,  21.3756,  36.8398,3,  36.8085,2,    143.5,2,   143.0,2,    2.05,2,    6.73,2,    0.04,2,    0.30,2,-999.000,9,-999.000,9,-999.0000,9,  2162.8,2, 2402.25,2, -999.000,9,  -999.00,   7.91187,2,    25.04, -999.00,9, -999.00,9, -999.00, -999.00,9,-999.000,9, -999.00,9, -999.00,9,     -999.0,9, 20210422,      645,  12.5988, -69.9945,    21.3602,2,     0.0535,1,     4.6082,1,     -999.0,1,     -999.0,1,     -999.0,9
325020210420,        A22,       1,          1,          7,          7,2,20210422,       0634,    12.5988,   -69.9945,        266,   115.8,  20.0873,  36.7166,2,  36.7244,2,    142.4,2,   142.2,2,    2.34,2,    7.54,2,    0.02,2,    0.35,2,-999.000,9,-999.000,9,-999.0000,9,  -999.0,9, -999.00,9, -999.000,9,  -999.00,-999.00000,9,  -999.00, -999.00,9, -999.00,9, -999.00, -999.00,9,-999.000,9, -999.00,9, -999.00,9,     -999.0,9, 20210422,      644,  12.5988, -69.9945,    20.1170,2,     0.0459,1,     4.6174,1,     -999.0,1,     -999.0,1,     -999.0,9
325020210420,        A22,       1,          1,          6,          6,2,20210422,       0634,    12.5988,   -69.9945,        266,   140.9,  19.3318,  36.6174,2,  36.6164,2,    141.4,2,   141.7,2,    2.73,2,    8.65,2,    0.02,2,    0.41,2,-999.000,9,-999.000,9,-999.0000,9,  2168.8,2, 2390.72,2,  521.060,6,    20.00,   7.88435,6,    25.07, -999.00,9, -999.00,9, -999.00, -999.00,9,-999.000,9, -999.00,9, -999.00,9,     -999.0,9, 20210422,      642,  12.5988, -69.9945,    19.3755,2,     0.0435,1,     4.6284,1,     -999.0,1,     -999.0,1,     -999.0,9
325020210420,        A22,       1,          1,          5,          5,2,20210422,       0634,    12.5988,   -69.9945,        266,   166.6,  18.2010,  36.4660,2,  36.4598,2,    140.8,2,   141.0,2,    3.21,2,   10.31,2,    0.01,2,    0.53,2,-999.000,9,-999.000,9,-999.0000,9,  -999.0,9, -999.00,9,  552.800,2,    20.00,-999.00000,9,  -999.00, -999.00,9, -999.00,9, -999.00, -999.00,9,-999.000,9, -999.00,9, -999.00,9,     -999.0,9, 20210422,      640,  12.5988, -69.9945,    18.2052,2,     0.0403,1,     4.6528,1,     -999.0,1,     -999.0,1,     -999.0,9
325020210420,        A22,       1,          1,          4,          4,2,20210422,       0634,    12.5988,   -69.9945,        266,   191.5,  17.7057,  36.3932,2,  36.3814,2,    142.2,2,   142.4,2,    3.51,2,   11.01,2,    0.00,2,    0.57,2,   2.055,2,   1.297,2,   1.4300,2,  2171.9,2, 2377.28,6, -999.000,9,  -999.00,   7.85148,2,    25.03, -999.00,9, -999.00,9, -999.00, -999.00,9,-999.000,9, -999.00,9, -999.00,9,      14.30,2, 20210422,      639,  12.5988, -69.9945,    17.7046,2,     0.0404,1,     4.6578,1,     -999.0,1,     -999.0,1,     -999.0,9
325020210420,        A22,       1,          1,          3,          3,2,20210422,       0634,    12.5988,   -69.9945,        266,   216.6,  16.4691,  36.1942,2,  36.1996,2,    139.5,2,   139.6,2,    4.38,2,   13.11,2,    0.00,2,    0.72,2,-999.000,9,-999.000,9,-999.0000,9,  -999.0,9, -999.00,9, -999.000,9,  -999.00,-999.00000,9,  -999.00, -999.00,9, -999.00,9, -999.00, -999.00,9,-999.000,9, -999.00,9, -999.00,9,     -999.0,9, 20210422,      637,  12.5988, -69.9945,    16.4769,2,     0.0403,1,     4.6577,1,     -999.0,1,     -999.0,1,     -999.0,9
325020210420,        A22,       1,          1,          2,          2,2,20210422,       0634,    12.5988,   -69.9945,        266,   241.9,  16.1838,  36.1472,2,  36.1514,2,    139.8,2,   139.2,2,    4.68,2,   13.61,2,    0.00,2,    0.75,2,-999.000,9,-999.000,9,-999.0000,9,  2178.0,2, 2364.73,2,  615.430,2,    20.00,   7.81597,6,    25.02, -999.00,9, -999.00,9, -999.00, -999.00,9,-999.000,9, -999.00,9, -999.00,9,     -999.0,9, 20210422,      635,  12.5988, -69.9945,    16.1849,2,     0.0398,1,     4.6562,1,     -999.0,1,     -999.0,1,     -999.0,9
325020210420,        A22,       1,          1,          1,          1,2,20210422,       0634,    12.5988,   -69.9945,        266,   259.1,  15.1158,  35.9645,2,  36.0084,3,    136.9,2,   137.1,2,    5.55,2,   15.25,2,    0.00,2,    0.89,2,   2.040,2,   1.263,2,   1.1800,2,  2182.9,2, 2358.74,2,  650.450,2,    20.00,    7.7916,2,    25.04, -999.00,9, -999.00,9, -999.00, -999.00,9,-999.000,9, -999.00,9, -999.00,9,      17.75,2, 20210422,      634,  12.5988, -69.9945,    15.1203,2,     0.0404,1,     4.6501,1,     -999.0,1,     -999.0,1,     -999.0,9