BOTTLE,20230513CCHSIOCBG
EXPOCODE,SECT_ID,STNNBR,CASTNO,SAMPNO,BTLNBR,BTLNBR_FLAG_W,DATE,TIME,LATITUDE,LONGITUDE,DEPTH,CTDPRS,CTDTMP,CTDSAL,CTDSAL_FLAG_W,SALNTY,SALNTY_FLAG_W,CTDOXY,CTDOXY_FLAG_W,OXYGEN,OXYGEN_FLAG_W,SILCAT,SILCAT_FLAG_W,NITRAT,NITRAT_FLAG_W,NITRIT,NITRIT_FLAG_W,PHSPHT,PHSPHT_FLAG_W,CFC-11,CFC-11_FLAG_W,CFC-12,CFC-12_FLAG_W,SF6,SF6_FLAG_W,TCARBN,TCARBN_FLAG_W,ALKALI,ALKALI_FLAG_W,FCO2,FCO2_FLAG_W,FCO2TMP,PH_TOT,PH_TOT_FLAG_W,PH_TMP,DELC13,DELC13_FLAG_W,DELC14,DELC14_FLAG_W,C14ERR,DELO18,DELO18_FLAG_W,POC,POC_FLAG_W,DOC,DOC_FLAG_W,TDN,TDN_FLAG_W,N2O,N2O_FLAG_W,BTL_DATE,BTL_TIME,BTL_LAT,BTL_LON,REFTMP,REFTMP_FLAG_W,CTDFLUOR,CTDFLUOR_FLAG_W,CTDXMISS,CTDXMISS_FLAG_W,D15N_NO2+NO3,D15N_NO2+NO3_FLAG_W,D18O_NO2+NO3,D18O_NO2+NO3_FLAG_W,HPLC,HPLC_FLAG_W
,,,,,,,,,,,METERS,DBAR,ITS-90,PSS-78,,PSS-78,,UMOL/KG,,UMOL/KG,,UMOL/KG,,UMOL/KG,,UMOL/KG,,UMOL/KG,,PMOL/KG,,PMOL/KG,,FMOL/KG,,UMOL/KG,,UMOL/KG,,UATM,,DEG C,,,DEG C,/MILLE,,/MILLE,,/MILLE,/MILLE,,UG/KG,,UMOL/KG,,UMOL/KG,,NMOL/KG,,,,,,ITS-90,,VOLTS,,VOLTS,,/MILLE,,/MILLE,,,
325020210420,        A22,      18,          1,         36,         36,2,20210426,       0055,    16.5396,   -67.3467,       4843,     5.5,  27.0654,  35.9455,2,-999.0000,9,    202.6,2,  -999.0,9,    1.46,2,    0.00,2,    0.00,2,    0.00,2,-999.000,9,-999.000,9,-999.0000,9,  -999.0,9, -999.00,9, -999.000,9,  -999.00,-999.00000,9,  -999.00, -999.00,9, -999.00,9, -999.00, -999.00,9,-999.000,1, -999.00,9, -999.00,9,     -999.0,9, 20210426,      303,  16.5396, -67.3467,    27.0649,2,     0.0447,1,     4.6238,1,     -999.0,9,     -999.0,9,     -999.0,1
325020210420,        A22,      18,          1,         35,         35,2,20210426,       0055,    16.5396,   -67.3467,       4843,     5.6,  27.0675,  35.9454,2,  35.9465,2,    202.4,2,   202.1,2,    1.46,2,    0.00,2,    0.00,2,    0.00,2,   1.467,2,   0.953,2,   1.6400,2,  2026.8,6, 2357.52,2,  294.320,2,    20.00,   8.09438,2,    24.99,    0.95,2,   29.68,2,    2.05, -999.00,1,-999.000,9,   74.80,2,    4.52,2,       5.96,2, 20210426,      302,  16.5396, -67.3467,    27.0622,2,     0.0461,1,     4.6237,1,     -999.0,9,     -999.0,9,     -999.0,9
325020210420,        A22,      18,          1,         34,         34,2,20210426,       0055,    16.5396,   -67.3467,       4843,    35.2,  27.0451,  35.9451,2,  35.9455,2,    202.3,2,   201.9,2,    1.56,2,    0.00,2,    0.00,2,    0.00,2,-999.000,9,-999.000,9,-999.0000,9,  2024.8,2, 2354.46,2,  294.340,2,    20.00,   8.09141,6,    25.00, -999.00,9, -999.00,9, -999.00, -999.00,9,-999.000,9,   75.30,2,    4.76,2,     -999.0,9, 20210426,      300,  16.5396, -67.3467,    27.0423,2,     0.0473,1,     4.6247,1,     -999.0,9,     -999.0,9,     -999.0,9
325020210420,        A22,      18,          1,         33,         33,2,20210426,       0055,    16.5396,   -67.3467,       4843,    60.8,  26.9119,  35.9794,2,  35.9506,3,    203.1,2,   202.1,2,    1.46,2,    0.00,2,    0.00,2,    0.00,2,-999.000,9,-999.000,9,-999.0000,9,  2026.1,2, 2355.34,2,  295.070,2,    20.00,   8.09361,2,    25.00, -999.00,9, -999.00,9, -999.00, -999.00,9,-999.000,9,   75.30,2,    4.51,2,     -999.0,9, 20210426,      259,  16.5396, -67.3467,    26.9050,2,     0.0525,1,     4.6245,1,     -999.0,9,     -999.0,9,     -999.0,9
325020210420,        A22,      18,          1,         32,         32,2,20210426,       0055,    16.5396,   -67.3467,       4843,    85.8,  26.2494,  36.6678,2,  36.6889,3,    198.2,2,   198.7,2,    0.97,2,    0.00,2,    0.00,2,    0.00,2,   1.568,2,   1.017,2,   1.7100,2,  2070.8,2, 2398.11,2,  312.770,2,    20.00,   8.07763,2,    24.97,    0.93,2,   28.38,2,    1.93, -999.00,9,-999.000,9,   69.40,2,    4.74,2,       6.42,2, 20210426,      257,  16.5396, -67.3467,    26.2480,2,     0.0614,1,     4.6261,1,     -999.0,9,     -999.0,9,     -999.0,9
325020210420,        A22,      18,          1,         31,         31,2,20210426,       0055,    16.5396,   -67.3467,       4843,   100.5,  25.8994,  37.0836,2,-999.0000,9,    196.2,2,  -999.0,9,    0.68,2,    0.00,2,    0.00,2,    0.00,2,-999.000,9,-999.000,9,-999.0000,9,  -999.0,9, -999.00,9, -999.000,9,  -999.00,-999.00000,9,  -999.00, -999.00,9, -999.00,9, -999.00, -999.00,9,-999.000,1, -999.00,9, -999.00,9,     -999.0,9, 20210426,      255,  16.5396, -67.3467,     -999.0,9,     0.0742,1,     4.6314,1,     -999.0,9,     -999.0,9,     -999.0,1
325020210420,        A22,      18,          1,         30,         30,2,20210426,       0055,    16.5396,   -67.3467,       4843,   100.6,  25.8775,  37.0849,2,  37.0760,2,    195.9,2,   196.2,2,    0.68,2,    0.00,2,    0.00,2,    0.00,2,   1.595,2,   1.035,2,   1.6100,2,  2096.1,2, 2422.17,2,  325.920,2,    20.00,   8.06662,2,    24.99,    0.95,2,   36.00,2,    1.93, -999.00,1,-999.000,9,   68.20,2,    4.41,2,       6.61,2, 20210426,      255,  16.5396, -67.3467,    25.8999,2,     0.0740,1,     4.6351,1,     -999.0,9,     -999.0,9,     -999.0,9
325020210420,        A22,      18,          1,         29,         29,2,20210426,       0055,    16.5396,   -67.3467,       4843,   166.3,  22.0246,  37.0746,2,  37.0607,2,    165.1,2,   166.1,2,    0.97,2,    2.79,2,    0.01,2,    0.06,2,   1.838,6,   1.170,6,   1.6800,6,  2155.6,2, 2419.36,2,  428.350,2,    20.00,   7.96445,2,    24.99,    0.56,2,   45.98,2,    2.04, -999.00,9,-999.000,9,   53.90,2,    6.10,2,       8.71,6, 20210426,      253,  16.5396, -67.3467,    22.0264,2,     0.0468,1,     4.6679,1,     -999.0,9,     -999.0,9,     -999.0,9
325020210420,        A22,      18,          1,         28,         28,2,20210426,       0055,    16.5396,   -67.3467,       4843,   216.3,  19.3258,  36.7023,2,  37.0603,3,    162.1,2,   161.6,2,    1.75,2,    6.38,2,    0.00,2,    0.25,2,-999.000,9,-999.000,9,-999.0000,9,  2162.9,2, 2394.94,3,  487.080,2,    20.00,   7.91165,2,    24.99,    0.43,2,   48.08,2,    1.96, -999.00,9,-999.000,9,   49.20,2,    9.08,2,     -999.0,9, 20210426,      251,  16.5396, -67.3467,    19.3685,2,     0.0407,1,     4.6748,1,     -999.0,9,     -999.0,9,     -999.0,9
325020210420,        A22,      18,          1,         27,         27,2,20210426,       0055,    16.5396,   -67.3467,       4843,   266.8,  17.1206,  36.3442,2,  36.3423,2,    157.9,2,   157.8,2,    3.02,2,   10.16,2,    0.00,2,    0.50,2,   2.122,2,   1.323,2,   1.4400,2,  2168.7,2, 2372.78,2,  546.060,2,    20.00,   7.86507,2,    25.00,    0.43,2,   49.94,2,    2.05, -999.00,9,-999.000,9,   46.50,2, -999.00,1,      13.72,2, 20210426,      249,  16.5396, -67.3467,    17.1203,2,     0.0407,1,     4.6767,1,     -999.0,9,     -999.0,9,     -999.0,9
325020210420,        A22,      18,          1,         26,         26,2,20210426,       0055,    16.5396,   -67.3467,       4843,   317.0,  15.9095,  36.1358,2,  36.1177,2,    149.7,2,   150.9,2,    4.48,2,   12.95,2,    0.00,2,    0.68,2,   2.189,2,   1.308,2,   1.2700,2,  2175.1,2, 2361.82,2,  598.910,2,    20.00,   7.82789,2,    24.99,    0.44,2,   46.32,2,    1.95, -999.00,9,-999.000,9,   45.90,2, -999.00,1,      15.97,2, 20210426,      247,  16.5396, -67.3467,    15.9107,2,     0.0405,1,     4.6776,1,     -999.0,9,     -999.0,9,     -999.0,9
325020210420,        A22,      18,          1,         25,         25,2,20210426,       0055,    16.5396,   -67.3467,       4843,   367.7,  14.1781,  35.8036,2,  35.8005,2,    134.8,2,   134.3,2,    6.73,2,   17.64,2,    0.00,2,    0.99,2,-999.000,9,-999.000,9,-999.0000,9,  2190.2,2, 2344.48,2,  710.460,2,    20.00,   7.75717,2,    25.05,    0.46,2,   32.10,2,    2.24, -999.00,9,-999.000,9,   45.90,2, -999.00,1,     -999.0,9, 20210426,      245,  16.5396, -67.3467,    14.1370,2,     0.0411,1,     4.6764,1,     -999.0,9,     -999.0,9,     -999.0,9
325020210420,        A22,      18,          1,         24,         24,2,20210426,       0055,    16.5396,   -67.3467,       4843,   438.1,  12.3282,  35.5411,2,  35.5403,2,    132.7,2,   131.8,2,    9.75,2,   21.06,2,    0.00,2,    1.23,2,   1.840,2,   1.066,2,   0.8600,2,  2199.1,2, 2332.07,2,  787.450,2,    20.00,   7.71326,2,    25.04,    0.49,2,   20.37,2,    1.99, -999.00,9,-999.000,9,   44.70,2, -999.00,1,      21.83,2, 20210426,      242,  16.5396, -67.3467,    12.3336,2,     0.0420,1,     4.6777,1,     -999.0,9,     -999.0,9,     -999.0,9
325020210420,        A22,      18,          1,         23,         23,2,20210426,       0055,    16.5396,   -67.3467,       4843,   539.1,  10.3684,  35.2518,2,  35.2428,2,    126.8,2,   126.4,2,   13.56,2,   25.28,2,    0.00,2,    1.52,2,   1.487,2,   0.834,2,   0.5600,2,  2211.5,2, 2318.22,2,  905.230,2,    20.00,   7.66108,6,    24.99,    0.55,2,   -5.16,2,    2.05, -999.00,9,-999.000,9,   44.00,2, -999.00,1,      23.86,2, 20210426,      239,  16.5396, -67.3467,    10.3726,2,     0.0426,1,     4.6789,1,     -999.0,9,     -999.0,9,     -999.0,9
325020210420,        A22,      18,          1,         22,         22,2,20210426,       0055,    16.5396,   -67.3467,       4843,   639.8,   7.4574,  34.8173,2,  34.8161,2,    121.4,2,   122.5,2,   20.39,2,   31.58,2,    0.00,2,    1.96,2,-999.000,9,-999.000,9,-999.0000,9,  2223.0,6, 2301.37,2, 1118.050,2,    20.00,   7.56284,2,    25.02,    0.66,2,  -47.34,2,    1.97, -999.00,9,-999.000,9,   41.80,2, -999.00,1,     -999.0,9, 20210426,      236,  16.5396, -67.3467,     7.4618,2,     0.0429,1,     4.6789,1,     -999.0,9,     -999.0,9,     -999.0,9
325020210420,        A22,      18,          1,         21,         21,2,20210426,       0055,    16.5396,   -67.3467,       4843,   740.2,   6.9395,  34.8424,2,  34.8397,2,    130.5,2,   131.0,2,   21.95,2,   30.96,2,    0.00,2,    1.95,2,   0.618,2,   0.335,2,   0.2600,2,  2222.8,2, 2304.16,6, 1075.790,2,    20.00,   7.57889,2,    25.02,    0.72,2,  -64.78,2,    1.93, -999.00,9,-999.000,9,   40.80,2, -999.00,1,      25.18,2, 20210426,      233,  16.5396, -67.3467,     6.9493,2,     0.0426,1,     4.6813,1,     -999.0,9,     -999.0,9,     -999.0,9
325020210420,        A22,      18,          1,         20,         20,2,20210426,       0055,    16.5396,   -67.3467,       4843,   841.8,   6.2499,  34.8783,2,  34.8778,2,    149.4,2,   149.5,2,   23.03,2,   29.08,2,    0.00,2,    1.85,2,   0.441,2,   0.241,2,   0.1900,2,  2217.4,2, 2309.02,2, 1007.370,2,    20.00,   7.60733,6,    24.97,    0.79,2,  -80.07,2,    1.80, -999.00,9,-999.000,9,   40.90,2, -999.00,1,      22.64,2, 20210426,      230,  16.5396, -67.3467,     6.2495,2,     0.0423,1,     4.6811,1,     -999.0,9,     -999.0,9,     -999.0,9
325020210420,        A22,      18,          1,         19,         19,2,20210426,       0055,    16.5396,   -67.3467,       4843,   942.5,   5.6486,  34.9231,2,  34.9235,2,    170.2,2,   169.7,2,   23.32,2,   26.76,2,    0.00,2,    1.73,2,-999.000,9,-999.000,9,-999.0000,9,  2211.6,2, 2317.12,2,  934.030,2,    20.00,   7.63926,2,    24.96,    0.84,2,  -81.98,2,    1.80, -999.00,9,-999.000,9,   42.00,2, -999.00,1,     -999.0,9, 20210426,      227,  16.5396, -67.3467,     5.6481,2,     0.0427,1,     4.6812,1,     -999.0,9,     -999.0,9,     -999.0,9
325020210420,        A22,      18,          1,         18,         18,2,20210426,       0055,    16.5396,   -67.3467,       4843,  1043.9,   5.0764,  34.9501,2,  34.9498,2,    188.2,2,   188.4,2,   23.71,2,   24.81,2,    0.00,2,    1.61,2,   0.274,2,   0.149,2,   0.1700,2,  2206.1,2, 2318.18,2,  878.500,2,    20.00,   7.66587,2,    25.01,    0.90,2,  -88.80,2,    1.90, -999.00,9,-999.000,9,   42.10,2, -999.00,1,      17.72,2, 20210426,      224,  16.5396, -67.3467,     5.0740,2,     0.0428,1,     4.6810,1,     -999.0,9,     -999.0,9,     -999.0,9
325020210420,        A22,      18,          1,         17,         17,2,20210426,       0055,    16.5396,   -67.3467,       4843,  1144.8,   4.7658,  34.9604,2,  34.9604,2,    197.7,2,   198.0,2,   24.10,2,   23.88,2,    0.00,2,    1.56,2,   0.244,2,   0.135,2,   0.1300,2,  2204.5,2, 2321.23,2,  852.860,2,    20.00,   7.67792,2,    25.01,    0.96,2,  -86.61,2,    1.89, -999.00,9,-999.000,9,   40.80,2, -999.00,1,      16.98,2, 20210426,      221,  16.5396, -67.3467,     4.7664,2,     0.0424,1,     4.6818,1,     -999.0,9,     -999.0,9,     -999.0,9
325020210420,        A22,      18,          1,         16,         16,2,20210426,       0055,    16.5396,   -67.3467,       4843,  1246.4,   4.5507,  34.9666,2,  34.9662,2,    204.0,2,   204.1,2,   24.49,2,   23.25,2,    0.00,2,    1.52,2,-999.000,9,-999.000,9,-999.0000,9,  2203.0,2, 2324.88,2,  836.600,2,    20.00,   7.68561,2,    25.01,    0.92,2,  -91.38,2,    1.86, -999.00,9,-999.000,9,   40.80,2, -999.00,1,     -999.0,9, 20210426,      218,  16.5396, -67.3467,     4.5505,2,     0.0429,1,     4.6825,1,     -999.0,9,     -999.0,9,     -999.0,9
325020210420,        A22,      18,          1,         15,         15,2,20210426,       0055,    16.5396,   -67.3467,       4843,  1347.8,   4.4102,  34.9703,2,  34.9723,2,    207.7,2,   208.0,2,   25.07,2,   22.89,2,    0.00,2,    1.49,2,   0.197,2,   0.110,2,   0.1600,2,  2201.0,2, 2325.37,2,  824.580,2,    20.00,    7.6917,2,    24.99,    0.91,2,  -88.46,2,    1.89, -999.00,9,-999.000,9,   40.10,2, -999.00,1,      15.55,2, 20210426,      215,  16.5396, -67.3467,     4.4096,2,     0.0425,1,     4.6824,1,     -999.0,9,     -999.0,9,     -999.0,9
325020210420,        A22,      18,          1,         14,         14,2,20210426,       0055,    16.5396,   -67.3467,       4843,  1448.3,   4.3142,  34.9721,2,  34.9695,2,    209.9,2,   210.4,2,   25.56,2,   22.61,2,    0.00,2,    1.48,2,-999.000,9,-999.000,9,-999.0000,9,  2199.8,2, 2327.96,2,  818.860,2,    20.00,   7.69514,2,    24.99,    0.93,2,  -91.91,2,    1.81, -999.00,9,-999.000,9,   40.60,2, -999.00,1,     -999.0,9, 20210426,      212,  16.5396, -67.3467,     4.3143,2,     0.0427,1,     4.6823,1,     -999.0,9,     -999.0,9,     -999.0,9
325020210420,        A22,      18,          1,         13,         13,2,20210426,       0055,    16.5396,   -67.3467,       4843,  1549.7,   4.2491,  34.9730,2,  34.9734,2,    211.5,2,   211.8,2,   26.05,2,   22.46,2,    0.00,2,    1.48,2,   0.192,2,   0.095,2,   0.1800,2,  2201.6,2,  2327.9,2,  813.500,2,    20.00,   7.69787,2,    24.99,    0.96,2,  -94.34,2,    1.83, -999.00,9,-999.000,9,   40.20,2, -999.00,1,      15.24,2, 20210426,      209,  16.5396, -67.3467,     4.2490,2,     0.0423,1,     4.6826,1,     -999.0,9,     -999.0,9,     -999.0,9
325020210420,        A22,      18,          1,         12,         12,2,20210426,       0055,    16.5396,   -67.3467,       4843,  1681.3,   4.1913,  34.9740,2,  34.9717,2,    213.5,2,   213.9,2,   26.34,2,   22.27,2,    0.00,2,    1.47,2,-999.000,9,-999.000,9,-999.0000,9,  2202.1,2, 2330.98,2,  807.740,2,    20.00,   7.70023,2,    24.97,    0.92,2,  -90.96,2,    1.97, -999.00,9,-999.000,9,   41.10,2, -999.00,1,     -999.0,9, 20210426,      205,  16.5396, -67.3467,     4.1915,2,     0.0435,1,     4.6828,1,     -999.0,9,     -999.0,9,     -999.0,9
325020210420,        A22,      18,          1,         11,         11,2,20210426,       0055,    16.5396,   -67.3467,       4843,  1884.7,   4.1481,  34.9753,2,  34.9748,2,    216.5,2,   218.0,3,   26.44,2,   21.99,2,    0.00,2,    1.45,2,   0.226,2,   0.124,2,   0.2700,2,  2198.4,6, 2330.39,2,  799.800,2,    20.00,   7.70426,2,    25.00,    0.92,2,  -90.15,2,    1.98, -999.00,9,-999.000,9,   41.10,2, -999.00,1,      14.62,2, 20210426,      200,  16.5396, -67.3467,     4.1480,2,     0.0430,1,     4.6837,1,     -999.0,9,     -999.0,9,     -999.0,9
325020210420,        A22,      18,          1,         10,         10,2,20210426,       0055,    16.5396,   -67.3467,       4843,  2108.2,   4.1234,  34.9755,2,  34.9756,2,    216.5,2,   216.7,2,   27.22,2,   22.00,2,    0.00,2,    1.45,2,   0.176,2,   0.101,2,   0.3100,2,  2201.9,2, 2333.42,2,  797.970,2,    20.00,   7.70585,6,    25.00,    0.94,2,  -89.67,2,    2.01, -999.00,9,-999.000,9,   40.20,2, -999.00,1,      14.75,2, 20210426,      154,  16.5396, -67.3467,     4.1234,2,     0.0429,1,     4.6826,1,     -999.0,9,     -999.0,9,     -999.0,9
325020210420,        A22,      18,          1,          9,          9,2,20210426,       0055,    16.5396,   -67.3467,       4843,  2362.1,   4.1249,  34.9755,2,  34.9752,2,    216.1,2,   216.0,2,   27.90,2,   22.05,2,    0.00,2,    1.45,2,-999.000,9,-999.000,9,-999.0000,9,  2202.8,2, 2332.99,6,  798.740,2,    20.00,   7.70643,2,    25.01,    0.93,2,  -95.70,2,    2.22, -999.00,9,-999.000,9,   40.20,2, -999.00,1,     -999.0,9, 20210426,      149,  16.5396, -67.3467,     4.1250,2,     0.0430,1,     4.6831,1,     -999.0,9,     -999.0,9,     -999.0,9
325020210420,        A22,      18,          1,          8,          8,2,20210426,       0055,    16.5396,   -67.3467,       4843,  2616.4,   4.1405,  34.9757,2,  34.9774,2,    215.8,2,   216.3,2,   28.10,2,   22.03,2,    0.00,2,    1.46,2,   0.109,2,   0.070,2,   0.3200,2,  2202.3,2, 2334.65,2,  797.010,6,    20.00,    7.7073,2,    24.99,    0.94,2,  -95.01,2,    1.95, -999.00,9,-999.000,9,   40.00,2, -999.00,1,      14.43,2, 20210426,      144,  16.5396, -67.3467,     4.1407,2,     0.0429,1,     4.6834,1,     -999.0,9,     -999.0,9,     -999.0,9
325020210420,        A22,      18,          1,          7,          7,2,20210426,       0055,    16.5396,   -67.3467,       4843,  2870.9,   4.1610,  34.9756,2,  34.9760,2,    215.8,2,   216.5,3,   28.39,2,   22.05,2,    0.00,2,    1.46,2,-999.000,9,-999.000,9,-999.0000,9,  2205.8,2, 2333.23,2,  795.500,2,    20.00,   7.70722,2,    24.99,    0.94,2, -101.29,2,    2.21, -999.00,9,-999.000,9,   40.40,2, -999.00,1,     -999.0,9, 20210426,      138,  16.5396, -67.3467,     4.1613,2,     0.0429,1,     4.6827,1,     -999.0,9,     -999.0,9,     -999.0,9
325020210420,        A22,      18,          1,          6,          6,2,20210426,       0055,    16.5396,   -67.3467,       4843,  3142.1,   4.1868,  34.9756,2,  34.9752,2,    215.7,2,   215.7,2,   28.68,2,   22.08,2,    0.00,2,    1.46,2,   0.096,2,   0.064,2,   0.3000,2,  2205.3,2, 2335.13,2,  794.470,2,    20.00,   7.70799,2,    24.97,    0.94,2,  -95.17,2,    1.84, -999.00,9,-999.000,9,   40.30,2, -999.00,1,      14.57,2, 20210426,      132,  16.5396, -67.3467,     4.1869,2,     0.0429,1,     4.6825,1,     -999.0,9,     -999.0,9,     -999.0,9
325020210420,        A22,      18,          1,          5,          5,2,20210426,       0055,    16.5396,   -67.3467,       4843,  3448.2,   4.2189,  34.9757,2,  34.9760,2,    215.9,2,   215.8,2,   28.88,2,   22.12,2,    0.00,2,    1.46,2,   0.099,2,   0.066,2,   0.2200,2,  2206.2,2, 2336.37,2,  793.310,2,    20.00,   7.70905,6,    25.00,    0.86,3,  -94.25,2,    2.18, -999.00,9,-999.000,9,   40.00,2, -999.00,1,      14.16,2, 20210426,      125,  16.5396, -67.3467,     4.2191,2,     0.0428,1,     4.6815,1,     -999.0,9,     -999.0,9,     -999.0,9
325020210420,        A22,      18,          1,          4,          4,2,20210426,       0055,    16.5396,   -67.3467,       4843,  3755.1,   4.2538,  34.9759,2,  34.9762,2,    216.2,2,   216.1,2,   28.88,2,   22.09,2,    0.00,2,    1.45,2,   0.117,2,   0.074,2,   0.2300,2,  2205.2,2, 2336.23,2,  791.910,2,    20.00,    7.7091,2,    25.02,    0.91,2,  -98.97,2,    1.88, -999.00,9,-999.000,9,   39.40,2, -999.00,1,      14.54,2, 20210426,      119,  16.5396, -67.3467,     4.2541,2,     0.0423,1,     4.6817,1,     -999.0,9,     -999.0,9,     -999.0,9
325020210420,        A22,      18,          1,          3,          3,2,20210426,       0055,    16.5396,   -67.3467,       4843,  4062.7,   4.2911,  34.9762,2,  34.9768,2,    217.1,2,   217.0,2,   28.68,2,   21.99,2,    0.00,2,    1.45,2,   0.165,2,   0.101,2,   0.2400,2,  2204.6,2, 2336.92,6,  789.980,2,    20.00,   7.71001,2,    25.01,    0.95,2,  -94.56,2,    1.96, -999.00,9,-999.000,9,   39.80,2, -999.00,1,      14.22,2, 20210426,      113,  16.5396, -67.3467,     4.2913,2,     0.0429,1,     4.6800,1,     -999.0,9,     -999.0,9,     -999.0,9