BOTTLE,20230513CCHSIOCBG
EXPOCODE,SECT_ID,STNNBR,CASTNO,SAMPNO,BTLNBR,BTLNBR_FLAG_W,DATE,TIME,LATITUDE,LONGITUDE,DEPTH,CTDPRS,CTDTMP,CTDSAL,CTDSAL_FLAG_W,SALNTY,SALNTY_FLAG_W,CTDOXY,CTDOXY_FLAG_W,OXYGEN,OXYGEN_FLAG_W,SILCAT,SILCAT_FLAG_W,NITRAT,NITRAT_FLAG_W,NITRIT,NITRIT_FLAG_W,PHSPHT,PHSPHT_FLAG_W,CFC-11,CFC-11_FLAG_W,CFC-12,CFC-12_FLAG_W,SF6,SF6_FLAG_W,TCARBN,TCARBN_FLAG_W,ALKALI,ALKALI_FLAG_W,FCO2,FCO2_FLAG_W,FCO2TMP,PH_TOT,PH_TOT_FLAG_W,PH_TMP,DELC13,DELC13_FLAG_W,DELC14,DELC14_FLAG_W,C14ERR,DELO18,DELO18_FLAG_W,POC,POC_FLAG_W,DOC,DOC_FLAG_W,TDN,TDN_FLAG_W,N2O,N2O_FLAG_W,BTL_DATE,BTL_TIME,BTL_LAT,BTL_LON,REFTMP,REFTMP_FLAG_W,CTDFLUOR,CTDFLUOR_FLAG_W,CTDXMISS,CTDXMISS_FLAG_W,D15N_NO2+NO3,D15N_NO2+NO3_FLAG_W,D18O_NO2+NO3,D18O_NO2+NO3_FLAG_W,HPLC,HPLC_FLAG_W
,,,,,,,,,,,METERS,DBAR,ITS-90,PSS-78,,PSS-78,,UMOL/KG,,UMOL/KG,,UMOL/KG,,UMOL/KG,,UMOL/KG,,UMOL/KG,,PMOL/KG,,PMOL/KG,,FMOL/KG,,UMOL/KG,,UMOL/KG,,UATM,,DEG C,,,DEG C,/MILLE,,/MILLE,,/MILLE,/MILLE,,UG/KG,,UMOL/KG,,UMOL/KG,,NMOL/KG,,,,,,ITS-90,,VOLTS,,VOLTS,,/MILLE,,/MILLE,,,
325020210420,        A22,      19,          1,         36,         36,2,20210426,       0721,    16.8062,   -66.9080,       4699,     4.7,  27.1654,  35.8795,2,  35.8809,2,    203.1,2,   202.1,2,    1.17,2,    0.01,2,    0.00,2,    0.00,2,   1.448,2,   0.949,2,   1.6800,2,  2020.7,6,  2349.8,2, -999.000,9,  -999.00,   8.09539,2,    25.00, -999.00,9, -999.00,9, -999.00, -999.00,1,-999.000,9, -999.00,9, -999.00,9,       6.11,2, 20210426,      932,  16.8062, -66.9080,    27.1646,2,     0.0469,1,     4.6218,1,     -999.0,9,     -999.0,9,     -999.0,9
325020210420,        A22,      19,          1,         35,         35,2,20210426,       0721,    16.8062,   -66.9080,       4699,    20.3,  27.1688,  35.8795,2,  35.8805,2,    202.9,2,   202.1,2,    1.17,2,    0.02,2,    0.00,2,    0.00,2,-999.000,9,-999.000,9,-999.0000,9,  -999.0,9, -999.00,9, -999.000,9,  -999.00,-999.00000,9,  -999.00, -999.00,9, -999.00,9, -999.00, -999.00,9,-999.000,9, -999.00,9, -999.00,9,     -999.0,9, 20210426,      931,  16.8062, -66.9080,    27.1680,2,     0.0471,1,     4.6188,1,     -999.0,9,     -999.0,9,     -999.0,9
325020210420,        A22,      19,          1,         34,         34,2,20210426,       0721,    16.8062,   -66.9080,       4699,    40.7,  27.1479,  35.8803,2,  35.8823,2,    203.2,2,   202.3,2,    1.07,2,    0.00,2,    0.00,2,    0.00,2,-999.000,9,-999.000,9,-999.0000,9,  2022.1,2, 2351.31,2, -999.000,9,  -999.00,   8.09501,6,    25.01, -999.00,9, -999.00,9, -999.00, -999.00,9,-999.000,9, -999.00,9, -999.00,9,     -999.0,9, 20210426,      929,  16.8062, -66.9080,    27.1384,2,     0.0475,1,     4.6225,1,     -999.0,9,     -999.0,9,     -999.0,9
325020210420,        A22,      19,          1,         33,         33,2,20210426,       0721,    16.8062,   -66.9080,       4699,    65.5,  26.6283,  36.1272,2,  36.1187,2,    204.5,2,   204.0,2,    1.17,2,    0.00,2,    0.00,2,    0.00,2,-999.000,9,-999.000,9,-999.0000,9,  -999.0,9, -999.00,9, -999.000,9,  -999.00,-999.00000,9,  -999.00, -999.00,9, -999.00,9, -999.00, -999.00,9,-999.000,9, -999.00,9, -999.00,9,     -999.0,9, 20210426,      927,  16.8062, -66.9080,    26.6271,2,     0.0583,1,     4.6289,1,     -999.0,9,     -999.0,9,     -999.0,9
325020210420,        A22,      19,          1,         32,         32,2,20210426,       0721,    16.8062,   -66.9080,       4699,    91.1,  26.5040,  36.5610,2,  36.5811,3,    199.6,2,   200.3,2,    0.88,2,    0.00,2,    0.00,2,    0.00,2,-999.000,9,-999.000,9,-999.0000,9,  2052.2,2, 2392.41,2, -999.000,9,  -999.00,   8.09042,2,    25.00, -999.00,9, -999.00,9, -999.00, -999.00,1,-999.000,9, -999.00,9, -999.00,9,     -999.0,9, 20210426,      924,  16.8062, -66.9080,    26.5013,2,     0.0684,1,     4.6315,1,     -999.0,9,     -999.0,9,     -999.0,9
325020210420,        A22,      19,          1,         31,         31,2,20210426,       0721,    16.8062,   -66.9080,       4699,   135.6,  23.5290,  37.0431,2,  37.0460,2,    174.8,2,   176.3,2,    0.78,2,    1.77,2,    0.02,2,    0.03,2,-999.000,9,-999.000,9,-999.0000,9,  2127.9,2, 2418.57,2, -999.000,9,  -999.00,   8.00897,2,    24.98, -999.00,9, -999.00,9, -999.00, -999.00,9,-999.000,9, -999.00,9, -999.00,9,     -999.0,9, 20210426,      923,  16.8062, -66.9080,    23.5274,2,     0.0631,1,     4.6562,1,     -999.0,9,     -999.0,9,     -999.0,9
325020210420,        A22,      19,          1,         30,         30,2,20210426,       0721,    16.8062,   -66.9080,       4699,   186.3,  20.9292,  36.8999,2,  36.8927,2,    166.4,3,   168.2,2,    0.97,2,    3.55,2,    0.00,2,    0.11,2,-999.000,9,-999.000,9,-999.0000,9,  2150.1,2, 2409.15,2, -999.000,9,  -999.00,    7.9528,2,    25.00, -999.00,9, -999.00,9, -999.00, -999.00,9,-999.000,9, -999.00,9, -999.00,9,     -999.0,9, 20210426,      920,  16.8062, -66.9080,    20.9301,2,     0.0403,1,     4.6710,1,     -999.0,9,     -999.0,9,     -999.0,9
325020210420,        A22,      19,          1,         29,         29,2,20210426,       0721,    16.8062,   -66.9080,       4699,   237.1,  19.0033,  36.6123,2,  36.6025,2,    158.5,3,   160.8,2,    1.95,2,    6.97,2,    0.00,2,    0.30,2,-999.000,9,-999.000,9,-999.0000,9,  2157.5,2,  2388.1,2, -999.000,9,  -999.00,   7.90808,2,    24.97, -999.00,9, -999.00,9, -999.00, -999.00,9,-999.000,9, -999.00,9, -999.00,9,     -999.0,9, 20210426,      918,  16.8062, -66.9080,    18.9995,2,     0.0396,1,     4.6742,1,     -999.0,9,     -999.0,9,     -999.0,9
325020210420,        A22,      19,          1,         28,         28,2,20210426,       0721,    16.8062,   -66.9080,       4699,   286.9,  17.0632,  36.3166,2,  36.3132,2,    156.6,2,   157.6,2,    3.22,2,   10.35,2,    0.00,2,    0.53,2,   2.075,2,   1.289,2,   1.4200,2,  -999.0,9, -999.00,9, -999.000,9,  -999.00,-999.00000,9,  -999.00, -999.00,9, -999.00,9, -999.00, -999.00,9,-999.000,9, -999.00,9, -999.00,9,      13.95,2, 20210426,      916,  16.8062, -66.9080,    17.0669,2,     0.0394,1,     4.6747,1,     -999.0,9,     -999.0,9,     -999.0,9
325020210420,        A22,      19,          1,         27,         27,2,20210426,       0721,    16.8062,   -66.9080,       4699,   336.9,  15.4382,  36.0478,2,  36.0236,3,    146.9,2,   146.7,2,    5.17,2,   14.37,2,    0.00,2,    0.79,2,-999.000,9,-999.000,9,-999.0000,9,  2174.9,2, -999.00,9, -999.000,9,  -999.00,   7.80904,6,    24.99, -999.00,9, -999.00,9, -999.00, -999.00,9,-999.000,9, -999.00,9, -999.00,9,     -999.0,9, 20210426,      914,  16.8062, -66.9080,    15.4520,2,     0.0406,1,     4.6757,1,     -999.0,9,     -999.0,9,     -999.0,9
325020210420,        A22,      19,          1,         26,         26,2,20210426,       0721,    16.8062,   -66.9080,       4699,   387.4,  13.5660,  35.7269,2,  35.7412,2,    134.6,2,   133.9,2,    7.31,2,   18.45,2,    0.00,2,    1.05,2,-999.000,9,-999.000,9,-999.0000,9,  -999.0,9, -999.00,9, -999.000,9,  -999.00,-999.00000,9,  -999.00, -999.00,9, -999.00,9, -999.00, -999.00,9,-999.000,9, -999.00,9, -999.00,9,     -999.0,9, 20210426,      912,  16.8062, -66.9080,    13.6241,2,     0.0406,1,     4.6762,1,     -999.0,9,     -999.0,9,     -999.0,9
325020210420,        A22,      19,          1,         25,         25,2,20210426,       0721,    16.8062,   -66.9080,       4699,   437.6,  12.3281,  35.5380,2,  35.4955,3,    130.2,3,   128.7,2,    9.46,2,   21.52,2,    0.00,2,    1.28,2,-999.000,9,-999.000,9,-999.0000,9,  -999.0,9, -999.00,9, -999.000,9,  -999.00,-999.00000,9,  -999.00, -999.00,9, -999.00,9, -999.00, -999.00,9,-999.000,9, -999.00,9, -999.00,9,     -999.0,9, 20210426,      909,  16.8062, -66.9080,    12.3319,2,     0.0418,1,     4.6789,1,     -999.0,9,     -999.0,9,     -999.0,9
325020210420,        A22,      19,          1,         24,         24,2,20210426,       0721,    16.8062,   -66.9080,       4699,   488.3,  11.1137,  35.3314,2,  35.3283,2,    124.1,2,   124.7,2,   11.61,2,   24.02,2,    0.00,2,    1.44,2,-999.000,9,-999.000,9,-999.0000,9,  2201.9,2, 2321.93,6, -999.000,9,  -999.00,   7.66643,2,    24.97, -999.00,9, -999.00,9, -999.00, -999.00,9,-999.000,9, -999.00,9, -999.00,9,     -999.0,9, 20210426,      907,  16.8062, -66.9080,    11.1134,2,     0.0423,1,     4.6787,1,     -999.0,9,     -999.0,9,     -999.0,9
325020210420,        A22,      19,          1,         23,         23,2,20210426,       0721,    16.8062,   -66.9080,       4699,   568.4,   9.5861,  35.1378,2,  35.1347,2,    123.7,2,   124.2,2,   14.73,2,   26.82,2,    0.00,2,    1.66,2,   1.388,2,   0.770,2,   0.5300,2,  -999.0,9, -999.00,9, -999.000,9,  -999.00,-999.00000,9,  -999.00, -999.00,9, -999.00,9, -999.00, -999.00,9,-999.000,9, -999.00,9, -999.00,9,      24.93,2, 20210426,      904,  16.8062, -66.9080,     9.5822,2,     0.0429,1,     4.6789,1,     -999.0,9,     -999.0,9,     -999.0,9
325020210420,        A22,      19,          1,         22,         22,2,20210426,       0721,    16.8062,   -66.9080,       4699,   670.0,   7.6897,  34.9200,2,  34.9199,2,    127.1,2,   127.5,2,   19.51,2,   29.93,2,    0.00,2,    1.88,2,-999.000,9,-999.000,9,-999.0000,9,  -999.0,9, -999.00,9, -999.000,9,  -999.00,-999.00000,9,  -999.00, -999.00,9, -999.00,9, -999.00, -999.00,9,-999.000,9, -999.00,9, -999.00,9,     -999.0,9, 20210426,      900,  16.8062, -66.9080,     7.7112,2,     0.0433,1,     4.6797,1,     -999.0,9,     -999.0,9,     -999.0,9
325020210420,        A22,      19,          1,         21,         21,2,20210426,       0721,    16.8062,   -66.9080,       4699,   771.1,   6.6294,  34.8502,2,  34.8528,2,    136.7,2,   136.7,2,   22.25,2,   30.41,2,    0.00,2,    1.97,2,-999.000,9,-999.000,9,-999.0000,9,  2216.1,2, 2307.24,2, -999.000,9,  -999.00,   7.58754,2,    25.00, -999.00,9, -999.00,9, -999.00, -999.00,9,-999.000,9, -999.00,9, -999.00,9,     -999.0,9, 20210426,      857,  16.8062, -66.9080,     6.6330,2,     0.0430,1,     4.6812,1,     -999.0,9,     -999.0,9,     -999.0,9
325020210420,        A22,      19,          1,         20,         20,2,20210426,       0721,    16.8062,   -66.9080,       4699,   872.0,   5.9060,  34.8728,2,  34.8733,2,    155.5,2,   154.5,2,   23.52,2,   28.79,2,    0.00,2,    1.87,2,-999.000,9,-999.000,9,-999.0000,9,  -999.0,9, -999.00,9, -999.000,9,  -999.00,-999.00000,9,  -999.00, -999.00,9, -999.00,9, -999.00, -999.00,9,-999.000,9, -999.00,9, -999.00,9,     -999.0,9, 20210426,      854,  16.8062, -66.9080,     5.9059,2,     0.0426,1,     4.6813,1,     -999.0,9,     -999.0,9,     -999.0,9
325020210420,        A22,      19,          1,         19,         19,2,20210426,       0721,    16.8062,   -66.9080,       4699,   973.4,   5.4062,  34.9345,2,  34.9362,2,    177.1,2,   178.2,2,   23.51,2,   25.91,2,    0.00,2,    1.72,2,-999.000,9,-999.000,9,-999.0000,9,  2205.2,2, 2317.12,2, -999.000,9,  -999.00,   7.65155,2,    24.98, -999.00,9, -999.00,9, -999.00, -999.00,9,-999.000,9, -999.00,9, -999.00,9,     -999.0,9, 20210426,      851,  16.8062, -66.9080,     5.4043,2,     0.0426,1,     4.6812,1,     -999.0,9,     -999.0,9,     -999.0,9
325020210420,        A22,      19,          1,         18,         18,2,20210426,       0721,    16.8062,   -66.9080,       4699,  1074.0,   5.0072,  34.9506,2,  34.9524,2,    189.8,2,   190.1,2,   23.81,2,   24.71,2,    0.00,2,    1.64,2,-999.000,9,-999.000,9,-999.0000,9,  -999.0,9, -999.00,9, -999.000,9,  -999.00,-999.00000,9,  -999.00, -999.00,9, -999.00,9, -999.00, -999.00,9,-999.000,9, -999.00,9, -999.00,9,     -999.0,9, 20210426,      847,  16.8062, -66.9080,     5.0067,2,     0.0429,1,     4.6814,1,     -999.0,9,     -999.0,9,     -999.0,9
325020210420,        A22,      19,          1,         17,         17,2,20210426,       0721,    16.8062,   -66.9080,       4699,  1174.5,   4.6823,  34.9621,2,  34.9620,2,    200.0,2,   199.8,2,   23.81,2,   23.73,2,    0.00,2,    1.58,2,-999.000,9,-999.000,9,-999.0000,9,  2195.8,2, 2319.48,2, -999.000,9,  -999.00,   7.68053,2,    24.99, -999.00,9, -999.00,9, -999.00, -999.00,9,-999.000,9, -999.00,9, -999.00,9,     -999.0,9, 20210426,      844,  16.8062, -66.9080,     4.6815,2,     0.0429,1,     4.6824,1,     -999.0,9,     -999.0,9,     -999.0,9
325020210420,        A22,      19,          1,         16,         16,2,20210426,       0721,    16.8062,   -66.9080,       4699,  1275.8,   4.4871,  34.9678,2,  34.9679,2,    204.8,2,   205.0,2,   24.49,2,   23.22,2,    0.00,2,    1.56,2,   0.187,2,   0.105,2,   0.1900,2,  -999.0,9, -999.00,9, -999.000,9,  -999.00,-999.00000,9,  -999.00, -999.00,9, -999.00,9, -999.00, -999.00,9,-999.000,9, -999.00,9, -999.00,9,      16.17,2, 20210426,      841,  16.8062, -66.9080,     4.4874,2,     0.0428,1,     4.6816,1,     -999.0,9,     -999.0,9,     -999.0,9
325020210420,        A22,      19,          1,         15,         15,2,20210426,       0721,    16.8062,   -66.9080,       4699,  1378.1,   4.3832,  34.9713,2,  34.9709,2,    208.8,2,   209.0,2,   24.88,2,   22.86,2,    0.00,2,    1.52,2,-999.000,9,-999.000,9,-999.0000,9,  -999.0,9, -999.00,9, -999.000,9,  -999.00,-999.00000,9,  -999.00, -999.00,9, -999.00,9, -999.00, -999.00,9,-999.000,9, -999.00,9, -999.00,9,     -999.0,9, 20210426,      838,  16.8062, -66.9080,     4.3830,2,     0.0422,1,     4.6822,1,     -999.0,9,     -999.0,9,     -999.0,9
325020210420,        A22,      19,          1,         14,         14,2,20210426,       0721,    16.8062,   -66.9080,       4699,  1479.2,   4.2894,  34.9718,2,  34.9724,2,    209.3,2,   209.5,2,   26.15,2,   22.78,2,    0.00,2,    1.52,2,-999.000,9,-999.000,9,-999.0000,9,  -999.0,9, 2350.05,3, -999.000,9,  -999.00,-999.00000,9,  -999.00, -999.00,9, -999.00,9, -999.00, -999.00,9,-999.000,9, -999.00,9, -999.00,9,     -999.0,9, 20210426,      835,  16.8062, -66.9080,     4.2892,2,     0.0429,1,     4.6813,1,     -999.0,9,     -999.0,9,     -999.0,9
325020210420,        A22,      19,          1,         13,         13,2,20210426,       0721,    16.8062,   -66.9080,       4699,  1580.4,   4.2310,  34.9732,2,  34.9740,2,    212.0,2,   212.0,2,   26.15,2,   22.52,2,    0.00,2,    1.51,2,-999.000,9,-999.000,9,-999.0000,9,  2193.2,2, 2329.72,2, -999.000,9,  -999.00,   7.69886,2,    24.99, -999.00,9, -999.00,9, -999.00, -999.00,9,-999.000,9, -999.00,9, -999.00,9,     -999.0,9, 20210426,      831,  16.8062, -66.9080,     4.2310,2,     0.0429,1,     4.6824,1,     -999.0,9,     -999.0,9,     -999.0,9
325020210420,        A22,      19,          1,         12,         12,2,20210426,       0721,    16.8062,   -66.9080,       4699,  1751.9,   4.1677,  34.9741,2,  34.9744,2,    212.6,2,   212.8,2,   27.22,2,   22.47,2,    0.00,2,    1.50,2,-999.000,9,-999.000,9,-999.0000,9,  -999.0,9, -999.00,9, -999.000,9,  -999.00,-999.00000,9,  -999.00, -999.00,9, -999.00,9, -999.00, -999.00,9,-999.000,9, -999.00,9, -999.00,9,     -999.0,9, 20210426,      827,  16.8062, -66.9080,     4.1674,2,     0.0429,1,     4.6815,1,     -999.0,9,     -999.0,9,     -999.0,9
325020210420,        A22,      19,          1,         11,         11,2,20210426,       0721,    16.8062,   -66.9080,       4699,  1954.9,   4.1329,  34.9748,2,  34.9744,2,    213.3,2,   213.4,2,   27.81,2,   22.39,2,    0.00,2,    1.50,2,   0.082,2,   0.052,2,   0.2600,2,  -999.0,9, -999.00,9, -999.000,9,  -999.00,-999.00000,9,  -999.00, -999.00,9, -999.00,9, -999.00, -999.00,9,-999.000,9, -999.00,9, -999.00,9,      14.65,2, 20210426,      822,  16.8062, -66.9080,     4.1328,2,     0.0422,1,     4.6807,1,     -999.0,9,     -999.0,9,     -999.0,9
325020210420,        A22,      19,          1,         10,         10,2,20210426,       0721,    16.8062,   -66.9080,       4699,  2188.3,   4.1261,  34.9751,2,  34.9748,2,    214.0,2,   214.1,2,   28.10,2,   22.37,2,    0.00,2,    1.50,2,-999.000,9,-999.000,9,-999.0000,9,  -999.0,9, -999.00,9, -999.000,9,  -999.00,-999.00000,9,  -999.00, -999.00,9, -999.00,9, -999.00, -999.00,9,-999.000,9, -999.00,9, -999.00,9,     -999.0,9, 20210426,      817,  16.8062, -66.9080,     4.1261,2,     0.0435,1,     4.6812,1,     -999.0,9,     -999.0,9,     -999.0,9
325020210420,        A22,      19,          1,          9,          9,2,20210426,       0721,    16.8062,   -66.9080,       4699,  2428.3,   4.1311,  34.9753,2,  34.9752,2,    214.3,2,   214.4,2,   28.49,2,   22.28,2,    0.00,2,    1.49,2,-999.000,9,-999.000,9,-999.0000,9,  2201.8,2, 2334.54,6, -999.000,9,  -999.00,   7.70535,2,    24.97, -999.00,9, -999.00,9, -999.00, -999.00,9,-999.000,9, -999.00,9, -999.00,9,     -999.0,9, 20210426,      810,  16.8062, -66.9080,     4.1311,2,     0.0429,1,     4.6812,1,     -999.0,9,     -999.0,9,     -999.0,9
325020210420,        A22,      19,          1,          8,          8,2,20210426,       0721,    16.8062,   -66.9080,       4699,  2697.6,   4.1486,  34.9755,2,  34.9756,2,    214.4,2,   214.7,2,   28.68,2,   22.27,2,    0.00,2,    1.49,2,-999.000,9,-999.000,9,-999.0000,9,  -999.0,9, -999.00,9, -999.000,9,  -999.00,-999.00000,9,  -999.00, -999.00,9, -999.00,9, -999.00, -999.00,9,-999.000,9, -999.00,9, -999.00,9,     -999.0,9, 20210426,      805,  16.8062, -66.9080,     4.1488,2,     0.0429,1,     4.6813,1,     -999.0,9,     -999.0,9,     -999.0,9
325020210420,        A22,      19,          1,          7,          7,2,20210426,       0721,    16.8062,   -66.9080,       4699,  2952.5,   4.1707,  34.9756,2,  34.9750,2,    214.8,2,   214.9,2,   28.78,2,   22.22,2,    0.00,2,    1.48,2,   0.070,2,   0.051,2,   0.3400,2,  -999.0,9, -999.00,9, -999.000,9,  -999.00,-999.00000,9,  -999.00, -999.00,9, -999.00,9, -999.00, -999.00,9,-999.000,9, -999.00,9, -999.00,9,      14.45,2, 20210426,      759,  16.8062, -66.9080,     4.1707,2,     0.0429,1,     4.6820,1,     -999.0,9,     -999.0,9,     -999.0,9
325020210420,        A22,      19,          1,          6,          6,2,20210426,       0721,    16.8062,   -66.9080,       4699,  3243.7,   4.1996,  34.9756,2,  34.9754,2,    214.6,2,   214.8,2,   28.98,2,   22.24,2,    0.00,2,    1.48,2,-999.000,9,-999.000,9,-999.0000,9,  -999.0,9, -999.00,9, -999.000,9,  -999.00,-999.00000,9,  -999.00, -999.00,9, -999.00,9, -999.00, -999.00,9,-999.000,9, -999.00,9, -999.00,9,     -999.0,9, 20210426,      753,  16.8062, -66.9080,     4.1996,2,     0.0429,1,     4.6810,1,     -999.0,9,     -999.0,9,     -999.0,9
325020210420,        A22,      19,          1,          5,          5,2,20210426,       0721,    16.8062,   -66.9080,       4699,  3551.0,   4.2329,  34.9758,2,  34.9758,2,    214.7,2,   214.8,2,   29.07,2,   22.22,2,    0.00,2,    1.48,2,-999.000,9,-999.000,9,-999.0000,9,  2203.5,2, 2335.55,2, -999.000,9,  -999.00,   7.70822,6,    25.01, -999.00,9, -999.00,9, -999.00, -999.00,9,-999.000,9, -999.00,9, -999.00,9,     -999.0,9, 20210426,      746,  16.8062, -66.9080,     4.2330,2,     0.0436,1,     4.6797,1,     -999.0,9,     -999.0,9,     -999.0,9
325020210420,        A22,      19,          1,          4,          4,2,20210426,       0721,    16.8062,   -66.9080,       4699,  3858.0,   4.2682,  34.9758,2,  34.9752,2,    214.8,2,   214.9,2,   28.98,2,   22.17,2,    0.00,2,    1.48,2,-999.000,9,-999.000,9,-999.0000,9,  -999.0,9, -999.00,9, -999.000,9,  -999.00,-999.00000,9,  -999.00, -999.00,9, -999.00,9, -999.00, -999.00,9,-999.000,9, -999.00,9, -999.00,9,     -999.0,9, 20210426,      740,  16.8062, -66.9080,     4.2684,2,     0.0434,1,     4.6789,1,     -999.0,9,     -999.0,9,     -999.0,9
325020210420,        A22,      19,          1,          3,          3,2,20210426,       0721,    16.8062,   -66.9080,       4699,  4165.1,   4.3058,  34.9761,2,  34.9758,2,    214.7,2,   214.8,2,   29.27,2,   22.17,2,    0.00,2,    1.48,2,   0.094,2,   0.064,2,   0.1900,2,  -999.0,9, -999.00,9, -999.000,9,  -999.00,-999.00000,9,  -999.00, -999.00,9, -999.00,9, -999.00, -999.00,9,-999.000,9, -999.00,9, -999.00,9,      14.28,2, 20210426,      733,  16.8062, -66.9080,     4.3060,2,     0.0435,1,     4.6774,1,     -999.0,9,     -999.0,9,     -999.0,9