BOTTLE,20230513CCHSIOCBG
EXPOCODE,SECT_ID,STNNBR,CASTNO,SAMPNO,BTLNBR,BTLNBR_FLAG_W,DATE,TIME,LATITUDE,LONGITUDE,DEPTH,CTDPRS,CTDTMP,CTDSAL,CTDSAL_FLAG_W,SALNTY,SALNTY_FLAG_W,CTDOXY,CTDOXY_FLAG_W,OXYGEN,OXYGEN_FLAG_W,SILCAT,SILCAT_FLAG_W,NITRAT,NITRAT_FLAG_W,NITRIT,NITRIT_FLAG_W,PHSPHT,PHSPHT_FLAG_W,CFC-11,CFC-11_FLAG_W,CFC-12,CFC-12_FLAG_W,SF6,SF6_FLAG_W,TCARBN,TCARBN_FLAG_W,ALKALI,ALKALI_FLAG_W,FCO2,FCO2_FLAG_W,FCO2TMP,PH_TOT,PH_TOT_FLAG_W,PH_TMP,DELC13,DELC13_FLAG_W,DELC14,DELC14_FLAG_W,C14ERR,DELO18,DELO18_FLAG_W,POC,POC_FLAG_W,DOC,DOC_FLAG_W,TDN,TDN_FLAG_W,N2O,N2O_FLAG_W,BTL_DATE,BTL_TIME,BTL_LAT,BTL_LON,REFTMP,REFTMP_FLAG_W,CTDFLUOR,CTDFLUOR_FLAG_W,CTDXMISS,CTDXMISS_FLAG_W,D15N_NO2+NO3,D15N_NO2+NO3_FLAG_W,D18O_NO2+NO3,D18O_NO2+NO3_FLAG_W,HPLC,HPLC_FLAG_W
,,,,,,,,,,,METERS,DBAR,ITS-90,PSS-78,,PSS-78,,UMOL/KG,,UMOL/KG,,UMOL/KG,,UMOL/KG,,UMOL/KG,,UMOL/KG,,PMOL/KG,,PMOL/KG,,FMOL/KG,,UMOL/KG,,UMOL/KG,,UATM,,DEG C,,,DEG C,/MILLE,,/MILLE,,/MILLE,/MILLE,,UG/KG,,UMOL/KG,,UMOL/KG,,NMOL/KG,,,,,,ITS-90,,VOLTS,,VOLTS,,/MILLE,,/MILLE,,,
325020210420,        A22,      71,          1,         36,         36,2,20210510,       0158,    35.2302,   -66.8718,       5092,     5.7,  20.2943,  36.7035,2,  36.7044,2,    225.0,2,   224.4,2,    0.68,2,    0.00,2,    0.00,2,    0.00,2,   1.935,2,   1.206,2,   1.9300,2,  2093.9,6, 2398.65,2, -999.000,9,  -999.00,   8.02726,6,    25.02, -999.00,9, -999.00,9, -999.00, -999.00,1,-999.000,9, -999.00,9, -999.00,9,       6.98,2, 20210510,      415,  35.2302, -66.8718,    20.2932,2,     0.0507,1,     4.5858,1,     -999.0,9,     -999.0,9,     -999.0,9
325020210420,        A22,      71,          1,         35,         35,2,20210510,       0158,    35.2302,   -66.8718,       5092,    24.4,  20.2933,  36.7032,2,  36.7048,2,    225.0,2,   224.9,2,    0.68,2,    0.00,2,    0.00,2,    0.00,2,-999.000,9,-999.000,9,-999.0000,9,  -999.0,9, -999.00,9, -999.000,9,  -999.00,-999.00000,9,  -999.00, -999.00,9, -999.00,9, -999.00, -999.00,9,-999.000,9, -999.00,9, -999.00,9,     -999.0,9, 20210510,      414,  35.2302, -66.8718,    20.2929,2,     0.0524,1,     4.5843,1,     -999.0,9,     -999.0,9,     -999.0,9
325020210420,        A22,      71,          1,         34,         34,2,20210510,       0158,    35.2302,   -66.8718,       5092,    50.7,  20.2613,  36.7080,2,  36.7084,2,    225.2,2,   224.6,2,    0.68,2,    0.00,2,    0.00,2,    0.00,2,-999.000,9,-999.000,9,-999.0000,9,  -999.0,9, -999.00,9, -999.000,9,  -999.00,-999.00000,9,  -999.00, -999.00,9, -999.00,9, -999.00, -999.00,9,-999.000,9, -999.00,9, -999.00,9,     -999.0,9, 20210510,      411,  35.2302, -66.8717,    20.2587,2,     0.0520,1,     4.5832,1,     -999.0,9,     -999.0,9,     -999.0,9
325020210420,        A22,      71,          1,         33,         33,2,20210510,       0158,    35.2302,   -66.8718,       5092,    76.2,  20.1360,  36.7487,2,  36.7486,2,    225.0,2,   224.7,2,    0.78,2,    0.00,2,    0.00,2,    0.00,2,-999.000,9,-999.000,9,-999.0000,9,  2097.4,2, 2400.63,2, -999.000,9,  -999.00,   8.02649,6,    25.01, -999.00,9, -999.00,9, -999.00, -999.00,9,-999.000,9, -999.00,9, -999.00,9,     -999.0,9, 20210510,      409,  35.2302, -66.8718,    20.1380,2,     0.0600,1,     4.5955,1,     -999.0,9,     -999.0,9,     -999.0,9
325020210420,        A22,      71,          1,         32,         32,2,20210510,       0158,    35.2302,   -66.8718,       5092,   101.8,  19.9521,  36.7582,2,  36.7609,2,    223.7,2,   223.4,2,    0.68,2,    0.01,2,    0.04,2,    0.00,2,   1.930,2,   1.213,2,   2.0400,2,  2100.9,2, 2403.14,6, -999.000,9,  -999.00,   8.02332,2,    25.03, -999.00,9, -999.00,9, -999.00, -999.00,1,-999.000,9, -999.00,9, -999.00,9,       7.07,2, 20210510,      408,  35.2302, -66.8718,    19.9599,2,     0.0843,1,     4.5960,1,     -999.0,9,     -999.0,9,     -999.0,9
325020210420,        A22,      71,          1,         31,         31,2,20210510,       0158,    35.2302,   -66.8718,       5092,   150.5,  19.4502,  36.6924,2,  36.6941,2,    209.7,2,   210.6,2,    0.88,2,    1.48,2,    0.02,2,    0.01,2,-999.000,9,-999.000,9,-999.0000,9,  -999.0,9, -999.00,9, -999.000,9,  -999.00,-999.00000,9,  -999.00, -999.00,9, -999.00,9, -999.00, -999.00,9,-999.000,9, -999.00,9, -999.00,9,     -999.0,9, 20210510,      406,  35.2302, -66.8717,    19.4449,2,     0.0529,1,     4.6459,1,     -999.0,9,     -999.0,9,     -999.0,9
325020210420,        A22,      71,          1,         30,         30,2,20210510,       0158,    35.2302,   -66.8718,       5092,   201.8,  19.3041,  36.6824,2,  36.6828,2,    212.6,2,   212.2,2,    0.88,2,    1.63,2,    0.01,2,    0.02,2,   1.966,2,   1.238,2,   1.8900,2,  -999.0,9, -999.00,9, -999.000,9,  -999.00,-999.00000,9,  -999.00, -999.00,9, -999.00,9, -999.00, -999.00,9,-999.000,9, -999.00,9, -999.00,9,       7.28,2, 20210510,      404,  35.2302, -66.8717,    19.3034,2,     0.0411,1,     4.6546,1,     -999.0,9,     -999.0,9,     -999.0,9
325020210420,        A22,      71,          1,         29,         29,2,20210510,       0158,    35.2302,   -66.8718,       5092,   252.4,  19.2179,  36.6797,2,  36.6806,2,    212.5,2,   212.2,2,    0.97,2,    1.79,2,    0.00,2,    0.02,2,-999.000,9,-999.000,9,-999.0000,9,  2110.9,2, 2394.81,2, -999.000,9,  -999.00,   7.99823,2,    25.02, -999.00,9, -999.00,9, -999.00, -999.00,1,-999.000,9, -999.00,9, -999.00,9,     -999.0,9, 20210510,      401,  35.2302, -66.8717,    19.2155,2,     0.0389,1,     4.6557,1,     -999.0,9,     -999.0,9,     -999.0,9
325020210420,        A22,      71,          1,         28,         28,2,20210510,       0158,    35.2302,   -66.8718,       5092,   303.1,  19.0429,  36.6495,2,  36.6503,2,    207.4,2,   207.3,2,    1.07,2,    2.47,2,    0.00,2,    0.05,2,   2.009,2,   1.260,2,   1.8900,2,  -999.0,9, -999.00,9, -999.000,9,  -999.00,-999.00000,9,  -999.00, -999.00,9, -999.00,9, -999.00, -999.00,9,-999.000,9, -999.00,9, -999.00,9,       7.82,2, 20210510,      359,  35.2302, -66.8718,    19.0413,2,     0.0392,1,     4.6562,1,     -999.0,9,     -999.0,9,     -999.0,9
325020210420,        A22,      71,          1,         27,         27,2,20210510,       0158,    35.2302,   -66.8718,       5092,   353.5,  18.8023,  36.6173,2,  36.6227,2,    204.2,2,   204.3,2,    1.27,2,    3.09,2,    0.00,2,    0.08,2,-999.000,9,-999.000,9,-999.0000,9,  -999.0,9, -999.00,9, -999.000,9,  -999.00,-999.00000,9,  -999.00, -999.00,9, -999.00,9, -999.00, -999.00,9,-999.000,9, -999.00,9, -999.00,9,     -999.0,9, 20210510,      357,  35.2302, -66.8718,    18.8012,2,     0.0397,1,     4.6593,1,     -999.0,9,     -999.0,9,     -999.0,9
325020210420,        A22,      71,          1,         26,         26,2,20210510,       0158,    35.2302,   -66.8718,       5092,   403.1,  18.5845,  36.5805,2,  36.5825,2,    200.0,2,   200.4,2,    1.27,2,    3.75,2,    0.00,2,    0.11,2,-999.000,9,-999.000,9,-999.0000,9,  -999.0,9, -999.00,9, -999.000,9,  -999.00,-999.00000,9,  -999.00, -999.00,9, -999.00,9, -999.00, -999.00,9,-999.000,9, -999.00,9, -999.00,9,     -999.0,9, 20210510,      355,  35.2302, -66.8718,    18.5824,2,     0.0393,1,     4.6606,1,     -999.0,9,     -999.0,9,     -999.0,9
325020210420,        A22,      71,          1,         25,         25,2,20210510,       0158,    35.2302,   -66.8718,       5092,   503.5,  17.8457,  36.4601,2,  36.4582,2,    188.8,2,   188.8,2,    1.85,2,    5.97,2,    0.00,2,    0.24,2,   2.139,2,   1.327,2,   1.6300,2,  2133.6,2, 2382.46,2, -999.000,9,  -999.00,   7.93431,2,    25.02, -999.00,9, -999.00,9, -999.00, -999.00,9,-999.000,9, -999.00,9, -999.00,9,       9.53,2, 20210510,      352,  35.2302, -66.8718,    17.8466,2,     0.0408,1,     4.6611,1,     -999.0,9,     -999.0,9,     -999.0,9
325020210420,        A22,      71,          1,         24,         24,2,20210510,       0158,    35.2302,   -66.8718,       5092,   605.8,  16.3678,  36.2084,2,  36.2097,2,    181.9,2,   182.6,2,    3.02,2,    8.88,2,    0.00,2,    0.43,2,-999.000,9,-999.000,9,-999.0000,9,  -999.0,9, -999.00,9, -999.000,9,  -999.00,-999.00000,9,  -999.00, -999.00,9, -999.00,9, -999.00, -999.00,9,-999.000,9, -999.00,9, -999.00,9,     -999.0,9, 20210510,      349,  35.2302, -66.8717,    16.3658,2,     0.0401,1,     4.6629,1,     -999.0,9,     -999.0,9,     -999.0,9
325020210420,        A22,      71,          1,         23,         23,2,20210510,       0158,    35.2302,   -66.8718,       5092,   705.4,  14.7450,  35.9427,2,  35.9431,2,    171.8,2,   172.0,2,    4.78,2,   12.47,2,    0.00,2,    0.66,2,-999.000,9,-999.000,9,-999.0000,9,  2159.0,2, 2354.89,2, -999.000,9,  -999.00,   7.83666,2,    25.06, -999.00,9, -999.00,9, -999.00, -999.00,9,-999.000,9, -999.00,9, -999.00,9,     -999.0,9, 20210510,      346,  35.2302, -66.8718,    14.7296,2,     0.0407,1,     4.6654,1,     -999.0,9,     -999.0,9,     -999.0,9
325020210420,        A22,      71,          1,         22,         22,2,20210510,       0158,    35.2302,   -66.8718,       5092,   805.3,  12.7667,  35.6430,2,  35.6429,2,    158.9,2,   159.0,2,    7.71,2,   17.02,2,    0.00,2,    0.98,2,   2.063,2,   1.203,2,   1.0600,2,  -999.0,9, -999.00,9, -999.000,9,  -999.00,-999.00000,9,  -999.00, -999.00,9, -999.00,9, -999.00, -999.00,9,-999.000,9, -999.00,9, -999.00,9,      16.58,2, 20210510,      342,  35.2302, -66.8717,    12.7648,2,     0.0415,1,     4.6674,1,     -999.0,9,     -999.0,9,     -999.0,9
325020210420,        A22,      71,          1,         21,         21,2,20210510,       0158,    35.2302,   -66.8718,       5092,   908.3,  10.4766,  35.3489,2,  35.3508,2,    145.8,2,   145.8,2,   11.90,2,   22.04,2,    0.00,2,    1.33,2,-999.000,9,-999.000,9,-999.0000,9,  2191.5,2, 2326.99,2, -999.000,9,  -999.00,   7.69713,6,    25.04, -999.00,9, -999.00,9, -999.00, -999.00,9,-999.000,9, -999.00,9, -999.00,9,     -999.0,9, 20210510,      339,  35.2302, -66.8717,    10.4700,2,     0.0415,1,     4.6678,1,     -999.0,9,     -999.0,9,     -999.0,9
325020210420,        A22,      71,          1,         20,         20,2,20210510,       0158,    35.2302,   -66.8718,       5092,  1010.8,   8.5226,  35.1901,2,  35.1918,2,    161.0,2,   160.3,2,   13.66,2,   22.94,2,    0.00,2,    1.41,2,   1.598,2,   0.874,2,   0.6100,2,  -999.0,9, -999.00,9, -999.000,9,  -999.00,-999.00000,9,  -999.00, -999.00,9, -999.00,9, -999.00, -999.00,9,-999.000,9, -999.00,9, -999.00,9,      19.11,2, 20210510,      336,  35.2302, -66.8717,     8.5363,2,     0.0419,1,     4.6689,1,     -999.0,9,     -999.0,9,     -999.0,9
325020210420,        A22,      71,          1,         19,         19,2,20210510,       0158,    35.2302,   -66.8718,       5092,  1110.3,   6.9531,  35.1187,2,  35.1193,2,    189.5,2,   189.5,2,   13.56,2,   21.49,2,    0.00,2,    1.35,2,-999.000,9,-999.000,9,-999.0000,9,  2188.1,2,  2316.2,2, -999.000,9,  -999.00,    7.6794,2,    25.02, -999.00,9, -999.00,9, -999.00, -999.00,9,-999.000,9, -999.00,9, -999.00,9,     -999.0,9, 20210510,      331,  35.2302, -66.8717,     6.9533,2,     0.0417,1,     4.6691,1,     -999.0,9,     -999.0,9,     -999.0,9
325020210420,        A22,      71,          1,         18,         18,2,20210510,       0158,    35.2302,   -66.8718,       5092,  1211.6,   5.8895,  35.0773,2,  35.0785,2,    216.3,2,  -999.0,5,   12.88,2,   19.88,2,    0.00,2,    1.26,2,-999.000,9,-999.000,9,-999.0000,9,  -999.0,9, -999.00,9, -999.000,9,  -999.00,-999.00000,9,  -999.00, -999.00,9, -999.00,9, -999.00, -999.00,9,-999.000,9, -999.00,9, -999.00,9,     -999.0,9, 20210510,      327,  35.2302, -66.8717,     5.8906,2,     0.0426,1,     4.6693,1,     -999.0,9,     -999.0,9,     -999.0,9
325020210420,        A22,      71,          1,         17,         17,2,20210510,       0158,    35.2302,   -66.8718,       5092,  1313.6,   5.4305,  35.0793,2,  35.0787,2,    231.4,2,   231.7,2,   12.29,2,   18.77,2,    0.00,2,    1.19,2,   2.403,2,   1.276,2,   0.8700,2,  -999.0,9, -999.00,9, -999.000,9,  -999.00,-999.00000,9,  -999.00, -999.00,9, -999.00,9, -999.00, -999.00,9,-999.000,9, -999.00,9, -999.00,9,      14.63,2, 20210510,      324,  35.2302, -66.8717,     5.4319,2,     0.0422,1,     4.6703,1,     -999.0,9,     -999.0,9,     -999.0,9
325020210420,        A22,      71,          1,         16,         16,2,20210510,       0158,    35.2302,   -66.8718,       5092,  1415.5,   5.0295,  35.0466,2,  35.0514,2,    241.8,2,   240.7,2,   12.10,2,   18.42,2,    0.00,2,    1.17,2,-999.000,9,-999.000,9,-999.0000,9,  -999.0,9, -999.00,9, -999.000,9,  -999.00,-999.00000,9,  -999.00, -999.00,9, -999.00,9, -999.00, -999.00,9,-999.000,9, -999.00,9, -999.00,9,     -999.0,9, 20210510,      321,  35.2302, -66.8717,     5.0289,2,     0.0423,1,     4.6701,1,     -999.0,9,     -999.0,9,     -999.0,9
325020210420,        A22,      71,          1,         15,         15,2,20210510,       0158,    35.2302,   -66.8718,       5092,  1516.4,   4.7786,  35.0272,2,  35.0276,2,    248.1,2,   248.2,2,   11.90,2,   18.10,2,    0.00,2,    1.15,2,-999.000,9,-999.000,9,-999.0000,9,  2172.6,2, 2310.65,2, -999.000,9,  -999.00,   7.70767,2,    25.01, -999.00,9, -999.00,9, -999.00, -999.00,9,-999.000,9, -999.00,9, -999.00,9,     -999.0,9, 20210510,      318,  35.2302, -66.8718,     4.7795,2,     0.0420,1,     4.6702,1,     -999.0,9,     -999.0,9,     -999.0,9
325020210420,        A22,      71,          1,         14,         14,2,20210510,       0158,    35.2302,   -66.8718,       5092,  1618.7,   4.4942,  35.0000,2,  35.0010,2,    254.1,2,   254.3,2,   11.81,2,   17.84,2,    0.00,2,    1.14,2,   2.780,2,   1.478,2,   0.9800,2,  -999.0,9, -999.00,9, -999.000,9,  -999.00,-999.00000,9,  -999.00, -999.00,9, -999.00,9, -999.00, -999.00,9,-999.000,9, -999.00,9, -999.00,9,      13.81,2, 20210510,      315,  35.2302, -66.8718,     4.4939,2,     0.0423,1,     4.6698,1,     -999.0,9,     -999.0,9,     -999.0,9
325020210420,        A22,      71,          1,         13,         13,2,20210510,       0158,    35.2302,   -66.8718,       5092,  1821.8,   4.2718,  34.9959,2,  34.9970,2,    257.9,2,   258.0,2,   12.30,2,   17.73,2,    0.00,2,    1.13,2,   2.645,2,   1.379,2,   0.7900,2,  -999.0,9, -999.00,9, -999.000,9,  -999.00,-999.00000,9,  -999.00, -999.00,9, -999.00,9, -999.00, -999.00,9,-999.000,9, -999.00,9, -999.00,9,      13.40,2, 20210510,      310,  35.2302, -66.8718,     4.2711,2,     0.0415,1,     4.6705,1,     -999.0,9,     -999.0,9,     -999.0,9
325020210420,        A22,      71,          1,         12,         12,2,20210510,       0158,    35.2302,   -66.8718,       5092,  2024.1,   4.0902,  34.9884,2,  34.9892,2,    259.3,2,   259.6,2,   13.08,2,   17.74,2,    0.00,2,    1.14,2,-999.000,9,-999.000,9,-999.0000,9,  -999.0,9, -999.00,9, -999.000,9,  -999.00,-999.00000,9,  -999.00, -999.00,9, -999.00,9, -999.00, -999.00,9,-999.000,9, -999.00,9, -999.00,9,     -999.0,9, 20210510,      305,  35.2302, -66.8718,     4.0897,2,     0.0424,1,     4.6699,1,     -999.0,9,     -999.0,9,     -999.0,9
325020210420,        A22,      71,          1,         11,         11,2,20210510,       0158,    35.2302,   -66.8718,       5092,  2278.6,   3.6480,  34.9637,2,  34.9642,2,    262.6,2,   262.7,2,   14.93,2,   17.77,2,    0.00,2,    1.15,2,   1.883,2,   0.952,2,   0.4200,2,  2164.6,2, 2309.28,2, -999.000,9,  -999.00,   7.72678,2,    25.03, -999.00,9, -999.00,9, -999.00, -999.00,9,-999.000,9, -999.00,9, -999.00,9,      13.41,2, 20210510,      300,  35.2302, -66.8718,     3.6485,2,     0.0429,1,     4.6708,1,     -999.0,9,     -999.0,9,     -999.0,9
325020210420,        A22,      71,          1,         10,         10,2,20210510,       0158,    35.2302,   -66.8718,       5092,  2532.5,   3.3543,  34.9525,2,  34.9518,2,    263.4,2,   263.5,2,   17.27,2,   17.86,2,    0.00,2,    1.16,2,-999.000,9,-999.000,9,-999.0000,9,  -999.0,9, -999.00,9, -999.000,9,  -999.00,-999.00000,9,  -999.00, -999.00,9, -999.00,9, -999.00, -999.00,9,-999.000,9, -999.00,9, -999.00,9,     -999.0,9, 20210510,      254,  35.2302, -66.8717,     3.3554,2,     0.0429,1,     4.6706,1,     -999.0,9,     -999.0,9,     -999.0,9
325020210420,        A22,      71,          1,          9,          9,2,20210510,       0158,    35.2302,   -66.8718,       5092,  2787.3,   3.1532,  34.9440,2,  34.9429,2,    264.0,2,   264.0,2,   18.93,2,   17.91,2,    0.00,2,    1.17,2,   1.346,2,   0.679,2,   0.3200,2,  -999.0,9, -999.00,9, -999.000,9,  -999.00,-999.00000,9,  -999.00, -999.00,9, -999.00,9, -999.00, -999.00,9,-999.000,9, -999.00,9, -999.00,9,      12.97,2, 20210510,      249,  35.2302, -66.8717,     3.1538,2,     0.0427,1,     4.6715,1,     -999.0,9,     -999.0,9,     -999.0,9
325020210420,        A22,      71,          1,          8,          8,2,20210510,       0158,    35.2302,   -66.8718,       5092,  3043.7,   2.9326,  34.9335,2,  34.9362,3,    265.1,2,   265.2,2,   20.69,2,   17.99,2,    0.00,2,    1.18,2,-999.000,9,-999.000,9,-999.0000,9,  -999.0,9, -999.00,9, -999.000,9,  -999.00,-999.00000,9,  -999.00, -999.00,9, -999.00,9, -999.00, -999.00,9,-999.000,9, -999.00,9, -999.00,9,     -999.0,9, 20210510,      243,  35.2302, -66.8718,     2.9327,2,     0.0422,1,     4.6715,1,     -999.0,9,     -999.0,9,     -999.0,9
325020210420,        A22,      71,          1,          7,          7,2,20210510,       0158,    35.2302,   -66.8718,       5092,  3350.6,   2.7053,  34.9208,2,  34.9195,2,    266.7,2,   267.0,2,   22.35,2,   17.94,2,    0.00,2,    1.18,2,   1.151,2,   0.587,2,   0.2300,2,  2168.1,2, 2316.43,2, -999.000,9,  -999.00,   7.73512,2,    25.03, -999.00,9, -999.00,9, -999.00, -999.00,9,-999.000,9, -999.00,9, -999.00,9,      13.06,2, 20210510,      237,  35.2302, -66.8717,     2.7053,2,     0.0428,1,     4.6724,1,     -999.0,9,     -999.0,9,     -999.0,9
325020210420,        A22,      71,          1,          6,          6,2,20210510,       0158,    35.2302,   -66.8718,       5092,  3659.0,   2.4748,  34.9060,2,  34.9073,2,    268.1,2,   268.4,2,   24.79,2,   17.99,2,    0.00,2,    1.19,2,-999.000,9,-999.000,9,-999.0000,9,  -999.0,9, -999.00,9, -999.000,9,  -999.00,-999.00000,9,  -999.00, -999.00,9, -999.00,9, -999.00, -999.00,9,-999.000,9, -999.00,9, -999.00,9,     -999.0,9, 20210510,      230,  35.2302, -66.8718,     2.4745,2,     0.0429,1,     4.6718,1,     -999.0,9,     -999.0,9,     -999.0,9
325020210420,        A22,      71,          1,          5,          5,2,20210510,       0158,    35.2302,   -66.8718,       5092,  3965.9,   2.3537,  34.8968,2,  34.8949,2,    267.7,2,   267.6,2,   27.52,2,   18.26,2,    0.00,2,    1.22,2,   1.213,2,   0.623,2,   0.2800,2,  -999.0,9, -999.00,9, -999.000,9,  -999.00,-999.00000,9,  -999.00, -999.00,9, -999.00,9, -999.00, -999.00,9,-999.000,9, -999.00,9, -999.00,9,      12.88,2, 20210510,      224,  35.2302, -66.8717,     2.3537,2,     0.0430,1,     4.6713,1,     -999.0,9,     -999.0,9,     -999.0,9
325020210420,        A22,      71,          1,          4,          4,2,20210510,       0158,    35.2302,   -66.8718,       5092,  4274.1,   2.2838,  34.8892,2,  34.8875,2,    265.3,2,   265.6,2,   31.23,2,   18.76,2,    0.00,2,    1.25,2,-999.000,9,-999.000,9,-999.0000,9,  -999.0,9, -999.00,9, -999.000,9,  -999.00,-999.00000,9,  -999.00, -999.00,9, -999.00,9, -999.00, -999.00,9,-999.000,9, -999.00,9, -999.00,9,     -999.0,9, 20210510,      217,  35.2302, -66.8717,     2.2838,2,     0.0430,1,     4.6682,1,     -999.0,9,     -999.0,9,     -999.0,9
325020210420,        A22,      71,          1,          3,          3,2,20210510,       0158,    35.2302,   -66.8718,       5092,  4582.6,   2.2671,  34.8841,2,  34.8823,2,    263.0,2,   263.3,2,   34.16,2,   19.24,2,    0.00,2,    1.29,2,-999.000,9,-999.000,9,-999.0000,9,  2181.5,2, 2328.97,2, -999.000,9,  -999.00,   7.72888,2,    25.03, -999.00,9, -999.00,9, -999.00, -999.00,9,-999.000,9, -999.00,9, -999.00,9,     -999.0,9, 20210510,      210,  35.2302, -66.8717,     2.2673,2,     0.0429,1,     4.6656,1,     -999.0,9,     -999.0,9,     -999.0,9