BOTTLE,20230513CCHSIOCBG
EXPOCODE,SECT_ID,STNNBR,CASTNO,SAMPNO,BTLNBR,BTLNBR_FLAG_W,DATE,TIME,LATITUDE,LONGITUDE,DEPTH,CTDPRS,CTDTMP,CTDSAL,CTDSAL_FLAG_W,SALNTY,SALNTY_FLAG_W,CTDOXY,CTDOXY_FLAG_W,OXYGEN,OXYGEN_FLAG_W,SILCAT,SILCAT_FLAG_W,NITRAT,NITRAT_FLAG_W,NITRIT,NITRIT_FLAG_W,PHSPHT,PHSPHT_FLAG_W,CFC-11,CFC-11_FLAG_W,CFC-12,CFC-12_FLAG_W,SF6,SF6_FLAG_W,TCARBN,TCARBN_FLAG_W,ALKALI,ALKALI_FLAG_W,FCO2,FCO2_FLAG_W,FCO2TMP,PH_TOT,PH_TOT_FLAG_W,PH_TMP,DELC13,DELC13_FLAG_W,DELC14,DELC14_FLAG_W,C14ERR,DELO18,DELO18_FLAG_W,POC,POC_FLAG_W,DOC,DOC_FLAG_W,TDN,TDN_FLAG_W,N2O,N2O_FLAG_W,BTL_DATE,BTL_TIME,BTL_LAT,BTL_LON,REFTMP,REFTMP_FLAG_W,CTDFLUOR,CTDFLUOR_FLAG_W,CTDXMISS,CTDXMISS_FLAG_W,D15N_NO2+NO3,D15N_NO2+NO3_FLAG_W,D18O_NO2+NO3,D18O_NO2+NO3_FLAG_W,HPLC,HPLC_FLAG_W
,,,,,,,,,,,METERS,DBAR,ITS-90,PSS-78,,PSS-78,,UMOL/KG,,UMOL/KG,,UMOL/KG,,UMOL/KG,,UMOL/KG,,UMOL/KG,,PMOL/KG,,PMOL/KG,,FMOL/KG,,UMOL/KG,,UMOL/KG,,UATM,,DEG C,,,DEG C,/MILLE,,/MILLE,,/MILLE,/MILLE,,UG/KG,,UMOL/KG,,UMOL/KG,,NMOL/KG,,,,,,ITS-90,,VOLTS,,VOLTS,,/MILLE,,/MILLE,,,
325020210420,        A22,      86,          1,         36,         36,2,20210514,       2018,    39.7011,   -69.8031,       2072,     5.0,  13.3814,  34.0514,2,  34.0433,2,    306.1,3,   291.0,2,    0.39,2,    0.00,2,    0.00,2,    0.12,2,   3.045,2,   1.786,2,   2.7500,2,  2037.9,6, 2276.87,2,  419.650,2,    20.00,   7.95402,2,    24.99, -999.00,9, -999.00,9, -999.00, -999.00,1,-999.000,9,   67.40,2,    4.19,2,       9.16,2, 20210514,     2143,  39.7011, -69.8031,    13.3848,2,     0.1068,1,     4.1995,1,     -999.0,9,     -999.0,9,     -999.0,9
325020210420,        A22,      86,          1,         35,         35,2,20210514,       2018,    39.7011,   -69.8031,       2072,    25.3,  16.7016,  35.4781,2,  35.3847,3,    277.8,3,   259.4,2,    0.39,2,    0.00,2,    0.00,2,    0.03,2,-999.000,9,-999.000,9,-999.0000,9,  2058.4,2, 2342.32,2,  367.240,2,    20.00,   8.01335,6,    24.99, -999.00,9, -999.00,9, -999.00, -999.00,9,-999.000,9,   66.10,2,    4.45,2,     -999.0,9, 20210514,     2140,  39.7011, -69.8031,    16.7115,2,     0.1922,1,     4.2921,1,     -999.0,9,     -999.0,9,     -999.0,9
325020210420,        A22,      86,          1,         34,         34,2,20210514,       2018,    39.7011,   -69.8031,       2072,    50.8,  12.0115,  34.9010,2,  34.8735,3,    233.3,2,   234.5,2,    2.63,2,    6.47,2,    0.07,2,    0.49,2,   2.837,2,   1.679,2,   2.5200,2,  2113.2,2, 2308.17,6,  553.660,2,    20.00,    7.8483,2,    25.02, -999.00,9, -999.00,9, -999.00, -999.00,9,-999.000,9,   58.20,2,   10.54,2,      10.32,2, 20210514,     2139,  39.7011, -69.8031,    11.9850,2,     0.0796,1,     4.5716,1,     -999.0,9,     -999.0,9,     -999.0,9
325020210420,        A22,      86,          1,         33,         33,2,20210514,       2018,    39.7011,   -69.8031,       2072,    75.2,  13.8539,  35.6149,2,  35.6143,2,    220.1,2,   220.1,2,    2.73,2,    7.45,2,    0.02,2,    0.46,2,-999.000,9,-999.000,9,-999.0000,9,  2126.2,2, 2346.36,2,  512.830,2,    20.00,   7.88374,2,    25.02, -999.00,9, -999.00,9, -999.00, -999.00,1,-999.000,9,   54.40,2,   10.46,2,     -999.0,9, 20210514,     2137,  39.7011, -69.8031,    13.8559,2,     0.0591,1,     4.6304,1,     -999.0,9,     -999.0,9,     -999.0,9
325020210420,        A22,      86,          1,         32,         32,2,20210514,       2018,    39.7011,   -69.8031,       2072,   101.2,  14.0054,  35.7302,2,  35.7318,2,    217.0,2,   216.9,2,    4.00,2,    8.60,2,    0.00,2,    0.52,2,-999.000,9,-999.000,9,-999.0000,9,  2133.9,2, 2349.78,2,  530.100,2,    20.00,   7.87144,2,    25.02, -999.00,9, -999.00,9, -999.00, -999.00,9,-999.000,9,   53.70,2,   11.09,2,     -999.0,9, 20210514,     2135,  39.7011, -69.8031,    14.0056,2,     0.0433,1,     4.6395,1,     -999.0,9,     -999.0,9,     -999.0,9
325020210420,        A22,      86,          1,         31,         31,2,20210514,       2018,    39.7011,   -69.8031,       2072,   125.8,  14.1885,  35.8346,2,  35.8343,2,    214.9,2,   214.5,2,    4.00,2,    9.12,2,    0.00,2,    0.54,2,   2.331,2,   1.402,2,   2.0100,2,  2139.2,2, 2351.67,2,  531.350,2,    20.00,   7.87394,2,    25.01, -999.00,9, -999.00,9, -999.00, -999.00,9,-999.000,9,   51.70,2,   11.97,2,      10.46,2, 20210514,     2134,  39.7011, -69.8031,    14.1905,2,     0.0436,1,     4.6487,1,     -999.0,9,     -999.0,9,     -999.0,9
325020210420,        A22,      86,          1,         30,         30,2,20210514,       2018,    39.7011,   -69.8031,       2072,   151.5,  13.7250,  35.7661,2,  35.7598,2,    198.8,3,   195.6,2,    5.46,2,   11.80,2,    0.00,2,    0.70,2,-999.000,9,-999.000,9,-999.0000,9,  2150.6,2, 2347.43,2,  581.490,2,    20.00,   7.83774,2,    25.02, -999.00,9, -999.00,9, -999.00, -999.00,9,-999.000,9,   49.60,2,   14.71,2,     -999.0,9, 20210514,     2132,  39.7011, -69.8031,    13.7217,2,     0.0454,1,     4.6452,1,     -999.0,9,     -999.0,9,     -999.0,9
325020210420,        A22,      86,          1,         28,         28,2,20210514,       2018,    39.7011,   -69.8031,       2072,   176.3,  12.7118,  35.6409,2,  35.6028,3,    159.6,3,   147.0,2,    9.07,2,   18.87,2,    0.00,2,    1.13,2,-999.000,9,-999.000,9,-999.0000,9,  -999.0,9, -999.00,9, -999.000,9,  -999.00,-999.00000,9,  -999.00, -999.00,9, -999.00,9, -999.00, -999.00,9,-999.000,9, -999.00,9, -999.00,9,     -999.0,9, 20210514,     2130,  39.7011, -69.8031,    12.7284,2,     0.0446,1,     4.6453,1,     -999.0,9,     -999.0,9,     -999.0,9
325020210420,        A22,      86,          1,         27,         27,2,20210514,       2018,    39.7011,   -69.8031,       2072,   176.6,  12.6190,  35.6215,2,  35.5953,3,    158.2,3,   144.2,2,    9.17,2,   19.11,2,    0.00,2,    1.14,2,-999.000,9,-999.000,9,-999.0000,9,  2180.6,2, 2337.23,2,  742.840,2,    20.00,   7.73797,2,    25.03, -999.00,9, -999.00,9, -999.00, -999.00,9,-999.000,9,   45.50,2,   21.42,2,     -999.0,9, 20210514,     2129,  39.7011, -69.8031,    12.7921,2,     0.0447,1,     4.6455,1,     -999.0,9,     -999.0,9,     -999.0,9
325020210420,        A22,      86,          1,         29,         29,2,20210514,       2018,    39.7011,   -69.8031,       2072,   176.9,  12.7024,  35.6371,2,  35.6214,2,    157.1,3,   150.0,2,    8.87,2,   18.19,2,    0.00,2,    1.09,2,-999.000,9,-999.000,9,-999.0000,9,  -999.0,9, -999.00,9, -999.000,9,  -999.00,-999.00000,9,  -999.00, -999.00,9, -999.00,9, -999.00, -999.00,9,-999.000,9, -999.00,9, -999.00,9,     -999.0,9, 20210514,     2130,  39.7011, -69.8031,    12.7093,2,     0.0455,1,     4.6456,1,     -999.0,9,     -999.0,9,     -999.0,9
325020210420,        A22,      86,          1,         26,         26,2,20210514,       2018,    39.7011,   -69.8031,       2072,   221.3,  10.8722,  35.3968,2,  35.3940,2,    132.7,2,   131.8,2,   12.19,2,   22.98,2,    0.00,2,    1.39,2,-999.000,9,-999.000,9,-999.0000,9,  -999.0,9, -999.00,9, -999.000,9,  -999.00,-999.00000,9,  -999.00, -999.00,9, -999.00,9, -999.00, -999.00,9,-999.000,9, -999.00,9, -999.00,9,     -999.0,9, 20210514,     2127,  39.7011, -69.8031,    10.8713,2,     0.0430,1,     4.6496,1,     -999.0,9,     -999.0,9,     -999.0,9
325020210420,        A22,      86,          1,         24,         24,2,20210514,       2018,    39.7011,   -69.8031,       2072,   221.5,  10.8760,  35.3972,2,  35.3926,2,    132.6,2,   131.7,2,   12.29,2,   23.07,2,    0.00,2,    1.40,2,   1.586,2,   0.898,2,   0.6700,2,  -999.0,9, -999.00,9, -999.000,9,  -999.00,-999.00000,9,  -999.00, -999.00,9, -999.00,9, -999.00, -999.00,9,-999.000,9,   44.00,2,   25.23,2,      19.66,2, 20210514,     2126,  39.7011, -69.8031,    10.8782,2,     0.0443,1,     4.6539,1,     -999.0,9,     -999.0,9,     -999.0,9
325020210420,        A22,      86,          1,         25,         25,2,20210514,       2018,    39.7011,   -69.8031,       2072,   221.7,  10.8707,  35.3963,2,  35.3963,2,    132.7,2,   131.8,2,   12.19,2,   23.06,2,    0.00,2,    1.39,2,-999.000,9,-999.000,9,-999.0000,9,  -999.0,9, -999.00,9, -999.000,9,  -999.00,-999.00000,9,  -999.00, -999.00,9, -999.00,9, -999.00, -999.00,9,-999.000,9, -999.00,9, -999.00,9,     -999.0,9, 20210514,     2127,  39.7011, -69.8031,    10.8731,2,     0.0430,1,     4.6536,1,     -999.0,9,     -999.0,9,     -999.0,9
325020210420,        A22,      86,          1,         23,         23,2,20210514,       2018,    39.7011,   -69.8031,       2072,   256.6,   9.5865,  35.2310,2,  35.2255,2,    131.4,2,   132.7,2,   14.83,2,   25.23,2,    0.00,2,    1.57,2,-999.000,9,-999.000,9,-999.0000,9,  2203.6,6, 2320.37,2,  908.470,2,    20.00,   7.65448,2,    25.04, -999.00,9, -999.00,9, -999.00, -999.00,9,-999.000,9,   42.10,2,   27.63,2,     -999.0,9, 20210514,     2124,  39.7011, -69.8031,     9.5833,2,     0.0429,1,     4.6514,1,     -999.0,9,     -999.0,9,     -999.0,9
325020210420,        A22,      86,          1,         22,         22,2,20210514,       2018,    39.7011,   -69.8031,       2072,   302.2,   8.7153,  35.1819,2,  35.1803,2,    146.0,2,   147.3,2,   14.73,2,   24.53,2,    0.00,2,    1.53,2,   1.408,2,   0.770,2,   0.5000,2,  2193.9,2, 2317.95,2,  904.400,2,    20.00,    7.6564,6,    25.01, -999.00,9, -999.00,9, -999.00, -999.00,9,-999.000,9,   43.10,2, -999.00,1,      19.98,2, 20210514,     2122,  39.7011, -69.8031,     8.7144,2,     0.0429,1,     4.2614,1,     -999.0,9,     -999.0,9,     -999.0,9
325020210420,        A22,      86,          1,         21,         21,2,20210514,       2018,    39.7011,   -69.8031,       2072,   352.8,   7.7287,  35.1410,2,  35.1394,2,    167.1,2,   167.6,2,   14.44,2,   23.24,2,    0.00,2,    1.47,2,-999.000,9,-999.000,9,-999.0000,9,  2189.8,2, 2316.77,6,  883.160,2,    20.00,   7.66255,2,    25.01, -999.00,9, -999.00,9, -999.00, -999.00,9,-999.000,9,   42.20,2, -999.00,1,     -999.0,9, 20210514,     2120,  39.7011, -69.8031,     7.7273,2,     0.0418,1,     4.6596,1,     -999.0,9,     -999.0,9,     -999.0,9
325020210420,        A22,      86,          1,         20,         20,2,20210514,       2018,    39.7011,   -69.8031,       2072,   403.2,   6.9558,  35.1102,2,  35.1091,2,    184.5,2,   184.8,2,   14.05,2,   22.08,2,    0.00,2,    1.40,2,-999.000,9,-999.000,9,-999.0000,9,  2187.9,2, 2312.65,2,  868.660,2,    20.00,    7.6707,2,    25.03, -999.00,9, -999.00,9, -999.00, -999.00,9,-999.000,9,   43.90,2, -999.00,1,     -999.0,9, 20210514,     2118,  39.7011, -69.8031,     6.9559,2,     0.0417,1,     4.6586,1,     -999.0,9,     -999.0,9,     -999.0,9
325020210420,        A22,      86,          1,         19,         19,2,20210514,       2018,    39.7011,   -69.8031,       2072,   454.6,   6.3715,  35.0867,2,  35.0862,2,    200.3,2,   199.7,2,   13.37,2,   21.10,2,    0.00,2,    1.35,2,   2.015,2,   1.084,2,   0.7500,2,  2188.0,2, 2312.49,2,  852.340,2,    20.00,   7.67331,2,    25.02, -999.00,9, -999.00,9, -999.00, -999.00,9,-999.000,9,   44.10,2, -999.00,1,      16.51,2, 20210514,     2116,  39.7011, -69.8031,     6.3653,2,     0.0430,1,     4.6602,1,     -999.0,9,     -999.0,9,     -999.0,9
325020210420,        A22,      86,          1,         18,         18,2,20210514,       2018,    39.7011,   -69.8031,       2072,   504.9,   5.9977,  35.0712,2,  35.0699,2,    210.3,2,   210.5,2,   13.17,2,   20.41,2,    0.00,2,    1.30,2,-999.000,9,-999.000,9,-999.0000,9,  -999.0,9, -999.00,9, -999.000,9,  -999.00,-999.00000,9,  -999.00, -999.00,9, -999.00,9, -999.00, -999.00,9,-999.000,9,   42.90,2, -999.00,1,     -999.0,9, 20210514,     2113,  39.7011, -69.8030,     5.9987,2,     0.0422,1,     4.6613,1,     -999.0,9,     -999.0,9,     -999.0,9
325020210420,        A22,      86,          1,         17,         17,2,20210514,       2018,    39.7011,   -69.8031,       2072,   555.0,   5.6740,  35.0617,2,  35.0598,2,    219.2,2,   219.5,2,   12.78,2,   19.83,2,    0.00,2,    1.27,2,-999.000,9,-999.000,9,-999.0000,9,  2182.1,2, 2310.77,2,  830.430,2,    20.00,   7.68833,2,    25.03, -999.00,9, -999.00,9, -999.00, -999.00,9,-999.000,9,   44.20,2, -999.00,1,     -999.0,9, 20210514,     2111,  39.7011, -69.8030,     5.6768,2,     0.0425,1,     4.6621,1,     -999.0,9,     -999.0,9,     -999.0,9
325020210420,        A22,      86,          1,         16,         16,2,20210514,       2018,    39.7011,   -69.8031,       2072,   615.9,   5.3553,  35.0485,2,  35.0474,2,    228.3,2,   227.4,2,   12.59,2,   19.35,2,    0.00,2,    1.24,2,   2.408,2,   1.286,2,   0.8900,2,  2180.5,2, 2309.76,2, -999.000,9,  -999.00,   7.69227,2,    25.02, -999.00,9, -999.00,9, -999.00, -999.00,9,-999.000,9,   44.60,2, -999.00,1,      14.63,2, 20210514,     2109,  39.7011, -69.8030,     5.3548,2,     0.0416,1,     4.6613,1,     -999.0,9,     -999.0,9,     -999.0,9
325020210420,        A22,      86,          1,         15,         15,2,20210514,       2018,    39.7011,   -69.8031,       2072,   705.9,   5.0488,  35.0359,2,  35.0340,2,    237.7,2,   237.7,2,   12.20,2,   18.75,2,    0.00,2,    1.20,2,-999.000,9,-999.000,9,-999.0000,9,  2177.1,2, 2309.14,2,  807.990,2,    20.00,   7.69865,2,    25.03, -999.00,9, -999.00,9, -999.00, -999.00,9,-999.000,9,   44.20,2, -999.00,1,     -999.0,9, 20210514,     2107,  39.7011, -69.8030,     5.0492,2,     0.0422,1,     4.6637,1,     -999.0,9,     -999.0,9,     -999.0,9
325020210420,        A22,      86,          1,         14,         14,2,20210514,       2018,    39.7011,   -69.8031,       2072,   808.6,   4.7872,  35.0188,2,  35.0179,2,    245.2,2,   245.3,2,   11.90,2,   18.34,2,    0.00,2,    1.18,2,   2.671,2,   1.433,2,   1.0000,2,  -999.0,9, -999.00,9, -999.000,9,  -999.00,-999.00000,9,  -999.00, -999.00,9, -999.00,9, -999.00, -999.00,9,-999.000,9,   44.00,2, -999.00,1,      13.04,2, 20210514,     2104,  39.7011, -69.8030,     4.7879,2,     0.0420,1,     4.6636,1,     -999.0,9,     -999.0,9,     -999.0,9
325020210420,        A22,      86,          1,         13,         13,2,20210514,       2018,    39.7011,   -69.8031,       2072,   908.6,   4.4843,  34.9960,2,  34.9949,2,    253.6,2,   253.5,2,   11.71,2,   17.91,2,    0.00,2,    1.15,2,-999.000,9,-999.000,9,-999.0000,9,  2172.6,2, 2306.28,2,  793.420,2,    20.00,    7.7044,2,    25.03, -999.00,9, -999.00,9, -999.00, -999.00,9,-999.000,9,   45.00,2, -999.00,1,     -999.0,9, 20210514,     2100,  39.7011, -69.8030,     4.4838,2,     0.0424,1,     4.6621,1,     -999.0,9,     -999.0,9,     -999.0,9
325020210420,        A22,      86,          1,         12,         12,2,20210514,       2018,    39.7011,   -69.8031,       2072,  1009.8,   4.3290,  34.9867,2,  34.9854,2,    257.2,2,   257.4,2,   11.71,2,   17.79,2,    0.00,2,    1.14,2,-999.000,9,-999.000,9,-999.0000,9,  -999.0,9, -999.00,9, -999.000,9,  -999.00,-999.00000,9,  -999.00, -999.00,9, -999.00,9, -999.00, -999.00,9,-999.000,9,   43.90,2, -999.00,1,     -999.0,9, 20210514,     2057,  39.7011, -69.8030,     4.3293,2,     0.0421,1,     4.6643,1,     -999.0,9,     -999.0,9,     -999.0,9
325020210420,        A22,      86,          1,         11,         11,2,20210514,       2018,    39.7011,   -69.8031,       2072,  1111.7,   4.2046,  34.9765,2,  34.9756,2,    260.1,2,   260.2,2,   11.81,2,   17.63,2,    0.00,2,    1.14,2,   2.889,2,   1.535,2,   1.0700,2,  2171.2,2,  2304.4,2,  787.810,2,    20.00,   7.70895,2,    25.02, -999.00,9, -999.00,9, -999.00, -999.00,9,-999.000,9,   44.90,2, -999.00,1,      12.98,2, 20210514,     2054,  39.7011, -69.8030,     4.2041,2,     0.0424,1,     4.6633,1,     -999.0,9,     -999.0,9,     -999.0,9
325020210420,        A22,      86,          1,         10,         10,2,20210514,       2018,    39.7011,   -69.8031,       2072,  1212.9,   4.0292,  34.9621,2,  34.9608,2,    263.0,2,   263.3,2,   12.10,2,   17.51,2,    0.00,2,    1.13,2,-999.000,9,-999.000,9,-999.0000,9,  -999.0,9, -999.00,9, -999.000,9,  -999.00,-999.00000,9,  -999.00, -999.00,9, -999.00,9, -999.00, -999.00,9,-999.000,9,   44.10,2, -999.00,1,     -999.0,9, 20210514,     2050,  39.7011, -69.8030,     4.0292,2,     0.0417,1,     4.6604,1,     -999.0,9,     -999.0,9,     -999.0,9
325020210420,        A22,      86,          1,          9,          9,2,20210514,       2018,    39.7011,   -69.8031,       2072,  1314.3,   3.9742,  34.9624,2,  34.9614,2,    263.6,2,   263.7,2,   12.20,2,   17.56,2,    0.00,2,    1.13,2,-999.000,9,-999.000,9,-999.0000,9,  2169.1,2, 2304.05,2,  781.410,2,    20.00,   7.70983,2,    25.02, -999.00,9, -999.00,9, -999.00, -999.00,9,-999.000,9,   45.20,2, -999.00,1,     -999.0,9, 20210514,     2047,  39.7011, -69.8030,     3.9748,2,     0.0423,1,     4.6591,1,     -999.0,9,     -999.0,9,     -999.0,9
325020210420,        A22,      86,          1,          8,          8,2,20210514,       2018,    39.7011,   -69.8031,       2072,  1415.2,   3.9226,  34.9606,2,  34.9599,2,    264.1,2,   264.4,2,   12.39,2,   17.53,2,    0.00,2,    1.13,2,   2.753,2,   1.437,2,   0.9400,2,  -999.0,9, -999.00,9, -999.000,9,  -999.00,-999.00000,9,  -999.00, -999.00,9, -999.00,9, -999.00, -999.00,9,-999.000,9,   45.30,2, -999.00,1,      13.02,2, 20210514,     2043,  39.7011, -69.8030,     3.9227,2,     0.0424,1,     4.6588,1,     -999.0,9,     -999.0,9,     -999.0,9
325020210420,        A22,      86,          1,          7,          7,2,20210514,       2018,    39.7011,   -69.8031,       2072,  1517.3,   3.8431,  34.9591,2,  34.9589,2,    264.3,2,   264.6,2,   12.98,2,   17.55,2,    0.00,2,    1.14,2,-999.000,9,-999.000,9,-999.0000,9,  2169.4,2, 2305.94,2,  773.960,2,    20.00,   7.71429,2,    25.02, -999.00,9, -999.00,9, -999.00, -999.00,9,-999.000,9,   44.40,2, -999.00,1,     -999.0,9, 20210514,     2039,  39.7011, -69.8030,     3.8436,2,     0.0427,1,     4.6596,1,     -999.0,9,     -999.0,9,     -999.0,9
325020210420,        A22,      86,          1,          6,          6,2,20210514,       2018,    39.7011,   -69.8031,       2072,  1619.0,   3.8070,  34.9586,2,  34.9573,2,    264.6,2,   264.8,2,   13.17,2,   17.59,2,    0.00,2,    1.14,2,   2.551,2,   1.319,2,   0.8000,2,  -999.0,9, -999.00,9, -999.000,9,  -999.00,-999.00000,9,  -999.00, -999.00,9, -999.00,9, -999.00, -999.00,9,-999.000,9,   44.90,2, -999.00,1,      13.03,2, 20210514,     2036,  39.7011, -69.8030,     3.8064,2,     0.0416,1,     4.6603,1,     -999.0,9,     -999.0,9,     -999.0,9
325020210420,        A22,      86,          1,          5,          5,2,20210514,       2018,    39.7011,   -69.8031,       2072,  1719.3,   3.7516,  34.9609,2,  34.9599,2,    264.1,2,   264.1,2,   13.66,2,   17.64,2,    0.00,2,    1.15,2,-999.000,9,-999.000,9,-999.0000,9,  2166.8,2, 2306.05,6,  764.715,6,    20.00,    7.7214,2,    25.03, -999.00,9, -999.00,9, -999.00, -999.00,9,-999.000,9,   44.70,2, -999.00,1,     -999.0,9, 20210514,     2031,  39.7011, -69.8030,     3.7517,2,     0.0424,1,     4.6627,1,     -999.0,9,     -999.0,9,     -999.0,9
325020210420,        A22,      86,          1,          4,          4,2,20210514,       2018,    39.7011,   -69.8031,       2072,  1822.1,   3.6725,  34.9576,2,  34.9567,2,    264.2,2,   264.1,2,   14.15,2,   17.68,2,    0.00,2,    1.14,2,   2.223,2,   1.135,2,   0.6100,2,  -999.0,9, -999.00,9, -999.000,9,  -999.00,-999.00000,9,  -999.00, -999.00,9, -999.00,9, -999.00, -999.00,9,-999.000,9,   43.70,2, -999.00,1,      12.80,2, 20210514,     2029,  39.7011, -69.8030,     3.6721,2,     0.0424,1,     4.6576,1,     -999.0,9,     -999.0,9,     -999.0,9
325020210420,        A22,      86,          1,          3,          3,2,20210514,       2018,    39.7011,   -69.8031,       2072,  1927.9,   3.6110,  34.9568,2,  34.9561,2,    264.5,2,   264.5,2,   14.34,2,   17.67,2,    0.00,2,    1.15,2,   2.103,2,   1.057,2,   0.5000,2,  2166.0,2, 2309.89,2,  756.820,2,    20.00,   7.72388,6,    25.03, -999.00,9, -999.00,9, -999.00, -999.00,9,-999.000,9,   43.60,2, -999.00,1,      12.82,2, 20210514,     2025,  39.7011, -69.8030,     3.6125,2,     0.0420,1,     4.6647,1,     -999.0,9,     -999.0,9,     -999.0,9