BOTTLE,20230513CCHSIOCBG
EXPOCODE,SECT_ID,STNNBR,CASTNO,SAMPNO,BTLNBR,BTLNBR_FLAG_W,DATE,TIME,LATITUDE,LONGITUDE,DEPTH,CTDPRS,CTDTMP,CTDSAL,CTDSAL_FLAG_W,SALNTY,SALNTY_FLAG_W,CTDOXY,CTDOXY_FLAG_W,OXYGEN,OXYGEN_FLAG_W,SILCAT,SILCAT_FLAG_W,NITRAT,NITRAT_FLAG_W,NITRIT,NITRIT_FLAG_W,PHSPHT,PHSPHT_FLAG_W,CFC-11,CFC-11_FLAG_W,CFC-12,CFC-12_FLAG_W,SF6,SF6_FLAG_W,TCARBN,TCARBN_FLAG_W,ALKALI,ALKALI_FLAG_W,FCO2,FCO2_FLAG_W,FCO2TMP,PH_TOT,PH_TOT_FLAG_W,PH_TMP,DELC13,DELC13_FLAG_W,DELC14,DELC14_FLAG_W,C14ERR,DELO18,DELO18_FLAG_W,POC,POC_FLAG_W,DOC,DOC_FLAG_W,TDN,TDN_FLAG_W,N2O,N2O_FLAG_W,BTL_DATE,BTL_TIME,BTL_LAT,BTL_LON,REFTMP,REFTMP_FLAG_W,CTDFLUOR,CTDFLUOR_FLAG_W,CTDXMISS,CTDXMISS_FLAG_W,D15N_NO2+NO3,D15N_NO2+NO3_FLAG_W,D18O_NO2+NO3,D18O_NO2+NO3_FLAG_W,HPLC,HPLC_FLAG_W
,,,,,,,,,,,METERS,DBAR,ITS-90,PSS-78,,PSS-78,,UMOL/KG,,UMOL/KG,,UMOL/KG,,UMOL/KG,,UMOL/KG,,UMOL/KG,,PMOL/KG,,PMOL/KG,,FMOL/KG,,UMOL/KG,,UMOL/KG,,UATM,,DEG C,,,DEG C,/MILLE,,/MILLE,,/MILLE,/MILLE,,UG/KG,,UMOL/KG,,UMOL/KG,,NMOL/KG,,,,,,ITS-90,,VOLTS,,VOLTS,,/MILLE,,/MILLE,,,
325020210420,        A22,      48,          1,         35,         35,2,20210503,       1023,    23.8239,   -65.7946,       5829,     5.0,  26.4625,  36.7302,2,  36.7310,2,    204.5,2,   203.9,2,    1.17,2,    0.00,2,    0.00,2,    0.00,2,   1.521,2,   0.972,2,   1.7200,2,  2060.2,6, 2397.61,2,  294.110,2,    20.00,   8.10212,2,    25.05, -999.00,9, -999.00,9, -999.00, -999.00,1,-999.000,9,   79.80,2,    4.45,2,       5.93,2, 20210503,     1254,  23.8239, -65.7946,    26.4662,2,     0.0406,1,     4.6299,1,     -999.0,9,     -999.0,9,     -999.0,9
325020210420,        A22,      48,          1,         36,         36,2,20210503,       1023,    23.8239,   -65.7946,       5829,     5.3,  26.4690,  36.7301,2,  36.7353,2,    204.5,2,  -999.0,9,    1.27,2,    0.00,2,    0.00,2,    0.00,2,-999.000,9,-999.000,9,-999.0000,9,  -999.0,9, -999.00,9, -999.000,9,  -999.00,-999.00000,9,  -999.00, -999.00,9, -999.00,9, -999.00, -999.00,9,-999.000,1, -999.00,9, -999.00,9,     -999.0,9, 20210503,     1254,  23.8239, -65.7946,    26.4722,2,     0.0412,1,     4.6315,1,     -999.0,9,     -999.0,9,     -999.0,1
325020210420,        A22,      48,          1,         34,         34,2,20210503,       1023,    23.8239,   -65.7946,       5829,    35.4,  25.5434,  36.7694,2,  36.7756,2,    207.8,2,   207.0,2,    1.17,2,    0.00,2,    0.00,2,    0.00,2,-999.000,9,-999.000,9,-999.0000,9,  2064.7,2, 2401.51,2,  298.680,2,    20.00,   8.09591,6,    25.02, -999.00,9, -999.00,9, -999.00, -999.00,9,-999.000,9,   77.60,2,    3.89,2,     -999.0,9, 20210503,     1252,  23.8239, -65.7946,    25.5413,2,     0.0412,1,     4.6315,1,     -999.0,9,     -999.0,9,     -999.0,9
325020210420,        A22,      48,          1,         33,         33,2,20210503,       1023,    23.8239,   -65.7946,       5829,    60.4,  24.5866,  36.8583,2,  36.8717,2,    211.0,2,   210.5,2,    1.07,2,    0.00,2,    0.00,2,    0.00,2,-999.000,9,-999.000,9,-999.0000,9,  2069.5,2, 2408.84,6,  302.220,2,    20.00,   8.09356,2,    25.01, -999.00,9, -999.00,9, -999.00, -999.00,9,-999.000,9,   76.90,2,    3.81,2,     -999.0,9, 20210503,     1250,  23.8239, -65.7946,    24.5848,2,     0.0438,1,     4.6298,1,     -999.0,9,     -999.0,9,     -999.0,9
325020210420,        A22,      48,          1,         32,         32,2,20210503,       1023,    23.8239,   -65.7946,       5829,    85.8,  24.1324,  36.9596,2,  36.9626,2,    212.5,2,   212.4,2,    0.88,2,    0.00,2,    0.00,2,    0.00,2,-999.000,9,-999.000,9,-999.0000,9,  2079.8,2, 2409.53,2,  312.930,2,    20.00,-999.00000,5,  -999.00, -999.00,9, -999.00,9, -999.00, -999.00,9,-999.000,9,   71.60,2,    3.80,2,     -999.0,9, 20210503,     1248,  23.8239, -65.7946,    24.1289,2,     0.0490,1,     4.6305,1,     -999.0,9,     -999.0,9,     -999.0,9
325020210420,        A22,      48,          1,         31,         31,2,20210503,       1023,    23.8239,   -65.7946,       5829,   115.9,  23.0256,  36.9630,2,  36.9675,2,    214.9,2,   214.6,2,    0.68,2,    0.00,2,    0.00,2,    0.00,2,   1.733,2,   1.088,2,   1.8300,2,  2087.4,2, 2408.81,2,  322.830,2,    20.00,   8.07017,2,    24.99, -999.00,9, -999.00,9, -999.00, -999.00,9,-999.000,9,   68.40,2,    3.77,2,       6.53,2, 20210503,     1247,  23.8239, -65.7946,    23.0434,2,     0.0526,1,     4.6371,1,     -999.0,9,     -999.0,9,     -999.0,9
325020210420,        A22,      48,          1,         30,         30,2,20210503,       1023,    23.8239,   -65.7946,       5829,   156.3,  21.7383,  36.8889,2,  36.8895,2,    203.8,2,  -999.0,9,    0.58,2,    0.02,2,    0.04,2,    0.00,2,-999.000,9,-999.000,9,-999.0000,9,  -999.0,9, -999.00,9, -999.000,9,  -999.00,-999.00000,9,  -999.00, -999.00,9, -999.00,9, -999.00, -999.00,9,-999.000,1, -999.00,9, -999.00,9,     -999.0,9, 20210503,     1244,  23.8239, -65.7946,    21.7369,2,     0.0805,1,     4.6412,1,     -999.0,9,     -999.0,9,     -999.0,1
325020210420,        A22,      48,          1,         29,         29,2,20210503,       1023,    23.8239,   -65.7946,       5829,   156.4,  21.7383,  36.8890,2,  36.8907,2,    203.6,2,   204.5,2,    0.58,2,    0.02,2,    0.04,2,    0.00,2,   1.797,2,   1.146,2,   1.9600,2,  2103.0,2, 2404.81,2,  354.400,2,    20.00,   8.03506,2,    25.00, -999.00,9, -999.00,9, -999.00, -999.00,1,-999.000,9,   58.40,2,    4.01,2,       6.84,2, 20210503,     1244,  23.8239, -65.7946,    21.7372,2,     0.0837,1,     4.6420,1,     -999.0,9,     -999.0,9,     -999.0,9
325020210420,        A22,      48,          1,         28,         28,2,20210503,       1023,    23.8239,   -65.7946,       5829,   216.7,  20.1659,  36.8119,2,  36.8139,2,    184.4,2,   184.4,2,    0.78,2,    1.76,2,    0.00,2,    0.01,2,-999.000,9,-999.000,9,-999.0000,9,  2136.6,2, 2401.54,2,  414.650,2,    20.00,   7.97451,2,    24.99, -999.00,9, -999.00,9, -999.00, -999.00,9,-999.000,9,   51.10,2,    4.80,2,     -999.0,9, 20210503,     1240,  23.8239, -65.7946,    20.1560,2,     0.0447,1,     4.6642,1,     -999.0,9,     -999.0,9,     -999.0,9
325020210420,        A22,      48,          1,         27,         27,2,20210503,       1023,    23.8239,   -65.7946,       5829,   266.7,  19.1489,  36.6519,2,  36.6516,2,    194.5,2,   195.3,2,    1.07,2,    2.89,2,    0.00,2,    0.07,2,   2.011,6,   1.264,6,   1.8000,6,  2127.4,2, 2389.65,2,  411.790,2,    20.00,   7.97655,2,    25.04, -999.00,9, -999.00,9, -999.00, -999.00,9,-999.000,9,   49.60,2, -999.00,1,       8.06,6, 20210503,     1238,  23.8239, -65.7946,    19.1479,2,     0.0391,1,     4.6687,1,     -999.0,9,     -999.0,9,     -999.0,9
325020210420,        A22,      48,          1,         26,         26,2,20210503,       1023,    23.8239,   -65.7946,       5829,   317.3,  18.6801,  36.5963,2,  36.5977,2,    196.8,2,   196.6,2,    1.36,2,    3.77,2,    0.00,2,    0.12,2,-999.000,9,-999.000,9,-999.0000,9,  2128.2,2, 2385.56,2,  420.600,2,    20.00,   7.96865,2,    25.02, -999.00,9, -999.00,9, -999.00, -999.00,9,-999.000,9,   48.50,2, -999.00,1,     -999.0,9, 20210503,     1236,  23.8239, -65.7946,    18.6789,2,     0.0394,1,     4.6707,1,     -999.0,9,     -999.0,9,     -999.0,9
325020210420,        A22,      48,          1,         25,         25,2,20210503,       1023,    23.8239,   -65.7946,       5829,   367.3,  18.1979,  36.5275,2,  36.5299,2,    192.9,2,   193.2,2,    1.36,2,    4.88,2,    0.00,2,    0.19,2,   2.143,2,   1.323,2,   1.7100,2,  2134.2,2, 2384.15,2,  438.410,2,    20.00,   7.95272,2,    25.02, -999.00,9, -999.00,9, -999.00, -999.00,9,-999.000,9,   46.90,2, -999.00,1,       8.87,2, 20210503,     1234,  23.8239, -65.7946,    18.1935,2,     0.0392,1,     4.6715,1,     -999.0,9,     -999.0,9,     -999.0,9
325020210420,        A22,      48,          1,         24,         24,2,20210503,       1023,    23.8239,   -65.7946,       5829,   438.4,  17.0705,  36.3498,2,  36.3530,2,    178.1,2,   178.2,2,    2.34,2,    7.89,2,    0.00,2,    0.38,2,-999.000,9,-999.000,9,-999.0000,9,  2150.2,2, 2370.94,2,  495.250,2,    20.00,   7.90442,2,    25.02, -999.00,9, -999.00,9, -999.00, -999.00,9,-999.000,9,   46.40,2, -999.00,1,     -999.0,9, 20210503,     1231,  23.8239, -65.7946,    17.0674,2,     0.0402,1,     4.6733,1,     -999.0,9,     -999.0,9,     -999.0,9
325020210420,        A22,      48,          1,         23,         23,2,20210503,       1023,    23.8239,   -65.7946,       5829,   539.6,  15.0354,  36.0214,2,  36.0228,2,    170.3,2,   171.1,2,    4.09,2,   11.87,2,    0.00,2,    0.63,2,   2.249,2,   1.345,2,   1.3200,2,  2160.8,2, 2355.77,2,  571.020,2,    20.00,   7.84815,2,    24.99, -999.00,9, -999.00,9, -999.00, -999.00,9,-999.000,9,   44.70,2, -999.00,1,      13.14,2, 20210503,     1227,  23.8239, -65.7946,    15.0343,2,     0.0408,1,     4.6752,1,     -999.0,9,     -999.0,9,     -999.0,9
325020210420,        A22,      48,          1,         22,         22,2,20210503,       1023,    23.8239,   -65.7946,       5829,   639.8,  12.9645,  35.7195,2,  35.7165,2,    159.3,2,   158.7,2,    6.82,2,   16.48,2,    0.00,2,    0.94,2,   2.107,2,   1.203,2,   1.0000,2,  2175.4,2, 2336.97,2,  670.740,2,    20.00,   7.78195,2,    24.97, -999.00,9, -999.00,9, -999.00, -999.00,9,-999.000,9,   42.80,2, -999.00,1,      15.97,2, 20210503,     1224,  23.8239, -65.7947,    12.9747,2,     0.0412,1,     4.6774,1,     -999.0,9,     -999.0,9,     -999.0,9
325020210420,        A22,      48,          1,         21,         21,2,20210503,       1023,    23.8239,   -65.7946,       5829,   741.1,  10.9201,  35.4266,2,  35.4257,2,    142.7,2,   143.6,2,   10.63,2,   21.69,2,    0.00,2,    1.29,2,   1.568,2,   0.861,2,   0.5900,2,  2191.4,2, 2325.04,2,  792.340,2,    20.00,   7.71253,2,    24.96, -999.00,9, -999.00,9, -999.00, -999.00,9,-999.000,9,   43.30,2, -999.00,1,      19.22,2, 20210503,     1220,  23.8239, -65.7946,    10.9221,2,     0.0414,1,     4.6789,1,     -999.0,9,     -999.0,9,     -999.0,9
325020210420,        A22,      48,          1,         20,         20,2,20210503,       1023,    23.8239,   -65.7946,       5829,   842.4,   8.8470,  35.1327,2,  35.1293,2,    134.3,2,   133.6,2,   15.80,2,   26.72,2,    0.00,2,    1.65,2,   1.016,2,   0.543,2,   0.3700,2,  2206.7,6,  2312.6,2,  934.050,2,    20.00,   7.64225,2,    25.01, -999.00,9, -999.00,9, -999.00, -999.00,9,-999.000,9,   40.10,2, -999.00,1,      22.29,2, 20210503,     1216,  23.8239, -65.7947,     8.8332,2,     0.0424,1,     4.6789,1,     -999.0,9,     -999.0,9,     -999.0,9
325020210420,        A22,      48,          1,         19,         19,2,20210503,       1023,    23.8239,   -65.7946,       5829,   943.2,   7.5047,  35.0125,2,  35.0122,2,    142.8,2,   143.0,2,   18.73,2,   27.73,2,    0.00,2,    1.75,2,   0.668,2,   0.363,2,   0.3000,2,  2209.0,2, 2309.84,2,  962.050,2,    20.00,    7.6287,2,    24.99, -999.00,9, -999.00,9, -999.00, -999.00,9,-999.000,9,   40.20,2, -999.00,1,      22.17,2, 20210503,     1214,  23.8239, -65.7946,     7.5042,2,     0.0429,1,     4.6789,1,     -999.0,9,     -999.0,9,     -999.0,9
325020210420,        A22,      48,          1,         18,         18,2,20210503,       1023,    23.8239,   -65.7946,       5829,  1044.7,   6.5643,  34.9282,2,  34.9288,2,    149.6,2,   149.6,2,   21.07,2,   28.51,2,    0.00,2,    1.82,2,-999.000,9,-999.000,9,-999.0000,9,  2211.5,2, 2310.04,2,  989.350,2,    20.00,   7.61625,6,    25.02, -999.00,9, -999.00,9, -999.00, -999.00,9,-999.000,9,   41.40,2, -999.00,1,     -999.0,9, 20210503,     1210,  23.8239, -65.7947,     6.5633,2,     0.0429,1,     4.6787,1,     -999.0,9,     -999.0,9,     -999.0,9
325020210420,        A22,      48,          1,         17,         17,2,20210503,       1023,    23.8239,   -65.7946,       5829,  1145.5,   6.1351,  35.0544,2,  35.0555,2,    192.1,2,   192.1,2,   16.09,2,   22.80,2,    0.00,2,    1.45,2,   1.056,2,   0.549,2,   0.4100,2,  2191.9,2, 2312.95,6,  843.990,2,    20.00,   7.68199,2,    25.04, -999.00,9, -999.00,9, -999.00, -999.00,9,-999.000,9,   41.30,2, -999.00,1,      17.31,2, 20210503,     1207,  23.8239, -65.7947,     6.1344,2,     0.0417,1,     4.6810,1,     -999.0,9,     -999.0,9,     -999.0,9
325020210420,        A22,      48,          1,         16,         16,2,20210503,       1023,    23.8239,   -65.7946,       5829,  1277.3,   5.4067,  35.0529,2,  35.0541,2,    221.1,3,   218.1,2,   14.14,2,   20.46,2,    0.00,2,    1.31,2,-999.000,9,-999.000,9,-999.0000,9,  2183.1,2, 2311.27,2,  801.240,2,    20.00,   7.70282,2,    25.07, -999.00,9, -999.00,9, -999.00, -999.00,9,-999.000,9,   42.70,2, -999.00,1,     -999.0,9, 20210503,     1203,  23.8239, -65.7946,     5.4066,2,     0.0424,1,     4.6792,1,     -999.0,9,     -999.0,9,     -999.0,9
325020210420,        A22,      48,          1,         15,         15,2,20210503,       1023,    23.8239,   -65.7946,       5829,  1409.0,   4.9383,  35.0500,2,  35.0502,2,    237.9,2,   238.3,2,   13.07,2,   18.95,2,    0.00,2,    1.22,2,   1.746,2,   0.899,2,   0.5200,2,  2176.1,2, 2307.97,2,  771.690,2,    20.00,   7.71844,2,    25.00, -999.00,9, -999.00,9, -999.00, -999.00,9,-999.000,9,   43.40,2, -999.00,1,      14.51,2, 20210503,     1159,  23.8239, -65.7947,     4.9380,2,     0.0417,1,     4.6813,1,     -999.0,9,     -999.0,9,     -999.0,9
325020210420,        A22,      48,          1,         14,         14,2,20210503,       1023,    23.8239,   -65.7946,       5829,  1541.0,   4.5310,  35.0323,2,  35.0315,2,    247.5,2,   247.7,2,   13.27,2,   18.47,2,    0.00,2,    1.19,2,   1.800,2,   0.912,2,   0.4900,2,  2173.5,2,  2311.4,2,  758.805,6,    20.00,   7.72367,2,    25.02, -999.00,9, -999.00,9, -999.00, -999.00,9,-999.000,9,   43.80,2, -999.00,1,      13.77,2, 20210503,     1155,  23.8239, -65.7947,     4.5288,2,     0.0428,1,     4.6813,1,     -999.0,9,     -999.0,9,     -999.0,9
325020210420,        A22,      48,          1,         13,         13,2,20210503,       1023,    23.8239,   -65.7946,       5829,  1743.6,   4.1755,  35.0230,2,  35.0236,2,    250.5,2,   250.5,2,   15.02,2,   18.52,2,    0.00,2,    1.19,2,   1.220,2,   0.606,2,   0.3200,2,  2173.3,6, 2308.48,2,  742.710,2,    20.00,   7.73175,2,    25.00, -999.00,9, -999.00,9, -999.00, -999.00,9,-999.000,9,   43.20,2, -999.00,1,      13.32,2, 20210503,     1151,  23.8239, -65.7946,     4.1743,2,     0.0429,1,     4.6818,1,     -999.0,9,     -999.0,9,     -999.0,9
325020210420,        A22,      48,          1,         12,         12,2,20210503,       1023,    23.8239,   -65.7946,       5829,  1966.5,   3.7090,  34.9845,2,  34.9843,2,    257.1,2,   257.4,2,   16.39,2,   18.37,2,    0.00,2,    1.19,2,-999.000,9,-999.000,9,-999.0000,9,  2169.2,2, 2307.71,2,  736.720,2,    20.00,   7.73569,2,    25.08, -999.00,9, -999.00,9, -999.00, -999.00,9,-999.000,9,   42.90,2, -999.00,1,     -999.0,9, 20210503,     1146,  23.8238, -65.7947,     3.7108,2,     0.0431,1,     4.6813,1,     -999.0,9,     -999.0,9,     -999.0,9
325020210420,        A22,      48,          1,         11,         11,2,20210503,       1023,    23.8239,   -65.7946,       5829,  2221.6,   3.4095,  34.9708,2,  34.9705,2,    258.1,2,   258.2,2,   19.12,2,   18.48,2,    0.00,2,    1.20,2,   0.856,2,   0.433,2,   0.2700,2,  2173.2,2, 2312.48,2,  734.930,2,    20.00,   7.73857,2,    25.05, -999.00,9, -999.00,9, -999.00, -999.00,9,-999.000,9,   42.80,2, -999.00,1,      13.16,2, 20210503,     1139,  23.8238, -65.7947,     3.4096,2,     0.0429,1,     4.6813,1,     -999.0,9,     -999.0,9,     -999.0,9
325020210420,        A22,      48,          1,         10,         10,2,20210503,       1023,    23.8239,   -65.7946,       5829,  2490.3,   3.2016,  34.9654,2,  34.9656,2,    253.8,2,   253.9,2,   24.19,2,   19.23,2,    0.00,2,    1.26,2,   0.363,2,   0.194,2,   0.0700,2,  2179.3,2, 2317.24,2,  730.380,2,    20.00,   7.74074,2,    25.06, -999.00,9, -999.00,9, -999.00, -999.00,9,-999.000,9,   42.60,2, -999.00,1,      13.44,2, 20210503,     1134,  23.8238, -65.7947,     3.2024,2,     0.0423,1,     4.6808,1,     -999.0,9,     -999.0,9,     -999.0,9
325020210420,        A22,      48,          1,          9,          9,2,20210503,       1023,    23.8239,   -65.7946,       5829,  2796.6,   2.9132,  34.9395,2,  34.9408,2,    259.6,2,   259.9,2,   24.00,2,   18.75,2,    0.00,2,    1.23,2,   0.633,2,   0.325,2,   0.2200,2,  2178.8,2, 2315.71,2,  732.300,2,    20.00,   7.73943,2,    25.07, -999.00,9, -999.00,9, -999.00, -999.00,9,-999.000,9,   43.40,2, -999.00,1,      12.90,2, 20210503,     1128,  23.8238, -65.7947,     2.9126,2,     0.0429,1,     4.6801,1,     -999.0,9,     -999.0,9,     -999.0,9
325020210420,        A22,      48,          1,          8,          8,2,20210503,       1023,    23.8239,   -65.7946,       5829,  3137.8,   2.6876,  34.9249,2,  34.9258,2,    257.7,2,   257.9,2,   29.26,2,   19.46,2,    0.00,2,    1.29,2,-999.000,9,-999.000,9,-999.0000,9,  2180.8,2, 2320.31,2,  731.600,2,    20.00,    7.7407,2,    25.02, -999.00,9, -999.00,9, -999.00, -999.00,9,-999.000,9,   42.10,2, -999.00,1,     -999.0,9, 20210503,     1121,  23.8238, -65.7947,     2.6881,2,     0.0424,1,     4.6808,1,     -999.0,9,     -999.0,9,     -999.0,9
325020210420,        A22,      48,          1,          7,          7,2,20210503,       1023,    23.8239,   -65.7946,       5829,  3481.1,   2.5152,  34.9106,2,  34.9119,2,    259.4,2,   259.6,2,   31.31,2,   19.48,2,    0.00,2,    1.29,2,   0.357,2,   0.187,2,   0.1500,2,  2182.8,2, 2320.53,2,  733.940,2,    20.00,   7.73969,6,    25.01, -999.00,9, -999.00,9, -999.00, -999.00,9,-999.000,9,   42.20,2, -999.00,1,      13.40,2, 20210503,     1113,  23.8238, -65.7947,     2.5150,2,     0.0429,1,     4.6811,1,     -999.0,9,     -999.0,9,     -999.0,9
325020210420,        A22,      48,          1,          6,          6,2,20210503,       1023,    23.8239,   -65.7946,       5829,  3889.9,   2.3531,  34.8973,2,  34.8977,2,    262.2,2,   262.3,2,   32.39,2,   19.31,2,    0.00,2,    1.28,2,   0.452,2,   0.232,2,   0.1600,2,  2183.8,2, 2319.91,2,  736.330,2,    20.00,   7.73782,2,    25.00, -999.00,9, -999.00,9, -999.00, -999.00,9,-999.000,9,   42.60,2, -999.00,1,      12.99,2, 20210503,     1105,  23.8238, -65.7947,     2.3532,2,     0.0429,1,     4.6810,1,     -999.0,9,     -999.0,9,     -999.0,9
325020210420,        A22,      48,          1,          5,          5,2,20210503,       1023,    23.8239,   -65.7946,       5829,  4300.5,   2.2887,  34.8894,2,  34.8900,2,    263.6,2,   263.7,2,   32.58,2,   19.08,2,    0.00,2,    1.27,2,   0.682,2,   0.355,2,   0.2100,2,  2183.8,2, 2320.03,2,  742.380,2,    20.00,   7.73418,2,    25.05, -999.00,9, -999.00,9, -999.00, -999.00,9,-999.000,9,   43.20,2, -999.00,1,      13.44,2, 20210503,     1056,  23.8238, -65.7947,     2.2885,2,     0.0429,1,     4.6791,1,     -999.0,9,     -999.0,9,     -999.0,9
325020210420,        A22,      48,          1,          4,          4,2,20210503,       1023,    23.8239,   -65.7946,       5829,  4709.7,   2.2405,  34.8798,2,  34.8792,2,    259.9,2,   259.9,2,   37.85,2,   19.95,2,    0.00,2,    1.33,2,   0.505,2,   0.263,2,   0.2300,2,  2190.8,2, 2327.56,2,  750.110,2,    20.00,   7.73179,2,    25.04, -999.00,9, -999.00,9, -999.00, -999.00,9,-999.000,9,   42.50,2, -999.00,1,      13.16,2, 20210503,     1048,  23.8238, -65.7947,     2.2407,2,     0.0424,1,     4.6790,1,     -999.0,9,     -999.0,9,     -999.0,9
325020210420,        A22,      48,          1,          3,          3,2,20210503,       1023,    23.8239,   -65.7946,       5829,  5122.3,   2.1221,  34.8600,2,  34.8603,2,    252.8,2,   253.0,2,   48.48,2,   21.66,2,    0.00,2,    1.45,2,   0.277,2,   0.150,2,   0.0300,2,  2202.4,2, 2335.37,2,  772.400,2,    20.00,   7.72148,6,    24.98, -999.00,9, -999.00,9, -999.00, -999.00,9,-999.000,9,   42.30,2, -999.00,1,      13.98,2, 20210503,     1040,  23.8238, -65.7947,     2.1225,2,     0.0428,1,     4.6764,1,     -999.0,9,     -999.0,9,     -999.0,9